BOTTLE,20130510GEMDJMAYT
EXPOCODE,SECT_ID,STNNBR,CASTNO,SAMPNO,BTLNBR,BTLNBR_FLAG_W,DATE,TIME,LATITUDE,LONGITUDE,DEPTH,CTDPRS,CTDTMP,CTDSAL,CTDSAL_FLAG_W,CTDOXY,CTDOXY_FLAG_W,SALNTY,SALNTY_FLAG_W,OXYGEN,OXYGEN_FLAG_W,SILCAT,SILCAT_FLAG_W,NITRAT,NITRAT_FLAG_W,NO2+NO3,NO2+NO3_FLAG_W,NITRIT,NITRIT_FLAG_W,PHSPHT,PHSPHT_FLAG_W,CFC-11,CFC-11_FLAG_W,CFC-12,CFC-12_FLAG_W,DELC13,DELC13_FLAG_W,TCARBN,TCARBN_FLAG_W,ALKALI,ALKALI_FLAG_W,PH,PH_FLAG_W,PH_TMP,PH_SCALE,PH_NBS,PH_NBS_FLAG_W,C13ERR,TOTALP,TOTALP_FLAG_W,AMMONI,AMMONI_FLAG_W,CHLORA,CHLORA_FLAG_W,PPHYTN,PPHYTN_FLAG_W,REVPRS,REVTMP,DEPTH_,DEPTH_FLAG,CTDDEP,THETA,SIGTHT,DOC,DOC_FLAG_W
,,,,,,,GMT,GMT,,,METER,DBAR,ITS-90,PSS-78,,UMOL/KG,,PSS-78,,UMOL/KG,,UMOL/KG,,UMOL/KG,,UMOL/KG,,UMOL/KG,,UMOL/KG,,PMOL/KG,,PMOL/KG,,/MILLE,,UMOL/KG,,UMOL/KG,,25_DEG_C,,DEG_C,,,,/MILLE,UMOL/KG,,UMOL/KG,,UG/L,,UG/L,,DBAR,ITS-90,METERS,,METERS,DEG_C,,UMOL/L,
       KE00-04,  NONE,KE-1293,  1,     -9,      -9,5,20000603,2020, 31.4862, 135.2583,   -9,      0.0,  24.3444,  34.4886,2,   -999.0,9,-999.0000,9,    215.0,2,  -999.00,9,  -999.00,9,     0.09,2,     0.00,2,     0.02,2, -999.000,9, -999.000,9,  -999.00,9,   1936.8,3,   -999.0,9,-999.0000,9,   -999.0,  9,  -999.00,9,   -999.0,  -999.00,9,  -999.00,9,  -999.00,9,  -999.00,9,   -999.0,-999.0000, -999,9,    0,  24.3444,  23.1520,   -999.0,9
       KE00-04,  NONE,KE-1293,  1,     12,02-10720,2,20000603,2051, 31.4862, 135.2583,   -9,     10.2,  24.3568,  34.4953,2,   -999.0,9,-999.0000,9,    215.0,2,  -999.00,9,  -999.00,9,     0.00,2,     0.00,2,     0.02,2, -999.000,9, -999.000,9,  -999.00,9,   1937.7,2,   -999.0,9,-999.0000,9,   -999.0,  9,  -999.00,9,   -999.0,  -999.00,9,  -999.00,9,  -999.00,9,  -999.00,9,   -999.0,-999.0000, -999,9,   10,  24.3547,  23.1540,   -999.0,9
       KE00-04,  NONE,KE-1293,  1,     11,   B-203,2,20000603,2050, 31.4862, 135.2583,   -9,     25.2,  24.3529,  34.4958,2,   -999.0,9,-999.0000,9,    215.0,2,  -999.00,9,  -999.00,9,     0.01,2,     0.00,2,     0.01,2, -999.000,9, -999.000,9,  -999.00,9,   1937.9,2,   -999.0,9,-999.0000,9,   -999.0,  9,  -999.00,9,   -999.0,  -999.00,9,  -999.00,9,  -999.00,9,  -999.00,9,   -999.0,-999.0000, -999,9,   25,  24.3476,  23.1565,   -999.0,9
       KE00-04,  NONE,KE-1293,  1,     10,02-10719,2,20000603,2048, 31.4862, 135.2583,   -9,     50.5,  22.7803,  34.6993,2,   -999.0,9,-999.0000,9,    216.0,2,  -999.00,9,  -999.00,9,     0.06,2,     0.00,2,     0.04,2, -999.000,9, -999.000,9,  -999.00,9,   1956.0,2,   -999.0,9,-999.0000,9,   -999.0,  9,  -999.00,9,   -999.0,  -999.00,9,  -999.00,9,  -999.00,9,  -999.00,9,   -999.0,-999.0000, -999,9,   50,  22.7701,  23.7715,   -999.0,9
       KE00-04,  NONE,KE-1293,  1,      9,   B-207,2,20000603,2047, 31.4862, 135.2583,   -9,     75.9,  21.4651,  34.7268,2,   -999.0,9,-999.0000,9,    212.0,2,  -999.00,9,  -999.00,9,     0.99,2,     0.19,2,     0.07,2, -999.000,9, -999.000,9,  -999.00,9,   1974.8,2,   -999.0,9,-999.0000,9,   -999.0,  9,  -999.00,9,   -999.0,  -999.00,9,  -999.00,9,  -999.00,9,  -999.00,9,   -999.0,-999.0000, -999,9,   75,  21.4504,  24.1628,   -999.0,9
       KE00-04,  NONE,KE-1293,  1,      8,02-10382,2,20000603,2046, 31.4862, 135.2583,   -9,    100.9,  20.4133,  34.7259,2,   -999.0,9,-999.0000,9,    197.0,2,  -999.00,9,  -999.00,9,     3.26,2,     0.02,2,     0.20,2, -999.000,9, -999.000,9,  -999.00,9,   2000.1,3,   -999.0,9,-999.0000,9,   -999.0,  9,  -999.00,9,   -999.0,  -999.00,9,  -999.00,9,  -999.00,9,  -999.00,9,   -999.0,-999.0000, -999,9,  100,  20.3944,  24.4482,   -999.0,9
       KE00-04,  NONE,KE-1293,  1,      7,02-10721,2,20000603,2044, 31.4862, 135.2583,   -9,    125.9,  19.9658,  34.7850,2,   -999.0,9,-999.0000,9,    201.0,2,  -999.00,9,  -999.00,9,     3.05,2,     0.01,2,     0.20,2, -999.000,9, -999.000,9,  -999.00,9,   2002.9,3,   -999.0,9,-999.0000,9,   -999.0,  9,  -999.00,9,   -999.0,  -999.00,9,  -999.00,9,  -999.00,9,  -999.00,9,   -999.0,-999.0000, -999,9,  125,  19.9426,  24.6128,   -999.0,9
       KE00-04,  NONE,KE-1293,  1,      6,   B-999,2,20000603,2042, 31.4862, 135.2583,   -9,    151.7,  19.5869,  34.7908,2,   -999.0,9,-999.0000,9,    213.0,2,  -999.00,9,  -999.00,9,     1.72,2,     0.02,2,     0.11,2, -999.000,9, -999.000,9,  -999.00,9,   1990.3,2,   -999.0,9,-999.0000,9,   -999.0,  9,  -999.00,9,   -999.0,  -999.00,9,  -999.00,9,  -999.00,9,  -999.00,9,   -999.0,-999.0000, -999,9,  151,  19.5593,  24.7174,   -999.0,9
       KE00-04,  NONE,KE-1293,  1,      5,02-10371,2,20000603,2040, 31.4862, 135.2583,   -9,    202.7,  18.9887,  34.8023,2,   -999.0,9,-999.0000,9,    222.0,2,  -999.00,9,  -999.00,9,     1.52,2,     0.01,2,     0.10,2, -999.000,9, -999.000,9,  -999.00,9,   1987.6,2,   -999.0,9,-999.0000,9,   -999.0,  9,  -999.00,9,   -999.0,  -999.00,9,  -999.00,9,  -999.00,9,  -999.00,9,   -999.0,-999.0000, -999,9,  201,  18.9526,  24.8822,   -999.0,9
       KE00-04,  NONE,KE-1293,  1,      4,02-10730,2,20000603,2038, 31.4862, 135.2583,   -9,    251.2,  18.7908,  34.8041,2,   -999.0,9,-999.0000,9,    221.0,2,  -999.00,9,  -999.00,9,     1.73,2,     0.01,2,     0.10,2, -999.000,9, -999.000,9,  -999.00,9,   1992.6,2,   -999.0,9,-999.0000,9,   -999.0,  9,  -999.00,9,   -999.0,  -999.00,9,  -999.00,9,  -999.00,9,  -999.00,9,   -999.0,-999.0000, -999,9,  249,  18.7464,  24.9358,   -999.0,9
       KE00-04,  NONE,KE-1293,  1,      3,02-10722,2,20000603,2036, 31.4862, 135.2583,   -9,    301.0,  18.2676,  34.7947,2,   -999.0,9,-999.0000,9,    201.0,2,  -999.00,9,  -999.00,9,     4.38,2,     0.01,2,     0.26,2, -999.000,9, -999.000,9,  -999.00,9,   2018.6,2,   -999.0,9,-999.0000,9,   -999.0,  9,  -999.00,9,   -999.0,  -999.00,9,  -999.00,9,  -999.00,9,  -999.00,9,   -999.0,-999.0000, -999,9,  299,  18.2153,  25.0616,   -999.0,9
       KE00-04,  NONE,KE-1293,  1,      2,02-10715,2,20000603,2033, 31.4862, 135.2583,   -9,    402.5,  16.5365,  34.7301,2,   -999.0,9,-999.0000,9,    190.0,2,  -999.00,9,  -999.00,9,     7.85,2,     0.00,2,     0.49,2, -999.000,9, -999.000,9,  -999.00,9,   2045.3,2,   -999.0,9,-999.0000,9,   -999.0,  9,  -999.00,9,   -999.0,  -999.00,9,  -999.00,9,  -999.00,9,  -999.00,9,   -999.0,-999.0000, -999,9,  399,  16.4711,  25.4314,   -999.0,9
       KE00-04,  NONE,KE-1293,  1,      1,02-10716,2,20000603,2031, 31.4862, 135.2583,   -9,    503.1,  14.4419,  34.5810,2,   -999.0,9,-999.0000,9,    186.0,2,  -999.00,9,  -999.00,9,    11.44,2,     0.00,2,     0.74,2, -999.000,9, -999.000,9,  -999.00,9,   2074.9,2,   -999.0,9,-999.0000,9,   -999.0,  9,  -999.00,9,   -999.0,  -999.00,9,  -999.00,9,  -999.00,9,  -999.00,9,   -999.0,-999.0000, -999,9,  499,  14.3671,  25.7857,   -999.0,9
       KE00-04,  NONE,KE-1294,  1,     -9,      -9,5,20000604,0248, 31.9953, 135.2582,   -9,      0.0,  24.1314,  34.4274,2,   -999.0,9,  34.4308,2,    215.0,2,  -999.00,9,  -999.00,9,     0.03,2,     0.00,2,     0.02,2, -999.000,9, -999.000,9,  -999.00,9,   1936.5,2,   -999.0,9,-999.0000,9,   -999.0,  9,  -999.00,9,   -999.0,  -999.00,9,  -999.00,9,  -999.00,9,  -999.00,9,   -999.0,-999.0000, -999,9,    0,  24.1314,  23.1690,   -999.0,9
       KE00-04,  NONE,KE-1294,  1,     12,02-10720,2,20000604,0314, 31.9953, 135.2582,   -9,     11.6,  24.1366,  34.4302,2,   -999.0,9,  34.4331,2,    216.0,2,  -999.00,9,  -999.00,9,     0.06,2,     0.00,2,     0.01,2, -999.000,9, -999.000,9,  -999.00,9,   1936.5,2,   -999.0,9,-999.0000,9,   -999.0,  9,  -999.00,9,   -999.0,  -999.00,9,  -999.00,9,  -999.00,9,  -999.00,9,   -999.0,-999.0000, -999,9,   12,  24.1341,  23.1704,   -999.0,9
       KE00-04,  NONE,KE-1294,  1,     11,   B-203,2,20000604,0313, 31.9953, 135.2582,   -9,     26.1,  24.1979,  34.5239,2,   -999.0,9,  34.5267,2,    216.0,2,  -999.00,9,  -999.00,9,     0.19,2,     0.00,2,     0.02,2, -999.000,9, -999.000,9,  -999.00,9,   1942.1,2,   -999.0,9,-999.0000,9,   -999.0,  9,  -999.00,9,   -999.0,  -999.00,9,  -999.00,9,  -999.00,9,  -999.00,9,   -999.0,-999.0000, -999,9,   26,  24.1924,  23.2239,   -999.0,9
       KE00-04,  NONE,KE-1294,  1,     10,02-10719,2,20000604,0312, 31.9953, 135.2582,   -9,     51.3,  22.6001,  34.6912,2,   -999.0,9,  34.6930,2,    216.0,2,  -999.00,9,  -999.00,9,     0.06,2,     0.00,2,     0.02,2, -999.000,9, -999.000,9,  -999.00,9,   1957.7,2,   -999.0,9,-999.0000,9,   -999.0,  9,  -999.00,9,   -999.0,  -999.00,9,  -999.00,9,  -999.00,9,  -999.00,9,   -999.0,-999.0000, -999,9,   51,  22.5897,  23.8168,   -999.0,9
       KE00-04,  NONE,KE-1294,  1,      9,   B-207,2,20000604,0310, 31.9953, 135.2582,   -9,     76.5,  22.1686,  34.7086,2,   -999.0,9,  34.7144,2,    208.0,2,  -999.00,9,  -999.00,9,     0.86,2,     0.15,2,     0.07,2, -999.000,9, -999.000,9,  -999.00,9,   1970.3,2,   -999.0,9,-999.0000,9,   -999.0,  9,  -999.00,9,   -999.0,  -999.00,9,  -999.00,9,  -999.00,9,  -999.00,9,   -999.0,-999.0000, -999,9,   76,  22.1534,  23.9534,   -999.0,9
       KE00-04,  NONE,KE-1294,  1,      8,02-10382,2,20000604,0309, 31.9953, 135.2582,   -9,    100.8,  21.4891,  34.7087,2,   -999.0,9,  34.7097,2,    210.0,2,  -999.00,9,  -999.00,9,     1.26,2,     0.07,2,     0.08,2, -999.000,9, -999.000,9,  -999.00,9,   1968.8,2,   -999.0,9,-999.0000,9,   -999.0,  9,  -999.00,9,   -999.0,  -999.00,9,  -999.00,9,  -999.00,9,  -999.00,9,   -999.0,-999.0000, -999,9,  100,  21.4696,  24.1438,   -999.0,9
       KE00-04,  NONE,KE-1294,  1,      7,02-10721,2,20000604,0307, 31.9953, 135.2582,   -9,    125.1,  21.2379,  34.7217,2,   -999.0,9,  34.7221,2,    207.0,2,  -999.00,9,  -999.00,9,     1.70,2,     0.06,2,     0.11,2, -999.000,9, -999.000,9,  -999.00,9,   1978.9,2,   -999.0,9,-999.0000,9,   -999.0,  9,  -999.00,9,   -999.0,  -999.00,9,  -999.00,9,  -999.00,9,  -999.00,9,   -999.0,-999.0000, -999,9,  124,  21.2139,  24.2238,   -999.0,9
       KE00-04,  NONE,KE-1294,  1,      6,   B-999,2,20000604,0306, 31.9953, 135.2582,   -9,    150.5,  20.4774,  34.7742,2,   -999.0,9,  34.7754,2,    222.0,2,  -999.00,9,  -999.00,9,     0.70,2,     0.19,2,     0.05,2, -999.000,9, -999.000,9,  -999.00,9,   1978.0,2,   -999.0,9,-999.0000,9,   -999.0,  9,  -999.00,9,   -999.0,  -999.00,9,  -999.00,9,  -999.00,9,  -999.00,9,   -999.0,-999.0000, -999,9,  149,  20.4492,  24.4704,   -999.0,9
       KE00-04,  NONE,KE-1294,  1,      5,02-10371,2,20000604,0304, 31.9953, 135.2582,   -9,    201.5,  19.3489,  34.7968,2,   -999.0,9,  34.7965,2,    202.0,2,  -999.00,9,  -999.00,9,     3.34,2,     0.02,2,     0.20,2, -999.000,9, -999.000,9,  -999.00,9,   2003.9,2,   -999.0,9,-999.0000,9,   -999.0,  9,  -999.00,9,   -999.0,  -999.00,9,  -999.00,9,  -999.00,9,  -999.00,9,   -999.0,-999.0000, -999,9,  200,  19.3125,  24.7858,   -999.0,9
       KE00-04,  NONE,KE-1294,  1,      4,02-10730,2,20000604,0302, 31.9953, 135.2582,   -9,    251.7,  18.6340,  34.8052,2,   -999.0,9,  34.8044,2,    205.0,2,  -999.00,9,  -999.00,9,     3.46,2,     0.01,2,     0.20,2, -999.000,9, -999.000,9,  -999.00,9,   2010.0,2,   -999.0,9,-999.0000,9,   -999.0,  9,  -999.00,9,   -999.0,  -999.00,9,  -999.00,9,  -999.00,9,  -999.00,9,   -999.0,-999.0000, -999,9,  250,  18.5897,  24.9761,   -999.0,9
       KE00-04,  NONE,KE-1294,  1,      3,02-10722,2,20000604,0300, 31.9953, 135.2582,   -9,    302.6,  17.5252,  34.7793,2,   -999.0,9,  34.7798,2,    194.0,2,  -999.00,9,  -999.00,9,     6.05,2,     0.00,2,     0.38,2, -999.000,9, -999.000,9,  -999.00,9,   2032.7,2,   -999.0,9,-999.0000,9,   -999.0,  9,  -999.00,9,   -999.0,  -999.00,9,  -999.00,9,  -999.00,9,  -999.00,9,   -999.0,-999.0000, -999,9,  300,  17.4741,  25.2313,   -999.0,9
       KE00-04,  NONE,KE-1294,  1,      2,02-10715,2,20000604,0256, 31.9953, 135.2582,   -9,    403.3,  15.6231,  34.6651,2,   -999.0,9,  34.6666,2,    191.0,2,  -999.00,9,  -999.00,9,     9.17,2,     0.00,2,     0.58,2, -999.000,9, -999.000,9,  -999.00,9,   2055.5,2,   -999.0,9,-999.0000,9,   -999.0,  9,  -999.00,9,   -999.0,  -999.00,9,  -999.00,9,  -999.00,9,  -999.00,9,   -999.0,-999.0000, -999,9,  400,  15.5601,  25.5895,   -999.0,9
       KE00-04,  NONE,KE-1294,  1,      1,02-10716,2,20000604,0253, 31.9953, 135.2582,   -9,    505.1,  13.1801,  34.4821,2,   -999.0,9,  34.4902,2,    180.0,2,  -999.00,9,  -999.00,9,    14.16,2,     0.00,2,     0.93,2, -999.000,9, -999.000,9,  -999.00,9,   2091.9,2,   -999.0,9,-999.0000,9,   -999.0,  9,  -999.00,9,   -999.0,  -999.00,9,  -999.00,9,  -999.00,9,  -999.00,9,   -999.0,-999.0000, -999,9,  501,  13.1095,  25.9696,   -999.0,9