BOTTLE,20130510GEMDJMAYT
EXPOCODE,SECT_ID,STNNBR,CASTNO,SAMPNO,BTLNBR,BTLNBR_FLAG_W,DATE,TIME,LATITUDE,LONGITUDE,DEPTH,CTDPRS,CTDTMP,CTDSAL,CTDSAL_FLAG_W,CTDOXY,CTDOXY_FLAG_W,SALNTY,SALNTY_FLAG_W,OXYGEN,OXYGEN_FLAG_W,SILCAT,SILCAT_FLAG_W,NITRAT,NITRAT_FLAG_W,NO2+NO3,NO2+NO3_FLAG_W,NITRIT,NITRIT_FLAG_W,PHSPHT,PHSPHT_FLAG_W,CFC-11,CFC-11_FLAG_W,CFC-12,CFC-12_FLAG_W,DELC13,DELC13_FLAG_W,TCARBN,TCARBN_FLAG_W,ALKALI,ALKALI_FLAG_W,PH,PH_FLAG_W,PH_TMP,PH_SCALE,PH_NBS,PH_NBS_FLAG_W,C13ERR,TOTALP,TOTALP_FLAG_W,AMMONI,AMMONI_FLAG_W,CHLORA,CHLORA_FLAG_W,PPHYTN,PPHYTN_FLAG_W,REVPRS,REVTMP,DEPTH_,DEPTH_FLAG,CTDDEP,THETA,SIGTHT,DOC,DOC_FLAG_W
,,,,,,,GMT,GMT,,,METER,DBAR,ITS-90,PSS-78,,UMOL/KG,,PSS-78,,UMOL/KG,,UMOL/KG,,UMOL/KG,,UMOL/KG,,UMOL/KG,,UMOL/KG,,PMOL/KG,,PMOL/KG,,/MILLE,,UMOL/KG,,UMOL/KG,,25_DEG_C,,DEG_C,,,,/MILLE,UMOL/KG,,UMOL/KG,,UG/L,,UG/L,,DBAR,ITS-90,METERS,,METERS,DEG_C,,UMOL/L,
       KE00-04,  137E,KE-1272,  1,     -9,      -9,5,20000518,0532, 10.9972, 136.9955,   -9,      0.0,  29.3353,  33.9226,2,   -999.0,9,-999.0000,9,    199.0,2,  -999.00,9,  -999.00,9,  -999.00,9,  -999.00,9,  -999.00,9, -999.000,9, -999.000,9,  -999.00,9,   1883.2,2,   -999.0,9,-999.0000,9,   -999.0,  9,  -999.00,9,   -999.0,  -999.00,9,  -999.00,9,  -999.00,9,  -999.00,9,   -999.0,-999.0000, -999,9,    0,  29.3353,  21.1433,   -999.0,9
       KE00-04,  137E,KE-1272,  1,     12, 02-9138,2,20000518,0628, 10.9972, 136.9955,   -9,     25.5,  29.0467,  33.9938,2,   -999.0,9,-999.0000,9,    201.0,2,  -999.00,9,  -999.00,9,  -999.00,9,  -999.00,9,  -999.00,9, -999.000,9, -999.000,9,  -999.00,9,   -999.0,9,   -999.0,9,-999.0000,9,   -999.0,  9,  -999.00,9,   -999.0,  -999.00,9,  -999.00,9,  -999.00,9,  -999.00,9,   -999.0,-999.0000, -999,9,   25,  29.0405,  21.2953,   -999.0,9
       KE00-04,  137E,KE-1272,  1,     11, 02-9870,2,20000518,0626, 10.9972, 136.9955,   -9,     50.4,  28.6243,  34.2688,2,   -999.0,9,-999.0000,9,    201.0,2,  -999.00,9,  -999.00,9,  -999.00,9,  -999.00,9,  -999.00,9, -999.000,9, -999.000,9,  -999.00,9,   -999.0,9,   -999.0,9,-999.0000,9,   -999.0,  9,  -999.00,9,   -999.0,  -999.00,9,  -999.00,9,  -999.00,9,  -999.00,9,   -999.0,-999.0000, -999,9,   50,  28.6123,  21.6439,   -999.0,9
       KE00-04,  137E,KE-1272,  1,     10, 02-9139,2,20000518,0625, 10.9972, 136.9955,   -9,    100.3,  26.8978,  34.9717,2,   -999.0,9,-999.0000,9,    200.0,2,  -999.00,9,  -999.00,9,  -999.00,9,  -999.00,9,  -999.00,9, -999.000,9, -999.000,9,  -999.00,9,   -999.0,9,   -999.0,9,-999.0000,9,   -999.0,  9,  -999.00,9,   -999.0,  -999.00,9,  -999.00,9,  -999.00,9,  -999.00,9,   -999.0,-999.0000, -999,9,  100,  26.8748,  22.7364,   -999.0,9
       KE00-04,  137E,KE-1272,  1,      9, 02-8088,2,20000518,0623, 10.9972, 136.9955,   -9,    199.0,  16.5665,  34.7105,2,   -999.0,9,-999.0000,9,    175.0,2,  -999.00,9,  -999.00,9,  -999.00,9,  -999.00,9,  -999.00,9, -999.000,9, -999.000,9,  -999.00,9,   -999.0,9,   -999.0,9,-999.0000,9,   -999.0,  9,  -999.00,9,   -999.0,  -999.00,9,  -999.00,9,  -999.00,9,  -999.00,9,   -999.0,-999.0000, -999,9,  198,  16.5343,  25.4016,   -999.0,9
       KE00-04,  137E,KE-1272,  1,      8, 02-9137,2,20000518,0620, 10.9972, 136.9955,   -9,    300.3,   9.6862,  34.4459,2,   -999.0,9,-999.0000,9,     81.0,2,  -999.00,9,  -999.00,9,  -999.00,9,  -999.00,9,  -999.00,9, -999.000,9, -999.000,9,  -999.00,9,   -999.0,9,   -999.0,9,-999.0000,9,   -999.0,  9,  -999.00,9,   -999.0,  -999.00,9,  -999.00,9,  -999.00,9,  -999.00,9,   -999.0,-999.0000, -999,9,  298,   9.6521,  26.5778,   -999.0,9
       KE00-04,  137E,KE-1272,  1,      7, 02-6219,2,20000518,0618, 10.9972, 136.9955,   -9,    401.1,   8.2143,  34.4729,2,   -999.0,9,-999.0000,9,     71.0,2,  -999.00,9,  -999.00,9,  -999.00,9,  -999.00,9,  -999.00,9, -999.000,9, -999.000,9,  -999.00,9,   -999.0,9,   -999.0,9,-999.0000,9,   -999.0,  9,  -999.00,9,   -999.0,  -999.00,9,  -999.00,9,  -999.00,9,  -999.00,9,   -999.0,-999.0000, -999,9,  398,   8.1728,  26.8339,   -999.0,9
       KE00-04,  137E,KE-1272,  1,      6, 02-8080,2,20000518,0615, 10.9972, 136.9955,   -9,    501.4,   7.4148,  34.4968,2,   -999.0,9,-999.0000,9,     73.0,2,  -999.00,9,  -999.00,9,  -999.00,9,  -999.00,9,  -999.00,9, -999.000,9, -999.000,9,  -999.00,9,   -999.0,9,   -999.0,9,-999.0000,9,   -999.0,  9,  -999.00,9,   -999.0,  -999.00,9,  -999.00,9,  -999.00,9,  -999.00,9,   -999.0,-999.0000, -999,9,  498,   7.3656,  26.9711,   -999.0,9
       KE00-04,  137E,KE-1272,  1,      5, 02-9145,2,20000518,0613, 10.9972, 136.9955,   -9,    601.8,   6.5234,  34.5058,2,   -999.0,9,-999.0000,9,     75.0,2,  -999.00,9,  -999.00,9,  -999.00,9,  -999.00,9,  -999.00,9, -999.000,9, -999.000,9,  -999.00,9,   -999.0,9,   -999.0,9,-999.0000,9,   -999.0,  9,  -999.00,9,   -999.0,  -999.00,9,  -999.00,9,  -999.00,9,  -999.00,9,   -999.0,-999.0000, -999,9,  598,   6.4680,  27.1014,   -999.0,9
       KE00-04,  137E,KE-1272,  1,      4, 02-9134,2,20000518,0610, 10.9972, 136.9955,   -9,    804.0,   5.3426,  34.5214,2,   -999.0,9,-999.0000,9,     78.0,2,  -999.00,9,  -999.00,9,  -999.00,9,  -999.00,9,  -999.00,9, -999.000,9, -999.000,9,  -999.00,9,   -999.0,9,   -999.0,9,-999.0000,9,   -999.0,  9,  -999.00,9,   -999.0,  -999.00,9,  -999.00,9,  -999.00,9,  -999.00,9,   -999.0,-999.0000, -999,9,  798,   5.2746,  27.2637,   -999.0,9
       KE00-04,  137E,KE-1272,  1,      3, 02-9143,2,20000518,0606, 10.9972, 136.9955,   -9,   1006.0,   4.4858,  34.5408,2,   -999.0,9,-999.0000,9,     85.0,2,  -999.00,9,  -999.00,9,  -999.00,9,  -999.00,9,  -999.00,9, -999.000,9, -999.000,9,  -999.00,9,   -999.0,9,   -999.0,9,-999.0000,9,   -999.0,  9,  -999.00,9,   -999.0,  -999.00,9,  -999.00,9,  -999.00,9,  -999.00,9,   -999.0,-999.0000, -999,9,  998,   4.4058,  27.3778,   -999.0,9
       KE00-04,  137E,KE-1272,  1,      2, 02-9135,2,20000518,0559, 10.9972, 136.9955,   -9,   1511.5,   2.9883,  34.5898,2,   -999.0,9,-999.0000,9,     96.0,2,  -999.00,9,  -999.00,9,  -999.00,9,  -999.00,9,  -999.00,9, -999.000,9, -999.000,9,  -999.00,9,   -999.0,9,   -999.0,9,-999.0000,9,   -999.0,  9,  -999.00,9,   -999.0,  -999.00,9,  -999.00,9,  -999.00,9,  -999.00,9,   -999.0,-999.0000, -999,9, 1498,   2.8796,  27.5686,   -999.0,9
       KE00-04,  137E,KE-1272,  1,      1, 02-6220,2,20000518,0551, 10.9972, 136.9955,   -9,   2021.9,   2.1770,  34.6309,2,   -999.0,9,-999.0000,9,    117.0,2,  -999.00,9,  -999.00,9,  -999.00,9,  -999.00,9,  -999.00,9, -999.000,9, -999.000,9,  -999.00,9,   -999.0,9,   -999.0,9,-999.0000,9,   -999.0,  9,  -999.00,9,   -999.0,  -999.00,9,  -999.00,9,  -999.00,9,  -999.00,9,   -999.0,-999.0000, -999,9, 2001,   2.0360,  27.6731,   -999.0,9
       KE00-04,  137E,KE-1273,  1,     -9,      -9,5,20000518,1320,  9.9980, 136.9828,   -9,      0.0,  29.2561,  33.7320,2,   -999.0,9,  33.6933,2,    199.0,2,  -999.00,9,  -999.00,9,  -999.00,9,  -999.00,9,  -999.00,9, -999.000,9, -999.000,9,  -999.00,9,   1869.0,2,   -999.0,9,-999.0000,9,   -999.0,  9,  -999.00,9,   -999.0,  -999.00,9,  -999.00,9,  -999.00,9,  -999.00,9,   -999.0,-999.0000, -999,9,    0,  29.2561,  21.0269,   -999.0,9
       KE00-04,  137E,KE-1273,  1,     12,02-10720,2,20000518,1416,  9.9980, 136.9828,   -9,     25.8,  29.1180,  33.7606,2,   -999.0,9,  33.7653,2,    202.0,2,  -999.00,9,  -999.00,9,  -999.00,9,  -999.00,9,  -999.00,9, -999.000,9, -999.000,9,  -999.00,9,   -999.0,9,   -999.0,9,-999.0000,9,   -999.0,  9,  -999.00,9,   -999.0,  -999.00,9,  -999.00,9,  -999.00,9,  -999.00,9,   -999.0,-999.0000, -999,9,   26,  29.1117,  21.0966,   -999.0,9
       KE00-04,  137E,KE-1273,  1,     11,   B-203,2,20000518,1415,  9.9980, 136.9828,   -9,     51.3,  29.1223,  33.9087,2,   -999.0,9,  33.8981,2,    201.0,2,  -999.00,9,  -999.00,9,  -999.00,9,  -999.00,9,  -999.00,9, -999.000,9, -999.000,9,  -999.00,9,   -999.0,9,   -999.0,9,-999.0000,9,   -999.0,  9,  -999.00,9,   -999.0,  -999.00,9,  -999.00,9,  -999.00,9,  -999.00,9,   -999.0,-999.0000, -999,9,   51,  29.1099,  21.2083,   -999.0,9
       KE00-04,  137E,KE-1273,  1,     10,02-10719,2,20000518,1413,  9.9980, 136.9828,   -9,    100.9,  26.8183,  34.8454,2,   -999.0,9,  34.8408,2,    197.0,2,  -999.00,9,  -999.00,9,  -999.00,9,  -999.00,9,  -999.00,9, -999.000,9, -999.000,9,  -999.00,9,   -999.0,9,   -999.0,9,-999.0000,9,   -999.0,  9,  -999.00,9,   -999.0,  -999.00,9,  -999.00,9,  -999.00,9,  -999.00,9,   -999.0,-999.0000, -999,9,  100,  26.7952,  22.6665,   -999.0,9
       KE00-04,  137E,KE-1273,  1,      9,   B-207,2,20000518,1411,  9.9980, 136.9828,   -9,    200.7,  14.9321,  34.5855,2,   -999.0,9,  34.5838,2,    159.0,2,  -999.00,9,  -999.00,9,  -999.00,9,  -999.00,9,  -999.00,9, -999.000,9, -999.000,9,  -999.00,9,   -999.0,9,   -999.0,9,-999.0000,9,   -999.0,  9,  -999.00,9,   -999.0,  -999.00,9,  -999.00,9,  -999.00,9,  -999.00,9,   -999.0,-999.0000, -999,9,  199,  14.9019,  25.6738,   -999.0,9
       KE00-04,  137E,KE-1273,  1,      8,02-10382,2,20000518,1409,  9.9980, 136.9828,   -9,    301.2,   9.8978,  34.4162,2,   -999.0,9,  34.4153,2,     97.0,2,  -999.00,9,  -999.00,9,  -999.00,9,  -999.00,9,  -999.00,9, -999.000,9, -999.000,9,  -999.00,9,   -999.0,9,   -999.0,9,-999.0000,9,   -999.0,  9,  -999.00,9,   -999.0,  -999.00,9,  -999.00,9,  -999.00,9,  -999.00,9,   -999.0,-999.0000, -999,9,  299,   9.8632,  26.5193,   -999.0,9
       KE00-04,  137E,KE-1273,  1,      7,02-10721,2,20000518,1406,  9.9980, 136.9828,   -9,    400.1,   7.9316,  34.4291,2,   -999.0,9,  34.3899,2,   -999.0,4,  -999.00,9,  -999.00,9,  -999.00,9,  -999.00,9,  -999.00,9, -999.000,9, -999.000,9,  -999.00,9,   -999.0,9,   -999.0,9,-999.0000,9,   -999.0,  9,  -999.00,9,   -999.0,  -999.00,9,  -999.00,9,  -999.00,9,  -999.00,9,   -999.0,-999.0000, -999,9,  397,   7.8911,  26.8416,   -999.0,9
       KE00-04,  137E,KE-1273,  1,      6,   B-999,2,20000518,1404,  9.9980, 136.9828,   -9,    499.9,   6.9864,  34.4794,2,   -999.0,9,  34.4795,2,     81.0,2,  -999.00,9,  -999.00,9,  -999.00,9,  -999.00,9,  -999.00,9, -999.000,9, -999.000,9,  -999.00,9,   -999.0,9,   -999.0,9,-999.0000,9,   -999.0,  9,  -999.00,9,   -999.0,  -999.00,9,  -999.00,9,  -999.00,9,  -999.00,9,   -999.0,-999.0000, -999,9,  496,   6.9390,  27.0171,   -999.0,9
       KE00-04,  137E,KE-1273,  1,      5,02-10371,2,20000518,1402,  9.9980, 136.9828,   -9,    600.6,   6.4603,  34.5055,2,   -999.0,9,  34.6228,2,   -999.0,4,  -999.00,9,  -999.00,9,  -999.00,9,  -999.00,9,  -999.00,9, -999.000,9, -999.000,9,  -999.00,9,   -999.0,9,   -999.0,9,-999.0000,9,   -999.0,  9,  -999.00,9,   -999.0,  -999.00,9,  -999.00,9,  -999.00,9,  -999.00,9,   -999.0,-999.0000, -999,9,  596,   6.4053,  27.1094,   -999.0,9
       KE00-04,  137E,KE-1273,  1,      4,02-10730,2,20000518,1359,  9.9980, 136.9828,   -9,    802.8,   5.4509,  34.5197,2,   -999.0,9,  34.5173,2,     78.0,2,  -999.00,9,  -999.00,9,  -999.00,9,  -999.00,9,  -999.00,9, -999.000,9, -999.000,9,  -999.00,9,   -999.0,9,   -999.0,9,-999.0000,9,   -999.0,  9,  -999.00,9,   -999.0,  -999.00,9,  -999.00,9,  -999.00,9,  -999.00,9,   -999.0,-999.0000, -999,9,  797,   5.3824,  27.2494,   -999.0,9
       KE00-04,  137E,KE-1273,  1,      3,02-10722,2,20000518,1355,  9.9980, 136.9828,   -9,   1004.0,   4.6797,  34.5423,2,   -999.0,9,  34.5409,2,     85.0,2,  -999.00,9,  -999.00,9,  -999.00,9,  -999.00,9,  -999.00,9, -999.000,9, -999.000,9,  -999.00,9,   -999.0,9,   -999.0,9,-999.0000,9,   -999.0,  9,  -999.00,9,   -999.0,  -999.00,9,  -999.00,9,  -999.00,9,  -999.00,9,   -999.0,-999.0000, -999,9,  996,   4.5984,  27.3579,   -999.0,9
       KE00-04,  137E,KE-1273,  1,      2,02-10715,2,20000518,1347,  9.9980, 136.9828,   -9,   1510.2,   2.9542,  34.5928,2,   -999.0,9,  34.5903,2,     98.0,2,  -999.00,9,  -999.00,9,  -999.00,9,  -999.00,9,  -999.00,9, -999.000,9, -999.000,9,  -999.00,9,   -999.0,9,   -999.0,9,-999.0000,9,   -999.0,  9,  -999.00,9,   -999.0,  -999.00,9,  -999.00,9,  -999.00,9,  -999.00,9,   -999.0,-999.0000, -999,9, 1496,   2.8460,  27.5740,   -999.0,9
       KE00-04,  137E,KE-1273,  1,      1,02-10716,2,20000518,1340,  9.9980, 136.9828,   -9,   2020.1,   2.1580,  34.6324,2,   -999.0,9,  34.6299,2,    118.0,2,  -999.00,9,  -999.00,9,  -999.00,9,  -999.00,9,  -999.00,9, -999.000,9, -999.000,9,  -999.00,9,   -999.0,9,   -999.0,9,-999.0000,9,   -999.0,  9,  -999.00,9,   -999.0,  -999.00,9,  -999.00,9,  -999.00,9,  -999.00,9,   -999.0,-999.0000, -999,9, 1999,   2.0175,  27.6758,   -999.0,9
       KE00-04,  137E,KE-1274,  1,     -9,      -9,5,20000518,1925,  8.9918, 136.9755,   -9,      0.0,  29.5837,  33.7403,2,   -999.0,9,-999.0000,9,    200.0,2,  -999.00,9,  -999.00,9,     0.12,2,     0.00,2,     0.01,2, -999.000,9, -999.000,9,  -999.00,9,   1870.3,2,   -999.0,9,-999.0000,9,   -999.0,  9,  -999.00,9,   -999.0,  -999.00,9,  -999.00,9,  -999.00,9,  -999.00,9,   -999.0,-999.0000, -999,9,    0,  29.5837,  20.9231,   -999.0,9
       KE00-04,  137E,KE-1274,  1,     12,02-10720,2,20000518,2024,  8.9918, 136.9755,   -9,     25.9,  29.2484,  33.8102,2,   -999.0,9,-999.0000,9,    202.0,2,  -999.00,9,  -999.00,9,     0.00,2,     0.00,2,     0.00,2, -999.000,9, -999.000,9,  -999.00,9,   -999.0,9,   -999.0,9,-999.0000,9,   -999.0,  9,  -999.00,9,   -999.0,  -999.00,9,  -999.00,9,  -999.00,9,  -999.00,9,   -999.0,-999.0000, -999,9,   26,  29.2421,  21.0903,   -999.0,9
       KE00-04,  137E,KE-1274,  1,     11,   B-203,2,20000518,2022,  8.9918, 136.9755,   -9,     50.4,  29.0964,  33.9455,2,   -999.0,9,-999.0000,9,    202.0,2,  -999.00,9,  -999.00,9,     0.05,2,     0.00,2,     0.00,2, -999.000,9, -999.000,9,  -999.00,9,   -999.0,9,   -999.0,9,-999.0000,9,   -999.0,  9,  -999.00,9,   -999.0,  -999.00,9,  -999.00,9,  -999.00,9,  -999.00,9,   -999.0,-999.0000, -999,9,   50,  29.0842,  21.2445,   -999.0,9
       KE00-04,  137E,KE-1274,  1,     10,02-10719,2,20000518,2020,  8.9918, 136.9755,   -9,     99.0,  25.1915,  34.8074,2,   -999.0,9,-999.0000,9,    180.0,2,  -999.00,9,  -999.00,9,     1.52,2,     0.02,2,     0.23,2, -999.000,9, -999.000,9,  -999.00,9,   -999.0,9,   -999.0,9,-999.0000,9,   -999.0,  9,  -999.00,9,   -999.0,  -999.00,9,  -999.00,9,  -999.00,9,  -999.00,9,   -999.0,-999.0000, -999,9,   98,  25.1699,  23.1439,   -999.0,9
       KE00-04,  137E,KE-1274,  1,      9,   B-207,2,20000518,2017,  8.9918, 136.9755,   -9,    200.4,  13.4946,  34.5589,2,   -999.0,9,-999.0000,9,    119.0,2,  -999.00,9,  -999.00,9,    19.97,2,     0.00,2,     1.40,2, -999.000,9, -999.000,9,  -999.00,9,   -999.0,9,   -999.0,9,-999.0000,9,   -999.0,  9,  -999.00,9,   -999.0,  -999.00,9,  -999.00,9,  -999.00,9,  -999.00,9,   -999.0,-999.0000, -999,9,  199,  13.4664,  25.9567,   -999.0,9
       KE00-04,  137E,KE-1274,  1,      8,02-10382,2,20000518,2013,  8.9918, 136.9755,   -9,    300.6,   9.6297,  34.5474,2,   -999.0,9,-999.0000,9,     72.0,2,  -999.00,9,  -999.00,9,    31.31,2,     0.00,2,     2.16,2, -999.000,9, -999.000,9,  -999.00,9,   -999.0,9,   -999.0,9,-999.0000,9,   -999.0,  9,  -999.00,9,   -999.0,  -999.00,9,  -999.00,9,  -999.00,9,  -999.00,9,   -999.0,-999.0000, -999,9,  299,   9.5956,  26.6665,   -999.0,9
       KE00-04,  137E,KE-1274,  1,      7,02-10721,2,20000518,2009,  8.9918, 136.9755,   -9,    400.2,   8.2851,  34.5547,2,   -999.0,9,-999.0000,9,     71.0,2,  -999.00,9,  -999.00,9,    34.07,2,     0.00,2,     2.36,2, -999.000,9, -999.000,9,  -999.00,9,   -999.0,9,   -999.0,9,-999.0000,9,   -999.0,  9,  -999.00,9,   -999.0,  -999.00,9,  -999.00,9,  -999.00,9,  -999.00,9,   -999.0,-999.0000, -999,9,  398,   8.2435,  26.8874,   -999.0,9
       KE00-04,  137E,KE-1274,  1,      6,   B-999,2,20000518,2004,  8.9918, 136.9755,   -9,    501.4,   7.5591,  34.5410,2,   -999.0,9,-999.0000,9,     72.0,2,  -999.00,9,  -999.00,9,    35.17,2,     0.00,2,     2.43,2, -999.000,9, -999.000,9,  -999.00,9,   -999.0,9,   -999.0,9,-999.0000,9,   -999.0,  9,  -999.00,9,   -999.0,  -999.00,9,  -999.00,9,  -999.00,9,  -999.00,9,   -999.0,-999.0000, -999,9,  498,   7.5094,  26.9853,   -999.0,9
       KE00-04,  137E,KE-1274,  1,      5,02-10371,2,20000518,2001,  8.9918, 136.9755,   -9,    602.7,   6.7042,  34.5248,2,   -999.0,9,-999.0000,9,     80.0,2,  -999.00,9,  -999.00,9,    36.12,2,     0.00,2,     2.51,2, -999.000,9, -999.000,9,  -999.00,9,   -999.0,9,   -999.0,9,-999.0000,9,   -999.0,  9,  -999.00,9,   -999.0,  -999.00,9,  -999.00,9,  -999.00,9,  -999.00,9,   -999.0,-999.0000, -999,9,  598,   6.6479,  27.0924,   -999.0,9
       KE00-04,  137E,KE-1274,  1,      4,02-10730,2,20000518,1956,  8.9918, 136.9755,   -9,    802.0,   5.5841,  34.5253,2,   -999.0,9,-999.0000,9,     85.0,2,  -999.00,9,  -999.00,9,    37.49,2,     0.00,2,     2.62,2, -999.000,9, -999.000,9,  -999.00,9,   -999.0,9,   -999.0,9,-999.0000,9,   -999.0,  9,  -999.00,9,   -999.0,  -999.00,9,  -999.00,9,  -999.00,9,  -999.00,9,   -999.0,-999.0000, -999,9,  796,   5.5148,  27.2379,   -999.0,9
       KE00-04,  137E,KE-1274,  1,      3,02-10722,2,20000518,1952,  8.9918, 136.9755,   -9,   1002.5,   4.5014,  34.5472,2,   -999.0,9,-999.0000,9,     93.0,2,  -999.00,9,  -999.00,9,    38.44,2,     0.00,2,     2.69,2, -999.000,9, -999.000,9,  -999.00,9,   -999.0,9,   -999.0,9,-999.0000,9,   -999.0,  9,  -999.00,9,   -999.0,  -999.00,9,  -999.00,9,  -999.00,9,  -999.00,9,   -999.0,-999.0000, -999,9,  994,   4.4216,  27.3811,   -999.0,9
       KE00-04,  137E,KE-1274,  1,      2,02-10715,2,20000518,1943,  8.9918, 136.9755,   -9,   1510.5,   2.8829,  34.5982,2,   -999.0,9,-999.0000,9,    105.0,2,  -999.00,9,  -999.00,9,    38.65,2,     0.00,2,     2.71,2, -999.000,9, -999.000,9,  -999.00,9,   -999.0,9,   -999.0,9,-999.0000,9,   -999.0,  9,  -999.00,9,   -999.0,  -999.00,9,  -999.00,9,  -999.00,9,  -999.00,9,   -999.0,-999.0000, -999,9, 1497,   2.7754,  27.5846,   -999.0,9
       KE00-04,  137E,KE-1274,  1,      1,02-10716,2,20000518,1934,  8.9918, 136.9755,   -9,   2017.3,   2.1114,  34.6371,2,   -999.0,9,-999.0000,9,    122.0,2,  -999.00,9,  -999.00,9,    38.00,2,     0.00,2,     2.60,2, -999.000,9, -999.000,9,  -999.00,9,   -999.0,9,   -999.0,9,-999.0000,9,   -999.0,  9,  -999.00,9,   -999.0,  -999.00,9,  -999.00,9,  -999.00,9,  -999.00,9,   -999.0,-999.0000, -999,9, 1996,   1.9717,  27.6831,   -999.0,9