BOTTLE,20130510GEMDJMAYT
EXPOCODE,SECT_ID,STNNBR,CASTNO,SAMPNO,BTLNBR,BTLNBR_FLAG_W,DATE,TIME,LATITUDE,LONGITUDE,DEPTH,CTDPRS,CTDTMP,CTDSAL,CTDSAL_FLAG_W,CTDOXY,CTDOXY_FLAG_W,SALNTY,SALNTY_FLAG_W,OXYGEN,OXYGEN_FLAG_W,SILCAT,SILCAT_FLAG_W,NITRAT,NITRAT_FLAG_W,NO2+NO3,NO2+NO3_FLAG_W,NITRIT,NITRIT_FLAG_W,PHSPHT,PHSPHT_FLAG_W,CFC-11,CFC-11_FLAG_W,CFC-12,CFC-12_FLAG_W,DELC13,DELC13_FLAG_W,TCARBN,TCARBN_FLAG_W,ALKALI,ALKALI_FLAG_W,PH,PH_FLAG_W,PH_TMP,PH_SCALE,PH_NBS,PH_NBS_FLAG_W,C13ERR,TOTALP,TOTALP_FLAG_W,AMMONI,AMMONI_FLAG_W,CHLORA,CHLORA_FLAG_W,PPHYTN,PPHYTN_FLAG_W,REVPRS,REVTMP,DEPTH_,DEPTH_FLAG,CTDDEP,THETA,SIGTHT,DOC,DOC_FLAG_W
,,,,,,,GMT,GMT,,,METER,DBAR,ITS-90,PSS-78,,UMOL/KG,,PSS-78,,UMOL/KG,,UMOL/KG,,UMOL/KG,,UMOL/KG,,UMOL/KG,,UMOL/KG,,PMOL/KG,,PMOL/KG,,/MILLE,,UMOL/KG,,UMOL/KG,,25_DEG_C,,DEG_C,,,,/MILLE,UMOL/KG,,UMOL/KG,,UG/L,,UG/L,,DBAR,ITS-90,METERS,,METERS,DEG_C,,UMOL/L,
       KE00-04,  137E,KE-1251,  1,     -9,      -9,5,20000511,2050, 31.9847, 137.0138,   -9,      0.0,  23.7152,  34.5805,2,   -999.0,9,-999.0000,9,    215.0,2,  -999.00,9,  -999.00,9,  -999.00,9,  -999.00,9,  -999.00,9, -999.000,9, -999.000,9,  -999.00,9,   1946.0,2,   -999.0,9,-999.0000,9,   -999.0,  9,  -999.00,9,   -999.0,  -999.00,9,  -999.00,9,  -999.00,9,  -999.00,9,   -999.0,-999.0000, -999,9,    0,  23.7152,  23.4077,   -999.0,9
       KE00-04,  137E,KE-1251,  1,     12, 02-9138,2,20000511,2150, 31.9847, 137.0138,   -9,     26.4,  23.1087,  34.6157,2,   -999.0,9,-999.0000,9,    216.0,2,  -999.00,9,  -999.00,9,  -999.00,9,  -999.00,9,  -999.00,9, -999.000,9, -999.000,9,  -999.00,9,   -999.0,9,   -999.0,9,-999.0000,9,   -999.0,  9,  -999.00,9,   -999.0,  -999.00,9,  -999.00,9,  -999.00,9,  -999.00,9,   -999.0,-999.0000, -999,9,   26,  23.1033,  23.6124,   -999.0,9
       KE00-04,  137E,KE-1251,  1,     11, 02-9870,2,20000511,2148, 31.9847, 137.0138,   -9,     52.1,  21.3353,  34.7113,2,   -999.0,9,-999.0000,9,    194.0,2,  -999.00,9,  -999.00,9,  -999.00,9,  -999.00,9,  -999.00,9, -999.000,9, -999.000,9,  -999.00,9,   -999.0,9,   -999.0,9,-999.0000,9,   -999.0,  9,  -999.00,9,   -999.0,  -999.00,9,  -999.00,9,  -999.00,9,  -999.00,9,   -999.0,-999.0000, -999,9,   52,  21.3252,  24.1854,   -999.0,9
       KE00-04,  137E,KE-1251,  1,     10, 02-9139,2,20000511,2146, 31.9847, 137.0138,   -9,    100.4,  19.5899,  34.7998,2,   -999.0,9,-999.0000,9,    232.0,2,  -999.00,9,  -999.00,9,  -999.00,9,  -999.00,9,  -999.00,9, -999.000,9, -999.000,9,  -999.00,9,   -999.0,9,   -999.0,9,-999.0000,9,   -999.0,  9,  -999.00,9,   -999.0,  -999.00,9,  -999.00,9,  -999.00,9,  -999.00,9,   -999.0,-999.0000, -999,9,  100,  19.5716,  24.7210,   -999.0,9
       KE00-04,  137E,KE-1251,  1,      9, 02-8088,2,20000511,2143, 31.9847, 137.0138,   -9,    198.1,  18.4896,  34.7991,2,   -999.0,9,-999.0000,9,    207.0,2,  -999.00,9,  -999.00,9,  -999.00,9,  -999.00,9,  -999.00,9, -999.000,9, -999.000,9,  -999.00,9,   -999.0,9,   -999.0,9,-999.0000,9,   -999.0,  9,  -999.00,9,   -999.0,  -999.00,9,  -999.00,9,  -999.00,9,  -999.00,9,   -999.0,-999.0000, -999,9,  197,  18.4549,  25.0052,   -999.0,9
       KE00-04,  137E,KE-1251,  1,      8, 02-9137,2,20000511,2141, 31.9847, 137.0138,   -9,    300.0,  16.0198,  34.6859,2,   -999.0,9,-999.0000,9,    194.0,2,  -999.00,9,  -999.00,9,  -999.00,9,  -999.00,9,  -999.00,9, -999.000,9, -999.000,9,  -999.00,9,   -999.0,9,   -999.0,9,-999.0000,9,   -999.0,  9,  -999.00,9,   -999.0,  -999.00,9,  -999.00,9,  -999.00,9,  -999.00,9,   -999.0,-999.0000, -999,9,  298,  15.9723,  25.5123,   -999.0,9
       KE00-04,  137E,KE-1251,  1,      7, 02-6219,2,20000511,2139, 31.9847, 137.0138,   -9,    400.8,  12.6953,  34.4799,2,   -999.0,9,-999.0000,9,    164.0,2,  -999.00,9,  -999.00,9,  -999.00,9,  -999.00,9,  -999.00,9, -999.000,9, -999.000,9,  -999.00,9,   -999.0,9,   -999.0,9,-999.0000,9,   -999.0,  9,  -999.00,9,   -999.0,  -999.00,9,  -999.00,9,  -999.00,9,  -999.00,9,   -999.0,-999.0000, -999,9,  398,  12.6409,  26.0611,   -999.0,9
       KE00-04,  137E,KE-1251,  1,      6, 02-8080,2,20000511,2136, 31.9847, 137.0138,   -9,    499.3,  10.1255,  34.2956,2,   -999.0,9,-999.0000,9,    158.0,2,  -999.00,9,  -999.00,9,  -999.00,9,  -999.00,9,  -999.00,9, -999.000,9, -999.000,9,  -999.00,9,   -999.0,9,   -999.0,9,-999.0000,9,   -999.0,  9,  -999.00,9,   -999.0,  -999.00,9,  -999.00,9,  -999.00,9,  -999.00,9,   -999.0,-999.0000, -999,9,  495,  10.0668,  26.3905,   -999.0,9
       KE00-04,  137E,KE-1251,  1,      5, 02-9145,2,20000511,2134, 31.9847, 137.0138,   -9,    602.5,   7.2297,  34.2969,2,   -999.0,9,-999.0000,9,    110.0,2,  -999.00,9,  -999.00,9,  -999.00,9,  -999.00,9,  -999.00,9, -999.000,9, -999.000,9,  -999.00,9,   -999.0,9,   -999.0,9,-999.0000,9,   -999.0,  9,  -999.00,9,   -999.0,  -999.00,9,  -999.00,9,  -999.00,9,  -999.00,9,   -999.0,-999.0000, -999,9,  597,   7.1713,  26.8411,   -999.0,9
       KE00-04,  137E,KE-1251,  1,      4, 02-9134,2,20000511,2130, 31.9847, 137.0138,   -9,    803.2,   4.5245,  34.3034,2,   -999.0,9,-999.0000,9,     73.0,2,  -999.00,9,  -999.00,9,  -999.00,9,  -999.00,9,  -999.00,9, -999.000,9, -999.000,9,  -999.00,9,   -999.0,9,   -999.0,9,-999.0000,9,   -999.0,  9,  -999.00,9,   -999.0,  -999.00,9,  -999.00,9,  -999.00,9,  -999.00,9,   -999.0,-999.0000, -999,9,  796,   4.4619,  27.1831,   -999.0,9
       KE00-04,  137E,KE-1251,  1,      3, 02-9143,2,20000511,2126, 31.9847, 137.0138,   -9,   1007.7,   3.6847,  34.3975,2,   -999.0,9,-999.0000,9,     68.0,2,  -999.00,9,  -999.00,9,  -999.00,9,  -999.00,9,  -999.00,9, -999.000,9, -999.000,9,  -999.00,9,   -999.0,9,   -999.0,9,-999.0000,9,   -999.0,  9,  -999.00,9,   -999.0,  -999.00,9,  -999.00,9,  -999.00,9,  -999.00,9,   -999.0,-999.0000, -999,9,  998,   3.6110,  27.3461,   -999.0,9
       KE00-04,  137E,KE-1251,  1,      2, 02-9135,2,20000511,2118, 31.9847, 137.0138,   -9,   1508.9,   2.5067,  34.5279,2,   -999.0,9,-999.0000,9,     85.0,2,  -999.00,9,  -999.00,9,  -999.00,9,  -999.00,9,  -999.00,9, -999.000,9, -999.000,9,  -999.00,9,   -999.0,9,   -999.0,9,-999.0000,9,   -999.0,  9,  -999.00,9,   -999.0,  -999.00,9,  -999.00,9,  -999.00,9,  -999.00,9,   -999.0,-999.0000, -999,9, 1493,   2.4040,  27.5605,   -999.0,9
       KE00-04,  137E,KE-1251,  1,      1, 02-6220,2,20000511,2110, 31.9847, 137.0138,   -9,   2020.9,   1.9908,  34.6008,2,   -999.0,9,-999.0000,9,    113.0,2,  -999.00,9,  -999.00,9,  -999.00,9,  -999.00,9,  -999.00,9, -999.000,9, -999.000,9,  -999.00,9,   -999.0,9,   -999.0,9,-999.0000,9,   -999.0,  9,  -999.00,9,   -999.0,  -999.00,9,  -999.00,9,  -999.00,9,  -999.00,9,   -999.0,-999.0000, -999,9, 1997,   1.8528,  27.6634,   -999.0,9
       KE00-04,  137E,KE-1252,  1,     -9,      -9,5,20000512,0510, 30.9888, 137.0068,   -9,      0.0,  22.8166,  34.8212,2,   -999.0,9,-999.0000,9,    230.0,2,  -999.00,9,  -999.00,9,  -999.00,9,  -999.00,9,  -999.00,9, -999.000,9, -999.000,9,  -999.00,9,   1969.5,2,   -999.0,9,-999.0000,9,   -999.0,  9,  -999.00,9,   -999.0,  -999.00,9,  -999.00,9,  -999.00,9,  -999.00,9,   -999.0,-999.0000, -999,9,    0,  22.8166,  23.8507,   -999.0,9
       KE00-04,  137E,KE-1252,  1,     12, 02-9138,2,20000512,0552, 30.9888, 137.0068,   -9,     26.8,  20.4797,  34.7287,2,   -999.0,9,-999.0000,9,    235.0,2,  -999.00,9,  -999.00,9,  -999.00,9,  -999.00,9,  -999.00,9, -999.000,9, -999.000,9,  -999.00,9,   -999.0,9,   -999.0,9,-999.0000,9,   -999.0,  9,  -999.00,9,   -999.0,  -999.00,9,  -999.00,9,  -999.00,9,  -999.00,9,   -999.0,-999.0000, -999,9,   27,  20.4747,  24.4289,   -999.0,9
       KE00-04,  137E,KE-1252,  1,     11, 02-9870,2,20000512,0550, 30.9888, 137.0068,   -9,     52.5,  20.0068,  34.7594,2,   -999.0,9,-999.0000,9,    233.0,2,  -999.00,9,  -999.00,9,  -999.00,9,  -999.00,9,  -999.00,9, -999.000,9, -999.000,9,  -999.00,9,   -999.0,9,   -999.0,9,-999.0000,9,   -999.0,  9,  -999.00,9,   -999.0,  -999.00,9,  -999.00,9,  -999.00,9,  -999.00,9,   -999.0,-999.0000, -999,9,   52,  19.9971,  24.5790,   -999.0,9
       KE00-04,  137E,KE-1252,  1,     10, 02-9139,2,20000512,0549, 30.9888, 137.0068,   -9,    102.6,  19.3704,  34.7762,2,   -999.0,9,-999.0000,9,    226.0,2,  -999.00,9,  -999.00,9,  -999.00,9,  -999.00,9,  -999.00,9, -999.000,9, -999.000,9,  -999.00,9,   -999.0,9,   -999.0,9,-999.0000,9,   -999.0,  9,  -999.00,9,   -999.0,  -999.00,9,  -999.00,9,  -999.00,9,  -999.00,9,   -999.0,-999.0000, -999,9,  102,  19.3519,  24.7599,   -999.0,9
       KE00-04,  137E,KE-1252,  1,      9, 02-8088,2,20000512,0547, 30.9888, 137.0068,   -9,    201.6,  18.8816,  34.7971,2,   -999.0,9,-999.0000,9,    224.0,2,  -999.00,9,  -999.00,9,  -999.00,9,  -999.00,9,  -999.00,9, -999.000,9, -999.000,9,  -999.00,9,   -999.0,9,   -999.0,9,-999.0000,9,   -999.0,  9,  -999.00,9,   -999.0,  -999.00,9,  -999.00,9,  -999.00,9,  -999.00,9,   -999.0,-999.0000, -999,9,  200,  18.8458,  24.9053,   -999.0,9
       KE00-04,  137E,KE-1252,  1,      8, 02-9137,2,20000512,0545, 30.9888, 137.0068,   -9,    300.3,  18.5489,  34.7984,2,   -999.0,9,-999.0000,9,    219.0,2,  -999.00,9,  -999.00,9,  -999.00,9,  -999.00,9,  -999.00,9, -999.000,9, -999.000,9,  -999.00,9,   -999.0,9,   -999.0,9,-999.0000,9,   -999.0,  9,  -999.00,9,   -999.0,  -999.00,9,  -999.00,9,  -999.00,9,  -999.00,9,   -999.0,-999.0000, -999,9,  298,  18.4962,  24.9944,   -999.0,9
       KE00-04,  137E,KE-1252,  1,      7, 02-6219,2,20000512,0543, 30.9888, 137.0068,   -9,    402.4,  17.0653,  34.7509,2,   -999.0,9,-999.0000,9,    196.0,2,  -999.00,9,  -999.00,9,  -999.00,9,  -999.00,9,  -999.00,9, -999.000,9, -999.000,9,  -999.00,9,   -999.0,9,   -999.0,9,-999.0000,9,   -999.0,  9,  -999.00,9,   -999.0,  -999.00,9,  -999.00,9,  -999.00,9,  -999.00,9,   -999.0,-999.0000, -999,9,  399,  16.9985,  25.3234,   -999.0,9
       KE00-04,  137E,KE-1252,  1,      6, 02-8080,2,20000512,0541, 30.9888, 137.0068,   -9,    502.6,  14.6125,  34.5887,2,   -999.0,9,-999.0000,9,    186.0,2,  -999.00,9,  -999.00,9,  -999.00,9,  -999.00,9,  -999.00,9, -999.000,9, -999.000,9,  -999.00,9,   -999.0,9,   -999.0,9,-999.0000,9,   -999.0,  9,  -999.00,9,   -999.0,  -999.00,9,  -999.00,9,  -999.00,9,  -999.00,9,   -999.0,-999.0000, -999,9,  499,  14.5373,  25.7552,   -999.0,9
       KE00-04,  137E,KE-1252,  1,      5, 02-9145,2,20000512,0539, 30.9888, 137.0068,   -9,    604.7,  11.9086,  34.4005,2,   -999.0,9,-999.0000,9,    172.0,2,  -999.00,9,  -999.00,9,  -999.00,9,  -999.00,9,  -999.00,9, -999.000,9, -999.000,9,  -999.00,9,   -999.0,9,   -999.0,9,-999.0000,9,   -999.0,  9,  -999.00,9,   -999.0,  -999.00,9,  -999.00,9,  -999.00,9,  -999.00,9,   -999.0,-999.0000, -999,9,  600,  11.8293,  26.1557,   -999.0,9
       KE00-04,  137E,KE-1252,  1,      4, 02-9134,2,20000512,0536, 30.9888, 137.0068,   -9,    806.3,   7.1968,  34.1810,2,   -999.0,9,-999.0000,9,    125.0,2,  -999.00,9,  -999.00,9,  -999.00,9,  -999.00,9,  -999.00,9, -999.000,9, -999.000,9,  -999.00,9,   -999.0,9,   -999.0,9,-999.0000,9,   -999.0,  9,  -999.00,9,   -999.0,  -999.00,9,  -999.00,9,  -999.00,9,  -999.00,9,   -999.0,-999.0000, -999,9,  799,   7.1178,  26.7573,   -999.0,9
       KE00-04,  137E,KE-1252,  1,      3, 02-9143,2,20000512,0532, 30.9888, 137.0068,   -9,   1008.1,   4.8577,  34.2858,2,   -999.0,9,-999.0000,9,     77.0,2,  -999.00,9,  -999.00,9,  -999.00,9,  -999.00,9,  -999.00,9, -999.000,9, -999.000,9,  -999.00,9,   -999.0,9,   -999.0,9,-999.0000,9,   -999.0,  9,  -999.00,9,   -999.0,  -999.00,9,  -999.00,9,  -999.00,9,  -999.00,9,   -999.0,-999.0000, -999,9,  999,   4.7751,  27.1346,   -999.0,9
       KE00-04,  137E,KE-1252,  1,      2, 02-9135,2,20000512,0526, 30.9888, 137.0068,   -9,   1518.7,   2.8725,  34.4852,2,   -999.0,9,-999.0000,9,     74.0,2,  -999.00,9,  -999.00,9,  -999.00,9,  -999.00,9,  -999.00,9, -999.000,9, -999.000,9,  -999.00,9,   -999.0,9,   -999.0,9,-999.0000,9,   -999.0,  9,  -999.00,9,   -999.0,  -999.00,9,  -999.00,9,  -999.00,9,  -999.00,9,   -999.0,-999.0000, -999,9, 1503,   2.7648,  27.4953,   -999.0,9
       KE00-04,  137E,KE-1252,  1,      1, 02-6220,2,20000512,0520, 30.9888, 137.0068,   -9,   2025.6,   2.1397,  34.5813,2,   -999.0,9,-999.0000,9,    102.0,2,  -999.00,9,  -999.00,9,  -999.00,9,  -999.00,9,  -999.00,9, -999.000,9, -999.000,9,  -999.00,9,   -999.0,9,   -999.0,9,-999.0000,9,   -999.0,  9,  -999.00,9,   -999.0,  -999.00,9,  -999.00,9,  -999.00,9,  -999.00,9,   -999.0,-999.0000, -999,9, 2002,   1.9991,  27.6363,   -999.0,9
       KE00-04,  137E,KE-1253,  1,     -9,      -9,5,20000512,1340, 29.9908, 136.9880,   -9,      0.0,  21.1977,  34.7589,2,   -999.0,9,  34.7819,2,    226.0,2,  -999.00,9,  -999.00,9,     0.00,2,     0.00,2,     0.01,2, -999.000,9, -999.000,9,  -999.00,9,   1965.9,2,   -999.0,9,-999.0000,9,   -999.0,  9,  -999.00,9,   -999.0,  -999.00,9,  -999.00,9,  -999.00,9,  -999.00,9,   -999.0,-999.0000, -999,9,    0,  21.1977,  24.2565,   -999.0,9
       KE00-04,  137E,KE-1253,  1,     12, 02-9138,2,20000512,1433, 29.9908, 136.9880,   -9,     25.0,  21.0111,  34.7508,2,   -999.0,9,  34.7566,2,    230.0,2,  -999.00,9,  -999.00,9,     0.00,2,     0.00,2,     0.00,2, -999.000,9, -999.000,9,  -999.00,9,   -999.0,9,   -999.0,9,-999.0000,9,   -999.0,  9,  -999.00,9,   -999.0,  -999.00,9,  -999.00,9,  -999.00,9,  -999.00,9,   -999.0,-999.0000, -999,9,   25,  21.0063,  24.3025,   -999.0,9
       KE00-04,  137E,KE-1253,  1,     11, 02-9870,2,20000512,1432, 29.9908, 136.9880,   -9,     49.7,  19.7894,  34.7443,2,   -999.0,9,  34.7505,2,    235.0,2,  -999.00,9,  -999.00,9,     0.00,2,     0.00,2,     0.00,2, -999.000,9, -999.000,9,  -999.00,9,   -999.0,9,   -999.0,9,-999.0000,9,   -999.0,  9,  -999.00,9,   -999.0,  -999.00,9,  -999.00,9,  -999.00,9,  -999.00,9,   -999.0,-999.0000, -999,9,   49,  19.7803,  24.6243,   -999.0,9
       KE00-04,  137E,KE-1253,  1,     10, 02-9139,2,20000512,1430, 29.9908, 136.9880,   -9,    101.6,  19.1431,  34.7924,2,   -999.0,9,  34.7974,2,    224.0,2,  -999.00,9,  -999.00,9,     1.25,2,     0.05,2,     0.07,2, -999.000,9, -999.000,9,  -999.00,9,   -999.0,9,   -999.0,9,-999.0000,9,   -999.0,  9,  -999.00,9,   -999.0,  -999.00,9,  -999.00,9,  -999.00,9,  -999.00,9,   -999.0,-999.0000, -999,9,  101,  19.1249,  24.8306,   -999.0,9
       KE00-04,  137E,KE-1253,  1,      9, 02-8088,2,20000512,1428, 29.9908, 136.9880,   -9,    202.3,  18.8125,  34.7960,2,   -999.0,9,  34.8018,2,    224.0,2,  -999.00,9,  -999.00,9,     1.49,2,     0.00,2,     0.10,2, -999.000,9, -999.000,9,  -999.00,9,   -999.0,9,   -999.0,9,-999.0000,9,   -999.0,  9,  -999.00,9,   -999.0,  -999.00,9,  -999.00,9,  -999.00,9,  -999.00,9,   -999.0,-999.0000, -999,9,  201,  18.7768,  24.9219,   -999.0,9
       KE00-04,  137E,KE-1253,  1,      8, 02-9137,2,20000512,1426, 29.9908, 136.9880,   -9,    299.2,  18.6508,  34.7970,2,   -999.0,9,  34.7990,2,    222.0,2,  -999.00,9,  -999.00,9,     2.12,2,     0.00,2,     0.11,2, -999.000,9, -999.000,9,  -999.00,9,   -999.0,9,   -999.0,9,-999.0000,9,   -999.0,  9,  -999.00,9,   -999.0,  -999.00,9,  -999.00,9,  -999.00,9,  -999.00,9,   -999.0,-999.0000, -999,9,  297,  18.5981,  24.9677,   -999.0,9
       KE00-04,  137E,KE-1253,  1,      7, 02-6219,2,20000512,1424, 29.9908, 136.9880,   -9,    399.5,  17.5363,  34.7855,2,   -999.0,9,  34.7840,2,    196.0,2,  -999.00,9,  -999.00,9,     5.97,2,     0.00,2,     0.37,2, -999.000,9, -999.000,9,  -999.00,9,   -999.0,9,   -999.0,9,-999.0000,9,   -999.0,  9,  -999.00,9,   -999.0,  -999.00,9,  -999.00,9,  -999.00,9,  -999.00,9,   -999.0,-999.0000, -999,9,  396,  17.4687,  25.2374,   -999.0,9
       KE00-04,  137E,KE-1253,  1,      6, 02-8080,2,20000512,1421, 29.9908, 136.9880,   -9,    502.6,  15.1006,  34.6279,2,   -999.0,9,  34.6311,2,    188.0,2,  -999.00,9,  -999.00,9,    10.07,2,     0.00,2,     0.67,2, -999.000,9, -999.000,9,  -999.00,9,   -999.0,9,   -999.0,9,-999.0000,9,   -999.0,  9,  -999.00,9,   -999.0,  -999.00,9,  -999.00,9,  -999.00,9,  -999.00,9,   -999.0,-999.0000, -999,9,  499,  15.0237,  25.6799,   -999.0,9
       KE00-04,  137E,KE-1253,  1,      5, 02-9145,2,20000512,1419, 29.9908, 136.9880,   -9,    600.3,  12.8486,  34.4716,2,   -999.0,9,  34.4651,2,    178.0,2,  -999.00,9,  -999.00,9,    14.79,2,     0.00,2,     1.01,2, -999.000,9, -999.000,9,  -999.00,9,   -999.0,9,   -999.0,9,-999.0000,9,   -999.0,  9,  -999.00,9,   -999.0,  -999.00,9,  -999.00,9,  -999.00,9,  -999.00,9,   -999.0,-999.0000, -999,9,  595,  12.7658,  26.0301,   -999.0,9
       KE00-04,  137E,KE-1253,  1,      4, 02-9134,2,20000512,1415, 29.9908, 136.9880,   -9,    803.2,   7.7472,  34.2088,2,   -999.0,9,  34.2111,2,    130.0,2,  -999.00,9,  -999.00,9,    27.83,2,     0.00,2,     1.96,2, -999.000,9, -999.000,9,  -999.00,9,   -999.0,9,   -999.0,9,-999.0000,9,   -999.0,  9,  -999.00,9,   -999.0,  -999.00,9,  -999.00,9,  -999.00,9,  -999.00,9,   -999.0,-999.0000, -999,9,  796,   7.6652,  26.7016,   -999.0,9
       KE00-04,  137E,KE-1253,  1,      3, 02-9143,2,20000512,1411, 29.9908, 136.9880,   -9,   1007.5,   4.9517,  34.3059,2,   -999.0,9,  34.3073,2,     80.0,2,  -999.00,9,  -999.00,9,    36.88,2,     0.00,2,     2.64,2, -999.000,9, -999.000,9,  -999.00,9,   -999.0,9,   -999.0,9,-999.0000,9,   -999.0,  9,  -999.00,9,   -999.0,  -999.00,9,  -999.00,9,  -999.00,9,  -999.00,9,   -999.0,-999.0000, -999,9,  998,   4.8684,  27.1400,   -999.0,9
       KE00-04,  137E,KE-1253,  1,      2, 02-9135,2,20000512,1405, 29.9908, 136.9880,   -9,   1510.0,   2.8043,  34.4896,2,   -999.0,9,  34.4907,2,     74.0,2,  -999.00,9,  -999.00,9,    40.10,2,     0.00,2,     2.84,2, -999.000,9, -999.000,9,  -999.00,9,   -999.0,9,   -999.0,9,-999.0000,9,   -999.0,  9,  -999.00,9,   -999.0,  -999.00,9,  -999.00,9,  -999.00,9,  -999.00,9,   -999.0,-999.0000, -999,9, 1494,   2.6981,  27.5046,   -999.0,9
       KE00-04,  137E,KE-1253,  1,      1, 02-6220,2,20000512,1358, 29.9908, 136.9880,   -9,   2020.1,   2.1212,  34.5835,2,   -999.0,9,  34.5840,2,    103.0,2,  -999.00,9,  -999.00,9,    38.97,2,     0.00,2,     2.74,2, -999.000,9, -999.000,9,  -999.00,9,   -999.0,9,   -999.0,9,-999.0000,9,   -999.0,  9,  -999.00,9,   -999.0,  -999.00,9,  -999.00,9,  -999.00,9,  -999.00,9,   -999.0,-999.0000, -999,9, 1997,   1.9814,  27.6394,   -999.0,9