BOTTLE,20130510GEMDJMAYT
EXPOCODE,SECT_ID,STNNBR,CASTNO,SAMPNO,BTLNBR,BTLNBR_FLAG_W,DATE,TIME,LATITUDE,LONGITUDE,DEPTH,CTDPRS,CTDTMP,CTDSAL,CTDSAL_FLAG_W,CTDOXY,CTDOXY_FLAG_W,SALNTY,SALNTY_FLAG_W,OXYGEN,OXYGEN_FLAG_W,SILCAT,SILCAT_FLAG_W,NITRAT,NITRAT_FLAG_W,NO2+NO3,NO2+NO3_FLAG_W,NITRIT,NITRIT_FLAG_W,PHSPHT,PHSPHT_FLAG_W,CFC-11,CFC-11_FLAG_W,CFC-12,CFC-12_FLAG_W,DELC13,DELC13_FLAG_W,TCARBN,TCARBN_FLAG_W,ALKALI,ALKALI_FLAG_W,PH,PH_FLAG_W,PH_TMP,PH_SCALE,PH_NBS,PH_NBS_FLAG_W,C13ERR,TOTALP,TOTALP_FLAG_W,AMMONI,AMMONI_FLAG_W,CHLORA,CHLORA_FLAG_W,PPHYTN,PPHYTN_FLAG_W,REVPRS,REVTMP,DEPTH_,DEPTH_FLAG,CTDDEP,THETA,SIGTHT,DOC,DOC_FLAG_W
,,,,,,,GMT,GMT,,,METER,DBAR,ITS-90,PSS-78,,UMOL/KG,,PSS-78,,UMOL/KG,,UMOL/KG,,UMOL/KG,,UMOL/KG,,UMOL/KG,,UMOL/KG,,PMOL/KG,,PMOL/KG,,/MILLE,,UMOL/KG,,UMOL/KG,,25_DEG_C,,DEG_C,,,,/MILLE,UMOL/KG,,UMOL/KG,,UG/L,,UG/L,,DBAR,ITS-90,METERS,,METERS,DEG_C,,UMOL/L,
       KE00-04,  137E,KE-1278,  1,     -9,      -9,5,20000520,0315,  5.0007, 137.0273,   -9,      0.0,  29.4720,  34.1062,2,   -999.0,9,  34.0513,2,    199.0,2,  -999.00,9,  -999.00,9,     0.00,2,     0.00,2,     0.03,2, -999.000,9, -999.000,9,  -999.00,9,   1896.8,2,   -999.0,9,-999.0000,9,   -999.0,  9,  -999.00,9,   -999.0,  -999.00,9,  -999.00,9,  -999.00,9,  -999.00,9,   -999.0,-999.0000, -999,9,    0,  29.4720,  21.2350,   -999.0,9
       KE00-04,  137E,KE-1278,  1,     12,02-10720,2,20000520,0406,  5.0007, 137.0273,   -9,     26.1,  29.5823,  35.0002,2,   -999.0,9,  34.9799,2,    201.0,2,  -999.00,9,  -999.00,9,     0.00,2,     0.00,2,     0.13,2, -999.000,9, -999.000,9,  -999.00,9,   -999.0,9,   -999.0,9,-999.0000,9,   -999.0,  9,  -999.00,9,   -999.0,  -999.00,9,  -999.00,9,  -999.00,9,  -999.00,9,   -999.0,-999.0000, -999,9,   26,  29.5759,  21.8706,   -999.0,9
       KE00-04,  137E,KE-1278,  1,     11,   B-203,2,20000520,0405,  5.0007, 137.0273,   -9,     50.9,  29.2298,  35.1499,2,   -999.0,9,  35.1601,2,    193.0,2,  -999.00,9,  -999.00,9,     0.15,2,     0.05,2,     0.19,2, -999.000,9, -999.000,9,  -999.00,9,   -999.0,9,   -999.0,9,-999.0000,9,   -999.0,  9,  -999.00,9,   -999.0,  -999.00,9,  -999.00,9,  -999.00,9,  -999.00,9,   -999.0,-999.0000, -999,9,   51,  29.2174,  22.1038,   -999.0,9
       KE00-04,  137E,KE-1278,  1,     10,02-10719,2,20000520,0403,  5.0007, 137.0273,   -9,    100.4,  28.4749,  35.2780,2,   -999.0,9,  35.2865,2,    178.0,2,  -999.00,9,  -999.00,9,     2.55,2,     0.16,2,     0.33,2, -999.000,9, -999.000,9,  -999.00,9,   -999.0,9,   -999.0,9,-999.0000,9,   -999.0,  9,  -999.00,9,   -999.0,  -999.00,9,  -999.00,9,  -999.00,9,  -999.00,9,   -999.0,-999.0000, -999,9,  100,  28.4509,  22.4554,   -999.0,9
       KE00-04,  137E,KE-1278,  1,      9,   B-207,2,20000520,0400,  5.0007, 137.0273,   -9,    201.9,  16.9636,  34.7551,2,   -999.0,9,  34.7269,2,    148.0,2,  -999.00,9,  -999.00,9,    13.26,2,     0.00,2,     0.93,2, -999.000,9, -999.000,9,  -999.00,9,   -999.0,9,   -999.0,9,-999.0000,9,   -999.0,  9,  -999.00,9,   -999.0,  -999.00,9,  -999.00,9,  -999.00,9,  -999.00,9,   -999.0,-999.0000, -999,9,  201,  16.9304,  25.3428,   -999.0,9
       KE00-04,  137E,KE-1278,  1,      8,02-10382,2,20000520,0357,  5.0007, 137.0273,   -9,    301.7,   9.6031,  34.5823,2,   -999.0,9,  34.5838,2,     71.0,2,  -999.00,9,  -999.00,9,    31.38,2,     0.00,2,     2.17,2, -999.000,9, -999.000,9,  -999.00,9,   -999.0,9,   -999.0,9,-999.0000,9,   -999.0,  9,  -999.00,9,   -999.0,  -999.00,9,  -999.00,9,  -999.00,9,  -999.00,9,   -999.0,-999.0000, -999,9,  300,   9.5689,  26.6983,   -999.0,9
       KE00-04,  137E,KE-1278,  1,      7,02-10721,2,20000520,0355,  5.0007, 137.0273,   -9,    401.5,   8.1346,  34.5629,2,   -999.0,9,  34.5622,2,     93.0,2,  -999.00,9,  -999.00,9,    33.33,2,     0.00,2,     2.29,2, -999.000,9, -999.000,9,  -999.00,9,   -999.0,9,   -999.0,9,-999.0000,9,   -999.0,  9,  -999.00,9,   -999.0,  -999.00,9,  -999.00,9,  -999.00,9,  -999.00,9,   -999.0,-999.0000, -999,9,  399,   8.0933,  26.9166,   -999.0,9
       KE00-04,  137E,KE-1278,  1,      6,   B-999,2,20000520,0353,  5.0007, 137.0273,   -9,    501.9,   7.4866,  34.5640,2,   -999.0,9,  34.5627,2,     96.0,2,  -999.00,9,  -999.00,9,    33.36,2,     0.00,2,     2.29,2, -999.000,9, -999.000,9,  -999.00,9,   -999.0,9,   -999.0,9,-999.0000,9,   -999.0,  9,  -999.00,9,   -999.0,  -999.00,9,  -999.00,9,  -999.00,9,  -999.00,9,   -999.0,-999.0000, -999,9,  499,   7.4370,  27.0138,   -999.0,9
       KE00-04,  137E,KE-1278,  1,      5,02-10371,2,20000520,0350,  5.0007, 137.0273,   -9,    602.8,   6.6875,  34.5433,2,   -999.0,9,  34.5427,2,     98.0,2,  -999.00,9,  -999.00,9,    34.82,2,     0.00,2,     2.40,2, -999.000,9, -999.000,9,  -999.00,9,   -999.0,9,   -999.0,9,-999.0000,9,   -999.0,  9,  -999.00,9,   -999.0,  -999.00,9,  -999.00,9,  -999.00,9,  -999.00,9,   -999.0,-999.0000, -999,9,  599,   6.6313,  27.1093,   -999.0,9
       KE00-04,  137E,KE-1278,  1,      4,02-10730,2,20000520,0347,  5.0007, 137.0273,   -9,    804.5,   5.4858,  34.5347,2,   -999.0,9,  34.5330,2,     95.0,2,  -999.00,9,  -999.00,9,    36.83,2,     0.00,2,     2.56,2, -999.000,9, -999.000,9,  -999.00,9,   -999.0,9,   -999.0,9,-999.0000,9,   -999.0,  9,  -999.00,9,   -999.0,  -999.00,9,  -999.00,9,  -999.00,9,  -999.00,9,   -999.0,-999.0000, -999,9,  799,   5.4169,  27.2572,   -999.0,9
       KE00-04,  137E,KE-1278,  1,      3,02-10722,2,20000520,0341,  5.0007, 137.0273,   -9,   1006.9,   4.5867,  34.5484,2,   -999.0,9,  34.5476,2,     96.0,2,  -999.00,9,  -999.00,9,    37.61,2,     0.00,2,     2.63,2, -999.000,9, -999.000,9,  -999.00,9,   -999.0,9,   -999.0,9,-999.0000,9,   -999.0,  9,  -999.00,9,   -999.0,  -999.00,9,  -999.00,9,  -999.00,9,  -999.00,9,   -999.0,-999.0000, -999,9,  999,   4.5059,  27.3729,   -999.0,9
       KE00-04,  137E,KE-1278,  1,      2,02-10715,2,20000520,0330,  5.0007, 137.0273,   -9,   1511.6,   2.9355,  34.6012,2,   -999.0,9,  34.5994,2,    107.0,2,  -999.00,9,  -999.00,9,    38.29,2,     0.00,2,     2.69,2, -999.000,9, -999.000,9,  -999.00,9,   -999.0,9,   -999.0,9,-999.0000,9,   -999.0,  9,  -999.00,9,   -999.0,  -999.00,9,  -999.00,9,  -999.00,9,  -999.00,9,   -999.0,-999.0000, -999,9, 1498,   2.8274,  27.5824,   -999.0,9
       KE00-04,  137E,KE-1278,  1,      1,02-10716,2,20000520,0323,  5.0007, 137.0273,   -9,   2021.7,   2.1836,  34.6375,2,   -999.0,9,  34.6350,2,    119.0,2,  -999.00,9,  -999.00,9,    38.00,2,     0.00,2,     2.62,2, -999.000,9, -999.000,9,  -999.00,9,   -999.0,9,   -999.0,9,-999.0000,9,   -999.0,  9,  -999.00,9,   -999.0,  -999.00,9,  -999.00,9,  -999.00,9,  -999.00,9,   -999.0,-999.0000, -999,9, 2001,   2.0425,  27.6779,   -999.0,9
       KE00-04,  137E,KE-1279,  1,     -9,      -9,5,20000520,0845,  3.9558, 136.9910,   -9,      0.0,  30.4021,  34.6338,2,   -999.0,9,-999.0000,9,    197.0,2,  -999.00,9,  -999.00,9,  -999.00,9,  -999.00,9,  -999.00,9, -999.000,9, -999.000,9,  -999.00,9,   1925.4,2,   -999.0,9,-999.0000,9,   -999.0,  9,  -999.00,9,   -999.0,  -999.00,9,  -999.00,9,  -999.00,9,  -999.00,9,   -999.0,-999.0000, -999,9,    0,  30.4021,  21.3139,   -999.0,9
       KE00-04,  137E,KE-1279,  1,     12,02-10720,2,20000520,0956,  3.9558, 136.9910,   -9,     26.2,  29.8436,  34.6262,2,   -999.0,9,-999.0000,9,    199.0,2,  -999.00,9,  -999.00,9,  -999.00,9,  -999.00,9,  -999.00,9, -999.000,9, -999.000,9,  -999.00,9,   -999.0,9,   -999.0,9,-999.0000,9,   -999.0,  9,  -999.00,9,   -999.0,  -999.00,9,  -999.00,9,  -999.00,9,  -999.00,9,   -999.0,-999.0000, -999,9,   26,  29.8371,  21.5014,   -999.0,9
       KE00-04,  137E,KE-1279,  1,     11,   B-203,2,20000520,0954,  3.9558, 136.9910,   -9,     51.5,  29.8104,  34.7587,2,   -999.0,9,-999.0000,9,    198.0,2,  -999.00,9,  -999.00,9,  -999.00,9,  -999.00,9,  -999.00,9, -999.000,9, -999.000,9,  -999.00,9,   -999.0,9,   -999.0,9,-999.0000,9,   -999.0,  9,  -999.00,9,   -999.0,  -999.00,9,  -999.00,9,  -999.00,9,  -999.00,9,   -999.0,-999.0000, -999,9,   51,  29.7977,  21.6142,   -999.0,9
       KE00-04,  137E,KE-1279,  1,     10,02-10719,2,20000520,0952,  3.9558, 136.9910,   -9,    100.9,  29.2956,  35.1387,2,   -999.0,9,-999.0000,9,    192.0,2,  -999.00,9,  -999.00,9,  -999.00,9,  -999.00,9,  -999.00,9, -999.000,9, -999.000,9,  -999.00,9,   -999.0,9,   -999.0,9,-999.0000,9,   -999.0,  9,  -999.00,9,   -999.0,  -999.00,9,  -999.00,9,  -999.00,9,  -999.00,9,   -999.0,-999.0000, -999,9,  100,  29.2710,  22.0773,   -999.0,9
       KE00-04,  137E,KE-1279,  1,      9,   B-207,2,20000520,0950,  3.9558, 136.9910,   -9,    200.4,  22.8346,  35.0992,2,   -999.0,9,-999.0000,9,    148.0,2,  -999.00,9,  -999.00,9,  -999.00,9,  -999.00,9,  -999.00,9, -999.000,9, -999.000,9,  -999.00,9,   -999.0,9,   -999.0,9,-999.0000,9,   -999.0,  9,  -999.00,9,   -999.0,  -999.00,9,  -999.00,9,  -999.00,9,  -999.00,9,   -999.0,-999.0000, -999,9,  199,  22.7939,  24.0681,   -999.0,9
       KE00-04,  137E,KE-1279,  1,      8,02-10382,2,20000520,0947,  3.9558, 136.9910,   -9,    300.6,  10.0379,  34.5607,2,   -999.0,9,-999.0000,9,     76.0,2,  -999.00,9,  -999.00,9,  -999.00,9,  -999.00,9,  -999.00,9, -999.000,9, -999.000,9,  -999.00,9,   -999.0,9,   -999.0,9,-999.0000,9,   -999.0,  9,  -999.00,9,   -999.0,  -999.00,9,  -999.00,9,  -999.00,9,  -999.00,9,   -999.0,-999.0000, -999,9,  299,  10.0029,  26.6084,   -999.0,9
       KE00-04,  137E,KE-1279,  1,      7,02-10721,2,20000520,0945,  3.9558, 136.9910,   -9,    400.4,   8.2803,  34.5738,2,   -999.0,9,-999.0000,9,     79.0,2,  -999.00,9,  -999.00,9,  -999.00,9,  -999.00,9,  -999.00,9, -999.000,9, -999.000,9,  -999.00,9,   -999.0,9,   -999.0,9,-999.0000,9,   -999.0,  9,  -999.00,9,   -999.0,  -999.00,9,  -999.00,9,  -999.00,9,  -999.00,9,   -999.0,-999.0000, -999,9,  398,   8.2387,  26.9031,   -999.0,9
       KE00-04,  137E,KE-1279,  1,      6,   B-999,2,20000520,0942,  3.9558, 136.9910,   -9,    500.6,   7.3911,  34.5456,2,   -999.0,9,-999.0000,9,     87.0,2,  -999.00,9,  -999.00,9,  -999.00,9,  -999.00,9,  -999.00,9, -999.000,9, -999.000,9,  -999.00,9,   -999.0,9,   -999.0,9,-999.0000,9,   -999.0,  9,  -999.00,9,   -999.0,  -999.00,9,  -999.00,9,  -999.00,9,  -999.00,9,   -999.0,-999.0000, -999,9,  497,   7.3421,  27.0128,   -999.0,9
       KE00-04,  137E,KE-1279,  1,      5,02-10371,2,20000520,0939,  3.9558, 136.9910,   -9,    601.2,   6.5336,  34.5332,2,   -999.0,9,-999.0000,9,    110.0,2,  -999.00,9,  -999.00,9,  -999.00,9,  -999.00,9,  -999.00,9, -999.000,9, -999.000,9,  -999.00,9,   -999.0,9,   -999.0,9,-999.0000,9,   -999.0,  9,  -999.00,9,   -999.0,  -999.00,9,  -999.00,9,  -999.00,9,  -999.00,9,   -999.0,-999.0000, -999,9,  597,   6.4782,  27.1217,   -999.0,9
       KE00-04,  137E,KE-1279,  1,      4,02-10730,2,20000520,0936,  3.9558, 136.9910,   -9,    802.8,   5.4471,  34.5376,2,   -999.0,9,-999.0000,9,     90.0,2,  -999.00,9,  -999.00,9,  -999.00,9,  -999.00,9,  -999.00,9, -999.000,9, -999.000,9,  -999.00,9,   -999.0,9,   -999.0,9,-999.0000,9,   -999.0,  9,  -999.00,9,   -999.0,  -999.00,9,  -999.00,9,  -999.00,9,  -999.00,9,   -999.0,-999.0000, -999,9,  797,   5.3786,  27.2641,   -999.0,9
       KE00-04,  137E,KE-1279,  1,      3,02-10722,2,20000520,0932,  3.9558, 136.9910,   -9,   1003.9,   4.4527,  34.5542,2,   -999.0,9,-999.0000,9,     94.0,2,  -999.00,9,  -999.00,9,  -999.00,9,  -999.00,9,  -999.00,9, -999.000,9, -999.000,9,  -999.00,9,   -999.0,9,   -999.0,9,-999.0000,9,   -999.0,  9,  -999.00,9,   -999.0,  -999.00,9,  -999.00,9,  -999.00,9,  -999.00,9,   -999.0,-999.0000, -999,9,  996,   4.3732,  27.3920,   -999.0,9
       KE00-04,  137E,KE-1279,  1,      2,02-10715,2,20000520,0923,  3.9558, 136.9910,   -9,   1510.4,   2.8133,  34.6067,2,   -999.0,9,-999.0000,9,    106.0,2,  -999.00,9,  -999.00,9,  -999.00,9,  -999.00,9,  -999.00,9, -999.000,9, -999.000,9,  -999.00,9,   -999.0,9,   -999.0,9,-999.0000,9,   -999.0,  9,  -999.00,9,   -999.0,  -999.00,9,  -999.00,9,  -999.00,9,  -999.00,9,   -999.0,-999.0000, -999,9, 1497,   2.7067,  27.5975,   -999.0,9
       KE00-04,  137E,KE-1279,  1,      1,02-10716,2,20000520,0915,  3.9558, 136.9910,   -9,   2017.7,   2.1007,  34.6397,2,   -999.0,9,-999.0000,9,    112.0,2,  -999.00,9,  -999.00,9,  -999.00,9,  -999.00,9,  -999.00,9, -999.000,9, -999.000,9,  -999.00,9,   -999.0,9,   -999.0,9,-999.0000,9,   -999.0,  9,  -999.00,9,   -999.0,  -999.00,9,  -999.00,9,  -999.00,9,  -999.00,9,   -999.0,-999.0000, -999,9, 1997,   1.9612,  27.6861,   -999.0,9
       KE00-04,  137E,KE-1280,  1,     -9,      -9,5,20000520,1640,  2.9987, 136.9932,   -9,      0.0,  29.8192,  34.2432,2,   -999.0,9,  34.2581,2,    196.0,2,  -999.00,9,  -999.00,9,     0.07,2,     0.00,2,     0.05,2, -999.000,9, -999.000,9,  -999.00,9,   1900.8,2,   -999.0,9,-999.0000,9,   -999.0,  9,  -999.00,9,   -999.0,  -999.00,9,  -999.00,9,  -999.00,9,  -999.00,9,   -999.0,-999.0000, -999,9,    0,  29.8192,  21.2204,   -999.0,9
       KE00-04,  137E,KE-1280,  1,     12,02-10720,2,20000520,1738,  2.9987, 136.9932,   -9,     51.3,  29.7372,  34.4576,2,   -999.0,9,  34.4612,2,    198.0,2,  -999.00,9,  -999.00,9,     0.00,2,     0.00,2,     0.06,2, -999.000,9, -999.000,9,  -999.00,9,   -999.0,9,   -999.0,9,-999.0000,9,   -999.0,  9,  -999.00,9,   -999.0,  -999.00,9,  -999.00,9,  -999.00,9,  -999.00,9,   -999.0,-999.0000, -999,9,   51,  29.7246,  21.4132,   -999.0,9
       KE00-04,  137E,KE-1280,  1,     11,   B-203,2,20000520,1737,  2.9987, 136.9932,   -9,    100.9,  27.6954,  34.8778,2,   -999.0,9,  34.8534,2,    166.0,2,  -999.00,9,  -999.00,9,     3.08,2,     0.08,2,     0.37,2, -999.000,9, -999.000,9,  -999.00,9,   -999.0,9,   -999.0,9,-999.0000,9,   -999.0,  9,  -999.00,9,   -999.0,  -999.00,9,  -999.00,9,  -999.00,9,  -999.00,9,   -999.0,-999.0000, -999,9,  100,  27.6718,  22.4096,   -999.0,9
       KE00-04,  137E,KE-1280,  1,     10,02-10719,2,20000520,1734,  2.9987, 136.9932,   -9,    200.7,  21.2115,  34.8953,2,   -999.0,9,  34.8952,2,    149.0,2,  -999.00,9,  -999.00,9,     8.98,2,     0.01,2,     0.66,2, -999.000,9, -999.000,9,  -999.00,9,   -999.0,9,   -999.0,9,-999.0000,9,   -999.0,  9,  -999.00,9,   -999.0,  -999.00,9,  -999.00,9,  -999.00,9,  -999.00,9,   -999.0,-999.0000, -999,9,  200,  21.1728,  24.3671,   -999.0,9
       KE00-04,  137E,KE-1280,  1,      9,   B-207,2,20000520,1732,  2.9987, 136.9932,   -9,    300.6,  10.4313,  34.5202,2,   -999.0,9,  34.5279,2,    108.0,2,  -999.00,9,  -999.00,9,    26.04,2,     0.00,2,     1.82,2, -999.000,9, -999.000,9,  -999.00,9,   -999.0,9,   -999.0,9,-999.0000,9,   -999.0,  9,  -999.00,9,   -999.0,  -999.00,9,  -999.00,9,  -999.00,9,  -999.00,9,   -999.0,-999.0000, -999,9,  299,  10.3955,  26.5091,   -999.0,9
       KE00-04,  137E,KE-1280,  1,      8,02-10382,2,20000520,1730,  2.9987, 136.9932,   -9,    401.6,   8.4364,  34.5796,2,   -999.0,9,  34.5769,2,     72.0,2,  -999.00,9,  -999.00,9,    33.78,2,     0.00,2,     2.33,2, -999.000,9, -999.000,9,  -999.00,9,   -999.0,9,   -999.0,9,-999.0000,9,   -999.0,  9,  -999.00,9,   -999.0,  -999.00,9,  -999.00,9,  -999.00,9,  -999.00,9,   -999.0,-999.0000, -999,9,  399,   8.3942,  26.8839,   -999.0,9
       KE00-04,  137E,KE-1280,  1,      7,02-10721,2,20000520,1728,  2.9987, 136.9932,   -9,    501.5,   7.3415,  34.5391,2,   -999.0,9,  34.5366,2,    106.0,2,  -999.00,9,  -999.00,9,    33.57,2,     0.00,2,     2.31,2, -999.000,9, -999.000,9,  -999.00,9,   -999.0,9,   -999.0,9,-999.0000,9,   -999.0,  9,  -999.00,9,   -999.0,  -999.00,9,  -999.00,9,  -999.00,9,  -999.00,9,   -999.0,-999.0000, -999,9,  498,   7.2926,  27.0147,   -999.0,9
       KE00-04,  137E,KE-1280,  1,      6,   B-999,2,20000520,1725,  2.9987, 136.9932,   -9,    601.6,   6.5936,  34.5398,2,   -999.0,9,  34.5377,2,     96.0,2,  -999.00,9,  -999.00,9,    35.19,2,     0.00,2,     2.43,2, -999.000,9, -999.000,9,  -999.00,9,   -999.0,9,   -999.0,9,-999.0000,9,   -999.0,  9,  -999.00,9,   -999.0,  -999.00,9,  -999.00,9,  -999.00,9,  -999.00,9,   -999.0,-999.0000, -999,9,  597,   6.5379,  27.1190,   -999.0,9
       KE00-04,  137E,KE-1280,  1,      5,02-10371,2,20000520,1722,  2.9987, 136.9932,   -9,    802.6,   5.2817,  34.5367,2,   -999.0,9,  34.5360,2,    103.0,2,  -999.00,9,  -999.00,9,    37.59,2,     0.00,2,     2.62,2, -999.000,9, -999.000,9,  -999.00,9,   -999.0,9,   -999.0,9,-999.0000,9,   -999.0,  9,  -999.00,9,   -999.0,  -999.00,9,  -999.00,9,  -999.00,9,  -999.00,9,   -999.0,-999.0000, -999,9,  797,   5.2142,  27.2829,   -999.0,9
       KE00-04,  137E,KE-1280,  1,      4,02-10730,2,20000520,1718,  2.9987, 136.9932,   -9,   1005.3,   4.3719,  34.5530,2,   -999.0,9,  34.5545,2,     93.0,2,  -999.00,9,  -999.00,9,    38.50,2,     0.00,2,     2.70,2, -999.000,9, -999.000,9,  -999.00,9,   -999.0,9,   -999.0,9,-999.0000,9,   -999.0,  9,  -999.00,9,   -999.0,  -999.00,9,  -999.00,9,  -999.00,9,  -999.00,9,   -999.0,-999.0000, -999,9,  997,   4.2929,  27.3997,   -999.0,9
       KE00-04,  137E,KE-1280,  1,      3,02-10722,2,20000520,1711,  2.9987, 136.9932,   -9,   1511.9,   2.7994,  34.6061,2,   -999.0,9,  34.6035,2,    107.0,2,  -999.00,9,  -999.00,9,    38.66,2,     0.00,2,     2.71,2, -999.000,9, -999.000,9,  -999.00,9,   -999.0,9,   -999.0,9,-999.0000,9,   -999.0,  9,  -999.00,9,   -999.0,  -999.00,9,  -999.00,9,  -999.00,9,  -999.00,9,   -999.0,-999.0000, -999,9, 1498,   2.6928,  27.5982,   -999.0,9
       KE00-04,  137E,KE-1280,  1,      2,02-10715,2,20000520,1703,  2.9987, 136.9932,   -9,   2021.7,   2.0501,  34.6427,2,   -999.0,9,  34.6406,2,    124.0,2,  -999.00,9,  -999.00,9,    38.00,2,     0.00,2,     2.61,2, -999.000,9, -999.000,9,  -999.00,9,   -999.0,9,   -999.0,9,-999.0000,9,   -999.0,  9,  -999.00,9,   -999.0,  -999.00,9,  -999.00,9,  -999.00,9,  -999.00,9,   -999.0,-999.0000, -999,9, 2001,   1.9110,  27.6924,   -999.0,9