BOTTLE,20130510GEMDJMAYT
EXPOCODE,SECT_ID,STNNBR,CASTNO,SAMPNO,BTLNBR,BTLNBR_FLAG_W,DATE,TIME,LATITUDE,LONGITUDE,DEPTH,CTDPRS,CTDTMP,CTDSAL,CTDSAL_FLAG_W,CTDOXY,CTDOXY_FLAG_W,SALNTY,SALNTY_FLAG_W,OXYGEN,OXYGEN_FLAG_W,SILCAT,SILCAT_FLAG_W,NITRAT,NITRAT_FLAG_W,NO2+NO3,NO2+NO3_FLAG_W,NITRIT,NITRIT_FLAG_W,PHSPHT,PHSPHT_FLAG_W,CFC-11,CFC-11_FLAG_W,CFC-12,CFC-12_FLAG_W,DELC13,DELC13_FLAG_W,TCARBN,TCARBN_FLAG_W,ALKALI,ALKALI_FLAG_W,PH,PH_FLAG_W,PH_TMP,PH_SCALE,PH_NBS,PH_NBS_FLAG_W,C13ERR,TOTALP,TOTALP_FLAG_W,AMMONI,AMMONI_FLAG_W,CHLORA,CHLORA_FLAG_W,PPHYTN,PPHYTN_FLAG_W,REVPRS,REVTMP,DEPTH_,DEPTH_FLAG,CTDDEP,THETA,SIGTHT,DOC,DOC_FLAG_W
,,,,,,,GMT,GMT,,,METER,DBAR,ITS-90,PSS-78,,UMOL/KG,,PSS-78,,UMOL/KG,,UMOL/KG,,UMOL/KG,,UMOL/KG,,UMOL/KG,,UMOL/KG,,PMOL/KG,,PMOL/KG,,/MILLE,,UMOL/KG,,UMOL/KG,,25_DEG_C,,DEG_C,,,,/MILLE,UMOL/KG,,UMOL/KG,,UG/L,,UG/L,,DBAR,ITS-90,METERS,,METERS,DEG_C,,UMOL/L,
       KE00-04,  137E,KE-1263,  1,     -9,      -9,5,20000515,0932, 19.9950, 136.9833,   -9,      0.0,  24.7918,  34.7243,2,   -999.0,9,  34.7345,2,    215.0,2,  -999.00,9,  -999.00,9,     0.00,2,     0.00,2,     0.00,2, -999.000,9, -999.000,9,  -999.00,9,   1947.8,2,   -999.0,9,-999.0000,9,   -999.0,  9,  -999.00,9,   -999.0,  -999.00,9,  -999.00,9,  -999.00,9,  -999.00,9,   -999.0,-999.0000, -999,9,    0,  24.7918,  23.1959,   -999.0,9
       KE00-04,  137E,KE-1263,  1,     12, 02-9138,2,20000515,1019, 19.9950, 136.9833,   -9,     24.1,  24.1856,  34.7415,2,   -999.0,9,  34.7503,2,    210.0,2,  -999.00,9,  -999.00,9,     0.01,2,     0.00,2,     0.01,2, -999.000,9, -999.000,9,  -999.00,9,   -999.0,9,   -999.0,9,-999.0000,9,   -999.0,  9,  -999.00,9,   -999.0,  -999.00,9,  -999.00,9,  -999.00,9,  -999.00,9,   -999.0,-999.0000, -999,9,   24,  24.1805,  23.3921,   -999.0,9
       KE00-04,  137E,KE-1263,  1,     11, 02-9870,2,20000515,1018, 19.9950, 136.9833,   -9,     50.4,  23.6875,  34.7492,2,   -999.0,9,  34.7548,2,    217.0,2,  -999.00,9,  -999.00,9,     0.00,2,     0.00,2,     0.00,2, -999.000,9, -999.000,9,  -999.00,9,   -999.0,9,   -999.0,9,-999.0000,9,   -999.0,  9,  -999.00,9,   -999.0,  -999.00,9,  -999.00,9,  -999.00,9,  -999.00,9,   -999.0,-999.0000, -999,9,   50,  23.6770,  23.5467,   -999.0,9
       KE00-04,  137E,KE-1263,  1,     10, 02-9139,2,20000515,1016, 19.9950, 136.9833,   -9,     99.2,  21.3514,  34.8619,2,   -999.0,9,  34.8664,2,    221.0,2,  -999.00,9,  -999.00,9,     0.00,2,     0.00,2,     0.00,2, -999.000,9, -999.000,9,  -999.00,9,   -999.0,9,   -999.0,9,-999.0000,9,   -999.0,  9,  -999.00,9,   -999.0,  -999.00,9,  -999.00,9,  -999.00,9,  -999.00,9,   -999.0,-999.0000, -999,9,   99,  21.3322,  24.2981,   -999.0,9
       KE00-04,  137E,KE-1263,  1,      9, 02-8088,2,20000515,1013, 19.9950, 136.9833,   -9,    201.1,  18.4683,  34.7973,2,   -999.0,9,  34.8043,2,    201.0,2,  -999.00,9,  -999.00,9,     4.02,2,     0.01,2,     0.24,2, -999.000,9, -999.000,9,  -999.00,9,   -999.0,9,   -999.0,9,-999.0000,9,   -999.0,  9,  -999.00,9,   -999.0,  -999.00,9,  -999.00,9,  -999.00,9,  -999.00,9,   -999.0,-999.0000, -999,9,  200,  18.4331,  25.0094,   -999.0,9
       KE00-04,  137E,KE-1263,  1,      8, 02-9137,2,20000515,1010, 19.9950, 136.9833,   -9,    301.9,  16.2389,  34.7112,2,   -999.0,9,  34.7135,2,    193.0,2,  -999.00,9,  -999.00,9,     8.00,2,     0.00,2,     0.50,2, -999.000,9, -999.000,9,  -999.00,9,   -999.0,9,   -999.0,9,-999.0000,9,   -999.0,  9,  -999.00,9,   -999.0,  -999.00,9,  -999.00,9,  -999.00,9,  -999.00,9,   -999.0,-999.0000, -999,9,  300,  16.1906,  25.4817,   -999.0,9
       KE00-04,  137E,KE-1263,  1,      7, 02-6219,2,20000515,1006, 19.9950, 136.9833,   -9,    400.7,  12.3787,  34.4087,2,   -999.0,9,  34.3909,2,    181.0,2,  -999.00,9,  -999.00,9,    15.56,2,     0.00,2,     1.03,2, -999.000,9, -999.000,9,  -999.00,9,   -999.0,9,   -999.0,9,-999.0000,9,   -999.0,  9,  -999.00,9,   -999.0,  -999.00,9,  -999.00,9,  -999.00,9,  -999.00,9,   -999.0,-999.0000, -999,9,  398,  12.3252,  26.0675,   -999.0,9
       KE00-04,  137E,KE-1263,  1,      6, 02-8080,2,20000515,1003, 19.9950, 136.9833,   -9,    500.3,   9.3078,  34.2201,2,   -999.0,9,  34.2152,2,    149.0,2,  -999.00,9,  -999.00,9,    23.63,2,     0.00,2,     1.63,2, -999.000,9, -999.000,9,  -999.00,9,   -999.0,9,   -999.0,9,-999.0000,9,   -999.0,  9,  -999.00,9,   -999.0,  -999.00,9,  -999.00,9,  -999.00,9,  -999.00,9,   -999.0,-999.0000, -999,9,  497,   9.2520,  26.4670,   -999.0,9
       KE00-04,  137E,KE-1263,  1,      5, 02-9145,2,20000515,0959, 19.9950, 136.9833,   -9,    601.9,   7.0432,  34.1411,2,   -999.0,9,  34.1510,2,    117.0,2,  -999.00,9,  -999.00,9,    30.47,2,     0.00,2,     2.12,2, -999.000,9, -999.000,9,  -999.00,9,   -999.0,9,   -999.0,9,-999.0000,9,   -999.0,  9,  -999.00,9,   -999.0,  -999.00,9,  -999.00,9,  -999.00,9,  -999.00,9,   -999.0,-999.0000, -999,9,  597,   6.9858,  26.7441,   -999.0,9
       KE00-04,  137E,KE-1263,  1,      4, 02-9134,2,20000515,0953, 19.9950, 136.9833,   -9,    803.2,   4.8642,  34.3289,2,   -999.0,9,  34.3325,2,     63.0,2,  -999.00,9,  -999.00,9,    38.85,2,     0.00,2,     2.75,2, -999.000,9, -999.000,9,  -999.00,9,   -999.0,9,   -999.0,9,-999.0000,9,   -999.0,  9,  -999.00,9,   -999.0,  -999.00,9,  -999.00,9,  -999.00,9,  -999.00,9,   -999.0,-999.0000, -999,9,  797,   4.7995,  27.1660,   -999.0,9
       KE00-04,  137E,KE-1263,  1,      3, 02-9143,2,20000515,0948, 19.9950, 136.9833,   -9,   1005.4,   3.9263,  34.4518,2,   -999.0,9,  34.4499,2,     70.0,2,  -999.00,9,  -999.00,9,    39.65,2,     0.00,2,     2.78,2, -999.000,9, -999.000,9,  -999.00,9,   -999.0,9,   -999.0,9,-999.0000,9,   -999.0,  9,  -999.00,9,   -999.0,  -999.00,9,  -999.00,9,  -999.00,9,  -999.00,9,   -999.0,-999.0000, -999,9,  997,   3.8509,  27.3654,   -999.0,9
       KE00-04,  137E,KE-1263,  1,      2, 02-9135,2,20000515,0937, 19.9950, 136.9833,   -9,   1510.7,   2.6812,  34.5650,2,   -999.0,9,  34.5671,2,     97.0,2,  -999.00,9,  -999.00,9,    38.93,2,     0.00,2,     2.68,2, -999.000,9, -999.000,9,  -999.00,9,   -999.0,9,   -999.0,9,-999.0000,9,   -999.0,  9,  -999.00,9,   -999.0,  -999.00,9,  -999.00,9,  -999.00,9,  -999.00,9,   -999.0,-999.0000, -999,9, 1496,   2.5762,  27.5755,   -999.0,9
       KE00-04,  137E,KE-1263,  1,      1, 02-6220,2,20000515,0928, 19.9950, 136.9833,   -9,   2015.1,   2.1369,  34.6166,2,   -999.0,9,  34.6153,2,    116.0,2,  -999.00,9,  -999.00,9,    38.30,2,     0.00,2,     2.61,2, -999.000,9, -999.000,9,  -999.00,9,   -999.0,9,   -999.0,9,-999.0000,9,   -999.0,  9,  -999.00,9,   -999.0,  -999.00,9,  -999.00,9,  -999.00,9,  -999.00,9,   -999.0,-999.0000, -999,9, 1993,   1.9972,  27.6647,   -999.0,9
       KE00-04,  137E,KE-1264,  1,     -9,      -9,5,20000515,1720, 18.9983, 136.9988,   -9,      0.0,  28.1833,  34.8408,2,   -999.0,9,-999.0000,9,    203.0,2,  -999.00,9,  -999.00,9,  -999.00,9,  -999.00,9,  -999.00,9, -999.000,9, -999.000,9,  -999.00,9,   1932.5,2,   -999.0,9,-999.0000,9,   -999.0,  9,  -999.00,9,   -999.0,  -999.00,9,  -999.00,9,  -999.00,9,  -999.00,9,   -999.0,-999.0000, -999,9,    0,  28.1833,  22.2149,   -999.0,9
       KE00-04,  137E,KE-1264,  1,     12, 02-9138,2,20000515,1818, 18.9983, 136.9988,   -9,     25.9,  28.0938,  34.8419,2,   -999.0,9,-999.0000,9,    203.0,2,  -999.00,9,  -999.00,9,  -999.00,9,  -999.00,9,  -999.00,9, -999.000,9, -999.000,9,  -999.00,9,   -999.0,9,   -999.0,9,-999.0000,9,   -999.0,  9,  -999.00,9,   -999.0,  -999.00,9,  -999.00,9,  -999.00,9,  -999.00,9,   -999.0,-999.0000, -999,9,   26,  28.0877,  22.2471,   -999.0,9
       KE00-04,  137E,KE-1264,  1,     11, 02-9870,2,20000515,1817, 18.9983, 136.9988,   -9,     51.0,  27.9971,  34.8429,2,   -999.0,9,-999.0000,9,    204.0,2,  -999.00,9,  -999.00,9,  -999.00,9,  -999.00,9,  -999.00,9, -999.000,9, -999.000,9,  -999.00,9,   -999.0,9,   -999.0,9,-999.0000,9,   -999.0,  9,  -999.00,9,   -999.0,  -999.00,9,  -999.00,9,  -999.00,9,  -999.00,9,   -999.0,-999.0000, -999,9,   51,  27.9851,  22.2814,   -999.0,9
       KE00-04,  137E,KE-1264,  1,     10, 02-9139,2,20000515,1815, 18.9983, 136.9988,   -9,    101.0,  25.9979,  34.9476,2,   -999.0,9,-999.0000,9,    207.0,2,  -999.00,9,  -999.00,9,  -999.00,9,  -999.00,9,  -999.00,9, -999.000,9, -999.000,9,  -999.00,9,   -999.0,9,   -999.0,9,-999.0000,9,   -999.0,  9,  -999.00,9,   -999.0,  -999.00,9,  -999.00,9,  -999.00,9,  -999.00,9,   -999.0,-999.0000, -999,9,  100,  25.9754,  23.0015,   -999.0,9
       KE00-04,  137E,KE-1264,  1,      9, 02-8088,2,20000515,1812, 18.9983, 136.9988,   -9,    200.7,  21.3705,  34.9263,2,   -999.0,9,-999.0000,9,    200.0,2,  -999.00,9,  -999.00,9,  -999.00,9,  -999.00,9,  -999.00,9, -999.000,9, -999.000,9,  -999.00,9,   -999.0,9,   -999.0,9,-999.0000,9,   -999.0,  9,  -999.00,9,   -999.0,  -999.00,9,  -999.00,9,  -999.00,9,  -999.00,9,   -999.0,-999.0000, -999,9,  199,  21.3316,  24.3472,   -999.0,9
       KE00-04,  137E,KE-1264,  1,      8, 02-9137,2,20000515,1810, 18.9983, 136.9988,   -9,    301.4,  17.0327,  34.7749,2,   -999.0,9,-999.0000,9,    200.0,2,  -999.00,9,  -999.00,9,  -999.00,9,  -999.00,9,  -999.00,9, -999.000,9, -999.000,9,  -999.00,9,   -999.0,9,   -999.0,9,-999.0000,9,   -999.0,  9,  -999.00,9,   -999.0,  -999.00,9,  -999.00,9,  -999.00,9,  -999.00,9,   -999.0,-999.0000, -999,9,  299,  16.9828,  25.3455,   -999.0,9
       KE00-04,  137E,KE-1264,  1,      7, 02-6219,2,20000515,1808, 18.9983, 136.9988,   -9,    400.8,  12.7942,  34.4288,2,   -999.0,9,-999.0000,9,    179.0,2,  -999.00,9,  -999.00,9,  -999.00,9,  -999.00,9,  -999.00,9, -999.000,9, -999.000,9,  -999.00,9,   -999.0,9,   -999.0,9,-999.0000,9,   -999.0,  9,  -999.00,9,   -999.0,  -999.00,9,  -999.00,9,  -999.00,9,  -999.00,9,   -999.0,-999.0000, -999,9,  398,  12.7396,  26.0021,   -999.0,9
       KE00-04,  137E,KE-1264,  1,      6, 02-8080,2,20000515,1805, 18.9983, 136.9988,   -9,    501.2,   9.5298,  34.2287,2,   -999.0,9,-999.0000,9,    149.0,2,  -999.00,9,  -999.00,9,  -999.00,9,  -999.00,9,  -999.00,9, -999.000,9, -999.000,9,  -999.00,9,   -999.0,9,   -999.0,9,-999.0000,9,   -999.0,  9,  -999.00,9,   -999.0,  -999.00,9,  -999.00,9,  -999.00,9,  -999.00,9,   -999.0,-999.0000, -999,9,  498,   9.4730,  26.4376,   -999.0,9
       KE00-04,  137E,KE-1264,  1,      5, 02-9145,2,20000515,1803, 18.9983, 136.9988,   -9,    602.6,   7.0426,  34.2082,2,   -999.0,9,-999.0000,9,     92.0,2,  -999.00,9,  -999.00,9,  -999.00,9,  -999.00,9,  -999.00,9, -999.000,9, -999.000,9,  -999.00,9,   -999.0,9,   -999.0,9,-999.0000,9,   -999.0,  9,  -999.00,9,   -999.0,  -999.00,9,  -999.00,9,  -999.00,9,  -999.00,9,   -999.0,-999.0000, -999,9,  598,   6.9850,  26.7971,   -999.0,9
       KE00-04,  137E,KE-1264,  1,      4, 02-9134,2,20000515,1800, 18.9983, 136.9988,   -9,    804.6,   5.2215,  34.3675,2,   -999.0,9,-999.0000,9,     68.0,2,  -999.00,9,  -999.00,9,  -999.00,9,  -999.00,9,  -999.00,9, -999.000,9, -999.000,9,  -999.00,9,   -999.0,9,   -999.0,9,-999.0000,9,   -999.0,  9,  -999.00,9,   -999.0,  -999.00,9,  -999.00,9,  -999.00,9,  -999.00,9,   -999.0,-999.0000, -999,9,  798,   5.1545,  27.1558,   -999.0,9
       KE00-04,  137E,KE-1264,  1,      3, 02-9143,2,20000515,1756, 18.9983, 136.9988,   -9,   1007.3,   4.1172,  34.4774,2,   -999.0,9,-999.0000,9,     77.0,2,  -999.00,9,  -999.00,9,  -999.00,9,  -999.00,9,  -999.00,9, -999.000,9, -999.000,9,  -999.00,9,   -999.0,9,   -999.0,9,-999.0000,9,   -999.0,  9,  -999.00,9,   -999.0,  -999.00,9,  -999.00,9,  -999.00,9,  -999.00,9,   -999.0,-999.0000, -999,9,  999,   4.0401,  27.3662,   -999.0,9
       KE00-04,  137E,KE-1264,  1,      2, 02-9135,2,20000515,1748, 18.9983, 136.9988,   -9,   1512.8,   2.6074,  34.5793,2,   -999.0,9,-999.0000,9,     99.0,2,  -999.00,9,  -999.00,9,  -999.00,9,  -999.00,9,  -999.00,9, -999.000,9, -999.000,9,  -999.00,9,   -999.0,9,   -999.0,9,-999.0000,9,   -999.0,  9,  -999.00,9,   -999.0,  -999.00,9,  -999.00,9,  -999.00,9,  -999.00,9,   -999.0,-999.0000, -999,9, 1498,   2.5031,  27.5933,   -999.0,9
       KE00-04,  137E,KE-1264,  1,      1, 02-6220,2,20000515,1740, 18.9983, 136.9988,   -9,   2023.8,   2.0981,  34.6211,2,   -999.0,9,-999.0000,9,    116.0,2,  -999.00,9,  -999.00,9,  -999.00,9,  -999.00,9,  -999.00,9, -999.000,9, -999.000,9,  -999.00,9,   -999.0,9,   -999.0,9,-999.0000,9,   -999.0,  9,  -999.00,9,   -999.0,  -999.00,9,  -999.00,9,  -999.00,9,  -999.00,9,   -999.0,-999.0000, -999,9, 2002,   1.9582,  27.6714,   -999.0,9
       KE00-04,  137E,KE-1265,  1,     -9,      -9,5,20000516,0140, 18.0080, 136.9895,   -9,      0.0,  28.4713,  34.8076,2,   -999.0,9,-999.0000,9,    202.0,2,  -999.00,9,  -999.00,9,  -999.00,9,  -999.00,9,  -999.00,9, -999.000,9, -999.000,9,  -999.00,9,   1933.3,2,   -999.0,9,-999.0000,9,   -999.0,  9,  -999.00,9,   -999.0,  -999.00,9,  -999.00,9,  -999.00,9,  -999.00,9,   -999.0,-999.0000, -999,9,    0,  28.4713,  22.0952,   -999.0,9
       KE00-04,  137E,KE-1265,  1,     12, 02-9138,2,20000516,0241, 18.0080, 136.9895,   -9,     24.8,  27.8998,  34.8027,2,   -999.0,9,-999.0000,9,    206.0,2,  -999.00,9,  -999.00,9,  -999.00,9,  -999.00,9,  -999.00,9, -999.000,9, -999.000,9,  -999.00,9,   -999.0,9,   -999.0,9,-999.0000,9,   -999.0,  9,  -999.00,9,   -999.0,  -999.00,9,  -999.00,9,  -999.00,9,  -999.00,9,   -999.0,-999.0000, -999,9,   25,  27.8939,  22.2808,   -999.0,9
       KE00-04,  137E,KE-1265,  1,     11, 02-9870,2,20000516,0240, 18.0080, 136.9895,   -9,     49.4,  27.5832,  34.8252,2,   -999.0,9,-999.0000,9,    207.0,2,  -999.00,9,  -999.00,9,  -999.00,9,  -999.00,9,  -999.00,9, -999.000,9, -999.000,9,  -999.00,9,   -999.0,9,   -999.0,9,-999.0000,9,   -999.0,  9,  -999.00,9,   -999.0,  -999.00,9,  -999.00,9,  -999.00,9,  -999.00,9,   -999.0,-999.0000, -999,9,   49,  27.5717,  22.4024,   -999.0,9
       KE00-04,  137E,KE-1265,  1,     10, 02-9139,2,20000516,0238, 18.0080, 136.9895,   -9,     99.6,  25.2298,  34.9061,2,   -999.0,9,-999.0000,9,    210.0,2,  -999.00,9,  -999.00,9,  -999.00,9,  -999.00,9,  -999.00,9, -999.000,9, -999.000,9,  -999.00,9,   -999.0,9,   -999.0,9,-999.0000,9,   -999.0,  9,  -999.00,9,   -999.0,  -999.00,9,  -999.00,9,  -999.00,9,  -999.00,9,   -999.0,-999.0000, -999,9,   99,  25.2081,  23.2069,   -999.0,9
       KE00-04,  137E,KE-1265,  1,      9, 02-8088,2,20000516,0236, 18.0080, 136.9895,   -9,    202.2,  19.7193,  34.8790,2,   -999.0,9,-999.0000,9,    195.0,2,  -999.00,9,  -999.00,9,  -999.00,9,  -999.00,9,  -999.00,9, -999.000,9, -999.000,9,  -999.00,9,   -999.0,9,   -999.0,9,-999.0000,9,   -999.0,  9,  -999.00,9,   -999.0,  -999.00,9,  -999.00,9,  -999.00,9,  -999.00,9,   -999.0,-999.0000, -999,9,  201,  19.6823,  24.7527,   -999.0,9
       KE00-04,  137E,KE-1265,  1,      8, 02-9137,2,20000516,0234, 18.0080, 136.9895,   -9,    299.3,  16.5863,  34.7408,2,   -999.0,9,-999.0000,9,    200.0,2,  -999.00,9,  -999.00,9,  -999.00,9,  -999.00,9,  -999.00,9, -999.000,9, -999.000,9,  -999.00,9,   -999.0,9,   -999.0,9,-999.0000,9,   -999.0,  9,  -999.00,9,   -999.0,  -999.00,9,  -999.00,9,  -999.00,9,  -999.00,9,   -999.0,-999.0000, -999,9,  297,  16.5377,  25.4241,   -999.0,9
       KE00-04,  137E,KE-1265,  1,      7, 02-6219,2,20000516,0231, 18.0080, 136.9895,   -9,    399.1,  12.0062,  34.3573,2,   -999.0,9,-999.0000,9,   -999.0,4,  -999.00,9,  -999.00,9,  -999.00,9,  -999.00,9,  -999.00,9, -999.000,9, -999.000,9,  -999.00,9,   -999.0,9,   -999.0,9,-999.0000,9,   -999.0,  9,  -999.00,9,   -999.0,  -999.00,9,  -999.00,9,  -999.00,9,  -999.00,9,   -999.0,-999.0000, -999,9,  396,  11.9540,  26.0987,   -999.0,9
       KE00-04,  137E,KE-1265,  1,      6, 02-8080,2,20000516,0229, 18.0080, 136.9895,   -9,    500.1,   9.3690,  34.2600,2,   -999.0,9,-999.0000,9,    123.0,2,  -999.00,9,  -999.00,9,  -999.00,9,  -999.00,9,  -999.00,9, -999.000,9, -999.000,9,  -999.00,9,   -999.0,9,   -999.0,9,-999.0000,9,   -999.0,  9,  -999.00,9,   -999.0,  -999.00,9,  -999.00,9,  -999.00,9,  -999.00,9,   -999.0,-999.0000, -999,9,  496,   9.3129,  26.4882,   -999.0,9
       KE00-04,  137E,KE-1265,  1,      5, 02-9145,2,20000516,0226, 18.0080, 136.9895,   -9,    600.7,   6.9724,  34.3176,2,   -999.0,9,-999.0000,9,     72.0,2,  -999.00,9,  -999.00,9,  -999.00,9,  -999.00,9,  -999.00,9, -999.000,9, -999.000,9,  -999.00,9,   -999.0,9,   -999.0,9,-999.0000,9,   -999.0,  9,  -999.00,9,   -999.0,  -999.00,9,  -999.00,9,  -999.00,9,  -999.00,9,   -999.0,-999.0000, -999,9,  596,   6.9152,  26.8929,   -999.0,9
       KE00-04,  137E,KE-1265,  1,      4, 02-9134,2,20000516,0222, 18.0080, 136.9895,   -9,    802.0,   5.1410,  34.4388,2,   -999.0,9,-999.0000,9,     75.0,2,  -999.00,9,  -999.00,9,  -999.00,9,  -999.00,9,  -999.00,9, -999.000,9, -999.000,9,  -999.00,9,   -999.0,9,   -999.0,9,-999.0000,9,   -999.0,  9,  -999.00,9,   -999.0,  -999.00,9,  -999.00,9,  -999.00,9,  -999.00,9,   -999.0,-999.0000, -999,9,  796,   5.0746,  27.2217,   -999.0,9
       KE00-04,  137E,KE-1265,  1,      3, 02-9143,2,20000516,0218, 18.0080, 136.9895,   -9,   1004.4,   4.0846,  34.4754,2,   -999.0,9,-999.0000,9,     77.0,2,  -999.00,9,  -999.00,9,  -999.00,9,  -999.00,9,  -999.00,9, -999.000,9, -999.000,9,  -999.00,9,   -999.0,9,   -999.0,9,-999.0000,9,   -999.0,  9,  -999.00,9,   -999.0,  -999.00,9,  -999.00,9,  -999.00,9,  -999.00,9,   -999.0,-999.0000, -999,9,  996,   4.0080,  27.3680,   -999.0,9
       KE00-04,  137E,KE-1265,  1,      2, 02-9135,2,20000516,0209, 18.0080, 136.9895,   -9,   1511.2,   2.7754,  34.5800,2,   -999.0,9,-999.0000,9,    103.0,2,  -999.00,9,  -999.00,9,  -999.00,9,  -999.00,9,  -999.00,9, -999.000,9, -999.000,9,  -999.00,9,   -999.0,9,   -999.0,9,-999.0000,9,   -999.0,  9,  -999.00,9,   -999.0,  -999.00,9,  -999.00,9,  -999.00,9,  -999.00,9,   -999.0,-999.0000, -999,9, 1497,   2.6692,  27.5795,   -999.0,9
       KE00-04,  137E,KE-1265,  1,      1, 02-6220,2,20000516,0201, 18.0080, 136.9895,   -9,   2018.7,   2.1457,  34.6194,2,   -999.0,9,-999.0000,9,    115.0,2,  -999.00,9,  -999.00,9,  -999.00,9,  -999.00,9,  -999.00,9, -999.000,9, -999.000,9,  -999.00,9,   -999.0,9,   -999.0,9,-999.0000,9,   -999.0,  9,  -999.00,9,   -999.0,  -999.00,9,  -999.00,9,  -999.00,9,  -999.00,9,   -999.0,-999.0000, -999,9, 1997,   2.0055,  27.6663,   -999.0,9