BOTTLE,20130510GEMDJMAYT
EXPOCODE,SECT_ID,STNNBR,CASTNO,SAMPNO,BTLNBR,BTLNBR_FLAG_W,DATE,TIME,LATITUDE,LONGITUDE,DEPTH,CTDPRS,CTDTMP,CTDSAL,CTDSAL_FLAG_W,CTDOXY,CTDOXY_FLAG_W,SALNTY,SALNTY_FLAG_W,OXYGEN,OXYGEN_FLAG_W,SILCAT,SILCAT_FLAG_W,NITRAT,NITRAT_FLAG_W,NO2+NO3,NO2+NO3_FLAG_W,NITRIT,NITRIT_FLAG_W,PHSPHT,PHSPHT_FLAG_W,CFC-11,CFC-11_FLAG_W,CFC-12,CFC-12_FLAG_W,DELC13,DELC13_FLAG_W,TCARBN,TCARBN_FLAG_W,ALKALI,ALKALI_FLAG_W,PH,PH_FLAG_W,PH_TMP,PH_SCALE,PH_NBS,PH_NBS_FLAG_W,C13ERR,TOTALP,TOTALP_FLAG_W,AMMONI,AMMONI_FLAG_W,CHLORA,CHLORA_FLAG_W,PPHYTN,PPHYTN_FLAG_W,REVPRS,REVTMP,DEPTH_,DEPTH_FLAG,CTDDEP,THETA,SIGTHT,DOC,DOC_FLAG_W
,,,,,,,GMT,GMT,,,METER,DBAR,ITS-90,PSS-78,,UMOL/KG,,PSS-78,,UMOL/KG,,UMOL/KG,,UMOL/KG,,UMOL/KG,,UMOL/KG,,UMOL/KG,,PMOL/KG,,PMOL/KG,,/MILLE,,UMOL/KG,,UMOL/KG,,25_DEG_C,,DEG_C,,,,/MILLE,UMOL/KG,,UMOL/KG,,UG/L,,UG/L,,DBAR,ITS-90,METERS,,METERS,DEG_C,,UMOL/L,
       KE00-04,  137E,KE-1281,  1,     12,02-10720,2,20000521,0222,  3.0122, 136.8472,   -9,   3012.2,   1.5706,  34.6778,2,   -999.0,9,-999.0000,9,   -999.0,9,  -999.00,9,  -999.00,9,  -999.00,9,  -999.00,9,  -999.00,9, -999.000,9, -999.000,9,  -999.00,9,   -999.0,9,   -999.0,9,-999.0000,9,   -999.0,  9,  -999.00,9,   -999.0,  -999.00,9,  -999.00,9,  -999.00,9,  -999.00,9,   -999.0,-999.0000, -999,9, 2974,   1.3511,  27.7623,   -999.0,9
       KE00-04,  137E,KE-1281,  1,     11,   B-203,2,20000521,0221,  3.0122, 136.8472,   -9,   3013.9,   1.5705,  34.6772,2,   -999.0,9,-999.0000,9,   -999.0,9,  -999.00,9,  -999.00,9,  -999.00,9,  -999.00,9,  -999.00,9, -999.000,9, -999.000,9,  -999.00,9,   -999.0,9,   -999.0,9,-999.0000,9,   -999.0,  9,  -999.00,9,   -999.0,  -999.00,9,  -999.00,9,  -999.00,9,  -999.00,9,   -999.0,-999.0000, -999,9, 2976,   1.3508,  27.7618,   -999.0,9
       KE00-04,  137E,KE-1281,  1,     10,02-10719,2,20000521,0221,  3.0122, 136.8472,   -9,   3015.9,   1.5705,  34.6774,2,   -999.0,9,-999.0000,9,   -999.0,9,  -999.00,9,  -999.00,9,  -999.00,9,  -999.00,9,  -999.00,9, -999.000,9, -999.000,9,  -999.00,9,   -999.0,9,   -999.0,9,-999.0000,9,   -999.0,  9,  -999.00,9,   -999.0,  -999.00,9,  -999.00,9,  -999.00,9,  -999.00,9,   -999.0,-999.0000, -999,9, 2978,   1.3506,  27.7621,   -999.0,9
       KE00-04,  137E,KE-1281,  1,      9,   B-207,2,20000521,0220,  3.0122, 136.8472,   -9,   3019.1,   1.5709,  34.6780,2,   -999.0,9,-999.0000,9,   -999.0,9,  -999.00,9,  -999.00,9,  -999.00,9,  -999.00,9,  -999.00,9, -999.000,9, -999.000,9,  -999.00,9,   -999.0,9,   -999.0,9,-999.0000,9,   -999.0,  9,  -999.00,9,   -999.0,  -999.00,9,  -999.00,9,  -999.00,9,  -999.00,9,   -999.0,-999.0000, -999,9, 2981,   1.3507,  27.7625,   -999.0,9
       KE00-04,  137E,KE-1281,  1,      8,02-10382,2,20000521,0219,  3.0122, 136.8472,   -9,   3022.0,   1.5712,  34.6775,2,   -999.0,9,-999.0000,9,   -999.0,9,  -999.00,9,  -999.00,9,  -999.00,9,  -999.00,9,  -999.00,9, -999.000,9, -999.000,9,  -999.00,9,   -999.0,9,   -999.0,9,-999.0000,9,   -999.0,  9,  -999.00,9,   -999.0,  -999.00,9,  -999.00,9,  -999.00,9,  -999.00,9,   -999.0,-999.0000, -999,9, 2984,   1.3507,  27.7621,   -999.0,9
       KE00-04,  137E,KE-1281,  1,      7,02-10721,2,20000521,0218,  3.0122, 136.8472,   -9,   3024.2,   1.5709,  34.6772,2,   -999.0,9,-999.0000,9,   -999.0,9,  -999.00,9,  -999.00,9,  -999.00,9,  -999.00,9,  -999.00,9, -999.000,9, -999.000,9,  -999.00,9,   -999.0,9,   -999.0,9,-999.0000,9,   -999.0,  9,  -999.00,9,   -999.0,  -999.00,9,  -999.00,9,  -999.00,9,  -999.00,9,   -999.0,-999.0000, -999,9, 2986,   1.3502,  27.7619,   -999.0,9
       KE00-04,  137E,KE-1281,  1,      6,   B-999,2,20000521,0217,  3.0122, 136.8472,   -9,   3027.7,   1.5714,  34.6772,2,   -999.0,9,-999.0000,9,   -999.0,9,  -999.00,9,  -999.00,9,  -999.00,9,  -999.00,9,  -999.00,9, -999.000,9, -999.000,9,  -999.00,9,   -999.0,9,   -999.0,9,-999.0000,9,   -999.0,  9,  -999.00,9,   -999.0,  -999.00,9,  -999.00,9,  -999.00,9,  -999.00,9,   -999.0,-999.0000, -999,9, 2990,   1.3504,  27.7619,   -999.0,9
       KE00-04,  137E,KE-1281,  1,      5,02-10371,2,20000521,0217,  3.0122, 136.8472,   -9,   3030.5,   1.5718,  34.6767,2,   -999.0,9,-999.0000,9,   -999.0,9,  -999.00,9,  -999.00,9,  -999.00,9,  -999.00,9,  -999.00,9, -999.000,9, -999.000,9,  -999.00,9,   -999.0,9,   -999.0,9,-999.0000,9,   -999.0,  9,  -999.00,9,   -999.0,  -999.00,9,  -999.00,9,  -999.00,9,  -999.00,9,   -999.0,-999.0000, -999,9, 2992,   1.3505,  27.7615,   -999.0,9
       KE00-04,  137E,KE-1281,  1,      4,02-10730,2,20000521,0216,  3.0122, 136.8472,   -9,   3032.7,   1.5716,  34.6772,2,   -999.0,9,-999.0000,9,   -999.0,9,  -999.00,9,  -999.00,9,  -999.00,9,  -999.00,9,  -999.00,9, -999.000,9, -999.000,9,  -999.00,9,   -999.0,9,   -999.0,9,-999.0000,9,   -999.0,  9,  -999.00,9,   -999.0,  -999.00,9,  -999.00,9,  -999.00,9,  -999.00,9,   -999.0,-999.0000, -999,9, 2994,   1.3501,  27.7619,   -999.0,9
       KE00-04,  137E,KE-1281,  1,      3,02-10722,2,20000521,0215,  3.0122, 136.8472,   -9,   3034.8,   1.5715,  34.6775,2,   -999.0,9,-999.0000,9,   -999.0,9,  -999.00,9,  -999.00,9,  -999.00,9,  -999.00,9,  -999.00,9, -999.000,9, -999.000,9,  -999.00,9,   -999.0,9,   -999.0,9,-999.0000,9,   -999.0,  9,  -999.00,9,   -999.0,  -999.00,9,  -999.00,9,  -999.00,9,  -999.00,9,   -999.0,-999.0000, -999,9, 2996,   1.3498,  27.7622,   -999.0,9
       KE00-04,  137E,KE-1281,  1,      2,02-10715,2,20000521,0215,  3.0122, 136.8472,   -9,   3037.4,   1.5714,  34.6776,2,   -999.0,9,-999.0000,9,   -999.0,9,  -999.00,9,  -999.00,9,  -999.00,9,  -999.00,9,  -999.00,9, -999.000,9, -999.000,9,  -999.00,9,   -999.0,9,   -999.0,9,-999.0000,9,   -999.0,  9,  -999.00,9,   -999.0,  -999.00,9,  -999.00,9,  -999.00,9,  -999.00,9,   -999.0,-999.0000, -999,9, 2999,   1.3494,  27.7623,   -999.0,9
       KE00-04,  137E,KE-1281,  1,      1,02-10716,2,20000521,0214,  3.0122, 136.8472,   -9,   3040.8,   1.5695,  34.6773,2,   -999.0,9,-999.0000,9,   -999.0,9,  -999.00,9,  -999.00,9,  -999.00,9,  -999.00,9,  -999.00,9, -999.000,9, -999.000,9,  -999.00,9,   -999.0,9,   -999.0,9,-999.0000,9,   -999.0,  9,  -999.00,9,   -999.0,  -999.00,9,  -999.00,9,  -999.00,9,  -999.00,9,   -999.0,-999.0000, -999,9, 3002,   1.3473,  27.7622,   -999.0,9
       KE00-04,  NONE,KE-1282,  1,     -9,      -9,5,20000601,1010, 26.0022, 135.2485,   -9,      0.0,  24.9236,  34.6855,2,   -999.0,9,  34.7422,2,    216.0,2,  -999.00,9,  -999.00,9,     0.15,2,     0.00,2,     0.02,2, -999.000,9, -999.000,9,  -999.00,9,   1955.8,2,   -999.0,9,-999.0000,9,   -999.0,  9,  -999.00,9,   -999.0,  -999.00,9,  -999.00,9,  -999.00,9,  -999.00,9,   -999.0,-999.0000, -999,9,    0,  24.9236,  23.1267,   -999.0,9
       KE00-04,  NONE,KE-1282,  1,     12,02-10720,2,20000601,1045, 26.0022, 135.2485,   -9,     10.1,  23.2783,  34.7853,2,   -999.0,9,  34.7827,2,    222.0,2,  -999.00,9,  -999.00,9,     0.07,2,     0.00,2,     0.00,2, -999.000,9, -999.000,9,  -999.00,9,   1958.8,2,   -999.0,9,-999.0000,9,   -999.0,  9,  -999.00,9,   -999.0,  -999.00,9,  -999.00,9,  -999.00,9,  -999.00,9,   -999.0,-999.0000, -999,9,   10,  23.2762,  23.6909,   -999.0,9
       KE00-04,  NONE,KE-1282,  1,     11,   B-203,2,20000601,1044, 26.0022, 135.2485,   -9,     25.3,  22.4516,  34.7543,2,   -999.0,9,  34.7534,2,    227.0,2,  -999.00,9,  -999.00,9,     0.01,2,     0.00,2,     0.00,2, -999.000,9, -999.000,9,  -999.00,9,   1961.4,2,   -999.0,9,-999.0000,9,   -999.0,  9,  -999.00,9,   -999.0,  -999.00,9,  -999.00,9,  -999.00,9,  -999.00,9,   -999.0,-999.0000, -999,9,   25,  22.4465,  23.9054,   -999.0,9
       KE00-04,  NONE,KE-1282,  1,     10,02-10719,2,20000601,1043, 26.0022, 135.2485,   -9,     50.4,  21.6236,  34.7607,2,   -999.0,9,  34.7577,2,   -999.0,4,  -999.00,9,  -999.00,9,     0.00,2,     0.00,2,     0.00,2, -999.000,9, -999.000,9,  -999.00,9,   1965.0,2,   -999.0,9,-999.0000,9,   -999.0,  9,  -999.00,9,   -999.0,  -999.00,9,  -999.00,9,  -999.00,9,  -999.00,9,   -999.0,-999.0000, -999,9,   50,  21.6138,  24.1434,   -999.0,9
       KE00-04,  NONE,KE-1282,  1,      9,   B-207,2,20000601,1042, 26.0022, 135.2485,   -9,     75.5,  20.3654,  34.7893,2,   -999.0,9,  34.7855,2,    230.0,2,  -999.00,9,  -999.00,9,     0.02,2,     0.00,2,     0.02,2, -999.000,9, -999.000,9,  -999.00,9,   1969.8,2,   -999.0,9,-999.0000,9,   -999.0,  9,  -999.00,9,   -999.0,  -999.00,9,  -999.00,9,  -999.00,9,  -999.00,9,   -999.0,-999.0000, -999,9,   75,  20.3513,  24.5080,   -999.0,9
       KE00-04,  NONE,KE-1282,  1,      8,02-10382,2,20000601,1041, 26.0022, 135.2485,   -9,    101.0,  19.6645,  34.7967,2,   -999.0,9,  34.7926,2,    229.0,2,  -999.00,9,  -999.00,9,     0.29,2,     0.04,2,     0.03,2, -999.000,9, -999.000,9,  -999.00,9,   1980.3,2,   -999.0,9,-999.0000,9,   -999.0,  9,  -999.00,9,   -999.0,  -999.00,9,  -999.00,9,  -999.00,9,  -999.00,9,   -999.0,-999.0000, -999,9,  100,  19.6461,  24.6993,   -999.0,9
       KE00-04,  NONE,KE-1282,  1,      7,02-10721,2,20000601,1040, 26.0022, 135.2485,   -9,    125.9,  19.3675,  34.8048,2,   -999.0,9,  34.8022,2,    222.0,2,  -999.00,9,  -999.00,9,     1.34,2,     0.04,2,     0.09,2, -999.000,9, -999.000,9,  -999.00,9,   1989.3,2,   -999.0,9,-999.0000,9,   -999.0,  9,  -999.00,9,   -999.0,  -999.00,9,  -999.00,9,  -999.00,9,  -999.00,9,   -999.0,-999.0000, -999,9,  125,  19.3447,  24.7836,   -999.0,9
       KE00-04,  NONE,KE-1282,  1,      6,   B-999,2,20000601,1038, 26.0022, 135.2485,   -9,    151.6,  19.0688,  34.8128,2,   -999.0,9,  34.8111,2,    215.0,2,  -999.00,9,  -999.00,9,     2.00,2,     0.02,2,     0.13,2, -999.000,9, -999.000,9,  -999.00,9,   1996.0,2,   -999.0,9,-999.0000,9,   -999.0,  9,  -999.00,9,   -999.0,  -999.00,9,  -999.00,9,  -999.00,9,  -999.00,9,   -999.0,-999.0000, -999,9,  151,  19.0417,  24.8675,   -999.0,9
       KE00-04,  NONE,KE-1282,  1,      5,02-10371,2,20000601,1037, 26.0022, 135.2485,   -9,    201.5,  18.7684,  34.8045,2,   -999.0,9,  34.8004,2,    221.0,2,  -999.00,9,  -999.00,9,     1.96,2,     0.01,2,     0.12,2, -999.000,9, -999.000,9,  -999.00,9,   1990.0,2,   -999.0,9,-999.0000,9,   -999.0,  9,  -999.00,9,   -999.0,  -999.00,9,  -999.00,9,  -999.00,9,  -999.00,9,   -999.0,-999.0000, -999,9,  200,  18.7328,  24.9395,   -999.0,9
       KE00-04,  NONE,KE-1282,  1,      4,02-10730,2,20000601,1035, 26.0022, 135.2485,   -9,    250.9,  18.0404,  34.7985,2,   -999.0,9,  34.7941,2,    201.0,2,  -999.00,9,  -999.00,9,     4.71,2,     0.01,2,     0.30,2, -999.000,9, -999.000,9,  -999.00,9,   2022.7,2,   -999.0,9,-999.0000,9,   -999.0,  9,  -999.00,9,   -999.0,  -999.00,9,  -999.00,9,  -999.00,9,  -999.00,9,   -999.0,-999.0000, -999,9,  249,  17.9973,  25.1184,   -999.0,9
       KE00-04,  NONE,KE-1282,  1,      3,02-10722,2,20000601,1033, 26.0022, 135.2485,   -9,    300.3,  16.9486,  34.7531,2,   -999.0,9,  34.3502,2,    197.0,2,  -999.00,9,  -999.00,9,     6.61,2,     0.01,2,     0.46,2, -999.000,9, -999.000,9,  -999.00,9,   2036.8,3,   -999.0,9,-999.0000,9,   -999.0,  9,  -999.00,9,   -999.0,  -999.00,9,  -999.00,9,  -999.00,9,  -999.00,9,   -999.0,-999.0000, -999,9,  298,  16.8991,  25.3486,   -999.0,9
       KE00-04,  NONE,KE-1282,  1,      2,02-10715,2,20000601,1028, 26.0022, 135.2485,   -9,    400.9,  14.6991,  34.6056,2,   -999.0,9,  34.6076,2,    190.0,2,  -999.00,9,  -999.00,9,    10.64,2,     0.00,2,     0.69,2, -999.000,9, -999.000,9,  -999.00,9,   2067.6,2,   -999.0,9,-999.0000,9,   -999.0,  9,  -999.00,9,   -999.0,  -999.00,9,  -999.00,9,  -999.00,9,  -999.00,9,   -999.0,-999.0000, -999,9,  398,  14.6390,  25.7463,   -999.0,9
       KE00-04,  NONE,KE-1282,  1,      1,02-10716,2,20000601,1026, 26.0022, 135.2485,   -9,    500.9,  11.4719,  34.3744,2,   -999.0,9,  34.3651,2,    178.0,2,  -999.00,9,  -999.00,9,    17.04,2,     0.00,2,     1.16,2, -999.000,9, -999.000,9,  -999.00,9,   2114.6,2,   -999.0,9,-999.0000,9,   -999.0,  9,  -999.00,9,   -999.0,  -999.00,9,  -999.00,9,  -999.00,9,  -999.00,9,   -999.0,-999.0000, -999,9,  497,  11.4081,  26.2140,   -999.0,9
       KE00-04,  NONE,KE-1283,  1,     -9,      -9,5,20000601,1605, 26.4917, 135.2402,   -9,      0.0,  25.0885,  34.6586,2,   -999.0,9,-999.0000,9,    218.0,2,  -999.00,9,  -999.00,9,     0.05,2,     0.00,2,     0.00,2, -999.000,9, -999.000,9,  -999.00,9,   1953.2,3,   -999.0,9,-999.0000,9,   -999.0,  9,  -999.00,9,   -999.0,  -999.00,9,  -999.00,9,  -999.00,9,  -999.00,9,   -999.0,-999.0000, -999,9,    0,  25.0885,  23.0563,   -999.0,9
       KE00-04,  NONE,KE-1283,  1,     12,02-10720,2,20000601,1638, 26.4917, 135.2402,   -9,     10.6,  23.0076,  34.7538,2,   -999.0,9,-999.0000,9,    225.0,2,  -999.00,9,  -999.00,9,     0.03,2,     0.00,2,     0.00,2, -999.000,9, -999.000,9,  -999.00,9,   1962.7,2,   -999.0,9,-999.0000,9,   -999.0,  9,  -999.00,9,   -999.0,  -999.00,9,  -999.00,9,  -999.00,9,  -999.00,9,   -999.0,-999.0000, -999,9,   11,  23.0055,  23.7453,   -999.0,9
       KE00-04,  NONE,KE-1283,  1,     11,   B-203,2,20000601,1637, 26.4917, 135.2402,   -9,     25.1,  22.7207,  34.7542,2,   -999.0,9,-999.0000,9,    224.0,2,  -999.00,9,  -999.00,9,     0.11,2,     0.00,2,     0.00,2, -999.000,9, -999.000,9,  -999.00,9,   1960.9,2,   -999.0,9,-999.0000,9,   -999.0,  9,  -999.00,9,   -999.0,  -999.00,9,  -999.00,9,  -999.00,9,  -999.00,9,   -999.0,-999.0000, -999,9,   25,  22.7157,  23.8287,   -999.0,9
       KE00-04,  NONE,KE-1283,  1,     10,02-10719,2,20000601,1635, 26.4917, 135.2402,   -9,     50.6,  21.5709,  34.7396,2,   -999.0,9,-999.0000,9,    231.0,2,  -999.00,9,  -999.00,9,     0.06,2,     0.00,2,     0.00,2, -999.000,9, -999.000,9,  -999.00,9,   1963.4,2,   -999.0,9,-999.0000,9,   -999.0,  9,  -999.00,9,   -999.0,  -999.00,9,  -999.00,9,  -999.00,9,  -999.00,9,   -999.0,-999.0000, -999,9,   50,  21.5611,  24.1420,   -999.0,9
       KE00-04,  NONE,KE-1283,  1,      9,   B-207,2,20000601,1634, 26.4917, 135.2402,   -9,     74.7,  20.2843,  34.7621,2,   -999.0,9,-999.0000,9,    232.0,2,  -999.00,9,  -999.00,9,     0.00,2,     0.00,2,     0.02,2, -999.000,9, -999.000,9,  -999.00,9,   1970.4,2,   -999.0,9,-999.0000,9,   -999.0,  9,  -999.00,9,   -999.0,  -999.00,9,  -999.00,9,  -999.00,9,  -999.00,9,   -999.0,-999.0000, -999,9,   74,  20.2704,  24.5088,   -999.0,9
       KE00-04,  NONE,KE-1283,  1,      8,02-10382,2,20000601,1633, 26.4917, 135.2402,   -9,    100.5,  19.5629,  34.7781,2,   -999.0,9,-999.0000,9,    223.0,2,  -999.00,9,  -999.00,9,     0.73,2,     0.16,2,     0.08,2, -999.000,9, -999.000,9,  -999.00,9,   1984.4,2,   -999.0,9,-999.0000,9,   -999.0,  9,  -999.00,9,   -999.0,  -999.00,9,  -999.00,9,  -999.00,9,  -999.00,9,   -999.0,-999.0000, -999,9,  100,  19.5446,  24.7115,   -999.0,9
       KE00-04,  NONE,KE-1283,  1,      7,02-10721,2,20000601,1631, 26.4917, 135.2402,   -9,    125.0,  19.2269,  34.7960,2,   -999.0,9,-999.0000,9,    220.0,2,  -999.00,9,  -999.00,9,     1.64,2,     0.03,2,     0.11,2, -999.000,9, -999.000,9,  -999.00,9,   1989.9,2,   -999.0,9,-999.0000,9,   -999.0,  9,  -999.00,9,   -999.0,  -999.00,9,  -999.00,9,  -999.00,9,  -999.00,9,   -999.0,-999.0000, -999,9,  124,  19.2045,  24.8130,   -999.0,9
       KE00-04,  NONE,KE-1283,  1,      6,   B-999,2,20000601,1630, 26.4917, 135.2402,   -9,    149.9,  19.1002,  34.8015,2,   -999.0,9,-999.0000,9,    218.0,2,  -999.00,9,  -999.00,9,     1.77,2,     0.01,2,     0.13,2, -999.000,9, -999.000,9,  -999.00,9,   1990.4,2,   -999.0,9,-999.0000,9,   -999.0,  9,  -999.00,9,   -999.0,  -999.00,9,  -999.00,9,  -999.00,9,  -999.00,9,   -999.0,-999.0000, -999,9,  149,  19.0735,  24.8507,   -999.0,9
       KE00-04,  NONE,KE-1283,  1,      5,02-10371,2,20000601,1628, 26.4917, 135.2402,   -9,    200.8,  18.8057,  34.8056,2,   -999.0,9,-999.0000,9,    220.0,2,  -999.00,9,  -999.00,9,     2.00,2,     0.02,2,     0.13,2, -999.000,9, -999.000,9,  -999.00,9,   1993.7,2,   -999.0,9,-999.0000,9,   -999.0,  9,  -999.00,9,   -999.0,  -999.00,9,  -999.00,9,  -999.00,9,  -999.00,9,   -999.0,-999.0000, -999,9,  199,  18.7701,  24.9310,   -999.0,9
       KE00-04,  NONE,KE-1283,  1,      4,02-10730,2,20000601,1626, 26.4917, 135.2402,   -9,    249.7,  18.3475,  34.8003,2,   -999.0,9,-999.0000,9,    209.0,2,  -999.00,9,  -999.00,9,     3.62,2,     0.01,2,     0.24,2, -999.000,9, -999.000,9,  -999.00,9,   2010.6,2,   -999.0,9,-999.0000,9,   -999.0,  9,  -999.00,9,   -999.0,  -999.00,9,  -999.00,9,  -999.00,9,  -999.00,9,   -999.0,-999.0000, -999,9,  248,  18.3040,  25.0438,   -999.0,9
       KE00-04,  NONE,KE-1283,  1,      3,02-10722,2,20000601,1624, 26.4917, 135.2402,   -9,    300.9,  17.6671,  34.7825,2,   -999.0,9,-999.0000,9,    198.0,2,  -999.00,9,  -999.00,9,     5.65,2,     0.00,2,     0.36,2, -999.000,9, -999.000,9,  -999.00,9,   2029.9,2,   -999.0,9,-999.0000,9,   -999.0,  9,  -999.00,9,   -999.0,  -999.00,9,  -999.00,9,  -999.00,9,  -999.00,9,   -999.0,-999.0000, -999,9,  299,  17.6160,  25.1993,   -999.0,9
       KE00-04,  NONE,KE-1283,  1,      2,02-10715,2,20000601,1622, 26.4917, 135.2402,   -9,    401.3,  15.7115,  34.6782,2,   -999.0,9,-999.0000,9,    193.0,2,  -999.00,9,  -999.00,9,     8.87,2,     0.00,2,     0.57,2, -999.000,9, -999.000,9,  -999.00,9,   2053.7,2,   -999.0,9,-999.0000,9,   -999.0,  9,  -999.00,9,   -999.0,  -999.00,9,  -999.00,9,  -999.00,9,  -999.00,9,   -999.0,-999.0000, -999,9,  398,  15.6485,  25.5797,   -999.0,9
       KE00-04,  NONE,KE-1283,  1,      1,02-10716,2,20000601,1619, 26.4917, 135.2402,   -9,    503.4,  12.4399,  34.4448,2,   -999.0,9,-999.0000,9,    179.0,2,  -999.00,9,  -999.00,9,    15.51,2,     0.00,2,     1.04,2, -999.000,9, -999.000,9,  -999.00,9,   2104.3,2,   -999.0,9,-999.0000,9,   -999.0,  9,  -999.00,9,   -999.0,  -999.00,9,  -999.00,9,  -999.00,9,  -999.00,9,   -999.0,-999.0000, -999,9,  499,  12.3722,  26.0864,   -999.0,9