BOTTLE,20130510GEMDJMAYT
EXPOCODE,SECT_ID,STNNBR,CASTNO,SAMPNO,BTLNBR,BTLNBR_FLAG_W,DATE,TIME,LATITUDE,LONGITUDE,DEPTH,CTDPRS,CTDTMP,CTDSAL,CTDSAL_FLAG_W,CTDOXY,CTDOXY_FLAG_W,SALNTY,SALNTY_FLAG_W,OXYGEN,OXYGEN_FLAG_W,SILCAT,SILCAT_FLAG_W,NITRAT,NITRAT_FLAG_W,NO2+NO3,NO2+NO3_FLAG_W,NITRIT,NITRIT_FLAG_W,PHSPHT,PHSPHT_FLAG_W,CFC-11,CFC-11_FLAG_W,CFC-12,CFC-12_FLAG_W,DELC13,DELC13_FLAG_W,TCARBN,TCARBN_FLAG_W,ALKALI,ALKALI_FLAG_W,PH,PH_FLAG_W,PH_TMP,PH_SCALE,PH_NBS,PH_NBS_FLAG_W,C13ERR,TOTALP,TOTALP_FLAG_W,AMMONI,AMMONI_FLAG_W,CHLORA,CHLORA_FLAG_W,PPHYTN,PPHYTN_FLAG_W,REVPRS,REVTMP,DEPTH_,DEPTH_FLAG,CTDDEP,THETA,SIGTHT,DOC,DOC_FLAG_W
,,,,,,,GMT,GMT,,,METER,DBAR,ITS-90,PSS-78,,UMOL/KG,,PSS-78,,UMOL/KG,,UMOL/KG,,UMOL/KG,,UMOL/KG,,UMOL/KG,,UMOL/KG,,PMOL/KG,,PMOL/KG,,/MILLE,,UMOL/KG,,UMOL/KG,,25_DEG_C,,DEG_C,,,,/MILLE,UMOL/KG,,UMOL/KG,,UG/L,,UG/L,,DBAR,ITS-90,METERS,,METERS,DEG_C,,UMOL/L,
       KE00-04,  NONE,KE-1284,  1,     -9,      -9,5,20000601,2000, 27.0013, 135.2477,   -9,      0.0,  24.0373,  34.6234,2,   -999.0,9,-999.0000,9,    220.0,2,  -999.00,9,  -999.00,9,     0.04,2,     0.00,2,     0.00,2, -999.000,9, -999.000,9,  -999.00,9,   1953.6,3,   -999.0,9,-999.0000,9,   -999.0,  9,  -999.00,9,   -999.0,  -999.00,9,  -999.00,9,  -999.00,9,  -999.00,9,   -999.0,-999.0000, -999,9,    0,  24.0373,  23.3452,   -999.0,9
       KE00-04,  NONE,KE-1284,  1,     12,02-10720,2,20000601,2031, 27.0013, 135.2477,   -9,     10.3,  22.5896,  34.6485,2,   -999.0,9,-999.0000,9,    226.0,2,  -999.00,9,  -999.00,9,     0.01,2,     0.00,2,     0.01,2, -999.000,9, -999.000,9,  -999.00,9,   1952.1,2,   -999.0,9,-999.0000,9,   -999.0,  9,  -999.00,9,   -999.0,  -999.00,9,  -999.00,9,  -999.00,9,  -999.00,9,   -999.0,-999.0000, -999,9,   10,  22.5875,  23.7850,   -999.0,9
       KE00-04,  NONE,KE-1284,  1,     11,   B-203,2,20000601,2029, 27.0013, 135.2477,   -9,     25.3,  21.8090,  34.6877,2,   -999.0,9,-999.0000,9,    229.0,2,  -999.00,9,  -999.00,9,     0.00,2,     0.00,2,     0.00,2, -999.000,9, -999.000,9,  -999.00,9,   1959.4,2,   -999.0,9,-999.0000,9,   -999.0,  9,  -999.00,9,   -999.0,  -999.00,9,  -999.00,9,  -999.00,9,  -999.00,9,   -999.0,-999.0000, -999,9,   25,  21.8041,  24.0351,   -999.0,9
       KE00-04,  NONE,KE-1284,  1,     10,02-10719,2,20000601,2028, 27.0013, 135.2477,   -9,     49.7,  20.4788,  34.7711,2,   -999.0,9,-999.0000,9,    234.0,2,  -999.00,9,  -999.00,9,     0.06,2,     0.00,2,     0.01,2, -999.000,9, -999.000,9,  -999.00,9,   1970.9,2,   -999.0,9,-999.0000,9,   -999.0,  9,  -999.00,9,   -999.0,  -999.00,9,  -999.00,9,  -999.00,9,  -999.00,9,   -999.0,-999.0000, -999,9,   49,  20.4695,  24.4626,   -999.0,9
       KE00-04,  NONE,KE-1284,  1,      9,   B-207,2,20000601,2027, 27.0013, 135.2477,   -9,     75.3,  20.0357,  34.7777,2,   -999.0,9,-999.0000,9,    230.0,2,  -999.00,9,  -999.00,9,     0.03,2,     0.00,2,     0.01,2, -999.000,9, -999.000,9,  -999.00,9,   1975.7,2,   -999.0,9,-999.0000,9,   -999.0,  9,  -999.00,9,   -999.0,  -999.00,9,  -999.00,9,  -999.00,9,  -999.00,9,   -999.0,-999.0000, -999,9,   75,  20.0218,  24.5865,   -999.0,9
       KE00-04,  NONE,KE-1284,  1,      8,02-10382,2,20000601,2025, 27.0013, 135.2477,   -9,     99.9,  19.5723,  34.7910,2,   -999.0,9,-999.0000,9,    221.0,2,  -999.00,9,  -999.00,9,     1.06,2,     0.15,2,     0.08,2, -999.000,9, -999.000,9,  -999.00,9,   1985.4,2,   -999.0,9,-999.0000,9,   -999.0,  9,  -999.00,9,   -999.0,  -999.00,9,  -999.00,9,  -999.00,9,  -999.00,9,   -999.0,-999.0000, -999,9,   99,  19.5541,  24.7189,   -999.0,9
       KE00-04,  NONE,KE-1284,  1,      7,02-10721,2,20000601,2024, 27.0013, 135.2477,   -9,    124.9,  19.2011,  34.8016,2,   -999.0,9,-999.0000,9,    219.0,2,  -999.00,9,  -999.00,9,     1.69,2,     0.03,2,     0.11,2, -999.000,9, -999.000,9,  -999.00,9,   1986.5,2,   -999.0,9,-999.0000,9,   -999.0,  9,  -999.00,9,   -999.0,  -999.00,9,  -999.00,9,  -999.00,9,  -999.00,9,   -999.0,-999.0000, -999,9,  124,  19.1787,  24.8238,   -999.0,9
       KE00-04,  NONE,KE-1284,  1,      6,   B-999,2,20000601,2023, 27.0013, 135.2477,   -9,    150.2,  19.0535,  34.8072,2,   -999.0,9,-999.0000,9,    219.0,2,  -999.00,9,  -999.00,9,     1.78,2,     0.02,2,     0.10,2, -999.000,9, -999.000,9,  -999.00,9,   1994.3,2,   -999.0,9,-999.0000,9,   -999.0,  9,  -999.00,9,   -999.0,  -999.00,9,  -999.00,9,  -999.00,9,  -999.00,9,   -999.0,-999.0000, -999,9,  149,  19.0267,  24.8670,   -999.0,9
       KE00-04,  NONE,KE-1284,  1,      5,02-10371,2,20000601,2021, 27.0013, 135.2477,   -9,    200.4,  18.7395,  34.8036,2,   -999.0,9,-999.0000,9,    218.0,2,  -999.00,9,  -999.00,9,     2.43,2,     0.02,2,     0.17,2, -999.000,9, -999.000,9,  -999.00,9,   1998.1,2,   -999.0,9,-999.0000,9,   -999.0,  9,  -999.00,9,   -999.0,  -999.00,9,  -999.00,9,  -999.00,9,  -999.00,9,   -999.0,-999.0000, -999,9,  199,  18.7042,  24.9460,   -999.0,9
       KE00-04,  NONE,KE-1284,  1,      4,02-10730,2,20000601,2019, 27.0013, 135.2477,   -9,    250.1,  18.0850,  34.7937,2,   -999.0,9,-999.0000,9,    203.0,2,  -999.00,9,  -999.00,9,     4.63,2,     0.00,2,     0.28,2, -999.000,9, -999.000,9,  -999.00,9,   2021.0,2,   -999.0,9,-999.0000,9,   -999.0,  9,  -999.00,9,   -999.0,  -999.00,9,  -999.00,9,  -999.00,9,  -999.00,9,   -999.0,-999.0000, -999,9,  248,  18.0419,  25.1037,   -999.0,9
       KE00-04,  NONE,KE-1284,  1,      3,02-10722,2,20000601,2018, 27.0013, 135.2477,   -9,    300.4,  17.0139,  34.7616,2,   -999.0,9,-999.0000,9,    194.0,2,  -999.00,9,  -999.00,9,     6.83,2,     0.00,2,     0.43,2, -999.000,9, -999.000,9,  -999.00,9,   2040.1,2,   -999.0,9,-999.0000,9,   -999.0,  9,  -999.00,9,   -999.0,  -999.00,9,  -999.00,9,  -999.00,9,  -999.00,9,   -999.0,-999.0000, -999,9,  298,  16.9642,  25.3398,   -999.0,9
       KE00-04,  NONE,KE-1284,  1,      2,02-10715,2,20000601,2015, 27.0013, 135.2477,   -9,    400.8,  14.9462,  34.6231,2,   -999.0,9,-999.0000,9,    189.0,2,  -999.00,9,  -999.00,9,    10.48,2,     0.00,2,     0.68,2, -999.000,9, -999.000,9,  -999.00,9,   2065.9,2,   -999.0,9,-999.0000,9,   -999.0,  9,  -999.00,9,   -999.0,  -999.00,9,  -999.00,9,  -999.00,9,  -999.00,9,   -999.0,-999.0000, -999,9,  398,  14.8855,  25.7064,   -999.0,9
       KE00-04,  NONE,KE-1284,  1,      1,02-10716,2,20000601,2013, 27.0013, 135.2477,   -9,    501.6,  12.0590,  34.4167,2,   -999.0,9,-999.0000,9,    177.0,2,  -999.00,9,  -999.00,9,    16.33,2,     0.00,2,     1.09,2, -999.000,9, -999.000,9,  -999.00,9,   2108.1,2,   -999.0,9,-999.0000,9,   -999.0,  9,  -999.00,9,   -999.0,  -999.00,9,  -999.00,9,  -999.00,9,  -999.00,9,   -999.0,-999.0000, -999,9,  498,  11.9929,  26.1374,   -999.0,9
       KE00-04,  NONE,KE-1285,  1,     -9,      -9,5,20000602,0210, 27.5035, 135.2590,   -9,      0.0,  23.4990,  34.7062,2,   -999.0,9,-999.0000,9,    221.0,2,  -999.00,9,  -999.00,9,     0.00,2,     0.00,2,     0.00,2, -999.000,9, -999.000,9,  -999.00,9,   1965.6,3,   -999.0,9,-999.0000,9,   -999.0,  9,  -999.00,9,   -999.0,  -999.00,9,  -999.00,9,  -999.00,9,  -999.00,9,   -999.0,-999.0000, -999,9,    0,  23.4990,  23.5662,   -999.0,9
       KE00-04,  NONE,KE-1285,  1,     12,02-10720,2,20000602,0235, 27.5035, 135.2590,   -9,     10.7,  23.0985,  34.6999,2,   -999.0,9,-999.0000,9,    225.0,2,  -999.00,9,  -999.00,9,     0.00,2,     0.00,2,     0.00,2, -999.000,9, -999.000,9,  -999.00,9,   1964.8,2,   -999.0,9,-999.0000,9,   -999.0,  9,  -999.00,9,   -999.0,  -999.00,9,  -999.00,9,  -999.00,9,  -999.00,9,   -999.0,-999.0000, -999,9,   11,  23.0963,  23.6782,   -999.0,9
       KE00-04,  NONE,KE-1285,  1,     11,   B-203,2,20000602,0234, 27.5035, 135.2590,   -9,     25.2,  21.9923,  34.7193,2,   -999.0,9,-999.0000,9,    229.0,2,  -999.00,9,  -999.00,9,     0.00,2,     0.00,2,     0.00,2, -999.000,9, -999.000,9,  -999.00,9,   1965.3,2,   -999.0,9,-999.0000,9,   -999.0,  9,  -999.00,9,   -999.0,  -999.00,9,  -999.00,9,  -999.00,9,  -999.00,9,   -999.0,-999.0000, -999,9,   25,  21.9873,  24.0081,   -999.0,9
       KE00-04,  NONE,KE-1285,  1,     10,02-10719,2,20000602,0232, 27.5035, 135.2590,   -9,     50.7,  20.3306,  34.7665,2,   -999.0,9,-999.0000,9,    235.0,2,  -999.00,9,  -999.00,9,     0.00,2,     0.00,2,     0.00,2, -999.000,9, -999.000,9,  -999.00,9,   1967.0,2,   -999.0,9,-999.0000,9,   -999.0,  9,  -999.00,9,   -999.0,  -999.00,9,  -999.00,9,  -999.00,9,  -999.00,9,   -999.0,-999.0000, -999,9,   50,  20.3211,  24.4986,   -999.0,9
       KE00-04,  NONE,KE-1285,  1,      9,   B-207,2,20000602,0231, 27.5035, 135.2590,   -9,     75.6,  19.7792,  34.7727,2,   -999.0,9,-999.0000,9,    232.0,2,  -999.00,9,  -999.00,9,     0.00,2,     0.00,2,     0.00,2, -999.000,9, -999.000,9,  -999.00,9,   1974.4,2,   -999.0,9,-999.0000,9,   -999.0,  9,  -999.00,9,   -999.0,  -999.00,9,  -999.00,9,  -999.00,9,  -999.00,9,   -999.0,-999.0000, -999,9,   75,  19.7653,  24.6499,   -999.0,9
       KE00-04,  NONE,KE-1285,  1,      8,02-10382,2,20000602,0230, 27.5035, 135.2590,   -9,    101.0,  19.3494,  34.7817,2,   -999.0,9,-999.0000,9,    224.0,2,  -999.00,9,  -999.00,9,     0.96,2,     0.15,2,     0.06,2, -999.000,9, -999.000,9,  -999.00,9,   1983.6,2,   -999.0,9,-999.0000,9,   -999.0,  9,  -999.00,9,   -999.0,  -999.00,9,  -999.00,9,  -999.00,9,  -999.00,9,   -999.0,-999.0000, -999,9,  100,  19.3312,  24.7694,   -999.0,9
       KE00-04,  NONE,KE-1285,  1,      7,02-10721,2,20000602,0229, 27.5035, 135.2590,   -9,    125.9,  19.1013,  34.7997,2,   -999.0,9,-999.0000,9,    221.0,2,  -999.00,9,  -999.00,9,     1.45,2,     0.02,2,     0.09,2, -999.000,9, -999.000,9,  -999.00,9,   1989.4,2,   -999.0,9,-999.0000,9,   -999.0,  9,  -999.00,9,   -999.0,  -999.00,9,  -999.00,9,  -999.00,9,  -999.00,9,   -999.0,-999.0000, -999,9,  125,  19.0788,  24.8480,   -999.0,9
       KE00-04,  NONE,KE-1285,  1,      6,   B-999,2,20000602,0228, 27.5035, 135.2590,   -9,    150.8,  18.9693,  34.8052,2,   -999.0,9,-999.0000,9,    222.0,2,  -999.00,9,  -999.00,9,     1.45,2,     0.01,2,     0.08,2, -999.000,9, -999.000,9,  -999.00,9,   1989.0,2,   -999.0,9,-999.0000,9,   -999.0,  9,  -999.00,9,   -999.0,  -999.00,9,  -999.00,9,  -999.00,9,  -999.00,9,   -999.0,-999.0000, -999,9,  150,  18.9425,  24.8869,   -999.0,9
       KE00-04,  NONE,KE-1285,  1,      5,02-10371,2,20000602,0226, 27.5035, 135.2590,   -9,    200.7,  18.7818,  34.8096,2,   -999.0,9,-999.0000,9,    221.0,2,  -999.00,9,  -999.00,9,     1.80,2,     0.01,2,     0.11,2, -999.000,9, -999.000,9,  -999.00,9,   1992.2,2,   -999.0,9,-999.0000,9,   -999.0,  9,  -999.00,9,   -999.0,  -999.00,9,  -999.00,9,  -999.00,9,  -999.00,9,   -999.0,-999.0000, -999,9,  199,  18.7463,  24.9400,   -999.0,9
       KE00-04,  NONE,KE-1285,  1,      4,02-10730,2,20000602,0224, 27.5035, 135.2590,   -9,    251.3,  18.2544,  34.7952,2,   -999.0,9,-999.0000,9,    205.0,2,  -999.00,9,  -999.00,9,     4.01,2,     0.00,2,     0.24,2, -999.000,9, -999.000,9,  -999.00,9,   2017.4,2,   -999.0,9,-999.0000,9,   -999.0,  9,  -999.00,9,   -999.0,  -999.00,9,  -999.00,9,  -999.00,9,  -999.00,9,   -999.0,-999.0000, -999,9,  249,  18.2109,  25.0631,   -999.0,9
       KE00-04,  NONE,KE-1285,  1,      3,02-10722,2,20000602,0223, 27.5035, 135.2590,   -9,    301.2,  17.3257,  34.7764,2,   -999.0,9,-999.0000,9,    196.0,2,  -999.00,9,  -999.00,9,     6.14,2,     0.00,2,     0.38,2, -999.000,9, -999.000,9,  -999.00,9,   2034.3,2,   -999.0,9,-999.0000,9,   -999.0,  9,  -999.00,9,   -999.0,  -999.00,9,  -999.00,9,  -999.00,9,  -999.00,9,   -999.0,-999.0000, -999,9,  299,  17.2753,  25.2769,   -999.0,9
       KE00-04,  NONE,KE-1285,  1,      2,02-10715,2,20000602,0220, 27.5035, 135.2590,   -9,    402.4,  15.3350,  34.6526,2,   -999.0,9,-999.0000,9,    190.0,2,  -999.00,9,  -999.00,9,     9.59,2,     0.00,2,     0.60,2, -999.000,9, -999.000,9,  -999.00,9,   2061.0,2,   -999.0,9,-999.0000,9,   -999.0,  9,  -999.00,9,   -999.0,  -999.00,9,  -999.00,9,  -999.00,9,  -999.00,9,   -999.0,-999.0000, -999,9,  399,  15.2729,  25.6440,   -999.0,9
       KE00-04,  NONE,KE-1285,  1,      1,02-10716,2,20000602,0218, 27.5035, 135.2590,   -9,    503.5,  12.6710,  34.4607,2,   -999.0,9,-999.0000,9,    178.0,2,  -999.00,9,  -999.00,9,    15.06,2,     0.00,2,     1.00,2, -999.000,9, -999.000,9,  -999.00,9,   2098.7,2,   -999.0,9,-999.0000,9,   -999.0,  9,  -999.00,9,   -999.0,  -999.00,9,  -999.00,9,  -999.00,9,  -999.00,9,   -999.0,-999.0000, -999,9,  500,  12.6025,  26.0538,   -999.0,9
       KE00-04,  NONE,KE-1286,  1,     -9,      -9,5,20000602,0555, 28.0018, 135.2483,   -9,      0.0,  23.4889,  34.7508,2,   -999.0,9,  34.7402,2,    222.0,2,  -999.00,9,  -999.00,9,     0.11,2,     0.00,2,     0.00,2, -999.000,9, -999.000,9,  -999.00,9,   1965.2,2,   -999.0,9,-999.0000,9,   -999.0,  9,  -999.00,9,   -999.0,  -999.00,9,  -999.00,9,  -999.00,9,  -999.00,9,   -999.0,-999.0000, -999,9,    0,  23.4889,  23.6029,   -999.0,9
       KE00-04,  NONE,KE-1286,  1,     12,02-10720,2,20000602,0619, 28.0018, 135.2483,   -9,     11.2,  23.0870,  34.7464,2,   -999.0,9,  34.7459,2,    226.0,2,  -999.00,9,  -999.00,9,     0.00,2,     0.00,2,     0.00,2, -999.000,9, -999.000,9,  -999.00,9,   1962.6,2,   -999.0,9,-999.0000,9,   -999.0,  9,  -999.00,9,   -999.0,  -999.00,9,  -999.00,9,  -999.00,9,  -999.00,9,   -999.0,-999.0000, -999,9,   11,  23.0847,  23.7169,   -999.0,9
       KE00-04,  NONE,KE-1286,  1,     11,   B-203,2,20000602,0618, 28.0018, 135.2483,   -9,     25.7,  22.0898,  34.7937,2,   -999.0,9,  34.7859,2,    227.0,2,  -999.00,9,  -999.00,9,     0.00,2,     0.00,2,     0.00,2, -999.000,9, -999.000,9,  -999.00,9,   1967.0,2,   -999.0,9,-999.0000,9,   -999.0,  9,  -999.00,9,   -999.0,  -999.00,9,  -999.00,9,  -999.00,9,  -999.00,9,   -999.0,-999.0000, -999,9,   26,  22.0847,  24.0374,   -999.0,9
       KE00-04,  NONE,KE-1286,  1,     10,02-10719,2,20000602,0616, 28.0018, 135.2483,   -9,     50.9,  21.1433,  34.8533,2,   -999.0,9,  34.8540,2,    233.0,2,  -999.00,9,  -999.00,9,     0.06,2,     0.00,2,     0.00,2, -999.000,9, -999.000,9,  -999.00,9,   1968.7,2,   -999.0,9,-999.0000,9,   -999.0,  9,  -999.00,9,   -999.0,  -999.00,9,  -999.00,9,  -999.00,9,  -999.00,9,   -999.0,-999.0000, -999,9,   51,  21.1335,  24.3459,   -999.0,9
       KE00-04,  NONE,KE-1286,  1,      9,   B-207,2,20000602,0615, 28.0018, 135.2483,   -9,     75.6,  20.3393,  34.8325,2,   -999.0,9,  34.8331,2,    231.0,2,  -999.00,9,  -999.00,9,     0.03,2,     0.00,2,     0.02,2, -999.000,9, -999.000,9,  -999.00,9,   1976.6,2,   -999.0,9,-999.0000,9,   -999.0,  9,  -999.00,9,   -999.0,  -999.00,9,  -999.00,9,  -999.00,9,  -999.00,9,   -999.0,-999.0000, -999,9,   75,  20.3252,  24.5479,   -999.0,9
       KE00-04,  NONE,KE-1286,  1,      8,02-10382,2,20000602,0614, 28.0018, 135.2483,   -9,    100.7,  19.5567,  34.7780,2,   -999.0,9,  34.7766,2,    226.0,2,  -999.00,9,  -999.00,9,     0.79,2,     0.20,2,     0.07,2, -999.000,9, -999.000,9,  -999.00,9,   1982.2,2,   -999.0,9,-999.0000,9,   -999.0,  9,  -999.00,9,   -999.0,  -999.00,9,  -999.00,9,  -999.00,9,  -999.00,9,   -999.0,-999.0000, -999,9,  100,  19.5385,  24.7131,   -999.0,9
       KE00-04,  NONE,KE-1286,  1,      7,02-10721,2,20000602,0612, 28.0018, 135.2483,   -9,    126.1,  19.2487,  34.8017,2,   -999.0,9,  34.8003,2,    222.0,2,  -999.00,9,  -999.00,9,     1.58,2,     0.02,2,     0.12,2, -999.000,9, -999.000,9,  -999.00,9,   1992.1,2,   -999.0,9,-999.0000,9,   -999.0,  9,  -999.00,9,   -999.0,  -999.00,9,  -999.00,9,  -999.00,9,  -999.00,9,   -999.0,-999.0000, -999,9,  125,  19.2261,  24.8117,   -999.0,9
       KE00-04,  NONE,KE-1286,  1,      6,   B-999,2,20000602,0611, 28.0018, 135.2483,   -9,    150.8,  19.0460,  34.8024,2,   -999.0,9,  34.9990,2,    217.0,2,  -999.00,9,  -999.00,9,     1.71,2,     0.01,2,     0.11,2, -999.000,9, -999.000,9,  -999.00,9,   1991.4,3,   -999.0,9,-999.0000,9,   -999.0,  9,  -999.00,9,   -999.0,  -999.00,9,  -999.00,9,  -999.00,9,  -999.00,9,   -999.0,-999.0000, -999,9,  150,  19.0191,  24.8653,   -999.0,9
       KE00-04,  NONE,KE-1286,  1,      5,02-10371,2,20000602,0609, 28.0018, 135.2483,   -9,    200.8,  18.7765,  34.8092,2,   -999.0,9,  34.8075,2,    222.0,3,  -999.00,9,  -999.00,9,     1.83,2,     0.01,2,     0.12,2, -999.000,9, -999.000,9,  -999.00,9,   1996.2,2,   -999.0,9,-999.0000,9,   -999.0,  9,  -999.00,9,   -999.0,  -999.00,9,  -999.00,9,  -999.00,9,  -999.00,9,   -999.0,-999.0000, -999,9,  199,  18.7410,  24.9411,   -999.0,9
       KE00-04,  NONE,KE-1286,  1,      4,02-10730,2,20000602,0607, 28.0018, 135.2483,   -9,    251.1,  18.3446,  34.7959,2,   -999.0,9,  34.7943,2,    207.0,2,  -999.00,9,  -999.00,9,     3.79,2,     0.00,2,     0.23,2, -999.000,9, -999.000,9,  -999.00,9,   2014.6,2,   -999.0,9,-999.0000,9,   -999.0,  9,  -999.00,9,   -999.0,  -999.00,9,  -999.00,9,  -999.00,9,  -999.00,9,   -999.0,-999.0000, -999,9,  249,  18.3009,  25.0412,   -999.0,9
       KE00-04,  NONE,KE-1286,  1,      3,02-10722,2,20000602,0605, 28.0018, 135.2483,   -9,    301.1,  17.6142,  34.7798,2,   -999.0,9,  34.7802,2,    173.0,3,  -999.00,9,  -999.00,9,     5.56,2,     0.00,2,     0.35,2, -999.000,9, -999.000,9,  -999.00,9,   2029.9,3,   -999.0,9,-999.0000,9,   -999.0,  9,  -999.00,9,   -999.0,  -999.00,9,  -999.00,9,  -999.00,9,  -999.00,9,   -999.0,-999.0000, -999,9,  299,  17.5632,  25.2101,   -999.0,9
       KE00-04,  NONE,KE-1286,  1,      2,02-10715,2,20000602,0602, 28.0018, 135.2483,   -9,    401.0,  15.5342,  34.6679,2,   -999.0,9,  34.6638,2,    189.0,2,  -999.00,9,  -999.00,9,     9.46,2,     0.00,2,     0.60,2, -999.000,9, -999.000,9,  -999.00,9,   2064.5,3,   -999.0,9,-999.0000,9,   -999.0,  9,  -999.00,9,   -999.0,  -999.00,9,  -999.00,9,  -999.00,9,  -999.00,9,   -999.0,-999.0000, -999,9,  398,  15.4718,  25.6114,   -999.0,9
       KE00-04,  NONE,KE-1286,  1,      1,02-10716,2,20000602,0600, 28.0018, 135.2483,   -9,    502.1,  13.3820,  34.5089,2,   -999.0,9,  34.5073,2,    181.0,2,  -999.00,9,  -999.00,9,    13.72,2,     0.00,2,     0.92,2, -999.000,9, -999.000,9,  -999.00,9,   2089.5,2,   -999.0,9,-999.0000,9,   -999.0,  9,  -999.00,9,   -999.0,  -999.00,9,  -999.00,9,  -999.00,9,  -999.00,9,   -999.0,-999.0000, -999,9,  498,  13.3111,  25.9497,   -999.0,9