BOTTLE,20130510GEMDJMAYT
EXPOCODE,SECT_ID,STNNBR,CASTNO,SAMPNO,BTLNBR,BTLNBR_FLAG_W,DATE,TIME,LATITUDE,LONGITUDE,DEPTH,CTDPRS,CTDTMP,CTDSAL,CTDSAL_FLAG_W,CTDOXY,CTDOXY_FLAG_W,SALNTY,SALNTY_FLAG_W,OXYGEN,OXYGEN_FLAG_W,SILCAT,SILCAT_FLAG_W,NITRAT,NITRAT_FLAG_W,NO2+NO3,NO2+NO3_FLAG_W,NITRIT,NITRIT_FLAG_W,PHSPHT,PHSPHT_FLAG_W,CFC-11,CFC-11_FLAG_W,CFC-12,CFC-12_FLAG_W,DELC13,DELC13_FLAG_W,TCARBN,TCARBN_FLAG_W,ALKALI,ALKALI_FLAG_W,PH,PH_FLAG_W,PH_TMP,PH_SCALE,PH_NBS,PH_NBS_FLAG_W,C13ERR,TOTALP,TOTALP_FLAG_W,AMMONI,AMMONI_FLAG_W,CHLORA,CHLORA_FLAG_W,PPHYTN,PPHYTN_FLAG_W,REVPRS,REVTMP,DEPTH_,DEPTH_FLAG,CTDDEP,THETA,SIGTHT,DOC,DOC_FLAG_W
,,,,,,,GMT,GMT,,,METER,DBAR,ITS-90,PSS-78,,UMOL/KG,,PSS-78,,UMOL/KG,,UMOL/KG,,UMOL/KG,,UMOL/KG,,UMOL/KG,,UMOL/KG,,PMOL/KG,,PMOL/KG,,/MILLE,,UMOL/KG,,UMOL/KG,,25_DEG_C,,DEG_C,,,,/MILLE,UMOL/KG,,UMOL/KG,,UG/L,,UG/L,,DBAR,ITS-90,METERS,,METERS,DEG_C,,UMOL/L,
       KE00-04,  NONE,KE-1290,  1,     -9,      -9,5,20000603,0555, 30.0063, 135.2458,   -9,      0.0,  23.1469,  34.7143,2,   -999.0,9,  34.7211,2,    223.0,2,  -999.00,9,  -999.00,9,     0.08,2,     0.00,2,     0.00,2, -999.000,9, -999.000,9,  -999.00,9,   1960.8,2,   -999.0,9,-999.0000,9,   -999.0,  9,  -999.00,9,   -999.0,  -999.00,9,  -999.00,9,  -999.00,9,  -999.00,9,   -999.0,-999.0000, -999,9,    0,  23.1469,  23.6746,   -999.0,9
       KE00-04,  NONE,KE-1290,  1,     12,02-10720,2,20000603,0612, 30.0063, 135.2458,   -9,     24.8,  22.0897,  34.7223,2,   -999.0,9,  34.7229,2,    228.0,2,  -999.00,9,  -999.00,9,     0.00,2,     0.00,2,     0.00,2, -999.000,9, -999.000,9,  -999.00,9,   1962.1,2,   -999.0,9,-999.0000,9,   -999.0,  9,  -999.00,9,   -999.0,  -999.00,9,  -999.00,9,  -999.00,9,  -999.00,9,   -999.0,-999.0000, -999,9,   25,  22.0848,  23.9831,   -999.0,9
       KE00-04,  NONE,KE-1290,  1,     11,   B-203,2,20000603,0610, 30.0063, 135.2458,   -9,     50.5,  20.2028,  34.7644,2,   -999.0,9,  34.7654,2,    234.0,2,  -999.00,9,  -999.00,9,     0.08,2,     0.00,2,     0.01,2, -999.000,9, -999.000,9,  -999.00,9,   1970.0,2,   -999.0,9,-999.0000,9,   -999.0,  9,  -999.00,9,   -999.0,  -999.00,9,  -999.00,9,  -999.00,9,  -999.00,9,   -999.0,-999.0000, -999,9,   50,  20.1934,  24.5310,   -999.0,9
       KE00-04,  NONE,KE-1290,  1,     10,02-10719,2,20000603,0609, 30.0063, 135.2458,   -9,     75.3,  19.7163,  34.7724,2,   -999.0,9,  34.7735,2,    232.0,2,  -999.00,9,  -999.00,9,     0.00,2,     0.00,2,     0.02,2, -999.000,9, -999.000,9,  -999.00,9,   1973.7,2,   -999.0,9,-999.0000,9,   -999.0,  9,  -999.00,9,   -999.0,  -999.00,9,  -999.00,9,  -999.00,9,  -999.00,9,   -999.0,-999.0000, -999,9,   75,  19.7025,  24.6660,   -999.0,9
       KE00-04,  NONE,KE-1290,  1,      9,   B-207,2,20000603,0608, 30.0063, 135.2458,   -9,    100.3,  19.3041,  34.7860,2,   -999.0,9,  34.7869,2,    225.0,2,  -999.00,9,  -999.00,9,     0.90,2,     0.15,2,     0.06,2, -999.000,9, -999.000,9,  -999.00,9,   1982.0,2,   -999.0,9,-999.0000,9,   -999.0,  9,  -999.00,9,   -999.0,  -999.00,9,  -999.00,9,  -999.00,9,  -999.00,9,   -999.0,-999.0000, -999,9,  100,  19.2861,  24.7843,   -999.0,9
       KE00-04,  NONE,KE-1290,  1,      8,02-10382,2,20000603,0607, 30.0063, 135.2458,   -9,    125.5,  19.2004,  34.7995,2,   -999.0,9,  34.7995,2,    218.0,2,  -999.00,9,  -999.00,9,     1.75,2,     0.02,2,     0.10,2, -999.000,9, -999.000,9,  -999.00,9,   1989.5,2,   -999.0,9,-999.0000,9,   -999.0,  9,  -999.00,9,   -999.0,  -999.00,9,  -999.00,9,  -999.00,9,  -999.00,9,   -999.0,-999.0000, -999,9,  125,  19.1779,  24.8225,   -999.0,9
       KE00-04,  NONE,KE-1290,  1,      7,02-10721,2,20000603,0605, 30.0063, 135.2458,   -9,    151.3,  19.0489,  34.8015,2,   -999.0,9,  34.8016,2,    221.0,2,  -999.00,9,  -999.00,9,     1.53,2,     0.02,2,     0.10,2, -999.000,9, -999.000,9,  -999.00,9,   1989.2,2,   -999.0,9,-999.0000,9,   -999.0,  9,  -999.00,9,   -999.0,  -999.00,9,  -999.00,9,  -999.00,9,  -999.00,9,   -999.0,-999.0000, -999,9,  150,  19.0219,  24.8639,   -999.0,9
       KE00-04,  NONE,KE-1290,  1,      6,   B-999,2,20000603,0604, 30.0063, 135.2458,   -9,    200.5,  18.8656,  34.8014,2,   -999.0,9,  34.8014,2,    223.0,2,  -999.00,9,  -999.00,9,     1.64,2,     0.01,2,     0.10,2, -999.000,9, -999.000,9,  -999.00,9,   1987.3,2,   -999.0,9,-999.0000,9,   -999.0,  9,  -999.00,9,   -999.0,  -999.00,9,  -999.00,9,  -999.00,9,  -999.00,9,   -999.0,-999.0000, -999,9,  199,  18.8300,  24.9126,   -999.0,9
       KE00-04,  NONE,KE-1290,  1,      5,02-10371,2,20000603,0602, 30.0063, 135.2458,   -9,    251.3,  18.7513,  34.8010,2,   -999.0,9,  34.5010,2,    223.0,2,  -999.00,9,  -999.00,9,     1.78,2,     0.01,2,     0.10,2, -999.000,9, -999.000,9,  -999.00,9,   1991.4,3,   -999.0,9,-999.0000,9,   -999.0,  9,  -999.00,9,   -999.0,  -999.00,9,  -999.00,9,  -999.00,9,  -999.00,9,   -999.0,-999.0000, -999,9,  249,  18.7069,  24.9434,   -999.0,9
       KE00-04,  NONE,KE-1290,  1,      4,02-10730,2,20000603,0600, 30.0063, 135.2458,   -9,    300.6,  18.6718,  34.8014,2,   -999.0,9,  34.8001,2,    222.0,2,  -999.00,9,  -999.00,9,     1.89,2,     0.01,2,     0.11,2, -999.000,9, -999.000,9,  -999.00,9,   1992.8,2,   -999.0,9,-999.0000,9,   -999.0,  9,  -999.00,9,   -999.0,  -999.00,9,  -999.00,9,  -999.00,9,  -999.00,9,   -999.0,-999.0000, -999,9,  298,  18.6188,  24.9659,   -999.0,9
       KE00-04,  NONE,KE-1290,  1,      3,02-10722,2,20000603,0558, 30.0063, 135.2458,   -9,    401.4,  17.8427,  34.7936,2,   -999.0,9,  34.7914,2,    199.0,2,  -999.00,9,  -999.00,9,     5.31,2,     0.00,2,     0.32,2, -999.000,9, -999.000,9,  -999.00,9,   2024.9,2,   -999.0,9,-999.0000,9,   -999.0,  9,  -999.00,9,   -999.0,  -999.00,9,  -999.00,9,  -999.00,9,  -999.00,9,   -999.0,-999.0000, -999,9,  398,  17.7740,  25.1694,   -999.0,9
       KE00-04,  NONE,KE-1290,  1,      2,02-10715,2,20000603,0555, 30.0063, 135.2458,   -9,    502.2,  15.7800,  34.6785,2,   -999.0,9,  34.6816,2,    191.0,2,  -999.00,9,  -999.00,9,     8.99,2,     0.00,2,     0.57,2, -999.000,9, -999.000,9,  -999.00,9,   2056.2,2,   -999.0,9,-999.0000,9,   -999.0,  9,  -999.00,9,   -999.0,  -999.00,9,  -999.00,9,  -999.00,9,  -999.00,9,   -999.0,-999.0000, -999,9,  498,  15.7008,  25.5682,   -999.0,9
       KE00-04,  NONE,KE-1290,  1,      1,02-10716,2,20000603,0555, 30.0063, 135.2458,   -9,    502.2,  15.7800,  34.6785,2,   -999.0,9,  34.6780,2,    190.0,2,  -999.00,9,  -999.00,9,     9.01,2,     0.00,2,     0.58,2, -999.000,9, -999.000,9,  -999.00,9,   -999.0,9,   -999.0,9,-999.0000,9,   -999.0,  9,  -999.00,9,   -999.0,  -999.00,9,  -999.00,9,  -999.00,9,  -999.00,9,   -999.0,-999.0000, -999,9,  498,  15.7008,  25.5682,   -999.0,9
       KE00-04,  NONE,KE-1291,  1,     -9,      -9,5,20000603,0935, 30.5008, 135.2510,   -9,      0.0,  22.3860,  34.6966,2,   -999.0,9,-999.0000,9,    226.0,2,  -999.00,9,  -999.00,9,     0.09,2,     0.00,2,     0.01,2, -999.000,9, -999.000,9,  -999.00,9,   1966.2,3,   -999.0,9,-999.0000,9,   -999.0,  9,  -999.00,9,   -999.0,  -999.00,9,  -999.00,9,  -999.00,9,  -999.00,9,   -999.0,-999.0000, -999,9,    0,  22.3860,  23.8787,   -999.0,9
       KE00-04,  NONE,KE-1291,  1,     12,02-10720,2,20000603,1016, 30.5008, 135.2510,   -9,      9.4,  22.3549,  34.7012,2,   -999.0,9,-999.0000,9,    227.0,2,  -999.00,9,  -999.00,9,     0.01,2,     0.00,2,     0.00,2, -999.000,9, -999.000,9,  -999.00,9,   1964.7,2,   -999.0,9,-999.0000,9,   -999.0,  9,  -999.00,9,   -999.0,  -999.00,9,  -999.00,9,  -999.00,9,  -999.00,9,   -999.0,-999.0000, -999,9,    9,  22.3530,  23.8916,   -999.0,9
       KE00-04,  NONE,KE-1291,  1,     11,   B-203,2,20000603,1015, 30.5008, 135.2510,   -9,     24.4,  20.8219,  34.7575,2,   -999.0,9,-999.0000,9,    235.0,2,  -999.00,9,  -999.00,9,     0.01,2,     0.00,2,     0.00,2, -999.000,9, -999.000,9,  -999.00,9,   1965.3,2,   -999.0,9,-999.0000,9,   -999.0,  9,  -999.00,9,   -999.0,  -999.00,9,  -999.00,9,  -999.00,9,  -999.00,9,   -999.0,-999.0000, -999,9,   24,  20.8173,  24.3588,   -999.0,9
       KE00-04,  NONE,KE-1291,  1,     10,02-10719,2,20000603,1013, 30.5008, 135.2510,   -9,     50.8,  19.4265,  34.7776,2,   -999.0,9,-999.0000,9,    238.0,2,  -999.00,9,  -999.00,9,     0.09,2,     0.00,2,     0.01,2, -999.000,9, -999.000,9,  -999.00,9,   1975.4,2,   -999.0,9,-999.0000,9,   -999.0,  9,  -999.00,9,   -999.0,  -999.00,9,  -999.00,9,  -999.00,9,  -999.00,9,   -999.0,-999.0000, -999,9,   50,  19.4173,  24.7441,   -999.0,9
       KE00-04,  NONE,KE-1291,  1,      9,   B-207,2,20000603,1012, 30.5008, 135.2510,   -9,     74.3,  19.0614,  34.7953,2,   -999.0,9,-999.0000,9,    236.0,2,  -999.00,9,  -999.00,9,     0.00,2,     0.00,2,     0.02,2, -999.000,9, -999.000,9,  -999.00,9,   1975.6,2,   -999.0,9,-999.0000,9,   -999.0,  9,  -999.00,9,   -999.0,  -999.00,9,  -999.00,9,  -999.00,9,  -999.00,9,   -999.0,-999.0000, -999,9,   74,  19.0482,  24.8524,   -999.0,9
       KE00-04,  NONE,KE-1291,  1,      8,02-10382,2,20000603,1010, 30.5008, 135.2510,   -9,     99.9,  18.8610,  34.8000,2,   -999.0,9,-999.0000,9,    229.0,2,  -999.00,9,  -999.00,9,     0.79,2,     0.34,2,     0.06,2, -999.000,9, -999.000,9,  -999.00,9,   1985.7,2,   -999.0,9,-999.0000,9,   -999.0,  9,  -999.00,9,   -999.0,  -999.00,9,  -999.00,9,  -999.00,9,  -999.00,9,   -999.0,-999.0000, -999,9,   99,  18.8433,  24.9081,   -999.0,9
       KE00-04,  NONE,KE-1291,  1,      7,02-10721,2,20000603,1008, 30.5008, 135.2510,   -9,    126.2,  18.7481,  34.7978,2,   -999.0,9,-999.0000,9,    224.0,2,  -999.00,9,  -999.00,9,     1.64,2,     0.02,2,     0.09,2, -999.000,9, -999.000,9,  -999.00,9,   1990.8,2,   -999.0,9,-999.0000,9,   -999.0,  9,  -999.00,9,   -999.0,  -999.00,9,  -999.00,9,  -999.00,9,  -999.00,9,   -999.0,-999.0000, -999,9,  125,  18.7259,  24.9361,   -999.0,9
       KE00-04,  NONE,KE-1291,  1,      6,   B-999,2,20000603,1007, 30.5008, 135.2510,   -9,    151.6,  18.7024,  34.8005,2,   -999.0,9,-999.0000,9,    224.0,2,  -999.00,9,  -999.00,9,     1.53,2,     0.01,2,     0.09,2, -999.000,9, -999.000,9,  -999.00,9,   1990.5,2,   -999.0,9,-999.0000,9,   -999.0,  9,  -999.00,9,   -999.0,  -999.00,9,  -999.00,9,  -999.00,9,  -999.00,9,   -999.0,-999.0000, -999,9,  150,  18.6757,  24.9509,   -999.0,9
       KE00-04,  NONE,KE-1291,  1,      5,02-10371,2,20000603,1004, 30.5008, 135.2510,   -9,    202.2,  18.6198,  34.8004,2,   -999.0,9,-999.0000,9,    225.0,2,  -999.00,9,  -999.00,9,     1.72,2,     0.01,2,     0.10,2, -999.000,9, -999.000,9,  -999.00,9,   1989.0,2,   -999.0,9,-999.0000,9,   -999.0,  9,  -999.00,9,   -999.0,  -999.00,9,  -999.00,9,  -999.00,9,  -999.00,9,   -999.0,-999.0000, -999,9,  201,  18.5843,  24.9738,   -999.0,9
       KE00-04,  NONE,KE-1291,  1,      4,02-10730,2,20000603,1002, 30.5008, 135.2510,   -9,    251.7,  18.5761,  34.8033,2,   -999.0,9,-999.0000,9,    225.0,2,  -999.00,9,  -999.00,9,     1.71,2,     0.01,2,     0.10,2, -999.000,9, -999.000,9,  -999.00,9,   1991.2,2,   -999.0,9,-999.0000,9,   -999.0,  9,  -999.00,9,   -999.0,  -999.00,9,  -999.00,9,  -999.00,9,  -999.00,9,   -999.0,-999.0000, -999,9,  250,  18.5320,  24.9892,   -999.0,9
       KE00-04,  NONE,KE-1291,  1,      3,02-10722,2,20000603,1000, 30.5008, 135.2510,   -9,    305.8,  18.5212,  34.8065,2,   -999.0,9,-999.0000,9,    224.0,2,  -999.00,9,  -999.00,9,     1.76,2,     0.01,2,     0.10,2, -999.000,9, -999.000,9,  -999.00,9,   1989.0,2,   -999.0,9,-999.0000,9,   -999.0,  9,  -999.00,9,   -999.0,  -999.00,9,  -999.00,9,  -999.00,9,  -999.00,9,   -999.0,-999.0000, -999,9,  303,  18.4675,  25.0078,   -999.0,9
       KE00-04,  NONE,KE-1291,  1,      2,02-10715,2,20000603,0957, 30.5008, 135.2510,   -9,    402.9,  18.3599,  34.8115,2,   -999.0,9,-999.0000,9,    215.0,2,  -999.00,9,  -999.00,9,     2.88,2,     0.00,2,     0.17,2, -999.000,9, -999.000,9,  -999.00,9,   2001.6,2,   -999.0,9,-999.0000,9,   -999.0,  9,  -999.00,9,   -999.0,  -999.00,9,  -999.00,9,  -999.00,9,  -999.00,9,   -999.0,-999.0000, -999,9,  400,  18.2895,  25.0560,   -999.0,9
       KE00-04,  NONE,KE-1291,  1,      1,02-10716,2,20000603,0954, 30.5008, 135.2510,   -9,    501.3,  17.1758,  34.7864,2,   -999.0,9,-999.0000,9,    196.0,2,  -999.00,9,  -999.00,9,     6.25,2,     0.00,2,     0.37,2, -999.000,9, -999.000,9,  -999.00,9,   2029.4,2,   -999.0,9,-999.0000,9,   -999.0,  9,  -999.00,9,   -999.0,  -999.00,9,  -999.00,9,  -999.00,9,  -999.00,9,   -999.0,-999.0000, -999,9,  497,  17.0920,  25.3284,   -999.0,9
       KE00-04,  NONE,KE-1292,  1,     -9,      -9,5,20000603,1545, 30.9862, 135.2863,   -9,      0.0,  21.9776,  34.6550,2,   -999.0,9,-999.0000,9,    228.0,2,  -999.00,9,  -999.00,9,     0.18,2,     0.00,2,     0.00,2, -999.000,9, -999.000,9,  -999.00,9,   1966.5,3,   -999.0,9,-999.0000,9,   -999.0,  9,  -999.00,9,   -999.0,  -999.00,9,  -999.00,9,  -999.00,9,  -999.00,9,   -999.0,-999.0000, -999,9,    0,  21.9776,  23.9620,   -999.0,9
       KE00-04,  NONE,KE-1292,  1,     12,02-10720,2,20000603,1631, 30.9862, 135.2863,   -9,     11.4,  21.9758,  34.6589,2,   -999.0,9,-999.0000,9,    228.0,2,  -999.00,9,  -999.00,9,     0.05,2,     0.00,2,     0.00,2, -999.000,9, -999.000,9,  -999.00,9,   1962.6,2,   -999.0,9,-999.0000,9,   -999.0,  9,  -999.00,9,   -999.0,  -999.00,9,  -999.00,9,  -999.00,9,  -999.00,9,   -999.0,-999.0000, -999,9,   11,  21.9736,  23.9661,   -999.0,9
       KE00-04,  NONE,KE-1292,  1,     11,   B-203,2,20000603,1630, 30.9862, 135.2863,   -9,     26.0,  19.7721,  34.7780,2,   -999.0,9,-999.0000,9,    245.0,2,  -999.00,9,  -999.00,9,     0.15,2,     0.00,2,     0.00,2, -999.000,9, -999.000,9,  -999.00,9,   1967.7,2,   -999.0,9,-999.0000,9,   -999.0,  9,  -999.00,9,   -999.0,  -999.00,9,  -999.00,9,  -999.00,9,  -999.00,9,   -999.0,-999.0000, -999,9,   26,  19.7673,  24.6534,   -999.0,9
       KE00-04,  NONE,KE-1292,  1,     10,02-10719,2,20000603,1629, 30.9862, 135.2863,   -9,     50.5,  18.9193,  34.7998,2,   -999.0,9,-999.0000,9,    241.0,2,  -999.00,9,  -999.00,9,     0.05,2,     0.00,2,     0.01,2, -999.000,9, -999.000,9,  -999.00,9,   1972.9,2,   -999.0,9,-999.0000,9,   -999.0,  9,  -999.00,9,   -999.0,  -999.00,9,  -999.00,9,  -999.00,9,  -999.00,9,   -999.0,-999.0000, -999,9,   50,  18.9104,  24.8909,   -999.0,9
       KE00-04,  NONE,KE-1292,  1,      9,   B-207,2,20000603,1628, 30.9862, 135.2863,   -9,     76.0,  18.6892,  34.8051,2,   -999.0,9,-999.0000,9,   -999.0,4,  -999.00,9,  -999.00,9,  -999.00,4,  -999.00,4,  -999.00,4, -999.000,9, -999.000,9,  -999.00,9,   -999.0,9,   -999.0,9,-999.0000,9,   -999.0,  9,  -999.00,9,   -999.0,  -999.00,9,  -999.00,9,  -999.00,9,  -999.00,9,   -999.0,-999.0000, -999,9,   75,  18.6759,  24.9544,   -999.0,9
       KE00-04,  NONE,KE-1292,  1,      8,02-10382,2,20000603,1627, 30.9862, 135.2863,   -9,    100.7,  18.6022,  34.8060,2,   -999.0,9,-999.0000,9,    226.0,2,  -999.00,9,  -999.00,9,     0.84,2,     0.20,2,     0.06,2, -999.000,9, -999.000,9,  -999.00,9,   1988.6,2,   -999.0,9,-999.0000,9,   -999.0,  9,  -999.00,9,   -999.0,  -999.00,9,  -999.00,9,  -999.00,9,  -999.00,9,   -999.0,-999.0000, -999,9,  100,  18.5846,  24.9781,   -999.0,9
       KE00-04,  NONE,KE-1292,  1,      7,02-10721,2,20000603,1625, 30.9862, 135.2863,   -9,    126.5,  18.5496,  34.8057,2,   -999.0,9,-999.0000,9,    224.0,2,  -999.00,9,  -999.00,9,     1.50,2,     0.01,2,     0.08,2, -999.000,9, -999.000,9,  -999.00,9,   1994.0,2,   -999.0,9,-999.0000,9,   -999.0,  9,  -999.00,9,   -999.0,  -999.00,9,  -999.00,9,  -999.00,9,  -999.00,9,   -999.0,-999.0000, -999,9,  126,  18.5274,  24.9921,   -999.0,9
       KE00-04,  NONE,KE-1292,  1,      6,   B-999,2,20000603,1624, 30.9862, 135.2863,   -9,    150.1,  18.5187,  34.8068,2,   -999.0,9,-999.0000,9,    222.0,2,  -999.00,9,  -999.00,9,     1.57,2,     0.01,2,     0.09,2, -999.000,9, -999.000,9,  -999.00,9,   1994.2,2,   -999.0,9,-999.0000,9,   -999.0,  9,  -999.00,9,   -999.0,  -999.00,9,  -999.00,9,  -999.00,9,  -999.00,9,   -999.0,-999.0000, -999,9,  149,  18.4925,  25.0018,   -999.0,9
       KE00-04,  NONE,KE-1292,  1,      5,02-10371,2,20000603,1622, 30.9862, 135.2863,   -9,    201.4,  18.4636,  34.8054,2,   -999.0,9,-999.0000,9,    227.0,2,  -999.00,9,  -999.00,9,     1.71,2,     0.01,2,     0.09,2, -999.000,9, -999.000,9,  -999.00,9,   1988.5,2,   -999.0,9,-999.0000,9,   -999.0,  9,  -999.00,9,   -999.0,  -999.00,9,  -999.00,9,  -999.00,9,  -999.00,9,   -999.0,-999.0000, -999,9,  200,  18.4284,  25.0167,   -999.0,9
       KE00-04,  NONE,KE-1292,  1,      4,02-10730,2,20000603,1621, 30.9862, 135.2863,   -9,    252.9,  18.4585,  34.8065,2,   -999.0,9,-999.0000,9,    226.0,2,  -999.00,9,  -999.00,9,     1.75,2,     0.01,2,     0.09,2, -999.000,9, -999.000,9,  -999.00,9,   1991.1,2,   -999.0,9,-999.0000,9,   -999.0,  9,  -999.00,9,   -999.0,  -999.00,9,  -999.00,9,  -999.00,9,  -999.00,9,   -999.0,-999.0000, -999,9,  251,  18.4143,  25.0211,   -999.0,9
       KE00-04,  NONE,KE-1292,  1,      3,02-10722,2,20000603,1619, 30.9862, 135.2863,   -9,    301.9,  18.4567,  34.8092,2,   -999.0,9,-999.0000,9,    226.0,2,  -999.00,9,  -999.00,9,     1.74,2,     0.01,2,     0.09,2, -999.000,9, -999.000,9,  -999.00,9,   1987.1,2,   -999.0,9,-999.0000,9,   -999.0,  9,  -999.00,9,   -999.0,  -999.00,9,  -999.00,9,  -999.00,9,  -999.00,9,   -999.0,-999.0000, -999,9,  300,  18.4039,  25.0258,   -999.0,9
       KE00-04,  NONE,KE-1292,  1,      2,02-10715,2,20000603,1616, 30.9862, 135.2863,   -9,    402.4,  18.4461,  34.8132,2,   -999.0,9,-999.0000,9,    224.0,2,  -999.00,9,  -999.00,9,     1.82,2,     0.00,2,     0.10,2, -999.000,9, -999.000,9,  -999.00,9,   1988.3,2,   -999.0,9,-999.0000,9,   -999.0,  9,  -999.00,9,   -999.0,  -999.00,9,  -999.00,9,  -999.00,9,  -999.00,9,   -999.0,-999.0000, -999,9,  399,  18.3755,  25.0359,   -999.0,9
       KE00-04,  NONE,KE-1292,  1,      1,02-10716,2,20000603,1613, 30.9862, 135.2863,   -9,    503.5,  18.0545,  34.8441,2,   -999.0,9,-999.0000,9,    207.0,2,  -999.00,9,  -999.00,9,     3.91,2,     0.00,2,     0.20,2, -999.000,9, -999.000,9,  -999.00,9,   2013.7,2,   -999.0,9,-999.0000,9,   -999.0,  9,  -999.00,9,   -999.0,  -999.00,9,  -999.00,9,  -999.00,9,  -999.00,9,   -999.0,-999.0000, -999,9,  499,  17.9673,  25.1607,   -999.0,9