BOTTLE,20130510GEMDJMAYT
EXPOCODE,SECT_ID,STNNBR,CASTNO,SAMPNO,BTLNBR,BTLNBR_FLAG_W,DATE,TIME,LATITUDE,LONGITUDE,DEPTH,CTDPRS,CTDTMP,CTDSAL,CTDSAL_FLAG_W,CTDOXY,CTDOXY_FLAG_W,SALNTY,SALNTY_FLAG_W,OXYGEN,OXYGEN_FLAG_W,SILCAT,SILCAT_FLAG_W,NITRAT,NITRAT_FLAG_W,NO2+NO3,NO2+NO3_FLAG_W,NITRIT,NITRIT_FLAG_W,PHSPHT,PHSPHT_FLAG_W,CFC-11,CFC-11_FLAG_W,CFC-12,CFC-12_FLAG_W,DELC13,DELC13_FLAG_W,TCARBN,TCARBN_FLAG_W,ALKALI,ALKALI_FLAG_W,PH,PH_FLAG_W,PH_TMP,PH_SCALE,PH_NBS,PH_NBS_FLAG_W,C13ERR,TOTALP,TOTALP_FLAG_W,AMMONI,AMMONI_FLAG_W,CHLORA,CHLORA_FLAG_W,PPHYTN,PPHYTN_FLAG_W,REVPRS,REVTMP,DEPTH_,DEPTH_FLAG,CTDDEP,THETA,SIGTHT,DOC,DOC_FLAG_W
,,,,,,,GMT,GMT,,,METER,DBAR,ITS-90,PSS-78,,UMOL/KG,,PSS-78,,UMOL/KG,,UMOL/KG,,UMOL/KG,,UMOL/KG,,UMOL/KG,,UMOL/KG,,PMOL/KG,,PMOL/KG,,/MILLE,,UMOL/KG,,UMOL/KG,,25_DEG_C,,DEG_C,,,,/MILLE,UMOL/KG,,UMOL/KG,,UG/L,,UG/L,,DBAR,ITS-90,METERS,,METERS,DEG_C,,UMOL/L,
       KE00-04,  137E,KE-1266,  1,     -9,      -9,5,20000516,0805, 17.0162, 137.0200,   -9,      0.0,  29.3038,  34.5533,2,   -999.0,9,-999.0000,9,    201.0,2,  -999.00,9,  -999.00,9,  -999.00,9,  -999.00,9,  -999.00,9, -999.000,9, -999.000,9,  -999.00,9,   1904.3,2,   -999.0,9,-999.0000,9,   -999.0,  9,  -999.00,9,   -999.0,  -999.00,9,  -999.00,9,  -999.00,9,  -999.00,9,   -999.0,-999.0000, -999,9,    0,  29.3038,  21.6270,   -999.0,9
       KE00-04,  137E,KE-1266,  1,     12, 02-9138,2,20000516,0902, 17.0162, 137.0200,   -9,     24.6,  28.7536,  34.7662,2,   -999.0,9,-999.0000,9,    202.0,2,  -999.00,9,  -999.00,9,  -999.00,9,  -999.00,9,  -999.00,9, -999.000,9, -999.000,9,  -999.00,9,   -999.0,9,   -999.0,9,-999.0000,9,   -999.0,  9,  -999.00,9,   -999.0,  -999.00,9,  -999.00,9,  -999.00,9,  -999.00,9,   -999.0,-999.0000, -999,9,   24,  28.7477,  21.9726,   -999.0,9
       KE00-04,  137E,KE-1266,  1,     11, 02-9870,2,20000516,0901, 17.0162, 137.0200,   -9,     50.4,  28.2509,  34.8116,2,   -999.0,9,-999.0000,9,    204.0,2,  -999.00,9,  -999.00,9,  -999.00,9,  -999.00,9,  -999.00,9, -999.000,9, -999.000,9,  -999.00,9,   -999.0,9,   -999.0,9,-999.0000,9,   -999.0,  9,  -999.00,9,   -999.0,  -999.00,9,  -999.00,9,  -999.00,9,  -999.00,9,   -999.0,-999.0000, -999,9,   50,  28.2390,  22.1747,   -999.0,9
       KE00-04,  137E,KE-1266,  1,     10, 02-9139,2,20000516,0859, 17.0162, 137.0200,   -9,    100.2,  26.3675,  34.9862,2,   -999.0,9,-999.0000,9,    205.0,2,  -999.00,9,  -999.00,9,  -999.00,9,  -999.00,9,  -999.00,9, -999.000,9, -999.000,9,  -999.00,9,   -999.0,9,   -999.0,9,-999.0000,9,   -999.0,  9,  -999.00,9,   -999.0,  -999.00,9,  -999.00,9,  -999.00,9,  -999.00,9,   -999.0,-999.0000, -999,9,  100,  26.3449,  22.9149,   -999.0,9
       KE00-04,  137E,KE-1266,  1,      9, 02-8088,2,20000516,0855, 17.0162, 137.0200,   -9,    199.5,  20.0284,  34.9406,2,   -999.0,9,-999.0000,9,    187.0,2,  -999.00,9,  -999.00,9,  -999.00,9,  -999.00,9,  -999.00,9, -999.000,9, -999.000,9,  -999.00,9,   -999.0,9,   -999.0,9,-999.0000,9,   -999.0,  9,  -999.00,9,   -999.0,  -999.00,9,  -999.00,9,  -999.00,9,  -999.00,9,   -999.0,-999.0000, -999,9,  198,  19.9914,  24.7187,   -999.0,9
       KE00-04,  137E,KE-1266,  1,      8, 02-9137,2,20000516,0852, 17.0162, 137.0200,   -9,    300.2,  14.7175,  34.5469,2,   -999.0,9,-999.0000,9,    194.0,2,  -999.00,9,  -999.00,9,  -999.00,9,  -999.00,9,  -999.00,9, -999.000,9, -999.000,9,  -999.00,9,   -999.0,9,   -999.0,9,-999.0000,9,   -999.0,  9,  -999.00,9,   -999.0,  -999.00,9,  -999.00,9,  -999.00,9,  -999.00,9,   -999.0,-999.0000, -999,9,  298,  14.6726,  25.6938,   -999.0,9
       KE00-04,  137E,KE-1266,  1,      7, 02-6219,2,20000516,0849, 17.0162, 137.0200,   -9,    400.0,  10.8474,  34.2982,2,   -999.0,9,-999.0000,9,    155.0,2,  -999.00,9,  -999.00,9,  -999.00,9,  -999.00,9,  -999.00,9, -999.000,9, -999.000,9,  -999.00,9,   -999.0,9,   -999.0,9,-999.0000,9,   -999.0,  9,  -999.00,9,   -999.0,  -999.00,9,  -999.00,9,  -999.00,9,  -999.00,9,   -999.0,-999.0000, -999,9,  397,  10.7985,  26.2651,   -999.0,9
       KE00-04,  137E,KE-1266,  1,      6, 02-8080,2,20000516,0846, 17.0162, 137.0200,   -9,    502.3,   7.8113,  34.1840,2,   -999.0,9,-999.0000,9,    116.0,2,  -999.00,9,  -999.00,9,  -999.00,9,  -999.00,9,  -999.00,9, -999.000,9, -999.000,9,  -999.00,9,   -999.0,9,   -999.0,9,-999.0000,9,   -999.0,  9,  -999.00,9,   -999.0,  -999.00,9,  -999.00,9,  -999.00,9,  -999.00,9,   -999.0,-999.0000, -999,9,  499,   7.7608,  26.6682,   -999.0,9
       KE00-04,  137E,KE-1266,  1,      5, 02-9145,2,20000516,0842, 17.0162, 137.0200,   -9,    601.9,   6.2671,  34.2761,2,   -999.0,9,-999.0000,9,     73.0,2,  -999.00,9,  -999.00,9,  -999.00,9,  -999.00,9,  -999.00,9, -999.000,9, -999.000,9,  -999.00,9,   -999.0,9,   -999.0,9,-999.0000,9,   -999.0,  9,  -999.00,9,   -999.0,  -999.00,9,  -999.00,9,  -999.00,9,  -999.00,9,   -999.0,-999.0000, -999,9,  597,   6.2131,  26.9534,   -999.0,9
       KE00-04,  137E,KE-1266,  1,      4, 02-9134,2,20000516,0837, 17.0162, 137.0200,   -9,    803.1,   5.0204,  34.4432,2,   -999.0,9,-999.0000,9,     78.0,2,  -999.00,9,  -999.00,9,  -999.00,9,  -999.00,9,  -999.00,9, -999.000,9, -999.000,9,  -999.00,9,   -999.0,9,   -999.0,9,-999.0000,9,   -999.0,  9,  -999.00,9,   -999.0,  -999.00,9,  -999.00,9,  -999.00,9,  -999.00,9,   -999.0,-999.0000, -999,9,  797,   4.9545,  27.2391,   -999.0,9
       KE00-04,  137E,KE-1266,  1,      3, 02-9143,2,20000516,0833, 17.0162, 137.0200,   -9,   1004.0,   4.0118,  34.5158,2,   -999.0,9,-999.0000,9,     86.0,2,  -999.00,9,  -999.00,9,  -999.00,9,  -999.00,9,  -999.00,9, -999.000,9, -999.000,9,  -999.00,9,   -999.0,9,   -999.0,9,-999.0000,9,   -999.0,  9,  -999.00,9,   -999.0,  -999.00,9,  -999.00,9,  -999.00,9,  -999.00,9,   -999.0,-999.0000, -999,9,  996,   3.9357,  27.4076,   -999.0,9
       KE00-04,  137E,KE-1266,  1,      2, 02-9135,2,20000516,0824, 17.0162, 137.0200,   -9,   1510.3,   2.7022,  34.5830,2,   -999.0,9,-999.0000,9,    103.0,2,  -999.00,9,  -999.00,9,  -999.00,9,  -999.00,9,  -999.00,9, -999.000,9, -999.000,9,  -999.00,9,   -999.0,9,   -999.0,9,-999.0000,9,   -999.0,  9,  -999.00,9,   -999.0,  -999.00,9,  -999.00,9,  -999.00,9,  -999.00,9,   -999.0,-999.0000, -999,9, 1496,   2.5969,  27.5881,   -999.0,9
       KE00-04,  137E,KE-1266,  1,      1, 02-6220,2,20000516,0816, 17.0162, 137.0200,   -9,   2021.7,   2.0506,  34.6260,2,   -999.0,9,-999.0000,9,    117.0,2,  -999.00,9,  -999.00,9,  -999.00,9,  -999.00,9,  -999.00,9, -999.000,9, -999.000,9,  -999.00,9,   -999.0,9,   -999.0,9,-999.0000,9,   -999.0,  9,  -999.00,9,   -999.0,  -999.00,9,  -999.00,9,  -999.00,9,  -999.00,9,   -999.0,-999.0000, -999,9, 2000,   1.9115,  27.6790,   -999.0,9
       KE00-04,  137E,KE-1267,  1,     -9,      -9,5,20000516,1625, 15.9998, 136.9910,   -9,      0.0,  29.2387,  34.5135,2,   -999.0,9,-999.0000,9,    199.0,2,  -999.00,9,  -999.00,9,  -999.00,9,  -999.00,9,  -999.00,9, -999.000,9, -999.000,9,  -999.00,9,   1912.3,2,   -999.0,9,-999.0000,9,   -999.0,  9,  -999.00,9,   -999.0,  -999.00,9,  -999.00,9,  -999.00,9,  -999.00,9,   -999.0,-999.0000, -999,9,    0,  29.2387,  21.6190,   -999.0,9
       KE00-04,  137E,KE-1267,  1,     12, 02-9138,2,20000516,1723, 15.9998, 136.9910,   -9,     26.2,  28.6211,  34.5656,2,   -999.0,9,-999.0000,9,    204.0,2,  -999.00,9,  -999.00,9,  -999.00,9,  -999.00,9,  -999.00,9, -999.000,9, -999.000,9,  -999.00,9,   -999.0,9,   -999.0,9,-999.0000,9,   -999.0,  9,  -999.00,9,   -999.0,  -999.00,9,  -999.00,9,  -999.00,9,  -999.00,9,   -999.0,-999.0000, -999,9,   26,  28.6149,  21.8660,   -999.0,9
       KE00-04,  137E,KE-1267,  1,     11, 02-9870,2,20000516,1721, 15.9998, 136.9910,   -9,     53.7,  28.4450,  34.6571,2,   -999.0,9,-999.0000,9,    204.0,2,  -999.00,9,  -999.00,9,  -999.00,9,  -999.00,9,  -999.00,9, -999.000,9, -999.000,9,  -999.00,9,   -999.0,9,   -999.0,9,-999.0000,9,   -999.0,  9,  -999.00,9,   -999.0,  -999.00,9,  -999.00,9,  -999.00,9,  -999.00,9,   -999.0,-999.0000, -999,9,   53,  28.4322,  21.9950,   -999.0,9
       KE00-04,  137E,KE-1267,  1,     10, 02-9139,2,20000516,1719, 15.9998, 136.9910,   -9,    102.6,  27.2930,  34.9855,2,   -999.0,9,-999.0000,9,    203.0,2,  -999.00,9,  -999.00,9,  -999.00,9,  -999.00,9,  -999.00,9, -999.000,9, -999.000,9,  -999.00,9,   -999.0,9,   -999.0,9,-999.0000,9,   -999.0,  9,  -999.00,9,   -999.0,  -999.00,9,  -999.00,9,  -999.00,9,  -999.00,9,   -999.0,-999.0000, -999,9,  102,  27.2693,  22.6206,   -999.0,9
       KE00-04,  137E,KE-1267,  1,      9, 02-8088,2,20000516,1716, 15.9998, 136.9910,   -9,    201.1,  21.8154,  34.9999,2,   -999.0,9,-999.0000,9,    179.0,2,  -999.00,9,  -999.00,9,  -999.00,9,  -999.00,9,  -999.00,9, -999.000,9, -999.000,9,  -999.00,9,   -999.0,9,   -999.0,9,-999.0000,9,   -999.0,  9,  -999.00,9,   -999.0,  -999.00,9,  -999.00,9,  -999.00,9,  -999.00,9,   -999.0,-999.0000, -999,9,  200,  21.7758,  24.2804,   -999.0,9
       KE00-04,  137E,KE-1267,  1,      8, 02-9137,2,20000516,1713, 15.9998, 136.9910,   -9,    301.2,  15.7764,  34.6639,2,   -999.0,9,-999.0000,9,    185.0,2,  -999.00,9,  -999.00,9,  -999.00,9,  -999.00,9,  -999.00,9, -999.000,9, -999.000,9,  -999.00,9,   -999.0,9,   -999.0,9,-999.0000,9,   -999.0,  9,  -999.00,9,   -999.0,  -999.00,9,  -999.00,9,  -999.00,9,  -999.00,9,   -999.0,-999.0000, -999,9,  299,  15.7292,  25.5505,   -999.0,9
       KE00-04,  137E,KE-1267,  1,      7, 02-6219,2,20000516,1711, 15.9998, 136.9910,   -9,    402.2,  11.4223,  34.3618,2,   -999.0,9,-999.0000,9,    142.0,2,  -999.00,9,  -999.00,9,  -999.00,9,  -999.00,9,  -999.00,9, -999.000,9, -999.000,9,  -999.00,9,   -999.0,9,   -999.0,9,-999.0000,9,   -999.0,  9,  -999.00,9,   -999.0,  -999.00,9,  -999.00,9,  -999.00,9,  -999.00,9,   -999.0,-999.0000, -999,9,  399,  11.3714,  26.2109,   -999.0,9
       KE00-04,  137E,KE-1267,  1,      6, 02-8080,2,20000516,1708, 15.9998, 136.9910,   -9,    502.2,   8.5213,  34.2708,2,   -999.0,9,-999.0000,9,    106.0,2,  -999.00,9,  -999.00,9,  -999.00,9,  -999.00,9,  -999.00,9, -999.000,9, -999.000,9,  -999.00,9,   -999.0,9,   -999.0,9,-999.0000,9,   -999.0,  9,  -999.00,9,   -999.0,  -999.00,9,  -999.00,9,  -999.00,9,  -999.00,9,   -999.0,-999.0000, -999,9,  499,   8.4680,  26.6303,   -999.0,9
       KE00-04,  137E,KE-1267,  1,      5, 02-9145,2,20000516,1705, 15.9998, 136.9910,   -9,    603.0,   6.8872,  34.3565,2,   -999.0,9,-999.0000,9,     73.0,2,  -999.00,9,  -999.00,9,  -999.00,9,  -999.00,9,  -999.00,9, -999.000,9, -999.000,9,  -999.00,9,   -999.0,9,   -999.0,9,-999.0000,9,   -999.0,  9,  -999.00,9,   -999.0,  -999.00,9,  -999.00,9,  -999.00,9,  -999.00,9,   -999.0,-999.0000, -999,9,  599,   6.8302,  26.9351,   -999.0,9
       KE00-04,  137E,KE-1267,  1,      4, 02-9134,2,20000516,1702, 15.9998, 136.9910,   -9,    805.4,   5.3096,  34.4642,2,   -999.0,9,-999.0000,9,     83.0,2,  -999.00,9,  -999.00,9,  -999.00,9,  -999.00,9,  -999.00,9, -999.000,9, -999.000,9,  -999.00,9,   -999.0,9,   -999.0,9,-999.0000,9,   -999.0,  9,  -999.00,9,   -999.0,  -999.00,9,  -999.00,9,  -999.00,9,  -999.00,9,   -999.0,-999.0000, -999,9,  799,   5.2418,  27.2222,   -999.0,9
       KE00-04,  137E,KE-1267,  1,      3, 02-9143,2,20000516,1658, 15.9998, 136.9910,   -9,   1007.0,   4.2969,  34.5075,2,   -999.0,9,-999.0000,9,     83.0,2,  -999.00,9,  -999.00,9,  -999.00,9,  -999.00,9,  -999.00,9, -999.000,9, -999.000,9,  -999.00,9,   -999.0,9,   -999.0,9,-999.0000,9,   -999.0,  9,  -999.00,9,   -999.0,  -999.00,9,  -999.00,9,  -999.00,9,  -999.00,9,   -999.0,-999.0000, -999,9,  999,   4.2184,  27.3715,   -999.0,9
       KE00-04,  137E,KE-1267,  1,      2, 02-9135,2,20000516,1650, 15.9998, 136.9910,   -9,   1514.7,   2.8031,  34.5792,2,   -999.0,9,-999.0000,9,    100.0,2,  -999.00,9,  -999.00,9,  -999.00,9,  -999.00,9,  -999.00,9, -999.000,9, -999.000,9,  -999.00,9,   -999.0,9,   -999.0,9,-999.0000,9,   -999.0,  9,  -999.00,9,   -999.0,  -999.00,9,  -999.00,9,  -999.00,9,  -999.00,9,   -999.0,-999.0000, -999,9, 1500,   2.6964,  27.5764,   -999.0,9
       KE00-04,  137E,KE-1267,  1,      1, 02-6220,2,20000516,1643, 15.9998, 136.9910,   -9,   2024.4,   2.0981,  34.6220,2,   -999.0,9,-999.0000,9,    116.0,2,  -999.00,9,  -999.00,9,  -999.00,9,  -999.00,9,  -999.00,9, -999.000,9, -999.000,9,  -999.00,9,   -999.0,9,   -999.0,9,-999.0000,9,   -999.0,  9,  -999.00,9,   -999.0,  -999.00,9,  -999.00,9,  -999.00,9,  -999.00,9,   -999.0,-999.0000, -999,9, 2003,   1.9581,  27.6721,   -999.0,9
       KE00-04,  137E,KE-1268,  1,     -9,      -9,5,20000517,0125, 15.0290, 136.9992,   -9,      0.0,  29.6030,  34.5422,2,   -999.0,9,  34.5562,2,    199.0,2,  -999.00,9,  -999.00,9,     0.00,2,     0.00,2,     0.02,2, -999.000,9, -999.000,9,  -999.00,9,   1917.8,2,   -999.0,9,-999.0000,9,   -999.0,  9,  -999.00,9,   -999.0,  -999.00,9,  -999.00,9,  -999.00,9,  -999.00,9,   -999.0,-999.0000, -999,9,    0,  29.6030,  21.5178,   -999.0,9
       KE00-04,  137E,KE-1268,  1,     12, 02-9138,2,20000517,0215, 15.0290, 136.9992,   -9,     25.6,  28.9362,  34.5929,2,   -999.0,9,  34.5956,2,    202.0,2,  -999.00,9,  -999.00,9,     0.00,2,     0.00,2,     0.01,2, -999.000,9, -999.000,9,  -999.00,9,   -999.0,9,   -999.0,9,-999.0000,9,   -999.0,  9,  -999.00,9,   -999.0,  -999.00,9,  -999.00,9,  -999.00,9,  -999.00,9,   -999.0,-999.0000, -999,9,   25,  28.9301,  21.7818,   -999.0,9
       KE00-04,  137E,KE-1268,  1,     11, 02-9870,2,20000517,0214, 15.0290, 136.9992,   -9,     50.0,  28.3785,  34.7328,2,   -999.0,9,  34.7365,2,    205.0,2,  -999.00,9,  -999.00,9,     0.00,2,     0.00,2,     0.01,2, -999.000,9, -999.000,9,  -999.00,9,   -999.0,9,   -999.0,9,-999.0000,9,   -999.0,  9,  -999.00,9,   -999.0,  -999.00,9,  -999.00,9,  -999.00,9,  -999.00,9,   -999.0,-999.0000, -999,9,   50,  28.3667,  22.0735,   -999.0,9
       KE00-04,  137E,KE-1268,  1,     10, 02-9139,2,20000517,0212, 15.0290, 136.9992,   -9,    100.6,  27.0523,  35.0326,2,   -999.0,9,  35.0359,2,    202.0,2,  -999.00,9,  -999.00,9,     0.00,2,     0.00,2,     0.00,2, -999.000,9, -999.000,9,  -999.00,9,   -999.0,9,   -999.0,9,-999.0000,9,   -999.0,  9,  -999.00,9,   -999.0,  -999.00,9,  -999.00,9,  -999.00,9,  -999.00,9,   -999.0,-999.0000, -999,9,  100,  27.0292,  22.7330,   -999.0,9
       KE00-04,  137E,KE-1268,  1,      9, 02-8088,2,20000517,0210, 15.0290, 136.9992,   -9,    199.2,  20.3576,  34.9504,2,   -999.0,9,  34.9483,2,    181.0,2,  -999.00,9,  -999.00,9,     3.34,2,     0.01,2,     0.26,2, -999.000,9, -999.000,9,  -999.00,9,   -999.0,9,   -999.0,9,-999.0000,9,   -999.0,  9,  -999.00,9,   -999.0,  -999.00,9,  -999.00,9,  -999.00,9,  -999.00,9,   -999.0,-999.0000, -999,9,  198,  20.3203,  24.6391,   -999.0,9
       KE00-04,  137E,KE-1268,  1,      8, 02-9137,2,20000517,0208, 15.0290, 136.9992,   -9,    299.6,  14.6508,  34.5814,2,   -999.0,9,  34.5771,2,    186.0,2,  -999.00,9,  -999.00,9,    10.33,2,     0.00,2,     0.68,2, -999.000,9, -999.000,9,  -999.00,9,   -999.0,9,   -999.0,9,-999.0000,9,   -999.0,  9,  -999.00,9,   -999.0,  -999.00,9,  -999.00,9,  -999.00,9,  -999.00,9,   -999.0,-999.0000, -999,9,  298,  14.6061,  25.7347,   -999.0,9
       KE00-04,  137E,KE-1268,  1,      7, 02-6219,2,20000517,0206, 15.0290, 136.9992,   -9,    400.7,  10.1764,  34.3203,2,   -999.0,9,  34.3205,2,    105.0,2,  -999.00,9,  -999.00,9,    23.66,2,     0.00,2,     1.67,2, -999.000,9, -999.000,9,  -999.00,9,   -999.0,9,   -999.0,9,-999.0000,9,   -999.0,  9,  -999.00,9,   -999.0,  -999.00,9,  -999.00,9,  -999.00,9,  -999.00,9,   -999.0,-999.0000, -999,9,  398,  10.1293,  26.3991,   -999.0,9
       KE00-04,  137E,KE-1268,  1,      6, 02-8080,2,20000517,0204, 15.0290, 136.9992,   -9,    500.5,   7.6825,  34.3199,2,   -999.0,9,  34.3155,2,     80.0,2,  -999.00,9,  -999.00,9,    32.75,2,     0.00,2,     2.33,2, -999.000,9, -999.000,9,  -999.00,9,   -999.0,9,   -999.0,9,-999.0000,9,   -999.0,  9,  -999.00,9,   -999.0,  -999.00,9,  -999.00,9,  -999.00,9,  -999.00,9,   -999.0,-999.0000, -999,9,  497,   7.6325,  26.7937,   -999.0,9
       KE00-04,  137E,KE-1268,  1,      5, 02-9145,2,20000517,0201, 15.0290, 136.9992,   -9,    600.5,   6.6930,  34.3999,2,   -999.0,9,  34.3954,2,     67.0,2,  -999.00,9,  -999.00,9,    35.93,2,     0.00,2,     2.54,2, -999.000,9, -999.000,9,  -999.00,9,   -999.0,9,   -999.0,9,-999.0000,9,   -999.0,  9,  -999.00,9,   -999.0,  -999.00,9,  -999.00,9,  -999.00,9,  -999.00,9,   -999.0,-999.0000, -999,9,  596,   6.6370,  26.9954,   -999.0,9
       KE00-04,  137E,KE-1268,  1,      4, 02-9134,2,20000517,0158, 15.0290, 136.9992,   -9,    801.5,   5.2087,  34.4777,2,   -999.0,9,  34.4771,2,     84.0,2,  -999.00,9,  -999.00,9,    37.32,2,     0.00,2,     2.63,2, -999.000,9, -999.000,9,  -999.00,9,   -999.0,9,   -999.0,9,-999.0000,9,   -999.0,  9,  -999.00,9,   -999.0,  -999.00,9,  -999.00,9,  -999.00,9,  -999.00,9,   -999.0,-999.0000, -999,9,  795,   5.1418,  27.2447,   -999.0,9
       KE00-04,  137E,KE-1268,  1,      3, 02-9143,2,20000517,0154, 15.0290, 136.9992,   -9,   1004.0,   4.3293,  34.5195,2,   -999.0,9,  34.5149,2,     89.0,2,  -999.00,9,  -999.00,9,    38.13,2,     0.00,2,     2.68,2, -999.000,9, -999.000,9,  -999.00,9,   -999.0,9,   -999.0,9,-999.0000,9,   -999.0,  9,  -999.00,9,   -999.0,  -999.00,9,  -999.00,9,  -999.00,9,  -999.00,9,   -999.0,-999.0000, -999,9,  996,   4.2507,  27.3775,   -999.0,9
       KE00-04,  137E,KE-1268,  1,      2, 02-9135,2,20000517,0147, 15.0290, 136.9992,   -9,   1509.2,   2.7762,  34.5847,2,   -999.0,9,  34.5809,2,    103.0,2,  -999.00,9,  -999.00,9,    38.48,2,     0.00,2,     2.71,2, -999.000,9, -999.000,9,  -999.00,9,   -999.0,9,   -999.0,9,-999.0000,9,   -999.0,  9,  -999.00,9,   -999.0,  -999.00,9,  -999.00,9,  -999.00,9,  -999.00,9,   -999.0,-999.0000, -999,9, 1495,   2.6702,  27.5831,   -999.0,9
       KE00-04,  137E,KE-1268,  1,      1, 02-6220,2,20000517,0138, 15.0290, 136.9992,   -9,   2019.1,   2.0559,  34.6255,2,   -999.0,9,  34.6228,2,    117.0,2,  -999.00,9,  -999.00,9,    38.12,2,     0.00,2,     2.63,2, -999.000,9, -999.000,9,  -999.00,9,   -999.0,9,   -999.0,9,-999.0000,9,   -999.0,  9,  -999.00,9,   -999.0,  -999.00,9,  -999.00,9,  -999.00,9,  -999.00,9,   -999.0,-999.0000, -999,9, 1998,   1.9170,  27.6782,   -999.0,9