BOTTLE,20100108MIRCJHATS
EXPOCODE,STNNBR,CASTNO,SAMPNO,BTLNBR,BTLNBR_FLAG_W,DATE,TIME,LATITUDE,LONGITUDE,DEPTH,CTDPRS,CTDTMP,CTDSAL,CTDSAL_FLAG_W,SALNTY,SALNTY_FLAG_W,OXYGEN,OXYGEN_FLAG_W,NITRAT,NITRAT_FLAG_W,NITRIT,NITRIT_FLAG_W,SILCAT,SILCAT_FLAG_W,PHSPHT,PHSPHT_FLAG_W,NH4,NH4_FLAG_W,ALKALI,ALKALI_FLAG_W,PH,PH_FLAG_W,TCARBN,TCARBN_FLAG_W
,,,,,,,,,,METERS,DBARS,,,,,,UMOL/KG,,UMOL/KG,,UMOL/KG,,UMOL/KG,,UMOL/KG,,UMOL/KG,,UMOL/KG,,,,UMOL/KG,
  49HO19970602,     2,  1,      1,      1,5,19970607,0000, 38.0000, 155.0000, -999,      0.0,  16.8930,  34.5110,2,  34.4861,2,   -999.0,9,  -999.00,9,  -999.00,9,    -0.70,3,     0.11,2,-999,9,   -999.0,9,    8.002,3,   1991.8,2
  49HO19970602,     2,  1,      1,      1,5,19970607,0000, 38.0000, 155.0000, -999,      9.8,  17.0260,  34.5120,2,  34.5588,2,    247.9,2,  -999.00,9,  -999.00,9,    -1.80,3,     0.10,2,-999,9,   -999.0,9,    7.988,3,   1988.9,2
  49HO19970602,     2,  1,      1,      1,5,19970607,0000, 38.0000, 155.0000, -999,     20.3,  17.0010,  34.5140,2,  34.5589,2,    253.5,2,  -999.00,9,  -999.00,9,    -1.60,3,     0.08,2,-999,9,   -999.0,9,    7.990,3,   1996.8,2
  49HO19970602,     2,  1,      1,      1,5,19970607,0000, 38.0000, 155.0000, -999,     29.7,  16.9640,  34.5170,2,  34.5589,2,    251.5,2,  -999.00,9,  -999.00,9,    -1.00,3,     0.10,2,-999,9,   -999.0,9,    7.979,3,   1986.1,2
  49HO19970602,     2,  1,      1,      1,5,19970607,0000, 38.0000, 155.0000, -999,     50.8,  14.7150,  34.6030,2,  34.6486,2,    241.9,2,  -999.00,9,  -999.00,9,     6.00,3,     0.37,2,-999,9,   -999.0,9,    7.915,3,   2033.2,2
  49HO19970602,     2,  1,      1,      1,5,19970607,0000, 38.0000, 155.0000, -999,     75.8,  14.2510,  34.5960,2,  34.6380,2,    234.7,2,  -999.00,9,  -999.00,9,     7.90,3,     0.45,2,-999,9,   -999.0,9,    7.903,3,   2048.8,2
  49HO19970602,     2,  1,      1,      1,5,19970607,0000, 38.0000, 155.0000, -999,    100.8,  13.7460,  34.5490,2,  34.5893,2,    224.2,2,  -999.00,9,  -999.00,9,    12.40,3,     0.54,2,-999,9,   -999.0,9,    7.875,3,   2060.1,2
  49HO19970602,     2,  1,      1,      1,5,19970607,0000, 38.0000, 155.0000, -999,    124.5,  13.2590,  34.5120,2,  34.5480,2,    230.3,2,  -999.00,9,  -999.00,9,    13.70,3,     0.61,2,-999,9,   -999.0,9,    7.868,3,   2058.7,2
  49HO19970602,     2,  1,      1,      1,5,19970607,0000, 38.0000, 155.0000, -999,    150.7,  12.5940,  34.4530,2,  34.4914,2,    226.7,2,  -999.00,9,  -999.00,9,    16.70,3,     0.75,2,-999,9,   -999.0,9,    7.852,3,   2066.4,2
  49HO19970602,     2,  1,      1,      1,5,19970607,0000, 38.0000, 155.0000, -999,    175.7,  11.9980,  34.3970,2,  34.4396,2,    232.8,2,  -999.00,9,  -999.00,9,    17.80,3,     0.73,2,-999,9,   -999.0,9,    7.841,3,   2073.0,2
  49HO19970602,     2,  1,      1,      1,5,19970607,0000, 38.0000, 155.0000, -999,    199.5,  11.3540,  34.3410,2,  34.3807,2,    246.8,2,  -999.00,9,  -999.00,9,    19.00,3,     0.74,2,-999,9,   -999.0,9,    7.839,3,   2076.2,2
  49HO19970602,     2,  1,      1,      1,5,19970607,0000, 38.0000, 155.0000, -999,    250.1,  10.3460,  34.2520,2,  34.2951,2,    250.5,2,  -999.00,9,  -999.00,9,    13.80,3,     0.88,2,-999,9,   -999.0,9,    7.823,3,   2078.9,2
  49HO19970602,     2,  1,      1,      1,5,19970607,0000, 38.0000, 155.0000, -999,    299.9,   9.4490,  34.1630,2,  34.2154,2,    249.3,2,  -999.00,9,  -999.00,9,    25.20,3,     0.99,2,-999,9,   -999.0,9,    7.799,3,   2099.1,2
  49HO19970602,     2,  1,      1,      1,5,19970607,0000, 38.0000, 155.0000, -999,    401.4,   6.7340,  33.9480,2,  33.9910,2,    184.7,2,  -999.00,9,  -999.00,9,    58.80,3,     1.74,2,-999,9,   -999.0,9,    7.611,3,   2170.9,2
  49HO19970602,     2,  1,      1,      1,5,19970607,0000, 38.0000, 155.0000, -999,    499.3,   5.3720,  33.9350,2,  33.9730,2,    143.5,2,  -999.00,9,  -999.00,9,    82.70,3,     2.26,2,-999,9,   -999.0,9,    7.508,3,   2222.5,2
  49HO19970602,     2,  1,      1,      1,5,19970607,0000, 38.0000, 155.0000, -999,    598.2,   4.5870,  33.9820,2,  34.0142,2,    107.5,2,  -999.00,9,  -999.00,9,   100.60,3,     2.60,2,-999,9,   -999.0,9,    7.417,3,   2261.8,2
  49HO19970602,     2,  1,      1,      1,5,19970607,0000, 38.0000, 155.0000, -999,    700.1,   4.1410,  34.1170,2,  34.1445,2,     68.0,2,  -999.00,9,  -999.00,9,   119.30,3,     2.86,2,-999,9,   -999.0,9,    7.363,3,   2310.5,2
  49HO19970602,     2,  1,      1,      1,5,19970607,0000, 38.0000, 155.0000, -999,    799.9,   3.7660,  34.2100,2,  34.2438,2,     52.9,2,  -999.00,9,  -999.00,9,   129.40,3,     2.92,2,-999,9,   -999.0,9,    7.348,3,   2331.0,2
  49HO19970602,     2,  1,      1,      1,5,19970607,0000, 38.0000, 155.0000, -999,    899.8,   3.5500,  34.2850,2,  34.3138,2,     49.6,2,  -999.00,9,  -999.00,9,   135.90,3,     2.97,2,-999,9,   -999.0,9,    7.340,3,   2343.2,2
  49HO19970602,     2,  1,      1,      1,5,19970607,0000, 38.0000, 155.0000, -999,    998.4,   3.2850,  34.3330,2,  34.3637,2,     48.2,2,  -999.00,9,  -999.00,9,   140.60,3,     3.00,2,-999,9,   -999.0,9,    7.335,3,   2353.9,2
  49HO19970602,     2,  1,      1,      1,5,19970607,0000, 38.0000, 155.0000, -999,   1096.0,   3.0520,  34.3690,2,  34.4011,2,     48.3,2,  -999.00,9,  -999.00,9,   147.20,3,     3.05,2,-999,9,   -999.0,9,    7.348,3,   2362.3,2
  49HO19970602,     2,  1,      1,      1,5,19970607,0000, 38.0000, 155.0000, -999,   1198.8,   2.8370,  34.4080,2,  34.4298,2,     48.4,2,  -999.00,9,  -999.00,9,   147.70,3,     3.06,2,-999,9,   -999.0,9,    7.352,3,   2369.3,2
  49HO19970602,     2,  1,      1,      1,5,19970607,0000, 38.0000, 155.0000, -999,   1299.8,   2.6920,  34.4320,2,  34.4668,2,     47.7,2,  -999.00,9,  -999.00,9,   147.70,3,     3.07,2,-999,9,   -999.0,9,    7.340,3,   2376.2,2
  49HO19970602,     2,  1,      1,      1,5,19970607,0000, 38.0000, 155.0000, -999,   1400.5,   2.5330,  34.4610,2,  34.4978,2,     47.1,2,  -999.00,9,  -999.00,9,   148.90,3,     3.08,2,-999,9,   -999.0,9,    7.343,3,   2382.5,2
  49HO19970602,     2,  1,      1,      1,5,19970607,0000, 38.0000, 155.0000, -999,   1501.7,   2.3860,  34.4880,2,  34.5175,2,     50.0,2,  -999.00,9,  -999.00,9,   149.50,3,  -999.00,9,-999,9,   -999.0,9,    7.354,3,   2387.4,2
  49HO19970602,     1,  1,      1,      1,5,19970606,0000, 37.3000, 155.0000, -999,      0.0,  15.6020,  34.4380,2,  34.5096,2,    254.4,2,  -999.00,9,  -999.00,9,     3.30,3,     0.19,3,-999,9,   -999.0,9,    7.976,3,   2013.6,2
  49HO19970602,     1,  1,      1,      1,5,19970606,0000, 37.3000, 155.0000, -999,     99.7,  13.9400,  34.5810,2,  34.6303,2,    238.1,2,  -999.00,9,  -999.00,9,     8.30,3,     0.53,3,-999,9,   -999.0,9,    7.889,3,   2061.4,2
  49HO19970602,     1,  1,      1,      1,5,19970606,0000, 37.3000, 155.0000, -999,    200.1,  11.9270,  34.3970,2,  34.4325,2,    237.1,2,  -999.00,9,  -999.00,9,    17.60,3,     0.82,3,-999,9,   -999.0,9,    7.840,3,   2087.0,2
  49HO19970602,     1,  1,      1,      1,5,19970606,0000, 37.3000, 155.0000, -999,    300.3,  10.2750,  34.2690,2,  34.3063,2,    238.5,2,  -999.00,9,  -999.00,9,    17.40,3,     0.80,3,-999,9,   -999.0,9,    7.829,3,   2107.6,2
  49HO19970602,     1,  1,      1,      1,5,19970606,0000, 37.3000, 155.0000, -999,    399.6,   8.3030,  34.0330,2,  34.0923,2,    225.0,2,  -999.00,9,  -999.00,9,    17.10,3,     0.90,3,-999,9,   -999.0,9,    7.753,3,   2123.2,2
  49HO19970602,     1,  1,      1,      1,5,19970606,0000, 37.3000, 155.0000, -999,    499.5,   6.0200,  33.8990,2,  33.9452,2,    160.8,2,  -999.00,9,  -999.00,9,    33.70,3,     1.20,3,-999,9,   -999.0,9,    7.592,3,   2197.0,2
  49HO19970602,     1,  1,      1,      1,5,19970606,0000, 37.3000, 155.0000, -999,    600.9,   4.9510,  33.9820,2,  33.9810,2,    126.4,2,  -999.00,9,  -999.00,9,    64.80,3,     2.04,3,-999,9,   -999.0,9,    7.492,3,   2241.3,2
  49HO19970602,     1,  1,      1,      1,5,19970606,0000, 37.3000, 155.0000, -999,    700.6,   3.9750,  34.0420,2,  34.0410,2,     92.8,2,  -999.00,9,  -999.00,9,   123.90,3,     2.36,3,-999,9,   -999.0,9,    7.408,3,   2284.5,2
  49HO19970602,     1,  1,      1,      1,5,19970606,0000, 37.3000, 155.0000, -999,    799.7,   3.9740,  34.1800,2,  34.1730,2,     69.4,2,  -999.00,9,  -999.00,9,   133.00,3,     2.97,3,-999,9,   -999.0,9,    7.421,3,   2314.6,2
  49HO19970602,     1,  1,      1,      1,5,19970606,0000, 37.3000, 155.0000, -999,    900.3,   3.6810,  34.2510,2,  34.2791,2,     55.3,2,  -999.00,9,  -999.00,9,   133.00,3,     3.05,3,-999,9,   -999.0,9,    7.402,3,   2340.8,2
  49HO19970602,     1,  1,      1,      1,5,19970606,0000, 37.3000, 155.0000, -999,   1001.2,   3.3450,  34.2960,2,  34.3490,2,     46.6,2,  -999.00,9,  -999.00,9,   138.20,3,     3.09,3,-999,9,   -999.0,9,    7.400,3,   2353.6,2
  49HO19970602,     1,  1,      1,      1,5,19970606,0000, 37.3000, 155.0000, -999,   1099.5,   3.1390,  34.3390,2,  34.3900,2,     46.9,2,  -999.00,9,  -999.00,9,   145.40,3,     3.06,3,-999,9,   -999.0,9,    7.374,3,   2361.2,2
  49HO19970602,     1,  1,      1,      1,5,19970606,0000, 37.3000, 155.0000, -999,   1199.0,   2.9120,  34.3950,2,  34.4315,2,     48.2,2,  -999.00,9,  -999.00,9,   144.00,3,     3.10,3,-999,9,   -999.0,9, -999.000,9,   2369.1,2