BOTTLE,20090818MIRCJHATS
##cruise name,HO98-1,,,date,1998/6/4,,,Start,End
##station,KNOT,,,transparency (m),13,,HO98023b,6/4 21:00,6/4 21:19,(SMT)
##latitude,44,2.93,N,depth (m),5312,,,6/4 11:00,6/4 11:19,(GMT)
##,,,,weather,o,,,6/4 12:00,6/4 14:04,(GMT)
##cruise name,HO98-1,,,date,1998/6/5,,,Start,End
##station,Stn.2,,,transparency (m),16,,HO98025b,6/6 1:10,6/4 21:19,(SMT),1/0 10:00
##latitude,42,29.53,N,depth (m),5240,,,6/5 15:10,6/4 11:19,(GMT)
##,,,,weather,c,,,6/5 12:33,6/5 14:24,(GMT)
##cruise name,HO98-1,,,date,1998/6/6,,,Start,End
##station,Stn.3,,,transparency (m),13,,HO98027,6/6 20:57,6/6 21:40,(SMT),1/0 10:00
##latitude,40,58.39,N,depth (m),5547,,,6/6 10:57,6/6 11:40,(GMT)
##,,,,weather,c,,,6/6 13:21,6/6 13:42,(GMT)
##cruise name,HO98-1,,,date,1998/6/7,,,Start,End
##station,Stn.4,,,transparency (m),17,,HO98029b,6/7 21:56,6/7 22:25,(SMT),1/0 10:00
##latitude,39,27.28,N,depth (m),5610,,,6/7 11:56,6/7 12:25,(GMT)
##,,,,weather,o,,,6/7 13:00,6/7 14:40,(GMT),,2073.7,2080.232471
##cruise name,HO98-1,,,date,1998/6/10,,,Start,End
##station,Stn.5,,,transparency (m),19,,HO98033,6/10 22:34,6/11 1:25,(SMT),1/0 10:00
##latitude,36,45.16,N,depth (m),5545,,,6/10 12:34,6/10 15:25,(GMT)
##,,,,weather,o,,,6/10 16:24,6/10 16:44,(GMT)
EXPOCODE,STNNBR,CASTNO,SAMPNO,BTLNBR,BTLNBR_FLAG_W,DATE,TIME,LATITUDE,LONGITUDE,DEPTH,CTDPRS,CTDTMP,CTDSAL,CTDSAL_FLAG_W,SALNTY,SALNTY_FLAG_W,OXYGEN,OXYGEN_FLAG_W,NO2+NO3,NO2+NO3_FLAG_W,NITRIT,NITRIT_FLAG_W,PHSPHT,PHSPHT_FLAG_W,SILCAT,SILCAT_FLAG_W,PH,PH_FLAG_W,TCARBN,TCARBN_FLAG_W,ALKALI,ALKALI_FLAG_W
,,,,,,,,,,METERS,DBARS,,,,,,UMOL/KG,,UMOL/KG,,UMOL/KG,,UMOL/KG,,UMOL/KG,,,,UMOL/KG,,UMOL/KG,
  49HO19980601,  KNOT,  1,      0,      0,2,19980604,1100, 44.0488, 154.9100, 5312,      0.0,   5.4400,  32.9300,2,  32.9480,2,    329.8,2,    16.20,2,     0.20,2,     1.52,2,    32.00,2, -999.000,9,   2076.3,2,   2235.1,2
  49HO19980601,  KNOT,  2,    S12,    S12,2,19980604,1100, 44.0488, 154.9100, 5312,     10.3,   5.2300,  32.9280,2,  32.9330,2,    330.3,2,    15.90,2,     0.20,2,     1.52,2,    31.80,2, -999.000,9,   2079.4,2,   2234.7,2
  49HO19980601,  KNOT,  2,    S11,    S11,2,19980604,1100, 44.0488, 154.9100, 5312,     19.8,   5.1200,  32.9290,2,  32.9330,2,    328.8,2,    16.30,2,     0.20,2,     1.54,2,    32.20,2, -999.000,9,   2098.4,2,   2227.8,2
  49HO19980601,  KNOT,  2,    S10,    S10,2,19980604,1100, 44.0488, 154.9100, 5312,     29.6,   5.0700,  32.9260,2,-999.0000,9,   -999.0,9,  -999.00,9,  -999.00,9,  -999.00,9,  -999.00,9, -999.000,9,   -999.0,9,   -999.0,9
  49HO19980601,  KNOT,  2,     S9,     S9,2,19980604,1100, 44.0488, 154.9100, 5312,     40.3,   4.8900,  32.9220,2,  32.9410,2,    327.9,2,    16.90,2,     0.20,2,     1.59,2,    33.10,2, -999.000,9,   2092.9,2,   2214.0,2
  49HO19980601,  KNOT,  2,     S8,     S8,2,19980604,1100, 44.0488, 154.9100, 5312,     49.4,   4.0800,  32.9510,2,  32.9660,2,    329.7,2,    18.40,2,     0.30,2,     1.67,2,    36.10,2, -999.000,9,   2109.7,2,   2216.3,2
  49HO19980601,  KNOT,  2,     S7,     S7,2,19980604,1100, 44.0488, 154.9100, 5312,     59.9,   2.9700,  32.9810,2,  32.9940,2,    330.9,2,    20.10,2,     0.40,2,     1.77,2,    39.60,2, -999.000,9,   2128.3,2,   2236.8,2
  49HO19980601,  KNOT,  2,     S6,     S6,2,19980604,1100, 44.0488, 154.9100, 5312,     80.2,   3.1800,  33.1370,2,  33.1510,2,    319.5,2,    21.20,2,     0.40,2,     1.73,2,    40.00,2, -999.000,9,   2125.8,2,   2224.5,2
  49HO19980601,  KNOT,  2,     S5,     S5,2,19980604,1100, 44.0488, 154.9100, 5312,    101.0,   2.3300,  33.1470,2,  33.1520,2,    312.0,2,    23.00,2,     0.00,2,     1.86,2,    43.90,2, -999.000,9,   2142.9,2,   2246.1,2
  49HO19980601,  KNOT,  2,     S4,     S4,2,19980604,1100, 44.0488, 154.9100, 5312,    124.3,   2.8000,  33.2980,2,  33.2930,2,    282.0,2,    24.20,2,     0.00,2,     1.90,2,    47.30,2, -999.000,9,   2150.7,2,   2250.3,2
  49HO19980601,  KNOT,  2,     S3,     S3,2,19980604,1100, 44.0488, 154.9100, 5312,    150.4,   2.6100,  33.3830,2,  33.3720,2,    215.5,2,    30.50,2,     0.00,2,     2.32,2,    64.20,2, -999.000,9,   2199.4,2,   2263.0,2
  49HO19980601,  KNOT,  2,     S2,     S2,2,19980604,1100, 44.0488, 154.9100, 5312,    199.5,   3.0300,  33.6060,2,  33.6070,2,    135.5,2,    36.80,2,     0.00,2,     2.70,2,    82.90,2, -999.000,9,   2262.8,2,   2272.0,2
  49HO19980601,  KNOT,  2,     S1,     S1,2,19980604,1100, 44.0488, 154.9100, 5312,    252.3,   3.5100,  33.8080,2,  33.8040,2,     95.2,2,    39.40,2,     0.00,2,     2.84,2,    94.70,2, -999.000,9,   2285.0,2,   2296.5,2
  49HO19980601,  KNOT,  3,    D12,    D12,2,19980604,1100, 44.0488, 154.9100, 5312,    298.7,   3.2500,  33.8650,2,  33.8740,2,     63.5,2,    42.20,2,     0.00,2,     3.04,2,   106.00,2, -999.000,9,   -999.0,9,   2304.9,2
  49HO19980601,  KNOT,  3,    D11,    D11,2,19980604,1100, 44.0488, 154.9100, 5312,    399.8,   3.3500,  34.0340,2,  34.0390,2,     38.1,2,    43.90,2,     0.00,2,     3.12,2,   122.10,2, -999.000,9,   -999.0,9,   2325.0,2
  49HO19980601,  KNOT,  3,    D10,    D10,2,19980604,1100, 44.0488, 154.9100, 5312,    500.2,   3.3000,  34.1320,2,  34.1370,2,     32.1,2,    44.10,2,     0.00,2,     3.14,2,   131.80,2, -999.000,9,   -999.0,9,   2343.0,2
  49HO19980601,  KNOT,  3,     D9,     D9,2,19980604,1100, 44.0488, 154.9100, 5312,    599.2,   3.2100,  34.2070,2,  34.2110,2,     24.6,2,    44.90,2,     0.00,2,     3.17,2,   141.30,2, -999.000,9,   -999.0,9,   2361.2,2
  49HO19980601,  KNOT,  3,     D8,     D8,2,19980604,1100, 44.0488, 154.9100, 5312,    699.7,   3.0300,  34.2810,2,  34.2830,2,     19.5,2,    45.20,2,     0.00,2,     3.19,2,   150.20,2, -999.000,9,   -999.0,9,   -999.0,9
  49HO19980601,  KNOT,  3,     D7,     D7,2,19980604,1100, 44.0488, 154.9100, 5312,    799.1,   2.9000,  34.3350,2,  34.3400,2,     20.3,2,    45.20,2,     0.00,2,     3.19,2,   158.00,2, -999.000,9,   -999.0,9,   2383.2,2
  49HO19980601,  KNOT,  3,     D6,     D6,2,19980604,1100, 44.0488, 154.9100, 5312,    899.1,   2.7300,  34.3730,2,  34.3770,2,     29.1,2,    44.50,2,     0.00,2,     3.14,2,   162.50,2, -999.000,9,   -999.0,9,   2382.9,2
  49HO19980601,  KNOT,  3,     D5,     D5,2,19980604,1100, 44.0488, 154.9100, 5312,   1000.2,   2.6000,  34.4060,2,  34.4100,2,     33.4,2,    44.20,2,     0.00,2,     3.13,2,   166.80,2, -999.000,9,   -999.0,9,   2389.0,2
  49HO19980601,  KNOT,  3,     D4,     D4,2,19980604,1100, 44.0488, 154.9100, 5312,   1250.3,   2.3800,  34.4820,2,  34.4850,2,     43.9,2,    43.40,2,     0.00,2,     3.08,2,   172.40,2, -999.000,9,   -999.0,9,   2403.1,2
  49HO19980601,  KNOT,  3,     D3,     D3,2,19980604,1100, 44.0488, 154.9100, 5312,   1499.9,   2.1800,  34.5290,2,  34.5330,2,     52.3,2,    43.20,2,     0.00,2,     3.05,2,   178.70,2, -999.000,9,   -999.0,9,   2411.5,2
  49HO19980601,  KNOT,  3,     D2,     D2,2,19980604,1100, 44.0488, 154.9100, 5312,   2001.5,   1.8600,  34.6000,2,  34.6030,2,     82.3,2,    41.50,2,     0.00,2,     2.90,2,   179.90,2, -999.000,9,   -999.0,9,   2419.4,2
  49HO19980601,  KNOT,  3,     D1,     D1,2,19980604,1100, 44.0488, 154.9100, 5312,   2501.5,   1.6500,  34.6390,2,  34.6420,2,    108.9,2,    39.80,2,     0.00,2,     2.78,2,   176.70,2, -999.000,9,   -999.0,9,   2424.2,2
  49HO19980601, Stn_2,  1,      0,      0,2,19980605,1510, 42.4922, 154.9532, 5240,      0.0,-999.0000,-999.0000,9,  33.4040,2,    300.2,2,    14.30,2,     0.20,2,     1.30,2,    26.90,2, -999.000,9,   -999.0,9,   2267.2,2
  49HO19980601, Stn_2,  2,    S12,    S12,2,19980605,1510, 42.4922, 154.9532, 5240,     10.3,   7.8700,  33.3800,2,  33.3880,2,    301.6,2,    14.10,2,     0.20,2,     1.28,2,    27.10,2, -999.000,9,   -999.0,9,   2254.1,2
  49HO19980601, Stn_2,  2,    S11,    S11,2,19980605,1510, 42.4922, 154.9532, 5240,     19.6,   7.3400,  33.3540,2,  33.3640,2,    304.6,2,    14.50,2,     0.20,2,     1.31,2,    27.80,2, -999.000,9,   -999.0,9,   2258.6,2
  49HO19980601, Stn_2,  2,    S10,    S10,2,19980605,1510, 42.4922, 154.9532, 5240,     29.2,   7.2800,  33.3490,2,  33.3620,2,    304.5,2,    14.50,2,     0.20,2,     1.31,2,    28.10,2, -999.000,9,   -999.0,9,   -999.0,9
  49HO19980601, Stn_2,  2,     S9,     S9,2,19980605,1510, 42.4922, 154.9532, 5240,     40.0,   7.2900,  33.3590,2,  33.3740,2,    303.9,2,    14.40,2,     0.20,2,     1.31,2,    27.90,2, -999.000,9,   -999.0,9,   2233.9,2
  49HO19980601, Stn_2,  2,     S8,     S8,2,19980605,1510, 42.4922, 154.9532, 5240,     50.2,   7.3900,  33.4380,2,  33.4420,2,    303.4,2,    14.20,2,     0.20,2,     1.26,2,    27.00,2, -999.000,9,   -999.0,9,   2238.4,2
  49HO19980601, Stn_2,  2,     S7,     S7,2,19980605,1510, 42.4922, 154.9532, 5240,     59.9,   7.9000,  33.6300,2,  33.6270,2,    299.1,2,    13.30,2,     0.20,2,     1.16,2,    24.50,2, -999.000,9,   -999.0,9,   2242.6,2
  49HO19980601, Stn_2,  2,     S6,     S6,2,19980605,1510, 42.4922, 154.9532, 5240,     79.9,   6.2700,  33.5540,2,  33.5610,2,    304.4,2,    15.80,2,     0.40,2,     1.34,2,    27.70,2, -999.000,9,   -999.0,9,   2244.3,2
  49HO19980601, Stn_2,  2,     S5,     S5,2,19980605,1510, 42.4922, 154.9532, 5240,    100.6,   5.4000,  33.4940,2,  33.5070,2,    301.8,2,    17.30,2,     0.20,2,     1.40,2,    29.20,2, -999.000,9,   -999.0,9,   2242.1,2
  49HO19980601, Stn_2,  2,     S4,     S4,2,19980605,1510, 42.4922, 154.9532, 5240,    124.5,   6.5400,  33.7690,2,  33.7770,2,    282.7,2,    16.60,2,     0.00,2,     1.29,2,    26.70,2, -999.000,9,   -999.0,9,   2251.8,2
  49HO19980601, Stn_2,  2,     S3,     S3,2,19980605,1510, 42.4922, 154.9532, 5240,    150.9,   6.2700,  33.7470,2,  33.7260,2,    280.6,2,    17.50,2,     0.00,2,     1.38,2,    28.90,2, -999.000,9,   -999.0,9,   2247.5,2
  49HO19980601, Stn_2,  2,     S2,     S2,2,19980605,1510, 42.4922, 154.9532, 5240,    200.7,   5.0000,  33.6270,2,  33.6450,2,    251.8,2,    21.80,2,     0.00,2,     1.69,2,    39.20,2, -999.000,9,   -999.0,9,   2251.9,2
  49HO19980601, Stn_2,  2,     S1,     S1,2,19980605,1510, 42.4922, 154.9532, 5240,    247.8,   4.2400,  33.6620,2,  33.6710,2,    177.9,2,    29.90,2,     0.00,2,     2.24,2,    60.60,2, -999.000,9,   -999.0,9,   2264.3,2
  49HO19980601, Stn_2,  3,    D12,    D12,2,19980605,1510, 42.4922, 154.9532, 5240,    300.8,   4.1400,  33.7600,2,  33.7620,2,    144.4,2,    33.20,2,     0.00,2,     2.45,2,    71.10,2, -999.000,9,   -999.0,9,   2272.7,2
  49HO19980601, Stn_2,  3,    D11,    D11,2,19980605,1510, 42.4922, 154.9532, 5240,    399.7,   3.3800,  33.8520,2,  33.8560,2,     80.0,2,    41.10,2,     0.00,2,     2.95,2,    95.20,2, -999.000,9,   -999.0,9,   2290.5,2
  49HO19980601, Stn_2,  3,    D10,    D10,2,19980605,1510, 42.4922, 154.9532, 5240,    500.7,   3.5200,  34.0060,2,  34.0080,2,     51.7,2,    43.00,2,     0.00,2,     3.07,2,   109.30,2, -999.000,9,   -999.0,9,   2309.4,2
  49HO19980601, Stn_2,  3,     D9,     D9,2,19980605,1510, 42.4922, 154.9532, 5240,    599.8,   3.5100,  34.1190,2,  34.1200,2,     39.5,2,    43.80,2,     0.00,2,     3.11,2,   119.90,2, -999.000,9,   -999.0,9,   2323.8,2
  49HO19980601, Stn_2,  3,     D8,     D8,2,19980605,1510, 42.4922, 154.9532, 5240,    700.3,   3.2100,  34.1970,2,  34.2010,2,     25.4,2,    44.80,2,     0.00,2,     3.19,2,   134.80,2, -999.000,9,   -999.0,9,   2338.2,2
  49HO19980601, Stn_2,  3,     D7,     D7,2,19980605,1510, 42.4922, 154.9532, 5240,    800.0,   3.1000,  34.2570,2,  34.2610,2,     20.9,2,    44.90,2,     0.00,2,     3.19,2,   142.20,2, -999.000,9,   -999.0,9,   2349.4,2
  49HO19980601, Stn_2,  3,     D6,     D6,2,19980605,1510, 42.4922, 154.9532, 5240,    899.6,   2.9700,  34.3060,2,  34.3100,2,     26.1,2,    44.70,2,     0.00,2,     3.18,2,   147.30,2, -999.000,9,   -999.0,9,   2359.8,2
  49HO19980601, Stn_2,  3,     D5,     D5,2,19980605,1510, 42.4922, 154.9532, 5240,    999.0,   2.7900,  34.3610,2,  34.3660,2,     25.3,2,    44.90,2,     0.00,2,     3.19,2,   155.20,2, -999.000,9,   -999.0,9,   2368.9,2
  49HO19980601, Stn_2,  3,     D4,     D4,2,19980605,1510, 42.4922, 154.9532, 5240,   1249.3,   2.4900,  34.4580,2,  34.4630,2,     41.4,2,    44.00,2,     0.00,2,     3.14,2,   162.80,2, -999.000,9,   -999.0,9,   2382.3,2
  49HO19980601, Stn_2,  3,     D3,     D3,2,19980605,1510, 42.4922, 154.9532, 5240,   1501.3,   2.2400,  34.5140,2,  34.5190,2,     48.1,2,    43.70,2,     0.00,2,     3.09,2,   169.80,2, -999.000,9,   -999.0,9,   2392.6,2
  49HO19980601, Stn_2,  3,     D2,     D2,2,19980605,1510, 42.4922, 154.9532, 5240,   2000.5,   1.9100,  34.5910,2,  34.5960,2,     75.0,2,    42.30,2,     0.00,2,     2.97,2,   173.00,2, -999.000,9,   -999.0,9,   2410.2,2
  49HO19980601, Stn_2,  3,     D1,     D1,2,19980605,1510, 42.4922, 154.9532, 5240,   2200.5,   1.8000,  34.6130,2,  34.6170,2,     86.9,2,    41.30,2,     0.00,2,     2.91,2,   173.30,2, -999.000,9,   -999.0,9,   2409.7,2
  49HO19980601, Stn_3,  1,      0,      0,2,19980606,1057, 40.9732, 154.9822, 5547,      0.0,-999.0000,-999.0000,9,  33.9260,2,    277.2,2,     8.60,2,     0.20,2,     0.70,2,    13.00,2, -999.000,9,   2055.8,2,   2254.0,2
  49HO19980601, Stn_3,  2,    S12,    S12,2,19980606,1057, 40.9732, 154.9822, 5547,     10.6,  11.1400,  33.8780,2,  33.8860,2,    277.4,2,     8.60,2,     0.20,2,     0.70,2,    13.40,2, -999.000,9,   2059.0,2,   2253.5,2
  49HO19980601, Stn_3,  2,    S11,    S11,2,19980606,1057, 40.9732, 154.9822, 5547,     20.1,  10.6800,  33.8030,2,  33.8100,2,    281.7,2,     9.60,2,     0.20,2,     0.80,2,    15.60,2, -999.000,9,   2059.1,2,   2251.5,2
  49HO19980601, Stn_3,  2,    S10,    S10,2,19980606,1057, 40.9732, 154.9822, 5547,     30.4,  10.4300,  33.7800,2,  33.7820,2,    282.9,2,    10.00,2,     0.20,2,     0.80,2,    16.70,2, -999.000,9,   2066.1,2,   2250.7,2
  49HO19980601, Stn_3,  2,     S9,     S9,2,19980606,1057, 40.9732, 154.9822, 5547,     39.9,   9.2700,  33.7010,2,  33.7410,2,    290.8,2,    11.70,2,     0.20,2,     0.90,2,    20.20,2, -999.000,9,   2074.4,2,   2252.3,2
  49HO19980601, Stn_3,  2,     S8,     S8,2,19980606,1057, 40.9732, 154.9822, 5547,     51.1,   9.3800,  33.9900,2,  33.9940,2,    283.1,2,    11.50,2,     0.20,2,     0.90,2,    20.10,2, -999.000,9,   2081.7,2,   2258.1,2
  49HO19980601, Stn_3,  2,     S7,     S7,2,19980606,1057, 40.9732, 154.9822, 5547,     62.0,   9.2000,  34.0330,2,  34.0390,2,    279.4,2,    12.10,2,     0.30,2,     0.80,2,    20.60,2, -999.000,9,   2085.2,2,   2259.2,2
  49HO19980601, Stn_3,  2,     S6,     S6,2,19980606,1057, 40.9732, 154.9822, 5547,     81.1,   8.7600,  34.0410,2,  34.0520,2,    269.9,2,    14.00,2,     0.20,2,     0.90,2,    22.10,2, -999.000,9,   2094.9,2,   2259.9,2
  49HO19980601, Stn_3,  2,     S5,     S5,2,19980606,1057, 40.9732, 154.9822, 5547,    101.4,   8.0500,  33.9640,2,  33.9730,2,    270.8,2,    15.10,2,     0.00,2,     1.00,2,    24.30,2, -999.000,9,   2106.4,2,   2253.3,2
  49HO19980601, Stn_3,  2,     S4,     S4,2,19980606,1057, 40.9732, 154.9822, 5547,    126.1,   7.3200,  33.8740,2,  33.8840,2,    272.8,2,    16.20,2,     0.00,2,     1.10,2,    26.60,2, -999.000,9,   2112.2,2,   2254.2,2
  49HO19980601, Stn_3,  2,     S3,     S3,2,19980606,1057, 40.9732, 154.9822, 5547,    152.1,   7.2700,  33.8990,2,  33.9090,2,    269.9,2,    16.50,2,     0.00,2,     1.20,2,    26.90,2, -999.000,9,   2114.6,2,   2260.9,2
  49HO19980601, Stn_3,  2,     S2,     S2,2,19980606,1057, 40.9732, 154.9822, 5547,    200.5,   6.1100,  33.7580,2,  33.7730,2,    257.1,2,    19.60,2,     0.00,2,     1.40,2,    34.40,2, -999.000,9,   2129.5,2,   2256.6,2
  49HO19980601, Stn_3,  2,     S1,     S1,2,19980606,1057, 40.9732, 154.9822, 5547,    250.4,   5.7300,  33.8100,2,  33.8210,2,    196.2,2,    25.40,2,     0.00,2,     1.80,2,    48.50,2, -999.000,9,   2170.3,2,   -999.0,9
  49HO19980601, Stn_3,  3,    D12,    D12,2,19980606,1057, 40.9732, 154.9822, 5547,    301.2,   5.3600,  33.8770,2,  33.8850,2,    161.1,2,    29.50,2,     0.00,2,     2.10,2,    60.40,2, -999.000,9,   2203.1,2,   2278.8,2
  49HO19980601, Stn_3,  3,    D11,    D11,2,19980606,1057, 40.9732, 154.9822, 5547,    402.0,   4.4700,  33.9530,2,  33.9570,2,    107.9,2,    36.10,2,     0.00,2,     2.50,2,    82.20,2, -999.000,9,   2257.7,2,   2292.0,2
  49HO19980601, Stn_3,  3,    D10,    D10,2,19980606,1057, 40.9732, 154.9822, 5547,    501.5,   4.1000,  34.0400,2,  34.0440,2,     76.0,2,    39.60,2,     0.00,2,     2.70,2,    98.40,2, -999.000,9,   2287.0,2,   2315.9,2
  49HO19980601, Stn_3,  3,     D9,     D9,2,19980606,1057, 40.9732, 154.9822, 5547,    601.7,   3.9200,  34.1560,2,  34.1620,2,     56.0,2,    41.70,2,     0.00,2,     2.80,2,   112.50,2, -999.000,9,   2314.3,2,   2325.5,2
  49HO19980601, Stn_3,  3,     D8,     D8,2,19980606,1057, 40.9732, 154.9822, 5547,    701.5,   3.5800,  34.2260,2,  34.2310,2,     43.8,2,    43.10,2,     0.00,2,     3.00,2,   125.10,2, -999.000,9,   2333.2,2,   2339.8,2
  49HO19980601, Stn_3,  3,     D7,     D7,2,19980606,1057, 40.9732, 154.9822, 5547,    799.3,   3.4300,  34.2920,2,  34.2960,2,     42.6,2,    43.00,2,     0.00,2,     3.00,2,   132.00,2, -999.000,9,   2334.9,2,   2351.0,2
  49HO19980601, Stn_3,  3,     D6,     D6,2,19980606,1057, 40.9732, 154.9822, 5547,    899.2,   3.1700,  34.3380,2,  34.3390,2,     39.2,2,    43.70,2,     0.00,2,     3.10,2,   140.50,2, -999.000,9,   2350.6,2,   2376.3,2
  49HO19980601, Stn_3,  3,     D5,     D5,2,19980606,1057, 40.9732, 154.9822, 5547,   1000.6,   2.9700,  34.3740,2,  34.3790,2,     39.3,2,    43.90,2,     0.00,2,     3.10,2,   146.50,2, -999.000,9,   -999.0,9,   -999.0,9
  49HO19980601, Stn_3,  3,     D4,     D4,2,19980606,1057, 40.9732, 154.9822, 5547,   1251.7,   2.5600,  34.4490,2,  34.4530,2,     39.8,2,    44.30,2,     0.00,2,     3.10,2,   160.40,2, -999.000,9,   2356.5,2,   2397.8,2
  49HO19980601, Stn_3,  3,     D3,     D3,2,19980606,1057, 40.9732, 154.9822, 5547,   1501.4,   2.3000,  34.5040,2,  34.5090,2,     46.7,2,    43.90,2,     0.00,2,     3.10,2,   167.70,2, -999.000,9,   2368.4,2,   2401.7,2
  49HO19980601, Stn_3,  3,     D2,     D2,2,19980606,1057, 40.9732, 154.9822, 5547,   1999.5,   1.9500,  34.5860,2,  34.5930,2,     90.3,2,    42.60,2,     0.00,2,     2.90,2,   171.10,2, -999.000,9,   2369.0,2,   2413.4,2
  49HO19980601, Stn_3,  3,     D1,     D1,2,19980606,1057, 40.9732, 154.9822, 5547,   2099.5,   1.8900,  34.5990,2,  34.6060,2,     80.5,2,    42.00,2,     0.00,2,     2.90,2,   171.50,2, -999.000,9,   2363.5,2,   2414.9,2
  49HO19980601, Stn_4,  1,      0,      0,2,19980607,1156, 39.4547, 154.8468, 5610,      0.0,-999.0000,-999.0000,9,  34.2230,2,    266.4,2,     4.80,2,     0.20,2,     0.40,2,     7.70,2, -999.000,9,   2019.2,2,   2265.1,2