BOTTLE,20090818MIRCJHATS
EXPOCODE,STNNBR,CASTNO,SAMPNO,BTLNBR,BTLNBR_FLAG_W,DATE,TIME,LATITUDE,LONGITUDE,DEPTH,CTDPRS,CTDTMP,CTDSAL,CTDSAL_FLAG_W,SALNTY,SALNTY_FLAG_W,OXYGEN,OXYGEN_FLAG_W,NO2+NO3,NO2+NO3_FLAG_W,NITRIT,NITRIT_FLAG_W,PHSPHT,PHSPHT_FLAG_W,SILCAT,SILCAT_FLAG_W,PH,PH_FLAG_W,TCARBN,TCARBN_FLAG_W,ALKALI,ALKALI_FLAG_W
,,,,,,,,,,METERS,DBARS,,,,,,UMOL/KG,,UMOL/KG,,UMOL/KG,,UMOL/KG,,UMOL/KG,,,,UMOL/KG,,UMOL/KG,
  49HO19980601, Stn_4,  2,    S12,    S12,2,19980607,1156, 39.4547, 154.8468, 5610,      9.7,  12.9700,  34.1580,2,  34.1710,2,    266.1,2,     4.70,2,     0.20,2,     0.40,2,     7.50,2, -999.000,9,   2024.9,2,   2263.3,2
  49HO19980601, Stn_4,  2,    S11,    S11,2,19980607,1156, 39.4547, 154.8468, 5610,     20.0,  12.9800,  34.1570,2,  34.1750,2,    266.1,2,     4.70,2,     0.20,2,     0.40,2,     7.50,2, -999.000,9,   2036.7,2,   2263.3,2
  49HO19980601, Stn_4,  2,    S10,    S10,2,19980607,1156, 39.4547, 154.8468, 5610,     29.7,  12.9900,  34.1600,2,  34.1720,2,    266.1,2,     4.70,2,     0.20,2,     0.50,2,     7.60,2, -999.000,9,   2023.7,2,   2265.3,2
  49HO19980601, Stn_4,  2,     S9,     S9,2,19980607,1156, 39.4547, 154.8468, 5610,     40.4,  12.9700,  34.1570,2,  34.1750,2,    265.6,2,     4.80,2,     0.20,2,     0.50,2,     7.50,2, -999.000,9,   2037.4,2,   2262.1,2
  49HO19980601, Stn_4,  2,     S8,     S8,2,19980607,1156, 39.4547, 154.8468, 5610,     50.7,  13.0400,  34.2290,2,  34.2840,2,    262.7,2,     5.10,2,     0.20,2,     0.50,2,     8.20,2, -999.000,9,   2023.2,2,   2268.6,2
  49HO19980601, Stn_4,  2,     S7,     S7,2,19980607,1156, 39.4547, 154.8468, 5610,     61.1,  12.7900,  34.2970,2,  34.3080,2,    260.0,2,     6.60,2,     0.30,2,     0.60,2,    10.20,2, -999.000,9,   2039.5,2,   2269.0,2
  49HO19980601, Stn_4,  2,     S6,     S6,2,19980607,1156, 39.4547, 154.8468, 5610,     81.1,  11.8600,  34.3370,2,  34.3470,2,    242.7,2,    10.70,2,     0.10,2,     0.80,2,    15.00,2, -999.000,9,   2064.4,2,   2269.2,2
  49HO19980601, Stn_4,  2,     S5,     S5,2,19980607,1156, 39.4547, 154.8468, 5610,    100.3,  11.0700,  34.3090,2,  34.3190,2,    243.0,2,    11.80,2,     0.00,2,     0.90,2,    17.60,2, -999.000,9,   -999.0,9,   2273.4,2
  49HO19980601, Stn_4,  2,     S4,     S4,2,19980607,1156, 39.4547, 154.8468, 5610,    125.2,  10.5300,  34.2620,2,  34.2750,2,    245.8,2,    12.60,2,     0.00,2,     1.00,2,    18.80,2, -999.000,9,   2079.2,2,   2271.5,2
  49HO19980601, Stn_4,  2,     S3,     S3,2,19980607,1156, 39.4547, 154.8468, 5610,    151.3,   9.9100,  34.2030,2,  34.2140,2,    240.0,2,    13.90,2,     0.00,2,     1.10,2,    21.60,2, -999.000,9,   2105.0,2,   2269.1,2
  49HO19980601, Stn_4,  2,     S2,     S2,2,19980607,1156, 39.4547, 154.8468, 5610,    200.1,   8.4900,  34.0300,2,  34.0380,2,    228.5,2,    17.40,2,     0.00,2,     1.30,2,    29.00,2, -999.000,9,   2113.5,2,   2269.5,2
  49HO19980601, Stn_4,  2,     S1,     S1,2,19980607,1156, 39.4547, 154.8468, 5610,    248.5,   7.0800,  33.8670,2,  33.8860,2,    241.8,2,    18.80,2,     0.00,2,     1.50,2,    31.70,2, -999.000,9,   2121.2,2,   2279.7,2
  49HO19980601, Stn_4,  3,    D12,    D12,2,19980607,1156, 39.4547, 154.8468, 5610,    300.8,   6.5600,  33.9320,2,  33.9400,2,    183.5,2,    25.30,2,     0.00,2,     1.90,2,    47.10,2, -999.000,9,   2165.7,2,   2278.9,2
  49HO19980601, Stn_4,  3,    D11,    D11,2,19980607,1156, 39.4547, 154.8468, 5610,    399.6,   4.4900,  33.8540,2,  33.8650,2,    131.1,2,    34.20,2,     0.00,2,     2.50,2,    73.70,2, -999.000,9,   2238.6,2,   2288.5,2
  49HO19980601, Stn_4,  3,    D10,    D10,2,19980607,1156, 39.4547, 154.8468, 5610,    502.0,   4.4800,  34.0250,2,  34.0320,2,     91.7,2,    37.80,2,     0.00,2,     2.80,2,    89.20,2, -999.000,9,   2277.9,2,   2293.3,2
  49HO19980601, Stn_4,  3,     D9,     D9,2,19980607,1156, 39.4547, 154.8468, 5610,    600.5,   4.2200,  34.1420,2,  34.1520,2,     64.7,2,    40.30,2,     0.00,2,     3.00,2,   104.80,2, -999.000,9,   2300.5,2,   2326.0,2
  49HO19980601, Stn_4,  3,     D8,     D8,2,19980607,1156, 39.4547, 154.8468, 5610,    701.2,   3.9200,  34.2160,2,  34.2200,2,     53.8,2,    41.90,2,     0.00,2,     3.10,2,   115.70,2, -999.000,9,   2312.7,2,   2340.4,2
  49HO19980601, Stn_4,  3,     D7,     D7,2,19980607,1156, 39.4547, 154.8468, 5610,    801.0,   3.6200,  34.2770,2,  34.2800,2,     45.9,2,    42.80,2,     0.00,2,     3.10,2,   126.10,2, -999.000,9,   2331.9,2,   2353.4,2
  49HO19980601, Stn_4,  3,     D6,     D6,2,19980607,1156, 39.4547, 154.8468, 5610,    899.3,   3.2700,  34.3240,2,  34.3280,2,     40.8,2,    43.30,2,     0.00,2,     3.20,2,   136.20,2, -999.000,9,   2343.7,2,   2361.2,2
  49HO19980601, Stn_4,  3,     D5,     D5,2,19980607,1156, 39.4547, 154.8468, 5610,   1000.8,   3.0400,  34.3670,2,  34.3700,2,     38.5,2,    44.00,2,     0.00,2,     3.20,2,   144.10,2, -999.000,9,   2348.1,2,   2371.9,2
  49HO19980601, Stn_4,  3,     D4,     D4,2,19980607,1156, 39.4547, 154.8468, 5610,   1248.9,   2.6000,  34.4460,2,  34.4500,2,     38.8,2,    44.50,2,     0.00,2,     3.20,2,   157.80,2, -999.000,9,   2371.4,2,   2388.7,2
  49HO19980601, Stn_4,  3,     D3,     D3,2,19980607,1156, 39.4547, 154.8468, 5610,   1498.6,   2.3300,  34.5050,2,  34.5070,2,     47.0,2,    44.20,2,     0.00,2,     3.20,2,   166.00,2, -999.000,9,   2370.7,2,   2399.9,2
  49HO19980601, Stn_4,  3,     D2,     D2,2,19980607,1156, 39.4547, 154.8468, 5610,   1747.8,   2.1000,  34.5530,2,  34.5590,2,     60.2,2,    43.60,2,     0.00,2,     3.10,2,   170.40,2, -999.000,9,   2364.6,2,   2409.7,2
  49HO19980601, Stn_4,  3,     D1,     D1,2,19980607,1156, 39.4547, 154.8468, 5610,   1922.7,   1.9900,  34.5790,2,  34.5800,2,     69.7,2,    42.80,2,     0.00,2,     3.10,2,   170.90,2, -999.000,9,   2363.2,2,   2413.6,2
  49HO19980601, Stn_5,  1,      0,      0,2,19980610,1234, 36.7527, 154.8940, 5545,      0.0,-999.0000,-999.0000,9,  34.4960,2,    226.1,2,    -0.10,3,     0.00,2,     0.10,2,     1.70,2, -999.000,9,   1942.7,2,   2262.7,2
  49HO19980601, Stn_5,  2,    S12,    S12,2,19980610,1234, 36.7527, 154.8940, 5545,     10.0,  20.6200,  34.4310,2,  34.4460,2,    227.2,2,    -0.10,3,     0.00,2,     0.10,2,     1.60,2, -999.000,9,   1953.9,2,   2270.4,2
  49HO19980601, Stn_5,  2,    S11,    S11,2,19980610,1234, 36.7527, 154.8940, 5545,     21.0,  20.6100,  34.4300,2,  34.4440,2,    226.4,2,     0.00,2,     0.00,2,     0.10,2,     1.60,2, -999.000,9,   1951.7,2,   2264.0,2
  49HO19980601, Stn_5,  2,    S10,    S10,2,19980610,1234, 36.7527, 154.8940, 5545,     29.9,  20.6200,  34.4300,2,  34.4420,2,    226.6,2,    -0.20,3,     0.00,2,     0.10,2,     1.50,2, -999.000,9,   1959.1,2,   2264.5,2
  49HO19980601, Stn_5,  2,     S9,     S9,2,19980610,1234, 36.7527, 154.8940, 5545,     40.7,  20.3000,  34.4110,2,  34.4270,2,    226.9,2,    -0.20,3,     0.00,2,     0.10,2,     1.90,2, -999.000,9,   1963.7,2,   2265.3,2
  49HO19980601, Stn_5,  2,     S8,     S8,2,19980610,1234, 36.7527, 154.8940, 5545,     50.4,  19.1800,  34.4510,2,  34.4730,2,    231.2,2,     0.30,2,     0.10,2,     0.10,2,     2.70,2, -999.000,9,   1970.3,2,   2271.1,2
  49HO19980601, Stn_5,  2,     S7,     S7,2,19980610,1234, 36.7527, 154.8940, 5545,     60.6,  17.4600,  34.4190,2,  34.4410,2,    236.2,2,     0.60,2,     0.20,2,     0.20,2,     3.50,2, -999.000,9,   2019.5,2,   2267.3,2
  49HO19980601, Stn_5,  2,     S6,     S6,2,19980610,1234, 36.7527, 154.8940, 5545,     81.0,  15.7100,  34.5570,2,  34.5850,2,    202.3,2,     7.80,2,     0.00,2,     0.60,2,     9.80,2, -999.000,9,   2036.0,2,   2273.1,2
  49HO19980601, Stn_5,  2,     S5,     S5,2,19980610,1234, 36.7527, 154.8940, 5545,    101.5,  14.5500,  34.5390,2,  34.5560,2,    194.6,2,    10.10,2,     0.00,2,     0.70,2,    13.70,2, -999.000,9,   2059.1,2,   2276.3,2
  49HO19980601, Stn_5,  2,     S4,     S4,2,19980610,1234, 36.7527, 154.8940, 5545,    125.2,  12.8000,  34.4200,2,  34.4380,2,    203.8,2,    12.20,2,     0.00,2,     0.90,2,    17.80,2, -999.000,9,   2080.8,2,   2276.2,2
  49HO19980601, Stn_5,  2,     S3,     S3,2,19980610,1234, 36.7527, 154.8940, 5545,    151.4,  11.6600,  34.3460,2,  34.3640,2,    200.0,2,    14.40,2,     0.00,2,     1.00,2,    22.00,2, -999.000,9,   2087.5,2,   2277.1,2
  49HO19980601, Stn_5,  2,     S2,     S2,2,19980610,1234, 36.7527, 154.8940, 5545,    199.0,   9.7100,  34.1650,2,  34.4400,2,    220.1,2,    15.80,2,     0.00,2,     1.20,2,    25.60,2, -999.000,9,   2102.0,2,   2268.8,2
  49HO19980601, Stn_5,  2,     S1,     S1,2,19980610,1234, 36.7527, 154.8940, 5545,    249.4,   8.2200,  34.0070,2,  34.0200,2,    208.5,2,    19.30,2,     0.00,2,     1.50,2,    33.80,2, -999.000,9,   2126.8,2,   2268.5,2
  49HO19980601, Stn_5,  3,    D12,    D12,2,19980610,1234, 36.7527, 154.8940, 5545,    250.4,   7.3100,  33.8950,2,  33.9010,2,    219.8,2,    19.70,2,     0.00,2,     1.50,2,    34.70,2, -999.000,9,   2145.4,2,   2268.6,2
  49HO19980601, Stn_5,  3,    D11,    D11,2,19980610,1234, 36.7527, 154.8940, 5545,    300.6,   6.6800,  33.8890,2,  33.8990,2,    201.6,2,    22.20,2,     0.00,2,     1.70,2,    41.40,2, -999.000,9,   2163.4,2,   2276.3,2
  49HO19980601, Stn_5,  3,    D10,    D10,2,19980610,1234, 36.7527, 154.8940, 5545,    402.6,   5.9500,  34.0220,2,  34.0280,2,    137.5,2,    30.50,2,     0.00,2,     2.20,2,    63.50,2, -999.000,9,   2234.2,2,   2292.5,2
  49HO19980601, Stn_5,  3,     D9,     D9,2,19980610,1234, 36.7527, 154.8940, 5545,    499.9,   5.0400,  34.0710,2,  34.0800,2,    102.3,2,    35.40,2,     0.00,2,     2.60,2,    81.90,2, -999.000,9,   2274.1,2,   2307.2,2
  49HO19980601, Stn_5,  3,     D8,     D8,2,19980610,1234, 36.7527, 154.8940, 5545,    600.5,   4.4900,  34.1420,2,  34.1500,2,     75.8,2,    38.70,2,     0.00,2,     2.80,2,    97.60,2, -999.000,9,   2312.7,2,   2325.3,2
  49HO19980601, Stn_5,  3,     D7,     D7,2,19980610,1234, 36.7527, 154.8940, 5545,    700.9,   4.0200,  34.2220,2,  34.2270,2,     56.6,2,    41.10,2,     0.00,2,     2.90,2,   112.10,2, -999.000,9,   -999.0,9,   2341.0,2
  49HO19980601, Stn_5,  3,     D6,     D6,2,19980610,1234, 36.7527, 154.8940, 5545,    800.8,   3.6500,  34.2850,2,  34.2880,2,     46.2,2,    42.30,2,     0.00,2,     3.00,2,   123.20,2, -999.000,9,   2342.8,2,   2352.8,2
  49HO19980601, Stn_5,  3,     D5,     D5,2,19980610,1234, 36.7527, 154.8940, 5545,    900.2,   3.4000,  34.3320,2,  34.3440,2,     42.0,2,    42.80,2,     0.00,2,     3.10,2,   131.10,2, -999.000,9,   2361.6,2,   2358.6,2
  49HO19980601, Stn_5,  3,     D4,     D4,2,19980610,1234, 36.7527, 154.8940, 5545,   1000.3,   3.1800,  34.3730,2,  34.3750,2,     43.4,2,    43.20,2,     0.00,2,     3.10,2,   137.40,2, -999.000,9,   2369.6,2,   2385.1,2
  49HO19980601, Stn_5,  3,     D3,     D3,2,19980610,1234, 36.7527, 154.8940, 5545,   1251.3,   2.6600,  34.4590,2,  34.4610,2,     43.9,2,    43.80,2,     0.00,2,     3.20,2,   153.10,2, -999.000,9,   2380.1,2,   2401.6,2
  49HO19980601, Stn_5,  3,     D2,     D2,2,19980610,1234, 36.7527, 154.8940, 5545,   1498.1,   2.3400,  34.5210,2,  34.5530,2,     51.1,2,    43.60,2,     0.00,2,     3.10,2,   160.90,2, -999.000,9,   2381.8,2,   2412.4,2
  49HO19980601, Stn_5,  3,     D1,     D1,2,19980610,1234, 36.7527, 154.8940, 5545,   1603.4,   2.2300,  34.5430,2,  34.5420,2,     57.2,2,    43.20,2,     0.00,2,     3.10,2,   163.30,2, -999.000,9,   2376.1,2,   2411.9,2