BOTTLE,20100108MIRCJHATS
EXPOCODE,STNNBR,CASTNO,SAMPNO,BTLNBR,BTLNBR_FLAG_W,DATE,TIME,LATITUDE,LONGITUDE,DEPTH,CTDPRS,CTDTMP,CTDSAL,CTDSAL_FLAG_W,SALNTY,SALNTY_FLAG_W,OXYGEN,OXYGEN_FLAG_W,NITRAT,NITRAT_FLAG_W,NITRIT,NITRIT_FLAG_W,SILCAT,SILCAT_FLAG_W,PHSPHT,PHSPHT_FLAG_W,NH4,NH4_FLAG_W,ALKALI,ALKALI_FLAG_W,PH,PH_FLAG_W,TCARBN,TCARBN_FLAG_W
,,,,,,,,,,METERS,DBARS,,,,,,UMOL/KG,,UMOL/KG,,UMOL/KG,,UMOL/KG,,UMOL/KG,,UMOL/KG,,UMOL/KG,,,,UMOL/KG,
  49HO19980622,  KNOT,  1,      1,      1,5,19980626,0026, 44.0000, 155.0000, -999,      0.0,  10.6963,  33.0239,2,  33.1392,2,    286.6,2,    10.10,2,     0.16,2,    14.30,2,     1.16,2,-999,9,   2224.5,2,    7.871,2,   2037.1,2
  49HO19980622,  KNOT,  1,      1,      1,5,19980626,0026, 44.0000, 155.0000, -999,      9.7,  10.9278,  33.3691,2,  33.3582,2,    282.7,2,     7.80,2,     0.13,2,    10.30,2,     0.80,2,-999,9,   2234.2,2,    7.910,2,   2029.9,2
  49HO19980622,  KNOT,  1,      1,      1,5,19980626,0026, 44.0000, 155.0000, -999,     19.8,  10.6935,  33.3784,2,  33.3504,3,    283.5,2,     7.90,2,     0.14,2,    10.60,2,     0.80,2,-999,9,   2232.8,2,    7.898,2,   2028.3,2
  49HO19980622,  KNOT,  1,      1,      1,5,19980626,0026, 44.0000, 155.0000, -999,     29.9,  10.4484,  33.3189,2,  33.0497,2,    310.1,2,    11.70,2,     0.17,2,    17.40,2,     1.16,2,-999,9,   2225.3,2,    7.850,2,   2039.4,2
  49HO19980622,  KNOT,  1,      1,      1,5,19980626,0026, 44.0000, 155.0000, -999,     40.0,   5.2708,  32.8881,2,  32.9242,2,    322.9,2,    15.70,2,     0.26,2,    25.20,2,     1.49,2,-999,9,   2223.4,2,    7.793,2,   2072.4,2
  49HO19980622,  KNOT,  1,      1,      1,5,19980626,0026, 44.0000, 155.0000, -999,     49.4,   4.1082,  32.9207,2,  32.9661,2,    318.7,2,    18.80,2,     0.47,2,    30.70,2,     1.65,2,-999,9,   2221.9,2,    7.722,2,   2102.3,2
  49HO19980622,  KNOT,  1,      1,      1,5,19980626,0026, 44.0000, 155.0000, -999,     60.1,   3.1190,  32.9647,2,  32.9937,2,    315.7,2,    20.50,2,     0.59,2,    33.40,2,     1.74,2,-999,9,   2214.7,2,    7.699,2,   2104.7,2
  49HO19980622,  KNOT,  1,      1,      1,5,19980626,0026, 44.0000, 155.0000, -999,     80.1,   2.2314,  33.0337,2,  33.0526,2,    313.3,2,    22.40,2,     0.20,2,    36.30,2,     1.81,2,-999,9,   2222.6,2,    7.669,2,   2109.7,2
  49HO19980622,  KNOT,  1,      1,      1,5,19980626,0026, 44.0000, 155.0000, -999,    100.4,   2.9262,  33.1957,2,  33.1855,2,    296.2,2,    22.50,2,     0.03,2,    37.20,2,     1.81,2,-999,9,   2228.8,2,    7.664,2,   2124.6,2
  49HO19980622,  KNOT,  1,      1,      1,5,19980626,0026, 44.0000, 155.0000, -999,    124.8,   3.7124,  33.3645,2,  33.3845,2,    277.0,2,    21.40,2,     0.02,2,    35.60,2,     1.71,2,-999,9,   2239.0,2,    7.674,2,   2125.7,2
  49HO19980622,  KNOT,  1,      1,      1,5,19980626,0026, 44.0000, 155.0000, -999,    149.9,   2.5487,  33.3895,2,  33.3967,2,    199.3,2,    31.40,2,     0.02,2,    61.50,2,     2.39,2,-999,9,   2251.9,2,    7.481,2,   2202.4,2
  49HO19980622,  KNOT,  1,      1,      1,5,19980626,0026, 44.0000, 155.0000, -999,    199.8,   3.0557,  33.6386,2,  33.6470,2,    127.2,2,    35.90,2,     0.02,2,    76.60,2,     2.69,2,-999,9,   2271.1,2,    7.392,2,   2258.5,2
  49HO19980622,  KNOT,  1,      1,      1,5,19980626,0026, 44.0000, 155.0000, -999,    250.7,   3.3552,  33.7851,2,  33.7880,2,    100.1,2,    37.90,2,     0.01,2,    84.10,2,     2.81,2,-999,9,   2285.8,2,    7.362,2,   2273.9,2
  49HO19980622,  KNOT,  1,      1,      1,5,19980626,0026, 44.0000, 155.0000, -999,    300.9,   3.3057,  33.8625,2,  33.8691,2,     63.1,2,    41.10,2,     0.02,2,    94.80,2,     3.01,2,-999,9,   2293.1,2,    7.342,2,   2304.3,2
  49HO19980622,  KNOT,  1,      1,      1,5,19980626,0026, 44.0000, 155.0000, -999,    400.9,   3.6456,  34.0623,2,  34.0691,2,     47.4,2,    41.70,2,     0.02,2,   105.70,2,     3.04,2,-999,9,   2315.1,2,    7.320,2,   2322.6,2
  49HO19980622,  KNOT,  1,      1,      1,5,19980626,0026, 44.0000, 155.0000, -999,    502.1,   3.3136,  34.1477,2,  34.1541,2,     30.1,2,    43.10,2,     0.01,2,   119.90,2,     3.13,2,-999,9,   2329.2,2,    7.294,2,   2349.9,2
  49HO19980622,  KNOT,  1,      1,      1,5,19980626,0026, 44.0000, 155.0000, -999,    502.1,   3.3136,  34.1477,2,  34.1537,2,     30.6,2,    43.10,2,     0.01,2,   120.00,2,     3.12,2,-999,9,   2332.5,2,    7.298,2,   2344.9,2
  49HO19980622,  KNOT,  1,      1,      1,5,19980626,0026, 44.0000, 155.0000, -999,    603.1,   3.2821,  34.2397,2,  34.2423,2,     34.3,2,    42.50,2,     0.02,2,   125.60,2,     3.08,2,-999,9,   2344.4,2,    7.316,2,   2348.3,2
  49HO19980622,  KNOT,  1,      1,      1,5,19980626,0026, 44.0000, 155.0000, -999,    701.0,   3.2340,  34.3233,2,  34.3281,2,     39.2,2,    42.10,2,     0.02,2,   130.10,2,     3.04,2,-999,9,   2357.0,2,    7.349,2,   2347.8,2
  49HO19980622,  KNOT,  1,      1,      1,5,19980626,0026, 44.0000, 155.0000, -999,    801.6,   3.0442,  34.3490,2,  34.3548,2,     36.6,2,    42.40,2,     0.01,2,   136.00,2,     3.07,2,-999,9,   2366.3,2,    7.365,2,   2354.2,2
  49HO19980622,  KNOT,  1,      1,      1,5,19980626,0026, 44.0000, 155.0000, -999,   1001.1,   2.6076,  34.4105,2,  34.4160,2,     34.1,2,    42.90,2,     0.01,2,   150.60,2,     3.11,2,-999,9,   2378.1,2,    7.339,2,   2378.0,2
  49HO19980622,  KNOT,  1,      1,      1,5,19980626,0026, 44.0000, 155.0000, -999,   1250.3,   2.3489,  34.4752,2,  34.4776,2,     39.7,2,    42.90,2,     0.02,2,   159.00,2,     3.09,2,-999,9,   2390.9,2,    7.364,2,   2373.4,2
  49HO19980622,  KNOT,  1,      1,      1,5,19980626,0026, 44.0000, 155.0000, -999,   2000.1,   1.8557,  34.6023,2,  34.6055,2,     79.8,2,    40.50,2,     0.02,2,   161.40,2,     2.90,2,-999,9,   2407.6,2,    7.455,2,   2367.1,2
  49HO19980622,  KNOT,  1,      1,      1,5,19980626,0026, 44.0000, 155.0000, -999,   2499.2,   1.6476,  34.6415,2,  34.6433,2,    106.2,2,    38.60,2,     0.01,2,   159.30,2,     2.76,2,-999,9,   2413.4,2,    7.505,2,   2354.7,2
  49HO19980622,  KNOT,  1,      1,      1,5,19980626,0026, 44.0000, 155.0000, -999,   2998.4,   1.5277,  34.6639,2,  34.6653,2,    126.6,2,    37.50,2,     0.01,2,   156.40,2,     2.67,2,-999,9,   2414.2,2,    7.546,2,   2341.0,2
  49HO19980622, Stn.7,  1,      1,      1,5,19980629,0438, 39.5000, 155.0000, -999,      0.0,  13.5000,  33.4771,2,  33.4771,2,    273.4,2,     8.40,2,     0.16,2,    16.00,2,     0.77,2,-999,9,   2228.3,2,    7.904,2,   -999.0,9
  49HO19980622, Stn.7,  1,      1,      1,5,19980629,0438, 39.5000, 155.0000, -999,      8.8,  13.2276,  33.4808,2,  33.5018,2,    228.0,2,     7.90,2,     0.15,2,    15.40,2,     0.74,2,-999,9,   2233.6,2,    7.899,2,   -999.0,9
  49HO19980622, Stn.7,  1,      1,      1,5,19980629,0438, 39.5000, 155.0000, -999,     20.1,  13.2241,  33.6185,2,  33.6578,2,    273.6,2,     6.70,2,     0.14,2,    12.90,2,     0.67,2,-999,9,   2237.9,2,    7.912,2,   -999.0,9
  49HO19980622, Stn.7,  1,      1,      1,5,19980629,0438, 39.5000, 155.0000, -999,     30.1,  10.3264,  33.6339,2,  33.6496,2,    296.7,2,    10.60,2,     0.18,2,    19.90,2,     0.98,2,-999,9,   2239.5,2,    7.852,2,   -999.0,9
  49HO19980622, Stn.7,  1,      1,      1,5,19980629,0438, 39.5000, 155.0000, -999,     39.6,   8.7632,  33.6226,2,  33.6444,2,    301.9,2,    11.60,2,     0.22,2,    22.10,2,     1.07,2,-999,9,   2247.4,2,    7.835,2,   -999.0,9
  49HO19980622, Stn.7,  1,      1,      1,5,19980629,0438, 39.5000, 155.0000, -999,     50.0,   8.0481,  33.5973,2,  33.6053,2,    306.0,2,    12.40,2,     0.24,2,    23.60,2,     1.14,2,-999,9,   2241.5,2,    7.821,2,   -999.0,9
  49HO19980622, Stn.7,  1,      1,      1,5,19980629,0438, 39.5000, 155.0000, -999,     59.4,   7.1478,  33.5961,2,  33.6107,2,    305.6,2,    13.10,2,     0.28,2,    24.70,2,     1.19,2,-999,9,   2240.7,2,    7.804,2,   -999.0,9
  49HO19980622, Stn.7,  1,      1,      1,5,19980629,0438, 39.5000, 155.0000, -999,     78.1,   7.5605,  33.8041,2,  33.8115,2,    285.3,2,    14.30,2,     0.38,2,    23.20,2,     1.18,2,-999,9,   2249.0,2,    7.790,2,   -999.0,9
  49HO19980622, Stn.7,  1,      1,      1,5,19980629,0438, 39.5000, 155.0000, -999,     99.7,   7.4727,  33.8617,2,  33.8704,2,    267.7,2,    15.40,2,     0.04,2,    24.50,2,     1.24,2,-999,9,   2253.1,2,    7.772,2,   -999.0,9
  49HO19980622, Stn.7,  1,      1,      1,5,19980629,0438, 39.5000, 155.0000, -999,    122.6,   6.9475,  33.8218,2,  33.8334,2,    270.2,2,    16.30,2,     0.04,2,    26.30,2,     1.30,2,-999,9,   2251.7,2,    7.758,2,   -999.0,9
  49HO19980622, Stn.7,  1,      1,      1,5,19980629,0438, 39.5000, 155.0000, -999,    148.7,   6.5203,  33.7888,2,  33.8028,2,    270.7,2,    16.60,2,     0.04,2,    27.20,2,     1.33,2,-999,9,   2250.6,2,    7.751,2,   -999.0,9
  49HO19980622, Stn.7,  1,      1,      1,5,19980629,0438, 39.5000, 155.0000, -999,    199.3,   6.0220,  33.7681,2,  33.7821,2,    247.8,2,    19.40,2,     0.04,2,    33.40,2,     1.53,2,-999,9,   2252.9,2,    7.702,2,   -999.0,9
  49HO19980622, Stn.7,  1,      1,      1,5,19980629,0438, 39.5000, 155.0000, -999,    250.9,   5.3711,  33.8053,2,  33.8150,2,    181.1,2,    26.50,2,     0.03,2,    50.60,2,     2.04,2,-999,9,   2264.6,2,    7.579,2,   -999.0,9
  49HO19980622, Stn.7,  1,      1,      1,5,19980629,0438, 39.5000, 155.0000, -999,    298.6,   4.8962,  33.8655,2,  33.8790,2,    148.1,2,    30.70,2,     0.03,2,    63.20,2,     2.34,2,-999,9,   2276.5,2,    7.506,2,   -999.0,9
  49HO19980622, Stn.7,  1,      1,      1,5,19980629,0438, 39.5000, 155.0000, -999,    399.4,   4.4346,  33.9765,2,  33.9920,2,     99.2,2,    35.90,2,     0.03,2,    81.40,2,     2.69,2,-999,9,   2293.3,2,    7.429,2,   -999.0,9
  49HO19980622, Stn.7,  1,      1,      1,5,19980629,0438, 39.5000, 155.0000, -999,    399.4,   4.4346,  33.9765,2,  33.9908,2,     99.5,2,    36.00,2,     0.04,2,    81.10,2,     2.68,2,-999,9,   2296.0,2,    7.371,2,   -999.0,9
  49HO19980622, Stn.7,  1,      1,      1,5,19980629,0438, 39.5000, 155.0000, -999,    499.7,   3.9802,  34.0582,2,  34.0614,2,     68.9,2,    39.40,2,     0.04,2,    95.30,2,     2.90,2,-999,9,   2309.2,2,    7.372,2,   -999.0,9
  49HO19980622, Stn.7,  1,      1,      1,5,19980629,0438, 39.5000, 155.0000, -999,    701.8,   3.6624,  34.2383,2,  34.2442,2,     48.4,2,    41.20,2,     0.03,2,   115.10,2,     3.02,2,-999,9,   2339.1,2,    7.342,2,   -999.0,9
  49HO19980622, Stn.7,  1,      1,      1,5,19980629,0438, 39.5000, 155.0000, -999,    701.8,   3.6624,  34.2383,2,  34.2450,2,     47.6,2,    41.20,2,     0.03,2,   115.70,2,     3.02,2,-999,9,   2339.6,2,    7.362,2,   -999.0,9
  49HO19980622, Stn.7,  1,      1,      1,5,19980629,0438, 39.5000, 155.0000, -999,    800.2,   3.4145,  34.2874,2,  34.2942,2,     42.6,2,    41.70,2,     0.03,2,   123.20,2,     3.05,2,-999,9,   2350.1,2,    7.359,2,   -999.0,9
  49HO19980622, Stn.7,  1,      1,      1,5,19980629,0438, 39.5000, 155.0000, -999,    999.6,   3.0044,  34.3807,2,  34.3880,2,     40.8,2,    42.40,2,     0.03,2,   136.30,2,     3.08,2,-999,9,   2368.3,2,    7.350,2,   -999.0,9
  49HO19980622, Stn.7,  1,      1,      1,5,19980629,0438, 39.5000, 155.0000, -999,   1250.2,   2.6108,  34.4546,2,  34.4629,2,     41.8,2,    42.60,2,     0.03,2,   148.00,2,     3.10,2,-999,9,   2382.7,2,    7.372,2,   -999.0,9
  49HO19980622, Stn.7,  1,      1,      1,5,19980629,0438, 39.5000, 155.0000, -999,   2001.1,   1.9553,  34.5892,2,  34.5944,2,     75.6,2,    41.00,2,     0.03,2,   159.70,2,     2.95,2,-999,9,   2406.5,2,    7.437,2,   -999.0,9
  49HO19980622, Stn.7,  1,      1,      1,5,19980629,0438, 39.5000, 155.0000, -999,   2501.6,   1.7070,  34.6345,2,  34.6402,2,    105.7,2,    39.10,2,     0.03,2,   157.60,2,     2.81,2,-999,9,   2413.4,2,    7.493,2,   -999.0,9
  49HO19980622, Stn.7,  1,      1,      1,5,19980629,0438, 39.5000, 155.0000, -999,   3000.4,   1.5753,  34.6591,2,  34.6630,2,    127.1,2,    37.80,2,     0.03,2,   155.00,2,     2.70,2,-999,9,   2414.8,2,    7.527,2,   -999.0,9
  49HO19980622,Stn.10,  1,      1,      1,5,19980630,1305, 37.3000, 155.0000, -999,      0.0,  20.4000,  34.2634,2,  34.2634,2,    234.6,2,     0.00,2,     0.00,2,     0.60,2,     0.05,2,-999,9,   2250.0,2,    8.061,2,   1968.6,2
  49HO19980622,Stn.10,  1,      1,      1,5,19980630,1305, 37.3000, 155.0000, -999,      9.8,  20.7396,  34.2437,2,  34.2623,2,    226.6,2,     0.00,2,     0.01,2,     0.50,2,     0.04,2,-999,9,   2249.7,2,    8.060,2,   1965.8,2
  49HO19980622,Stn.10,  1,      1,      1,5,19980630,1305, 37.3000, 155.0000, -999,     49.8,  17.4506,  34.4615,2,  34.4925,2,    228.6,2,     2.00,2,     0.12,2,     3.90,2,     0.17,2,-999,9,   2267.0,2,    8.003,2,   2014.9,2
  49HO19980622,Stn.10,  1,      1,      1,5,19980630,1305, 37.3000, 155.0000, -999,     94.6,  13.0455,  34.4443,2,  34.4917,2,    229.3,2,     1.90,2,     0.12,2,     3.60,2,     0.21,2,-999,9,   2267.0,2,    8.000,2,   2073.2,2
  49HO19980622,Stn.10,  1,      1,      1,5,19980630,1305, 37.3000, 155.0000, -999,    199.2,   9.6368,  34.2056,2,  34.2064,2,    217.8,2,    12.90,2,     0.01,2,    18.70,2,     0.96,2,-999,9,   2265.0,2,    7.825,2,   2097.4,2
  49HO19980622,Stn.10,  1,      1,      1,5,19980630,1305, 37.3000, 155.0000, -999,    300.3,   6.7320,  33.9532,2,  33.9591,2,    176.7,2,    24.80,2,     0.01,2,    45.20,2,     1.82,2,-999,9,   2272.5,2,    7.624,2,   2184.5,2
  49HO19980622,Stn.10,  1,      1,      1,5,19980630,1305, 37.3000, 155.0000, -999,    401.0,   5.4485,  33.9744,2,  33.9875,2,    137.4,2,    31.00,2,     0.01,2,    63.40,2,     2.25,2,-999,9,   2284.9,2,    7.519,2,   2234.1,2
  49HO19980622,Stn.10,  1,      1,      1,5,19980630,1305, 37.3000, 155.0000, -999,    500.9,   4.9231,  33.9744,2,  33.9744,2,    126.7,2,    32.20,2,     0.01,2,    69.80,2,     2.34,2,-999,9,   2286.5,2,    7.500,2,   2247.8,2
  49HO19980622,Stn.10,  1,      1,      1,5,19980630,1305, 37.3000, 155.0000, -999,    752.4,   3.7656,  34.2730,2,  34.2759,2,     50.6,2,    40.90,2,     0.00,2,   115.40,2,     2.94,2,-999,9,   2344.2,2,    7.367,2,   2333.1,2
  49HO19980622,Stn.10,  1,      1,      1,5,19980630,1305, 37.3000, 155.0000, -999,   1000.8,   3.1710,  34.3988,2,  34.4035,2,     44.1,2,    41.70,2,     0.01,2,   131.60,2,     3.00,2,-999,9,   2369.6,2,    7.365,2,   2361.7,2
  49HO19980622,Stn.10,  1,      1,      1,5,19980630,1305, 37.3000, 155.0000, -999,   1248.8,   2.6458,  34.4599,2,  34.4619,2,     42.6,2,    42.90,2,     0.00,2,   147.40,2,     3.09,2,-999,9,   2384.6,2,    7.364,2,   2378.7,2
  49HO19980622,Stn.10,  1,      1,      1,5,19980630,1305, 37.3000, 155.0000, -999,   1496.8,   2.3264,  34.5220,2,  34.5286,2,     49.7,2,    42.70,2,     0.00,2,   155.80,2,     3.05,2,-999,9,   2398.3,2,    7.389,2,   2385.2,2
  49HO19980622,Stn.10,  1,      1,      1,5,19980630,1305, 37.3000, 155.0000, -999,   1995.2,   1.9078,  34.6002,2,  34.6019,2,     83.0,2,    40.90,2,     0.01,2,   159.80,2,     2.91,2,-999,9,   2413.3,2,    7.452,2,   2374.0,2