BOTTLE,20100108MIRCJHATS
EXPOCODE,STNNBR,CASTNO,SAMPNO,BTLNBR,BTLNBR_FLAG_W,DATE,TIME,LATITUDE,LONGITUDE,DEPTH,CTDPRS,CTDTMP,CTDSAL,CTDSAL_FLAG_W,SALNTY,SALNTY_FLAG_W,OXYGEN,OXYGEN_FLAG_W,NITRAT,NITRAT_FLAG_W,NITRIT,NITRIT_FLAG_W,SILCAT,SILCAT_FLAG_W,PHSPHT,PHSPHT_FLAG_W,NH4,NH4_FLAG_W,ALKALI,ALKALI_FLAG_W,PH,PH_FLAG_W,TCARBN,TCARBN_FLAG_W
,,,,,,,,,,METERS,DBARS,,,,,,UMOL/KG,,UMOL/KG,,UMOL/KG,,UMOL/KG,,UMOL/KG,,UMOL/KG,,UMOL/KG,,,,UMOL/KG,
  49HO19980622,Stn.11,  1,      1,      1,5,19980701,0000, 35.7000, 155.0000, -999,      0.0,  23.4000,  34.3608,2,  34.3608,2,    218.0,2,     0.10,2,     0.02,2,     1.00,2,    -0.01,2,-999,9,   2252.3,2,    8.080,2,   1950.0,2
  49HO19980622,Stn.11,  1,      1,      1,5,19980701,0000, 35.7000, 155.0000, -999,      9.9,  23.0490,  34.3240,2,  34.3365,2,    219.9,2,     0.00,2,     0.01,2,     0.70,2,    -0.01,2,-999,9,   2253.0,2,    8.082,2,   1936.9,2
  49HO19980622,Stn.11,  1,      1,      1,5,19980701,0000, 35.7000, 155.0000, -999,     19.7,  22.8326,  34.3204,2,  34.3422,2,    219.9,2,     0.10,2,     0.01,2,     1.20,2,     0.00,2,-999,9,   2251.6,2,    8.080,2,   1951.9,2
  49HO19980622,Stn.11,  1,      1,      1,5,19980701,0000, 35.7000, 155.0000, -999,     29.9,  22.0099,  34.4323,2,  34.3430,2,    219.6,2,     0.10,2,     0.01,2,     1.10,2,    -0.01,2,-999,9,   2252.6,2,    8.079,2,   1946.4,2
  49HO19980622,Stn.11,  1,      1,      1,5,19980701,0000, 35.7000, 155.0000, -999,     39.8,  21.1903,  34.6440,2,  34.6711,2,    212.1,2,     1.00,2,     0.19,2,     2.60,2,     0.09,2,-999,9,   2277.5,2,    8.036,2,   1988.9,2
  49HO19980622,Stn.11,  1,      1,      1,5,19980701,0000, 35.7000, 155.0000, -999,     49.2,  20.3333,  34.7012,2,  34.7332,2,    205.8,2,     2.40,2,     0.29,2,     3.10,2,     0.10,2,-999,9,   2274.0,2,    8.018,2,   2002.5,2
  49HO19980622,Stn.11,  1,      1,      1,5,19980701,0000, 35.7000, 155.0000, -999,     60.0,  19.7271,  34.7501,2,  34.7846,2,    207.0,2,     2.60,2,     0.19,2,     2.70,2,     0.11,2,-999,9,   2276.2,2,    8.018,2,   2006.7,2
  49HO19980622,Stn.11,  1,      1,      1,5,19980701,0000, 35.7000, 155.0000, -999,     79.9,  19.1854,  34.7938,2,  34.8068,2,    208.6,2,     2.70,2,     0.07,2,     3.00,2,     0.11,2,-999,9,   2276.9,2,    8.013,2,   1997.6,2
  49HO19980622,Stn.11,  1,      1,      1,5,19980701,0000, 35.7000, 155.0000, -999,     99.0,  18.3619,  34.7770,2,  34.7883,2,    214.0,2,     2.80,2,     0.04,2,     2.90,2,     0.12,2,-999,9,   2276.5,2,    8.004,2,   2003.8,2
  49HO19980622,Stn.11,  1,      1,      1,5,19980701,0000, 35.7000, 155.0000, -999,    151.2,  16.6261,  34.6437,2,  34.6648,2,    222.8,2,     4.20,2,     0.02,2,     4.60,2,     0.23,2,-999,9,   2277.4,2,    7.971,2,   2019.2,2
  49HO19980622,Stn.11,  1,      1,      1,5,19980701,0000, 35.7000, 155.0000, -999,    195.0,  15.7400,  34.6775,2,  34.6896,2,    194.7,2,     8.40,2,     0.02,2,     9.00,2,     0.51,2,-999,9,   2269.4,2,    7.914,2,   2050.5,2
  49HO19980622,Stn.11,  1,      1,      1,5,19980701,0000, 35.7000, 155.0000, -999,    250.6,  13.9194,  34.5488,2,  34.5696,2,    191.0,2,    11.20,2,     0.01,2,    13.60,2,     0.71,2,-999,9,   2274.4,2,    7.863,2,   2072.9,2
  49HO19980622,Stn.11,  1,      1,      1,5,19980701,0000, 35.7000, 155.0000, -999,    300.7,  12.5147,  34.4458,2,  34.4446,2,    181.4,2,    14.80,2,     0.02,2,    19.70,2,     0.97,2,-999,9,   2272.8,2,    7.802,2,   2096.0,2
  49HO19980622,Stn.11,  1,      1,      1,5,19980701,0000, 35.7000, 155.0000, -999,    300.7,  12.5147,  34.4458,2,  34.4507,2,    181.3,2,    14.70,2,     0.02,2,    19.40,2,     0.97,2,-999,9,   2272.4,2,    7.805,2,   2096.0,2
  49HO19980622,Stn.11,  1,      1,      1,5,19980701,0000, 35.7000, 155.0000, -999,    401.1,   8.0323,  33.9918,2,  34.0557,2,    207.5,2,    19.00,2,     0.02,2,    31.80,2,     1.36,2,-999,9,   2266.3,2,    7.711,2,   2146.5,2
  49HO19980622,Stn.11,  1,      1,      1,5,19980701,0000, 35.7000, 155.0000, -999,    499.1,   7.0249,  34.0519,2,  34.0396,2,    156.5,2,    26.50,2,     0.01,2,    51.20,2,     1.90,2,-999,9,   2284.0,2,    7.597,2,   2203.3,2
  49HO19980622,Stn.11,  1,      1,      1,5,19980701,0000, 35.7000, 155.0000, -999,    600.0,   5.7602,  34.0779,2,  34.0709,2,    116.4,2,    32.60,2,     0.01,2,    70.50,2,     2.33,2,-999,9,   2296.3,2,    7.501,2,   2249.1,2
  49HO19980622,Stn.11,  1,      1,      1,5,19980701,0000, 35.7000, 155.0000, -999,    699.6,   4.4285,  34.0779,2,  34.0863,2,     81.8,2,    37.90,2,     0.02,2,    90.10,2,     2.73,2,-999,9,   2308.7,2, -999.000,9,   2292.2,2
  49HO19980622,Stn.11,  1,      1,      1,5,19980701,0000, 35.7000, 155.0000, -999,    800.0,   4.2269,  34.2162,2,  34.2258,2,     62.6,2,    39.40,2,     0.01,2,   102.40,2,     2.84,2,-999,9,   2333.2,2,    7.410,2,   2318.1,2
  49HO19980622,Stn.11,  1,      1,      1,5,19980701,0000, 35.7000, 155.0000, -999,    999.9,   3.3774,  34.3332,2,  34.3358,2,     42.6,2,    42.00,2,     0.01,2,   125.70,2,     3.02,2,-999,9,   2357.5,2,    7.357,2,   2349.2,2
  49HO19980622,Stn.11,  1,      1,      1,5,19980701,0000, 35.7000, 155.0000, -999,   1250.1,   2.8085,  34.4282,2,  34.4331,2,     39.5,2,    42.90,2,     0.01,2,   141.00,2,     3.08,2,-999,9,   2379.3,2, -999.000,9,   2369.7,2
  49HO19980622,Stn.11,  1,      1,      1,5,19980701,0000, 35.7000, 155.0000, -999,   1498.7,   2.4222,  34.4992,2,  34.5014,2,     45.9,2,    42.80,2,     0.02,2,   152.10,2,     3.07,2,-999,9,   2394.2,2,    7.380,2,   2383.5,2
  49HO19980622,Stn.11,  1,      1,      1,5,19980701,0000, 35.7000, 155.0000, -999,   2501.9,   1.6777,  34.6402,2,  34.6422,2,    104.4,2,    39.40,2,     0.01,2,   157.40,2,     2.79,2,-999,9,   2415.0,2,    7.493,2,   2355.1,2
  49HO19980622,Stn.11,  1,      1,      1,5,19980701,0000, 35.7000, 155.0000, -999,   3000.7,   1.5170,  34.6703,2,  34.6652,2,    131.5,2,    37.70,2,     0.01,2,   153.70,2,     2.65,2,-999,9,   2417.2,2, -999.000,9,   2341.9,2