BOTTLE,20091209MIRCJHATS
EXPOCODE,STNNBR,CASTNO,SAMPNO,BTLNBR,BTLNBR_FLAG_W,DATE,TIME,LATITUDE,LONGITUDE,DEPTH,CTDPRS,CTDTMP,CTDSAL,CTDSAL_FLAG_W,SALNTY,SALNTY_FLAG_W,OXYGEN,OXYGEN_FLAG_W,NO2+NO3,NO2+NO3_FLAG_W,NITRIT,NITRIT_FLAG_W,SILCAT,SILCAT_FLAG_W,PHSPHT,PHSPHT_FLAG_W,NH4,NH4_FLAG_W,ALKALI,ALKALI_FLAG_W,PH,PH_FLAG_W,TCARBN,TCARBN_FLAG_W
,,,,,,,,,,METERS,DBARS,,,,,,UMOL/KG,,UMOL/KG,,UMOL/KG,,UMOL/KG,,UMOL/KG,,UMOL/KG,,UMOL/KG,,,,UMOL/KG,
  49HO19980718,    11,  3,     12,     12,2,19980806,0543, 41.5035, 175.5005, 5550,    300.0,   5.4000,  33.8340,2,  33.8460,2,    165.4,2,    30.20,2,     0.00,2,    57.10,2,     2.18,2,-999,9,   -999.0,9,    7.547,2,   2200.0,2
  49HO19980718,    11,  3,     11,     11,2,19980806,0543, 41.5035, 175.5005, 5550,    401.3,   4.5400,  33.9030,2,  33.9160,2,    114.2,2,    36.20,2,     0.00,2,    77.60,2,     2.63,2,-999,9,   -999.0,9,    7.440,2,   2250.3,2
  49HO19980718,    11,  3,      9,      9,2,19980806,0543, 41.5035, 175.5005, 5550,    501.0,   4.1800,  34.0130,2,  34.0260,2,     80.4,2,    40.00,2,     0.00,2,    94.50,2,     2.88,2,-999,9,   -999.0,9,    7.388,2,   2291.9,2
  49HO19980718,    11,  3,      8,      8,2,19980806,0543, 41.5035, 175.5005, 5550,    600.0,   3.9200,  34.1110,2,  34.1340,2,     56.7,2,    42.20,2,     0.00,2,   108.60,2,     3.02,2,-999,9,   -999.0,9,    7.353,2,   2312.9,2
  49HO19980718,    11,  3,      7,      7,2,19980806,0543, 41.5035, 175.5005, 5550,    700.0,   3.6500,  34.1960,2,  34.2080,2,     42.3,2,    43.20,2,     0.00,2,   121.40,2,     3.10,2,-999,9,   -999.0,9,    7.336,2,   2330.1,2
  49HO19980718,    11,  3,      6,      6,2,19980806,0543, 41.5035, 175.5005, 5550,    801.9,   3.3800,  34.2590,2,  34.2640,2,     36.9,2,    44.00,2,     0.00,2,   132.40,2,     3.14,2,-999,9,   -999.0,9,    7.330,2,   2351.2,2
  49HO19980718,    11,  3,      5,      5,2,19980806,0543, 41.5035, 175.5005, 5550,    998.9,   3.0300,  34.3570,2,  34.3650,2,     32.5,2,    44.70,2,     0.00,2,   145.90,2,     3.18,2,-999,9,   -999.0,9,    7.328,2,   2363.3,2
  49HO19980718,    11,  3,      4,      4,2,19980806,0543, 41.5035, 175.5005, 5550,   1249.0,   2.6200,  34.4370,2,  34.4440,2,     33.9,2,    44.70,2,     0.00,2,   159.30,2,     3.18,2,-999,9,   -999.0,9,    7.357,2,   2374.7,2
  49HO19980718,    11,  3,      3,      3,2,19980806,0543, 41.5035, 175.5005, 5550,   1501.0,   2.3200,  34.4950,2,  34.5010,2,     42.8,2,    44.40,2,     0.00,2,   167.60,2,     3.17,2,-999,9,   -999.0,9,    7.360,2,   2379.4,2
  49HO19980718,    11,  3,      2,      2,2,19980806,0543, 41.5035, 175.5005, 5550,   2501.0,   1.7100,  34.6250,2,  34.6320,2,     96.9,2,    41.40,2,     0.00,2,   173.90,2,     2.91,2,-999,9,   -999.0,9,    7.472,2,   2360.5,2
  49HO19980718,    11,  3,      1,      1,2,19980806,0543, 41.5035, 175.5005, 5550,   3000.4,   1.5600,  34.6530,2,  34.6660,2,    121.9,2,    39.80,2,     0.00,2,   168.80,2,     2.77,2,-999,9,   -999.0,9,    7.534,2,   2342.6,2
  49HO19980718,    12,  1,      0,      0,2,19980807,0609, 40.0903, 175.5608, 5372,      0.0,-999.0000,-999.0000,9,  34.0800,2,    230.0,2,     0.40,2,     0.00,2,     0.80,2,     0.11,2,-999,9,   -999.0,9,    8.021,2,   1980.6,2
  49HO19980718,    12,  2,     12,     12,2,19980807,0609, 40.0903, 175.5608, 5372,     10.2,  21.5100,  34.0640,2,  34.0810,2,    232.3,2,     0.30,2,     0.00,2,     1.10,2,     0.12,2,-999,9,   -999.0,9,    8.023,2,   1977.2,2
  49HO19980718,    12,  2,     11,     11,2,19980807,0609, 40.0903, 175.5608, 5372,     21.4,  20.2200,  34.0750,2,  34.0840,2,    231.8,2,     0.30,2,     0.00,2,     1.10,2,     0.11,2,-999,9,   -999.0,9,    8.026,2,   1977.2,2
  49HO19980718,    12,  2,     10,     10,2,19980807,0609, 40.0903, 175.5608, 5372,     29.5,  16.8800,  34.2090,2,  34.2550,2,    271.1,2,     0.30,2,     0.00,2,     1.00,2,     0.16,2,-999,9,   -999.0,9,    8.021,2,   1989.9,2
  49HO19980718,    12,  2,      9,      9,2,19980807,0609, 40.0903, 175.5608, 5372,     40.5,  15.2600,  34.2470,2,  34.2600,2,    271.1,2,     0.30,2,     0.00,2,     1.00,2,     0.16,2,-999,9,   -999.0,9,    8.016,2,   1992.8,2
  49HO19980718,    12,  2,      8,      8,2,19980807,0609, 40.0903, 175.5608, 5372,     51.5,  13.9500,  34.2420,2,  34.2760,2,    268.0,2,     4.20,2,     0.20,2,     4.70,2,     0.44,2,-999,9,   -999.0,9,    7.956,2,   2024.3,2
  49HO19980718,    12,  2,      7,      7,2,19980807,0609, 40.0903, 175.5608, 5372,     58.8,  13.1600,  34.3610,2,  34.3860,2,    250.9,2,     8.00,2,     0.70,2,     9.60,2,     0.68,2,-999,9,   -999.0,9,    7.910,2,   2050.7,2
  49HO19980718,    12,  2,      5,      5,2,19980807,0609, 40.0903, 175.5608, 5372,     79.0,  12.2200,  34.3780,2,  34.3940,2,    240.6,2,    10.60,2,     0.00,2,    12.10,2,     0.77,2,-999,9,   -999.0,9,    7.881,2,   2064.5,2
  49HO19980718,    12,  2,      4,      4,2,19980807,0609, 40.0903, 175.5608, 5372,    100.5,  11.5400,  34.3120,2,  34.3310,2,    245.0,2,    10.90,2,     0.00,2,    12.60,2,     0.81,2,-999,9,   -999.0,9,    7.868,2,   2067.2,2
  49HO19980718,    12,  2,      3,      3,2,19980807,0609, 40.0903, 175.5608, 5372,    148.4,  10.6700,  34.2320,2,  34.2460,2,    253.1,2,    11.10,2,     0.00,2,    13.40,2,     0.83,2,-999,9,   -999.0,9,    7.859,2,   2072.2,2
  49HO19980718,    12,  2,      2,      2,2,19980807,0609, 40.0903, 175.5608, 5372,    200.9,  10.2600,  34.2050,2,  34.2170,2,    244.5,2,    12.70,2,     0.00,2,    16.10,2,     0.95,2,-999,9,   -999.0,9,    7.837,2,   2077.1,2
  49HO19980718,    12,  2,      1,      1,2,19980807,0609, 40.0903, 175.5608, 5372,    250.5,   9.5200,  34.1440,2,  34.1630,2,    238.2,2,    14.60,2,     0.00,2,    19.60,2,     1.07,2,-999,9,   -999.0,9,    7.815,2,   2094.2,2
  49HO19980718,    12,  3,     12,     12,2,19980807,0609, 40.0903, 175.5608, 5372,    299.3,   8.3900,  34.0160,2,  34.0880,2,    255.8,2,    15.50,2,     0.00,2,    22.20,2,     1.15,2,-999,9,   -999.0,9,    7.798,2,   2095.9,2
  49HO19980718,    12,  3,     11,     11,2,19980807,0609, 40.0903, 175.5608, 5372,    398.6,   6.9400,  33.9930,2,  33.9830,2,    167.3,2,    27.00,2,     0.00,2,    47.10,2,     1.94,2,-999,9,   -999.0,9,    7.619,2,   2179.9,2
  49HO19980718,    12,  3,      9,      9,2,19980807,0609, 40.0903, 175.5608, 5372,    501.6,   5.2800,  33.9790,2,  33.9920,2,    124.1,2,    33.70,2,     0.00,2,    70.20,2,     2.45,2,-999,9,   -999.0,9,    7.500,2,   2233.3,2
  49HO19980718,    12,  3,      8,      8,2,19980807,0609, 40.0903, 175.5608, 5372,    598.6,   4.4000,  34.0140,2,  34.0260,2,     87.6,2,    38.90,2,     0.00,2,    88.90,2,     2.77,2,-999,9,   -999.0,9,    7.413,2,   2276.2,2
  49HO19980718,    12,  3,      7,      7,2,19980807,0609, 40.0903, 175.5608, 5372,    700.4,   4.0200,  34.1270,2,  34.1380,2,     58.6,2,    41.30,2,     0.00,2,   106.60,2,     2.97,2,-999,9,   -999.0,9,    7.373,2,   2312.7,2
  49HO19980718,    12,  3,      6,      6,2,19980807,0609, 40.0903, 175.5608, 5372,    799.8,   3.8300,  34.2240,2,  34.2320,2,     48.3,2,    42.50,2,     0.00,2,   114.90,2,     3.04,2,-999,9,   -999.0,9,    7.368,2,   2330.9,2
  49HO19980718,    12,  3,      5,      5,2,19980807,0609, 40.0903, 175.5608, 5372,    999.8,   3.2200,  34.3250,2,  34.3370,2,     35.8,2,    44.40,2,     0.00,2,   136.50,2,     3.16,2,-999,9,   -999.0,9,    7.335,2,   2359.4,2
  49HO19980718,    12,  3,      4,      4,2,19980807,0609, 40.0903, 175.5608, 5372,   1248.8,   2.7300,  34.4180,2,  34.4280,2,     32.7,2,    44.90,2,     0.00,2,   152.90,2,     3.18,2,-999,9,   -999.0,9,    7.352,2,   2373.3,2
  49HO19980718,    12,  3,      3,      3,2,19980807,0609, 40.0903, 175.5608, 5372,   1500.5,   2.3700,  34.4850,2,  34.4940,2,     40.0,2,    44.60,2,     0.00,2,   163.90,2,     3.15,2,-999,9,   -999.0,9,    7.367,2,   2379.7,2
  49HO19980718,    12,  3,      2,      2,2,19980807,0609, 40.0903, 175.5608, 5372,   2501.4,   1.7100,  34.6260,2,  34.6320,2,     97.9,2,    41.30,2,     0.00,2,   171.00,2,     2.88,2,-999,9,   -999.0,9,    7.490,2,   2359.5,2
  49HO19980718,    12,  3,      1,      1,2,19980807,0609, 40.0903, 175.5608, 5372,   3001.3,   1.5600,  34.6540,2,  34.6620,2,    122.3,2,    39.60,2,     0.00,2,   166.50,2,     2.75,2,-999,9,   -999.0,9,    7.540,2,   2342.7,2
  49HO19980718,    13,  1,      0,      0,2,19980808,1938, 39.9987, 170.0002, 4815,      0.0,-999.0000,-999.0000,9,  34.0750,2,    228.3,2,     0.00,2,     0.00,2,     1.90,2,     0.00,2,-999,9,   -999.0,9,    8.032,2,   1971.7,2
  49HO19980718,    13,  2,     12,     12,2,19980808,1938, 39.9987, 170.0002, 4815,     10.6,  21.5700,  34.0290,2,  34.0730,2,    242.4,2,     0.10,2,     0.00,2,     2.20,2,     0.01,2,-999,9,   -999.0,9,    8.033,2,   1979.8,2
  49HO19980718,    13,  2,     11,     11,2,19980808,1938, 39.9987, 170.0002, 4815,     21.1,  16.6800,  34.0640,2,  34.1180,2,    283.4,2,     1.10,2,     0.10,2,     3.90,2,     0.08,2,-999,9,   -999.0,9,    8.014,2,   1993.2,2
  49HO19980718,    13,  2,     10,     10,2,19980808,1938, 39.9987, 170.0002, 4815,     30.5,  14.8200,  34.1430,2,  34.1380,2,    283.9,2,     1.20,2,     0.00,2,     4.10,2,     0.08,2,-999,9,   -999.0,9,    8.016,2,   1994.7,2
  49HO19980718,    13,  2,      9,      9,2,19980808,1938, 39.9987, 170.0002, 4815,     41.4,  13.1400,  34.2090,2,  34.1690,2,    286.7,2,     2.40,2,     0.00,2,     5.80,2,     0.16,2,-999,9,   -999.0,9,    7.993,2,   2005.3,2
  49HO19980718,    13,  2,      8,      8,2,19980808,1938, 39.9987, 170.0002, 4815,     50.5,  12.4300,  34.2330,2,  34.2310,2,    270.2,2,     6.40,2,     0.20,2,    12.40,2,     0.40,2,-999,9,   -999.0,9,    7.935,2,   2038.6,2
  49HO19980718,    13,  2,      7,      7,2,19980808,1938, 39.9987, 170.0002, 4815,     60.8,  11.9700,  34.2210,2,  34.2490,2,    257.5,2,     9.10,2,     0.30,2,    14.60,2,     0.55,2,-999,9,   -999.0,9,    7.894,2,   2063.5,2
  49HO19980718,    13,  2,      6,      6,2,19980808,1938, 39.9987, 170.0002, 4815,     78.9,  11.4000,  34.2180,2,  34.2450,2,    259.1,2,     9.00,2,     0.30,2,    14.40,2,     0.55,2,-999,9,   -999.0,9,    7.892,2,   2061.6,2
  49HO19980718,    13,  2,      5,      5,2,19980808,1938, 39.9987, 170.0002, 4815,     99.7,  10.5900,  34.2080,2,  34.2430,2,    253.2,2,    10.30,2,     0.20,2,    15.40,2,     0.60,2,-999,9,   -999.0,9,    7.878,2,   2066.3,2
  49HO19980718,    13,  2,      4,      4,2,19980808,1938, 39.9987, 170.0002, 4815,    125.9,  10.2200,  34.2170,2,  34.2280,2,    243.5,2,    13.30,2,     0.00,2,    19.50,2,     0.76,2,-999,9,   -999.0,9,    7.835,2,   2087.0,2
  49HO19980718,    13,  2,      3,      3,2,19980808,1938, 39.9987, 170.0002, 4815,    150.8,   9.7300,  34.1760,2,  34.1910,2,    245.3,2,    13.90,2,     0.00,2,    20.50,2,     0.81,2,-999,9,   -999.0,9,    7.830,2,   2090.8,2
  49HO19980718,    13,  2,      2,      2,2,19980808,1938, 39.9987, 170.0002, 4815,    200.5,   8.8800,  34.0940,2,-999.0000,9,    241.2,2,    15.50,2,     0.00,2,    23.30,2,     0.93,2,-999,9,   -999.0,9,    7.799,2,   2103.0,2
  49HO19980718,    13,  2,      1,      1,2,19980808,1938, 39.9987, 170.0002, 4815,    251.3,   7.8500,  33.9740,2,  33.9870,2,    248.1,2,    16.60,2,     0.00,2,    26.00,2,     0.99,2,-999,9,   -999.0,9,    7.780,2,   2111.7,2
  49HO19980718,    13,  3,     12,     12,2,19980808,1938, 39.9987, 170.0002, 4815,    300.0,   7.3400,  33.9970,2,  34.0120,2,    187.6,2,    23.70,2,     0.00,2,    41.50,2,     1.44,2,-999,9,   -999.0,9,    7.674,2,   2161.9,2
  49HO19980718,    13,  3,     10,     10,2,19980808,1938, 39.9987, 170.0002, 4815,    401.9,   5.3900,  33.9540,2,  33.9600,2,    138.0,2,    32.30,2,     0.00,2,    67.50,2,     2.01,2,-999,9,   -999.0,9,    7.543,2,   2226.3,2
  49HO19980718,    13,  3,      9,      9,2,19980808,1938, 39.9987, 170.0002, 4815,    501.8,   4.4500,  34.0000,2,  34.0050,2,     96.2,2,    37.20,2,     0.00,2,    87.70,2,     2.34,2,-999,9,   -999.0,9,    7.429,2,   2270.7,2
  49HO19980718,    13,  3,      8,      8,2,19980808,1938, 39.9987, 170.0002, 4815,    701.0,   3.9200,  34.1800,2,  34.1860,2,     52.9,2,    41.60,2,     0.00,2,   112.70,2,     2.61,2,-999,9,   -999.0,9,    7.395,2,   2319.4,2
  49HO19980718,    13,  3,      6,      6,2,19980808,1938, 39.9987, 170.0002, 4815,    800.6,   3.6300,  34.2460,2,  34.2610,2,     43.4,2,    42.80,2,     0.00,2,   124.60,2,     2.66,2,-999,9,   -999.0,9,    7.376,2,   2335.9,2
  49HO19980718,    13,  3,      5,      5,2,19980808,1938, 39.9987, 170.0002, 4815,   1000.8,   3.1400,  34.3500,2,  34.3580,2,     35.6,2,    43.80,2,     0.00,2,   141.30,2,     2.74,2,-999,9,   -999.0,9,    7.430,2,   2358.4,2
  49HO19980718,    13,  3,      4,      4,2,19980808,1938, 39.9987, 170.0002, 4815,   1248.4,   2.6600,  34.4390,2,  34.4530,2,     36.9,2,    43.90,2,     0.00,2,   157.70,2,     2.74,2,-999,9,   -999.0,9,    7.392,2,   2373.8,2
  49HO19980718,    13,  3,      3,      3,2,19980808,1938, 39.9987, 170.0002, 4815,   1501.7,   2.3300,  34.5040,2,  34.5110,2,     42.4,2,    44.30,2,     0.00,2,   167.70,2,     2.68,2,-999,9,   -999.0,9,    7.413,2,   2381.5,2
  49HO19980718,    13,  3,      2,      2,2,19980808,1938, 39.9987, 170.0002, 4815,   2501.5,   1.6600,  34.6360,2,  34.6470,2,    105.4,2,    40.30,2,     0.00,2,   172.20,2,     2.41,2,-999,9,   -999.0,9,    7.512,2,   2356.9,2
  49HO19980718,    13,  3,      1,      1,2,19980808,1938, 39.9987, 170.0002, 4815,   3001.3,   1.5400,  34.6620,2,  34.6680,2,    127.0,2,    39.20,2,     0.00,2,   167.30,2,     2.35,2,-999,9,   -999.0,9,    7.537,2,   2342.2,2
  49HO19980718,    14,  1,      0,      0,2,19980809,0857, 41.5015, 170.0013, 5125,      0.0,-999.0000,-999.0000,9,  33.6740,2,    240.7,2,     3.10,2,     0.00,2,     5.20,2,     0.30,2,-999,9,   -999.0,9,    7.994,2,   1981.8,2
  49HO19980718,    14,  2,     12,     12,2,19980809,0857, 41.5015, 170.0013, 5125,     10.8,  19.1800,  33.6270,2,  33.7060,2,    248.0,2,     3.20,2,     0.00,2,     5.80,2,     0.31,2,-999,9,   -999.0,9,    7.990,2,   1986.2,2
  49HO19980718,    14,  2,     11,     11,2,19980809,0857, 41.5015, 170.0013, 5125,     49.8,  10.6400,  33.9100,2,  33.9310,2,    281.6,2,     9.70,2,     0.20,2,    16.70,2,     0.85,2,-999,9,   -999.0,9,    7.879,2,   2056.5,2
  49HO19980718,    14,  2,     10,     10,2,19980809,0857, 41.5015, 170.0013, 5125,    101.1,   9.6400,  34.1200,2,  34.1320,2,    250.7,2,    14.00,2,     0.00,2,    19.90,2,     1.04,2,-999,9,   -999.0,9,    7.819,2,   2088.6,2
  49HO19980718,    14,  2,      9,      9,2,19980809,0857, 41.5015, 170.0013, 5125,    200.7,   8.4900,  34.0700,2,  34.0750,2,    220.6,2,    18.80,2,     0.00,2,    28.90,2,     1.38,2,-999,9,   -999.0,9,    7.747,2,   2123.1,2
  49HO19980718,    14,  2,      8,      8,2,19980809,0857, 41.5015, 170.0013, 5125,    301.8,   6.6800,  33.9780,2,  33.9890,2,    168.6,2,    27.20,2,     0.00,2,    49.60,2,     2.00,2,-999,9,   -999.0,9,    7.614,2,   2187.1,2
  49HO19980718,    14,  2,      7,      7,2,19980809,0857, 41.5015, 170.0013, 5125,    400.3,   5.1700,  33.9330,2,  33.9750,2,    131.2,2,    33.40,2,     0.00,2,    68.70,2,     2.43,2,-999,9,   -999.0,9,    7.511,2,   2229.1,2
  49HO19980718,    14,  2,      5,      5,2,19980809,0857, 41.5015, 170.0013, 5125,    600.7,   4.1400,  34.1030,2,  34.1120,2,     68.0,2,    40.90,2,     0.00,2,   101.90,2,     2.95,2,-999,9,   -999.0,9,    7.382,2,   2303.6,2
  49HO19980718,    14,  2,      3,      3,2,19980809,0857, 41.5015, 170.0013, 5125,   1001.1,   3.0500,  34.3570,2,  34.3670,2,     34.8,2,    44.50,2,     0.00,2,   142.80,2,     3.19,2,-999,9,   -999.0,9,    7.339,2,   2362.4,2
  49HO19980718,    14,  2,      2,      2,2,19980809,0857, 41.5015, 170.0013, 5125,   1251.8,   2.6500,  34.4370,2,  34.4430,2,     37.0,2,    44.90,2,     0.00,2,   156.40,2,     3.20,2,-999,9,   -999.0,9,    7.450,2,   2373.5,2
  49HO19980718,    14,  2,      1,      1,2,19980809,0857, 41.5015, 170.0013, 5125,   1501.1,   2.3800,  34.4930,2,  34.4940,2,     43.6,2,    44.70,2,     0.00,2,   164.70,2,     3.17,2,-999,9,   -999.0,9,    7.359,2,   2377.0,2
  49HO19980718,    15,  1,      0,      0,2,19980809,1930, 43.0007, 170.0012, 5070,      0.0,-999.0000,-999.0000,9,  32.7240,2,    262.0,2,     9.60,2,     0.20,2,    18.50,2,     0.87,2,-999,9,   -999.0,9,    7.935,2,   1984.6,2
  49HO19980718,    15,  2,     12,     12,2,19980809,1930, 43.0007, 170.0012, 5070,     10.5,  17.5800,  32.7010,2,  32.7710,2,    260.6,2,     9.60,2,     0.20,2,    18.30,2,     0.90,2,-999,9,   -999.0,9,    7.935,2,   1991.8,2
  49HO19980718,    15,  2,     10,     10,2,19980809,1930, 43.0007, 170.0012, 5070,     20.0,  15.9200,  32.8530,2,  33.0180,2,    311.2,2,     9.80,2,     0.20,2,    17.70,2,     0.92,2,-999,9,   -999.0,9,    7.919,2,   2006.5,2
  49HO19980718,    15,  2,      9,      9,2,19980809,1930, 43.0007, 170.0012, 5070,     40.5,   8.6700,  33.3470,2,  33.3710,2,    309.0,2,    12.20,2,     0.20,2,    21.60,2,     1.14,2,-999,9,   -999.0,9,    7.842,2,   2063.3,2
  49HO19980718,    15,  2,      8,      8,2,19980809,1930, 43.0007, 170.0012, 5070,     50.7,   7.9400,  33.3820,2,  33.4100,2,    306.0,2,    12.40,2,     0.20,2,    21.90,2,     1.14,2,-999,9,   -999.0,9,    7.838,2,   2063.0,2
  49HO19980718,    15,  2,      7,      7,2,19980809,1930, 43.0007, 170.0012, 5070,     60.3,   7.6800,  33.4250,2,  33.4430,2,    306.5,2,    12.70,2,     0.20,2,    22.00,2,     1.13,2,-999,9,   -999.0,9,    7.833,2,   2066.7,2
  49HO19980718,    15,  2,      5,      5,2,19980809,1930, 43.0007, 170.0012, 5070,     79.3,   6.5100,  33.4670,2,  33.4830,2,    292.6,2,    15.10,2,     0.30,2,    23.00,2,     1.24,2,-999,9,   -999.0,9,    7.795,2,   2082.3,2
  49HO19980718,    15,  2,      4,      4,2,19980809,1930, 43.0007, 170.0012, 5070,    100.3,   6.0900,  33.5530,2,  33.5660,2,    276.1,2,    16.40,2,     0.10,2,    23.70,2,     1.31,2,-999,9,   -999.0,9,    7.778,2,   2092.2,2
  49HO19980718,    15,  2,      3,      3,2,19980809,1930, 43.0007, 170.0012, 5070,    149.9,   6.5900,  33.7690,2,  33.7780,2,    224.1,2,    16.50,2,     0.10,2,    24.80,2,     1.27,2,-999,9,   -999.0,9,    7.785,2,   2099.7,2
  49HO19980718,    15,  2,      2,      2,2,19980809,1930, 43.0007, 170.0012, 5070,    199.0,   6.4100,  33.8260,2,  33.8390,2,    195.0,2,    22.10,2,     0.00,2,    37.60,2,     1.65,2,-999,9,   -999.0,9,    7.696,2,   2143.2,2
  49HO19980718,    15,  2,      1,      1,2,19980809,1930, 43.0007, 170.0012, 5070,    250.4,   5.1900,  33.7670,2,  33.7780,2,    151.9,2,    27.10,2,     0.00,2,    49.80,2,     2.01,2,-999,9,   -999.0,9,    7.596,2,   2179.2,2