BOTTLE,20091209MIRCJHATS
##cruise name,HO98-3,,,date,1998/8/5,,,Start,End
##station,10,,,transparency (m),12,,HO98069a,8/5 16:32,8/5 16:54,(SMT),1/0 11:00
##latitude,43,5.26,N,depth (m),6246,,,8/5 5:32,8/5 5:54,(GMT)
##,,,,weather,f,,,8/5 10:06,8/5 12:30,(GMT)
##Shallow cast
##cruise name,HO98-3,,,date,1998/8/6,,,Start,End
##station,11,,,transparency (m),21,,HO98071a,8/6 16:43,8/6 17:00,(SMT),1/0 11:00
##latitude,41,30.21,N,depth (m),5550,,,8/6 5:43,8/6 6:00,(GMT)
##,,,,weather,bc,,,8/6 10:16,8/5 16:00,(GMT)
##Shallow cast
##cruise name,HO98-3,,,date,1998/8/7,,,Start,End
##station,12,,,transparency (m),27,,HO98073a,8/7 17:09,,(SMT),1/0 11:00
##latitude,40,5.42,N,depth (m),5372,,,8/7 6:09,,(GMT)
##,,,,weather,bc,,,8/7 12:11,8/6 16:15,(GMT)
##Shallow cast
##cruise name,HO98-3,,,date,1998/8/9,,,Start,End
##station,13,,,transparency (m),24,,HO98074,8/9 6:38,8/9 8:59,(SMT),1/0 11:00
##latitude,39,59.92,N,depth (m),4815,,,8/8 19:38,8/8 21:59,(GMT)
##,,,,weather,bc,,,8/8 22:43,8/8 23:01,(GMT)
##Shallow cast
##cruise name,HO98-3,,,date,1998/8/9,,,Start,End
##station,14,,,transparency (m),,,HO98076,8/9 19:57,8/9 21:18,(SMT),1/0 11:00
##latitude,41,30.09,N,depth (m),5125,,,8/9 8:57,8/9 10:18,(GMT)
##,,,,weather,c,,,,,(GMT)
##Shallow cast
##cruise name,HO98-3,,,date,1998/8/10,,,Start,End
##station,15,,,transparency (m),12,,HO98078,8/10 6:30,8/10 9:23,(SMT),1/0 11:00
##latitude,43,0.04,N,depth (m),5070,,,8/9 19:30,8/9 22:23,(GMT)
##,,,,weather,f,,,8/9 22:56,8/9 23:13,(GMT)
##Shallow cast
##cruise name,HO98-3,,,date,1998/8/10,,,Start,End
##station,16,,,transparency (m),-,,HO98080,8/10 19:30,8/10 20:58,(SMT),1/0 11:00
##latitude,44,30.17,N,depth (m),1930,,,8/10 8:30,8/10 9:58,(GMT)
##,,,,weather,o,,,,,(GMT)
##Shallow cast
##cruise name,HO98-3,,,date,1998/8/10,,,Start,End
##station,17,,,transparency (m),15,,HO98082,8/11 7:06,8/10 9:21,(SMT),1/0 11:00
##latitude,46,3.85,N,depth (m),6085,,,8/10 20:06,8/9 22:21,(GMT)
##,,,,weather,f,,,8/10 22:57,8/9 23:13,(GMT)
##Shallow cast
##cruise name,HO98-3,,,date,1998/7/24,,,Start,End
##station,2,,,transparency (m),11,,HO98053,7/24 11:10,7/24 13:00,(SMT),1/0 11:00
##latitude,50,0.08,N,depth (m),5484,,,7/24 0:10,7/24 2:00,(GMT)
##,,,,weather,c,,,7/24 2:45,7/24 3:05,(GMT)
##Shallow cast
##cruise name,HO98-3,,,date,1998/7/25,,,Start,End
##station,3,,,transparency (m),16,,HO98055a,7/25 17:15,7/25 17:31,(SMT),1/0 11:00
##latitude,49,27.45,N,depth (m),5362,,,7/25 6:15,7/25 6:31,(GMT)
##,,,,weather,b,,,7/25 7:45,7/25 10:04,(GMT)
##Shallow cast
##cruise name,HO98-3,,,date,1998/7/26,,,Start,End
##station,4,,,transparency (m),15,,HO98057,7/26 15:45,7/26 18:03,(SMT),1/0 11:00
##latitude,49,0.03,N,depth (m),3502,,,7/26 4:45,7/26 7:03,(GMT)
##,,,,weather,f,,,7/26 7:36,7/26 8:29,(GMT)
##Shallow cast
##cruise name,HO98-3,,,date,1998/7/30,,,Start,End
##station,5,,,transparency (m),15,,HO98059a,7/30 17:34,7/30 17:57,(SMT),1/0 11:00
##latitude,48,28.92,N,depth (m),5456,,,7/30 6:34,7/30 6:57,(GMT)
##,,,,weather,f,,,7/30 7:59,7/30 10:17,(GMT)
##Shallow cast
##cruise name,HO98-3,,,date,1998/7/31,,,Start,End
##station,6,,,transparency (m),19,,HO98061,7/31 15:34,7/31 17:18,(SMT),1/0 11:00
##latitude,48,0.01,N,depth (m),5724,,,7/31 4:34,7/31 6:18,(GMT)
##,,,,weather,b,,,7/31 7:34,7/31 8:11,(GMT)
##Shallow cast
##cruise name,HO98-3,,,date,1998/8/1,,,Start,End
##station,7,,,transparency (m),21,,HO98063,8/1 15:00,8/1 17:15,(SMT),1/0 11:00
##latitude,47,29.9,N,depth (m),5490,,,8/1 4:00,8/1 6:15,(GMT)
##,,,,weather,bc,,,8/1 7:40,8/1 8:16,(GMT)
##Shallow cast
##cruise name,HO98-3,,,date,1998/8/2,,,Start,End
##station,8,,,transparency (m),21,,HO98065,8/2 15:24,8/2 17:35,(SMT),1/0 11:00
##latitude,46,0.02,N,depth (m),5668,,,8/2 4:24,8/2 6:35,(GMT)
##,,,,weather,c,,,8/2 7:40,8/2 8:18,(GMT)
##Shallow cast
EXPOCODE,STNNBR,CASTNO,SAMPNO,BTLNBR,BTLNBR_FLAG_W,DATE,TIME,LATITUDE,LONGITUDE,DEPTH,CTDPRS,CTDTMP,CTDSAL,CTDSAL_FLAG_W,SALNTY,SALNTY_FLAG_W,OXYGEN,OXYGEN_FLAG_W,NO2+NO3,NO2+NO3_FLAG_W,NITRIT,NITRIT_FLAG_W,SILCAT,SILCAT_FLAG_W,PHSPHT,PHSPHT_FLAG_W,NH4,NH4_FLAG_W,ALKALI,ALKALI_FLAG_W,PH,PH_FLAG_W,TCARBN,TCARBN_FLAG_W
,,,,,,,,,,METERS,DBARS,,,,,,UMOL/KG,,UMOL/KG,,UMOL/KG,,UMOL/KG,,UMOL/KG,,UMOL/KG,,UMOL/KG,,,,UMOL/KG,
  49HO19980718,KNOT-1,  1,      1,      1,5,19980721,1058, 44.0000, 155.0000, -999,      0.0,  12.9137,  32.5351,2,  32.5492,2,    271.7,2,     6.97,2,     0.11,2,     9.78,2,     0.88,2,-999,9,   2195.2,2,    7.916,2,   2007.2,2
  49HO19980718,KNOT-1,  1,      1,      1,5,19980721,1058, 44.0000, 155.0000, -999,     10.4,  12.8261,  32.5848,2,  32.5922,2,    273.2,2,     6.68,2,     0.11,2,     9.43,2,     0.87,2,-999,9,   2196.7,2,    7.923,2,   2002.2,2
  49HO19980718,KNOT-1,  1,      1,      1,5,19980721,1058, 44.0000, 155.0000, -999,     10.4,  12.8261,  32.5848,2,  32.5926,2,    272.5,2,     6.74,2,     0.12,2,     9.43,2,     0.88,2,-999,9,   2195.3,2,    7.920,2,   1999.3,2
  49HO19980718,KNOT-1,  1,      1,      1,5,19980721,1058, 44.0000, 155.0000, -999,     19.6,   8.0075,  32.8230,2,  32.8408,2,    311.0,2,    13.61,2,     0.16,2,    23.89,2,     1.39,2,-999,9,   2213.9,2,    7.833,2,   2057.5,2
  49HO19980718,KNOT-1,  1,      1,      1,5,19980721,1058, 44.0000, 155.0000, -999,     30.3,   5.2547,  32.8965,2,  32.8929,2,    333.6,2,    14.02,2,     0.19,2,    23.29,2,     1.43,2,-999,9,   2216.4,2,    7.824,2,   2067.5,2
  49HO19980718,KNOT-1,  1,      1,      1,5,19980721,1058, 44.0000, 155.0000, -999,     39.7,   3.8872,  32.9216,2,  32.9268,2,    330.1,2,    15.16,2,     0.24,2,    24.03,2,     1.48,2,-999,9,   2218.5,2,    7.801,2,   2074.0,2
  49HO19980718,KNOT-1,  1,      1,      1,5,19980721,1058, 44.0000, 155.0000, -999,     50.1,   3.3597,  32.9338,2,  32.9334,2,    335.7,2,    15.98,2,     0.36,2,    24.92,2,     1.54,2,-999,9,   2219.4,2,    7.781,2,   2089.2,2
  49HO19980718,KNOT-1,  1,      1,      1,5,19980721,1058, 44.0000, 155.0000, -999,     59.3,   2.9655,  32.9422,2,  32.9513,2,    332.2,2,    17.28,2,     0.59,2,    26.26,2,     1.61,2,-999,9,   2219.1,2,    7.758,2,   2089.5,2
  49HO19980718,KNOT-1,  1,      1,      1,5,19980721,1058, 44.0000, 155.0000, -999,     80.1,   2.3209,  32.9807,2,  32.9879,2,    321.6,2,    20.33,2,     0.40,2,    31.10,2,  -999.00,9,-999,9,   2216.7,2,    7.709,2,   2109.1,2
  49HO19980718,KNOT-1,  1,      1,      1,5,19980721,1058, 44.0000, 155.0000, -999,    123.6,   1.8674,  33.1494,2,  33.1461,2,    282.8,2,    26.31,2,     0.03,2,    45.09,2,     2.08,2,-999,9,   2227.0,2,    7.607,2,   2152.3,2
  49HO19980718,KNOT-1,  1,      1,      1,5,19980721,1058, 44.0000, 155.0000, -999,    149.1,   2.3357,  33.3507,2,-999.0000,9,   -999.0,9,    33.04,2,     0.04,2,    62.62,2,     2.48,2,-999,9,   2246.0,2,    7.483,2,   -999.0,9
  49HO19980718,KNOT-1,  1,      1,      1,5,19980721,1058, 44.0000, 155.0000, -999,    201.1,   2.9536,  33.6824,2,  33.6834,2,    106.2,2,    39.07,2,     0.02,2,    84.19,2,     2.86,2,-999,9,   2276.1,2,    7.370,2,   2281.7,2
  49HO19980718,KNOT-1,  1,      1,      1,5,19980721,1058, 44.0000, 155.0000, -999,    295.3,   3.3159,  33.9220,2,  33.9265,2,     42.6,2,    43.96,2,     0.02,2,   102.13,2,     3.15,2,-999,9,   2298.3,2,    7.280,2,   2326.3,2
  49HO19980718,KNOT-1,  1,      1,      1,5,19980721,1058, 44.0000, 155.0000, -999,    300.5,   3.4046,  33.9353,2,  33.9422,2,     35.0,2,    44.47,2,     0.01,2,   103.34,2,     3.19,2,-999,9,   2296.9,2,    7.294,2,   2337.0,2
  49HO19980718,KNOT-1,  1,      1,      1,5,19980721,1058, 44.0000, 155.0000, -999,    401.0,   3.3321,  34.0557,2,  34.0599,2,     28.3,2,    44.34,2,     0.02,2,   113.80,2,     3.18,2,-999,9,   2315.7,2,    7.324,2,   2355.8,2
  49HO19980718,KNOT-1,  1,      1,      1,5,19980721,1058, 44.0000, 155.0000, -999,    499.9,   3.2249,  34.1463,2,  34.1496,2,     26.4,2,    43.63,2,     0.01,2,   122.46,2,     3.17,2,-999,9,   2327.9,2,    7.323,2,   2358.9,2
  49HO19980718,KNOT-1,  1,      1,      1,5,19980721,1058, 44.0000, 155.0000, -999,    600.1,   3.3791,  34.2628,2,  34.2682,2,     23.1,2,    42.63,2,     0.02,2,   124.47,2,     3.06,2,-999,9,   2345.0,2,    7.364,2,   2353.1,2
  49HO19980718,KNOT-1,  1,      1,      1,5,19980721,1058, 44.0000, 155.0000, -999,    701.0,   2.9435,  34.2904,2,  34.2944,2,     25.2,2,    44.20,2,     0.01,2,   138.52,2,     3.16,2,-999,9,   2351.9,2,    7.337,2,   2375.9,2
  49HO19980718,KNOT-1,  1,      1,      1,5,19980721,1058, 44.0000, 155.0000, -999,    800.9,   2.7866,  34.3472,2,  34.3489,2,     27.6,2,    43.91,2,     0.00,2,   144.15,2,     3.14,2,-999,9,   2363.5,2,    7.372,2,   2376.4,2
  49HO19980718,KNOT-1,  1,      1,      1,5,19980721,1058, 44.0000, 155.0000, -999,   1001.3,   2.5574,  34.4238,2,  34.4293,2,     34.8,2,    43.44,2,     0.01,2,   151.81,2,     3.12,2,-999,9,   2377.6,2,    7.357,2,   2377.1,2
  49HO19980718,KNOT-1,  1,      1,      1,5,19980721,1058, 44.0000, 155.0000, -999,   1250.4,   2.3167,  34.4870,2,  34.4904,2,     43.4,2,    43.01,2,     0.00,2,   158.27,2,     3.08,2,-999,9,   2388.5,2,    7.380,2,   2374.3,2
  49HO19980718,KNOT-1,  1,      1,      1,5,19980721,1058, 44.0000, 155.0000, -999,   1500.1,   2.1339,  34.5349,2,  34.5379,2,     53.2,2,    42.46,2,     0.01,2,   161.79,2,     3.04,2,-999,9,   2399.2,2,    7.418,2,   2384.2,2
  49HO19980718,KNOT-1,  1,      1,      1,5,19980721,1058, 44.0000, 155.0000, -999,   2500.7,   1.6431,  34.6412,2,  34.6426,2,    107.8,2,    39.17,2,     0.01,2,   159.91,2,     2.77,2,-999,9,   2413.3,2,    7.517,2,   2357.5,2
  49HO19980718,KNOT-1,  1,      1,      1,5,19980721,1058, 44.0000, 155.0000, -999,   3000.0,   1.5296,  34.6634,2,  34.6630,2,    127.2,2,    37.84,2,     0.02,2,   155.34,2,     2.67,2,-999,9,   2413.3,2,    7.548,2,   2344.1,2
  49HO19980718,     2,  1,      0,      0,2,19980724,0010, 50.0013, 164.9993, 5484,      0.0,-999.0000,-999.0000,9,  32.8450,2,    300.2,2,    15.60,2,     0.20,2,    29.30,2,     1.43,2,-999,9,   -999.0,9,    7.833,2,   2051.0,2
  49HO19980718,     2,  2,     12,     12,2,19980724,0010, 50.0013, 164.9993, 5484,     10.4,   8.9100,  32.8330,2,  32.8460,2,    301.2,2,    15.60,2,     0.20,2,    29.30,2,     1.44,2,-999,9,   -999.0,9,    7.837,2,   2053.8,2
  49HO19980718,     2,  2,     11,     11,2,19980724,0010, 50.0013, 164.9993, 5484,     20.8,   8.4400,  32.8270,2,  32.8640,2,    314.4,2,    16.60,2,     0.10,2,    30.70,2,     1.53,2,-999,9,   -999.0,9,    7.806,2,   2061.3,2
  49HO19980718,     2,  2,     10,     10,2,19980724,0010, 50.0013, 164.9993, 5484,     29.7,   5.7200,  32.8790,2,  32.8630,2,    314.9,2,    16.60,2,     0.10,2,    30.70,2,     1.52,2,-999,9,   -999.0,9,    7.815,2,   2065.2,2
  49HO19980718,     2,  2,      9,      9,2,19980724,0010, 50.0013, 164.9993, 5484,     39.7,   4.3100,  32.9210,2,  32.8970,2,    328.6,2,    18.40,2,     0.20,2,    33.10,2,     1.64,2,-999,9,   -999.0,9,    7.784,2,   2081.2,2
  49HO19980718,     2,  2,      8,      8,2,19980724,0010, 50.0013, 164.9993, 5484,     49.8,   3.7300,  32.9400,2,  32.9530,2,    326.1,2,    21.20,2,     0.30,2,    36.30,2,     1.81,2,-999,9,   -999.0,9,    7.726,2,   2086.8,2
  49HO19980718,     2,  2,      7,      7,2,19980724,0010, 50.0013, 164.9993, 5484,     59.3,   3.4600,  32.9660,2,  32.9540,2,    324.9,2,    21.20,2,     0.30,2,    36.30,2,     1.82,2,-999,9,   -999.0,9,    7.728,2,   2092.1,2
  49HO19980718,     2,  2,      6,      6,2,19980724,0010, 50.0013, 164.9993, 5484,     80.9,   2.8200,  32.9950,2,  33.0090,2,    321.3,2,    23.70,2,     0.70,2,    40.90,2,     1.96,2,-999,9,   -999.0,9,    7.687,2,   2105.2,2
  49HO19980718,     2,  2,      5,      5,2,19980724,0010, 50.0013, 164.9993, 5484,    101.0,   2.5700,  33.0710,2,  33.1000,2,    289.6,2,    27.20,2,     0.10,2,    47.80,2,     2.12,2,-999,9,   -999.0,9,    7.624,2,   2129.8,2
  49HO19980718,     2,  2,      4,      4,2,19980724,0010, 50.0013, 164.9993, 5484,    125.9,   3.1900,  33.6530,2,  33.6450,2,     95.5,2,    42.60,2,     0.00,2,    86.90,2,     3.08,2,-999,9,   -999.0,9,    7.298,2,   2280.4,2
  49HO19980718,     2,  2,      3,      3,2,19980724,0010, 50.0013, 164.9993, 5484,    149.7,   3.4400,  33.8370,2,  33.8390,2,     33.8,2,    47.10,2,     0.00,2,   101.00,2,     3.34,2,-999,9,   -999.0,9,    7.216,2,   2327.3,2
  49HO19980718,     2,  2,      2,      2,2,19980724,0010, 50.0013, 164.9993, 5484,    200.6,   3.5000,  33.9440,2,  33.9480,2,     20.1,2,    47.30,2,     0.00,2,   109.90,2,     3.36,2,-999,9,   -999.0,9,    7.238,2,   2339.6,2
  49HO19980718,     2,  3,     12,     12,2,19980724,0010, 50.0013, 164.9993, 5484,    300.9,   3.4700,  34.0680,2,-999.0000,9,   -999.0,9,  -999.00,9,  -999.00,9,  -999.00,9,  -999.00,9,-999,9,   -999.0,9, -999.000,9,   -999.0,9
  49HO19980718,     2,  2,      1,      1,2,19980724,0010, 50.0013, 164.9993, 5484,    301.5,   3.4700,  34.0660,2,  34.0680,2,     16.3,2,    46.80,2,     0.00,2,   120.90,2,     3.31,2,-999,9,   -999.0,9,    7.235,2,   2347.0,2
  49HO19980718,     2,  3,     10,     10,2,19980724,0010, 50.0013, 164.9993, 5484,    399.6,   3.3200,  34.1470,2,  34.1530,2,     20.5,2,    45.50,2,     0.00,2,   130.00,2,     3.23,2,-999,9,   -999.0,9,    7.281,2,   2355.8,2
  49HO19980718,     2,  3,      9,      9,2,19980724,0010, 50.0013, 164.9993, 5484,    500.1,   3.2100,  34.2140,2,  34.2180,2,     20.6,2,    45.30,2,     0.00,2,   137.30,2,     3.24,2,-999,9,   -999.0,9,    7.298,2,   2361.7,2
  49HO19980718,     2,  3,      8,      8,2,19980724,0010, 50.0013, 164.9993, 5484,    600.1,   3.0700,  34.2740,2,  34.2750,2,     16.9,2,    45.70,2,     0.00,2,   144.80,2,     3.26,2,-999,9,   -999.0,9,    7.288,2,   2373.2,2
  49HO19980718,     2,  3,      7,      7,2,19980724,0010, 50.0013, 164.9993, 5484,    800.5,   2.8200,  34.3600,2,  34.3640,2,     20.6,2,    45.50,2,     0.00,2,   155.30,2,     3.24,2,-999,9,   -999.0,9,    7.307,2,   2381.2,2
  49HO19980718,     2,  3,      5,      5,2,19980724,0010, 50.0013, 164.9993, 5484,   1000.4,   2.5600,  34.4290,2,  34.4330,2,     24.5,2,    45.30,2,     0.00,2,   164.70,2,     3.23,2,-999,9,   -999.0,9,    7.305,2,   2390.6,2
  49HO19980718,     2,  3,      4,      4,2,19980724,0010, 50.0013, 164.9993, 5484,   1250.0,   2.2700,  34.4970,2,  34.5010,2,     35.6,2,    44.90,2,     0.00,2,   173.40,2,     3.17,2,-999,9,   -999.0,9,    7.343,2,   2386.6,2
  49HO19980718,     2,  3,      3,      3,2,19980724,0010, 50.0013, 164.9993, 5484,   2001.2,   1.7800,  34.6070,2,  34.6100,2,     79.4,2,    41.80,2,     0.00,2,   183.10,2,     2.97,2,-999,9,   -999.0,9,    7.435,2,   2373.6,2
  49HO19980718,     2,  3,      2,      2,2,19980724,0010, 50.0013, 164.9993, 5484,   2501.1,   1.6200,  34.6410,2,  34.6480,2,    108.1,2,    40.10,2,     0.00,2,   173.40,2,     2.82,2,-999,9,   -999.0,9,    7.484,2,   2356.4,2
  49HO19980718,     2,  3,      1,      1,2,19980724,0010, 50.0013, 164.9993, 5484,   2998.4,   1.5300,  34.6610,2,  34.6700,2,    130.3,2,    38.80,2,     0.00,2,   166.10,2,     2.71,2,-999,9,   -999.0,9,    7.558,2,   2343.8,2
  49HO19980718,     3,  1,      0,      0,2,19980725,0615, 49.4575, 167.1025, 5362,      0.0,-999.0000,-999.0000,9,  32.8430,2,    297.0,2,    15.80,2,     0.20,2,    26.10,2,     1.48,2,-999,9,   -999.0,9,    7.808,2,   2052.1,2
  49HO19980718,     3,  2,     12,     12,2,19980725,0615, 49.4575, 167.1025, 5362,      9.5,   9.2200,  32.8320,2,  32.8450,2,    299.6,2,    15.80,2,     0.20,2,    25.30,2,     1.47,2,-999,9,   -999.0,9,    7.800,2,   2048.5,2
  49HO19980718,     3,  2,     11,     11,2,19980725,0615, 49.4575, 167.1025, 5362,     19.9,   8.9200,  32.8310,2,  32.8460,2,    300.9,2,    15.90,2,     0.20,2,    25.40,2,     1.48,2,-999,9,   -999.0,9,    7.802,2,   2051.8,2
  49HO19980718,     3,  2,     10,     10,2,19980725,0615, 49.4575, 167.1025, 5362,     29.7,   8.8200,  32.8030,2,  32.8750,2,    312.8,2,    16.60,2,     0.20,2,    27.10,2,     1.53,2,-999,9,   -999.0,9,    7.790,2,   2058.0,2
  49HO19980718,     3,  2,      9,      9,2,19980725,0615, 49.4575, 167.1025, 5362,     39.4,   5.5900,  32.9100,2,  32.8680,2,    309.1,2,    16.50,2,     0.20,2,    26.80,2,     1.52,2,-999,9,   -999.0,9,    7.795,2,   2057.0,2
  49HO19980718,     3,  2,      8,      8,2,19980725,0615, 49.4575, 167.1025, 5362,     49.9,   4.5000,  32.9270,2,  32.9420,2,    323.0,2,    20.10,2,     0.30,2,    33.10,2,     1.72,2,-999,9,   -999.0,9,    7.733,2,   2085.8,2
  49HO19980718,     3,  2,      7,      7,2,19980725,0615, 49.4575, 167.1025, 5362,     61.2,   4.1800,  32.9650,2,  32.9750,2,    314.2,2,    22.30,2,     0.80,2,    36.70,2,     1.85,2,-999,9,   -999.0,9,    7.699,2,   2104.4,2
  49HO19980718,     3,  2,      6,      6,2,19980725,0615, 49.4575, 167.1025, 5362,     80.6,   3.4400,  32.9650,2,  32.9790,2,    316.4,2,    23.30,2,     0.80,2,    38.80,2,     1.90,2,-999,9,   -999.0,9,    7.690,2,   2104.9,2
  49HO19980718,     3,  2,      5,      5,2,19980725,0615, 49.4575, 167.1025, 5362,     99.5,   3.2900,  32.9980,2,  33.0240,2,    306.8,2,    24.60,2,     0.50,2,    41.90,2,     1.98,2,-999,9,   -999.0,9,    7.659,2,   2114.1,2
  49HO19980718,     3,  2,      4,      4,2,19980725,0615, 49.4575, 167.1025, 5362,    124.3,   3.1500,  33.2860,2,  33.2770,2,    222.6,2,    31.50,2,     0.00,2,    59.00,2,     2.40,2,-999,9,   -999.0,9,    7.521,2,   2183.4,2
  49HO19980718,     3,  2,      3,      3,2,19980725,0615, 49.4575, 167.1025, 5362,    150.1,   3.2900,  33.7150,2,  33.7430,2,     76.9,2,    43.10,2,     0.00,2,    91.60,2,     3.11,2,-999,9,   -999.0,9,    7.374,2,   2303.2,2
  49HO19980718,     3,  2,      2,      2,2,19980725,0615, 49.4575, 167.1025, 5362,    200.2,   3.4000,  33.8700,2,  33.8840,2,     35.4,2,    45.90,2,     0.00,2,   103.50,2,     3.29,2,-999,9,   -999.0,9,    7.288,2,   2327.9,2
  49HO19980718,     3,  2,      1,      1,2,19980725,0615, 49.4575, 167.1025, 5362,    250.3,   3.4800,  33.9540,2,  33.9500,2,     27.6,2,    46.10,2,     0.00,2,   106.90,2,     3.30,2,-999,9,   -999.0,9,    7.231,2,   2337.1,2