BOTTLE,20091209MIRCJHATS
EXPOCODE,STNNBR,CASTNO,SAMPNO,BTLNBR,BTLNBR_FLAG_W,DATE,TIME,LATITUDE,LONGITUDE,DEPTH,CTDPRS,CTDTMP,CTDSAL,CTDSAL_FLAG_W,SALNTY,SALNTY_FLAG_W,OXYGEN,OXYGEN_FLAG_W,NO2+NO3,NO2+NO3_FLAG_W,NITRIT,NITRIT_FLAG_W,SILCAT,SILCAT_FLAG_W,PHSPHT,PHSPHT_FLAG_W,NH4,NH4_FLAG_W,ALKALI,ALKALI_FLAG_W,PH,PH_FLAG_W,TCARBN,TCARBN_FLAG_W
,,,,,,,,,,METERS,DBARS,,,,,,UMOL/KG,,UMOL/KG,,UMOL/KG,,UMOL/KG,,UMOL/KG,,UMOL/KG,,UMOL/KG,,,,UMOL/KG,
  49HO19980718,     7,  2,     12,     12,2,19980801,0400, 47.4983, 175.5023, 5490,     10.0,   9.3100,  32.7740,2,  32.7920,2,    294.9,2,    17.40,2,     0.20,2,    29.00,2,     1.58,2,-999,9,   -999.0,9,    7.811,2,   2049.0,2
  49HO19980718,     7,  2,     11,     11,2,19980801,0400, 47.4983, 175.5023, 5490,     20.3,   9.1800,  32.7720,2,  32.7920,2,    295.1,2,    17.50,2,     0.20,2,    29.00,2,     1.58,2,-999,9,   -999.0,9,    7.813,2,   2049.1,2
  49HO19980718,     7,  2,     10,     10,2,19980801,0400, 47.4983, 175.5023, 5490,     29.8,   9.0200,  32.7730,2,  32.7930,2,    295.7,2,    17.50,2,     0.20,2,    29.10,2,     1.59,2,-999,9,   -999.0,9,    7.808,2,   2053.0,2
  49HO19980718,     7,  2,      9,      9,2,19980801,0400, 47.4983, 175.5023, 5490,     40.8,   4.8800,  32.9310,2,  32.8500,2,    307.9,2,    17.90,2,     0.20,2,    30.30,2,     1.62,2,-999,9,   -999.0,9,    7.800,2,   2059.0,2
  49HO19980718,     7,  2,      8,      8,2,19980801,0400, 47.4983, 175.5023, 5490,     50.4,   4.4500,  32.9340,2,  32.9630,2,    337.2,2,    20.00,2,     0.20,2,    34.90,2,     1.74,2,-999,9,   -999.0,9,    7.757,2,   2080.5,2
  49HO19980718,     7,  2,      7,      7,2,19980801,0400, 47.4983, 175.5023, 5490,     60.1,   4.1200,  32.9400,2,  32.9590,2,    331.8,2,    20.40,2,     0.30,2,    34.80,2,     1.75,2,-999,9,   -999.0,9,    7.753,2,   2086.8,2
  49HO19980718,     7,  2,      6,      6,2,19980801,0400, 47.4983, 175.5023, 5490,     80.3,   3.3500,  32.9600,2,  32.9600,2,    332.4,2,    20.40,2,     0.30,2,    34.80,2,     1.74,2,-999,9,   -999.0,9,    7.741,2,   2091.2,2
  49HO19980718,     7,  2,      5,      5,2,19980801,0400, 47.4983, 175.5023, 5490,    100.2,   2.9300,  32.9730,2,  32.9800,2,    323.3,2,    22.80,2,     0.90,2,    36.60,2,     1.85,2,-999,9,   -999.0,9,    7.702,2,   2100.5,2
  49HO19980718,     7,  2,      4,      4,2,19980801,0400, 47.4983, 175.5023, 5490,    124.7,   2.6400,  33.0140,2,  32.9900,2,    322.7,2,    23.80,2,     0.00,2,    38.50,2,     1.90,2,-999,9,   -999.0,9,    7.693,2,   2101.8,2
  49HO19980718,     7,  2,      3,      3,2,19980801,0400, 47.4983, 175.5023, 5490,    150.3,   2.8100,  33.2820,2,  33.3160,2,    228.3,2,    30.30,2,     0.00,2,    55.40,2,     2.29,2,-999,9,   -999.0,9,    7.543,2,   2173.4,2
  49HO19980718,     7,  2,      2,      2,2,19980801,0400, 47.4983, 175.5023, 5490,    200.0,   3.0800,  33.6670,2,  33.6840,2,    103.4,2,    40.80,2,     0.00,2,    85.20,2,     2.96,2,-999,9,   -999.0,9,    7.411,2,   2271.4,2
  49HO19980718,     7,  2,      1,      1,2,19980801,0400, 47.4983, 175.5023, 5490,    250.5,   3.2800,  33.8110,2,  33.8330,2,     76.6,2,    42.50,2,     0.00,2,    93.80,2,     3.05,2,-999,9,   -999.0,9,    7.270,2,   2293.2,2
  49HO19980718,     7,  3,     12,     12,2,19980801,0400, 47.4983, 175.5023, 5490,    300.2,   3.4200,  33.9250,2,  33.9400,2,     45.1,2,    44.90,2,     0.00,2,   105.30,2,     3.19,2,-999,9,   -999.0,9,    7.289,2,   2317.8,2
  49HO19980718,     7,  3,     10,     10,2,19980801,0400, 47.4983, 175.5023, 5490,    400.3,   3.4200,  34.0580,2,  34.0720,2,     27.0,2,    46.00,2,     0.00,2,   118.30,2,     3.26,2,-999,9,   -999.0,9,    7.294,2,   2340.8,2
  49HO19980718,     7,  3,      9,      9,2,19980801,0400, 47.4983, 175.5023, 5490,    500.3,   3.3500,  34.1400,2,  34.1490,2,     27.8,2,    45.70,2,     0.00,2,   126.10,2,     3.23,2,-999,9,   -999.0,9,    7.280,2,   2346.9,2
  49HO19980718,     7,  3,      8,      8,2,19980801,0400, 47.4983, 175.5023, 5490,    600.8,   3.2500,  34.2150,2,  34.2270,2,     25.9,2,    45.50,2,     0.00,2,   133.80,2,     3.22,2,-999,9,   -999.0,9,    7.277,2,   2355.2,2
  49HO19980718,     7,  3,      7,      7,2,19980801,0400, 47.4983, 175.5023, 5490,    700.1,   3.1000,  34.2800,2,  34.2940,2,     27.5,2,    45.10,2,     0.00,2,   140.80,2,     3.20,2,-999,9,   -999.0,9,    7.304,2,   2356.2,2
  49HO19980718,     7,  3,      6,      6,2,19980801,0400, 47.4983, 175.5023, 5490,    800.0,   2.9300,  34.3220,2,  34.3320,2,     23.9,2,    45.50,2,     0.00,2,   148.80,2,     3.23,2,-999,9,   -999.0,9,    7.325,2,   2371.7,2
  49HO19980718,     7,  3,      5,      5,2,19980801,0400, 47.4983, 175.5023, 5490,   1000.3,   2.6900,  34.3990,2,  34.4070,2,     31.8,2,    45.10,2,     0.00,2,   155.40,2,     3.21,2,-999,9,   -999.0,9,    7.337,2,   2372.2,2
  49HO19980718,     7,  3,      4,      4,2,19980801,0400, 47.4983, 175.5023, 5490,   1250.3,   2.3900,  34.4680,2,  34.4770,2,     37.5,2,    45.00,2,     0.00,2,   167.00,2,     3.18,2,-999,9,   -999.0,9,    7.342,2,   2380.7,2
  49HO19980718,     7,  3,      3,      3,2,19980801,0400, 47.4983, 175.5023, 5490,   1499.2,   2.1900,  34.5190,2,  34.5320,2,     47.2,2,    44.30,2,     0.00,2,   171.60,2,     3.13,2,-999,9,   -999.0,9,    7.380,2,   2380.4,2
  49HO19980718,     7,  3,      2,      2,2,19980801,0400, 47.4983, 175.5023, 5490,   2499.5,   1.6700,  34.6330,2,  34.6430,2,    106.8,2,    40.60,2,     0.00,2,   173.50,2,     2.86,2,-999,9,   -999.0,9,    7.474,2,   2355.6,2
  49HO19980718,     7,  3,      1,      1,2,19980801,0400, 47.4983, 175.5023, 5490,   3001.8,   1.5600,  34.6560,2,  34.6670,2,    122.2,2,    39.70,2,     0.00,2,   169.70,2,     2.76,2,-999,9,   -999.0,9,    7.523,2,   2342.2,2
  49HO19980718,     8,  1,      0,      0,2,19980802,0424, 46.0003, 175.4965, 5668,      0.0,-999.0000,-999.0000,9,  32.7550,2,    284.6,2,    14.80,2,     0.20,2,    22.50,2,     1.36,2,-999,9,   -999.0,9,    7.820,2,   2038.6,2
  49HO19980718,     8,  2,     12,     12,2,19980802,0424, 46.0003, 175.4965, 5668,      9.8,  10.1000,  32.8090,2,  32.8500,2,    290.0,2,    14.90,2,     0.20,2,    23.20,2,     1.40,2,-999,9,   -999.0,9,    7.820,2,   2044.5,2
  49HO19980718,     8,  2,     11,     11,2,19980802,0424, 46.0003, 175.4965, 5668,     20.0,  10.0200,  32.8080,2,  32.8280,2,    290.4,2,    15.00,2,     0.20,2,    23.40,2,     1.41,2,-999,9,   -999.0,9,    7.818,2,   2044.2,2
  49HO19980718,     8,  2,      9,      9,2,19980802,0424, 46.0003, 175.4965, 5668,     29.5,   9.7800,  32.8130,2,  32.9470,2,    298.8,2,    15.00,2,     0.20,2,    23.40,2,     1.40,2,-999,9,   -999.0,9,    7.820,2,   2068.1,2
  49HO19980718,     8,  2,      8,      8,2,19980802,0424, 46.0003, 175.4965, 5668,     39.9,   6.5500,  33.0810,2,  33.1880,2,    315.7,2,    15.10,2,     0.20,2,    24.40,2,     1.38,2,-999,9,   -999.0,9,    7.791,2,   2070.3,2
  49HO19980718,     8,  2,      7,      7,2,19980802,0424, 46.0003, 175.4965, 5668,     49.9,   5.6000,  33.0860,2,  33.1690,2,    311.2,2,    15.50,2,     0.30,2,    25.10,2,     1.41,2,-999,9,   -999.0,9,    7.796,2,   2078.9,2
  49HO19980718,     8,  2,      6,      6,2,19980802,0424, 46.0003, 175.4965, 5668,     60.0,   5.1400,  33.1250,2,  33.1630,2,    314.8,2,    16.80,2,     0.50,2,    26.50,2,     1.48,2,-999,9,   -999.0,9,    7.774,2,   2083.2,2
  49HO19980718,     8,  2,      5,      5,2,19980802,0424, 46.0003, 175.4965, 5668,     79.9,   5.1600,  33.2440,2,  33.2650,2,    305.9,2,    17.00,2,     0.00,2,    25.60,2,     1.42,2,-999,9,   -999.0,9,    7.750,2,   2088.6,2
  49HO19980718,     8,  2,      4,      4,2,19980802,0424, 46.0003, 175.4965, 5668,    100.4,   5.5000,  33.3730,2,  33.4010,2,    298.5,2,    16.50,2,     0.00,2,    24.90,2,     1.37,2,-999,9,   -999.0,9,    7.752,2,   2088.3,2
  49HO19980718,     8,  2,      3,      3,2,19980802,0424, 46.0003, 175.4965, 5668,    150.4,   5.9900,  33.7000,2,  33.7260,2,    239.2,2,    21.20,2,     0.00,2,    35.60,2,     1.62,2,-999,9,   -999.0,9,    7.682,2,   2133.1,2
  49HO19980718,     8,  2,      2,      2,2,19980802,0424, 46.0003, 175.4965, 5668,    199.9,   5.0000,  33.7220,2,  33.7410,2,    188.5,2,    28.30,2,     0.00,2,    53.00,2,     2.10,2,-999,9,   -999.0,9,    7.579,2,   2183.8,2
  49HO19980718,     8,  2,      1,      1,2,19980802,0424, 46.0003, 175.4965, 5668,    250.6,   4.2200,  33.7520,2,  33.7670,2,    147.5,2,    33.50,2,     0.00,2,    67.70,2,     2.46,2,-999,9,   -999.0,9,    7.475,2,   2225.5,2
  49HO19980718,     8,  3,     12,     12,2,19980802,0424, 46.0003, 175.4965, 5668,    300.4,   4.0000,  33.8340,2,-999.0000,9,   -999.0,9,  -999.00,9,  -999.00,9,  -999.00,9,  -999.00,9,-999,9,   -999.0,9, -999.000,9,   -999.0,9
  49HO19980718,     8,  3,     10,     10,2,19980802,0424, 46.0003, 175.4965, 5668,    400.7,   3.8600,  33.9620,2,  33.9830,2,     75.0,2,    40.70,2,     0.00,2,    96.90,2,     2.94,2,-999,9,   -999.0,9,    7.349,2,   2293.4,2
  49HO19980718,     8,  3,      9,      9,2,19980802,0424, 46.0003, 175.4965, 5668,    601.0,   3.5700,  34.1570,2,  34.1690,2,     40.2,2,    43.40,2,     0.00,2,   121.10,2,     3.11,2,-999,9,   -999.0,9,    7.322,2,   2334.6,2
  49HO19980718,     8,  3,      7,      7,2,19980802,0424, 46.0003, 175.4965, 5668,    698.8,   3.4000,  34.2240,2,  34.2360,2,     36.3,2,    43.70,2,     0.00,2,   130.00,2,     3.14,2,-999,9,   -999.0,9,    7.324,2,   2341.8,2
  49HO19980718,     8,  3,      6,      6,2,19980802,0424, 46.0003, 175.4965, 5668,    800.3,   3.2100,  34.2760,2,  34.3010,2,     31.5,2,    44.10,2,     0.00,2,   136.70,2,     3.17,2,-999,9,   -999.0,9,    7.330,2,   2352.1,2
  49HO19980718,     8,  3,      5,      5,2,19980802,0424, 46.0003, 175.4965, 5668,    999.6,   2.8900,  34.3630,2,  34.3800,2,     32.1,2,    44.30,2,     0.00,2,   150.20,2,     3.18,2,-999,9,   -999.0,9,    7.320,2,   2361.8,2
  49HO19980718,     8,  3,      4,      4,2,19980802,0424, 46.0003, 175.4965, 5668,   1248.7,   2.5300,  34.4390,2,  34.4610,2,     34.6,2,    44.30,2,     0.00,2,   162.30,2,     3.19,2,-999,9,   -999.0,9,    7.366,2,   2364.6,2
  49HO19980718,     8,  3,      3,      3,2,19980802,0424, 46.0003, 175.4965, 5668,   2000.4,   1.9600,  34.5770,2,  34.5920,2,     66.4,2,    42.70,2,     0.00,2,   174.50,2,     3.03,2,-999,9,   -999.0,9,    7.416,2,   2374.7,2
  49HO19980718,     8,  3,      2,      2,2,19980802,0424, 46.0003, 175.4965, 5668,   2500.2,   1.7200,  34.6260,2,  34.6290,2,     95.5,2,    40.80,2,     0.00,2,   173.80,2,     2.94,2,-999,9,   -999.0,9,    7.471,2,   2356.4,2
  49HO19980718,     8,  3,      1,      1,2,19980802,0424, 46.0003, 175.4965, 5668,   3002.3,   1.5800,  34.6530,2,  34.6720,2,    117.8,2,    39.40,2,     0.00,2,   171.00,2,     2.77,2,-999,9,   -999.0,9,    7.519,2,   2346.3,2
  49HO19980718,    10,  1,      0,      0,2,19980805,0532, 43.0877, 175.4880, 6246,      0.0,-999.0000,-999.0000,9,  33.2340,2,    260.4,2,     6.00,2,     0.10,2,     4.40,2,     0.53,2,-999,9,   -999.0,9,    7.940,2,   1990.4,2
  49HO19980718,    10,  2,     12,     12,2,19980805,0532, 43.0877, 175.4880, 6246,     10.0,  16.2500,  33.2160,2,  33.3220,2,    267.5,2,     6.20,2,     0.10,2,     5.40,2,     0.56,2,-999,9,   -999.0,9,    7.940,2,   1997.8,2
  49HO19980718,    10,  2,     11,     11,2,19980805,0532, 43.0877, 175.4880, 6246,     20.5,  12.1000,  33.6880,2,  33.7270,2,    293.8,2,     6.80,2,     0.10,2,    10.40,2,     0.66,2,-999,9,   -999.0,9,    7.905,2,   2027.5,2
  49HO19980718,    10,  2,      9,      9,2,19980805,0532, 43.0877, 175.4880, 6246,     31.0,  10.6900,  33.7510,2,  33.7250,2,    291.3,2,     7.80,2,     0.10,2,    12.20,2,     0.72,2,-999,9,   -999.0,9,    7.885,2,   2040.0,2
  49HO19980718,    10,  2,      8,      8,2,19980805,0532, 43.0877, 175.4880, 6246,     50.6,   9.5400,  33.8410,2,  33.8890,2,    275.8,2,    10.80,2,     0.60,2,    15.60,2,     0.90,2,-999,9,   -999.0,9,    7.838,2,   2064.1,2
  49HO19980718,    10,  2,      7,      7,2,19980805,0532, 43.0877, 175.4880, 6246,     60.1,   9.4400,  33.8950,2,  33.9110,2,    273.6,2,    11.40,2,     0.40,2,    16.00,2,     0.93,2,-999,9,   -999.0,9,    7.839,2,   2062.4,2
  49HO19980718,    10,  2,      5,      5,2,19980805,0532, 43.0877, 175.4880, 6246,     79.7,   8.8200,  33.9170,2,  33.9350,2,    273.9,2,    12.40,2,     0.00,2,    18.00,2,     1.00,2,-999,9,   -999.0,9,    7.825,2,   2073.5,2
  49HO19980718,    10,  2,      4,      4,2,19980805,0532, 43.0877, 175.4880, 6246,    101.2,   8.4200,  33.8970,2,  33.9130,2,    274.5,2,    12.50,2,     0.00,2,    17.90,2,     1.00,2,-999,9,   -999.0,9,    7.820,2,   2073.8,2
  49HO19980718,    10,  2,      3,      3,2,19980805,0532, 43.0877, 175.4880, 6246,    149.5,   8.2900,  33.9430,2,  33.9610,2,    269.4,2,    13.50,2,     0.00,2,    20.00,2,     1.06,2,-999,9,   -999.0,9,    7.815,2,   2079.3,2
  49HO19980718,    10,  2,      2,      2,2,19980805,0532, 43.0877, 175.4880, 6246,    199.9,   8.2300,  34.0010,2,  34.0110,2,    256.6,2,    15.00,2,     0.00,2,    23.10,2,     1.13,2,-999,9,   -999.0,9,    7.798,2,   2092.0,2
  49HO19980718,    10,  2,      1,      1,2,19980805,0532, 43.0877, 175.4880, 6246,    250.1,   7.6500,  33.9620,2,  33.9900,2,    234.2,2,    18.00,2,     0.00,2,    28.90,2,     1.34,2,-999,9,   -999.0,9,    7.755,2,   2116.1,2
  49HO19980718,    10,  3,     12,     12,2,19980805,0532, 43.0877, 175.4880, 6246,    301.3,   6.5200,  33.9360,2,-999.0000,9,   -999.0,9,  -999.00,9,  -999.00,9,  -999.00,9,  -999.00,9,-999,9,   -999.0,9, -999.000,9,   -999.0,9
  49HO19980718,    10,  3,     10,     10,2,19980805,0532, 43.0877, 175.4880, 6246,    401.0,   5.2500,  33.9370,2,  33.9500,2,    129.8,2,    33.20,2,     0.00,2,    68.40,2,     2.41,2,-999,9,   -999.0,9,    7.492,2,   2224.6,2
  49HO19980718,    10,  3,      9,      9,2,19980805,0532, 43.0877, 175.4880, 6246,    500.1,   4.6200,  34.0080,2,  34.0160,2,     97.7,2,    36.90,2,     0.00,2,    85.00,2,     2.68,2,-999,9,   -999.0,9,    7.427,2,   2261.4,2
  49HO19980718,    10,  3,      8,      8,2,19980805,0532, 43.0877, 175.4880, 6246,    600.6,   4.1800,  34.0910,2,  34.1030,2,     68.9,2,    40.30,2,     0.00,2,   100.50,2,     2.90,2,-999,9,   -999.0,9,    7.377,2,   2296.6,2
  49HO19980718,    10,  3,      7,      7,2,19980805,0532, 43.0877, 175.4880, 6246,    699.8,   3.8800,  34.1680,2,  34.1890,2,     51.0,2,    41.90,2,     0.00,2,   113.00,2,     3.01,2,-999,9,   -999.0,9,    7.348,2,   2320.8,2
  49HO19980718,    10,  3,      6,      6,2,19980805,0532, 43.0877, 175.4880, 6246,    800.3,   3.6500,  34.2400,2,  34.2510,2,     43.4,2,    42.50,2,     0.00,2,   123.00,2,     3.06,2,-999,9,   -999.0,9,    7.342,2,   2334.1,2
  49HO19980718,    10,  3,      5,      5,2,19980805,0532, 43.0877, 175.4880, 6246,    999.7,   3.1400,  34.3400,2,  34.3550,2,     34.6,2,    43.80,2,     0.00,2,   140.80,2,     3.14,2,-999,9,   -999.0,9,    7.327,2,   2356.9,2
  49HO19980718,    10,  3,      4,      4,2,19980805,0532, 43.0877, 175.4880, 6246,   1248.9,   2.6800,  34.4250,2,  34.4330,2,     34.2,2,    44.50,2,     0.00,2,   156.50,2,     3.17,2,-999,9,   -999.0,9,    7.339,2,   2371.7,2
  49HO19980718,    10,  3,      3,      3,2,19980805,0532, 43.0877, 175.4880, 6246,   1499.1,   2.3800,  34.4830,2,  34.4900,2,     40.5,2,    43.90,2,     0.00,2,   165.40,2,     3.14,2,-999,9,   -999.0,9,    7.354,2,   2373.9,2
  49HO19980718,    10,  3,      2,      2,2,19980805,0532, 43.0877, 175.4880, 6246,   2499.1,   1.7500,  34.6230,2,  34.6330,2,     95.9,2,    40.70,2,     0.00,2,   172.20,2,     2.88,2,-999,9,   -999.0,9,    7.461,2,   2358.1,2
  49HO19980718,    10,  3,      1,      1,2,19980805,0532, 43.0877, 175.4880, 6246,   3000.0,   1.5900,  34.6550,2,  34.6610,2,    118.4,2,    39.30,2,     0.00,2,   168.90,2,     2.77,2,-999,9,   -999.0,9,    7.519,2,   2341.3,2
  49HO19980718,    11,  1,      0,      0,2,19980806,0543, 41.5035, 175.5005, 5550,      0.0,-999.0000,-999.0000,9,  33.3000,2,    252.0,2,     7.10,2,     0.10,2,     7.60,2,     0.70,2,-999,9,   -999.0,9,    7.934,2,   2003.5,2
  49HO19980718,    11,  2,     12,     12,2,19980806,0543, 41.5035, 175.5005, 5550,      9.0,  17.1300,  33.2870,2,  33.3550,2,    262.5,2,     7.40,2,     0.10,2,     8.70,2,     0.72,2,-999,9,   -999.0,9,    7.929,2,   2009.3,2
  49HO19980718,    11,  2,     11,     11,2,19980806,0543, 41.5035, 175.5005, 5550,     19.2,  15.1200,  33.4020,2,  33.4140,2,    285.5,2,     8.60,2,     0.20,2,    10.90,2,     0.84,2,-999,9,   -999.0,9,    7.904,2,   2021.5,2
  49HO19980718,    11,  2,      9,      9,2,19980806,0543, 41.5035, 175.5005, 5550,     30.2,  10.5600,  33.3420,2,  33.3570,2,    306.1,2,     9.90,2,     0.20,2,    12.50,2,     0.94,2,-999,9,   -999.0,9,    7.878,2,   2035.5,2
  49HO19980718,    11,  2,      8,      8,2,19980806,0543, 41.5035, 175.5005, 5550,     38.7,   9.2900,  33.3530,2,  33.3760,2,    308.7,2,    10.90,2,     0.10,2,    14.30,2,     1.02,2,-999,9,   -999.0,9,    7.859,2,   2046.0,2
  49HO19980718,    11,  2,      7,      7,2,19980806,0543, 41.5035, 175.5005, 5550,     50.5,   7.9400,  33.4280,2,  33.4550,2,    304.9,2,    12.10,2,     0.20,2,    18.80,2,     1.11,2,-999,9,   -999.0,9,    7.834,2,   2061.5,2
  49HO19980718,    11,  2,      6,      6,2,19980806,0543, 41.5035, 175.5005, 5550,     60.3,   7.3700,  33.4710,2,  33.4890,2,    302.8,2,    12.90,2,     0.30,2,    19.80,2,     1.15,2,-999,9,   -999.0,9,    7.825,2,   2067.9,2
  49HO19980718,    11,  2,      5,      5,2,19980806,0543, 41.5035, 175.5005, 5550,     78.8,   6.7300,  33.4680,2,  33.4840,2,    296.9,2,    14.50,2,     0.00,2,    20.60,2,     1.22,2,-999,9,   -999.0,9,    7.801,2,   2072.2,2
  49HO19980718,    11,  2,      4,      4,2,19980806,0543, 41.5035, 175.5005, 5550,     99.8,   6.7200,  33.5310,2,  33.5520,2,    292.8,2,    14.50,2,     0.00,2,    20.50,2,     1.21,2,-999,9,   -999.0,9,    7.796,2,   2079.1,2
  49HO19980718,    11,  2,      3,      3,2,19980806,0543, 41.5035, 175.5005, 5550,    150.6,   7.1900,  33.7340,2,  33.7430,2,    278.5,2,    14.80,2,     0.00,2,    20.90,2,     1.19,2,-999,9,   -999.0,9,    7.803,2,   2087.0,2
  49HO19980718,    11,  2,      2,      2,2,19980806,0543, 41.5035, 175.5005, 5550,    200.8,   7.1200,  33.8360,2,  33.8570,2,    244.1,2,    18.60,2,     0.00,2,    28.50,2,     1.41,2,-999,9,   -999.0,9,    7.752,2,   2116.6,2
  49HO19980718,    11,  2,      1,      1,2,19980806,0543, 41.5035, 175.5005, 5550,    249.6,   6.3600,  33.8490,2,  33.8800,2,    208.8,2,    23.30,2,     0.00,2,    39.40,2,     1.74,2,-999,9,   -999.0,9,    7.673,2,   2153.9,2