BOTTLE,20091209MIRCJHATS
EXPOCODE,STNNBR,CASTNO,SAMPNO,BTLNBR,BTLNBR_FLAG_W,DATE,TIME,LATITUDE,LONGITUDE,DEPTH,CTDPRS,CTDTMP,CTDSAL,CTDSAL_FLAG_W,SALNTY,SALNTY_FLAG_W,OXYGEN,OXYGEN_FLAG_W,NO2+NO3,NO2+NO3_FLAG_W,NITRIT,NITRIT_FLAG_W,SILCAT,SILCAT_FLAG_W,PHSPHT,PHSPHT_FLAG_W,NH4,NH4_FLAG_W,ALKALI,ALKALI_FLAG_W,PH,PH_FLAG_W,TCARBN,TCARBN_FLAG_W
,,,,,,,,,,METERS,DBARS,,,,,,UMOL/KG,,UMOL/KG,,UMOL/KG,,UMOL/KG,,UMOL/KG,,UMOL/KG,,UMOL/KG,,,,UMOL/KG,
  49HO19980718,     3,  3,     12,     12,2,19980725,0615, 49.4575, 167.1025, 5362,    299.2,   3.4700,  34.0220,2,  34.0400,2,     25.5,2,    45.90,2,     0.00,2,   114.70,2,     3.27,2,-999,9,   -999.0,9,    7.270,2,   2342.9,2
  49HO19980718,     3,  3,     10,     10,2,19980725,0615, 49.4575, 167.1025, 5362,    399.7,   3.4300,  34.1240,2,  34.1300,2,     24.9,2,    45.30,2,     0.00,2,   125.20,2,     3.24,2,-999,9,   -999.0,9,    7.278,2,   2350.3,2
  49HO19980718,     3,  3,      9,      9,2,19980725,0615, 49.4575, 167.1025, 5362,    500.2,   3.2900,  34.2080,2,  34.2120,2,     22.7,2,    45.20,2,     0.00,2,   133.80,2,     3.24,2,-999,9,   -999.0,9,    7.288,2,   2365.6,2
  49HO19980718,     3,  3,      8,      8,2,19980725,0615, 49.4575, 167.1025, 5362,    600.4,   3.1500,  34.2650,2,  34.2680,2,     22.6,2,    45.20,2,     0.00,2,   141.10,2,     3.25,2,-999,9,   -999.0,9,    7.291,2,   2367.8,2
  49HO19980718,     3,  3,      7,      7,2,19980725,0615, 49.4575, 167.1025, 5362,    700.3,   3.0000,  34.3110,2,  34.3120,2,     23.4,2,    45.10,2,     0.00,2,   147.40,2,     3.24,2,-999,9,   -999.0,9,    7.299,2,   2374.9,2
  49HO19980718,     3,  3,      6,      6,2,19980725,0615, 49.4575, 167.1025, 5362,    799.9,   2.8600,  34.3530,2,  34.3570,2,     25.5,2,    45.20,2,     0.00,2,   152.90,2,     3.24,2,-999,9,   -999.0,9,    7.313,2,   2376.6,2
  49HO19980718,     3,  3,      5,      5,2,19980725,0615, 49.4575, 167.1025, 5362,   1000.8,   2.5900,  34.4220,2,  34.4260,2,     27.3,2,    45.30,2,     0.00,2,   162.90,2,     3.22,2,-999,9,   -999.0,9,    7.311,2,   2391.7,2
  49HO19980718,     3,  3,      4,      4,2,19980725,0615, 49.4575, 167.1025, 5362,   1231.2,   2.3300,  34.4840,2,  34.4870,2,     33.7,2,    44.70,2,     0.00,2,   171.70,2,     3.20,2,-999,9,   -999.0,9,    7.338,2,   2389.7,2
  49HO19980718,     3,  3,      3,      3,2,19980725,0615, 49.4575, 167.1025, 5362,   1500.0,   2.1000,  34.5380,2,  34.5410,2,     48.0,2,    44.00,2,     0.00,2,   177.20,2,     3.13,2,-999,9,   -999.0,9,    7.368,2,   2385.9,2
  49HO19980718,     3,  3,      2,      2,2,19980725,0615, 49.4575, 167.1025, 5362,   2500.4,   1.6300,  34.6390,2,  34.6410,2,    107.6,2,    40.20,2,     0.00,2,   174.20,2,     2.84,2,-999,9,   -999.0,9,    7.487,2,   2360.7,2
  49HO19980718,     3,  3,      1,      1,2,19980725,0615, 49.4575, 167.1025, 5362,   3001.1,   1.5300,  34.6600,2,  34.6650,2,    127.1,2,    39.00,2,     0.00,2,   169.70,2,     2.75,2,-999,9,   -999.0,9,    7.524,2,   2346.5,2
  49HO19980718,     4,  1,      0,      0,2,19980726,0445, 49.0005, 169.2618, 3502,      0.0,-999.0000,-999.0000,9,  32.8200,2,    301.9,2,    18.80,2,     0.20,2,    34.40,2,     1.63,2,-999,9,   2224.0,2, -999.000,9,   2062.0,2
  49HO19980718,     4,  2,     12,     12,2,19980726,0445, 49.0005, 169.2618, 3502,      9.7,   8.7700,  32.8000,2,  32.8140,2,    306.0,2,    18.70,2,     0.20,2,    33.90,2,     1.63,2,-999,9,   2225.2,2, -999.000,9,   2060.7,2
  49HO19980718,     4,  2,     11,     11,2,19980726,0445, 49.0005, 169.2618, 3502,     19.9,   8.4400,  32.7920,2,  32.8600,2,    315.6,2,    19.00,2,     0.20,2,    34.40,2,     1.67,2,-999,9,   2227.2,2, -999.000,9,   2067.6,2
  49HO19980718,     4,  2,     10,     10,2,19980726,0445, 49.0005, 169.2618, 3502,     30.1,   5.4200,  32.9210,2,  32.8420,2,    311.5,2,    18.90,2,     0.20,2,    34.20,2,     1.66,2,-999,9,   2223.9,2, -999.000,9,   2065.9,2
  49HO19980718,     4,  2,      9,      9,2,19980726,0445, 49.0005, 169.2618, 3502,     40.4,   4.6100,  32.9420,2,  32.9660,2,    332.2,2,    19.80,2,     0.20,2,    35.50,2,     1.72,2,-999,9,   2230.7,2, -999.000,9,   2082.9,2
  49HO19980718,     4,  2,      8,      8,2,19980726,0445, 49.0005, 169.2618, 3502,     50.3,   4.4800,  32.9410,2,  32.9510,2,    328.7,2,    21.00,2,     0.20,2,    36.60,2,     1.79,2,-999,9,   2234.8,2, -999.000,9,   2096.9,2
  49HO19980718,     4,  2,      7,      7,2,19980726,0445, 49.0005, 169.2618, 3502,     60.3,   3.9400,  32.9380,2,  32.9360,2,    329.8,2,    21.00,2,     0.20,2,    36.50,2,     1.78,2,-999,9,   2232.7,2, -999.000,9,   2086.4,2
  49HO19980718,     4,  2,      6,      6,2,19980726,0445, 49.0005, 169.2618, 3502,     80.7,   3.0600,  32.9660,2,  32.9510,2,    327.9,2,    21.70,2,     0.20,2,    37.70,2,     1.82,2,-999,9,   2231.8,2, -999.000,9,   2102.2,2
  49HO19980718,     4,  2,      5,      5,2,19980726,0445, 49.0005, 169.2618, 3502,    100.6,   2.9000,  32.9670,2,  32.9750,2,    317.3,2,    23.40,2,     0.60,2,    39.80,2,     1.93,2,-999,9,   2231.1,2, -999.000,9,   2108.6,2
  49HO19980718,     4,  2,      4,      4,2,19980726,0445, 49.0005, 169.2618, 3502,    125.0,   2.7800,  33.1650,2,  33.1830,2,    259.3,2,    29.00,2,     0.00,2,    53.70,2,     2.24,2,-999,9,   2245.3,2, -999.000,9,   2164.2,2
  49HO19980718,     4,  2,      3,      3,2,19980726,0445, 49.0005, 169.2618, 3502,    150.6,   3.0400,  33.6130,2,  33.6270,2,    111.8,2,    40.40,2,     0.00,2,    86.00,2,     2.93,2,-999,9,   2283.7,2, -999.000,9,   2284.2,2
  49HO19980718,     4,  2,      2,      2,2,19980726,0445, 49.0005, 169.2618, 3502,    200.0,   3.3200,  33.8290,2,  33.8240,2,     49.5,2,    44.60,2,     0.00,2,   101.10,2,     3.20,2,-999,9,   2300.0,2, -999.000,9,   2325.6,2
  49HO19980718,     4,  2,      1,      1,2,19980726,0445, 49.0005, 169.2618, 3502,    249.7,   3.4300,  33.9220,2,  33.9070,2,     31.6,2,    45.80,2,     0.00,2,   107.10,2,     3.28,2,-999,9,   2306.2,2, -999.000,9,   2339.7,2
  49HO19980718,     4,  3,     12,     12,2,19980726,0445, 49.0005, 169.2618, 3502,    299.4,   3.4700,  34.0140,2,  34.0210,2,     18.9,2,    46.40,2,     0.00,2,   116.10,2,     3.30,2,-999,9,   2321.6,2, -999.000,9,   2345.9,2
  49HO19980718,     4,  3,     10,     10,2,19980726,0445, 49.0005, 169.2618, 3502,    400.9,   3.3400,  34.1300,2,  34.1360,2,     22.4,2,    45.40,2,     0.00,2,   128.00,2,     3.23,2,-999,9,   2342.6,2, -999.000,9,   2351.8,2
  49HO19980718,     4,  3,      9,      9,2,19980726,0445, 49.0005, 169.2618, 3502,    501.2,   3.2200,  34.2130,2,  34.2170,2,     18.5,2,    45.20,2,     0.00,2,   136.70,2,     3.21,2,-999,9,   2354.9,2, -999.000,9,   2351.0,2
  49HO19980718,     4,  3,      8,      8,2,19980726,0445, 49.0005, 169.2618, 3502,    599.7,   3.0600,  34.2720,2,  34.2760,2,     18.6,2,    45.20,2,     0.00,2,   144.30,2,     3.21,2,-999,9,   2369.9,2, -999.000,9,   2375.4,2
  49HO19980718,     4,  3,      7,      7,2,19980726,0445, 49.0005, 169.2618, 3502,    700.4,   2.9300,  34.3170,2,  34.3210,2,     20.1,2,    45.10,2,     0.00,2,   150.10,2,     3.21,2,-999,9,   2374.9,2, -999.000,9,   2384.2,2
  49HO19980718,     4,  3,      6,      6,2,19980726,0445, 49.0005, 169.2618, 3502,    799.6,   2.7900,  34.3630,2,  34.3670,2,     21.9,2,    44.90,2,     0.00,2,   156.30,2,     3.20,2,-999,9,   2383.9,2, -999.000,9,   2378.8,2
  49HO19980718,     4,  3,      5,      5,2,19980726,0445, 49.0005, 169.2618, 3502,   1000.0,   2.5700,  34.4220,2,-999.0000,9,     26.9,2,    44.80,2,     0.00,2,   164.10,2,     3.19,2,-999,9,   2396.2,2, -999.000,9,   2388.7,2
  49HO19980718,     4,  3,      4,      4,2,19980726,0445, 49.0005, 169.2618, 3502,   1250.1,   2.3000,  34.4880,2,  34.4930,2,     35.0,2,    44.30,2,     0.00,2,   172.30,2,     3.14,2,-999,9,   2404.0,2, -999.000,9,   2391.6,2
  49HO19980718,     4,  3,      3,      3,2,19980726,0445, 49.0005, 169.2618, 3502,   1499.7,   2.0700,  34.5430,2,-999.0000,9,     50.4,2,    43.60,2,     0.00,2,   176.70,2,     3.08,2,-999,9,   2413.2,2, -999.000,9,   2387.3,2
  49HO19980718,     4,  3,      2,      2,2,19980726,0445, 49.0005, 169.2618, 3502,   1998.1,   1.8000,  34.6010,2,  34.5970,2,     77.5,2,    41.80,2,     0.00,2,   179.80,2,     2.95,2,-999,9,   2421.9,2, -999.000,9,   2374.1,2
  49HO19980718,     4,  3,      1,      1,2,19980726,0445, 49.0005, 169.2618, 3502,   3001.6,   1.5000,  34.6630,2,  34.6680,2,    131.5,2,    38.40,2,     0.00,2,   167.40,2,     2.69,2,-999,9,   2426.0,2, -999.000,9,   2344.4,2
  49HO19980718,     5,  1,      0,      0,2,19980730,0634, 48.4820, 171.3053, 5456,      0.0,-999.0000,-999.0000,9,  32.7300,2,    293.6,2,    16.90,2,     0.10,2,    31.80,2,     1.56,2,-999,9,   -999.0,9,    7.819,2,   2043.1,2
  49HO19980718,     5,  2,      1,      1,2,19980730,0634, 48.4820, 171.3053, 5456,     20.2,   8.9300,  32.7180,2,  32.7310,2,    295.4,2,    16.70,2,     0.10,2,    31.30,2,     1.55,2,-999,9,   -999.0,9,    7.817,2,   2037.6,2
  49HO19980718,     5,  2,     12,     12,2,19980730,0634, 48.4820, 171.3053, 5456,     30.6,   5.7900,  32.9110,2,  32.8250,2,    309.0,2,    17.90,2,     0.10,2,    33.30,2,     1.66,2,-999,9,   -999.0,9,    7.803,2,   2050.6,2
  49HO19980718,     5,  2,     11,     11,2,19980730,0634, 48.4820, 171.3053, 5456,     39.9,   4.4100,  32.9450,2,  32.9620,2,    328.1,2,    20.70,2,     0.20,2,    37.60,2,     1.80,2,-999,9,   -999.0,9,    7.761,2,   2084.6,2
  49HO19980718,     5,  2,     10,     10,2,19980730,0634, 48.4820, 171.3053, 5456,     49.4,   3.8700,  32.9560,2,  32.9700,2,    325.3,2,    21.20,2,     0.30,2,    38.20,2,     1.84,2,-999,9,   -999.0,9,    7.718,2,   2092.3,2
  49HO19980718,     5,  2,      9,      9,2,19980730,0634, 48.4820, 171.3053, 5456,     59.2,   3.5400,  32.9600,2,  32.9710,2,    324.6,2,    21.20,2,     0.30,2,    38.40,2,     1.84,2,-999,9,   -999.0,9,    7.727,2,   2091.4,2
  49HO19980718,     5,  2,      8,      8,2,19980730,0634, 48.4820, 171.3053, 5456,     79.7,   2.9500,  32.9730,2,  32.9870,2,    310.9,2,    23.50,2,     0.80,2,    39.30,2,     1.90,2,-999,9,   -999.0,9,    7.677,2,   2099.9,2
  49HO19980718,     5,  2,      7,      7,2,19980730,0634, 48.4820, 171.3053, 5456,    100.4,   2.6500,  33.0220,2,  33.0390,2,    310.5,2,    24.40,2,     0.00,2,    40.90,2,     1.95,2,-999,9,   -999.0,9,    7.654,2,   2107.5,2
  49HO19980718,     5,  2,      6,      6,2,19980730,0634, 48.4820, 171.3053, 5456,    124.7,   2.8200,  33.3790,2,  33.3190,2,    191.7,2,    33.90,2,     0.00,2,    65.30,2,     2.53,2,-999,9,   -999.0,9,    7.487,2,   2203.6,2
  49HO19980718,     5,  2,      5,      5,2,19980730,0634, 48.4820, 171.3053, 5456,    147.6,   3.1000,  33.6490,2,  33.6660,2,    101.3,2,    41.00,2,     0.00,2,    86.20,2,     2.97,2,-999,9,   -999.0,9,    7.315,2,   2274.4,2
  49HO19980718,     5,  2,      3,      3,2,19980730,0634, 48.4820, 171.3053, 5456,    249.1,   3.3800,  33.9020,2,  33.9080,2,     44.0,2,    44.70,2,     0.00,2,   103.90,2,     3.18,2,-999,9,   -999.0,9,    7.258,2,   2317.8,2
  49HO19980718,     5,  3,     12,     12,2,19980730,0634, 48.4820, 171.3053, 5456,    301.9,   3.4200,  33.9900,2,  33.9910,2,     31.6,2,    45.70,2,     0.00,2,   112.50,2,     3.24,2,-999,9,   -999.0,9,    7.301,2,   2331.2,2
  49HO19980718,     5,  3,     10,     10,2,19980730,0634, 48.4820, 171.3053, 5456,    398.8,   3.3800,  34.1100,2,  34.1200,2,     27.2,2,    45.00,2,     0.00,2,   124.00,2,     3.20,2,-999,9,   -999.0,9,    7.315,2,   2343.7,2
  49HO19980718,     5,  3,      9,      9,2,19980730,0634, 48.4820, 171.3053, 5456,    498.0,   3.2800,  34.1910,2,  34.1980,2,     26.9,2,    45.00,2,     0.00,2,   132.30,2,     3.20,2,-999,9,   -999.0,9,    7.306,2,   2348.1,2
  49HO19980718,     5,  3,      8,      8,2,19980730,0634, 48.4820, 171.3053, 5456,    600.0,   3.1400,  34.2500,2,  34.2550,2,     22.3,2,    45.20,2,     0.00,2,   139.10,2,     3.21,2,-999,9,   -999.0,9,    7.311,2,   2360.8,2
  49HO19980718,     5,  3,      7,      7,2,19980730,0634, 48.4820, 171.3053, 5456,    701.7,   3.0100,  34.3020,2,  34.3070,2,     24.0,2,    44.90,2,     0.00,2,   145.30,2,     3.19,2,-999,9,   -999.0,9,    7.283,2,   2367.6,2
  49HO19980718,     5,  3,      6,      6,2,19980730,0634, 48.4820, 171.3053, 5456,    800.2,   2.8900,  34.3390,2,  34.3440,2,     25.2,2,    44.90,2,     0.00,2,   150.40,2,     3.20,2,-999,9,   -999.0,9,    7.300,2,   2370.2,2
  49HO19980718,     5,  3,      5,      5,2,19980730,0634, 48.4820, 171.3053, 5456,   1000.3,   2.6200,  34.4120,2,  34.4170,2,     29.6,2,    44.90,2,     0.00,2,   160.20,2,     3.17,2,-999,9,   -999.0,9,    7.304,2,   2381.5,2
  49HO19980718,     5,  3,      4,      4,2,19980730,0634, 48.4820, 171.3053, 5456,   1250.4,   2.3400,  34.4790,2,  34.4820,2,     37.0,2,    44.30,2,     0.00,2,   169.80,2,     3.15,2,-999,9,   -999.0,9,    7.334,2,   2376.3,2
  49HO19980718,     5,  3,      3,      3,2,19980730,0634, 48.4820, 171.3053, 5456,   1996.5,   1.8600,  34.5950,2,  34.6000,2,     78.4,2,    42.10,2,     0.00,2,   174.80,2,     2.98,2,-999,9,   -999.0,9,    7.440,2,   2364.0,2
  49HO19980718,     5,  3,      2,      2,2,19980730,0634, 48.4820, 171.3053, 5456,   2501.2,   1.6500,  34.6350,2,  34.6400,2,    105.6,2,    40.40,2,     0.00,2,   173.30,2,     2.84,2,-999,9,   -999.0,9,    7.473,2,   2350.5,2
  49HO19980718,     5,  3,      1,      1,2,19980730,0634, 48.4820, 171.3053, 5456,   2995.4,   1.5400,  34.6560,2,  34.6730,2,    125.2,2,    39.00,2,     0.00,2,   168.70,2,     2.70,2,-999,9,   -999.0,9,    7.551,2,   2340.5,2
  49HO19980718,     6,  1,      0,      0,2,19980731,0434, 48.0002, 173.4417, 5724,      0.0,-999.0000,-999.0000,9,  32.6960,2,    295.3,2,    17.70,2,     0.20,2,    29.00,2,     1.58,2,-999,9,   -999.0,9,    7.794,2,   2046.0,2
  49HO19980718,     6,  2,     12,     12,2,19980731,0434, 48.0002, 173.4417, 5724,     10.0,   9.0500,  32.6930,2,  32.7020,2,    296.6,2,    17.60,2,     0.20,2,    29.00,2,     1.57,2,-999,9,   -999.0,9,    7.802,2,   2039.2,2
  49HO19980718,     6,  2,     11,     11,2,19980731,0434, 48.0002, 173.4417, 5724,     20.6,   8.8600,  32.6980,2,  32.7190,2,    296.0,2,    17.60,2,     0.20,2,    28.90,2,     1.58,2,-999,9,   -999.0,9,    7.793,2,   2042.6,2
  49HO19980718,     6,  2,      9,      9,2,19980731,0434, 48.0002, 173.4417, 5724,     29.5,   7.9600,  32.7470,2,  32.7790,2,    305.5,2,    18.40,2,     0.20,2,    30.90,2,     1.63,2,-999,9,   -999.0,9,    7.800,2,   2143.5,2
  49HO19980718,     6,  2,      8,      8,2,19980731,0434, 48.0002, 173.4417, 5724,     51.1,   4.2200,  32.9360,2,  32.9490,2,    327.7,2,    21.70,2,     0.20,2,    35.90,2,     1.85,2,-999,9,   -999.0,9,    7.721,2,   2163.9,2
  49HO19980718,     6,  2,      7,      7,2,19980731,0434, 48.0002, 173.4417, 5724,     59.5,   3.8100,  32.9460,2,  32.9490,2,    327.3,2,    21.80,2,     0.20,2,    35.70,2,     1.85,2,-999,9,   -999.0,9,    7.722,2,   2156.2,2
  49HO19980718,     6,  2,      6,      6,2,19980731,0434, 48.0002, 173.4417, 5724,     80.0,   3.2100,  32.9640,2,  32.9610,2,    325.3,2,    22.30,2,     0.40,2,    36.00,2,     1.87,2,-999,9,   -999.0,9,    7.715,2,   2152.5,2
  49HO19980718,     6,  2,      5,      5,2,19980731,0434, 48.0002, 173.4417, 5724,    101.4,   2.9600,  32.9850,2,  32.9780,2,    322.6,2,    23.50,2,     0.70,2,    36.90,2,     1.89,2,-999,9,   -999.0,9,    7.675,2,   2146.5,2
  49HO19980718,     6,  2,      4,      4,2,19980731,0434, 48.0002, 173.4417, 5724,    125.1,   2.5800,  33.0090,2,  33.0260,2,    317.4,2,    24.40,2,     0.00,2,    39.50,2,     1.94,2,-999,9,   -999.0,9,    7.681,2,   2150.2,2
  49HO19980718,     6,  2,      3,      3,2,19980731,0434, 48.0002, 173.4417, 5724,    149.3,   2.7700,  33.2500,2,  33.3060,2,    225.0,2,    31.20,2,     0.00,2,    56.60,2,     2.35,2,-999,9,   -999.0,9,    7.537,2,   2211.3,2
  49HO19980718,     6,  2,      2,      2,2,19980731,0434, 48.0002, 173.4417, 5724,    200.8,   3.1500,  33.7060,2,  33.7120,2,     92.9,2,    41.90,2,     0.00,2,    87.50,2,     3.02,2,-999,9,   -999.0,9,    7.305,2,   2309.4,2
  49HO19980718,     6,  3,     12,     12,2,19980731,0434, 48.0002, 173.4417, 5724,    300.2,   3.4200,  33.9560,2,  33.9640,2,     38.6,2,    45.30,2,     0.00,2,   106.80,2,     3.22,2,-999,9,   -999.0,9,    7.255,2,   2330.5,2
  49HO19980718,     6,  3,     11,     11,2,19980731,0434, 48.0002, 173.4417, 5724,    401.0,   3.4300,  34.0830,2,  33.9650,2,     38.6,2,    45.40,2,     0.00,2,   106.20,2,     3.21,2,-999,9,   -999.0,9,    7.248,2,   2329.7,2
  49HO19980718,     6,  3,     10,     10,2,19980731,0434, 48.0002, 173.4417, 5724,    499.4,   3.3500,  34.1650,2,  34.0870,2,     31.2,2,    45.30,2,     0.00,2,   117.00,2,     3.21,2,-999,9,   -999.0,9,    7.290,2,   2339.9,2
  49HO19980718,     6,  3,      9,      9,2,19980731,0434, 48.0002, 173.4417, 5724,    600.0,   3.2000,  34.2340,2,  34.1700,2,     28.7,2,    45.20,2,     0.00,2,   125.00,2,     3.19,2,-999,9,   -999.0,9,    7.263,2,   2346.5,2
  49HO19980718,     6,  3,      8,      8,2,19980731,0434, 48.0002, 173.4417, 5724,    700.2,   3.0500,  34.2900,2,  34.2390,2,     23.3,2,    45.30,2,     0.00,2,   134.50,2,     3.22,2,-999,9,   -999.0,9,    7.264,2,   2381.3,2
  49HO19980718,     6,  3,      7,      7,2,19980731,0434, 48.0002, 173.4417, 5724,    800.8,   2.9100,  34.3360,2,  34.2980,2,     23.8,2,    45.40,2,     0.00,2,   141.40,2,     3.23,2,-999,9,   -999.0,9,    7.301,2,   2383.1,2
  49HO19980718,     6,  3,      6,      6,2,19980731,0434, 48.0002, 173.4417, 5724,   1001.4,   2.6400,  34.4040,2,  34.3400,2,     25.8,2,    45.40,2,     0.00,2,   145.80,2,     3.23,2,-999,9,   -999.0,9,    7.306,2,   2383.8,2
  49HO19980718,     6,  3,      5,      5,2,19980731,0434, 48.0002, 173.4417, 5724,   1250.3,   2.3500,  34.4770,2,  34.4120,2,     26.2,2,    45.30,2,     0.00,2,   155.90,2,     3.22,2,-999,9,   -999.0,9,    7.304,2,   2396.0,2
  49HO19980718,     6,  3,      4,      4,2,19980731,0434, 48.0002, 173.4417, 5724,   1499.9,   2.1300,  34.5320,2,  34.4820,2,     36.1,2,    45.10,2,     0.00,2,   164.50,2,     3.18,2,-999,9,   -999.0,9,    7.336,2,   2396.1,2
  49HO19980718,     6,  3,      3,      3,2,19980731,0434, 48.0002, 173.4417, 5724,   1999.8,   1.8800,  34.5910,2,  34.5360,2,     47.7,2,    44.00,2,     0.00,2,   169.40,2,     3.12,2,-999,9,   -999.0,9,    7.365,2,   2386.5,2
  49HO19980718,     6,  3,      2,      2,2,19980731,0434, 48.0002, 173.4417, 5724,   2500.1,   1.6700,  34.6320,2,  34.6380,2,    100.3,2,    41.10,2,     0.00,2,   169.90,2,     2.87,2,-999,9,   -999.0,9,    7.476,2,   2359.2,2
  49HO19980718,     6,  3,      1,      1,2,19980731,0434, 48.0002, 173.4417, 5724,   2999.9,   1.5500,  34.6560,2,  34.6600,2,    122.9,2,    39.50,2,     0.00,2,   165.70,2,     2.76,2,-999,9,   -999.0,9,    7.517,2,   2346.3,2
  49HO19980718,     7,  1,      0,      0,2,19980801,0400, 47.4983, 175.5023, 5490,      0.0,-999.0000,-999.0000,9,  32.7740,2,    291.0,2,    17.40,2,     0.20,2,    28.70,2,     1.58,2,-999,9,   -999.0,9,    7.809,2,   2044.5,2