BOTTLE,20091209MIRCJHATS
EXPOCODE,STNNBR,CASTNO,SAMPNO,BTLNBR,BTLNBR_FLAG_W,DATE,TIME,LATITUDE,LONGITUDE,DEPTH,CTDPRS,CTDTMP,CTDSAL,CTDSAL_FLAG_W,SALNTY,SALNTY_FLAG_W,OXYGEN,OXYGEN_FLAG_W,NO2+NO3,NO2+NO3_FLAG_W,NITRIT,NITRIT_FLAG_W,SILCAT,SILCAT_FLAG_W,PHSPHT,PHSPHT_FLAG_W,NH4,NH4_FLAG_W,ALKALI,ALKALI_FLAG_W,PH,PH_FLAG_W,TCARBN,TCARBN_FLAG_W
,,,,,,,,,,METERS,DBARS,,,,,,UMOL/KG,,UMOL/KG,,UMOL/KG,,UMOL/KG,,UMOL/KG,,UMOL/KG,,UMOL/KG,,,,UMOL/KG,
  49HO19980718,    15,  3,     12,     12,2,19980809,1930, 43.0007, 170.0012, 5070,    301.0,   5.1600,  33.8600,2,  33.8700,2,    151.9,2,    31.50,2,     0.00,2,    63.00,2,     2.31,2,-999,9,   -999.0,9,    7.531,2,   2213.9,2
  49HO19980718,    15,  3,     11,     11,2,19980809,1930, 43.0007, 170.0012, 5070,    400.5,   3.9800,  33.8880,2,  33.8960,2,    102.0,2,    38.80,2,     0.00,2,    85.90,2,     2.77,2,-999,9,   -999.0,9,    7.389,2,   2271.8,2
  49HO19980718,    15,  3,      9,      9,2,19980809,1930, 43.0007, 170.0012, 5070,    599.6,   3.9200,  34.1260,2,  34.1310,2,     56.8,2,    42.50,2,     0.00,2,   110.60,2,     3.02,2,-999,9,   -999.0,9,    7.358,2,   2317.1,2
  49HO19980718,    15,  3,      8,      8,2,19980809,1930, 43.0007, 170.0012, 5070,    699.5,   3.5500,  34.2030,2,  34.2120,2,     42.7,2,    43.80,2,     0.00,2,   123.70,2,     3.13,2,-999,9,   -999.0,9,    7.335,2,   2335.9,2
  49HO19980718,    15,  3,      6,      6,2,19980809,1930, 43.0007, 170.0012, 5070,    799.6,   3.4300,  34.2760,2,  34.2820,2,     39.0,2,    43.80,2,     0.00,2,   130.70,2,     3.13,2,-999,9,   -999.0,9,    7.345,2,   2348.0,2
  49HO19980718,    15,  3,      5,      5,2,19980809,1930, 43.0007, 170.0012, 5070,    999.9,   2.9700,  34.3590,2,  34.3650,2,     34.8,2,    44.70,2,     0.00,2,   146.90,2,     3.18,2,-999,9,   -999.0,9,    7.331,2,   2362.5,2
  49HO19980718,    15,  3,      4,      4,2,19980809,1930, 43.0007, 170.0012, 5070,   1250.1,   2.6000,  34.4420,2,  34.4470,2,     37.2,2,    44.90,2,     0.00,2,   157.70,2,     3.18,2,-999,9,   -999.0,9,    7.353,2,   2375.6,2
  49HO19980718,    15,  3,      3,      3,2,19980809,1930, 43.0007, 170.0012, 5070,   2003.3,   1.9300,  34.5860,2,  34.5900,2,     72.1,2,    43.00,2,     0.10,2,   174.20,2,     3.02,2,-999,9,   -999.0,9,    7.428,2,   2371.9,2
  49HO19980718,    15,  3,      2,      2,2,19980809,1930, 43.0007, 170.0012, 5070,   2500.9,   1.7100,  34.6300,2,  34.6320,2,    100.4,2,    41.20,2,     0.00,2,   171.70,2,     2.90,2,-999,9,   -999.0,9,    7.481,2,   2358.4,2
  49HO19980718,    15,  3,      1,      1,2,19980809,1930, 43.0007, 170.0012, 5070,   2999.5,   1.5800,  34.6570,2,  34.6580,2,    122.4,2,    39.70,2,     0.00,2,   167.70,2,     2.78,2,-999,9,   -999.0,9,    7.523,2,   2344.1,2
  49HO19980718,    16,  1,      0,      0,2,19980810,0830, 44.5028, 170.0027, 1930,      0.0,-999.0000,-999.0000,9,  32.6970,2,    265.2,2,    12.40,2,     0.20,2,    20.60,2,     1.20,2,-999,9,   -999.0,9,    7.893,2,   2005.3,2
  49HO19980718,    16,  2,     12,     12,2,19980810,0830, 44.5028, 170.0027, 1930,     10.4,  14.7700,  32.7210,2,  32.7530,2,    274.1,2,    12.40,2,     0.20,2,    20.50,2,     1.23,2,-999,9,   -999.0,9,    7.882,2,   2011.5,2
  49HO19980718,    16,  2,     11,     11,2,19980810,0830, 44.5028, 170.0027, 1930,     49.8,   6.6800,  33.0220,2,  33.0720,2,    322.3,2,    15.30,2,     0.30,2,    24.50,2,     1.44,2,-999,9,   -999.0,9,    7.805,2,   2063.6,2
  49HO19980718,    16,  2,      9,      9,2,19980810,0830, 44.5028, 170.0027, 1930,    100.7,   4.2300,  33.2220,2,  33.2490,2,    307.7,2,    18.40,2,     0.00,2,    27.40,2,     1.55,2,-999,9,   -999.0,9,    7.743,2,   2092.8,2
  49HO19980718,    16,  2,      8,      8,2,19980810,0830, 44.5028, 170.0027, 1930,    201.4,   4.5600,  33.6650,2,  33.6740,2,    200.1,2,    28.40,2,     0.00,2,    52.90,2,     2.16,2,-999,9,   -999.0,9,    7.578,2,   2177.2,2
  49HO19980718,    16,  2,      7,      7,2,19980810,0830, 44.5028, 170.0027, 1930,    301.3,   3.8400,  33.8070,2,  33.8110,2,    117.1,2,    37.80,2,     0.00,2,    80.20,2,     2.77,2,-999,9,   -999.0,9,    7.454,2,   2254.0,2
  49HO19980718,    16,  2,      6,      6,2,19980810,0830, 44.5028, 170.0027, 1930,    400.3,   4.1800,  34.0040,2,  34.0100,2,     83.6,2,    40.10,2,     0.00,2,    93.00,2,     2.90,2,-999,9,   -999.0,9,    7.387,2,   2289.4,2
  49HO19980718,    16,  2,      5,      5,2,19980810,0830, 44.5028, 170.0027, 1930,    500.7,   3.7800,  34.1000,2,  34.1050,2,     52.6,2,    43.10,2,     0.00,2,   110.80,2,     3.10,2,-999,9,   -999.0,9,    7.334,2,   2315.9,2
  49HO19980718,    16,  2,      4,      4,2,19980810,0830, 44.5028, 170.0027, 1930,    600.4,   3.5600,  34.1880,2,  34.1940,2,     42.4,2,    44.10,2,     0.00,2,   123.70,2,     3.17,2,-999,9,   -999.0,9,    7.341,2,   2327.2,2
  49HO19980718,    16,  2,      3,      3,2,19980810,0830, 44.5028, 170.0027, 1930,    800.7,   3.2100,  34.2890,2,  34.2940,2,     34.0,2,    44.60,2,     0.00,2,   138.40,2,     3.25,2,-999,9,   -999.0,9,    7.327,2,   2346.8,2
  49HO19980718,    16,  2,      2,      2,2,19980810,0830, 44.5028, 170.0027, 1930,   1251.4,   2.5200,  34.4520,2,  34.4580,2,     42.4,2,    45.20,2,     0.00,2,   162.30,2,     3.23,2,-999,9,   -999.0,9,    7.376,2,   2368.3,2
  49HO19980718,    16,  2,      1,      1,2,19980810,0830, 44.5028, 170.0027, 1930,   1499.7,   2.4000,  34.4840,2,  34.4850,2,     45.0,2,    45.20,2,     0.00,2,   165.90,2,     3.25,2,-999,9,   -999.0,9,    7.359,2,   2370.2,2
  49HO19980718,    17,  1,      0,      0,2,19980810,2006, 46.0642, 170.0655, 6085,      0.0,-999.0000,-999.0000,9,  32.6140,2,    272.0,2,    15.20,2,     0.20,2,    29.30,2,     1.46,2,-999,9,   -999.0,9,    7.856,2,   2026.1,2
  49HO19980718,    17,  2,     12,     12,2,19980810,2006, 46.0642, 170.0655, 6085,      9.6,  13.4500,  32.6090,2,  32.6150,2,    273.3,2,    15.20,2,     0.20,2,    28.90,2,     1.47,2,-999,9,   -999.0,9,    7.859,2,   2031.1,2
  49HO19980718,    17,  2,     11,     11,2,19980810,2006, 46.0642, 170.0655, 6085,     20.0,  13.2400,  32.5960,2,  32.6760,2,    280.4,2,    15.30,2,     0.20,2,    29.40,2,     1.48,2,-999,9,   -999.0,9,    7.849,2,   2028.8,2
  49HO19980718,    17,  2,      9,      9,2,19980810,2006, 46.0642, 170.0655, 6085,     29.0,  10.9200,  32.7750,2,  32.8670,2,    311.8,2,    16.20,2,     0.20,2,    31.00,2,     1.53,2,-999,9,   -999.0,9,    7.819,2,   2050.8,2
  49HO19980718,    17,  2,      8,      8,2,19980810,2006, 46.0642, 170.0655, 6085,     39.7,   6.0300,  32.9620,2,  33.0080,2,    330.9,2,    18.40,2,     0.20,2,    33.30,2,     1.71,2,-999,9,   -999.0,9,    7.769,2,   2078.8,2
  49HO19980718,    17,  2,      6,      6,2,19980810,2006, 46.0642, 170.0655, 6085,     50.4,   4.5500,  32.9960,2,  33.0120,2,    330.2,2,    18.60,2,     0.20,2,    33.10,2,     1.66,2,-999,9,   -999.0,9,    7.768,2,   2081.2,2
  49HO19980718,    17,  2,      5,      5,2,19980810,2006, 46.0642, 170.0655, 6085,     60.8,   4.5000,  33.0010,2,  32.9960,2,    314.6,2,    19.40,2,     0.10,2,    31.20,2,     1.62,2,-999,9,   -999.0,9,    7.741,2,   2089.3,2
  49HO19980718,    17,  2,      4,      4,2,19980810,2006, 46.0642, 170.0655, 6085,    100.1,   3.4900,  33.1600,2,  33.1730,2,    308.3,2,    21.50,2,     0.00,2,    35.10,2,     1.75,2,-999,9,   -999.0,9,    7.710,2,   2106.0,2
  49HO19980718,    17,  2,      3,      3,2,19980810,2006, 46.0642, 170.0655, 6085,    150.1,   3.8200,  33.5300,2,  33.5550,2,    193.0,2,    31.10,2,     0.00,2,    60.10,2,     2.32,2,-999,9,   -999.0,9,    7.545,2,   2190.1,2
  49HO19980718,    17,  2,      2,      2,2,19980810,2006, 46.0642, 170.0655, 6085,    199.2,   3.4100,  33.6810,2,  33.6940,2,    127.1,2,    37.50,2,     0.00,2,    80.10,2,     2.74,2,-999,9,   -999.0,9,    7.418,2,   2255.3,2
  49HO19980718,    17,  2,      1,      1,2,19980810,2006, 46.0642, 170.0655, 6085,    249.4,   3.3600,  33.7490,2,  33.7550,2,    107.6,2,    39.90,2,     0.00,2,    86.50,2,     2.89,2,-999,9,   -999.0,9,    7.364,2,   2265.2,2
  49HO19980718,    17,  3,     12,     12,2,19980810,2006, 46.0642, 170.0655, 6085,    300.3,   3.3600,  33.8360,2,  33.8470,2,     73.6,2,    43.00,2,     0.00,2,    97.40,2,     3.06,2,-999,9,   -999.0,9,    7.325,2,   2293.7,2
  49HO19980718,    17,  3,     11,     11,2,19980810,2006, 46.0642, 170.0655, 6085,    400.4,   3.4700,  34.0120,2,  34.0220,2,     41.2,2,    45.10,2,     0.00,2,   113.50,2,     3.22,2,-999,9,   -999.0,9,    7.299,2,   2325.0,2
  49HO19980718,    17,  3,      9,      9,2,19980810,2006, 46.0642, 170.0655, 6085,    500.5,   3.4600,  34.1240,2,  34.1300,2,     38.1,2,    44.90,2,     0.00,2,   122.40,2,     3.18,2,-999,9,   -999.0,9,    7.316,2,   2334.4,2
  49HO19980718,    17,  3,      8,      8,2,19980810,2006, 46.0642, 170.0655, 6085,    600.6,   3.2500,  34.1990,2,  34.2070,2,     27.2,2,    46.00,2,     0.00,2,   134.70,2,     3.24,2,-999,9,   -999.0,9,    7.317,2,   2356.7,2
  49HO19980718,    17,  3,      7,      7,2,19980810,2006, 46.0642, 170.0655, 6085,    700.0,   3.1200,  34.2570,2,  34.2620,2,     26.2,2,    46.10,2,     0.00,2,   141.10,2,     3.24,2,-999,9,   -999.0,9,    7.334,2,   2358.8,2
  49HO19980718,    17,  3,      6,      6,2,19980810,2006, 46.0642, 170.0655, 6085,    800.8,   2.9700,  34.3140,2,  34.3210,2,     23.8,2,    46.10,2,     0.00,2,   148.20,2,     3.26,2,-999,9,   -999.0,9,    7.307,2,   2365.0,2
  49HO19980718,    17,  3,      5,      5,2,19980810,2006, 46.0642, 170.0655, 6085,   1000.6,   2.7100,  34.3960,2,  34.4020,2,     28.8,2,    45.80,2,     0.00,2,   157.80,2,     3.23,2,-999,9,   -999.0,9,    7.322,2,   2374.3,2
  49HO19980718,    17,  3,      4,      4,2,19980810,2006, 46.0642, 170.0655, 6085,   1249.4,   2.4200,  34.4630,2,  34.4690,2,     37.4,2,    45.40,2,     0.00,2,   167.50,2,     3.19,2,-999,9,   -999.0,9,    7.350,2,   2385.6,2
  49HO19980718,    17,  3,      3,      3,2,19980810,2006, 46.0642, 170.0655, 6085,   1499.7,   2.2100,  34.5140,2,  34.5190,2,     48.0,2,    45.40,2,     0.00,2,   173.50,2,     3.14,2,-999,9,   -999.0,9,    7.379,2,   2378.9,2
  49HO19980718,    17,  3,      2,      2,2,19980810,2006, 46.0642, 170.0655, 6085,   2498.0,   1.7000,  34.6290,2,  34.6340,2,     98.8,2,    41.40,2,     0.00,2,   174.80,2,     2.91,2,-999,9,   -999.0,9,    7.483,2,   2359.1,2
  49HO19980718,    17,  3,      1,      1,2,19980810,2006, 46.0642, 170.0655, 6085,   3000.6,   1.5700,  34.6560,2,  34.6600,2,    120.9,2,    40.20,2,     0.00,2,   171.50,2,     2.80,2,-999,9,   -999.0,9,    7.539,2,   2344.5,2
  49HO19980718,KNOT-2,  1,      1,      1,5,19980813,1906, 44.0000, 155.0000, -999,      0.0,  14.2059,  32.6469,2,  32.6938,2,    269.4,2,     4.50,2,     0.10,2,     7.25,2,     0.61,2,-999,9,   2206.3,2,    7.968,2,   1980.3,2
  49HO19980718,KNOT-2,  1,      1,      1,5,19980813,1906, 44.0000, 155.0000, -999,     20.8,   7.0150,  32.7470,2,  32.7792,2,    340.7,2,    10.34,2,     0.12,2,    20.23,2,     1.14,2,-999,9,   2214.3,2,    7.888,2,   2030.2,2
  49HO19980718,KNOT-2,  1,      1,      1,5,19980813,1906, 44.0000, 155.0000, -999,     30.2,   5.7973,  32.8498,2,  32.8699,2,    327.9,2,    14.32,2,     0.20,2,    25.38,2,     1.41,2,-999,9,   2215.0,2,    7.836,2,   2064.6,2
  49HO19980718,KNOT-2,  1,      1,      1,5,19980813,1906, 44.0000, 155.0000, -999,     40.3,   4.3268,  32.9237,2,  32.9449,2,    321.8,2,    17.98,2,     0.39,2,    30.55,2,     1.66,2,-999,9,   2218.5,2,    7.764,2,   2095.5,2
  49HO19980718,KNOT-2,  1,      1,      1,5,19980813,1906, 44.0000, 155.0000, -999,     50.8,   2.9285,  32.9320,2,  32.9509,2,    313.4,2,    18.93,2,     0.48,2,    31.37,2,     1.72,2,-999,9,   2216.4,2,    7.731,2,   2104.4,2
  49HO19980718,KNOT-2,  1,      1,      1,5,19980813,1906, 44.0000, 155.0000, -999,     60.3,   2.7763,  32.9830,2,  32.9969,2,    317.6,2,    21.26,2,     0.63,2,    34.64,2,     1.84,2,-999,9,   2217.9,2,    7.713,2,   2111.0,2
  49HO19980718,KNOT-2,  1,      1,      1,5,19980813,1906, 44.0000, 155.0000, -999,     81.1,   2.2471,  33.0336,2,  33.0402,2,    303.9,2,    23.55,2,     0.23,2,    38.51,2,     1.94,2,-999,9,   2218.5,2,    7.665,2,   2129.6,2
  49HO19980718,KNOT-2,  1,      1,      1,5,19980813,1906, 44.0000, 155.0000, -999,    101.1,   1.7870,  33.0883,2,  33.0979,2,    284.0,2,    25.24,2,     0.00,2,    42.81,2,  -999.00,9,-999,9,   2222.4,2,    7.625,2,   2148.4,2
  49HO19980718,KNOT-2,  1,      1,      1,5,19980813,1906, 44.0000, 155.0000, -999,    150.6,   2.4977,  33.4131,2,  33.4223,2,    182.7,2,    33.49,2,    -0.01,2,    66.01,2,     2.52,2,-999,9,   2251.5,2,    7.470,2,   2226.7,2
  49HO19980718,KNOT-2,  1,      1,      1,5,19980813,1906, 44.0000, 155.0000, -999,    199.7,   2.6782,  33.6318,2,  33.6546,2,    122.2,2,    37.67,2,     0.00,2,    83.43,2,     2.79,2,-999,9,   2272.7,2,    7.380,2,   2272.7,2
  49HO19980718,KNOT-2,  1,      1,      1,5,19980813,1906, 44.0000, 155.0000, -999,    250.3,   2.9494,  33.7774,2,  33.7718,2,     90.6,2,    40.32,2,     0.01,2,    92.40,2,     2.95,2,-999,9,   2283.2,2,    7.327,2,   2294.5,2
  49HO19980718,KNOT-2,  1,      1,      1,5,19980813,1906, 44.0000, 155.0000, -999,    300.1,   3.2055,  33.8981,2,  33.8958,2,     57.0,2,    42.82,2,     0.02,2,   101.87,2,     3.10,2,-999,9,   2295.2,2,    7.286,2,   -999.0,9
  49HO19980718,KNOT-2,  1,      1,      1,5,19980813,1906, 44.0000, 155.0000, -999,    400.7,   3.3678,  34.0535,2,  34.0640,2,     31.0,2,    44.10,2,     0.04,2,   113.29,2,     3.21,2,-999,9,   2311.3,2,    7.266,2,   2343.0,2
  49HO19980718,KNOT-2,  1,      1,      1,5,19980813,1906, 44.0000, 155.0000, -999,    400.7,   3.3678,  34.0535,2,  34.0656,2,     28.4,2,    44.32,2,     0.02,2,   113.98,2,     3.21,2,-999,9,   2312.5,2,    7.276,2,   2340.3,2
  49HO19980718,KNOT-2,  1,      1,      1,5,19980813,1906, 44.0000, 155.0000, -999,    500.4,   3.2660,  34.1621,2,  34.1690,2,     22.8,2,    44.43,2,     0.01,2,   124.11,2,     3.21,2,-999,9,   2331.1,2,    7.282,2,   2357.0,2
  49HO19980718,KNOT-2,  1,      1,      1,5,19980813,1906, 44.0000, 155.0000, -999,    600.3,   3.1361,  34.2344,2,  34.2418,2,     23.1,2,    44.37,2,     0.02,2,   131.99,2,     3.21,2,-999,9,   2340.3,2,    7.300,2,   2362.4,2
  49HO19980718,KNOT-2,  1,      1,      1,5,19980813,1906, 44.0000, 155.0000, -999,    700.7,   2.9566,  34.2873,2,  34.2943,2,     23.7,2,    44.02,2,     0.02,2,   138.85,2,     3.20,2,-999,9,   2353.5,2,    7.310,2,   2366.8,2
  49HO19980718,KNOT-2,  1,      1,      1,5,19980813,1906, 44.0000, 155.0000, -999,    800.8,   2.8528,  34.3381,2,  34.3421,2,     21.4,2,    44.42,2,     0.02,2,   144.33,2,     3.23,2,-999,9,   2359.2,2,    7.318,2,   2375.2,2
  49HO19980718,KNOT-2,  1,      1,      1,5,19980813,1906, 44.0000, 155.0000, -999,   1000.8,   2.5677,  34.4075,2,-999.0000,9,     32.4,2,    43.70,2,     0.01,2,   152.39,2,     3.17,2,-999,9,   2373.9,2,    7.332,2,   2370.3,2
  49HO19980718,KNOT-2,  1,      1,      1,5,19980813,1906, 44.0000, 155.0000, -999,   1249.8,   2.3057,  34.4793,2,  34.4641,2,     38.8,2,    43.54,2,     0.02,2,   160.58,2,     3.13,2,-999,9,   2390.0,2,    7.351,2,   2381.7,2
  49HO19980718,KNOT-2,  1,      1,      1,5,19980813,1906, 44.0000, 155.0000, -999,   1499.4,   2.1109,  34.5320,2,  34.5096,2,     57.3,3,    42.10,2,     0.04,2,   163.33,2,     3.07,2,-999,9,   2396.6,2,    7.393,2,   2374.9,2
  49HO19980718,KNOT-2,  1,      1,      1,5,19980813,1906, 44.0000, 155.0000, -999,   2499.0,   1.6248,  34.6413,2,  34.6277,2,    111.7,3,    39.20,2,     0.02,2,   160.54,2,     2.79,2,-999,9,   2412.9,2,    7.505,2,   2353.4,2
  49HO19980718,KNOT-2,  1,      1,      1,5,19980813,1906, 44.0000, 155.0000, -999,   3000.7,   1.5219,  34.6618,2,  34.6634,2,    133.1,3,    37.59,2,     0.01,2,   154.87,2,     2.69,2,-999,9,   2411.9,2,    7.543,2,   2344.3,2