BOTTLE,20120717MIRCJHATS
EXPOCODE,STNNBR,CASTNO,SAMPNO,BTLNBR,BTLNBR_FLAG_W,DATE,TIME,LATITUDE,LONGITUDE,DEPTH,CTDPRS,CTDTMP,CTDSAL,CTDSAL_FLAG_W,SALNTY,SALNTY_FLAG_W,OXYGEN,OXYGEN_FLAG_W,NO2+NO3,NO2+NO3_FLAG_W,NITRIT,NITRIT_FLAG_W,SILCAT,SILCAT_FLAG_W,PHSPHT,PHSPHT_FLAG_W,NH4,NH4_FLAG_W,ALKALI,ALKALI_FLAG_W,PH,PH_FLAG_W,TCARBN,TCARBN_FLAG_W
,,,,,,,,,,METERS,DBARS,,,,,,UMOL/KG,,UMOL/KG,,UMOL/KG,,UMOL/KG,,UMOL/KG,,UMOL/KG,,UMOL/KG,,,,UMOL/KG,
  49HO19990719,  St_9,  1,     12,     12,2,19990803,2042, 44.4982, 175.4975, 5685,    299.2,   4.0100,  34.0250,2,  33.7950,2,    123.7,2,    35.10,2,     0.04,2,    72.00,2,     2.50,2,-999,9,   2285.6,2,    7.443,2,   2235.2,2
  49HO19990719,  St_9,  1,     11,     11,2,19990803,2042, 44.4982, 175.4975, 5685,    401.9,   3.9000,  34.1220,2,  33.9370,2,     80.5,2,    39.70,2,     0.00,2,    89.80,2,     2.77,2,-999,9,   2308.1,2,    7.372,2,   2275.5,2
  49HO19990719,  St_9,  1,     10,     10,2,19990803,2042, 44.4982, 175.4975, 5685,    499.2,   3.8300,  34.1920,2,  34.0650,2,     54.8,2,    41.90,2,     0.00,2,   102.20,2,     2.91,2,-999,9,   2325.6,2,    7.347,2,   2299.7,2
  49HO19990719,  St_9,  1,      9,      9,2,19990803,2042, 44.4982, 175.4975, 5685,    600.7,   3.5900,  34.2520,2,  34.1470,2,     39.2,2,    43.30,2,     0.01,2,   113.70,2,     3.00,2,-999,9,   2339.5,2,    7.328,2,   2320.9,2
  49HO19990719,  St_9,  1,      8,      8,2,19990803,2042, 44.4982, 175.4975, 5685,    699.8,   3.4400,  34.2940,2,  34.2340,2,     36.0,2,    43.60,2,     0.00,2,   122.30,2,     3.03,2,-999,9,   2352.6,2,    7.336,2,   2333.5,2
  49HO19990719,  St_9,  1,      7,      7,2,19990803,2042, 44.4982, 175.4975, 5685,    799.2,   3.2500,  34.3390,2,  34.2950,2,     32.7,2,    43.90,2,     0.00,2,   129.00,2,     3.05,2,-999,9,   2365.4,2,    7.339,2,   2342.4,2
  49HO19990719,  St_9,  1,      6,      6,2,19990803,2042, 44.4982, 175.4975, 5685,    995.7,   2.8700,  34.4080,2,  34.3720,2,     31.0,2,    44.30,2,     0.02,2,   142.30,2,     3.09,2,-999,9,   2376.9,2,    7.340,2,   2356.7,2
  49HO19990719,  St_9,  1,      5,      5,2,19990803,2042, 44.4982, 175.4975, 5685,   1248.0,   2.5000,  34.4790,2,  34.4550,2,     35.0,2,  -999.00,9,     0.02,2,   152.80,2,     3.08,2,-999,9,   2395.3,2,    7.358,2,   2365.8,2
  49HO19990719,  St_9,  1,      4,      4,2,19990803,2042, 44.4982, 175.4975, 5685,   1499.7,   2.2600,  34.5340,2,  34.5100,2,     42.2,2,    43.90,2,     0.01,2,   155.40,2,     3.04,2,-999,9,   2404.1,2,    7.379,2,   2368.6,2
  49HO19990719,  St_9,  1,      3,      3,2,19990803,2042, 44.4982, 175.4975, 5685,   2000.4,   1.9600,  34.6000,2,  34.5830,2,     65.5,2,    42.00,2,     0.00,2,   155.90,2,     2.93,2,-999,9,   2416.1,2,    7.426,2,   2361.0,2
  49HO19990719,  St_9,  1,      2,      2,2,19990803,2042, 44.4982, 175.4975, 5685,   2498.4,   1.7400,  34.6400,2,  34.6230,2,     89.8,2,    41.00,2,     0.00,2,   158.60,2,     2.79,2,-999,9,   2424.8,2,    7.474,2,   2346.6,2
  49HO19990719,  St_9,  1,      1,      1,2,19990803,2042, 44.4982, 175.4975, 5685,   3001.6,   1.5800,  34.6640,2,  34.6550,2,    112.5,2,    39.20,2,     0.02,2,   150.40,2,     2.68,2,-999,9,   2424.9,2,    7.509,2,   2334.6,2
  49HO19990719,  St_9,  2,      S,      S,2,19990804,0059, 44.5130, 175.5100, 5701,      0.0,  10.5700,  32.8960,2,  32.9110,2,    286.9,2,    12.50,2,     0.18,2,    22.80,2,     1.13,2,-999,9,   2221.6,2,    7.850,2,   2025.8,2
  49HO19990719,  St_9,  2,     12,     12,2,19990804,0059, 44.5130, 175.5100, 5701,     11.3,  10.5500,  32.9070,2,  32.9100,2,    287.1,2,    12.60,2,     0.18,2,    22.50,2,     1.13,2,-999,9,   2221.5,2,    7.859,2,   2025.0,2
  49HO19990719,  St_9,  2,     11,     11,2,19990804,0059, 44.5130, 175.5100, 5701,     20.4,  10.5000,  32.9080,2,  32.9130,2,    287.1,2,    12.50,2,     0.20,2,    22.20,2,     1.13,2,-999,9,   2223.3,2,    7.857,2,   2021.2,2
  49HO19990719,  St_9,  2,     10,     10,2,19990804,0059, 44.5130, 175.5100, 5701,     31.1,   8.6300,  32.9060,2,  33.0180,2,    303.6,2,    12.70,2,     0.18,2,    22.60,2,     1.14,2,-999,9,   2228.6,2,    7.846,2,   2037.0,2
  49HO19990719,  St_9,  2,      9,      9,2,19990804,0059, 44.5130, 175.5100, 5701,     41.8,   7.4900,  33.0110,2,  33.0580,2,    308.2,2,    13.10,2,     0.17,2,    23.30,2,     1.17,2,-999,9,   2231.1,2,    7.832,2,   2044.0,2
  49HO19990719,  St_9,  2,      8,      8,2,19990804,0059, 44.5130, 175.5100, 5701,     50.2,   7.1000,  33.0550,2,  33.1620,2,    298.9,2,    13.00,2,     0.23,2,    21.50,2,     1.16,2,-999,9,   2233.3,2,    7.817,2,   2054.1,2
  49HO19990719,  St_9,  2,      7,      7,2,19990804,0059, 44.5130, 175.5100, 5701,     59.4,   6.7600,  33.0790,2,  33.2620,2,    299.2,2,    13.20,2,     0.34,2,    21.80,2,     1.19,2,-999,9,   2234.5,2,    7.809,2,   2057.3,2
  49HO19990719,  St_9,  2,      6,      6,2,19990804,0059, 44.5130, 175.5100, 5701,     79.9,   5.9500,  33.1040,2,  33.1690,2,    300.1,2,    15.20,2,     0.33,2,    24.10,2,     1.28,2,-999,9,   2233.8,2,    7.788,2,   2066.9,2
  49HO19990719,  St_9,  2,      5,      5,2,19990804,0059, 44.5130, 175.5100, 5701,    100.7,   4.8300,  33.1360,2,  33.1600,2,    299.9,2,    17.80,2,     0.03,2,    28.60,2,     1.43,2,-999,9,   2230.1,2,    7.756,2,   2077.3,2
  49HO19990719,  St_9,  2,      4,      4,2,19990804,0059, 44.5130, 175.5100, 5701,    127.8,   4.2500,  33.4080,2,  33.2440,2,    302.6,2,    18.60,2,     0.03,2,    29.90,2,     1.47,2,-999,9,   2238.4,2,    7.739,2,   2088.6,2
  49HO19990719,  St_9,  2,      3,      3,2,19990804,0059, 44.5130, 175.5100, 5701,    151.2,   3.9700,  33.7220,2,  33.2880,2,    296.3,2,    19.90,2,     0.01,2,    32.80,2,     1.56,2,-999,9,   2242.1,2,    7.718,2,   2103.7,2
  49HO19990719,  St_9,  2,      2,      2,2,19990804,0059, 44.5130, 175.5100, 5701,    201.5,   4.6500,  33.8890,2,  33.6330,2,    234.6,2,    19.90,2,     0.02,2,    47.80,2,     1.91,2,-999,9,   2266.0,2,    7.608,2,   2158.4,2
  49HO19990719,  St_9,  2,      1,      1,2,19990804,0059, 44.5130, 175.5100, 5701,    249.0,   4.5600,  33.9620,2,  33.7550,2,    160.7,2,    23.50,2,     0.03,2,    59.60,2,     2.19,2,-999,9,   2279.7,2,    7.533,2,   2196.1,2
  49HO19990719, St_10,  1,     12,     12,2,19990805,0328, 43.0003, 175.5013, 6250,    300.0,   6.5400,  34.0250,2,  33.8740,2,    196.0,2,    23.00,2,    -0.04,3,    40.10,2,     1.68,2,-999,9,   2271.8,2,    7.649,2,   2150.2,2
  49HO19990719, St_10,  1,     11,     11,2,19990805,0328, 43.0003, 175.5013, 6250,    400.1,   5.0600,  34.1220,2,  33.8890,2,    131.9,2,    32.00,2,    -0.02,3,    64.00,2,     2.30,2,-999,9,   2287.4,2,    7.492,2,   2219.2,2
  49HO19990719, St_10,  1,     10,     10,2,19990805,0328, 43.0003, 175.5013, 6250,    500.2,   4.5300,  34.1920,2,  33.9900,2,     94.2,2,    36.50,2,     0.00,2,    80.40,2,     2.60,2,-999,9,   2301.9,2,    7.423,2,   2263.7,2
  49HO19990719, St_10,  1,      9,      9,2,19990805,0328, 43.0003, 175.5013, 6250,    599.5,   4.1000,  34.2520,2,  34.0750,2,     64.3,2,    39.90,2,     0.01,2,    95.20,2,     2.83,2,-999,9,   2321.6,2,    7.370,2,   2292.2,2
  49HO19990719, St_10,  1,      8,      8,2,19990805,0328, 43.0003, 175.5013, 6250,    699.8,   3.8100,  34.2940,2,  34.1900,2,     43.2,2,    42.00,2,    -0.01,3,   108.90,2,     2.95,2,-999,9,   2339.4,2,    7.343,2,   2315.7,2
  49HO19990719, St_10,  1,      7,      7,2,19990805,0328, 43.0003, 175.5013, 6250,    800.3,   3.5400,  34.3390,2,  34.2420,2,     36.9,2,    42.80,2,     0.00,2,   118.40,2,     3.01,2,-999,9,   2352.1,2,    7.339,2,   2333.4,2
  49HO19990719, St_10,  1,      6,      6,2,19990805,0328, 43.0003, 175.5013, 6250,    999.7,   3.0600,  34.4080,2,  34.4040,2,     30.4,2,    43.50,2,    -0.01,3,   132.40,2,     3.07,2,-999,9,   2372.7,2,    7.329,2,   2352.9,2
  49HO19990719, St_10,  1,      5,      5,2,19990805,0328, 43.0003, 175.5013, 6250,   1250.1,   2.6600,  34.4790,2,  34.4240,2,     31.3,2,    43.90,2,    -0.03,3,   146.80,2,     3.07,2,-999,9,   2387.1,2,    7.339,2,   2367.6,2
  49HO19990719, St_10,  1,      4,      4,2,19990805,0328, 43.0003, 175.5013, 6250,   1498.9,   2.3500,  34.5340,2,  34.4950,2,     39.0,2,    43.70,2,    -0.01,3,   155.60,2,     3.05,2,-999,9,   2399.7,2,    7.363,2,   2370.0,2
  49HO19990719, St_10,  1,      3,      3,2,19990805,0328, 43.0003, 175.5013, 6250,   1999.7,   1.9800,  34.6000,2,  34.5960,2,     61.4,2,    42.20,2,     0.00,2,   161.70,2,     2.94,2,-999,9,   2414.6,2,    7.412,2,   2368.9,2
  49HO19990719, St_10,  1,      2,      2,2,19990805,0328, 43.0003, 175.5013, 6250,   2498.9,   1.7400,  34.6400,2,  34.6290,2,     87.6,2,    40.60,2,    -0.03,3,   161.40,2,     2.81,2,-999,9,   2422.8,2,    7.468,2,   2354.9,2
  49HO19990719, St_10,  1,      1,      1,2,19990805,0328, 43.0003, 175.5013, 6250,   2999.9,   1.5800,  34.6640,2,  34.6620,2,    113.4,2,    38.60,2,    -0.02,3,   156.20,2,     2.67,2,-999,9,   2425.3,2,    7.512,2,   2336.4,2
  49HO19990719, St_10,  2,      S,      S,2,19990805,0551, 42.9945, 175.5457, 6251,      0.0,  12.5800,  32.8960,2,  33.1860,2,    275.2,2,     8.60,2,     0.19,2,    15.80,2,     0.80,2,-999,9,   2220.6,2,    7.880,2,   2021.6,2
  49HO19990719, St_10,  2,     12,     12,2,19990805,0551, 42.9945, 175.5457, 6251,     10.0,  12.5600,  32.9070,2,  33.1790,2,    276.0,2,     8.70,2,     0.19,2,    15.80,2,     0.79,2,-999,9,   2225.0,2,    7.889,2,   2021.7,2
  49HO19990719, St_10,  2,     11,     11,2,19990805,0551, 42.9945, 175.5457, 6251,     20.4,  12.3500,  32.9080,2,  33.1780,2,    278.1,2,     8.70,2,     0.19,2,    15.80,2,     0.79,2,-999,9,   2224.9,2,    7.887,2,   2015.9,2
  49HO19990719, St_10,  2,     10,     10,2,19990805,0551, 42.9945, 175.5457, 6251,     31.8,   9.5200,  32.9060,2,  33.2560,2,    300.3,2,     9.30,2,     0.14,2,    17.30,2,     0.84,2,-999,9,   2230.2,2,    7.871,2,   2034.1,2
  49HO19990719, St_10,  2,      9,      9,2,19990805,0551, 42.9945, 175.5457, 6251,     40.8,   9.0000,  33.0110,2,  33.2880,2,    294.3,2,     9.90,2,     0.17,2,    17.30,2,     0.89,2,-999,9,   2243.5,2,    7.855,2,   2038.4,2
  49HO19990719, St_10,  2,      8,      8,2,19990805,0551, 42.9945, 175.5457, 6251,     52.1,   8.9000,  33.0550,2,  33.2920,2,    290.1,2,    10.30,2,     0.17,2,    17.20,2,     0.92,2,-999,9,   2229.1,2,    7.845,2,   2040.7,2
  49HO19990719, St_10,  2,      7,      7,2,19990805,0551, 42.9945, 175.5457, 6251,     60.1,   8.5700,  33.0790,2,  33.3070,2,    287.8,2,    10.60,2,     0.17,2,    17.80,2,     0.98,2,-999,9,   2231.8,2,    7.835,2,   2046.3,2
  49HO19990719, St_10,  2,      6,      6,2,19990805,0551, 42.9945, 175.5457, 6251,     80.1,   7.6800,  33.1040,2,  33.3720,2,    286.9,2,    12.10,2,     0.82,2,    18.50,2,     1.04,2,-999,9,   2232.5,2,    7.820,2,   2055.5,2
  49HO19990719, St_10,  2,      5,      5,2,19990805,0551, 42.9945, 175.5457, 6251,    100.6,   7.0600,  33.1360,2,  33.4380,2,    292.5,2,    12.70,2,     0.06,2,    18.60,2,     1.05,2,-999,9,   2232.8,2,    7.811,2,   2058.3,2
  49HO19990719, St_10,  2,      4,      4,2,19990805,0551, 42.9945, 175.5457, 6251,    125.8,   6.7900,  33.4080,2,  33.4660,2,    293.7,2,    13.00,2,     0.03,2,    18.90,2,     1.06,2,-999,9,   2237.8,2,    7.808,2,   2063.1,2
  49HO19990719, St_10,  2,      3,      3,2,19990805,0551, 42.9945, 175.5457, 6251,    149.3,   6.9100,  33.7220,2,  33.5140,2,    290.4,2,    13.20,2,     0.00,2,    19.00,2,     1.05,2,-999,9,   2237.6,2,    7.811,2,   2067.0,2
  49HO19990719, St_10,  2,      2,      2,2,19990805,0551, 42.9945, 175.5457, 6251,    200.2,   6.8600,  33.8890,2,  33.5530,2,    287.1,2,    13.70,2,     0.02,2,    19.80,2,     1.08,2,-999,9,   2236.5,2,    7.800,2,   2070.2,2
  49HO19990719, St_10,  2,      1,      1,2,19990805,0551, 42.9945, 175.5457, 6251,    249.2,   7.0900,  33.9620,2,  33.8240,2,    240.5,2,    17.70,2,     0.01,2,    27.70,2,     1.30,2,-999,9,   2262.3,2,    7.740,2,   2107.3,2
  49HO19990719, St_11,  1,     12,     12,2,19990806,0356, 41.4968, 175.5072, 5508,    300.1,   6.0700,  34.0250,2,  33.9300,2,    157.3,2,    27.80,2,     0.02,2,    52.40,2,     2.00,2,-999,9,   2283.8,2,    7.580,2,   2197.0,2
  49HO19990719, St_11,  1,     11,     11,2,19990806,0356, 41.4968, 175.5072, 5508,    401.4,   4.8900,  34.1220,2,  33.9480,2,    112.7,2,    34.30,2,     0.03,2,    73.00,2,     2.46,2,-999,9,   2301.7,2,    7.465,2,   2249.5,2
  49HO19990719, St_11,  1,     10,     10,2,19990806,0356, 41.4968, 175.5072, 5508,    501.3,   4.5000,  34.1920,2,  34.0440,2,     83.3,2,    37.60,2,     0.03,2,    87.00,2,     2.69,2,-999,9,   2316.4,2,    7.413,2,   2278.9,2
  49HO19990719, St_11,  1,      9,      9,2,19990806,0356, 41.4968, 175.5072, 5508,    602.0,   4.0100,  34.2520,2,  34.1200,2,     56.4,2,    40.60,2,    -0.04,3,   102.10,2,     2.89,2,-999,9,   2331.8,2,    7.362,2,   2309.7,2
  49HO19990719, St_11,  1,      8,      8,2,19990806,0356, 41.4968, 175.5072, 5508,    701.1,   3.7700,  34.2940,2,  34.2110,2,     43.8,2,    41.80,2,    -0.03,3,   112.60,2,     2.97,2,-999,9,   2346.7,2,    7.350,2,   2326.4,2
  49HO19990719, St_11,  1,      7,      7,2,19990806,0356, 41.4968, 175.5072, 5508,    801.6,   3.4100,  34.3390,2,  34.2610,2,     35.7,2,    43.00,2,    -0.02,3,   123.50,2,     3.05,2,-999,9,   2359.0,2,    7.337,2,   2341.7,2
  49HO19990719, St_11,  1,      6,      6,2,19990806,0356, 41.4968, 175.5072, 5508,   1001.1,   3.0000,  34.4080,2,  34.3580,2,     31.8,2,    43.60,2,    -0.04,3,   134.60,2,     3.09,2,-999,9,   2376.7,2,    7.335,2,   2361.6,2
  49HO19990719, St_11,  1,      5,      5,2,19990806,0356, 41.4968, 175.5072, 5508,   1250.6,   2.5600,  34.4790,2,  34.4440,2,     33.5,2,  -999.00,9,    -0.03,3,   151.60,2,     3.10,2,-999,9,   2392.6,2,    7.345,2,   2376.1,2
  49HO19990719, St_11,  1,      4,      4,2,19990806,0356, 41.4968, 175.5072, 5508,   1498.6,   2.3100,  34.5340,2,  34.5050,2,     40.7,2,    43.50,2,    -0.03,3,   155.00,2,     3.06,2,-999,9,   2405.6,2,    7.366,2,   2376.3,2
  49HO19990719, St_11,  1,      3,      3,2,19990806,0356, 41.4968, 175.5072, 5508,   1999.5,   1.9300,  34.6000,2,  34.5890,2,     68.3,2,    42.00,2,    -0.03,3,   161.80,2,     2.93,2,-999,9,   2418.0,2,    7.424,2,   2377.2,2
  49HO19990719, St_11,  1,      2,      2,2,19990806,0356, 41.4968, 175.5072, 5508,   2498.5,   1.6800,  34.6400,2,  34.6370,2,     97.7,2,  -999.00,9,    -0.01,3,   159.60,2,     2.78,2,-999,9,   2424.7,2,    7.482,2,   2353.9,2
  49HO19990719, St_11,  1,      1,      1,2,19990806,0356, 41.4968, 175.5072, 5508,   3001.6,   1.5400,  34.6640,2,  34.6650,2,    121.8,2,    38.30,2,    -0.01,3,   154.70,2,     2.65,2,-999,9,   2422.9,2,    7.518,2,   2342.6,2
  49HO19990719, St_11,  2,      S,      S,2,19990806,0623, 41.4772, 175.5402, 5444,      0.0,  15.2300,  32.8960,2,  33.4940,2,    265.7,2,     5.10,2,     0.04,2,    12.90,2,     0.52,2,-999,9,   2240.7,2,    7.958,2,   1998.6,2
  49HO19990719, St_11,  2,     12,     12,2,19990806,0623, 41.4772, 175.5402, 5444,     10.0,  15.2400,  32.9070,2,  33.5480,2,    266.3,2,     5.00,2,     0.05,2,    12.70,2,     0.50,2,-999,9,   2230.4,2,    7.957,2,   1995.9,2
  49HO19990719, St_11,  2,     11,     11,2,19990806,0623, 41.4772, 175.5402, 5444,     18.8,  13.9100,  32.9080,2,  33.4850,2,    283.8,2,     5.30,2,     0.07,2,    13.00,2,     0.52,2,-999,9,   2237.0,2,    7.949,2,   2004.8,2
  49HO19990719, St_11,  2,     10,     10,2,19990806,0623, 41.4772, 175.5402, 5444,     30.7,  10.8000,  32.9060,2,  33.4760,2,    297.8,2,     7.40,2,     0.09,2,    14.80,2,     0.67,2,-999,9,   2239.4,2,    7.905,2,   2027.0,2
  49HO19990719, St_11,  2,      9,      9,2,19990806,0623, 41.4772, 175.5402, 5444,     40.2,  10.7500,  33.0110,2,  33.5410,2,    282.9,2,     7.90,2,     0.13,2,    14.40,2,     0.73,2,-999,9,   2238.5,2,    7.889,2,   2035.5,2
  49HO19990719, St_11,  2,      8,      8,2,19990806,0623, 41.4772, 175.5402, 5444,     50.1,  10.3100,  33.0550,2,  33.5910,2,    277.9,2,     8.80,2,     0.29,2,    14.80,2,     0.82,2,-999,9,   2244.3,2,    7.865,2,   2047.5,2
  49HO19990719, St_11,  2,      7,      7,2,19990806,0623, 41.4772, 175.5402, 5444,     59.6,   9.5600,  33.0790,2,  33.5660,2,    280.7,2,    10.00,2,     0.41,2,    15.80,2,     0.88,2,-999,9,   2244.0,2,    7.852,2,   2053.0,2
  49HO19990719, St_11,  2,      6,      6,2,19990806,0623, 41.4772, 175.5402, 5444,     79.0,   9.3200,  33.1040,2,  33.7250,2,    275.8,2,    10.60,2,     0.02,2,    14.80,2,     0.87,2,-999,9,   2248.5,2,    7.851,2,   2053.1,2
  49HO19990719, St_11,  2,      5,      5,2,19990806,0623, 41.4772, 175.5402, 5444,     99.6,   9.0200,  33.1360,2,  33.8300,2,    270.9,2,    11.60,2,    -0.01,3,    16.00,2,     0.90,2,-999,9,   2256.0,2,    7.838,2,   2064.3,2
  49HO19990719, St_11,  2,      4,      4,2,19990806,0623, 41.4772, 175.5402, 5444,    125.1,   8.6200,  33.4080,2,  33.8510,2,    262.2,2,    13.20,2,     0.00,2,    18.60,2,     1.00,2,-999,9,   2255.4,2,    7.817,2,   2075.3,2
  49HO19990719, St_11,  2,      3,      3,2,19990806,0623, 41.4772, 175.5402, 5444,    149.1,   8.1500,  33.7220,2,  33.8980,2,    250.0,2,    15.40,2,     0.00,2,    22.60,2,     1.14,2,-999,9,   2257.2,2,    7.783,2,   2096.6,2
  49HO19990719, St_11,  2,      2,      2,2,19990806,0623, 41.4772, 175.5402, 5444,    200.9,   7.4000,  33.8890,2,  33.9330,2,    224.6,2,    19.50,2,     0.01,2,    31.70,2,     1.42,2,-999,9,   2269.0,2,    7.721,2,   2122.8,2
  49HO19990719, St_11,  2,      1,      1,2,19990806,0623, 41.4772, 175.5402, 5444,    249.5,   6.7800,  33.9620,2,  33.9220,2,    196.1,2,    23.10,2,     0.02,2,    40.00,2,     1.67,2,-999,9,   2271.7,2,    7.663,2,   2150.0,2