BOTTLE,20120717MIRCJHATS
##Cruise,HO99-3,,,,Start,,Bottom,,End,,,Remarks
##Station,St.2,,Date/Time (GMT),,1999/7/25 5:57,,,,,,,transparency (m)
##,,,Depth (m),,5566,,-,,-
##bottle ,Pressure,depth,Temp.,Pot. T,Salinity,Sigma-t,Sigma-q,Salinity,DO,NO3+NO2,NO2,P,Si,NH4(P),pH,TCO2,Alk
### change pH scale to total
##Cruise,HO99-3,,,,Start,,Bottom,,End,,,Remarks
##Station,St.2,,Date/Time (GMT),,1999/7/25 1:13,,,,,,,transparency (m),14
##,,,Depth (m),,5521,,-,,-
##bottle ,Pressure,depth,Temp.,Pot. T,Salinity,Sigma-t,Sigma-q,Salinity,DO,NO3+NO2,NO2,P,Si,NH4(P),pH,TCO2,Alk
### change pH scale to total
##Cruise,HO99-3,,,,Start,,Bottom,,End,,,Remarks
##Station,St.3,,Date/Time (GMT),,1999/7/26 7:37,,,,,,,transparency (m)
##,,,Depth (m),,5370,,-,,-
##bottle ,Pressure,depth,Temp.,Pot. T,Salinity,Sigma-t,Sigma-q,Salinity,DO,NO3+NO2,NO2,P,Si,NH4(P),pH,TCO2,Alk
### change pH scale to total
##Cruise,HO99-3,,,,Start,,Bottom,,End,,,Remarks
##Station,St.3,,Date/Time (GMT),,1999/7/26 4:05,,,,,,,transparency (m),12
##,,,Depth (m),,5348,,-,,-
##bottle ,Pressure,depth,Temp.,Pot. T,Salinity,Sigma-t,Sigma-q,Salinity,DO,NO3+NO2,NO2,P,Si,NH4(P),pH,TCO2,Alk
### change pH scale to total
##Cruise,HO99-3,,,,Start,,Bottom,,End,,,Remarks
##Station,St.4,,Date/Time (GMT),,1999/7/27 7:29,,,,,,,transparency (m)
##,,,Depth (m),,3385,,-,,-
##bottle ,Pressure,depth,Temp.,Pot. T,Salinity,Sigma-t,Sigma-q,Salinity,DO,NO3+NO2,NO2,P,Si,NH4(P),pH,TCO2,Alk
### change pH scale to total
##Cruise,HO99-3,,,,Start,,Bottom,,End,,,Remarks
##Station,St.4,,Date/Time (GMT),,1999/7/27 4:03,,,,,,,transparency (m),7
##,,,Depth (m),,3516,,-,,-
##bottle ,Pressure,depth,Temp.,Pot. T,Salinity,Sigma-t,Sigma-q,Salinity,DO,NO3+NO2,NO2,P,Si,NH4(P),pH,TCO2,Alk
### change pH scale to total
##Cruise,HO99-3,,,,Start,,Bottom,,End,,,Remarks
##Station,St.4,,Date/Time (GMT),,1999/7/27 7:29,,,,,,,transparency (m)
##,,,Depth (m),,3385,,-,,-
##bottle ,Pressure,depth,Temp.,Pot. T,Salinity,Sigma-t,Sigma-q,Salinity,DO,NO3+NO2,NO2,P,Si,NH4(P),pH,TCO2,Alk
### change pH scale to total
##Cruise,HO99-3,,,,Start,,Bottom,,End,,,Remarks
##Station,St.4,,Date/Time (GMT),,1999/7/27 4:03,,,,,,,transparency (m),7
##,,,Depth (m),,3516,,-,,-
##bottle ,Pressure,depth,Temp.,Pot. T,Salinity,Sigma-t,Sigma-q,Salinity,DO,NO3+NO2,NO2,P,Si,NH4(P),pH,TCO2,Alk
### change pH scale to total
##Cruise,HO99-3,,,,Start,,Bottom,,End,,,Remarks
##Station,St.6,,Date/Time (GMT),,1999/7/29 5:46,,,,,,,transparency (m)
##,,,Depth (m),,5797,,-,,-
##bottle ,Pressure,depth,Temp.,Pot. T,Salinity,Sigma-t,Sigma-q,Salinity,DO,NO3+NO2,NO2,P,Si,NH4(P),pH,TCO2,Alk
### change pH scale to total
##Cruise,HO99-3,,,,Start,,Bottom,,End,,,Remarks
##Station,St.6,,Date/Time (GMT),,1999/7/29 3:22,,,,,,,transparency (m),14
##,,,Depth (m),,5730,,-,,-
##bottle ,Pressure,depth,Temp.,Pot. T,Salinity,Sigma-t,Sigma-q,Salinity,DO,NO3+NO2,NO2,P,Si,NH4(P),pH,TCO2,Alk
### change pH scale to total
##Cruise,HO99-3,,,,Start,,Bottom,,End,,,Remarks
##Station,St.7,,Date/Time (GMT),,1999/8/1 6:14,,,,,,,transparency (m)
##,,,Depth (m),,5598,,-,,-
##bottle ,Pressure,depth,Temp.,Pot. T,Salinity,Sigma-t,Sigma-q,Salinity,DO,NO3+NO2,NO2,P,Si,NH4(P),pH,TCO2,Alk
### change pH scale to total
##Cruise,HO99-3,,,,Start,,Bottom,,End,,,Remarks
##Station,St.7,,Date/Time (GMT),,1999/8/1 3:14,,,,,,,transparency (m),14
##,,,Depth (m),,5558,,-,,-
##bottle ,Pressure,depth,Temp.,Pot. T,Salinity,Sigma-t,Sigma-q,Salinity,DO,NO3+NO2,NO2,P,Si,NH4(P),pH,TCO2,Alk
### change pH scale to total
##Cruise,HO99-3,,,,Start,,Bottom,,End,,,Remarks
##Station,St.8,,Date/Time (GMT),,1999/8/2 6:32,,,,,,,transparency (m)
##,,,Depth (m),,5665,,-,,-
##bottle ,Pressure,depth,Temp.,Pot. T,Salinity,Sigma-t,Sigma-q,Salinity,DO,NO3+NO2,NO2,P,Si,NH4(P),pH,TCO2,Alk
### change pH scale to total
##Cruise,HO99-3,,,,Start,,Bottom,,End,,,Remarks
##Station,St.8,,Date/Time (GMT),,1999/8/2 4:12,,,,,,,transparency (m),13
##,,,Depth (m),,5665,,-,,-
##bottle ,Pressure,depth,Temp.,Pot. T,Salinity,Sigma-t,Sigma-q,Salinity,DO,NO3+NO2,NO2,P,Si,NH4(P),pH,TCO2,Alk
### change pH scale to total
##Cruise,HO99-3,,,,Start,,Bottom,,End,,,Remarks
##Station,St.9,,Date/Time (GMT),,1999/8/4 0:59,,,,,,,transparency (m)
##,,,Depth (m),,5701,,-,,-
##bottle ,Pressure,depth,Temp.,Pot. T,Salinity,Sigma-t,Sigma-q,Salinity,DO,NO3+NO2,NO2,P,Si,NH4(P),pH,TCO2,Alk
### change pH scale to total
##Cruise,HO99-3,,,,Start,,Bottom,,End,,,Remarks
##Station,St.9,,Date/Time (GMT),,1999/8/3 20:42,,,,,,,transparency (m),14
##,,,Depth (m),,5685,,-,,-
##bottle ,Pressure,depth,Temp.,Pot. T,Salinity,Sigma-t,Sigma-q,Salinity,DO,NO3+NO2,NO2,P,Si,NH4(P),pH,TCO2,Alk
### change pH scale to total
##Cruise,HO99-3,,,,Start,,Bottom,,End,,,Remarks
##Station,St.10,,Date/Time (GMT),,1999/8/5 5:51,,,,,,,transparency (m)
##,,,Depth (m),,6251,,-,,-
##bottle ,Pressure,depth,Temp.,Pot. T,Salinity,Sigma-t,Sigma-q,Salinity,DO,NO3+NO2,NO2,P,Si,NH4(P),pH,TCO2,Alk
### change pH scale to total
##Cruise,HO99-3,,,,Start,,Bottom,,End,,,Remarks
##Station,St.10,,Date/Time (GMT),,1999/8/5 3:28,,,,,,,transparency (m),,10
##,,,Depth (m),,6250,,-,,-
##bottle ,Pressure,depth,Temp.,Pot. T,Salinity,Sigma-t,Sigma-q,Salinity,DO,NO3+NO2,NO2,P,Si,NH4(P),pH,TCO2,Alk
### change pH scale to total
##Cruise,HO99-3,,,,Start,,Bottom,,End,,,Remarks
##Station,St.11,,Date/Time (GMT),,1999/8/6 6:23,,,,,,,transparency (m)
##,,,Depth (m),,5444,,-,,-
##bottle ,Pressure,depth,Temp.,Pot. T,Salinity,Sigma-t,Sigma-q,Salinity,DO,NO3+NO2,NO2,P,Si,NH4(P),pH,TCO2,Alk
### change pH scale to total
##Cruise,HO99-3,,,,Start,,Bottom,,End,,,Remarks
##Station,St.11,,Date/Time (GMT),,1999/8/6 3:56,,,,,,,transparency (m),,12
##,,,Depth (m),,5508,,-,,-
##bottle ,Pressure,depth,Temp.,Pot. T,Salinity,Sigma-t,Sigma-q,Salinity,DO,NO3+NO2,NO2,P,Si,NH4(P),pH,TCO2,Alk
### change pH scale to total
##Cruise,HO99-3,,,,Start,,Bottom,,End,,,Remarks
##Station,St.12,,Date/Time (GMT),,1999/8/7 9:26,,,,,,,transparency (m)
##,,,Depth (m),,5300,,-,,-
##bottle ,Pressure,depth,Temp.,Pot. T,Salinity,Sigma-t,Sigma-q,Salinity,DO,NO3+NO2,NO2,P,Si,NH4(P),pH,TCO2,Alk
### change pH scale to total
##Cruise,HO99-3,,,,Start,,Bottom,,End,,,Remarks
##Station,St.12,,Date/Time (GMT),,1999/8/7 4:31,,,,,,,transparency (m),,21
##,,,Depth (m),,5309,,-,,-
##bottle ,Pressure,depth,Temp.,Pot. T,Salinity,Sigma-t,Sigma-q,Salinity,DO,NO3+NO2,NO2,P,Si,NH4(P),pH,TCO2,Alk
### change pH scale to total
##Cruise,HO99-3,,,,Start,,Bottom,,End,,,Remarks
##Station,St.13,,Date/Time (GMT),,1999/8/8 5:38,,,,,,,transparency (m)
##,,,Depth (m),,4522,,-,,-
##bottle ,Pressure,depth,Temp.,Pot. T,Salinity,Sigma-t,Sigma-q,Salinity,DO,NO3+NO2,NO2,P,Si,NH4(P),pH,TCO2,Alk
### change pH scale to total
##Cruise,HO99-3,,,,Start,,Bottom,,End,,,Remarks
##Station,St.13,,Date/Time (GMT),,1999/8/8 9:57,,,,,,,transparency (m),,22
##,,,Depth (m),,4522,,-,,-
##bottle ,Pressure,depth,Temp.,Pot. T,Salinity,Sigma-t,Sigma-q,Salinity,DO,NO3+NO2,NO2,P,Si,NH4(P),pH,TCO2,Alk
### change pH scale to total
##Cruise,HO99-3,,,,Start,,Bottom,,End,,,Remarks
##Station,St.14,,Date/Time (GMT),,1999/8/9 20:41,,,,,,,transparency (m),,22
##,,,Depth (m),,4865,,-,,-
##bottle ,Pressure,depth,Temp.,Pot. T,Salinity,Sigma-t,Sigma-q,Salinity,DO,NO3+NO2,NO2,P,Si,NH4(P),pH,TCO2,Alk
### change pH scale to total
##Cruise,HO99-3,,,,Start,,Bottom,,End,,,Remarks
##Station,St.15,,Date/Time (GMT),,1999/8/10 7:21,,,,,,,transparency (m)
##,,,Depth (m),,5190,,-,,-
##bottle ,Pressure,depth,Temp.,Pot. T,Salinity,Sigma-t,Sigma-q,Salinity,DO,NO3+NO2,NO2,P,Si,NH4(P),pH,TCO2,Alk
### change pH scale to total
##Cruise,HO99-3,,,,Start,,Bottom,,End,,,Remarks
##Station,St.16,,Date/Time (GMT),,1999/8/10 17:56,,,,,,,transparency (m),,9
##,,,Depth (m),,4933,,-,,-
##bottle ,Pressure,depth,Temp.,Pot. T,Salinity,Sigma-t,Sigma-q,Salinity,DO,NO3+NO2,NO2,P,Si,NH4(P),pH,TCO2,Alk
### change pH scale to total
EXPOCODE,STNNBR,CASTNO,SAMPNO,BTLNBR,BTLNBR_FLAG_W,DATE,TIME,LATITUDE,LONGITUDE,DEPTH,CTDPRS,CTDTMP,CTDSAL,CTDSAL_FLAG_W,SALNTY,SALNTY_FLAG_W,OXYGEN,OXYGEN_FLAG_W,NO2+NO3,NO2+NO3_FLAG_W,NITRIT,NITRIT_FLAG_W,SILCAT,SILCAT_FLAG_W,PHSPHT,PHSPHT_FLAG_W,NH4,NH4_FLAG_W,ALKALI,ALKALI_FLAG_W,PH,PH_FLAG_W,TCARBN,TCARBN_FLAG_W
,,,,,,,,,,METERS,DBARS,,,,,,UMOL/KG,,UMOL/KG,,UMOL/KG,,UMOL/KG,,UMOL/KG,,UMOL/KG,,UMOL/KG,,,,UMOL/KG,
  49HO19990719,KNOT-1,  1,      1,      1,5,19990722,0035, 44.0000, 155.0000, -999,      0.0,  14.2554,  33.2548,2,  33.2355,2,    266.8,2,     2.30,2,     0.11,2,     3.40,2,     0.33,2,-999,9,   2233.7,2,    7.995,2,   1988.7,2
  49HO19990719,KNOT-1,  1,      1,      1,5,19990722,0035, 44.0000, 155.0000, -999,     10.8,  14.2349,  33.2548,2,  33.2801,2,    266.6,2,     2.00,2,     0.09,2,     3.20,2,     0.31,2,-999,9,   2238.3,2,    8.008,2,   1985.2,2
  49HO19990719,KNOT-1,  1,      1,      1,5,19990722,0035, 44.0000, 155.0000, -999,     18.6,  14.4831,  33.4641,2,  33.4588,2,    264.1,2,     1.80,2,     0.10,2,     3.40,2,     0.26,2,-999,9,   2243.5,2,    8.010,2,   1990.7,2
  49HO19990719,KNOT-1,  1,      1,      1,5,19990722,0035, 44.0000, 155.0000, -999,     29.6,  14.3417,  33.4528,2,  33.4968,2,    264.3,2,     2.30,2,     0.11,2,     3.80,2,     0.29,2,-999,9,   2243.5,2,    7.998,2,   2001.4,2
  49HO19990719,KNOT-1,  1,      1,      1,5,19990722,0035, 44.0000, 155.0000, -999,     39.9,  10.9542,  33.9727,2,  33.8932,2,    260.9,2,     9.40,2,     0.33,2,    10.30,2,     0.75,2,-999,9,   2268.7,2,    7.872,2,   2066.5,2
  49HO19990719,KNOT-1,  1,      1,      1,5,19990722,0035, 44.0000, 155.0000, -999,     50.0,   7.9152,  33.6547,2,  33.6757,2,    271.1,2,    11.30,2,     0.13,2,    11.20,2,     0.88,2,-999,9,   2254.6,2,    7.831,2,   2077.3,2
  49HO19990719,KNOT-1,  1,      1,      1,5,19990722,0035, 44.0000, 155.0000, -999,     60.2,   7.6467,  33.7194,2,  33.7273,2,    264.1,2,    13.50,2,     0.02,2,    15.50,2,     1.01,2,-999,9,   2253.5,2,    7.797,2,   2094.9,2
  49HO19990719,KNOT-1,  1,      1,      1,5,19990722,0035, 44.0000, 155.0000, -999,     79.9,   6.9978,  33.7573,2,  33.7486,2,    258.6,2,    15.90,2,     0.02,2,    23.70,2,     1.20,2,-999,9,   2254.6,2,    7.756,2,   -999.0,9
  49HO19990719,KNOT-1,  1,      1,      1,5,19990722,0035, 44.0000, 155.0000, -999,     98.4,   5.4767,  33.5685,2,  33.5587,2,    274.9,2,    16.00,2,     0.02,2,    24.60,2,     1.25,2,-999,9,   2248.3,2,    7.737,2,   2108.1,2
  49HO19990719,KNOT-1,  1,      1,      1,5,19990722,0035, 44.0000, 155.0000, -999,    125.4,   4.2794,  33.4687,2,  33.4637,2,    281.3,2,    19.20,2,     0.03,2,    32.70,2,     1.50,2,-999,9,   2244.3,2,    7.696,2,   2123.0,2
  49HO19990719,KNOT-1,  1,      1,      1,5,19990722,0035, 44.0000, 155.0000, -999,    149.2,   3.7443,  33.4283,2,  33.4321,2,    280.8,2,    20.20,2,     0.01,2,    35.90,2,     1.58,2,-999,9,   2246.4,2,    7.677,2,   2134.0,2
  49HO19990719,KNOT-1,  1,      1,      1,5,19990722,0035, 44.0000, 155.0000, -999,    200.4,   4.2440,  33.6459,2,  33.6353,2,    209.1,2,    25.80,2,     0.02,2,    51.30,2,     1.94,2,-999,9,   2263.9,2,    7.587,2,   2172.2,3
  49HO19990719,KNOT-1,  1,      1,      1,5,19990722,0035, 44.0000, 155.0000, -999,    251.4,   3.3078,  33.6536,2,  33.6591,2,    156.3,2,    32.60,2,     0.02,2,    70.70,2,     2.42,2,-999,9,   2278.5,2,    7.463,2,   2227.1,2
  49HO19990719,KNOT-1,  1,      1,      1,5,19990722,0035, 44.0000, 155.0000, -999,    305.3,   3.1436,  33.8038,2,  33.8043,2,     89.9,2,    39.10,2,     0.01,2,    90.90,2,     2.85,2,-999,9,   2289.6,2,    7.347,2,   2287.8,2
  49HO19990719,KNOT-1,  1,      1,      1,5,19990722,0035, 44.0000, 155.0000, -999,    404.0,   3.2472,  33.9882,2,  33.9855,2,     38.9,2,  -999.00,9,     0.02,2,   111.30,2,     3.11,2,-999,9,   2310.1,2,    7.280,2,   2325.2,2
  49HO19990719,KNOT-1,  1,      1,      1,5,19990722,0035, 44.0000, 155.0000, -999,    504.2,   3.2736,  34.1198,2,  34.1164,2,     28.8,2,    44.10,2,     0.01,2,   122.80,2,     3.13,2,-999,9,   2329.6,2,    7.289,2,   2336.9,2
  49HO19990719,KNOT-1,  1,      1,      1,5,19990722,0035, 44.0000, 155.0000, -999,    602.8,   3.1136,  34.2023,2,  34.1973,2,     27.9,2,    43.70,2,     0.00,2,   131.00,2,     3.12,2,-999,9,   2344.4,2,    7.297,2,   2353.0,2
  49HO19990719,KNOT-1,  1,      1,      1,5,19990722,0035, 44.0000, 155.0000, -999,    702.9,   2.9613,  34.2719,2,  34.2712,2,     25.8,2,    43.20,2,     0.01,2,   140.20,2,     3.13,2,-999,9,   2354.4,2,    7.302,2,   2358.0,2
  49HO19990719,KNOT-1,  1,      1,      1,5,19990722,0035, 44.0000, 155.0000, -999,    801.1,   2.8389,  34.3333,2,  34.3320,2,     24.9,2,    44.00,2,     0.04,2,   142.70,2,     3.14,2,-999,9,   2366.1,2,    7.318,2,   2368.7,2
  49HO19990719,KNOT-1,  1,      1,      1,5,19990722,0035, 44.0000, 155.0000, -999,   1000.7,   2.6297,  34.4112,2,  34.4105,2,     32.3,2,    43.20,2,     0.00,2,   151.10,2,     3.11,2,-999,9,   2379.4,2,    7.340,2,   2375.5,2
  49HO19990719,KNOT-1,  1,      1,      1,5,19990722,0035, 44.0000, 155.0000, -999,   1248.4,   2.3995,  34.4741,2,  34.4745,2,     39.8,2,    43.20,2,     0.01,2,   156.50,2,     3.08,2,-999,9,   2385.6,2,    7.361,2,   2375.9,2
  49HO19990719,KNOT-1,  1,      1,      1,5,19990722,0035, 44.0000, 155.0000, -999,   1498.7,   2.1901,  34.5231,2,  34.5239,2,     51.5,2,    42.70,2,    -0.01,2,   162.60,2,     3.04,2,-999,9,   -999.0,9,    7.380,2,   2377.8,2
  49HO19990719,KNOT-1,  1,      1,      1,5,19990722,0035, 44.0000, 155.0000, -999,   1994.2,   1.8679,  34.6010,2,  34.6009,2,     79.7,2,    41.00,2,     0.00,2,   162.80,2,     2.90,2,-999,9,   2408.6,2,    7.436,2,   2367.6,2
  49HO19990719,KNOT-1,  1,      1,      1,5,19990722,0035, 44.0000, 155.0000, -999,   2492.6,   1.6651,  34.6404,2,  34.6379,2,    105.9,2,    39.20,2,     0.02,2,   160.10,2,     2.77,2,-999,9,   2412.2,2,    7.493,2,   2358.1,2
  49HO19990719,KNOT-1,  1,      1,      1,5,19990722,0035, 44.0000, 155.0000, -999,   3001.3,   1.5487,  34.6626,2,  34.6595,2,    126.0,2,    37.80,2,     0.00,2,   150.20,2,     2.65,2,-999,9,   2415.9,2,    7.526,2,   2342.3,2
  49HO19990719,  St_2,  1,     12,     12,2,19990725,0113, 50.0012, 165.0015, 5521,    304.2,   3.4600,  34.0270,2,  34.0160,2,     19.2,2,    45.50,2,     0.03,2,   116.00,2,     3.26,2,-999,9,   2326.6,2,    7.259,2,   2337.3,2
  49HO19990719,  St_2,  1,     11,     11,2,19990725,0113, 50.0012, 165.0015, 5521,    403.3,   3.3700,  34.1220,2,  34.1150,2,     19.6,2,    45.10,2,     0.02,2,   124.40,2,     3.21,2,-999,9,   2339.3,2,    7.278,2,   2344.0,2
  49HO19990719,  St_2,  1,     10,     10,2,19990725,0113, 50.0012, 165.0015, 5521,    501.3,   3.2200,  34.1940,2,  34.1830,2,     21.0,2,    44.30,2,     0.01,2,   131.90,2,     3.17,2,-999,9,   2352.2,2,    7.293,2,   2355.6,2
  49HO19990719,  St_2,  1,      9,      9,2,19990725,0113, 50.0012, 165.0015, 5521,    601.5,   3.1200,  34.2580,2,  34.2940,2,     21.2,2,    44.80,2,     0.00,2,   138.20,2,     3.17,2,-999,9,   2360.4,2,    7.299,2,   2359.4,2
  49HO19990719,  St_2,  1,      8,      8,2,19990725,0113, 50.0012, 165.0015, 5521,    701.4,   2.9700,  34.3130,2,  34.3190,2,     25.1,2,    44.30,2,     0.01,2,   143.20,2,     3.16,2,-999,9,   2363.6,2,    7.320,2,   2366.2,2
  49HO19990719,  St_2,  1,      7,      7,2,19990725,0113, 50.0012, 165.0015, 5521,    802.7,   2.8300,  34.3590,2,  34.3560,2,     24.7,2,    44.40,2,     0.01,2,   148.80,2,     3.16,2,-999,9,   2380.1,2,    7.328,2,   2372.5,2
  49HO19990719,  St_2,  1,      6,      6,2,19990725,0113, 50.0012, 165.0015, 5521,   1001.4,   2.5800,  34.4260,2,  34.4220,2,     29.4,2,    44.30,2,     0.01,2,   153.10,2,     3.14,2,-999,9,   2392.2,2,    7.338,2,   2379.0,2
  49HO19990719,  St_2,  1,      5,      5,2,19990725,0113, 50.0012, 165.0015, 5521,   1250.4,   2.2900,  34.4930,2,  34.4960,2,     35.7,2,    43.90,2,     0.01,2,   159.10,2,     3.10,2,-999,9,   2402.5,2,    7.360,2,   2380.0,2
  49HO19990719,  St_2,  1,      4,      4,2,19990725,0113, 50.0012, 165.0015, 5521,   1499.9,   2.0900,  34.5410,2,  34.5350,2,     48.8,2,    43.10,2,     0.01,2,   169.20,2,     3.04,2,-999,9,   2413.3,2,    7.393,2,   2379.6,2
  49HO19990719,  St_2,  1,      3,      3,2,19990725,0113, 50.0012, 165.0015, 5521,   1999.2,   1.8200,  34.6030,2,  34.6010,2,     78.3,2,  -999.00,9,     0.01,2,   167.90,2,     2.91,2,-999,9,   2412.2,2,    7.449,2,   2368.3,2
  49HO19990719,  St_2,  1,      2,      2,2,19990725,0113, 50.0012, 165.0015, 5521,   2498.0,   1.6300,  34.6410,2,  34.6400,2,    106.5,2,    39.60,2,     0.00,2,   164.70,2,     2.77,2,-999,9,   2420.1,2,    7.505,2,   2354.5,2
  49HO19990719,  St_2,  1,      1,      1,2,19990725,0113, 50.0012, 165.0015, 5521,   2994.0,   1.5400,  34.6610,2,  34.6570,2,    126.7,2,    38.40,2,     0.03,2,   153.10,2,     2.62,2,-999,9,   2417.9,2,    7.537,2,   2336.7,2
  49HO19990719,  St_2,  2,      S,      S,2,19990725,0557, 50.0487, 165.1317, 5566,      0.0,   7.4300,  32.8130,2,  32.8140,2,    308.1,2,    18.60,2,     0.27,2,    39.80,2,     1.54,2,-999,9,   2226.8,2,    7.830,2,   2058.8,2
  49HO19990719,  St_2,  2,     12,     12,2,19990725,0557, 50.0487, 165.1317, 5566,     10.8,   7.5700,  32.8130,2,  32.8140,2,    308.6,2,    18.40,2,     0.24,2,    39.20,2,     1.54,2,-999,9,   2220.4,2,    7.829,2,   2058.8,2
  49HO19990719,  St_2,  2,     11,     11,2,19990725,0557, 50.0487, 165.1317, 5566,     20.9,   7.4800,  32.8030,2,  32.8030,2,    308.0,2,    18.50,2,     0.25,2,    39.90,2,     1.57,2,-999,9,   2225.1,2,    7.823,2,   2052.5,2
  49HO19990719,  St_2,  2,     10,     10,2,19990725,0557, 50.0487, 165.1317, 5566,     30.7,   6.6600,  32.8100,2,  32.8340,2,    315.1,2,    18.70,2,     0.21,2,    39.80,2,     1.62,2,-999,9,   2222.6,2,    7.811,2,   2064.1,2
  49HO19990719,  St_2,  2,      9,      9,2,19990725,0557, 50.0487, 165.1317, 5566,     39.6,   3.6700,  32.9610,2,  32.9660,2,    332.4,2,    21.10,2,     0.50,2,    41.00,2,     1.74,2,-999,9,   2237.2,2,    7.742,2,   2098.9,2
  49HO19990719,  St_2,  2,      8,      8,2,19990725,0557, 50.0487, 165.1317, 5566,     50.2,   3.0300,  32.9770,2,  32.9880,2,    329.4,2,    22.40,2,     1.04,2,    41.90,2,     1.83,2,-999,9,   2233.8,2,    7.709,2,   2102.6,2
  49HO19990719,  St_2,  2,      7,      7,2,19990725,0557, 50.0487, 165.1317, 5566,     60.8,   2.4100,  32.9960,2,  32.9980,2,    328.4,2,    23.40,2,     0.84,2,    42.40,2,     1.88,2,-999,9,   2227.8,2,    7.692,2,   2115.5,2
  49HO19990719,  St_2,  2,      6,      6,2,19990725,0557, 50.0487, 165.1317, 5566,     80.0,   1.9300,  33.0410,2,  33.0410,2,    325.8,2,    24.60,2,     0.04,2,    44.30,2,     1.92,2,-999,9,   2242.9,2,    7.673,2,   2123.2,2
  49HO19990719,  St_2,  2,      5,      5,2,19990725,0557, 50.0487, 165.1317, 5566,    100.1,   1.7600,  33.0780,2,  33.0900,2,    322.5,2,    25.60,2,     0.05,2,    48.10,2,     2.00,2,-999,9,   2239.0,2,    7.656,2,   2128.4,2
  49HO19990719,  St_2,  2,      4,      4,2,19990725,0557, 50.0487, 165.1317, 5566,    124.6,   1.3800,  33.1240,2,  33.1450,2,    308.6,2,    27.70,2,     0.03,2,    53.50,2,     2.14,2,-999,9,   2245.3,2,    7.619,2,   2145.6,2
  49HO19990719,  St_2,  2,      3,      3,2,19990725,0557, 50.0487, 165.1317, 5566,    149.7,   2.0700,  33.3670,2,  33.3670,2,    215.4,2,    33.50,2,     0.02,2,    68.90,2,     2.49,2,-999,9,   2258.2,2,    7.491,2,   2194.5,2
  49HO19990719,  St_2,  2,      2,      2,2,19990725,0557, 50.0487, 165.1317, 5566,    199.9,   3.3000,  33.8190,2,  33.8230,2,     52.2,2,    44.10,2,     0.02,2,   100.90,2,     3.13,2,-999,9,   2300.5,2,    7.275,2,   2304.1,2
  49HO19990719,  St_2,  2,      1,      1,2,19990725,0557, 50.0487, 165.1317, 5566,    250.6,   3.4400,  33.9270,2,  33.9080,2,     29.0,2,    45.10,2,     0.02,2,   106.00,2,     3.22,2,-999,9,   2308.5,2,    7.251,2,   2319.6,2