BOTTLE,20120717MIRCJHATS
EXPOCODE,STNNBR,CASTNO,SAMPNO,BTLNBR,BTLNBR_FLAG_W,DATE,TIME,LATITUDE,LONGITUDE,DEPTH,CTDPRS,CTDTMP,CTDSAL,CTDSAL_FLAG_W,SALNTY,SALNTY_FLAG_W,OXYGEN,OXYGEN_FLAG_W,NO2+NO3,NO2+NO3_FLAG_W,NITRIT,NITRIT_FLAG_W,SILCAT,SILCAT_FLAG_W,PHSPHT,PHSPHT_FLAG_W,NH4,NH4_FLAG_W,ALKALI,ALKALI_FLAG_W,PH,PH_FLAG_W,TCARBN,TCARBN_FLAG_W
,,,,,,,,,,METERS,DBARS,,,,,,UMOL/KG,,UMOL/KG,,UMOL/KG,,UMOL/KG,,UMOL/KG,,UMOL/KG,,UMOL/KG,,,,UMOL/KG,
  49HO19990719, St_12,  1,     12,     12,2,19990807,0431, 40.0020, 175.4988, 5309,    299.4,   8.6400,  34.0250,2,  34.0780,2,    200.1,2,    18.28,2,    -0.00,3,    30.11,2,     1.37,2,-999,9,   2272.3,2,    7.731,2,   2128.9,2
  49HO19990719, St_12,  1,     11,     11,2,19990807,0431, 40.0020, 175.4988, 5309,    400.6,   6.7200,  34.1220,2,  34.0110,2,    153.4,2,    22.79,2,    -0.01,3,    49.32,2,     1.93,2,-999,9,   2275.9,2,    7.598,2,   2187.7,2
  49HO19990719, St_12,  1,     10,     10,2,19990807,0431, 40.0020, 175.4988, 5309,    498.9,   5.3700,  34.1920,2,  33.9970,2,    120.6,2,    31.39,2,     0.02,2,    67.20,2,     2.35,2,-999,9,   2299.7,2,    7.504,2,   2232.4,2
  49HO19990719, St_12,  1,      9,      9,2,19990807,0431, 40.0020, 175.4988, 5309,    598.5,   4.6500,  34.2520,2,  34.0580,2,     90.1,2,    35.56,2,    -0.00,3,    83.19,2,     2.64,2,-999,9,   2293.0,2,    7.432,2,   2269.6,2
  49HO19990719, St_12,  1,      8,      8,2,19990807,0431, 40.0020, 175.4988, 5309,    700.2,   4.2100,  34.2940,2,  34.1440,2,     61.5,2,    38.74,2,    -0.00,3,    99.08,2,     2.84,2,-999,9,   2326.2,2,    7.386,2,   2305.6,2
  49HO19990719, St_12,  1,      7,      7,2,19990807,0431, 40.0020, 175.4988, 5309,    799.9,   3.8000,  34.3390,2,  34.2230,2,     45.6,2,    41.10,2,     0.01,2,   111.79,2,     2.98,2,-999,9,   2343.7,2,    7.364,2,   2328.3,2
  49HO19990719, St_12,  1,      6,      6,2,19990807,0431, 40.0020, 175.4988, 5309,    996.5,   3.2600,  34.4080,2,  34.3410,2,     32.6,2,    41.79,2,    -0.00,3,   129.84,2,     3.08,2,-999,9,   2366.9,2,    7.347,2,   2355.8,2
  49HO19990719, St_12,  1,      5,      5,2,19990807,0431, 40.0020, 175.4988, 5309,   1250.7,   2.7600,  34.4790,2,  34.4320,2,     31.1,2,    43.28,2,    -0.00,3,   143.92,2,     3.10,2,-999,9,   2384.7,2,    7.349,2,   2372.3,2
  49HO19990719, St_12,  1,      4,      4,2,19990807,0431, 40.0020, 175.4988, 5309,   1500.5,   2.4100,  34.5340,2,  34.4950,2,     36.9,2,    43.49,2,     0.00,2,   154.58,2,     3.08,2,-999,9,   2397.4,2,    7.365,2,   2376.3,2
  49HO19990719, St_12,  1,      3,      3,2,19990807,0431, 40.0020, 175.4988, 5309,   1999.5,   1.9900,  34.6000,2,  34.5820,2,     61.7,2,  -999.00,9,     0.02,2,   162.74,2,     2.97,2,-999,9,   2410.0,2,    7.420,2,   2374.5,2
  49HO19990719, St_12,  1,      2,      2,2,19990807,0431, 40.0020, 175.4988, 5309,   2500.7,   1.7200,  34.6400,2,  34.6330,2,     92.5,2,    39.29,2,     0.01,2,   162.41,2,     2.81,2,-999,9,   2418.9,2,    7.481,2,   2353.6,2
  49HO19990719, St_12,  1,      1,      1,2,19990807,0431, 40.0020, 175.4988, 5309,   2998.7,   1.5700,  34.6640,2,  34.6610,2,    117.8,2,    37.09,2,     0.01,2,   157.78,2,     2.67,2,-999,9,   2419.7,2,    7.520,2,   2336.0,2
  49HO19990719, St_12,  2,      S,      S,2,19990807,0926, 39.9895, 175.5072, 5300,      0.0,  19.3000,  32.8960,2,  34.1200,2,    235.6,2,     0.96,2,     0.00,2,     1.30,2,     0.04,2,-999,9,   2256.2,2,    8.034,2,   1975.6,2
  49HO19990719, St_12,  2,     12,     12,2,19990807,0926, 39.9895, 175.5072, 5300,     10.4,  19.1800,  32.9070,2,  34.0910,2,    237.3,2,     0.89,2,    -0.01,3,     1.30,2,     0.04,2,-999,9,   2256.7,2,    8.038,2,   1973.6,2
  49HO19990719, St_12,  2,     11,     11,2,19990807,0926, 39.9895, 175.5072, 5300,     19.3,  16.9400,  32.9080,2,  34.2250,2,    256.4,2,     0.88,2,    -0.01,3,     1.40,2,     0.06,2,-999,9,   2269.8,2,    8.034,2,   1973.9,2
  49HO19990719, St_12,  2,     10,     10,2,19990807,0926, 39.9895, 175.5072, 5300,     29.3,  15.6800,  32.9060,2,  34.2850,2,    262.8,2,     0.93,2,    -0.01,3,     1.60,2,     0.10,2,-999,9,   2263.6,2,    8.019,2,   1988.0,2
  49HO19990719, St_12,  2,      9,      9,2,19990807,0926, 39.9895, 175.5072, 5300,     39.8,  14.5800,  33.0110,2,  34.2290,2,    256.2,2,     3.01,2,     0.28,2,     3.80,2,     0.29,2,-999,9,   2263.8,2,    7.979,2,   2009.5,2
  49HO19990719, St_12,  2,      8,      8,2,19990807,0926, 39.9895, 175.5072, 5300,     50.6,  13.8300,  33.0550,2,  34.3040,2,    245.3,2,     5.66,2,     0.68,2,     7.80,2,     0.45,2,-999,9,   2268.7,2,    7.942,2,   2030.4,2
  49HO19990719, St_12,  2,      7,      7,2,19990807,0926, 39.9895, 175.5072, 5300,     59.6,  12.3300,  33.0790,2,  34.1320,2,    253.2,2,     7.32,2,     0.43,2,    10.70,2,     0.61,2,-999,9,   2265.2,2,    7.910,2,   2044.9,2
  49HO19990719, St_12,  2,      6,      6,2,19990807,0926, 39.9895, 175.5072, 5300,     80.4,  11.7200,  33.1040,2,  34.2010,2,    245.0,2,     8.91,2,     0.06,2,    12.20,2,     0.69,2,-999,9,   2265.9,2,    7.890,2,   2052.6,2
  49HO19990719, St_12,  2,      5,      5,2,19990807,0926, 39.9895, 175.5072, 5300,    100.1,  11.2600,  33.1360,2,  34.1950,2,    247.0,2,     9.18,2,     0.00,2,    12.80,2,     0.72,2,-999,9,   2263.6,2,    7.880,2,   2055.3,2
  49HO19990719, St_12,  2,      4,      4,2,19990807,0926, 39.9895, 175.5072, 5300,    124.9,  11.2700,  33.4080,2,  34.2620,2,    230.1,2,    10.89,2,    -0.01,3,    15.00,2,     0.83,2,-999,9,   2270.0,2,    7.861,2,   2069.8,2
  49HO19990719, St_12,  2,      3,      3,2,19990807,0926, 39.9895, 175.5072, 5300,    149.3,  11.0800,  33.7220,2,  34.2910,2,    216.9,2,    12.41,2,    -0.01,3,    17.30,2,     0.92,2,-999,9,   2272.6,2,    7.840,2,   2085.3,2
  49HO19990719, St_12,  2,      2,      2,2,19990807,0926, 39.9895, 175.5072, 5300,    200.8,   9.2200,  33.8890,2,  33.9950,2,    257.7,2,    11.41,2,     0.01,2,    16.30,2,     0.90,2,-999,9,   2260.1,2,    7.841,2,   2068.5,2
  49HO19990719, St_12,  2,      1,      1,2,19990807,0926, 39.9895, 175.5072, 5300,    249.4,   8.9900,  33.9620,2,  34.0340,2,    232.6,2,    14.23,2,     0.01,2,    21.90,2,     1.11,2,-999,9,   2271.2,2,    7.796,2,   2095.4,2
  49HO19990719, St_13,  2,      S,      S,2,19990808,0538, 38.5027, 175.5007, 4522,      0.0,  21.1900,  32.8960,2,  34.0940,2,    227.7,2,     0.20,2,     0.00,2,     2.10,2,    -0.01,3,-999,9,   2250.2,2,    8.030,2,   1966.4,2
  49HO19990719, St_13,  2,     12,     12,2,19990808,0538, 38.5027, 175.5007, 4522,     10.1,  20.9200,  32.9070,2,  34.0420,2,    229.4,2,     0.10,2,    -0.02,3,     1.90,2,     0.02,2,-999,9,   2248.7,2,    8.035,2,   1962.8,2
  49HO19990719, St_13,  2,     11,     11,2,19990808,0538, 38.5027, 175.5007, 4522,     20.6,  19.5400,  32.9080,2,  34.1440,2,    244.5,2,     0.10,2,    -0.03,3,     1.40,2,     0.03,2,-999,9,   2257.4,2,    8.035,2,   1981.4,2
  49HO19990719, St_13,  2,     10,     10,2,19990808,0538, 38.5027, 175.5007, 4522,     30.0,  16.5100,  32.9060,2,  34.2730,2,    259.3,2,     0.10,2,    -0.01,3,     1.80,2,     0.06,2,-999,9,   2262.9,2,    8.030,2,   1980.2,2
  49HO19990719, St_13,  2,      9,      9,2,19990808,0538, 38.5027, 175.5007, 4522,     40.4,  15.6800,  33.0110,2,  34.3120,2,    259.3,2,     0.50,2,     0.06,2,     2.80,2,     0.11,2,-999,9,   2263.2,2,    8.015,2,   1991.7,2
  49HO19990719, St_13,  2,      8,      8,2,19990808,0538, 38.5027, 175.5007, 4522,     50.3,  14.6300,  33.0550,2,  34.3170,2,    245.6,2,     4.50,2,     0.63,2,     6.70,2,     0.35,2,-999,9,   2267.5,2,    7.961,2,   2021.0,2
  49HO19990719, St_13,  2,      7,      7,2,19990808,0538, 38.5027, 175.5007, 4522,     61.1,  13.9700,  33.0790,2,  34.3670,2,    234.4,2,     6.60,2,     0.21,2,     8.70,2,     0.46,2,-999,9,   2269.2,2,    7.936,2,   2039.6,2
  49HO19990719, St_13,  2,      6,      6,2,19990808,0538, 38.5027, 175.5007, 4522,     80.9,  13.0000,  33.1040,2,  34.3380,2,    230.3,2,     8.60,2,    -0.02,3,    10.90,2,     0.58,2,-999,9,   2269.3,2,    7.906,2,   2049.3,2
  49HO19990719, St_13,  2,      5,      5,2,19990808,0538, 38.5027, 175.5007, 4522,    101.9,  12.2900,  33.1360,2,  34.3010,2,    234.6,2,     9.40,2,    -0.03,3,    11.90,2,     0.64,2,-999,9,   2270.0,2,    7.892,2,   2060.1,2
  49HO19990719, St_13,  2,      4,      4,2,19990808,0538, 38.5027, 175.5007, 4522,    125.4,  11.5700,  33.4080,2,  34.2470,2,    240.0,2,    10.00,2,    -0.02,3,    12.90,2,     0.70,2,-999,9,   2274.7,2,    7.880,2,   2065.9,2
  49HO19990719, St_13,  2,      3,      3,2,19990808,0538, 38.5027, 175.5007, 4522,    150.4,  11.0700,  33.7220,2,  34.2040,2,    242.3,2,    10.60,2,    -0.03,3,    13.70,2,     0.75,2,-999,9,   2266.6,2,    7.871,2,   2068.0,2
  49HO19990719, St_13,  2,      2,      2,2,19990808,0538, 38.5027, 175.5007, 4522,    201.3,  10.1600,  33.8890,2,  34.0940,2,    251.5,2,    11.40,2,    -0.03,3,    15.00,2,     0.82,2,-999,9,   2270.7,2,    7.855,2,   2071.0,2
  49HO19990719, St_13,  2,      1,      1,2,19990808,0538, 38.5027, 175.5007, 4522,    249.5,   9.6900,  33.9620,2,  34.1110,2,    231.2,2,    13.80,2,    -0.02,3,    19.10,2,     0.98,2,-999,9,   2272.2,2,    7.820,2,   2087.2,2
  49HO19990719, St_13,  1,     12,     12,2,19990808,0957, 38.5447, 175.5970, 4522,    300.0,   8.8300,  34.0250,2,  34.1220,2,    204.7,2,    18.50,2,     0.00,2,    28.90,2,     1.31,2,-999,9,   2276.2,2,    7.757,2,   2120.9,2
  49HO19990719, St_13,  1,     11,     11,2,19990808,0957, 38.5447, 175.5970, 4522,    399.6,   6.9900,  34.1220,2,  34.0050,2,    161.6,2,    25.80,2,     0.00,2,    47.70,2,     1.84,2,-999,9,   2283.3,2,    7.637,2,   2180.0,2
  49HO19990719, St_13,  1,     10,     10,2,19990808,0957, 38.5447, 175.5970, 4522,    499.8,   5.5500,  34.1920,2,  34.0070,2,    117.7,2,    32.60,2,    -0.02,3,    69.50,2,     2.34,2,-999,9,   2296.9,2,    7.517,2,   2228.5,2
  49HO19990719, St_13,  1,      9,      9,2,19990808,0957, 38.5447, 175.5970, 4522,    600.6,   4.7200,  34.2520,2,  34.0540,2,     88.4,2,    37.10,2,     0.00,2,    85.60,2,     2.64,2,-999,9,   2312.6,2,    7.445,2,   2267.2,2
  49HO19990719, St_13,  1,      8,      8,2,19990808,0957, 38.5447, 175.5970, 4522,    700.5,   4.2900,  34.2940,2,  34.1290,2,     63.7,2,    39.10,2,    -0.01,3,    99.60,2,     2.84,2,-999,9,   2328.9,2,    7.397,2,   2299.8,2
  49HO19990719, St_13,  1,      7,      7,2,19990808,0957, 38.5447, 175.5970, 4522,    800.4,   3.9200,  34.3390,2,  34.1990,2,     47.5,2,    41.20,2,     0.00,2,   111.20,2,     2.93,2,-999,9,   2347.1,2,    7.369,2,   2326.7,2
  49HO19990719, St_13,  1,      6,      6,2,19990808,0957, 38.5447, 175.5970, 4522,    999.8,   3.4100,  34.4080,2,  34.3150,2,     36.0,2,    42.50,2,     0.00,2,   128.10,2,     3.04,2,-999,9,   2372.6,2,    7.357,2,   2346.6,2
  49HO19990719, St_13,  1,      5,      5,2,19990808,0957, 38.5447, 175.5970, 4522,   1249.6,   2.8100,  34.4790,2,  34.4150,2,     30.4,2,    43.80,2,     0.01,2,   145.10,2,     3.10,2,-999,9,   2393.8,2,    7.350,2,   2368.8,2
  49HO19990719, St_13,  1,      4,      4,2,19990808,0957, 38.5447, 175.5970, 4522,   1500.2,   2.4500,  34.5340,2,  34.4920,2,     37.2,2,    43.60,2,     0.01,2,   155.30,2,     3.08,2,-999,9,   2392.9,2,    7.367,2,   2381.2,2
  49HO19990719, St_13,  1,      3,      3,2,19990808,0957, 38.5447, 175.5970, 4522,   2000.6,   1.9800,  34.6000,2,  34.5810,2,     62.0,2,  -999.00,9,     0.01,2,   163.30,2,     2.96,2,-999,9,   2416.5,2,    7.420,2,   2368.7,2
  49HO19990719, St_13,  1,      2,      2,2,19990808,0957, 38.5447, 175.5970, 4522,   2499.6,   1.6900,  34.6400,2,  34.6350,2,     96.2,2,    40.20,2,     0.00,2,   158.80,2,     2.79,2,-999,9,   2418.4,2,    7.490,2,   2351.0,2
  49HO19990719, St_13,  1,      1,      1,2,19990808,0957, 38.5447, 175.5970, 4522,   3001.2,   1.5400,  34.6640,2,  34.6610,2,    121.2,2,    38.40,2,     0.01,2,   156.80,2,     2.67,2,-999,9,   -999.0,9,    7.538,2,   2336.6,2
  49HO19990719, St_14,  1,      S,      S,2,19990809,2041, 39.9993, 169.9993, 4865,      0.0,  17.1500,  32.8960,4,  33.5640,2,    251.2,2,     3.09,2,     0.06,2,     6.60,2,     0.39,2,-999,9,   2247.5,2,    7.983,2,   1993.1,2
  49HO19990719, St_14,  1,     12,     12,2,19990809,2041, 39.9993, 169.9993, 4865,     48.7,  12.0200,  32.9070,4,  33.8840,2,    262.5,2,     6.58,2,     0.40,2,     9.10,2,     0.65,2,-999,9,   2250.4,2,    7.904,2,   2036.0,2
  49HO19990719, St_14,  1,     11,     11,2,19990809,2041, 39.9993, 169.9993, 4865,     99.1,   9.1100,  32.9080,4,  33.9090,2,    259.7,2,    12.40,2,     0.02,2,    13.40,2,     0.92,2,-999,9,   2273.7,2,    7.828,2,   2074.3,2
  49HO19990719, St_14,  1,     10,     10,2,19990809,2041, 39.9993, 169.9993, 4865,    198.2,   7.0200,  32.9060,4,  33.8130,2,    243.3,2,    17.61,2,     0.00,2,    24.30,2,     1.30,2,-999,9,   2266.2,2,    7.748,2,   2112.9,2
  49HO19990719, St_14,  1,      9,      9,2,19990809,2041, 39.9993, 169.9993, 4865,    299.6,   5.9700,  33.0110,4,  33.8680,2,    179.4,2,    25.72,2,     0.00,2,    44.00,2,     1.88,2,-999,9,   2276.5,2,    7.611,2,   2178.2,2
  49HO19990719, St_14,  1,      8,      8,2,19990809,2041, 39.9993, 169.9993, 4865,    399.3,   5.0600,  33.0550,4,  33.9450,2,    124.3,2,  -999.00,9,     0.00,2,    65.60,2,     2.35,2,-999,9,   2292.5,2,    7.493,2,   2237.6,2
  49HO19990719, St_14,  1,      7,      7,2,19990809,2041, 39.9993, 169.9993, 4865,    499.0,   4.3900,  33.0790,4,-999.0000,9,     85.8,2,  -999.00,9,     0.00,2,    81.90,2,     2.68,2,-999,9,   2308.8,2,    7.420,2,   2278.5,2
  49HO19990719, St_14,  1,      6,      6,2,19990809,2041, 39.9993, 169.9993, 4865,    599.0,   3.9500,  33.1040,4,  34.1230,2,     57.1,2,    40.52,2,     0.01,2,    98.40,2,     2.88,2,-999,9,   2325.7,2,    7.372,2,   2306.2,2
  49HO19990719, St_14,  1,      5,      5,2,19990809,2041, 39.9993, 169.9993, 4865,    799.6,   3.5100,  33.1360,4,  34.2730,2,     39.3,2,    42.77,2,     0.00,2,   115.00,2,     2.97,2,-999,9,   2354.5,2,    7.362,2,   2340.5,2
  49HO19990719, St_14,  1,      4,      4,2,19990809,2041, 39.9993, 169.9993, 4865,    999.5,   3.0500,  33.4080,4,  34.3620,2,     32.5,2,    43.27,2,    -0.01,3,   129.30,2,     3.04,2,-999,9,   2373.8,2,    7.355,2,   2360.0,2
  49HO19990719, St_14,  1,      3,      3,2,19990809,2041, 39.9993, 169.9993, 4865,   1499.2,   2.3200,  33.7220,4,  34.5110,2,     41.7,2,    43.45,2,    -0.01,3,   151.40,2,     3.03,2,-999,9,   2400.6,2,    7.381,2,   2378.4,2
  49HO19990719, St_14,  1,      2,      2,2,19990809,2041, 39.9993, 169.9993, 4865,   1999.1,   1.9400,  33.8890,4,  34.5850,2,     67.0,2,    41.92,2,    -0.01,3,   155.90,2,     2.92,2,-999,9,   2415.7,2,    7.446,2,   2374.0,2
  49HO19990719, St_14,  1,      1,      1,2,19990809,2041, 39.9993, 169.9993, 4865,   3000.7,   1.5600,  33.9620,4,  34.6640,2,    123.6,2,    38.32,2,    -0.01,3,   149.40,2,     2.64,2,-999,9,   2421.5,2,    7.533,2,   2336.2,2
  49HO19990719, St_15,  1,      S,      S,2,19990810,0721, 41.5052, 169.9938, 5190,      0.0,  17.5100,  32.8960,4,  33.8660,2,    247.9,2,     0.40,2,     0.00,2,     0.50,2,     0.08,2,-999,9,   2253.9,2,    8.023,2,   1978.0,2
  49HO19990719, St_15,  1,     12,     12,2,19990810,0721, 41.5052, 169.9938, 5190,     48.6,  11.9300,  32.9070,4,  33.9810,2,    256.4,2,     6.70,2,     0.46,2,     8.40,2,     0.66,2,-999,9,   2260.2,2,    7.906,2,   2051.3,2
  49HO19990719, St_15,  1,     11,     11,2,19990810,0721, 41.5052, 169.9938, 5190,     98.7,  10.6300,  32.9080,4,  34.1500,2,    241.8,2,    11.60,2,     0.00,2,    12.10,2,     0.85,2,-999,9,   2263.4,2,    7.856,2,   2082.3,2
  49HO19990719, St_15,  1,     10,     10,2,19990810,0721, 41.5052, 169.9938, 5190,    202.8,   8.1800,  32.9060,4,  34.0020,2,    242.7,2,    15.70,2,     0.00,2,    19.90,2,     1.14,2,-999,9,   2262.6,2,    7.787,2,   2109.0,2
  49HO19990719, St_15,  1,      9,      9,2,19990810,0721, 41.5052, 169.9938, 5190,    299.5,   6.7900,  33.0110,4,  33.9140,2,    197.9,2,    22.50,2,     0.02,2,    35.50,2,     1.64,2,-999,9,   2272.7,2,    7.678,2,   2154.4,2
  49HO19990719, St_15,  1,      8,      8,2,19990810,0721, 41.5052, 169.9938, 5190,    400.0,   5.8600,  33.0550,4,  33.9490,2,    145.2,2,    29.70,2,     0.00,2,    54.30,2,     2.13,2,-999,9,   2287.5,2,    7.560,2,   2214.1,2
  49HO19990719, St_15,  1,      7,      7,2,19990810,0721, 41.5052, 169.9938, 5190,    499.3,   4.9100,  33.0790,4,  34.0270,2,    103.4,2,    35.30,2,     0.00,2,    72.90,2,     2.51,2,-999,9,   2305.2,2,    7.473,2,   2257.2,2
  49HO19990719, St_15,  1,      6,      6,2,19990810,0721, 41.5052, 169.9938, 5190,    600.6,   4.4900,  33.1040,4,  34.0970,2,     77.5,2,    38.10,2,    -0.02,3,    86.40,2,     2.71,2,-999,9,   2318.5,2,    7.426,2,   2287.9,2
  49HO19990719, St_15,  1,      5,      5,2,19990810,0721, 41.5052, 169.9938, 5190,    799.7,   3.7700,  33.1360,4,  34.2520,2,     47.1,2,    41.60,2,    -0.01,3,   110.70,2,     2.93,2,-999,9,   2349.7,2,    7.377,2,   2334.7,2
  49HO19990719, St_15,  1,      4,      4,2,19990810,0721, 41.5052, 169.9938, 5190,   1000.0,   3.2100,  33.4080,4,  34.3400,2,     36.0,2,  -999.00,9,     0.00,2,   127.30,2,     3.02,2,-999,9,   2367.9,2,    7.363,2,   2352.4,2
  49HO19990719, St_15,  1,      3,      3,2,19990810,0721, 41.5052, 169.9938, 5190,   1498.7,   2.3900,  33.7220,4,  34.5030,2,     42.6,2,    43.30,2,     0.01,2,   147.90,2,     3.03,2,-999,9,   2401.0,2,    7.384,2,   2376.7,2
  49HO19990719, St_15,  1,      2,      2,2,19990810,0721, 41.5052, 169.9938, 5190,   1999.7,   2.0200,  33.8890,4,  34.5770,2,     63.4,2,    42.40,2,     0.00,2,   152.20,2,     2.94,2,-999,9,   2412.8,2,    7.430,2,   2376.2,2
  49HO19990719, St_15,  1,      1,      1,2,19990810,0721, 41.5052, 169.9938, 5190,   3000.4,   1.5700,  33.9620,4,  34.6650,2,    122.7,2,    38.50,2,     0.00,2,   150.60,2,     2.65,2,-999,9,   2422.4,2,    7.530,2,   2335.3,2