BOTTLE,20120717MIRCJHATS
EXPOCODE,STNNBR,CASTNO,SAMPNO,BTLNBR,BTLNBR_FLAG_W,DATE,TIME,LATITUDE,LONGITUDE,DEPTH,CTDPRS,CTDTMP,CTDSAL,CTDSAL_FLAG_W,SALNTY,SALNTY_FLAG_W,OXYGEN,OXYGEN_FLAG_W,NO2+NO3,NO2+NO3_FLAG_W,NITRIT,NITRIT_FLAG_W,SILCAT,SILCAT_FLAG_W,PHSPHT,PHSPHT_FLAG_W,NH4,NH4_FLAG_W,ALKALI,ALKALI_FLAG_W,PH,PH_FLAG_W,TCARBN,TCARBN_FLAG_W
,,,,,,,,,,METERS,DBARS,,,,,,UMOL/KG,,UMOL/KG,,UMOL/KG,,UMOL/KG,,UMOL/KG,,UMOL/KG,,UMOL/KG,,,,UMOL/KG,
  49HO19990719,  St_6,  1,     12,     12,2,19990729,0322, 48.0012, 173.4475, 5730,    299.5,   3.5500,  34.0250,2,  34.0140,2,     32.2,2,  -999.00,9,     0.02,2,   103.60,2,     3.13,2,-999,9,   2308.5,2,    7.273,2,   2327.3,2
  49HO19990719,  St_6,  1,     11,     11,2,19990729,0322, 48.0012, 173.4475, 5730,    400.4,   3.5400,  34.1220,2,  34.1120,2,     26.8,2,    45.00,2,     0.00,2,   100.10,2,     3.13,2,-999,9,   2326.1,2,    7.286,2,   2336.4,2
  49HO19990719,  St_6,  1,     10,     10,2,19990729,0322, 48.0012, 173.4475, 5730,    499.5,   3.4400,  34.1920,2,  34.1720,2,     23.8,2,    44.80,2,     0.00,2,   121.10,2,     3.15,2,-999,9,   2328.2,2,    7.302,2,   2343.5,2
  49HO19990719,  St_6,  1,      9,      9,2,19990729,0322, 48.0012, 173.4475, 5730,    599.2,   3.2600,  34.2520,2,  34.2370,2,     21.9,2,    43.80,2,     0.01,2,   129.40,2,     3.16,2,-999,9,   2341.8,2,    7.298,2,   2356.3,2
  49HO19990719,  St_6,  1,      8,      8,2,19990729,0322, 48.0012, 173.4475, 5730,    699.6,   3.0800,  34.2940,2,  34.2950,2,     20.4,2,    44.90,2,     0.01,2,   137.10,2,     3.16,2,-999,9,   2359.8,2,    7.307,2,   2361.2,2
  49HO19990719,  St_6,  1,      7,      7,2,19990729,0322, 48.0012, 173.4475, 5730,    799.7,   2.9500,  34.3390,2,  34.3410,2,     22.0,2,    44.90,2,     0.01,2,   138.60,2,     3.16,2,-999,9,   2367.7,2,    7.315,2,   2366.0,2
  49HO19990719,  St_6,  1,      6,      6,2,19990729,0322, 48.0012, 173.4475, 5730,    999.5,   2.6800,  34.4080,2,  34.4120,2,     23.1,2,    44.90,2,     0.00,2,   149.60,2,     3.16,2,-999,9,   2384.1,2,    7.327,2,   2373.4,2
  49HO19990719,  St_6,  1,      5,      5,2,19990729,0322, 48.0012, 173.4475, 5730,   1250.0,   2.3700,  34.4790,2,  34.4980,2,     34.1,2,    44.40,2,     0.01,2,   156.20,2,     3.10,2,-999,9,   2392.5,2,    7.351,2,   2376.3,2
  49HO19990719,  St_6,  1,      4,      4,2,19990729,0322, 48.0012, 173.4475, 5730,   1500.2,   2.1200,  34.5340,2,  34.5510,2,     46.7,2,    43.10,2,     0.02,2,   159.10,2,     3.04,2,-999,9,   2401.2,2,    7.384,2,   2380.3,2
  49HO19990719,  St_6,  1,      3,      3,2,19990729,0322, 48.0012, 173.4475, 5730,   1999.2,   1.8400,  34.6000,2,  34.6100,2,     74.8,2,    41.30,2,     0.01,2,   163.40,2,     2.94,2,-999,9,   2417.7,2,    7.443,2,   2364.3,2
  49HO19990719,  St_6,  1,      2,      2,2,19990729,0322, 48.0012, 173.4475, 5730,   2500.3,   1.6500,  34.6400,2,  34.6480,2,    101.6,2,    40.10,2,     0.00,2,   160.60,2,     2.78,2,-999,9,   2418.6,2,    7.494,2,   2353.0,2
  49HO19990719,  St_6,  1,      1,      1,2,19990729,0322, 48.0012, 173.4475, 5730,   2999.6,   1.5400,  34.6640,2,  34.6740,2,    122.2,2,    38.70,2,     0.00,2,   156.30,2,     2.68,2,-999,9,   2421.0,2,    7.533,2,   2338.5,2
  49HO19990719,  St_6,  2,      S,      S,2,19990729,0546, 48.0125, 173.4775, 5797,      0.0,   8.5500,  32.8960,2,  32.6550,2,    302.8,2,    18.90,2,     0.27,2,    39.30,2,     1.55,2,-999,9,   2215.6,2,    7.819,2,   2042.4,2
  49HO19990719,  St_6,  2,     12,     12,2,19990729,0546, 48.0125, 173.4775, 5797,      9.9,   7.9700,  32.9070,2,  32.6930,2,    307.5,2,    18.70,2,     0.26,2,    38.70,2,     1.58,2,-999,9,   2210.3,2,    7.819,2,   2043.1,2
  49HO19990719,  St_6,  2,     11,     11,2,19990729,0546, 48.0125, 173.4775, 5797,     19.8,   7.8300,  32.9080,2,  32.7370,2,    308.7,2,    19.00,2,     0.27,2,    39.00,2,     1.58,2,-999,9,   2207.8,2,    7.818,2,   2047.9,2
  49HO19990719,  St_6,  2,     10,     10,2,19990729,0546, 48.0125, 173.4775, 5797,     30.1,   7.6000,  32.9060,2,  32.8020,2,    312.3,2,    19.20,2,     0.26,2,    40.00,2,     1.61,2,-999,9,   2211.1,2,    7.807,2,   2052.7,2
  49HO19990719,  St_6,  2,      9,      9,2,19990729,0546, 48.0125, 173.4775, 5797,     40.3,   5.7700,  33.0110,2,  32.9040,2,    321.1,2,    20.90,2,     0.28,2,    40.50,2,     1.73,2,-999,9,   2215.4,2,    7.776,2,   2070.0,2
  49HO19990719,  St_6,  2,      8,      8,2,19990729,0546, 48.0125, 173.4775, 5797,     49.8,   4.9500,  33.0550,2,  32.9680,2,    320.8,2,    20.90,2,     0.28,2,    40.60,2,     1.72,2,-999,9,   2222.0,2,    7.743,2,   2087.8,2
  49HO19990719,  St_6,  2,      7,      7,2,19990729,0546, 48.0125, 173.4775, 5797,     59.4,   4.2900,  33.0790,2,  33.0070,2,    321.0,2,    22.40,2,     0.47,2,    40.90,2,     1.83,2,-999,9,   2225.6,2,    7.719,2,   2093.4,2
  49HO19990719,  St_6,  2,      6,      6,2,19990729,0546, 48.0125, 173.4775, 5797,     80.4,   3.0400,  33.1040,2,  33.0590,2,    318.3,2,    24.80,2,     0.06,2,    42.80,2,     1.91,2,-999,9,   2231.0,2,    7.678,2,   2112.3,2
  49HO19990719,  St_6,  2,      5,      5,2,19990729,0546, 48.0125, 173.4775, 5797,     99.5,   2.4700,  33.1360,2,  33.0860,2,    316.9,2,    25.90,2,     0.02,2,    45.80,2,     2.03,2,-999,9,   2230.6,2,    7.649,2,   2120.4,2
  49HO19990719,  St_6,  2,      4,      4,2,19990729,0546, 48.0125, 173.4775, 5797,    125.0,   2.2300,  33.4080,2,  33.1870,2,    282.2,2,    27.80,2,     0.02,2,    50.70,2,     2.14,2,-999,9,   2236.6,2,    7.597,2,   2147.1,2
  49HO19990719,  St_6,  2,      3,      3,2,19990729,0546, 48.0125, 173.4775, 5797,    149.3,   2.7700,  33.7220,2,  33.4240,2,    201.0,2,    33.10,2,     0.02,2,    64.10,2,     2.45,2,-999,9,   2256.0,2,    7.483,2,   2201.4,2
  49HO19990719,  St_6,  2,      2,      2,2,19990729,0546, 48.0125, 173.4775, 5797,    199.8,   3.5300,  33.8890,2,  33.7800,2,     87.9,2,    40.00,2,     0.02,2,    83.80,2,     2.90,2,-999,9,   2283.4,2,    7.328,2,   2279.0,2
  49HO19990719,  St_6,  2,      1,      1,2,19990729,0546, 48.0125, 173.4775, 5797,    249.3,   3.6200,  33.9620,2,  33.8840,2,     46.7,2,    43.70,2,     0.02,2,    91.60,2,     3.10,2,-999,9,   2298.0,2,    7.279,2,   2299.7,2
  49HO19990719,  St_7,  1,     12,     12,2,19990801,0314, 47.4992, 175.4983, 5558,    300.1,   3.4300,  34.0250,2,  33.9170,2,     54.3,2,  -999.00,9,     0.00,2,    96.80,2,     3.04,2,-999,9,   2307.1,2,    7.301,2,   2307.4,2
  49HO19990719,  St_7,  1,     11,     11,2,19990801,0314, 47.4992, 175.4983, 5558,    399.5,   3.5400,  34.1220,2,  34.0650,2,     29.6,2,    45.10,2,     0.00,2,   109.30,2,     3.15,2,-999,9,   2325.2,2,    7.289,2,   2328.3,2
  49HO19990719,  St_7,  1,     10,     10,2,19990801,0314, 47.4992, 175.4983, 5558,    499.9,   3.3900,  34.1920,2,  34.1750,2,     28.2,2,    42.10,2,    -0.01,3,   117.10,2,     3.14,2,-999,9,   2338.0,2,    7.297,2,   -999.0,9
  49HO19990719,  St_7,  1,      9,      9,2,19990801,0314, 47.4992, 175.4983, 5558,    600.9,   3.2400,  34.2520,2,  34.2210,2,     21.8,2,  -999.00,9,     0.00,2,   124.70,2,     3.13,2,-999,9,   2332.2,2,    7.302,2,   -999.0,9
  49HO19990719,  St_7,  1,      8,      8,2,19990801,0314, 47.4992, 175.4983, 5558,    700.2,   3.1100,  34.2940,2,  34.2830,2,     25.8,2,    43.90,2,    -0.01,3,   116.20,2,     3.16,2,-999,9,   2362.1,2,    7.311,2,   2352.8,2
  49HO19990719,  St_7,  1,      7,      7,2,19990801,0314, 47.4992, 175.4983, 5558,    799.3,   2.9800,  34.3390,2,  34.3330,2,     23.2,2,    42.60,2,     0.00,2,   136.70,2,     3.15,2,-999,9,   2372.1,2,    7.318,2,   2360.6,2
  49HO19990719,  St_7,  1,      6,      6,2,19990801,0314, 47.4992, 175.4983, 5558,   1000.0,   2.6700,  34.4080,2,  34.4200,2,     28.5,2,    45.80,2,     0.01,2,   147.20,2,     3.10,2,-999,9,   2380.4,2,    7.329,2,   2362.8,2
  49HO19990719,  St_7,  1,      5,      5,2,19990801,0314, 47.4992, 175.4983, 5558,   1249.5,   2.3800,  34.4790,2,  34.4770,2,     37.2,2,    43.10,2,     0.01,2,   153.80,2,     3.04,2,-999,9,   2396.0,2,    7.356,2,   -999.0,9
  49HO19990719,  St_7,  1,      4,      4,2,19990801,0314, 47.4992, 175.4983, 5558,   1500.6,   2.1800,  34.5340,2,  34.5290,2,     45.6,2,    42.90,2,     0.00,2,   155.10,2,     3.04,2,-999,9,   2407.3,2,    7.380,2,   2359.6,2
  49HO19990719,  St_7,  1,      3,      3,2,19990801,0314, 47.4992, 175.4983, 5558,   2000.0,   1.8900,  34.6000,2,  34.5980,2,     71.2,2,    41.00,2,    -0.01,3,   157.40,2,     2.92,2,-999,9,   2415.9,2,    7.434,2,   2355.6,2
  49HO19990719,  St_7,  1,      2,      2,2,19990801,0314, 47.4992, 175.4983, 5558,   2499.5,   1.6800,  34.6400,2,  34.6500,2,     97.3,2,    40.60,2,     0.00,2,   156.10,2,     2.80,2,-999,9,   2422.7,2,    7.484,2,   2347.6,2
  49HO19990719,  St_7,  1,      1,      1,2,19990801,0314, 47.4992, 175.4983, 5558,   3001.1,   1.5600,  34.6640,2,-999.0000,9,    119.3,2,    37.50,2,     0.00,2,   154.00,2,     2.70,2,-999,9,   2423.4,2,    7.525,2,   2334.2,2
  49HO19990719,  St_7,  2,      S,      S,2,19990801,0614, 47.5338, 175.4978, 5598,      0.0,   8.3200,  32.8960,2,  32.7610,2,    303.1,2,    13.60,2,     0.19,2,    37.00,2,     1.48,2,-999,9,   2213.2,2,    7.806,2,   2037.1,2
  49HO19990719,  St_7,  2,     12,     12,2,19990801,0614, 47.5338, 175.4978, 5598,     10.0,   8.3100,  32.9070,2,  32.8280,2,    302.7,2,    13.90,2,     0.15,2,    36.60,2,     1.51,2,-999,9,   2218.4,2,    7.817,2,   2035.4,2
  49HO19990719,  St_7,  2,     11,     11,2,19990801,0614, 47.5338, 175.4978, 5598,     19.6,   7.9500,  32.9080,2,  32.7890,2,    304.6,2,    16.00,2,     0.16,2,    36.60,2,     1.53,2,-999,9,   2222.0,2,    7.815,2,   2038.6,2
  49HO19990719,  St_7,  2,     10,     10,2,19990801,0614, 47.5338, 175.4978, 5598,     29.3,   7.8500,  32.9060,2,  32.7710,2,    305.5,2,    16.20,2,     0.18,2,    36.70,2,     1.56,2,-999,9,   2222.7,2,    7.806,2,   2046.3,2
  49HO19990719,  St_7,  2,      9,      9,2,19990801,0614, 47.5338, 175.4978, 5598,     39.9,   5.2700,  33.0110,2,  32.9390,2,    319.7,2,    18.10,2,     0.21,2,    39.70,2,     1.70,2,-999,9,   2230.5,2,    7.763,2,   2068.5,2
  49HO19990719,  St_7,  2,      8,      8,2,19990801,0614, 47.5338, 175.4978, 5598,     49.9,   4.6100,  33.0550,2,  33.0010,2,    326.0,2,    19.00,2,     0.27,2,    39.90,2,     1.71,2,-999,9,   2232.9,2,    7.744,2,   2074.4,2
  49HO19990719,  St_7,  2,      7,      7,2,19990801,0614, 47.5338, 175.4978, 5598,     61.7,   4.0500,  33.0790,2,  33.0110,2,    320.1,2,    17.80,2,     0.45,2,    40.60,2,     1.77,2,-999,9,   2236.3,2,    7.717,2,   2086.6,2
  49HO19990719,  St_7,  2,      6,      6,2,19990801,0614, 47.5338, 175.4978, 5598,     81.8,   2.9300,  33.1040,2,  33.1470,2,    316.9,2,    22.40,2,     0.03,2,    43.20,2,     1.91,2,-999,9,   2234.7,2,    7.680,2,   2111.2,2
  49HO19990719,  St_7,  2,      5,      5,2,19990801,0614, 47.5338, 175.4978, 5598,    101.2,   2.2100,  33.1360,2,  33.0850,2,    317.3,2,    24.10,2,     0.01,2,    46.40,2,     2.02,2,-999,9,   2237.4,2,    7.646,2,   2123.9,2
  49HO19990719,  St_7,  2,      4,      4,2,19990801,0614, 47.5338, 175.4978, 5598,    126.1,   2.2600,  33.4080,2,  33.1250,2,    309.4,2,    24.80,2,     0.00,2,    47.70,2,     2.04,2,-999,9,   2240.6,2,    7.630,2,   2126.7,2
  49HO19990719,  St_7,  2,      3,      3,2,19990801,0614, 47.5338, 175.4978, 5598,    148.2,   2.5400,  33.7220,2,  33.2780,2,    260.1,2,    27.50,2,     0.00,2,    54.90,2,     2.22,2,-999,9,   2250.6,2,    7.565,2,   2155.1,2
  49HO19990719,  St_7,  2,      2,      2,2,19990801,0614, 47.5338, 175.4978, 5598,    200.2,   3.3800,  33.8890,2,  33.7330,2,     98.5,2,    36.60,2,     0.00,2,    81.80,2,     2.84,2,-999,9,   2282.8,2,    7.352,2,   2263.6,2
  49HO19990719,  St_7,  2,      1,      1,2,19990801,0614, 47.5338, 175.4978, 5598,    251.5,   3.4700,  33.9620,2,  33.8480,2,     67.1,2,    40.70,2,     0.00,2,    89.20,2,     2.99,2,-999,9,   2296.3,2,    7.311,2,   2289.2,2
  49HO19990719,  St_8,  1,     12,     12,2,19990802,0412, 46.0010, 175.5052, 5665,    398.5,   3.8900,  34.0250,2,  33.9100,2,     84.2,2,    39.20,2,     0.01,2,    84.50,2,     2.72,2,-999,9,   2303.0,2,    7.372,2,   2283.3,2
  49HO19990719,  St_8,  1,     11,     11,2,19990802,0412, 46.0010, 175.5052, 5665,    499.0,   3.7800,  34.1220,2,  34.0300,2,     58.2,2,    41.60,2,     0.01,2,    99.00,2,     2.83,2,-999,9,   2321.7,2,    7.338,2,   2304.7,2
  49HO19990719,  St_8,  1,     10,     10,2,19990802,0412, 46.0010, 175.5052, 5665,    599.5,   3.6000,  34.1920,2,  34.1270,2,     40.6,2,    42.60,2,     0.02,2,   110.10,2,     2.86,2,-999,9,   2334.7,2,    7.325,2,   2329.1,2
  49HO19990719,  St_8,  1,      9,      9,2,19990802,0412, 46.0010, 175.5052, 5665,    700.2,   3.4200,  34.2520,2,  34.2080,2,     33.4,2,    43.20,2,     0.01,2,   118.40,2,     2.98,2,-999,9,   2346.7,2,    7.327,2,   2338.1,2
  49HO19990719,  St_8,  1,      8,      8,2,19990802,0412, 46.0010, 175.5052, 5665,    799.3,   3.2300,  34.2940,2,  34.2710,2,     29.8,2,    43.80,2,     0.01,2,   122.30,2,     3.03,2,-999,9,   2359.4,2,    7.329,2,   2352.6,2
  49HO19990719,  St_8,  1,      7,      7,2,19990802,0412, 46.0010, 175.5052, 5665,    999.1,   2.9100,  34.3390,2,  34.3590,2,     30.1,2,    43.80,2,     0.04,2,   136.90,2,     3.02,2,-999,9,   2378.3,2,    7.339,2,   2358.8,2
  49HO19990719,  St_8,  1,      6,      6,2,19990802,0412, 46.0010, 175.5052, 5665,   1249.4,   2.5400,  34.4080,2,  34.4310,2,     32.8,2,    44.20,2,     0.02,2,   146.80,2,     3.00,2,-999,9,   2392.6,2,    7.350,2,   2375.2,2
  49HO19990719,  St_8,  1,      5,      5,2,19990802,0412, 46.0010, 175.5052, 5665,   1492.4,   2.3000,  34.4790,2,  34.4970,2,     40.2,2,    44.00,2,     0.00,2,   152.70,2,     2.96,2,-999,9,   2401.8,2,    7.367,2,   2377.5,2
  49HO19990719,  St_8,  1,      4,      4,2,19990802,0412, 46.0010, 175.5052, 5665,   1499.4,   2.3000,  34.5340,2,  34.4970,2,     40.0,2,    43.10,2,    -0.01,3,   152.30,2,     2.97,2,-999,9,   2401.7,2,    7.374,2,   2376.8,2
  49HO19990719,  St_8,  1,      3,      3,2,19990802,0412, 46.0010, 175.5052, 5665,   1999.9,   1.9500,  34.6000,2,  34.5800,2,     66.4,2,    42.10,2,     0.00,2,   157.40,2,     2.87,2,-999,9,   2416.0,2,    7.423,2,   2371.4,2
  49HO19990719,  St_8,  1,      2,      2,2,19990802,0412, 46.0010, 175.5052, 5665,   2500.7,   1.7200,  34.6400,2,  34.6240,2,     92.8,2,    40.40,2,     0.01,2,   156.50,2,     2.75,2,-999,9,   2422.2,2,    7.478,2,   2361.0,2
  49HO19990719,  St_8,  1,      1,      1,2,19990802,0412, 46.0010, 175.5052, 5665,   3000.2,   1.5900,  34.6640,2,  34.6580,2,    115.4,2,    39.10,2,     0.02,2,   153.30,2,     2.63,2,-999,9,   2423.0,2,    7.516,2,   2342.1,2
  49HO19990719,  St_8,  2,      S,      S,2,19990802,0632, 46.0068, 175.4903, 5665,      0.0,   8.8900,  32.8960,2,  32.8680,2,    294.7,2,    13.70,2,     0.23,2,    22.80,2,     1.22,2,-999,9,   2219.0,2,    7.817,2,   2045.1,2
  49HO19990719,  St_8,  2,     12,     12,2,19990802,0632, 46.0068, 175.4903, 5665,      9.8,   8.9000,  32.9070,2,  32.8670,2,    294.8,2,    13.90,2,     0.32,2,    22.70,2,     1.23,2,-999,9,   2218.3,2,    7.829,2,   2038.3,2
  49HO19990719,  St_8,  2,     11,     11,2,19990802,0632, 46.0068, 175.4903, 5665,     19.4,   8.8300,  32.9080,2,  32.8700,2,    294.2,2,    13.80,2,     0.20,2,    22.80,2,     1.25,2,-999,9,   2218.0,2,    7.828,2,   2042.6,2
  49HO19990719,  St_8,  2,     10,     10,2,19990802,0632, 46.0068, 175.4903, 5665,     30.4,   8.5400,  32.9060,2,  32.8870,2,    297.8,2,    13.90,2,     0.24,2,    23.00,2,     1.23,2,-999,9,   2218.8,2,    7.826,2,   -999.0,9
  49HO19990719,  St_8,  2,      9,      9,2,19990802,0632, 46.0068, 175.4903, 5665,     39.2,   6.9800,  33.0110,2,  32.9390,2,    309.3,2,    14.50,2,     0.26,2,    24.60,2,     1.32,2,-999,9,   2223.9,2,    7.811,2,   2050.3,2
  49HO19990719,  St_8,  2,      8,      8,2,19990802,0632, 46.0068, 175.4903, 5665,     49.3,   5.3400,  33.0550,2,  33.0130,2,    314.1,2,    16.10,2,     0.56,2,    25.80,2,     1.38,2,-999,9,   2231.8,2,    7.783,2,   2062.3,2
  49HO19990719,  St_8,  2,      7,      7,2,19990802,0632, 46.0068, 175.4903, 5665,     73.7,   4.5400,  33.0790,2,  33.0370,2,    312.5,2,    17.70,2,     0.22,2,    28.20,2,     1.42,2,-999,9,   2229.5,2,    7.755,2,   2078.9,2
  49HO19990719,  St_8,  2,      6,      6,2,19990802,0632, 46.0068, 175.4903, 5665,     99.6,   4.0800,  33.1040,2,  33.0390,2,    311.8,2,    18.60,2,     0.06,2,    30.40,2,     1.50,2,-999,9,   2230.2,2,    7.742,2,   2080.6,2
  49HO19990719,  St_8,  2,      5,      5,2,19990802,0632, 46.0068, 175.4903, 5665,    123.6,   3.6300,  33.1360,2,  33.0430,2,    312.7,2,    19.70,2,     0.00,2,    32.70,2,     1.57,2,-999,9,   2231.0,2,    7.729,2,   2087.8,2
  49HO19990719,  St_8,  2,      4,      4,2,19990802,0632, 46.0068, 175.4903, 5665,    148.8,   3.3800,  33.4080,2,  33.0360,2,    315.3,2,    20.90,2,     0.01,2,    35.10,2,     1.62,2,-999,9,   2231.2,2,    7.716,2,   2094.5,2
  49HO19990719,  St_8,  2,      3,      3,2,19990802,0632, 46.0068, 175.4903, 5665,    199.9,   3.4300,  33.7220,2,  33.2440,2,    277.3,2,    24.50,2,     0.04,2,    44.00,2,     1.83,2,-999,9,   2245.4,2,    7.653,2,   2130.7,2
  49HO19990719,  St_8,  2,      2,      2,2,19990802,0632, 46.0068, 175.4903, 5665,    248.5,   4.3200,  33.8890,2,  33.6570,2,    180.5,2,  -999.00,9,    -0.01,3,    56.40,2,     2.10,2,-999,9,   2272.2,2,    7.536,2,   2192.0,2
  49HO19990719,  St_8,  2,      1,      1,2,19990802,0632, 46.0068, 175.4903, 5665,    300.7,   4.0800,  33.9620,2,  33.7530,2,    135.9,2,    34.00,2,     0.00,2,    68.30,2,     2.38,2,-999,9,   2284.5,2,    7.453,2,   2229.6,2