BOTTLE,20120717MIRCJHATS
EXPOCODE,STNNBR,CASTNO,SAMPNO,BTLNBR,BTLNBR_FLAG_W,DATE,TIME,LATITUDE,LONGITUDE,DEPTH,CTDPRS,CTDTMP,CTDSAL,CTDSAL_FLAG_W,SALNTY,SALNTY_FLAG_W,OXYGEN,OXYGEN_FLAG_W,NO2+NO3,NO2+NO3_FLAG_W,NITRIT,NITRIT_FLAG_W,SILCAT,SILCAT_FLAG_W,PHSPHT,PHSPHT_FLAG_W,NH4,NH4_FLAG_W,ALKALI,ALKALI_FLAG_W,PH,PH_FLAG_W,TCARBN,TCARBN_FLAG_W
,,,,,,,,,,METERS,DBARS,,,,,,UMOL/KG,,UMOL/KG,,UMOL/KG,,UMOL/KG,,UMOL/KG,,UMOL/KG,,UMOL/KG,,,,UMOL/KG,
  49HO19990719,  St_3,  1,     12,     12,2,19990726,0405, 49.4947, 167.1410, 5348,    299.6,   3.6300,  34.0250,2,  34.0330,2,     30.1,2,    44.70,2,     0.01,2,   106.60,2,     3.13,2,-999,9,   2323.4,2,    7.277,2,   2335.1,2
  49HO19990719,  St_3,  1,     11,     11,2,19990726,0405, 49.4947, 167.1410, 5348,    399.8,   3.5300,  34.1220,2,  34.1150,2,     25.5,2,    44.50,2,    -0.01,3,   114.90,2,     3.13,2,-999,9,   2333.6,2,    7.287,2,   2343.9,2
  49HO19990719,  St_3,  1,     10,     10,2,19990726,0405, 49.4947, 167.1410, 5348,    499.7,   3.3800,  34.1920,2,  34.1830,2,     22.4,2,    44.30,2,     0.00,2,   120.80,2,     3.14,2,-999,9,   2352.2,2,    7.294,2,   2352.8,2
  49HO19990719,  St_3,  1,      9,      9,2,19990726,0405, 49.4947, 167.1410, 5348,    600.4,   3.2300,  34.2520,2,  34.2440,2,     22.5,2,    44.10,2,     0.01,2,   126.60,2,     3.16,2,-999,9,   2359.9,2,    7.301,2,   2359.3,2
  49HO19990719,  St_3,  1,      8,      8,2,19990726,0405, 49.4947, 167.1410, 5348,    698.9,   3.0800,  34.2940,2,  34.2920,2,     22.7,2,    44.60,2,     0.00,2,   131.60,2,     3.14,2,-999,9,   2365.0,2,    7.302,2,   2365.1,2
  49HO19990719,  St_3,  1,      7,      7,2,19990726,0405, 49.4947, 167.1410, 5348,    800.8,   2.9200,  34.3390,2,  34.3330,2,     24.2,2,    44.00,2,     0.00,2,   134.40,2,     3.15,2,-999,9,   2376.8,2,    7.328,2,   2371.9,2
  49HO19990719,  St_3,  1,      6,      6,2,19990726,0405, 49.4947, 167.1410, 5348,    999.7,   2.6500,  34.4080,2,  34.4060,2,     26.0,2,    44.20,2,     0.01,2,   146.70,2,     3.13,2,-999,9,   2389.9,2,    7.327,2,   2380.9,2
  49HO19990719,  St_3,  1,      5,      5,2,19990726,0405, 49.4947, 167.1410, 5348,   1250.1,   2.3500,  34.4790,2,  34.4740,2,     35.2,2,    43.70,2,     0.03,2,   155.50,2,     3.09,2,-999,9,   2403.1,2,    7.348,2,   2385.1,2
  49HO19990719,  St_3,  1,      4,      4,2,19990726,0405, 49.4947, 167.1410, 5348,   1499.4,   2.1200,  34.5340,2,  34.5580,2,     47.1,2,    43.20,2,     0.00,2,   154.40,2,     3.03,2,-999,9,   2411.0,2,    7.380,2,   2382.0,2
  49HO19990719,  St_3,  1,      3,      3,2,19990726,0405, 49.4947, 167.1410, 5348,   1999.7,   1.8200,  34.6000,2,  34.5940,2,     77.8,2,    41.30,2,     0.00,2,   159.40,2,     2.89,2,-999,9,   2415.0,2,    7.433,2,   2374.9,2
  49HO19990719,  St_3,  1,      2,      2,2,19990726,0405, 49.4947, 167.1410, 5348,   2499.6,   1.6300,  34.6400,2,  34.6320,2,    106.5,2,    39.70,2,     0.01,2,   158.40,2,     2.77,2,-999,9,   2411.5,2,    7.485,2,   2354.1,2
  49HO19990719,  St_3,  1,      1,      1,2,19990726,0405, 49.4947, 167.1410, 5348,   3000.3,   1.5000,  34.6640,2,  34.6590,2,    135.9,2,    37.90,2,     0.00,2,   149.30,2,     2.62,2,-999,9,   2422.4,2,    7.531,2,   2334.4,2
  49HO19990719,  St_3,  2,      S,      S,2,19990726,0737, 49.4768, 167.1053, 5370,      0.0,   7.5100,  32.8960,2,  32.8670,2,    311.2,2,    16.60,2,     0.22,2,    26.60,2,     1.40,2,-999,9,   2231.2,2, -999.000,9,   2048.9,2
  49HO19990719,  St_3,  2,     12,     12,2,19990726,0737, 49.4768, 167.1053, 5370,      9.8,   7.4500,  32.9070,2,  32.9030,2,    313.9,2,    16.10,2,     0.20,2,    25.30,2,     1.40,2,-999,9,   2237.2,2,    7.843,2,   2045.3,2
  49HO19990719,  St_3,  2,     11,     11,2,19990726,0737, 49.4768, 167.1053, 5370,     20.1,   7.4000,  32.9080,2,  32.8880,2,    313.1,2,    16.50,2,     0.22,2,    25.90,2,     1.42,2,-999,9,   2239.1,2,    7.838,2,   2047.6,2
  49HO19990719,  St_3,  2,     10,     10,2,19990726,0737, 49.4768, 167.1053, 5370,     30.2,   7.3400,  32.9060,2,  32.9220,2,    313.7,2,    16.60,2,     0.18,2,    27.00,2,     1.44,2,-999,9,   2237.3,2,    7.838,2,   2056.3,2
  49HO19990719,  St_3,  2,      9,      9,2,19990726,0737, 49.4768, 167.1053, 5370,     40.5,   5.9300,  33.0110,2,  33.0160,2,    326.0,2,    19.50,2,     0.22,2,    36.10,2,     1.64,2,-999,9,   2244.4,2,    7.807,2,   2066.9,2
  49HO19990719,  St_3,  2,      8,      8,2,19990726,0737, 49.4768, 167.1053, 5370,     49.7,   4.4300,  33.0550,2,  33.0610,2,    319.9,2,    23.60,2,     0.35,2,    45.40,2,     1.95,2,-999,9,   2245.6,2,    7.701,2,   2106.6,2
  49HO19990719,  St_3,  2,      7,      7,2,19990726,0737, 49.4768, 167.1053, 5370,     60.6,   3.8300,  33.0790,2,  33.0870,2,    319.7,2,    25.10,2,     0.60,2,    47.90,2,     2.02,2,-999,9,   2250.5,2,    7.678,2,   2119.2,2
  49HO19990719,  St_3,  2,      6,      6,2,19990726,0737, 49.4768, 167.1053, 5370,     80.0,   3.2500,  33.1040,2,  33.1010,2,    318.9,2,    26.70,2,     1.03,2,    48.90,2,     2.04,2,-999,9,   2238.0,2,    7.658,2,   2124.9,2
  49HO19990719,  St_3,  2,      5,      5,2,19990726,0737, 49.4768, 167.1053, 5370,    100.1,   2.7900,  33.1360,2,  33.1370,2,    310.1,2,    27.50,2,     0.03,2,    50.50,2,     2.10,2,-999,9,   2243.3,2,    7.627,2,   2132.0,2
  49HO19990719,  St_3,  2,      4,      4,2,19990726,0737, 49.4768, 167.1053, 5370,    125.9,   3.1300,  33.4080,2,  33.4320,2,    197.5,2,  -999.00,9,     0.03,2,    65.90,2,     2.48,2,-999,9,   2263.2,2,    7.475,2,   2214.5,2
  49HO19990719,  St_3,  2,      3,      3,2,19990726,0737, 49.4768, 167.1053, 5370,    149.6,   3.5700,  33.7220,2,  33.7190,2,     92.9,2,    39.80,2,     0.02,2,    82.10,2,     2.87,2,-999,9,   2281.6,2,    7.341,2,   2276.6,2
  49HO19990719,  St_3,  2,      2,      2,2,19990726,0737, 49.4768, 167.1053, 5370,    200.4,   3.6500,  33.8890,2,  33.8830,2,     47.7,2,    43.30,2,     0.01,2,    95.10,2,     3.07,2,-999,9,   2305.1,2,    7.283,2,   2312.3,2
  49HO19990719,  St_3,  2,      1,      1,2,19990726,0737, 49.4768, 167.1053, 5370,    250.1,   3.6500,  33.9620,2,  33.9510,2,     36.6,2,    44.20,2,     0.03,2,   100.50,2,     3.12,2,-999,9,   2311.7,2,    7.279,2,   2328.5,2
  49HO19990719,  St_4,  1,     12,     12,2,19990727,0403, 49.0005, 169.2613, 3516,    301.6,   3.4900,  34.0250,2,  34.0010,2,     32.9,2,  -999.00,9,     0.00,2,   103.70,2,     3.16,2,-999,9,   2323.6,2,    7.276,2,   2318.2,2
  49HO19990719,  St_4,  1,     11,     11,2,19990727,0403, 49.0005, 169.2613, 3516,    400.2,   3.5100,  34.1220,2,  34.1200,2,     26.4,2,  -999.00,9,     0.01,2,   113.30,2,     3.14,2,-999,9,   2334.2,2,    7.294,2,   2327.3,2
  49HO19990719,  St_4,  1,     10,     10,2,19990727,0403, 49.0005, 169.2613, 3516,    500.3,   3.3400,  34.1920,2,  34.2020,2,     22.8,2,  -999.00,9,     0.02,2,   120.00,2,     3.14,2,-999,9,   2349.4,2,    7.297,2,   2340.2,2
  49HO19990719,  St_4,  1,      9,      9,2,19990727,0403, 49.0005, 169.2613, 3516,    601.0,   3.1900,  34.2520,2,  34.2570,2,     21.8,2,  -999.00,9,     0.02,2,   122.80,2,     3.15,2,-999,9,   2356.1,2,    7.304,2,   2346.3,2
  49HO19990719,  St_4,  1,      8,      8,2,19990727,0403, 49.0005, 169.2613, 3516,    699.9,   3.0200,  34.2940,2,  34.3070,2,     22.6,2,  -999.00,9,     0.03,2,   132.70,2,     3.17,2,-999,9,   2363.1,2,    7.313,2,   2352.0,2
  49HO19990719,  St_4,  1,      7,      7,2,19990727,0403, 49.0005, 169.2613, 3516,    799.8,   2.8400,  34.3390,2,  34.3570,2,     23.8,2,  -999.00,9,     0.02,2,   137.50,2,     3.14,2,-999,9,   2377.5,2,    7.320,2,   2357.7,2
  49HO19990719,  St_4,  1,      6,      6,2,19990727,0403, 49.0005, 169.2613, 3516,   1000.8,   2.5300,  34.4080,2,  34.4310,2,     28.5,2,    43.70,2,     0.00,2,   145.90,2,     3.14,2,-999,9,   2385.0,2,    7.333,2,   2369.9,2
  49HO19990719,  St_4,  1,      5,      5,2,19990727,0403, 49.0005, 169.2613, 3516,   1250.0,   2.2400,  34.4790,2,  34.5000,2,     39.0,2,    42.30,2,     0.00,2,   154.10,2,     3.09,2,-999,9,   2404.1,2,    7.359,2,   2371.1,2
  49HO19990719,  St_4,  1,      4,      4,2,19990727,0403, 49.0005, 169.2613, 3516,   1498.6,   2.0500,  34.5340,2,  34.5430,2,     52.7,2,    40.60,2,     0.01,2,   157.20,2,     3.03,2,-999,9,   2411.0,2,    7.390,2,   2361.9,2
  49HO19990719,  St_4,  1,      3,      3,2,19990727,0403, 49.0005, 169.2613, 3516,   1999.6,   1.7500,  34.6000,2,  34.6140,2,     85.5,2,    37.90,2,     0.01,2,   162.20,2,     2.90,2,-999,9,   2419.7,2,    7.452,2,   2355.5,2
  49HO19990719,  St_4,  1,      2,      2,2,19990727,0403, 49.0005, 169.2613, 3516,   2499.5,   1.5900,  34.6400,2,  34.6410,2,    112.5,2,  -999.00,9,     0.02,2,   154.90,2,     2.76,2,-999,9,   2422.9,2,    7.503,2,   2342.1,2
  49HO19990719,  St_4,  1,      1,      1,2,19990727,0403, 49.0005, 169.2613, 3516,   2997.8,   1.5100,  34.6640,2,  34.6650,2,    133.5,2,    36.90,2,     0.00,2,   147.90,2,     2.64,2,-999,9,   2419.6,2,    7.535,2,   2332.6,2
  49HO19990719,  St_4,  1,     12,     12,2,19990727,0403, 49.0005, 169.2613, 3516,    301.6,   3.4900,  34.0250,2,  34.0010,2,     32.9,2,  -999.00,9,     0.00,2,   103.70,2,     3.16,2,-999,9,   2323.6,2,    7.276,2,   2318.2,2
  49HO19990719,  St_4,  1,     11,     11,2,19990727,0403, 49.0005, 169.2613, 3516,    400.2,   3.5100,  34.1220,2,  34.1200,2,     26.4,2,  -999.00,9,     0.01,2,   113.30,2,     3.14,2,-999,9,   2334.2,2,    7.294,2,   2327.3,2
  49HO19990719,  St_4,  1,     10,     10,2,19990727,0403, 49.0005, 169.2613, 3516,    500.3,   3.3400,  34.1920,2,  34.2020,2,     22.8,2,  -999.00,9,     0.02,2,   120.00,2,     3.14,2,-999,9,   2349.4,2,    7.297,2,   2340.2,2
  49HO19990719,  St_4,  1,      9,      9,2,19990727,0403, 49.0005, 169.2613, 3516,    601.0,   3.1900,  34.2520,2,  34.2570,2,     21.8,2,  -999.00,9,     0.02,2,   122.80,2,     3.15,2,-999,9,   2356.1,2,    7.304,2,   2346.3,2
  49HO19990719,  St_4,  1,      8,      8,2,19990727,0403, 49.0005, 169.2613, 3516,    699.9,   3.0200,  34.2940,2,  34.3070,2,     22.6,2,  -999.00,9,     0.03,2,   132.70,2,     3.17,2,-999,9,   2363.1,2,    7.313,2,   2352.0,2
  49HO19990719,  St_4,  1,      7,      7,2,19990727,0403, 49.0005, 169.2613, 3516,    799.8,   2.8400,  34.3390,2,  34.3570,2,     23.8,2,  -999.00,9,     0.02,2,   137.50,2,     3.14,2,-999,9,   2377.5,2,    7.320,2,   2357.7,2
  49HO19990719,  St_4,  1,      6,      6,2,19990727,0403, 49.0005, 169.2613, 3516,   1000.8,   2.5300,  34.4080,2,  34.4310,2,     28.5,2,    43.70,2,     0.00,2,   145.90,2,     3.14,2,-999,9,   2385.0,2,    7.333,2,   2369.9,2
  49HO19990719,  St_4,  1,      5,      5,2,19990727,0403, 49.0005, 169.2613, 3516,   1250.0,   2.2400,  34.4790,2,  34.5000,2,     39.0,2,    42.30,2,     0.00,2,   154.10,2,     3.09,2,-999,9,   2404.1,2,    7.359,2,   2371.1,2
  49HO19990719,  St_4,  1,      4,      4,2,19990727,0403, 49.0005, 169.2613, 3516,   1498.6,   2.0500,  34.5340,2,  34.5430,2,     52.7,2,    40.60,2,     0.01,2,   157.20,2,     3.03,2,-999,9,   2411.0,2,    7.390,2,   2361.9,2
  49HO19990719,  St_4,  1,      3,      3,2,19990727,0403, 49.0005, 169.2613, 3516,   1999.6,   1.7500,  34.6000,2,  34.6140,2,     85.5,2,    37.90,2,     0.01,2,   162.20,2,     2.90,2,-999,9,   2419.7,2,    7.452,2,   2355.5,2
  49HO19990719,  St_4,  1,      2,      2,2,19990727,0403, 49.0005, 169.2613, 3516,   2499.5,   1.5900,  34.6400,2,  34.6410,2,    112.5,2,  -999.00,9,     0.02,2,   154.90,2,     2.76,2,-999,9,   2422.9,2,    7.503,2,   2342.1,2
  49HO19990719,  St_4,  1,      1,      1,2,19990727,0403, 49.0005, 169.2613, 3516,   2997.8,   1.5100,  34.6640,2,  34.6650,2,    133.5,2,    36.90,2,     0.00,2,   147.90,2,     2.64,2,-999,9,   2419.6,2,    7.535,2,   2332.6,2
  49HO19990719,  St_4,  2,      S,      S,2,19990727,0729, 48.9753, 169.2002, 3385,      0.0,   7.7300,  32.8960,2,  32.8530,2,    329.9,2,    15.60,2,     0.19,2,    17.70,2,     1.32,2,-999,9,   2225.2,2, -999.000,9,   2026.5,2
  49HO19990719,  St_4,  2,     12,     12,2,19990727,0729, 48.9753, 169.2002, 3385,      9.0,   7.6600,  32.9070,2,  32.8900,2,    332.1,2,    16.00,2,     0.21,2,    17.50,2,     1.30,2,-999,9,   2234.1,2,    7.905,2,   2034.7,2
  49HO19990719,  St_4,  2,     11,     11,2,19990727,0729, 48.9753, 169.2002, 3385,     19.1,   7.3200,  32.9080,2,  32.9900,2,    321.6,2,    17.30,2,     0.20,2,    23.20,2,     1.43,2,-999,9,   2239.3,2,    7.871,2,   2039.9,2
  49HO19990719,  St_4,  2,     10,     10,2,19990727,0729, 48.9753, 169.2002, 3385,     29.2,   7.2000,  32.9060,2,  32.9950,2,    317.3,2,    18.30,2,     0.22,2,    29.40,2,     1.54,2,-999,9,   2238.4,2,    7.843,2,   2058.3,2
  49HO19990719,  St_4,  2,      9,      9,2,19990727,0729, 48.9753, 169.2002, 3385,     39.1,   5.5300,  33.0110,2,  33.0240,2,    319.1,2,    21.60,2,     0.29,2,    39.50,2,     1.79,2,-999,9,   2239.4,2,    7.773,2,   2093.3,2
  49HO19990719,  St_4,  2,      8,      8,2,19990727,0729, 48.9753, 169.2002, 3385,     49.3,   4.0600,  33.0550,2,  33.0640,2,    321.6,2,    24.60,2,     0.48,2,    45.90,2,     1.98,2,-999,9,   2241.4,2,    7.709,2,   2102.6,2
  49HO19990719,  St_4,  2,      7,      7,2,19990727,0729, 48.9753, 169.2002, 3385,     60.4,   3.5500,  33.0790,2,  33.0960,2,    320.1,2,    25.30,2,     0.80,2,    47.00,2,     2.02,2,-999,9,   2237.3,2,    7.687,2,   2119.7,2
  49HO19990719,  St_4,  2,      6,      6,2,19990727,0729, 48.9753, 169.2002, 3385,     79.9,   3.1000,  33.1040,2,  33.1160,2,    317.8,2,    26.70,2,     0.67,2,    47.70,2,     2.07,2,-999,9,   2238.2,2,    7.663,2,   2125.2,2
  49HO19990719,  St_4,  2,      5,      5,2,19990727,0729, 48.9753, 169.2002, 3385,     99.9,   2.7800,  33.1360,2,  33.1760,2,    299.5,2,    27.40,2,     0.00,2,    50.40,2,     2.16,2,-999,9,   2242.4,2,    7.625,2,   2146.3,2
  49HO19990719,  St_4,  2,      4,      4,2,19990727,0729, 48.9753, 169.2002, 3385,    125.2,   3.0000,  33.4080,2,  33.3440,2,    231.3,2,    31.30,2,     0.01,2,    58.80,2,     2.37,2,-999,9,   2254.5,2,    7.533,2,   2183.2,2
  49HO19990719,  St_4,  2,      3,      3,2,19990727,0729, 48.9753, 169.2002, 3385,    149.4,   3.4500,  33.7220,2,  33.5800,2,    144.9,2,    36.30,2,     0.02,2,    70.90,2,     2.68,2,-999,9,   2274.2,2,    7.413,2,   2236.3,2
  49HO19990719,  St_4,  2,      2,      2,2,19990727,0729, 48.9753, 169.2002, 3385,    200.1,   3.3800,  33.8890,2,  33.8370,2,     56.8,2,    42.60,2,     0.00,2,    91.00,2,     3.08,2,-999,9,   2298.1,2,    7.285,2,   2298.7,2
  49HO19990719,  St_4,  2,      1,      1,2,19990727,0729, 48.9753, 169.2002, 3385,    250.6,   3.4400,  33.9620,2,  33.9250,2,     39.9,2,    43.80,2,     0.00,2,    97.10,2,     3.12,2,-999,9,   2332.5,2,    7.273,2,   2310.5,2
  49HO19990719,  St_4,  2,      S,      S,2,19990727,0729, 48.9753, 169.2002, 3385,      0.0,   7.7300,  32.8960,2,  32.8530,2,    329.9,2,    15.60,2,     0.19,2,    17.70,2,     1.32,2,-999,9,   2225.2,2, -999.000,9,   2026.5,2
  49HO19990719,  St_4,  2,     12,     12,2,19990727,0729, 48.9753, 169.2002, 3385,      9.0,   7.6600,  32.9070,2,  32.8900,2,    332.1,2,    16.00,2,     0.21,2,    17.50,2,     1.30,2,-999,9,   2234.1,2,    7.905,2,   2034.7,2
  49HO19990719,  St_4,  2,     11,     11,2,19990727,0729, 48.9753, 169.2002, 3385,     19.1,   7.3200,  32.9080,2,  32.9900,2,    321.6,2,    17.30,2,     0.20,2,    23.20,2,     1.43,2,-999,9,   2239.3,2,    7.871,2,   2039.9,2
  49HO19990719,  St_4,  2,     10,     10,2,19990727,0729, 48.9753, 169.2002, 3385,     29.2,   7.2000,  32.9060,2,  32.9950,2,    317.3,2,    18.30,2,     0.22,2,    29.40,2,     1.54,2,-999,9,   2238.4,2,    7.843,2,   2058.3,2
  49HO19990719,  St_4,  2,      9,      9,2,19990727,0729, 48.9753, 169.2002, 3385,     39.1,   5.5300,  33.0110,2,  33.0240,2,    319.1,2,    21.60,2,     0.29,2,    39.50,2,     1.79,2,-999,9,   2239.4,2,    7.773,2,   2093.3,2
  49HO19990719,  St_4,  2,      8,      8,2,19990727,0729, 48.9753, 169.2002, 3385,     49.3,   4.0600,  33.0550,2,  33.0640,2,    321.6,2,    24.60,2,     0.48,2,    45.90,2,     1.98,2,-999,9,   2241.4,2,    7.709,2,   2102.6,2
  49HO19990719,  St_4,  2,      7,      7,2,19990727,0729, 48.9753, 169.2002, 3385,     60.4,   3.5500,  33.0790,2,  33.0960,2,    320.1,2,    25.30,2,     0.80,2,    47.00,2,     2.02,2,-999,9,   2237.3,2,    7.687,2,   2119.7,2
  49HO19990719,  St_4,  2,      6,      6,2,19990727,0729, 48.9753, 169.2002, 3385,     79.9,   3.1000,  33.1040,2,  33.1160,2,    317.8,2,    26.70,2,     0.67,2,    47.70,2,     2.07,2,-999,9,   2238.2,2,    7.663,2,   2125.2,2
  49HO19990719,  St_4,  2,      5,      5,2,19990727,0729, 48.9753, 169.2002, 3385,     99.9,   2.7800,  33.1360,2,  33.1760,2,    299.5,2,    27.40,2,     0.00,2,    50.40,2,     2.16,2,-999,9,   2242.4,2,    7.625,2,   2146.3,2
  49HO19990719,  St_4,  2,      4,      4,2,19990727,0729, 48.9753, 169.2002, 3385,    125.2,   3.0000,  33.4080,2,  33.3440,2,    231.3,2,    31.30,2,     0.01,2,    58.80,2,     2.37,2,-999,9,   2254.5,2,    7.533,2,   2183.2,2
  49HO19990719,  St_4,  2,      3,      3,2,19990727,0729, 48.9753, 169.2002, 3385,    149.4,   3.4500,  33.7220,2,  33.5800,2,    144.9,2,    36.30,2,     0.02,2,    70.90,2,     2.68,2,-999,9,   2274.2,2,    7.413,2,   2236.3,2
  49HO19990719,  St_4,  2,      2,      2,2,19990727,0729, 48.9753, 169.2002, 3385,    200.1,   3.3800,  33.8890,2,  33.8370,2,     56.8,2,    42.60,2,     0.00,2,    91.00,2,     3.08,2,-999,9,   2298.1,2,    7.285,2,   2298.7,2
  49HO19990719,  St_4,  2,      1,      1,2,19990727,0729, 48.9753, 169.2002, 3385,    250.6,   3.4400,  33.9620,2,  33.9250,2,     39.9,2,    43.80,2,     0.00,2,    97.10,2,     3.12,2,-999,9,   2332.5,2,    7.273,2,   2310.5,2