BOTTLE,20120717MIRCJHATS
EXPOCODE,STNNBR,CASTNO,SAMPNO,BTLNBR,BTLNBR_FLAG_W,DATE,TIME,LATITUDE,LONGITUDE,DEPTH,CTDPRS,CTDTMP,CTDSAL,CTDSAL_FLAG_W,SALNTY,SALNTY_FLAG_W,OXYGEN,OXYGEN_FLAG_W,NO2+NO3,NO2+NO3_FLAG_W,NITRIT,NITRIT_FLAG_W,SILCAT,SILCAT_FLAG_W,PHSPHT,PHSPHT_FLAG_W,NH4,NH4_FLAG_W,ALKALI,ALKALI_FLAG_W,PH,PH_FLAG_W,TCARBN,TCARBN_FLAG_W
,,,,,,,,,,METERS,DBARS,,,,,,UMOL/KG,,UMOL/KG,,UMOL/KG,,UMOL/KG,,UMOL/KG,,UMOL/KG,,UMOL/KG,,,,UMOL/KG,
  49HO19990719, St_16,  1,      S,      S,2,19990810,1756, 43.0002, 169.9850, 4933,      0.0,  14.5800,  32.8960,4,  33.2220,2,    266.6,2,     5.40,2,     0.09,2,    12.00,2,     0.54,2,-999,9,   2235.7,2,    7.961,2,   2000.2,2
  49HO19990719, St_16,  1,     12,     12,2,19990810,1756, 43.0002, 169.9850, 4933,     50.1,   9.8100,  32.9070,4,  33.4450,2,    285.9,2,    10.20,2,     0.21,2,    15.20,2,     0.98,2,-999,9,   2248.5,2,    7.862,2,   2061.9,2
  49HO19990719, St_16,  1,     11,     11,2,19990810,1756, 43.0002, 169.9850, 4933,    100.5,   6.1000,  32.9080,4,  33.5370,2,    285.8,2,    15.80,2,    -0.01,3,    19.70,2,     1.23,2,-999,9,   2251.3,2,    7.782,2,   2094.0,2
  49HO19990719, St_16,  1,     10,     10,2,19990810,1756, 43.0002, 169.9850, 4933,    200.6,   5.9900,  32.9060,4,  33.7200,2,    241.9,2,    19.80,2,     0.00,2,    29.10,2,     1.47,2,-999,9,   2265.5,2,    7.719,2,   2127.1,2
  49HO19990719, St_16,  1,      9,      9,2,19990810,1756, 43.0002, 169.9850, 4933,    299.8,   5.4900,  33.0110,4,  33.8800,2,    154.3,2,    29.30,2,    -0.01,3,    52.50,2,     2.12,2,-999,9,   2287.8,2,    7.559,2,   2200.3,2
  49HO19990719, St_16,  1,      8,      8,2,19990810,1756, 43.0002, 169.9850, 4933,    400.3,   4.0500,  33.0550,4,  33.8830,2,    104.2,2,    36.60,2,    -0.01,3,    74.00,2,     2.62,2,-999,9,   2302.3,2,    7.421,2,   2267.6,2
  49HO19990719, St_16,  1,      7,      7,2,19990810,1756, 43.0002, 169.9850, 4933,    499.8,   4.0000,  33.0790,4,  34.0280,2,     68.9,2,    40.00,2,     0.00,2,    90.40,2,     2.83,2,-999,9,   2319.9,2,    7.373,2,   2295.8,2
  49HO19990719, St_16,  1,      6,      6,2,19990810,1756, 43.0002, 169.9850, 4933,    600.6,   3.9200,  33.1040,4,  34.1270,2,     55.8,2,    41.10,2,    -0.01,3,    97.60,2,     2.91,2,-999,9,   2334.9,2,    7.363,2,   2314.5,2
  49HO19990719, St_16,  1,      5,      5,2,19990810,1756, 43.0002, 169.9850, 4933,    799.9,   3.3500,  33.1360,4,  34.2680,2,     36.2,2,    43.10,2,     0.01,2,   118.70,2,     3.02,2,-999,9,   2362.9,2,    7.344,2,   2349.4,2
  49HO19990719, St_16,  1,      4,      4,2,19990810,1756, 43.0002, 169.9850, 4933,    998.4,   3.0000,  33.4080,4,  34.3730,2,     34.2,2,    43.20,2,     0.00,2,   128.70,2,     3.05,2,-999,9,   2382.7,2,    7.356,2,   2360.5,2
  49HO19990719, St_16,  1,      3,      3,2,19990810,1756, 43.0002, 169.9850, 4933,   1498.4,   2.3200,  33.7220,4,  34.5040,2,     43.8,2,    43.50,2,    -0.01,3,   147.30,2,     3.02,2,-999,9,   2405.2,2,    7.382,2,   2373.3,2
  49HO19990719, St_16,  1,      2,      2,2,19990810,1756, 43.0002, 169.9850, 4933,   1999.3,   1.9600,  33.8890,4,  34.5780,2,     68.3,2,    41.90,2,     0.00,2,   152.90,2,     2.89,2,-999,9,   2420.4,2,    7.438,2,   2373.4,2
  49HO19990719, St_16,  1,      1,      1,2,19990810,1756, 43.0002, 169.9850, 4933,   3001.4,   1.5900,  33.9620,4,  34.6520,2,    120.1,2,    38.80,2,     0.01,2,   148.60,2,     2.66,2,-999,9,   2425.9,2,    7.538,2,   2336.4,2
  49HO19990719,KNOT-2,  1,      1,      1,5,19990814,2226, 44.0000, 155.0000, -999,      0.0,  15.2677,  32.5723,2,  32.5820,2,    267.4,2,     4.90,2,     0.13,2,     4.50,2,     0.68,2,-999,9,   2212.9,2,    7.964,2,   1987.6,2
  49HO19990719,KNOT-2,  1,      1,      1,5,19990814,2226, 44.0000, 155.0000, -999,      8.6,  14.9632,  32.5429,2,  32.5469,2,    269.3,2,     4.80,2,     0.12,2,     4.50,2,     0.71,2,-999,9,   2212.4,2,    7.972,2,   1986.9,2
  49HO19990719,KNOT-2,  1,      1,      1,5,19990814,2226, 44.0000, 155.0000, -999,     19.1,  10.1275,  32.7089,2,  32.7224,2,    307.4,2,     7.60,2,     0.15,2,     4.40,2,     0.94,2,-999,9,   2223.9,2,    7.929,2,   2012.0,2
  49HO19990719,KNOT-2,  1,      1,      1,5,19990814,2226, 44.0000, 155.0000, -999,     30.3,   5.8128,  32.8758,2,  32.8998,2,    333.5,2,    12.80,2,     0.22,2,     6.80,2,     1.29,2,-999,9,   2228.2,2,    7.852,2,   2053.5,2
  49HO19990719,KNOT-2,  1,      1,      1,5,19990814,2226, 44.0000, 155.0000, -999,     40.0,   3.6358,  32.9412,2,  32.9576,2,    332.6,2,    16.90,2,     0.36,2,    13.30,2,     1.58,2,-999,9,   2231.4,2,    7.778,2,   2081.2,2
  49HO19990719,KNOT-2,  1,      1,      1,5,19990814,2226, 44.0000, 155.0000, -999,     50.5,   2.7339,  32.9996,2,  33.0101,2,    319.1,2,    20.70,2,     0.78,2,    21.80,2,     1.80,2,-999,9,   2232.5,2,    7.706,2,   2109.2,2
  49HO19990719,KNOT-2,  1,      1,      1,5,19990814,2226, 44.0000, 155.0000, -999,     61.8,   1.7707,  33.0501,2,  33.0548,2,    306.4,2,    24.30,2,     1.01,2,    31.20,2,     1.96,2,-999,9,   2230.2,2,    7.647,2,   2131.2,2
  49HO19990719,KNOT-2,  1,      1,      1,5,19990814,2226, 44.0000, 155.0000, -999,     79.7,   1.3414,  33.0870,2,  33.0955,2,    301.8,2,    25.80,2,     0.06,2,    37.70,2,     2.02,2,-999,9,   2230.1,2,    7.618,2,   2141.5,2
  49HO19990719,KNOT-2,  1,      1,      1,5,19990814,2226, 44.0000, 155.0000, -999,     99.9,   1.0608,  33.1259,2,  33.1395,2,    289.5,2,    27.80,2,     0.02,2,    42.40,2,     2.15,2,-999,9,   2234.5,2,    7.587,2,   2155.2,2
  49HO19990719,KNOT-2,  1,      1,      1,5,19990814,2226, 44.0000, 155.0000, -999,    126.6,   1.5510,  33.2899,2,  33.2909,2,    235.8,2,    31.00,2,     0.02,2,    47.00,2,     2.34,2,-999,9,   2244.9,2,    7.517,2,   2185.0,2
  49HO19990719,KNOT-2,  1,      1,      1,5,19990814,2226, 44.0000, 155.0000, -999,    150.1,   2.2095,  33.4713,2,  33.4584,2,    169.0,2,    34.90,2,     0.00,2,    54.60,2,     2.60,2,-999,9,   2263.1,2,    7.427,2,   2225.9,2
  49HO19990719,KNOT-2,  1,      1,      1,5,19990814,2226, 44.0000, 155.0000, -999,    200.8,   2.7697,  33.7011,2,  33.7052,2,     99.3,2,    39.30,2,     0.00,2,  -999.00,9,     2.89,2,-999,9,   2291.1,2,    7.340,2,   2279.5,2
  49HO19990719,KNOT-2,  1,      1,      1,5,19990814,2226, 44.0000, 155.0000, -999,    249.6,   2.9515,  33.8137,2,  33.8089,2,     77.0,2,  -999.00,9,     0.00,2,    85.70,2,     2.98,2,-999,9,   2294.6,2,    7.320,2,   2299.3,2
  49HO19990719,KNOT-2,  1,      1,      1,5,19990814,2226, 44.0000, 155.0000, -999,    292.9,   3.2395,  34.0247,2,  33.9155,2,     45.0,2,    43.60,2,     0.02,2,    93.80,2,     3.14,2,-999,9,   2302.3,2,    7.279,2,   2327.5,2
  49HO19990719,KNOT-2,  1,      1,      1,5,19990814,2226, 44.0000, 155.0000, -999,    399.4,   3.2862,  34.1215,2,  34.0622,2,     31.9,2,    43.90,2,     0.01,2,  -999.00,9,     3.17,2,-999,9,   2322.4,2,    7.280,2,   2341.3,2
  49HO19990719,KNOT-2,  1,      1,      1,5,19990814,2226, 44.0000, 155.0000, -999,    499.9,   3.2587,  34.1923,2,  34.1679,2,     20.2,2,    44.50,2,     0.01,2,   113.70,2,     3.20,2,-999,9,   2335.9,2,    7.287,2,   2356.7,2
  49HO19990719,KNOT-2,  1,      1,      1,5,19990814,2226, 44.0000, 155.0000, -999,    599.7,   3.1420,  34.2519,2,  34.2533,2,     17.2,2,    44.80,2,     0.00,2,   122.30,2,     3.22,2,-999,9,   2349.8,2,    7.287,2,   2363.5,2
  49HO19990719,KNOT-2,  1,      1,      1,5,19990814,2226, 44.0000, 155.0000, -999,    699.3,   2.9193,  34.2941,2,  34.2973,2,     25.2,2,    44.20,2,     0.00,2,   132.20,2,     3.18,2,-999,9,   2357.9,2,    7.308,2,   2373.7,2
  49HO19990719,KNOT-2,  1,      1,      1,5,19990814,2226, 44.0000, 155.0000, -999,    798.8,   2.7823,  34.3389,2,  34.3477,2,     27.3,2,    44.10,2,     0.00,2,  -999.00,9,     3.11,2,-999,9,   -999.0,9,    7.324,2,   2373.1,2
  49HO19990719,KNOT-2,  1,      1,      1,5,19990814,2226, 44.0000, 155.0000, -999,   1001.2,   2.5560,  34.4078,2,  34.4302,2,     31.7,2,    43.70,2,     0.00,2,   143.30,2,     3.15,2,-999,9,   2382.8,2,    7.341,2,   2377.4,2
  49HO19990719,KNOT-2,  1,      1,      1,5,19990814,2226, 44.0000, 155.0000, -999,   1251.3,   2.2986,  34.4789,2,  34.4892,2,     41.7,2,    43.50,2,     0.03,2,   149.40,2,     3.09,2,-999,9,   2392.4,2,    7.366,2,   2379.8,2
  49HO19990719,KNOT-2,  1,      1,      1,5,19990814,2226, 44.0000, 155.0000, -999,   1500.1,   2.1474,  34.5341,2,  34.5399,2,     53.4,2,    42.80,2,     0.03,2,   158.80,2,     3.05,2,-999,9,   2397.6,2,    7.393,2,   2376.5,2
  49HO19990719,KNOT-2,  1,      1,      1,5,19990814,2226, 44.0000, 155.0000, -999,   2001.0,   1.8636,  34.6001,2,  34.6024,2,     78.9,2,    40.90,2,     0.04,2,   159.60,2,     2.91,2,-999,9,   2408.1,2,    7.450,2,   2371.9,2
  49HO19990719,KNOT-2,  1,      1,      1,5,19990814,2226, 44.0000, 155.0000, -999,   2500.3,   1.6452,  34.6395,2,  34.6395,2,    104.2,2,  -999.00,9,     0.03,2,   159.80,2,     2.78,2,-999,9,   2412.2,2,    7.499,2,   2358.6,2
  49HO19990719,KNOT-2,  1,      1,      1,5,19990814,2226, 44.0000, 155.0000, -999,   3000.4,   1.5288,  34.6643,2,  34.6597,2,    124.0,2,    37.90,2,     0.04,2,   158.70,2,     2.67,2,-999,9,   2416.3,2,    7.531,2,   2340.4,2