BOTTLE,20091209MIRCJHATS
##Cruise,HO00-1,,,,Start,,Bottom,,End,,,Remarks
##Station,KNOT-S,,Date/Time (GMT),,2000/6/8 22:38,,,,2000/6/8 23:20,,,transparency (m)
##Cast,HO00025,,Latitude,,43,14.93,,,,,,weather
##,,,Depth (m),,5490,,-,,-
##bottle ,Pressure,depth,Temp.,Pot. T,Salinity,Sigma-t,Sigma-q,Salinity,DO,NO3+NO2,NO2,P,Si,NH4,pH,TCO2,Alk
### change pH scale to total
EXPOCODE,STNNBR,CASTNO,SAMPNO,BTLNBR,BTLNBR_FLAG_W,DATE,TIME,LATITUDE,LONGITUDE,DEPTH,CTDPRS,CTDTMP,CTDSAL,CTDSAL_FLAG_W,SALNTY,SALNTY_FLAG_W,OXYGEN,OXYGEN_FLAG_W,NO2+NO3,NO2+NO3_FLAG_W,NITRIT,NITRIT_FLAG_W,SILCAT,SILCAT_FLAG_W,PHSPHT,PHSPHT_FLAG_W,NH4,NH4_FLAG_W,ALKALI,ALKALI_FLAG_W,PH,PH_FLAG_W,TCARBN,TCARBN_FLAG_W
,,,,,,,,,,METERS,DBARS,,,,,,UMOL/KG,,UMOL/KG,,UMOL/KG,,UMOL/KG,,UMOL/KG,,UMOL/KG,,UMOL/KG,,,,UMOL/KG,
  49HO20000601,  St.1,  1,      1,      1,5,20000605,1838, 38.0000, 155.0000, -999,      0.0,  15.9899,  34.5246,2,  34.5432,2,    249.1,2,     2.20,2,     0.08,2,     3.00,2,     0.21,2,-999,9,   2272.2,2, -999.000,9,   2008.0,2
  49HO20000601,  St.1,  1,      1,      1,5,20000605,1838, 38.0000, 155.0000, -999,     10.1,  15.9906,  34.5240,2,  34.5313,2,    248.9,2,     2.00,2,     0.08,2,     3.00,2,     0.19,2,-999,9,   2273.1,2, -999.000,9,   2008.5,2
  49HO20000601,  St.1,  1,      1,      1,5,20000605,1838, 38.0000, 155.0000, -999,     19.2,  15.9442,  34.5164,2,  34.5253,2,    249.4,2,     1.90,2,     0.09,2,     3.30,2,     0.19,2,-999,9,   2274.3,2, -999.000,9,   2008.9,2
  49HO20000601,  St.1,  1,      1,      1,5,20000605,1838, 38.0000, 155.0000, -999,     30.1,  15.7328,  34.4933,2,  34.4962,2,    251.0,2,     2.30,2,     0.10,2,     3.80,2,     0.23,2,-999,9,   2278.4,2, -999.000,9,   2013.8,2
  49HO20000601,  St.1,  1,      1,      1,5,20000605,1838, 38.0000, 155.0000, -999,     40.8,  15.3325,  34.4572,2,  34.4673,2,    253.6,2,     2.40,2,     0.10,2,     4.20,2,     0.25,2,-999,9,   2275.7,2, -999.000,9,   2022.8,2
  49HO20000601,  St.1,  1,      1,      1,5,20000605,1838, 38.0000, 155.0000, -999,     63.2,  14.2578,  34.4429,2,  34.4516,2,    247.2,2,     4.50,2,     0.17,2,     7.10,2,     0.40,2,-999,9,   2274.7,2, -999.000,9,   2044.5,2
  49HO20000601,  St.1,  1,      1,      1,5,20000605,1838, 38.0000, 155.0000, -999,     81.7,  12.2289,  34.4150,2,  34.4272,2,    235.7,2,    10.30,2,     0.28,2,    13.10,2,     0.75,2,-999,9,   2273.4,2, -999.000,9,   2074.1,2
  49HO20000601,  St.1,  1,      1,      1,5,20000605,1838, 38.0000, 155.0000, -999,    102.9,  11.6529,  34.3808,2,  34.3969,2,    235.2,2,    11.20,2,     0.05,2,    14.60,2,     0.81,2,-999,9,   2269.3,2, -999.000,9,   2079.7,2
  49HO20000601,  St.1,  1,      1,      1,5,20000605,1838, 38.0000, 155.0000, -999,    126.0,  11.0421,  34.3170,2,  34.3336,2,    224.2,2,    13.20,2,     0.04,2,    17.90,2,     0.95,2,-999,9,   2270.5,2, -999.000,9,   2092.5,2
  49HO20000601,  St.1,  1,      1,      1,5,20000605,1838, 38.0000, 155.0000, -999,    152.0,  10.0013,  34.1821,2,  34.1821,2,    232.2,2,    14.00,2,     0.04,2,    19.60,2,     1.03,2,-999,9,   2268.0,2, -999.000,9,   2100.0,2
  49HO20000601,  St.1,  1,      1,      1,5,20000605,1838, 38.0000, 155.0000, -999,    199.7,   8.6213,  34.0191,2,  34.0308,2,    235.8,2,    16.00,2,     0.02,2,    23.90,2,     1.19,2,-999,9,   2265.8,2, -999.000,9,   2109.7,2
  49HO20000601,  St.1,  1,      1,      1,5,20000605,1838, 38.0000, 155.0000, -999,    247.5,   7.4420,  33.9201,2,  33.9356,2,    233.1,2,    18.70,2,     0.01,2,    30.80,2,     1.40,2,-999,9,   2272.1,2, -999.000,9,   2128.0,2
  49HO20000601,  St.1,  1,      1,      1,5,20000605,1838, 38.0000, 155.0000, -999,    304.4,   5.6508,  33.7810,2,  33.7645,2,    219.0,2,    23.20,2,     0.00,2,    42.00,2,     1.76,2,-999,9,   2264.0,2, -999.000,9,   2155.0,2
  49HO20000601,  St.1,  1,      1,      1,5,20000605,1838, 38.0000, 155.0000, -999,    403.5,   4.9286,  33.8822,2,  33.8891,2,    149.8,2,    31.30,2,     0.00,2,    65.20,2,     2.30,2,-999,9,   2282.9,2, -999.000,9,   2222.1,2
  49HO20000601,  St.1,  1,      1,      1,5,20000605,1838, 38.0000, 155.0000, -999,    502.2,   4.9637,  34.1060,2,  34.1019,2,     94.1,2,    36.10,2,    -0.01,2,    84.80,2,     2.62,2,-999,9,   2307.9,2, -999.000,9,   2268.5,2
  49HO20000601,  St.1,  1,      1,      1,5,20000605,1838, 38.0000, 155.0000, -999,    602.0,   4.1401,  34.1517,2,  34.1564,2,     69.7,2,    38.40,2,    -0.01,2,   103.90,2,     2.79,2,-999,9,   2324.1,2, -999.000,9,   2305.7,2
  49HO20000601,  St.1,  1,      1,      1,5,20000605,1838, 38.0000, 155.0000, -999,    799.8,   3.6569,  34.2954,2,  34.3082,2,     48.8,2,    41.40,2,    -0.01,2,   121.20,2,     3.00,2,-999,9,   2349.4,2, -999.000,9,   2337.1,2
  49HO20000601,  St.1,  1,      1,      1,5,20000605,1838, 38.0000, 155.0000, -999,   1000.1,   3.1158,  34.3725,2,  34.3767,2,     40.5,2,    42.40,2,    -0.01,2,   135.80,2,     3.08,2,-999,9,   2367.5,2, -999.000,9,   2356.1,2
  49HO20000601,  St.1,  1,      1,      1,5,20000605,1838, 38.0000, 155.0000, -999,   1248.2,   2.6210,  34.4422,2,  34.4451,2,     39.5,2,    42.80,2,    -0.01,2,   147.80,2,     3.11,2,-999,9,   2383.0,2, -999.000,9,   2367.7,2
  49HO20000601,  St.1,  1,      1,      1,5,20000605,1838, 38.0000, 155.0000, -999,   1501.2,   2.3595,  34.5055,2,  34.5105,2,     48.0,2,    43.10,2,    -0.01,2,   156.90,2,     3.07,2,-999,9,   2394.5,2, -999.000,9,   2377.4,2
  49HO20000601,  St.1,  1,      1,      1,5,20000605,1838, 38.0000, 155.0000, -999,   1996.1,   1.9695,  34.5835,2,  34.5870,2,     74.8,2,    40.90,2,    -0.02,2,   161.20,2,     2.94,2,-999,9,   2409.1,2, -999.000,9,   -999.0,9
  49HO20000601,  St.2,  1,      1,      1,5,20000606,0904, 39.5000, 155.0000, -999,      0.0,  15.7765,  34.5396,2,  34.5833,2,    253.6,2,     1.32,2,     0.11,2,     3.00,2,     0.24,2,-999,9,   2275.6,2, -999.000,9,   2006.0,2
  49HO20000601,  St.2,  1,      1,      1,5,20000606,0904, 39.5000, 155.0000, -999,      9.5,  15.7476,  34.5331,2,  34.5383,2,    253.7,2,     1.28,2,     0.07,2,     3.00,2,     0.15,2,-999,9,   2275.3,2, -999.000,9,   2010.6,2
  49HO20000601,  St.2,  1,      1,      1,5,20000606,0904, 39.5000, 155.0000, -999,     19.6,  15.7016,  34.5289,2,  34.5403,2,    253.5,2,     1.31,2,     0.07,2,     3.10,2,     0.16,2,-999,9,   2276.8,2, -999.000,9,   2011.1,2
  49HO20000601,  St.2,  1,      1,      1,5,20000606,0904, 39.5000, 155.0000, -999,     29.8,  15.5752,  34.5236,2,  34.5329,2,    254.0,2,     1.45,2,     0.07,2,     3.30,2,     0.17,2,-999,9,   2274.9,2, -999.000,9,   2009.0,2
  49HO20000601,  St.2,  1,      1,      1,5,20000606,0904, 39.5000, 155.0000, -999,     40.2,  15.4242,  34.5218,2,  34.5349,2,    252.8,2,     1.92,2,     0.10,2,     4.00,2,     0.21,2,-999,9,   2277.7,2, -999.000,9,   2009.3,2
  49HO20000601,  St.2,  1,      1,      1,5,20000606,0904, 39.5000, 155.0000, -999,     50.2,  13.6037,  34.5244,2,  34.5334,2,    247.6,2,     6.88,2,     0.34,2,     9.00,2,     0.53,2,-999,9,   2277.1,2, -999.000,9,   2047.7,2
  49HO20000601,  St.2,  1,      1,      1,5,20000606,0904, 39.5000, 155.0000, -999,     61.6,  13.2552,  34.4937,2,  34.5036,2,    244.3,2,     7.95,2,     0.51,2,    10.00,2,     0.58,2,-999,9,   2273.4,2, -999.000,9,   2055.1,2
  49HO20000601,  St.2,  1,      1,      1,5,20000606,0904, 39.5000, 155.0000, -999,     81.1,  12.8034,  34.4724,2,  34.4838,2,    241.6,2,     8.75,2,     0.05,2,    10.60,2,     0.63,2,-999,9,   2274.5,2, -999.000,9,   2057.4,2
  49HO20000601,  St.2,  1,      1,      1,5,20000606,0904, 39.5000, 155.0000, -999,    101.5,  12.4628,  34.4569,2,  34.4631,2,    247.1,2,     8.89,2,     0.10,2,    11.10,2,     0.64,2,-999,9,   2271.8,2, -999.000,9,   2065.0,2
  49HO20000601,  St.2,  1,      1,      1,5,20000606,0904, 39.5000, 155.0000, -999,    126.3,  12.0108,  34.4100,2,  34.4201,2,    247.3,2,     9.44,2,     0.06,2,    12.20,2,     0.69,2,-999,9,   2271.3,2, -999.000,9,   2065.1,2
  49HO20000601,  St.2,  1,      1,      1,5,20000606,0904, 39.5000, 155.0000, -999,    151.5,  11.7805,  34.3897,2,  34.3998,2,    242.2,2,    10.32,2,     0.02,2,    13.60,2,     0.75,2,-999,9,   2271.3,2, -999.000,9,   2070.6,2
  49HO20000601,  St.2,  1,      1,      1,5,20000606,0904, 39.5000, 155.0000, -999,    199.5,  10.9250,  34.3114,2,  34.3233,2,    245.2,2,    11.45,2,     0.01,2,    15.80,2,     0.84,2,-999,9,   2269.0,2, -999.000,9,   2076.5,2
  49HO20000601,  St.2,  1,      1,      1,5,20000606,0904, 39.5000, 155.0000, -999,    248.8,  10.1539,  34.2468,2,  34.2618,2,    245.4,2,    12.91,2,     0.01,2,    18.10,2,     0.95,2,-999,9,   2269.4,2, -999.000,9,   2088.6,2
  49HO20000601,  St.2,  1,      1,      1,5,20000606,0904, 39.5000, 155.0000, -999,    299.3,   8.8188,  34.0893,2,  34.0634,2,    235.0,2,    16.81,2,     0.01,2,    26.30,2,     1.26,2,-999,9,   2268.0,2, -999.000,9,   2108.4,2
  49HO20000601,  St.2,  1,      1,      1,5,20000606,0904, 39.5000, 155.0000, -999,    399.9,   6.6408,  33.9183,2,  33.9258,2,    237.0,2,    20.30,2,     0.01,2,    34.60,2,     1.52,2,-999,9,   2264.5,2, -999.000,9,   2138.1,2
  49HO20000601,  St.2,  1,      1,      1,5,20000606,0904, 39.5000, 155.0000, -999,    599.2,   4.9593,  34.0773,2,  34.0833,2,     94.7,2,    35.74,2,     0.00,2,    81.60,2,     2.63,2,-999,9,   2315.8,2, -999.000,9,   2271.8,2
  49HO20000601,  St.2,  1,      1,      1,5,20000606,0904, 39.5000, 155.0000, -999,    699.0,   4.3682,  34.1444,2,  34.1494,2,     68.9,2,    38.66,2,     0.00,2,    96.80,2,     2.86,2,-999,9,   2320.6,2, -999.000,9,   2301.1,2
  49HO20000601,  St.2,  1,      1,      1,5,20000606,0904, 39.5000, 155.0000, -999,    799.7,   3.9112,  34.2295,2,  34.2391,2,     52.6,2,    40.68,2,     0.00,2,   111.40,2,     2.98,2,-999,9,   2336.6,2, -999.000,9,   2327.2,2
  49HO20000601,  St.2,  1,      1,      1,5,20000606,0904, 39.5000, 155.0000, -999,   1000.3,   3.3075,  34.3326,2,  34.3383,2,     42.8,2,    42.43,2,     0.00,2,   128.60,2,     3.08,2,-999,9,   2361.0,2, -999.000,9,   2349.2,2
  49HO20000601,  St.2,  1,      1,      1,5,20000606,0904, 39.5000, 155.0000, -999,   1249.5,   2.8084,  34.4226,2,  34.4303,2,     41.2,2,    42.97,2,     0.00,2,   144.40,2,     3.11,2,-999,9,   2378.8,2, -999.000,9,   2364.6,2
  49HO20000601,  St.2,  1,      1,      1,5,20000606,0904, 39.5000, 155.0000, -999,   1500.7,   2.4527,  34.4877,2,  34.4920,2,     44.6,2,    42.61,2,     0.00,2,   153.20,2,     3.09,2,-999,9,   2390.1,2, -999.000,9,   2373.8,2
  49HO20000601,  St.2,  1,      1,      1,5,20000606,0904, 39.5000, 155.0000, -999,   1999.1,   2.0317,  34.5729,2,  34.5821,2,     73.0,2,    41.39,2,     0.00,2,   160.30,2,     2.97,2,-999,9,   2406.5,2, -999.000,9,   2369.7,2
  49HO20000601,  St.2,  1,      1,      1,5,20000606,0904, 39.5000, 155.0000, -999,   2499.3,   1.7573,  34.6233,2,  34.6277,2,    100.7,2,    39.20,2,     0.00,2,   160.00,2,     2.83,2,-999,9,   2412.7,2, -999.000,9,   2353.6,2
  49HO20000601,  St.2,  1,      1,      1,5,20000606,0904, 39.5000, 155.0000, -999,   2999.5,   1.5864,  34.6529,2,  34.6529,2,    125.3,2,    37.77,2,     0.00,2,  -999.00,9,     2.70,2,-999,9,   2414.4,2, -999.000,9,   2340.7,2
  49HO20000601,  St.3,  1,      1,      1,5,20000607,0501, 41.0000, 155.0000, -999,      0.0,  12.2082,  33.8963,2,  33.8932,2,    277.8,2,     7.43,2,     0.12,2,    13.50,2,     0.70,2,-999,9,   2256.7,2, -999.000,9,   2042.9,2
  49HO20000601,  St.3,  1,      1,      1,5,20000607,0501, 41.0000, 155.0000, -999,     10.8,  12.2118,  33.8883,2,  33.8981,2,    278.6,2,     7.31,2,     0.11,2,    13.20,2,     0.66,2,-999,9,   2254.9,2, -999.000,9,   2038.8,2
  49HO20000601,  St.3,  1,      1,      1,5,20000607,0501, 41.0000, 155.0000, -999,     19.6,  11.7994,  33.8882,2,  33.8901,2,    281.7,2,     7.51,2,     0.12,2,    13.60,2,     0.68,2,-999,9,   2253.7,2, -999.000,9,   2045.4,2
  49HO20000601,  St.3,  1,      1,      1,5,20000607,0501, 41.0000, 155.0000, -999,     30.5,  11.4361,  33.8703,2,  33.8847,2,    284.4,2,     8.31,2,     0.13,2,    14.70,2,     0.75,2,-999,9,   2254.0,2, -999.000,9,   2048.8,2
  49HO20000601,  St.3,  1,      1,      1,5,20000607,0501, 41.0000, 155.0000, -999,     40.8,   9.1790,  33.9238,2,  33.9355,2,    296.1,2,    10.75,2,     0.25,2,    18.20,2,     0.90,2,-999,9,   2254.9,2, -999.000,9,   2071.6,2
  49HO20000601,  St.3,  1,      1,      1,5,20000607,0501, 41.0000, 155.0000, -999,     49.9,   9.1312,  34.0275,2,  34.0256,2,    281.5,2,    12.08,2,     0.54,2,    18.90,2,     0.97,2,-999,9,   2257.4,2, -999.000,9,   2076.3,2
  49HO20000601,  St.3,  1,      1,      1,5,20000607,0501, 41.0000, 155.0000, -999,     61.2,   7.0616,  33.7333,2,  33.7434,2,    296.8,2,    14.51,2,     0.37,2,    22.50,2,     1.20,2,-999,9,   2248.7,2, -999.000,9,   2085.4,2
  49HO20000601,  St.3,  1,      1,      1,5,20000607,0501, 41.0000, 155.0000, -999,     80.7,   6.1342,  33.6548,2,  33.6776,2,    290.6,2,    16.49,2,     0.26,2,    26.60,2,     1.34,2,-999,9,   2250.2,2, -999.000,9,   2099.5,2
  49HO20000601,  St.3,  1,      1,      1,5,20000607,0501, 41.0000, 155.0000, -999,     99.6,   5.9186,  33.6782,2,  33.6884,2,    279.0,2,    18.19,2,     0.10,2,    29.60,2,     1.43,2,-999,9,   2251.8,2, -999.000,9,   2116.1,2
  49HO20000601,  St.3,  1,      1,      1,5,20000607,0501, 41.0000, 155.0000, -999,    124.5,   5.0523,  33.5886,2,  33.5984,2,    283.8,2,    19.28,2,     0.04,2,    32.20,2,     1.52,2,-999,9,   2250.7,2, -999.000,9,   2116.6,2
  49HO20000601,  St.3,  1,      1,      1,5,20000607,0501, 41.0000, 155.0000, -999,    149.1,   4.8225,  33.5849,2,  33.5937,2,    280.7,2,    19.91,2,     0.01,2,    33.90,2,     1.56,2,-999,9,   2247.7,2, -999.000,9,   2124.7,2
  49HO20000601,  St.3,  1,      1,      1,5,20000607,0501, 41.0000, 155.0000, -999,    200.0,   4.5710,  33.6312,2,  33.6417,2,    239.2,2,    23.59,2,     0.01,2,    43.00,2,     1.82,2,-999,9,   2256.0,2, -999.000,9,   2156.0,2
  49HO20000601,  St.3,  1,      1,      1,5,20000607,0501, 41.0000, 155.0000, -999,    250.9,   3.7858,  33.6495,2,  33.6679,2,    180.7,2,    30.00,2,     0.01,2,    59.60,2,     2.26,2,-999,9,   2263.4,2, -999.000,9,   2213.3,2
  49HO20000601,  St.3,  1,      1,      1,5,20000607,0501, 41.0000, 155.0000, -999,    297.7,   4.5094,  33.8391,2,  33.8445,2,    142.5,2,    31.84,2,     0.01,2,    67.60,2,     2.37,2,-999,9,   2282.2,2, -999.000,9,   2233.9,2
  49HO20000601,  St.3,  1,      1,      1,5,20000607,0501, 41.0000, 155.0000, -999,    398.8,   4.2640,  33.9938,2,  33.9959,2,     90.5,2,    36.76,2,     0.00,2,    86.40,2,     2.70,2,-999,9,   2302.2,2, -999.000,9,   2277.5,2
  49HO20000601,  St.3,  1,      1,      1,5,20000607,0501, 41.0000, 155.0000, -999,    499.8,   4.4387,  34.1592,2,  34.1631,2,     70.5,2,    38.49,2,     0.00,2,    96.60,2,     2.77,2,-999,9,   2320.3,2, -999.000,9,   2298.8,2
  49HO20000601,  St.3,  1,      1,      1,5,20000607,0501, 41.0000, 155.0000, -999,    599.3,   3.6513,  34.1503,2,  34.1665,2,     46.4,2,    41.70,2,     0.00,2,   113.00,2,     3.00,2,-999,9,   2328.7,2, -999.000,9,   2330.0,2
  49HO20000601,  St.3,  1,      1,      1,5,20000607,0501, 41.0000, 155.0000, -999,    699.1,   3.3417,  34.2131,2,  34.2192,2,     38.6,2,    42.46,2,     0.00,2,   123.90,2,     3.07,2,-999,9,   2342.1,2, -999.000,9,   2343.4,2
  49HO20000601,  St.3,  1,      1,      1,5,20000607,0501, 41.0000, 155.0000, -999,    798.9,   3.3555,  34.3079,2,  34.3102,2,     42.4,2,    41.96,2,     0.00,2,   126.90,2,     3.03,2,-999,9,   2355.3,2, -999.000,9,   2346.2,2
  49HO20000601,  St.3,  1,      1,      1,5,20000607,0501, 41.0000, 155.0000, -999,   1001.5,   2.9671,  34.3815,2,  34.3837,2,     40.6,2,    42.01,2,     0.00,2,   139.10,2,     3.06,2,-999,9,   2369.3,2, -999.000,9,   2364.3,2
  49HO20000601,  St.3,  1,      1,      1,5,20000607,0501, 41.0000, 155.0000, -999,   1249.2,   2.5676,  34.4542,2,  34.4587,2,     41.2,2,    42.49,2,     0.00,2,   151.00,2,     3.10,2,-999,9,   2384.2,2, -999.000,9,   2375.4,2
  49HO20000601,  St.3,  1,      1,      1,5,20000607,0501, 41.0000, 155.0000, -999,   1500.6,   2.2808,  34.5060,2,  34.5080,2,     47.6,2,    42.36,2,     0.00,2,   159.60,2,     3.06,2,-999,9,   2393.9,2, -999.000,9,   2374.1,2
  49HO20000601,  St.3,  1,      1,      1,5,20000607,0501, 41.0000, 155.0000, -999,   2000.1,   1.9529,  34.5861,2,  34.5873,2,     74.0,2,    41.05,2,    -0.01,2,   162.40,2,     2.93,2,-999,9,   2407.9,2, -999.000,9,   2368.9,2
  49HO20000601,  St.3,  1,      1,      1,5,20000607,0501, 41.0000, 155.0000, -999,   2499.1,   1.7121,  34.6324,2,  34.6331,2,    101.9,2,    39.22,2,    -0.01,2,   159.40,2,     2.79,2,-999,9,   2411.2,2, -999.000,9,   2359.8,2
  49HO20000601,  St.3,  1,      1,      1,5,20000607,0501, 41.0000, 155.0000, -999,   3001.9,   1.5735,  34.6601,2,  34.6592,2,    124.2,2,    38.07,2,     0.00,2,   154.30,2,     2.65,2,-999,9,   2412.0,2, -999.000,9,   2341.9,2