BOTTLE,20091209MIRCJHATS
EXPOCODE,STNNBR,CASTNO,SAMPNO,BTLNBR,BTLNBR_FLAG_W,DATE,TIME,LATITUDE,LONGITUDE,DEPTH,CTDPRS,CTDTMP,CTDSAL,CTDSAL_FLAG_W,SALNTY,SALNTY_FLAG_W,OXYGEN,OXYGEN_FLAG_W,NO2+NO3,NO2+NO3_FLAG_W,NITRIT,NITRIT_FLAG_W,SILCAT,SILCAT_FLAG_W,PHSPHT,PHSPHT_FLAG_W,NH4,NH4_FLAG_W,ALKALI,ALKALI_FLAG_W,PH,PH_FLAG_W,TCARBN,TCARBN_FLAG_W
,,,,,,,,,,METERS,DBARS,,,,,,UMOL/KG,,UMOL/KG,,UMOL/KG,,UMOL/KG,,UMOL/KG,,UMOL/KG,,UMOL/KG,,,,UMOL/KG,
  49HO20000601,  St.4,  1,      1,      1,5,20000608,0448, 42.5000, 155.0000, -999,      0.0,  11.6299,  34.1705,2,  34.2000,2,    279.3,2,     7.89,2,     0.14,2,    15.00,2,     0.69,2,-999,9,   2268.0,2, -999.000,9,   2058.9,2
  49HO20000601,  St.4,  1,      1,      1,5,20000608,0448, 42.5000, 155.0000, -999,     11.5,  11.6758,  34.1686,2,  34.1799,2,    280.5,2,     7.75,2,     0.13,2,    15.00,2,     0.68,2,-999,9,   2268.8,2, -999.000,9,   2064.2,2
  49HO20000601,  St.4,  1,      1,      1,5,20000608,0448, 42.5000, 155.0000, -999,     20.8,  11.1364,  34.1176,2,  34.1330,2,    283.4,2,     8.45,2,     0.14,2,    16.27,2,     0.74,2,-999,9,   2267.2,2, -999.000,9,   2064.2,2
  49HO20000601,  St.4,  1,      1,      1,5,20000608,0448, 42.5000, 155.0000, -999,     31.8,  10.3080,  34.0623,2,  34.0768,2,    288.2,2,     9.16,2,     0.16,2,    17.76,2,     0.82,2,-999,9,   2265.7,2, -999.000,9,   2070.3,2
  49HO20000601,  St.4,  1,      1,      1,5,20000608,0448, 42.5000, 155.0000, -999,     39.7,   9.6064,  34.0562,2,  34.0987,2,    287.1,2,    10.60,2,     0.19,2,    18.86,2,     0.90,2,-999,9,   2264.5,2, -999.000,9,   2082.8,2
  49HO20000601,  St.4,  1,      1,      1,5,20000608,0448, 42.5000, 155.0000, -999,     50.4,   8.5425,  34.0559,2,  34.0736,2,    277.8,2,    13.44,2,     0.15,2,    20.55,2,     1.03,2,-999,9,   2262.6,2, -999.000,9,   2102.1,2
  49HO20000601,  St.4,  1,      1,      1,5,20000608,0448, 42.5000, 155.0000, -999,     61.2,   8.2988,  34.0586,2,  34.0726,2,    275.0,2,    13.89,2,     0.10,2,    21.04,2,     1.06,2,-999,9,   2263.4,2, -999.000,9,   2098.5,2
  49HO20000601,  St.4,  1,      1,      1,5,20000608,0448, 42.5000, 155.0000, -999,     79.0,   8.0833,  34.0439,2,  34.1214,2,    274.5,2,    14.37,2,     0.05,2,    21.52,2,     1.09,2,-999,9,   2263.9,2, -999.000,9,   2097.0,2
  49HO20000601,  St.4,  1,      1,      1,5,20000608,0448, 42.5000, 155.0000, -999,     99.3,   7.7502,  34.0039,2,  34.0190,2,    285.1,2,    13.66,2,     0.14,2,    20.99,2,     1.07,2,-999,9,   2259.8,2, -999.000,9,   2106.5,2
  49HO20000601,  St.4,  1,      1,      1,5,20000608,0448, 42.5000, 155.0000, -999,    125.3,   7.6328,  34.0133,2,  34.0256,2,    284.4,2,    14.24,2,     0.01,2,    20.83,2,     1.08,2,-999,9,   2260.7,2, -999.000,9,   2109.6,2
  49HO20000601,  St.4,  1,      1,      1,5,20000608,0448, 42.5000, 155.0000, -999,    150.1,   7.4940,  34.0118,2,  34.0241,2,    281.9,2,    14.39,2,     0.00,2,    21.57,2,     1.10,2,-999,9,   2261.5,2, -999.000,9,   2108.8,2
  49HO20000601,  St.4,  1,      1,      1,5,20000608,0448, 42.5000, 155.0000, -999,    198.2,   7.4578,  34.0172,2,  34.0319,2,    282.2,2,    14.70,2,    -0.01,2,    22.10,2,     1.11,2,-999,9,   2260.6,2, -999.000,9,   2108.1,2
  49HO20000601,  St.4,  1,      1,      1,5,20000608,0448, 42.5000, 155.0000, -999,    250.5,   7.4379,  34.0166,2,  34.0317,2,    280.3,2,    14.67,2,    -0.01,2,    21.97,2,     1.12,2,-999,9,   2262.5,2, -999.000,9,   2100.5,2
  49HO20000601,  St.4,  1,      1,      1,5,20000608,0448, 42.5000, 155.0000, -999,    302.4,   7.3875,  34.0107,2,  34.0179,2,    280.6,2,    14.74,2,    -0.01,2,    22.72,2,     1.13,2,-999,9,   2262.8,2, -999.000,9,   2106.7,2
  49HO20000601,  St.4,  1,      1,      1,5,20000608,0448, 42.5000, 155.0000, -999,    400.3,   6.0926,  33.8491,2,  33.8580,2,    229.5,2,    21.71,2,    -0.01,2,    38.53,2,     1.63,2,-999,9,   2264.9,2, -999.000,9,   2158.3,2
  49HO20000601,  St.4,  1,      1,      1,5,20000608,0448, 42.5000, 155.0000, -999,    500.0,   4.6996,  33.9379,2,  33.9531,2,    117.7,2,    34.08,2,    -0.01,2,    75.17,2,     2.53,2,-999,9,   2293.4,2, -999.000,9,   2263.7,2
  49HO20000601,  St.4,  1,      1,      1,5,20000608,0448, 42.5000, 155.0000, -999,    599.5,   4.3341,  34.0676,2,  34.0909,2,     75.1,2,    39.04,2,    -0.02,2,    93.78,2,     2.82,2,-999,9,   2311.6,2, -999.000,9,   2302.7,2
  49HO20000601,  St.4,  1,      1,      1,5,20000608,0448, 42.5000, 155.0000, -999,    800.4,   3.6137,  34.2313,2,  34.2354,2,     43.7,2,    41.58,2,    -0.02,2,   119.93,2,     3.05,2,-999,9,   2341.9,2, -999.000,9,   2335.1,2
  49HO20000601,  St.4,  1,      1,      1,5,20000608,0448, 42.5000, 155.0000, -999,    998.5,   3.1256,  34.3416,2,  34.3428,2,     38.9,2,    42.79,2,    -0.02,2,   135.45,2,     3.09,2,-999,9,   2364.7,2, -999.000,9,   2357.9,2
  49HO20000601,  St.4,  1,      1,      1,5,20000608,0448, 42.5000, 155.0000, -999,   1249.3,   2.7150,  34.4315,2,  34.4356,2,     39.6,2,    43.79,2,    -0.02,2,   148.23,2,     3.12,2,-999,9,   2380.6,2, -999.000,9,   2377.5,2
  49HO20000601,  St.4,  1,      1,      1,5,20000608,0448, 42.5000, 155.0000, -999,   1500.5,   2.3942,  34.4911,2,  34.4994,2,     45.7,2,    42.81,2,    -0.02,2,   157.46,2,     3.09,2,-999,9,   2391.9,2, -999.000,9,   2386.3,2
  49HO20000601,  St.4,  1,      1,      1,5,20000608,0448, 42.5000, 155.0000, -999,   2000.1,   1.9658,  34.5749,2,  34.5775,2,     65.8,2,    41.98,2,    -0.02,2,  -999.00,9,     2.99,2,-999,9,   2406.1,2, -999.000,9,   2383.5,2
  49HO20000601,  St.4,  1,      1,      1,5,20000608,0448, 42.5000, 155.0000, -999,   2499.8,   1.7181,  34.6281,2,  34.6305,2,    100.9,2,    39.38,2,    -0.02,2,   163.36,2,     2.82,2,-999,9,   2412.1,2, -999.000,9,   2364.8,2
  49HO20000601,  St.4,  1,      1,      1,5,20000608,0448, 42.5000, 155.0000, -999,   3002.3,   1.5657,  34.6566,2,  34.6585,2,    125.2,2,    37.27,2,    -0.02,2,   156.09,2,     2.69,2,-999,9,   2413.7,2, -999.000,9,   2346.2,2
  49HO20000601,KNOT_S,  1,     12,     12,2,20000608,2238, 43.2488, 155.0005, 5490,     10.1,   9.0000,  33.1750,2,-999.0000,9,    303.9,2,  -999.00,9,  -999.00,9,  -999.00,9,  -999.00,9,-999,9,   2248.4,2, -999.000,9,   2040.8,2
  49HO20000601,KNOT_S,  1,     11,     11,2,20000608,2238, 43.2488, 155.0005, 5490,     19.2,   9.2100,  33.2430,2,-999.0000,9,    303.4,2,  -999.00,9,  -999.00,9,  -999.00,9,  -999.00,9,-999,9,   2250.8,2, -999.000,9,   2036.6,2
  49HO20000601,KNOT_S,  1,     10,     10,2,20000608,2238, 43.2488, 155.0005, 5490,     30.1,   4.0300,  33.2370,2,-999.0000,9,    330.1,2,  -999.00,9,  -999.00,9,  -999.00,9,  -999.00,9,-999,9,   2251.3,2, -999.000,9,   2104.3,2
  49HO20000601,KNOT_S,  1,      9,      9,2,20000608,2238, 43.2488, 155.0005, 5490,     40.8,   3.6400,  33.2200,2,-999.0000,9,    324.0,2,  -999.00,9,  -999.00,9,  -999.00,9,  -999.00,9,-999,9,   2253.3,2, -999.000,9,   2098.6,2
  49HO20000601,KNOT_S,  1,      8,      8,2,20000608,2238, 43.2488, 155.0005, 5490,     49.8,   3.9300,  33.2910,2,-999.0000,9,    318.8,2,  -999.00,9,  -999.00,9,  -999.00,9,  -999.00,9,-999,9,   2252.6,2, -999.000,9,   2107.4,2
  49HO20000601,KNOT_S,  1,      7,      7,2,20000608,2238, 43.2488, 155.0005, 5490,     61.0,   3.3000,  33.2660,2,-999.0000,9,    316.8,2,  -999.00,9,  -999.00,9,  -999.00,9,  -999.00,9,-999,9,   2251.5,2, -999.000,9,   2116.3,2
  49HO20000601,KNOT_S,  1,      6,      6,2,20000608,2238, 43.2488, 155.0005, 5490,     80.0,   2.6700,  33.2380,2,-999.0000,9,    317.8,2,  -999.00,9,  -999.00,9,  -999.00,9,  -999.00,9,-999,9,   2250.3,2, -999.000,9,   2121.6,2
  49HO20000601,KNOT_S,  1,      5,      5,2,20000608,2238, 43.2488, 155.0005, 5490,    100.7,   2.5900,  33.2780,2,-999.0000,9,    310.2,2,  -999.00,9,  -999.00,9,  -999.00,9,  -999.00,9,-999,9,   2252.1,2, -999.000,9,   2134.1,2
  49HO20000601,KNOT_S,  1,      4,      4,2,20000608,2238, 43.2488, 155.0005, 5490,    125.6,   3.3100,  33.4000,2,-999.0000,9,    287.2,2,  -999.00,9,  -999.00,9,  -999.00,9,  -999.00,9,-999,9,   2257.7,2, -999.000,9,   2132.0,2
  49HO20000601,KNOT_S,  1,      3,      3,2,20000608,2238, 43.2488, 155.0005, 5490,    150.1,   2.7900,  33.4190,2,-999.0000,9,    242.9,2,  -999.00,9,  -999.00,9,  -999.00,9,  -999.00,9,-999,9,   2266.5,2, -999.000,9,   2182.3,2
  49HO20000601,KNOT_S,  1,      2,      2,2,20000608,2238, 43.2488, 155.0005, 5490,    198.7,   4.4800,  33.7770,2,-999.0000,9,    163.3,2,  -999.00,9,  -999.00,9,  -999.00,9,  -999.00,9,-999,9,   2287.5,2, -999.000,9,   2217.4,2
  49HO20000601,KNOT_S,  1,      1,      1,2,20000608,2238, 43.2488, 155.0005, 5490,    249.9,   3.2100,  33.7190,2,-999.0000,9,    113.8,2,  -999.00,9,  -999.00,9,  -999.00,9,  -999.00,9,-999,9,   2294.9,2, -999.000,9,   2264.0,2
  49HO20000601,  KNOT,  1,      1,      1,5,20000609,0334, 44.0000, 155.0000, -999,      0.0,   6.7305,  32.9146,2,-999.0000,9,    324.4,2,    17.36,2,     0.19,2,    34.55,2,     1.55,2,-999,9,   2225.1,2,    7.783,2,   2073.0,2
  49HO20000601,  KNOT,  1,      1,      1,5,20000609,0334, 44.0000, 155.0000, -999,     10.0,   6.5777,  32.9469,2,-999.0000,9,    326.4,2,    17.19,2,     0.18,2,    34.51,2,     1.51,2,-999,9,   2230.1,2,    7.794,2,   2068.5,2
  49HO20000601,  KNOT,  1,      1,      1,5,20000609,0334, 44.0000, 155.0000, -999,     21.3,   6.3629,  32.9447,2,-999.0000,9,    325.5,2,    17.49,2,     0.18,2,    34.92,2,     1.54,2,-999,9,   2229.1,2,    7.786,2,   2069.3,2
  49HO20000601,  KNOT,  1,      1,      1,5,20000609,0334, 44.0000, 155.0000, -999,     30.5,   3.1806,  32.9947,2,-999.0000,9,    320.4,2,    20.73,2,     0.20,2,    37.45,2,     1.78,2,-999,9,   2228.4,2,    7.708,2,   2101.7,2
  49HO20000601,  KNOT,  1,      1,      1,5,20000609,0334, 44.0000, 155.0000, -999,     40.4,   1.8049,  32.9762,2,-999.0000,9,    320.7,2,    22.97,2,     0.23,2,    39.62,2,     1.91,2,-999,9,   2227.8,2,    7.674,2,   2098.2,2
  49HO20000601,  KNOT,  1,      1,      1,5,20000609,0334, 44.0000, 155.0000, -999,     50.2,   1.7200,  32.9871,2,-999.0000,9,    320.1,2,    22.91,2,     0.24,2,    39.85,2,     1.92,2,-999,9,   2228.1,2,    7.674,2,   2099.8,2
  49HO20000601,  KNOT,  1,      1,      1,5,20000609,0334, 44.0000, 155.0000, -999,     60.8,   1.8025,  33.0020,2,-999.0000,9,    320.1,2,    23.21,2,     0.26,2,    40.05,2,     1.92,2,-999,9,   2228.5,2,    7.669,2,   2107.2,2
  49HO20000601,  KNOT,  1,      1,      1,5,20000609,0334, 44.0000, 155.0000, -999,     80.1,   1.2837,  33.0170,2,-999.0000,9,    315.3,2,    23.95,2,     0.42,2,    40.99,2,     1.96,2,-999,9,   2228.9,2,    7.654,2,   2143.0,2
  49HO20000601,  KNOT,  1,      1,      1,5,20000609,0334, 44.0000, 155.0000, -999,     99.2,   1.7214,  33.1249,2,-999.0000,9,    308.0,2,    24.02,2,     0.40,2,    41.03,2,     1.92,2,-999,9,   2232.4,2,    7.646,2,   2147.6,2
  49HO20000601,  KNOT,  1,      1,      1,5,20000609,0334, 44.0000, 155.0000, -999,    124.6,   2.3310,  33.3019,2,-999.0000,9,    265.8,2,    25.99,2,     0.01,2,    46.94,2,     2.01,2,-999,9,   2243.8,2,    7.617,2,   2159.0,2
  49HO20000601,  KNOT,  1,      1,      1,5,20000609,0334, 44.0000, 155.0000, -999,    150.3,   2.3250,  33.4130,2,-999.0000,9,    197.4,2,    31.42,2,     0.00,2,    62.48,2,     2.41,2,-999,9,   2256.5,2,    7.489,2,   2215.7,2
  49HO20000601,  KNOT,  1,      1,      1,5,20000609,0334, 44.0000, 155.0000, -999,    199.9,   3.0244,  33.6717,2,-999.0000,9,    123.8,2,    36.62,2,     0.00,2,    79.23,2,     2.73,2,-999,9,   2277.8,2,    7.403,2,   2261.9,2
  49HO20000601,  KNOT,  1,      1,      1,5,20000609,0334, 44.0000, 155.0000, -999,    251.5,   3.1059,  33.8136,2,-999.0000,9,     75.4,2,    40.75,2,     0.00,2,    94.08,2,     3.01,2,-999,9,   2292.6,2,    7.316,2,   2302.5,2
  49HO20000601,  KNOT,  1,      1,      1,5,20000609,0334, 44.0000, 155.0000, -999,    300.6,   3.3389,  33.9418,2,-999.0000,9,     48.2,2,    42.88,2,    -0.01,2,   104.57,2,     3.13,2,-999,9,   2306.2,2,    7.294,2,   2316.9,2
  49HO20000601,  KNOT,  1,      1,      1,5,20000609,0334, 44.0000, 155.0000, -999,    400.9,   3.3119,  34.0813,2,-999.0000,9,     28.1,2,    44.40,2,     0.00,2,   117.60,2,     3.21,2,-999,9,   2325.0,2,    7.282,2,   2344.5,2
  49HO20000601,  KNOT,  1,      1,      1,5,20000609,0334, 44.0000, 155.0000, -999,    500.6,   3.2173,  34.1784,2,-999.0000,9,     26.1,2,    43.94,2,    -0.01,2,   126.43,2,     3.20,2,-999,9,   2340.3,2,    7.296,2,   2349.3,2
  49HO20000601,  KNOT,  1,      1,      1,5,20000609,0334, 44.0000, 155.0000, -999,    601.3,   3.0573,  34.2506,2,-999.0000,9,     25.0,2,    44.37,2,     0.00,2,   134.67,2,     3.20,2,-999,9,   2350.7,2,    7.307,2,   2364.9,2
  49HO20000601,  KNOT,  1,      1,      1,5,20000609,0334, 44.0000, 155.0000, -999,    700.3,   2.9313,  34.3067,2,-999.0000,9,     26.8,2,    44.19,2,     0.00,2,   139.81,2,     3.19,2,-999,9,   -999.0,9,    7.319,2,   2371.3,2
  49HO20000601,  KNOT,  1,      1,      1,5,20000609,0334, 44.0000, 155.0000, -999,    800.1,   2.7935,  34.3573,2,-999.0000,9,     29.8,2,    43.57,2,     0.00,2,   142.13,2,     3.15,2,-999,9,   -999.0,9,    7.332,2,   2371.5,2
  49HO20000601,  KNOT,  1,      1,      1,5,20000609,0334, 44.0000, 155.0000, -999,   1000.0,   2.5187,  34.4265,2,-999.0000,9,     33.2,2,    43.43,2,     0.00,2,   153.40,2,     3.15,2,-999,9,   -999.0,9,    7.344,2,   2372.1,2
  49HO20000601,  KNOT,  1,      1,      1,5,20000609,0334, 44.0000, 155.0000, -999,   1250.9,   2.2808,  34.4931,2,-999.0000,9,     40.4,2,    42.82,2,    -0.01,2,   160.85,2,     3.12,2,-999,9,   -999.0,9,    7.366,2,   2378.9,2
  49HO20000601,  KNOT,  1,      1,      1,5,20000609,0334, 44.0000, 155.0000, -999,   1499.5,   2.1122,  34.5416,2,-999.0000,9,     57.1,2,    42.42,2,    -0.01,2,   162.14,2,     3.05,2,-999,9,   -999.0,9,    7.398,2,   2378.7,2
  49HO20000601,  KNOT,  1,      1,      1,5,20000609,0334, 44.0000, 155.0000, -999,   1999.7,   1.8087,  34.6062,2,-999.0000,9,     82.2,2,    40.73,2,    -0.01,2,   163.25,2,     2.90,2,-999,9,   2410.2,2,    7.453,2,   2371.0,2
  49HO20000601,  KNOT,  1,      1,      1,5,20000609,0334, 44.0000, 155.0000, -999,   2500.0,   1.6191,  34.6406,2,-999.0000,9,    106.2,2,    39.13,2,    -0.01,2,   159.21,2,     2.77,2,-999,9,   2412.4,2,    7.501,2,   2354.7,2
  49HO20000601,  KNOT,  1,      1,      1,5,20000609,0334, 44.0000, 155.0000, -999,   3000.1,   1.5154,  34.6608,2,-999.0000,9,    124.4,2,    37.67,2,    -0.01,2,   151.89,2,     2.67,2,-999,9,   2413.2,2,    7.534,2,   2340.8,2