BOTTLE,20100108MIRCJHATS
EXPOCODE,STNNBR,CASTNO,SAMPNO,BTLNBR,BTLNBR_FLAG_W,DATE,TIME,LATITUDE,LONGITUDE,DEPTH,CTDPRS,CTDTMP,CTDSAL,CTDSAL_FLAG_W,SALNTY,SALNTY_FLAG_W,OXYGEN,OXYGEN_FLAG_W,NITRAT,NITRAT_FLAG_W,NITRIT,NITRIT_FLAG_W,SILCAT,SILCAT_FLAG_W,PHSPHT,PHSPHT_FLAG_W,NH4,NH4_FLAG_W,ALKALI,ALKALI_FLAG_W,PH,PH_FLAG_W,TCARBN,TCARBN_FLAG_W
,,,,,,,,,,METERS,DBARS,,,,,,UMOL/KG,,UMOL/KG,,UMOL/KG,,UMOL/KG,,UMOL/KG,,UMOL/KG,,UMOL/KG,,,,UMOL/KG,
  49HO20000729,     7,  1,      1,      1,5,20000806,0000, 35.0000, 155.0000,    0,      0.0,  27.9042,  34.1028,2,  34.1028,2,   -999.0,9,  -999.00,9,  -999.00,9,  -999.00,9,  -999.00,9,-999,9,   2269.7,2,    8.078,2,   1969.5,2
  49HO20000729,     7,  1,      1,      1,5,20000806,0000, 35.0000, 155.0000,    0,     10.1,  27.1606,  34.2729,2,  34.2991,2,   -999.0,9,  -999.00,9,  -999.00,9,  -999.00,9,  -999.00,9,-999,9,   2258.0,2,    8.073,2,   1965.1,2
  49HO20000729,     7,  1,      1,      1,5,20000806,0000, 35.0000, 155.0000,    0,     20.8,  21.5600,  34.3928,2,  34.4059,2,   -999.0,9,  -999.00,9,  -999.00,9,  -999.00,9,  -999.00,9,-999,9,   2265.3,2,    8.063,2,   1981.7,2
  49HO20000729,     7,  1,      1,      1,5,20000806,0000, 35.0000, 155.0000,    0,     31.0,  19.8184,  34.4919,2,  34.5107,2,   -999.0,9,  -999.00,9,  -999.00,9,  -999.00,9,  -999.00,9,-999,9,   2272.4,2,    8.060,2,   1983.4,2
  49HO20000729,     7,  1,      1,      1,5,20000806,0000, 35.0000, 155.0000,    0,     40.8,  18.2674,  34.5326,2,  34.5462,2,   -999.0,9,  -999.00,9,  -999.00,9,  -999.00,9,  -999.00,9,-999,9,   2274.1,2,    8.050,2,   1992.7,2
  49HO20000729,     7,  1,      1,      1,5,20000806,0000, 35.0000, 155.0000,    0,     50.9,  16.8296,  34.5352,2,  34.5477,2,   -999.0,9,  -999.00,9,  -999.00,9,  -999.00,9,  -999.00,9,-999,9,   2279.6,2,    8.042,2,   1995.6,2
  49HO20000729,     7,  1,      1,      1,5,20000806,0000, 35.0000, 155.0000,    0,     60.4,  16.1735,  34.5307,2,  34.5415,2,   -999.0,9,  -999.00,9,  -999.00,9,  -999.00,9,  -999.00,9,-999,9,   2279.6,2,    8.022,2,   2015.3,2
  49HO20000729,     7,  1,      1,      1,5,20000806,0000, 35.0000, 155.0000,    0,     79.8,  15.1881,  34.5321,2,  34.5462,2,   -999.0,9,  -999.00,9,  -999.00,9,  -999.00,9,  -999.00,9,-999,9,   2276.0,2,    7.981,2,   2024.6,2
  49HO20000729,     7,  1,      1,      1,5,20000806,0000, 35.0000, 155.0000,    0,    101.0,  14.0324,  34.5339,2,  34.5373,2,   -999.0,9,  -999.00,9,  -999.00,9,  -999.00,9,  -999.00,9,-999,9,   2268.2,2,    7.921,2,   2059.2,2
  49HO20000729,     7,  1,      1,      1,5,20000806,0000, 35.0000, 155.0000,    0,    125.4,  12.8532,  34.4614,2,  34.4716,2,   -999.0,9,  -999.00,9,  -999.00,9,  -999.00,9,  -999.00,9,-999,9,   2271.0,2,    7.880,2,   2073.3,2
  49HO20000729,     7,  1,      1,      1,5,20000806,0000, 35.0000, 155.0000,    0,    150.5,  12.3476,  34.4244,2,  34.4354,2,   -999.0,9,  -999.00,9,  -999.00,9,  -999.00,9,  -999.00,9,-999,9,   2271.9,2,    7.870,2,   2076.7,2
  49HO20000729,     7,  1,      1,      1,5,20000806,0000, 35.0000, 155.0000,    0,    201.0,  10.9551,  34.3065,2,  34.3179,2,   -999.0,9,  -999.00,9,  -999.00,9,  -999.00,9,  -999.00,9,-999,9,   2276.5,2,    7.834,2,   2101.6,2
  49HO20000729,     7,  1,      1,      1,5,20000806,0000, 35.0000, 155.0000,    0,    251.8,   9.3898,  34.1412,2,  34.1974,2,   -999.0,9,  -999.00,9,  -999.00,9,  -999.00,9,  -999.00,9,-999,9,   2271.1,2,    7.812,2,   2103.3,2
  49HO20000729,     7,  1,      1,      1,5,20000806,0000, 35.0000, 155.0000,    0,    299.9,   7.8936,  34.0074,2,  34.0186,2,   -999.0,9,  -999.00,9,  -999.00,9,  -999.00,9,  -999.00,9,-999,9,   2271.2,2,    7.724,2,   2139.5,2
  49HO20000729,     7,  1,      1,      1,5,20000806,0000, 35.0000, 155.0000,    0,    400.9,   5.7597,  33.9183,2,  33.9331,2,   -999.0,9,  -999.00,9,  -999.00,9,  -999.00,9,  -999.00,9,-999,9,   2280.3,2,    7.585,2,   2196.6,2
  49HO20000729,     7,  1,      1,      1,5,20000806,0000, 35.0000, 155.0000,    0,    500.7,   4.8598,  33.9915,2,  33.9993,2,   -999.0,9,  -999.00,9,  -999.00,9,  -999.00,9,  -999.00,9,-999,9,   2299.3,2,    7.465,2,   2256.5,2
  49HO20000729,     7,  1,      1,      1,5,20000806,0000, 35.0000, 155.0000,    0,    601.8,   4.5396,  34.1381,2,  34.1491,2,   -999.0,9,  -999.00,9,  -999.00,9,  -999.00,9,  -999.00,9,-999,9,   2322.2,2,    7.408,2,   2292.2,2
  49HO20000729,     7,  1,      1,      1,5,20000806,0000, 35.0000, 155.0000,    0,    701.3,   4.1224,  34.2221,2,  34.2259,2,   -999.0,9,  -999.00,9,  -999.00,9,  -999.00,9,  -999.00,9,-999,9,   2339.4,2,    7.383,2,   2313.9,2
  49HO20000729,     7,  1,      1,      1,5,20000806,0000, 35.0000, 155.0000,    0,    801.3,   3.7548,  34.2827,2,  34.2885,2,   -999.0,9,  -999.00,9,  -999.00,9,  -999.00,9,  -999.00,9,-999,9,   2352.9,2,    7.370,2,   2338.3,2
  49HO20000729,     7,  1,      1,      1,5,20000806,0000, 35.0000, 155.0000,    0,   1002.0,   3.1855,  34.3722,2,  34.3793,2,   -999.0,9,  -999.00,9,  -999.00,9,  -999.00,9,  -999.00,9,-999,9,   2368.7,2,    7.358,2,   2353.9,2
  49HO20000729,     7,  1,      1,      1,5,20000806,0000, 35.0000, 155.0000,    0,   1251.3,   2.6530,  34.4554,2,  34.4530,2,   -999.0,9,  -999.00,9,  -999.00,9,  -999.00,9,  -999.00,9,-999,9,   2388.1,2,    7.360,2,   2374.5,2
  49HO20000729,     7,  1,      1,      1,5,20000806,0000, 35.0000, 155.0000,    0,   1500.9,   2.3457,  34.5136,2,  34.5120,2,   -999.0,9,  -999.00,9,  -999.00,9,  -999.00,9,  -999.00,9,-999,9,   2397.3,2,    7.381,2,   2373.9,2
  49HO20000729,     7,  1,      1,      1,5,20000806,0000, 35.0000, 155.0000,    0,   2000.5,   1.9132,  34.6016,2,  34.6005,2,   -999.0,9,  -999.00,9,  -999.00,9,  -999.00,9,  -999.00,9,-999,9,   2410.0,2,    7.443,2,   2372.9,2
  49HO20000729,     7,  1,      1,      1,5,20000806,0000, 35.0000, 155.0000,    0,   2500.7,   1.6556,  34.6481,2,  34.6448,2,   -999.0,9,  -999.00,9,  -999.00,9,  -999.00,9,  -999.00,9,-999,9,   2414.8,2,    7.501,2,   2356.1,2
  49HO20000729,     7,  1,      1,      1,5,20000806,0000, 35.0000, 155.0000,    0,   3000.2,   1.5246,  34.6750,2,  34.6648,2,   -999.0,9,  -999.00,9,  -999.00,9,  -999.00,9,  -999.00,9,-999,9,   2418.4,2,    7.545,2,   -999.0,9