BOTTLE,20120921MIRCJHATS
EXPOCODE,STNNBR,CASTNO,SAMPNO,BTLNBR,BTLNBR_FLAG_W,DATE,TIME,LATITUDE,LONGITUDE,DEPTH,CTDPRS,CTDTMP,CTDSAL,CTDSAL_FLAG_W,SALNTY,SALNTY_FLAG_W,OXYGEN,OXYGEN_FLAG_W,NITRAT,NITRAT_FLAG_W,NITRIT,NITRIT_FLAG_W,SILCAT,SILCAT_FLAG_W,PHSPHT,PHSPHT_FLAG_W,NH4,NH4_FLAG_W,ALKALI,ALKALI_FLAG_W,PH,PH_FLAG_W,TCARBN,TCARBN_FLAG_W
,,,,,,,,,,METERS,DBARS,,,,,,UMOL/KG,,UMOL/KG,,UMOL/KG,,UMOL/KG,,UMOL/KG,,UMOL/KG,,UMOL/KG,,,,UMOL/KG,
  49NZ19971111,6_1(L2),  1,      1,      1,5,19971122,0133, 50.0000, 165.0000, -999,     11.3,   5.3050,  32.9710,2,  32.9700,2,    306.6,2,    21.40,2,     0.18,2,    39.30,2,     1.76,2,-999,9,   2227.0,2,    7.893,3,   2087.2,2
  49NZ19971111,6_1(L2),  1,      1,      1,5,19971122,0133, 50.0000, 165.0000, -999,     30.5,   5.3080,  32.9710,2,  32.9700,2,    306.5,2,    21.40,2,     0.18,2,    39.40,2,     1.78,2,-999,9,   2232.0,2,    7.893,3,   2091.0,2
  49NZ19971111,6_1(L2),  1,      1,      1,5,19971122,0133, 50.0000, 165.0000, -999,     51.6,   5.3070,  32.9710,2,  32.9600,2,    306.6,2,    21.50,2,     0.18,2,    39.60,2,     1.79,2,-999,9,   2237.0,2,    7.892,3,   2086.3,2
  49NZ19971111,6_1(L2),  1,      1,      1,5,19971122,0133, 50.0000, 165.0000, -999,     75.2,   5.3080,  32.9710,2,  32.9700,2,    306.7,2,    21.60,2,     0.18,2,    39.70,2,     1.80,2,-999,9,   2234.0,2,    7.889,3,   2088.4,2
  49NZ19971111,6_1(L2),  1,      1,      1,5,19971122,0133, 50.0000, 165.0000, -999,    105.1,   3.9350,  33.1770,2,  33.1700,2,    261.8,2,    27.60,2,     0.05,2,    50.70,2,     2.14,2,-999,9,   2251.0,2,    7.748,3,   2143.3,2
  49NZ19971111,6_1(L2),  1,      1,      1,5,19971122,0133, 50.0000, 165.0000, -999,    150.8,   4.2620,  33.3970,2,  33.3900,2,    170.8,2,    32.50,2,     0.15,2,    63.60,2,     2.44,2,-999,9,   2262.0,2,    7.617,3,   2206.1,2
  49NZ19971111,6_1(L2),  1,      1,      1,5,19971122,0133, 50.0000, 165.0000, -999,    200.1,   4.1510,  33.5520,2,  33.5400,2,    133.6,2,    35.30,2,     0.08,2,    72.10,2,     2.59,2,-999,9,   2276.0,2,    7.560,3,   2239.4,2
  49NZ19971111,6_1(L2),  1,      1,      1,5,19971122,0133, 50.0000, 165.0000, -999,    253.7,   3.9940,  33.6760,2,  33.6700,2,    106.7,2,    37.60,2,     0.12,2,    79.30,2,     2.75,2,-999,9,   2274.0,2,    7.514,3,   2262.9,2
  49NZ19971111,6_1(L2),  1,      1,      1,5,19971122,0133, 50.0000, 165.0000, -999,    302.2,   3.8470,  33.7920,2,  33.7900,2,     79.4,2,    39.90,2,     0.13,2,    86.50,2,     2.88,2,-999,9,   2297.0,2,    7.470,3,   2283.6,2
  49NZ19971111,6_1(L2),  1,      1,      1,5,19971122,0133, 50.0000, 165.0000, -999,    404.1,   3.7010,  33.9270,2,  33.9300,2,     47.5,2,    42.30,2,     0.14,2,    96.70,2,     3.03,2,-999,9,   2305.0,2,    7.423,3,   2316.8,2
  49NZ19971111,6_1(L2),  1,      1,      1,5,19971122,0133, 50.0000, 165.0000, -999,    505.7,   3.6100,  34.0320,2,  34.0300,2,     31.0,2,    43.30,2,     0.13,2,   106.30,2,     3.10,2,-999,9,   2314.0,2,    7.412,3,   2333.8,2
  49NZ19971111,6_1(L2),  1,      1,      1,5,19971122,0133, 50.0000, 165.0000, -999,    605.7,   3.4770,  34.1360,2,  34.1400,2,     23.2,2,    43.70,2,     0.10,2,   117.00,2,     3.12,2,-999,9,   2330.0,2,    7.415,3,   2349.0,2
  49NZ19971111,6_2(L3),  1,      1,      1,5,19971122,0402, 50.0000, 165.0000, -999,    706.8,   3.3570,  34.1970,2,  34.1900,2,     20.4,2,    43.70,2,     0.09,2,   123.30,2,     3.13,2,-999,9,   2346.0,2,    7.424,3,   2363.1,2
  49NZ19971111,6_2(L3),  1,      1,      1,5,19971122,0402, 50.0000, 165.0000, -999,    808.7,   3.2150,  34.2510,2,  34.2500,2,     19.3,2,    43.80,2,     0.09,2,   129.60,2,     3.13,2,-999,9,   2350.0,2,    7.430,3,   2370.0,2
  49NZ19971111,6_2(L3),  1,      1,      1,5,19971122,0402, 50.0000, 165.0000, -999,    909.4,   3.0320,  34.3110,2,  34.3000,2,     18.7,2,    43.80,2,     0.11,2,   137.00,2,     3.12,2,-999,9,   2367.0,2,    7.435,3,   2374.5,2
  49NZ19971111,6_2(L3),  1,      1,      1,5,19971122,0402, 50.0000, 165.0000, -999,   1008.8,   2.9140,  34.3460,2,  34.3500,2,     18.9,2,    43.80,2,     0.14,2,   141.90,2,     3.14,2,-999,9,   2364.0,2,    7.442,3,   2383.0,2
  49NZ19971111,6_2(L3),  1,      1,      1,5,19971122,0402, 50.0000, 165.0000, -999,   1110.7,   2.7430,  34.3900,2,  34.3900,2,     20.5,2,    43.90,2,     0.10,2,   148.10,2,     3.14,2,-999,9,   2374.0,2,    7.447,3,   2386.3,2
  49NZ19971111,6_2(L3),  1,      1,      1,5,19971122,0402, 50.0000, 165.0000, -999,   1212.8,   2.6540,  34.4130,2,  34.4100,2,     21.9,2,    43.80,2,     0.07,2,   151.20,2,     3.13,2,-999,9,   2380.0,2,    7.454,3,   2383.8,2
  49NZ19971111,6_2(L3),  1,      1,      1,5,19971122,0402, 50.0000, 165.0000, -999,   1313.9,   2.4490,  34.4600,2,  34.4600,2,     26.9,2,    43.50,2,     0.02,2,   157.50,2,     3.10,2,-999,9,   2387.0,2,    7.468,3,   2391.0,2
  49NZ19971111,6_2(L3),  1,      1,      1,5,19971122,0402, 50.0000, 165.0000, -999,   1415.4,   2.3360,  34.4870,2,  34.4900,2,     31.9,2,    43.30,2,     0.02,2,   160.00,2,     3.08,2,-999,9,   2391.0,2,    7.485,3,   2386.5,2
  49NZ19971111,6_2(L3),  1,      1,      1,5,19971122,0402, 50.0000, 165.0000, -999,   1515.5,   2.2420,  34.5090,2,  34.5100,2,     37.1,2,    43.00,2,     0.02,2,   162.30,2,     3.06,2,-999,9,   2389.0,2,    7.492,3,   2391.2,2
  49NZ19971111,6_2(L3),  1,      1,      1,5,19971122,0402, 50.0000, 165.0000, -999,   1773.5,   2.0630,  34.5500,2,  34.5500,2,     49.5,2,    42.30,2,     0.01,2,   165.90,2,     3.01,2,-999,9,   2402.0,2,    7.519,3,   2388.2,2
  49NZ19971111,6_2(L3),  1,      1,      1,5,19971122,0402, 50.0000, 165.0000, -999,   2024.9,   1.9270,  34.5800,2,  34.5800,2,     62.7,2,    41.50,2,     0.02,2,   167.70,2,     2.95,2,-999,9,   2402.0,2,    7.546,3,   2381.1,2
  49NZ19971111,6_2(L3),  1,      1,      1,5,19971122,0402, 50.0000, 165.0000, -999,   2279.7,   1.7920,  34.6090,2,  34.6100,2,     79.8,2,    40.40,2,     0.02,2,   167.40,2,     2.87,2,-999,9,   -999.0,9,    7.582,3,   2377.0,2
  49NZ19971111,6_2(L3),  1,      1,      1,5,19971122,0402, 50.0000, 165.0000, -999,   2533.8,   1.7230,  34.6240,2,  34.6200,3,     91.0,2,    39.60,2,     0.02,2,   166.80,2,     2.82,2,-999,9,   2409.0,2,    7.602,3,   2369.0,2
  49NZ19971111,6_2(L3),  1,      1,      1,5,19971122,0402, 50.0000, 165.0000, -999,   2792.3,   1.6650,  34.6380,2,  34.6400,2,    102.3,2,    39.00,2,     0.01,2,   165.70,2,     2.78,2,-999,9,   -999.0,9,    7.625,3,   2360.4,2
  49NZ19971111,6_2(L3),  1,      1,      1,5,19971122,0402, 50.0000, 165.0000, -999,   3044.4,   1.5370,  34.6590,2,  34.6600,2,    124.7,2,    37.80,2,     0.02,2,   159.20,2,     2.67,2,-999,9,   2414.0,2,    7.665,3,   2349.5,2
  49NZ19971111,6_2(L3),  1,      1,      1,5,19971122,0402, 50.0000, 165.0000, -999,   3301.1,   1.4820,  34.6690,2,  34.6700,2,    136.5,2,    36.80,2,     0.01,2,   155.20,2,     2.59,2,-999,9,   -999.0,9,    7.685,3,   2340.4,2
  49NZ19971111,6_2(L3),  1,      1,      1,5,19971122,0402, 50.0000, 165.0000, -999,   3558.2,   1.4580,  34.6750,2,  34.6800,2,    143.5,2,    36.40,2,     0.01,2,   151.70,2,     2.57,2,-999,9,   -999.0,9,    7.697,3,   2334.1,2
  49NZ19971111,6_2(L3),  1,      1,      1,5,19971122,0402, 50.0000, 165.0000, -999,   3814.0,   1.4520,  34.6790,2,  34.6800,2,    148.3,2,    36.00,2,     0.01,2,   149.10,2,     2.54,2,-999,9,   -999.0,9,    7.705,3,   2331.7,2
  49NZ19971111,6_2(L3),  1,      1,      1,5,19971122,0402, 50.0000, 165.0000, -999,   4070.3,   1.4610,  34.6810,2,-999.0000,9,    151.0,2,    35.90,2,     0.01,2,   148.40,2,     2.53,2,-999,9,   -999.0,9,    7.709,3,   2328.2,2
  49NZ19971111,6_2(L3),  1,      1,      1,5,19971122,0402, 50.0000, 165.0000, -999,   4584.0,   1.4890,  34.6840,2,  34.6800,2,    155.0,2,    35.70,2,     0.01,2,   148.70,2,     2.52,2,-999,9,   2410.0,2,    7.715,3,   2322.7,2
  49NZ19971111,6_2(L3),  1,      1,      1,5,19971122,0402, 50.0000, 165.0000, -999,   4841.6,   1.5060,  34.6850,2,  34.6800,2,    157.1,2,    35.50,2,     0.01,2,   148.50,2,     2.50,2,-999,9,   2411.0,2,    7.717,3,   2321.2,2
  49NZ19971111,6_2(L3),  1,      1,      1,5,19971122,0402, 50.0000, 165.0000, -999,   5098.3,   1.5310,  34.6860,2,  34.6900,2,    158.1,2,    35.50,2,     0.00,2,   148.80,2,     2.50,2,-999,9,   2412.0,2,    7.721,3,   2321.8,2
  49NZ19971111,7_1(L3),  1,      1,      1,5,19971123,2214, 49.9950, 169.9920, -999,      7.9,   5.6680,  32.7970,2,  32.7900,2,    306.9,2,    16.40,2,     0.17,2,    25.80,2,     1.52,2,-999,9,   2217.0,2,    7.909,3,   2059.2,2
  49NZ19971111,7_1(L3),  1,      1,      1,5,19971123,2214, 49.9950, 169.9920, -999,     30.2,   5.6200,  32.8070,2,  32.8000,2,    305.1,2,    16.70,2,     0.17,2,    26.40,2,     1.56,2,-999,9,   2222.0,2,    7.904,3,   2067.3,2
  49NZ19971111,7_1(L3),  1,      1,      1,5,19971123,2214, 49.9950, 169.9920, -999,     50.1,   5.6110,  32.8090,2,  32.8000,2,    304.4,2,    16.80,2,     0.17,2,    26.50,2,     1.57,2,-999,9,   2220.0,2,    7.904,3,   2066.4,2
  49NZ19971111,7_1(L3),  1,      1,      1,5,19971123,2214, 49.9950, 169.9920, -999,     76.3,   3.7100,  33.0200,2,  33.0400,2,    274.1,2,    25.30,2,     0.04,2,    41.90,2,     2.01,2,-999,9,   2230.0,2,    7.767,3,   2131.1,2
  49NZ19971111,7_1(L3),  1,      1,      1,5,19971123,2214, 49.9950, 169.9920, -999,    101.6,   3.2360,  33.2800,2,  33.2600,2,    208.0,2,    31.10,2,     0.03,2,    55.60,2,     2.37,2,-999,9,   2241.0,2,    7.642,3,   2186.9,2
  49NZ19971111,7_1(L3),  1,      1,      1,5,19971123,2214, 49.9950, 169.9920, -999,    150.1,   3.3180,  33.7300,2,  33.7200,2,     73.6,2,    41.90,2,     0.02,2,    85.30,2,     3.04,2,-999,9,   2285.0,2,    7.410,3,   2293.5,2
  49NZ19971111,7_1(L3),  1,      1,      1,5,19971123,2214, 49.9950, 169.9920, -999,    202.5,   3.4430,  33.8720,2,  33.8700,2,     37.1,2,    44.50,2,     0.02,2,    95.70,2,     3.18,2,-999,9,   2295.0,2,    7.364,3,   2319.9,2
  49NZ19971111,7_1(L3),  1,      1,      1,5,19971123,2214, 49.9950, 169.9920, -999,    255.2,   3.4620,  33.9470,2,  33.9400,2,     25.3,2,    45.30,2,     0.02,2,   102.50,2,     3.25,2,-999,9,   2306.0,2,    7.348,3,   2337.0,2
  49NZ19971111,7_1(L3),  1,      1,      1,5,19971123,2214, 49.9950, 169.9920, -999,    302.6,   3.4460,  34.0150,2,  34.0200,2,     21.7,2,    44.70,2,     0.02,2,   108.80,2,     3.21,2,-999,9,   2314.0,2,    7.369,3,   2341.3,2
  49NZ19971111,7_1(L3),  1,      1,      1,5,19971123,2214, 49.9950, 169.9920, -999,    403.4,   3.4630,  34.1180,2,  34.1200,2,     26.7,2,    43.40,2,     0.00,2,   115.40,2,     3.11,2,-999,9,   2328.0,2,    7.408,3,   2339.0,2
  49NZ19971111,7_1(L3),  1,      1,      1,5,19971123,2214, 49.9950, 169.9920, -999,    503.8,   3.3250,  34.2010,2,  34.2000,2,     22.7,2,    43.50,2,     0.00,2,   124.00,2,     3.13,2,-999,9,   2341.0,2,    7.415,3,   2357.5,2
  49NZ19971111,7_1(L3),  1,      1,      1,5,19971123,2214, 49.9950, 169.9920, -999,    605.4,   3.1380,  34.2570,2,  34.2600,2,     19.6,2,    43.70,2,     0.00,2,   131.90,2,     3.15,2,-999,9,   2347.0,2,    7.416,3,   2362.3,2
  49NZ19971111,7_1(L3),  1,      1,      1,5,19971123,2214, 49.9950, 169.9920, -999,    706.5,   3.0040,  34.3090,2,  34.3000,2,     18.4,2,    43.70,2,     0.00,2,   137.50,2,     3.15,2,-999,9,   -999.0,9,    7.421,3,   -999.0,9
  49NZ19971111,7_1(L3),  1,      1,      1,5,19971123,2214, 49.9950, 169.9920, -999,    807.9,   2.8820,  34.3470,2,  34.3400,2,     19.1,2,    43.70,2,     0.00,2,   142.70,2,     3.14,2,-999,9,   2367.0,2,    7.429,3,   2374.0,2
  49NZ19971111,7_1(L3),  1,      1,      1,5,19971123,2214, 49.9950, 169.9920, -999,    908.4,   2.7350,  34.3880,2,  34.3800,2,     20.3,2,    43.80,2,     0.00,2,   148.30,2,     3.15,2,-999,9,   2370.0,2,    7.435,3,   2378.4,2
  49NZ19971111,7_1(L3),  1,      1,      1,5,19971123,2214, 49.9950, 169.9920, -999,   1010.6,   2.6080,  34.4200,2,  34.4100,2,     22.9,2,    43.70,2,     0.00,2,   151.70,2,     3.15,2,-999,9,   2379.0,2,    7.442,3,   2380.0,2
  49NZ19971111,7_1(L3),  1,      1,      1,5,19971123,2214, 49.9950, 169.9920, -999,   1263.4,   2.2770,  34.4970,2,  34.4900,2,     34.9,2,    42.80,2,     0.00,2,   160.20,2,     3.09,2,-999,9,   2394.0,2,    7.472,3,   2381.6,2
  49NZ19971111,7_1(L3),  1,      1,      1,5,19971123,2214, 49.9950, 169.9920, -999,   1517.0,   2.0810,  34.5430,2,  34.5400,2,     47.1,2,    42.20,2,     0.00,2,   164.20,2,     3.02,2,-999,9,   2405.0,2,    7.502,3,   2383.1,2
  49NZ19971111,7_1(L3),  1,      1,      1,5,19971123,2214, 49.9950, 169.9920, -999,   1771.2,   1.9160,  34.5790,2,  34.5700,2,     61.6,2,    41.30,2,     0.00,2,   167.80,2,     2.97,2,-999,9,   2411.0,2,    7.533,3,   2380.8,2
  49NZ19971111,7_1(L3),  1,      1,      1,5,19971123,2214, 49.9950, 169.9920, -999,   2024.3,   1.7890,  34.6050,2,  34.6000,2,     76.8,2,    40.50,2,     0.00,2,   167.30,2,     2.92,2,-999,9,   -999.0,9,    7.564,3,   2368.1,2
  49NZ19971111,7_1(L3),  1,      1,      1,5,19971123,2214, 49.9950, 169.9920, -999,   2534.0,   1.5960,  34.6440,2,  34.6400,2,    108.0,2,    38.30,2,     0.00,2,   163.40,2,     2.76,2,-999,9,   -999.0,9,    7.627,3,   2352.9,2
  49NZ19971111,7_1(L3),  1,      1,      1,5,19971123,2214, 49.9950, 169.9920, -999,   3044.4,   1.5170,  34.6620,2,  34.6600,2,    127.6,2,    37.10,2,     0.00,2,   157.80,2,     2.65,2,-999,9,   2415.0,2,    7.661,3,   -999.0,9
  49NZ19971111,7_1(L3),  1,      1,      1,5,19971123,2214, 49.9950, 169.9920, -999,   3556.2,   1.4620,  34.6750,2,  34.6700,2,    142.7,2,    36.10,2,     0.00,2,   153.00,2,     2.57,2,-999,9,   -999.0,9,    7.689,3,   2331.4,2
  49NZ19971111,7_1(L3),  1,      1,      1,5,19971123,2214, 49.9950, 169.9920, -999,   4071.0,   1.4460,  34.6830,2,  34.6800,2,    152.2,2,    35.50,2,     0.00,2,   149.40,2,     2.52,2,-999,9,   2414.0,2,    7.714,3,   2323.8,2
  49NZ19971111,8_1(L4),  1,      1,      1,5,19971126,1929, 44.7890, 170.1630, 1806,      9.9,   7.5850,  32.7940,2,  32.8000,2,    297.4,2,    15.80,2,     0.26,2,    28.20,2,     1.38,2,-999,9,   2216.0,2,    7.953,3,   2056.6,2
  49NZ19971111,8_1(L4),  1,      1,      1,5,19971126,1929, 44.7890, 170.1630, 1806,     28.8,   7.5850,  32.7940,2,  32.7900,2,    297.4,2,    15.90,2,     0.26,2,    28.30,2,     1.43,2,-999,9,   2225.0,2,    7.953,3,   2057.3,2
  49NZ19971111,8_1(L4),  1,      1,      1,5,19971126,1929, 44.7890, 170.1630, 1806,     45.5,   7.5830,  32.7950,2,  32.8000,2,   -999.0,9,    16.00,2,     0.27,2,    28.40,2,     1.41,2,-999,9,   2218.0,2,    7.953,3,   2058.8,2
  49NZ19971111,8_1(L4),  1,      1,      1,5,19971126,1929, 44.7890, 170.1630, 1806,     75.9,   6.8590,  32.8470,2,  32.8200,2,    295.9,2,    16.90,2,     0.25,2,    29.70,2,     1.50,2,-999,9,   2230.0,2,    7.935,3,   2057.7,2
  49NZ19971111,8_1(L4),  1,      1,      1,5,19971126,1929, 44.7890, 170.1630, 1806,     99.5,   3.3640,  33.0830,2,  33.1000,2,    294.9,2,    24.60,2,     0.06,2,    41.30,2,     1.96,2,-999,9,   2242.0,2,    7.786,3,   2137.9,2
  49NZ19971111,8_1(L4),  1,      1,      1,5,19971126,1929, 44.7890, 170.1630, 1806,    120.6,   2.7910,  33.3180,2,  33.3200,2,    237.0,2,    29.30,2,     0.04,2,    53.70,2,     2.23,2,-999,9,   2255.0,2,    7.680,3,   2190.0,2
  49NZ19971111,8_1(L4),  1,      1,      1,5,19971126,1929, 44.7890, 170.1630, 1806,    149.8,   2.9690,  33.5110,2,-999.0000,9,   -999.0,9,  -999.00,9,  -999.00,9,  -999.00,9,  -999.00,9,-999,9,   -999.0,9, -999.000,9,   -999.0,9
  49NZ19971111,8_1(L4),  1,      1,      1,5,19971126,1929, 44.7890, 170.1630, 1806,    181.6,   3.1040,  33.6700,2,  33.6700,2,    103.5,2,    39.20,2,     0.03,2,    81.60,2,     2.88,2,-999,9,   2280.0,2,    7.465,3,   2283.1,2
  49NZ19971111,8_1(L4),  1,      1,      1,5,19971126,1929, 44.7890, 170.1630, 1806,    202.5,   3.2260,  33.7660,2,  33.7600,2,     73.7,2,    41.40,2,     0.04,2,    88.70,2,     3.01,2,-999,9,   2290.0,2,    7.420,3,   -999.0,9
  49NZ19971111,8_1(L4),  1,      1,      1,5,19971126,1929, 44.7890, 170.1630, 1806,    251.2,   3.3710,  33.8940,2,  33.8900,2,     39.1,2,    44.00,2,     0.04,2,    98.90,2,     3.19,2,-999,9,   2300.0,2,    7.378,3,   2331.0,2
  49NZ19971111,8_1(L4),  1,      1,      1,5,19971126,1929, 44.7890, 170.1630, 1806,    304.1,   3.4140,  33.9900,2,-999.0000,9,   -999.0,9,  -999.00,9,  -999.00,9,  -999.00,9,  -999.00,9,-999,9,   -999.0,9, -999.000,9,   -999.0,9
  49NZ19971111,8_1(L4),  1,      1,      1,5,19971126,1929, 44.7890, 170.1630, 1806,    404.9,   3.3760,  34.1010,2,  34.1000,2,     22.9,2,    44.00,2,     0.04,2,   116.20,2,     3.17,2,-999,9,   2331.0,2,    7.399,3,   -999.0,9
  49NZ19971111,8_1(L4),  1,      1,      1,5,19971126,1929, 44.7890, 170.1630, 1806,    509.0,   3.2640,  34.1940,2,  34.1900,2,     17.8,2,    44.20,2,     0.04,2,   124.90,2,     3.14,2,-999,9,   2344.0,2,    7.405,3,   2360.3,2
  49NZ19971111,8_1(L4),  1,      1,      1,5,19971126,1929, 44.7890, 170.1630, 1806,    607.5,   3.1170,  34.2580,2,  34.2500,2,     17.3,2,    44.30,2,     0.03,2,   132.60,2,     3.18,2,-999,9,   2342.0,2,    7.416,3,   2360.9,2
  49NZ19971111,8_1(L4),  1,      1,      1,5,19971126,1929, 44.7890, 170.1630, 1806,    707.0,   2.9910,  34.3080,2,  34.3100,2,     22.3,2,    43.70,2,     0.03,2,   137.80,2,     3.15,2,-999,9,   2361.0,2,    7.433,3,   2369.6,2
  49NZ19971111,8_1(L4),  1,      1,      1,5,19971126,1929, 44.7890, 170.1630, 1806,    807.5,   2.8370,  34.3600,2,  34.3600,2,     29.6,2,    43.20,2,     0.02,2,   142.00,2,     3.12,2,-999,9,   2361.0,2,    7.450,3,   2372.8,2
  49NZ19971111,8_1(L4),  1,      1,      1,5,19971126,1929, 44.7890, 170.1630, 1806,    907.4,   2.6630,  34.3970,2,  34.3900,2,     25.7,2,    43.30,2,     0.03,2,   148.60,2,     3.13,2,-999,9,   2379.0,2,    7.448,3,   2384.1,2
  49NZ19971111,8_1(L4),  1,      1,      1,5,19971126,1929, 44.7890, 170.1630, 1806,   1007.9,   2.5310,  34.4310,2,  34.4300,2,     29.6,2,    43.20,2,     0.03,2,   152.50,2,     3.11,2,-999,9,   2389.0,2,    7.462,3,   2384.0,2
  49NZ19971111,8_1(L4),  1,      1,      1,5,19971126,1929, 44.7890, 170.1630, 1806,   1109.6,   2.4200,  34.4590,2,  34.4600,2,     33.2,2,    43.10,2,     0.02,2,   156.30,2,     3.14,2,-999,9,   2389.0,2,    7.468,3,   -999.0,9
  49NZ19971111,8_1(L4),  1,      1,      1,5,19971126,1929, 44.7890, 170.1630, 1806,   1213.0,   2.3090,  34.4860,2,  34.4900,2,     35.9,2,    42.90,2,     0.03,2,   160.30,2,     3.11,2,-999,9,   2384.0,2,    7.478,3,   2384.0,2
  49NZ19971111,8_1(L4),  1,      1,      1,5,19971126,1929, 44.7890, 170.1630, 1806,   1310.7,   2.2260,  34.5100,2,  34.5100,2,     43.3,2,    42.20,2,     0.01,2,   159.50,2,     3.05,2,-999,9,   2389.0,2,    7.498,3,   2379.5,2
  49NZ19971111,8_1(L4),  1,      1,      1,5,19971126,1929, 44.7890, 170.1630, 1806,   1414.0,   2.1650,  34.5310,2,  34.5300,2,     50.5,2,    41.80,2,     0.02,2,   158.80,2,     3.04,2,-999,9,   -999.0,9,    7.514,3,   2378.6,2
  49NZ19971111,8_1(L4),  1,      1,      1,5,19971126,1929, 44.7890, 170.1630, 1806,   1619.5,   2.0260,  34.5590,2,  34.5600,2,     57.2,2,    41.60,2,     0.02,2,   163.90,2,     3.03,2,-999,9,   2399.0,2,    7.529,3,   2380.2,2
  49NZ19971111,8_1(L4),  1,      1,      1,5,19971126,1929, 44.7890, 170.1630, 1806,   1780.2,   1.9260,  34.5810,2,  34.5800,2,     66.8,2,    41.10,2,     0.02,2,   164.30,2,     2.98,2,-999,9,   2401.0,2,    7.548,3,   2373.8,2