BOTTLE,20120921MIRCJHATS
EXPOCODE,STNNBR,CASTNO,SAMPNO,BTLNBR,BTLNBR_FLAG_W,DATE,TIME,LATITUDE,LONGITUDE,DEPTH,CTDPRS,CTDTMP,CTDSAL,CTDSAL_FLAG_W,SALNTY,SALNTY_FLAG_W,OXYGEN,OXYGEN_FLAG_W,NITRAT,NITRAT_FLAG_W,NITRIT,NITRIT_FLAG_W,SILCAT,SILCAT_FLAG_W,PHSPHT,PHSPHT_FLAG_W,NH4,NH4_FLAG_W,ALKALI,ALKALI_FLAG_W,PH,PH_FLAG_W,TCARBN,TCARBN_FLAG_W
,,,,,,,,,,METERS,DBARS,,,,,,UMOL/KG,,UMOL/KG,,UMOL/KG,,UMOL/KG,,UMOL/KG,,UMOL/KG,,UMOL/KG,,,,UMOL/KG,
  49NZ19971111,9_1(L2),  1,      1,      1,5,19971128,0635, 39.3260, 170.0010, -999,      8.4,  15.0700,  34.1590,2,  34.1600,2,    252.5,2,     0.80,2,     0.10,2,     3.80,2,     0.13,2,-999,9,   2247.0,2,    8.123,3,   2003.9,2
  49NZ19971111,9_1(L2),  1,      1,      1,5,19971128,0635, 39.3260, 170.0010, -999,     32.6,  14.3130,  34.1170,2,  34.1300,2,    255.5,2,     1.50,2,     0.13,2,     4.60,2,     0.19,2,-999,9,   2259.0,2,    8.109,3,   2011.9,2
  49NZ19971111,9_1(L2),  1,      1,      1,5,19971128,0635, 39.3260, 170.0010, -999,     49.5,  14.1200,  34.0920,2,  34.0900,2,    256.3,2,     1.90,2,     0.15,2,     5.10,2,     0.23,2,-999,9,   2259.0,2,    8.102,3,   2013.7,2
  49NZ19971111,9_1(L2),  1,      1,      1,5,19971128,0635, 39.3260, 170.0010, -999,    100.9,  11.8710,  34.2740,2,  34.2800,2,    227.1,2,    10.80,2,     0.04,2,    13.10,2,     0.82,2,-999,9,   2264.0,2,    7.983,3,   2078.3,2
  49NZ19971111,9_1(L2),  1,      1,      1,5,19971128,0635, 39.3260, 170.0010, -999,    150.0,  10.4020,  34.2720,2,  34.2700,2,    228.1,2,    13.30,2,     0.02,2,    18.60,2,     0.99,2,-999,9,   -999.0,9,    7.948,3,   2100.2,2
  49NZ19971111,9_1(L2),  1,      1,      1,5,19971128,0635, 39.3260, 170.0010, -999,    200.5,   9.4680,  34.1780,2,  34.1800,2,    236.4,2,    14.10,2,     0.02,2,    20.70,2,     1.07,2,-999,9,   2268.0,2,    7.931,3,   2102.6,2
  49NZ19971111,9_1(L2),  1,      1,      1,5,19971128,0635, 39.3260, 170.0010, -999,    300.9,   7.1340,  33.9220,2,  33.9200,2,    223.0,2,    19.50,2,     0.02,2,    32.60,2,     1.51,2,-999,9,   2262.0,2,    7.838,3,   2139.0,2
  49NZ19971111,9_1(L2),  1,      1,      1,5,19971128,0635, 39.3260, 170.0010, -999,    403.7,   5.8230,  33.9540,2,  33.9500,2,    144.4,2,    29.40,2,     0.01,2,    58.30,2,     2.15,2,-999,9,   2295.0,2,    7.667,3,   2218.4,2
  49NZ19971111,9_1(L2),  1,      1,      1,5,19971128,0635, 39.3260, 170.0010, -999,    503.7,   4.8250,  33.9950,2,  34.0000,2,    109.6,2,    34.20,2,     0.01,2,    75.70,2,     2.51,2,-999,9,   2308.0,2,    7.580,3,   2261.2,2
  49NZ19971111,9_1(L2),  1,      1,      1,5,19971128,0635, 39.3260, 170.0010, -999,    604.5,   4.2830,  34.0640,2,  34.0700,2,     77.9,2,    38.00,2,     0.01,2,    91.40,2,     2.77,2,-999,9,   -999.0,9,    7.512,3,   2297.3,2
  49NZ19971111,9_1(L2),  1,      1,      1,5,19971128,0635, 39.3260, 170.0010, -999,    706.3,   4.0020,  34.1630,2,  34.1700,2,     57.0,2,    39.90,2,     0.00,2,   104.00,2,     2.90,2,-999,9,   2333.0,2,    7.484,3,   2317.8,2
  49NZ19971111,9_1(L2),  1,      1,      1,5,19971128,0635, 39.3260, 170.0010, -999,    806.4,   3.6610,  34.2340,2,  34.2400,2,     42.1,2,    41.40,2,     0.00,2,   116.00,2,     2.99,2,-999,9,   2353.0,2,    7.464,3,   2343.9,2
  49NZ19971111,9_1(L2),  1,      1,      1,5,19971128,0635, 39.3260, 170.0010, -999,   1010.5,   3.1010,  34.3440,2,  34.3400,2,     33.7,2,    42.50,2,     0.00,2,   134.50,2,     3.06,2,-999,9,   2361.0,2,    7.455,3,   2368.9,2
  49NZ19971111,9_1(L2),  1,      1,      1,5,19971128,0635, 39.3260, 170.0010, -999,   1262.9,   2.6360,  34.4370,2,  34.4400,2,     33.3,2,    43.10,2,     0.00,2,   149.50,2,     3.09,2,-999,9,   2381.0,2,    7.466,3,   2385.9,2
  49NZ19971111,9_1(L2),  1,      1,      1,5,19971128,0635, 39.3260, 170.0010, -999,   1516.1,   2.3540,  34.4980,2,  34.4900,2,     38.8,2,    43.00,2,     0.00,2,   157.70,2,     3.08,2,-999,9,   -999.0,9,    7.478,3,   2384.2,2
  49NZ19971111,9_1(L2),  1,      1,      1,5,19971128,0635, 39.3260, 170.0010, -999,   1768.2,   2.1210,  34.5490,2,  34.5500,2,     50.4,2,    42.30,2,     0.00,2,   163.00,2,     3.02,2,-999,9,   2399.0,2,    7.502,3,   2386.1,2
  49NZ19971111,9_1(L2),  1,      1,      1,5,19971128,0635, 39.3260, 170.0010, -999,   2024.2,   1.9350,  34.5860,2,  34.5800,2,     66.5,2,    41.20,2,     0.00,2,   164.20,2,     2.94,2,-999,9,   2409.0,2,    7.540,3,   2381.8,2
  49NZ19971111,9_1(L2),  1,      1,      1,5,19971128,0635, 39.3260, 170.0010, -999,   2533.1,   1.6730,  34.6340,2,  34.6300,2,    100.7,2,    39.00,2,     0.00,2,   161.80,2,     2.77,2,-999,9,   2412.0,2,    7.609,3,   2364.2,2
  49NZ19971111,9_1(L2),  1,      1,      1,5,19971128,0635, 39.3260, 170.0010, -999,   3044.2,   1.5510,  34.6580,2,  34.6600,2,    123.3,2,    37.70,2,     0.00,2,   157.60,2,     2.66,2,-999,9,   2413.0,2,    7.648,3,   -999.0,9
  49NZ19971111,9_1(L2),  1,      1,      1,5,19971128,0635, 39.3260, 170.0010, -999,   3554.7,   1.4910,  34.6710,2,  34.6700,2,    138.2,2,    36.70,2,     0.00,2,   153.70,2,     2.58,2,-999,9,   2415.0,2,    7.677,3,   2337.6,2
  49NZ19971111,9_1(L2),  1,      1,      1,5,19971128,0635, 39.3260, 170.0010, -999,   4068.9,   1.4760,  34.6790,2,  34.6800,2,    147.5,2,    35.90,2,     0.00,2,   150.50,2,     2.52,2,-999,9,   2411.0,2,    7.694,3,   2329.6,2
  49NZ19971111,9_1(L2),  1,      1,      1,5,19971128,0635, 39.3260, 170.0010, -999,   4582.3,   1.4970,  34.6840,2,  34.6800,2,    152.6,2,    35.60,2,     0.00,2,   150.80,2,     2.50,2,-999,9,   2416.0,2,    7.702,3,   2329.5,2
  49NZ19971111,9_1(L2),  1,      1,      1,5,19971128,0635, 39.3260, 170.0010, -999,   5098.4,   1.5380,  34.6850,2,  34.6800,2,    156.1,2,    35.50,2,     0.00,2,   149.20,2,     2.49,2,-999,9,   2410.0,2,    7.708,3,   2323.0,2
  49NZ19971111,9_1(L2),  1,      1,      1,5,19971128,0635, 39.3260, 170.0010, -999,   5973.5,   1.6440,  34.6870,2,  34.6800,2,    157.7,2,    35.40,2,     0.00,2,   151.10,2,     2.47,2,-999,9,   2417.0,2,    7.710,3,   2320.3,2
  49NZ19971111,10_1(L4),  1,      1,      1,5,19971129,0937, 34.9990, 169.9950, 5446,     10.4,  19.5470,  34.3690,2,  34.3700,2,    232.7,2,     0.00,2,     0.02,2,     1.50,2,     0.03,2,-999,9,   2268.0,2,    8.196,3,   1965.7,2
  49NZ19971111,10_1(L4),  1,      1,      1,5,19971129,0937, 34.9990, 169.9950, 5446,     29.0,  19.5460,  34.3680,2,  34.3700,2,    232.4,2,     0.00,2,     0.02,2,     1.60,2,     0.04,2,-999,9,   2260.0,3,    8.196,3,   1970.1,2
  49NZ19971111,10_1(L4),  1,      1,      1,5,19971129,0937, 34.9990, 169.9950, 5446,     50.1,  18.9870,  34.3730,2,  34.3800,2,    233.2,2,     0.00,2,     0.04,2,     1.80,2,     0.06,2,-999,9,   2251.0,3,    8.183,3,   1977.7,2
  49NZ19971111,10_1(L4),  1,      1,      1,5,19971129,0937, 34.9990, 169.9950, 5446,     77.5,  15.8900,  34.5570,2,  34.5600,2,    215.3,2,     5.80,2,     0.09,2,     7.10,2,     0.44,2,-999,9,   2274.0,2,    8.084,3,   2031.6,2
  49NZ19971111,10_1(L4),  1,      1,      1,5,19971129,0937, 34.9990, 169.9950, 5446,    102.2,  14.2740,  34.5560,2,  34.5600,2,    211.4,2,     8.60,2,     0.05,2,     9.80,2,     0.63,2,-999,9,   2269.0,2,    8.042,3,   2063.3,2
  49NZ19971111,10_1(L4),  1,      1,      1,5,19971129,0937, 34.9990, 169.9950, 5446,    152.1,  12.9220,  34.4750,2,  34.4800,2,    208.6,2,    11.00,2,     0.03,2,    13.70,2,     0.80,2,-999,9,   2279.0,2,    8.003,3,   2069.4,2
  49NZ19971111,10_1(L4),  1,      1,      1,5,19971129,0937, 34.9990, 169.9950, 5446,    200.4,  11.6460,  34.3810,2,  34.3800,2,    216.3,2,    12.30,2,     0.02,2,    16.40,2,     0.90,2,-999,9,   2277.0,2,    7.980,3,   2083.9,2
  49NZ19971111,10_1(L4),  1,      1,      1,5,19971129,0937, 34.9990, 169.9950, 5446,    302.1,   9.7600,  34.2140,2,  34.2100,2,    209.4,2,    16.00,2,     0.02,2,    25.90,2,     1.19,2,-999,9,   2279.0,2,    7.917,3,   2118.4,2
  49NZ19971111,10_1(L4),  1,      1,      1,5,19971129,0937, 34.9990, 169.9950, 5446,    402.4,   7.4940,  34.0310,2,  34.0300,2,    178.6,2,    22.50,2,     0.01,2,    39.90,2,     1.69,2,-999,9,   2276.0,2,    7.800,3,   2169.5,2
  49NZ19971111,10_1(L4),  1,      1,      1,5,19971129,0937, 34.9990, 169.9950, 5446,    503.6,   5.7330,  33.9830,2,  33.9800,2,    138.4,2,    29.70,2,     0.01,2,    59.80,2,     2.22,2,-999,9,   2285.0,2,    7.673,3,   2214.4,2
  49NZ19971111,10_1(L4),  1,      1,      1,5,19971129,0937, 34.9990, 169.9950, 5446,    605.2,   5.0040,  34.0410,2,  34.0400,2,    103.8,2,    34.00,2,     0.01,2,    75.60,2,     2.54,2,-999,9,   2306.0,2,    7.594,3,   2255.4,2
  49NZ19971111,10_1(L4),  1,      1,      1,5,19971129,0937, 34.9990, 169.9950, 5446,    807.5,   3.9700,  34.2250,2,  34.2200,2,     51.5,2,    39.80,2,     0.01,2,   106.40,2,     2.94,2,-999,9,   2336.0,2,    7.502,3,   2324.5,2
  49NZ19971111,10_1(L4),  1,      1,      1,5,19971129,0937, 34.9990, 169.9950, 5446,   1009.4,   3.3620,  34.3350,2,  34.3300,2,     37.2,2,    41.50,2,     0.02,2,   124.30,2,     3.06,2,-999,9,   2362.0,2,    7.480,3,   2363.2,2
  49NZ19971111,10_1(L4),  1,      1,      1,5,19971129,0937, 34.9990, 169.9950, 5446,   1262.9,   2.8010,  34.4360,2,  34.4400,2,     33.0,2,    42.40,2,     0.02,2,   140.60,2,     3.10,2,-999,9,   2368.0,2,    7.480,3,   2373.7,2
  49NZ19971111,10_1(L4),  1,      1,      1,5,19971129,0937, 34.9990, 169.9950, 5446,   1518.5,   2.3830,  34.5120,2,  34.5100,2,     41.0,2,    42.40,2,     0.01,2,   152.00,2,     3.09,2,-999,9,   2396.0,2,    7.499,3,   -999.0,9
  49NZ19971111,10_1(L4),  1,      1,      1,5,19971129,0937, 34.9990, 169.9950, 5446,   1771.3,   2.1120,  34.5610,2,  34.5600,2,     56.5,2,    41.70,2,     0.01,2,   157.40,2,     3.02,2,-999,9,   2402.0,2,    7.530,3,   2372.6,2
  49NZ19971111,10_1(L4),  1,      1,      1,5,19971129,0937, 34.9990, 169.9950, 5446,   2024.3,   1.9200,  34.5930,2,  34.5900,2,     71.6,2,    40.70,2,     0.01,2,   159.60,2,     2.94,2,-999,9,   2409.0,2,    7.561,3,   2370.8,2
  49NZ19971111,10_1(L4),  1,      1,      1,5,19971129,0937, 34.9990, 169.9950, 5446,   2533.5,   1.6640,  34.6370,2,  34.6400,2,    103.9,2,    38.70,2,     0.01,2,   157.50,2,     2.78,2,-999,9,   -999.0,9,    7.624,3,   2357.9,2
  49NZ19971111,10_1(L4),  1,      1,      1,5,19971129,0937, 34.9990, 169.9950, 5446,   3045.2,   1.5440,  34.6590,2,  34.6600,2,    125.3,2,    37.40,2,     0.01,2,   153.60,2,     2.65,2,-999,9,   2414.0,2,    7.664,3,   2344.2,2
  49NZ19971111,10_1(L4),  1,      1,      1,5,19971129,0937, 34.9990, 169.9950, 5446,   3556.5,   1.4730,  34.6740,2,  34.6700,2,    140.9,2,    36.30,2,     0.01,2,   150.50,2,     2.60,2,-999,9,   -999.0,9,    7.692,3,   2335.9,2
  49NZ19971111,10_1(L4),  1,      1,      1,5,19971129,0937, 34.9990, 169.9950, 5446,   4069.3,   1.4610,  34.6810,2,  34.6800,2,    150.2,2,    35.50,2,     0.01,2,   147.20,2,     2.54,2,-999,9,   2411.0,2,    7.709,3,   2324.1,2
  49NZ19971111,10_1(L4),  1,      1,      1,5,19971129,0937, 34.9990, 169.9950, 5446,   4582.9,   1.4690,  34.6860,2,  34.6900,2,    157.1,2,    34.90,2,     0.01,2,   144.30,2,     2.49,2,-999,9,   2414.0,2,    7.720,3,   2320.6,2
  49NZ19971111,10_1(L4),  1,      1,      1,5,19971129,0937, 34.9990, 169.9950, 5446,   5098.0,   1.4820,  34.6900,2,  34.6900,2,    166.0,2,    34.30,2,     0.01,2,   136.10,2,     2.43,2,-999,9,   2405.0,2,    7.730,3,   2316.7,2
  49NZ19971111,10_1(L4),  1,      1,      1,5,19971129,0937, 34.9990, 169.9950, 5446,   5559.6,   1.5110,  34.6930,2,  34.6900,2,    170.7,2,    34.10,2,     0.01,2,   132.10,2,     2.42,2,-999,9,   2407.0,2,    7.735,3,   2316.9,2
  49NZ19971111,11_1(L2),  1,      1,      1,5,19971130,0754, 34.9960, 165.0040, 5950,     12.5,  21.1960,  34.5690,2,  34.5700,2,    222.5,2,     0.00,2,     0.04,2,     1.40,2,     0.00,2,-999,9,   2267.0,2,    8.207,3,   1970.6,2
  49NZ19971111,11_1(L2),  1,      1,      1,5,19971130,0754, 34.9960, 165.0040, 5950,     29.4,  21.2000,  34.5690,2,  34.5700,2,    222.8,2,     0.00,2,     0.04,2,     1.20,2,     0.00,2,-999,9,   2276.0,2,    8.207,3,   1966.9,2
  49NZ19971111,11_1(L2),  1,      1,      1,5,19971130,0754, 34.9960, 165.0040, 5950,     50.6,  21.0940,  34.5670,2,  34.5700,2,    223.5,2,     0.00,2,     0.04,2,     1.30,2,     0.00,2,-999,9,   2271.0,2,    8.204,3,   1967.9,2
  49NZ19971111,11_1(L2),  1,      1,      1,5,19971130,0754, 34.9960, 165.0040, 5950,    100.9,  18.9420,  34.3680,2,  34.3700,2,    229.5,2,     0.10,2,     0.07,2,     1.60,2,     0.00,2,-999,9,   2273.0,2,    8.174,3,   1981.7,2
  49NZ19971111,11_1(L2),  1,      1,      1,5,19971130,0754, 34.9960, 165.0040, 5950,    150.5,  15.4900,  34.5610,2,  34.5600,2,    211.3,2,     6.70,2,     0.03,2,     8.20,2,     0.45,2,-999,9,   2279.0,2,    8.060,3,   2054.8,2
  49NZ19971111,11_1(L2),  1,      1,      1,5,19971130,0754, 34.9960, 165.0040, 5950,    201.0,  13.3830,  34.4950,2,  34.4900,2,    196.1,2,    11.80,2,     0.03,2,    15.20,2,     0.79,2,-999,9,   2282.0,2,    7.986,3,   2091.1,2
  49NZ19971111,11_1(L2),  1,      1,      1,5,19971130,0754, 34.9960, 165.0040, 5950,    303.1,  11.0480,  34.3500,2,  34.3500,2,    177.3,2,    17.10,2,     0.03,2,    26.40,2,     1.20,2,-999,9,   2275.0,2,    7.900,3,   2130.3,2
  49NZ19971111,11_1(L2),  1,      1,      1,5,19971130,0754, 34.9960, 165.0040, 5950,    403.1,   8.6440,  34.1290,2,  34.1200,2,    183.5,2,    20.40,2,     0.04,2,    34.10,2,     1.48,2,-999,9,   2279.0,2,    7.843,3,   2152.2,2
  49NZ19971111,11_1(L2),  1,      1,      1,5,19971130,0754, 34.9960, 165.0040, 5950,    503.7,   6.3340,  33.9970,2,  33.9900,2,    152.6,2,    27.60,2,     0.02,2,    53.90,2,     2.05,2,-999,9,   2285.0,2,    7.707,3,   2209.1,2
  49NZ19971111,11_1(L2),  1,      1,      1,5,19971130,0754, 34.9960, 165.0040, 5950,    604.2,   5.1000,  34.0500,2,  34.0500,2,    105.7,2,    34.10,2,     0.00,2,    74.60,2,     2.51,2,-999,9,   2303.0,2,    7.596,3,   2257.2,2
  49NZ19971111,11_1(L2),  1,      1,      1,5,19971130,0754, 34.9960, 165.0040, 5950,    707.0,   4.4760,  34.1290,2,  34.1200,2,     76.6,2,    37.60,2,     0.02,2,    91.00,2,     2.73,2,-999,9,   2313.0,2,    7.535,3,   2296.8,2
  49NZ19971111,11_1(L2),  1,      1,      1,5,19971130,0754, 34.9960, 165.0040, 5950,    806.7,   4.0370,  34.2150,2,  34.2100,2,     55.3,2,    40.00,2,     0.02,2,   105.80,2,     2.88,2,-999,9,   2332.0,2,    7.499,3,   2322.9,2
  49NZ19971111,11_1(L2),  1,      1,      1,5,19971130,0754, 34.9960, 165.0040, 5950,   1012.3,   3.3910,  34.3360,2,  34.3400,2,     42.2,2,    41.80,2,     0.01,2,   124.00,2,     2.99,2,-999,9,   2363.0,2,    7.481,3,   2353.4,2
  49NZ19971111,11_1(L2),  1,      1,      1,5,19971130,0754, 34.9960, 165.0040, 5950,   1265.1,   2.7620,  34.4310,2,  34.4300,2,     32.8,2,    43.20,2,     0.01,2,   143.60,2,     3.11,2,-999,9,   2379.0,2,    7.466,3,   2385.1,2
  49NZ19971111,11_1(L2),  1,      1,      1,5,19971130,0754, 34.9960, 165.0040, 5950,   1513.6,   2.4140,  34.5020,2,  34.5000,2,     40.1,2,    43.10,2,     0.03,2,   153.20,2,     3.06,2,-999,9,   2396.0,2,    7.486,3,   2390.5,2
  49NZ19971111,11_1(L2),  1,      1,      1,5,19971130,0754, 34.9960, 165.0040, 5950,   1769.7,   2.1240,  34.5530,2,  34.5500,2,     53.6,2,    42.40,2,     0.01,2,   161.70,2,     2.98,2,-999,9,   2406.0,2,    7.517,3,   2382.4,2
  49NZ19971111,11_1(L2),  1,      1,      1,5,19971130,0754, 34.9960, 165.0040, 5950,   2024.4,   1.9160,  34.5950,2,  34.5900,2,     74.6,2,    41.00,2,     0.02,2,   161.80,2,     2.88,2,-999,9,   2410.0,2,    7.564,3,   2374.8,2
  49NZ19971111,11_1(L2),  1,      1,      1,5,19971130,0754, 34.9960, 165.0040, 5950,   2532.9,   1.6540,  34.6400,2,  34.6300,2,    106.9,2,    38.80,2,     0.02,2,   159.00,2,     2.74,2,-999,9,   2413.0,2,    7.621,3,   2361.1,2
  49NZ19971111,11_1(L2),  1,      1,      1,5,19971130,0754, 34.9960, 165.0040, 5950,   3045.0,   1.5280,  34.6620,2,  34.6600,2,    128.3,2,    37.30,2,     0.02,2,   151.70,2,     2.62,2,-999,9,   2413.0,2,    7.663,3,   2343.1,2
  49NZ19971111,11_1(L2),  1,      1,      1,5,19971130,0754, 34.9960, 165.0040, 5950,   3555.9,   1.4720,  34.6740,2,  34.6700,2,    142.6,2,    36.40,2,     0.01,2,   146.90,2,     2.56,2,-999,9,   2414.0,2,    7.687,3,   2340.7,2
  49NZ19971111,11_1(L2),  1,      1,      1,5,19971130,0754, 34.9960, 165.0040, 5950,   4068.8,   1.4580,  34.6810,2,  34.6800,2,    151.4,2,    35.70,2,     0.01,2,   144.10,2,     2.52,2,-999,9,   2416.0,2,    7.703,3,   2332.8,2
  49NZ19971111,11_1(L2),  1,      1,      1,5,19971130,0754, 34.9960, 165.0040, 5950,   4582.6,   1.4720,  34.6860,2,  34.6800,2,    157.6,2,    35.30,2,     0.02,2,   142.30,2,     2.48,2,-999,9,   2418.0,2,    7.712,3,   2327.3,2
  49NZ19971111,11_1(L2),  1,      1,      1,5,19971130,0754, 34.9960, 165.0040, 5950,   5097.5,   1.4910,  34.6890,2,  34.6900,2,    165.9,2,    34.90,2,     0.01,2,   135.90,2,     2.44,2,-999,9,   2404.0,2,    7.719,3,   2323.4,2
  49NZ19971111,11_1(L2),  1,      1,      1,5,19971130,0754, 34.9960, 165.0040, 5950,   5998.3,   1.5560,  34.6940,2,  34.6900,2,    174.4,2,    34.40,2,     0.02,2,   131.40,2,     2.39,2,-999,9,   2400.0,2,    7.726,3,   2315.8,2
  49NZ19971111,14_2(L4),  1,      1,      1,5,19971202,0022, 35.0000, 155.0000, -999,      9.0,  19.0750,  34.3980,2,  34.4000,2,   -999.0,9,  -999.00,9,  -999.00,9,  -999.00,9,  -999.00,9,-999,9,   -999.0,9, -999.000,9,   -999.0,9
  49NZ19971111,14_2(L4),  1,      1,      1,5,19971202,0022, 35.0000, 155.0000, -999,     11.0,  19.0750,  34.3980,2,  34.4100,2,    232.9,2,     0.00,2,     0.04,2,     1.70,2,     0.01,2,-999,9,   2267.0,2,    8.181,3,   1971.9,2
  49NZ19971111,14_2(L4),  1,      1,      1,5,19971202,0022, 35.0000, 155.0000, -999,     32.6,  19.0640,  34.4090,2,  34.4200,2,    232.9,2,     0.00,2,     0.04,2,     1.60,2,     0.00,2,-999,9,   2261.0,2,    8.180,3,   1980.3,2