BOTTLE,20120921MIRCJHATS
EXPOCODE,STNNBR,CASTNO,SAMPNO,BTLNBR,BTLNBR_FLAG_W,DATE,TIME,LATITUDE,LONGITUDE,DEPTH,CTDPRS,CTDTMP,CTDSAL,CTDSAL_FLAG_W,SALNTY,SALNTY_FLAG_W,OXYGEN,OXYGEN_FLAG_W,NITRAT,NITRAT_FLAG_W,NITRIT,NITRIT_FLAG_W,SILCAT,SILCAT_FLAG_W,PHSPHT,PHSPHT_FLAG_W,NH4,NH4_FLAG_W,ALKALI,ALKALI_FLAG_W,PH,PH_FLAG_W,TCARBN,TCARBN_FLAG_W
,,,,,,,,,,METERS,DBARS,,,,,,UMOL/KG,,UMOL/KG,,UMOL/KG,,UMOL/KG,,UMOL/KG,,UMOL/KG,,UMOL/KG,,,,UMOL/KG,
  49NZ19971111,14_1(L1L2),  1,      1,      1,5,19971201,2158, 35.0000, 155.0000, -999,     49.4,  19.0810,  34.4170,2,  34.4200,2,    234.0,2,     0.00,2,     0.04,2,     1.60,2,     0.00,2,-999,9,   2269.0,2,    8.183,3,   1979.0,2
  49NZ19971111,14_1(L1L2),  1,      1,      1,5,19971201,2158, 35.0000, 155.0000, -999,     76.0,  16.0640,  34.5600,2,  34.5600,2,    208.6,2,     6.10,2,     0.08,2,     7.60,2,     0.42,2,-999,9,   2269.0,2,    8.072,3,   2038.8,2
  49NZ19971111,14_1(L1L2),  1,      1,      1,5,19971201,2158, 35.0000, 155.0000, -999,    100.2,  14.0710,  34.5350,2,  34.5400,2,    193.7,2,    10.60,2,     0.06,2,    12.90,2,     0.69,2,-999,9,   2279.0,2,    8.009,3,   2070.2,2
  49NZ19971111,14_1(L1L2),  1,      1,      1,5,19971201,2158, 35.0000, 155.0000, -999,    126.9,  12.8590,  34.4620,2,  34.4700,2,    193.1,2,    12.60,2,     0.04,2,    16.40,2,     0.84,2,-999,9,   2270.0,2,    7.978,3,   2088.3,2
  49NZ19971111,14_1(L1L2),  1,      1,      1,5,19971201,2158, 35.0000, 155.0000, -999,    150.4,  12.0620,  34.4070,2,  34.4100,2,    195.3,2,    13.70,2,     0.06,2,    18.80,2,     0.95,2,-999,9,   2268.0,2,    7.955,3,   2096.9,2
  49NZ19971111,14_1(L1L2),  1,      1,      1,5,19971201,2158, 35.0000, 155.0000, -999,    200.8,  10.2280,  34.2590,2,  34.2600,2,    208.6,2,    15.40,2,     0.05,2,    23.00,2,     1.09,2,-999,9,   2278.0,2,    7.922,3,   2114.5,2
  49NZ19971111,14_1(L1L2),  1,      1,      1,5,19971201,2158, 35.0000, 155.0000, -999,    303.0,   7.0890,  33.9780,2,  33.9800,2,    187.1,2,    22.70,2,     0.03,2,    40.20,2,     1.68,2,-999,9,   2274.0,2,    7.794,3,   2160.2,2
  49NZ19971111,14_1(L1L2),  1,      1,      1,5,19971201,2158, 35.0000, 155.0000, -999,    400.5,   5.3590,  33.9510,2,  33.9500,2,    138.2,2,    30.70,2,     0.03,2,    62.80,2,     2.26,2,-999,9,   -999.0,9,    7.653,3,   2216.6,2
  49NZ19971111,14_1(L1L2),  1,      1,      1,5,19971201,2158, 35.0000, 155.0000, -999,    503.3,   4.4930,  34.0220,2,  34.0200,2,     94.8,2,    36.30,2,     0.02,2,    82.50,2,     2.67,2,-999,9,   2307.0,2,    7.553,3,   2269.6,2
  49NZ19971111,14_1(L1L2),  1,      1,      1,5,19971201,2158, 35.0000, 155.0000, -999,    605.7,   4.2560,  34.1760,2,  34.1800,2,     64.6,2,    39.10,2,     0.02,2,    99.00,2,     2.84,2,-999,9,   -999.0,9,    7.514,3,   2308.6,2
  49NZ19971111,14_2(L4),  1,      1,      1,5,19971202,0022, 35.0000, 155.0000, -999,    706.1,   3.9840,  34.2230,2,  34.2200,2,     53.8,2,    40.40,2,     0.03,2,   107.10,2,     2.92,2,-999,9,   2336.0,2,    7.499,3,   2320.2,2
  49NZ19971111,14_1(L1L2),  1,      1,      1,5,19971201,2158, 35.0000, 155.0000, -999,    758.7,   3.6560,  34.2880,2,  34.2900,2,     47.2,2,    41.20,2,     0.03,2,   117.20,2,     3.00,2,-999,9,   -999.0,9,    7.495,3,   2340.7,2
  49NZ19971111,14_2(L4),  1,      1,      1,5,19971202,0022, 35.0000, 155.0000, -999,    808.2,   3.5640,  34.3050,2,  34.3000,2,     45.4,2,    41.50,2,     0.03,2,   120.00,2,     3.01,2,-999,9,   2354.0,2,    7.490,3,   2338.5,2
  49NZ19971111,14_2(L4),  1,      1,      1,5,19971202,0022, 35.0000, 155.0000, -999,    908.4,   3.2470,  34.3640,2,  34.3600,2,     42.4,2,    42.20,2,     0.03,2,   129.00,2,     3.06,2,-999,9,   2364.0,2,    7.486,3,   2348.1,2
  49NZ19971111,14_2(L4),  1,      1,      1,5,19971202,0022, 35.0000, 155.0000, -999,   1009.9,   3.0080,  34.3990,2,  34.3900,2,     40.1,2,    42.60,2,     0.03,2,   136.40,2,     3.07,2,-999,9,   2372.0,2,    7.483,3,   2360.0,2
  49NZ19971111,14_2(L4),  1,      1,      1,5,19971202,0022, 35.0000, 155.0000, -999,   1261.7,   2.5270,  34.4830,2,  34.4800,2,     41.5,2,    43.10,2,     0.03,2,   149.80,2,     3.09,2,-999,9,   2395.0,2,    7.491,3,   2381.0,2
  49NZ19971111,14_2(L4),  1,      1,      1,5,19971202,0022, 35.0000, 155.0000, -999,   1516.9,   2.2320,  34.5340,2,  34.5300,2,     51.4,2,    42.60,2,     0.02,2,   157.40,2,     3.06,2,-999,9,   -999.0,9,    7.511,3,   2377.1,2
  49NZ19971111,14_2(L4),  1,      1,      1,5,19971202,0022, 35.0000, 155.0000, -999,   1770.4,   2.0140,  34.5750,2,  34.5700,2,     65.9,2,    41.80,2,     0.03,2,   160.60,2,     2.97,2,-999,9,   2403.0,2,    7.543,3,   -999.0,9
  49NZ19971111,14_2(L4),  1,      1,      1,5,19971202,0022, 35.0000, 155.0000, -999,   2024.7,   1.8460,  34.6050,2,  34.6000,2,     82.0,2,    40.90,2,     0.03,2,   161.20,2,     2.91,2,-999,9,   -999.0,9,    7.577,3,   2367.3,2
  49NZ19971111,14_2(L4),  1,      1,      1,5,19971202,0022, 35.0000, 155.0000, -999,   2279.8,   1.7100,  34.6290,2,  34.6200,2,     98.1,2,    39.70,2,     0.02,2,   160.50,2,     2.82,2,-999,9,   2410.0,2,    7.606,3,   2361.1,2
  49NZ19971111,14_2(L4),  1,      1,      1,5,19971202,0022, 35.0000, 155.0000, -999,   2533.7,   1.6070,  34.6460,2,  34.6400,2,    113.6,2,    38.80,2,     0.03,2,   158.40,2,     2.75,2,-999,9,   -999.0,9,    7.635,3,   2353.0,2
  49NZ19971111,14_2(L4),  1,      1,      1,5,19971202,0022, 35.0000, 155.0000, -999,   2789.1,   1.5400,  34.6580,2,  34.6500,2,    125.0,2,    38.00,2,     0.03,2,   156.30,2,     2.69,2,-999,9,   2413.0,2,    7.657,3,   2342.0,2
  49NZ19971111,14_2(L4),  1,      1,      1,5,19971202,0022, 35.0000, 155.0000, -999,   3044.7,   1.5000,  34.6660,2,  34.6600,2,    134.6,2,    37.40,2,     0.02,2,   153.20,2,     2.63,2,-999,9,   -999.0,9,    7.675,3,   -999.0,9
  49NZ19971111,14_2(L4),  1,      1,      1,5,19971202,0022, 35.0000, 155.0000, -999,   3301.2,   1.4700,  34.6720,2,  34.6700,2,    141.5,2,    37.00,2,     0.03,2,   151.40,2,     2.58,2,-999,9,   2418.0,2,    7.686,3,   2331.7,2
  49NZ19971111,14_2(L4),  1,      1,      1,5,19971202,0022, 35.0000, 155.0000, -999,   3556.1,   1.4530,  34.6770,2,  34.6700,2,    146.7,2,    36.60,2,     0.04,2,   150.00,2,     2.55,2,-999,9,   2415.0,2,    7.694,3,   2329.5,2
  49NZ19971111,14_2(L4),  1,      1,      1,5,19971202,0022, 35.0000, 155.0000, -999,   3812.4,   1.4460,  34.6800,2,  34.6700,2,    150.8,2,    36.20,2,     0.03,2,   148.40,2,     2.53,2,-999,9,   2414.0,2,    7.700,3,   2328.0,2
  49NZ19971111,14_2(L4),  1,      1,      1,5,19971202,0022, 35.0000, 155.0000, -999,   4069.7,   1.4470,  34.6830,2,  34.6800,2,    154.1,2,    35.70,2,     0.04,2,   146.00,2,     2.51,2,-999,9,   2413.0,2,    7.704,3,   2318.9,2
  49NZ19971111,14_2(L4),  1,      1,      1,5,19971202,0022, 35.0000, 155.0000, -999,   4325.9,   1.4530,  34.6850,2,  34.6800,2,    157.3,2,    35.50,2,     0.04,2,   144.40,2,     2.49,2,-999,9,   2412.0,2,    7.712,3,   2319.8,2
  49NZ19971111,14_2(L4),  1,      1,      1,5,19971202,0022, 35.0000, 155.0000, -999,   4584.1,   1.4640,  34.6860,2,  34.6800,2,    160.1,2,    35.40,2,     0.03,2,   142.40,2,     2.47,2,-999,9,   -999.0,9,    7.714,3,   2315.5,2
  49NZ19971111,14_2(L4),  1,      1,      1,5,19971202,0022, 35.0000, 155.0000, -999,   4840.5,   1.4780,  34.6880,2,  34.6800,2,    163.1,2,    35.20,2,     0.03,2,   140.70,2,     2.47,2,-999,9,   2414.0,2,    7.717,3,   2313.2,2
  49NZ19971111,14_2(L4),  1,      1,      1,5,19971202,0022, 35.0000, 155.0000, -999,   5098.0,   1.4980,  34.6890,2,  34.6800,2,    165.1,2,    35.10,2,     0.02,2,   139.20,2,     2.46,2,-999,9,   2408.0,2,    7.722,3,   2313.8,2
  49NZ19971111,14_2(L4),  1,      1,      1,5,19971202,0022, 35.0000, 155.0000, -999,   5355.5,   1.5230,  34.6900,2,  34.6800,2,    166.6,2,    35.20,2,     0.03,2,   138.50,2,     2.45,2,-999,9,   -999.0,9,    7.722,3,   2312.6,2
  49NZ19971111,14_2(L4),  1,      1,      1,5,19971202,0022, 35.0000, 155.0000, -999,   5614.2,   1.5510,  34.6910,2,  34.6800,2,    167.6,2,    35.00,2,     0.02,2,   137.80,2,     2.45,2,-999,9,   2414.0,2,    7.725,3,   -999.0,9