BOTTLE,20100108MIRCJHATS
EXPOCODE,STNNBR,CASTNO,SAMPNO,BTLNBR,BTLNBR_FLAG_W,DATE,TIME,LATITUDE,LONGITUDE,DEPTH,CTDPRS,CTDTMP,CTDSAL,CTDSAL_FLAG_W,SALNTY,SALNTY_FLAG_W,OXYGEN,OXYGEN_FLAG_W,NITRAT,NITRAT_FLAG_W,NITRIT,NITRIT_FLAG_W,SILCAT,SILCAT_FLAG_W,PHSPHT,PHSPHT_FLAG_W,NH4,NH4_FLAG_W,ALKALI,ALKALI_FLAG_W,PH,PH_FLAG_W,TCARBN,TCARBN_FLAG_W
,,,,,,,,,,METERS,DBARS,,,,,,UMOL/KG,,UMOL/KG,,UMOL/KG,,UMOL/KG,,UMOL/KG,,UMOL/KG,,UMOL/KG,,,,UMOL/KG,
  49NZ19981030,KNOT-3,  1,      1,      1,5,19981211,0203, 44.0000, 155.0000, 5305,     10.2,   5.1676,  32.7239,2,  32.7341,2,    309.9,2,    15.20,2,     0.21,2,    23.20,2,     1.32,2,-999,9,   2216.6,2,    7.727,3,   2040.5,2
  49NZ19981030,KNOT-3,  1,      1,      1,5,19981211,0203, 44.0000, 155.0000, 5305,     18.6,   5.1719,  32.7237,2,  32.7362,2,    322.1,2,    15.10,2,     0.21,2,    23.30,2,     1.32,2,-999,9,   2217.9,2,    7.725,3,   2057.1,2
  49NZ19981030,KNOT-3,  1,      1,      1,5,19981211,0203, 44.0000, 155.0000, 5305,     28.9,   5.1687,  32.7240,2,  32.7346,2,    324.5,2,    15.20,2,     0.21,2,    23.40,2,     1.33,2,-999,9,   2214.4,2,    7.727,3,   2053.6,2
  49NZ19981030,KNOT-3,  1,      1,      1,5,19981211,0203, 44.0000, 155.0000, 5305,     38.9,   5.1741,  32.7241,2,  32.7416,2,    309.9,2,    15.10,2,     0.22,2,    23.20,2,     1.34,2,-999,9,   2208.6,2,    7.729,3,   2055.9,2
  49NZ19981030,KNOT-3,  1,      1,      1,5,19981211,0203, 44.0000, 155.0000, 5305,     49.4,   5.1744,  32.7241,2,  32.7373,2,    337.6,2,    15.20,2,     0.21,2,    23.20,2,     1.32,2,-999,9,   2212.4,2,    7.728,3,   2056.3,2
  49NZ19981030,KNOT-3,  1,      1,      1,5,19981211,0203, 44.0000, 155.0000, 5305,     57.9,   5.1712,  32.7244,2,  32.7378,2,    317.4,2,    15.20,2,     0.21,2,    23.30,2,     1.32,2,-999,9,   2213.3,2,    7.726,3,   2058.0,2
  49NZ19981030,KNOT-3,  1,      1,      1,5,19981211,0203, 44.0000, 155.0000, 5305,     70.5,   5.1682,  32.7241,2,  32.7434,2,    311.0,2,    15.30,2,     0.21,2,    23.60,2,     1.34,2,-999,9,   2217.8,2,    7.725,3,   2053.1,2
  49NZ19981030,KNOT-3,  1,      1,      1,5,19981211,0203, 44.0000, 155.0000, 5305,     81.3,   4.5497,  32.8047,2,  32.8561,2,    297.1,2,    18.50,2,     0.14,2,    29.80,2,     1.54,2,-999,9,   2245.8,2,    7.673,3,   2087.5,2
  49NZ19981030,KNOT-3,  1,      1,      1,5,19981211,0203, 44.0000, 155.0000, 5305,     89.9,   2.4357,  33.0923,2,  33.1286,2,    269.9,2,    25.80,2,     0.02,2,    45.80,2,     2.05,2,-999,9,   2239.8,2,    7.542,3,   2150.4,2
  49NZ19981030,KNOT-3,  1,      1,      1,5,19981211,0203, 44.0000, 155.0000, 5305,     99.2,   2.2277,  33.1543,2,  33.1898,2,    263.0,2,    26.80,2,     0.02,2,    48.20,2,     2.10,2,-999,9,   2240.8,2,    7.527,3,   -999.0,9
  49NZ19981030,KNOT-3,  1,      1,      1,5,19981211,0203, 44.0000, 155.0000, 5305,    126.1,   2.4873,  33.3220,2,  33.3019,2,    239.8,2,    28.50,2,     0.01,2,    54.30,2,     2.18,2,-999,9,   2250.0,2,    7.481,3,   2177.3,2
  49NZ19981030,KNOT-3,  1,      1,      1,5,19981211,0203, 44.0000, 155.0000, 5305,    149.5,   2.5616,  33.4095,2,  33.4174,2,    211.3,2,    29.80,2,     0.01,2,    59.40,2,     2.26,2,-999,9,   2259.1,2,    7.450,3,   2188.8,2
  49NZ19981030,KNOT-3,  1,      1,      1,5,19981211,0203, 44.0000, 155.0000, 5305,    177.0,   2.5061,  33.4808,2,  33.4855,2,    184.0,2,    33.90,2,     0.01,2,    70.90,2,     2.54,2,-999,9,   2265.3,2,    7.372,3,   2226.2,2
  49NZ19981030,KNOT-3,  1,      1,      1,5,19981211,0203, 44.0000, 155.0000, 5305,    202.1,   2.4995,  33.5380,2,  33.5555,2,    155.3,2,    35.50,2,     0.01,2,    77.30,2,     2.66,2,-999,9,   2274.8,2,    7.339,3,   2240.4,2
  49NZ19981030,KNOT-3,  1,      1,      1,5,19981211,0203, 44.0000, 155.0000, 5305,    226.0,   2.6300,  33.6010,2,  33.6207,2,    137.5,2,    37.10,2,     0.02,2,    81.80,2,     2.77,2,-999,9,   2282.7,2,    7.305,3,   2258.2,2
  49NZ19981030,KNOT-3,  1,      1,      1,5,19981211,0203, 44.0000, 155.0000, 5305,    252.2,   2.7980,  33.6874,2,  33.7198,2,    103.2,2,    39.30,2,     0.01,2,    88.00,2,     2.89,2,-999,9,   2291.8,2,    7.269,3,   2279.9,2
  49NZ19981030,KNOT-3,  1,      1,      1,5,19981211,0203, 44.0000, 155.0000, 5305,    301.9,   3.0322,  33.8343,2,  33.8465,2,     71.3,2,    41.40,2,     0.01,2,    97.70,2,     3.01,2,-999,9,   2303.5,2,    7.237,3,   2291.4,2
  49NZ19981030,KNOT-3,  1,      1,      1,5,19981211,0203, 44.0000, 155.0000, 5305,    403.3,   3.2668,  34.0034,2,  34.0536,2,     41.6,2,    43.40,2,  -999.00,9,   110.60,2,     3.17,2,-999,9,   2322.9,2,    7.220,3,   2320.9,2
  49NZ19981030,KNOT-3,  1,      1,      1,5,19981211,0203, 44.0000, 155.0000, 5305,    504.9,   3.3707,  34.1550,2,  34.1674,2,     32.3,2,    43.20,2,     0.01,2,   120.20,2,     3.13,2,-999,9,   2335.5,2,    7.236,3,   2331.7,2
  49NZ19981030,KNOT-3,  1,      1,      1,5,19981211,0203, 44.0000, 155.0000, 5305,    605.1,   3.2168,  34.2203,2,  34.2449,2,     34.6,3,    43.50,2,     0.01,2,   128.20,2,     3.14,2,-999,9,   2348.6,2,    7.243,3,   2340.8,2
  49NZ19981030,KNOT-3,  1,      1,      1,5,19981211,0203, 44.0000, 155.0000, 5305,    705.9,   3.2161,  34.2858,2,  34.3015,2,     35.9,2,    42.80,2,     0.01,2,   130.30,2,     3.08,2,-999,9,   2356.2,2,    7.269,3,   2349.0,2
  49NZ19981030,KNOT-3,  1,      1,      1,5,19981211,0203, 44.0000, 155.0000, 5305,    806.7,   2.9574,  34.3404,2,  34.3555,2,     34.6,2,    43.20,2,     0.01,2,   139.40,2,     3.11,2,-999,9,   2367.6,2,    7.271,3,   2351.4,2
  49NZ19981030,KNOT-3,  1,      1,      1,5,19981211,0203, 44.0000, 155.0000, 5305,    908.3,   2.7835,  34.3753,2,  34.3886,2,     34.6,3,    43.30,2,     0.00,2,   145.30,2,     3.16,2,-999,9,   -999.0,9,    7.273,3,   2359.4,2
  49NZ19981030,KNOT-3,  1,      1,      1,5,19981211,0203, 44.0000, 155.0000, 5305,   1009.6,   2.6294,  34.4155,2,  34.4273,2,     37.4,3,    43.20,2,     0.01,2,   149.70,2,     3.12,2,-999,9,   2379.8,2,    7.282,3,   2366.9,2
  49NZ19981030,KNOT-3,  1,      1,      1,5,19981211,0203, 44.0000, 155.0000, 5305,   1263.1,   2.3611,  34.4770,2,  34.4895,2,     44.1,2,    43.00,2,     0.01,2,   158.10,2,     3.09,2,-999,9,   2387.8,2,    7.301,3,   2371.9,2
  49NZ19981030,KNOT-3,  1,      1,      1,5,19981211,0203, 44.0000, 155.0000, 5305,   1518.0,   2.1566,  34.5214,2,  34.5457,2,     52.1,2,    42.30,2,     0.01,2,   162.10,2,     3.03,2,-999,9,   2400.3,2,    7.326,3,   2373.3,2
  49NZ19981030,KNOT-3,  1,      1,      1,5,19981211,0203, 44.0000, 155.0000, 5305,   1771.4,   1.9998,  34.5622,2,-999.0000,9,   -999.0,9,  -999.00,9,  -999.00,9,  -999.00,9,  -999.00,9,-999,9,   -999.0,9, -999.000,9,   -999.0,9
  49NZ19981030,KNOT-3,  1,      1,      1,5,19981211,0203, 44.0000, 155.0000, 5305,   2024.9,   1.8588,  34.5947,2,-999.0000,9,   -999.0,9,  -999.00,9,  -999.00,9,  -999.00,9,  -999.00,9,-999,9,   -999.0,9, -999.000,9,   -999.0,9
  49NZ19981030,KNOT-3,  1,      1,      1,5,19981211,0203, 44.0000, 155.0000, 5305,   2280.3,   1.7436,  34.6164,2,  34.6280,2,    101.8,2,    39.90,2,     0.00,2,   161.60,2,     2.84,2,-999,9,   2411.8,2,    7.418,3,   2358.0,2
  49NZ19981030,KNOT-3,  1,      1,      1,5,19981211,0203, 44.0000, 155.0000, 5305,   2535.9,   1.6400,  34.6339,2,-999.0000,9,   -999.0,9,  -999.00,9,  -999.00,9,  -999.00,9,  -999.00,9,-999,9,   -999.0,9, -999.000,9,   -999.0,9
  49NZ19981030,KNOT-3,  1,      1,      1,5,19981211,0203, 44.0000, 155.0000, 5305,   3045.1,   1.5259,  34.6554,2,  34.6684,2,    123.2,2,    37.60,2,     0.01,2,   154.60,2,     2.66,2,-999,9,   2413.7,2,    7.487,3,   2340.7,2
  49NZ19981030,KNOT-3,  1,      1,      1,5,19981211,0203, 44.0000, 155.0000, 5305,   3557.8,   1.4671,  34.6677,2,  34.6806,2,    145.8,2,    36.40,2,     0.01,2,   149.70,2,     2.56,2,-999,9,   2409.3,2,    7.512,3,   2322.5,2
  49NZ19981030,KNOT-3,  1,      1,      1,5,19981211,0203, 44.0000, 155.0000, 5305,   4070.8,   1.4586,  34.6741,2,  34.6859,2,    155.4,2,    36.10,2,     0.01,2,   147.70,2,     2.53,2,-999,9,   2411.9,2,    7.528,3,   2316.3,2
  49NZ19981030,KNOT-3,  1,      1,      1,5,19981211,0203, 44.0000, 155.0000, 5305,   4584.1,   1.4799,  34.6779,2,  34.6898,2,    157.0,2,    35.70,2,     0.01,2,   146.80,2,     2.51,2,-999,9,   2415.1,2,    7.535,3,   2317.0,2
  49NZ19981030,KNOT-3,  1,      1,      1,5,19981211,0203, 44.0000, 155.0000, 5305,   5100.7,   1.5271,  34.6791,2,  34.6911,2,    159.1,2,    35.50,2,     0.00,2,   147.20,2,     2.49,2,-999,9,   2408.1,2,    7.540,3,   2316.7,2
  49NZ19981030,KNOT-3,  1,      1,      1,5,19981211,0203, 44.0000, 155.0000, 5305,   5099.8,   1.5280,  34.6794,2,  34.6927,2,    159.2,2,    35.60,2,     0.01,2,   146.70,2,     2.47,2,-999,9,   2409.8,2, -999.000,9,   2316.5,2