BOTTLE,20100108MIRCJHATS
EXPOCODE,STNNBR,CASTNO,SAMPNO,BTLNBR,BTLNBR_FLAG_W,DATE,TIME,LATITUDE,LONGITUDE,DEPTH,CTDPRS,CTDTMP,CTDSAL,CTDSAL_FLAG_W,SALNTY,SALNTY_FLAG_W,OXYGEN,OXYGEN_FLAG_W,NITRAT,NITRAT_FLAG_W,NITRIT,NITRIT_FLAG_W,SILCAT,SILCAT_FLAG_W,PHSPHT,PHSPHT_FLAG_W,NH4,NH4_FLAG_W,ALKALI,ALKALI_FLAG_W,PH,PH_FLAG_W,TCARBN,TCARBN_FLAG_W
,,,,,,,,,,METERS,DBARS,,,,,,UMOL/KG,,UMOL/KG,,UMOL/KG,,UMOL/KG,,UMOL/KG,,UMOL/KG,,UMOL/KG,,,,UMOL/KG,
  49NZ19981030,KNOT-2,  1,      1,      1,5,19981109,0000, 44.0000, 155.0000, 5344,      0.0,   8.7502,-999.0000,9,  32.6110,2,    289.9,2,  -999.00,9,  -999.00,9,  -999.00,9,  -999.00,9,-999,9,   2195.1,2,    7.869,3,   2019.7,2
  49NZ19981030,KNOT-2,  1,      1,      1,5,19981109,0000, 44.0000, 155.0000, 5344,      9.2,   8.7511,  32.5990,2,  32.6018,2,    287.9,2,  -999.00,9,  -999.00,9,  -999.00,9,  -999.00,9,-999,9,   2197.3,2,    7.883,3,   2015.5,2
  49NZ19981030,KNOT-2,  1,      1,      1,5,19981109,0000, 44.0000, 155.0000, 5344,     21.2,   8.7507,  32.5999,2,  32.6197,2,    288.6,2,  -999.00,9,  -999.00,9,  -999.00,9,  -999.00,9,-999,9,   2197.0,2,    7.880,3,   2017.8,2
  49NZ19981030,KNOT-2,  1,      1,      1,5,19981109,0000, 44.0000, 155.0000, 5344,     29.5,   8.7106,  32.6227,2,  32.6270,2,    290.5,2,  -999.00,9,  -999.00,9,  -999.00,9,  -999.00,9,-999,9,   2201.1,2,    7.878,3,   2018.8,2
  49NZ19981030,KNOT-2,  1,      1,      1,5,19981109,0000, 44.0000, 155.0000, 5344,     40.1,   8.6575,  32.6231,2,  32.6264,2,    290.8,2,  -999.00,9,  -999.00,9,  -999.00,9,  -999.00,9,-999,9,   2198.3,2,    7.877,3,   2021.9,2
  49NZ19981030,KNOT-2,  1,      1,      1,5,19981109,0000, 44.0000, 155.0000, 5344,     50.3,   8.5278,  32.6193,2,  32.6292,2,    292.0,2,  -999.00,9,  -999.00,9,  -999.00,9,  -999.00,9,-999,9,   2198.4,2,    7.870,3,   2040.6,2
  49NZ19981030,KNOT-2,  1,      1,      1,5,19981109,0000, 44.0000, 155.0000, 5344,     60.0,   8.0563,  32.6361,2,  32.6701,2,    290.5,2,  -999.00,9,  -999.00,9,  -999.00,9,  -999.00,9,-999,9,   2196.4,2,    7.854,3,   2033.7,2
  49NZ19981030,KNOT-2,  1,      1,      1,5,19981109,0000, 44.0000, 155.0000, 5344,     69.9,   5.5049,  32.7988,2,  32.8467,2,    298.4,2,  -999.00,9,  -999.00,9,  -999.00,9,  -999.00,9,-999,9,   2213.4,2,    7.768,3,   2077.3,2
  49NZ19981030,KNOT-2,  1,      1,      1,5,19981109,0000, 44.0000, 155.0000, 5344,     80.5,   2.8834,  32.9723,2,  32.9873,2,    305.1,2,  -999.00,9,  -999.00,9,  -999.00,9,  -999.00,9,-999,9,   2215.1,2,    7.697,3,   2096.2,2
  49NZ19981030,KNOT-2,  1,      1,      1,5,19981109,0000, 44.0000, 155.0000, 5344,     89.9,   2.5050,  33.0059,2,  33.0199,2,    303.2,2,  -999.00,9,  -999.00,9,  -999.00,9,  -999.00,9,-999,9,   2218.8,2,    7.675,3,   2105.9,2
  49NZ19981030,KNOT-2,  1,      1,      1,5,19981109,0000, 44.0000, 155.0000, 5344,    100.8,   2.3690,  33.0643,2,  33.0824,2,    288.4,2,  -999.00,9,  -999.00,9,  -999.00,9,  -999.00,9,-999,9,   2226.6,2,    7.648,3,   2136.7,2
  49NZ19981030,KNOT-2,  1,      1,      1,5,19981109,0000, 44.0000, 155.0000, 5344,    126.8,   2.2121,  33.1796,2,  33.1914,2,    260.6,2,  -999.00,9,  -999.00,9,  -999.00,9,  -999.00,9,-999,9,   2231.9,2,    7.595,3,   2160.0,2
  49NZ19981030,KNOT-2,  1,      1,      1,5,19981109,0000, 44.0000, 155.0000, 5344,    151.3,   2.6272,  33.3813,2,  33.3495,2,    202.4,2,  -999.00,9,  -999.00,9,  -999.00,9,  -999.00,9,-999,9,   2250.0,2,    7.495,3,   2199.2,2
  49NZ19981030,KNOT-2,  1,      1,      1,5,19981109,0000, 44.0000, 155.0000, 5344,    174.5,   3.0859,  33.5859,2,  33.6146,2,    117.0,2,  -999.00,9,  -999.00,9,  -999.00,9,  -999.00,9,-999,9,   2267.7,2,    7.359,3,   2265.9,2
  49NZ19981030,KNOT-2,  1,      1,      1,5,19981109,0000, 44.0000, 155.0000, 5344,    200.9,   3.1967,  33.7675,2,  33.7243,2,     87.1,2,  -999.00,9,  -999.00,9,  -999.00,9,  -999.00,9,-999,9,   2273.7,2,    7.314,3,   2290.8,2
  49NZ19981030,KNOT-2,  1,      1,      1,5,19981109,0000, 44.0000, 155.0000, 5344,    226.3,   3.3788,  33.8427,2,  33.8293,2,     54.9,2,  -999.00,9,  -999.00,9,  -999.00,9,  -999.00,9,-999,9,   2284.5,2,    7.270,3,   2306.5,2
  49NZ19981030,KNOT-2,  1,      1,      1,5,19981109,0000, 44.0000, 155.0000, 5344,    251.5,   3.3889,  33.8971,2,  33.9059,2,     39.7,2,  -999.00,9,  -999.00,9,  -999.00,9,  -999.00,9,-999,9,   2296.5,2,    7.255,3,   2323.4,2
  49NZ19981030,KNOT-2,  1,      1,      1,5,19981109,0000, 44.0000, 155.0000, 5344,    301.1,   3.5022,  33.9879,2,  33.9939,2,     20.6,2,  -999.00,9,  -999.00,9,  -999.00,9,  -999.00,9,-999,9,   2304.7,2,    7.230,3,   2344.6,2
  49NZ19981030,KNOT-2,  1,      1,      1,5,19981109,0000, 44.0000, 155.0000, 5344,    404.2,   3.4328,  34.1161,2,  34.1159,2,     16.4,2,  -999.00,9,  -999.00,9,  -999.00,9,  -999.00,9,-999,9,   2319.0,2,    7.277,3,   2356.2,2
  49NZ19981030,KNOT-2,  1,      1,      1,5,19981109,0000, 44.0000, 155.0000, 5344,    503.9,   3.1665,  34.1831,2,  34.1870,2,     26.4,2,  -999.00,9,  -999.00,9,  -999.00,9,  -999.00,9,-999,9,   2340.0,2,    7.283,3,   2357.9,2
  49NZ19981030,KNOT-2,  1,      1,      1,5,19981109,0000, 44.0000, 155.0000, 5344,    605.5,   3.0318,  34.2524,2,  34.2576,2,     24.4,2,  -999.00,9,  -999.00,9,  -999.00,9,  -999.00,9,-999,9,   2345.7,2,    7.317,3,   2365.7,2
  49NZ19981030,KNOT-2,  1,      1,      1,5,19981109,0000, 44.0000, 155.0000, 5344,    707.2,   2.9365,  34.3135,2,  34.3186,2,     27.9,2,  -999.00,9,  -999.00,9,  -999.00,9,  -999.00,9,-999,9,   2358.8,2,    7.318,3,   2368.5,2
  49NZ19981030,KNOT-2,  1,      1,      1,5,19981109,0000, 44.0000, 155.0000, 5344,    808.3,   2.7738,  34.3572,2,  34.3645,2,   -999.0,9,  -999.00,9,  -999.00,9,  -999.00,9,  -999.00,9,-999,9,   2366.0,2,    7.315,3,   2375.5,2
  49NZ19981030,KNOT-2,  1,      1,      1,5,19981109,0000, 44.0000, 155.0000, 5344,    909.3,   2.6601,  34.3954,2,  34.3988,2,     31.0,2,  -999.00,9,  -999.00,9,  -999.00,9,  -999.00,9,-999,9,   2375.3,2,    7.345,3,   2376.7,2
  49NZ19981030,KNOT-2,  1,      1,      1,5,19981109,0000, 44.0000, 155.0000, 5344,   1013.1,   2.5346,  34.4305,2,  34.4330,2,     35.4,2,  -999.00,9,  -999.00,9,  -999.00,9,  -999.00,9,-999,9,   -999.0,9,    7.374,3,   2375.9,2
  49NZ19981030,KNOT-2,  1,      1,      1,5,19981109,0000, 44.0000, 155.0000, 5344,   1263.5,   2.2715,  34.4918,2,  34.4977,2,     43.7,2,  -999.00,9,  -999.00,9,  -999.00,9,  -999.00,9,-999,9,   -999.0,9,    7.376,3,   2382.4,2
  49NZ19981030,KNOT-2,  1,      1,      1,5,19981109,0000, 44.0000, 155.0000, 5344,   1516.6,   2.1062,  34.5456,2,-999.0000,9,     56.0,2,  -999.00,9,  -999.00,9,  -999.00,9,  -999.00,9,-999,9,   2402.8,2,    7.387,3,   2378.7,2
  49NZ19981030,KNOT-2,  1,      1,      1,5,19981109,0000, 44.0000, 155.0000, 5344,   1770.5,   1.9552,  34.5800,2,  34.5852,2,     71.5,2,  -999.00,9,  -999.00,9,  -999.00,9,  -999.00,9,-999,9,   2402.9,2,    7.420,3,   2375.6,2
  49NZ19981030,KNOT-2,  1,      1,      1,5,19981109,0000, 44.0000, 155.0000, 5344,   2023.7,   1.8228,  34.6083,2,  34.6101,2,     85.4,2,  -999.00,9,  -999.00,9,  -999.00,9,  -999.00,9,-999,9,   2408.4,2,    7.433,3,   2368.0,2
  49NZ19981030,KNOT-2,  1,      1,      1,5,19981109,0000, 44.0000, 155.0000, 5344,   2281.7,   1.7106,  34.6287,2,  34.6314,2,     99.7,2,  -999.00,9,  -999.00,9,  -999.00,9,  -999.00,9,-999,9,   2414.7,2,    7.483,3,   2358.9,2
  49NZ19981030,KNOT-2,  1,      1,      1,5,19981109,0000, 44.0000, 155.0000, 5344,   2533.9,   1.6345,  34.6426,2,  34.6456,2,    111.7,2,  -999.00,9,  -999.00,9,  -999.00,9,  -999.00,9,-999,9,   -999.0,9,    7.490,3,   2352.6,2
  49NZ19981030,KNOT-2,  1,      1,      1,5,19981109,0000, 44.0000, 155.0000, 5344,   3046.8,   1.5249,  34.6628,2,  34.6640,2,    131.1,2,  -999.00,9,  -999.00,9,  -999.00,9,  -999.00,9,-999,9,   2412.6,2,    7.526,3,   2337.9,2
  49NZ19981030,KNOT-2,  1,      1,      1,5,19981109,0000, 44.0000, 155.0000, 5344,   3558.2,   1.4673,  34.6749,2,  34.6785,2,    143.3,2,  -999.00,9,  -999.00,9,  -999.00,9,  -999.00,9,-999,9,   2406.4,2,    7.561,3,   2331.7,2
  49NZ19981030,KNOT-2,  1,      1,      1,5,19981109,0000, 44.0000, 155.0000, 5344,   4073.5,   1.4552,  34.6822,2,  34.6828,2,    152.0,2,  -999.00,9,  -999.00,9,  -999.00,9,  -999.00,9,-999,9,   2413.4,2,    7.572,3,   2323.4,2
  49NZ19981030,KNOT-2,  1,      1,      1,5,19981109,0000, 44.0000, 155.0000, 5344,   4582.3,   1.4750,  34.6863,2,  34.6867,2,    158.9,2,  -999.00,9,  -999.00,9,  -999.00,9,  -999.00,9,-999,9,   2414.3,2,    7.577,3,   2322.6,2
  49NZ19981030,KNOT-2,  1,      1,      1,5,19981109,0000, 44.0000, 155.0000, 5344,   5099.7,   1.5203,  34.6884,2,  34.6907,2,    161.2,2,  -999.00,9,  -999.00,9,  -999.00,9,  -999.00,9,-999,9,   2406.1,2,    7.590,3,   2324.8,2
  49NZ19981030,KNOT-2,  1,      1,      1,5,19981109,0000, 44.0000, 155.0000, 5344,   5401.6,   1.5563,  34.6889,2,  34.6902,2,    160.2,2,  -999.00,9,  -999.00,9,  -999.00,9,  -999.00,9,-999,9,   2404.8,2,    7.590,3,   2318.6,2
  49NZ19981030,19_1(L1),  1,      1,      1,5,19981116,1932, 40.0000, 160.0000, 5509,      9.0,  16.4781,  34.2655,2,-999.0000,9,   -999.0,9,  -999.00,9,  -999.00,9,  -999.00,9,  -999.00,9,-999,9,   -999.0,9, -999.000,9,   -999.0,9
  49NZ19981030,19_1(L1),  1,      1,      1,5,19981116,1932, 40.0000, 160.0000, 5509,     20.9,  16.4784,  34.2655,2,  34.2758,2,    240.3,2,     1.50,2,     0.08,2,     5.90,2,     0.16,2,-999,9,   2260.6,2,    7.960,3,   1993.2,2
  49NZ19981030,19_1(L1),  1,      1,      1,5,19981116,1932, 40.0000, 160.0000, 5509,     31.2,  16.4810,  34.2661,2,  34.2763,2,    240.1,2,     1.50,2,     0.08,2,     5.90,2,     0.16,2,-999,9,   2248.8,2,    7.962,3,   1994.1,2
  49NZ19981030,19_1(L1),  1,      1,      1,5,19981116,1932, 40.0000, 160.0000, 5509,     42.1,  16.4836,  34.2669,2,  34.2772,2,    240.1,2,     1.60,2,     0.08,2,     6.00,2,     0.19,2,-999,9,   2264.6,2,    7.961,3,   1994.0,2
  49NZ19981030,19_1(L1),  1,      1,      1,5,19981116,1932, 40.0000, 160.0000, 5509,     50.1,  16.4846,  34.2673,2,  34.2772,2,    239.9,2,     1.60,2,     0.08,2,     6.00,2,     0.19,2,-999,9,   2259.2,2,    7.961,3,   1991.2,2
  49NZ19981030,19_1(L1),  1,      1,      1,5,19981116,1932, 40.0000, 160.0000, 5509,     60.5,  16.4698,  34.2682,2,  34.2769,2,    240.0,2,     1.50,2,     0.09,2,     6.00,2,     0.18,2,-999,9,   2262.4,2,    7.961,3,   1992.6,2
  49NZ19981030,19_1(L1),  1,      1,      1,5,19981116,1932, 40.0000, 160.0000, 5509,     81.8,  14.6017,  34.4320,2,  34.4624,2,    207.7,2,     9.30,2,     0.07,2,    12.90,2,     0.65,2,-999,9,   2273.7,2,    7.850,3,   2059.5,2
  49NZ19981030,19_1(L1),  1,      1,      1,5,19981116,1932, 40.0000, 160.0000, 5509,     99.0,  12.9336,  34.4479,2,  34.5413,2,    200.2,2,    12.50,2,     0.03,2,    17.50,2,     0.91,2,-999,9,   2274.6,2,    7.794,3,   2084.7,2
  49NZ19981030,19_1(L1),  1,      1,      1,5,19981116,1932, 40.0000, 160.0000, 5509,    128.4,  12.1301,  34.3970,2,  34.4061,2,    207.1,2,    13.00,2,     0.03,2,    18.50,2,     0.94,2,-999,9,   2273.7,2,    7.789,3,   2089.3,2
  49NZ19981030,19_1(L1),  1,      1,      1,5,19981116,1932, 40.0000, 160.0000, 5509,    151.5,  11.5085,  34.3530,2,  34.3644,2,    212.2,2,    13.30,2,     0.03,2,    19.40,2,     0.98,2,-999,9,   2267.7,2,    7.778,3,   2095.8,2
  49NZ19981030,19_1(L1),  1,      1,      1,5,19981116,1932, 40.0000, 160.0000, 5509,    202.6,  10.2392,  34.2416,2,  34.2542,2,    219.3,2,    14.70,2,     0.03,2,    22.70,2,     1.10,2,-999,9,   2266.5,2,    7.753,3,   2106.1,2
  49NZ19981030,19_1(L1),  1,      1,      1,5,19981116,1932, 40.0000, 160.0000, 5509,    255.1,   8.9201,  34.0857,2,  34.1007,2,    227.3,2,    16.40,2,     0.03,2,    26.20,2,     1.23,2,-999,9,   2267.0,2,    7.722,3,   2115.1,2
  49NZ19981030,19_1(L1),  1,      1,      1,5,19981116,1932, 40.0000, 160.0000, 5509,    302.1,   6.9250,  33.8565,2,  33.8480,2,    235.5,2,    19.10,2,     0.03,2,    32.40,2,     1.47,2,-999,9,   2263.9,2,    7.669,3,   2132.0,2
  49NZ19981030,19_1(L1),  1,      1,      1,5,19981116,1932, 40.0000, 160.0000, 5509,    403.4,   5.6751,  33.8769,2,  33.8863,2,    165.2,2,    27.60,2,     0.03,2,    53.90,2,     2.08,2,-999,9,   2277.6,2,    7.521,3,   2200.6,2
  49NZ19981030,19_1(L1),  1,      1,      1,5,19981116,1932, 40.0000, 160.0000, 5509,    504.5,   4.8574,  33.9473,2,  33.9603,2,    116.8,2,    33.60,2,     0.03,2,    73.20,2,     2.49,2,-999,9,   2290.7,2,    7.415,3,   2248.2,2
  49NZ19981030,19_1(L1),  1,      1,      1,5,19981116,1932, 40.0000, 160.0000, 5509,    606.5,   4.4694,  34.0688,2,  34.0800,2,     80.8,2,    37.40,2,     0.04,2,    90.20,2,     2.73,2,-999,9,   2307.4,2,    7.353,3,   2286.7,2
  49NZ19981030,19_1(L1),  1,      1,      1,5,19981116,1932, 40.0000, 160.0000, 5509,    707.5,   4.1470,  34.1848,2,  34.1954,2,     57.4,2,    40.00,2,     0.02,2,   101.70,2,     2.91,2,-999,9,   2335.5,2,    7.324,3,   2320.0,2
  49NZ19981030,19_1(L1),  1,      1,      1,5,19981116,1932, 40.0000, 160.0000, 5509,    807.0,   3.7327,  34.2473,2,  34.2572,2,     45.0,2,    41.40,2,     0.01,2,   111.70,2,     2.97,2,-999,9,   2344.8,2,    7.304,3,   2334.0,2
  49NZ19981030,19_1(L1),  1,      1,      1,5,19981116,1932, 40.0000, 160.0000, 5509,   1011.1,   3.2299,  34.3466,2,  34.3549,2,     36.2,2,    42.60,2,     0.01,2,   127.80,2,     3.06,2,-999,9,   2359.4,2,    7.295,3,   2354.4,2
  49NZ19981030,19_1(L1),  1,      1,      1,5,19981116,1932, 40.0000, 160.0000, 5509,   1265.2,   2.7177,  34.4344,2,  34.4414,2,     36.7,2,    43.10,2,     0.01,2,   143.30,2,     3.07,2,-999,9,   -999.0,9,    7.302,3,   2377.2,2
  49NZ19981030,19_1(L1),  1,      1,      1,5,19981116,1932, 40.0000, 160.0000, 5509,   1518.1,   2.3938,  34.4954,2,  34.5034,2,     43.2,2,    42.80,2,     0.00,2,   152.50,2,     3.04,2,-999,9,   2384.4,2,    7.319,3,   2381.6,2
  49NZ19981030,19_1(L1),  1,      1,      1,5,19981116,1932, 40.0000, 160.0000, 5509,   2027.0,   1.9975,  34.5760,2,  34.5834,2,     68.2,2,    41.70,2,     0.05,2,   157.90,2,     2.92,2,-999,9,   2403.2,2,    7.370,3,   2374.6,2
  49NZ19981030,19_1(L1),  1,      1,      1,5,19981116,1932, 40.0000, 160.0000, 5509,   2537.6,   1.7096,  34.6286,2,  34.6367,2,    101.3,2,    39.40,2,     0.05,2,   157.20,2,     2.77,2,-999,9,   2406.0,2,    7.436,3,   2358.0,2
  49NZ19981030,19_1(L1),  1,      1,      1,5,19981116,1932, 40.0000, 160.0000, 5509,   3044.3,   1.5694,  34.6536,2,  34.6615,2,    124.2,2,    37.90,2,     0.04,2,   154.20,2,     2.66,2,-999,9,   2405.2,2,    7.480,3,   2342.5,2
  49NZ19981030,19_1(L1),  1,      1,      1,5,19981116,1932, 40.0000, 160.0000, 5509,   3558.7,   1.4899,  34.6685,2,  34.6761,2,    140.9,2,    36.80,2,     0.03,2,   150.80,2,     2.58,2,-999,9,   2413.1,2,    7.509,3,   2332.5,2
  49NZ19981030,19_1(L1),  1,      1,      1,5,19981116,1932, 40.0000, 160.0000, 5509,   4070.4,   1.4749,  34.6755,2,  34.6835,2,    150.1,2,    36.20,2,     0.02,2,   146.00,2,     2.52,2,-999,9,   2408.8,2,    7.524,3,   2329.3,2
  49NZ19981030,19_1(L1),  1,      1,      1,5,19981116,1932, 40.0000, 160.0000, 5509,   4584.7,   1.4883,  34.6799,2,  34.6883,2,    155.9,2,    35.90,2,     0.01,2,   144.90,2,     2.50,2,-999,9,   2410.9,2,    7.532,3,   2325.3,2
  49NZ19981030,19_1(L1),  1,      1,      1,5,19981116,1932, 40.0000, 160.0000, 5509,   5100.1,   1.5252,  34.6825,2,  34.6907,2,    159.3,2,    35.60,2,     0.02,2,   145.70,2,     2.48,2,-999,9,   2405.6,2,    7.541,3,   2322.7,2
  49NZ19981030,19_1(L1),  1,      1,      1,5,19981116,1932, 40.0000, 160.0000, 5509,   5568.6,   1.5712,  34.6840,2,  34.6935,2,    161.0,2,    35.60,2,     0.01,2,   147.20,2,     2.47,2,-999,9,   2411.1,2,    7.545,3,   2319.4,2