BOTTLE,20100108MIRCJHATS
EXPOCODE,STNNBR,CASTNO,SAMPNO,BTLNBR,BTLNBR_FLAG_W,DATE,TIME,LATITUDE,LONGITUDE,DEPTH,CTDPRS,CTDTMP,CTDSAL,CTDSAL_FLAG_W,SALNTY,SALNTY_FLAG_W,OXYGEN,OXYGEN_FLAG_W,NITRAT,NITRAT_FLAG_W,NITRIT,NITRIT_FLAG_W,SILCAT,SILCAT_FLAG_W,PHSPHT,PHSPHT_FLAG_W,NH4,NH4_FLAG_W,ALKALI,ALKALI_FLAG_W,PH,PH_FLAG_W,TCARBN,TCARBN_FLAG_W
,,,,,,,,,,METERS,DBARS,,,,,,UMOL/KG,,UMOL/KG,,UMOL/KG,,UMOL/KG,,UMOL/KG,,UMOL/KG,,UMOL/KG,,,,UMOL/KG,
  49NZ19981030,18_2(L1),  1,      1,      1,5,19981203,2234, 38.0000, 160.0000, 4205,      8.8,  17.6296,  34.2231,2,  34.2368,2,    233.5,2,     1.30,2,     0.20,2,     4.20,2,     0.14,2,-999,9,   2260.1,2,    7.983,3,   1990.2,2
  49NZ19981030,18_2(L1),  1,      1,      1,5,19981203,2234, 38.0000, 160.0000, 4205,     31.9,  17.6317,  34.2229,2,  34.2386,2,    233.2,2,     1.40,2,     0.20,2,     4.10,2,     0.14,2,-999,9,   2256.0,2,    7.979,3,   1987.8,2
  49NZ19981030,18_2(L1),  1,      1,      1,5,19981203,2234, 38.0000, 160.0000, 4205,     50.9,  17.6347,  34.2233,2,  34.2357,2,    232.9,2,     1.40,2,     0.18,2,     4.10,2,     0.14,2,-999,9,   2258.6,2,    7.981,3,   1987.0,2
  49NZ19981030,18_2(L1),  1,      1,      1,5,19981203,2234, 38.0000, 160.0000, 4205,     75.8,  15.9580,  34.5604,2,  34.5768,2,    186.4,2,     8.90,2,     0.05,2,    11.90,2,     0.60,2,-999,9,   2277.0,2,    7.864,3,   2062.2,2
  49NZ19981030,18_2(L1),  1,      1,      1,5,19981203,2234, 38.0000, 160.0000, 4205,    101.7,  14.3800,  34.4719,2,  34.4939,2,    184.4,2,    10.80,2,     0.04,2,    14.40,2,     0.72,2,-999,9,   2271.9,2,    7.831,3,   2076.0,2
  49NZ19981030,18_2(L1),  1,      1,      1,5,19981203,2234, 38.0000, 160.0000, 4205,    153.1,  11.8329,  34.3445,2,  34.3496,2,    189.9,2,    14.30,2,     0.03,2,    21.30,2,     0.97,2,-999,9,   2274.8,2,    7.771,3,   2098.5,2
  49NZ19981030,18_2(L1),  1,      1,      1,5,19981203,2234, 38.0000, 160.0000, 4205,    203.5,  10.1958,  34.2231,2,  34.2303,2,    210.8,2,    15.40,2,     0.04,2,    23.90,2,     1.08,2,-999,9,   2271.5,2,    7.749,3,   2107.9,2
  49NZ19981030,18_2(L1),  1,      1,      1,5,19981203,2234, 38.0000, 160.0000, 4205,    250.4,   8.0656,  33.9809,2,  33.9941,2,    225.1,2,    17.70,2,     0.01,2,    28.60,2,     1.28,2,-999,9,   2268.2,2,    7.701,3,   2126.5,2
  49NZ19981030,18_2(L1),  1,      1,      1,5,19981203,2234, 38.0000, 160.0000, 4205,    302.6,   7.0271,  33.9223,2,  33.9347,2,    201.5,2,    21.50,2,     0.01,2,    37.20,2,     1.56,2,-999,9,   2269.6,2,    7.640,3,   2152.1,2
  49NZ19981030,18_2(L1),  1,      1,      1,5,19981203,2234, 38.0000, 160.0000, 4205,    403.1,   5.6019,  33.9457,2,  33.9545,2,    143.5,2,    29.60,2,     0.01,2,    59.50,2,     2.15,2,-999,9,   2287.1,2,    7.496,3,   2216.4,2
  49NZ19981030,18_2(L1),  1,      1,      1,5,19981203,2234, 38.0000, 160.0000, 4205,    504.6,   5.0015,  34.0514,2,  34.0656,2,    100.6,2,    34.80,2,     0.02,2,    79.00,2,     2.50,2,-999,9,   2297.2,2,    7.408,3,   2263.9,2
  49NZ19981030,18_2(L1),  1,      1,      1,5,19981203,2234, 38.0000, 160.0000, 4205,    605.4,   4.3775,  34.1271,2,  34.1392,2,     69.8,2,    38.30,2,     0.01,2,    95.50,2,     2.76,2,-999,9,   2320.0,2,    7.350,3,   2298.9,2
  49NZ19981030,18_2(L1),  1,      1,      1,5,19981203,2234, 38.0000, 160.0000, 4205,    807.5,   3.7120,  34.2641,2,  34.2742,2,     46.7,2,    41.10,2,     0.02,2,   116.70,2,     2.94,2,-999,9,   2347.1,2,    7.317,3,   2340.6,2
  49NZ19981030,18_2(L1),  1,      1,      1,5,19981203,2234, 38.0000, 160.0000, 4205,   1010.0,   3.1218,  34.3676,2,  34.3787,2,     34.8,2,    42.70,2,     0.01,2,   135.30,2,     3.07,2,-999,9,   2368.1,2,    7.298,3,   2368.2,2
  49NZ19981030,18_2(L1),  1,      1,      1,5,19981203,2234, 38.0000, 160.0000, 4205,   1516.3,   2.3292,  34.5110,2,  34.5198,2,     44.6,2,    42.60,2,     0.02,2,   157.00,2,     3.02,2,-999,9,   2397.5,2,    7.329,3,   2382.0,2
  49NZ19981030,18_2(L1),  1,      1,      1,5,19981203,2234, 38.0000, 160.0000, 4205,   2026.3,   1.9013,  34.5879,2,  34.5961,2,     73.9,2,    40.90,2,     0.02,2,   164.50,2,     2.90,2,-999,9,   2409.2,2,    7.387,3,   2372.7,2
  49NZ19981030,18_2(L1),  1,      1,      1,5,19981203,2234, 38.0000, 160.0000, 4205,   2536.2,   1.6689,  34.6315,2,  34.6406,2,    104.3,2,    39.10,2,     0.02,2,   161.50,2,     2.73,2,-999,9,   2409.2,2,    7.449,3,   2354.7,2
  49NZ19981030,18_2(L1),  1,      1,      1,5,19981203,2234, 38.0000, 160.0000, 4205,   3046.4,   1.5361,  34.6556,2,  34.6651,2,    127.7,2,    37.60,2,     0.02,2,   156.70,2,     2.61,2,-999,9,   2413.3,2,    7.491,3,   2342.9,2
  49NZ19981030,20_2(L1),  1,      1,      1,5,19981205,0601, 40.0000, 165.0000, 5497,     10.3,  12.4371,  33.3750,2,  33.3878,2,    266.4,2,     4.40,2,     0.20,2,     9.00,2,     0.45,2,-999,9,   2228.4,2,    7.888,3,   2008.3,2
  49NZ19981030,20_2(L1),  1,      1,      1,5,19981205,0601, 40.0000, 165.0000, 5497,     20.4,  12.4365,  33.3752,2,  33.3882,2,    266.5,2,     4.40,2,     0.20,2,     8.80,2,     0.45,2,-999,9,   2229.7,2,    7.890,3,   2010.1,2
  49NZ19981030,20_2(L1),  1,      1,      1,5,19981205,0601, 40.0000, 165.0000, 5497,     30.2,  12.4392,  33.3750,2,  33.3879,2,    266.4,2,     4.40,2,     0.20,2,     8.80,2,     0.46,2,-999,9,   2229.7,2,    7.891,3,   2011.1,2
  49NZ19981030,20_2(L1),  1,      1,      1,5,19981205,0601, 40.0000, 165.0000, 5497,     40.1,  12.4403,  33.3757,2,  33.3881,2,    266.7,2,     4.40,2,     0.20,2,     8.90,2,     0.45,2,-999,9,   2231.1,2,    7.890,3,   2007.4,2
  49NZ19981030,20_2(L1),  1,      1,      1,5,19981205,0601, 40.0000, 165.0000, 5497,     49.6,  12.4403,  33.3757,2,  33.3873,2,    266.5,2,     4.40,2,     0.20,2,     8.90,2,     0.47,2,-999,9,   2230.3,2,    7.892,3,   2011.3,2
  49NZ19981030,20_2(L1),  1,      1,      1,5,19981205,0601, 40.0000, 165.0000, 5497,     61.3,  12.4384,  33.3777,2,  33.3879,2,    266.3,2,     4.40,2,     0.20,2,     8.50,2,     0.44,2,-999,9,   2231.0,2,    7.890,3,   2007.3,2
  49NZ19981030,20_2(L1),  1,      1,      1,5,19981205,0601, 40.0000, 165.0000, 5497,     81.5,  10.0445,  33.8036,2,  33.8262,2,    253.5,2,    12.70,2,     0.25,2,    19.10,2,     0.99,2,-999,9,   2253.2,2,    7.773,3,   2078.0,2
  49NZ19981030,20_2(L1),  1,      1,      1,5,19981205,0601, 40.0000, 165.0000, 5497,    100.5,   8.3434,  33.8334,2,  33.8449,2,    260.1,2,    15.00,2,     0.04,2,    22.10,2,     1.15,2,-999,9,   2262.2,2,    7.737,3,   2095.5,2
  49NZ19981030,20_2(L1),  1,      1,      1,5,19981205,0601, 40.0000, 165.0000, 5497,    125.6,   7.6146,  33.8696,2,  33.8764,2,    257.2,2,    16.00,2,     0.04,2,    23.90,2,     1.20,2,-999,9,   2262.2,2,    7.720,3,   2108.9,2
  49NZ19981030,20_2(L1),  1,      1,      1,5,19981205,0601, 40.0000, 165.0000, 5497,    153.5,   6.9993,  33.8015,2,  33.8095,2,    273.7,2,    15.30,2,     0.03,2,    22.70,2,     1.16,2,-999,9,   2258.2,2,    7.725,3,   2102.1,2
  49NZ19981030,20_2(L1),  1,      1,      1,5,19981205,0601, 40.0000, 165.0000, 5497,    201.9,   6.8772,  33.8057,2,  33.8146,2,    271.9,2,    15.70,2,     0.04,2,    24.30,2,     1.18,2,-999,9,   2256.9,2,    7.723,3,   2104.6,2
  49NZ19981030,20_2(L1),  1,      1,      1,5,19981205,0601, 40.0000, 165.0000, 5497,    252.1,   6.4037,  33.8318,2,  33.8376,2,    220.8,2,    21.20,2,     0.05,2,    36.50,2,     1.56,2,-999,9,   2269.1,2,    7.632,3,   2150.2,2
  49NZ19981030,20_2(L1),  1,      1,      1,5,19981205,0601, 40.0000, 165.0000, 5497,    302.6,   5.3374,  33.8000,2,  33.8217,2,    179.8,2,    27.00,2,     0.03,2,    50.50,2,     1.99,2,-999,9,   2269.6,2,    7.530,3,   2190.7,2
  49NZ19981030,20_2(L1),  1,      1,      1,5,19981205,0601, 40.0000, 165.0000, 5497,    403.5,   4.4315,  33.8683,2,  33.8773,2,    121.6,2,    34.10,2,     0.04,2,    71.10,2,     2.47,2,-999,9,   2288.3,2,    7.399,3,   2248.6,2
  49NZ19981030,20_2(L1),  1,      1,      1,5,19981205,0601, 40.0000, 165.0000, 5497,    505.5,   4.1743,  33.9990,2,  34.0097,2,     81.5,2,    38.40,2,     0.04,2,    87.20,2,     2.73,2,-999,9,   2307.6,2,    7.336,3,   2286.6,2
  49NZ19981030,20_2(L1),  1,      1,      1,5,19981205,0601, 40.0000, 165.0000, 5497,    605.5,   3.9904,  34.1008,2,  34.1103,2,     58.6,2,    40.20,2,     0.05,2,    99.50,2,     2.86,2,-999,9,   2321.0,2,    7.305,3,   2312.8,2
  49NZ19981030,20_2(L1),  1,      1,      1,5,19981205,0601, 40.0000, 165.0000, 5497,    706.6,   3.7963,  34.1925,2,  34.2040,2,     47.0,2,    41.30,2,     0.03,2,   114.60,2,     2.96,2,-999,9,   2335.7,2,    7.297,3,   2326.3,2
  49NZ19981030,20_2(L1),  1,      1,      1,5,19981205,0601, 40.0000, 165.0000, 5497,    807.7,   3.5360,  34.2569,2,  34.2654,2,     40.6,2,    42.00,2,     0.03,2,   118.60,2,     3.00,2,-999,9,   2350.7,2,    7.295,3,   -999.0,9
  49NZ19981030,20_2(L1),  1,      1,      1,5,19981205,0601, 40.0000, 165.0000, 5497,   1011.3,   3.0703,  34.3577,2,  34.3677,2,     36.0,2,    42.90,2,     0.03,2,   131.50,2,     3.05,2,-999,9,   2365.9,2,    7.293,3,   2361.8,2
  49NZ19981030,20_2(L1),  1,      1,      1,5,19981205,0601, 40.0000, 165.0000, 5497,   1261.4,   2.6463,  34.4442,2,  34.4542,2,     37.0,2,    43.00,2,     0.04,2,   144.80,2,     3.04,2,-999,9,   2385.4,2,    7.302,3,   2380.0,2
  49NZ19981030,20_2(L1),  1,      1,      1,5,19981205,0601, 40.0000, 165.0000, 5497,   1516.7,   2.3551,  34.4967,2,  34.5143,2,     42.4,2,    43.00,2,     0.04,2,   153.50,2,     3.04,2,-999,9,   2392.7,2,    7.316,3,   2380.2,2
  49NZ19981030,20_2(L1),  1,      1,      1,5,19981205,0601, 40.0000, 165.0000, 5497,   1771.3,   2.0978,  34.5464,2,  34.5575,2,     55.0,2,    42.30,2,     0.03,2,   158.90,2,     2.99,2,-999,9,   2401.5,2,    7.342,3,   2377.7,2
  49NZ19981030,20_2(L1),  1,      1,      1,5,19981205,0601, 40.0000, 165.0000, 5497,   2026.0,   1.9285,  34.5819,2,  34.5952,2,     69.8,2,    41.40,2,     0.04,2,   160.90,2,     2.93,2,-999,9,   2409.0,2,    7.374,3,   2373.8,2
  49NZ19981030,20_2(L1),  1,      1,      1,5,19981205,0601, 40.0000, 165.0000, 5497,   2281.2,   1.8057,  34.6069,2,  34.6167,2,     85.0,2,    40.50,2,     0.04,2,   159.90,2,     2.84,2,-999,9,   2408.2,2,    7.402,3,   2367.1,2
  49NZ19981030,20_2(L1),  1,      1,      1,5,19981205,0601, 40.0000, 165.0000, 5497,   2535.3,   1.6974,  34.6271,2,  34.6372,2,    100.5,2,    39.40,2,     0.04,2,   157.90,2,     2.74,2,-999,9,   2419.4,2,    7.431,3,   2357.1,2
  49NZ19981030,20_2(L1),  1,      1,      1,5,19981205,0601, 40.0000, 165.0000, 5497,   2790.3,   1.6251,  34.6406,2,  34.6504,2,    112.8,2,    38.70,2,     0.04,2,   156.30,2,     2.71,2,-999,9,   2416.7,2,    7.458,3,   2349.8,2
  49NZ19981030,20_2(L1),  1,      1,      1,5,19981205,0601, 40.0000, 165.0000, 5497,   3045.2,   1.5685,  34.6512,2,  34.6608,2,    123.0,2,    38.00,2,     0.04,2,   154.30,2,     2.65,2,-999,9,   2418.0,2,    7.481,3,   2343.1,2
  49NZ19981030,20_2(L1),  1,      1,      1,5,19981205,0601, 40.0000, 165.0000, 5497,   3302.4,   1.5237,  34.6595,2,  34.6704,2,    132.2,2,    37.40,2,     0.04,2,   152.80,2,     2.61,2,-999,9,   2419.3,2,    7.494,3,   2340.4,2
  49NZ19981030,20_2(L1),  1,      1,      1,5,19981205,0601, 40.0000, 165.0000, 5497,   3559.1,   1.4970,  34.6655,2,  34.6744,2,    139.2,2,    37.00,2,     0.04,2,   151.00,2,     2.57,2,-999,9,   2412.2,2,    7.507,3,   2334.3,2
  49NZ19981030,20_2(L1),  1,      1,      1,5,19981205,0601, 40.0000, 165.0000, 5497,   3814.9,   1.4848,  34.6697,2,  34.6816,2,    149.2,2,    36.20,2,     0.04,2,   144.70,2,     2.50,2,-999,9,   2420.0,2,    7.523,3,   2327.7,2
  49NZ19981030,20_2(L1),  1,      1,      1,5,19981205,0601, 40.0000, 165.0000, 5497,   4070.3,   1.4785,  34.6734,2,  34.6820,2,    149.1,2,    36.20,2,     0.03,2,   145.40,2,     2.52,2,-999,9,   2417.4,2,    7.520,3,   2323.9,2
  49NZ19981030,20_2(L1),  1,      1,      1,5,19981205,0601, 40.0000, 165.0000, 5497,   4329.5,   1.4785,  34.6764,2,  34.6857,2,    152.9,2,    35.90,2,     0.04,2,   144.80,2,     2.49,2,-999,9,   2413.7,2,    7.534,3,   2323.3,2
  49NZ19981030,20_2(L1),  1,      1,      1,5,19981205,0601, 40.0000, 165.0000, 5497,   4585.1,   1.4901,  34.6781,2,  34.6869,2,    155.4,2,    35.80,2,     0.04,2,   145.10,2,     2.49,2,-999,9,   2413.1,2,    7.538,3,   2320.5,2
  49NZ19981030,20_2(L1),  1,      1,      1,5,19981205,0601, 40.0000, 165.0000, 5497,   4842.1,   1.5070,  34.6796,2,  34.6883,2,    157.2,2,    35.60,2,     0.05,2,   146.00,2,     2.46,2,-999,9,   2412.7,2,    7.538,3,   2321.3,2
  49NZ19981030,20_2(L1),  1,      1,      1,5,19981205,0601, 40.0000, 165.0000, 5497,   5100.1,   1.5303,  34.6805,2,  34.6904,2,    158.4,2,    35.60,2,     0.05,2,   146.80,2,     2.47,2,-999,9,   2413.6,2,    7.539,3,   2320.5,2
  49NZ19981030,20_2(L1),  1,      1,      1,5,19981205,0601, 40.0000, 165.0000, 5497,   5412.0,   1.5658,  34.6809,2,  34.6918,2,    159.0,2,    35.60,2,     0.04,2,   146.90,2,     2.47,2,-999,9,   2409.4,2,    7.545,3,   2315.9,2