BOTTLE,20100108MIRCJHATS
EXPOCODE,STNNBR,CASTNO,SAMPNO,BTLNBR,BTLNBR_FLAG_W,DATE,TIME,LATITUDE,LONGITUDE,DEPTH,CTDPRS,CTDTMP,CTDSAL,CTDSAL_FLAG_W,SALNTY,SALNTY_FLAG_W,OXYGEN,OXYGEN_FLAG_W,NITRAT,NITRAT_FLAG_W,NITRIT,NITRIT_FLAG_W,SILCAT,SILCAT_FLAG_W,PHSPHT,PHSPHT_FLAG_W,NH4,NH4_FLAG_W,ALKALI,ALKALI_FLAG_W,PH,PH_FLAG_W,TCARBN,TCARBN_FLAG_W
,,,,,,,,,,METERS,DBARS,,,,,,UMOL/KG,,UMOL/KG,,UMOL/KG,,UMOL/KG,,UMOL/KG,,UMOL/KG,,UMOL/KG,,,,UMOL/KG,
  49NZ19981030,8_1(L1),  1,      1,      1,5,19981119,1437, 40.0000, 145.0000, 5700,      8.7,  15.8773,  33.8374,2,  33.8486,2,    237.5,2,     2.20,2,     0.40,2,     5.40,2,     0.09,2,-999,9,   2234.2,2,    7.943,3,   1989.7,2
  49NZ19981030,8_1(L1),  1,      1,      1,5,19981119,1437, 40.0000, 145.0000, 5700,     19.7,  15.7969,  33.8259,2,  33.8373,2,    237.7,2,     2.30,2,     0.41,2,     5.50,2,     0.10,2,-999,9,   2248.3,2,    7.943,3,   1994.5,2
  49NZ19981030,8_1(L1),  1,      1,      1,5,19981119,1437, 40.0000, 145.0000, 5700,     29.6,  15.7479,  33.8177,2,  33.8252,2,    238.0,2,     2.30,2,     0.39,2,     5.60,2,     0.09,2,-999,9,   2252.2,2,    7.939,3,   1995.3,2
  49NZ19981030,8_1(L1),  1,      1,      1,5,19981119,1437, 40.0000, 145.0000, 5700,     39.9,  15.7001,  33.8063,2,  33.8164,2,    238.3,2,     2.40,2,     0.39,2,     5.60,2,     0.22,2,-999,9,   2253.3,2,    7.941,3,   2000.6,2
  49NZ19981030,8_1(L1),  1,      1,      1,5,19981119,1437, 40.0000, 145.0000, 5700,     49.7,  15.3853,  33.7551,2,  33.7664,2,   -999.0,9,     2.60,2,     0.39,2,     5.90,2,     0.21,2,-999,9,   2249.5,2,    7.939,3,   1998.2,2
  49NZ19981030,8_1(L1),  1,      1,      1,5,19981119,1437, 40.0000, 145.0000, 5700,     59.9,  15.3198,  33.7447,2,  33.7549,2,    239.4,2,     2.60,2,     0.40,2,     5.90,2,     0.21,2,-999,9,   2247.9,2,    7.927,3,   1997.8,2
  49NZ19981030,8_1(L1),  1,      1,      1,5,19981119,1437, 40.0000, 145.0000, 5700,     81.2,  15.1335,  33.7278,2,  33.7527,2,    239.2,2,     2.90,2,     0.38,2,     6.30,2,     0.23,2,-999,9,   2246.5,2,    7.926,3,   2000.3,2
  49NZ19981030,8_1(L1),  1,      1,      1,5,19981119,1437, 40.0000, 145.0000, 5700,     99.7,  14.0184,  33.9967,2,  34.0061,2,    225.6,2,     5.80,2,     0.03,2,     9.40,2,     0.38,2,-999,9,   2261.9,2,    7.872,3,   2039.2,2
  49NZ19981030,8_1(L1),  1,      1,      1,5,19981119,1437, 40.0000, 145.0000, 5700,    124.1,  12.3617,  34.0821,2,  34.0926,2,    232.3,2,     6.80,2,     0.01,2,    10.60,2,     0.46,2,-999,9,   2262.3,2,    7.848,3,   2055.5,2
  49NZ19981030,8_1(L1),  1,      1,      1,5,19981119,1437, 40.0000, 145.0000, 5700,    150.8,  10.1857,  33.9188,2,  33.9285,2,    235.2,2,    10.50,2,     0.04,2,    16.80,2,     0.75,2,-999,9,   2267.4,2,    7.783,3,   2083.2,2
  49NZ19981030,8_1(L1),  1,      1,      1,5,19981119,1437, 40.0000, 145.0000, 5700,    202.2,   5.8890,  33.5984,2,  33.6177,2,    248.1,2,    18.10,2,     0.02,2,    30.00,2,     1.24,2,-999,9,   2259.5,2,    7.660,3,   2129.9,2
  49NZ19981030,8_1(L1),  1,      1,      1,5,19981119,1437, 40.0000, 145.0000, 5700,    252.1,   4.5551,  33.5350,2,  33.5419,2,    241.4,2,    22.10,2,     0.00,2,    39.00,2,     1.61,2,-999,9,   -999.0,9,    7.593,3,   2157.3,2
  49NZ19981030,8_1(L1),  1,      1,      1,5,19981119,1437, 40.0000, 145.0000, 5700,    302.6,   3.5847,  33.5118,2,  33.5217,2,    216.8,2,    26.10,2,     0.00,2,    50.20,2,     1.92,2,-999,9,   2267.4,2,    7.514,3,   2188.5,2
  49NZ19981030,8_1(L1),  1,      1,      1,5,19981119,1437, 40.0000, 145.0000, 5700,    403.6,   3.8463,  33.7508,2,  33.7620,2,    140.4,2,    33.10,2,     0.00,2,    70.40,2,     2.41,2,-999,9,   2295.6,2,    7.397,3,   2247.9,2
  49NZ19981030,8_1(L1),  1,      1,      1,5,19981119,1437, 40.0000, 145.0000, 5700,    504.7,   3.9339,  33.9624,2,  33.9723,2,     75.9,2,    39.20,2,     0.00,2,    90.20,2,     2.84,2,-999,9,   2312.5,2,    7.301,3,   2301.9,2
  49NZ19981030,8_1(L1),  1,      1,      1,5,19981119,1437, 40.0000, 145.0000, 5700,    605.3,   3.8765,  34.0959,2,  34.0909,2,     49.6,2,    41.70,2,     0.00,2,   104.20,2,     3.02,2,-999,9,   2324.0,2,    7.269,3,   2328.3,2
  49NZ19981030,8_1(L1),  1,      1,      1,5,19981119,1437, 40.0000, 145.0000, 5700,    706.8,   3.5297,  34.1705,2,  34.1831,2,     36.5,2,    42.90,2,     0.01,2,   115.70,2,     3.13,2,-999,9,   2347.9,2,    7.261,3,   2341.1,2
  49NZ19981030,8_1(L1),  1,      1,      1,5,19981119,1437, 40.0000, 145.0000, 5700,    807.5,   3.3535,  34.2441,2,  34.2538,2,     35.4,2,    42.80,2,     0.01,2,   122.50,2,     3.14,2,-999,9,   2354.8,2,    7.268,3,   2351.2,2
  49NZ19981030,8_1(L1),  1,      1,      1,5,19981119,1437, 40.0000, 145.0000, 5700,    908.9,   3.3163,  34.3290,2,-999.0000,9,   -999.0,9,  -999.00,9,  -999.00,9,  -999.00,9,  -999.00,9,-999,9,   -999.0,9, -999.000,9,   -999.0,9
  49NZ19981030,8_1(L1),  1,      1,      1,5,19981119,1437, 40.0000, 145.0000, 5700,   1011.1,   3.0708,  34.3637,2,  34.3708,2,     38.5,2,    42.90,2,     0.00,2,   133.30,2,     3.15,2,-999,9,   2377.7,2,    7.293,3,   2365.8,2
  49NZ19981030,8_1(L1),  1,      1,      1,5,19981119,1437, 40.0000, 145.0000, 5700,   1112.2,   2.8869,  34.3963,2,-999.0000,9,   -999.0,9,  -999.00,9,  -999.00,9,  -999.00,9,  -999.00,9,-999,9,   -999.0,9, -999.000,9,   -999.0,9
  49NZ19981030,8_1(L1),  1,      1,      1,5,19981119,1437, 40.0000, 145.0000, 5700,   1263.3,   2.5971,  34.4483,2,  34.4603,2,     39.5,2,    43.10,2,     0.00,2,   149.60,2,  -999.00,9,-999,9,   2398.4,2,    7.308,3,   2375.7,2
  49NZ19981030,8_1(L1),  1,      1,      1,5,19981119,1437, 40.0000, 145.0000, 5700,   1517.2,   2.3260,  34.5088,2,  34.5152,2,     48.1,2,    42.90,2,     0.01,2,   156.60,2,     3.06,2,-999,9,   2403.9,2,    7.327,3,   2383.4,2
  49NZ19981030,8_1(L1),  1,      1,      1,5,19981119,1437, 40.0000, 145.0000, 5700,   2026.6,   1.9461,  34.5880,2,  34.5952,2,     76.4,2,    41.40,2,     0.01,2,   160.10,2,     2.92,2,-999,9,   2411.7,2,    7.390,3,   2373.2,2
  49NZ19981030,8_1(L1),  1,      1,      1,5,19981119,1437, 40.0000, 145.0000, 5700,   2535.6,   1.7060,  34.6308,2,  34.6388,2,    105.6,2,    39.50,2,     0.01,2,   158.20,2,     2.77,2,-999,9,   2418.9,2,    7.449,3,   2354.8,2
  49NZ19981030,8_1(L1),  1,      1,      1,5,19981119,1437, 40.0000, 145.0000, 5700,   3046.8,   1.5713,  34.6543,2,  34.6620,2,    126.0,2,    38.20,2,     0.00,2,   154.60,2,     2.68,2,-999,9,   2420.2,2,    7.480,3,   2344.1,2
  49NZ19981030,8_1(L1),  1,      1,      1,5,19981119,1437, 40.0000, 145.0000, 5700,   3558.8,   1.5074,  34.6669,2,  34.6741,2,    139.4,2,    37.10,2,     0.02,2,   152.10,2,  -999.00,9,-999,9,   2424.2,2,    7.503,3,   2338.6,2
  49NZ19981030,8_1(L1),  1,      1,      1,5,19981119,1437, 40.0000, 145.0000, 5700,   4071.1,   1.4783,  34.6754,2,  34.6828,2,    149.8,2,    36.40,2,     0.03,2,   149.50,2,     2.57,2,-999,9,   2417.3,2,    7.518,3,   2327.9,2
  49NZ19981030,8_1(L1),  1,      1,      1,5,19981119,1437, 40.0000, 145.0000, 5700,   4585.6,   1.4822,  34.6808,2,  34.6879,2,    157.2,2,    35.90,2,     0.03,2,   147.30,2,     2.52,2,-999,9,   2418.7,2,    7.539,3,   2321.3,2
  49NZ19981030,8_1(L1),  1,      1,      1,5,19981119,1437, 40.0000, 145.0000, 5700,   5096.1,   1.5262,  34.6825,2,  34.6905,2,    159.4,2,    35.80,2,     0.00,2,   147.30,2,     2.52,2,-999,9,   2418.9,2,    7.537,3,   2322.7,2
  49NZ19981030,8_1(L1),  1,      1,      1,5,19981119,1437, 40.0000, 145.0000, 5700,   5664.0,   1.5826,  34.6840,2,  34.6930,2,    162.0,2,    35.50,2,     0.00,2,   143.00,2,  -999.00,9,-999,9,   2420.3,2,    7.542,3,   -999.0,9
  49NZ19981030,9_1(L1),  1,      1,      1,5,19981120,1551, 37.0000, 145.0000, 5719,      9.9,  16.4390,  33.9207,2,  33.9317,2,    238.5,2,     1.40,2,     0.35,2,     4.50,2,     0.03,2,-999,9,   2242.9,2,    7.969,3,   1993.3,2
  49NZ19981030,9_1(L1),  1,      1,      1,5,19981120,1551, 37.0000, 145.0000, 5719,     30.4,  16.2514,  33.8605,2,  33.8735,2,    239.3,2,     1.40,2,     0.39,2,     4.60,2,     0.04,2,-999,9,   2246.7,2,    7.966,3,   1990.5,2
  49NZ19981030,9_1(L1),  1,      1,      1,5,19981120,1551, 37.0000, 145.0000, 5719,     50.3,  16.2331,  33.8605,2,  33.8738,2,    239.5,2,     1.40,2,     0.38,2,     4.50,2,     0.04,2,-999,9,   2248.8,2,    7.964,3,   1991.2,2
  49NZ19981030,9_1(L1),  1,      1,      1,5,19981120,1551, 37.0000, 145.0000, 5719,     75.0,  14.8143,  33.6025,2,  33.6107,2,    244.0,2,     2.30,2,     0.60,2,     5.60,2,     0.13,2,-999,9,   2232.6,2,    7.931,3,   1997.7,2
  49NZ19981030,9_1(L1),  1,      1,      1,5,19981120,1551, 37.0000, 145.0000, 5719,    100.8,  15.8053,  34.4310,2,  34.4709,2,    188.8,2,     8.20,2,     0.07,2,    10.50,2,     0.41,2,-999,9,   2278.0,2,    7.870,3,   2055.7,2
  49NZ19981030,9_1(L1),  1,      1,      1,5,19981120,1551, 37.0000, 145.0000, 5719,    151.7,  13.2521,  34.4034,2,  34.4132,2,    187.5,2,    12.00,2,     0.02,2,    16.80,2,     0.70,2,-999,9,   2276.8,2,    7.802,3,   2085.6,2
  49NZ19981030,9_1(L1),  1,      1,      1,5,19981120,1551, 37.0000, 145.0000, 5719,    201.1,  11.3144,  34.2943,2,  34.3149,2,    201.7,2,    13.60,2,     0.02,2,    20.30,2,     0.83,2,-999,9,   2274.3,2,    7.776,3,   2109.7,2
  49NZ19981030,9_1(L1),  1,      1,      1,5,19981120,1551, 37.0000, 145.0000, 5719,    252.2,   9.7595,  34.1677,2,  34.1759,2,    206.5,2,    16.40,2,     0.03,2,    26.20,2,     1.05,2,-999,9,   2275.3,2,    7.728,3,   2118.4,2
  49NZ19981030,9_1(L1),  1,      1,      1,5,19981120,1551, 37.0000, 145.0000, 5719,    303.0,   7.3072,  33.8649,2,  33.8809,2,    220.9,2,    18.70,2,     0.04,2,    31.00,2,     1.30,2,-999,9,   2266.5,2,    7.679,3,   2132.8,2
  49NZ19981030,9_1(L1),  1,      1,      1,5,19981120,1551, 37.0000, 145.0000, 5719,    405.1,   4.6623,  33.7140,2,  33.7290,2,    184.7,2,    26.90,2,     0.04,2,    53.30,2,     1.87,2,-999,9,   2270.6,2,    7.520,3,   2197.9,2
  49NZ19981030,9_1(L1),  1,      1,      1,5,19981120,1551, 37.0000, 145.0000, 5719,    505.0,   4.9244,  33.9798,2,  33.9855,2,    111.5,2,    34.00,2,     0.05,2,    74.50,2,     2.38,2,-999,9,   2298.8,2,    7.416,3,   2258.6,2
  49NZ19981030,9_1(L1),  1,      1,      1,5,19981120,1551, 37.0000, 145.0000, 5719,    606.5,   3.5332,  33.9393,2,  33.9708,2,     64.2,2,    40.40,2,     0.03,2,    97.50,2,     2.85,2,-999,9,   -999.0,9,    7.278,3,   2310.6,2
  49NZ19981030,9_1(L1),  1,      1,      1,5,19981120,1551, 37.0000, 145.0000, 5719,    807.3,   3.5345,  34.2165,2,  34.2261,2,     38.9,2,    41.90,2,     0.03,2,   119.90,2,     3.05,2,-999,9,   2346.4,2,    7.281,3,   2345.5,2
  49NZ19981030,9_1(L1),  1,      1,      1,5,19981120,1551, 37.0000, 145.0000, 5719,   1010.5,   3.2215,  34.3452,2,  34.3536,2,     39.6,2,    42.30,2,     0.03,2,   132.00,2,     3.06,2,-999,9,   2367.1,2,    7.302,3,   2358.8,2
  49NZ19981030,9_1(L1),  1,      1,      1,5,19981120,1551, 37.0000, 145.0000, 5719,   1518.0,   2.3639,  34.5091,2,  34.5170,2,     47.6,2,    42.80,2,     0.02,2,   155.30,2,     3.09,2,-999,9,   2392.1,2,    7.330,3,   2374.0,2
  49NZ19981030,9_1(L1),  1,      1,      1,5,19981120,1551, 37.0000, 145.0000, 5719,   2025.6,   1.9486,  34.5861,2,  34.6050,2,     74.8,2,    41.30,2,     0.01,2,   161.60,2,     2.95,2,-999,9,   2413.3,2,    7.390,3,   2373.3,2
  49NZ19981030,9_1(L1),  1,      1,      1,5,19981120,1551, 37.0000, 145.0000, 5719,   2534.9,   1.7111,  34.6295,2,  34.6363,2,    104.3,2,    39.50,2,     0.01,2,   158.70,2,     2.78,2,-999,9,   2411.4,2,    7.444,3,   2356.0,2
  49NZ19981030,9_1(L1),  1,      1,      1,5,19981120,1551, 37.0000, 145.0000, 5719,   3043.8,   1.5742,  34.6536,2,  34.6623,2,    126.4,2,    38.00,2,     0.01,2,   155.00,2,     2.67,2,-999,9,   2419.1,2,    7.495,3,   2341.2,2
  49NZ19981030,10_2(L1),  1,      1,      1,5,19981125,0950, 35.0000, 145.0000, 5807,      9.2,  19.5737,  34.1154,2,  34.1274,2,    227.6,2,     0.40,2,     0.18,2,     3.00,2,     0.08,2,-999,9,   2252.3,2,    8.017,3,   1955.0,2
  49NZ19981030,10_2(L1),  1,      1,      1,5,19981125,0950, 35.0000, 145.0000, 5807,     29.6,  19.5835,  34.1151,2,  34.1307,2,    228.0,2,     0.40,2,     0.19,2,     3.00,2,     0.09,2,-999,9,   2252.4,2,    8.018,3,   1955.5,2
  49NZ19981030,10_2(L1),  1,      1,      1,5,19981125,0950, 35.0000, 145.0000, 5807,     49.4,  19.5781,  34.1151,2,  34.1268,2,    227.6,2,     0.40,2,     0.18,2,     2.90,2,     0.10,2,-999,9,   2252.4,2,    8.016,3,   1956.5,2
  49NZ19981030,10_2(L1),  1,      1,      1,5,19981125,0950, 35.0000, 145.0000, 5807,     76.7,  15.8808,  34.3265,2,  34.3500,2,    194.3,2,     8.30,2,     0.06,2,    11.20,2,     0.62,2,-999,9,   2270.9,2,    7.867,3,   2044.4,2
  49NZ19981030,10_2(L1),  1,      1,      1,5,19981125,0950, 35.0000, 145.0000, 5807,    101.3,  14.2149,  34.4855,2,  34.4944,2,    175.8,2,    12.10,2,     0.04,2,    17.20,2,     0.89,2,-999,9,   2278.8,2,    7.814,3,   2080.2,2
  49NZ19981030,10_2(L1),  1,      1,      1,5,19981125,0950, 35.0000, 145.0000, 5807,    153.2,  11.8548,  34.3889,2,  34.3989,2,    165.1,2,    16.80,2,     0.05,2,    27.40,2,     1.24,2,-999,9,   2283.8,2,    7.739,3,   2114.1,2
  49NZ19981030,10_2(L1),  1,      1,      1,5,19981125,0950, 35.0000, 145.0000, 5807,    201.9,  10.0424,  34.3417,2,  34.3532,2,    142.0,2,    22.30,2,     0.03,2,    41.00,2,     1.63,2,-999,9,   2291.1,2,    7.649,3,   2159.8,2
  49NZ19981030,10_2(L1),  1,      1,      1,5,19981125,0950, 35.0000, 145.0000, 5807,    248.9,   7.7455,  34.0836,2,  34.0917,2,    164.9,2,    23.80,2,     0.03,2,    45.10,2,     1.79,2,-999,9,   2287.0,2,    7.609,3,   2171.0,2
  49NZ19981030,10_2(L1),  1,      1,      1,5,19981125,0950, 35.0000, 145.0000, 5807,    304.5,   7.1736,  34.1230,2,  34.1378,2,    140.3,2,    27.10,2,     0.03,2,    55.70,2,     1.99,2,-999,9,   2293.2,2,    7.558,3,   2201.0,2
  49NZ19981030,10_2(L1),  1,      1,      1,5,19981125,0950, 35.0000, 145.0000, 5807,    403.3,   5.2986,  34.0765,2,  34.0890,2,    103.4,2,    34.10,2,     0.03,2,    77.90,2,     2.49,2,-999,9,   2304.8,2,    7.429,3,   2251.9,2
  49NZ19981030,10_2(L1),  1,      1,      1,5,19981125,0950, 35.0000, 145.0000, 5807,    502.3,   4.6102,  34.1624,2,  34.1700,2,     72.1,2,    38.20,2,     0.02,2,    94.50,2,     2.76,2,-999,9,   2315.1,2,    7.364,3,   2289.0,2
  49NZ19981030,10_2(L1),  1,      1,      1,5,19981125,0950, 35.0000, 145.0000, 5807,    606.0,   3.8479,  34.2080,2,  34.2188,2,     49.8,2,    41.10,2,     0.02,2,   112.00,2,     2.96,2,-999,9,   2333.6,2,    7.310,3,   2319.8,2
  49NZ19981030,10_2(L1),  1,      1,      1,5,19981125,0950, 35.0000, 145.0000, 5807,    706.8,   3.6264,  34.2967,2,-999.0000,9,   -999.0,9,  -999.00,9,  -999.00,9,  -999.00,9,  -999.00,9,-999,9,   -999.0,9, -999.000,9,   -999.0,9
  49NZ19981030,10_2(L1),  1,      1,      1,5,19981125,0950, 35.0000, 145.0000, 5807,    808.1,   3.3496,  34.3444,2,  34.3539,2,     46.0,2,    42.00,2,     0.03,2,   128.40,2,     3.03,2,-999,9,   2364.3,2,    7.319,3,   2342.6,2
  49NZ19981030,10_2(L1),  1,      1,      1,5,19981125,0950, 35.0000, 145.0000, 5807,    909.6,   3.0580,  34.3960,2,-999.0000,9,   -999.0,9,  -999.00,9,  -999.00,9,  -999.00,9,  -999.00,9,-999,9,   -999.0,9, -999.000,9,   -999.0,9
  49NZ19981030,10_2(L1),  1,      1,      1,5,19981125,0950, 35.0000, 145.0000, 5807,   1010.8,   2.7448,  34.4157,2,  34.4283,2,     39.2,2,    43.10,2,     0.03,2,   146.00,2,     3.08,2,-999,9,   2384.8,2,    7.307,3,   -999.0,9
  49NZ19981030,10_2(L1),  1,      1,      1,5,19981125,0950, 35.0000, 145.0000, 5807,   1111.9,   2.6968,  34.4708,2,-999.0000,9,   -999.0,9,  -999.00,9,  -999.00,9,  -999.00,9,  -999.00,9,-999,9,   -999.0,9, -999.000,9,   -999.0,9
  49NZ19981030,10_2(L1),  1,      1,      1,5,19981125,0950, 35.0000, 145.0000, 5807,   1263.4,   2.3764,  34.5055,2,-999.0000,9,   -999.0,9,  -999.00,9,  -999.00,9,  -999.00,9,  -999.00,9,-999,9,   -999.0,9, -999.000,9,   -999.0,9
  49NZ19981030,10_2(L1),  1,      1,      1,5,19981125,0950, 35.0000, 145.0000, 5807,   1517.7,   2.1399,  34.5491,2,  34.5583,2,     60.6,2,    42.40,2,     0.03,2,   158.40,2,     2.98,2,-999,9,   2404.3,2,    7.363,3,   2374.9,2
  49NZ19981030,10_2(L1),  1,      1,      1,5,19981125,0950, 35.0000, 145.0000, 5807,   2026.3,   1.8024,  34.6105,2,  34.6183,2,     91.9,2,    40.40,2,     0.03,2,   159.40,2,     2.85,2,-999,9,   -999.0,9,    7.421,3,   2362.0,2
  49NZ19981030,10_2(L1),  1,      1,      1,5,19981125,0950, 35.0000, 145.0000, 5807,   2534.3,   1.6061,  34.6438,2,  34.6520,2,    117.9,2,    38.80,2,     0.03,2,   156.50,2,     2.73,2,-999,9,   2412.9,2,    7.471,3,   2345.6,2
  49NZ19981030,10_2(L1),  1,      1,      1,5,19981125,0950, 35.0000, 145.0000, 5807,   3047.0,   1.5156,  34.6601,2,  34.6689,2,    134.0,2,    37.80,2,     0.02,2,   153.20,2,     2.65,2,-999,9,   2414.7,2,    7.503,3,   2331.3,2