BOTTLE,20100108MIRCJHATS
EXPOCODE,STNNBR,CASTNO,SAMPNO,BTLNBR,BTLNBR_FLAG_W,DATE,TIME,LATITUDE,LONGITUDE,DEPTH,CTDPRS,CTDTMP,CTDSAL,CTDSAL_FLAG_W,SALNTY,SALNTY_FLAG_W,OXYGEN,OXYGEN_FLAG_W,NITRAT,NITRAT_FLAG_W,NITRIT,NITRIT_FLAG_W,SILCAT,SILCAT_FLAG_W,PHSPHT,PHSPHT_FLAG_W,NH4,NH4_FLAG_W,ALKALI,ALKALI_FLAG_W,PH,PH_FLAG_W,TCARBN,TCARBN_FLAG_W
,,,,,,,,,,METERS,DBARS,,,,,,UMOL/KG,,UMOL/KG,,UMOL/KG,,UMOL/KG,,UMOL/KG,,UMOL/KG,,UMOL/KG,,,,UMOL/KG,
  49NZ19981030,14_1(L1),  1,      1,      1,5,19981130,0056, 40.0000, 155.0000, 5559,     10.4,  14.6559,  33.8804,2,  33.8924,2,    247.5,2,     1.80,2,     0.14,2,     5.80,2,     0.19,2,-999,9,   2248.4,2,    7.946,3,   2003.3,2
  49NZ19981030,14_1(L1),  1,      1,      1,5,19981130,0056, 40.0000, 155.0000, 5559,     31.7,  14.6594,  33.8809,2,  33.8926,2,    247.3,2,     1.80,2,     0.11,2,     5.80,2,     0.20,2,-999,9,   2247.9,2,    7.946,3,   2002.2,2
  49NZ19981030,14_1(L1),  1,      1,      1,5,19981130,0056, 40.0000, 155.0000, 5559,     50.7,  14.6619,  33.8813,2,  33.8921,2,    247.9,2,     1.80,2,     0.12,2,     5.80,2,     0.19,2,-999,9,   2239.1,2,    7.948,3,   2000.1,2
  49NZ19981030,14_1(L1),  1,      1,      1,5,19981130,0056, 40.0000, 155.0000, 5559,     77.4,  14.6458,  33.8876,2,  33.8958,2,    246.4,2,     1.90,2,     0.12,2,     5.90,2,     0.21,2,-999,9,   2243.2,2,    7.947,3,   1999.4,2
  49NZ19981030,14_1(L1),  1,      1,      1,5,19981130,0056, 40.0000, 155.0000, 5559,    101.7,  12.2027,  34.2878,2,  34.3155,2,    195.6,2,    12.90,2,     0.03,2,    18.20,2,     0.93,2,-999,9,   2268.7,2,    7.787,3,   2099.2,2
  49NZ19981030,14_1(L1),  1,      1,      1,5,19981130,0056, 40.0000, 155.0000, 5559,    151.3,  10.3717,  34.2291,2,  34.2381,2,    214.0,2,    15.00,2,     0.02,2,    22.80,2,     1.10,2,-999,9,   2263.8,2,    7.755,3,   2107.7,2
  49NZ19981030,14_1(L1),  1,      1,      1,5,19981130,0056, 40.0000, 155.0000, 5559,    202.5,   8.5489,  34.0261,2,  34.0180,2,    227.6,2,    17.20,2,     0.01,2,    27.70,2,     1.27,2,-999,9,   2264.3,2,    7.712,3,   2120.9,2
  49NZ19981030,14_1(L1),  1,      1,      1,5,19981130,0056, 40.0000, 155.0000, 5559,    251.6,   6.6025,  33.8050,2,  33.7960,2,    232.7,2,    19.80,2,     0.02,2,    33.70,2,     1.51,2,-999,9,   2259.7,2,    7.660,3,   2141.9,2
  49NZ19981030,14_1(L1),  1,      1,      1,5,19981130,0056, 40.0000, 155.0000, 5559,    301.6,   6.3139,  33.8712,2,  33.8732,2,    191.2,2,    24.10,2,     0.00,2,    44.30,2,     1.80,2,-999,9,   2266.5,2,    7.589,3,   2173.6,2
  49NZ19981030,14_1(L1),  1,      1,      1,5,19981130,0056, 40.0000, 155.0000, 5559,    403.0,   5.4927,  33.9890,2,  33.9956,2,    128.2,2,    31.30,2,     0.01,2,    66.20,2,     2.33,2,-999,9,   2290.6,2,    7.464,3,   2235.6,2
  49NZ19981030,14_1(L1),  1,      1,      1,5,19981130,0056, 40.0000, 155.0000, 5559,    503.8,   4.4664,  34.0230,2,  34.0476,2,     84.8,2,    37.20,2,     0.01,2,    87.20,2,     2.74,2,-999,9,   2306.1,2,    7.360,3,   2279.7,2
  49NZ19981030,14_1(L1),  1,      1,      1,5,19981130,0056, 40.0000, 155.0000, 5559,    605.3,   4.1520,  34.1234,2,  34.1314,2,     63.1,2,    39.50,2,     0.00,2,    99.70,2,     2.90,2,-999,9,   2317.2,2,    7.327,3,   2307.0,2
  49NZ19981030,14_1(L1),  1,      1,      1,5,19981130,0056, 40.0000, 155.0000, 5559,    705.6,   3.7677,  34.1968,2,-999.0000,9,   -999.0,9,  -999.00,9,  -999.00,9,  -999.00,9,  -999.00,9,-999,9,   -999.0,9, -999.000,9,   -999.0,9
  49NZ19981030,14_1(L1),  1,      1,      1,5,19981130,0056, 40.0000, 155.0000, 5559,    807.6,   3.4540,  34.2623,2,  34.2700,2,     38.9,2,    42.20,2,     0.01,2,   123.70,2,     3.09,2,-999,9,   2343.6,2,    7.288,3,   2347.5,2
  49NZ19981030,14_1(L1),  1,      1,      1,5,19981130,0056, 40.0000, 155.0000, 5559,    908.4,   3.2108,  34.3271,2,-999.0000,9,   -999.0,9,  -999.00,9,  -999.00,9,  -999.00,9,  -999.00,9,-999,9,   -999.0,9, -999.000,9,   -999.0,9
  49NZ19981030,14_1(L1),  1,      1,      1,5,19981130,0056, 40.0000, 155.0000, 5559,   1010.7,   3.0000,  34.3736,2,  34.3807,2,     36.4,2,    42.80,2,     0.00,2,   138.30,2,     3.13,2,-999,9,   2369.7,2,    7.297,3,   2360.8,2
  49NZ19981030,14_1(L1),  1,      1,      1,5,19981130,0056, 40.0000, 155.0000, 5559,   1111.2,   2.8210,  34.4101,2,-999.0000,9,   -999.0,9,  -999.00,9,  -999.00,9,  -999.00,9,  -999.00,9,-999,9,   -999.0,9, -999.000,9,   -999.0,9
  49NZ19981030,14_1(L1),  1,      1,      1,5,19981130,0056, 40.0000, 155.0000, 5559,   1263.4,   2.5807,  34.4515,2,-999.0000,9,   -999.0,9,  -999.00,9,  -999.00,9,  -999.00,9,  -999.00,9,-999,9,   -999.0,9, -999.000,9,   -999.0,9
  49NZ19981030,14_1(L1),  1,      1,      1,5,19981130,0056, 40.0000, 155.0000, 5559,   1517.0,   2.3226,  34.5037,2,  34.5130,2,     45.7,2,    42.70,2,     0.01,2,   157.90,2,     3.08,2,-999,9,   2391.8,2,    7.322,3,   2386.0,2
  49NZ19981030,14_1(L1),  1,      1,      1,5,19981130,0056, 40.0000, 155.0000, 5559,   2025.0,   1.9486,  34.5837,2,  34.5924,2,     72.5,2,    41.20,2,     0.02,2,   162.70,2,     2.96,2,-999,9,   2408.7,2,    7.384,3,   2372.6,2
  49NZ19981030,14_1(L1),  1,      1,      1,5,19981130,0056, 40.0000, 155.0000, 5559,   2535.7,   1.7006,  34.6296,2,  34.6374,2,    103.2,2,    39.20,2,     0.02,2,   160.10,2,     2.79,2,-999,9,   2407.1,2,    7.443,3,   2358.5,2
  49NZ19981030,14_1(L1),  1,      1,      1,5,19981130,0056, 40.0000, 155.0000, 5559,   3048.1,   1.5644,  34.6536,2,  34.6640,2,    125.3,2,    37.90,2,     0.02,2,   155.80,2,     2.66,2,-999,9,   2413.2,2,    7.485,3,   2343.4,2
  49NZ19981030,15_2(L1),  1,      1,      1,5,19981130,2152, 38.0000, 155.0000, -999,      9.5,  17.5662,  34.4386,2,  34.4521,2,    231.1,2,     1.60,2,     0.20,2,     4.20,2,     0.08,2,-999,9,   2261.3,2,    7.973,3,   1996.6,2
  49NZ19981030,15_2(L1),  1,      1,      1,5,19981130,2152, 38.0000, 155.0000, -999,     30.2,  17.5688,  34.4377,2,  34.4497,2,    230.8,2,     1.60,2,     0.18,2,     4.20,2,     0.08,2,-999,9,   2265.5,2,    7.973,3,   1994.0,2
  49NZ19981030,15_2(L1),  1,      1,      1,5,19981130,2152, 38.0000, 155.0000, -999,     51.4,  17.5761,  34.4479,2,  34.4590,2,    229.7,2,     1.70,2,     0.19,2,     4.30,2,     0.09,2,-999,9,   2267.8,2,    7.971,3,   1993.7,2
  49NZ19981030,15_2(L1),  1,      1,      1,5,19981130,2152, 38.0000, 155.0000, -999,     75.3,  17.5580,  34.4594,2,  34.4716,2,    230.4,2,     1.60,2,     0.18,2,     4.20,2,     0.09,2,-999,9,   2260.9,2,    7.975,3,   1994.0,2
  49NZ19981030,15_2(L1),  1,      1,      1,5,19981130,2152, 38.0000, 155.0000, -999,    100.6,  17.5919,  34.5293,2,  34.5410,2,    228.4,2,     1.80,2,     0.18,2,     4.20,2,     0.09,2,-999,9,   2270.5,2,    7.975,3,   1997.5,2
  49NZ19981030,15_2(L1),  1,      1,      1,5,19981130,2152, 38.0000, 155.0000, -999,    151.7,  16.1520,  34.6872,2,  34.7004,2,    192.0,2,     7.80,2,     0.01,2,     9.20,2,     0.45,2,-999,9,   2282.4,2,    7.888,3,   2050.1,2
  49NZ19981030,15_2(L1),  1,      1,      1,5,19981130,2152, 38.0000, 155.0000, -999,    202.8,  14.0694,  34.5337,2,  34.5440,2,    189.5,2,    11.40,2,     0.00,2,    15.30,2,     0.72,2,-999,9,   2277.1,2,    7.825,3,   2086.3,2
  49NZ19981030,15_2(L1),  1,      1,      1,5,19981130,2152, 38.0000, 155.0000, -999,    252.2,  12.4865,  34.4243,2,  34.4208,2,    205.9,2,    12.80,2,     0.00,2,    18.10,2,     0.83,2,-999,9,   2278.4,2,    7.796,3,   2089.5,2
  49NZ19981030,15_2(L1),  1,      1,      1,5,19981130,2152, 38.0000, 155.0000, -999,    302.3,  10.9109,  34.3072,2,  34.3153,2,    210.6,2,    14.40,2,     0.00,2,    21.80,2,     0.98,2,-999,9,   2274.9,2,    7.764,3,   2106.5,2
  49NZ19981030,15_2(L1),  1,      1,      1,5,19981130,2152, 38.0000, 155.0000, -999,    403.3,   7.4687,  33.9590,2,  33.9663,2,    204.7,2,    20.50,2,     0.01,2,    36.10,2,     1.46,2,-999,9,   2270.0,2,    7.652,3,   2151.8,2
  49NZ19981030,15_2(L1),  1,      1,      1,5,19981130,2152, 38.0000, 155.0000, -999,    503.8,   4.8116,  33.7860,2,  33.8011,2,    164.8,2,    29.00,2,     0.01,2,    58.90,2,     2.13,2,-999,9,   2277.9,2,    7.488,3,   2208.8,2
  49NZ19981030,15_2(L1),  1,      1,      1,5,19981130,2152, 38.0000, 155.0000, -999,    605.1,   4.8201,  33.9983,2,  34.0063,2,    103.9,2,    34.90,2,     0.00,2,    78.90,2,     2.53,2,-999,9,   2296.1,2,    7.397,3,   2256.6,2
  49NZ19981030,15_2(L1),  1,      1,      1,5,19981130,2152, 38.0000, 155.0000, -999,    807.1,   3.6333,  34.1411,2,  34.1542,2,     40.7,2,    42.10,2,     0.00,2,   114.30,2,     3.01,2,-999,9,   2330.5,2,    7.266,3,   2336.8,2
  49NZ19981030,15_2(L1),  1,      1,      1,5,19981130,2152, 38.0000, 155.0000, -999,   1010.1,   3.3563,  34.3270,2,  34.3366,2,     40.8,2,    42.10,2,     0.00,2,   129.30,2,     3.02,2,-999,9,   2357.5,2,    7.301,3,   2358.0,2
  49NZ19981030,15_2(L1),  1,      1,      1,5,19981130,2152, 38.0000, 155.0000, -999,   1516.8,   2.4446,  34.4905,2,  34.4996,2,     43.2,2,    42.80,2,     0.00,2,   154.10,2,     3.05,2,-999,9,   2393.9,2,    7.318,3,   2384.6,2
  49NZ19981030,15_2(L1),  1,      1,      1,5,19981130,2152, 38.0000, 155.0000, -999,   2025.0,   2.0183,  34.5736,2,  34.5821,2,     67.9,2,    41.50,2,     0.01,2,   162.10,2,     2.96,2,-999,9,   2403.5,2,    7.369,3,   2377.0,2
  49NZ19981030,15_2(L1),  1,      1,      1,5,19981130,2152, 38.0000, 155.0000, -999,   2535.5,   1.7379,  34.6243,2,  34.6331,2,     99.7,2,    39.70,2,     0.01,2,   161.30,2,     2.78,2,-999,9,   2412.0,2,    7.433,3,   2360.6,2
  49NZ19981030,15_2(L1),  1,      1,      1,5,19981130,2152, 38.0000, 155.0000, -999,   3048.4,   1.5900,  34.6509,2,  34.6594,2,    123.3,2,    38.00,2,     0.01,2,   155.80,2,     2.66,2,-999,9,   2414.6,2,    7.482,3,   2347.3,2
  49NZ19981030,16_1(L1),  1,      1,      1,5,19981201,1159, 35.0000, 155.0000, 5668,     10.9,  18.8033,  34.2802,2,  34.2907,2,    230.2,2,     0.40,2,     0.19,2,     3.70,2,     0.00,2,-999,9,   2262.3,2,    8.007,3,   1981.7,2
  49NZ19981030,16_1(L1),  1,      1,      1,5,19981201,1159, 35.0000, 155.0000, 5668,     28.9,  18.8064,  34.2801,2,  34.2911,2,    230.1,2,     0.40,2,     0.18,2,     3.60,2,     0.00,2,-999,9,   2260.8,2,    8.009,3,   1982.0,2
  49NZ19981030,16_1(L1),  1,      1,      1,5,19981201,1159, 35.0000, 155.0000, 5668,     50.1,  18.8129,  34.2803,2,  34.2916,2,    241.4,2,     0.40,2,     0.18,2,     3.60,2,     0.00,2,-999,9,   2256.9,2,    8.007,3,   1980.0,2
  49NZ19981030,16_1(L1),  1,      1,      1,5,19981201,1159, 35.0000, 155.0000, 5668,     76.8,  18.8054,  34.2782,2,  34.3926,2,    234.9,2,     0.40,2,     0.19,2,     3.60,2,     0.00,2,-999,9,   2257.8,2,    8.009,3,   1978.9,2
  49NZ19981030,16_1(L1),  1,      1,      1,5,19981201,1159, 35.0000, 155.0000, 5668,     99.7,  17.1644,  34.5662,2,  34.5761,2,    194.4,2,     6.60,2,     0.04,2,     8.80,2,     0.39,2,-999,9,   2277.1,2,    7.906,3,   2041.2,2
  49NZ19981030,16_1(L1),  1,      1,      1,5,19981201,1159, 35.0000, 155.0000, 5668,    149.2,  13.6694,  34.4725,2,  34.4847,2,    177.6,2,    12.70,2,     0.03,2,    17.60,2,     0.81,2,-999,9,   2279.0,2,    7.809,3,   2090.2,2
  49NZ19981030,16_1(L1),  1,      1,      1,5,19981201,1159, 35.0000, 155.0000, 5668,    204.1,  11.5075,  34.3586,2,  34.3663,2,    184.7,2,    16.50,2,     0.02,2,    25.80,2,     1.12,2,-999,9,   2280.0,2,    7.744,3,   2124.3,2
  49NZ19981030,16_1(L1),  1,      1,      1,5,19981201,1159, 35.0000, 155.0000, 5668,    252.2,   9.6701,  34.1883,2,  34.1982,2,    192.7,2,    18.10,2,     0.02,2,    29.10,2,     1.24,2,-999,9,   2273.5,2,    7.707,3,   2135.3,2
  49NZ19981030,16_1(L1),  1,      1,      1,5,19981201,1159, 35.0000, 155.0000, 5668,    303.2,   7.3849,  33.9565,2,  33.9815,2,    195.4,2,    21.00,2,     0.02,2,    35.90,2,     1.51,2,-999,9,   2272.4,2,    7.649,3,   2157.5,2
  49NZ19981030,16_1(L1),  1,      1,      1,5,19981201,1159, 35.0000, 155.0000, 5668,    403.5,   5.9614,  34.0023,2,  34.0068,2,    137.3,2,    29.70,2,     0.02,2,    58.90,2,     2.16,2,-999,9,   2281.8,2,    7.502,3,   2220.8,2
  49NZ19981030,16_1(L1),  1,      1,      1,5,19981201,1159, 35.0000, 155.0000, 5668,    504.6,   5.3730,  34.1077,2,  34.1166,2,     99.3,2,    34.20,2,     0.03,2,    76.70,2,     2.48,2,-999,9,   2306.4,2,    7.429,3,   2270.8,2
  49NZ19981030,16_1(L1),  1,      1,      1,5,19981201,1159, 35.0000, 155.0000, 5668,    605.7,   4.7516,  34.2099,2,  34.2210,2,     73.9,2,    37.20,2,     0.03,2,    93.90,2,     2.72,2,-999,9,   -999.0,9,    7.386,3,   2299.4,2
  49NZ19981030,16_1(L1),  1,      1,      1,5,19981201,1159, 35.0000, 155.0000, 5668,    706.5,   4.2469,  34.2656,2,-999.0000,9,   -999.0,9,  -999.00,9,  -999.00,9,  -999.00,9,  -999.00,9,-999,9,   -999.0,9, -999.000,9,   -999.0,9
  49NZ19981030,16_1(L1),  1,      1,      1,5,19981201,1159, 35.0000, 155.0000, 5668,    808.1,   3.5458,  34.3013,2,  34.3113,2,     45.2,2,    41.30,2,     0.03,2,   122.70,2,     2.99,2,-999,9,   2350.3,2,    7.318,3,   2346.1,2
  49NZ19981030,16_1(L1),  1,      1,      1,5,19981201,1159, 35.0000, 155.0000, 5668,    909.1,   3.3378,  34.3510,2,-999.0000,9,   -999.0,9,  -999.00,9,  -999.00,9,  -999.00,9,  -999.00,9,-999,9,   -999.0,9, -999.000,9,   -999.0,9
  49NZ19981030,16_1(L1),  1,      1,      1,5,19981201,1159, 35.0000, 155.0000, 5668,   1010.7,   3.0990,  34.3869,2,  34.3970,2,     42.4,2,    42.00,2,     0.02,2,   137.00,2,     3.04,2,-999,9,   2371.3,2,    7.323,3,   2360.7,2
  49NZ19981030,16_1(L1),  1,      1,      1,5,19981201,1159, 35.0000, 155.0000, 5668,   1112.0,   2.8681,  34.4185,2,-999.0000,9,   -999.0,9,  -999.00,9,  -999.00,9,  -999.00,9,  -999.00,9,-999,9,   -999.0,9, -999.000,9,   -999.0,9
  49NZ19981030,16_1(L1),  1,      1,      1,5,19981201,1159, 35.0000, 155.0000, 5668,   1264.1,   2.6125,  34.4626,2,-999.0000,9,   -999.0,9,  -999.00,9,  -999.00,9,  -999.00,9,  -999.00,9,-999,9,   -999.0,9, -999.000,9,   -999.0,9
  49NZ19981030,16_1(L1),  1,      1,      1,5,19981201,1159, 35.0000, 155.0000, 5668,   1517.6,   2.2671,  34.5245,2,  34.5363,2,     53.2,2,    42.00,2,     0.02,2,   157.90,2,     3.02,2,-999,9,   2396.7,2,    7.343,3,   2381.4,2
  49NZ19981030,16_1(L1),  1,      1,      1,5,19981201,1159, 35.0000, 155.0000, 5668,   2025.9,   1.8554,  34.5992,2,  34.6087,2,     83.5,2,    40.30,2,     0.02,2,   163.10,2,     2.87,2,-999,9,   2405.5,2,    7.404,3,   2372.3,2
  49NZ19981030,16_1(L1),  1,      1,      1,5,19981201,1159, 35.0000, 155.0000, 5668,   2535.4,   1.6276,  34.6391,2,  34.6492,2,    112.5,2,    38.50,2,     0.03,2,   159.40,2,     2.74,2,-999,9,   2420.0,2,    7.465,3,   2353.8,2
  49NZ19981030,16_1(L1),  1,      1,      1,5,19981201,1159, 35.0000, 155.0000, 5668,   3047.0,   1.5101,  34.6594,2,  34.6706,2,    132.8,2,    37.10,2,     0.03,2,   154.10,2,     2.62,2,-999,9,   2414.0,2,    7.505,3,   2339.4,2
  49NZ19981030,17_2(L1),  1,      1,      1,5,19981203,0342, 35.0000, 160.0000, 4530,      7.9,  22.1199,  34.5198,2,  34.5313,2,    214.7,2,     0.30,2,     0.20,2,     3.10,2,     0.05,2,-999,9,   2265.0,2,    8.034,3,   1958.5,2
  49NZ19981030,17_2(L1),  1,      1,      1,5,19981203,0342, 35.0000, 160.0000, 4530,     29.8,  22.1232,  34.5201,2,  34.5323,2,    214.6,2,     0.30,2,     0.23,2,     3.00,2,     0.05,2,-999,9,   2268.7,2,    8.037,3,   1957.8,2
  49NZ19981030,17_2(L1),  1,      1,      1,5,19981203,0342, 35.0000, 160.0000, 4530,     49.8,  22.1256,  34.5192,2,  34.5318,2,    214.4,2,     0.20,2,     0.23,2,     3.00,2,     0.06,2,-999,9,   2270.0,2,    8.036,3,   1957.4,2
  49NZ19981030,17_2(L1),  1,      1,      1,5,19981203,0342, 35.0000, 160.0000, 4530,     75.5,  22.1321,  34.5184,2,  34.5315,2,    214.2,2,     0.20,2,     0.24,2,     3.10,2,     0.04,2,-999,9,   2268.7,2,    8.032,3,   1960.8,2
  49NZ19981030,17_2(L1),  1,      1,      1,5,19981203,0342, 35.0000, 160.0000, 4530,    101.4,  20.8917,  34.7981,2,  34.8073,2,    187.6,2,     3.20,2,     0.07,2,     4.80,2,     0.22,2,-999,9,   2285.3,2,    7.961,3,   2012.7,2
  49NZ19981030,17_2(L1),  1,      1,      1,5,19981203,0342, 35.0000, 160.0000, 4530,    127.1,  19.3422,  34.7875,2,  34.8001,2,    210.2,2,     1.90,2,     0.08,2,     4.20,2,     0.15,2,-999,9,   2287.7,2,    7.971,3,   2004.6,2
  49NZ19981030,17_2(L1),  1,      1,      1,5,19981203,0342, 35.0000, 160.0000, 4530,    152.5,  18.3871,  34.7870,2,  34.8074,2,    208.6,2,     2.70,2,     0.06,2,     4.50,2,     0.19,2,-999,9,   2284.1,2,    7.955,3,   2021.3,2
  49NZ19981030,17_2(L1),  1,      1,      1,5,19981203,0342, 35.0000, 160.0000, 4530,    201.2,  17.5232,  34.7677,2,  34.7790,2,    206.4,2,     4.40,2,     0.07,2,     5.30,2,     0.26,2,-999,9,   2282.9,2,    7.935,3,   2025.5,2
  49NZ19981030,17_2(L1),  1,      1,      1,5,19981203,0342, 35.0000, 160.0000, 4530,    251.4,  16.5604,  34.7320,2,  34.7427,2,    200.3,2,     6.40,2,     0.05,2,     7.20,2,     0.39,2,-999,9,   2279.6,2,    7.904,3,   2043.4,2
  49NZ19981030,17_2(L1),  1,      1,      1,5,19981203,0342, 35.0000, 160.0000, 4530,    302.6,  15.2018,  34.6340,2,  34.6371,2,    187.2,2,     9.90,2,     0.03,2,    11.90,2,     0.64,2,-999,9,   2275.9,2,    7.851,3,   2065.6,2
  49NZ19981030,17_2(L1),  1,      1,      1,5,19981203,0342, 35.0000, 160.0000, 4530,    402.4,  12.1384,  34.4044,2,  34.4148,2,    188.2,2,    14.60,2,     0.05,2,    20.80,2,     0.98,2,-999,9,   2277.1,2,    7.773,3,   2102.8,2
  49NZ19981030,17_2(L1),  1,      1,      1,5,19981203,0342, 35.0000, 160.0000, 4530,    505.1,   9.2939,  34.1514,2,  34.1659,2,    199.4,2,    18.20,2,     0.03,2,    28.60,2,     1.27,2,-999,9,   2273.5,2,    7.705,3,   2126.8,2
  49NZ19981030,17_2(L1),  1,      1,      1,5,19981203,0342, 35.0000, 160.0000, 4530,    604.9,   6.4094,  33.9921,2,  34.0010,2,    153.8,2,    27.40,2,     0.03,2,    52.20,2,     1.97,2,-999,9,   2286.8,2,    7.542,3,   2201.0,2
  49NZ19981030,17_2(L1),  1,      1,      1,5,19981203,0342, 35.0000, 160.0000, 4530,    808.5,   4.4111,  34.1011,2,  34.1132,2,     73.3,2,    37.90,2,     0.01,2,    91.00,2,     2.74,2,-999,9,   2316.5,2,    7.348,3,   2297.6,2
  49NZ19981030,17_2(L1),  1,      1,      1,5,19981203,0342, 35.0000, 160.0000, 4530,   1009.2,   3.6796,  34.2855,2,  34.2942,2,     46.2,2,    40.80,2,     0.03,2,   117.60,2,     2.90,2,-999,9,   2350.5,2,    7.317,3,   2340.4,2
  49NZ19981030,17_2(L1),  1,      1,      1,5,19981203,0342, 35.0000, 160.0000, 4530,   1516.4,   2.5097,  34.4733,2,  34.4816,2,     39.3,2,    42.50,2,     0.03,2,   152.10,2,     2.99,2,-999,9,   2388.1,2,    7.310,3,   2376.8,2
  49NZ19981030,17_2(L1),  1,      1,      1,5,19981203,0342, 35.0000, 160.0000, 4530,   2025.4,   1.9994,  34.5741,2,  34.5817,2,     67.6,2,    41.10,2,     0.02,2,   162.00,2,     2.84,2,-999,9,   2406.6,2,    7.374,3,   2372.0,2
  49NZ19981030,17_2(L1),  1,      1,      1,5,19981203,0342, 35.0000, 160.0000, 4530,   2535.4,   1.6923,  34.6283,2,  34.6362,2,    101.7,2,    39.00,2,     0.01,2,   162.40,2,     2.71,2,-999,9,   2422.1,2,    7.440,3,   2359.4,2
  49NZ19981030,17_2(L1),  1,      1,      1,5,19981203,0342, 35.0000, 160.0000, 4530,   3045.7,   1.5479,  34.6545,2,  34.6620,2,    127.7,2,    37.40,2,     0.03,2,   153.70,2,     2.61,2,-999,9,   2405.6,2,    7.489,3,   2344.3,2
  49NZ19981030,17_2(L1),  1,      1,      1,5,19981203,0342, 35.0000, 160.0000, 4530,   3557.6,   1.4737,  34.6685,2,  34.6757,2,    143.1,2,    36.30,2,     0.03,2,   150.50,2,     2.58,2,-999,9,   2411.8,2,    7.515,3,   2336.0,2
  49NZ19981030,17_2(L1),  1,      1,      1,5,19981203,0342, 35.0000, 160.0000, 4530,   4070.4,   1.4525,  34.6762,2,  34.6849,2,    152.5,2,    35.70,2,     0.02,2,   148.30,2,     2.53,2,-999,9,   2413.9,2,    7.530,3,   2324.9,2
  49NZ19981030,17_2(L1),  1,      1,      1,5,19981203,0342, 35.0000, 160.0000, 4530,   4380.0,   1.4591,  34.6790,2,  34.6875,2,    156.6,2,    35.70,2,     0.02,2,   147.90,2,     2.52,2,-999,9,   2415.8,2,    7.541,3,   2324.7,2