BOTTLE,20101227MIRCJHATS
EXPOCODE,SECT,STNNBR,CASTNO,SAMPNO,BTLNBR,BTLNBR_FLAG_W,DATE,TIME,LATITUDE,LONGITUDE,DEPTH,CTDPRS,CTDPRS_FLAG_W,CTDTMP,CTDTMP_FLAG_W,CTDSAL,CTDSAL_FLAG_W,SALNTY,SALNTY_FLAG_W,CTDOXY,CTDOXY_FLAG_W,OXYGEN,OXYGEN_FLAG_W,FLUOR,FLUOR_FLAG_W,CHLORA,CHLORA_FLAG_W,CHLWELSH,CHLWELSH_W,PPHYTN,PPHYTN_FLAG_W,XMISS,XMISS_FLAG_W,SILCAT,SILCAT_FLAG_W,NITRAT,NITRAT_FLAG_W,NITRIT,NITRIT_FLAG_W,PHSPHT,PHSPHT_FLAG_W,NH4,NH4_FLAG_W,TCARBN,TCARBN_FLAG_W,PH,PH_FLAG_W,THETA,SIG0
,,,,,,,,UTC,DEG,DEG,M,DBAR,,ITS-90,,PSS-78,,PSS-78,,ML/L,,UMOL/KG,,UG/L,,MG/CUM,,MG/CUM,,MG/CUM,,%TRANS,,UMOL/KG,,UMOL/KG,,UMOL/KG,,UMOL/KG,,UMOL/KG,,UMOL/KG,,-,,DEG C,KG/CUM
     49MR98K02, EQPAC,    12,  4,      0,      0,1,19990115,2135, -0.0481,-170.1834, 5397,     -999,9,   25.100,2, -999.000,9,   35.170,2,  -999.00,9,    200.3,2,   -999.0,9,     0.23,2,     0.22,2,     0.10,2,     -999,9,     4.05,2,     5.19,2,     0.50,2,     0.55,2,  -999.00,9,   2030.7,3,   8.0063,2,  -999.00,  -999.00
     49MR98K02, EQPAC,    12,  4,      1,      1,1,19990115,2142, -0.0492,-170.1838, 5397,       10,2,   24.772,2,   35.161,2,   35.162,2,     4.04,1,    199.8,2,      1.0,1,     0.33,2,     0.31,2,     0.13,2,     -999,9,     4.03,2,     5.19,2,     0.50,2,     0.55,2,  -999.00,9,   2030.1,2,   8.0054,2,    24.77,    23.53
     49MR98K02, EQPAC,    12,  4,      3,      3,1,19990115,2142, -0.0492,-170.1838, 5397,       19,2,   24.710,2,   35.161,2,   35.162,2,     4.02,1,    198.1,2,      1.4,1,     0.34,2,     0.32,2,     0.16,2,     -999,9,     4.01,2,     5.25,2,     0.52,2,     0.56,2,  -999.00,9,   2031.6,2,   7.9982,2,    24.71,    23.55
     49MR98K02, EQPAC,    12,  4,      4,      4,1,19990115,2142, -0.0492,-170.1838, 5397,       31,2,   24.661,2,   35.162,2,   35.163,2,     4.01,1,    197.2,2,      1.5,1,     0.32,2,     0.31,2,     0.16,2,     -999,9,     4.02,2,     5.31,2,     0.54,2,     0.56,2,  -999.00,9,   2032.4,2,   8.0049,2,    24.65,    23.57
     49MR98K02, EQPAC,    12,  4,      5,      5,1,19990115,2142, -0.0492,-170.1838, 5397,       40,2,   24.634,2,   35.162,2,   35.167,2,     3.98,1,    196.3,2,      1.6,1,     0.28,2,     0.27,2,     0.15,2,     -999,9,     4.00,2,     5.35,2,     0.55,2,     0.56,2,  -999.00,9,   2034.6,2,   8.0017,2,    24.63,    23.58
     49MR98K02, EQPAC,    12,  4,      7,      7,1,19990115,2142, -0.0492,-170.1838, 5397,       51,2,   24.569,2,   35.163,2,   35.164,2,     3.92,1,    193.7,2,      1.4,1,     0.29,2,     0.29,2,     0.17,2,     -999,9,     4.05,2,     5.48,2,     0.59,2,     0.58,2,  -999.00,9,   2035.1,2,   7.9998,2,    24.56,    23.60
     49MR98K02, EQPAC,    12,  4,      8,      8,1,19990115,2142, -0.0492,-170.1838, 5397,       60,2,   24.539,2,   35.164,2,   35.165,2,     3.91,1,    193.3,2,      1.4,1,     0.28,2,     0.27,2,     0.16,2,     -999,9,     4.14,2,     5.52,2,     0.60,2,     0.58,2,  -999.00,9,   2034.4,2,   8.0035,2,    24.53,    23.61
     49MR98K02, EQPAC,    12,  4,      9,      9,1,19990115,2142, -0.0492,-170.1838, 5397,       70,2,   24.506,2,   35.165,2,   35.166,2,     3.88,1,    191.5,2,      1.4,1,     0.28,2,     0.28,2,     0.17,2,     -999,9,     4.09,2,     5.60,2,     0.63,2,     0.59,2,  -999.00,9,   2037.4,2,   7.9951,2,    24.49,    23.62
     49MR98K02, EQPAC,    12,  4,     11,     11,1,19990115,2142, -0.0492,-170.1838, 5397,       81,2,   24.447,2,   35.168,2,   35.169,2,     3.84,1,    189.8,2,      1.2,1,     0.27,2,     0.26,2,     0.16,2,     -999,9,     4.10,2,     5.71,2,     0.65,2,     0.60,2,  -999.00,9,   2039.2,2,   7.9952,2,    24.43,    23.64
     49MR98K02, EQPAC,    12,  4,     12,     12,1,19990115,2142, -0.0492,-170.1838, 5397,       98,2,   24.345,2,   35.170,2,   35.171,2,     3.77,1,    185.9,2,      0.9,1,     0.22,2,     0.22,2,     0.15,2,     -999,9,     4.08,2,     5.96,2,     0.70,2,     0.63,2,  -999.00,9,   2042.5,2,   7.9891,2,    24.32,    23.67
     49MR98K02, EQPAC,    12,  4,     13,     13,1,19990115,2142, -0.0492,-170.1838, 5397,      121,2,   22.740,2,   35.096,2,   35.105,2,     3.30,1,    157.4,2,      0.4,1,     0.09,2,     0.09,2,     0.08,2,     -999,9,     4.74,2,     8.66,2,     0.14,2,     0.72,2,  -999.00,9,   2059.3,2,   7.9492,2,    22.71,    24.09
     49MR98K02, EQPAC,    12,  4,     15,     15,1,19990115,2142, -0.0492,-170.1838, 5397,      151,2,   19.321,2,   35.416,2,   35.387,2,     2.96,1,    140.3,2,      0.2,1,     0.02,2,     0.02,2,     0.03,2,     -999,9,     6.82,2,    10.84,2,     0.03,2,     0.88,2,  -999.00,9,   2099.0,2,   7.9039,2,    19.29,    25.26
     49MR98K02, EQPAC,    12,  4,     16,     16,1,19990115,2142, -0.0492,-170.1838, 5397,      204,2,   13.982,2,   34.864,2,   34.861,2,     2.92,1,    132.7,2,      0.2,1,     0.00,2,     0.01,2,     0.03,2,     -999,9,    17.85,2,    18.13,2,     0.02,2,     1.36,2,  -999.00,9,   2139.1,2,   7.7821,2,    13.95,    26.09
     49MR98K02, EQPAC,    12,  4,      2,      2,1,19990115,2142, -0.0492,-170.1838, 5397,       98,2,   24.317,2,   35.168,2, -999.000,9,     3.79,1,   -999.0,9,      1.0,1,  -999.00,9,  -999.00,9,  -999.00,9,     -999,9,  -999.00,9,  -999.00,9,  -999.00,9,  -999.00,9,  -999.00,9,   -999.0,9,-999.0000,9,    24.30,    23.68
     49MR98K02, EQPAC,    12,  4,      6,      6,1,19990115,2142, -0.0492,-170.1838, 5397,       40,2,   24.645,2,   35.162,2, -999.000,9,     3.97,1,   -999.0,9,      1.5,1,  -999.00,9,  -999.00,9,  -999.00,9,     -999,9,  -999.00,9,  -999.00,9,  -999.00,9,  -999.00,9,  -999.00,9,   -999.0,9,-999.0000,9,    24.64,    23.57
     49MR98K02, EQPAC,    12,  4,     10,     10,1,19990115,2142, -0.0492,-170.1838, 5397,       40,2,   24.617,2,   35.162,2, -999.000,9,     3.97,1,   -999.0,9,      1.4,1,  -999.00,9,  -999.00,9,  -999.00,9,     -999,9,  -999.00,9,  -999.00,9,  -999.00,9,  -999.00,9,  -999.00,9,   -999.0,9,-999.0000,9,    24.61,    23.58
     49MR98K02, EQPAC,    12,  4,     14,     14,1,19990115,2142, -0.0492,-170.1838, 5397,       39,2,   24.615,2,   35.162,2, -999.000,9,     3.96,1,   -999.0,9,      1.6,1,  -999.00,9,  -999.00,9,  -999.00,9,     -999,9,  -999.00,9,  -999.00,9,  -999.00,9,  -999.00,9,  -999.00,9,   -999.0,9,-999.0000,9,    24.61,    23.58
     49MR98K02, EQPAC,    12,  4,     18,     18,1,19990115,2142, -0.0492,-170.1838, 5397,       40,2,   24.609,2,   35.162,2, -999.000,9,     3.95,1,   -999.0,9,      1.5,1,  -999.00,9,  -999.00,9,  -999.00,9,     -999,9,  -999.00,9,  -999.00,9,  -999.00,9,  -999.00,9,  -999.00,9,   -999.0,9,-999.0000,9,    24.60,    23.58
     49MR98K02, EQPAC,    12,  4,     22,     22,1,19990115,2142, -0.0492,-170.1838, 5397,       40,2,   24.632,2,   35.162,2, -999.000,9,     3.98,1,   -999.0,9,      1.5,1,  -999.00,9,  -999.00,9,  -999.00,9,     -999,9,  -999.00,9,  -999.00,9,  -999.00,9,  -999.00,9,  -999.00,9,   -999.0,9,-999.0000,9,    24.62,    23.58
     49MR98K02, EQPAC,    12,  4,     17,     17,1,19990115,2142, -0.0492,-170.1838, 5397,       10,2,   24.790,2,   35.161,2, -999.000,9,     4.06,1,   -999.0,9,      1.0,1,  -999.00,9,  -999.00,9,  -999.00,9,     -999,9,  -999.00,9,  -999.00,9,  -999.00,9,  -999.00,9,  -999.00,9,   -999.0,9,-999.0000,9,    24.79,    23.53
     49MR98K02, EQPAC,    12,  4,     19,     19,1,19990115,2142, -0.0492,-170.1838, 5397,       20,2,   24.693,2,   35.161,2, -999.000,9,     4.03,1,   -999.0,9,      1.4,1,  -999.00,9,  -999.00,9,  -999.00,9,     -999,9,  -999.00,9,  -999.00,9,  -999.00,9,  -999.00,9,  -999.00,9,   -999.0,9,-999.0000,9,    24.69,    23.56
     49MR98K02, EQPAC,    12,  4,     24,     24,1,19990115,2142, -0.0492,-170.1838, 5397,       30,2,   24.658,2,   35.162,2, -999.000,9,     4.01,1,   -999.0,9,      1.4,1,  -999.00,9,  -999.00,9,  -999.00,9,     -999,9,  -999.00,9,  -999.00,9,  -999.00,9,  -999.00,9,  -999.00,9,   -999.0,9,-999.0000,9,    24.65,    23.57
     49MR98K02, EQPAC,    12,  4,     20,     20,1,19990115,2142, -0.0492,-170.1838, 5397,       50,2,   24.577,2,   35.163,2, -999.000,9,     3.93,1,   -999.0,9,      1.5,1,  -999.00,9,  -999.00,9,  -999.00,9,     -999,9,  -999.00,9,  -999.00,9,  -999.00,9,  -999.00,9,  -999.00,9,   -999.0,9,-999.0000,9,    24.57,    23.60
     49MR98K02, EQPAC,    12,  4,     21,     21,1,19990115,2142, -0.0492,-170.1838, 5397,       70,2,   24.517,2,   35.164,2, -999.000,9,     3.88,1,   -999.0,9,      1.3,1,  -999.00,9,  -999.00,9,  -999.00,9,     -999,9,  -999.00,9,  -999.00,9,  -999.00,9,  -999.00,9,  -999.00,9,   -999.0,9,-999.0000,9,    24.50,    23.62
     49MR98K02, EQPAC,    12,  4,     23,     23,1,19990115,2142, -0.0492,-170.1838, 5397,       99,2,   24.307,2,   35.170,2, -999.000,9,     3.76,1,   -999.0,9,      1.0,1,  -999.00,9,  -999.00,9,  -999.00,9,     -999,9,  -999.00,9,  -999.00,9,  -999.00,9,  -999.00,9,  -999.00,9,   -999.0,9,-999.0000,9,    24.29,    23.68