BOTTLE,20101227MIRCJHATS
EXPOCODE,SECT,STNNBR,CASTNO,SAMPNO,BTLNBR,BTLNBR_FLAG_W,DATE,TIME,LATITUDE,LONGITUDE,DEPTH,CTDPRS,CTDPRS_FLAG_W,CTDTMP,CTDTMP_FLAG_W,CTDSAL,CTDSAL_FLAG_W,SALNTY,SALNTY_FLAG_W,CTDOXY,CTDOXY_FLAG_W,OXYGEN,OXYGEN_FLAG_W,FLUOR,FLUOR_FLAG_W,CHLORA,CHLORA_FLAG_W,CHLWELSH,CHLWELSH_W,PPHYTN,PPHYTN_FLAG_W,XMISS,XMISS_FLAG_W,SILCAT,SILCAT_FLAG_W,NITRAT,NITRAT_FLAG_W,NITRIT,NITRIT_FLAG_W,PHSPHT,PHSPHT_FLAG_W,NH4,NH4_FLAG_W,TCARBN,TCARBN_FLAG_W,PH,PH_FLAG_W,THETA,SIG0
,,,,,,,,UTC,DEG,DEG,M,DBAR,,ITS-90,,PSS-78,,PSS-78,,ML/L,,UMOL/KG,,UG/L,,MG/CUM,,MG/CUM,,MG/CUM,,%TRANS,,UMOL/KG,,UMOL/KG,,UMOL/KG,,UMOL/KG,,UMOL/KG,,UMOL/KG,,-,,DEG C,KG/CUM
     49MR98K02, EQPAC,     9,  4,      0,      0,1,19990111,2201,  0.0590, 174.9137, 4831,     -999,9,   26.500,2, -999.000,9,   35.144,2,  -999.00,9,    194.3,2,   -999.0,9,     0.17,2,     0.16,2,     0.09,2,     -999,9,     2.08,2,     3.00,2,     0.21,2,     0.53,2,     0.13,3,   2005.1,2,   8.0472,2,  -999.00,  -999.00
     49MR98K02, EQPAC,     9,  4,      1,      1,1,19990111,2217,  0.0593, 174.9132, 4831,       11,2,   26.372,2,   35.168,2,   35.169,2,     3.88,1,    194.3,2,      0.7,1,     0.15,2,     0.14,2,     0.08,2,     -999,9,     2.05,2,     3.00,2,     0.21,2,     0.53,2,     0.00,3,   2006.6,2,   8.0464,2,    26.37,    23.04
     49MR98K02, EQPAC,     9,  4,      2,      2,1,19990111,2217,  0.0593, 174.9132, 4831,       21,2,   26.347,2,   35.167,2,   35.169,2,     3.88,1,    193.8,2,      1.0,1,     0.21,2,     0.19,2,     0.11,2,     -999,9,     2.06,2,     3.00,2,     0.21,2,     0.53,2,     0.04,3,   2004.2,2,   8.0451,2,    26.34,    23.05
     49MR98K02, EQPAC,     9,  4,      3,      3,1,19990111,2217,  0.0593, 174.9132, 4831,       30,2,   26.330,2,   35.167,2,   35.168,2,     3.86,1,    193.4,2,      1.1,1,     0.23,2,     0.21,2,     0.13,2,     -999,9,     2.06,2,     3.01,2,     0.21,2,     0.52,2,     0.03,3,   2005.7,2,   8.0461,2,    26.32,    23.06
     49MR98K02, EQPAC,     9,  4,      4,      4,1,19990111,2217,  0.0593, 174.9132, 4831,       40,2,   26.275,2,   35.180,2,   35.181,2,     3.82,1,    191.6,2,      1.2,1,     0.20,2,     0.18,2,     0.12,2,     -999,9,     2.14,2,     3.17,2,     0.20,2,     0.54,2,     0.28,3,   2009.1,2,   8.0434,2,    26.27,    23.09
     49MR98K02, EQPAC,     9,  4,      5,      5,1,19990111,2217,  0.0593, 174.9132, 4831,       49,2,   26.271,2,   35.212,2,   35.215,2,     3.81,1,    191.6,2,      1.1,1,     0.18,2,     0.17,2,     0.09,2,     -999,9,     2.10,2,     3.23,2,     0.21,2,     0.54,2,     0.16,3,   2010.6,2,   8.0435,2,    26.26,    23.11
     49MR98K02, EQPAC,     9,  4,      6,      6,1,19990111,2217,  0.0593, 174.9132, 4831,       59,2,   26.261,2,   35.228,2,   35.231,2,     3.84,1,    192.5,2,      1.2,1,     0.21,2,     0.18,2,     0.09,2,     -999,9,     2.10,2,     3.16,2,     0.21,2,     0.55,2,     0.19,3,   2010.8,2,   8.0456,2,    26.25,    23.13
     49MR98K02, EQPAC,     9,  4,      7,      7,1,19990111,2217,  0.0593, 174.9132, 4831,       70,2,   26.318,2,   35.280,2,   35.282,2,     3.83,1,    192.9,2,      1.0,1,     0.20,2,     0.19,2,     0.11,2,     -999,9,     2.04,2,     3.03,2,     0.25,2,     0.55,2,     0.30,3,   2011.8,2,   8.0498,2,    26.30,    23.15
     49MR98K02, EQPAC,     9,  4,      8,      8,1,19990111,2217,  0.0593, 174.9132, 4831,       80,2,   26.314,2,   35.292,2,   35.295,2,     3.81,1,    192.1,2,      1.2,1,     0.23,2,     0.20,2,     0.10,2,     -999,9,     2.03,2,     3.04,2,     0.29,2,     0.55,2,     0.30,3,   2012.2,2,   8.0509,2,    26.30,    23.16
     49MR98K02, EQPAC,     9,  4,      9,      9,1,19990111,2217,  0.0593, 174.9132, 4831,      100,2,   26.282,2,   35.318,2,   35.320,2,     3.76,1,    188.1,2,      1.0,1,     0.20,2,     0.20,2,     0.14,2,     -999,9,     1.96,2,     3.18,2,     0.34,2,     0.56,2,     0.11,3,   2014.8,2,   8.0489,2,    26.26,    23.19
     49MR98K02, EQPAC,     9,  4,     10,     10,1,19990111,2217,  0.0593, 174.9132, 4831,      120,2,   26.114,2,   35.361,2,   35.375,2,     3.67,1,    179.4,2,      0.6,1,     0.14,2,     0.14,2,     0.11,2,     -999,9,     1.95,2,     3.93,2,     0.35,2,     0.61,2,     0.09,3,   2022.1,2,   8.0369,2,    26.09,    23.28
     49MR98K02, EQPAC,     9,  4,     11,     11,1,19990111,2217,  0.0593, 174.9132, 4831,      152,2,   19.741,2,   35.434,2,   35.418,2,     3.10,1,    146.4,2,      0.2,1,     0.01,2,     0.02,2,     0.04,2,     -999,9,     4.79,2,     9.51,2,     0.01,2,     0.92,2,     0.13,3,   2086.4,2,   7.9260,2,    19.71,    25.17
     49MR98K02, EQPAC,     9,  4,     12,     12,1,19990111,2217,  0.0593, 174.9132, 4831,      204,2,   17.446,2,   35.272,2,   35.269,2,     3.05,1,    145.0,2,      0.2,1,     0.00,2,     0.01,2,     0.02,2,     -999,9,     7.78,2,    12.32,2,     0.01,2,     1.09,2,     0.36,3,   2107.9,2,   7.8792,2,    17.41,    25.62
     49MR98K02, EQPAC,     9,  4,     13,     13,1,19990111,2217,  0.0593, 174.9132, 4831,       10,2,   26.357,2,   35.168,2, -999.000,9,     3.86,1,   -999.0,9,      0.8,1,  -999.00,9,  -999.00,9,  -999.00,9,     -999,9,  -999.00,9,  -999.00,9,  -999.00,9,  -999.00,9,  -999.00,9,   -999.0,9,-999.0000,9,    26.35,    23.05
     49MR98K02, EQPAC,     9,  4,     14,     14,1,19990111,2217,  0.0593, 174.9132, 4831,       21,2,   26.346,2,   35.167,2, -999.000,9,     3.88,1,   -999.0,9,      1.0,1,  -999.00,9,  -999.00,9,  -999.00,9,     -999,9,  -999.00,9,  -999.00,9,  -999.00,9,  -999.00,9,  -999.00,9,   -999.0,9,-999.0000,9,    26.34,    23.05
     49MR98K02, EQPAC,     9,  4,     24,     24,1,19990111,2217,  0.0593, 174.9132, 4831,       31,2,   26.331,2,   35.167,2, -999.000,9,     3.86,1,   -999.0,9,      1.1,1,  -999.00,9,  -999.00,9,  -999.00,9,     -999,9,  -999.00,9,  -999.00,9,  -999.00,9,  -999.00,9,  -999.00,9,   -999.0,9,-999.0000,9,    26.32,    23.06
     49MR98K02, EQPAC,     9,  4,     15,     15,1,19990111,2217,  0.0593, 174.9132, 4831,       31,2,   26.333,2,   35.167,2, -999.000,9,     3.86,1,   -999.0,9,      1.1,1,  -999.00,9,  -999.00,9,  -999.00,9,     -999,9,  -999.00,9,  -999.00,9,  -999.00,9,  -999.00,9,  -999.00,9,   -999.0,9,-999.0000,9,    26.33,    23.06
     49MR98K02, EQPAC,     9,  4,     16,     16,1,19990111,2217,  0.0593, 174.9132, 4831,       41,2,   26.275,2,   35.180,2, -999.000,9,     3.82,1,   -999.0,9,      1.2,1,  -999.00,9,  -999.00,9,  -999.00,9,     -999,9,  -999.00,9,  -999.00,9,  -999.00,9,  -999.00,9,  -999.00,9,   -999.0,9,-999.0000,9,    26.27,    23.09
     49MR98K02, EQPAC,     9,  4,     17,     17,1,19990111,2217,  0.0593, 174.9132, 4831,       50,2,   26.272,2,   35.210,2, -999.000,9,     3.81,1,   -999.0,9,      1.2,1,  -999.00,9,  -999.00,9,  -999.00,9,     -999,9,  -999.00,9,  -999.00,9,  -999.00,9,  -999.00,9,  -999.00,9,   -999.0,9,-999.0000,9,    26.26,    23.11
     49MR98K02, EQPAC,     9,  4,     18,     18,1,19990111,2217,  0.0593, 174.9132, 4831,       60,2,   26.263,2,   35.229,2, -999.000,9,     3.83,1,   -999.0,9,      1.6,1,  -999.00,9,  -999.00,9,  -999.00,9,     -999,9,  -999.00,9,  -999.00,9,  -999.00,9,  -999.00,9,  -999.00,9,   -999.0,9,-999.0000,9,    26.25,    23.13
     49MR98K02, EQPAC,     9,  4,     19,     19,1,19990111,2217,  0.0593, 174.9132, 4831,       69,2,   26.318,2,   35.278,2, -999.000,9,     3.84,1,   -999.0,9,      1.0,1,  -999.00,9,  -999.00,9,  -999.00,9,     -999,9,  -999.00,9,  -999.00,9,  -999.00,9,  -999.00,9,  -999.00,9,   -999.0,9,-999.0000,9,    26.30,    23.15
     49MR98K02, EQPAC,     9,  4,     20,     20,1,19990111,2217,  0.0593, 174.9132, 4831,       80,2,   26.315,2,   35.293,2, -999.000,9,     3.82,1,   -999.0,9,      1.2,1,  -999.00,9,  -999.00,9,  -999.00,9,     -999,9,  -999.00,9,  -999.00,9,  -999.00,9,  -999.00,9,  -999.00,9,   -999.0,9,-999.0000,9,    26.30,    23.16
     49MR98K02, EQPAC,     9,  4,     21,     21,1,19990111,2217,  0.0593, 174.9132, 4831,       99,2,   26.284,2,   35.316,2, -999.000,9,     3.76,1,   -999.0,9,      1.0,1,  -999.00,9,  -999.00,9,  -999.00,9,     -999,9,  -999.00,9,  -999.00,9,  -999.00,9,  -999.00,9,  -999.00,9,   -999.0,9,-999.0000,9,    26.26,    23.19
     49MR98K02, EQPAC,     9,  4,     22,     22,1,19990111,2217,  0.0593, 174.9132, 4831,      121,2,   25.843,2,   35.374,2, -999.000,9,     3.61,1,   -999.0,9,      0.5,1,  -999.00,9,  -999.00,9,  -999.00,9,     -999,9,  -999.00,9,  -999.00,9,  -999.00,9,  -999.00,9,  -999.00,9,   -999.0,9,-999.0000,9,    25.82,    23.37
     49MR98K02, EQPAC,     9,  4,     23,     23,1,19990111,2217,  0.0593, 174.9132, 4831,      152,2,   19.949,2,   35.428,2, -999.000,9,     3.08,1,   -999.0,9,      0.2,1,  -999.00,9,  -999.00,9,  -999.00,9,     -999,9,  -999.00,9,  -999.00,9,  -999.00,9,  -999.00,9,  -999.00,9,   -999.0,9,-999.0000,9,    19.92,    25.11
     49MR98K02, EQPAC,    10,  1,      0,      0,1,19990112,2303, -0.0009, 178.7957, 5451,     -999,9,   26.100,2, -999.000,9,   35.085,2,  -999.00,9,    205.2,2,   -999.0,9,     0.19,2,     0.18,2,     0.07,2,     -999,9,     2.24,2,     3.03,2,     0.39,2,     0.49,2,     0.16,3,   2003.6,2,   8.0408,2,  -999.00,  -999.00
     49MR98K02, EQPAC,    10,  1,      1,      1,1,19990112,2308, -0.0015, 178.7929, 5451,       11,2,   25.887,2,   35.085,2,   35.087,2,     4.10,1,    205.2,2,      0.7,1,     0.20,2,     0.19,2,     0.08,2,     -999,9,     2.24,2,     3.02,2,     0.39,2,     0.49,2,     0.09,3,   2003.3,2,   8.0415,2,    25.88,    23.13
     49MR98K02, EQPAC,    10,  1,      2,      2,1,19990112,2308, -0.0015, 178.7929, 5451,       20,2,   25.860,2,   35.087,2,   35.089,2,     4.10,1,    205.2,2,      0.9,1,     0.19,2,     0.18,2,     0.09,2,     -999,9,     2.30,2,     3.05,2,     0.40,2,     0.49,2,     0.00,3,   2004.8,2,   8.0426,2,    25.86,    23.14
     49MR98K02, EQPAC,    10,  1,      3,      3,1,19990112,2308, -0.0015, 178.7929, 5451,       40,2,   25.657,2,   35.186,2,   35.185,2,     4.09,1,    203.8,2,      1.3,1,     0.22,2,     0.23,2,     0.12,2,     -999,9,     2.53,2,     3.76,2,     0.42,2,     0.54,2,     0.04,3,   2017.6,2,   8.0318,2,    25.65,    23.28
     49MR98K02, EQPAC,    10,  1,      4,      4,1,19990112,2308, -0.0015, 178.7929, 5451,       49,2,   25.593,2,   35.224,2,   35.226,2,     4.07,1,    202.9,2,      1.3,1,     0.22,2,     0.23,2,     0.14,2,     -999,9,     2.53,2,     4.00,2,     0.42,2,     0.57,2,     0.11,3,   2019.7,2,   8.0303,2,    25.58,    23.33
     49MR98K02, EQPAC,    10,  1,      5,      5,1,19990112,2308, -0.0015, 178.7929, 5451,       60,2,   25.535,2,   35.229,2,   35.232,2,     4.06,1,    202.5,2,      1.4,1,     0.26,2,     0.28,2,     0.18,2,     -999,9,     2.44,2,     4.14,2,     0.43,2,     0.57,2,     0.21,3,   2020.3,2,   8.0292,2,    25.52,    23.35
     49MR98K02, EQPAC,    10,  1,      6,      6,1,19990112,2308, -0.0015, 178.7929, 5451,       71,2,   25.466,2,   35.229,2,   35.231,2,     4.04,1,    201.6,2,      1.5,1,     0.27,2,     0.29,2,     0.19,2,     -999,9,     2.53,2,     4.17,2,     0.44,2,     0.57,2,     0.13,3,   2023.3,2,   8.0266,2,    25.45,    23.38
     49MR98K02, EQPAC,    10,  1,      7,      7,1,19990112,2308, -0.0015, 178.7929, 5451,       81,2,   25.408,2,   35.230,2,   35.232,2,     4.01,1,    199.9,2,      1.4,1,     0.23,2,     0.24,2,     0.16,2,     -999,9,     2.49,2,     4.27,2,     0.45,2,     0.58,2,     0.21,3,   2022.5,2,   8.0250,2,    25.39,    23.40
     49MR98K02, EQPAC,    10,  1,      8,      8,1,19990112,2308, -0.0015, 178.7929, 5451,       90,2,   25.313,2,   35.221,2,   35.224,2,     3.95,1,    197.2,2,      1.3,1,     0.25,2,     0.28,2,     0.21,2,     -999,9,     2.59,2,     4.47,2,     0.49,2,     0.60,2,     0.18,3,   2024.5,2,   8.0201,2,    25.29,    23.42
     49MR98K02, EQPAC,    10,  1,      9,      9,1,19990112,2308, -0.0015, 178.7929, 5451,       99,2,   25.205,2,   35.216,2,   35.222,2,     3.91,1,    192.9,2,      1.0,1,     0.20,2,     0.21,2,     0.17,2,     -999,9,     2.67,2,     4.76,2,     0.48,2,     0.62,2,     0.21,3,   2027.2,2,   8.0155,2,    25.18,    23.45
     49MR98K02, EQPAC,    10,  1,     10,     10,1,19990112,2308, -0.0015, 178.7929, 5451,      120,2,   24.891,2,   35.278,2,   35.280,2,     3.57,1,    178.0,2,      0.5,1,     0.11,2,     0.11,2,     0.09,2,     -999,9,     2.74,2,     5.40,2,     0.43,2,     0.64,2,     0.08,3,   2033.7,2,   8.0054,2,    24.87,    23.59
     49MR98K02, EQPAC,    10,  1,     11,     11,1,19990112,2308, -0.0015, 178.7929, 5451,      152,2,   23.866,2,   35.371,2,   35.444,2,     3.23,1,    157.4,2,      0.3,1,     0.04,2,     0.05,2,     0.05,2,     -999,9,     2.97,2,     6.70,2,     0.11,2,     0.69,2,     0.16,3,   2049.4,2,   7.9860,2,    23.83,    23.97
     49MR98K02, EQPAC,    10,  1,     12,     12,1,19990112,2308, -0.0015, 178.7929, 5451,      204,2,   16.011,2,   35.074,2,   35.071,2,     3.02,1,    143.7,2,      0.2,1,     0.00,2,     0.01,2,     0.02,2,     -999,9,    12.07,2,    14.64,2,     0.01,2,     1.19,2,     0.20,3,   2118.0,2,   7.8392,2,    15.98,    25.81
     49MR98K02, EQPAC,    10,  1,     13,     13,1,19990112,2308, -0.0015, 178.7929, 5451,       20,2,   25.861,2,   35.087,2, -999.000,9,     4.13,1,   -999.0,9,      1.0,1,  -999.00,9,  -999.00,9,  -999.00,9,     -999,9,  -999.00,9,  -999.00,9,  -999.00,9,  -999.00,9,  -999.00,9,   -999.0,9,-999.0000,9,    25.86,    23.14
     49MR98K02, EQPAC,    10,  1,     24,     24,1,19990112,2308, -0.0015, 178.7929, 5451,       29,2,   25.741,2,   35.124,2, -999.000,9,     4.10,1,   -999.0,9,      1.2,1,  -999.00,9,  -999.00,9,  -999.00,9,     -999,9,  -999.00,9,  -999.00,9,  -999.00,9,  -999.00,9,  -999.00,9,   -999.0,9,-999.0000,9,    25.73,    23.21
     49MR98K02, EQPAC,    10,  1,     14,     14,1,19990112,2308, -0.0015, 178.7929, 5451,       41,2,   25.656,2,   35.182,2, -999.000,9,     4.09,1,   -999.0,9,      1.2,1,  -999.00,9,  -999.00,9,  -999.00,9,     -999,9,  -999.00,9,  -999.00,9,  -999.00,9,  -999.00,9,  -999.00,9,   -999.0,9,-999.0000,9,    25.65,    23.28
     49MR98K02, EQPAC,    10,  1,     15,     15,1,19990112,2308, -0.0015, 178.7929, 5451,       60,2,   25.536,2,   35.229,2, -999.000,9,     4.06,1,   -999.0,9,      1.4,1,  -999.00,9,  -999.00,9,  -999.00,9,     -999,9,  -999.00,9,  -999.00,9,  -999.00,9,  -999.00,9,  -999.00,9,   -999.0,9,-999.0000,9,    25.52,    23.35
     49MR98K02, EQPAC,    10,  1,     16,     16,1,19990112,2308, -0.0015, 178.7929, 5451,       81,2,   25.405,2,   35.229,2, -999.000,9,     4.00,1,   -999.0,9,      1.4,1,  -999.00,9,  -999.00,9,  -999.00,9,     -999,9,  -999.00,9,  -999.00,9,  -999.00,9,  -999.00,9,  -999.00,9,   -999.0,9,-999.0000,9,    25.39,    23.40
     49MR98K02, EQPAC,    10,  1,     23,     23,1,19990112,2308, -0.0015, 178.7929, 5451,       91,2,   25.305,2,   35.220,2, -999.000,9,     3.95,1,   -999.0,9,      1.3,1,  -999.00,9,  -999.00,9,  -999.00,9,     -999,9,  -999.00,9,  -999.00,9,  -999.00,9,  -999.00,9,  -999.00,9,   -999.0,9,-999.0000,9,    25.28,    23.42
     49MR98K02, EQPAC,    10,  1,     17,     17,1,19990112,2308, -0.0015, 178.7929, 5451,      100,2,   25.231,2,   35.214,2, -999.000,9,     3.93,1,   -999.0,9,      1.1,1,  -999.00,9,  -999.00,9,  -999.00,9,     -999,9,  -999.00,9,  -999.00,9,  -999.00,9,  -999.00,9,  -999.00,9,   -999.0,9,-999.0000,9,    25.21,    23.44
     49MR98K02, EQPAC,    10,  1,     18,     18,1,19990112,2308, -0.0015, 178.7929, 5451,      119,2,   24.861,2,   35.285,2, -999.000,9,     3.60,1,   -999.0,9,      0.5,1,  -999.00,9,  -999.00,9,  -999.00,9,     -999,9,  -999.00,9,  -999.00,9,  -999.00,9,  -999.00,9,  -999.00,9,   -999.0,9,-999.0000,9,    24.84,    23.61
     49MR98K02, EQPAC,    10,  1,     19,     19,1,19990112,2308, -0.0015, 178.7929, 5451,      141,2,   24.551,2,   35.331,2, -999.000,9,     3.43,1,   -999.0,9,      0.4,1,  -999.00,9,  -999.00,9,  -999.00,9,     -999,9,  -999.00,9,  -999.00,9,  -999.00,9,  -999.00,9,  -999.00,9,   -999.0,9,-999.0000,9,    24.52,    23.74
     49MR98K02, EQPAC,    10,  1,     20,     20,1,19990112,2308, -0.0015, 178.7929, 5451,      161,2,   22.767,2,   35.287,2, -999.000,9,     3.23,1,   -999.0,9,      0.3,1,  -999.00,9,  -999.00,9,  -999.00,9,     -999,9,  -999.00,9,  -999.00,9,  -999.00,9,  -999.00,9,  -999.00,9,   -999.0,9,-999.0000,9,    22.73,    24.23
     49MR98K02, EQPAC,    10,  1,     21,     21,1,19990112,2308, -0.0015, 178.7929, 5451,      182,2,   18.370,2,   35.453,2, -999.000,9,     3.02,1,   -999.0,9,      0.2,1,  -999.00,9,  -999.00,9,  -999.00,9,     -999,9,  -999.00,9,  -999.00,9,  -999.00,9,  -999.00,9,  -999.00,9,   -999.0,9,-999.0000,9,    18.34,    25.53
     49MR98K02, EQPAC,    10,  1,     22,     22,1,19990112,2308, -0.0015, 178.7929, 5451,      202,2,   16.030,2,   35.076,2, -999.000,9,     2.99,1,   -999.0,9,      0.2,1,  -999.00,9,  -999.00,9,  -999.00,9,     -999,9,  -999.00,9,  -999.00,9,  -999.00,9,  -999.00,9,  -999.00,9,   -999.0,9,-999.0000,9,    16.00,    25.81