BOTTLE,20101227MIRCJHATS
EXPOCODE,SECT,STNNBR,CASTNO,SAMPNO,BTLNBR,BTLNBR_FLAG_W,DATE,TIME,LATITUDE,LONGITUDE,DEPTH,CTDPRS,CTDPRS_FLAG_W,CTDTMP,CTDTMP_FLAG_W,CTDSAL,CTDSAL_FLAG_W,SALNTY,SALNTY_FLAG_W,CTDOXY,CTDOXY_FLAG_W,OXYGEN,OXYGEN_FLAG_W,FLUOR,FLUOR_FLAG_W,CHLORA,CHLORA_FLAG_W,CHLWELSH,CHLWELSH_W,PPHYTN,PPHYTN_FLAG_W,XMISS,XMISS_FLAG_W,SILCAT,SILCAT_FLAG_W,NITRAT,NITRAT_FLAG_W,NITRIT,NITRIT_FLAG_W,PHSPHT,PHSPHT_FLAG_W,NH4,NH4_FLAG_W,TCARBN,TCARBN_FLAG_W,PH,PH_FLAG_W,THETA,SIG0
,,,,,,,,UTC,DEG,DEG,M,DBAR,,ITS-90,,PSS-78,,PSS-78,,ML/L,,UMOL/KG,,UG/L,,MG/CUM,,MG/CUM,,MG/CUM,,%TRANS,,UMOL/KG,,UMOL/KG,,UMOL/KG,,UMOL/KG,,UMOL/KG,,UMOL/KG,,-,,DEG C,KG/CUM
     49MR98K02, EQPAC,     2,  4,      0,      0,1,19990102, 115,  5.0351, 140.1024, 4176,     -999,9,   29.700,2, -999.000,9,   34.428,2,  -999.00,9,    194.6,2,   -999.0,9,     0.06,2,     0.06,2,     0.02,2,     -999,9,     0.00,2,     0.00,2,     0.00,2,     0.11,2,     0.00,3,   1913.4,3,   8.1342,2,  -999.00,  -999.00
     49MR98K02, EQPAC,     2,  4,      1,      1,1,19990102, 109,  5.0357, 140.1032, 4176,       14,2,   29.748,2,   34.417,2,   34.418,2,     3.62,1,    194.1,2,      0.0,1,     0.05,2,     0.05,2,     0.02,2,       89,1,     0.00,2,     0.00,2,     0.00,2,     0.11,2,     0.07,3,   1911.6,3,   8.1366,2,    29.74,    21.38
     49MR98K02, EQPAC,     2,  4,      2,      2,1,19990102, 109,  5.0357, 140.1032, 4176,       30,2,   29.762,2,   34.432,2,   34.434,2,     3.61,1,    194.1,2,      0.0,1,     0.06,2,     0.05,2,     0.02,2,       89,1,     0.00,2,     0.00,2,     0.01,2,     0.11,2,     0.10,3,   1913.0,3,   8.1369,2,    29.75,    21.38
     49MR98K02, EQPAC,     2,  4,      3,      3,1,19990102, 109,  5.0357, 140.1032, 4176,       40,2,   29.766,2,   34.452,2,   34.466,2,     3.59,1,    194.6,2,      0.0,1,     0.06,2,     0.06,2,     0.03,2,       89,1,     0.00,2,     0.00,2,     0.01,2,     0.11,2,     0.12,3,   1914.1,3,   8.1342,2,    29.76,    21.40
     49MR98K02, EQPAC,     2,  4,      4,      4,1,19990102, 109,  5.0357, 140.1032, 4176,       50,2,   29.807,2,   34.513,2,   34.515,2,     3.60,1,    195.0,2,      0.0,1,     0.08,2,     0.08,2,     0.03,2,       89,1,     0.00,2,     0.00,2,     0.01,2,     0.11,2,     0.15,3,   1917.2,2,   8.1326,2,    29.79,    21.43
     49MR98K02, EQPAC,     2,  4,      5,      5,1,19990102, 109,  5.0357, 140.1032, 4176,       59,2,   29.839,2,   34.685,2,   34.687,2,     3.65,1,    196.3,2,      0.0,1,     0.10,2,     0.10,2,     0.04,2,       89,1,     0.00,2,     0.00,2,     0.01,2,     0.13,2,     0.18,3,   1931.2,2,   8.1270,2,    29.82,    21.55
     49MR98K02, EQPAC,     2,  4,      6,      6,1,19990102, 109,  5.0357, 140.1032, 4176,       71,2,   29.401,2,   34.759,2,   34.767,2,     3.61,1,    194.5,2,      0.0,1,     0.13,2,     0.13,2,     0.06,2,       89,1,     0.00,2,     0.00,2,     0.01,2,     0.14,2,     0.13,3,   1941.9,2,   8.1120,2,    29.38,    21.75
     49MR98K02, EQPAC,     2,  4,      7,      7,1,19990102, 109,  5.0357, 140.1032, 4176,       80,2,   28.982,2,   34.803,2,   34.808,2,     3.62,1,    196.2,2,      0.0,1,     0.14,2,     0.14,2,     0.09,2,       89,1,     0.00,2,     0.01,2,     0.00,2,     0.14,2,     0.25,3,   1950.2,2,   8.1059,2,    28.96,    21.93
     49MR98K02, EQPAC,     2,  4,      9,      9,1,19990102, 109,  5.0357, 140.1032, 4176,      101,2,   28.306,2,   34.830,2,   34.837,2,     3.51,1,    187.4,2,      0.0,1,     0.15,2,     0.22,2,     0.27,2,       89,1,     0.00,2,     0.01,2,     0.01,2,     0.17,2,     0.28,3,   1965.5,2,   8.0863,2,    28.28,    22.17
     49MR98K02, EQPAC,     2,  4,     10,     10,1,19990102, 109,  5.0357, 140.1032, 4176,      120,2,   27.312,2,   34.819,2,   34.828,2,     3.35,1,    175.6,2,      0.0,1,     0.22,2,     0.26,2,     0.25,2,       89,1,     0.45,2,     0.76,2,     0.40,2,     0.25,2,     0.27,3,   1979.9,2,   8.0581,2,    27.28,    22.49
     49MR98K02, EQPAC,     2,  4,     11,     11,1,19990102, 109,  5.0357, 140.1032, 4176,      151,2,   19.254,2,   34.733,2,   34.733,2,     2.87,1,    142.5,2,      0.0,1,     0.07,2,     0.14,2,     0.23,2,       90,1,     7.25,2,    10.45,2,     0.03,2,     0.82,2,     0.16,3,   2068.6,2,   7.8893,2,    19.23,    24.76
     49MR98K02, EQPAC,     2,  4,     12,     12,1,19990102, 109,  5.0357, 140.1032, 4176,      201,2,   12.768,2,   34.571,2,   34.566,2,     2.22,1,    104.9,2,      0.0,1,     0.01,2,     0.02,2,     0.03,2,       90,1,    21.21,2,    22.09,2,     0.01,2,     1.47,2,     0.15,3,   2156.3,2,   7.6968,2,    12.74,    26.11
     49MR98K02, EQPAC,     2,  4,     13,     13,1,19990102, 109,  5.0357, 140.1032, 4176,       29,2,   29.759,2,   34.424,2, -999.000,9,     3.61,1,   -999.0,9,      0.0,1,  -999.00,9,  -999.00,9,  -999.00,9,       89,1,  -999.00,9,  -999.00,9,  -999.00,9,  -999.00,9,  -999.00,9,   -999.0,9,-999.0000,9,    29.75,    21.38
     49MR98K02, EQPAC,     2,  4,     24,     24,1,19990102, 109,  5.0357, 140.1032, 4176,       30,2,   29.759,2,   34.427,2, -999.000,9,     3.59,1,   -999.0,9,      0.0,1,  -999.00,9,  -999.00,9,  -999.00,9,       89,1,  -999.00,9,  -999.00,9,  -999.00,9,  -999.00,9,  -999.00,9,   -999.0,9,-999.0000,9,    29.75,    21.38
     49MR98K02, EQPAC,     2,  4,     14,     14,1,19990102, 109,  5.0357, 140.1032, 4176,       40,2,   29.761,2,   34.447,2, -999.000,9,     3.60,1,   -999.0,9,      0.0,1,  -999.00,9,  -999.00,9,  -999.00,9,       89,1,  -999.00,9,  -999.00,9,  -999.00,9,  -999.00,9,  -999.00,9,   -999.0,9,-999.0000,9,    29.75,    21.40
     49MR98K02, EQPAC,     2,  4,     15,     15,1,19990102, 109,  5.0357, 140.1032, 4176,       59,2,   29.823,2,   34.684,2, -999.000,9,     3.64,1,   -999.0,9,      0.0,1,  -999.00,9,  -999.00,9,  -999.00,9,       89,1,  -999.00,9,  -999.00,9,  -999.00,9,  -999.00,9,  -999.00,9,   -999.0,9,-999.0000,9,    29.81,    21.55
     49MR98K02, EQPAC,     2,  4,     16,     16,1,19990102, 109,  5.0357, 140.1032, 4176,       70,2,   29.411,2,   34.759,2, -999.000,9,     3.60,1,   -999.0,9,      0.0,1,  -999.00,9,  -999.00,9,  -999.00,9,       89,1,  -999.00,9,  -999.00,9,  -999.00,9,  -999.00,9,  -999.00,9,   -999.0,9,-999.0000,9,    29.39,    21.75
     49MR98K02, EQPAC,     2,  4,     17,     17,1,19990102, 109,  5.0357, 140.1032, 4176,       79,2,   29.064,2,   34.801,2, -999.000,9,     3.62,1,   -999.0,9,      0.0,1,  -999.00,9,  -999.00,9,  -999.00,9,       89,1,  -999.00,9,  -999.00,9,  -999.00,9,  -999.00,9,  -999.00,9,   -999.0,9,-999.0000,9,    29.04,    21.90
     49MR98K02, EQPAC,     2,  4,     18,     18,1,19990102, 109,  5.0357, 140.1032, 4176,      100,2,   28.314,2,   34.831,2, -999.000,9,     3.48,1,   -999.0,9,      0.0,1,  -999.00,9,  -999.00,9,  -999.00,9,       89,1,  -999.00,9,  -999.00,9,  -999.00,9,  -999.00,9,  -999.00,9,   -999.0,9,-999.0000,9,    28.29,    22.17
     49MR98K02, EQPAC,     2,  4,     19,     19,1,19990102, 109,  5.0357, 140.1032, 4176,      120,2,   27.194,2,   34.813,2, -999.000,9,     3.35,1,   -999.0,9,      0.0,1,  -999.00,9,  -999.00,9,  -999.00,9,       89,1,  -999.00,9,  -999.00,9,  -999.00,9,  -999.00,9,  -999.00,9,   -999.0,9,-999.0000,9,    27.17,    22.52
     49MR98K02, EQPAC,     2,  4,     20,     20,1,19990102, 109,  5.0357, 140.1032, 4176,      141,2,   23.149,2,   34.768,2, -999.000,9,     3.12,1,   -999.0,9,      0.0,1,  -999.00,9,  -999.00,9,  -999.00,9,       90,1,  -999.00,9,  -999.00,9,  -999.00,9,  -999.00,9,  -999.00,9,   -999.0,9,-999.0000,9,    23.12,    23.72
     49MR98K02, EQPAC,     2,  4,     21,     21,1,19990102, 109,  5.0357, 140.1032, 4176,      163,2,   17.672,2,   34.700,2, -999.000,9,     2.89,1,   -999.0,9,      0.0,1,  -999.00,9,  -999.00,9,  -999.00,9,       90,1,  -999.00,9,  -999.00,9,  -999.00,9,  -999.00,9,  -999.00,9,   -999.0,9,-999.0000,9,    17.64,    25.13
     49MR98K02, EQPAC,     2,  4,     22,     22,1,19990102, 109,  5.0357, 140.1032, 4176,      179,2,   15.364,2,   34.624,2, -999.000,9,     2.78,1,   -999.0,9,      0.0,1,  -999.00,9,  -999.00,9,  -999.00,9,       90,1,  -999.00,9,  -999.00,9,  -999.00,9,  -999.00,9,  -999.00,9,   -999.0,9,-999.0000,9,    15.34,    25.61
     49MR98K02, EQPAC,     2,  4,     23,     23,1,19990102, 109,  5.0357, 140.1032, 4176,      202,2,   12.781,2,   34.572,2, -999.000,9,     2.23,1,   -999.0,9,      0.0,1,  -999.00,9,  -999.00,9,  -999.00,9,       90,1,  -999.00,9,  -999.00,9,  -999.00,9,  -999.00,9,  -999.00,9,   -999.0,9,-999.0000,9,    12.75,    26.11
     49MR98K02, EQPAC,     3,  1,      0,      0,1,19990103,1214,  0.0055, 144.9967, 3638,     -999,9,   29.700,2, -999.000,9,   34.239,2,  -999.00,9,   -999.0,9,   -999.0,9,     0.59,2,     0.52,2,     0.11,2,     -999,9,     1.78,2,     0.00,2,     0.00,2,     0.05,2,     0.08,3,   -999.0,9,-999.0000,9,  -999.00,  -999.00
     49MR98K02, EQPAC,     3,  1,     12,     12,1,19990103,1216,  0.0055, 144.9966, 3638,       10,2,   29.794,2,   34.217,2,   34.232,2,     4.27,1,   -999.0,9,      0.3,1,     0.36,2,     0.31,2,     0.05,2,       77,1,     1.88,2,     0.00,2,     0.00,2,     0.05,2,     0.09,3,   -999.0,9,-999.0000,9,    29.79,    21.21
     49MR98K02, EQPAC,     3,  1,     11,     11,1,19990103,1216,  0.0055, 144.9966, 3638,       20,2,   29.784,2,   34.274,2,   34.291,2,     4.25,1,   -999.0,9,      0.3,1,     0.16,2,     0.15,2,     0.05,2,       77,1,     1.81,2,     0.00,2,     0.00,2,     0.05,2,     0.11,3,   -999.0,9,-999.0000,9,    29.78,    21.26
     49MR98K02, EQPAC,     3,  1,     10,     10,1,19990103,1216,  0.0055, 144.9966, 3638,       31,2,   29.736,2,   34.312,2,   34.316,2,     4.24,1,   -999.0,9,      0.3,1,     0.14,2,     0.14,2,     0.06,2,       77,1,     1.84,2,     0.00,2,     0.00,2,     0.05,2,     0.06,3,   -999.0,9,-999.0000,9,    29.73,    21.30
     49MR98K02, EQPAC,     3,  1,      9,      9,1,19990103,1216,  0.0055, 144.9966, 3638,       40,2,   29.741,2,   34.358,2,   34.364,2,     4.25,1,   -999.0,9,      0.3,1,     0.13,2,     0.13,2,     0.06,2,       77,1,     1.66,2,     0.00,2,     0.00,2,     0.05,2,     0.04,3,   -999.0,9,-999.0000,9,    29.73,    21.34
     49MR98K02, EQPAC,     3,  1,      8,      8,1,19990103,1216,  0.0055, 144.9966, 3638,       51,2,   29.664,2,   34.375,2,   34.383,2,     4.22,1,   -999.0,9,      0.4,1,     0.18,2,     0.19,2,     0.11,2,       77,1,     1.67,2,     0.00,2,     0.00,2,     0.05,2,     0.01,3,   -999.0,9,-999.0000,9,    29.65,    21.38
     49MR98K02, EQPAC,     3,  1,      7,      7,1,19990103,1216,  0.0055, 144.9966, 3638,       60,2,   29.610,2,   34.393,2,   34.397,2,     4.18,1,   -999.0,9,      0.5,1,     0.21,2,     0.21,2,     0.12,2,       77,1,     1.62,2,     0.00,2,     0.00,2,     0.06,2,     0.03,3,   -999.0,9,-999.0000,9,    29.60,    21.41
     49MR98K02, EQPAC,     3,  1,      6,      6,1,19990103,1216,  0.0055, 144.9966, 3638,       71,2,   29.523,2,   34.432,2,   34.434,2,     4.25,1,   -999.0,9,      0.7,1,     0.31,2,     0.30,2,     0.16,2,       77,1,     1.62,2,     0.00,2,     0.00,2,     0.06,2,     0.00,3,   -999.0,9,-999.0000,9,    29.51,    21.47
     49MR98K02, EQPAC,     3,  1,      5,      5,1,19990103,1216,  0.0055, 144.9966, 3638,       81,2,   29.556,2,   34.533,2,   34.535,2,     4.21,1,   -999.0,9,      0.9,1,     0.31,2,     0.32,2,     0.21,2,       77,1,     1.57,2,     0.00,2,     0.00,2,     0.08,2,     0.13,3,   -999.0,9,-999.0000,9,    29.54,    21.53
     49MR98K02, EQPAC,     3,  1,      4,      4,1,19990103,1216,  0.0055, 144.9966, 3638,       91,2,   29.508,2,   34.608,2,   34.612,2,     4.18,1,   -999.0,9,      0.8,1,     0.35,2,     0.36,2,     0.24,2,       77,1,     1.63,2,     0.00,2,     0.22,2,     0.14,2,     0.07,3,   -999.0,9,-999.0000,9,    29.49,    21.61
     49MR98K02, EQPAC,     3,  1,      3,      3,1,19990103,1216,  0.0055, 144.9966, 3638,      100,2,   28.884,2,   34.727,2,   34.827,2,     4.10,1,   -999.0,9,      0.6,1,     0.19,2,     0.23,2,     0.24,2,       77,1,     1.93,2,     1.51,2,     0.22,2,     0.23,2,     0.06,3,   -999.0,9,-999.0000,9,    28.86,    21.91
     49MR98K02, EQPAC,     3,  1,      2,      2,1,19990103,1216,  0.0055, 144.9966, 3638,      121,2,   24.708,2,   35.210,2,   35.216,2,     3.74,1,   -999.0,9,      0.4,1,     0.14,2,     0.20,2,     0.26,2,       77,1,     2.86,2,     4.88,2,     0.10,2,     0.47,2,     0.02,3,   -999.0,9,-999.0000,9,    24.68,    23.60
     49MR98K02, EQPAC,     3,  1,      1,      1,1,19990103,1216,  0.0055, 144.9966, 3638,      151,2,   22.640,2,   35.424,2,   35.439,2,     3.65,1,   -999.0,9,      0.3,1,     0.06,2,     0.10,2,     0.14,2,       78,1,     3.10,2,     6.93,2,     0.02,2,     0.62,2,     0.09,3,   -999.0,9,-999.0000,9,    22.61,    24.37