BOTTLE,20101227MIRCJHATS
EXPOCODE,SECT,STNNBR,CASTNO,SAMPNO,BTLNBR,BTLNBR_FLAG_W,DATE,TIME,LATITUDE,LONGITUDE,DEPTH,CTDPRS,CTDPRS_FLAG_W,CTDTMP,CTDTMP_FLAG_W,CTDSAL,CTDSAL_FLAG_W,SALNTY,SALNTY_FLAG_W,CTDOXY,CTDOXY_FLAG_W,OXYGEN,OXYGEN_FLAG_W,FLUOR,FLUOR_FLAG_W,CHLORA,CHLORA_FLAG_W,CHLWELSH,CHLWELSH_W,PPHYTN,PPHYTN_FLAG_W,XMISS,XMISS_FLAG_W,SILCAT,SILCAT_FLAG_W,NITRAT,NITRAT_FLAG_W,NITRIT,NITRIT_FLAG_W,PHSPHT,PHSPHT_FLAG_W,NH4,NH4_FLAG_W,TCARBN,TCARBN_FLAG_W,PH,PH_FLAG_W,THETA,SIG0
,,,,,,,,UTC,DEG,DEG,M,DBAR,,ITS-90,,PSS-78,,PSS-78,,ML/L,,UMOL/KG,,UG/L,,MG/CUM,,MG/CUM,,MG/CUM,,%TRANS,,UMOL/KG,,UMOL/KG,,UMOL/KG,,UMOL/KG,,UMOL/KG,,UMOL/KG,,-,,DEG C,KG/CUM
     49MR98K02, EQPAC,    12,  2,      1,      1,1,19990115, 437,  0.0029,-170.0851, 5397,       21,2,   24.690,2,   35.158,2, -999.000,9,     4.02,1,   -999.0,9,      1.6,1,  -999.00,9,  -999.00,9,  -999.00,9,     -999,9,  -999.00,9,  -999.00,9,  -999.00,9,  -999.00,9,  -999.00,9,   -999.0,9,-999.0000,9,    24.69,    23.56
     49MR98K02, EQPAC,    12,  2,      2,      2,1,19990115, 437,  0.0029,-170.0851, 5397,       40,2,   24.579,2,   35.156,2, -999.000,9,     3.97,1,   -999.0,9,      1.7,1,  -999.00,9,  -999.00,9,  -999.00,9,     -999,9,  -999.00,9,  -999.00,9,  -999.00,9,  -999.00,9,  -999.00,9,   -999.0,9,-999.0000,9,    24.57,    23.59
     49MR98K02, EQPAC,    12,  2,     11,     11,1,19990115, 437,  0.0029,-170.0851, 5397,       50,2,   24.537,2,   35.156,2, -999.000,9,     3.93,1,   -999.0,9,      1.8,1,  -999.00,9,  -999.00,9,  -999.00,9,     -999,9,  -999.00,9,  -999.00,9,  -999.00,9,  -999.00,9,  -999.00,9,   -999.0,9,-999.0000,9,    24.53,    23.60
     49MR98K02, EQPAC,    12,  2,      3,      3,1,19990115, 437,  0.0029,-170.0851, 5397,       61,2,   24.500,2,   35.155,2, -999.000,9,     3.89,1,   -999.0,9,      1.7,1,  -999.00,9,  -999.00,9,  -999.00,9,     -999,9,  -999.00,9,  -999.00,9,  -999.00,9,  -999.00,9,  -999.00,9,   -999.0,9,-999.0000,9,    24.49,    23.61
     49MR98K02, EQPAC,    12,  2,      4,      4,1,19990115, 437,  0.0029,-170.0851, 5397,       81,2,   24.364,2,   35.150,2, -999.000,9,     3.80,1,   -999.0,9,      1.6,1,  -999.00,9,  -999.00,9,  -999.00,9,     -999,9,  -999.00,9,  -999.00,9,  -999.00,9,  -999.00,9,  -999.00,9,   -999.0,9,-999.0000,9,    24.35,    23.65
     49MR98K02, EQPAC,    12,  2,      5,      5,1,19990115, 437,  0.0029,-170.0851, 5397,      102,2,   24.185,2,   35.150,2, -999.000,9,     3.69,1,   -999.0,9,      1.0,1,  -999.00,9,  -999.00,9,  -999.00,9,     -999,9,  -999.00,9,  -999.00,9,  -999.00,9,  -999.00,9,  -999.00,9,   -999.0,9,-999.0000,9,    24.16,    23.71
     49MR98K02, EQPAC,    12,  2,      6,      6,1,19990115, 437,  0.0029,-170.0851, 5397,      120,2,   23.070,2,   35.018,2, -999.000,9,     3.27,1,   -999.0,9,      0.5,1,  -999.00,9,  -999.00,9,  -999.00,9,     -999,9,  -999.00,9,  -999.00,9,  -999.00,9,  -999.00,9,  -999.00,9,   -999.0,9,-999.0000,9,    23.05,    23.93
     49MR98K02, EQPAC,    12,  2,      7,      7,1,19990115, 437,  0.0029,-170.0851, 5397,      141,2,   21.558,2,   35.323,2, -999.000,9,     3.07,1,   -999.0,9,      0.3,1,  -999.00,9,  -999.00,9,  -999.00,9,     -999,9,  -999.00,9,  -999.00,9,  -999.00,9,  -999.00,9,  -999.00,9,   -999.0,9,-999.0000,9,    21.53,    24.59
     49MR98K02, EQPAC,    12,  2,      8,      8,1,19990115, 437,  0.0029,-170.0851, 5397,      160,2,   19.292,2,   35.458,2, -999.000,9,     2.85,1,   -999.0,9,      0.2,1,  -999.00,9,  -999.00,9,  -999.00,9,     -999,9,  -999.00,9,  -999.00,9,  -999.00,9,  -999.00,9,  -999.00,9,   -999.0,9,-999.0000,9,    19.26,    25.30
     49MR98K02, EQPAC,    12,  2,      9,      9,1,19990115, 437,  0.0029,-170.0851, 5397,      183,2,   17.001,2,   35.144,2, -999.000,9,     2.99,1,   -999.0,9,      0.2,1,  -999.00,9,  -999.00,9,  -999.00,9,     -999,9,  -999.00,9,  -999.00,9,  -999.00,9,  -999.00,9,  -999.00,9,   -999.0,9,-999.0000,9,    16.97,    25.63
     49MR98K02, EQPAC,    12,  2,     10,     10,1,19990115, 437,  0.0029,-170.0851, 5397,      202,2,   16.408,2,   35.214,2, -999.000,9,     2.97,1,   -999.0,9,      0.2,1,  -999.00,9,  -999.00,9,  -999.00,9,     -999,9,  -999.00,9,  -999.00,9,  -999.00,9,  -999.00,9,  -999.00,9,   -999.0,9,-999.0000,9,    16.38,    25.83
     49MR98K02, EQPAC,    12,  2,     12,     12,1,19990115, 437,  0.0029,-170.0851, 5397,       20,2,   24.699,2,   35.159,2, -999.000,9,     4.00,1,   -999.0,9,      1.5,1,  -999.00,9,  -999.00,9,  -999.00,9,     -999,9,  -999.00,9,  -999.00,9,  -999.00,9,  -999.00,9,  -999.00,9,   -999.0,9,-999.0000,9,    24.69,    23.55
     49MR98K02, EQPAC,    12,  2,     13,     13,1,19990115, 437,  0.0029,-170.0851, 5397,       40,2,   24.574,2,   35.156,2, -999.000,9,     3.97,1,   -999.0,9,      1.7,1,  -999.00,9,  -999.00,9,  -999.00,9,     -999,9,  -999.00,9,  -999.00,9,  -999.00,9,  -999.00,9,  -999.00,9,   -999.0,9,-999.0000,9,    24.57,    23.59
     49MR98K02, EQPAC,    12,  2,     23,     23,1,19990115, 437,  0.0029,-170.0851, 5397,       50,2,   24.535,2,   35.156,2, -999.000,9,     3.92,1,   -999.0,9,      1.8,1,  -999.00,9,  -999.00,9,  -999.00,9,     -999,9,  -999.00,9,  -999.00,9,  -999.00,9,  -999.00,9,  -999.00,9,   -999.0,9,-999.0000,9,    24.52,    23.60
     49MR98K02, EQPAC,    12,  2,     22,     22,1,19990115, 437,  0.0029,-170.0851, 5397,       50,2,   24.538,2,   35.156,2, -999.000,9,     3.90,1,   -999.0,9,      2.0,1,  -999.00,9,  -999.00,9,  -999.00,9,     -999,9,  -999.00,9,  -999.00,9,  -999.00,9,  -999.00,9,  -999.00,9,   -999.0,9,-999.0000,9,    24.53,    23.60
     49MR98K02, EQPAC,    12,  2,     14,     14,1,19990115, 437,  0.0029,-170.0851, 5397,       61,2,   24.500,2,   35.155,2, -999.000,9,     3.89,1,   -999.0,9,      1.7,1,  -999.00,9,  -999.00,9,  -999.00,9,     -999,9,  -999.00,9,  -999.00,9,  -999.00,9,  -999.00,9,  -999.00,9,   -999.0,9,-999.0000,9,    24.49,    23.61
     49MR98K02, EQPAC,    12,  2,     15,     15,1,19990115, 437,  0.0029,-170.0851, 5397,       80,2,   24.380,2,   35.151,2, -999.000,9,     3.81,1,   -999.0,9,      1.5,1,  -999.00,9,  -999.00,9,  -999.00,9,     -999,9,  -999.00,9,  -999.00,9,  -999.00,9,  -999.00,9,  -999.00,9,   -999.0,9,-999.0000,9,    24.36,    23.65
     49MR98K02, EQPAC,    12,  2,     16,     16,1,19990115, 437,  0.0029,-170.0851, 5397,      102,2,   24.151,2,   35.148,2, -999.000,9,     3.65,1,   -999.0,9,      0.9,1,  -999.00,9,  -999.00,9,  -999.00,9,     -999,9,  -999.00,9,  -999.00,9,  -999.00,9,  -999.00,9,  -999.00,9,   -999.0,9,-999.0000,9,    24.13,    23.72
     49MR98K02, EQPAC,    12,  2,     17,     17,1,19990115, 437,  0.0029,-170.0851, 5397,      120,2,   23.123,2,   35.018,2, -999.000,9,     3.30,1,   -999.0,9,      0.5,1,  -999.00,9,  -999.00,9,  -999.00,9,     -999,9,  -999.00,9,  -999.00,9,  -999.00,9,  -999.00,9,  -999.00,9,   -999.0,9,-999.0000,9,    23.10,    23.92
     49MR98K02, EQPAC,    12,  2,     18,     18,1,19990115, 437,  0.0029,-170.0851, 5397,      141,2,   21.554,2,   35.323,2, -999.000,9,     3.07,1,   -999.0,9,      0.3,1,  -999.00,9,  -999.00,9,  -999.00,9,     -999,9,  -999.00,9,  -999.00,9,  -999.00,9,  -999.00,9,  -999.00,9,   -999.0,9,-999.0000,9,    21.53,    24.60
     49MR98K02, EQPAC,    12,  2,     19,     19,1,19990115, 437,  0.0029,-170.0851, 5397,      162,2,   19.032,2,   35.435,2, -999.000,9,     2.88,1,   -999.0,9,      0.2,1,  -999.00,9,  -999.00,9,  -999.00,9,     -999,9,  -999.00,9,  -999.00,9,  -999.00,9,  -999.00,9,  -999.00,9,   -999.0,9,-999.0000,9,    19.00,    25.35
     49MR98K02, EQPAC,    12,  2,     20,     20,1,19990115, 437,  0.0029,-170.0851, 5397,      182,2,   16.945,2,   35.090,2, -999.000,9,     3.01,1,   -999.0,9,      0.2,1,  -999.00,9,  -999.00,9,  -999.00,9,     -999,9,  -999.00,9,  -999.00,9,  -999.00,9,  -999.00,9,  -999.00,9,   -999.0,9,-999.0000,9,    16.92,    25.60
     49MR98K02, EQPAC,    12,  2,     21,     21,1,19990115, 437,  0.0029,-170.0851, 5397,      204,2,   16.193,2,   35.182,2, -999.000,9,     2.92,1,   -999.0,9,      0.2,1,  -999.00,9,  -999.00,9,  -999.00,9,     -999,9,  -999.00,9,  -999.00,9,  -999.00,9,  -999.00,9,  -999.00,9,   -999.0,9,-999.0000,9,    16.16,    25.85
     49MR98K02, EQPAC,    12,  3,     24,     24,1,19990115, 724,  0.0016,-170.0855, 5397,      302,2,   11.405,2,   34.819,2,   34.820,2,     1.60,1,     78.7,2,   -999.0,9,  -999.00,9,  -999.00,9,  -999.00,9,     -999,9,    25.36,2,    27.22,2,     0.00,2,     1.98,2,  -999.00,9,   2204.6,2,   7.6274,2,    11.37,    26.57
     49MR98K02, EQPAC,    12,  3,     23,     23,1,19990115, 724,  0.0016,-170.0855, 5397,      403,2,    9.602,2,   34.680,2,   34.674,2,     0.98,1,     53.1,2,   -999.0,9,  -999.00,9,  -999.00,9,  -999.00,9,     -999,9,    35.27,2,    33.33,2,     0.00,2,     2.38,2,  -999.00,9,   2242.5,2,   7.5283,2,     9.56,    26.78
     49MR98K02, EQPAC,    12,  3,     22,     22,1,19990115, 724,  0.0016,-170.0855, 5397,      504,2,    7.567,2,   34.591,2,   34.590,2,     1.81,1,     87.4,2,   -999.0,9,  -999.00,9,  -999.00,9,  -999.00,9,     -999,9,    40.15,2,    34.18,2,     0.00,2,     2.43,2,  -999.00,9,   2239.0,2,   7.5472,2,     7.52,    27.02
     49MR98K02, EQPAC,    12,  3,     21,     21,1,19990115, 724,  0.0016,-170.0855, 5397,      604,2,    6.586,2,   34.555,2,   34.556,2,     1.86,1,     90.0,2,   -999.0,9,  -999.00,9,  -999.00,9,  -999.00,9,     -999,9,    48.40,2,    35.70,2,     0.00,2,     2.56,2,  -999.00,9,   2252.5,2,   7.5390,2,     6.53,    27.13
     49MR98K02, EQPAC,    12,  3,     20,     20,1,19990115, 724,  0.0016,-170.0855, 5397,      806,2,    5.233,2,   34.547,2,   34.644,3,     1.66,1,     95.6,3,   -999.0,9,  -999.00,9,  -999.00,9,  -999.00,9,     -999,9,    58.23,3,    34.06,3,     0.03,3,     2.48,3,  -999.00,9,   -999.0,9,-999.0000,9,     5.17,    27.30
     49MR98K02, EQPAC,    12,  3,     19,     19,1,19990115, 724,  0.0016,-170.0855, 5397,     1007,2,    4.412,2,   34.557,2,   34.564,2,     1.81,1,     87.4,2,   -999.0,9,  -999.00,9,  -999.00,9,  -999.00,9,     -999,9,    85.24,2,    38.75,2,     0.00,2,     2.79,2,  -999.00,9,   2298.2,2,   7.5095,2,     4.33,    27.40
     49MR98K02, EQPAC,    12,  3,     18,     18,1,19990115, 724,  0.0016,-170.0855, 5397,     1261,2,    3.629,2,   34.580,2,   34.625,3,     1.86,1,     97.4,3,   -999.0,9,  -999.00,9,  -999.00,9,  -999.00,9,     -999,9,    96.34,3,    36.70,3,     0.02,3,     2.67,3,  -999.00,9,   -999.0,9,-999.0000,9,     3.53,    27.50
     49MR98K02, EQPAC,    12,  3,     17,     17,1,19990115, 724,  0.0016,-170.0855, 5397,     1514,2,    3.004,2,   34.606,2,   34.606,2,     1.93,1,     94.3,2,   -999.0,9,  -999.00,9,  -999.00,9,  -999.00,9,     -999,9,   120.46,2,    39.34,2,     0.00,2,     2.82,2,  -999.00,9,   2332.1,2,   7.5145,2,     2.89,    27.58
     49MR98K02, EQPAC,    12,  3,     16,     16,1,19990115, 724,  0.0016,-170.0855, 5397,     1767,2,    2.597,2,   34.624,2,   34.645,3,     2.11,1,    100.8,2,   -999.0,9,  -999.00,9,  -999.00,9,  -999.00,9,     -999,9,   115.58,3,    37.14,3,     0.01,3,     2.67,3,  -999.00,9,   -999.0,9,-999.0000,9,     2.47,    27.63
     49MR98K02, EQPAC,    12,  3,     15,     15,1,19990115, 724,  0.0016,-170.0855, 5397,     2021,2,    2.285,2,   34.639,2,   34.640,2,     2.29,1,    110.8,2,   -999.0,9,  -999.00,9,  -999.00,9,  -999.00,9,     -999,9,   134.97,2,    38.40,2,     0.00,2,     2.74,2,  -999.00,9,   2337.8,2,   7.5402,2,     2.14,    27.67
     49MR98K02, EQPAC,    12,  3,     14,     14,1,19990115, 724,  0.0016,-170.0855, 5397,     2274,2,    2.023,2,   34.654,2,   34.654,2,     2.46,1,    117.8,2,   -999.0,9,  -999.00,9,  -999.00,9,  -999.00,9,     -999,9,   139.99,2,    37.91,2,     0.00,2,     2.69,2,  -999.00,9,   2341.8,2,   7.5503,2,     1.86,    27.71
     49MR98K02, EQPAC,    12,  3,     13,     13,1,19990115, 724,  0.0016,-170.0855, 5397,     2529,2,    1.899,2,   34.660,2,   34.661,2,     2.59,1,    123.4,2,   -999.0,9,  -999.00,9,  -999.00,9,  -999.00,9,     -999,9,   141.52,2,    37.37,2,     0.00,2,     2.66,2,  -999.00,9,   2340.8,2,   7.5592,2,     1.72,    27.72
     49MR98K02, EQPAC,    12,  3,     12,     12,1,19990115, 724,  0.0016,-170.0855, 5397,     2784,2,    1.744,2,   34.669,2,   34.669,2,     2.76,1,    131.2,2,   -999.0,9,  -999.00,9,  -999.00,9,  -999.00,9,     -999,9,   143.88,2,    37.12,2,     0.00,2,     2.62,2,  -999.00,9,   2338.8,2,   7.5694,2,     1.54,    27.74
     49MR98K02, EQPAC,    12,  3,     11,     11,1,19990115, 724,  0.0016,-170.0855, 5397,     3039,2,    1.672,2,   34.673,2,   34.673,2,     2.84,1,    136.4,2,   -999.0,9,  -999.00,9,  -999.00,9,  -999.00,9,     -999,9,   143.24,2,    36.78,2,     0.00,2,     2.60,2,  -999.00,9,   2335.0,2,   7.5775,2,     1.45,    27.75
     49MR98K02, EQPAC,    12,  3,     10,     10,1,19990115, 724,  0.0016,-170.0855, 5397,     3295,2,    1.596,2,   34.678,2,   34.677,2,     3.06,1,    143.8,2,   -999.0,9,  -999.00,9,  -999.00,9,  -999.00,9,     -999,9,   141.14,2,    36.36,2,     0.00,2,     2.56,2,  -999.00,9,   2328.5,2,   7.5820,2,     1.35,    27.76
     49MR98K02, EQPAC,    12,  3,      9,      9,1,19990115, 724,  0.0016,-170.0855, 5397,     3549,2,    1.551,2,   34.682,2,   34.740,3,     3.20,1,     86.9,3,   -999.0,9,  -999.00,9,  -999.00,9,  -999.00,9,     -999,9,    61.46,3,    32.14,3,     0.03,3,     2.34,3,  -999.00,9,   -999.0,9,-999.0000,9,     1.28,    27.77
     49MR98K02, EQPAC,    12,  3,      8,      8,1,19990115, 724,  0.0016,-170.0855, 5397,     3804,2,    1.437,2,   34.691,2,   34.690,2,     3.48,1,    161.2,2,   -999.0,9,  -999.00,9,  -999.00,9,  -999.00,9,     -999,9,   137.10,2,    35.09,2,     0.00,2,     2.48,2,  -999.00,9,   2312.6,2,   7.6049,2,     1.14,    27.79
     49MR98K02, EQPAC,    12,  3,      7,      7,1,19990115, 724,  0.0016,-170.0855, 5397,     4061,2,    1.413,2,   34.694,2,   34.677,3,     3.59,1,    136.9,3,   -999.0,9,  -999.00,9,  -999.00,9,  -999.00,9,     -999,9,   129.06,3,    35.67,3,     0.00,3,     2.52,3,  -999.00,9,   -999.0,9,-999.0000,9,     1.09,    27.79
     49MR98K02, EQPAC,    12,  3,      6,      6,1,19990115, 724,  0.0016,-170.0855, 5397,     4318,2,    1.297,2,   34.701,2,   34.699,2,     3.96,1,    179.9,2,   -999.0,9,  -999.00,9,  -999.00,9,  -999.00,9,     -999,9,   130.93,2,    33.78,2,     0.00,2,     2.38,2,  -999.00,9,   2296.0,2,   7.6177,2,     0.95,    27.81
     49MR98K02, EQPAC,    12,  3,      5,      5,1,19990115, 724,  0.0016,-170.0855, 5397,     4574,2,    1.250,2,   34.704,2,   34.704,2,     4.17,1,    186.4,2,   -999.0,9,  -999.00,9,  -999.00,9,  -999.00,9,     -999,9,   125.63,2,    33.15,2,     0.00,2,     2.34,2,  -999.00,9,   2286.4,2,   7.6204,2,     0.87,    27.82
     49MR98K02, EQPAC,    12,  3,      4,      4,1,19990115, 724,  0.0016,-170.0855, 5397,     4831,2,    1.248,2,   34.706,2,   34.705,2,     4.25,1,    189.4,2,   -999.0,9,  -999.00,9,  -999.00,9,  -999.00,9,     -999,9,   123.62,2,    32.95,2,     0.00,2,     2.33,2,  -999.00,9,   2280.1,2,   7.6195,2,     0.84,    27.82
     49MR98K02, EQPAC,    12,  3,      3,      3,1,19990115, 724,  0.0016,-170.0855, 5397,     5089,2,    1.263,2,   34.706,2,   34.705,2,     4.34,1,    192.5,2,   -999.0,9,  -999.00,9,  -999.00,9,  -999.00,9,     -999,9,   123.90,2,    32.84,2,     0.00,2,     2.31,2,  -999.00,9,   2277.0,2,   7.6196,2,     0.83,    27.82
     49MR98K02, EQPAC,    12,  3,      2,      2,1,19990115, 724,  0.0016,-170.0855, 5397,     5344,2,    1.293,2,   34.706,2,   34.705,2,     4.38,1,    192.5,2,   -999.0,9,  -999.00,9,  -999.00,9,  -999.00,9,     -999,9,   121.61,2,    32.72,2,     0.00,2,     2.30,2,  -999.00,9,   2278.6,2,   7.6187,2,     0.82,    27.82
     49MR98K02, EQPAC,    12,  3,      1,      1,1,19990115, 724,  0.0016,-170.0855, 5397,     5464,2,    1.308,2,   34.706,2,   34.706,2,     4.42,1,    192.9,2,   -999.0,9,  -999.00,9,  -999.00,9,  -999.00,9,     -999,9,   121.14,2,    32.65,2,     0.00,2,     2.30,2,  -999.00,9,   2277.2,2,   7.6144,2,     0.82,    27.82