BOTTLE,20101227MIRCJHATS
EXPOCODE,SECT,STNNBR,CASTNO,SAMPNO,BTLNBR,BTLNBR_FLAG_W,DATE,TIME,LATITUDE,LONGITUDE,DEPTH,CTDPRS,CTDPRS_FLAG_W,CTDTMP,CTDTMP_FLAG_W,CTDSAL,CTDSAL_FLAG_W,SALNTY,SALNTY_FLAG_W,CTDOXY,CTDOXY_FLAG_W,OXYGEN,OXYGEN_FLAG_W,FLUOR,FLUOR_FLAG_W,CHLORA,CHLORA_FLAG_W,CHLWELSH,CHLWELSH_W,PPHYTN,PPHYTN_FLAG_W,XMISS,XMISS_FLAG_W,SILCAT,SILCAT_FLAG_W,NITRAT,NITRAT_FLAG_W,NITRIT,NITRIT_FLAG_W,PHSPHT,PHSPHT_FLAG_W,NH4,NH4_FLAG_W,TCARBN,TCARBN_FLAG_W,PH,PH_FLAG_W,THETA,SIG0
,,,,,,,,UTC,DEG,DEG,M,DBAR,,ITS-90,,PSS-78,,PSS-78,,ML/L,,UMOL/KG,,UG/L,,MG/CUM,,MG/CUM,,MG/CUM,,%TRANS,,UMOL/KG,,UMOL/KG,,UMOL/KG,,UMOL/KG,,UMOL/KG,,UMOL/KG,,-,,DEG C,KG/CUM
     49MR98K02, EQPAC,     3,  2,      1,      1,1,19990103,1325,  0.0073, 144.9980, 3638,       20,2,   29.755,2,   34.307,2, -999.000,9,     3.67,1,   -999.0,9,      0.0,1,  -999.00,9,  -999.00,9,  -999.00,9,       89,1,  -999.00,9,  -999.00,9,  -999.00,9,  -999.00,9,  -999.00,9,   -999.0,9,-999.0000,9,    29.75,    21.29
     49MR98K02, EQPAC,     3,  2,      2,      2,1,19990103,1325,  0.0073, 144.9980, 3638,       41,2,   29.726,2,   34.363,2, -999.000,9,     3.63,1,   -999.0,9,      0.0,1,  -999.00,9,  -999.00,9,  -999.00,9,       89,1,  -999.00,9,  -999.00,9,  -999.00,9,  -999.00,9,  -999.00,9,   -999.0,9,-999.0000,9,    29.72,    21.35
     49MR98K02, EQPAC,     3,  2,      3,      3,1,19990103,1325,  0.0073, 144.9980, 3638,       61,2,   29.593,2,   34.402,2, -999.000,9,     3.59,1,   -999.0,9,      0.0,1,  -999.00,9,  -999.00,9,  -999.00,9,       89,1,  -999.00,9,  -999.00,9,  -999.00,9,  -999.00,9,  -999.00,9,   -999.0,9,-999.0000,9,    29.58,    21.42
     49MR98K02, EQPAC,     3,  2,      4,      4,1,19990103,1325,  0.0073, 144.9980, 3638,       81,2,   29.552,2,   34.529,2, -999.000,9,     3.57,1,   -999.0,9,      0.0,1,  -999.00,9,  -999.00,9,  -999.00,9,       89,1,  -999.00,9,  -999.00,9,  -999.00,9,  -999.00,9,  -999.00,9,   -999.0,9,-999.0000,9,    29.53,    21.53
     49MR98K02, EQPAC,     3,  2,     11,     11,1,19990103,1325,  0.0073, 144.9980, 3638,       90,2,   29.569,2,   34.596,2, -999.000,9,     3.52,1,   -999.0,9,      0.0,1,  -999.00,9,  -999.00,9,  -999.00,9,       89,1,  -999.00,9,  -999.00,9,  -999.00,9,  -999.00,9,  -999.00,9,   -999.0,9,-999.0000,9,    29.55,    21.58
     49MR98K02, EQPAC,     3,  2,      5,      5,1,19990103,1325,  0.0073, 144.9980, 3638,      100,2,   29.439,2,   34.637,2, -999.000,9,     3.54,1,   -999.0,9,      0.0,1,  -999.00,9,  -999.00,9,  -999.00,9,       89,1,  -999.00,9,  -999.00,9,  -999.00,9,  -999.00,9,  -999.00,9,   -999.0,9,-999.0000,9,    29.41,    21.65
     49MR98K02, EQPAC,     3,  2,      6,      6,1,19990103,1325,  0.0073, 144.9980, 3638,      122,2,   24.859,2,   35.107,2, -999.000,9,     3.13,1,   -999.0,9,      0.0,1,  -999.00,9,  -999.00,9,  -999.00,9,       89,1,  -999.00,9,  -999.00,9,  -999.00,9,  -999.00,9,  -999.00,9,   -999.0,9,-999.0000,9,    24.83,    23.47
     49MR98K02, EQPAC,     3,  2,      7,      7,1,19990103,1325,  0.0073, 144.9980, 3638,      142,2,   23.558,2,   35.239,2, -999.000,9,     3.02,1,   -999.0,9,      0.0,1,  -999.00,9,  -999.00,9,  -999.00,9,       89,1,  -999.00,9,  -999.00,9,  -999.00,9,  -999.00,9,  -999.00,9,   -999.0,9,-999.0000,9,    23.53,    23.96
     49MR98K02, EQPAC,     3,  2,      8,      8,1,19990103,1325,  0.0073, 144.9980, 3638,      161,2,   22.352,2,   35.512,2, -999.000,9,     2.98,1,   -999.0,9,      0.0,1,  -999.00,9,  -999.00,9,  -999.00,9,       90,1,  -999.00,9,  -999.00,9,  -999.00,9,  -999.00,9,  -999.00,9,   -999.0,9,-999.0000,9,    22.32,    24.52
     49MR98K02, EQPAC,     3,  2,      9,      9,1,19990103,1325,  0.0073, 144.9980, 3638,      181,2,   19.249,2,   35.416,2, -999.000,9,     3.03,1,   -999.0,9,      0.0,1,  -999.00,9,  -999.00,9,  -999.00,9,       90,1,  -999.00,9,  -999.00,9,  -999.00,9,  -999.00,9,  -999.00,9,   -999.0,9,-999.0000,9,    19.22,    25.28
     49MR98K02, EQPAC,     3,  2,     10,     10,1,19990103,1325,  0.0073, 144.9980, 3638,      202,2,   18.134,2,   35.426,2, -999.000,9,     3.02,1,   -999.0,9,      0.0,1,  -999.00,9,  -999.00,9,  -999.00,9,       90,1,  -999.00,9,  -999.00,9,  -999.00,9,  -999.00,9,  -999.00,9,   -999.0,9,-999.0000,9,    18.10,    25.57
     49MR98K02, EQPAC,     3,  2,     12,     12,1,19990103,1325,  0.0073, 144.9980, 3638,       20,2,   29.757,2,   34.305,2, -999.000,9,     3.68,1,   -999.0,9,      0.0,1,  -999.00,9,  -999.00,9,  -999.00,9,       89,1,  -999.00,9,  -999.00,9,  -999.00,9,  -999.00,9,  -999.00,9,   -999.0,9,-999.0000,9,    29.75,    21.29
     49MR98K02, EQPAC,     3,  2,     13,     13,1,19990103,1325,  0.0073, 144.9980, 3638,       41,2,   29.729,2,   34.363,2, -999.000,9,     3.62,1,   -999.0,9,      0.0,1,  -999.00,9,  -999.00,9,  -999.00,9,       89,1,  -999.00,9,  -999.00,9,  -999.00,9,  -999.00,9,  -999.00,9,   -999.0,9,-999.0000,9,    29.72,    21.34
     49MR98K02, EQPAC,     3,  2,     14,     14,1,19990103,1325,  0.0073, 144.9980, 3638,       61,2,   29.596,2,   34.401,2, -999.000,9,     3.60,1,   -999.0,9,      0.0,1,  -999.00,9,  -999.00,9,  -999.00,9,       89,1,  -999.00,9,  -999.00,9,  -999.00,9,  -999.00,9,  -999.00,9,   -999.0,9,-999.0000,9,    29.58,    21.42
     49MR98K02, EQPAC,     3,  2,     15,     15,1,19990103,1325,  0.0073, 144.9980, 3638,       81,2,   29.552,2,   34.527,2, -999.000,9,     3.56,1,   -999.0,9,      0.0,1,  -999.00,9,  -999.00,9,  -999.00,9,       89,1,  -999.00,9,  -999.00,9,  -999.00,9,  -999.00,9,  -999.00,9,   -999.0,9,-999.0000,9,    29.53,    21.53
     49MR98K02, EQPAC,     3,  2,     24,     24,1,19990103,1325,  0.0073, 144.9980, 3638,       90,2,   29.566,2,   34.600,2, -999.000,9,     3.53,1,   -999.0,9,      0.0,1,  -999.00,9,  -999.00,9,  -999.00,9,       89,1,  -999.00,9,  -999.00,9,  -999.00,9,  -999.00,9,  -999.00,9,   -999.0,9,-999.0000,9,    29.54,    21.58
     49MR98K02, EQPAC,     3,  2,     23,     23,1,19990103,1325,  0.0073, 144.9980, 3638,       91,2,   29.566,2,   34.601,2, -999.000,9,     3.50,1,   -999.0,9,      0.0,1,  -999.00,9,  -999.00,9,  -999.00,9,       89,1,  -999.00,9,  -999.00,9,  -999.00,9,  -999.00,9,  -999.00,9,   -999.0,9,-999.0000,9,    29.54,    21.58
     49MR98K02, EQPAC,     3,  2,     16,     16,1,19990103,1325,  0.0073, 144.9980, 3638,      100,2,   29.425,2,   34.617,2, -999.000,9,     3.56,1,   -999.0,9,      0.0,1,  -999.00,9,  -999.00,9,  -999.00,9,       89,1,  -999.00,9,  -999.00,9,  -999.00,9,  -999.00,9,  -999.00,9,   -999.0,9,-999.0000,9,    29.40,    21.64
     49MR98K02, EQPAC,     3,  2,     17,     17,1,19990103,1325,  0.0073, 144.9980, 3638,      121,2,   24.844,2,   35.109,2, -999.000,9,     3.11,1,   -999.0,9,      0.0,1,  -999.00,9,  -999.00,9,  -999.00,9,       89,1,  -999.00,9,  -999.00,9,  -999.00,9,  -999.00,9,  -999.00,9,   -999.0,9,-999.0000,9,    24.82,    23.48
     49MR98K02, EQPAC,     3,  2,     18,     18,1,19990103,1325,  0.0073, 144.9980, 3638,      140,2,   23.580,2,   35.224,2, -999.000,9,     3.04,1,   -999.0,9,      0.0,1,  -999.00,9,  -999.00,9,  -999.00,9,       89,1,  -999.00,9,  -999.00,9,  -999.00,9,  -999.00,9,  -999.00,9,   -999.0,9,-999.0000,9,    23.55,    23.94
     49MR98K02, EQPAC,     3,  2,     19,     19,1,19990103,1325,  0.0073, 144.9980, 3638,      161,2,   22.379,2,   35.510,2, -999.000,9,     2.97,1,   -999.0,9,      0.0,1,  -999.00,9,  -999.00,9,  -999.00,9,       90,1,  -999.00,9,  -999.00,9,  -999.00,9,  -999.00,9,  -999.00,9,   -999.0,9,-999.0000,9,    22.35,    24.51
     49MR98K02, EQPAC,     3,  2,     20,     20,1,19990103,1325,  0.0073, 144.9980, 3638,      182,2,   19.072,2,   35.412,2, -999.000,9,     3.05,1,   -999.0,9,      0.0,1,  -999.00,9,  -999.00,9,  -999.00,9,       90,1,  -999.00,9,  -999.00,9,  -999.00,9,  -999.00,9,  -999.00,9,   -999.0,9,-999.0000,9,    19.04,    25.33
     49MR98K02, EQPAC,     3,  2,     21,     21,1,19990103,1325,  0.0073, 144.9980, 3638,      203,2,   18.024,2,   35.425,2, -999.000,9,     3.04,1,   -999.0,9,      0.0,1,  -999.00,9,  -999.00,9,  -999.00,9,       90,1,  -999.00,9,  -999.00,9,  -999.00,9,  -999.00,9,  -999.00,9,   -999.0,9,-999.0000,9,    17.99,    25.60
     49MR98K02, EQPAC,     3,  3,     24,     24,1,19990103,1841,  0.0247, 145.0006, 3638,      302,2,   12.059,2,   34.864,2,   34.859,2,     2.78,1,    134.4,2,   -999.0,9,  -999.00,9,  -999.00,9,  -999.00,9,     -999,9,    20.71,2,    20.79,2,     0.00,2,     1.55,2,  -999.00,9,   2159.2,2,   7.7395,2,    12.02,    26.48
     49MR98K02, EQPAC,     3,  3,     23,     23,1,19990103,1841,  0.0247, 145.0006, 3638,      353,2,   10.579,2,   34.761,2,   34.760,2,     1.65,1,     81.3,2,   -999.0,9,  -999.00,9,  -999.00,9,  -999.00,9,     -999,9,    25.60,2,    28.93,2,     0.00,2,     2.07,2,  -999.00,9,   2207.8,2,   7.6077,2,    10.54,    26.67
     49MR98K02, EQPAC,     3,  3,     22,     22,1,19990103,1841,  0.0247, 145.0006, 3638,      402,2,    9.384,2,   34.684,2,   34.684,2,     1.91,1,     92.6,2,   -999.0,9,  -999.00,9,  -999.00,9,  -999.00,9,     -999,9,    28.68,2,    30.00,2,     0.01,2,     2.15,2,  -999.00,9,   2215.4,2,   7.6016,2,     9.34,    26.82
     49MR98K02, EQPAC,     3,  3,     21,     21,1,19990103,1841,  0.0247, 145.0006, 3638,      503,2,    8.245,2,   34.612,2,   34.608,2,     2.53,1,    121.8,2,   -999.0,9,  -999.00,9,  -999.00,9,  -999.00,9,     -999,9,    31.49,2,    29.57,2,     0.01,2,     2.12,2,  -999.00,9,   2207.1,2,   7.6213,2,     8.19,    26.94
     49MR98K02, EQPAC,     3,  3,     20,     20,1,19990103,1841,  0.0247, 145.0006, 3638,      604,2,    7.101,2,   34.559,2,   34.558,2,     2.54,1,    121.8,2,   -999.0,9,  -999.00,9,  -999.00,9,  -999.00,9,     -999,9,    39.32,2,    31.84,2,     0.02,2,     2.29,2,  -999.00,9,   2219.4,2,   7.5986,2,     7.04,    27.07
     49MR98K02, EQPAC,     3,  3,     19,     19,1,19990103,1841,  0.0247, 145.0006, 3638,      705,2,    6.187,2,   34.530,2,   34.530,2,     2.63,1,    125.7,2,   -999.0,9,  -999.00,9,  -999.00,9,  -999.00,9,     -999,9,    45.81,2,    32.80,2,     0.02,2,     2.37,2,  -999.00,9,   2232.6,2,   7.5878,2,     6.12,    27.17
     49MR98K02, EQPAC,     3,  3,     18,     18,1,19990103,1841,  0.0247, 145.0006, 3638,      805,2,    5.109,2,   34.531,2,   34.531,2,     2.44,1,    117.8,2,   -999.0,9,  -999.00,9,  -999.00,9,  -999.00,9,     -999,9,    66.04,2,    35.66,2,     0.01,2,     2.59,2,  -999.00,9,   2260.9,2,   7.5633,2,     5.04,    27.30
     49MR98K02, EQPAC,     3,  3,     17,     17,1,19990103,1841,  0.0247, 145.0006, 3638,      907,2,    4.768,2,   34.545,2,   34.545,2,     2.20,1,    106.9,2,   -999.0,9,  -999.00,9,  -999.00,9,  -999.00,9,     -999,9,    77.04,2,    36.84,2,     0.02,2,     2.69,2,  -999.00,9,   2277.3,2,   7.5463,2,     4.69,    27.35
     49MR98K02, EQPAC,     3,  3,     16,     16,1,19990103,1841,  0.0247, 145.0006, 3638,     1008,2,    4.338,2,   34.558,2,   34.558,2,     2.02,1,     98.7,2,   -999.0,9,  -999.00,9,  -999.00,9,  -999.00,9,     -999,9,    87.25,2,    38.21,2,     0.02,2,     2.83,2,  -999.00,9,   2294.1,2,   7.5298,2,     4.26,    27.41
     49MR98K02, EQPAC,     3,  3,     15,     15,1,19990103,1841,  0.0247, 145.0006, 3638,     1109,2,    4.113,2,   34.563,2,   34.564,2,     2.04,1,     99.5,2,   -999.0,9,  -999.00,9,  -999.00,9,  -999.00,9,     -999,9,    91.73,2,    38.47,2,     0.02,2,     2.79,2,  -999.00,9,   2298.0,2,   7.5338,2,     4.03,    27.44
     49MR98K02, EQPAC,     3,  3,     14,     14,1,19990103,1841,  0.0247, 145.0006, 3638,     1209,2,    3.803,2,   34.573,2,   34.573,2,     2.08,1,    101.7,2,   -999.0,9,  -999.00,9,  -999.00,9,  -999.00,9,     -999,9,    99.25,2,    38.73,2,     0.00,2,     2.79,2,  -999.00,9,   2304.4,2,   7.5287,2,     3.71,    27.48
     49MR98K02, EQPAC,     3,  3,     13,     13,1,19990103,1841,  0.0247, 145.0006, 3638,     1412,2,    3.230,2,   34.590,2,   34.590,2,     2.23,1,    108.7,2,   -999.0,9,  -999.00,9,  -999.00,9,  -999.00,9,     -999,9,   109.29,2,    38.44,2,     0.01,2,     2.77,2,  -999.00,9,   2313.4,2,   7.5160,2,     3.13,    27.55
     49MR98K02, EQPAC,     3,  3,     12,     12,1,19990103,1841,  0.0247, 145.0006, 3638,     1615,2,    2.814,2,   34.610,2,   34.610,2,     2.24,1,    109.1,2,   -999.0,9,  -999.00,9,  -999.00,9,  -999.00,9,     -999,9,   119.81,2,    38.91,2,     0.01,2,     2.77,2,  -999.00,9,   2324.2,2,   7.5423,2,     2.70,    27.60
     49MR98K02, EQPAC,     3,  3,     11,     11,1,19990103,1841,  0.0247, 145.0006, 3638,     1818,2,    2.430,2,   34.628,2,   34.657,3,     2.36,1,    129.9,3,   -999.0,9,  -999.00,9,  -999.00,9,  -999.00,9,     -999,9,   141.40,3,    37.92,3,     0.00,3,     2.68,3,  -999.00,9,   -999.0,9,-999.0000,9,     2.30,    27.65
     49MR98K02, EQPAC,     3,  3,     10,     10,1,19990103,1841,  0.0247, 145.0006, 3638,     2021,2,    2.279,2,   34.636,2,   34.656,3,     2.46,1,    129.9,3,   -999.0,9,  -999.00,9,  -999.00,9,  -999.00,9,     -999,9,   141.86,3,    38.09,3,     0.00,3,     2.69,3,  -999.00,9,   -999.0,9,-999.0000,9,     2.14,    27.67
     49MR98K02, EQPAC,     3,  3,      9,      9,1,19990103,1841,  0.0247, 145.0006, 3638,     2224,2,    2.058,2,   34.648,2,   34.655,2,     2.59,1,    129.9,2,   -999.0,9,  -999.00,9,  -999.00,9,  -999.00,9,     -999,9,   140.86,2,    37.98,2,     0.00,2,     2.66,2,  -999.00,9,   -999.0,9,-999.0000,9,     1.90,    27.70
     49MR98K02, EQPAC,     3,  3,      8,      8,1,19990103,1841,  0.0247, 145.0006, 3638,     -999,9, -999.000,9, -999.000,9,   34.663,2,  -999.00,9,   -999.0,9,   -999.0,9,  -999.00,9,  -999.00,9,  -999.00,9,     -999,9,   140.77,2,    37.42,2,     0.01,2,     2.63,2,  -999.00,9,   -999.0,9,-999.0000,9,  -999.00,  -999.00
     49MR98K02, EQPAC,     3,  3,      7,      7,1,19990103,1841,  0.0247, 145.0006, 3638,     2630,2,    1.726,2,   34.665,2,   34.664,2,     2.86,1,    135.6,2,   -999.0,9,  -999.00,9,  -999.00,9,  -999.00,9,     -999,9,   140.17,2,    37.40,2,     0.01,2,     2.63,2,  -999.00,9,   2330.7,2,   7.5716,2,     1.54,    27.74
     49MR98K02, EQPAC,     3,  3,      6,      6,1,19990103,1841,  0.0247, 145.0006, 3638,     2835,2,    1.661,2,   34.669,2,   34.668,2,     2.95,1,    140.4,2,   -999.0,9,  -999.00,9,  -999.00,9,  -999.00,9,     -999,9,   142.36,2,    37.26,2,     0.01,2,     2.63,2,  -999.00,9,   2329.9,2,   7.5772,2,     1.46,    27.75
     49MR98K02, EQPAC,     3,  3,      5,      5,1,19990103,1841,  0.0247, 145.0006, 3638,     3038,2,    1.610,2,   34.673,2,   34.672,2,     3.04,1,    142.5,2,   -999.0,9,  -999.00,9,  -999.00,9,  -999.00,9,     -999,9,   141.91,2,    37.10,2,     0.01,2,     2.61,2,  -999.00,9,   2328.0,2,   7.5810,2,     1.39,    27.76
     49MR98K02, EQPAC,     3,  3,      4,      4,1,19990103,1841,  0.0247, 145.0006, 3638,     3242,2,    1.581,2,   34.676,2,   34.677,2,     3.11,1,    145.1,2,   -999.0,9,  -999.00,9,  -999.00,9,  -999.00,9,     -999,9,   140.77,2,    36.96,2,     0.02,2,     2.59,2,  -999.00,9,   2327.0,2,   7.5799,2,     1.34,    27.76
     49MR98K02, EQPAC,     3,  3,      3,      3,1,19990103,1841,  0.0247, 145.0006, 3638,     3447,2,    1.560,2,   34.680,2,   34.679,2,     3.19,1,    147.7,2,   -999.0,9,  -999.00,9,  -999.00,9,  -999.00,9,     -999,9,   140.34,2,    36.54,2,     0.02,2,     2.57,2,  -999.00,9,   2325.4,2,   7.5847,2,     1.30,    27.77
     49MR98K02, EQPAC,     3,  3,      2,      2,1,19990103,1841,  0.0247, 145.0006, 3638,     3549,2,    1.557,2,   34.681,2,   34.680,2,     3.21,1,    148.2,2,   -999.0,9,  -999.00,9,  -999.00,9,  -999.00,9,     -999,9,   139.94,2,    36.58,2,     0.02,2,     2.55,2,  -999.00,9,   2321.8,2,   7.5864,2,     1.28,    27.77
     49MR98K02, EQPAC,     3,  3,      1,      1,1,19990103,1841,  0.0247, 145.0006, 3638,     3612,2,    1.557,2,   34.681,2,   34.680,2,     3.23,1,    149.0,2,   -999.0,9,  -999.00,9,  -999.00,9,  -999.00,9,     -999,9,   140.03,2,    36.31,2,     0.01,2,     2.52,2,  -999.00,9,   2326.9,2,   7.5877,2,     1.28,    27.77