BOTTLE,20101227MIRCJHATS
EXPOCODE,SECT,STNNBR,CASTNO,SAMPNO,BTLNBR,BTLNBR_FLAG_W,DATE,TIME,LATITUDE,LONGITUDE,DEPTH,CTDPRS,CTDPRS_FLAG_W,CTDTMP,CTDTMP_FLAG_W,CTDSAL,CTDSAL_FLAG_W,SALNTY,SALNTY_FLAG_W,CTDOXY,CTDOXY_FLAG_W,OXYGEN,OXYGEN_FLAG_W,FLUOR,FLUOR_FLAG_W,CHLORA,CHLORA_FLAG_W,CHLWELSH,CHLWELSH_W,PPHYTN,PPHYTN_FLAG_W,XMISS,XMISS_FLAG_W,SILCAT,SILCAT_FLAG_W,NITRAT,NITRAT_FLAG_W,NITRIT,NITRIT_FLAG_W,PHSPHT,PHSPHT_FLAG_W,NH4,NH4_FLAG_W,TCARBN,TCARBN_FLAG_W,PH,PH_FLAG_W,THETA,SIG0
,,,,,,,,UTC,DEG,DEG,M,DBAR,,ITS-90,,PSS-78,,PSS-78,,ML/L,,UMOL/KG,,UG/L,,MG/CUM,,MG/CUM,,MG/CUM,,%TRANS,,UMOL/KG,,UMOL/KG,,UMOL/KG,,UMOL/KG,,UMOL/KG,,UMOL/KG,,-,,DEG C,KG/CUM
     49MR98K02, EQPAC,     5,  1,      0,      0,1,19990106, 103, -0.0011, 153.2636, 4153,     -999,9,   30.100,2, -999.000,9,   34.442,2,  -999.00,9,    195.5,2,   -999.0,9,     0.11,2,     0.11,2,     0.04,2,     -999,9,     1.22,2,     0.00,2,     0.00,2,     0.06,2,     0.00,3,   1897.6,6,   8.1494,2,  -999.00,  -999.00
     49MR98K02, EQPAC,     5,  1,      1,      1,1,19990106, 111, -0.0010, 153.2635, 4153,       14,2,   30.221,2,   34.419,2,   34.423,2,     3.58,1,    196.4,2,      0.3,1,     0.10,2,     0.09,2,     0.04,2,     -999,9,     1.30,2,     0.02,2,     0.00,2,     0.05,2,     0.00,3,   1897.1,2,   8.1569,2,    30.22,    21.22
     49MR98K02, EQPAC,     5,  1,      2,      2,1,19990106, 111, -0.0010, 153.2635, 4153,       30,2,   30.163,2,   34.418,2,   34.423,2,     3.56,1,    197.7,2,      0.4,1,     0.10,2,     0.10,2,     0.04,2,     -999,9,     1.28,2,     0.00,2,     0.00,2,     0.06,2,     0.05,3,   1895.4,2,   8.1549,2,    30.16,    21.24
     49MR98K02, EQPAC,     5,  1,      3,      3,1,19990106, 111, -0.0010, 153.2635, 4153,       40,2,   30.166,2,   34.421,2,   34.428,2,     3.56,1,    198.1,2,      0.5,1,     0.10,2,     0.10,2,     0.04,2,     -999,9,     1.28,2,     0.01,2,     0.00,2,     0.06,2,     0.18,3,   1898.6,2,   8.1578,2,    30.16,    21.24
     49MR98K02, EQPAC,     5,  1,      4,      4,1,19990106, 111, -0.0010, 153.2635, 4153,       50,2,   30.240,2,   34.607,2,   34.612,2,     3.56,1,    198.1,2,      0.5,1,     0.13,2,     0.13,2,     0.07,2,     -999,9,     1.32,2,     0.00,2,     0.00,2,     0.13,2,     0.15,3,   1918.0,2,   8.1411,2,    30.23,    21.35
     49MR98K02, EQPAC,     5,  1,      5,      5,1,19990106, 111, -0.0010, 153.2635, 4153,       62,2,   30.047,2,   34.773,2,   34.779,2,     3.58,1,    199.4,2,      0.5,1,     0.11,2,     0.12,2,     0.07,2,     -999,9,     1.35,2,     0.01,2,     0.00,2,     0.17,2,     0.15,3,   1931.7,2,   8.1332,2,    30.03,    21.55
     49MR98K02, EQPAC,     5,  1,      6,      6,1,19990106, 111, -0.0010, 153.2635, 4153,       70,2,   29.946,2,   34.821,2,   34.826,2,     3.57,1,    196.7,2,      0.6,1,     0.16,2,     0.18,2,     0.12,2,     -999,9,     1.39,2,     0.00,2,     0.00,2,     0.17,2,     0.29,3,   1939.1,2,   8.1268,2,    29.93,    21.62
     49MR98K02, EQPAC,     5,  1,      7,      7,1,19990106, 111, -0.0010, 153.2635, 4153,       82,2,   29.543,2,   34.927,2,   34.935,2,     3.55,1,    196.7,2,      1.4,1,     0.33,2,     0.34,2,     0.19,2,     -999,9,     1.46,2,     0.00,2,     0.00,2,     0.20,2,     0.27,3,   1953.4,2,   8.1140,2,    29.52,    21.83
     49MR98K02, EQPAC,     5,  1,      8,      8,1,19990106, 111, -0.0010, 153.2635, 4153,       91,2,   29.348,2,   34.972,2,   34.980,2,     3.61,1,    196.2,2,      1.4,1,     0.28,2,     0.29,2,     0.18,2,     -999,9,     1.46,2,     0.00,2,     0.00,2,     0.21,2,     0.36,3,   1958.3,2,   8.1101,2,    29.33,    21.93
     49MR98K02, EQPAC,     5,  1,      9,      9,1,19990106, 111, -0.0010, 153.2635, 4153,      100,2,   27.562,2,   35.143,2,   35.158,2,     3.41,1,    194.8,2,      1.1,1,     0.23,2,     0.27,2,     0.14,2,     -999,9,     1.67,2,     1.44,2,     0.27,2,     0.33,2,     0.01,3,   1991.5,2,   8.0698,2,    27.54,    22.65
     49MR98K02, EQPAC,     5,  1,     10,     10,1,19990106, 111, -0.0010, 153.2635, 4153,      120,2,   25.547,2,   35.426,2,   35.477,2,     3.18,1,    163.2,2,      0.7,1,     0.09,2,     0.12,2,     0.16,2,     -999,9,     1.72,2,     3.79,2,     0.06,2,     0.47,2,     0.17,3,   2028.0,2,   8.0351,2,    25.52,    23.50
     49MR98K02, EQPAC,     5,  1,     11,     11,1,19990106, 111, -0.0010, 153.2635, 4153,      150,2,   20.745,2,   35.379,2,   35.388,2,     2.97,1,    148.2,2,      0.3,1,     0.03,2,     0.04,2,     0.05,2,     -999,9,     4.61,2,     8.86,2,     0.00,2,     0.75,2,     0.14,3,   2077.1,2,   7.9419,2,    20.72,    24.86
     49MR98K02, EQPAC,     5,  1,     12,     12,1,19990106, 111, -0.0010, 153.2635, 4153,      201,2,   17.153,2,   35.278,2,   35.246,2,     3.02,1,    148.0,2,      0.2,1,     0.00,2,     0.01,2,     0.02,2,     -999,9,     7.95,2,    12.64,2,     0.00,2,     1.01,2,     0.19,3,   2107.4,2,   7.8749,2,    17.12,    25.70
     49MR98K02, EQPAC,     5,  1,     13,     13,1,19990106, 111, -0.0010, 153.2635, 4153,       20,2,   30.168,2,   34.418,2, -999.000,9,     3.56,1,   -999.0,9,      0.3,1,  -999.00,9,  -999.00,9,  -999.00,9,     -999,9,  -999.00,9,  -999.00,9,  -999.00,9,  -999.00,9,  -999.00,9,   -999.0,9,-999.0000,9,    30.16,    21.23
     49MR98K02, EQPAC,     5,  1,     24,     24,1,19990106, 111, -0.0010, 153.2635, 4153,       30,2,   30.164,2,   34.419,2, -999.000,9,     3.57,1,   -999.0,9,      0.4,1,  -999.00,9,  -999.00,9,  -999.00,9,     -999,9,  -999.00,9,  -999.00,9,  -999.00,9,  -999.00,9,  -999.00,9,   -999.0,9,-999.0000,9,    30.16,    21.24
     49MR98K02, EQPAC,     5,  1,     14,     14,1,19990106, 111, -0.0010, 153.2635, 4153,       40,2,   30.165,2,   34.419,2, -999.000,9,     3.55,1,   -999.0,9,      0.4,1,  -999.00,9,  -999.00,9,  -999.00,9,     -999,9,  -999.00,9,  -999.00,9,  -999.00,9,  -999.00,9,  -999.00,9,   -999.0,9,-999.0000,9,    30.15,    21.24
     49MR98K02, EQPAC,     5,  1,     15,     15,1,19990106, 111, -0.0010, 153.2635, 4153,       62,2,   30.045,2,   34.773,2, -999.000,9,     3.58,1,   -999.0,9,      0.5,1,  -999.00,9,  -999.00,9,  -999.00,9,     -999,9,  -999.00,9,  -999.00,9,  -999.00,9,  -999.00,9,  -999.00,9,   -999.0,9,-999.0000,9,    30.03,    21.55
     49MR98K02, EQPAC,     5,  1,     16,     16,1,19990106, 111, -0.0010, 153.2635, 4153,       81,2,   29.556,2,   34.923,2, -999.000,9,     3.54,1,   -999.0,9,      1.4,1,  -999.00,9,  -999.00,9,  -999.00,9,     -999,9,  -999.00,9,  -999.00,9,  -999.00,9,  -999.00,9,  -999.00,9,   -999.0,9,-999.0000,9,    29.54,    21.83
     49MR98K02, EQPAC,     5,  1,     23,     23,1,19990106, 111, -0.0010, 153.2635, 4153,       91,2,   29.304,2,   34.977,2, -999.000,9,     3.60,1,   -999.0,9,      1.4,1,  -999.00,9,  -999.00,9,  -999.00,9,     -999,9,  -999.00,9,  -999.00,9,  -999.00,9,  -999.00,9,  -999.00,9,   -999.0,9,-999.0000,9,    29.28,    21.95
     49MR98K02, EQPAC,     5,  1,     17,     17,1,19990106, 111, -0.0010, 153.2635, 4153,       99,2,   27.599,2,   35.142,2, -999.000,9,     3.41,1,   -999.0,9,      1.1,1,  -999.00,9,  -999.00,9,  -999.00,9,     -999,9,  -999.00,9,  -999.00,9,  -999.00,9,  -999.00,9,  -999.00,9,   -999.0,9,-999.0000,9,    27.58,    22.64
     49MR98K02, EQPAC,     5,  1,     18,     18,1,19990106, 111, -0.0010, 153.2635, 4153,      120,2,   25.077,2,   35.475,2, -999.000,9,     3.15,1,   -999.0,9,      0.6,1,  -999.00,9,  -999.00,9,  -999.00,9,     -999,9,  -999.00,9,  -999.00,9,  -999.00,9,  -999.00,9,  -999.00,9,   -999.0,9,-999.0000,9,    25.05,    23.68
     49MR98K02, EQPAC,     5,  1,     19,     19,1,19990106, 111, -0.0010, 153.2635, 4153,      140,2,   22.171,2,   35.438,2, -999.000,9,     2.96,1,   -999.0,9,      0.4,1,  -999.00,9,  -999.00,9,  -999.00,9,     -999,9,  -999.00,9,  -999.00,9,  -999.00,9,  -999.00,9,  -999.00,9,   -999.0,9,-999.0000,9,    22.14,    24.51
     49MR98K02, EQPAC,     5,  1,     20,     20,1,19990106, 111, -0.0010, 153.2635, 4153,      161,2,   19.653,2,   35.366,2, -999.000,9,     2.98,1,   -999.0,9,      0.2,1,  -999.00,9,  -999.00,9,  -999.00,9,     -999,9,  -999.00,9,  -999.00,9,  -999.00,9,  -999.00,9,  -999.00,9,   -999.0,9,-999.0000,9,    19.62,    25.14
     49MR98K02, EQPAC,     5,  1,     21,     21,1,19990106, 111, -0.0010, 153.2635, 4153,      181,2,   17.302,2,   35.042,2, -999.000,9,     2.99,1,   -999.0,9,      0.2,1,  -999.00,9,  -999.00,9,  -999.00,9,     -999,9,  -999.00,9,  -999.00,9,  -999.00,9,  -999.00,9,  -999.00,9,   -999.0,9,-999.0000,9,    17.27,    25.48
     49MR98K02, EQPAC,     5,  1,     22,     22,1,19990106, 111, -0.0010, 153.2635, 4153,      200,2,   17.211,2,   35.252,2, -999.000,9,     3.03,1,   -999.0,9,      0.2,1,  -999.00,9,  -999.00,9,  -999.00,9,     -999,9,  -999.00,9,  -999.00,9,  -999.00,9,  -999.00,9,  -999.00,9,   -999.0,9,-999.0000,9,    17.18,    25.67
     49MR98K02, EQPAC,     6,  1,      0,      0,1,19990107, 655,  0.0025, 160.0000, 2800,     -999,9,   29.000,2, -999.000,9,   35.066,2,  -999.00,9,   -999.0,9,   -999.0,9,     0.07,2,     0.07,2,     0.03,2,     -999,9,     1.31,2,     0.00,2,     0.00,2,     0.22,2,     0.03,3,   -999.0,9,-999.0000,9,  -999.00,  -999.00
     49MR98K02, EQPAC,     6,  1,     12,     12,1,19990107, 658,  0.0028, 160.0002, 2800,       10,2,   28.960,2,   35.051,2,   35.056,2,     4.22,1,   -999.0,9,      0.2,1,     0.08,2,     0.08,2,     0.03,2,       77,1,     1.16,2,     0.00,2,     0.00,2,     0.21,2,     0.00,3,   -999.0,9,-999.0000,9,    28.96,    22.12
     49MR98K02, EQPAC,     6,  1,     11,     11,1,19990107, 658,  0.0028, 160.0002, 2800,       20,2,   28.884,2,   35.047,2,   35.053,2,     4.23,1,   -999.0,9,      0.2,1,     0.07,2,     0.08,2,     0.04,2,       77,1,     1.28,2,     0.00,2,     0.00,2,     0.21,2,     0.07,3,   -999.0,9,-999.0000,9,    28.88,    22.14
     49MR98K02, EQPAC,     6,  1,     10,     10,1,19990107, 658,  0.0028, 160.0002, 2800,       31,2,   28.862,2,   35.047,2,   35.051,2,     4.22,1,   -999.0,9,      0.2,1,     0.11,2,     0.10,2,     0.04,2,       76,1,     1.28,2,     0.00,2,     0.00,2,     0.21,2,     0.15,3,   -999.0,9,-999.0000,9,    28.85,    22.15
     49MR98K02, EQPAC,     6,  1,      9,      9,1,19990107, 658,  0.0028, 160.0002, 2800,       40,2,   28.854,2,   35.047,2,   35.051,2,     4.25,1,   -999.0,9,      0.3,1,     0.10,2,     0.11,2,     0.06,2,       76,1,     1.30,2,     0.00,2,     0.00,2,     0.21,2,     0.20,3,   -999.0,9,-999.0000,9,    28.84,    22.15
     49MR98K02, EQPAC,     6,  1,      8,      8,1,19990107, 658,  0.0028, 160.0002, 2800,       51,2,   28.848,2,   35.045,2,   35.050,2,     4.23,1,   -999.0,9,      0.3,1,     0.12,2,     0.12,2,     0.06,2,       76,1,     1.28,2,     0.00,2,     0.00,2,     0.22,2,     0.27,3,   -999.0,9,-999.0000,9,    28.84,    22.15
     49MR98K02, EQPAC,     6,  1,      7,      7,1,19990107, 658,  0.0028, 160.0002, 2800,       60,2,   28.845,2,   35.047,2,   35.052,2,     4.27,1,   -999.0,9,      0.4,1,     0.16,2,     0.16,2,     0.09,2,       76,1,     1.33,2,     0.01,2,     0.00,2,     0.21,2,     0.28,3,   -999.0,9,-999.0000,9,    28.83,    22.16
     49MR98K02, EQPAC,     6,  1,      6,      6,1,19990107, 658,  0.0028, 160.0002, 2800,       71,2,   28.787,2,   35.074,2,   35.100,2,     4.28,1,   -999.0,9,      0.5,1,     0.21,2,     0.22,2,     0.17,2,       76,1,     1.41,2,     0.17,2,     0.11,2,     0.24,2,     0.24,3,   -999.0,9,-999.0000,9,    28.77,    22.20
     49MR98K02, EQPAC,     6,  1,      5,      5,1,19990107, 658,  0.0028, 160.0002, 2800,       81,2,   28.090,2,   35.124,2,   35.118,2,     4.12,1,   -999.0,9,      0.9,1,     0.27,2,     0.34,2,     0.34,2,       76,1,     1.47,2,     0.83,2,     0.42,2,     0.30,2,     0.40,3,   -999.0,9,-999.0000,9,    28.07,    22.47
     49MR98K02, EQPAC,     6,  1,      4,      4,1,19990107, 658,  0.0028, 160.0002, 2800,       91,2,   27.800,2,   35.090,2,   35.085,2,     4.06,1,   -999.0,9,      0.6,1,     0.21,2,     0.26,2,     0.27,2,       77,1,     1.60,2,     1.70,2,     0.40,2,     0.33,2,     0.31,3,   -999.0,9,-999.0000,9,    27.78,    22.53
     49MR98K02, EQPAC,     6,  1,      3,      3,1,19990107, 658,  0.0028, 160.0002, 2800,      101,2,   27.699,2,   35.070,2,   35.069,2,     4.02,1,   -999.0,9,      0.5,1,     0.19,2,     0.25,2,     0.29,2,       77,1,     1.64,2,     2.06,2,     0.30,2,     0.35,2,     0.35,3,   -999.0,9,-999.0000,9,    27.68,    22.55
     49MR98K02, EQPAC,     6,  1,      2,      2,1,19990107, 658,  0.0028, 160.0002, 2800,      120,2,   26.650,2,   35.056,2,   35.078,2,     3.95,1,   -999.0,9,      0.3,1,     0.08,2,     0.11,2,     0.14,2,       77,1,     2.63,2,     4.44,2,     0.08,2,     0.48,2,     0.48,3,   -999.0,9,-999.0000,9,    26.62,    22.88
     49MR98K02, EQPAC,     6,  1,      1,      1,1,19990107, 658,  0.0028, 160.0002, 2800,      152,2,   20.398,2,   35.014,2,   34.993,2,     3.71,1,   -999.0,9,      0.2,1,     0.04,2,     0.05,2,     0.07,2,       78,1,     7.88,2,     9.57,2,     0.00,2,     0.78,2,     0.42,3,   -999.0,9,-999.0000,9,    20.37,    24.67