BOTTLE,20101227MIRCJHATS
EXPOCODE,SECT,STNNBR,CASTNO,SAMPNO,BTLNBR,BTLNBR_FLAG_W,DATE,TIME,LATITUDE,LONGITUDE,DEPTH,CTDPRS,CTDPRS_FLAG_W,CTDTMP,CTDTMP_FLAG_W,CTDSAL,CTDSAL_FLAG_W,SALNTY,SALNTY_FLAG_W,CTDOXY,CTDOXY_FLAG_W,OXYGEN,OXYGEN_FLAG_W,FLUOR,FLUOR_FLAG_W,CHLORA,CHLORA_FLAG_W,CHLWELSH,CHLWELSH_W,PPHYTN,PPHYTN_FLAG_W,XMISS,XMISS_FLAG_W,SILCAT,SILCAT_FLAG_W,NITRAT,NITRAT_FLAG_W,NITRIT,NITRIT_FLAG_W,PHSPHT,PHSPHT_FLAG_W,NH4,NH4_FLAG_W,TCARBN,TCARBN_FLAG_W,PH,PH_FLAG_W,THETA,SIG0
,,,,,,,,UTC,DEG,DEG,M,DBAR,,ITS-90,,PSS-78,,PSS-78,,ML/L,,UMOL/KG,,UG/L,,MG/CUM,,MG/CUM,,MG/CUM,,%TRANS,,UMOL/KG,,UMOL/KG,,UMOL/KG,,UMOL/KG,,UMOL/KG,,UMOL/KG,,-,,DEG C,KG/CUM
     49MR98K02, EQPAC,     6,  2,      1,      1,1,19990107, 733,  0.0052, 159.9982, 2800,       20,2,   28.868,2,   35.048,2, -999.000,9,     3.64,1,   -999.0,9,      0.4,1,  -999.00,9,  -999.00,9,  -999.00,9,     -999,9,  -999.00,9,  -999.00,9,  -999.00,9,  -999.00,9,  -999.00,9,   -999.0,9,-999.0000,9,    28.86,    22.15
     49MR98K02, EQPAC,     6,  2,      2,      2,1,19990107, 733,  0.0052, 159.9982, 2800,       40,2,   28.848,2,   35.047,2, -999.000,9,     3.64,1,   -999.0,9,      0.5,1,  -999.00,9,  -999.00,9,  -999.00,9,     -999,9,  -999.00,9,  -999.00,9,  -999.00,9,  -999.00,9,  -999.00,9,   -999.0,9,-999.0000,9,    28.84,    22.15
     49MR98K02, EQPAC,     6,  2,      3,      3,1,19990107, 733,  0.0052, 159.9982, 2800,       60,2,   28.833,2,   35.054,2, -999.000,9,     3.63,1,   -999.0,9,      0.8,1,  -999.00,9,  -999.00,9,  -999.00,9,     -999,9,  -999.00,9,  -999.00,9,  -999.00,9,  -999.00,9,  -999.00,9,   -999.0,9,-999.0000,9,    28.82,    22.16
     49MR98K02, EQPAC,     6,  2,     11,     11,1,19990107, 733,  0.0052, 159.9982, 2800,       70,2,   28.420,2,   35.125,2, -999.000,9,     3.59,1,   -999.0,9,      1.8,1,  -999.00,9,  -999.00,9,  -999.00,9,     -999,9,  -999.00,9,  -999.00,9,  -999.00,9,  -999.00,9,  -999.00,9,   -999.0,9,-999.0000,9,    28.40,    22.36
     49MR98K02, EQPAC,     6,  2,      4,      4,1,19990107, 733,  0.0052, 159.9982, 2800,       81,2,   27.882,2,   35.102,2, -999.000,9,     3.40,1,   -999.0,9,      1.3,1,  -999.00,9,  -999.00,9,  -999.00,9,     -999,9,  -999.00,9,  -999.00,9,  -999.00,9,  -999.00,9,  -999.00,9,   -999.0,9,-999.0000,9,    27.86,    22.52
     49MR98K02, EQPAC,     6,  2,      5,      5,1,19990107, 733,  0.0052, 159.9982, 2800,      100,2,   27.588,2,   35.056,2, -999.000,9,     3.34,1,   -999.0,9,      0.9,1,  -999.00,9,  -999.00,9,  -999.00,9,     -999,9,  -999.00,9,  -999.00,9,  -999.00,9,  -999.00,9,  -999.00,9,   -999.0,9,-999.0000,9,    27.56,    22.58
     49MR98K02, EQPAC,     6,  2,      6,      6,1,19990107, 733,  0.0052, 159.9982, 2800,      121,2,   25.329,2,   35.065,2, -999.000,9,     3.07,1,   -999.0,9,      0.4,1,  -999.00,9,  -999.00,9,  -999.00,9,     -999,9,  -999.00,9,  -999.00,9,  -999.00,9,  -999.00,9,  -999.00,9,   -999.0,9,-999.0000,9,    25.30,    23.30
     49MR98K02, EQPAC,     6,  2,      7,      7,1,19990107, 733,  0.0052, 159.9982, 2800,      141,2,   22.294,2,   35.079,2, -999.000,9,     3.05,1,   -999.0,9,      0.4,1,  -999.00,9,  -999.00,9,  -999.00,9,     -999,9,  -999.00,9,  -999.00,9,  -999.00,9,  -999.00,9,  -999.00,9,   -999.0,9,-999.0000,9,    22.27,    24.20
     49MR98K02, EQPAC,     6,  2,      8,      8,1,19990107, 733,  0.0052, 159.9982, 2800,      161,2,   18.245,2,   34.844,2, -999.000,9,     3.05,1,   -999.0,9,      0.3,1,  -999.00,9,  -999.00,9,  -999.00,9,     -999,9,  -999.00,9,  -999.00,9,  -999.00,9,  -999.00,9,  -999.00,9,   -999.0,9,-999.0000,9,    18.22,    25.10
     49MR98K02, EQPAC,     6,  2,      9,      9,1,19990107, 733,  0.0052, 159.9982, 2800,      182,2,   16.173,2,   34.722,2, -999.000,9,     3.00,1,   -999.0,9,      0.2,1,  -999.00,9,  -999.00,9,  -999.00,9,     -999,9,  -999.00,9,  -999.00,9,  -999.00,9,  -999.00,9,  -999.00,9,   -999.0,9,-999.0000,9,    16.14,    25.50
     49MR98K02, EQPAC,     6,  2,     10,     10,1,19990107, 733,  0.0052, 159.9982, 2800,      202,2,   16.296,2,   35.194,2, -999.000,9,     3.06,1,   -999.0,9,      0.2,1,  -999.00,9,  -999.00,9,  -999.00,9,     -999,9,  -999.00,9,  -999.00,9,  -999.00,9,  -999.00,9,  -999.00,9,   -999.0,9,-999.0000,9,    16.26,    25.84
     49MR98K02, EQPAC,     6,  2,     12,     12,1,19990107, 733,  0.0052, 159.9982, 2800,       20,2,   28.868,2,   35.048,2, -999.000,9,     3.65,1,   -999.0,9,      0.4,1,  -999.00,9,  -999.00,9,  -999.00,9,     -999,9,  -999.00,9,  -999.00,9,  -999.00,9,  -999.00,9,  -999.00,9,   -999.0,9,-999.0000,9,    28.86,    22.15
     49MR98K02, EQPAC,     6,  2,     13,     13,1,19990107, 733,  0.0052, 159.9982, 2800,       40,2,   28.849,2,   35.047,2, -999.000,9,     3.63,1,   -999.0,9,      0.5,1,  -999.00,9,  -999.00,9,  -999.00,9,     -999,9,  -999.00,9,  -999.00,9,  -999.00,9,  -999.00,9,  -999.00,9,   -999.0,9,-999.0000,9,    28.84,    22.15
     49MR98K02, EQPAC,     6,  2,     14,     14,1,19990107, 733,  0.0052, 159.9982, 2800,       60,2,   28.835,2,   35.053,2, -999.000,9,     3.64,1,   -999.0,9,      0.7,1,  -999.00,9,  -999.00,9,  -999.00,9,     -999,9,  -999.00,9,  -999.00,9,  -999.00,9,  -999.00,9,  -999.00,9,   -999.0,9,-999.0000,9,    28.82,    22.16
     49MR98K02, EQPAC,     6,  2,     22,     22,1,19990107, 733,  0.0052, 159.9982, 2800,       69,2,   28.399,2,   35.125,2, -999.000,9,     3.60,1,   -999.0,9,      1.8,1,  -999.00,9,  -999.00,9,  -999.00,9,     -999,9,  -999.00,9,  -999.00,9,  -999.00,9,  -999.00,9,  -999.00,9,   -999.0,9,-999.0000,9,    28.38,    22.36
     49MR98K02, EQPAC,     6,  2,     23,     23,1,19990107, 733,  0.0052, 159.9982, 2800,       81,2,   27.870,2,   35.101,2, -999.000,9,     3.39,1,   -999.0,9,      1.3,1,  -999.00,9,  -999.00,9,  -999.00,9,     -999,9,  -999.00,9,  -999.00,9,  -999.00,9,  -999.00,9,  -999.00,9,   -999.0,9,-999.0000,9,    27.85,    22.52
     49MR98K02, EQPAC,     6,  2,     15,     15,1,19990107, 733,  0.0052, 159.9982, 2800,       81,2,   27.869,2,   35.100,2, -999.000,9,     3.39,1,   -999.0,9,      1.3,1,  -999.00,9,  -999.00,9,  -999.00,9,     -999,9,  -999.00,9,  -999.00,9,  -999.00,9,  -999.00,9,  -999.00,9,   -999.0,9,-999.0000,9,    27.85,    22.52
     49MR98K02, EQPAC,     6,  2,     16,     16,1,19990107, 733,  0.0052, 159.9982, 2800,      100,2,   27.500,2,   35.052,2, -999.000,9,     3.30,1,   -999.0,9,      0.9,1,  -999.00,9,  -999.00,9,  -999.00,9,     -999,9,  -999.00,9,  -999.00,9,  -999.00,9,  -999.00,9,  -999.00,9,   -999.0,9,-999.0000,9,    27.48,    22.60
     49MR98K02, EQPAC,     6,  2,     17,     17,1,19990107, 733,  0.0052, 159.9982, 2800,      120,2,   25.602,2,   35.049,2, -999.000,9,     3.09,1,   -999.0,9,      0.4,1,  -999.00,9,  -999.00,9,  -999.00,9,     -999,9,  -999.00,9,  -999.00,9,  -999.00,9,  -999.00,9,  -999.00,9,   -999.0,9,-999.0000,9,    25.58,    23.20
     49MR98K02, EQPAC,     6,  2,     18,     18,1,19990107, 733,  0.0052, 159.9982, 2800,      142,2,   22.104,2,   35.063,2, -999.000,9,     3.06,1,   -999.0,9,      0.4,1,  -999.00,9,  -999.00,9,  -999.00,9,     -999,9,  -999.00,9,  -999.00,9,  -999.00,9,  -999.00,9,  -999.00,9,   -999.0,9,-999.0000,9,    22.08,    24.24
     49MR98K02, EQPAC,     6,  2,     19,     19,1,19990107, 733,  0.0052, 159.9982, 2800,      161,2,   18.317,2,   34.857,2, -999.000,9,     3.03,1,   -999.0,9,      0.3,1,  -999.00,9,  -999.00,9,  -999.00,9,     -999,9,  -999.00,9,  -999.00,9,  -999.00,9,  -999.00,9,  -999.00,9,   -999.0,9,-999.0000,9,    18.29,    25.09
     49MR98K02, EQPAC,     6,  2,     20,     20,1,19990107, 733,  0.0052, 159.9982, 2800,      181,2,   16.189,2,   34.721,2, -999.000,9,     3.00,1,   -999.0,9,      0.2,1,  -999.00,9,  -999.00,9,  -999.00,9,     -999,9,  -999.00,9,  -999.00,9,  -999.00,9,  -999.00,9,  -999.00,9,   -999.0,9,-999.0000,9,    16.16,    25.50
     49MR98K02, EQPAC,     6,  2,     21,     21,1,19990107, 733,  0.0052, 159.9982, 2800,      202,2,   16.297,2,   35.194,2, -999.000,9,     3.08,1,   -999.0,9,      0.2,1,  -999.00,9,  -999.00,9,  -999.00,9,     -999,9,  -999.00,9,  -999.00,9,  -999.00,9,  -999.00,9,  -999.00,9,   -999.0,9,-999.0000,9,    16.27,    25.84
     49MR98K02, EQPAC,     6,  3,     24,     24,1,19990107,1020,  0.0153, 159.9938, 2800,      252,2,   13.942,2,   34.964,2,   34.957,2,     2.84,1,    138.8,2,      0.2,3,  -999.00,9,  -999.00,9,  -999.00,9,     -999,9,    15.47,2,    17.07,2,     0.00,2,     1.32,2,  -999.00,9,   2138.1,2,   7.7938,2,    13.91,    26.18
     49MR98K02, EQPAC,     6,  3,     23,     23,1,19990107,1020,  0.0153, 159.9938, 2800,      303,2,   12.774,2,   34.837,2,   34.837,2,     2.64,1,    129.2,2,      0.2,3,  -999.00,9,  -999.00,9,  -999.00,9,     -999,9,    19.62,2,    20.03,2,     0.00,2,     1.51,2,  -999.00,9,   2151.9,2,   7.7475,2,    12.73,    26.32
     49MR98K02, EQPAC,     6,  3,     22,     22,1,19990107,1020,  0.0153, 159.9938, 2800,      352,2,   11.038,2,   34.796,2,   34.795,2,     1.95,1,     95.3,2,      0.3,3,  -999.00,9,  -999.00,9,  -999.00,9,     -999,9,    23.00,2,    26.62,2,     0.00,2,     1.93,2,  -999.00,9,   2195.1,2,   7.6474,2,    10.99,    26.62
     49MR98K02, EQPAC,     6,  3,     21,     21,1,19990107,1020,  0.0153, 159.9938, 2800,      402,2,   10.057,2,   34.730,2,   34.726,2,     1.63,1,     84.4,2,      0.3,3,  -999.00,9,  -999.00,9,  -999.00,9,     -999,9,    26.83,2,    29.67,2,     0.00,2,     2.12,2,  -999.00,9,   2212.0,2,   7.5997,2,    10.01,    26.74
     49MR98K02, EQPAC,     6,  3,     20,     20,1,19990107,1020,  0.0153, 159.9938, 2800,      503,2,    8.406,2,   34.622,2,   34.618,2,     2.01,1,     99.6,2,      0.3,3,  -999.00,9,  -999.00,9,  -999.00,9,     -999,9,    33.14,2,    31.37,2,     0.00,2,     2.24,2,  -999.00,9,   2218.4,2,   7.5871,2,     8.35,    26.92
     49MR98K02, EQPAC,     6,  3,     19,     19,1,19990107,1020,  0.0153, 159.9938, 2800,      604,2,    6.887,2,   34.556,2,   34.556,2,     2.23,1,    109.1,2,      0.2,3,  -999.00,9,  -999.00,9,  -999.00,9,     -999,9,    42.33,2,    33.25,2,     0.00,2,     2.39,2,  -999.00,9,   2231.9,2,   7.5735,2,     6.83,    27.09
     49MR98K02, EQPAC,     6,  3,     18,     18,1,19990107,1020,  0.0153, 159.9938, 2800,      705,2,    6.017,2,   34.538,2,   34.538,2,     2.12,1,    103.9,2,      0.2,3,  -999.00,9,  -999.00,9,  -999.00,9,     -999,9,    54.31,2,    35.51,2,     0.00,2,     2.53,2,  -999.00,9,   2251.5,2,   7.5494,2,     5.95,    27.19
     49MR98K02, EQPAC,     6,  3,     17,     17,1,19990107,1020,  0.0153, 159.9938, 2800,      806,2,    5.473,2,   34.535,2,   34.536,2,     2.14,1,    104.3,2,      0.2,3,  -999.00,9,  -999.00,9,  -999.00,9,     -999,9,    61.78,2,    36.47,2,     0.02,2,     2.61,2,  -999.00,9,   2262.1,2,   7.5438,2,     5.40,    27.26
     49MR98K02, EQPAC,     6,  3,     16,     16,1,19990107,1020,  0.0153, 159.9938, 2800,      907,2,    4.853,2,   34.541,2,   34.540,2,     2.16,1,    105.6,2,      0.2,3,  -999.00,9,  -999.00,9,  -999.00,9,     -999,9,    72.76,2,    36.87,2,     0.01,2,     2.66,2,  -999.00,9,   2273.0,2,   7.5417,2,     4.78,    27.34
     49MR98K02, EQPAC,     6,  3,     15,     15,1,19990107,1020,  0.0153, 159.9938, 2800,     1008,2,    4.459,2,   34.554,2,   34.555,2,     1.90,1,     93.9,2,      0.2,3,  -999.00,9,  -999.00,9,  -999.00,9,     -999,9,    84.38,2,    38.41,2,     0.00,2,     2.78,2,  -999.00,9,   2291.4,2,   7.5186,2,     4.38,    27.39
     49MR98K02, EQPAC,     6,  3,     14,     14,1,19990107,1020,  0.0153, 159.9938, 2800,     1109,2,    4.116,2,   34.563,2,   34.563,2,     1.94,1,     96.1,2,      0.2,3,  -999.00,9,  -999.00,9,  -999.00,9,     -999,9,    92.25,2,    38.72,2,     0.00,2,     2.78,2,  -999.00,9,   2301.5,2,   7.5179,2,     4.03,    27.44
     49MR98K02, EQPAC,     6,  3,     13,     13,1,19990107,1020,  0.0153, 159.9938, 2800,     1210,2,    3.914,2,   34.568,2,   34.571,2,     2.05,1,    101.3,2,      0.2,3,  -999.00,9,  -999.00,9,  -999.00,9,     -999,9,    97.11,2,    38.26,2,     0.00,2,     2.73,2,  -999.00,9,   2302.9,2,   7.5277,2,     3.82,    27.46
     49MR98K02, EQPAC,     6,  3,     12,     12,1,19990107,1020,  0.0153, 159.9938, 2800,     1311,2,    3.583,2,   34.579,2,   34.579,2,     2.08,1,    102.1,2,      0.2,3,  -999.00,9,  -999.00,9,  -999.00,9,     -999,9,   103.17,2,    38.41,2,     0.00,2,     2.76,2,  -999.00,9,   2308.5,2,   7.5277,2,     3.48,    27.50
     49MR98K02, EQPAC,     6,  3,     11,     11,1,19990107,1020,  0.0153, 159.9938, 2800,     1413,2,    3.362,2,   34.588,2,   34.591,2,     1.99,1,     98.2,2,      0.2,3,  -999.00,9,  -999.00,9,  -999.00,9,     -999,9,   110.69,2,    39.12,2,     0.00,2,     2.82,2,  -999.00,9,   2319.1,2,   7.5191,2,     3.26,    27.53
     49MR98K02, EQPAC,     6,  3,     10,     10,1,19990107,1020,  0.0153, 159.9938, 2800,     1514,2,    3.082,2,   34.600,2,   34.600,2,     2.06,1,    101.3,2,      0.2,3,  -999.00,9,  -999.00,9,  -999.00,9,     -999,9,   115.96,2,    38.94,2,     0.00,2,     2.79,2,  -999.00,9,   2323.3,2,   7.5211,2,     2.97,    27.57
     49MR98K02, EQPAC,     6,  3,      9,      9,1,19990107,1020,  0.0153, 159.9938, 2800,     1615,2,    2.832,2,   34.609,2,   34.608,2,     2.27,1,    110.4,2,      0.2,3,  -999.00,9,  -999.00,9,  -999.00,9,     -999,9,   118.30,2,    38.28,2,     0.00,2,     2.74,2,  -999.00,9,   2320.3,2,   7.5343,2,     2.72,    27.60
     49MR98K02, EQPAC,     6,  3,      8,      8,1,19990107,1020,  0.0153, 159.9938, 2800,     1716,2,    2.629,2,   34.619,2,   34.620,2,     2.28,1,    110.8,2,      0.2,3,  -999.00,9,  -999.00,9,  -999.00,9,     -999,9,   122.69,2,    38.18,2,     0.00,2,     2.75,2,  -999.00,9,   2326.6,2,   7.5380,2,     2.51,    27.62
     49MR98K02, EQPAC,     6,  3,      7,      7,1,19990107,1020,  0.0153, 159.9938, 2800,     1818,2,    2.556,2,   34.623,2,   34.623,2,     2.26,1,    111.3,2,      0.2,3,  -999.00,9,  -999.00,9,  -999.00,9,     -999,9,   125.61,2,    38.39,2,     0.00,2,     2.75,2,  -999.00,9,   2331.0,2,   7.5372,2,     2.43,    27.63
     49MR98K02, EQPAC,     6,  3,      6,      6,1,19990107,1020,  0.0153, 159.9938, 2800,     2021,2,    2.259,2,   34.637,2,   34.634,3,     2.44,1,    110.8,3,      0.2,3,  -999.00,9,  -999.00,9,  -999.00,9,     -999,9,    87.06,3,    35.05,3,     0.00,3,     2.54,3,  -999.00,9,   -999.0,9,-999.0000,9,     2.12,    27.67
     49MR98K02, EQPAC,     6,  3,      5,      5,1,19990107,1020,  0.0153, 159.9938, 2800,     2224,2,    2.088,2,   34.647,2,   34.647,2,     2.54,1,    121.7,2,      0.2,3,  -999.00,9,  -999.00,9,  -999.00,9,     -999,9,   135.03,2,    37.74,2,     0.00,2,     2.71,2,  -999.00,9,   2302.2,3,   7.5406,2,     1.93,    27.69
     49MR98K02, EQPAC,     6,  3,      4,      4,1,19990107,1020,  0.0153, 159.9938, 2800,     2428,2,    1.905,2,   34.657,2,   34.657,2,     2.63,1,    125.6,2,      0.2,3,  -999.00,9,  -999.00,9,  -999.00,9,     -999,9,   139.74,2,    37.67,2,     0.00,2,     2.67,2,  -999.00,9,   2333.2,2,   7.5527,2,     1.73,    27.72
     49MR98K02, EQPAC,     6,  3,      3,      3,1,19990107,1020,  0.0153, 159.9938, 2800,     2631,2,    1.834,2,   34.661,2,   34.660,2,     2.70,1,    128.2,2,      0.2,3,  -999.00,9,  -999.00,9,  -999.00,9,     -999,9,   142.38,2,    37.61,2,     0.00,2,     2.68,2,  -999.00,9,   2335.9,2,   7.5586,2,     1.65,    27.73
     49MR98K02, EQPAC,     6,  3,      2,      2,1,19990107,1020,  0.0153, 159.9938, 2800,     2835,2,    1.717,2,   34.667,2,   34.667,2,     2.85,1,    133.8,2,      0.2,3,  -999.00,9,  -999.00,9,  -999.00,9,     -999,9,   144.75,2,    37.21,2,     0.00,2,     2.62,2,  -999.00,9,   2334.9,2,   7.5648,2,     1.51,    27.74
     49MR98K02, EQPAC,     6,  3,      1,      1,1,19990107,1020,  0.0153, 159.9938, 2800,     2859,2,    1.718,2,   34.667,2,   34.667,2,     2.87,1,    133.8,2,      0.2,3,  -999.00,9,  -999.00,9,  -999.00,9,     -999,9,   145.10,2,    37.11,2,     0.00,2,     2.62,2,  -999.00,9,   2333.7,2,   7.5634,2,     1.51,    27.74