BOTTLE,20101227MIRCJHATS
EXPOCODE,SECT,STNNBR,CASTNO,SAMPNO,BTLNBR,BTLNBR_FLAG_W,DATE,TIME,LATITUDE,LONGITUDE,DEPTH,CTDPRS,CTDPRS_FLAG_W,CTDTMP,CTDTMP_FLAG_W,CTDSAL,CTDSAL_FLAG_W,SALNTY,SALNTY_FLAG_W,CTDOXY,CTDOXY_FLAG_W,OXYGEN,OXYGEN_FLAG_W,FLUOR,FLUOR_FLAG_W,CHLORA,CHLORA_FLAG_W,CHLWELSH,CHLWELSH_W,PPHYTN,PPHYTN_FLAG_W,XMISS,XMISS_FLAG_W,SILCAT,SILCAT_FLAG_W,NITRAT,NITRAT_FLAG_W,NITRIT,NITRIT_FLAG_W,PHSPHT,PHSPHT_FLAG_W,NH4,NH4_FLAG_W,TCARBN,TCARBN_FLAG_W,PH,PH_FLAG_W,THETA,SIG0
,,,,,,,,UTC,DEG,DEG,M,DBAR,,ITS-90,,PSS-78,,PSS-78,,ML/L,,UMOL/KG,,UG/L,,MG/CUM,,MG/CUM,,MG/CUM,,%TRANS,,UMOL/KG,,UMOL/KG,,UMOL/KG,,UMOL/KG,,UMOL/KG,,UMOL/KG,,-,,DEG C,KG/CUM
     49MR98K02, EQPAC,     8,  1,      0,      0,1,19990109,   2, -0.0049, 168.9323, 4317,     -999,9,   27.500,2, -999.000,9,   35.249,2,  -999.00,9,    194.8,2,   -999.0,9,     0.27,2,     0.25,2,     0.09,2,     -999,9,     1.68,2,     1.63,2,     0.17,2,     0.32,2,     0.19,3,   1990.5,6,   8.0673,2,  -999.00,  -999.00
     49MR98K02, EQPAC,     8,  1,      1,      1,1,19990109,   8, -0.0054, 168.9326, 4317,       10,2,   27.337,2,   35.197,2,   35.202,2,     3.87,1,    193.9,2,      1.1,1,     0.18,2,     0.18,2,     0.08,2,     -999,9,     1.65,2,     1.64,2,     0.17,2,     0.32,2,     0.11,3,   1990.4,2,   8.0681,2,    27.33,    22.76
     49MR98K02, EQPAC,     8,  1,      2,      2,1,19990109,   8, -0.0054, 168.9326, 4317,       20,2,   27.303,2,   35.197,2,   35.199,2,     3.83,1,    193.9,2,      1.4,1,     0.20,2,     0.19,2,     0.09,2,     -999,9,     1.67,2,     1.63,2,     0.17,2,     0.32,2,     0.26,3,   1990.2,2,   8.0680,2,    27.30,    22.77
     49MR98K02, EQPAC,     8,  1,      3,      3,1,19990109,   8, -0.0054, 168.9326, 4317,       31,2,   27.286,2,   35.196,2,   35.199,2,     3.83,1,    193.4,2,      1.7,1,     0.21,2,     0.20,2,     0.11,2,     -999,9,     1.76,2,     1.63,2,     0.17,2,     0.33,2,     0.21,3,   1991.6,2,   8.0693,2,    27.28,    22.78
     49MR98K02, EQPAC,     8,  1,      4,      4,1,19990109,   8, -0.0054, 168.9326, 4317,       41,2,   27.257,2,   35.193,2,   35.197,2,     3.85,1,    192.6,2,      2.0,1,     0.29,2,     0.28,2,     0.15,2,     -999,9,     1.65,2,     1.66,2,     0.17,2,     0.32,2,     0.22,3,   1991.5,2,   8.0704,2,    27.25,    22.78
     49MR98K02, EQPAC,     8,  1,      5,      5,1,19990109,   8, -0.0054, 168.9326, 4317,       51,2,   27.248,2,   35.192,2,   35.198,2,     3.80,1,    191.3,2,      2.0,1,     0.34,2,     0.32,2,     0.18,2,     -999,9,     1.69,2,     1.72,2,     0.18,2,     0.34,2,  -999.00,9,   1992.3,2,   8.0667,2,    27.24,    22.79
     49MR98K02, EQPAC,     8,  1,      6,      6,1,19990109,   8, -0.0054, 168.9326, 4317,       61,2,   27.240,2,   35.190,2,   35.196,2,     3.78,1,    190.4,2,      1.9,1,     0.29,2,     0.27,2,     0.16,2,     -999,9,     1.64,2,     1.82,2,     0.19,2,     0.34,2,     0.21,3,   1994.2,2,   8.0658,2,    27.23,    22.79
     49MR98K02, EQPAC,     8,  1,      7,      7,1,19990109,   8, -0.0054, 168.9326, 4317,       71,2,   27.228,2,   35.188,2,   35.191,2,     3.76,1,    188.6,2,      1.5,1,     0.33,2,     0.31,2,     0.18,2,     -999,9,     1.66,2,     1.92,2,     0.20,2,     0.35,2,     0.08,3,   1994.5,2,   8.0663,2,    27.21,    22.79
     49MR98K02, EQPAC,     8,  1,      8,      8,1,19990109,   8, -0.0054, 168.9326, 4317,       81,2,   27.195,2,   35.185,2,   35.191,2,     3.74,1,    187.3,2,      1.3,1,     0.27,2,     0.25,2,     0.15,2,     -999,9,     1.71,2,     2.02,2,     0.20,2,     0.35,2,     0.24,3,   1995.3,2,   8.0625,2,    27.18,    22.80
     49MR98K02, EQPAC,     8,  1,      9,      9,1,19990109,   8, -0.0054, 168.9326, 4317,      102,2,   26.777,2,   35.129,2,   35.124,2,     3.59,1,    176.0,2,      0.8,1,     0.14,2,     0.14,2,     0.10,2,     -999,9,     2.21,2,     3.31,2,     0.26,2,     0.44,2,     0.34,3,   2004.9,2,   8.0409,2,    26.75,    22.89
     49MR98K02, EQPAC,     8,  1,     10,     10,1,19990109,   8, -0.0054, 168.9326, 4317,      121,2,   24.663,2,   35.077,2,   35.067,2,     3.19,1,    152.7,2,      0.3,1,     0.04,2,     0.05,2,     0.07,2,     -999,9,     3.20,2,     5.77,2,     0.06,2,     0.55,2,     0.00,3,   2024.4,2,   7.9970,2,    24.64,    23.51
     49MR98K02, EQPAC,     8,  1,     11,     11,1,19990109,   8, -0.0054, 168.9326, 4317,      152,2,   20.705,2,   35.350,2,   35.341,2,     3.13,1,    148.2,2,      0.3,1,     0.02,2,     0.03,2,     0.05,2,     -999,9,     4.87,2,     8.67,2,     0.02,2,     0.76,2,     0.72,3,   2072.8,2,   7.9393,2,    20.68,    24.85
     49MR98K02, EQPAC,     8,  1,     12,     12,1,19990109,   8, -0.0054, 168.9326, 4317,      203,2,   16.736,2,   35.211,2,   35.205,2,     3.07,1,    145.9,2,      0.2,1,     0.01,2,     0.01,2,     0.02,2,     -999,9,     9.17,2,    13.02,2,     0.00,2,     1.03,2,     0.02,3,   2112.6,2,   7.8626,2,    16.70,    25.75
     49MR98K02, EQPAC,     8,  1,     13,     13,1,19990109,   8, -0.0054, 168.9326, 4317,       21,2,   27.303,2,   35.197,2, -999.000,9,     3.85,1,   -999.0,9,      1.4,1,  -999.00,9,  -999.00,9,  -999.00,9,     -999,9,  -999.00,9,  -999.00,9,  -999.00,9,  -999.00,9,  -999.00,9,   -999.0,9,-999.0000,9,    27.30,    22.77
     49MR98K02, EQPAC,     8,  1,     24,     24,1,19990109,   8, -0.0054, 168.9326, 4317,       31,2,   27.287,2,   35.196,2, -999.000,9,     3.85,1,   -999.0,9,      1.7,1,  -999.00,9,  -999.00,9,  -999.00,9,     -999,9,  -999.00,9,  -999.00,9,  -999.00,9,  -999.00,9,  -999.00,9,   -999.0,9,-999.0000,9,    27.28,    22.78
     49MR98K02, EQPAC,     8,  1,     14,     14,1,19990109,   8, -0.0054, 168.9326, 4317,       41,2,   27.258,2,   35.193,2, -999.000,9,     3.81,1,   -999.0,9,      2.1,1,  -999.00,9,  -999.00,9,  -999.00,9,     -999,9,  -999.00,9,  -999.00,9,  -999.00,9,  -999.00,9,  -999.00,9,   -999.0,9,-999.0000,9,    27.25,    22.78
     49MR98K02, EQPAC,     8,  1,     23,     23,1,19990109,   8, -0.0054, 168.9326, 4317,       51,2,   27.248,2,   35.192,2, -999.000,9,     3.82,1,   -999.0,9,      1.9,1,  -999.00,9,  -999.00,9,  -999.00,9,     -999,9,  -999.00,9,  -999.00,9,  -999.00,9,  -999.00,9,  -999.00,9,   -999.0,9,-999.0000,9,    27.24,    22.79
     49MR98K02, EQPAC,     8,  1,     15,     15,1,19990109,   8, -0.0054, 168.9326, 4317,       61,2,   27.239,2,   35.190,2, -999.000,9,     3.78,1,   -999.0,9,      1.8,1,  -999.00,9,  -999.00,9,  -999.00,9,     -999,9,  -999.00,9,  -999.00,9,  -999.00,9,  -999.00,9,  -999.00,9,   -999.0,9,-999.0000,9,    27.23,    22.79
     49MR98K02, EQPAC,     8,  1,     16,     16,1,19990109,   8, -0.0054, 168.9326, 4317,       81,2,   27.194,2,   35.184,2, -999.000,9,     3.75,1,   -999.0,9,      1.2,1,  -999.00,9,  -999.00,9,  -999.00,9,     -999,9,  -999.00,9,  -999.00,9,  -999.00,9,  -999.00,9,  -999.00,9,   -999.0,9,-999.0000,9,    27.18,    22.80
     49MR98K02, EQPAC,     8,  1,     17,     17,1,19990109,   8, -0.0054, 168.9326, 4317,      100,2,   26.790,2,   35.136,2, -999.000,9,     3.62,1,   -999.0,9,      0.8,1,  -999.00,9,  -999.00,9,  -999.00,9,     -999,9,  -999.00,9,  -999.00,9,  -999.00,9,  -999.00,9,  -999.00,9,   -999.0,9,-999.0000,9,    26.77,    22.89
     49MR98K02, EQPAC,     8,  1,     18,     18,1,19990109,   8, -0.0054, 168.9326, 4317,      121,2,   24.664,2,   35.084,2, -999.000,9,     3.17,1,   -999.0,9,      0.3,1,  -999.00,9,  -999.00,9,  -999.00,9,     -999,9,  -999.00,9,  -999.00,9,  -999.00,9,  -999.00,9,  -999.00,9,   -999.0,9,-999.0000,9,    24.64,    23.51
     49MR98K02, EQPAC,     8,  1,     19,     19,1,19990109,   8, -0.0054, 168.9326, 4317,      141,2,   23.658,2,   35.171,2, -999.000,9,     3.16,1,   -999.0,9,      0.3,1,  -999.00,9,  -999.00,9,  -999.00,9,     -999,9,  -999.00,9,  -999.00,9,  -999.00,9,  -999.00,9,  -999.00,9,   -999.0,9,-999.0000,9,    23.63,    23.88
     49MR98K02, EQPAC,     8,  1,     20,     20,1,19990109,   8, -0.0054, 168.9326, 4317,      161,2,   20.110,2,   35.379,2, -999.000,9,     3.11,1,   -999.0,9,      0.3,1,  -999.00,9,  -999.00,9,  -999.00,9,     -999,9,  -999.00,9,  -999.00,9,  -999.00,9,  -999.00,9,  -999.00,9,   -999.0,9,-999.0000,9,    20.08,    25.03
     49MR98K02, EQPAC,     8,  1,     21,     21,1,19990109,   8, -0.0054, 168.9326, 4317,      180,2,   18.409,2,   35.230,2, -999.000,9,     3.11,1,   -999.0,9,      0.2,1,  -999.00,9,  -999.00,9,  -999.00,9,     -999,9,  -999.00,9,  -999.00,9,  -999.00,9,  -999.00,9,  -999.00,9,   -999.0,9,-999.0000,9,    18.38,    25.35
     49MR98K02, EQPAC,     8,  1,     22,     22,1,19990109,   8, -0.0054, 168.9326, 4317,      202,2,   16.904,2,   35.236,2, -999.000,9,     3.05,1,   -999.0,9,      0.2,1,  -999.00,9,  -999.00,9,  -999.00,9,     -999,9,  -999.00,9,  -999.00,9,  -999.00,9,  -999.00,9,  -999.00,9,   -999.0,9,-999.0000,9,    16.87,    25.73
     49MR98K02, EQPAC,     9,  1,      0,      0,1,19990111, 357,  0.0012, 174.9944, 4831,     -999,9,   26.800,2, -999.000,9,   35.209,2,  -999.00,9,   -999.0,9,   -999.0,9,     0.14,2,     0.12,2,     0.04,2,     -999,9,     2.16,2,     2.95,2,     0.16,2,     0.54,2,     0.08,3,   -999.0,9,-999.0000,9,  -999.00,  -999.00
     49MR98K02, EQPAC,     9,  1,     12,     12,1,19990111, 359,  0.0012, 174.9934, 4831,       11,2,   26.536,2,   35.188,2,   35.198,2,     4.28,1,   -999.0,9,      0.4,1,     0.15,2,     0.13,2,     0.04,2,       76,1,     2.12,2,     2.93,2,     0.17,2,     0.53,2,     0.06,3,   -999.0,9,-999.0000,9,    26.53,    23.01
     49MR98K02, EQPAC,     9,  1,     11,     11,1,19990111, 359,  0.0012, 174.9934, 4831,       20,2,   26.429,2,   35.193,2,   35.203,2,     4.28,1,   -999.0,9,      0.5,1,     0.14,2,     0.12,2,     0.04,2,       76,1,     2.12,2,     2.91,2,     0.18,2,     0.53,2,     0.00,3,   -999.0,9,-999.0000,9,    26.42,    23.05
     49MR98K02, EQPAC,     9,  1,     10,     10,1,19990111, 359,  0.0012, 174.9934, 4831,       30,2,   26.400,2,   35.201,2,   35.246,2,     4.31,1,   -999.0,9,      0.6,1,  -999.00,9,     0.15,2,  -999.00,9,       76,1,     2.03,2,     2.90,2,     0.21,2,     0.53,2,     0.04,3,   -999.0,9,-999.0000,9,    26.39,    23.06
     49MR98K02, EQPAC,     9,  1,      9,      9,1,19990111, 359,  0.0012, 174.9934, 4831,       40,2,   26.483,2,   35.260,2,   35.292,2,     4.29,1,   -999.0,9,      0.6,1,     0.18,2,     0.16,2,     0.07,2,       76,1,     1.99,2,     2.81,2,     0.24,2,     0.52,2,     0.11,3,   -999.0,9,-999.0000,9,    26.47,    23.08
     49MR98K02, EQPAC,     9,  1,      8,      8,1,19990111, 359,  0.0012, 174.9934, 4831,       50,2,   26.598,2,   35.312,2,   35.323,2,     4.24,1,   -999.0,9,      0.6,1,     0.17,2,     0.16,2,     0.07,2,       76,1,     1.95,2,     2.76,2,     0.26,2,     0.52,2,     0.10,3,   -999.0,9,-999.0000,9,    26.59,    23.08
     49MR98K02, EQPAC,     9,  1,      7,      7,1,19990111, 359,  0.0012, 174.9934, 4831,       60,2,   26.580,2,   35.324,2,   35.326,2,     4.24,1,   -999.0,9,      0.8,1,     0.18,2,     0.17,2,     0.08,2,       76,1,     1.95,2,     2.75,2,     0.27,2,     0.52,2,     0.07,3,   -999.0,9,-999.0000,9,    26.57,    23.10
     49MR98K02, EQPAC,     9,  1,      6,      6,1,19990111, 359,  0.0012, 174.9934, 4831,       71,2,   26.516,2,   35.321,2,   35.323,2,     4.30,1,   -999.0,9,      0.7,1,     0.21,2,     0.19,2,     0.08,2,       76,1,     1.95,2,     2.77,2,     0.27,2,     0.52,2,     0.22,3,   -999.0,9,-999.0000,9,    26.50,    23.12
     49MR98K02, EQPAC,     9,  1,      5,      5,1,19990111, 359,  0.0012, 174.9934, 4831,       81,2,   26.418,2,   35.314,2,   35.318,2,     4.25,1,   -999.0,9,      0.7,1,     0.22,2,     0.22,2,     0.13,2,       76,1,     1.98,2,     2.81,2,     0.28,2,     0.51,2,     0.08,3,   -999.0,9,-999.0000,9,    26.40,    23.14
     49MR98K02, EQPAC,     9,  1,      4,      4,1,19990111, 359,  0.0012, 174.9934, 4831,       91,2,   26.405,2,   35.314,2,   35.321,2,     4.32,1,   -999.0,9,      0.8,1,     0.28,2,     0.27,2,     0.15,2,       76,1,     1.95,2,     2.89,2,     0.30,2,     0.54,2,     0.14,3,   -999.0,9,-999.0000,9,    26.38,    23.15
     49MR98K02, EQPAC,     9,  1,      3,      3,1,19990111, 359,  0.0012, 174.9934, 4831,      100,2,   26.359,2,   35.321,2,   35.333,2,     4.31,1,   -999.0,9,      0.8,1,     0.26,2,     0.25,2,     0.15,2,       77,1,     1.99,2,     3.18,2,     0.32,2,     0.56,2,     0.06,3,   -999.0,9,-999.0000,9,    26.34,    23.17
     49MR98K02, EQPAC,     9,  1,      2,      2,1,19990111, 359,  0.0012, 174.9934, 4831,      121,2,   26.155,2,   35.346,2,   35.352,2,     4.16,1,   -999.0,9,      0.5,1,     0.20,2,     0.20,2,     0.15,2,       77,1,     2.01,2,     3.69,2,     0.37,2,     0.59,2,     0.24,3,   -999.0,9,-999.0000,9,    26.13,    23.25
     49MR98K02, EQPAC,     9,  1,      1,      1,1,19990111, 359,  0.0012, 174.9934, 4831,      153,2,   22.697,2,   35.448,2,   35.441,2,     3.56,1,   -999.0,9,      0.2,1,     0.05,2,     0.06,2,     0.07,2,       78,1,     3.35,2,     7.39,2,     0.03,2,     0.79,2,     0.09,3,   -999.0,9,-999.0000,9,    22.67,    24.37