BOTTLE,20101227MIRCJHATS
EXPOCODE,SECT,STNNBR,CASTNO,SAMPNO,BTLNBR,BTLNBR_FLAG_W,DATE,TIME,LATITUDE,LONGITUDE,DEPTH,CTDPRS,CTDPRS_FLAG_W,CTDTMP,CTDTMP_FLAG_W,CTDSAL,CTDSAL_FLAG_W,SALNTY,SALNTY_FLAG_W,CTDOXY,CTDOXY_FLAG_W,OXYGEN,OXYGEN_FLAG_W,FLUOR,FLUOR_FLAG_W,CHLORA,CHLORA_FLAG_W,CHLWELSH,CHLWELSH_W,PPHYTN,PPHYTN_FLAG_W,XMISS,XMISS_FLAG_W,SILCAT,SILCAT_FLAG_W,NITRAT,NITRAT_FLAG_W,NITRIT,NITRIT_FLAG_W,PHSPHT,PHSPHT_FLAG_W,NH4,NH4_FLAG_W,TCARBN,TCARBN_FLAG_W,PH,PH_FLAG_W,THETA,SIG0
,,,,,,,,UTC,DEG,DEG,M,DBAR,,ITS-90,,PSS-78,,PSS-78,,ML/L,,UMOL/KG,,UG/L,,MG/CUM,,MG/CUM,,MG/CUM,,%TRANS,,UMOL/KG,,UMOL/KG,,UMOL/KG,,UMOL/KG,,UMOL/KG,,UMOL/KG,,-,,DEG C,KG/CUM
     49MR98K02, EQPAC,     3,  4,      0,      0,1,19990104, 115,  0.0070, 145.0203, 3638,     -999,9,   29.700,2, -999.000,9,   34.295,2,  -999.00,9,    196.8,2,   -999.0,9,     0.20,2,     0.20,2,     0.08,2,     -999,9,     1.68,2,     0.00,2,     0.02,2,     0.08,2,     0.22,3,   1904.2,6,   8.1424,2,  -999.00,  -999.00
     49MR98K02, EQPAC,     3,  4,      1,      1,1,19990104, 119,  0.0081, 145.0203, 3638,       16,2,   29.775,2,   34.282,2,   34.282,2,     3.67,1,    197.7,2,      0.3,1,     0.19,2,     0.18,2,     0.06,2,     -999,9,     1.74,2,     0.00,2,     0.01,2,     0.08,2,     0.17,3,   1903.0,2,   8.1421,2,    29.77,    21.27
     49MR98K02, EQPAC,     3,  4,      2,      2,1,19990104, 119,  0.0081, 145.0203, 3638,       31,2,   29.765,2,   34.299,2,   34.298,2,     3.65,1,    197.2,2,      0.6,1,     0.16,2,     0.16,2,     0.06,2,     -999,9,     1.74,2,     0.04,2,     0.01,2,     0.07,2,     0.22,3,   1903.5,2,   8.1418,2,    29.76,    21.28
     49MR98K02, EQPAC,     3,  4,      3,      3,1,19990104, 119,  0.0081, 145.0203, 3638,       41,2,   29.670,2,   34.363,2,   34.366,2,     3.61,1,    195.0,2,      0.4,1,     0.10,2,     0.10,2,     0.05,2,     -999,9,     1.73,2,     0.00,2,     0.02,2,     0.08,2,     0.10,3,   1909.8,2,   8.1402,2,    29.66,    21.36
     49MR98K02, EQPAC,     3,  4,      4,      4,1,19990104, 119,  0.0081, 145.0203, 3638,       51,2,   29.603,2,   34.381,2,   34.384,2,     3.61,1,    194.6,2,      0.5,1,     0.15,2,     0.15,2,     0.07,2,     -999,9,     1.64,2,     0.00,2,     0.01,2,     0.08,2,     0.08,3,   1912.1,2,   8.1354,2,    29.59,    21.40
     49MR98K02, EQPAC,     3,  4,      5,      5,1,19990104, 119,  0.0081, 145.0203, 3638,       61,2,   29.556,2,   34.383,2,   34.386,2,     3.57,1,    193.7,2,      0.7,1,     0.20,2,     0.20,2,     0.11,2,     -999,9,     1.68,2,     0.00,2,     0.02,2,     0.10,2,     0.07,3,   1913.4,2,   8.1299,2,    29.54,    21.42
     49MR98K02, EQPAC,     3,  4,      6,      6,1,19990104, 119,  0.0081, 145.0203, 3638,       71,2,   29.472,2,   34.406,2,   34.405,2,     3.56,1,    192.8,2,      1.0,1,     0.26,2,     0.25,2,     0.13,2,     -999,9,     1.72,2,     0.00,2,     0.02,2,     0.10,2,     0.11,3,   1915.2,2,   8.1294,2,    29.45,    21.47
     49MR98K02, EQPAC,     3,  4,      7,      7,1,19990104, 119,  0.0081, 145.0203, 3638,       81,2,   29.494,2,   34.462,2,   34.468,2,     3.54,1,    191.9,2,      1.4,1,     0.35,2,     0.33,2,     0.17,2,     -999,9,     1.69,2,     0.00,2,     0.03,2,     0.10,2,     0.09,3,   1920.4,2,   8.1280,2,    29.47,    21.50
     49MR98K02, EQPAC,     3,  4,      8,      8,1,19990104, 119,  0.0081, 145.0203, 3638,       90,2,   29.543,2,   34.526,2,   34.530,2,     3.53,1,    191.5,2,      1.4,1,     0.39,2,     0.37,2,     0.21,2,     -999,9,     1.72,2,     0.00,2,     0.05,2,     0.11,2,     0.09,3,   1925.3,2,   8.1226,2,    29.52,    21.53
     49MR98K02, EQPAC,     3,  4,      9,      9,1,19990104, 119,  0.0081, 145.0203, 3638,      100,2,   29.352,2,   34.688,2,   34.736,2,     3.48,1,    184.0,2,      1.2,1,     0.28,2,     0.31,2,     0.25,2,     -999,9,     1.67,2,     0.32,2,     0.29,2,     0.20,2,     0.02,3,   1947.7,2,   8.0933,2,    29.33,    21.72
     49MR98K02, EQPAC,     3,  4,     10,     10,1,19990104, 119,  0.0081, 145.0203, 3638,      121,2,   24.597,2,   35.220,2,   35.186,2,     3.10,1,    159.2,2,      0.7,1,     0.14,2,     0.21,2,     0.27,2,     -999,9,     2.87,2,     4.79,2,     0.13,2,     0.48,2,     0.03,3,   2019.4,2,   8.0192,2,    24.57,    23.64
     49MR98K02, EQPAC,     3,  4,     11,     11,1,19990104, 119,  0.0081, 145.0203, 3638,      152,2,   21.377,2,   35.498,2,   35.489,2,     3.00,1,    148.2,2,      0.3,1,     0.03,2,     0.05,2,     0.07,2,     -999,9,     3.60,2,     8.18,2,     0.02,2,     0.70,2,     0.00,3,   2074.2,2,   7.9544,2,    21.35,    24.78
     49MR98K02, EQPAC,     3,  4,     12,     12,1,19990104, 119,  0.0081, 145.0203, 3638,      203,2,   16.845,2,   35.322,2,   35.320,2,     3.08,1,    148.9,2,      0.2,1,     0.00,2,     0.00,2,     0.02,2,     -999,9,     6.77,2,    12.83,2,     0.01,2,     1.01,2,     0.04,3,   2110.7,2,   7.8733,2,    16.81,    25.81
     49MR98K02, EQPAC,     3,  4,     13,     13,1,19990104, 119,  0.0081, 145.0203, 3638,       15,2,   29.774,2,   34.281,2, -999.000,9,     3.65,1,   -999.0,9,      0.4,1,  -999.00,9,  -999.00,9,  -999.00,9,     -999,9,  -999.00,9,  -999.00,9,  -999.00,9,  -999.00,9,  -999.00,9,   -999.0,9,-999.0000,9,    29.77,    21.27
     49MR98K02, EQPAC,     3,  4,     14,     14,1,19990104, 119,  0.0081, 145.0203, 3638,       31,2,   29.765,2,   34.298,2, -999.000,9,     3.66,1,   -999.0,9,      0.4,1,  -999.00,9,  -999.00,9,  -999.00,9,     -999,9,  -999.00,9,  -999.00,9,  -999.00,9,  -999.00,9,  -999.00,9,   -999.0,9,-999.0000,9,    29.76,    21.28
     49MR98K02, EQPAC,     3,  4,     24,     24,1,19990104, 119,  0.0081, 145.0203, 3638,       31,2,   29.765,2,   34.299,2, -999.000,9,     3.65,1,   -999.0,9,      0.5,1,  -999.00,9,  -999.00,9,  -999.00,9,     -999,9,  -999.00,9,  -999.00,9,  -999.00,9,  -999.00,9,  -999.00,9,   -999.0,9,-999.0000,9,    29.76,    21.28
     49MR98K02, EQPAC,     3,  4,     15,     15,1,19990104, 119,  0.0081, 145.0203, 3638,       42,2,   29.660,2,   34.363,2, -999.000,9,     3.61,1,   -999.0,9,      0.4,1,  -999.00,9,  -999.00,9,  -999.00,9,     -999,9,  -999.00,9,  -999.00,9,  -999.00,9,  -999.00,9,  -999.00,9,   -999.0,9,-999.0000,9,    29.65,    21.37
     49MR98K02, EQPAC,     3,  4,     16,     16,1,19990104, 119,  0.0081, 145.0203, 3638,       51,2,   29.603,2,   34.381,2, -999.000,9,     3.61,1,   -999.0,9,      0.5,1,  -999.00,9,  -999.00,9,  -999.00,9,     -999,9,  -999.00,9,  -999.00,9,  -999.00,9,  -999.00,9,  -999.00,9,   -999.0,9,-999.0000,9,    29.59,    21.40
     49MR98K02, EQPAC,     3,  4,     17,     17,1,19990104, 119,  0.0081, 145.0203, 3638,       61,2,   29.554,2,   34.384,2, -999.000,9,     3.59,1,   -999.0,9,      0.7,1,  -999.00,9,  -999.00,9,  -999.00,9,     -999,9,  -999.00,9,  -999.00,9,  -999.00,9,  -999.00,9,  -999.00,9,   -999.0,9,-999.0000,9,    29.54,    21.42
     49MR98K02, EQPAC,     3,  4,     18,     18,1,19990104, 119,  0.0081, 145.0203, 3638,       71,2,   29.470,2,   34.407,2, -999.000,9,     3.56,1,   -999.0,9,      1.0,1,  -999.00,9,  -999.00,9,  -999.00,9,     -999,9,  -999.00,9,  -999.00,9,  -999.00,9,  -999.00,9,  -999.00,9,   -999.0,9,-999.0000,9,    29.45,    21.47
     49MR98K02, EQPAC,     3,  4,     19,     19,1,19990104, 119,  0.0081, 145.0203, 3638,       81,2,   29.492,2,   34.462,2, -999.000,9,     3.54,1,   -999.0,9,      1.4,1,  -999.00,9,  -999.00,9,  -999.00,9,     -999,9,  -999.00,9,  -999.00,9,  -999.00,9,  -999.00,9,  -999.00,9,   -999.0,9,-999.0000,9,    29.47,    21.50
     49MR98K02, EQPAC,     3,  4,     20,     20,1,19990104, 119,  0.0081, 145.0203, 3638,       91,2,   29.546,2,   34.531,2, -999.000,9,     3.54,1,   -999.0,9,      1.4,1,  -999.00,9,  -999.00,9,  -999.00,9,     -999,9,  -999.00,9,  -999.00,9,  -999.00,9,  -999.00,9,  -999.00,9,   -999.0,9,-999.0000,9,    29.52,    21.54
     49MR98K02, EQPAC,     3,  4,     21,     21,1,19990104, 119,  0.0081, 145.0203, 3638,      100,2,   29.386,2,   34.690,2, -999.000,9,     3.58,1,   -999.0,9,      1.2,1,  -999.00,9,  -999.00,9,  -999.00,9,     -999,9,  -999.00,9,  -999.00,9,  -999.00,9,  -999.00,9,  -999.00,9,   -999.0,9,-999.0000,9,    29.36,    21.71
     49MR98K02, EQPAC,     3,  4,     22,     22,1,19990104, 119,  0.0081, 145.0203, 3638,      121,2,   24.543,2,   35.244,2, -999.000,9,     3.11,1,   -999.0,9,      0.7,1,  -999.00,9,  -999.00,9,  -999.00,9,     -999,9,  -999.00,9,  -999.00,9,  -999.00,9,  -999.00,9,  -999.00,9,   -999.0,9,-999.0000,9,    24.52,    23.67
     49MR98K02, EQPAC,     3,  4,     23,     23,1,19990104, 119,  0.0081, 145.0203, 3638,      153,2,   21.145,2,   35.489,2, -999.000,9,     2.99,1,   -999.0,9,      0.3,1,  -999.00,9,  -999.00,9,  -999.00,9,     -999,9,  -999.00,9,  -999.00,9,  -999.00,9,  -999.00,9,  -999.00,9,   -999.0,9,-999.0000,9,    21.12,    24.83
     49MR98K02, EQPAC,     4,  1,      0,      0,1,19990105, 129, -0.0001, 147.8859, 4591,     -999,9,   29.600,2, -999.000,9,   34.238,2,  -999.00,9,    193.7,2,   -999.0,9,     0.09,2,     0.09,2,     0.04,2,     -999,9,     1.49,2,     0.01,2,     0.00,2,     0.11,2,     0.01,3,   1902.1,6,   8.1408,2,  -999.00,  -999.00
     49MR98K02, EQPAC,     4,  1,      1,      1,1,19990105, 135, -0.0001, 147.8856, 4591,       14,2,   29.689,2,   34.220,2,   34.225,2,     3.58,1,    194.6,2,      0.2,1,     0.04,2,     0.04,2,     0.01,2,     -999,9,     1.54,2,     0.01,2,     0.01,2,     0.12,2,     0.02,3,   1898.0,2,   8.1416,2,    29.69,    21.25
     49MR98K02, EQPAC,     4,  1,      2,      2,1,19990105, 135, -0.0001, 147.8856, 4591,       31,2,   29.647,2,   34.217,2,   34.221,2,     3.62,1,    194.6,2,      0.2,1,     0.06,2,     0.07,2,     0.03,2,     -999,9,     1.51,2,     0.01,2,     0.00,2,     0.11,2,     0.14,3,   1899.0,2,   8.1411,2,    29.64,    21.26
     49MR98K02, EQPAC,     4,  1,      3,      3,1,19990105, 135, -0.0001, 147.8856, 4591,       45,2,   29.659,2,   34.254,2,   34.255,2,     3.59,1,    194.6,2,      0.3,1,     0.07,2,     0.07,2,     0.03,2,     -999,9,     1.54,2,     0.01,2,     0.01,2,     0.12,2,     0.22,3,   1902.5,2,   8.1360,2,    29.65,    21.29
     49MR98K02, EQPAC,     4,  1,      4,      4,1,19990105, 135, -0.0001, 147.8856, 4591,       60,2,   29.641,2,   34.427,2,   34.432,2,     3.60,1,    194.6,2,      0.8,1,     0.21,2,     0.20,2,     0.10,2,     -999,9,     1.70,2,     0.01,2,     0.01,2,     0.13,2,     0.06,3,   1916.3,2,   8.1327,2,    29.63,    21.42
     49MR98K02, EQPAC,     4,  1,      5,      5,1,19990105, 135, -0.0001, 147.8856, 4591,       70,2,   29.614,2,   34.419,2,   34.422,2,     3.58,1,    194.6,2,      1.1,1,     0.25,2,     0.24,2,     0.11,2,     -999,9,     1.78,2,     0.00,2,     0.00,2,     0.13,2,     0.01,3,   1918.0,2,   8.1289,2,    29.60,    21.43
     49MR98K02, EQPAC,     4,  1,      6,      6,1,19990105, 135, -0.0001, 147.8856, 4591,       80,2,   29.585,2,   34.419,2,   34.424,2,     3.60,1,    193.7,2,      1.1,1,     0.23,2,     0.23,2,     0.12,2,     -999,9,     1.84,2,     0.00,2,     0.02,2,     0.13,2,     0.06,3,   1917.2,2,   8.1306,2,    29.56,    21.44
     49MR98K02, EQPAC,     4,  1,      7,      7,1,19990105, 135, -0.0001, 147.8856, 4591,       91,2,   29.043,2,   34.624,2,   34.621,2,     3.56,1,    189.3,2,      1.5,1,     0.37,2,     0.37,2,     0.23,2,     -999,9,     1.76,2,     0.11,2,     0.18,2,     0.18,2,     0.10,3,   1934.7,2,   8.1155,2,    29.02,    21.77
     49MR98K02, EQPAC,     4,  1,      8,      8,1,19990105, 135, -0.0001, 147.8856, 4591,      101,2,   24.351,2,   35.116,2,   35.128,2,     3.04,1,   -999.0,9,      0.7,1,     0.10,2,     0.14,2,     0.17,2,     -999,9,     3.20,2,     5.10,2,     0.06,2,     0.52,2,     0.13,3,   2020.4,2,   8.0096,2,    24.33,    23.63
     49MR98K02, EQPAC,     4,  1,      9,      9,1,19990105, 135, -0.0001, 147.8856, 4591,      111,2,   24.075,2,   35.093,2,   35.069,2,     3.03,1,    156.6,2,      0.7,1,     0.12,2,     0.15,2,     0.15,2,     -999,9,     3.66,2,     5.46,2,     0.07,2,     0.53,2,     0.07,3,   2024.1,2,   8.0019,2,    24.05,    23.70
     49MR98K02, EQPAC,     4,  1,     10,     10,1,19990105, 135, -0.0001, 147.8856, 4591,      131,2,   23.773,2,   35.173,2,   35.175,2,     3.06,1,    155.7,2,      0.5,1,     0.08,2,     0.12,2,     0.17,2,     -999,9,     3.51,2,     5.75,2,     0.08,2,     0.56,2,     0.00,3,   2031.1,2,   7.9974,2,    23.75,    23.85
     49MR98K02, EQPAC,     4,  1,     11,     11,1,19990105, 135, -0.0001, 147.8856, 4591,      153,2,   22.405,2,   35.323,2,   35.293,2,     3.03,1,    151.3,2,      0.4,1,     0.05,2,     0.08,2,     0.12,2,     -999,9,     4.01,2,     7.04,2,     0.05,2,     0.65,2,     0.08,3,   2051.6,2,   7.9785,2,    22.37,    24.36
     49MR98K02, EQPAC,     4,  1,     12,     12,1,19990105, 135, -0.0001, 147.8856, 4591,      202,2,   17.066,2,   35.144,2,   35.141,2,     3.00,1,    145.9,2,      0.2,1,     0.00,2,     0.01,2,     0.02,2,     -999,9,     9.67,2,    13.11,2,     0.01,2,     1.04,2,     0.05,3,   2106.4,2,   7.8698,2,    17.03,    25.62
     49MR98K02, EQPAC,     4,  1,     13,     13,1,19990105, 135, -0.0001, 147.8856, 4591,       20,2,   29.656,2,   34.217,2, -999.000,9,     3.60,1,   -999.0,9,      0.2,1,  -999.00,9,  -999.00,9,  -999.00,9,     -999,9,  -999.00,9,  -999.00,9,  -999.00,9,  -999.00,9,  -999.00,9,   -999.0,9,-999.0000,9,    29.65,    21.26
     49MR98K02, EQPAC,     4,  1,     14,     14,1,19990105, 135, -0.0001, 147.8856, 4591,       41,2,   29.645,2,   34.219,2, -999.000,9,     3.60,1,   -999.0,9,      0.3,1,  -999.00,9,  -999.00,9,  -999.00,9,     -999,9,  -999.00,9,  -999.00,9,  -999.00,9,  -999.00,9,  -999.00,9,   -999.0,9,-999.0000,9,    29.63,    21.27
     49MR98K02, EQPAC,     4,  1,     15,     15,1,19990105, 135, -0.0001, 147.8856, 4591,       60,2,   29.658,2,   34.431,2, -999.000,9,     3.62,1,   -999.0,9,      0.7,1,  -999.00,9,  -999.00,9,  -999.00,9,     -999,9,  -999.00,9,  -999.00,9,  -999.00,9,  -999.00,9,  -999.00,9,   -999.0,9,-999.0000,9,    29.64,    21.42
     49MR98K02, EQPAC,     4,  1,     16,     16,1,19990105, 135, -0.0001, 147.8856, 4591,       81,2,   29.579,2,   34.422,2, -999.000,9,     3.60,1,   -999.0,9,      1.2,1,  -999.00,9,  -999.00,9,  -999.00,9,     -999,9,  -999.00,9,  -999.00,9,  -999.00,9,  -999.00,9,  -999.00,9,   -999.0,9,-999.0000,9,    29.56,    21.44
     49MR98K02, EQPAC,     4,  1,     23,     23,1,19990105, 135, -0.0001, 147.8856, 4591,       92,2,   28.915,2,   34.665,2, -999.000,9,     3.57,1,   -999.0,9,      1.6,1,  -999.00,9,  -999.00,9,  -999.00,9,     -999,9,  -999.00,9,  -999.00,9,  -999.00,9,  -999.00,9,  -999.00,9,   -999.0,9,-999.0000,9,    28.89,    21.85
     49MR98K02, EQPAC,     4,  1,     17,     17,1,19990105, 135, -0.0001, 147.8856, 4591,      100,2,   24.977,2,   35.107,2, -999.000,9,     3.06,1,   -999.0,9,      0.8,1,  -999.00,9,  -999.00,9,  -999.00,9,     -999,9,  -999.00,9,  -999.00,9,  -999.00,9,  -999.00,9,  -999.00,9,   -999.0,9,-999.0000,9,    24.96,    23.44
     49MR98K02, EQPAC,     4,  1,     18,     18,1,19990105, 135, -0.0001, 147.8856, 4591,      122,2,   23.904,2,   35.097,2, -999.000,9,     3.05,1,   -999.0,9,      0.6,1,  -999.00,9,  -999.00,9,  -999.00,9,     -999,9,  -999.00,9,  -999.00,9,  -999.00,9,  -999.00,9,  -999.00,9,   -999.0,9,-999.0000,9,    23.88,    23.75
     49MR98K02, EQPAC,     4,  1,     19,     19,1,19990105, 135, -0.0001, 147.8856, 4591,      141,2,   23.365,2,   35.323,2, -999.000,9,     3.04,1,   -999.0,9,      0.4,1,  -999.00,9,  -999.00,9,  -999.00,9,     -999,9,  -999.00,9,  -999.00,9,  -999.00,9,  -999.00,9,  -999.00,9,   -999.0,9,-999.0000,9,    23.34,    24.08
     49MR98K02, EQPAC,     4,  1,     20,     20,1,19990105, 135, -0.0001, 147.8856, 4591,      161,2,   19.294,2,   35.026,2, -999.000,9,     3.05,1,   -999.0,9,      0.3,1,  -999.00,9,  -999.00,9,  -999.00,9,     -999,9,  -999.00,9,  -999.00,9,  -999.00,9,  -999.00,9,  -999.00,9,   -999.0,9,-999.0000,9,    19.26,    24.97
     49MR98K02, EQPAC,     4,  1,     21,     21,1,19990105, 135, -0.0001, 147.8856, 4591,      182,2,   18.607,2,   35.298,2, -999.000,9,     3.05,1,   -999.0,9,      0.2,1,  -999.00,9,  -999.00,9,  -999.00,9,     -999,9,  -999.00,9,  -999.00,9,  -999.00,9,  -999.00,9,  -999.00,9,   -999.0,9,-999.0000,9,    18.57,    25.36
     49MR98K02, EQPAC,     4,  1,     22,     22,1,19990105, 135, -0.0001, 147.8856, 4591,      203,2,   17.049,2,   35.144,2, -999.000,9,     3.01,1,   -999.0,9,      0.2,1,  -999.00,9,  -999.00,9,  -999.00,9,     -999,9,  -999.00,9,  -999.00,9,  -999.00,9,  -999.00,9,  -999.00,9,   -999.0,9,-999.0000,9,    17.02,    25.62