BOTTLE,20101227MIRCJHATS
EXPOCODE,SECT,STNNBR,CASTNO,SAMPNO,BTLNBR,BTLNBR_FLAG_W,DATE,TIME,LATITUDE,LONGITUDE,DEPTH,CTDPRS,CTDPRS_FLAG_W,CTDTMP,CTDTMP_FLAG_W,CTDSAL,CTDSAL_FLAG_W,SALNTY,SALNTY_FLAG_W,CTDOXY,CTDOXY_FLAG_W,OXYGEN,OXYGEN_FLAG_W,FLUOR,FLUOR_FLAG_W,CHLORA,CHLORA_FLAG_W,CHLWELSH,CHLWELSH_W,PPHYTN,PPHYTN_FLAG_W,XMISS,XMISS_FLAG_W,SILCAT,SILCAT_FLAG_W,NITRAT,NITRAT_FLAG_W,NITRIT,NITRIT_FLAG_W,PHSPHT,PHSPHT_FLAG_W,NH4,NH4_FLAG_W,TCARBN,TCARBN_FLAG_W,PH,PH_FLAG_W,THETA,SIG0
,,,,,,,,UTC,DEG,DEG,M,DBAR,,ITS-90,,PSS-78,,PSS-78,,ML/L,,UMOL/KG,,UG/L,,MG/CUM,,MG/CUM,,MG/CUM,,%TRANS,,UMOL/KG,,UMOL/KG,,UMOL/KG,,UMOL/KG,,UMOL/KG,,UMOL/KG,,-,,DEG C,KG/CUM
     49MR98K02, EQPAC,     2,  2,      1,      1,1,19990101, 941,  5.0200, 140.0389, 4176,       20,2,   29.784,2,   34.426,2, -999.000,9,     3.59,1,   -999.0,9,      4.5,3,  -999.00,9,  -999.00,9,  -999.00,9,       90,1,  -999.00,9,  -999.00,9,  -999.00,9,  -999.00,9,  -999.00,9,   -999.0,9,-999.0000,9,    29.78,    21.37
     49MR98K02, EQPAC,     2,  2,      2,      2,1,19990101, 941,  5.0200, 140.0389, 4176,       40,2,   29.856,2,   34.555,2, -999.000,9,     3.59,1,   -999.0,9,      8.4,3,  -999.00,9,  -999.00,9,  -999.00,9,       90,1,  -999.00,9,  -999.00,9,  -999.00,9,  -999.00,9,  -999.00,9,   -999.0,9,-999.0000,9,    29.85,    21.44
     49MR98K02, EQPAC,     2,  2,      3,      3,1,19990101, 941,  5.0200, 140.0389, 4176,       59,2,   29.625,2,   34.724,2, -999.000,9,     3.61,1,   -999.0,9,      9.3,3,  -999.00,9,  -999.00,9,  -999.00,9,       90,1,  -999.00,9,  -999.00,9,  -999.00,9,  -999.00,9,  -999.00,9,   -999.0,9,-999.0000,9,    29.61,    21.65
     49MR98K02, EQPAC,     2,  2,      4,      4,1,19990101, 941,  5.0200, 140.0389, 4176,       70,2,   29.274,2,   34.761,2, -999.000,9,     3.59,1,   -999.0,9,      9.5,3,  -999.00,9,  -999.00,9,  -999.00,9,       90,1,  -999.00,9,  -999.00,9,  -999.00,9,  -999.00,9,  -999.00,9,   -999.0,9,-999.0000,9,    29.26,    21.80
     49MR98K02, EQPAC,     2,  2,      5,      5,1,19990101, 941,  5.0200, 140.0389, 4176,       81,2,   28.664,2,   34.820,2, -999.000,9,     3.57,1,   -999.0,9,     11.7,3,  -999.00,9,  -999.00,9,  -999.00,9,       90,1,  -999.00,9,  -999.00,9,  -999.00,9,  -999.00,9,  -999.00,9,   -999.0,9,-999.0000,9,    28.65,    22.05
     49MR98K02, EQPAC,     2,  2,     11,     11,1,19990101, 941,  5.0200, 140.0389, 4176,       91,2,   28.303,2,   34.829,2, -999.000,9,     3.49,1,   -999.0,9,     13.3,3,  -999.00,9,  -999.00,9,  -999.00,9,       90,1,  -999.00,9,  -999.00,9,  -999.00,9,  -999.00,9,  -999.00,9,   -999.0,9,-999.0000,9,    28.28,    22.17
     49MR98K02, EQPAC,     2,  2,      6,      6,1,19990101, 941,  5.0200, 140.0389, 4176,      101,2,   27.672,2,   34.832,2, -999.000,9,     3.34,1,   -999.0,9,     11.1,3,  -999.00,9,  -999.00,9,  -999.00,9,       90,1,  -999.00,9,  -999.00,9,  -999.00,9,  -999.00,9,  -999.00,9,   -999.0,9,-999.0000,9,    27.65,    22.38
     49MR98K02, EQPAC,     2,  2,      7,      7,1,19990101, 941,  5.0200, 140.0389, 4176,      119,2,   27.192,2,   34.815,2, -999.000,9,     3.28,1,   -999.0,9,      9.5,3,  -999.00,9,  -999.00,9,  -999.00,9,       90,1,  -999.00,9,  -999.00,9,  -999.00,9,  -999.00,9,  -999.00,9,   -999.0,9,-999.0000,9,    27.16,    22.53
     49MR98K02, EQPAC,     2,  2,      8,      8,1,19990101, 941,  5.0200, 140.0389, 4176,      141,2,   23.960,2,   34.770,2, -999.000,9,     3.11,1,   -999.0,9,      3.8,3,  -999.00,9,  -999.00,9,  -999.00,9,       91,1,  -999.00,9,  -999.00,9,  -999.00,9,  -999.00,9,  -999.00,9,   -999.0,9,-999.0000,9,    23.93,    23.49
     49MR98K02, EQPAC,     2,  2,      9,      9,1,19990101, 941,  5.0200, 140.0389, 4176,      165,2,   20.726,2,   34.759,2, -999.000,9,     2.96,1,   -999.0,9,      5.0,3,  -999.00,9,  -999.00,9,  -999.00,9,       91,1,  -999.00,9,  -999.00,9,  -999.00,9,  -999.00,9,  -999.00,9,   -999.0,9,-999.0000,9,    20.70,    24.39
     49MR98K02, EQPAC,     2,  2,     10,     10,1,19990101, 941,  5.0200, 140.0389, 4176,      203,2,   14.555,2,   34.598,2, -999.000,9,     2.64,1,   -999.0,9,      4.0,3,  -999.00,9,  -999.00,9,  -999.00,9,       91,1,  -999.00,9,  -999.00,9,  -999.00,9,  -999.00,9,  -999.00,9,   -999.0,9,-999.0000,9,    14.53,    25.77
     49MR98K02, EQPAC,     2,  2,     12,     12,1,19990101, 941,  5.0200, 140.0389, 4176,       19,2,   29.792,2,   34.424,2, -999.000,9,     3.61,1,   -999.0,9,      3.8,3,  -999.00,9,  -999.00,9,  -999.00,9,       90,1,  -999.00,9,  -999.00,9,  -999.00,9,  -999.00,9,  -999.00,9,   -999.0,9,-999.0000,9,    29.79,    21.37
     49MR98K02, EQPAC,     2,  2,     13,     13,1,19990101, 941,  5.0200, 140.0389, 4176,       40,2,   29.853,2,   34.542,2, -999.000,9,     3.61,1,   -999.0,9,      8.4,3,  -999.00,9,  -999.00,9,  -999.00,9,       90,1,  -999.00,9,  -999.00,9,  -999.00,9,  -999.00,9,  -999.00,9,   -999.0,9,-999.0000,9,    29.84,    21.44
     49MR98K02, EQPAC,     2,  2,     14,     14,1,19990101, 941,  5.0200, 140.0389, 4176,       60,2,   29.631,2,   34.724,2, -999.000,9,     3.60,1,   -999.0,9,     10.8,3,  -999.00,9,  -999.00,9,  -999.00,9,       90,1,  -999.00,9,  -999.00,9,  -999.00,9,  -999.00,9,  -999.00,9,   -999.0,9,-999.0000,9,    29.62,    21.65
     49MR98K02, EQPAC,     2,  2,     15,     15,1,19990101, 941,  5.0200, 140.0389, 4176,       70,2,   29.272,2,   34.762,2, -999.000,9,     3.58,1,   -999.0,9,     10.0,3,  -999.00,9,  -999.00,9,  -999.00,9,       90,1,  -999.00,9,  -999.00,9,  -999.00,9,  -999.00,9,  -999.00,9,   -999.0,9,-999.0000,9,    29.25,    21.80
     49MR98K02, EQPAC,     2,  2,     16,     16,1,19990101, 941,  5.0200, 140.0389, 4176,       81,2,   28.656,2,   34.822,2, -999.000,9,     3.58,1,   -999.0,9,     12.4,3,  -999.00,9,  -999.00,9,  -999.00,9,       90,1,  -999.00,9,  -999.00,9,  -999.00,9,  -999.00,9,  -999.00,9,   -999.0,9,-999.0000,9,    28.64,    22.05
     49MR98K02, EQPAC,     2,  2,     22,     22,1,19990101, 941,  5.0200, 140.0389, 4176,       91,2,   28.345,2,   34.828,2, -999.000,9,     3.50,1,   -999.0,9,     14.0,3,  -999.00,9,  -999.00,9,  -999.00,9,       90,1,  -999.00,9,  -999.00,9,  -999.00,9,  -999.00,9,  -999.00,9,   -999.0,9,-999.0000,9,    28.32,    22.16
     49MR98K02, EQPAC,     2,  2,     17,     17,1,19990101, 941,  5.0200, 140.0389, 4176,      101,2,   27.875,2,   34.832,2, -999.000,9,     3.37,1,   -999.0,9,     14.7,3,  -999.00,9,  -999.00,9,  -999.00,9,       90,1,  -999.00,9,  -999.00,9,  -999.00,9,  -999.00,9,  -999.00,9,   -999.0,9,-999.0000,9,    27.85,    22.32
     49MR98K02, EQPAC,     2,  2,     18,     18,1,19990101, 941,  5.0200, 140.0389, 4176,      120,2,   27.183,2,   34.814,2, -999.000,9,     3.28,1,   -999.0,9,      7.1,3,  -999.00,9,  -999.00,9,  -999.00,9,       90,1,  -999.00,9,  -999.00,9,  -999.00,9,  -999.00,9,  -999.00,9,   -999.0,9,-999.0000,9,    27.16,    22.53
     49MR98K02, EQPAC,     2,  2,     19,     19,1,19990101, 941,  5.0200, 140.0389, 4176,      141,2,   23.934,2,   34.770,2, -999.000,9,     3.13,1,   -999.0,9,      4.0,3,  -999.00,9,  -999.00,9,  -999.00,9,       91,1,  -999.00,9,  -999.00,9,  -999.00,9,  -999.00,9,  -999.00,9,   -999.0,9,-999.0000,9,    23.90,    23.50
     49MR98K02, EQPAC,     2,  2,     20,     20,1,19990101, 941,  5.0200, 140.0389, 4176,      163,2,   20.914,2,   34.760,2, -999.000,9,     2.98,1,   -999.0,9,      5.6,3,  -999.00,9,  -999.00,9,  -999.00,9,       91,1,  -999.00,9,  -999.00,9,  -999.00,9,  -999.00,9,  -999.00,9,   -999.0,9,-999.0000,9,    20.88,    24.34
     49MR98K02, EQPAC,     2,  2,     21,     21,1,19990101, 941,  5.0200, 140.0389, 4176,      204,2,   14.396,2,   34.596,2, -999.000,9,     2.65,1,   -999.0,9,      4.9,3,  -999.00,9,  -999.00,9,  -999.00,9,       91,1,  -999.00,9,  -999.00,9,  -999.00,9,  -999.00,9,  -999.00,9,   -999.0,9,-999.0000,9,    14.37,    25.80
     49MR98K02, EQPAC,     2,  3,     24,     24,1,19990101,1327,  5.0345, 140.1027, 4176,      300,2,    9.575,2,   34.586,2,   34.588,2,     1.21,1,     61.8,2,      0.0,1,  -999.00,9,  -999.00,9,  -999.00,9,       91,1,    34.18,2,    31.43,2,     0.01,2,     2.29,2,  -999.00,9,   2231.9,2,   7.5463,2,     9.54,    26.71
     49MR98K02, EQPAC,     2,  3,     23,     23,1,19990101,1327,  5.0345, 140.1027, 4176,      353,2,    8.887,2,   34.606,2,   34.606,2,     1.24,1,     63.1,2,      0.0,1,  -999.00,9,  -999.00,9,  -999.00,9,       91,1,    35.73,2,    32.73,2,     0.00,2,     2.34,2,  -999.00,9,   2238.9,2,   7.5366,2,     8.85,    26.83
     49MR98K02, EQPAC,     2,  3,     22,     22,1,19990101,1327,  5.0345, 140.1027, 4176,      403,2,    8.472,2,   34.598,2, -999.000,9,     1.22,1,   -999.0,9,      0.0,1,  -999.00,9,  -999.00,9,  -999.00,9,       91,1,  -999.00,9,  -999.00,9,  -999.00,9,  -999.00,9,  -999.00,9,   -999.0,9,-999.0000,9,     8.43,    26.89
     49MR98K02, EQPAC,     2,  3,     21,     21,1,19990101,1327,  5.0345, 140.1027, 4176,      503,2,    7.456,2,   34.566,2,   34.565,2,     1.68,1,     83.9,2,      0.0,1,  -999.00,9,  -999.00,9,  -999.00,9,       91,1,    42.07,2,    33.72,2,     0.01,2,     2.43,2,  -999.00,9,   2244.6,2,   7.5526,3,     7.41,    27.02
     49MR98K02, EQPAC,     2,  3,     20,     20,1,19990101,1327,  5.0345, 140.1027, 4176,      605,2,    6.566,2,   34.542,2,   34.542,2,     1.57,1,     78.3,2,      0.0,1,  -999.00,9,  -999.00,9,  -999.00,9,       91,1,    53.48,2,    35.85,2,     0.01,2,     2.60,2,  -999.00,9,   2262.8,2,   7.5263,2,     6.51,    27.12
     49MR98K02, EQPAC,     2,  3,     19,     19,1,19990101,1327,  5.0345, 140.1027, 4176,      706,2,    5.949,2,   34.538,2,   34.538,2,     1.69,1,     84.3,2,      0.0,1,  -999.00,9,  -999.00,9,  -999.00,9,       91,1,    59.89,2,    36.51,2,     0.00,2,     2.61,2,  -999.00,9,   2269.8,2,   7.5264,2,     5.89,    27.20
     49MR98K02, EQPAC,     2,  3,     18,     18,1,19990101,1327,  5.0345, 140.1027, 4176,      807,2,    5.407,2,   34.539,2,   34.539,2,     1.83,1,     91.3,2,      0.0,1,  -999.00,9,  -999.00,9,  -999.00,9,       91,1,    67.48,2,    36.79,2,     0.00,2,     2.66,2,  -999.00,9,   2275.4,2,   7.5289,2,     5.34,    27.27
     49MR98K02, EQPAC,     2,  3,     17,     17,1,19990101,1327,  5.0345, 140.1027, 4176,      907,2,    5.043,2,   34.542,2, -999.000,9,     1.87,1,   -999.0,9,      0.0,1,  -999.00,9,  -999.00,9,  -999.00,9,       91,1,  -999.00,9,  -999.00,9,  -999.00,9,  -999.00,9,  -999.00,9,   -999.0,9,-999.0000,9,     4.97,    27.32
     49MR98K02, EQPAC,     2,  3,     16,     16,1,19990101,1327,  5.0345, 140.1027, 4176,     1008,2,    4.651,2,   34.552,2,   34.552,2,     1.85,1,     92.2,2,      0.0,1,  -999.00,9,  -999.00,9,  -999.00,9,       91,1,    83.39,2,    37.63,2,     0.00,2,     2.71,2,  -999.00,9,   2292.5,2,   7.5223,2,     4.57,    27.37
     49MR98K02, EQPAC,     2,  3,     15,     15,1,19990101,1327,  5.0345, 140.1027, 4176,     1109,2,    4.346,2,   34.559,2,   34.559,2,     1.83,1,     91.3,2,      0.0,1,  -999.00,9,  -999.00,9,  -999.00,9,       91,1,    91.20,2,    37.86,2,     0.00,2,     2.74,2,  -999.00,9,   2301.8,2,   7.5183,2,     4.26,    27.41
     49MR98K02, EQPAC,     2,  3,     14,     14,1,19990101,1327,  5.0345, 140.1027, 4176,     1210,2,    3.946,2,   34.569,2,   34.569,2,     1.88,1,     93.5,2,      0.0,1,  -999.00,9,  -999.00,9,  -999.00,9,       91,1,   100.43,2,    37.94,2,     0.00,2,     2.76,2,  -999.00,9,   2309.1,2,   7.5208,2,     3.85,    27.46
     49MR98K02, EQPAC,     2,  3,     13,     13,1,19990101,1327,  5.0345, 140.1027, 4176,     1413,2,    3.347,2,   34.587,2,   34.587,2,     1.92,1,     95.6,2,      0.0,1,  -999.00,9,  -999.00,9,  -999.00,9,       91,1,   114.14,2,    38.24,2,     0.00,2,     2.76,2,  -999.00,9,   2321.3,2,   7.5179,2,     3.24,    27.53
     49MR98K02, EQPAC,     2,  3,     12,     12,1,19990101,1327,  5.0345, 140.1027, 4176,     1615,2,    2.844,2,   34.608,2,   34.608,2,     2.02,1,    100.4,2,      0.0,1,  -999.00,9,  -999.00,9,  -999.00,9,       91,1,   124.77,2,    38.45,2,     0.00,2,     2.79,2,  -999.00,9,   2329.2,2,   7.5244,2,     2.73,    27.60
     49MR98K02, EQPAC,     2,  3,     11,     11,1,19990101,1327,  5.0345, 140.1027, 4176,     1817,2,    2.461,2,   34.624,2,   34.623,2,     2.19,1,    108.2,2,      0.0,1,  -999.00,9,  -999.00,9,  -999.00,9,       91,1,   133.20,2,    38.22,2,     0.00,2,     2.74,2,  -999.00,9,   2332.9,2,   7.5364,2,     2.33,    27.64
     49MR98K02, EQPAC,     2,  3,     10,     10,1,19990101,1327,  5.0345, 140.1027, 4176,     2022,2,    2.219,2,   34.638,2,   34.637,2,     2.30,1,    113.4,2,      0.0,1,  -999.00,9,  -999.00,9,  -999.00,9,       91,1,   136.77,2,    37.91,2,     0.00,2,     2.74,2,  -999.00,9,   2336.1,2,   7.5408,2,     2.08,    27.68
     49MR98K02, EQPAC,     2,  3,      9,      9,1,19990101,1327,  5.0345, 140.1027, 4176,     2276,2,    2.014,2,   34.649,2,   34.648,2,     2.47,1,    120.8,2,      0.0,1,  -999.00,9,  -999.00,9,  -999.00,9,       91,1,   139.01,2,    37.64,2,     0.00,2,     2.69,2,  -999.00,9,   2335.7,2,   7.5545,2,     1.85,    27.70
     49MR98K02, EQPAC,     2,  3,      8,      8,1,19990101,1327,  5.0345, 140.1027, 4176,     2530,2,    1.852,2,   34.658,2,   34.657,2,     2.64,1,    128.2,2,      0.0,1,  -999.00,9,  -999.00,9,  -999.00,9,       91,1,   139.19,2,    37.05,2,     0.00,2,     2.63,2,  -999.00,9,   2334.0,2,   7.5624,2,     1.67,    27.72
     49MR98K02, EQPAC,     2,  3,      7,      7,1,19990101,1327,  5.0345, 140.1027, 4176,     2784,2,    1.671,2,   34.669,2,   34.667,2,     2.87,1,    138.2,2,      0.0,1,  -999.00,9,  -999.00,9,  -999.00,9,       91,1,   140.48,2,    36.28,2,     0.00,2,     2.56,2,  -999.00,9,   2328.0,2,   7.5766,2,     1.47,    27.75
     49MR98K02, EQPAC,     2,  3,      6,      6,1,19990101,1327,  5.0345, 140.1027, 4176,     3037,2,    1.600,2,   34.674,2,   34.678,3,     2.98,1,    143.0,2,      0.0,1,  -999.00,9,  -999.00,9,  -999.00,9,       91,1,   141.17,2,    36.15,2,     0.00,2,     2.58,2,  -999.00,9,   -999.0,9,-999.0000,9,     1.38,    27.76
     49MR98K02, EQPAC,     2,  3,      5,      5,1,19990101,1327,  5.0345, 140.1027, 4176,     3294,2,    1.575,2,   34.677,2,   34.676,2,     3.05,1,    145.6,2,      0.0,1,  -999.00,9,  -999.00,9,  -999.00,9,       91,1,   141.40,2,    35.97,2,     0.00,2,     2.56,2,  -999.00,9,   2323.3,2,   7.5861,2,     1.33,    27.76
     49MR98K02, EQPAC,     2,  3,      4,      4,1,19990101,1327,  5.0345, 140.1027, 4176,     3551,2,    1.559,2,   34.680,2,   34.679,2,     3.12,1,    147.7,2,      0.0,1,  -999.00,9,  -999.00,9,  -999.00,9,       91,1,   141.58,2,    35.82,2,     0.00,2,     2.53,2,  -999.00,9,   2323.6,2,   7.5896,2,     1.29,    27.77
     49MR98K02, EQPAC,     2,  3,      3,      3,1,19990101,1327,  5.0345, 140.1027, 4176,     3807,2,    1.539,2,   34.684,2,   34.683,2,     3.21,1,    150.8,2,      0.0,1,  -999.00,9,  -999.00,9,  -999.00,9,       91,1,   142.17,2,    35.48,2,     0.00,2,     2.52,2,  -999.00,9,   2324.5,2,   7.5958,2,     1.24,    27.77
     49MR98K02, EQPAC,     2,  3,      2,      2,1,19990101,1327,  5.0345, 140.1027, 4176,     4059,2,    1.524,2,   34.687,2,   34.685,2,     3.31,1,    154.3,2,      0.0,1,  -999.00,9,  -999.00,9,  -999.00,9,       91,1,   142.66,2,    35.42,2,     0.00,2,     2.52,2,  -999.00,9,   2323.0,2,   7.5990,2,     1.20,    27.78
     49MR98K02, EQPAC,     2,  3,      1,      1,1,19990101,1327,  5.0345, 140.1027, 4176,     4160,2,    1.526,2,   34.688,2,   34.687,2,     3.34,1,    154.7,2,      0.0,1,  -999.00,9,  -999.00,9,  -999.00,9,       91,1,   140.83,2,    35.11,2,     0.00,2,     2.47,2,  -999.00,9,   2322.9,2,   7.5984,2,     1.19,    27.78