BOTTLE,20101227MIRCJHATS
EXPOCODE,SECT,STNNBR,CASTNO,SAMPNO,BTLNBR,BTLNBR_FLAG_W,DATE,TIME,LATITUDE,LONGITUDE,DEPTH,CTDPRS,CTDPRS_FLAG_W,CTDTMP,CTDTMP_FLAG_W,CTDSAL,CTDSAL_FLAG_W,SALNTY,SALNTY_FLAG_W,CTDOXY,CTDOXY_FLAG_W,OXYGEN,OXYGEN_FLAG_W,FLUOR,FLUOR_FLAG_W,CHLORA,CHLORA_FLAG_W,CHLWELSH,CHLWELSH_W,PPHYTN,PPHYTN_FLAG_W,XMISS,XMISS_FLAG_W,SILCAT,SILCAT_FLAG_W,NITRAT,NITRAT_FLAG_W,NITRIT,NITRIT_FLAG_W,PHSPHT,PHSPHT_FLAG_W,NH4,NH4_FLAG_W,TCARBN,TCARBN_FLAG_W,PH,PH_FLAG_W,THETA,SIG0
,,,,,,,,UTC,DEG,DEG,M,DBAR,,ITS-90,,PSS-78,,PSS-78,,ML/L,,UMOL/KG,,UG/L,,MG/CUM,,MG/CUM,,MG/CUM,,%TRANS,,UMOL/KG,,UMOL/KG,,UMOL/KG,,UMOL/KG,,UMOL/KG,,UMOL/KG,,-,,DEG C,KG/CUM
     49MR98K02, EQPAC,     9,  2,      1,      1,1,19990111, 435,  0.0027, 174.9841, 4831,       21,2,   26.407,2,   35.201,2, -999.000,9,     3.95,1,   -999.0,9,      0.9,1,  -999.00,9,  -999.00,9,  -999.00,9,     -999,9,  -999.00,9,  -999.00,9,  -999.00,9,  -999.00,9,  -999.00,9,   -999.0,9,-999.0000,9,    26.40,    23.06
     49MR98K02, EQPAC,     9,  2,      2,      2,1,19990111, 435,  0.0027, 174.9841, 4831,       40,2,   26.433,2,   35.238,2, -999.000,9,     3.94,1,   -999.0,9,      1.4,1,  -999.00,9,  -999.00,9,  -999.00,9,     -999,9,  -999.00,9,  -999.00,9,  -999.00,9,  -999.00,9,  -999.00,9,   -999.0,9,-999.0000,9,    26.42,    23.08
     49MR98K02, EQPAC,     9,  2,      3,      3,1,19990111, 435,  0.0027, 174.9841, 4831,       59,2,   26.572,2,   35.319,2, -999.000,9,     3.93,1,   -999.0,9,      1.1,1,  -999.00,9,  -999.00,9,  -999.00,9,     -999,9,  -999.00,9,  -999.00,9,  -999.00,9,  -999.00,9,  -999.00,9,   -999.0,9,-999.0000,9,    26.56,    23.10
     49MR98K02, EQPAC,     9,  2,      4,      4,1,19990111, 435,  0.0027, 174.9841, 4831,       80,2,   26.458,2,   35.316,2, -999.000,9,     3.90,1,   -999.0,9,      1.1,1,  -999.00,9,  -999.00,9,  -999.00,9,     -999,9,  -999.00,9,  -999.00,9,  -999.00,9,  -999.00,9,  -999.00,9,   -999.0,9,-999.0000,9,    26.44,    23.13
     49MR98K02, EQPAC,     9,  2,     11,     11,1,19990111, 435,  0.0027, 174.9841, 4831,       91,2,   26.407,2,   35.315,2, -999.000,9,     3.91,1,   -999.0,9,      1.4,1,  -999.00,9,  -999.00,9,  -999.00,9,     -999,9,  -999.00,9,  -999.00,9,  -999.00,9,  -999.00,9,  -999.00,9,   -999.0,9,-999.0000,9,    26.39,    23.15
     49MR98K02, EQPAC,     9,  2,      5,      5,1,19990111, 435,  0.0027, 174.9841, 4831,      101,2,   26.344,2,   35.323,2, -999.000,9,     3.82,1,   -999.0,9,      1.7,1,  -999.00,9,  -999.00,9,  -999.00,9,     -999,9,  -999.00,9,  -999.00,9,  -999.00,9,  -999.00,9,  -999.00,9,   -999.0,9,-999.0000,9,    26.32,    23.18
     49MR98K02, EQPAC,     9,  2,      6,      6,1,19990111, 435,  0.0027, 174.9841, 4831,      120,2,   26.037,2,   35.361,2, -999.000,9,     3.63,1,   -999.0,9,      0.6,1,  -999.00,9,  -999.00,9,  -999.00,9,     -999,9,  -999.00,9,  -999.00,9,  -999.00,9,  -999.00,9,  -999.00,9,   -999.0,9,-999.0000,9,    26.01,    23.30
     49MR98K02, EQPAC,     9,  2,      7,      7,1,19990111, 435,  0.0027, 174.9841, 4831,      143,2,   24.964,2,   35.388,2, -999.000,9,     3.30,1,   -999.0,9,      0.3,1,  -999.00,9,  -999.00,9,  -999.00,9,     -999,9,  -999.00,9,  -999.00,9,  -999.00,9,  -999.00,9,  -999.00,9,   -999.0,9,-999.0000,9,    24.93,    23.65
     49MR98K02, EQPAC,     9,  2,      8,      8,1,19990111, 435,  0.0027, 174.9841, 4831,      161,2,   21.549,2,   35.348,2, -999.000,9,     3.15,1,   -999.0,9,      0.3,1,  -999.00,9,  -999.00,9,  -999.00,9,     -999,9,  -999.00,9,  -999.00,9,  -999.00,9,  -999.00,9,  -999.00,9,   -999.0,9,-999.0000,9,    21.52,    24.62
     49MR98K02, EQPAC,     9,  2,      9,      9,1,19990111, 435,  0.0027, 174.9841, 4831,      185,2,   18.462,2,   35.356,2, -999.000,9,     3.12,1,   -999.0,9,      0.2,1,  -999.00,9,  -999.00,9,  -999.00,9,     -999,9,  -999.00,9,  -999.00,9,  -999.00,9,  -999.00,9,  -999.00,9,   -999.0,9,-999.0000,9,    18.43,    25.44
     49MR98K02, EQPAC,     9,  2,     10,     10,1,19990111, 435,  0.0027, 174.9841, 4831,      199,2,   17.813,2,   35.291,2, -999.000,9,     3.11,1,   -999.0,9,      0.2,1,  -999.00,9,  -999.00,9,  -999.00,9,     -999,9,  -999.00,9,  -999.00,9,  -999.00,9,  -999.00,9,  -999.00,9,   -999.0,9,-999.0000,9,    17.78,    25.55
     49MR98K02, EQPAC,     9,  2,     12,     12,1,19990111, 435,  0.0027, 174.9841, 4831,       20,2,   26.410,2,   35.201,2, -999.000,9,     3.95,1,   -999.0,9,      0.9,1,  -999.00,9,  -999.00,9,  -999.00,9,     -999,9,  -999.00,9,  -999.00,9,  -999.00,9,  -999.00,9,  -999.00,9,   -999.0,9,-999.0000,9,    26.41,    23.06
     49MR98K02, EQPAC,     9,  2,     13,     13,1,19990111, 435,  0.0027, 174.9841, 4831,       41,2,   26.463,2,   35.256,2, -999.000,9,     3.91,1,   -999.0,9,      1.0,1,  -999.00,9,  -999.00,9,  -999.00,9,     -999,9,  -999.00,9,  -999.00,9,  -999.00,9,  -999.00,9,  -999.00,9,   -999.0,9,-999.0000,9,    26.45,    23.08
     49MR98K02, EQPAC,     9,  2,     14,     14,1,19990111, 435,  0.0027, 174.9841, 4831,       60,2,   26.571,2,   35.325,2, -999.000,9,     3.92,1,   -999.0,9,      1.2,1,  -999.00,9,  -999.00,9,  -999.00,9,     -999,9,  -999.00,9,  -999.00,9,  -999.00,9,  -999.00,9,  -999.00,9,   -999.0,9,-999.0000,9,    26.56,    23.10
     49MR98K02, EQPAC,     9,  2,     15,     15,1,19990111, 435,  0.0027, 174.9841, 4831,       80,2,   26.450,2,   35.316,2, -999.000,9,     3.90,1,   -999.0,9,      1.1,1,  -999.00,9,  -999.00,9,  -999.00,9,     -999,9,  -999.00,9,  -999.00,9,  -999.00,9,  -999.00,9,  -999.00,9,   -999.0,9,-999.0000,9,    26.43,    23.14
     49MR98K02, EQPAC,     9,  2,     22,     22,1,19990111, 435,  0.0027, 174.9841, 4831,       91,2,   26.402,2,   35.315,2, -999.000,9,     3.91,1,   -999.0,9,      1.5,1,  -999.00,9,  -999.00,9,  -999.00,9,     -999,9,  -999.00,9,  -999.00,9,  -999.00,9,  -999.00,9,  -999.00,9,   -999.0,9,-999.0000,9,    26.38,    23.15
     49MR98K02, EQPAC,     9,  2,     16,     16,1,19990111, 435,  0.0027, 174.9841, 4831,      100,2,   26.308,2,   35.328,2, -999.000,9,     3.83,1,   -999.0,9,      1.4,1,  -999.00,9,  -999.00,9,  -999.00,9,     -999,9,  -999.00,9,  -999.00,9,  -999.00,9,  -999.00,9,  -999.00,9,   -999.0,9,-999.0000,9,    26.29,    23.19
     49MR98K02, EQPAC,     9,  2,     17,     17,1,19990111, 435,  0.0027, 174.9841, 4831,      120,2,   26.069,2,   35.358,2, -999.000,9,     3.63,1,   -999.0,9,      0.7,1,  -999.00,9,  -999.00,9,  -999.00,9,     -999,9,  -999.00,9,  -999.00,9,  -999.00,9,  -999.00,9,  -999.00,9,   -999.0,9,-999.0000,9,    26.04,    23.29
     49MR98K02, EQPAC,     9,  2,     18,     18,1,19990111, 435,  0.0027, 174.9841, 4831,      142,2,   24.966,2,   35.385,2, -999.000,9,     3.30,1,   -999.0,9,      0.3,1,  -999.00,9,  -999.00,9,  -999.00,9,     -999,9,  -999.00,9,  -999.00,9,  -999.00,9,  -999.00,9,  -999.00,9,   -999.0,9,-999.0000,9,    24.93,    23.65
     49MR98K02, EQPAC,     9,  2,     19,     19,1,19990111, 435,  0.0027, 174.9841, 4831,      163,2,   21.549,2,   35.349,2, -999.000,9,     3.15,1,   -999.0,9,      0.3,1,  -999.00,9,  -999.00,9,  -999.00,9,     -999,9,  -999.00,9,  -999.00,9,  -999.00,9,  -999.00,9,  -999.00,9,   -999.0,9,-999.0000,9,    21.52,    24.62
     49MR98K02, EQPAC,     9,  2,     20,     20,1,19990111, 435,  0.0027, 174.9841, 4831,      183,2,   18.757,2,   35.374,2, -999.000,9,     3.11,1,   -999.0,9,      0.2,1,  -999.00,9,  -999.00,9,  -999.00,9,     -999,9,  -999.00,9,  -999.00,9,  -999.00,9,  -999.00,9,  -999.00,9,   -999.0,9,-999.0000,9,    18.72,    25.38
     49MR98K02, EQPAC,     9,  2,     21,     21,1,19990111, 435,  0.0027, 174.9841, 4831,      198,2,   17.846,2,   35.293,2, -999.000,9,     3.12,1,   -999.0,9,      0.2,1,  -999.00,9,  -999.00,9,  -999.00,9,     -999,9,  -999.00,9,  -999.00,9,  -999.00,9,  -999.00,9,  -999.00,9,   -999.0,9,-999.0000,9,    17.81,    25.54
     49MR98K02, EQPAC,     9,  3,     24,     24,1,19990111, 741,  0.0290, 174.9640, 4831,      303,2,   11.259,2,   34.806,2,   34.806,2,     1.71,1,     82.7,2,   -999.0,9,  -999.00,9,  -999.00,9,  -999.00,9,     -999,9,    22.97,2,    27.12,2,     0.00,2,     2.11,2,  -999.00,9,   2204.3,3,   7.6277,2,    11.22,    26.58
     49MR98K02, EQPAC,     9,  3,     23,     23,1,19990111, 741,  0.0290, 174.9640, 4831,      403,2,    9.817,2,   34.714,2,   34.706,2,     1.50,1,     73.9,2,   -999.0,9,  -999.00,9,  -999.00,9,  -999.00,9,     -999,9,    28.76,2,    30.76,2,     0.00,2,     2.35,2,  -999.00,9,   2223.7,3,   7.5755,2,     9.77,    26.77
     49MR98K02, EQPAC,     9,  3,     22,     22,1,19990111, 741,  0.0290, 174.9640, 4831,      513,2,    7.408,2,   34.582,2,   34.598,2,     1.94,1,     93.1,2,   -999.0,9,  -999.00,9,  -999.00,9,  -999.00,9,     -999,9,    38.21,2,    32.99,2,     0.00,2,     2.50,2,  -999.00,9,   2233.0,3,   7.5666,2,     7.36,    27.04
     49MR98K02, EQPAC,     9,  3,     21,     21,1,19990111, 741,  0.0290, 174.9640, 4831,      604,2,    6.582,2,   34.551,2,   34.550,2,     2.12,1,    100.9,2,   -999.0,9,  -999.00,9,  -999.00,9,  -999.00,9,     -999,9,    45.10,2,    34.64,2,     0.00,2,     2.61,2,  -999.00,9,   2243.3,3,   7.5533,2,     6.53,    27.13
     49MR98K02, EQPAC,     9,  3,     20,     20,1,19990111, 741,  0.0290, 174.9640, 4831,      705,2,    5.749,2,   34.536,2,   34.537,2,     2.18,1,    103.0,2,   -999.0,9,  -999.00,9,  -999.00,9,  -999.00,9,     -999,9,    55.71,2,    35.83,2,     0.00,2,     2.70,2,  -999.00,9,   2255.2,2,   7.5417,2,     5.69,    27.23
     49MR98K02, EQPAC,     9,  3,     19,     19,1,19990111, 741,  0.0290, 174.9640, 4831,      806,2,    5.234,2,   34.542,2,   34.542,2,     1.93,1,     92.6,2,   -999.0,9,  -999.00,9,  -999.00,9,  -999.00,9,     -999,9,    66.68,2,    37.39,2,     0.00,2,     2.81,2,  -999.00,9,   2276.9,2,   7.5243,2,     5.17,    27.29
     49MR98K02, EQPAC,     9,  3,     18,     18,1,19990111, 741,  0.0290, 174.9640, 4831,      907,2,    4.652,2,   34.550,2,   34.550,2,     1.94,1,     93.0,2,   -999.0,9,  -999.00,9,  -999.00,9,  -999.00,9,     -999,9,    78.41,2,    38.08,2,     0.00,2,     2.86,2,  -999.00,9,   2287.8,2,   7.5190,2,     4.58,    27.37
     49MR98K02, EQPAC,     9,  3,     17,     17,1,19990111, 741,  0.0290, 174.9640, 4831,     1008,2,    4.420,2,   34.555,2,   34.555,2,     1.93,1,     93.5,2,   -999.0,9,  -999.00,9,  -999.00,9,  -999.00,9,     -999,9,    82.52,2,    38.31,2,     0.00,2,     2.87,2,  -999.00,9,   2294.9,2,   7.5181,2,     4.34,    27.40
     49MR98K02, EQPAC,     9,  3,     16,     16,1,19990111, 741,  0.0290, 174.9640, 4831,     1261,2,    3.642,2,   34.579,2,   34.596,3,     2.01,1,     96.1,2,   -999.0,9,  -999.00,9,  -999.00,9,  -999.00,9,     -999,9,    94.58,3,    37.21,3,     0.00,3,     2.82,3,  -999.00,9,   -999.0,9,-999.0000,9,     3.55,    27.50
     49MR98K02, EQPAC,     9,  3,     15,     15,1,19990111, 741,  0.0290, 174.9640, 4831,     1514,2,    3.038,2,   34.604,2,   34.603,2,     2.02,1,     98.2,2,   -999.0,9,  -999.00,9,  -999.00,9,  -999.00,9,     -999,9,   115.53,2,    38.90,2,     0.00,2,     2.91,2,  -999.00,9,   2329.8,2,   7.5169,2,     2.93,    27.58
     49MR98K02, EQPAC,     9,  3,     14,     14,1,19990111, 741,  0.0290, 174.9640, 4831,     1767,2,    2.620,2,   34.622,2,   34.621,2,     2.22,1,    106.5,2,   -999.0,9,  -999.00,9,  -999.00,9,  -999.00,9,     -999,9,   125.18,2,    38.37,2,     0.00,2,     2.87,2,  -999.00,9,   2333.4,2,   7.5325,2,     2.49,    27.63
     49MR98K02, EQPAC,     9,  3,     13,     13,1,19990111, 741,  0.0290, 174.9640, 4831,     2021,2,    2.376,2,   34.634,2,   34.633,2,     2.35,1,    113.0,2,   -999.0,9,  -999.00,9,  -999.00,9,  -999.00,9,     -999,9,   129.63,2,    37.95,2,     0.00,2,     2.82,2,  -999.00,9,   2335.8,2,   7.5417,2,     2.23,    27.66
     49MR98K02, EQPAC,     9,  3,     12,     12,1,19990111, 741,  0.0290, 174.9640, 4831,     2275,2,    2.081,2,   34.651,2,   34.660,3,     2.47,1,    116.5,2,   -999.0,9,  -999.00,9,  -999.00,9,  -999.00,9,     -999,9,   125.15,3,    36.87,3,     0.00,3,     2.75,3,  -999.00,9,   -999.0,9,-999.0000,9,     1.92,    27.70
     49MR98K02, EQPAC,     9,  3,     11,     11,1,19990111, 741,  0.0290, 174.9640, 4831,     2529,2,    1.883,2,   34.661,2,   34.660,2,     2.62,1,    124.3,2,   -999.0,9,  -999.00,9,  -999.00,9,  -999.00,9,     -999,9,   141.47,2,    37.59,2,     0.00,2,     2.79,2,  -999.00,9,   2338.8,2,   7.5571,2,     1.70,    27.72
     49MR98K02, EQPAC,     9,  3,     10,     10,1,19990111, 741,  0.0290, 174.9640, 4831,     2783,2,    1.762,2,   34.667,2,   34.667,2,     2.78,1,    130.8,2,   -999.0,9,  -999.00,9,  -999.00,9,  -999.00,9,     -999,9,   142.77,2,    36.97,2,     0.00,2,     2.75,2,  -999.00,9,   2336.5,2,   7.5650,2,     1.56,    27.74
     49MR98K02, EQPAC,     9,  3,      9,      9,1,19990111, 741,  0.0290, 174.9640, 4831,     3037,2,    1.646,2,   34.674,2,   34.672,2,     2.95,1,    138.2,2,   -999.0,9,  -999.00,9,  -999.00,9,  -999.00,9,     -999,9,   143.57,2,    36.59,2,     0.00,2,     2.72,2,  -999.00,9,   2332.2,2,   7.5761,2,     1.42,    27.75
     49MR98K02, EQPAC,     9,  3,      8,      8,1,19990111, 741,  0.0290, 174.9640, 4831,     3293,2,    1.609,2,   34.677,2,   34.676,2,     3.05,1,    142.1,2,   -999.0,9,  -999.00,9,  -999.00,9,  -999.00,9,     -999,9,   142.38,2,    36.33,2,     0.00,2,     2.69,2,  -999.00,9,   2328.1,2,   7.5768,2,     1.36,    27.76
     49MR98K02, EQPAC,     9,  3,      7,      7,1,19990111, 741,  0.0290, 174.9640, 4831,     3549,2,    1.502,2,   34.685,2,   34.684,2,     3.31,1,    153.0,2,   -999.0,9,  -999.00,9,  -999.00,9,  -999.00,9,     -999,9,   139.62,2,    35.45,2,     0.00,2,     2.62,2,  -999.00,9,   2321.6,2,   7.5931,2,     1.23,    27.78
     49MR98K02, EQPAC,     9,  3,      6,      6,1,19990111, 741,  0.0290, 174.9640, 4831,     3804,2,    1.468,2,   34.689,2,   34.687,2,     3.46,1,    158.6,2,   -999.0,9,  -999.00,9,  -999.00,9,  -999.00,9,     -999,9,   138.29,2,    35.29,2,     0.00,2,     2.61,2,  -999.00,9,   2316.8,2,   7.5988,2,     1.17,    27.78
     49MR98K02, EQPAC,     9,  3,      5,      5,1,19990111, 741,  0.0290, 174.9640, 4831,     4061,2,    1.394,2,   34.696,2,   34.694,2,     3.70,1,    168.2,2,   -999.0,9,  -999.00,9,  -999.00,9,  -999.00,9,     -999,9,   135.65,2,    34.61,2,     0.00,2,     2.55,2,  -999.00,9,   2305.6,2,   7.6085,2,     1.07,    27.80
     49MR98K02, EQPAC,     9,  3,      4,      4,1,19990111, 741,  0.0290, 174.9640, 4831,     4316,2,    1.348,2,   34.699,2,   34.698,2,     3.91,1,    175.5,2,   -999.0,9,  -999.00,9,  -999.00,9,  -999.00,9,     -999,9,   131.49,2,    34.15,2,     0.00,2,     2.52,2,  -999.00,9,   2299.2,2,   7.6100,2,     1.00,    27.80
     49MR98K02, EQPAC,     9,  3,      3,      3,1,19990111, 741,  0.0290, 174.9640, 4831,     4572,2,    1.268,2,   34.705,2,   34.704,2,     4.23,1,    188.1,2,   -999.0,9,  -999.00,9,  -999.00,9,  -999.00,9,     -999,9,   123.98,2,    33.11,2,     0.00,2,     2.45,2,  -999.00,9,   2281.9,2,   7.6182,2,     0.89,    27.82
     49MR98K02, EQPAC,     9,  3,      2,      2,1,19990111, 741,  0.0290, 174.9640, 4831,     4830,2,    1.238,2,   34.708,2,   34.705,2,     4.41,1,    193.8,2,   -999.0,9,  -999.00,9,  -999.00,9,  -999.00,9,     -999,9,   120.88,2,    32.63,2,     0.00,2,     2.41,2,  -999.00,9,   2276.1,2,   7.6164,2,     0.83,    27.82
     49MR98K02, EQPAC,     9,  3,      1,      1,1,19990111, 741,  0.0290, 174.9640, 4831,     4885,2,    1.239,2,   34.708,2,   34.707,2,     4.43,1,    194.2,2,   -999.0,9,  -999.00,9,  -999.00,9,  -999.00,9,     -999,9,   121.41,2,    32.38,2,     0.00,2,     2.40,2,  -999.00,9,   2275.5,2,   7.6161,2,     0.83,    27.82