BOTTLE,20101227MIRCJHATS
EXPOCODE,SECT,STNNBR,CASTNO,SAMPNO,BTLNBR,BTLNBR_FLAG_W,DATE,TIME,LATITUDE,LONGITUDE,DEPTH,CTDDPT,CTDDPT_FLAG_W,CTDPRS,CTDPRS_FLAG_W,CTDTMP,CTDTMP_FLAG_W,CTDSAL,CTDSAL_FLAG_W,SALNTY,SALNTY_FLAG_W,OXYGEN,OXYGEN_FLAG_W,FLUOR,FLUOR_FLAG_W,CHLORA,CHLORA_FLAG_W,CHLWELSH,CHLWELSH_W,PPHYTN,PPHYTN_FLAG_W,SILCAT,SILCAT_FLAG_W,NITRAT,NITRAT_FLAG_W,NITRIT,NITRIT_FLAG_W,PHSPHT,PHSPHT_FLAG_W,NH4,NH4_FLAG_W,TCARBN,TCARBN_FLAG_W,PH,PH_FLAG_W,THETA,SIG0
,,,,,,,,UTC,DEG,DEG,M,M,,DBAR,,ITS-90,,PSS-78,,PSS-78,,UMOL/KG,,UG/L,,MG/CUM,,MG/CUM,,MG/CUM,,UMOL/KG,,UMOL/KG,,UMOL/KG,,UMOL/KG,,UMOL/KG,,UMOL/KG,,-,,DEG C,KG/CUM
     49MR99K07, EQPAC,    11,  1,      0,      0,2,19991207,2301, -0.0057,-176.6952, 5398,     -999,9,     -999,9,   27.300,2, -999.000,9,   35.365,2,   -999.0,9,   -999.0,9,     0.29,2,     0.31,2,     0.09,2,     2.40,2,     3.56,2,     0.30,2,     0.52,2,     0.37,3,   2017.5,2,   8.0444,5,  -999.00,  -999.00
     49MR99K07, EQPAC,    11,  1,     12,     12,3,19991207,2310, -0.0065,-176.6953, 5398,       12,2,       12,2,   27.147,2,   35.352,2,   35.350,2,    195.3,2,      0.0,1,     0.25,2,     0.28,2,     0.10,2,     2.35,2,     3.57,2,     0.30,2,     0.49,2,     0.46,3,   2017.3,2,   8.0444,5,    27.14,    22.94
     49MR99K07, EQPAC,    11,  1,     11,     11,2,19991207,2310, -0.0065,-176.6953, 5398,       20,2,       20,2,   27.085,2,   35.351,2,   35.350,2,    195.4,2,      0.1,1,     0.29,2,     0.33,2,     0.13,2,     2.45,2,     3.57,2,     0.31,2,     0.49,2,     0.25,3,   2017.1,2,   8.0432,5,    27.08,    22.96
     49MR99K07, EQPAC,    11,  1,     10,     10,3,19991207,2310, -0.0065,-176.6953, 5398,       29,2,       29,2,   27.078,2,   35.351,2,   35.349,2,    195.4,2,      0.1,1,     0.29,2,     0.33,2,     0.13,2,     2.41,2,     3.55,2,     0.31,2,     0.48,2,     0.20,3,   2016.1,2,   8.0433,5,    27.07,    22.96
     49MR99K07, EQPAC,    11,  1,      9,      9,2,19991207,2310, -0.0065,-176.6953, 5398,       40,2,       41,2,   27.079,2,   35.352,2,   35.350,2,    194.9,2,      0.1,1,     0.33,2,     0.37,2,     0.13,2,     2.53,2,     3.56,2,     0.30,2,     0.48,2,     0.62,3,   2017.6,2,   8.0433,5,    27.07,    22.96
     49MR99K07, EQPAC,    11,  1,      8,      8,2,19991207,2310, -0.0065,-176.6953, 5398,       52,2,       52,2,   27.075,2,   35.352,2,   35.350,2,    194.6,2,      0.1,1,     0.33,2,     0.37,2,     0.16,2,     2.45,2,     3.59,2,     0.30,2,     0.47,2,     0.36,3,   2019.8,2,   8.0426,5,    27.06,    22.96
     49MR99K07, EQPAC,    11,  1,      7,      7,3,19991207,2310, -0.0065,-176.6953, 5398,       61,2,       61,2,   27.069,2,   35.352,2,   35.351,2,    193.4,2,      0.1,1,     0.37,2,     0.40,2,     0.15,2,     2.47,2,     3.63,2,     0.30,2,     0.48,2,     0.33,3,   2020.7,2,   8.0411,5,    27.05,    22.96
     49MR99K07, EQPAC,    11,  1,      6,      6,3,19991207,2310, -0.0065,-176.6953, 5398,       71,2,       71,2,   27.057,2,   35.353,2,   35.352,2,    192.2,2,      0.1,1,     0.35,2,     0.39,2,     0.16,2,     2.47,2,     3.69,2,     0.31,2,     0.48,2,     0.24,3,   2018.4,2,   8.0391,5,    27.04,    22.97
     49MR99K07, EQPAC,    11,  1,      5,      5,3,19991207,2310, -0.0065,-176.6953, 5398,       80,2,       81,2,   27.010,2,   35.353,2,   35.352,2,    190.1,2,      0.1,1,     0.29,2,     0.33,2,     0.14,2,     2.47,2,     3.84,2,     0.32,2,     0.49,2,     0.19,3,   2019.5,2,   8.0371,5,    26.99,    22.98
     49MR99K07, EQPAC,    11,  1,      4,      4,2,19991207,2310, -0.0065,-176.6953, 5398,      100,2,      101,2,   26.707,2,   35.323,2,   35.318,2,    182.4,2,      0.1,1,     0.20,2,     0.23,2,     0.12,2,     2.76,2,     4.57,2,     0.36,2,     0.54,2,     0.18,3,   2023.6,2,   8.0243,5,    26.68,    23.05
     49MR99K07, EQPAC,    11,  1,      3,      3,3,19991207,2310, -0.0065,-176.6953, 5398,      121,2,      122,2,   24.258,2,   35.114,2,   35.113,2,    157.6,2,      0.0,1,     0.07,2,     0.09,2,     0.07,2,     4.30,2,     7.67,2,     0.13,2,     0.69,2,     0.05,3,   2049.7,2,   7.9647,5,    24.23,    23.65
     49MR99K07, EQPAC,    11,  1,      2,      2,2,19991207,2310, -0.0065,-176.6953, 5398,      150,2,      151,2,   22.547,2,   35.393,2,   35.391,2,    138.0,2,      0.0,1,     0.03,2,     0.05,2,     0.06,2,     4.27,2,     8.96,2,     0.06,2,     0.79,2,     0.03,3,   2075.8,2,   7.9389,5,    22.52,    24.36
     49MR99K07, EQPAC,    11,  1,      1,      1,2,19991207,2310, -0.0065,-176.6953, 5398,      201,2,      203,2,   16.090,2,   35.146,2,   35.178,2,    138.4,2,      0.0,1,     0.01,2,     0.01,2,     0.02,2,     9.99,2,    14.35,2,     0.05,2,     1.14,2,     0.23,3,   2124.6,2,   7.8340,5,    16.06,    25.84
     49MR99K07, EQPAC,    11,  1,     24,     24,2,19991207,2310, -0.0065,-176.6953, 5398,       11,2,       12,2,   27.183,2,   35.352,2, -999.000,9,   -999.0,9,      0.0,1,  -999.00,9,  -999.00,9,  -999.00,9,  -999.00,9,  -999.00,9,  -999.00,9,  -999.00,9,  -999.00,9,   -999.0,9,-999.0000,9,    27.18,    22.92
     49MR99K07, EQPAC,    11,  1,     23,     23,2,19991207,2310, -0.0065,-176.6953, 5398,       29,2,       29,2,   27.078,2,   35.351,2, -999.000,9,   -999.0,9,      0.1,1,  -999.00,9,  -999.00,9,  -999.00,9,  -999.00,9,  -999.00,9,  -999.00,9,  -999.00,9,  -999.00,9,   -999.0,9,-999.0000,9,    27.07,    22.96
     49MR99K07, EQPAC,    11,  1,     21,     21,2,19991207,2310, -0.0065,-176.6953, 5398,       39,2,       40,2,   27.078,2,   35.352,2, -999.000,9,   -999.0,9,      0.1,1,  -999.00,9,  -999.00,9,  -999.00,9,  -999.00,9,  -999.00,9,  -999.00,9,  -999.00,9,  -999.00,9,   -999.0,9,-999.0000,9,    27.07,    22.96
     49MR99K07, EQPAC,    11,  1,     20,     20,2,19991207,2310, -0.0065,-176.6953, 5398,       50,2,       50,2,   27.075,2,   35.352,2, -999.000,9,   -999.0,9,      0.1,1,     0.29,2,     0.33,2,     0.15,2,  -999.00,9,  -999.00,9,  -999.00,9,  -999.00,9,  -999.00,9,   -999.0,9,-999.0000,9,    27.06,    22.96
     49MR99K07, EQPAC,    11,  1,     19,     19,2,19991207,2310, -0.0065,-176.6953, 5398,       61,2,       62,2,   27.070,2,   35.352,2, -999.000,9,   -999.0,9,      0.1,1,  -999.00,9,  -999.00,9,  -999.00,9,  -999.00,9,  -999.00,9,  -999.00,9,  -999.00,9,  -999.00,9,   -999.0,9,-999.0000,9,    27.06,    22.96
     49MR99K07, EQPAC,    11,  1,     18,     18,3,19991207,2310, -0.0065,-176.6953, 5398,       80,2,       81,2,   27.016,2,   35.353,2, -999.000,9,   -999.0,9,      0.1,1,  -999.00,9,  -999.00,9,  -999.00,9,  -999.00,9,  -999.00,9,  -999.00,9,  -999.00,9,  -999.00,9,   -999.0,9,-999.0000,9,    27.00,    22.98
     49MR99K07, EQPAC,    11,  1,     17,     17,2,19991207,2310, -0.0065,-176.6953, 5398,      100,2,      101,2,   26.719,2,   35.326,2, -999.000,9,   -999.0,9,      0.1,1,  -999.00,9,  -999.00,9,  -999.00,9,  -999.00,9,  -999.00,9,  -999.00,9,  -999.00,9,  -999.00,9,   -999.0,9,-999.0000,9,    26.70,    23.05
     49MR99K07, EQPAC,    11,  1,     16,     16,2,19991207,2310, -0.0065,-176.6953, 5398,      122,2,      122,2,   24.287,2,   35.115,2, -999.000,9,   -999.0,9,      0.0,1,     0.07,2,     0.10,2,     0.08,2,  -999.00,9,  -999.00,9,  -999.00,9,  -999.00,9,  -999.00,9,   -999.0,9,-999.0000,9,    24.26,    23.64
     49MR99K07, EQPAC,    11,  1,     15,     15,2,19991207,2310, -0.0065,-176.6953, 5398,      140,2,      141,2,   22.629,2,   35.266,2, -999.000,9,   -999.0,9,      0.0,1,  -999.00,9,  -999.00,9,  -999.00,9,  -999.00,9,  -999.00,9,  -999.00,9,  -999.00,9,  -999.00,9,   -999.0,9,-999.0000,9,    22.60,    24.24
     49MR99K07, EQPAC,    11,  1,     14,     14,2,19991207,2310, -0.0065,-176.6953, 5398,      170,2,      171,2,   20.659,2,   35.225,2, -999.000,9,   -999.0,9,      0.0,1,  -999.00,9,  -999.00,9,  -999.00,9,  -999.00,9,  -999.00,9,  -999.00,9,  -999.00,9,  -999.00,9,   -999.0,9,-999.0000,9,    20.63,    24.76
     49MR99K07, EQPAC,    11,  1,     13,     13,2,19991207,2310, -0.0065,-176.6953, 5398,      202,2,      203,2,   15.671,2,   35.088,2, -999.000,9,   -999.0,9,      0.0,1,  -999.00,9,  -999.00,9,  -999.00,9,  -999.00,9,  -999.00,9,  -999.00,9,  -999.00,9,  -999.00,9,   -999.0,9,-999.0000,9,    15.64,    25.89
     49MR99K07, EQPAC,    12,  1,      0,      0,2,19991209, 331,  0.0618,-170.1425, 5408,     -999,9,     -999,9,   26.400,2, -999.000,9, -999.000,9,   -999.0,9,   -999.0,9,     0.26,2,     0.28,2,     0.07,2,  -999.00,9,  -999.00,9,  -999.00,9,  -999.00,9,  -999.00,9,   -999.0,9,-999.0000,9,  -999.00,  -999.00
     49MR99K07, EQPAC,    12,  1,     12,     12,2,19991209, 339,  0.0618,-170.1437, 5408,       21,2,       21,2,   26.191,2,   35.280,2, -999.000,9,   -999.0,9,      0.1,1,  -999.00,9,  -999.00,9,  -999.00,9,  -999.00,9,  -999.00,9,  -999.00,9,  -999.00,9,  -999.00,9,   -999.0,9,-999.0000,9,    26.19,    23.18
     49MR99K07, EQPAC,    12,  1,     11,     11,3,19991209, 339,  0.0618,-170.1437, 5408,       41,2,       41,2,   26.074,2,   35.274,2, -999.000,9,   -999.0,9,      0.2,1,  -999.00,9,  -999.00,9,  -999.00,9,  -999.00,9,  -999.00,9,  -999.00,9,  -999.00,9,  -999.00,9,   -999.0,9,-999.0000,9,    26.06,    23.22
     49MR99K07, EQPAC,    12,  1,     10,     10,2,19991209, 339,  0.0618,-170.1437, 5408,       61,2,       62,2,   26.021,2,   35.268,2, -999.000,9,   -999.0,9,      0.2,1,  -999.00,9,  -999.00,9,  -999.00,9,  -999.00,9,  -999.00,9,  -999.00,9,  -999.00,9,  -999.00,9,   -999.0,9,-999.0000,9,    26.01,    23.23
     49MR99K07, EQPAC,    12,  1,      9,      9,2,19991209, 339,  0.0618,-170.1437, 5408,       82,2,       83,2,   25.871,2,   35.249,2, -999.000,9,   -999.0,9,      0.1,1,  -999.00,9,  -999.00,9,  -999.00,9,  -999.00,9,  -999.00,9,  -999.00,9,  -999.00,9,  -999.00,9,   -999.0,9,-999.0000,9,    25.85,    23.26
     49MR99K07, EQPAC,    12,  1,      8,      8,2,19991209, 339,  0.0618,-170.1437, 5408,      100,2,      101,2,   25.540,2,   35.207,2, -999.000,9,   -999.0,9,      0.1,1,  -999.00,9,  -999.00,9,  -999.00,9,  -999.00,9,  -999.00,9,  -999.00,9,  -999.00,9,  -999.00,9,   -999.0,9,-999.0000,9,    25.52,    23.33
     49MR99K07, EQPAC,    12,  1,      7,      7,2,19991209, 339,  0.0618,-170.1437, 5408,      122,2,      122,2,   24.647,2,   35.223,2, -999.000,9,   -999.0,9,      0.0,1,  -999.00,9,  -999.00,9,  -999.00,9,  -999.00,9,  -999.00,9,  -999.00,9,  -999.00,9,  -999.00,9,   -999.0,9,-999.0000,9,    24.62,    23.62
     49MR99K07, EQPAC,    12,  1,      6,      6,2,19991209, 339,  0.0618,-170.1437, 5408,      142,2,      142,2,   21.704,2,   35.318,2, -999.000,9,   -999.0,9,      0.0,1,  -999.00,9,  -999.00,9,  -999.00,9,  -999.00,9,  -999.00,9,  -999.00,9,  -999.00,9,  -999.00,9,   -999.0,9,-999.0000,9,    21.68,    24.54
     49MR99K07, EQPAC,    12,  1,      5,      5,2,19991209, 339,  0.0618,-170.1437, 5408,      161,2,      162,2,   20.075,2,   35.211,2, -999.000,9,   -999.0,9,      0.0,1,  -999.00,9,  -999.00,9,  -999.00,9,  -999.00,9,  -999.00,9,  -999.00,9,  -999.00,9,  -999.00,9,   -999.0,9,-999.0000,9,    20.04,    24.90
     49MR99K07, EQPAC,    12,  1,      4,      4,2,19991209, 339,  0.0618,-170.1437, 5408,      180,2,      181,2,   17.273,2,   35.271,2, -999.000,9,   -999.0,9,      0.0,1,  -999.00,9,  -999.00,9,  -999.00,9,  -999.00,9,  -999.00,9,  -999.00,9,  -999.00,9,  -999.00,9,   -999.0,9,-999.0000,9,    17.24,    25.66
     49MR99K07, EQPAC,    12,  1,      3,      3,2,19991209, 339,  0.0618,-170.1437, 5408,      203,2,      204,2,   14.722,2,   35.143,2, -999.000,9,   -999.0,9,      0.0,1,  -999.00,9,  -999.00,9,  -999.00,9,  -999.00,9,  -999.00,9,  -999.00,9,  -999.00,9,  -999.00,9,   -999.0,9,-999.0000,9,    14.69,    26.14
     49MR99K07, EQPAC,    12,  1,      2,      2,2,19991209, 339,  0.0618,-170.1437, 5408,       51,2,       52,2,   26.052,2,   35.272,2, -999.000,9,   -999.0,9,      0.2,1,  -999.00,9,  -999.00,9,  -999.00,9,  -999.00,9,  -999.00,9,  -999.00,9,  -999.00,9,  -999.00,9,   -999.0,9,-999.0000,9,    26.04,    23.22
     49MR99K07, EQPAC,    12,  1,     24,     24,2,19991209, 339,  0.0618,-170.1437, 5408,       20,2,       20,2,   26.191,2,   35.280,2, -999.000,9,   -999.0,9,      0.1,1,  -999.00,9,  -999.00,9,  -999.00,9,  -999.00,9,  -999.00,9,  -999.00,9,  -999.00,9,  -999.00,9,   -999.0,9,-999.0000,9,    26.19,    23.18
     49MR99K07, EQPAC,    12,  1,     23,     23,2,19991209, 339,  0.0618,-170.1437, 5408,       41,2,       41,2,   26.076,2,   35.275,2, -999.000,9,   -999.0,9,      0.2,1,  -999.00,9,  -999.00,9,  -999.00,9,  -999.00,9,  -999.00,9,  -999.00,9,  -999.00,9,  -999.00,9,   -999.0,9,-999.0000,9,    26.07,    23.22
     49MR99K07, EQPAC,    12,  1,     21,     21,3,19991209, 339,  0.0618,-170.1437, 5408,       61,2,       62,2,   26.021,2,   35.268,2, -999.000,9,   -999.0,9,      0.2,1,  -999.00,9,  -999.00,9,  -999.00,9,  -999.00,9,  -999.00,9,  -999.00,9,  -999.00,9,  -999.00,9,   -999.0,9,-999.0000,9,    26.01,    23.23
     49MR99K07, EQPAC,    12,  1,     20,     20,2,19991209, 339,  0.0618,-170.1437, 5408,       81,2,       82,2,   25.920,2,   35.256,2, -999.000,9,   -999.0,9,      0.1,1,  -999.00,9,  -999.00,9,  -999.00,9,  -999.00,9,  -999.00,9,  -999.00,9,  -999.00,9,  -999.00,9,   -999.0,9,-999.0000,9,    25.90,    23.25
     49MR99K07, EQPAC,    12,  1,     19,     19,3,19991209, 339,  0.0618,-170.1437, 5408,      100,2,      100,2,   25.594,2,   35.212,2, -999.000,9,   -999.0,9,      0.1,1,  -999.00,9,  -999.00,9,  -999.00,9,  -999.00,9,  -999.00,9,  -999.00,9,  -999.00,9,  -999.00,9,   -999.0,9,-999.0000,9,    25.57,    23.32
     49MR99K07, EQPAC,    12,  1,     18,     18,2,19991209, 339,  0.0618,-170.1437, 5408,      122,2,      122,2,   24.659,2,   35.223,2, -999.000,9,   -999.0,9,      0.0,1,     0.17,2,     0.19,2,     0.10,2,  -999.00,9,  -999.00,9,  -999.00,9,  -999.00,9,  -999.00,9,   -999.0,9,-999.0000,9,    24.63,    23.61
     49MR99K07, EQPAC,    12,  1,     17,     17,2,19991209, 339,  0.0618,-170.1437, 5408,      140,2,      141,2,   21.726,2,   35.322,2, -999.000,9,   -999.0,9,      0.0,1,  -999.00,9,  -999.00,9,  -999.00,9,  -999.00,9,  -999.00,9,  -999.00,9,  -999.00,9,  -999.00,9,   -999.0,9,-999.0000,9,    21.70,    24.54
     49MR99K07, EQPAC,    12,  1,     16,     16,2,19991209, 339,  0.0618,-170.1437, 5408,      161,2,      162,2,   20.075,2,   35.212,2, -999.000,9,   -999.0,9,      0.0,1,  -999.00,9,  -999.00,9,  -999.00,9,  -999.00,9,  -999.00,9,  -999.00,9,  -999.00,9,  -999.00,9,   -999.0,9,-999.0000,9,    20.04,    24.90
     49MR99K07, EQPAC,    12,  1,     15,     15,2,19991209, 339,  0.0618,-170.1437, 5408,      180,2,      181,2,   17.170,2,   35.262,2, -999.000,9,   -999.0,9,      0.0,1,  -999.00,9,  -999.00,9,  -999.00,9,  -999.00,9,  -999.00,9,  -999.00,9,  -999.00,9,  -999.00,9,   -999.0,9,-999.0000,9,    17.14,    25.68
     49MR99K07, EQPAC,    12,  1,     14,     14,2,19991209, 339,  0.0618,-170.1437, 5408,      205,2,      206,2,   14.693,2,   35.147,2, -999.000,9,   -999.0,9,      0.0,1,  -999.00,9,  -999.00,9,  -999.00,9,  -999.00,9,  -999.00,9,  -999.00,9,  -999.00,9,  -999.00,9,   -999.0,9,-999.0000,9,    14.66,    26.15
     49MR99K07, EQPAC,    12,  1,     13,     13,3,19991209, 339,  0.0618,-170.1437, 5408,       50,2,       51,2,   26.054,2,   35.273,2, -999.000,9,   -999.0,9,      0.2,1,  -999.00,9,  -999.00,9,  -999.00,9,  -999.00,9,  -999.00,9,  -999.00,9,  -999.00,9,  -999.00,9,   -999.0,9,-999.0000,9,    26.04,    23.22
     49MR99K07, EQPAC,    12,  1,      1,      1,3,19991209, 339,  0.0618,-170.1437, 5408,       50,2,       50,2,   26.053,2,   35.272,2, -999.000,9,   -999.0,9,      0.2,1,     0.40,2,     0.45,2,     0.18,2,  -999.00,9,  -999.00,9,  -999.00,9,  -999.00,9,  -999.00,9,   -999.0,9,-999.0000,9,    26.04,    23.22