BOTTLE,20101227MIRCJHATS
EXPOCODE,SECT,STNNBR,CASTNO,SAMPNO,BTLNBR,BTLNBR_FLAG_W,DATE,TIME,LATITUDE,LONGITUDE,DEPTH,CTDDPT,CTDDPT_FLAG_W,CTDPRS,CTDPRS_FLAG_W,CTDTMP,CTDTMP_FLAG_W,CTDSAL,CTDSAL_FLAG_W,SALNTY,SALNTY_FLAG_W,OXYGEN,OXYGEN_FLAG_W,FLUOR,FLUOR_FLAG_W,CHLORA,CHLORA_FLAG_W,CHLWELSH,CHLWELSH_W,PPHYTN,PPHYTN_FLAG_W,SILCAT,SILCAT_FLAG_W,NITRAT,NITRAT_FLAG_W,NITRIT,NITRIT_FLAG_W,PHSPHT,PHSPHT_FLAG_W,NH4,NH4_FLAG_W,TCARBN,TCARBN_FLAG_W,PH,PH_FLAG_W,THETA,SIG0
,,,,,,,,UTC,DEG,DEG,M,M,,DBAR,,ITS-90,,PSS-78,,PSS-78,,UMOL/KG,,UG/L,,MG/CUM,,MG/CUM,,MG/CUM,,UMOL/KG,,UMOL/KG,,UMOL/KG,,UMOL/KG,,UMOL/KG,,UMOL/KG,,-,,DEG C,KG/CUM
     49MR99K07, EQPAC,    12,  2,     24,     24,3,19991209, 706,  0.0680,-170.1465, 5677,      200,2,      202,2,   16.710,2,   35.254,2, -999.000,9,    138.8,2,   -999.0,9,  -999.00,9,  -999.00,9,  -999.00,9,  -999.00,9,  -999.00,9,  -999.00,9,  -999.00,9,  -999.00,9,   2123.0,1,   7.8452,5,    16.68,    25.78
     49MR99K07, EQPAC,    12,  2,     23,     23,2,19991209, 706,  0.0680,-170.1465, 5677,      251,2,      252,2,   13.922,2,   35.009,3,   34.948,3,    125.6,2,   -999.0,9,  -999.00,9,  -999.00,9,  -999.00,9,    16.70,2,    19.51,2,     0.04,2,     1.47,2,     0.00,3,   2153.6,2,   7.7513,5,    13.89,    26.21
     49MR99K07, EQPAC,    12,  2,     22,     22,2,19991209, 706,  0.0680,-170.1465, 5677,      301,2,      302,2,   12.041,2,   34.832,2,   34.831,2,    108.0,2,   -999.0,9,  -999.00,9,  -999.00,9,  -999.00,9,    21.57,2,    23.36,2,     0.03,2,     1.72,2,     0.00,3,   2178.0,2,   7.6878,5,    12.00,    26.45
     49MR99K07, EQPAC,    12,  2,     21,     21,2,19991209, 706,  0.0680,-170.1465, 5677,      400,2,      403,2,   10.461,2,   34.756,2,   34.748,2,     64.8,2,   -999.0,9,  -999.00,9,  -999.00,9,  -999.00,9,    28.19,2,    30.74,2,     0.04,2,     2.19,2,     0.00,3,   2227.0,2,   7.5599,5,    10.41,    26.68
     49MR99K07, EQPAC,    12,  2,     20,     20,2,19991209, 706,  0.0680,-170.1465, 5677,      501,2,      504,2,    8.507,2,   34.646,2,   34.643,2,     46.8,2,   -999.0,9,  -999.00,9,  -999.00,9,  -999.00,9,    39.00,2,    36.34,2,     0.03,2,     2.58,2,     0.03,3,   2257.8,2,   7.4754,5,     8.45,    26.92
     49MR99K07, EQPAC,    12,  2,     19,     19,2,19991209, 706,  0.0680,-170.1465, 5677,      600,2,      605,2,    7.035,2,   34.579,2,   34.576,2,     66.7,2,   -999.0,9,  -999.00,9,  -999.00,9,  -999.00,9,    47.88,2,    37.30,2,     0.05,2,     2.68,2,     0.00,3,   2262.6,2,   7.4827,5,     6.98,    27.08
     49MR99K07, EQPAC,    12,  2,     18,     18,2,19991209, 706,  0.0680,-170.1465, 5677,      701,2,      706,2,    6.183,2,   34.559,2,   34.557,2,     68.5,2,   -999.0,9,  -999.00,9,  -999.00,9,  -999.00,9,    57.27,2,    38.74,2,     0.04,2,     2.80,2,     0.00,3,   2274.5,2,   7.4739,5,     6.12,    27.18
     49MR99K07, EQPAC,    12,  2,     17,     17,2,19991209, 706,  0.0680,-170.1465, 5677,      800,2,      806,2,    5.574,2,   34.548,2,   34.546,2,     80.6,2,   -999.0,9,  -999.00,9,  -999.00,9,  -999.00,9,    63.53,2,    38.39,2,     0.04,2,     2.79,2,     0.00,3,   2277.5,2,   7.4888,5,     5.50,    27.25
     49MR99K07, EQPAC,    12,  2,     16,     16,2,19991209, 706,  0.0680,-170.1465, 5677,      900,2,      907,2,    5.019,2,   34.549,2,   34.547,2,     84.0,2,   -999.0,9,  -999.00,9,  -999.00,9,  -999.00,9,    73.61,2,    38.58,2,     0.05,2,     2.81,2,     0.00,3,   2289.3,2,   7.4906,5,     4.94,    27.32
     49MR99K07, EQPAC,    12,  2,     15,     15,2,19991209, 706,  0.0680,-170.1465, 5677,     1001,2,     1009,2,    4.518,2,   34.558,2,   34.556,2,     83.7,2,   -999.0,9,  -999.00,9,  -999.00,9,  -999.00,9,    80.95,2,    39.12,2,     0.04,2,     2.88,2,     0.00,3,   2301.1,3,   7.4852,5,     4.44,    27.38
     49MR99K07, EQPAC,    12,  2,     14,     14,2,19991209, 706,  0.0680,-170.1465, 5677,     1250,2,     1261,2,    3.485,2,   34.588,2,   34.586,2,     90.1,2,   -999.0,9,  -999.00,9,  -999.00,9,  -999.00,9,   103.54,2,    39.25,2,     0.03,2,     2.90,2,     0.00,3,   2329.3,2,   7.4923,5,     3.39,    27.51
     49MR99K07, EQPAC,    12,  2,     13,     13,2,19991209, 706,  0.0680,-170.1465, 5677,     1501,2,     1515,2,    3.094,2,   34.603,2,   34.601,2,     94.6,2,   -999.0,9,  -999.00,9,  -999.00,9,  -999.00,9,   117.33,2,    39.11,2,     0.03,2,     2.87,2,     0.00,3,   2333.5,2,   7.5040,5,     2.98,    27.56
     49MR99K07, EQPAC,    12,  2,     12,     12,2,19991209, 706,  0.0680,-170.1465, 5677,     1752,2,     1769,2,    2.531,2,   34.627,2,   34.629,2,    105.3,2,   -999.0,9,  -999.00,9,  -999.00,9,  -999.00,9,   128.84,2,    38.63,2,     0.02,2,     2.82,2,     0.32,3,   2338.7,2,   7.5159,5,     2.41,    27.63
     49MR99K07, EQPAC,    12,  2,     11,     11,2,19991209, 706,  0.0680,-170.1465, 5677,     2000,2,     2021,2,    2.221,2,   34.643,2,   34.641,2,    112.9,2,   -999.0,9,  -999.00,9,  -999.00,9,  -999.00,9,   137.54,2,    38.14,2,     0.03,2,     2.79,2,     0.11,3,   2341.5,2,   7.5311,5,     2.08,    27.67
     49MR99K07, EQPAC,    12,  2,     10,     10,2,19991209, 706,  0.0680,-170.1465, 5677,     2251,2,     2275,2,    1.978,2,   34.657,2,   34.656,2,    119.9,2,   -999.0,9,  -999.00,9,  -999.00,9,  -999.00,9,   143.67,2,    37.73,2,     0.04,2,     2.73,2,     0.62,3,   2344.5,2,   7.5412,5,     1.82,    27.70
     49MR99K07, EQPAC,    12,  2,      9,      9,2,19991209, 706,  0.0680,-170.1465, 5677,     2500,2,     2529,2,    1.832,2,   34.665,2,   34.663,2,    126.0,2,   -999.0,9,  -999.00,9,  -999.00,9,  -999.00,9,   148.02,2,    37.41,2,     0.04,2,     2.70,2,     0.18,3,   2339.8,2,   7.5488,5,     1.65,    27.72
     49MR99K07, EQPAC,    12,  2,      8,      8,2,19991209, 706,  0.0680,-170.1465, 5677,     2751,2,     2785,2,    1.740,2,   34.671,2,   34.668,2,    131.2,2,   -999.0,9,  -999.00,9,  -999.00,9,  -999.00,9,   150.04,2,    36.99,2,     0.04,2,     2.66,2,     0.00,3,   2339.9,2,   7.5589,5,     1.54,    27.73
     49MR99K07, EQPAC,    12,  2,      7,      7,3,19991209, 706,  0.0680,-170.1465, 5677,     3001,2,     3039,2,    1.676,2,   34.675,2,   34.673,2,    136.9,2,   -999.0,9,  -999.00,9,  -999.00,9,  -999.00,9,   148.24,2,    36.73,2,     0.04,2,     2.62,2,     0.00,3,   2336.4,2,   7.5656,5,     1.45,    27.74
     49MR99K07, EQPAC,    12,  2,      6,      6,2,19991209, 706,  0.0680,-170.1465, 5677,     3251,2,     3295,2,    1.590,2,   34.680,2,   34.678,2,    144.0,2,   -999.0,9,  -999.00,9,  -999.00,9,  -999.00,9,   145.80,2,    36.19,2,     0.04,2,     2.57,2,     0.18,3,   2330.2,2,   7.5770,5,     1.34,    27.75
     49MR99K07, EQPAC,    12,  2,      5,      5,2,19991209, 706,  0.0680,-170.1465, 5677,     3500,2,     3549,2,    1.519,2,   34.685,2,   34.682,2,    151.0,2,   -999.0,9,  -999.00,9,  -999.00,9,  -999.00,9,   142.52,2,    35.74,2,     0.03,2,     2.54,2,     0.00,3,   2325.9,2,   7.5885,5,     1.25,    27.76
     49MR99K07, EQPAC,    12,  2,      4,      4,2,19991209, 706,  0.0680,-170.1465, 5677,     3751,2,     3805,2,    1.457,2,   34.691,2,   34.689,2,    158.9,2,   -999.0,9,  -999.00,9,  -999.00,9,  -999.00,9,   137.34,2,    35.24,2,     0.04,2,     2.49,2,     0.00,3,   2317.8,2,   7.5960,5,     1.16,    27.77
     49MR99K07, EQPAC,    12,  2,      3,      3,3,19991209, 706,  0.0680,-170.1465, 5677,     4000,2,     4061,2,    1.405,2,   34.696,2,   34.693,2,    164.7,2,   -999.0,9,  -999.00,9,  -999.00,9,  -999.00,9,   132.31,2,    34.76,2,     0.03,2,     2.47,2,     0.00,3,   2131.1,3,   7.6039,5,     1.08,    27.77
     49MR99K07, EQPAC,    12,  2,      2,      2,2,19991209, 706,  0.0680,-170.1465, 5677,     4251,2,     4318,2,    1.304,2,   34.702,2,   34.700,2,    179.0,2,   -999.0,9,  -999.00,9,  -999.00,9,  -999.00,9,   124.51,2,    33.73,2,     0.04,2,     2.40,2,     0.00,3,   2299.7,2,   7.6131,5,     0.96,    27.78
     49MR99K07, EQPAC,    12,  2,      1,      1,2,19991209, 706,  0.0680,-170.1465, 5677,     4501,2,     4574,2,    1.276,2,   34.704,2,   34.702,2,    204.7,2,   -999.0,9,  -999.00,9,  -999.00,9,  -999.00,9,   123.40,2,    33.42,2,     0.03,2,     2.38,2,     0.00,3,   2291.3,3,   7.6163,5,     0.90,    27.79
     49MR99K07, EQPAC,    12,  3,      0,      0,2,19991209,1502,  0.0337,-170.1277, 5543,     -999,9,     -999,9,   26.000,2, -999.000,9, -999.000,9,   -999.0,9,   -999.0,9,     0.31,2,     0.35,2,     0.12,2,  -999.00,9,  -999.00,9,  -999.00,9,  -999.00,9,  -999.00,9,   -999.0,9,-999.0000,9,  -999.00,  -999.00
     49MR99K07, EQPAC,    12,  3,     12,     12,2,19991209,1509,  0.0335,-170.1268, 5543,       12,2,       12,2,   26.099,2,   35.277,2, -999.000,9,   -999.0,9,      0.2,1,     0.31,2,     0.34,2,     0.13,2,  -999.00,9,  -999.00,9,  -999.00,9,  -999.00,9,  -999.00,9,   -999.0,9,-999.0000,9,    26.10,    23.21
     49MR99K07, EQPAC,    12,  3,     11,     11,2,19991209,1509,  0.0335,-170.1268, 5543,       21,2,       21,2,   26.105,2,   35.276,2, -999.000,9,   -999.0,9,      0.2,1,     0.31,2,     0.34,2,     0.13,2,  -999.00,9,  -999.00,9,  -999.00,9,  -999.00,9,  -999.00,9,   -999.0,9,-999.0000,9,    26.10,    23.21
     49MR99K07, EQPAC,    12,  3,     10,     10,3,19991209,1509,  0.0335,-170.1268, 5543,       31,2,       31,2,   26.105,2,   35.276,2, -999.000,9,   -999.0,9,      0.2,1,     0.36,2,     0.40,2,     0.14,2,  -999.00,9,  -999.00,9,  -999.00,9,  -999.00,9,  -999.00,9,   -999.0,9,-999.0000,9,    26.10,    23.21
     49MR99K07, EQPAC,    12,  3,      9,      9,2,19991209,1509,  0.0335,-170.1268, 5543,       41,2,       41,2,   26.095,2,   35.274,2, -999.000,9,   -999.0,9,      0.2,1,     0.31,2,     0.38,2,     0.18,2,  -999.00,9,  -999.00,9,  -999.00,9,  -999.00,9,  -999.00,9,   -999.0,9,-999.0000,9,    26.09,    23.21
     49MR99K07, EQPAC,    12,  3,      8,      8,2,19991209,1509,  0.0335,-170.1268, 5543,       49,2,       49,2,   26.064,2,   35.271,2, -999.000,9,   -999.0,9,      0.1,1,     0.30,2,     0.35,2,     0.14,2,  -999.00,9,  -999.00,9,  -999.00,9,  -999.00,9,  -999.00,9,   -999.0,9,-999.0000,9,    26.05,    23.22
     49MR99K07, EQPAC,    12,  3,      7,      7,2,19991209,1509,  0.0335,-170.1268, 5543,       59,2,       59,2,   26.039,2,   35.267,2, -999.000,9,   -999.0,9,      0.1,1,     0.32,2,     0.36,2,     0.15,2,  -999.00,9,  -999.00,9,  -999.00,9,  -999.00,9,  -999.00,9,   -999.0,9,-999.0000,9,    26.03,    23.22
     49MR99K07, EQPAC,    12,  3,      6,      6,3,19991209,1509,  0.0335,-170.1268, 5543,       71,2,       71,2,   25.899,2,   35.252,2, -999.000,9,   -999.0,9,      0.1,1,     0.31,2,     0.34,2,     0.13,2,  -999.00,9,  -999.00,9,  -999.00,9,  -999.00,9,  -999.00,9,   -999.0,9,-999.0000,9,    25.88,    23.25
     49MR99K07, EQPAC,    12,  3,      5,      5,3,19991209,1509,  0.0335,-170.1268, 5543,       80,2,       81,2,   25.808,2,   35.240,2, -999.000,9,   -999.0,9,      0.1,1,     0.29,2,     0.33,2,     0.14,2,  -999.00,9,  -999.00,9,  -999.00,9,  -999.00,9,  -999.00,9,   -999.0,9,-999.0000,9,    25.79,    23.27
     49MR99K07, EQPAC,    12,  3,      4,      4,2,19991209,1509,  0.0335,-170.1268, 5543,       89,2,       90,2,   25.683,2,   35.220,2, -999.000,9,   -999.0,9,      0.1,1,     0.25,2,     0.28,2,     0.12,2,  -999.00,9,  -999.00,9,  -999.00,9,  -999.00,9,  -999.00,9,   -999.0,9,-999.0000,9,    25.66,    23.30
     49MR99K07, EQPAC,    12,  3,      3,      3,3,19991209,1509,  0.0335,-170.1268, 5543,      100,2,      100,2,   25.254,2,   35.198,2, -999.000,9,   -999.0,9,      0.0,1,     0.17,2,     0.20,2,     0.10,2,  -999.00,9,  -999.00,9,  -999.00,9,  -999.00,9,  -999.00,9,   -999.0,9,-999.0000,9,    25.23,    23.41
     49MR99K07, EQPAC,    12,  3,      2,      2,2,19991209,1509,  0.0335,-170.1268, 5543,      120,2,      121,2,   23.902,2,   35.327,2, -999.000,9,   -999.0,9,      0.0,1,     0.12,2,     0.14,2,     0.08,2,  -999.00,9,  -999.00,9,  -999.00,9,  -999.00,9,  -999.00,9,   -999.0,9,-999.0000,9,    23.88,    23.92
     49MR99K07, EQPAC,    12,  3,      1,      1,2,19991209,1509,  0.0335,-170.1268, 5543,      150,2,      151,2,   19.786,2,   35.179,2, -999.000,9,   -999.0,9,      0.0,1,     0.02,2,     0.03,2,     0.03,2,  -999.00,9,  -999.00,9,  -999.00,9,  -999.00,9,  -999.00,9,   -999.0,9,-999.0000,9,    19.76,    24.95
     49MR99K07, EQPAC,    12,  3,     24,     24,2,19991209,1509,  0.0335,-170.1268, 5543,       11,2,       11,2,   26.098,2,   35.276,2, -999.000,9,   -999.0,9,      0.1,1,  -999.00,9,  -999.00,9,  -999.00,9,  -999.00,9,  -999.00,9,  -999.00,9,  -999.00,9,  -999.00,9,   -999.0,9,-999.0000,9,    26.10,    23.21
     49MR99K07, EQPAC,    12,  3,     23,     23,2,19991209,1509,  0.0335,-170.1268, 5543,       31,2,       31,2,   26.108,2,   35.276,2, -999.000,9,   -999.0,9,      0.1,1,  -999.00,9,  -999.00,9,  -999.00,9,  -999.00,9,  -999.00,9,  -999.00,9,  -999.00,9,  -999.00,9,   -999.0,9,-999.0000,9,    26.10,    23.21
     49MR99K07, EQPAC,    12,  3,     21,     21,2,19991209,1509,  0.0335,-170.1268, 5543,       41,2,       41,2,   26.094,2,   35.274,2, -999.000,9,   -999.0,9,      0.1,1,  -999.00,9,  -999.00,9,  -999.00,9,  -999.00,9,  -999.00,9,  -999.00,9,  -999.00,9,  -999.00,9,   -999.0,9,-999.0000,9,    26.08,    23.21
     49MR99K07, EQPAC,    12,  3,     20,     20,2,19991209,1509,  0.0335,-170.1268, 5543,       50,2,       51,2,   26.068,2,   35.271,2, -999.000,9,   -999.0,9,      0.2,1,     0.30,2,     0.34,2,     0.14,2,  -999.00,9,  -999.00,9,  -999.00,9,  -999.00,9,  -999.00,9,   -999.0,9,-999.0000,9,    26.06,    23.22
     49MR99K07, EQPAC,    12,  3,     19,     19,2,19991209,1509,  0.0335,-170.1268, 5543,       60,2,       60,2,   26.023,2,   35.266,2, -999.000,9,   -999.0,9,      0.1,1,  -999.00,9,  -999.00,9,  -999.00,9,  -999.00,9,  -999.00,9,  -999.00,9,  -999.00,9,  -999.00,9,   -999.0,9,-999.0000,9,    26.01,    23.23
     49MR99K07, EQPAC,    12,  3,     18,     18,2,19991209,1509,  0.0335,-170.1268, 5543,       80,2,       80,2,   25.817,2,   35.241,2, -999.000,9,   -999.0,9,      0.1,1,  -999.00,9,  -999.00,9,  -999.00,9,  -999.00,9,  -999.00,9,  -999.00,9,  -999.00,9,  -999.00,9,   -999.0,9,-999.0000,9,    25.80,    23.27
     49MR99K07, EQPAC,    12,  3,     17,     17,2,19991209,1509,  0.0335,-170.1268, 5543,      100,2,      100,2,   25.363,2,   35.196,2, -999.000,9,   -999.0,9,      0.1,1,  -999.00,9,  -999.00,9,  -999.00,9,  -999.00,9,  -999.00,9,  -999.00,9,  -999.00,9,  -999.00,9,   -999.0,9,-999.0000,9,    25.34,    23.38
     49MR99K07, EQPAC,    12,  3,     16,     16,2,19991209,1509,  0.0335,-170.1268, 5543,      122,2,      123,2,   23.691,2,   35.351,2, -999.000,9,   -999.0,9,      0.0,1,     0.12,2,     0.14,2,     0.08,2,  -999.00,9,  -999.00,9,  -999.00,9,  -999.00,9,  -999.00,9,   -999.0,9,-999.0000,9,    23.67,    24.00
     49MR99K07, EQPAC,    12,  3,     15,     15,2,19991209,1509,  0.0335,-170.1268, 5543,      141,2,      142,2,   21.489,2,   35.361,2, -999.000,9,   -999.0,9,      0.0,1,  -999.00,9,  -999.00,9,  -999.00,9,  -999.00,9,  -999.00,9,  -999.00,9,  -999.00,9,  -999.00,9,   -999.0,9,-999.0000,9,    21.46,    24.63
     49MR99K07, EQPAC,    12,  3,     14,     14,2,19991209,1509,  0.0335,-170.1268, 5543,      174,2,      175,2,   18.689,2,   35.426,2, -999.000,9,   -999.0,9,      0.0,1,  -999.00,9,  -999.00,9,  -999.00,9,  -999.00,9,  -999.00,9,  -999.00,9,  -999.00,9,  -999.00,9,   -999.0,9,-999.0000,9,    18.66,    25.43
     49MR99K07, EQPAC,    12,  3,     13,     13,2,19991209,1509,  0.0335,-170.1268, 5543,      201,2,      202,2,   14.885,2,   35.130,2, -999.000,9,   -999.0,9,      0.0,1,  -999.00,9,  -999.00,9,  -999.00,9,  -999.00,9,  -999.00,9,  -999.00,9,  -999.00,9,  -999.00,9,   -999.0,9,-999.0000,9,    14.85,    26.10