BOTTLE,20101227MIRCJHATS
EXPOCODE,SECT,STNNBR,CASTNO,SAMPNO,BTLNBR,BTLNBR_FLAG_W,DATE,TIME,LATITUDE,LONGITUDE,DEPTH,CTDDPT,CTDDPT_FLAG_W,CTDPRS,CTDPRS_FLAG_W,CTDTMP,CTDTMP_FLAG_W,CTDSAL,CTDSAL_FLAG_W,SALNTY,SALNTY_FLAG_W,OXYGEN,OXYGEN_FLAG_W,FLUOR,FLUOR_FLAG_W,CHLORA,CHLORA_FLAG_W,CHLWELSH,CHLWELSH_W,PPHYTN,PPHYTN_FLAG_W,SILCAT,SILCAT_FLAG_W,NITRAT,NITRAT_FLAG_W,NITRIT,NITRIT_FLAG_W,PHSPHT,PHSPHT_FLAG_W,NH4,NH4_FLAG_W,TCARBN,TCARBN_FLAG_W,PH,PH_FLAG_W,THETA,SIG0
,,,,,,,,UTC,DEG,DEG,M,M,,DBAR,,ITS-90,,PSS-78,,PSS-78,,UMOL/KG,,UG/L,,MG/CUM,,MG/CUM,,MG/CUM,,UMOL/KG,,UMOL/KG,,UMOL/KG,,UMOL/KG,,UMOL/KG,,UMOL/KG,,-,,DEG C,KG/CUM
     49MR99K07, EQPAC,     5,  1,      0,      0,2,19991130,2340, -0.0002, 157.3432, -999,     -999,9,     -999,9,   28.900,2, -999.000,9,   34.811,2,   -999.0,9,   -999.0,9,     0.08,2,     0.08,2,     0.01,2,     1.71,2,     0.09,2,     0.04,2,     0.23,2,     0.04,3,   1946.2,2,   8.1064,5,  -999.00,  -999.00
     49MR99K07, EQPAC,     5,  1,     12,     12,2,19991130,2346, -0.0003, 157.3428, -999,       10,2,       10,2,   29.404,2,   34.802,2,   34.801,2,    197.0,2,      0.0,1,     0.08,2,     0.08,2,     0.01,2,     1.68,2,     0.09,2,     0.04,2,     0.22,2,     0.00,3,   1946.4,2,   8.1095,5,    29.40,    21.78
     49MR99K07, EQPAC,     5,  1,     11,     11,2,19991130,2346, -0.0003, 157.3428, -999,       31,2,       31,2,   29.434,2,   34.912,3,   35.087,3,    200.1,2,      0.0,1,     0.10,2,     0.11,2,     0.02,2,     1.66,2,     0.06,2,     0.05,2,     0.21,2,     0.00,3,   1962.7,3,   8.1032,5,    29.43,    21.85
     49MR99K07, EQPAC,     5,  1,     10,     10,2,19991130,2346, -0.0003, 157.3428, -999,       40,2,       40,2,   29.175,2,   35.307,2,   35.307,2,    205.3,2,      0.0,1,     0.12,2,     0.12,2,     0.03,2,     1.64,2,     0.07,2,     0.05,2,     0.23,2,     0.03,3,   1979.8,2,   8.0913,5,    29.17,    22.24
     49MR99K07, EQPAC,     5,  1,      9,      9,2,19991130,2346, -0.0003, 157.3428, -999,       49,2,       49,2,   28.933,2,   35.292,2, -999.000,9,    205.4,2,      0.0,1,     0.15,2,     0.18,2,     0.09,2,  -999.00,9,  -999.00,9,  -999.00,9,  -999.00,9,  -999.00,9,   1982.4,2,   8.0937,5,    28.92,    22.31
     49MR99K07, EQPAC,     5,  1,      8,      8,3,19991130,2346, -0.0003, 157.3428, -999,       60,2,       60,2,   28.681,2,   35.304,2,   35.307,2,    197.9,2,      0.1,1,     0.26,2,     0.30,2,     0.13,2,     1.96,2,     0.43,2,     0.25,2,     0.30,2,     0.10,3,   1987.9,2,   8.0818,5,    28.67,    22.40
     49MR99K07, EQPAC,     5,  1,      7,      7,3,19991130,2346, -0.0003, 157.3428, -999,       69,2,       70,2,   28.584,2,   35.299,2,   35.300,2,    193.3,2,      0.1,1,     0.33,2,     0.38,2,     0.21,2,     2.05,2,     0.64,2,     0.35,2,     0.34,2,     0.23,3,   1993.6,2,   8.0770,5,    28.57,    22.43
     49MR99K07, EQPAC,     5,  1,      6,      6,2,19991130,2346, -0.0003, 157.3428, -999,       80,2,       81,2,   28.466,2,   35.269,2,   35.267,2,    190.1,2,      0.1,1,     0.37,2,     0.45,2,     0.26,2,     2.10,2,     0.87,2,     0.42,2,     0.36,2,     0.41,3,   1992.5,2,   7.9194,5,    28.45,    22.44
     49MR99K07, EQPAC,     5,  1,      5,      5,3,19991130,2346, -0.0003, 157.3428, -999,       90,2,       91,2,   28.344,2,   35.229,2,   35.228,2,    187.6,2,      0.1,1,     0.33,2,     0.43,2,     0.30,2,     2.14,2,     1.04,2,     0.48,2,     0.38,2,     0.35,3,   1992.1,2,   8.0662,5,    28.32,    22.45
     49MR99K07, EQPAC,     5,  1,      4,      4,2,19991130,2346, -0.0003, 157.3428, -999,      101,2,      102,2,   28.248,2,   35.191,2,   35.192,2,    185.1,2,      0.1,1,     0.33,2,     0.41,2,     0.26,2,     2.22,2,     1.16,2,     0.53,2,     0.40,2,     0.44,3,   1993.0,2,   8.0627,5,    28.22,    22.46
     49MR99K07, EQPAC,     5,  1,      3,      3,2,19991130,2346, -0.0003, 157.3428, -999,      121,2,      122,2,   27.915,2,   35.208,2,   35.206,2,   -999.0,9,      0.1,1,     0.33,2,     0.41,2,     0.24,2,     2.38,2,     2.91,2,     0.21,2,     0.48,2,     0.14,3,   2001.6,2,   8.0463,5,    27.89,    22.58
     49MR99K07, EQPAC,     5,  1,      2,      2,2,19991130,2346, -0.0003, 157.3428, -999,      150,2,      151,2,   26.588,2,   35.361,2,   35.360,2,    158.5,2,      0.0,1,     0.06,2,     0.08,2,     0.08,2,     2.74,2,     5.72,2,     0.07,2,     0.64,2,     0.14,3,   2032.9,2,   8.0097,5,    26.55,    23.12
     49MR99K07, EQPAC,     5,  1,      1,      1,2,19991130,2346, -0.0003, 157.3428, -999,      200,2,      201,2,   20.390,2,   35.588,2,   35.568,2,    143.1,2,      0.0,1,     0.01,2,     0.02,2,     0.02,2,     4.09,2,     9.07,2,     0.05,2,     0.85,2,     0.06,3,   2093.0,2,   7.9214,5,    20.35,    25.11
     49MR99K07, EQPAC,     5,  1,     24,     24,2,19991130,2346, -0.0003, 157.3428, -999,       10,2,       10,2,   29.397,2,   34.801,2, -999.000,9,   -999.0,9,      0.0,1,  -999.00,9,  -999.00,9,  -999.00,9,  -999.00,9,  -999.00,9,  -999.00,9,  -999.00,9,  -999.00,9,   -999.0,9,-999.0000,9,    29.39,    21.78
     49MR99K07, EQPAC,     5,  1,     23,     23,3,19991130,2346, -0.0003, 157.3428, -999,       30,2,       31,2,   29.427,2,   34.926,2, -999.000,9,   -999.0,9,      0.0,1,  -999.00,9,  -999.00,9,  -999.00,9,  -999.00,9,  -999.00,9,  -999.00,9,  -999.00,9,  -999.00,9,   -999.0,9,-999.0000,9,    29.42,    21.87
     49MR99K07, EQPAC,     5,  1,     21,     21,2,19991130,2346, -0.0003, 157.3428, -999,       40,2,       41,2,   29.153,2,   35.301,2, -999.000,9,   -999.0,9,      0.0,1,  -999.00,9,  -999.00,9,  -999.00,9,  -999.00,9,  -999.00,9,  -999.00,9,  -999.00,9,  -999.00,9,   -999.0,9,-999.0000,9,    29.14,    22.24
     49MR99K07, EQPAC,     5,  1,     20,     20,2,19991130,2346, -0.0003, 157.3428, -999,       59,2,       59,2,   28.686,2,   35.304,2, -999.000,9,   -999.0,9,      0.1,1,  -999.00,9,  -999.00,9,  -999.00,9,  -999.00,9,  -999.00,9,  -999.00,9,  -999.00,9,  -999.00,9,   -999.0,9,-999.0000,9,    28.67,    22.40
     49MR99K07, EQPAC,     5,  1,     19,     19,2,19991130,2346, -0.0003, 157.3428, -999,       70,2,       70,2,   28.589,2,   35.299,2, -999.000,9,   -999.0,9,      0.1,1,     0.18,2,     0.26,2,     0.22,2,  -999.00,9,  -999.00,9,  -999.00,9,  -999.00,9,  -999.00,9,   -999.0,9,-999.0000,9,    28.57,    22.43
     49MR99K07, EQPAC,     5,  1,     18,     18,3,19991130,2346, -0.0003, 157.3428, -999,       80,2,       81,2,   28.457,2,   35.266,2, -999.000,9,   -999.0,9,      0.1,1,  -999.00,9,  -999.00,9,  -999.00,9,  -999.00,9,  -999.00,9,  -999.00,9,  -999.00,9,  -999.00,9,   -999.0,9,-999.0000,9,    28.44,    22.44
     49MR99K07, EQPAC,     5,  1,     17,     17,3,19991130,2346, -0.0003, 157.3428, -999,      101,2,      102,2,   28.248,2,   35.192,2, -999.000,9,   -999.0,9,      0.1,1,  -999.00,9,  -999.00,9,  -999.00,9,  -999.00,9,  -999.00,9,  -999.00,9,  -999.00,9,  -999.00,9,   -999.0,9,-999.0000,9,    28.22,    22.46
     49MR99K07, EQPAC,     5,  1,     16,     16,2,19991130,2346, -0.0003, 157.3428, -999,      121,2,      121,2,   27.915,2,   35.208,2, -999.000,9,   -999.0,9,      0.1,1,     0.22,2,     0.28,2,     0.19,2,  -999.00,9,  -999.00,9,  -999.00,9,  -999.00,9,  -999.00,9,   -999.0,9,-999.0000,9,    27.89,    22.58
     49MR99K07, EQPAC,     5,  1,     15,     15,2,19991130,2346, -0.0003, 157.3428, -999,      141,2,      141,2,   27.859,2,   35.422,2, -999.000,9,   -999.0,9,      0.0,1,  -999.00,9,  -999.00,9,  -999.00,9,  -999.00,9,  -999.00,9,  -999.00,9,  -999.00,9,  -999.00,9,   -999.0,9,-999.0000,9,    27.83,    22.76
     49MR99K07, EQPAC,     5,  1,     14,     14,2,19991130,2346, -0.0003, 157.3428, -999,      171,2,      172,2,   24.562,2,   35.219,2, -999.000,9,   -999.0,9,      0.0,1,  -999.00,9,  -999.00,9,  -999.00,9,  -999.00,9,  -999.00,9,  -999.00,9,  -999.00,9,  -999.00,9,   -999.0,9,-999.0000,9,    24.52,    23.64
     49MR99K07, EQPAC,     5,  1,     13,     13,2,19991130,2346, -0.0003, 157.3428, -999,      201,2,      202,2,   20.371,2,   35.582,2, -999.000,9,   -999.0,9,      0.0,1,  -999.00,9,  -999.00,9,  -999.00,9,  -999.00,9,  -999.00,9,  -999.00,9,  -999.00,9,  -999.00,9,   -999.0,9,-999.0000,9,    20.33,    25.11
     49MR99K07, EQPAC,     6,  1,      0,      0,2,19991201,1705,  0.0082, 160.0227, 2824,     -999,9,     -999,9,   29.600,2, -999.000,9, -999.000,9,   -999.0,9,   -999.0,9,  -999.00,9,  -999.00,9,  -999.00,9,  -999.00,9,  -999.00,9,  -999.00,9,  -999.00,9,  -999.00,9,   -999.0,9,-999.0000,9,  -999.00,  -999.00
     49MR99K07, EQPAC,     6,  1,     12,     12,2,19991201,1710,  0.0083, 160.0228, 2824,       10,2,       10,2,   29.346,2,   35.119,2, -999.000,9,   -999.0,9,      0.1,1,     0.15,2,     0.16,2,     0.05,2,  -999.00,9,  -999.00,9,  -999.00,9,  -999.00,9,  -999.00,9,   -999.0,9,-999.0000,9,    29.34,    22.04
     49MR99K07, EQPAC,     6,  1,     11,     11,2,19991201,1710,  0.0083, 160.0228, 2824,       20,2,       20,2,   29.314,2,   35.120,2, -999.000,9,   -999.0,9,      0.1,1,     0.14,2,     0.15,2,     0.05,2,  -999.00,9,  -999.00,9,  -999.00,9,  -999.00,9,  -999.00,9,   -999.0,9,-999.0000,9,    29.31,    22.05
     49MR99K07, EQPAC,     6,  1,     10,     10,2,19991201,1710,  0.0083, 160.0228, 2824,       31,2,       31,2,   28.953,2,   35.128,2, -999.000,9,   -999.0,9,      0.1,1,     0.17,2,     0.19,2,     0.06,2,  -999.00,9,  -999.00,9,  -999.00,9,  -999.00,9,  -999.00,9,   -999.0,9,-999.0000,9,    28.95,    22.18
     49MR99K07, EQPAC,     6,  1,      9,      9,2,19991201,1710,  0.0083, 160.0228, 2824,       40,2,       41,2,   28.772,2,   35.120,2, -999.000,9,   -999.0,9,      0.1,1,     0.17,2,     0.18,2,     0.06,2,  -999.00,9,  -999.00,9,  -999.00,9,  -999.00,9,  -999.00,9,   -999.0,9,-999.0000,9,    28.76,    22.23
     49MR99K07, EQPAC,     6,  1,      8,      8,2,19991201,1710,  0.0083, 160.0228, 2824,       51,2,       51,2,   28.723,2,   35.122,2, -999.000,9,   -999.0,9,      0.1,1,     0.18,2,     0.20,2,     0.07,2,  -999.00,9,  -999.00,9,  -999.00,9,  -999.00,9,  -999.00,9,   -999.0,9,-999.0000,9,    28.71,    22.25
     49MR99K07, EQPAC,     6,  1,      7,      7,3,19991201,1710,  0.0083, 160.0228, 2824,       61,2,       61,2,   28.680,2,   35.131,2, -999.000,9,   -999.0,9,      0.1,1,     0.21,2,     0.24,2,     0.11,2,  -999.00,9,  -999.00,9,  -999.00,9,  -999.00,9,  -999.00,9,   -999.0,9,-999.0000,9,    28.67,    22.27
     49MR99K07, EQPAC,     6,  1,      6,      6,2,19991201,1710,  0.0083, 160.0228, 2824,       71,2,       72,2,   28.390,2,   35.189,2, -999.000,9,   -999.0,9,      0.1,1,     0.30,2,     0.38,2,     0.23,2,  -999.00,9,  -999.00,9,  -999.00,9,  -999.00,9,  -999.00,9,   -999.0,9,-999.0000,9,    28.37,    22.41
     49MR99K07, EQPAC,     6,  1,      5,      5,2,19991201,1710,  0.0083, 160.0228, 2824,       80,2,       81,2,   28.165,2,   35.212,2, -999.000,9,   -999.0,9,      0.1,1,     0.22,2,     0.30,2,     0.24,2,  -999.00,9,  -999.00,9,  -999.00,9,  -999.00,9,  -999.00,9,   -999.0,9,-999.0000,9,    28.15,    22.50
     49MR99K07, EQPAC,     6,  1,      4,      4,2,19991201,1710,  0.0083, 160.0228, 2824,       92,2,       92,2,   28.046,2,   35.215,2, -999.000,9,   -999.0,9,      0.1,1,     0.20,2,     0.27,2,     0.23,2,  -999.00,9,  -999.00,9,  -999.00,9,  -999.00,9,  -999.00,9,   -999.0,9,-999.0000,9,    28.02,    22.54
     49MR99K07, EQPAC,     6,  1,      3,      3,2,19991201,1710,  0.0083, 160.0228, 2824,      101,2,      102,2,   27.949,2,   35.202,2, -999.000,9,   -999.0,9,      0.1,1,     0.17,2,     0.25,2,     0.22,2,  -999.00,9,  -999.00,9,  -999.00,9,  -999.00,9,  -999.00,9,   -999.0,9,-999.0000,9,    27.92,    22.56
     49MR99K07, EQPAC,     6,  1,      2,      2,2,19991201,1710,  0.0083, 160.0228, 2824,      120,2,      121,2,   27.603,2,   35.185,2, -999.000,9,   -999.0,9,      0.0,1,     0.11,2,     0.15,2,     0.15,2,  -999.00,9,  -999.00,9,  -999.00,9,  -999.00,9,  -999.00,9,   -999.0,9,-999.0000,9,    27.57,    22.66
     49MR99K07, EQPAC,     6,  1,      1,      1,2,19991201,1710,  0.0083, 160.0228, 2824,      148,2,      149,2,   26.009,2,   35.368,2, -999.000,9,   -999.0,9,      0.0,1,     0.04,2,     0.07,2,     0.09,2,  -999.00,9,  -999.00,9,  -999.00,9,  -999.00,9,  -999.00,9,   -999.0,9,-999.0000,9,    25.98,    23.31
     49MR99K07, EQPAC,     6,  1,     24,     24,2,19991201,1710,  0.0083, 160.0228, 2824,       11,2,       11,2,   29.347,2,   35.119,2, -999.000,9,   -999.0,9,      0.1,1,  -999.00,9,  -999.00,9,  -999.00,9,  -999.00,9,  -999.00,9,  -999.00,9,  -999.00,9,  -999.00,9,   -999.0,9,-999.0000,9,    29.34,    22.04
     49MR99K07, EQPAC,     6,  1,     23,     23,3,19991201,1710,  0.0083, 160.0228, 2824,       31,2,       31,2,   28.934,2,   35.127,2, -999.000,9,   -999.0,9,      0.1,1,  -999.00,9,  -999.00,9,  -999.00,9,  -999.00,9,  -999.00,9,  -999.00,9,  -999.00,9,  -999.00,9,   -999.0,9,-999.0000,9,    28.93,    22.18
     49MR99K07, EQPAC,     6,  1,     21,     21,2,19991201,1710,  0.0083, 160.0228, 2824,       41,2,       41,2,   28.776,2,   35.120,2, -999.000,9,   -999.0,9,      0.1,1,  -999.00,9,  -999.00,9,  -999.00,9,  -999.00,9,  -999.00,9,  -999.00,9,  -999.00,9,  -999.00,9,   -999.0,9,-999.0000,9,    28.77,    22.23
     49MR99K07, EQPAC,     6,  1,     20,     20,2,19991201,1710,  0.0083, 160.0228, 2824,       61,2,       61,2,   28.683,2,   35.130,2, -999.000,9,   -999.0,9,      0.1,1,  -999.00,9,  -999.00,9,  -999.00,9,  -999.00,9,  -999.00,9,  -999.00,9,  -999.00,9,  -999.00,9,   -999.0,9,-999.0000,9,    28.67,    22.27
     49MR99K07, EQPAC,     6,  1,     19,     19,2,19991201,1710,  0.0083, 160.0228, 2824,       70,2,       71,2,   28.393,2,   35.186,2, -999.000,9,   -999.0,9,      0.2,1,     0.28,2,     0.33,2,     0.17,2,  -999.00,9,  -999.00,9,  -999.00,9,  -999.00,9,  -999.00,9,   -999.0,9,-999.0000,9,    28.38,    22.41
     49MR99K07, EQPAC,     6,  1,     18,     18,3,19991201,1710,  0.0083, 160.0228, 2824,       80,2,       80,2,   28.170,2,   35.212,2, -999.000,9,   -999.0,9,      0.1,1,  -999.00,9,  -999.00,9,  -999.00,9,  -999.00,9,  -999.00,9,  -999.00,9,  -999.00,9,  -999.00,9,   -999.0,9,-999.0000,9,    28.15,    22.50
     49MR99K07, EQPAC,     6,  1,     17,     17,2,19991201,1710,  0.0083, 160.0228, 2824,      101,2,      102,2,   27.947,2,   35.203,2, -999.000,9,   -999.0,9,      0.1,1,  -999.00,9,  -999.00,9,  -999.00,9,  -999.00,9,  -999.00,9,  -999.00,9,  -999.00,9,  -999.00,9,   -999.0,9,-999.0000,9,    27.92,    22.56
     49MR99K07, EQPAC,     6,  1,     16,     16,2,19991201,1710,  0.0083, 160.0228, 2824,      121,2,      121,2,   27.605,2,   35.185,2, -999.000,9,   -999.0,9,      0.0,1,     0.09,2,     0.13,2,     0.12,2,  -999.00,9,  -999.00,9,  -999.00,9,  -999.00,9,  -999.00,9,   -999.0,9,-999.0000,9,    27.58,    22.66
     49MR99K07, EQPAC,     6,  1,     15,     15,2,19991201,1710,  0.0083, 160.0228, 2824,      140,2,      141,2,   27.331,2,   35.187,2, -999.000,9,   -999.0,9,      0.0,1,  -999.00,9,  -999.00,9,  -999.00,9,  -999.00,9,  -999.00,9,  -999.00,9,  -999.00,9,  -999.00,9,   -999.0,9,-999.0000,9,    27.30,    22.75
     49MR99K07, EQPAC,     6,  1,     14,     14,2,19991201,1710,  0.0083, 160.0228, 2824,      170,2,      171,2,   22.709,2,   35.203,2, -999.000,9,   -999.0,9,      0.0,1,  -999.00,9,  -999.00,9,  -999.00,9,  -999.00,9,  -999.00,9,  -999.00,9,  -999.00,9,  -999.00,9,   -999.0,9,-999.0000,9,    22.67,    24.17
     49MR99K07, EQPAC,     6,  1,     13,     13,2,19991201,1710,  0.0083, 160.0228, 2824,      200,2,      201,2,   17.909,2,   35.286,2, -999.000,9,   -999.0,9,      0.0,1,  -999.00,9,  -999.00,9,  -999.00,9,  -999.00,9,  -999.00,9,  -999.00,9,  -999.00,9,  -999.00,9,   -999.0,9,-999.0000,9,    17.87,    25.51