BOTTLE,20101227MIRCJHATS
EXPOCODE,SECT,STNNBR,CASTNO,SAMPNO,BTLNBR,BTLNBR_FLAG_W,DATE,TIME,LATITUDE,LONGITUDE,DEPTH,CTDDPT,CTDDPT_FLAG_W,CTDPRS,CTDPRS_FLAG_W,CTDTMP,CTDTMP_FLAG_W,CTDSAL,CTDSAL_FLAG_W,SALNTY,SALNTY_FLAG_W,OXYGEN,OXYGEN_FLAG_W,FLUOR,FLUOR_FLAG_W,CHLORA,CHLORA_FLAG_W,CHLWELSH,CHLWELSH_W,PPHYTN,PPHYTN_FLAG_W,SILCAT,SILCAT_FLAG_W,NITRAT,NITRAT_FLAG_W,NITRIT,NITRIT_FLAG_W,PHSPHT,PHSPHT_FLAG_W,NH4,NH4_FLAG_W,TCARBN,TCARBN_FLAG_W,PH,PH_FLAG_W,THETA,SIG0
,,,,,,,,UTC,DEG,DEG,M,M,,DBAR,,ITS-90,,PSS-78,,PSS-78,,UMOL/KG,,UG/L,,MG/CUM,,MG/CUM,,MG/CUM,,UMOL/KG,,UMOL/KG,,UMOL/KG,,UMOL/KG,,UMOL/KG,,UMOL/KG,,-,,DEG C,KG/CUM
     49MR99K07, EQPAC,    12,  4,      0,      0,2,19991209,2121, -0.0033,-170.2023, 5562,     -999,9,     -999,9,   26.100,2, -999.000,9,   35.280,2,   -999.0,9,   -999.0,9,     0.29,2,     0.33,2,     0.14,2,     2.91,2,     4.79,2,     0.38,2,     0.57,2,     0.23,3,   2028.6,6,   8.0158,5,  -999.00,  -999.00
     49MR99K07, EQPAC,    12,  4,     12,     12,2,19991209,2129, -0.0040,-170.2017, 5562,       10,2,       10,2,   26.132,2,   35.277,2,   35.275,2,    196.3,2,      0.0,1,     0.28,2,     0.32,2,     0.11,2,     2.91,2,     4.82,2,     0.37,2,     0.57,2,     0.11,3,   2027.2,2,   8.0165,5,    26.13,    23.20
     49MR99K07, EQPAC,    12,  4,     11,     11,2,19991209,2129, -0.0040,-170.2017, 5562,       20,2,       20,2,   26.102,2,   35.276,2,   35.273,2,    196.2,2,      0.1,1,     0.27,2,     0.31,2,     0.13,2,     2.86,2,     4.81,2,     0.37,2,     0.58,2,     0.12,3,   2028.4,2,   8.0168,5,    26.10,    23.21
     49MR99K07, EQPAC,    12,  4,     10,     10,3,19991209,2129, -0.0040,-170.2017, 5562,       30,2,       30,2,   26.083,2,   35.274,2,   35.272,2,    195.7,2,      0.1,1,     0.29,2,     0.33,2,     0.13,2,     2.85,2,     4.84,2,     0.37,2,     0.58,2,     0.21,3,   2029.9,2,   8.0168,5,    26.08,    23.21
     49MR99K07, EQPAC,    12,  4,      9,      9,2,19991209,2129, -0.0040,-170.2017, 5562,       40,2,       40,2,   26.064,2,   35.271,2,   35.270,2,    194.8,2,      0.1,1,     0.33,2,     0.39,2,     0.16,2,     2.91,2,     4.88,2,     0.38,2,     0.58,2,     0.31,3,   2031.1,2,   8.0158,5,    26.06,    23.22
     49MR99K07, EQPAC,    12,  4,      8,      8,2,19991209,2129, -0.0040,-170.2017, 5562,       50,2,       51,2,   26.046,2,   35.269,2,   35.266,2,    193.9,2,      0.1,1,     0.35,2,     0.40,2,     0.17,2,     3.03,2,     4.93,2,     0.38,2,     0.58,2,     0.34,3,   2030.4,2,   8.0138,5,    26.03,    23.22
     49MR99K07, EQPAC,    12,  4,      7,      7,2,19991209,2129, -0.0040,-170.2017, 5562,       60,2,       60,2,   26.006,2,   35.264,2,   35.263,2,    193.1,2,      0.1,1,     0.31,2,     0.36,2,     0.16,2,     3.09,2,     5.00,2,     0.39,2,     0.58,2,     0.50,3,   2033.6,2,   8.0126,5,    25.99,    23.23
     49MR99K07, EQPAC,    12,  4,      6,      6,3,19991209,2129, -0.0040,-170.2017, 5562,       70,2,       70,2,   25.985,2,   35.261,2,   35.259,2,    192.4,2,      0.1,1,     0.34,2,     0.38,2,     0.17,2,     3.19,2,     5.02,2,     0.39,2,     0.57,2,     0.39,3,   2033.4,2,   8.0112,5,    25.97,    23.23
     49MR99K07, EQPAC,    12,  4,      5,      5,2,19991209,2129, -0.0040,-170.2017, 5562,       80,2,       80,2,   25.944,2,   35.255,2,   35.253,2,    191.2,2,      0.1,1,     0.29,2,     0.34,2,     0.17,2,     3.18,2,     5.09,2,     0.39,2,     0.55,2,     0.35,3,   2030.6,2,   8.0087,5,    25.93,    23.24
     49MR99K07, EQPAC,    12,  4,      4,      4,2,19991209,2129, -0.0040,-170.2017, 5562,      100,2,      100,2,   25.772,2,   35.233,2,   35.233,2,    188.1,2,      0.1,1,     0.28,2,     0.32,2,     0.14,2,     3.36,2,     5.31,2,     0.40,2,     0.58,2,     0.45,3,   2032.5,2,   8.0043,5,    25.75,    23.28
     49MR99K07, EQPAC,    12,  4,      3,      3,3,19991209,2129, -0.0040,-170.2017, 5562,      121,2,      121,2,   25.031,2,   35.225,2,   35.220,2,    175.0,2,      0.0,1,     0.18,2,     0.21,2,     0.12,2,     3.70,2,     6.21,2,     0.35,2,     0.63,2,     0.21,3,   2041.8,2,   7.9869,5,    25.00,    23.50
     49MR99K07, EQPAC,    12,  4,      2,      2,2,19991209,2129, -0.0040,-170.2017, 5562,      150,2,      151,2,   21.970,2,   35.287,2,   35.294,2,    138.0,2,      0.0,1,     0.04,2,     0.06,2,     0.06,2,     5.39,2,     9.16,2,     0.09,2,     0.79,2,     0.07,3,   2077.2,2,   7.9300,5,    21.94,    24.44
     49MR99K07, EQPAC,    12,  4,      1,      1,2,19991209,2129, -0.0040,-170.2017, 5562,      201,2,      202,2,   17.120,2,   35.295,2,   35.287,2,   -999.0,9,      0.0,1,     0.01,2,     0.02,2,     0.02,2,     8.27,2,    12.82,2,     0.08,2,     1.05,2,     0.06,3,   2117.7,2,   7.8567,5,    17.09,    25.71
     49MR99K07, EQPAC,    12,  4,     24,     24,2,19991209,2129, -0.0040,-170.2017, 5562,       10,2,       10,2,   26.131,2,   35.277,2, -999.000,9,   -999.0,9,      0.0,1,     0.28,2,     0.32,2,     0.12,2,  -999.00,9,  -999.00,9,  -999.00,9,  -999.00,9,  -999.00,9,   -999.0,9,-999.0000,9,    26.13,    23.20
     49MR99K07, EQPAC,    12,  4,     23,     23,2,19991209,2129, -0.0040,-170.2017, 5562,       29,2,       29,2,   26.085,2,   35.275,2, -999.000,9,   -999.0,9,      0.1,1,     0.30,2,     0.35,2,     0.14,2,  -999.00,9,  -999.00,9,  -999.00,9,  -999.00,9,  -999.00,9,   -999.0,9,-999.0000,9,    26.08,    23.21
     49MR99K07, EQPAC,    12,  4,     21,     21,2,19991209,2129, -0.0040,-170.2017, 5562,       39,2,       40,2,   26.061,2,   35.271,2, -999.000,9,   -999.0,9,      0.1,1,     0.37,2,     0.42,2,     0.17,2,  -999.00,9,  -999.00,9,  -999.00,9,  -999.00,9,  -999.00,9,   -999.0,9,-999.0000,9,    26.05,    23.22
     49MR99K07, EQPAC,    12,  4,     20,     20,2,19991209,2129, -0.0040,-170.2017, 5562,       50,2,       51,2,   26.045,2,   35.269,2, -999.000,9,   -999.0,9,      0.1,1,     0.36,2,     0.41,2,     0.16,2,  -999.00,9,  -999.00,9,  -999.00,9,  -999.00,9,  -999.00,9,   -999.0,9,-999.0000,9,    26.03,    23.22
     49MR99K07, EQPAC,    12,  4,     19,     19,2,19991209,2129, -0.0040,-170.2017, 5562,       60,2,       60,2,   26.010,2,   35.264,2, -999.000,9,   -999.0,9,      0.1,1,     0.36,2,     0.41,2,     0.17,2,  -999.00,9,  -999.00,9,  -999.00,9,  -999.00,9,  -999.00,9,   -999.0,9,-999.0000,9,    26.00,    23.23
     49MR99K07, EQPAC,    12,  4,     18,     18,2,19991209,2129, -0.0040,-170.2017, 5562,       80,2,       80,2,   25.941,2,   35.254,2, -999.000,9,   -999.0,9,      0.1,1,     0.32,2,     0.38,2,     0.17,2,  -999.00,9,  -999.00,9,  -999.00,9,  -999.00,9,  -999.00,9,   -999.0,9,-999.0000,9,    25.92,    23.24
     49MR99K07, EQPAC,    12,  4,     17,     17,2,19991209,2129, -0.0040,-170.2017, 5562,      101,2,      101,2,   25.797,2,   35.235,2, -999.000,9,   -999.0,9,      0.1,1,  -999.00,9,  -999.00,9,  -999.00,9,  -999.00,9,  -999.00,9,  -999.00,9,  -999.00,9,  -999.00,9,   -999.0,9,-999.0000,9,    25.77,    23.27
     49MR99K07, EQPAC,    12,  4,     16,     16,2,19991209,2129, -0.0040,-170.2017, 5562,      120,2,      121,2,   25.104,2,   35.220,2, -999.000,9,   -999.0,9,      0.1,1,     0.21,2,     0.23,2,     0.11,2,  -999.00,9,  -999.00,9,  -999.00,9,  -999.00,9,  -999.00,9,   -999.0,9,-999.0000,9,    25.08,    23.48
     49MR99K07, EQPAC,    12,  4,     15,     15,2,19991209,2129, -0.0040,-170.2017, 5562,      140,2,      141,2,   23.509,2,   35.351,2, -999.000,9,   -999.0,9,      0.0,1,  -999.00,9,  -999.00,9,  -999.00,9,  -999.00,9,  -999.00,9,  -999.00,9,  -999.00,9,  -999.00,9,   -999.0,9,-999.0000,9,    23.48,    24.05
     49MR99K07, EQPAC,    12,  4,     14,     14,2,19991209,2129, -0.0040,-170.2017, 5562,      171,2,      172,2,   21.106,2,   35.327,2, -999.000,9,   -999.0,9,      0.0,1,  -999.00,9,  -999.00,9,  -999.00,9,  -999.00,9,  -999.00,9,  -999.00,9,  -999.00,9,  -999.00,9,   -999.0,9,-999.0000,9,    21.07,    24.71
     49MR99K07, EQPAC,    12,  4,     13,     13,2,19991209,2129, -0.0040,-170.2017, 5562,      202,2,      203,2,   17.023,2,   35.286,2, -999.000,9,   -999.0,9,      0.0,1,  -999.00,9,  -999.00,9,  -999.00,9,  -999.00,9,  -999.00,9,  -999.00,9,  -999.00,9,  -999.00,9,   -999.0,9,-999.0000,9,    16.99,    25.73