BOTTLE,20101227MIRCJHATS
EXPOCODE,SECT,STNNBR,CASTNO,SAMPNO,BTLNBR,BTLNBR_FLAG_W,DATE,TIME,LATITUDE,LONGITUDE,DEPTH,CTDDPT,CTDDPT_FLAG_W,CTDPRS,CTDPRS_FLAG_W,CTDTMP,CTDTMP_FLAG_W,CTDSAL,CTDSAL_FLAG_W,SALNTY,SALNTY_FLAG_W,OXYGEN,OXYGEN_FLAG_W,FLUOR,FLUOR_FLAG_W,CHLORA,CHLORA_FLAG_W,CHLWELSH,CHLWELSH_W,PPHYTN,PPHYTN_FLAG_W,SILCAT,SILCAT_FLAG_W,NITRAT,NITRAT_FLAG_W,NITRIT,NITRIT_FLAG_W,PHSPHT,PHSPHT_FLAG_W,NH4,NH4_FLAG_W,TCARBN,TCARBN_FLAG_W,PH,PH_FLAG_W,THETA,SIG0
,,,,,,,,UTC,DEG,DEG,M,M,,DBAR,,ITS-90,,PSS-78,,PSS-78,,UMOL/KG,,UG/L,,MG/CUM,,MG/CUM,,MG/CUM,,UMOL/KG,,UMOL/KG,,UMOL/KG,,UMOL/KG,,UMOL/KG,,UMOL/KG,,-,,DEG C,KG/CUM
     49MR99K07, EQPAC,     8,  1,      0,      0,2,19991204,2237, -0.0005, 171.7157, 4722,     -999,9,     -999,9,   27.600,2, -999.000,9,   35.204,2,   -999.0,9,   -999.0,9,     0.31,2,     0.34,2,     0.11,2,     2.38,2,     2.40,2,     0.41,2,     0.45,2,     0.32,3,   1999.1,6,   8.0556,5,  -999.00,  -999.00
     49MR99K07, EQPAC,     8,  1,     12,     12,2,19991204,2245, -0.0007, 171.7153, 4722,       10,2,       10,2,   27.511,2,   35.201,2,   35.197,2,    192.9,2,      0.1,1,     0.27,2,     0.29,2,     0.10,2,     2.34,2,     2.40,2,     0.41,2,     0.43,2,     0.52,3,   1997.8,2,   8.0554,5,    27.51,    22.70
     49MR99K07, EQPAC,     8,  1,     11,     11,2,19991204,2245, -0.0007, 171.7153, 4722,       21,2,       21,2,   27.470,2,   35.199,2,   35.197,2,    193.1,2,      0.1,1,     0.26,2,     0.30,2,     0.11,2,     2.35,2,     2.41,2,     0.42,2,     0.43,2,     0.61,3,   2000.9,2,   8.0547,5,    27.47,    22.72
     49MR99K07, EQPAC,     8,  1,     10,     10,2,19991204,2245, -0.0007, 171.7153, 4722,       31,2,       31,2,   27.460,2,   35.199,2,   35.196,2,    192.2,2,      0.1,1,     0.26,2,     0.30,2,     0.13,2,     2.30,2,     2.45,2,     0.41,2,     0.43,2,     0.68,3,   2000.5,2,   8.0546,5,    27.45,    22.72
     49MR99K07, EQPAC,     8,  1,      9,      9,2,19991204,2245, -0.0007, 171.7153, 4722,       41,2,       41,2,   27.460,2,   35.199,2,   35.198,2,    192.0,2,      0.1,1,     0.29,2,     0.33,2,     0.13,2,     2.34,2,     2.49,2,     0.41,2,     0.43,2,     0.95,3,   2002.8,2,   8.0545,5,    27.45,    22.72
     49MR99K07, EQPAC,     8,  1,      8,      8,2,19991204,2245, -0.0007, 171.7153, 4722,       50,2,       50,2,   27.445,2,   35.198,2,   35.196,2,    191.2,2,      0.1,1,     0.32,2,     0.36,2,     0.15,2,     2.40,2,     2.56,2,     0.42,2,     0.44,2,     0.70,3,   2003.0,2,   8.0529,5,    27.43,    22.72
     49MR99K07, EQPAC,     8,  1,      7,      7,2,19991204,2245, -0.0007, 171.7153, 4722,       61,2,       62,2,   27.435,2,   35.198,2,   35.195,2,    190.8,2,      0.1,1,     0.28,2,     0.32,2,     0.14,2,     2.44,2,     2.59,2,     0.43,2,     0.45,2,     1.07,3,   2004.3,2,   8.0518,5,    27.42,    22.73
     49MR99K07, EQPAC,     8,  1,      6,      6,3,19991204,2245, -0.0007, 171.7153, 4722,       71,2,       72,2,   27.392,2,   35.197,2,   35.195,2,    189.7,2,      0.1,1,     0.31,2,     0.36,2,     0.17,2,     2.51,2,     2.69,2,     0.43,2,     0.45,2,     0.38,3,   2001.9,3,   8.0504,5,    27.38,    22.74
     49MR99K07, EQPAC,     8,  1,      5,      5,2,19991204,2245, -0.0007, 171.7153, 4722,       80,2,       80,2,   27.351,2,   35.195,2,   35.198,2,    187.7,2,      0.1,1,     0.31,2,     0.35,2,     0.14,2,     2.56,2,     2.81,2,     0.45,2,     0.45,2,     0.47,3,   2005.9,2,   8.0478,5,    27.33,    22.75
     49MR99K07, EQPAC,     8,  1,      4,      4,2,19991204,2245, -0.0007, 171.7153, 4722,      100,2,      101,2,   27.153,2,   35.187,2,   35.187,2,    181.9,2,      0.1,1,     0.27,2,     0.31,2,     0.13,2,     2.72,2,     3.32,2,     0.46,2,     0.47,2,     0.15,3,   2008.6,2,   8.0377,5,    27.13,    22.81
     49MR99K07, EQPAC,     8,  1,      3,      3,3,19991204,2245, -0.0007, 171.7153, 4722,      120,2,      121,2,   26.149,2,   35.143,2,   35.143,2,    162.0,2,      0.0,1,     0.11,2,     0.13,2,     0.08,2,     3.27,2,     5.27,2,     0.21,2,     0.58,2,     0.19,3,   2022.9,2,   8.0086,5,    26.12,    23.10
     49MR99K07, EQPAC,     8,  1,      2,      2,2,19991204,2245, -0.0007, 171.7153, 4722,      150,2,      150,2,   25.837,2,   35.248,2,   35.248,2,    152.3,2,      0.0,1,     0.04,2,     0.06,2,     0.06,2,     3.17,2,     6.37,2,     0.09,2,     0.64,2,     0.22,3,   2033.5,2,   7.9955,5,    25.80,    23.27
     49MR99K07, EQPAC,     8,  1,      1,      1,2,19991204,2245, -0.0007, 171.7153, 4722,      201,2,      202,2,   18.430,2,   35.313,2,   35.305,2,    139.9,2,      0.0,1,     0.01,2,     0.01,2,     0.02,2,     7.52,2,    11.49,2,     0.07,2,     1.00,2,     0.14,3,   2101.3,2,   7.8839,5,    18.39,    25.41
     49MR99K07, EQPAC,     8,  1,     24,     24,2,19991204,2245, -0.0007, 171.7153, 4722,       10,2,       10,2,   27.509,2,   35.201,2, -999.000,9,   -999.0,9,      0.1,1,  -999.00,9,  -999.00,9,  -999.00,9,  -999.00,9,  -999.00,9,  -999.00,9,  -999.00,9,  -999.00,9,   -999.0,9,-999.0000,9,    27.51,    22.71
     49MR99K07, EQPAC,     8,  1,     23,     23,2,19991204,2245, -0.0007, 171.7153, 4722,       32,2,       32,2,   27.458,2,   35.199,2, -999.000,9,   -999.0,9,      0.1,1,  -999.00,9,  -999.00,9,  -999.00,9,  -999.00,9,  -999.00,9,  -999.00,9,  -999.00,9,  -999.00,9,   -999.0,9,-999.0000,9,    27.45,    22.72
     49MR99K07, EQPAC,     8,  1,     21,     21,2,19991204,2245, -0.0007, 171.7153, 4722,       39,2,       40,2,   27.462,2,   35.199,2, -999.000,9,   -999.0,9,      0.1,1,  -999.00,9,  -999.00,9,  -999.00,9,  -999.00,9,  -999.00,9,  -999.00,9,  -999.00,9,  -999.00,9,   -999.0,9,-999.0000,9,    27.45,    22.72
     49MR99K07, EQPAC,     8,  1,     20,     20,2,19991204,2245, -0.0007, 171.7153, 4722,       52,2,       52,2,   27.448,2,   35.198,2, -999.000,9,   -999.0,9,      0.1,1,     0.34,2,     0.37,2,     0.13,2,  -999.00,9,  -999.00,9,  -999.00,9,  -999.00,9,  -999.00,9,   -999.0,9,-999.0000,9,    27.44,    22.72
     49MR99K07, EQPAC,     8,  1,     19,     19,2,19991204,2245, -0.0007, 171.7153, 4722,       60,2,       61,2,   27.435,2,   35.198,2, -999.000,9,   -999.0,9,      0.1,1,  -999.00,9,  -999.00,9,  -999.00,9,  -999.00,9,  -999.00,9,  -999.00,9,  -999.00,9,  -999.00,9,   -999.0,9,-999.0000,9,    27.42,    22.73
     49MR99K07, EQPAC,     8,  1,     18,     18,3,19991204,2245, -0.0007, 171.7153, 4722,       80,2,       81,2,   27.364,2,   35.196,2, -999.000,9,   -999.0,9,      0.1,1,  -999.00,9,  -999.00,9,  -999.00,9,  -999.00,9,  -999.00,9,  -999.00,9,  -999.00,9,  -999.00,9,   -999.0,9,-999.0000,9,    27.35,    22.75
     49MR99K07, EQPAC,     8,  1,     17,     17,2,19991204,2245, -0.0007, 171.7153, 4722,       99,2,      100,2,   27.157,2,   35.188,2, -999.000,9,   -999.0,9,      0.1,1,  -999.00,9,  -999.00,9,  -999.00,9,  -999.00,9,  -999.00,9,  -999.00,9,  -999.00,9,  -999.00,9,   -999.0,9,-999.0000,9,    27.13,    22.81
     49MR99K07, EQPAC,     8,  1,     16,     16,2,19991204,2245, -0.0007, 171.7153, 4722,      119,2,      120,2,   26.219,2,   35.143,2, -999.000,9,   -999.0,9,      0.0,1,     0.11,2,     0.14,2,     0.09,2,  -999.00,9,  -999.00,9,  -999.00,9,  -999.00,9,  -999.00,9,   -999.0,9,-999.0000,9,    26.19,    23.07
     49MR99K07, EQPAC,     8,  1,     15,     15,2,19991204,2245, -0.0007, 171.7153, 4722,      140,2,      141,2,   25.874,2,   35.246,2, -999.000,9,   -999.0,9,      0.0,1,  -999.00,9,  -999.00,9,  -999.00,9,  -999.00,9,  -999.00,9,  -999.00,9,  -999.00,9,  -999.00,9,   -999.0,9,-999.0000,9,    25.84,    23.26
     49MR99K07, EQPAC,     8,  1,     14,     14,3,19991204,2245, -0.0007, 171.7153, 4722,      170,2,      171,2,   22.023,2,   35.090,2, -999.000,9,   -999.0,9,      0.0,1,  -999.00,9,  -999.00,9,  -999.00,9,  -999.00,9,  -999.00,9,  -999.00,9,  -999.00,9,  -999.00,9,   -999.0,9,-999.0000,9,    21.99,    24.28
     49MR99K07, EQPAC,     8,  1,     13,     13,3,19991204,2245, -0.0007, 171.7153, 4722,      200,2,      202,2,   18.441,2,   35.311,2, -999.000,9,   -999.0,9,      0.0,1,  -999.00,9,  -999.00,9,  -999.00,9,  -999.00,9,  -999.00,9,  -999.00,9,  -999.00,9,  -999.00,9,   -999.0,9,-999.0000,9,    18.41,    25.40
     49MR99K07, EQPAC,     9,  1,      0,      0,2,19991205,1512,  0.0255, 174.7113, 4764,     -999,9,     -999,9,   27.400,2, -999.000,9, -999.000,9,   -999.0,9,   -999.0,9,     0.29,2,     0.32,2,     0.13,2,  -999.00,9,  -999.00,9,  -999.00,9,  -999.00,9,  -999.00,9,   -999.0,9,-999.0000,9,  -999.00,  -999.00
     49MR99K07, EQPAC,     9,  1,     12,     12,2,19991205,1518,  0.0258, 174.7108, 4764,       11,2,       11,2,   27.549,2,   35.299,2, -999.000,9,   -999.0,9,      0.1,1,     0.25,2,     0.29,2,     0.12,2,  -999.00,9,  -999.00,9,  -999.00,9,  -999.00,9,  -999.00,9,   -999.0,9,-999.0000,9,    27.55,    22.77
     49MR99K07, EQPAC,     9,  1,     11,     11,2,19991205,1518,  0.0258, 174.7108, 4764,       21,2,       21,2,   27.560,2,   35.298,2, -999.000,9,   -999.0,9,      0.1,1,     0.23,2,     0.27,2,     0.11,2,  -999.00,9,  -999.00,9,  -999.00,9,  -999.00,9,  -999.00,9,   -999.0,9,-999.0000,9,    27.55,    22.76
     49MR99K07, EQPAC,     9,  1,     10,     10,2,19991205,1518,  0.0258, 174.7108, 4764,       30,2,       30,2,   27.555,2,   35.296,2, -999.000,9,   -999.0,9,      0.1,1,     0.25,2,     0.28,2,     0.11,2,  -999.00,9,  -999.00,9,  -999.00,9,  -999.00,9,  -999.00,9,   -999.0,9,-999.0000,9,    27.55,    22.76
     49MR99K07, EQPAC,     9,  1,      9,      9,2,19991205,1518,  0.0258, 174.7108, 4764,       42,2,       42,2,   27.554,2,   35.295,2, -999.000,9,   -999.0,9,      0.1,1,     0.24,2,     0.27,2,     0.11,2,  -999.00,9,  -999.00,9,  -999.00,9,  -999.00,9,  -999.00,9,   -999.0,9,-999.0000,9,    27.54,    22.76
     49MR99K07, EQPAC,     9,  1,      8,      8,2,19991205,1518,  0.0258, 174.7108, 4764,       49,2,       49,2,   27.547,2,   35.292,2, -999.000,9,   -999.0,9,      0.1,1,     0.25,2,     0.31,2,     0.17,2,  -999.00,9,  -999.00,9,  -999.00,9,  -999.00,9,  -999.00,9,   -999.0,9,-999.0000,9,    27.54,    22.76
     49MR99K07, EQPAC,     9,  1,      7,      7,2,19991205,1518,  0.0258, 174.7108, 4764,       61,2,       62,2,   27.558,2,   35.294,2, -999.000,9,   -999.0,9,      0.1,1,     0.27,2,     0.31,2,     0.12,2,  -999.00,9,  -999.00,9,  -999.00,9,  -999.00,9,  -999.00,9,   -999.0,9,-999.0000,9,    27.54,    22.76
     49MR99K07, EQPAC,     9,  1,      6,      6,3,19991205,1518,  0.0258, 174.7108, 4764,       70,2,       71,2,   27.507,2,   35.281,2, -999.000,9,   -999.0,9,      0.1,1,     0.25,2,     0.29,2,     0.13,2,  -999.00,9,  -999.00,9,  -999.00,9,  -999.00,9,  -999.00,9,   -999.0,9,-999.0000,9,    27.49,    22.77
     49MR99K07, EQPAC,     9,  1,      5,      5,2,19991205,1518,  0.0258, 174.7108, 4764,       82,2,       82,2,   27.432,2,   35.269,2, -999.000,9,   -999.0,9,      0.1,1,     0.28,2,     0.31,2,     0.14,2,  -999.00,9,  -999.00,9,  -999.00,9,  -999.00,9,  -999.00,9,   -999.0,9,-999.0000,9,    27.41,    22.78
     49MR99K07, EQPAC,     9,  1,      4,      4,2,19991205,1518,  0.0258, 174.7108, 4764,       90,2,       91,2,   27.120,2,   35.243,2, -999.000,9,   -999.0,9,      0.1,1,     0.28,2,     0.33,2,     0.17,2,  -999.00,9,  -999.00,9,  -999.00,9,  -999.00,9,  -999.00,9,   -999.0,9,-999.0000,9,    27.10,    22.86
     49MR99K07, EQPAC,     9,  1,      3,      3,3,19991205,1518,  0.0258, 174.7108, 4764,      100,2,      101,2,   26.862,2,   35.215,2, -999.000,9,   -999.0,9,      0.1,1,     0.17,2,     0.21,2,     0.15,2,  -999.00,9,  -999.00,9,  -999.00,9,  -999.00,9,  -999.00,9,   -999.0,9,-999.0000,9,    26.84,    22.92
     49MR99K07, EQPAC,     9,  1,      2,      2,2,19991205,1518,  0.0258, 174.7108, 4764,      121,2,      121,2,   26.227,2,   35.167,2, -999.000,9,   -999.0,9,      0.0,1,     0.18,2,     0.23,2,     0.18,2,  -999.00,9,  -999.00,9,  -999.00,9,  -999.00,9,  -999.00,9,   -999.0,9,-999.0000,9,    26.20,    23.09
     49MR99K07, EQPAC,     9,  1,      1,      1,2,19991205,1518,  0.0258, 174.7108, 4764,      152,2,      153,2,   23.997,2,   35.356,2, -999.000,9,   -999.0,9,      0.0,1,     0.04,2,     0.07,2,     0.07,2,  -999.00,9,  -999.00,9,  -999.00,9,  -999.00,9,  -999.00,9,   -999.0,9,-999.0000,9,    23.96,    23.91
     49MR99K07, EQPAC,     9,  1,     24,     24,2,19991205,1518,  0.0258, 174.7108, 4764,       12,2,       12,2,   27.553,2,   35.299,2, -999.000,9,   -999.0,9,      0.1,1,  -999.00,9,  -999.00,9,  -999.00,9,  -999.00,9,  -999.00,9,  -999.00,9,  -999.00,9,  -999.00,9,   -999.0,9,-999.0000,9,    27.55,    22.76
     49MR99K07, EQPAC,     9,  1,     23,     23,2,19991205,1518,  0.0258, 174.7108, 4764,       30,2,       30,2,   27.555,2,   35.296,2, -999.000,9,   -999.0,9,      0.1,1,     0.26,2,     0.30,2,     0.12,2,  -999.00,9,  -999.00,9,  -999.00,9,  -999.00,9,  -999.00,9,   -999.0,9,-999.0000,9,    27.55,    22.76
     49MR99K07, EQPAC,     9,  1,     21,     21,2,19991205,1518,  0.0258, 174.7108, 4764,       40,2,       40,2,   27.549,2,   35.294,2, -999.000,9,   -999.0,9,      0.1,1,  -999.00,9,  -999.00,9,  -999.00,9,  -999.00,9,  -999.00,9,  -999.00,9,  -999.00,9,  -999.00,9,   -999.0,9,-999.0000,9,    27.54,    22.76
     49MR99K07, EQPAC,     9,  1,     20,     20,2,19991205,1518,  0.0258, 174.7108, 4764,       49,2,       50,2,   27.540,2,   35.291,2, -999.000,9,   -999.0,9,      0.1,1,  -999.00,9,  -999.00,9,  -999.00,9,  -999.00,9,  -999.00,9,  -999.00,9,  -999.00,9,  -999.00,9,   -999.0,9,-999.0000,9,    27.53,    22.76
     49MR99K07, EQPAC,     9,  1,     19,     19,2,19991205,1518,  0.0258, 174.7108, 4764,       61,2,       61,2,   27.553,2,   35.293,2, -999.000,9,   -999.0,9,      0.1,1,  -999.00,9,  -999.00,9,  -999.00,9,  -999.00,9,  -999.00,9,  -999.00,9,  -999.00,9,  -999.00,9,   -999.0,9,-999.0000,9,    27.54,    22.76
     49MR99K07, EQPAC,     9,  1,     18,     18,2,19991205,1518,  0.0258, 174.7108, 4764,       82,2,       82,2,   27.430,2,   35.269,2, -999.000,9,   -999.0,9,      0.1,1,  -999.00,9,  -999.00,9,  -999.00,9,  -999.00,9,  -999.00,9,  -999.00,9,  -999.00,9,  -999.00,9,   -999.0,9,-999.0000,9,    27.41,    22.78
     49MR99K07, EQPAC,     9,  1,     17,     17,2,19991205,1518,  0.0258, 174.7108, 4764,      101,2,      101,2,   26.882,2,   35.217,2, -999.000,9,   -999.0,9,      0.1,1,  -999.00,9,  -999.00,9,  -999.00,9,  -999.00,9,  -999.00,9,  -999.00,9,  -999.00,9,  -999.00,9,   -999.0,9,-999.0000,9,    26.86,    22.92
     49MR99K07, EQPAC,     9,  1,     16,     16,2,19991205,1518,  0.0258, 174.7108, 4764,      121,2,      122,2,   26.249,2,   35.170,2, -999.000,9,   -999.0,9,      0.0,1,     0.16,2,     0.21,2,     0.15,2,  -999.00,9,  -999.00,9,  -999.00,9,  -999.00,9,  -999.00,9,   -999.0,9,-999.0000,9,    26.22,    23.08
     49MR99K07, EQPAC,     9,  1,     15,     15,2,19991205,1518,  0.0258, 174.7108, 4764,      141,2,      142,2,   24.229,2,   35.309,2, -999.000,9,   -999.0,9,      0.0,1,  -999.00,9,  -999.00,9,  -999.00,9,  -999.00,9,  -999.00,9,  -999.00,9,  -999.00,9,  -999.00,9,   -999.0,9,-999.0000,9,    24.20,    23.81
     49MR99K07, EQPAC,     9,  1,     14,     14,2,19991205,1518,  0.0258, 174.7108, 4764,      171,2,      172,2,   21.658,2,   35.139,2, -999.000,9,   -999.0,9,      0.0,1,  -999.00,9,  -999.00,9,  -999.00,9,  -999.00,9,  -999.00,9,  -999.00,9,  -999.00,9,  -999.00,9,   -999.0,9,-999.0000,9,    21.62,    24.42
     49MR99K07, EQPAC,     9,  1,     13,     13,2,19991205,1518,  0.0258, 174.7108, 4764,      200,2,      201,2,   18.059,2,   35.074,2, -999.000,9,   -999.0,9,      0.0,1,  -999.00,9,  -999.00,9,  -999.00,9,  -999.00,9,  -999.00,9,  -999.00,9,  -999.00,9,  -999.00,9,   -999.0,9,-999.0000,9,    18.02,    25.31