BOTTLE,20101227MIRCJHATS
EXPOCODE,SECT,STNNBR,CASTNO,SAMPNO,BTLNBR,BTLNBR_FLAG_W,DATE,TIME,LATITUDE,LONGITUDE,DEPTH,CTDDPT,CTDDPT_FLAG_W,CTDPRS,CTDPRS_FLAG_W,CTDTMP,CTDTMP_FLAG_W,CTDSAL,CTDSAL_FLAG_W,SALNTY,SALNTY_FLAG_W,OXYGEN,OXYGEN_FLAG_W,FLUOR,FLUOR_FLAG_W,CHLORA,CHLORA_FLAG_W,CHLWELSH,CHLWELSH_W,PPHYTN,PPHYTN_FLAG_W,SILCAT,SILCAT_FLAG_W,NITRAT,NITRAT_FLAG_W,NITRIT,NITRIT_FLAG_W,PHSPHT,PHSPHT_FLAG_W,NH4,NH4_FLAG_W,TCARBN,TCARBN_FLAG_W,PH,PH_FLAG_W,THETA,SIG0
,,,,,,,,UTC,DEG,DEG,M,M,,DBAR,,ITS-90,,PSS-78,,PSS-78,,UMOL/KG,,UG/L,,MG/CUM,,MG/CUM,,MG/CUM,,UMOL/KG,,UMOL/KG,,UMOL/KG,,UMOL/KG,,UMOL/KG,,UMOL/KG,,-,,DEG C,KG/CUM
     49MR99K07, EQPAC,     2,  1,      0,      0,2,19991126,  40,  5.0453, 140.1212, 4169,     -999,9,     -999,9,   29.500,2, -999.000,9,   33.364,2,   -999.0,9,   -999.0,9,     0.00,2,     0.06,2,     0.12,2,     1.35,2,     0.04,2,     0.07,2,     0.14,2,     0.11,3,   1845.8,2,   8.1525,5,  -999.00,  -999.00
     49MR99K07, EQPAC,     2,  1,     23,     23,2,19991126,  43,  5.0455, 140.1213, 4169,       10,2,       10,2,   29.545,2,   33.360,2,   33.359,2,    196.5,2,      0.0,1,     0.05,2,     0.05,2,     0.01,2,     1.25,2,     0.02,2,     0.03,2,     0.12,2,     0.06,3,   1846.3,2,   8.1528,5,    29.54,    20.65
     49MR99K07, EQPAC,     2,  1,     21,     21,2,19991126,  43,  5.0455, 140.1213, 4169,       31,2,       31,2,   29.616,2,   33.447,2,   33.448,2,    197.6,2,      0.0,1,     0.07,2,     0.07,2,     0.01,2,     1.17,2,     0.02,2,     0.03,2,     0.03,2,     0.05,3,   1851.4,2,   8.1547,5,    29.61,    20.69
     49MR99K07, EQPAC,     2,  1,     19,     19,2,19991126,  43,  5.0455, 140.1213, 4169,       40,2,       40,2,   29.597,2,   33.463,2,   33.451,2,    197.7,2,      0.0,1,     0.08,2,     0.08,2,     0.01,2,     1.04,2,     0.03,2,     0.02,2,     0.00,2,     0.07,3,   1851.0,2,   8.1483,5,    29.59,    20.71
     49MR99K07, EQPAC,     2,  1,     17,     17,2,19991126,  43,  5.0455, 140.1213, 4169,       60,2,       60,2,   29.639,2,   33.856,2,   33.861,2,    202.7,2,      0.0,1,     0.09,2,     0.09,2,     0.02,2,     1.04,2,     0.04,2,     0.03,2,     0.11,2,     0.14,3,   1876.9,2,   8.1431,5,    29.62,    20.99
     49MR99K07, EQPAC,     2,  1,     15,     15,2,19991126,  43,  5.0455, 140.1213, 4169,       70,2,       70,2,   29.469,2,   33.993,2,   34.003,2,    200.8,2,      0.0,1,     0.11,2,     0.12,2,     0.04,2,     0.94,2,     0.03,2,     0.02,2,     0.08,2,     0.05,3,   1887.3,2,   8.1376,5,    29.45,    21.15
     49MR99K07, EQPAC,     2,  1,     13,     13,3,19991126,  43,  5.0455, 140.1213, 4169,       80,2,       80,2,   29.438,2,   34.190,2,   34.193,2,    200.0,2,      0.0,1,     0.16,2,     0.17,2,     0.04,2,     0.78,2,     0.04,2,     0.01,2,     0.06,2,     0.09,3,   1900.0,3,   8.1320,5,    29.42,    21.31
     49MR99K07, EQPAC,     2,  1,     11,     11,2,19991126,  43,  5.0455, 140.1213, 4169,       90,2,       91,2,   28.271,2,   34.505,2,   34.510,2,    182.8,2,      0.1,1,     0.23,2,     0.28,2,     0.18,2,     1.34,2,     0.04,2,     0.01,2,     0.12,2,     0.16,3,   1946.8,3,   8.0846,5,    28.25,    21.93
     49MR99K07, EQPAC,     2,  1,      9,      9,2,19991126,  43,  5.0455, 140.1213, 4169,      100,2,      101,2,   27.509,2,   34.562,2,   34.565,2,    176.5,2,      0.1,1,     0.26,2,     0.34,2,     0.27,2,     1.68,2,     0.05,2,     0.06,2,     0.20,2,     0.09,3,   1963.6,3,   8.0619,5,    27.49,    22.22
     49MR99K07, EQPAC,     2,  1,      7,      7,3,19991126,  43,  5.0455, 140.1213, 4169,      111,2,      112,2,   26.661,2,   34.614,2,   34.616,2,    167.3,2,      0.1,1,     0.24,2,     0.33,2,     0.29,2,     3.20,2,     0.41,2,     0.39,2,     0.27,2,     0.05,3,   1980.5,3,   8.0393,5,    26.64,    22.53
     49MR99K07, EQPAC,     2,  1,      5,      5,2,19991126,  43,  5.0455, 140.1213, 4169,      119,2,      120,2,   26.195,2,   34.652,2,   34.659,2,    162.5,2,      0.1,1,     0.23,2,     0.31,2,     0.24,2,     3.40,2,     1.05,2,     0.56,2,     0.31,2,     0.01,3,   1990.2,3,   8.0240,5,    26.17,    22.71
     49MR99K07, EQPAC,     2,  1,      3,      3,2,19991126,  43,  5.0455, 140.1213, 4169,      150,2,      151,2,   20.292,2,   34.726,2,   34.731,2,    140.8,2,      0.0,1,     0.07,2,     0.11,2,     0.12,2,     8.24,2,     8.92,2,     0.04,2,     0.79,2,     0.06,3,   2066.1,3,   7.9008,5,    20.26,    24.48
     49MR99K07, EQPAC,     2,  1,      1,      1,3,19991126,  43,  5.0455, 140.1213, 4169,      200,2,      202,2,   14.375,2,   34.588,2,   34.593,2,    111.6,2,      0.0,1,     0.02,2,     0.03,2,     0.04,2,    18.55,2,    18.73,2,     0.03,2,     1.46,2,     0.03,3,   2139.7,3,   7.7314,5,    14.35,    25.79
     49MR99K07, EQPAC,     2,  1,     24,     24,2,19991126,  43,  5.0455, 140.1213, 4169,       10,2,       10,2,   29.557,2,   33.362,2, -999.000,9,   -999.0,9,      0.0,1,  -999.00,9,  -999.00,9,  -999.00,9,  -999.00,9,  -999.00,9,  -999.00,9,  -999.00,9,  -999.00,9,   -999.0,9,-999.0000,9,    29.55,    20.65
     49MR99K07, EQPAC,     2,  1,     20,     20,2,19991126,  43,  5.0455, 140.1213, 4169,       30,2,       30,2,   29.608,2,   33.448,2, -999.000,9,   -999.0,9,      0.0,1,  -999.00,9,  -999.00,9,  -999.00,9,  -999.00,9,  -999.00,9,  -999.00,9,  -999.00,9,  -999.00,9,   -999.0,9,-999.0000,9,    29.60,    20.70
     49MR99K07, EQPAC,     2,  1,     18,     18,2,19991126,  43,  5.0455, 140.1213, 4169,       40,2,       40,2,   29.598,2,   33.475,2, -999.000,9,   -999.0,9,      0.0,1,  -999.00,9,  -999.00,9,  -999.00,9,  -999.00,9,  -999.00,9,  -999.00,9,  -999.00,9,  -999.00,9,   -999.0,9,-999.0000,9,    29.59,    20.72
     49MR99K07, EQPAC,     2,  1,     16,     16,2,19991126,  43,  5.0455, 140.1213, 4169,       59,2,       60,2,   29.540,2,   33.867,2, -999.000,9,   -999.0,9,      0.0,1,  -999.00,9,  -999.00,9,  -999.00,9,  -999.00,9,  -999.00,9,  -999.00,9,  -999.00,9,  -999.00,9,   -999.0,9,-999.0000,9,    29.53,    21.03
     49MR99K07, EQPAC,     2,  1,     14,     14,2,19991126,  43,  5.0455, 140.1213, 4169,       70,2,       70,2,   29.460,2,   34.009,2, -999.000,9,   -999.0,9,      0.0,1,  -999.00,9,  -999.00,9,  -999.00,9,  -999.00,9,  -999.00,9,  -999.00,9,  -999.00,9,  -999.00,9,   -999.0,9,-999.0000,9,    29.44,    21.17
     49MR99K07, EQPAC,     2,  1,     12,     12,2,19991126,  43,  5.0455, 140.1213, 4169,       80,2,       80,2,   29.326,2,   34.231,2, -999.000,9,   -999.0,9,      0.0,1,  -999.00,9,  -999.00,9,  -999.00,9,  -999.00,9,  -999.00,9,  -999.00,9,  -999.00,9,  -999.00,9,   -999.0,9,-999.0000,9,    29.31,    21.38
     49MR99K07, EQPAC,     2,  1,     10,     10,2,19991126,  43,  5.0455, 140.1213, 4169,       90,2,       90,2,   28.241,2,   34.510,2, -999.000,9,   -999.0,9,      0.1,1,  -999.00,9,  -999.00,9,  -999.00,9,  -999.00,9,  -999.00,9,  -999.00,9,  -999.00,9,  -999.00,9,   -999.0,9,-999.0000,9,    28.22,    21.95
     49MR99K07, EQPAC,     2,  1,      8,      8,2,19991126,  43,  5.0455, 140.1213, 4169,      101,2,      101,2,   27.458,2,   34.566,2, -999.000,9,   -999.0,9,      0.1,1,     0.25,2,     0.33,2,     0.26,2,  -999.00,9,  -999.00,9,  -999.00,9,  -999.00,9,  -999.00,9,   -999.0,9,-999.0000,9,    27.43,    22.24
     49MR99K07, EQPAC,     2,  1,      6,      6,3,19991126,  43,  5.0455, 140.1213, 4169,      111,2,      111,2,   26.674,2,   34.613,2, -999.000,9,   -999.0,9,      0.1,1,  -999.00,9,  -999.00,9,  -999.00,9,  -999.00,9,  -999.00,9,  -999.00,9,  -999.00,9,  -999.00,9,   -999.0,9,-999.0000,9,    26.65,    22.53
     49MR99K07, EQPAC,     2,  1,      4,      4,2,19991126,  43,  5.0455, 140.1213, 4169,      120,2,      121,2,   26.056,2,   34.666,2, -999.000,9,   -999.0,9,      0.1,1,     0.20,2,     0.28,2,     0.23,2,  -999.00,9,  -999.00,9,  -999.00,9,  -999.00,9,  -999.00,9,   -999.0,9,-999.0000,9,    26.03,    22.76
     49MR99K07, EQPAC,     2,  1,      2,      2,3,19991126,  43,  5.0455, 140.1213, 4169,      150,2,      151,2,   20.204,2,   34.729,2, -999.000,9,   -999.0,9,      0.0,1,  -999.00,9,  -999.00,9,  -999.00,9,  -999.00,9,  -999.00,9,  -999.00,9,  -999.00,9,  -999.00,9,   -999.0,9,-999.0000,9,    20.18,    24.50
     49MR99K07, EQPAC,     3,  1,     24,     24,2,19991127, 926, -0.0098, 144.9985, 3740,      201,2,      202,2,   18.655,2,   35.354,2,   35.358,2,    144.2,2,   -999.0,9,  -999.00,9,  -999.00,9,  -999.00,9,     6.43,2,    10.69,2,     0.08,2,     0.89,2,     0.02,3,   2097.1,2,   7.8906,5,    18.62,    25.38
     49MR99K07, EQPAC,     3,  1,     23,     23,2,19991127, 926, -0.0098, 144.9985, 3740,      250,2,      252,2,   16.032,2,   35.264,3,   35.178,3,    145.7,2,   -999.0,9,  -999.00,9,  -999.00,9,  -999.00,9,     9.76,2,    14.69,2,     0.06,2,     1.16,2,     0.00,3,   2125.7,2,   7.8247,5,    15.99,    25.94
     49MR99K07, EQPAC,     3,  1,     22,     22,2,19991127, 926, -0.0098, 144.9985, 3740,      300,2,      302,2,   11.787,2,   34.823,2,   34.830,2,    133.2,2,   -999.0,9,  -999.00,9,  -999.00,9,  -999.00,9,    20.46,2,    21.36,2,     0.06,2,     1.58,2,     0.00,3,   2166.8,2,   7.7248,5,    11.75,    26.49
     49MR99K07, EQPAC,     3,  1,     21,     21,2,19991127, 926, -0.0098, 144.9985, 3740,      350,2,      352,2,   10.410,2,   34.743,2,   34.746,2,    124.7,2,   -999.0,9,  -999.00,9,  -999.00,9,  -999.00,9,    23.78,2,    24.79,2,     0.06,2,     1.81,2,     0.00,3,   2180.9,2,   7.6768,5,    10.37,    26.68
     49MR99K07, EQPAC,     3,  1,     20,     20,2,19991127, 926, -0.0098, 144.9985, 3740,      401,2,      403,2,    9.317,2,   34.668,2,   34.670,2,    115.8,2,   -999.0,9,  -999.00,9,  -999.00,9,  -999.00,9,    27.46,2,    27.91,2,     0.06,2,     2.00,2,     0.00,3,   2192.7,2,   7.6343,5,     9.27,    26.81
     49MR99K07, EQPAC,     3,  1,     19,     19,2,19991127, 926, -0.0098, 144.9985, 3740,      500,2,      504,2,    7.614,2,   34.580,2,   34.579,2,    128.7,2,   -999.0,9,  -999.00,9,  -999.00,9,  -999.00,9,    32.85,2,    30.14,2,     0.06,2,     2.15,2,     0.06,3,   2208.8,2,   7.6117,5,     7.56,    27.00
     49MR99K07, EQPAC,     3,  1,     18,     18,2,19991127, 926, -0.0098, 144.9985, 3740,      601,2,      605,2,    6.762,2,   34.541,2,   34.541,2,    134.0,2,   -999.0,9,  -999.00,9,  -999.00,9,  -999.00,9,    39.06,2,    31.46,2,     0.06,2,     2.25,2,     0.00,3,   2213.7,2,   7.6015,5,     6.71,    27.09
     49MR99K07, EQPAC,     3,  1,     17,     17,3,19991127, 926, -0.0098, 144.9985, 3740,      701,2,      706,2,    6.236,2,   34.532,2,   34.533,2,    123.5,2,   -999.0,9,  -999.00,9,  -999.00,9,  -999.00,9,    46.54,2,    33.49,2,     0.07,2,     2.39,2,     0.03,3,   2231.0,2,   7.5746,5,     6.17,    27.15
     49MR99K07, EQPAC,     3,  1,     16,     16,2,19991127, 926, -0.0098, 144.9985, 3740,      801,2,      807,2,    5.281,2,   34.540,2,   34.546,2,     98.1,2,   -999.0,9,  -999.00,9,  -999.00,9,  -999.00,9,    68.03,2,    37.51,2,     0.06,2,     2.69,2,     0.05,3,   2269.7,2,   7.5175,5,     5.21,    27.28
     49MR99K07, EQPAC,     3,  1,     15,     15,2,19991127, 926, -0.0098, 144.9985, 3740,      900,2,      907,2,    4.822,2,   34.546,2,   34.546,2,     97.5,2,   -999.0,9,  -999.00,9,  -999.00,9,  -999.00,9,    76.40,2,    38.16,2,     0.06,2,     2.74,2,     0.00,3,   2280.5,2,   7.5138,5,     4.75,    27.34
     49MR99K07, EQPAC,     3,  1,     14,     14,2,19991127, 926, -0.0098, 144.9985, 3740,     1000,2,     1008,2,    4.591,2,   34.552,2,   34.553,2,     92.6,2,   -999.0,9,  -999.00,9,  -999.00,9,  -999.00,9,    82.28,2,    38.93,2,     0.06,2,     2.79,2,     0.00,3,   2288.9,3,   7.5053,5,     4.51,    27.37
     49MR99K07, EQPAC,     3,  1,     13,     13,2,19991127, 926, -0.0098, 144.9985, 3740,     1101,2,     1110,2,    4.290,2,   34.560,2,   34.560,2,     91.8,2,   -999.0,9,  -999.00,9,  -999.00,9,  -999.00,9,    88.75,2,    39.37,2,     0.05,2,     2.82,2,     0.00,3,   2297.2,3,   7.4980,5,     4.20,    27.41
     49MR99K07, EQPAC,     3,  1,     12,     12,3,19991127, 926, -0.0098, 144.9985, 3740,     1251,2,     1261,2,    3.612,2,   34.578,2,   34.579,2,    104.2,2,   -999.0,9,  -999.00,9,  -999.00,9,  -999.00,9,   101.62,2,    38.70,2,     0.06,2,     2.77,2,     0.00,3,   2305.8,2,   7.5169,5,     3.52,    27.49
     49MR99K07, EQPAC,     3,  1,     11,     11,2,19991127, 926, -0.0098, 144.9985, 3740,     1500,2,     1514,2,    3.156,2,   34.597,2,   34.596,2,    102.1,2,   -999.0,9,  -999.00,9,  -999.00,9,  -999.00,9,   113.84,2,    39.35,2,     0.05,2,     2.81,2,     0.12,3,   2321.1,2,   7.5111,5,     3.05,    27.55
     49MR99K07, EQPAC,     3,  1,     10,     10,2,19991127, 926, -0.0098, 144.9985, 3740,     1751,2,     1768,2,    2.620,2,   34.619,2,   34.619,2,    111.8,2,   -999.0,9,  -999.00,9,  -999.00,9,  -999.00,9,   124.49,2,    39.05,2,     0.06,2,     2.77,2,     0.00,3,   2326.4,2,   7.5257,5,     2.49,    27.62
     49MR99K07, EQPAC,     3,  1,      9,      9,2,19991127, 926, -0.0098, 144.9985, 3740,     2000,2,     2021,2,    2.274,2,   34.636,2,   34.636,2,    118.2,2,   -999.0,9,  -999.00,9,  -999.00,9,  -999.00,9,   132.60,2,    38.88,2,     0.05,2,     2.74,2,     0.00,3,   2334.0,2,   7.5350,5,     2.13,    27.66
     49MR99K07, EQPAC,     3,  1,      8,      8,2,19991127, 926, -0.0098, 144.9985, 3740,     2250,2,     2275,2,    1.984,2,   34.651,2,   34.649,2,    125.5,2,   -999.0,9,  -999.00,9,  -999.00,9,  -999.00,9,   138.12,2,    38.64,2,     0.04,2,     2.70,2,     0.01,3,   2331.9,2,   7.5458,5,     1.82,    27.69
     49MR99K07, EQPAC,     3,  1,      7,      7,3,19991127, 926, -0.0098, 144.9985, 3740,     2500,2,     2529,2,    1.821,2,   34.659,2,   34.658,2,    131.2,2,   -999.0,9,  -999.00,9,  -999.00,9,  -999.00,9,   141.12,2,    38.26,2,     0.04,2,     2.66,2,     0.00,3,   2330.2,2,   7.5545,5,     1.64,    27.71
     49MR99K07, EQPAC,     3,  1,      6,      6,3,19991127, 926, -0.0098, 144.9985, 3740,     2750,2,     2784,2,    1.664,2,   34.669,2,   34.672,2,    138.7,2,   -999.0,9,  -999.00,9,  -999.00,9,  -999.00,9,   143.17,2,    37.74,2,     0.06,2,     2.61,2,     0.00,3,   2327.7,2,   7.5668,5,     1.46,    27.73
     49MR99K07, EQPAC,     3,  1,      5,      5,2,19991127, 926, -0.0098, 144.9985, 3740,     3000,2,     3039,2,    1.595,2,   34.674,2,   34.672,2,    143.0,2,   -999.0,9,  -999.00,9,  -999.00,9,  -999.00,9,   143.39,2,    37.45,2,     0.06,2,     2.60,2,     0.00,3,   2327.4,2,   7.5735,5,     1.37,    27.74
     49MR99K07, EQPAC,     3,  1,      4,      4,2,19991127, 926, -0.0098, 144.9985, 3740,     3001,2,     3039,2,    1.595,2,   34.674,2,   34.672,2,    143.6,2,   -999.0,9,  -999.00,9,  -999.00,9,  -999.00,9,   140.97,3,    36.75,3,     0.04,2,     2.61,3,     0.01,3,   2326.2,2,   7.5736,5,     1.37,    27.74
     49MR99K07, EQPAC,     3,  1,      3,      3,2,19991127, 926, -0.0098, 144.9985, 3740,     3251,2,     3294,2,    1.582,2,   34.677,2,   34.675,2,    145.1,2,   -999.0,9,  -999.00,9,  -999.00,9,  -999.00,9,   141.12,2,    37.26,2,     0.05,2,     2.58,2,     0.00,3,   2326.4,2,   7.5796,5,     1.33,    27.74
     49MR99K07, EQPAC,     3,  1,      2,      2,2,19991127, 926, -0.0098, 144.9985, 3740,     3500,2,     3549,2,    1.574,2,   34.679,2,   34.678,2,    146.8,2,   -999.0,9,  -999.00,9,  -999.00,9,  -999.00,9,   140.41,2,    37.17,2,     0.05,2,     2.57,2,     0.00,3,   2327.6,2,   7.5819,5,     1.30,    27.75
     49MR99K07, EQPAC,     3,  1,      1,      1,2,19991127, 926, -0.0098, 144.9985, 3740,     3708,2,     3762,2,    1.532,2,   34.684,2,   34.684,2,    150.8,2,   -999.0,9,  -999.00,9,  -999.00,9,  -999.00,9,   140.80,2,    36.87,2,     0.04,2,     2.56,2,     0.00,3,   2326.9,2,   7.5899,5,     1.24,    27.75