BOTTLE,20101227MIRCJHATS
EXPOCODE,SECT,STNNBR,CASTNO,SAMPNO,BTLNBR,BTLNBR_FLAG_W,DATE,TIME,LATITUDE,LONGITUDE,DEPTH,CTDDPT,CTDDPT_FLAG_W,CTDPRS,CTDPRS_FLAG_W,CTDTMP,CTDTMP_FLAG_W,CTDSAL,CTDSAL_FLAG_W,SALNTY,SALNTY_FLAG_W,OXYGEN,OXYGEN_FLAG_W,FLUOR,FLUOR_FLAG_W,CHLORA,CHLORA_FLAG_W,CHLWELSH,CHLWELSH_W,PPHYTN,PPHYTN_FLAG_W,SILCAT,SILCAT_FLAG_W,NITRAT,NITRAT_FLAG_W,NITRIT,NITRIT_FLAG_W,PHSPHT,PHSPHT_FLAG_W,NH4,NH4_FLAG_W,TCARBN,TCARBN_FLAG_W,PH,PH_FLAG_W,THETA,SIG0
,,,,,,,,UTC,DEG,DEG,M,M,,DBAR,,ITS-90,,PSS-78,,PSS-78,,UMOL/KG,,UG/L,,MG/CUM,,MG/CUM,,MG/CUM,,UMOL/KG,,UMOL/KG,,UMOL/KG,,UMOL/KG,,UMOL/KG,,UMOL/KG,,-,,DEG C,KG/CUM
     49MR99K07, EQPAC,     9,  4,      0,      0,2,19991206, 650,  0.0363, 174.9257, 4822,     -999,9,     -999,9,   27.700,2, -999.000,9, -999.000,9,   -999.0,9,   -999.0,9,     0.26,2,     0.28,2,     0.09,2,  -999.00,9,  -999.00,9,  -999.00,9,  -999.00,9,  -999.00,9,   -999.0,9,-999.0000,9,  -999.00,  -999.00
     49MR99K07, EQPAC,     9,  4,     12,     12,2,19991206, 658,  0.0367, 174.9253, 4822,       21,2,       21,2,   27.750,2,   35.360,2, -999.000,9,   -999.0,9,      0.2,1,  -999.00,9,  -999.00,9,  -999.00,9,  -999.00,9,  -999.00,9,  -999.00,9,  -999.00,9,  -999.00,9,   -999.0,9,-999.0000,9,    27.74,    22.75
     49MR99K07, EQPAC,     9,  4,     11,     11,3,19991206, 658,  0.0367, 174.9253, 4822,       40,2,       40,2,   27.696,2,   35.358,2, -999.000,9,   -999.0,9,      0.2,1,  -999.00,9,  -999.00,9,  -999.00,9,  -999.00,9,  -999.00,9,  -999.00,9,  -999.00,9,  -999.00,9,   -999.0,9,-999.0000,9,    27.69,    22.76
     49MR99K07, EQPAC,     9,  4,     10,     10,2,19991206, 658,  0.0367, 174.9253, 4822,       62,2,       63,2,   27.644,2,   35.346,2, -999.000,9,   -999.0,9,      0.2,1,  -999.00,9,  -999.00,9,  -999.00,9,  -999.00,9,  -999.00,9,  -999.00,9,  -999.00,9,  -999.00,9,   -999.0,9,-999.0000,9,    27.63,    22.77
     49MR99K07, EQPAC,     9,  4,      9,      9,2,19991206, 658,  0.0367, 174.9253, 4822,       81,2,       81,2,   27.394,2,   35.306,2, -999.000,9,   -999.0,9,      0.1,1,  -999.00,9,  -999.00,9,  -999.00,9,  -999.00,9,  -999.00,9,  -999.00,9,  -999.00,9,  -999.00,9,   -999.0,9,-999.0000,9,    27.38,    22.82
     49MR99K07, EQPAC,     9,  4,      8,      8,2,19991206, 658,  0.0367, 174.9253, 4822,       99,2,      100,2,   26.736,2,   35.246,2, -999.000,9,   -999.0,9,      0.1,1,  -999.00,9,  -999.00,9,  -999.00,9,  -999.00,9,  -999.00,9,  -999.00,9,  -999.00,9,  -999.00,9,   -999.0,9,-999.0000,9,    26.71,    22.99
     49MR99K07, EQPAC,     9,  4,      7,      7,2,19991206, 658,  0.0367, 174.9253, 4822,      121,2,      122,2,   26.098,2,   35.184,2, -999.000,9,   -999.0,9,      0.0,1,  -999.00,9,  -999.00,9,  -999.00,9,  -999.00,9,  -999.00,9,  -999.00,9,  -999.00,9,  -999.00,9,   -999.0,9,-999.0000,9,    26.07,    23.14
     49MR99K07, EQPAC,     9,  4,      6,      6,2,19991206, 658,  0.0367, 174.9253, 4822,      141,2,      142,2,   24.900,2,   35.235,2, -999.000,9,   -999.0,9,      0.0,1,  -999.00,9,  -999.00,9,  -999.00,9,  -999.00,9,  -999.00,9,  -999.00,9,  -999.00,9,  -999.00,9,   -999.0,9,-999.0000,9,    24.87,    23.55
     49MR99K07, EQPAC,     9,  4,      5,      5,2,19991206, 658,  0.0367, 174.9253, 4822,      163,2,      164,2,   22.951,2,   35.263,2, -999.000,9,   -999.0,9,      0.0,1,  -999.00,9,  -999.00,9,  -999.00,9,  -999.00,9,  -999.00,9,  -999.00,9,  -999.00,9,  -999.00,9,   -999.0,9,-999.0000,9,    22.92,    24.15
     49MR99K07, EQPAC,     9,  4,      4,      4,2,19991206, 658,  0.0367, 174.9253, 4822,      180,2,      182,2,   21.155,2,   35.124,2, -999.000,9,   -999.0,9,      0.0,1,  -999.00,9,  -999.00,9,  -999.00,9,  -999.00,9,  -999.00,9,  -999.00,9,  -999.00,9,  -999.00,9,   -999.0,9,-999.0000,9,    21.12,    24.55
     49MR99K07, EQPAC,     9,  4,      3,      3,2,19991206, 658,  0.0367, 174.9253, 4822,      200,2,      201,2,   18.677,2,   35.078,2, -999.000,9,   -999.0,9,      0.0,1,  -999.00,9,  -999.00,9,  -999.00,9,  -999.00,9,  -999.00,9,  -999.00,9,  -999.00,9,  -999.00,9,   -999.0,9,-999.0000,9,    18.64,    25.16
     49MR99K07, EQPAC,     9,  4,      2,      2,2,19991206, 658,  0.0367, 174.9253, 4822,       52,2,       52,2,   27.687,2,   35.355,2, -999.000,9,   -999.0,9,      0.2,1,  -999.00,9,  -999.00,9,  -999.00,9,  -999.00,9,  -999.00,9,  -999.00,9,  -999.00,9,  -999.00,9,   -999.0,9,-999.0000,9,    27.68,    22.76
     49MR99K07, EQPAC,     9,  4,     24,     24,2,19991206, 658,  0.0367, 174.9253, 4822,       21,2,       21,2,   27.763,2,   35.361,2, -999.000,9,   -999.0,9,      0.2,1,  -999.00,9,  -999.00,9,  -999.00,9,  -999.00,9,  -999.00,9,  -999.00,9,  -999.00,9,  -999.00,9,   -999.0,9,-999.0000,9,    27.76,    22.74
     49MR99K07, EQPAC,     9,  4,     23,     23,2,19991206, 658,  0.0367, 174.9253, 4822,       41,2,       42,2,   27.697,2,   35.358,2, -999.000,9,   -999.0,9,      0.2,1,  -999.00,9,  -999.00,9,  -999.00,9,  -999.00,9,  -999.00,9,  -999.00,9,  -999.00,9,  -999.00,9,   -999.0,9,-999.0000,9,    27.69,    22.76
     49MR99K07, EQPAC,     9,  4,     21,     21,3,19991206, 658,  0.0367, 174.9253, 4822,       62,2,       62,2,   27.649,2,   35.347,2, -999.000,9,   -999.0,9,      0.2,1,  -999.00,9,  -999.00,9,  -999.00,9,  -999.00,9,  -999.00,9,  -999.00,9,  -999.00,9,  -999.00,9,   -999.0,9,-999.0000,9,    27.63,    22.77
     49MR99K07, EQPAC,     9,  4,     20,     20,2,19991206, 658,  0.0367, 174.9253, 4822,       81,2,       82,2,   27.401,2,   35.308,2, -999.000,9,   -999.0,9,      0.1,1,  -999.00,9,  -999.00,9,  -999.00,9,  -999.00,9,  -999.00,9,  -999.00,9,  -999.00,9,  -999.00,9,   -999.0,9,-999.0000,9,    27.38,    22.82
     49MR99K07, EQPAC,     9,  4,     19,     19,2,19991206, 658,  0.0367, 174.9253, 4822,      100,2,      100,2,   26.761,2,   35.247,2, -999.000,9,   -999.0,9,      0.1,1,  -999.00,9,  -999.00,9,  -999.00,9,  -999.00,9,  -999.00,9,  -999.00,9,  -999.00,9,  -999.00,9,   -999.0,9,-999.0000,9,    26.74,    22.98
     49MR99K07, EQPAC,     9,  4,     18,     18,2,19991206, 658,  0.0367, 174.9253, 4822,      121,2,      122,2,   26.123,2,   35.185,2, -999.000,9,   -999.0,9,      0.0,1,     0.15,2,     0.19,2,     0.12,2,  -999.00,9,  -999.00,9,  -999.00,9,  -999.00,9,  -999.00,9,   -999.0,9,-999.0000,9,    26.10,    23.13
     49MR99K07, EQPAC,     9,  4,     17,     17,2,19991206, 658,  0.0367, 174.9253, 4822,      140,2,      141,2,   24.717,2,   35.256,2, -999.000,9,   -999.0,9,      0.0,1,  -999.00,9,  -999.00,9,  -999.00,9,  -999.00,9,  -999.00,9,  -999.00,9,  -999.00,9,  -999.00,9,   -999.0,9,-999.0000,9,    24.69,    23.62
     49MR99K07, EQPAC,     9,  4,     16,     16,2,19991206, 658,  0.0367, 174.9253, 4822,      160,2,      161,2,   23.151,2,   35.308,2, -999.000,9,   -999.0,9,      0.0,1,  -999.00,9,  -999.00,9,  -999.00,9,  -999.00,9,  -999.00,9,  -999.00,9,  -999.00,9,  -999.00,9,   -999.0,9,-999.0000,9,    23.12,    24.12
     49MR99K07, EQPAC,     9,  4,     15,     15,2,19991206, 658,  0.0367, 174.9253, 4822,      181,2,      182,2,   21.329,2,   35.133,2, -999.000,9,   -999.0,9,      0.0,1,  -999.00,9,  -999.00,9,  -999.00,9,  -999.00,9,  -999.00,9,  -999.00,9,  -999.00,9,  -999.00,9,   -999.0,9,-999.0000,9,    21.29,    24.51
     49MR99K07, EQPAC,     9,  4,     14,     14,2,19991206, 658,  0.0367, 174.9253, 4822,      199,2,      200,2,   18.685,2,   35.075,2, -999.000,9,   -999.0,9,      0.0,1,  -999.00,9,  -999.00,9,  -999.00,9,  -999.00,9,  -999.00,9,  -999.00,9,  -999.00,9,  -999.00,9,   -999.0,9,-999.0000,9,    18.65,    25.16
     49MR99K07, EQPAC,     9,  4,     13,     13,2,19991206, 658,  0.0367, 174.9253, 4822,       51,2,       51,2,   27.687,2,   35.356,2, -999.000,9,   -999.0,9,      0.2,1,  -999.00,9,  -999.00,9,  -999.00,9,  -999.00,9,  -999.00,9,  -999.00,9,  -999.00,9,  -999.00,9,   -999.0,9,-999.0000,9,    27.67,    22.76
     49MR99K07, EQPAC,     9,  4,      1,      1,2,19991206, 658,  0.0367, 174.9253, 4822,       51,2,       51,2,   27.684,2,   35.354,2, -999.000,9,   -999.0,9,      0.2,1,     0.33,2,     0.40,2,     0.19,2,  -999.00,9,  -999.00,9,  -999.00,9,  -999.00,9,  -999.00,9,   -999.0,9,-999.0000,9,    27.67,    22.76
     49MR99K07, EQPAC,    10,  1,      0,      0,2,19991206,2304, -0.0373, 178.0893, 5416,     -999,9,     -999,9,   27.000,2, -999.000,9,   35.199,2,   -999.0,9,   -999.0,9,  -999.00,9,  -999.00,9,  -999.00,9,     2.74,2,     3.70,2,     0.49,2,     0.55,2,     0.29,3,   2013.9,6,   8.0359,5,  -999.00,  -999.00
     49MR99K07, EQPAC,    10,  1,     12,     12,2,19991206,2313, -0.0378, 178.0877, 5416,       10,2,       10,2,   26.913,2,   35.188,2,   35.186,2,    193.8,2,      0.0,1,     0.25,2,     0.26,2,     0.07,2,     2.77,2,     3.69,2,     0.47,2,     0.49,2,     0.08,3,   2012.7,2,   8.0356,5,    26.91,    22.89
     49MR99K07, EQPAC,    10,  1,     11,     11,3,19991206,2313, -0.0378, 178.0877, 5416,       20,2,       20,2,   26.819,2,   35.188,2,   35.187,2,    192.9,2,      0.1,1,     0.30,2,     0.32,2,     0.09,2,     2.78,2,     3.73,2,     0.48,2,     0.49,2,     0.16,3,   2014.5,2,   8.0349,5,    26.81,    22.92
     49MR99K07, EQPAC,    10,  1,     10,     10,2,19991206,2313, -0.0378, 178.0877, 5416,       30,2,       30,2,   26.778,2,   35.190,2,   35.188,2,    192.0,2,      0.1,1,     0.31,2,     0.34,2,     0.11,2,     2.68,2,     3.75,2,     0.49,2,     0.49,2,     0.07,3,   2013.1,2,   8.0342,5,    26.77,    22.93
     49MR99K07, EQPAC,    10,  1,      9,      9,2,19991206,2313, -0.0378, 178.0877, 5416,       41,2,       41,2,   26.743,2,   35.201,2,   35.200,2,    189.3,2,      0.1,1,     0.32,2,     0.36,2,     0.14,2,     2.72,2,     3.93,2,     0.50,2,     0.51,2,     0.11,3,   2015.5,2,   8.0322,5,    26.73,    22.95
     49MR99K07, EQPAC,    10,  1,      8,      8,2,19991206,2313, -0.0378, 178.0877, 5416,       50,2,       51,2,   26.734,2,   35.204,2,   35.204,2,    188.7,2,      0.1,1,     0.33,2,     0.36,2,     0.12,2,     2.66,2,     3.97,2,     0.49,2,     0.51,2,     0.11,3,   2015.5,2,   8.0308,5,    26.72,    22.96
     49MR99K07, EQPAC,    10,  1,      7,      7,3,19991206,2313, -0.0378, 178.0877, 5416,       61,2,       61,2,   26.703,2,   35.215,2,   35.219,2,    185.9,2,      0.1,1,     0.35,2,     0.39,2,     0.15,2,     2.67,2,     4.15,2,     0.50,2,     0.53,2,     0.17,3,   2018.0,2,   8.0282,5,    26.69,    22.97
     49MR99K07, EQPAC,    10,  1,      6,      6,3,19991206,2313, -0.0378, 178.0877, 5416,       71,2,       72,2,   26.642,2,   35.235,2,   35.234,2,    183.4,2,      0.1,1,     0.31,2,     0.35,2,     0.14,2,     2.75,2,     4.33,2,     0.50,2,     0.54,2,     0.16,3,   2021.1,2,   8.0244,5,    26.63,    23.01
     49MR99K07, EQPAC,    10,  1,      5,      5,2,19991206,2313, -0.0378, 178.0877, 5416,       81,2,       81,2,   26.573,2,   35.256,2,   35.261,2,    178.0,2,      0.1,1,     0.22,2,     0.26,2,     0.12,2,     2.90,2,     4.76,2,     0.46,2,     0.56,2,     0.21,3,   2025.2,2,   8.0179,5,    26.56,    23.05
     49MR99K07, EQPAC,    10,  1,      4,      4,2,19991206,2313, -0.0378, 178.0877, 5416,      101,2,      102,2,   26.000,2,   35.285,2,   35.283,2,    168.7,2,      0.1,1,     0.15,2,     0.19,2,     0.11,2,     3.21,2,     5.63,2,     0.31,2,     0.60,2,     0.20,3,   2034.2,2,   8.0053,5,    25.98,    23.25
     49MR99K07, EQPAC,    10,  1,      3,      3,3,19991206,2313, -0.0378, 178.0877, 5416,      121,2,      122,2,   25.498,2,   35.286,2,   35.291,2,    155.6,2,      0.0,1,     0.10,2,     0.14,2,     0.11,2,     3.57,2,     6.72,2,     0.13,2,     0.64,2,     0.37,3,   2040.0,2,   7.9886,5,    25.47,    23.40
     49MR99K07, EQPAC,    10,  1,      2,      2,2,19991206,2313, -0.0378, 178.0877, 5416,      151,2,      152,2,   24.365,2,   35.323,2,   35.318,2,    146.3,2,      0.0,1,     0.04,2,     0.07,2,     0.07,2,     3.80,2,     7.65,2,     0.08,2,     0.69,2,     0.05,3,   2052.4,2,   7.9698,5,    24.33,    23.78
     49MR99K07, EQPAC,    10,  1,      1,      1,2,19991206,2313, -0.0378, 178.0877, 5416,      202,2,      203,2,   18.208,2,   35.119,2,   35.106,2,    139.2,2,      0.0,1,     0.01,2,     0.02,2,     0.02,2,    10.34,2,    12.04,2,     0.05,2,     0.99,2,     0.07,3,   2101.5,2,   7.8714,5,    18.17,    25.31
     49MR99K07, EQPAC,    10,  1,     24,     24,2,19991206,2313, -0.0378, 178.0877, 5416,       11,2,       11,2,   26.914,2,   35.188,2, -999.000,9,   -999.0,9,      0.0,1,  -999.00,9,  -999.00,9,  -999.00,9,  -999.00,9,  -999.00,9,  -999.00,9,  -999.00,9,  -999.00,9,   -999.0,9,-999.0000,9,    26.91,    22.89
     49MR99K07, EQPAC,    10,  1,     23,     23,2,19991206,2313, -0.0378, 178.0877, 5416,       31,2,       31,2,   26.780,2,   35.189,2, -999.000,9,   -999.0,9,      0.1,1,  -999.00,9,  -999.00,9,  -999.00,9,  -999.00,9,  -999.00,9,  -999.00,9,  -999.00,9,  -999.00,9,   -999.0,9,-999.0000,9,    26.77,    22.93
     49MR99K07, EQPAC,    10,  1,     21,     21,2,19991206,2313, -0.0378, 178.0877, 5416,       41,2,       41,2,   26.750,2,   35.199,2, -999.000,9,   -999.0,9,      0.1,1,  -999.00,9,  -999.00,9,  -999.00,9,  -999.00,9,  -999.00,9,  -999.00,9,  -999.00,9,  -999.00,9,   -999.0,9,-999.0000,9,    26.74,    22.95
     49MR99K07, EQPAC,    10,  1,     20,     20,2,19991206,2313, -0.0378, 178.0877, 5416,       51,2,       51,2,   26.733,2,   35.205,2, -999.000,9,   -999.0,9,      0.1,1,     0.32,2,     0.37,2,     0.15,2,  -999.00,9,  -999.00,9,  -999.00,9,  -999.00,9,  -999.00,9,   -999.0,9,-999.0000,9,    26.72,    22.96
     49MR99K07, EQPAC,    10,  1,     19,     19,3,19991206,2313, -0.0378, 178.0877, 5416,       61,2,       61,2,   26.701,2,   35.216,2, -999.000,9,   -999.0,9,      0.1,1,  -999.00,9,  -999.00,9,  -999.00,9,  -999.00,9,  -999.00,9,  -999.00,9,  -999.00,9,  -999.00,9,   -999.0,9,-999.0000,9,    26.69,    22.98
     49MR99K07, EQPAC,    10,  1,     18,     18,2,19991206,2313, -0.0378, 178.0877, 5416,       81,2,       82,2,   26.568,2,   35.258,2, -999.000,9,   -999.0,9,      0.1,1,  -999.00,9,  -999.00,9,  -999.00,9,  -999.00,9,  -999.00,9,  -999.00,9,  -999.00,9,  -999.00,9,   -999.0,9,-999.0000,9,    26.55,    23.05
     49MR99K07, EQPAC,    10,  1,     17,     17,2,19991206,2313, -0.0378, 178.0877, 5416,       99,2,      100,2,   26.093,2,   35.283,2, -999.000,9,   -999.0,9,      0.0,1,  -999.00,9,  -999.00,9,  -999.00,9,  -999.00,9,  -999.00,9,  -999.00,9,  -999.00,9,  -999.00,9,   -999.0,9,-999.0000,9,    26.07,    23.22
     49MR99K07, EQPAC,    10,  1,     16,     16,2,19991206,2313, -0.0378, 178.0877, 5416,      121,2,      122,2,   25.494,2,   35.286,2, -999.000,9,   -999.0,9,      0.0,1,     0.10,2,     0.14,2,     0.12,2,  -999.00,9,  -999.00,9,  -999.00,9,  -999.00,9,  -999.00,9,   -999.0,9,-999.0000,9,    25.47,    23.41
     49MR99K07, EQPAC,    10,  1,     15,     15,2,19991206,2313, -0.0378, 178.0877, 5416,      141,2,      142,2,   24.897,2,   35.323,2, -999.000,9,   -999.0,9,      0.0,1,  -999.00,9,  -999.00,9,  -999.00,9,  -999.00,9,  -999.00,9,  -999.00,9,  -999.00,9,  -999.00,9,   -999.0,9,-999.0000,9,    24.87,    23.62
     49MR99K07, EQPAC,    10,  1,     14,     14,2,19991206,2313, -0.0378, 178.0877, 5416,      170,2,      171,2,   23.321,2,   35.356,2, -999.000,9,   -999.0,9,      0.0,1,  -999.00,9,  -999.00,9,  -999.00,9,  -999.00,9,  -999.00,9,  -999.00,9,  -999.00,9,  -999.00,9,   -999.0,9,-999.0000,9,    23.29,    24.11
     49MR99K07, EQPAC,    10,  1,     13,     13,2,19991206,2313, -0.0378, 178.0877, 5416,      202,2,      203,2,   18.211,2,   35.121,2, -999.000,9,   -999.0,9,      0.0,1,  -999.00,9,  -999.00,9,  -999.00,9,  -999.00,9,  -999.00,9,  -999.00,9,  -999.00,9,  -999.00,9,   -999.0,9,-999.0000,9,    18.18,    25.31