BOTTLE,20101227MIRCJHATS
EXPOCODE,SECT,STNNBR,CASTNO,SAMPNO,BTLNBR,BTLNBR_FLAG_W,DATE,TIME,LATITUDE,LONGITUDE,DEPTH,CTDDPT,CTDDPT_FLAG_W,CTDPRS,CTDPRS_FLAG_W,CTDTMP,CTDTMP_FLAG_W,CTDSAL,CTDSAL_FLAG_W,SALNTY,SALNTY_FLAG_W,OXYGEN,OXYGEN_FLAG_W,FLUOR,FLUOR_FLAG_W,CHLORA,CHLORA_FLAG_W,CHLWELSH,CHLWELSH_W,PPHYTN,PPHYTN_FLAG_W,SILCAT,SILCAT_FLAG_W,NITRAT,NITRAT_FLAG_W,NITRIT,NITRIT_FLAG_W,PHSPHT,PHSPHT_FLAG_W,NH4,NH4_FLAG_W,TCARBN,TCARBN_FLAG_W,PH,PH_FLAG_W,THETA,SIG0
,,,,,,,,UTC,DEG,DEG,M,M,,DBAR,,ITS-90,,PSS-78,,PSS-78,,UMOL/KG,,UG/L,,MG/CUM,,MG/CUM,,MG/CUM,,UMOL/KG,,UMOL/KG,,UMOL/KG,,UMOL/KG,,UMOL/KG,,UMOL/KG,,-,,DEG C,KG/CUM
     49MR99K07, EQPAC,     6,  2,      0,      0,2,19991201,2335,  0.0537, 159.9462, 2824,     -999,9,     -999,9,   29.400,2, -999.000,9,   35.135,2,   -999.0,9,   -999.0,9,     0.18,2,     0.19,2,     0.04,2,     1.72,2,     0.01,2,     0.06,2,     0.26,2,     0.05,3,   1971.2,2,   8.0921,5,  -999.00,  -999.00
     49MR99K07, EQPAC,     6,  2,     12,     12,2,19991201,2340,  0.0535, 159.9465, 2824,       11,2,       11,2,   29.329,2,   35.122,2,   35.123,2,   -999.0,9,      0.0,1,     0.17,2,     0.18,2,     0.04,2,     1.69,2,     0.02,2,     0.06,2,     0.23,2,     0.10,3,   1969.1,2,   8.0916,5,    29.33,    22.05
     49MR99K07, EQPAC,     6,  2,     11,     11,3,19991201,2340,  0.0535, 159.9465, 2824,       31,2,       31,2,   28.802,2,   35.116,2,   35.114,2,    199.6,2,      0.0,1,     0.17,2,     0.18,2,     0.05,2,     1.79,2,     0.11,2,     0.08,2,     0.25,2,     0.11,3,   1974.9,2,   8.0840,5,    28.79,    22.22
     49MR99K07, EQPAC,     6,  2,     10,     10,2,19991201,2340,  0.0535, 159.9465, 2824,       40,2,       40,2,   28.767,2,   35.116,2,   35.114,2,    199.5,2,      0.1,1,     0.18,2,     0.20,2,     0.06,2,     1.78,2,     0.14,2,     0.07,2,     0.25,2,     0.13,3,   1972.7,2,   8.0841,5,    28.76,    22.23
     49MR99K07, EQPAC,     6,  2,      9,      9,2,19991201,2340,  0.0535, 159.9465, 2824,       51,2,       51,2,   28.748,2,   35.118,2,   35.119,2,    199.7,2,      0.1,1,     0.21,2,     0.23,2,     0.07,2,     1.81,2,     0.17,2,     0.08,2,     0.25,2,     0.13,3,   1976.0,2,   8.0822,5,    28.74,    22.24
     49MR99K07, EQPAC,     6,  2,      8,      8,2,19991201,2340,  0.0535, 159.9465, 2824,       61,2,       61,2,   28.646,2,   35.134,2,   35.159,2,    197.6,2,      0.1,1,     0.26,2,     0.29,2,     0.11,2,     1.77,2,     0.36,2,     0.12,2,     0.27,2,     0.14,3,   1979.0,2,   8.0778,5,    28.63,    22.28
     49MR99K07, EQPAC,     6,  2,      7,      7,3,19991201,2340,  0.0535, 159.9465, 2824,       71,2,       71,2,   28.331,2,   35.192,2,   35.202,2,    189.7,2,      0.1,1,     0.33,2,     0.40,2,     0.22,2,     1.86,2,     1.24,2,     0.39,2,     0.35,2,     0.20,3,   1993.0,2,   8.0594,5,    28.31,    22.43
     49MR99K07, EQPAC,     6,  2,      6,      6,3,19991201,2340,  0.0535, 159.9465, 2824,       81,2,       81,2,   28.155,2,   35.218,2,   35.213,2,    185.4,2,      0.1,1,     0.28,2,     0.36,2,     0.24,2,     2.00,2,     1.46,2,     0.68,2,     0.37,2,     0.15,3,   1994.5,2,   8.0527,5,    28.14,    22.51
     49MR99K07, EQPAC,     6,  2,      5,      5,2,19991201,2340,  0.0535, 159.9465, 2824,       90,2,       91,2,   28.108,2,   35.223,2, -999.000,9,    181.4,2,      0.1,1,     0.25,2,     0.31,2,     0.20,2,  -999.00,9,  -999.00,9,  -999.00,9,  -999.00,9,  -999.00,9,   2001.2,2,   8.0496,5,    28.09,    22.53
     49MR99K07, EQPAC,     6,  2,      4,      4,2,19991201,2340,  0.0535, 159.9465, 2824,      101,2,      101,2,   27.955,2,   35.202,2,   35.206,2,    175.5,2,      0.1,1,     0.20,2,     0.27,2,     0.20,2,     1.99,2,     2.11,2,     1.07,2,     0.44,2,     0.00,3,   2001.5,2,   8.0408,5,    27.93,    22.56
     49MR99K07, EQPAC,     6,  2,      3,      3,2,19991201,2340,  0.0535, 159.9465, 2824,      120,2,      121,2,   27.648,2,   35.192,2,   35.190,2,    168.8,2,      0.0,1,     0.13,2,     0.18,2,     0.14,2,     2.15,2,     3.94,2,     0.09,2,     0.49,2,     0.10,3,   2007.1,2,   8.0284,5,    27.62,    22.65
     49MR99K07, EQPAC,     6,  2,      2,      2,2,19991201,2340,  0.0535, 159.9465, 2824,      150,2,      151,2,   27.310,2,   35.199,2,   35.211,2,    162.3,2,      0.0,1,     0.07,2,     0.10,2,     0.10,2,     2.37,2,     4.84,2,     0.07,2,     0.56,2,     0.01,3,   2018.3,2,   8.0157,5,    27.28,    22.77
     49MR99K07, EQPAC,     6,  2,      1,      1,3,19991201,2340,  0.0535, 159.9465, 2824,      201,2,      202,2,   18.831,2,   35.315,2,   35.306,2,    139.4,2,      0.0,1,     0.01,2,     0.01,2,     0.02,2,     8.11,2,    11.50,2,     0.05,2,     0.98,2,     0.02,3,   2102.3,2,   7.8805,5,    18.80,    25.31
     49MR99K07, EQPAC,     6,  2,     24,     24,2,19991201,2340,  0.0535, 159.9465, 2824,       10,2,       10,2,   29.333,2,   35.123,2, -999.000,9,   -999.0,9,      0.0,1,     0.16,2,     0.17,2,     0.04,2,  -999.00,9,  -999.00,9,  -999.00,9,  -999.00,9,  -999.00,9,   -999.0,9,-999.0000,9,    29.33,    22.04
     49MR99K07, EQPAC,     6,  2,     23,     23,3,19991201,2340,  0.0535, 159.9465, 2824,       31,2,       31,2,   28.805,2,   35.116,2, -999.000,9,   -999.0,9,      0.0,1,     0.16,2,     0.17,2,     0.04,2,  -999.00,9,  -999.00,9,  -999.00,9,  -999.00,9,  -999.00,9,   -999.0,9,-999.0000,9,    28.80,    22.22
     49MR99K07, EQPAC,     6,  2,     21,     21,2,19991201,2340,  0.0535, 159.9465, 2824,       41,2,       41,2,   28.766,2,   35.116,2, -999.000,9,   -999.0,9,      0.1,1,     0.17,2,     0.19,2,     0.05,2,  -999.00,9,  -999.00,9,  -999.00,9,  -999.00,9,  -999.00,9,   -999.0,9,-999.0000,9,    28.76,    22.23
     49MR99K07, EQPAC,     6,  2,     20,     20,2,19991201,2340,  0.0535, 159.9465, 2824,       60,2,       61,2,   28.666,2,   35.130,2, -999.000,9,   -999.0,9,      0.1,1,     0.24,2,     0.26,2,     0.09,2,  -999.00,9,  -999.00,9,  -999.00,9,  -999.00,9,  -999.00,9,   -999.0,9,-999.0000,9,    28.65,    22.27
     49MR99K07, EQPAC,     6,  2,     19,     19,2,19991201,2340,  0.0535, 159.9465, 2824,       71,2,       72,2,   28.327,2,   35.192,2, -999.000,9,   -999.0,9,      0.1,1,     0.33,2,     0.40,2,     0.22,2,  -999.00,9,  -999.00,9,  -999.00,9,  -999.00,9,  -999.00,9,   -999.0,9,-999.0000,9,    28.31,    22.43
     49MR99K07, EQPAC,     6,  2,     18,     18,2,19991201,2340,  0.0535, 159.9465, 2824,       81,2,       81,2,   28.182,2,   35.214,2, -999.000,9,   -999.0,9,      0.1,1,  -999.00,9,  -999.00,9,  -999.00,9,  -999.00,9,  -999.00,9,  -999.00,9,  -999.00,9,  -999.00,9,   -999.0,9,-999.0000,9,    28.16,    22.50
     49MR99K07, EQPAC,     6,  2,     17,     17,2,19991201,2340,  0.0535, 159.9465, 2824,      101,2,      101,2,   27.957,2,   35.203,2, -999.000,9,   -999.0,9,      0.1,1,  -999.00,9,  -999.00,9,  -999.00,9,  -999.00,9,  -999.00,9,  -999.00,9,  -999.00,9,  -999.00,9,   -999.0,9,-999.0000,9,    27.93,    22.56
     49MR99K07, EQPAC,     6,  2,     16,     16,2,19991201,2340,  0.0535, 159.9465, 2824,      120,2,      121,2,   27.647,2,   35.192,2, -999.000,9,   -999.0,9,      0.0,1,     0.16,2,     0.20,2,     0.16,2,  -999.00,9,  -999.00,9,  -999.00,9,  -999.00,9,  -999.00,9,   -999.0,9,-999.0000,9,    27.62,    22.65
     49MR99K07, EQPAC,     6,  2,     15,     15,2,19991201,2340,  0.0535, 159.9465, 2824,      141,2,      142,2,   27.442,2,   35.190,2, -999.000,9,   -999.0,9,      0.0,1,  -999.00,9,  -999.00,9,  -999.00,9,  -999.00,9,  -999.00,9,  -999.00,9,  -999.00,9,  -999.00,9,   -999.0,9,-999.0000,9,    27.41,    22.72
     49MR99K07, EQPAC,     6,  2,     14,     14,3,19991201,2340,  0.0535, 159.9465, 2824,      171,2,      172,2,   23.897,2,   35.321,2, -999.000,9,   -999.0,9,      0.0,1,  -999.00,9,  -999.00,9,  -999.00,9,  -999.00,9,  -999.00,9,  -999.00,9,  -999.00,9,  -999.00,9,   -999.0,9,-999.0000,9,    23.86,    23.92
     49MR99K07, EQPAC,     6,  2,     13,     13,3,19991201,2340,  0.0535, 159.9465, 2824,      201,2,      202,2,   18.717,2,   35.325,2, -999.000,9,   -999.0,9,      0.0,1,  -999.00,9,  -999.00,9,  -999.00,9,  -999.00,9,  -999.00,9,  -999.00,9,  -999.00,9,  -999.00,9,   -999.0,9,-999.0000,9,    18.68,    25.34
     49MR99K07, EQPAC,     6,  3,      0,      0,2,19991202, 724,  0.0440, 159.9397, 2800,     -999,9,     -999,9, -999.000,9, -999.000,9, -999.000,9,   -999.0,9,   -999.0,9,     0.15,2,     0.16,2,     0.04,2,  -999.00,9,  -999.00,9,  -999.00,9,  -999.00,9,  -999.00,9,   -999.0,9,-999.0000,9,  -999.00,  -999.00
     49MR99K07, EQPAC,     6,  3,     12,     12,2,19991202, 730,  0.0443, 159.9395, 2800,       21,2,       21,2,   28.822,2,   35.117,2, -999.000,9,   -999.0,9,      0.1,1,  -999.00,9,  -999.00,9,  -999.00,9,  -999.00,9,  -999.00,9,  -999.00,9,  -999.00,9,  -999.00,9,   -999.0,9,-999.0000,9,    28.82,    22.21
     49MR99K07, EQPAC,     6,  3,     11,     11,2,19991202, 730,  0.0443, 159.9395, 2800,       41,2,       41,2,   28.746,2,   35.119,2, -999.000,9,   -999.0,9,      0.1,1,  -999.00,9,  -999.00,9,  -999.00,9,  -999.00,9,  -999.00,9,  -999.00,9,  -999.00,9,  -999.00,9,   -999.0,9,-999.0000,9,    28.74,    22.24
     49MR99K07, EQPAC,     6,  3,     10,     10,2,19991202, 730,  0.0443, 159.9395, 2800,       60,2,       61,2,   28.499,2,   35.164,2, -999.000,9,   -999.0,9,      0.2,1,  -999.00,9,  -999.00,9,  -999.00,9,  -999.00,9,  -999.00,9,  -999.00,9,  -999.00,9,  -999.00,9,   -999.0,9,-999.0000,9,    28.48,    22.35
     49MR99K07, EQPAC,     6,  3,      9,      9,2,19991202, 730,  0.0443, 159.9395, 2800,       80,2,       81,2,   28.169,2,   35.216,2, -999.000,9,   -999.0,9,      0.1,1,  -999.00,9,  -999.00,9,  -999.00,9,  -999.00,9,  -999.00,9,  -999.00,9,  -999.00,9,  -999.00,9,   -999.0,9,-999.0000,9,    28.15,    22.50
     49MR99K07, EQPAC,     6,  3,      8,      8,2,19991202, 730,  0.0443, 159.9395, 2800,      100,2,      101,2,   27.838,2,   35.190,2, -999.000,9,   -999.0,9,      0.1,1,  -999.00,9,  -999.00,9,  -999.00,9,  -999.00,9,  -999.00,9,  -999.00,9,  -999.00,9,  -999.00,9,   -999.0,9,-999.0000,9,    27.81,    22.59
     49MR99K07, EQPAC,     6,  3,      7,      7,2,19991202, 730,  0.0443, 159.9395, 2800,      120,2,      121,2,   27.561,2,   35.190,2, -999.000,9,   -999.0,9,      0.0,1,  -999.00,9,  -999.00,9,  -999.00,9,  -999.00,9,  -999.00,9,  -999.00,9,  -999.00,9,  -999.00,9,   -999.0,9,-999.0000,9,    27.53,    22.68
     49MR99K07, EQPAC,     6,  3,      6,      6,2,19991202, 730,  0.0443, 159.9395, 2800,      141,2,      142,2,   27.301,2,   35.202,2, -999.000,9,   -999.0,9,      0.0,1,  -999.00,9,  -999.00,9,  -999.00,9,  -999.00,9,  -999.00,9,  -999.00,9,  -999.00,9,  -999.00,9,   -999.0,9,-999.0000,9,    27.27,    22.77
     49MR99K07, EQPAC,     6,  3,      5,      5,2,19991202, 730,  0.0443, 159.9395, 2800,      161,2,      162,2,   23.860,2,   35.327,2, -999.000,9,   -999.0,9,      0.0,1,  -999.00,9,  -999.00,9,  -999.00,9,  -999.00,9,  -999.00,9,  -999.00,9,  -999.00,9,  -999.00,9,   -999.0,9,-999.0000,9,    23.83,    23.93
     49MR99K07, EQPAC,     6,  3,      4,      4,2,19991202, 730,  0.0443, 159.9395, 2800,      181,2,      182,2,   19.946,2,   35.336,2, -999.000,9,   -999.0,9,      0.0,1,  -999.00,9,  -999.00,9,  -999.00,9,  -999.00,9,  -999.00,9,  -999.00,9,  -999.00,9,  -999.00,9,   -999.0,9,-999.0000,9,    19.91,    25.03
     49MR99K07, EQPAC,     6,  3,      3,      3,2,19991202, 730,  0.0443, 159.9395, 2800,      201,2,      202,2,   17.229,2,   35.064,2, -999.000,9,   -999.0,9,      0.0,1,  -999.00,9,  -999.00,9,  -999.00,9,  -999.00,9,  -999.00,9,  -999.00,9,  -999.00,9,  -999.00,9,   -999.0,9,-999.0000,9,    17.20,    25.51
     49MR99K07, EQPAC,     6,  3,      2,      2,2,19991202, 730,  0.0443, 159.9395, 2800,       70,2,       71,2,   28.248,2,   35.202,2, -999.000,9,   -999.0,9,      0.2,1,  -999.00,9,  -999.00,9,  -999.00,9,  -999.00,9,  -999.00,9,  -999.00,9,  -999.00,9,  -999.00,9,   -999.0,9,-999.0000,9,    28.23,    22.47
     49MR99K07, EQPAC,     6,  3,     24,     24,2,19991202, 730,  0.0443, 159.9395, 2800,       21,2,       21,2,   28.879,2,   35.118,2, -999.000,9,   -999.0,9,      0.1,1,  -999.00,9,  -999.00,9,  -999.00,9,  -999.00,9,  -999.00,9,  -999.00,9,  -999.00,9,  -999.00,9,   -999.0,9,-999.0000,9,    28.87,    22.19
     49MR99K07, EQPAC,     6,  3,     23,     23,2,19991202, 730,  0.0443, 159.9395, 2800,       41,2,       41,2,   28.747,2,   35.119,2, -999.000,9,   -999.0,9,      0.1,1,  -999.00,9,  -999.00,9,  -999.00,9,  -999.00,9,  -999.00,9,  -999.00,9,  -999.00,9,  -999.00,9,   -999.0,9,-999.0000,9,    28.74,    22.24
     49MR99K07, EQPAC,     6,  3,     21,     21,2,19991202, 730,  0.0443, 159.9395, 2800,       61,2,       61,2,   28.560,2,   35.153,2, -999.000,9,   -999.0,9,      0.2,1,  -999.00,9,  -999.00,9,  -999.00,9,  -999.00,9,  -999.00,9,  -999.00,9,  -999.00,9,  -999.00,9,   -999.0,9,-999.0000,9,    28.55,    22.33
     49MR99K07, EQPAC,     6,  3,     20,     20,3,19991202, 730,  0.0443, 159.9395, 2800,       81,2,       82,2,   28.172,2,   35.216,2, -999.000,9,   -999.0,9,      0.1,1,  -999.00,9,  -999.00,9,  -999.00,9,  -999.00,9,  -999.00,9,  -999.00,9,  -999.00,9,  -999.00,9,   -999.0,9,-999.0000,9,    28.15,    22.50
     49MR99K07, EQPAC,     6,  3,     19,     19,3,19991202, 730,  0.0443, 159.9395, 2800,      101,2,      101,2,   27.840,2,   35.192,2, -999.000,9,   -999.0,9,      0.1,1,  -999.00,9,  -999.00,9,  -999.00,9,  -999.00,9,  -999.00,9,  -999.00,9,  -999.00,9,  -999.00,9,   -999.0,9,-999.0000,9,    27.82,    22.59
     49MR99K07, EQPAC,     6,  3,     18,     18,2,19991202, 730,  0.0443, 159.9395, 2800,      120,2,      121,2,   27.565,2,   35.190,2, -999.000,9,   -999.0,9,      0.0,1,     0.11,2,     0.15,2,     0.13,2,  -999.00,9,  -999.00,9,  -999.00,9,  -999.00,9,  -999.00,9,   -999.0,9,-999.0000,9,    27.54,    22.68
     49MR99K07, EQPAC,     6,  3,     17,     17,2,19991202, 730,  0.0443, 159.9395, 2800,      140,2,      141,2,   27.313,2,   35.202,2, -999.000,9,   -999.0,9,      0.0,1,  -999.00,9,  -999.00,9,  -999.00,9,  -999.00,9,  -999.00,9,  -999.00,9,  -999.00,9,  -999.00,9,   -999.0,9,-999.0000,9,    27.28,    22.77
     49MR99K07, EQPAC,     6,  3,     16,     16,2,19991202, 730,  0.0443, 159.9395, 2800,      160,2,      161,2,   24.110,2,   35.360,2, -999.000,9,   -999.0,9,      0.0,1,  -999.00,9,  -999.00,9,  -999.00,9,  -999.00,9,  -999.00,9,  -999.00,9,  -999.00,9,  -999.00,9,   -999.0,9,-999.0000,9,    24.08,    23.88
     49MR99K07, EQPAC,     6,  3,     15,     15,2,19991202, 730,  0.0443, 159.9395, 2800,      180,2,      181,2,   19.995,2,   35.344,2, -999.000,9,   -999.0,9,      0.0,1,  -999.00,9,  -999.00,9,  -999.00,9,  -999.00,9,  -999.00,9,  -999.00,9,  -999.00,9,  -999.00,9,   -999.0,9,-999.0000,9,    19.96,    25.03
     49MR99K07, EQPAC,     6,  3,     14,     14,2,19991202, 730,  0.0443, 159.9395, 2800,      201,2,      202,2,   17.085,2,   35.040,2, -999.000,9,   -999.0,9,      0.0,1,  -999.00,9,  -999.00,9,  -999.00,9,  -999.00,9,  -999.00,9,  -999.00,9,  -999.00,9,  -999.00,9,   -999.0,9,-999.0000,9,    17.05,    25.52
     49MR99K07, EQPAC,     6,  3,     13,     13,2,19991202, 730,  0.0443, 159.9395, 2800,       71,2,       71,2,   28.285,2,   35.207,2, -999.000,9,   -999.0,9,      0.2,1,  -999.00,9,  -999.00,9,  -999.00,9,  -999.00,9,  -999.00,9,  -999.00,9,  -999.00,9,  -999.00,9,   -999.0,9,-999.0000,9,    28.27,    22.46
     49MR99K07, EQPAC,     6,  3,      1,      1,2,19991202, 730,  0.0443, 159.9395, 2800,       70,2,       71,2,   28.229,2,   35.207,2, -999.000,9,   -999.0,9,      0.1,1,     0.33,2,     0.43,2,     0.28,2,  -999.00,9,  -999.00,9,  -999.00,9,  -999.00,9,  -999.00,9,   -999.0,9,-999.0000,9,    28.21,    22.48