BOTTLE,20101227MIRCJHATS
EXPOCODE,SECT,STNNBR,CASTNO,SAMPNO,BTLNBR,BTLNBR_FLAG_W,DATE,TIME,LATITUDE,LONGITUDE,DEPTH,CTDDPT,CTDDPT_FLAG_W,CTDPRS,CTDPRS_FLAG_W,CTDTMP,CTDTMP_FLAG_W,CTDSAL,CTDSAL_FLAG_W,SALNTY,SALNTY_FLAG_W,OXYGEN,OXYGEN_FLAG_W,FLUOR,FLUOR_FLAG_W,CHLORA,CHLORA_FLAG_W,CHLWELSH,CHLWELSH_W,PPHYTN,PPHYTN_FLAG_W,SILCAT,SILCAT_FLAG_W,NITRAT,NITRAT_FLAG_W,NITRIT,NITRIT_FLAG_W,PHSPHT,PHSPHT_FLAG_W,NH4,NH4_FLAG_W,TCARBN,TCARBN_FLAG_W,PH,PH_FLAG_W,THETA,SIG0
,,,,,,,,UTC,DEG,DEG,M,M,,DBAR,,ITS-90,,PSS-78,,PSS-78,,UMOL/KG,,UG/L,,MG/CUM,,MG/CUM,,MG/CUM,,UMOL/KG,,UMOL/KG,,UMOL/KG,,UMOL/KG,,UMOL/KG,,UMOL/KG,,-,,DEG C,KG/CUM
     49MR99K07, EQPAC,     9,  2,      0,      0,2,19991205,2308,  0.0512, 174.8993, 4821,     -999,9,     -999,9,   27.700,2, -999.000,9,   35.342,2,   -999.0,9,   -999.0,9,     0.29,2,     0.32,2,     0.12,2,     1.97,2,     2.18,2,     0.33,2,     0.42,2,     0.44,3,   2005.9,6,   8.0594,5,  -999.00,  -999.00
     49MR99K07, EQPAC,     9,  2,     12,     12,2,19991205,2316,  0.0515, 174.8993, 4821,       11,2,       11,2,   27.714,2,   35.341,2,   35.339,2,    195.4,2,      0.0,1,     0.24,2,     0.27,2,     0.07,2,     2.06,2,     2.19,2,     0.32,2,     0.40,2,     0.14,3,   2006.8,2,   8.0601,5,    27.71,    22.74
     49MR99K07, EQPAC,     9,  2,     11,     11,2,19991205,2316,  0.0515, 174.8993, 4821,       22,2,       22,2,   27.668,2,   35.341,2,   35.339,2,    195.6,2,      0.1,1,     0.24,2,     0.23,2,     0.05,2,     1.99,2,     2.18,2,     0.32,2,     0.40,2,     0.37,3,   2006.5,2,   8.0599,5,    27.66,    22.76
     49MR99K07, EQPAC,     9,  2,     10,     10,3,19991205,2316,  0.0515, 174.8993, 4821,       30,2,       30,2,   27.656,2,   35.340,2,   35.338,2,    195.3,2,      0.1,1,     0.28,2,     0.31,2,     0.10,2,     1.98,2,     2.15,2,     0.34,2,     0.39,2,     0.29,3,   2006.9,2,   8.0596,5,    27.65,    22.76
     49MR99K07, EQPAC,     9,  2,      9,      9,2,19991205,2316,  0.0515, 174.8993, 4821,       40,2,       41,2,   27.649,2,   35.340,2,   35.337,2,    195.2,2,      0.1,1,     0.31,2,     0.35,2,     0.13,2,     1.98,2,     2.18,2,     0.33,2,     0.40,2,     0.13,3,   2006.1,2,   8.0595,5,    27.64,    22.76
     49MR99K07, EQPAC,     9,  2,      8,      8,3,19991205,2316,  0.0515, 174.8993, 4821,       50,2,       51,2,   27.638,2,   35.337,2,   35.334,2,    194.5,2,      0.1,1,     0.31,2,     0.34,2,     0.13,2,     2.03,2,     2.24,2,     0.33,2,     0.42,2,     0.14,3,   2009.0,2,   8.0580,5,    27.63,    22.77
     49MR99K07, EQPAC,     9,  2,      7,      7,3,19991205,2316,  0.0515, 174.8993, 4821,       62,2,       62,2,   27.602,2,   35.330,2,   35.331,2,    193.6,2,      0.1,1,     0.30,2,     0.35,2,     0.14,2,     2.00,2,     2.33,2,     0.34,2,     0.42,2,     0.21,3,   2007.1,2,   8.0564,5,    27.59,    22.77
     49MR99K07, EQPAC,     9,  2,      6,      6,2,19991205,2316,  0.0515, 174.8993, 4821,       70,2,       70,2,   27.559,2,   35.321,2,   35.320,2,    192.2,2,      0.1,1,     0.38,2,     0.55,2,     0.40,2,     2.08,2,     2.44,2,     0.35,2,     0.43,2,     0.27,3,   2008.6,2,   8.0544,5,    27.54,    22.78
     49MR99K07, EQPAC,     9,  2,      5,      5,2,19991205,2316,  0.0515, 174.8993, 4821,       81,2,       82,2,   27.443,2,   35.303,2,   35.303,2,    189.5,2,      0.1,1,     0.26,2,     0.30,2,     0.13,2,     2.06,2,     2.72,2,     0.34,2,     0.43,2,     0.29,3,   2010.1,2,   8.0496,5,    27.42,    22.80
     49MR99K07, EQPAC,     9,  2,     17,     17,2,19991205,2316,  0.0515, 174.8993, 4821,      101,2,      101,2,   26.461,2,   35.224,2,   35.223,2,    168.6,2,      0.1,1,     0.16,2,     0.20,2,     0.13,2,     2.74,2,     4.72,2,     0.40,2,     0.54,2,     0.22,3,   2025.4,2,   8.0147,5,    26.44,    23.06
     49MR99K07, EQPAC,     9,  2,      3,      3,2,19991205,2316,  0.0515, 174.8993, 4821,      121,2,      122,2,   25.814,2,   35.176,2,   35.175,2,    157.8,2,      0.0,1,     0.11,2,     0.15,2,     0.11,2,     3.14,2,     5.76,2,     0.15,2,     0.59,2,     0.17,3,   2031.2,2,   7.9972,5,    25.79,    23.22
     49MR99K07, EQPAC,     9,  2,      2,      2,2,19991205,2316,  0.0515, 174.8993, 4821,      151,2,      152,2,   22.453,2,   35.181,2,   35.190,2,    140.8,2,      0.0,1,     0.03,2,     0.05,2,     0.04,2,     5.37,2,     8.32,2,     0.06,2,     0.74,2,     0.14,3,   2061.1,2,   7.9448,5,    22.42,    24.23
     49MR99K07, EQPAC,     9,  2,      1,      1,2,19991205,2316,  0.0515, 174.8993, 4821,      203,2,      204,2,   18.092,2,   35.092,2,   35.084,2,    139.5,2,      0.0,1,     0.02,2,     0.03,2,     0.03,2,     9.91,2,    12.00,2,     0.05,2,     1.01,2,     0.20,3,   2107.4,2,   7.8695,5,    18.06,    25.32
     49MR99K07, EQPAC,     9,  2,     24,     24,2,19991205,2316,  0.0515, 174.8993, 4821,       11,2,       11,2,   27.700,2,   35.341,2, -999.000,9,   -999.0,9,      0.0,1,  -999.00,9,  -999.00,9,  -999.00,9,  -999.00,9,  -999.00,9,  -999.00,9,  -999.00,9,  -999.00,9,   -999.0,9,-999.0000,9,    27.70,    22.75
     49MR99K07, EQPAC,     9,  2,     23,     23,2,19991205,2316,  0.0515, 174.8993, 4821,       31,2,       32,2,   27.658,2,   35.340,2, -999.000,9,   -999.0,9,      0.1,1,  -999.00,9,  -999.00,9,  -999.00,9,  -999.00,9,  -999.00,9,  -999.00,9,  -999.00,9,  -999.00,9,   -999.0,9,-999.0000,9,    27.65,    22.76
     49MR99K07, EQPAC,     9,  2,     21,     21,2,19991205,2316,  0.0515, 174.8993, 4821,       41,2,       41,2,   27.647,2,   35.339,2, -999.000,9,   -999.0,9,      0.1,1,  -999.00,9,  -999.00,9,  -999.00,9,  -999.00,9,  -999.00,9,  -999.00,9,  -999.00,9,  -999.00,9,   -999.0,9,-999.0000,9,    27.64,    22.76
     49MR99K07, EQPAC,     9,  2,     20,     20,3,19991205,2316,  0.0515, 174.8993, 4821,       50,2,       51,2,   27.638,2,   35.337,2, -999.000,9,   -999.0,9,      0.1,1,     0.30,2,     0.35,2,     0.14,2,  -999.00,9,  -999.00,9,  -999.00,9,  -999.00,9,  -999.00,9,   -999.0,9,-999.0000,9,    27.63,    22.77
     49MR99K07, EQPAC,     9,  2,     19,     19,2,19991205,2316,  0.0515, 174.8993, 4821,       61,2,       62,2,   27.604,2,   35.330,2, -999.000,9,   -999.0,9,      0.1,1,  -999.00,9,  -999.00,9,  -999.00,9,  -999.00,9,  -999.00,9,  -999.00,9,  -999.00,9,  -999.00,9,   -999.0,9,-999.0000,9,    27.59,    22.77
     49MR99K07, EQPAC,     9,  2,     18,     18,2,19991205,2316,  0.0515, 174.8993, 4821,       82,2,       82,2,   27.436,2,   35.303,2, -999.000,9,   -999.0,9,      0.1,1,  -999.00,9,  -999.00,9,  -999.00,9,  -999.00,9,  -999.00,9,  -999.00,9,  -999.00,9,  -999.00,9,   -999.0,9,-999.0000,9,    27.42,    22.81
     49MR99K07, EQPAC,     9,  2,     17,     17,2,19991205,2316,  0.0515, 174.8993, 4821,      101,2,      102,2,   26.456,2,   35.224,2, -999.000,9,   -999.0,9,      0.0,1,  -999.00,9,  -999.00,9,  -999.00,9,  -999.00,9,  -999.00,9,  -999.00,9,  -999.00,9,  -999.00,9,   -999.0,9,-999.0000,9,    26.43,    23.06
     49MR99K07, EQPAC,     9,  2,     16,     16,2,19991205,2316,  0.0515, 174.8993, 4821,      121,2,      122,2,   25.832,2,   35.177,2, -999.000,9,   -999.0,9,      0.0,1,     0.12,2,     0.16,2,     0.11,2,  -999.00,9,  -999.00,9,  -999.00,9,  -999.00,9,  -999.00,9,   -999.0,9,-999.0000,9,    25.80,    23.22
     49MR99K07, EQPAC,     9,  2,     15,     15,2,19991205,2316,  0.0515, 174.8993, 4821,      139,2,      140,2,   24.277,2,   35.228,2, -999.000,9,   -999.0,9,      0.0,1,  -999.00,9,  -999.00,9,  -999.00,9,  -999.00,9,  -999.00,9,  -999.00,9,  -999.00,9,  -999.00,9,   -999.0,9,-999.0000,9,    24.25,    23.73
     49MR99K07, EQPAC,     9,  2,     14,     14,2,19991205,2316,  0.0515, 174.8993, 4821,      170,2,      171,2,   21.573,2,   35.102,2, -999.000,9,   -999.0,9,      0.0,1,  -999.00,9,  -999.00,9,  -999.00,9,  -999.00,9,  -999.00,9,  -999.00,9,  -999.00,9,  -999.00,9,   -999.0,9,-999.0000,9,    21.54,    24.41
     49MR99K07, EQPAC,     9,  2,     13,     13,2,19991205,2316,  0.0515, 174.8993, 4821,      203,2,      204,2,   18.067,2,   35.092,2, -999.000,9,   -999.0,9,      0.0,1,  -999.00,9,  -999.00,9,  -999.00,9,  -999.00,9,  -999.00,9,  -999.00,9,  -999.00,9,  -999.00,9,   -999.0,9,-999.0000,9,    18.03,    25.33
     49MR99K07, EQPAC,     9,  3,     24,     24,2,19991206, 239,  0.0453, 174.9017, 4810,      201,2,      202,2,   17.740,2,   35.089,2,   35.087,2,    138.4,2,   -999.0,9,  -999.00,9,  -999.00,9,  -999.00,9,    10.33,2,    12.63,2,     0.05,2,     1.01,2,     0.43,3,   2105.6,2,   7.8633,5,    17.71,    25.40
     49MR99K07, EQPAC,     9,  3,     23,     23,3,19991206, 239,  0.0453, 174.9017, 4810,      251,2,      252,2,   13.768,2,   35.018,2,   35.020,2,    135.8,2,   -999.0,9,  -999.00,9,  -999.00,9,  -999.00,9,    14.15,2,    17.71,2,     0.04,2,     1.35,2,     0.24,3,   2145.7,2,   7.7822,5,    13.73,    26.25
     49MR99K07, EQPAC,     9,  3,     22,     22,3,19991206, 239,  0.0453, 174.9017, 4810,      301,2,      303,2,   12.594,2,   34.906,2,   34.901,2,    123.8,2,   -999.0,9,  -999.00,9,  -999.00,9,  -999.00,9,    18.27,2,    20.94,2,     0.04,2,     1.59,2,     0.08,3,   2163.4,2,   7.7309,5,    12.55,    26.40
     49MR99K07, EQPAC,     9,  3,     21,     21,3,19991206, 239,  0.0453, 174.9017, 4810,      351,2,      353,2,   10.939,2,   34.772,2,   34.767,2,     89.7,2,   -999.0,9,  -999.00,9,  -999.00,9,  -999.00,9,    24.72,2,    27.27,2,     0.03,2,     2.01,2,     0.18,3,   2206.1,2,   7.6247,5,    10.90,    26.61
     49MR99K07, EQPAC,     9,  3,     20,     20,2,19991206, 239,  0.0453, 174.9017, 4810,      401,2,      403,2,    9.487,2,   34.685,2,   34.682,2,     70.6,2,   -999.0,9,  -999.00,9,  -999.00,9,  -999.00,9,    31.08,2,    32.08,2,     0.05,2,     2.35,2,     0.00,3,   2231.3,2,   7.5477,5,     9.44,    26.79
     49MR99K07, EQPAC,     9,  3,     19,     19,2,19991206, 239,  0.0453, 174.9017, 4810,      501,2,      504,2,    8.291,2,   34.623,2,   34.619,2,     88.0,2,   -999.0,9,  -999.00,9,  -999.00,9,  -999.00,9,    36.64,2,    33.70,2,     0.04,2,     2.44,2,     0.00,3,   2236.5,2,   7.5358,5,     8.24,    26.93
     49MR99K07, EQPAC,     9,  3,     18,     18,2,19991206, 239,  0.0453, 174.9017, 4810,      600,2,      605,2,    7.295,2,   34.587,2,   34.584,2,     70.2,2,   -999.0,9,  -999.00,9,  -999.00,9,  -999.00,9,    45.63,2,    36.65,2,     0.04,2,     2.69,2,     0.00,3,   2255.7,2,   7.4983,5,     7.24,    27.05
     49MR99K07, EQPAC,     9,  3,     17,     17,2,19991206, 239,  0.0453, 174.9017, 4810,      701,2,      706,2,    6.139,2,   34.552,2,   34.550,2,     79.3,2,   -999.0,9,  -999.00,9,  -999.00,9,  -999.00,9,    57.88,2,    37.71,2,     0.04,2,     2.78,2,     0.00,3,   2272.7,3,   7.4959,5,     6.08,    27.18
     49MR99K07, EQPAC,     9,  3,     16,     16,2,19991206, 239,  0.0453, 174.9017, 4810,      801,2,      807,2,    5.610,2,   34.550,2,   34.548,2,     76.8,2,   -999.0,9,  -999.00,9,  -999.00,9,  -999.00,9,    66.91,2,    38.80,2,     0.03,2,     2.87,2,     0.00,3,   2278.1,2,   7.4845,5,     5.54,    27.25
     49MR99K07, EQPAC,     9,  3,     15,     15,2,19991206, 239,  0.0453, 174.9017, 4810,      900,2,      907,2,    5.205,2,   34.549,2,   34.548,2,     80.9,2,   -999.0,9,  -999.00,9,  -999.00,9,  -999.00,9,    72.48,2,    38.96,2,     0.03,2,     2.89,2,     0.00,3,   2289.2,2,   7.4892,5,     5.13,    27.29
     49MR99K07, EQPAC,     9,  3,     14,     14,2,19991206, 239,  0.0453, 174.9017, 4810,     1000,2,     1008,2,    4.547,2,   34.557,2,   34.554,2,     86.8,2,   -999.0,9,  -999.00,9,  -999.00,9,  -999.00,9,    85.50,2,    38.88,2,     0.03,2,     2.90,2,     0.13,3,   2295.4,2,   7.4926,5,     4.47,    27.38
     49MR99K07, EQPAC,     9,  3,     13,     13,2,19991206, 239,  0.0453, 174.9017, 4810,     1250,2,     1261,2,    3.708,2,   34.579,2,   34.576,2,     93.5,2,   -999.0,9,  -999.00,9,  -999.00,9,  -999.00,9,   102.72,2,    39.04,2,     0.04,2,     2.90,2,     0.00,3,   2316.8,2,   7.5010,5,     3.61,    27.48
     49MR99K07, EQPAC,     9,  3,     12,     12,3,19991206, 239,  0.0453, 174.9017, 4810,     1499,2,     1513,2,    2.976,2,   34.607,2,   34.651,3,     92.1,3,   -999.0,9,  -999.00,9,  -999.00,9,  -999.00,9,    96.25,3,    36.17,3,     0.05,2,     2.69,3,     0.00,3,   -999.0,9,-999.0000,9,     2.87,    27.57
     49MR99K07, EQPAC,     9,  3,     11,     11,2,19991206, 239,  0.0453, 174.9017, 4810,     1750,2,     1767,2,    2.660,2,   34.620,2,   34.619,2,    107.9,2,   -999.0,9,  -999.00,9,  -999.00,9,  -999.00,9,   124.25,2,    38.51,2,     0.03,2,     2.84,2,     0.00,3,   2332.2,2,   7.5209,5,     2.53,    27.61
     49MR99K07, EQPAC,     9,  3,     10,     10,2,19991206, 239,  0.0453, 174.9017, 4810,     2001,2,     2022,2,    2.207,2,   34.644,2,   34.642,2,    114.5,2,   -999.0,9,  -999.00,9,  -999.00,9,  -999.00,9,   135.34,2,    38.30,2,     0.04,2,     2.82,2,     0.00,3,   2340.7,2,   7.5331,5,     2.07,    27.67
     49MR99K07, EQPAC,     9,  3,      9,      9,2,19991206, 239,  0.0453, 174.9017, 4810,     2250,2,     2275,2,    2.005,2,   34.655,2,   34.654,2,    121.0,2,   -999.0,9,  -999.00,9,  -999.00,9,  -999.00,9,   140.15,2,    37.94,2,     0.04,2,     2.78,2,     0.00,3,   2341.4,2,   7.5419,5,     1.84,    27.70
     49MR99K07, EQPAC,     9,  3,      8,      8,2,19991206, 239,  0.0453, 174.9017, 4810,     2500,2,     2529,2,    1.806,2,   34.665,2,   34.663,2,    127.9,2,   -999.0,9,  -999.00,9,  -999.00,9,  -999.00,9,   145.79,2,    37.46,2,     0.04,2,     2.75,2,     0.00,3,   2341.9,2,   7.5510,5,     1.63,    27.72
     49MR99K07, EQPAC,     9,  3,      7,      7,2,19991206, 239,  0.0453, 174.9017, 4810,     2751,2,     2785,2,    1.690,2,   34.672,2,   34.670,2,    132.2,2,   -999.0,9,  -999.00,9,  -999.00,9,  -999.00,9,   148.06,2,    37.20,2,     0.03,2,     2.70,2,     0.01,3,   2339.9,2,   7.5586,5,     1.49,    27.73
     49MR99K07, EQPAC,     9,  3,      6,      6,3,19991206, 239,  0.0453, 174.9017, 4810,     3000,2,     3039,2,    1.621,2,   34.677,2,   34.675,2,    138.5,2,   -999.0,9,  -999.00,9,  -999.00,9,  -999.00,9,   146.26,2,    36.60,2,     0.03,2,     2.68,2,     0.01,3,   2333.8,2,   7.5679,5,     1.40,    27.74
     49MR99K07, EQPAC,     9,  3,      5,      5,2,19991206, 239,  0.0453, 174.9017, 4810,     3251,2,     3295,2,    1.538,2,   34.682,2,   34.679,2,    146.5,2,   -999.0,9,  -999.00,9,  -999.00,9,  -999.00,9,   144.23,2,    36.19,2,     0.03,2,     2.63,2,     0.00,3,   2329.1,2,   7.5779,5,     1.29,    27.75
     49MR99K07, EQPAC,     9,  3,      4,      4,2,19991206, 239,  0.0453, 174.9017, 4810,     3501,2,     3550,2,    1.489,2,   34.687,2,   34.687,2,    153.4,2,   -999.0,9,  -999.00,9,  -999.00,9,  -999.00,9,   140.75,2,    35.69,2,     0.04,2,     2.59,2,     0.00,3,   2323.2,2,   7.5868,5,     1.22,    27.76
     49MR99K07, EQPAC,     9,  3,      3,      3,3,19991206, 239,  0.0453, 174.9017, 4810,     3751,2,     3806,2,    1.436,2,   34.692,2,   34.689,2,    159.4,2,   -999.0,9,  -999.00,9,  -999.00,9,  -999.00,9,   136.75,2,    35.18,2,     0.04,2,     2.58,2,     0.00,3,   2318.3,2,   7.5949,5,     1.14,    27.77
     49MR99K07, EQPAC,     9,  3,      2,      2,2,19991206, 239,  0.0453, 174.9017, 4810,     4001,2,     4062,2,    1.375,2,   34.698,2,   34.694,2,    169.4,2,   -999.0,9,  -999.00,9,  -999.00,9,  -999.00,9,   134.06,2,    34.65,2,     0.04,2,     2.51,2,     0.00,3,   2309.0,2,   7.6083,5,     1.05,    27.78
     49MR99K07, EQPAC,     9,  3,      1,      1,2,19991206, 239,  0.0453, 174.9017, 4810,     4501,2,     4574,2,    1.247,2,   34.707,2,   34.705,2,   -999.0,9,   -999.0,9,  -999.00,9,  -999.00,9,  -999.00,9,   124.30,2,    33.17,2,     0.04,2,     2.39,2,     0.00,3,   2284.1,2,   7.6153,5,     0.87,    27.79