BOTTLE,20101227MIRCJHATS
EXPOCODE,SECT,STNNBR,CASTNO,SAMPNO,BTLNBR,BTLNBR_FLAG_W,DATE,TIME,LATITUDE,LONGITUDE,DEPTH,CTDDPT,CTDDPT_FLAG_W,CTDPRS,CTDPRS_FLAG_W,CTDTMP,CTDTMP_FLAG_W,CTDSAL,CTDSAL_FLAG_W,SALNTY,SALNTY_FLAG_W,OXYGEN,OXYGEN_FLAG_W,FLUOR,FLUOR_FLAG_W,CHLORA,CHLORA_FLAG_W,CHLWELSH,CHLWELSH_W,PPHYTN,PPHYTN_FLAG_W,SILCAT,SILCAT_FLAG_W,NITRAT,NITRAT_FLAG_W,NITRIT,NITRIT_FLAG_W,PHSPHT,PHSPHT_FLAG_W,NH4,NH4_FLAG_W,TCARBN,TCARBN_FLAG_W,PH,PH_FLAG_W,THETA,SIG0
,,,,,,,,UTC,DEG,DEG,M,M,,DBAR,,ITS-90,,PSS-78,,PSS-78,,UMOL/KG,,UG/L,,MG/CUM,,MG/CUM,,MG/CUM,,UMOL/KG,,UMOL/KG,,UMOL/KG,,UMOL/KG,,UMOL/KG,,UMOL/KG,,-,,DEG C,KG/CUM
     49MR99K07, EQPAC,     3,  2,      0,      0,2,19991127,1802, -0.0065, 145.1008, 3720,     -999,9,     -999,9,   29.700,2, -999.000,9, -999.000,9,   -999.0,9,   -999.0,9,     0.09,2,     0.09,2,     0.02,2,  -999.00,9,  -999.00,9,  -999.00,9,  -999.00,9,  -999.00,9,   -999.0,9,-999.0000,9,  -999.00,  -999.00
     49MR99K07, EQPAC,     3,  2,     23,     23,2,19991127,1808, -0.0038, 145.0998, 3720,        9,2,        9,2,   29.961,2,   34.524,2, -999.000,9,   -999.0,9,      0.0,1,     0.10,2,     0.11,2,     0.02,2,  -999.00,9,  -999.00,9,  -999.00,9,  -999.00,9,  -999.00,9,   -999.0,9,-999.0000,9,    29.96,    21.38
     49MR99K07, EQPAC,     3,  2,     21,     21,2,19991127,1808, -0.0038, 145.0998, 3720,       20,2,       20,2,   29.948,2,   34.529,2, -999.000,9,   -999.0,9,      0.0,1,     0.10,2,     0.10,2,     0.02,2,  -999.00,9,  -999.00,9,  -999.00,9,  -999.00,9,  -999.00,9,   -999.0,9,-999.0000,9,    29.94,    21.39
     49MR99K07, EQPAC,     3,  2,     19,     19,2,19991127,1808, -0.0038, 145.0998, 3720,       30,2,       30,2,   29.862,2,   34.528,2, -999.000,9,   -999.0,9,      0.0,1,     0.11,2,     0.12,2,     0.02,2,  -999.00,9,  -999.00,9,  -999.00,9,  -999.00,9,  -999.00,9,   -999.0,9,-999.0000,9,    29.86,    21.42
     49MR99K07, EQPAC,     3,  2,     17,     17,2,19991127,1808, -0.0038, 145.0998, 3720,       40,2,       41,2,   29.794,2,   34.518,2, -999.000,9,   -999.0,9,      0.0,1,     0.12,2,     0.12,2,     0.03,2,  -999.00,9,  -999.00,9,  -999.00,9,  -999.00,9,  -999.00,9,   -999.0,9,-999.0000,9,    29.78,    21.44
     49MR99K07, EQPAC,     3,  2,     15,     15,2,19991127,1808, -0.0038, 145.0998, 3720,       50,2,       51,2,   29.536,2,   34.430,2, -999.000,9,   -999.0,9,      0.0,1,     0.07,2,     0.08,2,     0.03,2,  -999.00,9,  -999.00,9,  -999.00,9,  -999.00,9,  -999.00,9,   -999.0,9,-999.0000,9,    29.52,    21.46
     49MR99K07, EQPAC,     3,  2,     13,     13,2,19991127,1808, -0.0038, 145.0998, 3720,       60,2,       61,2,   29.626,2,   34.496,2, -999.000,9,   -999.0,9,      0.0,1,     0.08,2,     0.09,2,     0.03,2,  -999.00,9,  -999.00,9,  -999.00,9,  -999.00,9,  -999.00,9,   -999.0,9,-999.0000,9,    29.61,    21.48
     49MR99K07, EQPAC,     3,  2,     11,     11,2,19991127,1808, -0.0038, 145.0998, 3720,       70,2,       70,2,   29.704,2,   34.818,2, -999.000,9,   -999.0,9,      0.0,1,     0.12,2,     0.14,2,     0.06,2,  -999.00,9,  -999.00,9,  -999.00,9,  -999.00,9,  -999.00,9,   -999.0,9,-999.0000,9,    29.69,    21.69
     49MR99K07, EQPAC,     3,  2,      9,      9,2,19991127,1808, -0.0038, 145.0998, 3720,       82,2,       82,2,   29.710,2,   35.004,2, -999.000,9,   -999.0,9,      0.0,1,     0.15,2,     0.17,2,     0.07,2,  -999.00,9,  -999.00,9,  -999.00,9,  -999.00,9,  -999.00,9,   -999.0,9,-999.0000,9,    29.69,    21.83
     49MR99K07, EQPAC,     3,  2,      7,      7,2,19991127,1808, -0.0038, 145.0998, 3720,       92,2,       92,2,   29.556,2,   35.062,2, -999.000,9,   -999.0,9,      0.1,1,     0.23,2,     0.26,2,     0.11,2,  -999.00,9,  -999.00,9,  -999.00,9,  -999.00,9,  -999.00,9,   -999.0,9,-999.0000,9,    29.53,    21.92
     49MR99K07, EQPAC,     3,  2,      5,      5,2,19991127,1808, -0.0038, 145.0998, 3720,      101,2,      101,2,   29.511,2,   35.063,2, -999.000,9,   -999.0,9,      0.1,1,     0.20,2,     0.23,2,     0.11,2,  -999.00,9,  -999.00,9,  -999.00,9,  -999.00,9,  -999.00,9,   -999.0,9,-999.0000,9,    29.49,    21.94
     49MR99K07, EQPAC,     3,  2,      3,      3,2,19991127,1808, -0.0038, 145.0998, 3720,      121,2,      122,2,   29.060,2,   35.160,2, -999.000,9,   -999.0,9,      0.1,1,     0.22,2,     0.28,2,     0.19,2,  -999.00,9,  -999.00,9,  -999.00,9,  -999.00,9,  -999.00,9,   -999.0,9,-999.0000,9,    29.03,    22.16
     49MR99K07, EQPAC,     3,  2,      1,      1,2,19991127,1808, -0.0038, 145.0998, 3720,      150,2,      151,2,   23.822,2,   35.331,2, -999.000,9,   -999.0,9,      0.0,1,     0.05,2,     0.09,2,     0.10,2,  -999.00,9,  -999.00,9,  -999.00,9,  -999.00,9,  -999.00,9,   -999.0,9,-999.0000,9,    23.79,    23.94
     49MR99K07, EQPAC,     3,  2,     24,     24,2,19991127,1808, -0.0038, 145.0998, 3720,        9,2,        9,2,   29.958,2,   34.524,2, -999.000,9,   -999.0,9,      0.0,1,  -999.00,9,  -999.00,9,  -999.00,9,  -999.00,9,  -999.00,9,  -999.00,9,  -999.00,9,  -999.00,9,   -999.0,9,-999.0000,9,    29.96,    21.38
     49MR99K07, EQPAC,     3,  2,     20,     20,2,19991127,1808, -0.0038, 145.0998, 3720,       20,2,       20,2,   29.932,2,   34.536,2, -999.000,9,   -999.0,9,      0.0,1,  -999.00,9,  -999.00,9,  -999.00,9,  -999.00,9,  -999.00,9,  -999.00,9,  -999.00,9,  -999.00,9,   -999.0,9,-999.0000,9,    29.93,    21.40
     49MR99K07, EQPAC,     3,  2,     18,     18,2,19991127,1808, -0.0038, 145.0998, 3720,       30,2,       31,2,   29.860,2,   34.527,2, -999.000,9,   -999.0,9,      0.0,1,  -999.00,9,  -999.00,9,  -999.00,9,  -999.00,9,  -999.00,9,  -999.00,9,  -999.00,9,  -999.00,9,   -999.0,9,-999.0000,9,    29.85,    21.42
     49MR99K07, EQPAC,     3,  2,     16,     16,2,19991127,1808, -0.0038, 145.0998, 3720,       40,2,       40,2,   29.789,2,   34.517,2, -999.000,9,   -999.0,9,      0.0,1,  -999.00,9,  -999.00,9,  -999.00,9,  -999.00,9,  -999.00,9,  -999.00,9,  -999.00,9,  -999.00,9,   -999.0,9,-999.0000,9,    29.78,    21.44
     49MR99K07, EQPAC,     3,  2,     14,     14,2,19991127,1808, -0.0038, 145.0998, 3720,       50,2,       50,2,   29.535,2,   34.431,2, -999.000,9,   -999.0,9,      0.0,1,  -999.00,9,  -999.00,9,  -999.00,9,  -999.00,9,  -999.00,9,  -999.00,9,  -999.00,9,  -999.00,9,   -999.0,9,-999.0000,9,    29.52,    21.46
     49MR99K07, EQPAC,     3,  2,     12,     12,2,19991127,1808, -0.0038, 145.0998, 3720,       59,2,       60,2,   29.633,2,   34.509,2, -999.000,9,   -999.0,9,      0.0,1,  -999.00,9,  -999.00,9,  -999.00,9,  -999.00,9,  -999.00,9,  -999.00,9,  -999.00,9,  -999.00,9,   -999.0,9,-999.0000,9,    29.62,    21.48
     49MR99K07, EQPAC,     3,  2,     10,     10,2,19991127,1808, -0.0038, 145.0998, 3720,       70,2,       70,2,   29.703,2,   34.819,2, -999.000,9,   -999.0,9,      0.0,1,  -999.00,9,  -999.00,9,  -999.00,9,  -999.00,9,  -999.00,9,  -999.00,9,  -999.00,9,  -999.00,9,   -999.0,9,-999.0000,9,    29.69,    21.69
     49MR99K07, EQPAC,     3,  2,      8,      8,2,19991127,1808, -0.0038, 145.0998, 3720,       81,2,       82,2,   29.710,2,   35.006,2, -999.000,9,   -999.0,9,      0.0,1,  -999.00,9,  -999.00,9,  -999.00,9,  -999.00,9,  -999.00,9,  -999.00,9,  -999.00,9,  -999.00,9,   -999.0,9,-999.0000,9,    29.69,    21.83
     49MR99K07, EQPAC,     3,  2,      6,      6,2,19991127,1808, -0.0038, 145.0998, 3720,       92,2,       92,2,   29.552,2,   35.062,2, -999.000,9,   -999.0,9,      0.1,1,  -999.00,9,  -999.00,9,  -999.00,9,  -999.00,9,  -999.00,9,  -999.00,9,  -999.00,9,  -999.00,9,   -999.0,9,-999.0000,9,    29.53,    21.93
     49MR99K07, EQPAC,     3,  2,      4,      4,2,19991127,1808, -0.0038, 145.0998, 3720,      101,2,      102,2,   29.510,2,   35.063,2, -999.000,9,   -999.0,9,      0.1,1,     0.24,2,     0.27,2,     0.13,2,  -999.00,9,  -999.00,9,  -999.00,9,  -999.00,9,  -999.00,9,   -999.0,9,-999.0000,9,    29.48,    21.94
     49MR99K07, EQPAC,     3,  2,      2,      2,2,19991127,1808, -0.0038, 145.0998, 3720,      121,2,      122,2,   29.044,2,   35.164,2, -999.000,9,   -999.0,9,      0.1,1,     0.23,2,     0.30,2,     0.22,2,  -999.00,9,  -999.00,9,  -999.00,9,  -999.00,9,  -999.00,9,   -999.0,9,-999.0000,9,    29.01,    22.17
     49MR99K07, EQPAC,     3,  3,      0,      0,2,19991128,  32, -0.0102, 144.9997, 3749,     -999,9,     -999,9,   29.800,2, -999.000,9,   34.454,2,   -999.0,9,   -999.0,9,     0.10,2,     0.09,2,     0.01,2,     1.39,2,     0.13,2,     0.06,2,     0.14,2,     0.26,3,   1913.5,2,   8.1274,5,  -999.00,  -999.00
     49MR99K07, EQPAC,     3,  3,     12,     12,2,19991128,  37, -0.0107, 144.9988, 3749,       10,2,       10,2,   29.945,2,   34.401,2,   34.401,2,    194.8,2,      0.0,1,     0.07,2,     0.07,2,     0.01,2,     1.39,2,     0.11,2,     0.04,2,     0.17,2,     0.18,3,   1913.9,2,   8.1265,5,    29.94,    21.30
     49MR99K07, EQPAC,     3,  3,     11,     11,2,19991128,  37, -0.0107, 144.9988, 3749,       31,2,       31,2,   29.988,2,   34.538,2,   34.540,2,    195.3,2,      0.0,1,     0.11,2,     0.10,2,    -0.01,2,     1.19,2,     0.10,2,     0.04,2,     0.18,2,     0.15,3,   1923.6,2,   8.1259,5,    29.98,    21.38
     49MR99K07, EQPAC,     3,  3,     10,     10,2,19991128,  37, -0.0107, 144.9988, 3749,       40,2,       40,2,   29.932,2,   34.577,2,   34.576,2,    196.3,2,      0.0,1,     0.13,2,     0.14,2,     0.03,2,     1.14,2,     0.09,2,     0.05,2,     0.17,2,     0.20,3,   1921.7,2,   8.1268,5,    29.92,    21.43
     49MR99K07, EQPAC,     3,  3,      9,      9,3,19991128,  37, -0.0107, 144.9988, 3749,       60,2,       61,2,   29.616,2,   34.481,2,   34.480,2,    195.7,2,      0.0,1,     0.11,2,     0.12,2,     0.02,2,     1.44,2,     0.09,2,     0.05,2,     0.18,2,     0.17,3,   1918.8,2,   8.1220,5,    29.60,    21.47
     49MR99K07, EQPAC,     3,  3,      8,      8,2,19991128,  37, -0.0107, 144.9988, 3749,       71,2,       72,2,   29.765,2,   34.761,2,   34.754,2,    195.2,2,      0.0,1,     0.14,2,     0.16,2,     0.08,2,     1.48,2,     0.10,2,     0.04,2,     0.21,2,     0.16,3,   1939.1,2,   8.1153,5,    29.75,    21.63
     49MR99K07, EQPAC,     3,  3,      7,      7,3,19991128,  37, -0.0107, 144.9988, 3749,       81,2,       81,2,   29.712,2,   34.976,2,   34.977,2,    197.9,2,      0.0,1,     0.16,2,     0.17,2,     0.06,2,     1.39,2,     0.08,2,     0.05,2,     0.20,2,     0.21,3,   1951.9,2,   8.1119,5,    29.69,    21.81
     49MR99K07, EQPAC,     3,  3,      6,      6,2,19991128,  37, -0.0107, 144.9988, 3749,       91,2,       91,2,   29.652,2,   35.061,2,   35.060,2,    198.1,2,      0.1,1,     0.16,2,     0.25,2,     0.21,2,     1.35,2,     0.07,2,     0.06,2,     0.20,2,     0.19,3,   1959.0,2,   8.1072,5,    29.63,    21.89
     49MR99K07, EQPAC,     3,  3,      5,      5,2,19991128,  37, -0.0107, 144.9988, 3749,      101,2,      101,2,   29.532,2,   35.056,2,   35.058,2,    198.5,2,      0.1,1,     0.19,2,     0.20,2,     0.08,2,     1.46,2,     0.07,2,     0.06,2,     0.21,2,     0.28,3,   1959.6,2,   8.1013,5,    29.51,    21.93
     49MR99K07, EQPAC,     3,  3,      4,      4,2,19991128,  37, -0.0107, 144.9988, 3749,      110,2,      111,2,   29.505,2,   35.067,2,   35.067,2,    198.4,2,      0.1,1,     0.22,2,     0.25,2,     0.10,2,     1.38,2,     0.07,2,     0.07,2,     0.21,2,     0.20,3,   1960.8,2,   8.1016,5,    29.48,    21.94
     49MR99K07, EQPAC,     3,  3,      3,      3,2,19991128,  37, -0.0107, 144.9988, 3749,      121,2,      122,2,   29.230,2,   35.120,2,   35.126,2,    196.4,2,      0.1,1,     0.27,2,     0.31,2,     0.07,2,     1.55,2,     0.08,2,     0.07,2,     0.22,2,     0.29,3,   1968.6,2,   8.0926,5,    29.20,    22.08
     49MR99K07, EQPAC,     3,  3,      2,      2,2,19991128,  37, -0.0107, 144.9988, 3749,      149,2,      150,2,   27.622,2,   35.227,2,   35.229,2,    170.4,2,      0.0,1,     0.13,2,     0.18,2,     0.15,2,     2.08,2,     3.42,2,     0.15,2,     0.47,2,     0.18,3,   2008.4,2,   8.0363,5,    27.59,    22.69
     49MR99K07, EQPAC,     3,  3,      1,      1,3,19991128,  37, -0.0107, 144.9988, 3749,      201,2,      202,2,   18.246,2,   35.403,2,   35.398,2,    145.8,2,      0.0,1,     0.00,2,     0.00,2,     0.02,2,     5.70,2,    10.85,2,     0.06,2,     0.96,2,     0.21,3,   2100.3,3,   7.8895,5,    18.21,    25.52
     49MR99K07, EQPAC,     3,  3,     24,     24,2,19991128,  37, -0.0107, 144.9988, 3749,       10,2,       10,2,   29.952,2,   34.400,2, -999.000,9,   -999.0,9,      0.0,1,     0.09,2,     0.08,2,     0.01,2,  -999.00,9,  -999.00,9,  -999.00,9,  -999.00,9,  -999.00,9,   -999.0,9,-999.0000,9,    29.95,    21.29
     49MR99K07, EQPAC,     3,  3,     23,     23,3,19991128,  37, -0.0107, 144.9988, 3749,       31,2,       31,2,   29.986,2,   34.535,2, -999.000,9,   -999.0,9,      0.0,1,     0.12,2,     0.11,2,     0.01,2,  -999.00,9,  -999.00,9,  -999.00,9,  -999.00,9,  -999.00,9,   -999.0,9,-999.0000,9,    29.98,    21.38
     49MR99K07, EQPAC,     3,  3,     21,     21,2,19991128,  37, -0.0107, 144.9988, 3749,       42,2,       42,2,   29.922,2,   34.574,2, -999.000,9,   -999.0,9,      0.0,1,     0.11,2,     0.11,2,     0.02,2,  -999.00,9,  -999.00,9,  -999.00,9,  -999.00,9,  -999.00,9,   -999.0,9,-999.0000,9,    29.91,    21.43
     49MR99K07, EQPAC,     3,  3,     20,     20,3,19991128,  37, -0.0107, 144.9988, 3749,       61,2,       62,2,   29.623,2,   34.490,2, -999.000,9,   -999.0,9,      0.0,1,     0.10,2,     0.12,2,     0.06,2,  -999.00,9,  -999.00,9,  -999.00,9,  -999.00,9,  -999.00,9,   -999.0,9,-999.0000,9,    29.61,    21.47
     49MR99K07, EQPAC,     3,  3,     19,     19,3,19991128,  37, -0.0107, 144.9988, 3749,       81,2,       82,2,   29.716,2,   34.979,2, -999.000,9,   -999.0,9,      0.0,1,  -999.00,9,  -999.00,9,  -999.00,9,  -999.00,9,  -999.00,9,  -999.00,9,  -999.00,9,  -999.00,9,   -999.0,9,-999.0000,9,    29.70,    21.81
     49MR99K07, EQPAC,     3,  3,     18,     18,2,19991128,  37, -0.0107, 144.9988, 3749,      101,2,      102,2,   29.530,2,   35.056,2, -999.000,9,   -999.0,9,      0.1,1,     0.28,2,     0.30,2,     0.10,2,  -999.00,9,  -999.00,9,  -999.00,9,  -999.00,9,  -999.00,9,   -999.0,9,-999.0000,9,    29.51,    21.93
     49MR99K07, EQPAC,     3,  3,     17,     17,2,19991128,  37, -0.0107, 144.9988, 3749,      111,2,      112,2,   29.503,2,   35.067,2, -999.000,9,   -999.0,9,      0.1,1,  -999.00,9,  -999.00,9,  -999.00,9,  -999.00,9,  -999.00,9,  -999.00,9,  -999.00,9,  -999.00,9,   -999.0,9,-999.0000,9,    29.48,    21.95
     49MR99K07, EQPAC,     3,  3,     16,     16,2,19991128,  37, -0.0107, 144.9988, 3749,      121,2,      122,2,   29.255,2,   35.124,2, -999.000,9,   -999.0,9,      0.1,1,     0.28,2,     0.32,2,     0.14,2,  -999.00,9,  -999.00,9,  -999.00,9,  -999.00,9,  -999.00,9,   -999.0,9,-999.0000,9,    29.23,    22.07
     49MR99K07, EQPAC,     3,  3,     15,     15,2,19991128,  37, -0.0107, 144.9988, 3749,      140,2,      141,2,   27.615,2,   35.109,2, -999.000,9,   -999.0,9,      0.0,1,  -999.00,9,  -999.00,9,  -999.00,9,  -999.00,9,  -999.00,9,  -999.00,9,  -999.00,9,  -999.00,9,   -999.0,9,-999.0000,9,    27.58,    22.60
     49MR99K07, EQPAC,     3,  3,     14,     14,2,19991128,  37, -0.0107, 144.9988, 3749,      170,2,      171,2,   21.372,2,   35.419,2, -999.000,9,   -999.0,9,      0.0,1,  -999.00,9,  -999.00,9,  -999.00,9,  -999.00,9,  -999.00,9,  -999.00,9,  -999.00,9,  -999.00,9,   -999.0,9,-999.0000,9,    21.34,    24.71
     49MR99K07, EQPAC,     3,  3,     13,     13,2,19991128,  37, -0.0107, 144.9988, 3749,      200,2,      201,2,   18.261,2,   35.403,2, -999.000,9,   -999.0,9,      0.0,1,  -999.00,9,  -999.00,9,  -999.00,9,  -999.00,9,  -999.00,9,  -999.00,9,  -999.00,9,  -999.00,9,   -999.0,9,-999.0000,9,    18.23,    25.52