BOTTLE,20101227MIRCJHATS
EXPOCODE,SECT,STNNBR,CASTNO,SAMPNO,BTLNBR,BTLNBR_FLAG_W,DATE,TIME,LATITUDE,LONGITUDE,DEPTH,CTDDPT,CTDDPT_FLAG_W,CTDPRS,CTDPRS_FLAG_W,CTDTMP,CTDTMP_FLAG_W,CTDSAL,CTDSAL_FLAG_W,SALNTY,SALNTY_FLAG_W,CTDOXY,CTDOXY_FLAG_W,OXYGEN,OXYGEN_FLAG_W,FLUOR,FLUOR_FLAG_W,CHLORA,CHLORA_FLAG_W,CHLWELSH,CHLWELSH_W,PPHYTN,PPHYTN_FLAG_W,SILCAT,SILCAT_FLAG_W,NITRAT,NITRAT_FLAG_W,NITRIT,NITRIT_FLAG_W,PHSPHT,PHSPHT_FLAG_W,NH4,NH4_FLAG_W,TCARBN,TCARBN_FLAG_W,PH,PH_FLAG_W,THETA,SIG0
,,,,,,,,UTC,DEG,DEG,M,M,,DBAR,,ITS-90,,PSS-78,,PSS-78,,UMOL/KG,,UMOL/KG,,UG/L,,MG/CUM,,MG/CUM,,MG/CUM,,UMOL/KG,,UMOL/KG,,UMOL/KG,,UMOL/KG,,UMOL/KG,,UMOL/KG,,-,,DEG C,KG/CUM
     49MR00K08, EQPAC,     6,  2,      0,      0,1,20010123,2358,  0.0402, 159.9283, 2799,     -999,9,     -999,9,   29.500,2, -999.000,9,   35.158,2,  -999.00,9,   195.08,2,   -999.0,9,     0.15,2,     0.17,2,     0.05,2,     1.15,2,     0.33,2,     0.07,2,     0.26,2,     0.17,3,   1973.9,2,   8.0992,5,  -999.00,  -999.00
     49MR00K08, EQPAC,     6,  2,      1,      1,1,20010124,   5,  0.0407, 159.9290, 2799,       10,2,       10,2,   29.376,2,   35.111,2,   35.114,2,   152.22,2,   195.12,2,      0.1,1,     0.15,2,     0.17,2,     0.05,2,     1.11,2,     0.33,2,     0.06,2,     0.26,2,     0.12,3,   1971.7,2,   8.1007,5,    29.37,    22.02
     49MR00K08, EQPAC,     6,  2,      2,      2,1,20010124,   5,  0.0407, 159.9290, 2799,       20,2,       21,2,   29.349,2,   35.111,2,   35.113,2,   153.14,2,   195.31,2,      0.2,1,     0.16,2,     0.19,2,     0.06,2,     1.11,2,     0.34,2,     0.08,2,     0.26,2,     0.09,3,   1972.7,2,   8.1002,5,    29.34,    22.03
     49MR00K08, EQPAC,     6,  2,      3,      3,1,20010124,   5,  0.0407, 159.9290, 2799,       30,2,       30,2,   29.323,2,   35.121,2,   35.124,2,   152.04,2,   194.14,2,      0.3,1,     0.18,2,     0.21,2,     0.08,2,     1.20,2,     0.43,2,     0.12,2,     0.27,2,     0.10,3,   1975.1,2,   8.0966,5,    29.32,    22.05
     49MR00K08, EQPAC,     6,  2,      4,      4,1,20010124,   5,  0.0407, 159.9290, 2799,       40,2,       40,2,   29.280,2,   35.163,2,   35.164,2,   150.74,2,   192.25,2,      0.5,1,     0.25,2,     0.30,2,     0.12,2,     1.12,2,     0.60,2,     0.21,2,     0.29,2,     0.14,3,   1979.1,2,   8.0921,5,    29.27,    22.10
     49MR00K08, EQPAC,     6,  2,      5,      5,1,20010124,   5,  0.0407, 159.9290, 2799,       50,2,       51,2,   29.380,2,   35.290,2,   35.321,2,   151.85,2,   193.30,2,      0.6,1,     0.27,2,     0.33,2,     0.16,2,     1.32,2,     0.57,2,     0.22,2,     0.29,2,     0.18,3,   1984.0,2,   8.0978,5,    29.37,    22.16
     49MR00K08, EQPAC,     6,  2,      6,      6,1,20010124,   5,  0.0407, 159.9290, 2799,       60,2,       60,2,   29.510,2,   35.379,2,   35.396,2,   153.28,2,   194.31,2,      0.6,1,     0.26,2,     0.32,2,     0.17,2,     1.24,2,     0.47,2,     0.21,2,     0.29,2,     0.21,3,   1986.2,2,   8.1046,5,    29.50,    22.18
     49MR00K08, EQPAC,     6,  2,      7,      7,1,20010124,   5,  0.0407, 159.9290, 2799,       71,2,       71,2,   29.518,2,   35.415,2,   35.424,2,   152.81,2,   192.91,2,      0.6,1,     0.25,2,     0.33,2,     0.21,2,     1.38,2,     0.51,2,     0.23,2,     0.29,2,     0.31,3,   1988.3,2,   8.1040,5,    29.50,    22.21
     49MR00K08, EQPAC,     6,  2,      8,      8,1,20010124,   5,  0.0407, 159.9290, 2799,       81,2,       81,2,   29.492,2,   35.435,2,   35.451,2,   153.68,2,   192.01,2,      0.5,1,     0.24,2,     0.31,2,     0.21,2,     1.34,2,     0.57,2,     0.23,2,     0.31,2,     0.37,3,   1990.8,2,   8.1017,5,    29.47,    22.23
     49MR00K08, EQPAC,     6,  2,      9,      9,1,20010124,   5,  0.0407, 159.9290, 2799,       90,2,       90,2,   29.475,2,   35.461,2,   35.471,2,   153.61,2,   191.88,2,      0.5,1,     0.21,2,     0.29,2,     0.20,2,     1.38,2,     0.61,2,     0.25,2,     0.31,2,     0.40,3,   1992.2,2,   8.1011,5,    29.45,    22.26
     49MR00K08, EQPAC,     6,  2,     10,     10,1,20010124,   5,  0.0407, 159.9290, 2799,      100,2,      101,2,   29.465,2,   35.500,2,   35.506,2,   154.69,2,   191.40,2,      0.4,1,     0.21,2,     0.29,2,     0.20,2,     1.41,2,     0.65,2,     0.29,2,     0.32,2,     0.36,3,   1994.3,2,   8.1011,5,    29.44,    22.29
     49MR00K08, EQPAC,     6,  2,     11,     11,1,20010124,   5,  0.0407, 159.9290, 2799,      121,2,      121,2,   28.824,2,   35.554,2,   35.556,2,   149.26,2,   184.64,2,      0.2,1,     0.12,2,     0.20,2,     0.19,2,     1.70,2,     2.15,2,     1.24,2,     0.49,2,     0.27,3,   2017.0,2,   8.0671,5,    28.79,    22.55
     49MR00K08, EQPAC,     6,  2,     12,     12,1,20010124,   5,  0.0407, 159.9290, 2799,      151,2,      152,2,   22.496,2,   35.272,2,   35.265,2,   114.91,2,   140.86,2,      0.0,1,     0.03,2,     0.05,2,     0.06,2,     5.43,2,     9.25,2,     0.03,2,     0.82,2,     0.00,3,   2076.1,2,   7.9326,5,    22.47,    24.29
     49MR00K08, EQPAC,     6,  2,     13,     13,1,20010124,   5,  0.0407, 159.9290, 2799,      201,2,      202,2,   18.438,2,   35.321,2,   35.314,2,   116.67,2,   143.47,2,      0.0,1,     0.00,2,     0.01,2,     0.03,2,     6.28,2,    10.90,2,     0.01,2,     0.94,2,     0.00,3,   2101.0,2,   7.8899,5,    18.40,    25.42
     49MR00K08, EQPAC,     6,  2,     14,     14,1,20010124,   5,  0.0407, 159.9290, 2799,       10,2,       10,2,   29.384,2,   35.111,2, -999.000,9,   153.05,2,  -999.00,9,      0.1,1,  -999.00,9,  -999.00,9,  -999.00,9,  -999.00,9,  -999.00,9,  -999.00,9,  -999.00,9,  -999.00,9,   -999.0,9,-999.0000,9,    29.38,    22.02
     49MR00K08, EQPAC,     6,  2,     15,     15,1,20010124,   5,  0.0407, 159.9290, 2799,       19,2,       19,2,   29.349,2,   35.110,2, -999.000,9,   153.40,2,  -999.00,9,      0.2,1,  -999.00,9,  -999.00,9,  -999.00,9,  -999.00,9,  -999.00,9,  -999.00,9,  -999.00,9,  -999.00,9,   -999.0,9,-999.0000,9,    29.34,    22.03
     49MR00K08, EQPAC,     6,  2,     16,     16,1,20010124,   5,  0.0407, 159.9290, 2799,       31,2,       31,2,   29.320,2,   35.122,2, -999.000,9,   152.98,2,  -999.00,9,      0.3,1,  -999.00,9,  -999.00,9,  -999.00,9,  -999.00,9,  -999.00,9,  -999.00,9,  -999.00,9,  -999.00,9,   -999.0,9,-999.0000,9,    29.31,    22.05
     49MR00K08, EQPAC,     6,  2,     17,     17,1,20010124,   5,  0.0407, 159.9290, 2799,       40,2,       40,2,   29.275,2,   35.152,2, -999.000,9,   150.72,2,  -999.00,9,      0.5,1,  -999.00,9,  -999.00,9,  -999.00,9,  -999.00,9,  -999.00,9,  -999.00,9,  -999.00,9,  -999.00,9,   -999.0,9,-999.0000,9,    29.27,    22.09
     49MR00K08, EQPAC,     6,  2,     18,     18,1,20010124,   5,  0.0407, 159.9290, 2799,       50,2,       50,2,   29.409,2,   35.306,2, -999.000,9,   151.23,2,  -999.00,9,      0.7,1,     0.26,2,     0.31,2,     0.16,2,  -999.00,9,  -999.00,9,  -999.00,9,  -999.00,9,  -999.00,9,   -999.0,9,-999.0000,9,    29.40,    22.16
     49MR00K08, EQPAC,     6,  2,     19,     19,1,20010124,   5,  0.0407, 159.9290, 2799,       60,2,       60,2,   29.510,2,   35.386,2, -999.000,9,   153.20,2,  -999.00,9,      0.6,1,  -999.00,9,  -999.00,9,  -999.00,9,  -999.00,9,  -999.00,9,  -999.00,9,  -999.00,9,  -999.00,9,   -999.0,9,-999.0000,9,    29.50,    22.19
     49MR00K08, EQPAC,     6,  2,     20,     20,1,20010124,   5,  0.0407, 159.9290, 2799,       80,2,       81,2,   29.490,2,   35.436,2, -999.000,9,   153.88,2,  -999.00,9,      0.4,1,  -999.00,9,  -999.00,9,  -999.00,9,  -999.00,9,  -999.00,9,  -999.00,9,  -999.00,9,  -999.00,9,   -999.0,9,-999.0000,9,    29.47,    22.23
     49MR00K08, EQPAC,     6,  2,     21,     21,1,20010124,   5,  0.0407, 159.9290, 2799,      100,2,      101,2,   29.462,2,   35.502,2, -999.000,9,   155.82,2,  -999.00,9,      0.4,1,  -999.00,9,  -999.00,9,  -999.00,9,  -999.00,9,  -999.00,9,  -999.00,9,  -999.00,9,  -999.00,9,   -999.0,9,-999.0000,9,    29.44,    22.29
     49MR00K08, EQPAC,     6,  2,     22,     22,1,20010124,   5,  0.0407, 159.9290, 2799,      121,2,      122,2,   28.830,2,   35.555,2, -999.000,9,   150.61,2,  -999.00,9,      0.2,1,  -999.00,9,  -999.00,9,  -999.00,9,  -999.00,9,  -999.00,9,  -999.00,9,  -999.00,9,  -999.00,9,   -999.0,9,-999.0000,9,    28.80,    22.55
     49MR00K08, EQPAC,     6,  2,     23,     23,1,20010124,   5,  0.0407, 159.9290, 2799,      150,2,      151,2,   22.432,2,   35.274,2, -999.000,9,   115.41,2,  -999.00,9,      0.0,1,  -999.00,9,  -999.00,9,  -999.00,9,  -999.00,9,  -999.00,9,  -999.00,9,  -999.00,9,  -999.00,9,   -999.0,9,-999.0000,9,    22.40,    24.31
     49MR00K08, EQPAC,     6,  2,     24,     24,1,20010124,   5,  0.0407, 159.9290, 2799,      200,2,      201,2,   18.436,2,   35.321,2, -999.000,9,   117.62,2,  -999.00,9,      0.0,1,  -999.00,9,  -999.00,9,  -999.00,9,  -999.00,9,  -999.00,9,  -999.00,9,  -999.00,9,  -999.00,9,   -999.0,9,-999.0000,9,    18.40,    25.42
     49MR00K08, EQPAC,     6,  3,      0,      0,1,20010124, 533, -0.0127, 159.9652, 2831,     -999,9,     -999,9,   29.600,2, -999.000,9, -999.000,9,  -999.00,9,  -999.00,9,   -999.0,9,     0.15,2,     0.16,2,     0.04,2,  -999.00,9,  -999.00,9,  -999.00,9,  -999.00,9,  -999.00,9,   -999.0,9,-999.0000,9,  -999.00,  -999.00
     49MR00K08, EQPAC,     6,  3,      1,      1,1,20010124, 541, -0.0123, 159.9652, 2831,       20,2,       20,2,   29.362,2,   35.119,2, -999.000,9,   153.42,2,  -999.00,9,      0.4,1,  -999.00,9,  -999.00,9,  -999.00,9,  -999.00,9,  -999.00,9,  -999.00,9,  -999.00,9,  -999.00,9,   -999.0,9,-999.0000,9,    29.36,    22.03
     49MR00K08, EQPAC,     6,  3,      2,      2,1,20010124, 541, -0.0123, 159.9652, 2831,       40,2,       40,2,   29.349,2,   35.235,2, -999.000,9,   152.86,2,  -999.00,9,      0.7,1,  -999.00,9,  -999.00,9,  -999.00,9,  -999.00,9,  -999.00,9,  -999.00,9,  -999.00,9,  -999.00,9,   -999.0,9,-999.0000,9,    29.34,    22.13
     49MR00K08, EQPAC,     6,  3,      3,      3,1,20010124, 541, -0.0123, 159.9652, 2831,       59,2,       59,2,   29.498,2,   35.395,2, -999.000,9,   152.63,2,  -999.00,9,      0.7,1,  -999.00,9,  -999.00,9,  -999.00,9,  -999.00,9,  -999.00,9,  -999.00,9,  -999.00,9,  -999.00,9,   -999.0,9,-999.0000,9,    29.48,    22.20
     49MR00K08, EQPAC,     6,  3,      4,      4,1,20010124, 541, -0.0123, 159.9652, 2831,       80,2,       80,2,   29.500,2,   35.485,2, -999.000,9,   152.61,2,  -999.00,9,      0.5,1,  -999.00,9,  -999.00,9,  -999.00,9,  -999.00,9,  -999.00,9,  -999.00,9,  -999.00,9,  -999.00,9,   -999.0,9,-999.0000,9,    29.48,    22.27
     49MR00K08, EQPAC,     6,  3,      5,      5,1,20010124, 541, -0.0123, 159.9652, 2831,      100,2,      101,2,   29.327,2,   35.523,2, -999.000,9,   151.50,2,  -999.00,9,      0.4,1,  -999.00,9,  -999.00,9,  -999.00,9,  -999.00,9,  -999.00,9,  -999.00,9,  -999.00,9,  -999.00,9,   -999.0,9,-999.0000,9,    29.30,    22.36
     49MR00K08, EQPAC,     6,  3,      6,      6,1,20010124, 541, -0.0123, 159.9652, 2831,      120,2,      121,2,   28.805,2,   35.556,2, -999.000,9,   150.77,2,  -999.00,9,      0.2,1,  -999.00,9,  -999.00,9,  -999.00,9,  -999.00,9,  -999.00,9,  -999.00,9,  -999.00,9,  -999.00,9,   -999.0,9,-999.0000,9,    28.78,    22.56
     49MR00K08, EQPAC,     6,  3,      7,      7,1,20010124, 541, -0.0123, 159.9652, 2831,      140,2,      141,2,   25.222,2,   35.266,2, -999.000,9,   119.86,2,  -999.00,9,      0.0,1,  -999.00,9,  -999.00,9,  -999.00,9,  -999.00,9,  -999.00,9,  -999.00,9,  -999.00,9,  -999.00,9,   -999.0,9,-999.0000,9,    25.19,    23.48
     49MR00K08, EQPAC,     6,  3,      8,      8,1,20010124, 541, -0.0123, 159.9652, 2831,      160,2,      161,2,   19.830,2,   35.166,2, -999.000,9,   117.20,2,  -999.00,9,      0.0,1,  -999.00,9,  -999.00,9,  -999.00,9,  -999.00,9,  -999.00,9,  -999.00,9,  -999.00,9,  -999.00,9,   -999.0,9,-999.0000,9,    19.80,    24.94
     49MR00K08, EQPAC,     6,  3,      9,      9,1,20010124, 541, -0.0123, 159.9652, 2831,      180,2,      181,2,   18.515,2,   35.340,2, -999.000,9,   119.44,2,  -999.00,9,      0.0,1,     0.05,2,     0.08,2,     0.07,2,  -999.00,9,  -999.00,9,  -999.00,9,  -999.00,9,  -999.00,9,   -999.0,9,-999.0000,9,    18.48,    25.41
     49MR00K08, EQPAC,     6,  3,     10,     10,1,20010124, 541, -0.0123, 159.9652, 2831,      200,2,      201,2,   16.916,2,   35.198,2, -999.000,9,   118.54,2,  -999.00,9,      0.0,1,  -999.00,9,  -999.00,9,  -999.00,9,  -999.00,9,  -999.00,9,  -999.00,9,  -999.00,9,  -999.00,9,   -999.0,9,-999.0000,9,    16.88,    25.69
     49MR00K08, EQPAC,     6,  3,     11,     11,1,20010124, 541, -0.0123, 159.9652, 2831,       49,2,       50,2,   29.499,2,   35.352,2, -999.000,9,   153.83,2,  -999.00,9,      0.7,1,  -999.00,9,  -999.00,9,  -999.00,9,  -999.00,9,  -999.00,9,  -999.00,9,  -999.00,9,  -999.00,9,   -999.0,9,-999.0000,9,    29.49,    22.16
     49MR00K08, EQPAC,     6,  3,     12,     12,1,20010124, 541, -0.0123, 159.9652, 2831,      199,2,      200,2,   16.915,2,   35.197,2, -999.000,9,   119.34,2,  -999.00,9,      0.0,1,     0.00,2,     0.01,2,     0.03,2,  -999.00,9,  -999.00,9,  -999.00,9,  -999.00,9,  -999.00,9,   -999.0,9,-999.0000,9,    16.88,    25.69
     49MR00K08, EQPAC,     6,  3,     13,     13,1,20010124, 541, -0.0123, 159.9652, 2831,       50,2,       50,2,   29.496,2,   35.350,2, -999.000,9,   153.98,2,  -999.00,9,      0.8,1,     0.22,2,     0.27,2,     0.14,2,  -999.00,9,  -999.00,9,  -999.00,9,  -999.00,9,  -999.00,9,   -999.0,9,-999.0000,9,    29.48,    22.16
     49MR00K08, EQPAC,     6,  3,     14,     14,1,20010124, 541, -0.0123, 159.9652, 2831,        9,2,        9,2,   29.444,2,   35.117,2, -999.000,9,   153.60,2,  -999.00,9,      0.3,1,     0.17,2,     0.19,2,     0.06,2,  -999.00,9,  -999.00,9,  -999.00,9,  -999.00,9,  -999.00,9,   -999.0,9,-999.0000,9,    29.44,    22.00
     49MR00K08, EQPAC,     6,  3,     15,     15,1,20010124, 541, -0.0123, 159.9652, 2831,       31,2,       31,2,   29.311,2,   35.132,2, -999.000,9,   152.05,2,  -999.00,9,      0.6,1,     0.25,2,     0.29,2,     0.13,2,  -999.00,9,  -999.00,9,  -999.00,9,  -999.00,9,  -999.00,9,   -999.0,9,-999.0000,9,    29.30,    22.06
     49MR00K08, EQPAC,     6,  3,     16,     16,1,20010124, 541, -0.0123, 159.9652, 2831,       70,2,       70,2,   29.505,2,   35.437,2, -999.000,9,   152.17,2,  -999.00,9,      0.6,1,     0.24,2,     0.31,2,     0.20,2,  -999.00,9,  -999.00,9,  -999.00,9,  -999.00,9,  -999.00,9,   -999.0,9,-999.0000,9,    29.49,    22.23
     49MR00K08, EQPAC,     6,  3,     17,     17,1,20010124, 541, -0.0123, 159.9652, 2831,       89,2,       89,2,   29.449,2,   35.515,2, -999.000,9,   152.02,2,  -999.00,9,      0.5,1,     0.23,2,     0.31,2,     0.21,2,  -999.00,9,  -999.00,9,  -999.00,9,  -999.00,9,  -999.00,9,   -999.0,9,-999.0000,9,    29.43,    22.31
     49MR00K08, EQPAC,     6,  3,     18,     18,1,20010124, 541, -0.0123, 159.9652, 2831,      111,2,      111,2,   28.915,2,   35.542,2, -999.000,9,   151.16,2,  -999.00,9,      0.3,1,     0.17,2,     0.23,2,     0.16,2,  -999.00,9,  -999.00,9,  -999.00,9,  -999.00,9,  -999.00,9,   -999.0,9,-999.0000,9,    28.89,    22.51
     49MR00K08, EQPAC,     6,  3,     19,     19,1,20010124, 541, -0.0123, 159.9652, 2831,      130,2,      131,2,   28.200,2,   35.507,2, -999.000,9,   145.43,2,  -999.00,9,      0.1,1,     0.07,2,     0.13,2,     0.13,2,  -999.00,9,  -999.00,9,  -999.00,9,  -999.00,9,  -999.00,9,   -999.0,9,-999.0000,9,    28.17,    22.72
     49MR00K08, EQPAC,     6,  3,     20,     20,1,20010124, 541, -0.0123, 159.9652, 2831,      139,2,      139,2,   25.602,2,   35.262,2, -999.000,9,   117.93,2,  -999.00,9,      0.0,1,     0.02,2,     0.04,2,     0.05,2,  -999.00,9,  -999.00,9,  -999.00,9,  -999.00,9,  -999.00,9,   -999.0,9,-999.0000,9,    25.57,    23.36
     49MR00K08, EQPAC,     6,  3,     21,     21,1,20010124, 541, -0.0123, 159.9652, 2831,      151,2,      152,2,   21.194,2,   35.231,2, -999.000,9,   116.68,2,  -999.00,9,      0.1,1,     0.02,2,     0.05,2,     0.08,2,  -999.00,9,  -999.00,9,  -999.00,9,  -999.00,9,  -999.00,9,   -999.0,9,-999.0000,9,    21.17,    24.62
     49MR00K08, EQPAC,     6,  3,     22,     22,1,20010124, 541, -0.0123, 159.9652, 2831,      160,2,      161,2,   19.799,2,   35.179,2, -999.000,9,   117.67,2,  -999.00,9,      0.0,1,     0.02,2,     0.05,2,     0.06,2,  -999.00,9,  -999.00,9,  -999.00,9,  -999.00,9,  -999.00,9,   -999.0,9,-999.0000,9,    19.77,    24.96
     49MR00K08, EQPAC,     6,  3,     23,     23,1,20010124, 541, -0.0123, 159.9652, 2831,      170,2,      171,2,   18.930,2,   35.150,2, -999.000,9,   119.43,2,  -999.00,9,      0.0,1,     0.01,2,     0.03,2,     0.04,2,  -999.00,9,  -999.00,9,  -999.00,9,  -999.00,9,  -999.00,9,   -999.0,9,-999.0000,9,    18.90,    25.16
     49MR00K08, EQPAC,     6,  3,     24,     24,1,20010124, 541, -0.0123, 159.9652, 2831,      190,2,      191,2,   17.979,2,   35.312,2, -999.000,9,   118.70,2,  -999.00,9,      0.0,1,     0.00,2,     0.01,2,     0.03,2,  -999.00,9,  -999.00,9,  -999.00,9,  -999.00,9,  -999.00,9,   -999.0,9,-999.0000,9,    17.95,    25.52