BOTTLE,20101227MIRCJHATS
EXPOCODE,SECT,STNNBR,CASTNO,SAMPNO,BTLNBR,BTLNBR_FLAG_W,DATE,TIME,LATITUDE,LONGITUDE,DEPTH,CTDDPT,CTDDPT_FLAG_W,CTDPRS,CTDPRS_FLAG_W,CTDTMP,CTDTMP_FLAG_W,CTDSAL,CTDSAL_FLAG_W,SALNTY,SALNTY_FLAG_W,CTDOXY,CTDOXY_FLAG_W,OXYGEN,OXYGEN_FLAG_W,FLUOR,FLUOR_FLAG_W,CHLORA,CHLORA_FLAG_W,CHLWELSH,CHLWELSH_W,PPHYTN,PPHYTN_FLAG_W,SILCAT,SILCAT_FLAG_W,NITRAT,NITRAT_FLAG_W,NITRIT,NITRIT_FLAG_W,PHSPHT,PHSPHT_FLAG_W,NH4,NH4_FLAG_W,TCARBN,TCARBN_FLAG_W,PH,PH_FLAG_W,THETA,SIG0
,,,,,,,,UTC,DEG,DEG,M,M,,DBAR,,ITS-90,,PSS-78,,PSS-78,,UMOL/KG,,UMOL/KG,,UG/L,,MG/CUM,,MG/CUM,,MG/CUM,,UMOL/KG,,UMOL/KG,,UMOL/KG,,UMOL/KG,,UMOL/KG,,UMOL/KG,,-,,DEG C,KG/CUM
     49MR00K08, EQPAC,     3,  1,     24,     24,1,20010128, 128, -0.0148, 145.0150, 3684,      201,2,      202,2,   19.204,2,   35.387,2,   35.385,2,   121.34,2,   142.26,2,      0.0,1,  -999.00,9,  -999.00,9,  -999.00,9,     5.51,2,    10.30,2,     0.02,2,     0.84,2,     0.01,3,   2105.2,2,   7.9033,5,    19.17,    25.27
     49MR00K08, EQPAC,     3,  1,     23,     23,1,20010128, 128, -0.0148, 145.0150, 3684,      250,2,      252,2,   14.739,2,   35.093,2,   35.052,2,   124.48,2,   142.16,2,      0.0,1,  -999.00,9,  -999.00,9,  -999.00,9,    11.86,2,    15.75,2,     0.02,2,     1.22,2,     0.02,3,   2138.5,2,   7.8091,5,    14.70,    26.11
     49MR00K08, EQPAC,     3,  1,     22,     22,1,20010128, 128, -0.0148, 145.0150, 3684,      300,2,      302,2,   11.224,2,   34.820,2,   34.818,2,   120.79,2,   137.88,2,      0.0,1,  -999.00,9,  -999.00,9,  -999.00,9,    17.88,2,    21.58,2,     0.02,2,     1.59,2,     0.02,3,   2170.6,2,   7.7226,5,    11.19,    26.60
     49MR00K08, EQPAC,     3,  1,     21,     21,1,20010128, 128, -0.0148, 145.0150, 3684,      350,2,      353,2,   10.488,2,   34.773,2,   34.762,2,   102.07,2,   115.72,2,      0.0,1,  -999.00,9,  -999.00,9,  -999.00,9,    20.67,2,    25.03,2,     0.03,2,     1.82,2,     0.08,3,   2190.0,2,   7.6643,5,    10.45,    26.70
     49MR00K08, EQPAC,     3,  1,     20,     20,1,20010128, 128, -0.0148, 145.0150, 3684,      400,2,      402,2,    9.409,2,   34.682,2,   34.673,2,    80.90,2,    94.10,2,      0.0,1,  -999.00,9,  -999.00,9,  -999.00,9,    27.42,2,    29.26,2,     0.01,2,     2.09,2,     0.01,3,   2217.7,2,   7.5952,5,     9.36,    26.81
     49MR00K08, EQPAC,     3,  1,     19,     19,1,20010128, 128, -0.0148, 145.0150, 3684,      450,2,      453,2,    8.843,2,   34.646,2,   34.644,2,    86.97,2,   100.58,2,      0.0,1,  -999.00,9,  -999.00,9,  -999.00,9,    29.01,2,    29.60,2,     0.01,2,     2.11,2,     0.01,3,   2215.9,2,   7.5963,5,     8.79,    26.87
     49MR00K08, EQPAC,     3,  1,     18,     18,1,20010128, 128, -0.0148, 145.0150, 3684,      500,2,      504,2,    8.063,2,   34.607,2,   34.606,2,    87.59,2,   100.40,2,      0.0,1,  -999.00,9,  -999.00,9,  -999.00,9,    32.33,2,    31.09,2,     0.01,2,     2.22,2,     0.02,3,   2227.0,2,   7.5770,5,     8.01,    26.96
     49MR00K08, EQPAC,     3,  1,     17,     17,1,20010128, 128, -0.0148, 145.0150, 3684,      601,2,      605,2,    7.027,2,   34.568,2,   34.567,2,    79.21,2,    91.05,2,      0.0,1,  -999.00,9,  -999.00,9,  -999.00,9,    40.74,2,    33.97,2,     0.00,2,     2.44,2,     0.01,3,   2247.8,2,   7.5372,5,     6.97,    27.08
     49MR00K08, EQPAC,     3,  1,     16,     16,1,20010128, 128, -0.0148, 145.0150, 3684,      700,2,      705,2,    6.150,2,   34.546,2,   34.588,3,    82.98,2,   111.43,3,      0.0,1,  -999.00,9,  -999.00,9,  -999.00,9,    43.98,3,    32.35,3,     0.01,3,     2.34,3,     0.01,3,   -999.0,9,-999.0000,9,     6.09,    27.18
     49MR00K08, EQPAC,     3,  1,     15,     15,1,20010128, 128, -0.0148, 145.0150, 3684,      801,2,      807,2,    5.667,2,   34.538,2,   34.536,2,    87.73,2,   100.88,2,      0.0,1,  -999.00,9,  -999.00,9,  -999.00,9,    54.61,2,    35.39,2,     0.01,2,     2.56,2,     0.02,3,   2261.3,2,   7.5325,5,     5.60,    27.24
     49MR00K08, EQPAC,     3,  1,     14,     14,1,20010128, 128, -0.0148, 145.0150, 3684,      900,2,      907,2,    5.031,2,   34.544,2,   34.542,2,    83.29,2,    96.41,2,      0.0,1,  -999.00,9,  -999.00,9,  -999.00,9,    65.76,2,    36.65,2,     0.01,2,     2.68,2,     0.00,3,   2280.4,2,   7.5177,5,     4.96,    27.32
     49MR00K08, EQPAC,     3,  1,     13,     13,1,20010128, 128, -0.0148, 145.0150, 3684,     1000,2,     1008,2,    4.589,2,   34.553,2,   34.551,2,    82.37,2,    95.73,2,      0.0,1,  -999.00,9,  -999.00,9,  -999.00,9,    75.53,2,    37.10,2,     0.01,2,     2.72,2,     0.00,3,   2291.7,2,   7.5128,5,     4.51,    27.38
     49MR00K08, EQPAC,     3,  1,     12,     12,1,20010128, 128, -0.0148, 145.0150, 3684,     1250,2,     1261,2,    3.734,2,   34.573,2,   34.571,2,    92.59,2,   106.54,2,      0.0,1,  -999.00,9,  -999.00,9,  -999.00,9,    91.01,2,    36.72,2,     0.01,2,     2.70,2,     0.01,3,   2304.4,2,   7.5251,5,     3.64,    27.48
     49MR00K08, EQPAC,     3,  1,     11,     11,1,20010128, 128, -0.0148, 145.0150, 3684,     1500,2,     1513,2,    2.972,2,   34.605,2,   34.602,2,    91.96,2,   106.26,2,      0.0,1,  -999.00,9,  -999.00,9,  -999.00,9,   111.13,2,    37.41,2,     0.01,2,     2.74,2,     0.01,3,   2324.4,2,   7.5221,5,     2.86,    27.58
     49MR00K08, EQPAC,     3,  1,     10,     10,1,20010128, 128, -0.0148, 145.0150, 3684,     1749,2,     1766,2,    2.481,2,   34.628,2,   34.625,2,    98.57,2,   113.48,2,      0.0,1,  -999.00,9,  -999.00,9,  -999.00,9,   122.79,2,    37.25,2,     0.00,2,     2.72,2,     0.00,3,   2332.9,2,   7.5316,5,     2.36,    27.64
     49MR00K08, EQPAC,     3,  1,      9,      9,1,20010128, 128, -0.0148, 145.0150, 3684,     1999,2,     2020,2,    2.234,2,   34.641,2,   34.638,2,   103.78,2,   119.26,2,      0.0,1,  -999.00,9,  -999.00,9,  -999.00,9,   127.37,2,    36.93,2,     0.00,2,     2.69,2,     0.02,3,   2333.8,2,   7.5407,5,     2.09,    27.68
     49MR00K08, EQPAC,     3,  1,      8,      8,1,20010128, 128, -0.0148, 145.0150, 3684,     2250,2,     2274,2,    1.935,2,   34.655,2,   34.651,2,   111.00,2,   126.65,2,      0.0,1,  -999.00,9,  -999.00,9,  -999.00,9,   132.81,2,    36.40,2,     0.00,2,     2.64,2,     0.02,3,   2335.6,2,   7.5508,5,     1.78,    27.71
     49MR00K08, EQPAC,     3,  1,      7,      7,1,20010128, 128, -0.0148, 145.0150, 3684,     2500,2,     2529,2,    1.750,2,   34.665,2,   34.661,2,   118.22,2,   134.23,2,      0.0,1,  -999.00,9,  -999.00,9,  -999.00,9,   134.19,2,    36.07,2,     0.00,2,     2.60,2,     0.05,3,   2334.9,2,   7.5615,5,     1.57,    27.74
     49MR00K08, EQPAC,     3,  1,      6,      6,1,20010128, 128, -0.0148, 145.0150, 3684,     2750,2,     2783,2,    1.658,2,   34.671,2,   34.667,2,   123.75,2,   139.31,2,      0.0,1,  -999.00,9,  -999.00,9,  -999.00,9,   134.31,2,    35.75,2,     0.01,2,     2.59,2,     0.01,3,   2332.9,2,   7.5702,5,     1.46,    27.75
     49MR00K08, EQPAC,     3,  1,      5,      5,1,20010128, 128, -0.0148, 145.0150, 3684,     3000,2,     3038,2,    1.616,2,   34.675,2,   34.671,2,   127.12,2,   142.76,2,      0.0,1,  -999.00,9,  -999.00,9,  -999.00,9,   134.00,2,    35.57,2,     0.01,2,     2.57,2,     0.02,3,   2329.6,2,   7.5738,5,     1.39,    27.76
     49MR00K08, EQPAC,     3,  1,      4,      4,1,20010128, 128, -0.0148, 145.0150, 3684,     3250,2,     3294,2,    1.583,2,   34.679,2,   34.675,2,   130.50,2,   145.42,2,      0.0,1,  -999.00,9,  -999.00,9,  -999.00,9,   134.38,2,    35.33,2,     0.01,2,     2.56,2,     0.02,3,   2330.7,2,   7.5795,5,     1.34,    27.76
     49MR00K08, EQPAC,     3,  1,      3,      3,1,20010128, 128, -0.0148, 145.0150, 3684,     3500,2,     3549,2,    1.563,2,   34.683,2,   34.679,2,   133.78,2,   148.08,2,      0.0,1,  -999.00,9,  -999.00,9,  -999.00,9,   135.46,2,    35.20,2,     0.00,2,     2.54,2,     0.02,3,   2330.6,2,   7.5853,5,     1.29,    27.77
     49MR00K08, EQPAC,     3,  1,      2,      2,1,20010128, 128, -0.0148, 145.0150, 3684,     3678,2,     3731,2,    1.539,2,   34.686,2,   34.682,2,   137.11,2,   150.43,2,      0.0,1,  -999.00,9,  -999.00,9,  -999.00,9,   136.81,2,    35.15,2,     0.00,2,     2.53,2,     0.00,3,   2332.6,2,   7.5914,5,     1.25,    27.78
     49MR00K08, EQPAC,     3,  1,      1,      1,1,20010128, 128, -0.0148, 145.0150, 3684,     3678,2,     3731,2,    1.541,2,   34.686,2,   34.682,2,   137.42,2,   150.75,2,      0.0,1,  -999.00,9,  -999.00,9,  -999.00,9,   137.15,2,    35.10,2,     0.00,2,     2.53,2,     0.02,3,   2330.0,2,   7.5922,5,     1.25,    27.78