BOTTLE,20101227MIRCJHATS
EXPOCODE,SECT,STNNBR,CASTNO,SAMPNO,BTLNBR,BTLNBR_FLAG_W,DATE,TIME,LATITUDE,LONGITUDE,DEPTH,CTDDPT,CTDDPT_FLAG_W,CTDPRS,CTDPRS_FLAG_W,CTDTMP,CTDTMP_FLAG_W,CTDSAL,CTDSAL_FLAG_W,SALNTY,SALNTY_FLAG_W,CTDOXY,CTDOXY_FLAG_W,OXYGEN,OXYGEN_FLAG_W,FLUOR,FLUOR_FLAG_W,CHLORA,CHLORA_FLAG_W,CHLWELSH,CHLWELSH_W,PPHYTN,PPHYTN_FLAG_W,SILCAT,SILCAT_FLAG_W,NITRAT,NITRAT_FLAG_W,NITRIT,NITRIT_FLAG_W,PHSPHT,PHSPHT_FLAG_W,NH4,NH4_FLAG_W,TCARBN,TCARBN_FLAG_W,PH,PH_FLAG_W,THETA,SIG0
,,,,,,,,UTC,DEG,DEG,M,M,,DBAR,,ITS-90,,PSS-78,,PSS-78,,UMOL/KG,,UMOL/KG,,UG/L,,MG/CUM,,MG/CUM,,MG/CUM,,UMOL/KG,,UMOL/KG,,UMOL/KG,,UMOL/KG,,UMOL/KG,,UMOL/KG,,-,,DEG C,KG/CUM
     49MR00K08, EQPAC,     7,  1,      0,      0,1,20010122,2357,  0.0008, 161.9990, 4192,     -999,9,     -999,9,   29.500,2, -999.000,9,   35.505,2,  -999.00,9,   197.97,2,   -999.0,9,     0.22,2,     0.25,2,     0.09,2,     1.28,2,     0.58,2,     0.12,2,     0.24,2,     0.14,3,   1991.9,2,   8.1033,5,  -999.00,  -999.00
     49MR00K08, EQPAC,     7,  1,      1,      1,1,20010123,   5,  0.0010, 162.0010, 4192,        9,2,        9,2,   29.387,2,   35.475,2,   35.477,2,   157.19,2,   198.65,2,      0.1,1,     0.21,2,     0.24,2,     0.08,2,     1.33,2,     0.57,2,     0.11,2,     0.23,2,     0.07,3,   1992.5,2,   8.1045,5,    29.38,    22.29
     49MR00K08, EQPAC,     7,  1,      2,      2,1,20010123,   5,  0.0010, 162.0010, 4192,       21,2,       21,2,   29.304,2,   35.473,2,   35.475,2,   156.23,2,   199.00,2,      0.3,1,     0.24,2,     0.28,2,     0.10,2,     1.35,2,     0.57,2,     0.11,2,     0.23,2,     0.07,3,   1990.5,2,   8.1039,5,    29.30,    22.32
     49MR00K08, EQPAC,     7,  1,      3,      3,1,20010123,   5,  0.0010, 162.0010, 4192,       31,2,       31,2,   29.287,2,   35.470,2,   35.472,2,   156.49,2,   198.43,2,      0.5,1,     0.27,2,     0.32,2,     0.12,2,     1.40,2,     0.61,2,     0.14,2,     0.22,2,     0.07,3,   1992.1,2,   8.1024,5,    29.28,    22.32
     49MR00K08, EQPAC,     7,  1,      4,      4,1,20010123,   5,  0.0010, 162.0010, 4192,       40,2,       40,2,   29.273,2,   35.465,2,   35.467,2,   156.16,2,   197.54,2,      0.6,1,     0.28,2,     0.33,2,     0.13,2,     1.33,2,     0.67,2,     0.19,2,     0.23,2,     0.15,3,   1994.3,2,   8.1001,5,    29.26,    22.32
     49MR00K08, EQPAC,     7,  1,      5,      5,1,20010123,   5,  0.0010, 162.0010, 4192,       50,2,       50,2,   29.249,2,   35.458,2,   35.462,2,   156.72,2,   196.40,2,      0.7,1,     0.28,2,     0.33,2,     0.15,2,     1.48,2,     0.72,2,     0.23,2,     0.24,2,     0.11,3,   1994.1,2,   8.0980,5,    29.24,    22.33
     49MR00K08, EQPAC,     7,  1,      6,      6,1,20010123,   5,  0.0010, 162.0010, 4192,       60,2,       60,2,   29.188,2,   35.441,2,   35.447,2,   153.76,2,   194.39,2,      0.6,1,     0.29,2,     0.35,2,     0.17,2,     1.47,2,     0.88,2,     0.39,2,     0.26,2,     0.14,3,   1996.3,2,   8.0927,5,    29.17,    22.34
     49MR00K08, EQPAC,     7,  1,      7,      7,1,20010123,   5,  0.0010, 162.0010, 4192,       71,2,       71,2,   29.001,2,   35.399,2,   35.417,2,   147.65,2,   190.06,2,      1.0,1,     0.29,2,     0.36,2,     0.22,2,     1.51,2,     1.17,2,     0.68,2,     0.30,2,     0.19,3,   2000.5,2,   8.0833,5,    28.98,    22.37
     49MR00K08, EQPAC,     7,  1,      8,      8,1,20010123,   5,  0.0010, 162.0010, 4192,       80,2,       81,2,   28.824,2,   35.379,2,   35.381,2,   146.74,2,   183.37,2,      0.6,1,     0.30,2,     0.40,2,     0.29,2,     1.50,2,     1.75,2,     1.23,2,     0.36,2,     0.08,3,   2006.6,2,   8.0655,5,    28.80,    22.41
     49MR00K08, EQPAC,     7,  1,      9,      9,1,20010123,   5,  0.0010, 162.0010, 4192,       90,2,       91,2,   28.927,2,   35.440,2,   35.451,2,   149.06,2,   186.19,2,      0.6,1,     0.25,2,     0.33,2,     0.25,2,     1.54,2,     1.47,2,     1.06,2,     0.35,2,     0.16,3,   2007.8,2,   8.0730,5,    28.91,    22.43
     49MR00K08, EQPAC,     7,  1,     10,     10,1,20010123,   5,  0.0010, 162.0010, 4192,      101,2,      102,2,   28.934,2,   35.462,2,   35.468,2,   149.70,2,   186.41,2,      0.4,1,     0.23,2,     0.35,2,     0.30,2,     1.62,2,     1.48,2,     1.01,2,     0.37,2,     0.25,3,   2008.7,2,   8.0740,5,    28.91,    22.44
     49MR00K08, EQPAC,     7,  1,     11,     11,1,20010123,   5,  0.0010, 162.0010, 4192,      119,2,      120,2,   28.934,2,   35.512,2,   35.520,2,   154.05,2,   187.66,2,      0.3,1,     0.16,2,     0.27,2,     0.26,2,     1.58,2,     1.58,2,     0.58,2,     0.38,2,     0.66,3,   2010.7,2,   8.0758,5,    28.91,    22.48
     49MR00K08, EQPAC,     7,  1,     12,     12,1,20010123,   5,  0.0010, 162.0010, 4192,      150,2,      151,2,   26.387,2,   35.371,2,   35.420,2,   124.57,2,  -999.00,9,      0.0,1,     0.03,2,     0.05,2,     0.06,2,     2.61,2,     6.78,2,     0.05,2,     0.63,2,     0.00,3,   2048.1,2,   7.9988,5,    26.35,    23.20
     49MR00K08, EQPAC,     7,  1,     13,     13,1,20010123,   5,  0.0010, 162.0010, 4192,      202,2,      203,2,   18.309,2,   35.302,2, -999.000,9,   115.93,2,   141.72,2,      0.0,1,     0.00,2,     0.02,2,     0.03,2,  -999.00,9,  -999.00,9,  -999.00,9,  -999.00,9,  -999.00,9,   2105.0,2,   7.8818,5,    18.27,    25.44
     49MR00K08, EQPAC,     7,  1,     14,     14,1,20010123,   5,  0.0010, 162.0010, 4192,       20,2,       20,2,   29.304,2,   35.473,2, -999.000,9,   157.56,2,  -999.00,9,      0.4,1,  -999.00,9,  -999.00,9,  -999.00,9,  -999.00,9,  -999.00,9,  -999.00,9,  -999.00,9,  -999.00,9,   -999.0,9,-999.0000,9,    29.30,    22.32
     49MR00K08, EQPAC,     7,  1,     15,     15,1,20010123,   5,  0.0010, 162.0010, 4192,       40,2,       40,2,   29.274,2,   35.465,2, -999.000,9,   155.50,2,  -999.00,9,      0.6,1,  -999.00,9,  -999.00,9,  -999.00,9,  -999.00,9,  -999.00,9,  -999.00,9,  -999.00,9,  -999.00,9,   -999.0,9,-999.0000,9,    29.26,    22.32
     49MR00K08, EQPAC,     7,  1,     16,     16,1,20010123,   5,  0.0010, 162.0010, 4192,       61,2,       61,2,   29.194,2,   35.443,2, -999.000,9,   154.49,2,  -999.00,9,      0.7,1,  -999.00,9,  -999.00,9,  -999.00,9,  -999.00,9,  -999.00,9,  -999.00,9,  -999.00,9,  -999.00,9,   -999.0,9,-999.0000,9,    29.18,    22.34
     49MR00K08, EQPAC,     7,  1,     17,     17,1,20010123,   5,  0.0010, 162.0010, 4192,       79,2,       80,2,   28.833,2,   35.378,2, -999.000,9,   146.32,2,  -999.00,9,      0.7,1,  -999.00,9,  -999.00,9,  -999.00,9,  -999.00,9,  -999.00,9,  -999.00,9,  -999.00,9,  -999.00,9,   -999.0,9,-999.0000,9,    28.81,    22.41
     49MR00K08, EQPAC,     7,  1,     18,     18,1,20010123,   5,  0.0010, 162.0010, 4192,      101,2,      102,2,   28.934,2,   35.460,2, -999.000,9,   149.49,2,  -999.00,9,      0.5,1,  -999.00,9,  -999.00,9,  -999.00,9,  -999.00,9,  -999.00,9,  -999.00,9,  -999.00,9,  -999.00,9,   -999.0,9,-999.0000,9,    28.91,    22.44
     49MR00K08, EQPAC,     7,  1,     19,     19,1,20010123,   5,  0.0010, 162.0010, 4192,      121,2,      122,2,   28.937,2,   35.517,2, -999.000,9,   153.01,2,  -999.00,9,      0.3,1,  -999.00,9,  -999.00,9,  -999.00,9,  -999.00,9,  -999.00,9,  -999.00,9,  -999.00,9,  -999.00,9,   -999.0,9,-999.0000,9,    28.91,    22.48
     49MR00K08, EQPAC,     7,  1,     20,     20,1,20010123,   5,  0.0010, 162.0010, 4192,      139,2,      140,2,   27.815,2,   35.513,2, -999.000,9,   135.25,2,  -999.00,9,      0.1,1,  -999.00,9,  -999.00,9,  -999.00,9,  -999.00,9,  -999.00,9,  -999.00,9,  -999.00,9,  -999.00,9,   -999.0,9,-999.0000,9,    27.78,    22.85
     49MR00K08, EQPAC,     7,  1,     21,     21,1,20010123,   5,  0.0010, 162.0010, 4192,      160,2,      161,2,   22.318,2,   35.235,2, -999.000,9,   115.35,2,  -999.00,9,      0.0,1,  -999.00,9,  -999.00,9,  -999.00,9,  -999.00,9,  -999.00,9,  -999.00,9,  -999.00,9,  -999.00,9,   -999.0,9,-999.0000,9,    22.29,    24.32
     49MR00K08, EQPAC,     7,  1,     22,     22,1,20010123,   5,  0.0010, 162.0010, 4192,      180,2,      181,2,   19.108,2,   35.250,2, -999.000,9,   118.09,2,  -999.00,9,      0.0,1,  -999.00,9,  -999.00,9,  -999.00,9,  -999.00,9,  -999.00,9,  -999.00,9,  -999.00,9,  -999.00,9,   -999.0,9,-999.0000,9,    19.08,    25.19
     49MR00K08, EQPAC,     7,  1,     23,     23,1,20010123,   5,  0.0010, 162.0010, 4192,      203,2,      204,2,   18.325,2,   35.302,2, -999.000,9,   115.80,2,  -999.00,9,      0.0,1,  -999.00,9,  -999.00,9,  -999.00,9,  -999.00,9,  -999.00,9,  -999.00,9,  -999.00,9,  -999.00,9,   -999.0,9,-999.0000,9,    18.29,    25.43
     49MR00K08, EQPAC,     7,  1,     24,     24,1,20010123,   5,  0.0010, 162.0010, 4192,       51,2,       51,2,   29.250,2,   35.458,2, -999.000,9,   153.65,2,  -999.00,9,      0.7,1,     0.29,2,     0.33,2,     0.13,2,  -999.00,9,  -999.00,9,  -999.00,9,  -999.00,9,  -999.00,9,   -999.0,9,-999.0000,9,    29.24,    22.33
     49MR00K08, EQPAC,     6,  1,      0,      0,1,20010123,1654,  0.0062, 159.9477, 2810,     -999,9,     -999,9,   29.300,2, -999.000,9, -999.000,9,  -999.00,9,  -999.00,9,   -999.0,9,     0.13,2,     0.15,2,     0.06,2,  -999.00,9,  -999.00,9,  -999.00,9,  -999.00,9,  -999.00,9,   -999.0,9,-999.0000,9,  -999.00,  -999.00
     49MR00K08, EQPAC,     6,  1,      1,      1,1,20010123,1703,  0.0058, 159.9480, 2810,       11,2,       11,2,   29.383,2,   35.105,2, -999.000,9,   152.50,2,  -999.00,9,      0.4,1,     0.16,2,     0.19,2,     0.07,2,  -999.00,9,  -999.00,9,  -999.00,9,  -999.00,9,  -999.00,9,   -999.0,9,-999.0000,9,    29.38,    22.02
     49MR00K08, EQPAC,     6,  1,      2,      2,1,20010123,1703,  0.0058, 159.9480, 2810,       20,2,       20,2,   29.372,2,   35.107,2, -999.000,9,   152.11,2,  -999.00,9,      0.4,1,     0.16,2,     0.19,2,     0.07,2,  -999.00,9,  -999.00,9,  -999.00,9,  -999.00,9,  -999.00,9,   -999.0,9,-999.0000,9,    29.37,    22.02
     49MR00K08, EQPAC,     6,  1,      3,      3,1,20010123,1703,  0.0058, 159.9480, 2810,       31,2,       31,2,   29.285,2,   35.142,2, -999.000,9,   153.03,2,  -999.00,9,      0.6,1,     0.21,2,     0.25,2,     0.11,2,  -999.00,9,  -999.00,9,  -999.00,9,  -999.00,9,  -999.00,9,   -999.0,9,-999.0000,9,    29.28,    22.08
     49MR00K08, EQPAC,     6,  1,      4,      4,1,20010123,1703,  0.0058, 159.9480, 2810,       41,2,       41,2,   29.394,2,   35.278,2, -999.000,9,   152.08,2,  -999.00,9,      0.6,1,     0.24,2,     0.30,2,     0.15,2,  -999.00,9,  -999.00,9,  -999.00,9,  -999.00,9,  -999.00,9,   -999.0,9,-999.0000,9,    29.38,    22.14
     49MR00K08, EQPAC,     6,  1,      5,      5,1,20010123,1703,  0.0058, 159.9480, 2810,       51,2,       51,2,   29.554,2,   35.417,2, -999.000,9,   153.87,2,  -999.00,9,      0.5,1,     0.24,2,     0.31,2,     0.16,2,  -999.00,9,  -999.00,9,  -999.00,9,  -999.00,9,  -999.00,9,   -999.0,9,-999.0000,9,    29.54,    22.19
     49MR00K08, EQPAC,     6,  1,      6,      6,1,20010123,1703,  0.0058, 159.9480, 2810,       59,2,       60,2,   29.549,2,   35.431,2, -999.000,9,   153.04,2,  -999.00,9,      0.5,1,     0.24,2,     0.31,2,     0.20,2,  -999.00,9,  -999.00,9,  -999.00,9,  -999.00,9,  -999.00,9,   -999.0,9,-999.0000,9,    29.53,    22.21
     49MR00K08, EQPAC,     6,  1,      7,      7,1,20010123,1703,  0.0058, 159.9480, 2810,       69,2,       70,2,   29.524,2,   35.436,2, -999.000,9,   153.68,2,  -999.00,9,      0.5,1,     0.22,2,     0.30,2,     0.21,2,  -999.00,9,  -999.00,9,  -999.00,9,  -999.00,9,  -999.00,9,   -999.0,9,-999.0000,9,    29.51,    22.22
     49MR00K08, EQPAC,     6,  1,      8,      8,1,20010123,1703,  0.0058, 159.9480, 2810,       80,2,       80,2,   29.503,2,   35.467,2, -999.000,9,   155.20,2,  -999.00,9,      0.4,1,     0.20,2,     0.28,2,     0.19,2,  -999.00,9,  -999.00,9,  -999.00,9,  -999.00,9,  -999.00,9,   -999.0,9,-999.0000,9,    29.48,    22.25
     49MR00K08, EQPAC,     6,  1,      9,      9,1,20010123,1703,  0.0058, 159.9480, 2810,       91,2,       92,2,   29.409,2,   35.519,2, -999.000,9,   153.54,2,  -999.00,9,      0.4,1,     0.20,2,     0.29,2,     0.22,2,  -999.00,9,  -999.00,9,  -999.00,9,  -999.00,9,  -999.00,9,   -999.0,9,-999.0000,9,    29.39,    22.32
     49MR00K08, EQPAC,     6,  1,     10,     10,1,20010123,1703,  0.0058, 159.9480, 2810,      102,2,      103,2,   28.852,2,   35.547,2, -999.000,9,   153.31,2,  -999.00,9,      0.2,1,     0.14,2,     0.24,2,     0.23,2,  -999.00,9,  -999.00,9,  -999.00,9,  -999.00,9,  -999.00,9,   -999.0,9,-999.0000,9,    28.83,    22.53
     49MR00K08, EQPAC,     6,  1,     11,     11,1,20010123,1703,  0.0058, 159.9480, 2810,      119,2,      119,2,   28.115,2,   35.506,2, -999.000,9,   139.44,2,  -999.00,9,      0.1,1,     0.06,2,     0.08,2,     0.07,2,  -999.00,9,  -999.00,9,  -999.00,9,  -999.00,9,  -999.00,9,   -999.0,9,-999.0000,9,    28.09,    22.75
     49MR00K08, EQPAC,     6,  1,     12,     12,1,20010123,1703,  0.0058, 159.9480, 2810,      149,2,      150,2,   20.071,2,   35.157,2, -999.000,9,   118.47,2,  -999.00,9,      0.0,1,     0.03,2,     0.05,2,     0.07,2,  -999.00,9,  -999.00,9,  -999.00,9,  -999.00,9,  -999.00,9,   -999.0,9,-999.0000,9,    20.04,    24.87
     49MR00K08, EQPAC,     6,  1,     13,     13,1,20010123,1703,  0.0058, 159.9480, 2810,      199,2,      201,2,   16.787,2,   35.164,2, -999.000,9,   118.79,2,  -999.00,9,      0.0,1,     0.00,2,     0.01,2,     0.03,2,  -999.00,9,  -999.00,9,  -999.00,9,  -999.00,9,  -999.00,9,   -999.0,9,-999.0000,9,    16.75,    25.70
     49MR00K08, EQPAC,     6,  1,     14,     14,1,20010123,1703,  0.0058, 159.9480, 2810,       21,2,       21,2,   29.372,2,   35.106,2, -999.000,9,   151.18,2,  -999.00,9,      0.4,1,  -999.00,9,  -999.00,9,  -999.00,9,  -999.00,9,  -999.00,9,  -999.00,9,  -999.00,9,  -999.00,9,   -999.0,9,-999.0000,9,    29.37,    22.02
     49MR00K08, EQPAC,     6,  1,     15,     15,1,20010123,1703,  0.0058, 159.9480, 2810,       40,2,       40,2,   29.384,2,   35.272,2, -999.000,9,   152.15,2,  -999.00,9,      0.7,1,  -999.00,9,  -999.00,9,  -999.00,9,  -999.00,9,  -999.00,9,  -999.00,9,  -999.00,9,  -999.00,9,   -999.0,9,-999.0000,9,    29.37,    22.14
     49MR00K08, EQPAC,     6,  1,     16,     16,1,20010123,1703,  0.0058, 159.9480, 2810,       60,2,       61,2,   29.552,2,   35.428,2, -999.000,9,   153.62,2,  -999.00,9,      0.5,1,  -999.00,9,  -999.00,9,  -999.00,9,  -999.00,9,  -999.00,9,  -999.00,9,  -999.00,9,  -999.00,9,   -999.0,9,-999.0000,9,    29.54,    22.20
     49MR00K08, EQPAC,     6,  1,     17,     17,1,20010123,1703,  0.0058, 159.9480, 2810,       81,2,       82,2,   29.502,2,   35.472,2, -999.000,9,   154.98,2,  -999.00,9,      0.4,1,  -999.00,9,  -999.00,9,  -999.00,9,  -999.00,9,  -999.00,9,  -999.00,9,  -999.00,9,  -999.00,9,   -999.0,9,-999.0000,9,    29.48,    22.26
     49MR00K08, EQPAC,     6,  1,     18,     18,1,20010123,1703,  0.0058, 159.9480, 2810,      102,2,      103,2,   28.855,2,   35.547,2, -999.000,9,   153.05,2,  -999.00,9,      0.2,1,  -999.00,9,  -999.00,9,  -999.00,9,  -999.00,9,  -999.00,9,  -999.00,9,  -999.00,9,  -999.00,9,   -999.0,9,-999.0000,9,    28.83,    22.53
     49MR00K08, EQPAC,     6,  1,     19,     19,1,20010123,1703,  0.0058, 159.9480, 2810,      119,2,      120,2,   28.169,2,   35.508,2, -999.000,9,   140.88,2,  -999.00,9,      0.1,1,  -999.00,9,  -999.00,9,  -999.00,9,  -999.00,9,  -999.00,9,  -999.00,9,  -999.00,9,  -999.00,9,   -999.0,9,-999.0000,9,    28.14,    22.73
     49MR00K08, EQPAC,     6,  1,     20,     20,1,20010123,1703,  0.0058, 159.9480, 2810,      141,2,      142,2,   20.901,2,   35.211,2, -999.000,9,   118.05,2,  -999.00,9,      0.0,1,  -999.00,9,  -999.00,9,  -999.00,9,  -999.00,9,  -999.00,9,  -999.00,9,  -999.00,9,  -999.00,9,   -999.0,9,-999.0000,9,    20.87,    24.69
     49MR00K08, EQPAC,     6,  1,     21,     21,1,20010123,1703,  0.0058, 159.9480, 2810,      161,2,      162,2,   19.538,2,   35.257,2, -999.000,9,   117.46,2,  -999.00,9,      0.0,1,  -999.00,9,  -999.00,9,  -999.00,9,  -999.00,9,  -999.00,9,  -999.00,9,  -999.00,9,  -999.00,9,   -999.0,9,-999.0000,9,    19.51,    25.09
     49MR00K08, EQPAC,     6,  1,     22,     22,1,20010123,1703,  0.0058, 159.9480, 2810,      181,2,      182,2,   18.504,2,   35.321,2, -999.000,9,   119.92,2,  -999.00,9,      0.0,1,  -999.00,9,  -999.00,9,  -999.00,9,  -999.00,9,  -999.00,9,  -999.00,9,  -999.00,9,  -999.00,9,   -999.0,9,-999.0000,9,    18.47,    25.40
     49MR00K08, EQPAC,     6,  1,     23,     23,1,20010123,1703,  0.0058, 159.9480, 2810,      200,2,      202,2,   16.773,2,   35.161,2, -999.000,9,   118.42,2,  -999.00,9,      0.0,1,  -999.00,9,  -999.00,9,  -999.00,9,  -999.00,9,  -999.00,9,  -999.00,9,  -999.00,9,  -999.00,9,   -999.0,9,-999.0000,9,    16.74,    25.70
     49MR00K08, EQPAC,     6,  1,     24,     24,1,20010123,1703,  0.0058, 159.9480, 2810,       50,2,       50,2,   29.455,2,   35.340,2, -999.000,9,   151.10,2,  -999.00,9,      0.6,1,     0.22,2,     0.28,2,     0.16,2,  -999.00,9,  -999.00,9,  -999.00,9,  -999.00,9,  -999.00,9,   -999.0,9,-999.0000,9,    29.44,    22.17