BOTTLE,20101227MIRCJHATS
EXPOCODE,SECT,STNNBR,CASTNO,SAMPNO,BTLNBR,BTLNBR_FLAG_W,DATE,TIME,LATITUDE,LONGITUDE,DEPTH,CTDDPT,CTDDPT_FLAG_W,CTDPRS,CTDPRS_FLAG_W,CTDTMP,CTDTMP_FLAG_W,CTDSAL,CTDSAL_FLAG_W,SALNTY,SALNTY_FLAG_W,CTDOXY,CTDOXY_FLAG_W,OXYGEN,OXYGEN_FLAG_W,FLUOR,FLUOR_FLAG_W,CHLORA,CHLORA_FLAG_W,CHLWELSH,CHLWELSH_W,PPHYTN,PPHYTN_FLAG_W,SILCAT,SILCAT_FLAG_W,NITRAT,NITRAT_FLAG_W,NITRIT,NITRIT_FLAG_W,PHSPHT,PHSPHT_FLAG_W,NH4,NH4_FLAG_W,TCARBN,TCARBN_FLAG_W,PH,PH_FLAG_W,THETA,SIG0
,,,,,,,,UTC,DEG,DEG,M,M,,DBAR,,ITS-90,,PSS-78,,PSS-78,,UMOL/KG,,UMOL/KG,,UG/L,,MG/CUM,,MG/CUM,,MG/CUM,,UMOL/KG,,UMOL/KG,,UMOL/KG,,UMOL/KG,,UMOL/KG,,UMOL/KG,,-,,DEG C,KG/CUM
     49MR00K08, EQPAC,     4,  1,      0,      0,1,20010127, 102, -0.0030, 149.8360, 4626,     -999,9,     -999,9,   30.500,2, -999.000,9,   34.849,2,  -999.00,9,   193.63,2,   -999.0,9,     0.05,2,     0.06,2,     0.02,2,     1.15,2,     0.01,2,     0.00,2,     0.16,2,     0.05,3,   1938.5,2,   8.1358,5,  -999.00,  -999.00
     49MR00K08, EQPAC,     4,  1,      1,      1,1,20010127, 109, -0.0030, 149.8355, 4626,        9,2,        9,2,   30.464,2,   34.828,2,   34.832,2,   150.23,2,   194.20,2,      0.0,1,     0.06,2,     0.07,2,     0.02,2,     1.22,2,     0.00,2,     0.00,2,     0.13,2,     0.01,3,   1939.3,2,   8.1363,5,    30.46,    21.44
     49MR00K08, EQPAC,     4,  1,      2,      2,1,20010127, 109, -0.0030, 149.8355, 4626,       20,2,       20,2,   30.448,2,   34.828,2,   34.832,2,   150.40,2,   194.48,2,      0.0,1,     0.06,2,     0.07,2,     0.02,2,     1.30,2,     0.00,2,     0.00,2,     0.13,2,     0.01,3,   1937.0,2,   8.1361,5,    30.44,    21.45
     49MR00K08, EQPAC,     4,  1,      3,      3,1,20010127, 109, -0.0030, 149.8355, 4626,       30,2,       30,2,   30.445,2,   34.831,2,   34.835,2,   151.83,2,   194.67,2,      0.0,1,     0.06,2,     0.07,2,     0.02,2,     1.37,2,     0.00,2,     0.00,2,     0.14,2,     0.00,3,   1938.0,2,   8.1360,5,    30.44,    21.45
     49MR00K08, EQPAC,     4,  1,      4,      4,1,20010127, 109, -0.0030, 149.8355, 4626,       40,2,       41,2,   30.431,2,   34.875,2,   34.875,2,   152.95,2,   195.87,2,      0.0,1,     0.08,2,     0.09,2,     0.03,2,     1.47,2,     0.00,2,     0.00,2,     0.15,2,     0.00,3,   1939.9,2,   8.1329,5,    30.42,    21.49
     49MR00K08, EQPAC,     4,  1,      5,      5,1,20010127, 109, -0.0030, 149.8355, 4626,       60,2,       60,2,   30.370,2,   34.974,2,   34.978,2,   154.13,2,   197.71,2,      0.1,1,     0.11,2,     0.14,2,     0.05,2,     1.43,2,     0.00,2,     0.00,2,     0.16,2,     0.00,3,   1950.4,2,   8.1295,5,    30.36,    21.58
     49MR00K08, EQPAC,     4,  1,      6,      6,1,20010127, 109, -0.0030, 149.8355, 4626,       69,2,       70,2,   30.203,2,   35.016,2,   35.017,2,   155.39,2,   197.38,2,      0.2,1,     0.14,2,     0.18,2,     0.08,2,     1.33,2,     0.00,2,     0.00,2,     0.19,2,     0.00,3,   1954.3,2,   8.1209,5,    30.19,    21.67
     49MR00K08, EQPAC,     4,  1,      7,      7,1,20010127, 109, -0.0030, 149.8355, 4626,       80,2,       81,2,   29.800,2,   35.080,2,   35.085,2,   153.47,2,   194.66,2,      0.4,1,     0.26,2,     0.36,2,     0.20,2,     1.46,2,     0.00,2,     0.00,2,     0.21,2,     0.00,3,   1967.6,2,   8.1084,5,    29.78,    21.86
     49MR00K08, EQPAC,     4,  1,      8,      8,1,20010127, 109, -0.0030, 149.8355, 4626,       89,2,       90,2,   29.830,2,   35.201,2,   35.206,2,   154.38,2,   194.68,2,      0.6,1,     0.27,2,     0.39,2,     0.27,2,     1.44,2,     0.00,2,     0.01,2,     0.23,2,     0.04,3,   1974.3,2,   8.1083,5,    29.81,    21.94
     49MR00K08, EQPAC,     4,  1,      9,      9,1,20010127, 109, -0.0030, 149.8355, 4626,      100,2,      101,2,   29.350,2,   35.400,2,   35.397,2,   150.55,2,   188.95,2,      0.6,1,     0.26,2,     0.41,2,     0.35,2,     1.57,2,     0.52,2,     0.42,2,     0.35,2,     0.16,3,   1995.4,2,   8.0912,5,    29.33,    22.26
     49MR00K08, EQPAC,     4,  1,     10,     10,1,20010127, 109, -0.0030, 149.8355, 4626,      110,2,      111,2,   28.761,2,   35.437,2,   35.446,2,   146.36,2,   179.88,2,      0.3,1,     0.13,2,     0.22,2,     0.21,2,     1.73,2,     2.23,2,     0.93,2,     0.46,2,     0.00,3,   2011.8,2,   8.0667,5,    28.73,    22.48
     49MR00K08, EQPAC,     4,  1,     11,     11,1,20010127, 109, -0.0030, 149.8355, 4626,      120,2,      120,2,   26.436,2,   35.449,2,   35.454,2,   128.93,2,   158.67,2,      0.2,1,     0.07,2,     0.14,2,     0.17,2,     2.57,2,     6.45,2,     0.05,2,     0.66,2,     0.00,3,   2045.2,2,   8.0111,5,    26.41,    23.24
     49MR00K08, EQPAC,     4,  1,     12,     12,1,20010127, 109, -0.0030, 149.8355, 4626,      150,2,      151,2,   22.265,2,   35.398,2,   35.403,2,   115.76,2,   141.00,2,      0.1,1,     0.03,2,     0.06,2,     0.08,2,     4.07,2,     9.03,2,     0.00,2,     0.81,2,     0.01,3,   2078.2,2,   7.9446,5,    22.23,    24.45
     49MR00K08, EQPAC,     4,  1,     13,     13,1,20010127, 109, -0.0030, 149.8355, 4626,      200,2,      201,2,   18.978,2,   35.243,2,   35.220,2,   116.12,2,   143.42,2,      0.0,1,     0.00,2,     0.01,2,     0.03,2,     7.33,2,    10.64,2,     0.00,2,     0.89,2,     0.00,3,   2094.7,2,   7.8992,5,    18.94,    25.22
     49MR00K08, EQPAC,     4,  1,     14,     14,1,20010127, 109, -0.0030, 149.8355, 4626,       20,2,       20,2,   30.449,2,   34.828,2, -999.000,9,   150.61,2,  -999.00,9,      0.0,1,  -999.00,9,  -999.00,9,  -999.00,9,  -999.00,9,  -999.00,9,  -999.00,9,  -999.00,9,  -999.00,9,   -999.0,9,-999.0000,9,    30.44,    21.45
     49MR00K08, EQPAC,     4,  1,     15,     15,1,20010127, 109, -0.0030, 149.8355, 4626,       40,2,       40,2,   30.432,2,   34.870,2, -999.000,9,   152.04,2,  -999.00,9,      0.0,1,  -999.00,9,  -999.00,9,  -999.00,9,  -999.00,9,  -999.00,9,  -999.00,9,  -999.00,9,  -999.00,9,   -999.0,9,-999.0000,9,    30.42,    21.48
     49MR00K08, EQPAC,     4,  1,     16,     16,1,20010127, 109, -0.0030, 149.8355, 4626,       59,2,       60,2,   30.373,2,   34.973,2, -999.000,9,   154.42,2,  -999.00,9,      0.1,1,  -999.00,9,  -999.00,9,  -999.00,9,  -999.00,9,  -999.00,9,  -999.00,9,  -999.00,9,  -999.00,9,   -999.0,9,-999.0000,9,    30.36,    21.58
     49MR00K08, EQPAC,     4,  1,     17,     17,1,20010127, 109, -0.0030, 149.8355, 4626,       80,2,       81,2,   29.801,2,   35.082,2, -999.000,9,   154.39,2,  -999.00,9,      0.4,1,  -999.00,9,  -999.00,9,  -999.00,9,  -999.00,9,  -999.00,9,  -999.00,9,  -999.00,9,  -999.00,9,   -999.0,9,-999.0000,9,    29.78,    21.86
     49MR00K08, EQPAC,     4,  1,     18,     18,1,20010127, 109, -0.0030, 149.8355, 4626,      100,2,      100,2,   29.356,2,   35.397,2, -999.000,9,   152.25,2,  -999.00,9,      0.6,1,  -999.00,9,  -999.00,9,  -999.00,9,  -999.00,9,  -999.00,9,  -999.00,9,  -999.00,9,  -999.00,9,   -999.0,9,-999.0000,9,    29.33,    22.25
     49MR00K08, EQPAC,     4,  1,     19,     19,1,20010127, 109, -0.0030, 149.8355, 4626,      120,2,      121,2,   26.585,2,   35.449,2, -999.000,9,   128.52,2,  -999.00,9,      0.2,1,  -999.00,9,  -999.00,9,  -999.00,9,  -999.00,9,  -999.00,9,  -999.00,9,  -999.00,9,  -999.00,9,   -999.0,9,-999.0000,9,    26.56,    23.20
     49MR00K08, EQPAC,     4,  1,     20,     20,1,20010127, 109, -0.0030, 149.8355, 4626,      140,2,      141,2,   23.644,2,   35.244,2, -999.000,9,   120.13,2,  -999.00,9,      0.1,1,  -999.00,9,  -999.00,9,  -999.00,9,  -999.00,9,  -999.00,9,  -999.00,9,  -999.00,9,  -999.00,9,   -999.0,9,-999.0000,9,    23.61,    23.94
     49MR00K08, EQPAC,     4,  1,     21,     21,1,20010127, 109, -0.0030, 149.8355, 4626,      159,2,      160,2,   21.935,2,   35.344,2, -999.000,9,   116.88,2,  -999.00,9,      0.1,1,  -999.00,9,  -999.00,9,  -999.00,9,  -999.00,9,  -999.00,9,  -999.00,9,  -999.00,9,  -999.00,9,   -999.0,9,-999.0000,9,    21.90,    24.51
     49MR00K08, EQPAC,     4,  1,     22,     22,1,20010127, 109, -0.0030, 149.8355, 4626,      179,2,      180,2,   20.468,2,   35.246,2, -999.000,9,   117.51,2,  -999.00,9,      0.0,1,  -999.00,9,  -999.00,9,  -999.00,9,  -999.00,9,  -999.00,9,  -999.00,9,  -999.00,9,  -999.00,9,   -999.0,9,-999.0000,9,    20.43,    24.83
     49MR00K08, EQPAC,     4,  1,     23,     23,1,20010127, 109, -0.0030, 149.8355, 4626,      200,2,      201,2,   18.968,2,   35.233,2, -999.000,9,   116.33,2,  -999.00,9,      0.0,1,  -999.00,9,  -999.00,9,  -999.00,9,  -999.00,9,  -999.00,9,  -999.00,9,  -999.00,9,  -999.00,9,   -999.0,9,-999.0000,9,    18.93,    25.22
     49MR00K08, EQPAC,     4,  1,     24,     24,1,20010127, 109, -0.0030, 149.8355, 4626,      100,2,      100,2,   29.351,2,   35.399,2, -999.000,9,   150.66,2,  -999.00,9,      0.6,1,     0.26,2,     0.40,2,     0.35,2,  -999.00,9,  -999.00,9,  -999.00,9,  -999.00,9,  -999.00,9,   -999.0,9,-999.0000,9,    29.33,    22.25
     49MR00K08, EQPAC,     3,  2,      0,      0,1,20010128,1758, -0.0138, 144.9622, 3769,     -999,9,     -999,9,   19.200,2, -999.000,9, -999.000,9,  -999.00,9,  -999.00,9,   -999.0,9,     0.06,2,     0.06,2,     0.02,2,  -999.00,9,  -999.00,9,  -999.00,9,  -999.00,9,  -999.00,9,   -999.0,9,-999.0000,9,  -999.00,  -999.00
     49MR00K08, EQPAC,     3,  2,      1,      1,1,20010128,1806, -0.0140, 144.9623, 3769,       10,2,       10,2,   30.528,2,   34.395,2, -999.000,9,   150.74,2,  -999.00,9,      0.0,1,     0.07,2,     0.08,2,     0.02,2,  -999.00,9,  -999.00,9,  -999.00,9,  -999.00,9,  -999.00,9,   -999.0,9,-999.0000,9,    30.53,    21.09
     49MR00K08, EQPAC,     3,  2,      2,      2,1,20010128,1806, -0.0140, 144.9623, 3769,       20,2,       20,2,   30.521,2,   34.410,2, -999.000,9,   150.31,2,  -999.00,9,      0.0,1,     0.07,2,     0.08,2,     0.02,2,  -999.00,9,  -999.00,9,  -999.00,9,  -999.00,9,  -999.00,9,   -999.0,9,-999.0000,9,    30.52,    21.11
     49MR00K08, EQPAC,     3,  2,      3,      3,1,20010128,1806, -0.0140, 144.9623, 3769,       30,2,       30,2,   30.324,2,   34.540,2, -999.000,9,   154.15,2,  -999.00,9,      0.0,1,     0.08,2,     0.10,2,     0.03,2,  -999.00,9,  -999.00,9,  -999.00,9,  -999.00,9,  -999.00,9,   -999.0,9,-999.0000,9,    30.32,    21.27
     49MR00K08, EQPAC,     3,  2,      4,      4,1,20010128,1806, -0.0140, 144.9623, 3769,       40,2,       40,2,   30.084,2,   34.644,2, -999.000,9,   153.68,2,  -999.00,9,      0.1,1,     0.09,2,     0.10,2,     0.03,2,  -999.00,9,  -999.00,9,  -999.00,9,  -999.00,9,  -999.00,9,   -999.0,9,-999.0000,9,    30.07,    21.43
     49MR00K08, EQPAC,     3,  2,      5,      5,1,20010128,1806, -0.0140, 144.9623, 3769,       51,2,       51,2,   30.210,2,   34.767,2, -999.000,9,   154.20,2,  -999.00,9,      0.1,1,     0.10,2,     0.12,2,     0.04,2,  -999.00,9,  -999.00,9,  -999.00,9,  -999.00,9,  -999.00,9,   -999.0,9,-999.0000,9,    30.20,    21.48
     49MR00K08, EQPAC,     3,  2,      6,      6,1,20010128,1806, -0.0140, 144.9623, 3769,       61,2,       61,2,   30.235,2,   35.094,2, -999.000,9,   155.07,2,  -999.00,9,      0.1,1,     0.12,2,     0.14,2,     0.06,2,  -999.00,9,  -999.00,9,  -999.00,9,  -999.00,9,  -999.00,9,   -999.0,9,-999.0000,9,    30.22,    21.72
     49MR00K08, EQPAC,     3,  2,      7,      7,1,20010128,1806, -0.0140, 144.9623, 3769,       70,2,       71,2,   29.827,2,   35.199,2, -999.000,9,   152.27,2,  -999.00,9,      0.3,1,     0.23,2,     0.32,2,     0.20,2,  -999.00,9,  -999.00,9,  -999.00,9,  -999.00,9,  -999.00,9,   -999.0,9,-999.0000,9,    29.81,    21.94
     49MR00K08, EQPAC,     3,  2,      8,      8,1,20010128,1806, -0.0140, 144.9623, 3769,       80,2,       80,2,   29.739,2,   35.197,2, -999.000,9,   153.04,2,  -999.00,9,      0.5,1,     0.26,2,     0.39,2,     0.29,2,  -999.00,9,  -999.00,9,  -999.00,9,  -999.00,9,  -999.00,9,   -999.0,9,-999.0000,9,    29.72,    21.97
     49MR00K08, EQPAC,     3,  2,      9,      9,1,20010128,1806, -0.0140, 144.9623, 3769,       90,2,       90,2,   29.553,2,   35.247,2, -999.000,9,   151.27,2,  -999.00,9,      0.9,1,     0.33,2,     0.54,2,     0.46,2,  -999.00,9,  -999.00,9,  -999.00,9,  -999.00,9,  -999.00,9,   -999.0,9,-999.0000,9,    29.53,    22.07
     49MR00K08, EQPAC,     3,  2,     10,     10,1,20010128,1806, -0.0140, 144.9623, 3769,      100,2,      100,2,   29.470,2,   35.299,2, -999.000,9,   149.58,2,  -999.00,9,      0.6,1,     0.29,2,     0.46,2,     0.39,2,  -999.00,9,  -999.00,9,  -999.00,9,  -999.00,9,  -999.00,9,   -999.0,9,-999.0000,9,    29.44,    22.14
     49MR00K08, EQPAC,     3,  2,     11,     11,1,20010128,1806, -0.0140, 144.9623, 3769,      120,2,      120,2,   25.893,2,   35.400,2, -999.000,9,   123.64,2,  -999.00,9,      0.2,1,     0.11,2,     0.23,2,     0.28,2,  -999.00,9,  -999.00,9,  -999.00,9,  -999.00,9,  -999.00,9,   -999.0,9,-999.0000,9,    25.87,    23.38
     49MR00K08, EQPAC,     3,  2,     12,     12,1,20010128,1806, -0.0140, 144.9623, 3769,      151,2,      152,2,   23.854,2,   35.488,2, -999.000,9,   117.26,2,  -999.00,9,      0.1,1,     0.04,2,     0.08,2,     0.11,2,  -999.00,9,  -999.00,9,  -999.00,9,  -999.00,9,  -999.00,9,   -999.0,9,-999.0000,9,    23.82,    24.06
     49MR00K08, EQPAC,     3,  2,     13,     13,1,20010128,1806, -0.0140, 144.9623, 3769,      199,2,      200,2,   19.271,2,   35.397,2, -999.000,9,   116.90,2,  -999.00,9,      0.0,1,     0.00,2,     0.01,2,     0.04,2,  -999.00,9,  -999.00,9,  -999.00,9,  -999.00,9,  -999.00,9,   -999.0,9,-999.0000,9,    19.23,    25.26
     49MR00K08, EQPAC,     3,  2,     14,     14,1,20010128,1806, -0.0140, 144.9623, 3769,       21,2,       21,2,   30.516,2,   34.415,2, -999.000,9,   150.56,2,  -999.00,9,      0.0,1,  -999.00,9,  -999.00,9,  -999.00,9,  -999.00,9,  -999.00,9,  -999.00,9,  -999.00,9,  -999.00,9,   -999.0,9,-999.0000,9,    30.51,    21.11
     49MR00K08, EQPAC,     3,  2,     15,     15,1,20010128,1806, -0.0140, 144.9623, 3769,       40,2,       40,2,   30.026,2,   34.601,2, -999.000,9,   153.37,2,  -999.00,9,      0.1,1,  -999.00,9,  -999.00,9,  -999.00,9,  -999.00,9,  -999.00,9,  -999.00,9,  -999.00,9,  -999.00,9,   -999.0,9,-999.0000,9,    30.02,    21.42
     49MR00K08, EQPAC,     3,  2,     16,     16,1,20010128,1806, -0.0140, 144.9623, 3769,       60,2,       60,2,   30.271,2,   35.045,2, -999.000,9,   152.84,2,  -999.00,9,      0.1,1,  -999.00,9,  -999.00,9,  -999.00,9,  -999.00,9,  -999.00,9,  -999.00,9,  -999.00,9,  -999.00,9,   -999.0,9,-999.0000,9,    30.26,    21.67
     49MR00K08, EQPAC,     3,  2,     17,     17,1,20010128,1806, -0.0140, 144.9623, 3769,       80,2,       80,2,   29.743,2,   35.199,2, -999.000,9,   153.55,2,  -999.00,9,      0.5,1,  -999.00,9,  -999.00,9,  -999.00,9,  -999.00,9,  -999.00,9,  -999.00,9,  -999.00,9,  -999.00,9,   -999.0,9,-999.0000,9,    29.72,    21.97
     49MR00K08, EQPAC,     3,  2,     18,     18,1,20010128,1806, -0.0140, 144.9623, 3769,       99,2,      100,2,   29.473,2,   35.300,2, -999.000,9,   148.87,2,  -999.00,9,      0.5,1,  -999.00,9,  -999.00,9,  -999.00,9,  -999.00,9,  -999.00,9,  -999.00,9,  -999.00,9,  -999.00,9,   -999.0,9,-999.0000,9,    29.45,    22.14
     49MR00K08, EQPAC,     3,  2,     19,     19,1,20010128,1806, -0.0140, 144.9623, 3769,      120,2,      121,2,   25.889,2,   35.401,2, -999.000,9,   122.90,2,  -999.00,9,      0.2,1,  -999.00,9,  -999.00,9,  -999.00,9,  -999.00,9,  -999.00,9,  -999.00,9,  -999.00,9,  -999.00,9,   -999.0,9,-999.0000,9,    25.86,    23.38
     49MR00K08, EQPAC,     3,  2,     20,     20,1,20010128,1806, -0.0140, 144.9623, 3769,      140,2,      141,2,   24.168,2,   35.219,2, -999.000,9,   120.13,2,  -999.00,9,      0.1,1,  -999.00,9,  -999.00,9,  -999.00,9,  -999.00,9,  -999.00,9,  -999.00,9,  -999.00,9,  -999.00,9,   -999.0,9,-999.0000,9,    24.14,    23.77
     49MR00K08, EQPAC,     3,  2,     21,     21,1,20010128,1806, -0.0140, 144.9623, 3769,      159,2,      160,2,   22.230,2,   35.312,2, -999.000,9,   117.94,2,  -999.00,9,      0.1,1,  -999.00,9,  -999.00,9,  -999.00,9,  -999.00,9,  -999.00,9,  -999.00,9,  -999.00,9,  -999.00,9,   -999.0,9,-999.0000,9,    22.20,    24.40
     49MR00K08, EQPAC,     3,  2,     22,     22,1,20010128,1806, -0.0140, 144.9623, 3769,      180,2,      181,2,   19.880,2,   35.218,2, -999.000,9,   119.76,2,  -999.00,9,      0.0,1,  -999.00,9,  -999.00,9,  -999.00,9,  -999.00,9,  -999.00,9,  -999.00,9,  -999.00,9,  -999.00,9,   -999.0,9,-999.0000,9,    19.85,    24.97
     49MR00K08, EQPAC,     3,  2,     23,     23,1,20010128,1806, -0.0140, 144.9623, 3769,      200,2,      201,2,   19.271,2,   35.406,2, -999.000,9,   117.02,2,  -999.00,9,      0.0,1,  -999.00,9,  -999.00,9,  -999.00,9,  -999.00,9,  -999.00,9,  -999.00,9,  -999.00,9,  -999.00,9,   -999.0,9,-999.0000,9,    19.23,    25.27
     49MR00K08, EQPAC,     3,  2,     24,     24,1,20010128,1806, -0.0140, 144.9623, 3769,       90,2,       90,2,   29.554,2,   35.248,2, -999.000,9,   150.14,2,  -999.00,9,      0.8,1,     0.27,2,     0.47,2,     0.46,2,  -999.00,9,  -999.00,9,  -999.00,9,  -999.00,9,  -999.00,9,   -999.0,9,-999.0000,9,    29.53,    22.07