BOTTLE,20101227MIRCJHATS
EXPOCODE,SECT,STNNBR,CASTNO,SAMPNO,BTLNBR,BTLNBR_FLAG_W,DATE,TIME,LATITUDE,LONGITUDE,DEPTH,CTDDPT,CTDDPT_FLAG_W,CTDPRS,CTDPRS_FLAG_W,CTDTMP,CTDTMP_FLAG_W,CTDSAL,CTDSAL_FLAG_W,SALNTY,SALNTY_FLAG_W,CTDOXY,CTDOXY_FLAG_W,OXYGEN,OXYGEN_FLAG_W,FLUOR,FLUOR_FLAG_W,CHLORA,CHLORA_FLAG_W,CHLWELSH,CHLWELSH_W,PPHYTN,PPHYTN_FLAG_W,SILCAT,SILCAT_FLAG_W,NITRAT,NITRAT_FLAG_W,NITRIT,NITRIT_FLAG_W,PHSPHT,PHSPHT_FLAG_W,NH4,NH4_FLAG_W,TCARBN,TCARBN_FLAG_W,PH,PH_FLAG_W,THETA,SIG0
,,,,,,,,UTC,DEG,DEG,M,M,,DBAR,,ITS-90,,PSS-78,,PSS-78,,UMOL/KG,,UMOL/KG,,UG/L,,MG/CUM,,MG/CUM,,MG/CUM,,UMOL/KG,,UMOL/KG,,UMOL/KG,,UMOL/KG,,UMOL/KG,,UMOL/KG,,-,,DEG C,KG/CUM
     49MR00K08, EQPAC,    10,  1,      0,      0,1,20010118,2301, -0.0008, 177.4965, 5336,     -999,9,     -999,9,   27.700,2, -999.000,9,   35.431,2,  -999.00,9,   193.88,2,   -999.0,9,     0.26,2,     0.30,2,     0.10,2,     1.92,2,     3.90,2,     0.31,2,     0.45,2,     0.12,3,   2023.5,2,   8.0457,5,  -999.00,  -999.00
     49MR00K08, EQPAC,    10,  1,      1,      1,1,20010118,2311, -0.0007, 177.4977, 5336,       11,2,       11,2,   27.567,2,   35.416,2,   35.418,2,   154.13,2,   193.23,2,      0.2,1,     0.27,2,     0.31,2,     0.11,2,     1.84,2,     3.87,2,     0.31,2,     0.44,2,     0.06,3,   2023.4,2,   8.0460,5,    27.56,    22.85
     49MR00K08, EQPAC,    10,  1,      2,      2,1,20010118,2311, -0.0007, 177.4977, 5336,       19,2,       19,2,   27.534,2,   35.416,2,   35.417,2,   154.53,2,   192.98,2,      0.4,1,     0.24,2,     0.28,2,     0.11,2,     1.90,2,     3.88,2,     0.31,2,     0.44,2,     0.02,3,   2022.8,2,   8.0446,5,    27.53,    22.86
     49MR00K08, EQPAC,    10,  1,      3,      3,1,20010118,2311, -0.0007, 177.4977, 5336,       30,2,       30,2,   27.522,2,   35.418,2,   35.420,2,   154.27,2,   192.55,2,      0.6,1,     0.31,2,     0.36,2,     0.16,2,     1.93,2,     3.90,2,     0.31,2,     0.44,2,     0.05,3,   2024.2,2,   8.0455,5,    27.51,    22.87
     49MR00K08, EQPAC,    10,  1,      4,      4,1,20010118,2311, -0.0007, 177.4977, 5336,       39,2,       40,2,   27.519,2,   35.422,2,   35.423,2,   153.75,2,   192.19,2,      0.6,1,     0.31,2,     0.38,2,     0.18,2,     1.85,2,     3.92,2,     0.29,2,     0.44,2,     0.06,3,   2022.0,3,   8.0449,5,    27.51,    22.87
     49MR00K08, EQPAC,    10,  1,      5,      5,1,20010118,2311, -0.0007, 177.4977, 5336,       50,2,       51,2,   27.516,2,   35.449,2,   35.448,2,   154.59,2,   191.66,2,      0.6,1,     0.31,2,     0.38,2,     0.19,2,     1.84,2,     3.96,2,     0.23,2,     0.44,2,     0.20,3,   2024.2,2,   8.0459,5,    27.50,    22.89
     49MR00K08, EQPAC,    10,  1,      6,      6,1,20010118,2311, -0.0007, 177.4977, 5336,       60,2,       61,2,   27.513,2,   35.456,2,   35.459,2,   155.17,2,  -999.00,9,      0.6,1,     0.29,2,     0.36,2,     0.20,2,     1.95,2,     3.97,2,     0.22,2,     0.45,2,     0.21,3,   2022.4,2,   8.0451,5,    27.50,    22.90
     49MR00K08, EQPAC,    10,  1,      7,      7,1,20010118,2311, -0.0007, 177.4977, 5336,       70,2,       70,2,   27.515,2,   35.462,2,   35.465,2,   153.88,2,   191.19,2,      0.6,1,     0.28,2,     0.36,2,     0.22,2,     1.96,2,     3.98,2,     0.24,2,     0.45,2,     0.18,3,   2025.9,2,   8.0461,5,    27.50,    22.91
     49MR00K08, EQPAC,    10,  1,      8,      8,1,20010118,2311, -0.0007, 177.4977, 5336,       80,2,       80,2,   27.515,2,   35.469,2,   35.473,2,   153.07,2,   190.17,2,      0.5,1,     0.26,2,     0.32,2,     0.19,2,     1.80,2,     4.05,2,     0.27,2,     0.46,2,     0.20,3,   2024.7,2,   8.0450,5,    27.50,    22.91
     49MR00K08, EQPAC,    10,  1,      9,      9,1,20010118,2311, -0.0007, 177.4977, 5336,       91,2,       91,2,   27.466,2,   35.465,2,   35.472,2,   153.29,2,   188.70,2,      0.4,1,     0.24,2,     0.29,2,     0.16,2,     1.94,2,     4.10,2,     0.29,2,     0.47,2,     0.21,3,   2027.2,2,   8.0425,5,    27.44,    22.93
     49MR00K08, EQPAC,    10,  1,     10,     10,1,20010118,2311, -0.0007, 177.4977, 5336,      100,2,      101,2,   27.291,2,   35.462,2,   35.466,2,   148.95,2,   183.55,2,      0.2,1,     0.16,2,     0.20,2,     0.12,2,     2.05,2,     4.56,2,     0.48,2,     0.51,2,     0.12,3,   2031.9,2,   8.0342,5,    27.27,    22.98
     49MR00K08, EQPAC,    10,  1,     11,     11,1,20010118,2311, -0.0007, 177.4977, 5336,      121,2,      121,2,   26.986,2,   35.448,2,   35.453,2,   144.20,2,   175.99,2,      0.1,1,     0.06,2,     0.08,2,     0.06,2,     2.17,2,     5.24,2,     0.62,2,     0.56,2,     0.00,3,   2037.4,2,   8.0215,5,    26.96,    23.07
     49MR00K08, EQPAC,    10,  1,     12,     12,1,20010118,2311, -0.0007, 177.4977, 5336,      150,2,      151,2,   25.803,2,   35.330,2,   35.346,2,   127.59,2,   154.00,2,      0.0,1,     0.03,2,     0.05,2,     0.05,2,     3.02,2,     7.28,2,     0.03,2,     0.64,2,     0.00,3,   2050.5,2,   7.9862,5,    25.77,    23.35
     49MR00K08, EQPAC,    10,  1,     13,     13,1,20010118,2311, -0.0007, 177.4977, 5336,      200,2,      201,2,   17.034,2,   35.170,2,   35.167,2,   117.53,2,   140.44,2,      0.0,1,     0.00,2,     0.01,2,     0.03,2,     9.25,2,    12.53,2,     0.00,2,     0.98,2,     0.00,3,   2116.0,2,   7.8558,5,    17.00,    25.64
     49MR00K08, EQPAC,    10,  1,     14,     14,1,20010118,2311, -0.0007, 177.4977, 5336,       19,2,       19,2,   27.534,2,   35.417,2, -999.000,9,   154.77,2,  -999.00,9,      0.4,1,  -999.00,9,  -999.00,9,  -999.00,9,  -999.00,9,  -999.00,9,  -999.00,9,  -999.00,9,  -999.00,9,   -999.0,9,-999.0000,9,    27.53,    22.86
     49MR00K08, EQPAC,    10,  1,     15,     15,1,20010118,2311, -0.0007, 177.4977, 5336,       41,2,       41,2,   27.519,2,   35.422,2, -999.000,9,   153.99,2,  -999.00,9,      0.6,1,  -999.00,9,  -999.00,9,  -999.00,9,  -999.00,9,  -999.00,9,  -999.00,9,  -999.00,9,  -999.00,9,   -999.0,9,-999.0000,9,    27.51,    22.87
     49MR00K08, EQPAC,    10,  1,     16,     16,1,20010118,2311, -0.0007, 177.4977, 5336,       59,2,       59,2,   27.514,2,   35.456,2, -999.000,9,   154.27,2,  -999.00,9,      0.6,1,  -999.00,9,  -999.00,9,  -999.00,9,  -999.00,9,  -999.00,9,  -999.00,9,  -999.00,9,  -999.00,9,   -999.0,9,-999.0000,9,    27.50,    22.90
     49MR00K08, EQPAC,    10,  1,     17,     17,1,20010118,2311, -0.0007, 177.4977, 5336,       79,2,       80,2,   27.515,2,   35.469,2, -999.000,9,   154.27,2,  -999.00,9,      0.5,1,  -999.00,9,  -999.00,9,  -999.00,9,  -999.00,9,  -999.00,9,  -999.00,9,  -999.00,9,  -999.00,9,   -999.0,9,-999.0000,9,    27.50,    22.91
     49MR00K08, EQPAC,    10,  1,     18,     18,1,20010118,2311, -0.0007, 177.4977, 5336,       99,2,      100,2,   27.302,2,   35.462,2, -999.000,9,   149.58,2,  -999.00,9,      0.3,1,  -999.00,9,  -999.00,9,  -999.00,9,  -999.00,9,  -999.00,9,  -999.00,9,  -999.00,9,  -999.00,9,   -999.0,9,-999.0000,9,    27.28,    22.98
     49MR00K08, EQPAC,    10,  1,     19,     19,1,20010118,2311, -0.0007, 177.4977, 5336,      120,2,      120,2,   26.994,2,   35.450,2, -999.000,9,   144.34,2,  -999.00,9,      0.1,1,  -999.00,9,  -999.00,9,  -999.00,9,  -999.00,9,  -999.00,9,  -999.00,9,  -999.00,9,  -999.00,9,   -999.0,9,-999.0000,9,    26.97,    23.07
     49MR00K08, EQPAC,    10,  1,     20,     20,1,20010118,2311, -0.0007, 177.4977, 5336,      140,2,      141,2,   26.862,2,   35.439,2, -999.000,9,   139.98,2,  -999.00,9,      0.0,1,  -999.00,9,  -999.00,9,  -999.00,9,  -999.00,9,  -999.00,9,  -999.00,9,  -999.00,9,  -999.00,9,   -999.0,9,-999.0000,9,    26.83,    23.10
     49MR00K08, EQPAC,    10,  1,     21,     21,1,20010118,2311, -0.0007, 177.4977, 5336,      160,2,      161,2,   23.883,2,   35.182,2, -999.000,9,   116.04,2,  -999.00,9,      0.0,1,  -999.00,9,  -999.00,9,  -999.00,9,  -999.00,9,  -999.00,9,  -999.00,9,  -999.00,9,  -999.00,9,   -999.0,9,-999.0000,9,    23.85,    23.82
     49MR00K08, EQPAC,    10,  1,     22,     22,1,20010118,2311, -0.0007, 177.4977, 5336,      181,2,      182,2,   20.837,2,   35.264,2, -999.000,9,   112.61,2,  -999.00,9,      0.0,1,  -999.00,9,  -999.00,9,  -999.00,9,  -999.00,9,  -999.00,9,  -999.00,9,  -999.00,9,  -999.00,9,   -999.0,9,-999.0000,9,    20.80,    24.75
     49MR00K08, EQPAC,    10,  1,     23,     23,1,20010118,2311, -0.0007, 177.4977, 5336,      199,2,      200,2,   17.104,2,   35.169,2, -999.000,9,   116.19,2,  -999.00,9,      0.0,1,  -999.00,9,  -999.00,9,  -999.00,9,  -999.00,9,  -999.00,9,  -999.00,9,  -999.00,9,  -999.00,9,   -999.0,9,-999.0000,9,    17.07,    25.63
     49MR00K08, EQPAC,    10,  1,     24,     24,1,20010118,2311, -0.0007, 177.4977, 5336,       51,2,       51,2,   27.516,2,   35.448,2, -999.000,9,   153.16,2,  -999.00,9,      0.6,1,     0.30,2,     0.37,2,     0.19,2,  -999.00,9,  -999.00,9,  -999.00,9,  -999.00,9,  -999.00,9,   -999.0,9,-999.0000,9,    27.50,    22.89
     49MR00K08, EQPAC,     9,  1,      0,      0,1,20010119,1555,  0.0385, 174.8967, 4794,     -999,9,     -999,9,   27.700,2, -999.000,9, -999.000,9,  -999.00,9,  -999.00,9,   -999.0,9,     0.23,2,     0.26,2,     0.12,2,  -999.00,9,  -999.00,9,  -999.00,9,  -999.00,9,  -999.00,9,   -999.0,9,-999.0000,9,  -999.00,  -999.00
     49MR00K08, EQPAC,     9,  1,      1,      1,1,20010119,1634,  0.0410, 174.8937, 4794,       11,2,       11,2,   27.756,2,   35.426,2, -999.000,9,   157.55,2,  -999.00,9,      0.5,1,     0.22,2,     0.26,2,     0.12,2,  -999.00,9,  -999.00,9,  -999.00,9,  -999.00,9,  -999.00,9,   -999.0,9,-999.0000,9,    27.75,    22.80
     49MR00K08, EQPAC,     9,  1,      2,      2,1,20010119,1604,  0.0387, 174.8958, 4794,       21,2,       21,2,   27.757,2,   35.426,2, -999.000,9,   155.87,2,  -999.00,9,      0.6,1,     0.25,2,     0.29,2,     0.14,2,  -999.00,9,  -999.00,9,  -999.00,9,  -999.00,9,  -999.00,9,   -999.0,9,-999.0000,9,    27.75,    22.80
     49MR00K08, EQPAC,     9,  1,      3,      3,1,20010119,1604,  0.0387, 174.8958, 4794,       29,2,       29,2,   27.753,2,   35.426,2, -999.000,9,   157.07,2,  -999.00,9,      0.6,1,     0.25,2,     0.29,2,     0.14,2,  -999.00,9,  -999.00,9,  -999.00,9,  -999.00,9,  -999.00,9,   -999.0,9,-999.0000,9,    27.75,    22.80
     49MR00K08, EQPAC,     9,  1,      4,      4,1,20010119,1604,  0.0387, 174.8958, 4794,       40,2,       40,2,   27.741,2,   35.426,2, -999.000,9,   156.14,2,  -999.00,9,      0.6,1,     0.28,2,     0.34,2,     0.18,2,  -999.00,9,  -999.00,9,  -999.00,9,  -999.00,9,  -999.00,9,   -999.0,9,-999.0000,9,    27.73,    22.80
     49MR00K08, EQPAC,     9,  1,      5,      5,1,20010119,1604,  0.0387, 174.8958, 4794,       50,2,       50,2,   27.718,2,   35.427,2, -999.000,9,   156.72,2,  -999.00,9,      0.6,1,     0.28,2,     0.36,2,     0.21,2,  -999.00,9,  -999.00,9,  -999.00,9,  -999.00,9,  -999.00,9,   -999.0,9,-999.0000,9,    27.71,    22.81
     49MR00K08, EQPAC,     9,  1,      6,      6,1,20010119,1604,  0.0387, 174.8958, 4794,       59,2,       60,2,   27.687,2,   35.433,2, -999.000,9,   155.61,2,  -999.00,9,      0.6,1,     0.29,2,     0.37,2,     0.23,2,  -999.00,9,  -999.00,9,  -999.00,9,  -999.00,9,  -999.00,9,   -999.0,9,-999.0000,9,    27.67,    22.83
     49MR00K08, EQPAC,     9,  1,      7,      7,1,20010119,1604,  0.0387, 174.8958, 4794,       70,2,       70,2,   27.694,2,   35.449,2, -999.000,9,   155.64,2,  -999.00,9,      0.5,1,     0.21,2,     0.29,2,     0.20,2,  -999.00,9,  -999.00,9,  -999.00,9,  -999.00,9,  -999.00,9,   -999.0,9,-999.0000,9,    27.68,    22.84
     49MR00K08, EQPAC,     9,  1,      8,      8,1,20010119,1604,  0.0387, 174.8958, 4794,       81,2,       81,2,   27.715,2,   35.473,2, -999.000,9,   155.12,2,  -999.00,9,      0.3,1,     0.19,2,     0.26,2,     0.19,2,  -999.00,9,  -999.00,9,  -999.00,9,  -999.00,9,  -999.00,9,   -999.0,9,-999.0000,9,    27.70,    22.85
     49MR00K08, EQPAC,     9,  1,      9,      9,1,20010119,1604,  0.0387, 174.8958, 4794,       90,2,       91,2,   27.739,2,   35.505,2, -999.000,9,   154.15,2,  -999.00,9,      0.2,1,     0.14,2,     0.18,2,     0.12,2,  -999.00,9,  -999.00,9,  -999.00,9,  -999.00,9,  -999.00,9,   -999.0,9,-999.0000,9,    27.72,    22.87
     49MR00K08, EQPAC,     9,  1,     10,     10,1,20010119,1604,  0.0387, 174.8958, 4794,       98,2,       99,2,   27.667,2,   35.487,2, -999.000,9,   155.44,2,  -999.00,9,      0.2,1,     0.13,2,     0.17,2,     0.12,2,  -999.00,9,  -999.00,9,  -999.00,9,  -999.00,9,  -999.00,9,   -999.0,9,-999.0000,9,    27.64,    22.88
     49MR00K08, EQPAC,     9,  1,     11,     11,1,20010119,1604,  0.0387, 174.8958, 4794,      119,2,      120,2,   26.885,2,   35.442,2, -999.000,9,   139.68,2,  -999.00,9,      0.1,1,     0.06,2,     0.07,2,     0.06,2,  -999.00,9,  -999.00,9,  -999.00,9,  -999.00,9,  -999.00,9,   -999.0,9,-999.0000,9,    26.86,    23.10
     49MR00K08, EQPAC,     9,  1,     12,     12,1,20010119,1604,  0.0387, 174.8958, 4794,      151,2,      152,2,   25.125,2,   35.326,2, -999.000,9,   118.86,2,  -999.00,9,      0.0,1,     0.03,2,     0.06,2,     0.07,2,  -999.00,9,  -999.00,9,  -999.00,9,  -999.00,9,  -999.00,9,   -999.0,9,-999.0000,9,    25.09,    23.56
     49MR00K08, EQPAC,     9,  1,     13,     13,1,20010119,1604,  0.0387, 174.8958, 4794,      201,2,      202,2,   16.982,2,   35.195,2, -999.000,9,   119.13,2,  -999.00,9,      0.0,1,     0.00,2,     0.01,2,     0.03,2,  -999.00,9,  -999.00,9,  -999.00,9,  -999.00,9,  -999.00,9,   -999.0,9,-999.0000,9,    16.95,    25.68
     49MR00K08, EQPAC,     9,  1,     14,     14,1,20010119,1604,  0.0387, 174.8958, 4794,       21,2,       21,2,   27.757,2,   35.426,2, -999.000,9,   157.89,2,  -999.00,9,      0.6,1,  -999.00,9,  -999.00,9,  -999.00,9,  -999.00,9,  -999.00,9,  -999.00,9,  -999.00,9,  -999.00,9,   -999.0,9,-999.0000,9,    27.75,    22.80
     49MR00K08, EQPAC,     9,  1,     15,     15,1,20010119,1604,  0.0387, 174.8958, 4794,       40,2,       41,2,   27.731,2,   35.426,2, -999.000,9,   157.25,2,  -999.00,9,      0.6,1,  -999.00,9,  -999.00,9,  -999.00,9,  -999.00,9,  -999.00,9,  -999.00,9,  -999.00,9,  -999.00,9,   -999.0,9,-999.0000,9,    27.72,    22.81
     49MR00K08, EQPAC,     9,  1,     16,     16,1,20010119,1604,  0.0387, 174.8958, 4794,       60,2,       61,2,   27.687,2,   35.432,2, -999.000,9,   155.57,2,  -999.00,9,      0.6,1,  -999.00,9,  -999.00,9,  -999.00,9,  -999.00,9,  -999.00,9,  -999.00,9,  -999.00,9,  -999.00,9,   -999.0,9,-999.0000,9,    27.67,    22.83
     49MR00K08, EQPAC,     9,  1,     17,     17,1,20010119,1604,  0.0387, 174.8958, 4794,       80,2,       81,2,   27.710,2,   35.468,2, -999.000,9,   155.27,2,  -999.00,9,      0.3,1,  -999.00,9,  -999.00,9,  -999.00,9,  -999.00,9,  -999.00,9,  -999.00,9,  -999.00,9,  -999.00,9,   -999.0,9,-999.0000,9,    27.69,    22.85
     49MR00K08, EQPAC,     9,  1,     18,     18,1,20010119,1604,  0.0387, 174.8958, 4794,       99,2,       99,2,   27.676,2,   35.488,2, -999.000,9,   154.77,2,  -999.00,9,      0.2,1,  -999.00,9,  -999.00,9,  -999.00,9,  -999.00,9,  -999.00,9,  -999.00,9,  -999.00,9,  -999.00,9,   -999.0,9,-999.0000,9,    27.65,    22.88
     49MR00K08, EQPAC,     9,  1,     19,     19,1,20010119,1604,  0.0387, 174.8958, 4794,      121,2,      122,2,   26.922,2,   35.449,2, -999.000,9,   140.28,2,  -999.00,9,      0.1,1,  -999.00,9,  -999.00,9,  -999.00,9,  -999.00,9,  -999.00,9,  -999.00,9,  -999.00,9,  -999.00,9,   -999.0,9,-999.0000,9,    26.89,    23.09
     49MR00K08, EQPAC,     9,  1,     20,     20,1,20010119,1604,  0.0387, 174.8958, 4794,      140,2,      141,2,   26.140,2,   35.373,2, -999.000,9,   127.35,2,  -999.00,9,      0.1,1,  -999.00,9,  -999.00,9,  -999.00,9,  -999.00,9,  -999.00,9,  -999.00,9,  -999.00,9,  -999.00,9,   -999.0,9,-999.0000,9,    26.11,    23.28
     49MR00K08, EQPAC,     9,  1,     21,     21,1,20010119,1604,  0.0387, 174.8958, 4794,      160,2,      161,2,   24.784,2,   35.351,2, -999.000,9,   114.94,2,  -999.00,9,      0.0,1,  -999.00,9,  -999.00,9,  -999.00,9,  -999.00,9,  -999.00,9,  -999.00,9,  -999.00,9,  -999.00,9,   -999.0,9,-999.0000,9,    24.75,    23.68
     49MR00K08, EQPAC,     9,  1,     22,     22,1,20010119,1604,  0.0387, 174.8958, 4794,      180,2,      182,2,   20.543,2,   35.403,2, -999.000,9,   112.11,2,  -999.00,9,      0.0,1,  -999.00,9,  -999.00,9,  -999.00,9,  -999.00,9,  -999.00,9,  -999.00,9,  -999.00,9,  -999.00,9,   -999.0,9,-999.0000,9,    20.51,    24.93
     49MR00K08, EQPAC,     9,  1,     23,     23,1,20010119,1604,  0.0387, 174.8958, 4794,      199,2,      201,2,   17.014,2,   35.198,2, -999.000,9,   118.87,2,  -999.00,9,      0.0,1,  -999.00,9,  -999.00,9,  -999.00,9,  -999.00,9,  -999.00,9,  -999.00,9,  -999.00,9,  -999.00,9,   -999.0,9,-999.0000,9,    16.98,    25.67
     49MR00K08, EQPAC,     9,  1,     24,     24,1,20010119,1604,  0.0387, 174.8958, 4794,       49,2,       49,2,   27.715,2,   35.427,2, -999.000,9,   156.92,2,  -999.00,9,      0.6,1,     0.25,2,     0.32,2,     0.17,2,  -999.00,9,  -999.00,9,  -999.00,9,  -999.00,9,  -999.00,9,   -999.0,9,-999.0000,9,    27.70,    22.81