BOTTLE,20101227MIRCJHATS
EXPOCODE,SECT,STNNBR,CASTNO,SAMPNO,BTLNBR,BTLNBR_FLAG_W,DATE,TIME,LATITUDE,LONGITUDE,DEPTH,CTDDPT,CTDDPT_FLAG_W,CTDPRS,CTDPRS_FLAG_W,CTDTMP,CTDTMP_FLAG_W,CTDSAL,CTDSAL_FLAG_W,SALNTY,SALNTY_FLAG_W,CTDOXY,CTDOXY_FLAG_W,OXYGEN,OXYGEN_FLAG_W,FLUOR,FLUOR_FLAG_W,CHLORA,CHLORA_FLAG_W,CHLWELSH,CHLWELSH_W,PPHYTN,PPHYTN_FLAG_W,SILCAT,SILCAT_FLAG_W,NITRAT,NITRAT_FLAG_W,NITRIT,NITRIT_FLAG_W,PHSPHT,PHSPHT_FLAG_W,NH4,NH4_FLAG_W,TCARBN,TCARBN_FLAG_W,PH,PH_FLAG_W,THETA,SIG0
,,,,,,,,UTC,DEG,DEG,M,M,,DBAR,,ITS-90,,PSS-78,,PSS-78,,UMOL/KG,,UMOL/KG,,UG/L,,MG/CUM,,MG/CUM,,MG/CUM,,UMOL/KG,,UMOL/KG,,UMOL/KG,,UMOL/KG,,UMOL/KG,,UMOL/KG,,-,,DEG C,KG/CUM
     49MR00K08, EQPAC,     9,  2,      0,      0,1,20010119,2255,  0.0467, 174.8800, 4787,     -999,9,     -999,9,   27.800,2, -999.000,9,   35.445,2,  -999.00,9,   200.70,2,   -999.0,9,     0.22,2,     0.26,2,     0.12,2,     1.97,2,     3.26,2,     0.51,2,     0.44,2,     0.17,3,   2019.4,3,   8.0541,5,  -999.00,  -999.00
     49MR00K08, EQPAC,     9,  2,      1,      1,1,20010119,2303,  0.0468, 174.8808, 4787,        9,2,        9,2,   27.779,2,   35.427,2,   35.428,2,   158.75,2,   196.64,2,      0.2,1,     0.23,2,     0.27,2,     0.11,2,     2.07,2,     3.22,2,     0.52,2,     0.43,2,     0.11,3,   2018.8,3,   8.0564,5,    27.78,    22.79
     49MR00K08, EQPAC,     9,  2,      2,      2,1,20010119,2303,  0.0468, 174.8808, 4787,       19,2,       19,2,   27.754,2,   35.426,2,   35.428,2,   158.10,2,   196.60,2,      0.3,1,     0.22,2,     0.26,2,     0.11,2,     2.13,2,     3.21,2,     0.52,2,     0.44,2,     0.12,3,   2019.2,3,   8.0547,5,    27.75,    22.80
     49MR00K08, EQPAC,     9,  2,      3,      3,1,20010119,2303,  0.0468, 174.8808, 4787,       30,2,       30,2,   27.745,2,   35.426,2,   35.428,2,   157.63,2,   196.38,2,      0.4,1,     0.22,2,     0.26,2,     0.13,2,     2.31,2,     3.19,2,     0.51,2,     0.43,2,     0.14,3,   2018.1,3,   8.0559,5,    27.74,    22.80
     49MR00K08, EQPAC,     9,  2,      4,      4,1,20010119,2303,  0.0468, 174.8808, 4787,       41,2,       41,2,   27.738,2,   35.428,2,   35.431,2,   156.74,2,   195.85,2,      0.5,1,     0.27,2,     0.33,2,     0.15,2,     2.14,2,     3.21,2,     0.51,2,     0.43,2,     0.10,3,   2019.6,3,   8.0547,5,    27.73,    22.81
     49MR00K08, EQPAC,     9,  2,      5,      5,1,20010119,2303,  0.0468, 174.8808, 4787,       50,2,       51,2,   27.734,2,   35.429,2,   35.431,2,   156.27,2,   195.30,2,      0.5,1,     0.26,2,     0.32,2,     0.16,2,     2.15,2,     3.22,2,     0.52,2,     0.43,2,     0.13,3,   2018.8,3,   8.0545,5,    27.72,    22.81
     49MR00K08, EQPAC,     9,  2,      6,      6,1,20010119,2303,  0.0468, 174.8808, 4787,       60,2,       61,2,   27.731,2,   35.431,2,   35.433,2,   155.58,2,   195.01,2,      0.5,1,     0.28,2,     0.34,2,     0.17,2,     2.17,2,     3.21,2,     0.53,2,     0.43,2,     0.16,3,   2018.3,3,   8.0548,5,    27.72,    22.81
     49MR00K08, EQPAC,     9,  2,      7,      7,1,20010119,2303,  0.0468, 174.8808, 4787,       70,2,       70,2,   27.726,2,   35.437,2,   35.440,2,   157.58,2,   194.42,2,      0.5,1,     0.29,2,     0.36,2,     0.19,2,     2.14,2,     3.20,2,     0.54,2,     0.43,2,     0.21,3,   2020.2,2,   8.0554,5,    27.71,    22.82
     49MR00K08, EQPAC,     9,  2,      8,      8,1,20010119,2303,  0.0468, 174.8808, 4787,       80,2,       80,2,   27.724,2,   35.451,2,   35.459,2,   157.65,2,   193.54,2,      0.5,1,     0.25,2,     0.32,2,     0.19,2,     2.04,2,     3.16,2,     0.57,2,     0.43,2,     0.29,3,   2020.7,2,   8.0538,5,    27.71,    22.83
     49MR00K08, EQPAC,     9,  2,      9,      9,1,20010119,2303,  0.0468, 174.8808, 4787,       90,2,       91,2,   27.747,2,   35.495,2,   35.507,2,   155.92,2,   191.26,2,      0.4,1,     0.15,2,     0.20,2,     0.14,2,     2.11,2,     3.18,2,     0.80,2,     0.45,2,     0.29,3,   2023.9,3,   8.0548,5,    27.73,    22.86
     49MR00K08, EQPAC,     9,  2,     10,     10,1,20010119,2303,  0.0468, 174.8808, 4787,      100,2,      101,2,   27.717,2,   35.508,2,   35.506,2,   154.80,2,   188.57,2,      0.2,1,     0.10,2,     0.13,2,     0.10,2,     2.17,2,     3.32,2,     1.01,2,     0.47,2,     0.11,3,   2023.8,2,   8.0508,5,    27.69,    22.88
     49MR00K08, EQPAC,     9,  2,     11,     11,1,20010119,2303,  0.0468, 174.8808, 4787,      120,2,      121,2,   26.919,2,   35.447,2,   35.442,2,   141.16,2,   174.88,2,      0.1,1,     0.05,2,     0.07,2,     0.06,2,     2.44,2,     5.70,2,     0.50,2,     0.58,2,     0.00,3,   2039.1,2,   8.0179,5,    26.89,    23.09
     49MR00K08, EQPAC,     9,  2,     12,     12,1,20010119,2303,  0.0468, 174.8808, 4787,      150,2,      151,2,   25.118,2,   35.338,2,   35.341,2,   117.34,2,   141.82,2,      0.1,1,     0.03,2,     0.06,2,     0.07,2,     3.36,2,     8.40,2,     0.05,2,     0.70,2,     0.00,3,   2060.9,2,   7.9649,5,    25.09,    23.57
     49MR00K08, EQPAC,     9,  2,     13,     13,1,20010119,2303,  0.0468, 174.8808, 4787,      201,2,      202,2,   17.164,2,   35.220,2,   35.218,2,   119.32,2,   142.11,2,      0.0,1,     0.00,2,     0.01,2,     0.03,2,     7.92,2,    12.31,2,     0.03,2,     0.97,2,     0.00,3,   2115.3,2,   7.8610,5,    17.13,    25.65
     49MR00K08, EQPAC,     9,  2,     14,     14,1,20010119,2303,  0.0468, 174.8808, 4787,        9,2,        9,2,   27.773,2,   35.426,2, -999.000,9,   157.41,2,  -999.00,9,      0.2,1,  -999.00,9,  -999.00,9,  -999.00,9,  -999.00,9,  -999.00,9,  -999.00,9,  -999.00,9,  -999.00,9,   -999.0,9,-999.0000,9,    27.77,    22.79
     49MR00K08, EQPAC,     9,  2,     15,     15,1,20010119,2303,  0.0468, 174.8808, 4787,       19,2,       19,2,   27.754,2,   35.426,2, -999.000,9,   157.72,2,  -999.00,9,      0.3,1,  -999.00,9,  -999.00,9,  -999.00,9,  -999.00,9,  -999.00,9,  -999.00,9,  -999.00,9,  -999.00,9,   -999.0,9,-999.0000,9,    27.75,    22.80
     49MR00K08, EQPAC,     9,  2,     16,     16,1,20010119,2303,  0.0468, 174.8808, 4787,       30,2,       30,2,   27.742,2,   35.427,2, -999.000,9,   158.51,2,  -999.00,9,      0.4,1,  -999.00,9,  -999.00,9,  -999.00,9,  -999.00,9,  -999.00,9,  -999.00,9,  -999.00,9,  -999.00,9,   -999.0,9,-999.0000,9,    27.73,    22.80
     49MR00K08, EQPAC,     9,  2,     17,     17,1,20010119,2303,  0.0468, 174.8808, 4787,       39,2,       40,2,   27.738,2,   35.428,2, -999.000,9,   157.87,2,  -999.00,9,      0.5,1,  -999.00,9,  -999.00,9,  -999.00,9,  -999.00,9,  -999.00,9,  -999.00,9,  -999.00,9,  -999.00,9,   -999.0,9,-999.0000,9,    27.73,    22.81
     49MR00K08, EQPAC,     9,  2,     18,     18,1,20010119,2303,  0.0468, 174.8808, 4787,       50,2,       50,2,   27.734,2,   35.429,2, -999.000,9,   156.87,2,  -999.00,9,      0.5,1,     0.27,2,     0.32,2,     0.15,2,  -999.00,9,  -999.00,9,  -999.00,9,  -999.00,9,  -999.00,9,   -999.0,9,-999.0000,9,    27.72,    22.81
     49MR00K08, EQPAC,     9,  2,     19,     19,1,20010119,2303,  0.0468, 174.8808, 4787,       60,2,       61,2,   27.731,2,   35.431,2, -999.000,9,   157.62,2,  -999.00,9,      0.6,1,  -999.00,9,  -999.00,9,  -999.00,9,  -999.00,9,  -999.00,9,  -999.00,9,  -999.00,9,  -999.00,9,   -999.0,9,-999.0000,9,    27.72,    22.81
     49MR00K08, EQPAC,     9,  2,     20,     20,1,20010119,2303,  0.0468, 174.8808, 4787,       80,2,       80,2,   27.724,2,   35.451,2, -999.000,9,   156.57,2,  -999.00,9,      0.5,1,  -999.00,9,  -999.00,9,  -999.00,9,  -999.00,9,  -999.00,9,  -999.00,9,  -999.00,9,  -999.00,9,   -999.0,9,-999.0000,9,    27.71,    22.83
     49MR00K08, EQPAC,     9,  2,     21,     21,1,20010119,2303,  0.0468, 174.8808, 4787,      100,2,      101,2,   27.732,2,   35.511,2, -999.000,9,   154.31,2,  -999.00,9,      0.2,1,  -999.00,9,  -999.00,9,  -999.00,9,  -999.00,9,  -999.00,9,  -999.00,9,  -999.00,9,  -999.00,9,   -999.0,9,-999.0000,9,    27.71,    22.87
     49MR00K08, EQPAC,     9,  2,     22,     22,1,20010119,2303,  0.0468, 174.8808, 4787,      120,2,      121,2,   26.952,2,   35.452,2, -999.000,9,   142.37,2,  -999.00,9,      0.1,1,  -999.00,9,  -999.00,9,  -999.00,9,  -999.00,9,  -999.00,9,  -999.00,9,  -999.00,9,  -999.00,9,   -999.0,9,-999.0000,9,    26.92,    23.08
     49MR00K08, EQPAC,     9,  2,     23,     23,1,20010119,2303,  0.0468, 174.8808, 4787,      149,2,      150,2,   25.077,2,   35.337,2, -999.000,9,   117.99,2,  -999.00,9,      0.1,1,  -999.00,9,  -999.00,9,  -999.00,9,  -999.00,9,  -999.00,9,  -999.00,9,  -999.00,9,  -999.00,9,   -999.0,9,-999.0000,9,    25.04,    23.58
     49MR00K08, EQPAC,     9,  2,     24,     24,1,20010119,2303,  0.0468, 174.8808, 4787,      200,2,      202,2,   17.012,2,   35.209,2, -999.000,9,   118.05,2,  -999.00,9,      0.0,1,  -999.00,9,  -999.00,9,  -999.00,9,  -999.00,9,  -999.00,9,  -999.00,9,  -999.00,9,  -999.00,9,   -999.0,9,-999.0000,9,    16.98,    25.68
     49MR00K08, EQPAC,     9,  3,      0,      0,1,20010120, 437,  0.0237, 174.8657, 4771,     -999,9,     -999,9,   28.000,2, -999.000,9, -999.000,9,  -999.00,9,  -999.00,9,   -999.0,9,     0.21,2,     0.25,2,     0.08,2,  -999.00,9,  -999.00,9,  -999.00,9,  -999.00,9,  -999.00,9,   -999.0,9,-999.0000,9,  -999.00,  -999.00
     49MR00K08, EQPAC,     9,  3,      1,      1,1,20010120, 442,  0.0233, 174.8652, 4771,       20,2,       20,2,   27.761,2,   35.427,2, -999.000,9,   157.49,2,  -999.00,9,      0.5,1,  -999.00,9,  -999.00,9,  -999.00,9,  -999.00,9,  -999.00,9,  -999.00,9,  -999.00,9,  -999.00,9,   -999.0,9,-999.0000,9,    27.76,    22.80
     49MR00K08, EQPAC,     9,  3,      2,      2,1,20010120, 442,  0.0233, 174.8652, 4771,       40,2,       40,2,   27.744,2,   35.428,2, -999.000,9,   158.23,2,  -999.00,9,      0.7,1,  -999.00,9,  -999.00,9,  -999.00,9,  -999.00,9,  -999.00,9,  -999.00,9,  -999.00,9,  -999.00,9,   -999.0,9,-999.0000,9,    27.73,    22.80
     49MR00K08, EQPAC,     9,  3,      3,      3,1,20010120, 442,  0.0233, 174.8652, 4771,       60,2,       60,2,   27.737,2,   35.430,2, -999.000,9,   158.53,2,  -999.00,9,      0.7,1,  -999.00,9,  -999.00,9,  -999.00,9,  -999.00,9,  -999.00,9,  -999.00,9,  -999.00,9,  -999.00,9,   -999.0,9,-999.0000,9,    27.72,    22.81
     49MR00K08, EQPAC,     9,  3,      4,      4,1,20010120, 442,  0.0233, 174.8652, 4771,       80,2,       80,2,   27.734,2,   35.445,2, -999.000,9,   158.10,2,  -999.00,9,      0.6,1,  -999.00,9,  -999.00,9,  -999.00,9,  -999.00,9,  -999.00,9,  -999.00,9,  -999.00,9,  -999.00,9,   -999.0,9,-999.0000,9,    27.71,    22.82
     49MR00K08, EQPAC,     9,  3,      5,      5,1,20010120, 442,  0.0233, 174.8652, 4771,      100,2,      101,2,   27.740,2,   35.508,2, -999.000,9,   156.43,2,  -999.00,9,      0.3,1,  -999.00,9,  -999.00,9,  -999.00,9,  -999.00,9,  -999.00,9,  -999.00,9,  -999.00,9,  -999.00,9,   -999.0,9,-999.0000,9,    27.72,    22.87
     49MR00K08, EQPAC,     9,  3,      6,      6,1,20010120, 442,  0.0233, 174.8652, 4771,      120,2,      120,2,   27.708,2,   35.510,2, -999.000,9,   153.91,2,  -999.00,9,      0.1,1,  -999.00,9,  -999.00,9,  -999.00,9,  -999.00,9,  -999.00,9,  -999.00,9,  -999.00,9,  -999.00,9,   -999.0,9,-999.0000,9,    27.68,    22.88
     49MR00K08, EQPAC,     9,  3,      7,      7,1,20010120, 442,  0.0233, 174.8652, 4771,      141,2,      141,2,   26.550,2,   35.384,2, -999.000,9,   132.70,2,  -999.00,9,      0.1,1,  -999.00,9,  -999.00,9,  -999.00,9,  -999.00,9,  -999.00,9,  -999.00,9,  -999.00,9,  -999.00,9,   -999.0,9,-999.0000,9,    26.52,    23.16
     49MR00K08, EQPAC,     9,  3,      8,      8,1,20010120, 442,  0.0233, 174.8652, 4771,      160,2,      160,2,   24.925,2,   35.364,2, -999.000,9,   115.53,2,  -999.00,9,      0.0,1,  -999.00,9,  -999.00,9,  -999.00,9,  -999.00,9,  -999.00,9,  -999.00,9,  -999.00,9,  -999.00,9,   -999.0,9,-999.0000,9,    24.89,    23.65
     49MR00K08, EQPAC,     9,  3,      9,      9,1,20010120, 442,  0.0233, 174.8652, 4771,      181,2,      182,2,   20.569,2,   35.431,2, -999.000,9,   113.13,2,  -999.00,9,      0.0,1,  -999.00,9,  -999.00,9,  -999.00,9,  -999.00,9,  -999.00,9,  -999.00,9,  -999.00,9,  -999.00,9,   -999.0,9,-999.0000,9,    20.53,    24.95
     49MR00K08, EQPAC,     9,  3,     10,     10,1,20010120, 442,  0.0233, 174.8652, 4771,      199,2,      200,2,   16.520,2,   35.151,2, -999.000,9,   119.21,2,  -999.00,9,      0.0,1,  -999.00,9,  -999.00,9,  -999.00,9,  -999.00,9,  -999.00,9,  -999.00,9,  -999.00,9,  -999.00,9,   -999.0,9,-999.0000,9,    16.49,    25.75
     49MR00K08, EQPAC,     9,  3,     11,     11,1,20010120, 442,  0.0233, 174.8652, 4771,       49,2,       49,2,   27.742,2,   35.428,2, -999.000,9,   157.30,2,  -999.00,9,      0.7,1,  -999.00,9,  -999.00,9,  -999.00,9,  -999.00,9,  -999.00,9,  -999.00,9,  -999.00,9,  -999.00,9,   -999.0,9,-999.0000,9,    27.73,    22.80
     49MR00K08, EQPAC,     9,  3,     12,     12,1,20010120, 442,  0.0233, 174.8652, 4771,      198,2,      199,2,   16.530,2,   35.151,2, -999.000,9,   118.68,2,  -999.00,9,      0.0,1,  -999.00,9,  -999.00,9,  -999.00,9,  -999.00,9,  -999.00,9,  -999.00,9,  -999.00,9,  -999.00,9,   -999.0,9,-999.0000,9,    16.50,    25.75
     49MR00K08, EQPAC,     9,  3,     13,     13,1,20010120, 442,  0.0233, 174.8652, 4771,       50,2,       50,2,   27.742,2,   35.428,2, -999.000,9,   157.77,2,  -999.00,9,      0.7,1,     0.22,2,     0.28,2,     0.15,2,  -999.00,9,  -999.00,9,  -999.00,9,  -999.00,9,  -999.00,9,   -999.0,9,-999.0000,9,    27.73,    22.81