BOTTLE,20101227MIRCJHATS
EXPOCODE,SECT,STNNBR,CASTNO,SAMPNO,BTLNBR,BTLNBR_FLAG_W,DATE,TIME,LATITUDE,LONGITUDE,DEPTH,CTDDPT,CTDDPT_FLAG_W,CTDPRS,CTDPRS_FLAG_W,CTDTMP,CTDTMP_FLAG_W,CTDSAL,CTDSAL_FLAG_W,SALNTY,SALNTY_FLAG_W,CTDOXY,CTDOXY_FLAG_W,OXYGEN,OXYGEN_FLAG_W,FLUOR,FLUOR_FLAG_W,CHLORA,CHLORA_FLAG_W,CHLWELSH,CHLWELSH_W,PPHYTN,PPHYTN_FLAG_W,SILCAT,SILCAT_FLAG_W,NITRAT,NITRAT_FLAG_W,NITRIT,NITRIT_FLAG_W,PHSPHT,PHSPHT_FLAG_W,NH4,NH4_FLAG_W,TCARBN,TCARBN_FLAG_W,PH,PH_FLAG_W,THETA,SIG0
,,,,,,,,UTC,DEG,DEG,M,M,,DBAR,,ITS-90,,PSS-78,,PSS-78,,UMOL/KG,,UMOL/KG,,UG/L,,MG/CUM,,MG/CUM,,MG/CUM,,UMOL/KG,,UMOL/KG,,UMOL/KG,,UMOL/KG,,UMOL/KG,,UMOL/KG,,-,,DEG C,KG/CUM
     49MR00K08, EQPAC,    14,  3,      0,      0,1,20010113, 418, -0.0293,-160.1113, 5126,     -999,9,     -999,9,   25.500,2, -999.000,9, -999.000,9,  -999.00,9,  -999.00,9,   -999.0,9,     0.29,2,     0.34,2,     0.14,2,  -999.00,9,  -999.00,9,  -999.00,9,  -999.00,9,  -999.00,9,   -999.0,9,-999.0000,9,  -999.00,  -999.00
     49MR00K08, EQPAC,    14,  3,      1,      1,1,20010113, 418, -0.0293,-160.1113, 5126,       19,2,       19,2,   25.511,2,   35.140,2, -999.000,9,   165.32,2,  -999.00,9,      0.7,1,  -999.00,9,  -999.00,9,  -999.00,9,  -999.00,9,  -999.00,9,  -999.00,9,  -999.00,9,  -999.00,9,   -999.0,9,-999.0000,9,    25.51,    23.29
     49MR00K08, EQPAC,    14,  3,      2,      2,1,20010113, 418, -0.0293,-160.1113, 5126,       40,2,       40,2,   25.389,2,   35.144,2, -999.000,9,   163.56,2,  -999.00,9,      0.9,1,  -999.00,9,  -999.00,9,  -999.00,9,  -999.00,9,  -999.00,9,  -999.00,9,  -999.00,9,  -999.00,9,   -999.0,9,-999.0000,9,    25.38,    23.33
     49MR00K08, EQPAC,    14,  3,      3,      3,1,20010113, 418, -0.0293,-160.1113, 5126,       59,2,       60,2,   25.360,2,   35.172,2, -999.000,9,   161.82,2,  -999.00,9,      0.7,1,  -999.00,9,  -999.00,9,  -999.00,9,  -999.00,9,  -999.00,9,  -999.00,9,  -999.00,9,  -999.00,9,   -999.0,9,-999.0000,9,    25.35,    23.37
     49MR00K08, EQPAC,    14,  3,      4,      4,1,20010113, 418, -0.0293,-160.1113, 5126,       79,2,       79,2,   25.369,2,   35.210,2, -999.000,9,   161.13,2,  -999.00,9,      0.5,1,  -999.00,9,  -999.00,9,  -999.00,9,  -999.00,9,  -999.00,9,  -999.00,9,  -999.00,9,  -999.00,9,   -999.0,9,-999.0000,9,    25.35,    23.39
     49MR00K08, EQPAC,    14,  3,      5,      5,1,20010113, 418, -0.0293,-160.1113, 5126,      100,2,      100,2,   25.384,2,   35.261,2, -999.000,9,   159.22,2,  -999.00,9,      0.3,1,  -999.00,9,  -999.00,9,  -999.00,9,  -999.00,9,  -999.00,9,  -999.00,9,  -999.00,9,  -999.00,9,   -999.0,9,-999.0000,9,    25.36,    23.43
     49MR00K08, EQPAC,    14,  3,      6,      6,1,20010113, 418, -0.0293,-160.1113, 5126,      118,2,      118,2,   25.256,2,   35.307,2, -999.000,9,   152.14,2,  -999.00,9,      0.3,1,  -999.00,9,  -999.00,9,  -999.00,9,  -999.00,9,  -999.00,9,  -999.00,9,  -999.00,9,  -999.00,9,   -999.0,9,-999.0000,9,    25.23,    23.50
     49MR00K08, EQPAC,    14,  3,      7,      7,1,20010113, 418, -0.0293,-160.1113, 5126,      140,2,      141,2,   24.053,2,   35.364,2, -999.000,9,   132.17,2,  -999.00,9,      0.1,1,  -999.00,9,  -999.00,9,  -999.00,9,  -999.00,9,  -999.00,9,  -999.00,9,  -999.00,9,  -999.00,9,   -999.0,9,-999.0000,9,    24.02,    23.91
     49MR00K08, EQPAC,    14,  3,      8,      8,1,20010113, 418, -0.0293,-160.1113, 5126,      159,2,      159,2,   18.971,2,   35.281,2, -999.000,9,   115.97,2,  -999.00,9,      0.0,1,  -999.00,9,  -999.00,9,  -999.00,9,  -999.00,9,  -999.00,9,  -999.00,9,  -999.00,9,  -999.00,9,   -999.0,9,-999.0000,9,    18.94,    25.25
     49MR00K08, EQPAC,    14,  3,      9,      9,1,20010113, 418, -0.0293,-160.1113, 5126,      178,2,      179,2,   16.939,2,   35.254,2, -999.000,9,   113.26,2,  -999.00,9,      0.0,1,  -999.00,9,  -999.00,9,  -999.00,9,  -999.00,9,  -999.00,9,  -999.00,9,  -999.00,9,  -999.00,9,   -999.0,9,-999.0000,9,    16.91,    25.73
     49MR00K08, EQPAC,    14,  3,     10,     10,1,20010113, 418, -0.0293,-160.1113, 5126,      204,2,      205,2,   14.976,2,   35.126,2, -999.000,9,   117.45,2,  -999.00,9,      0.0,1,  -999.00,9,  -999.00,9,  -999.00,9,  -999.00,9,  -999.00,9,  -999.00,9,  -999.00,9,  -999.00,9,   -999.0,9,-999.0000,9,    14.94,    26.08
     49MR00K08, EQPAC,    14,  3,     11,     11,1,20010113, 418, -0.0293,-160.1113, 5126,       52,2,       52,2,   25.367,2,   35.160,2, -999.000,9,   162.64,2,  -999.00,9,      0.8,1,     0.30,2,     0.40,2,     0.25,2,  -999.00,9,  -999.00,9,  -999.00,9,  -999.00,9,  -999.00,9,   -999.0,9,-999.0000,9,    25.36,    23.35
     49MR00K08, EQPAC,    14,  3,     12,     12,1,20010113, 418, -0.0293,-160.1113, 5126,       40,2,       40,2,   25.391,2,   35.143,2, -999.000,9,   164.24,2,  -999.00,9,      1.0,1,  -999.00,9,  -999.00,9,  -999.00,9,  -999.00,9,  -999.00,9,  -999.00,9,  -999.00,9,  -999.00,9,   -999.0,9,-999.0000,9,    25.38,    23.33
     49MR00K08, EQPAC,    14,  3,     13,     13,1,20010113, 418, -0.0293,-160.1113, 5126,       79,2,       80,2,   25.369,2,   35.208,2, -999.000,9,   161.45,2,  -999.00,9,      0.5,1,  -999.00,9,  -999.00,9,  -999.00,9,  -999.00,9,  -999.00,9,  -999.00,9,  -999.00,9,  -999.00,9,   -999.0,9,-999.0000,9,    25.35,    23.39
     49MR00K08, EQPAC,    14,  3,     14,     14,1,20010113, 418, -0.0293,-160.1113, 5126,      141,2,      142,2,   23.972,2,   35.370,2, -999.000,9,   133.27,2,  -999.00,9,      0.1,1,  -999.00,9,  -999.00,9,  -999.00,9,  -999.00,9,  -999.00,9,  -999.00,9,  -999.00,9,  -999.00,9,   -999.0,9,-999.0000,9,    23.94,    23.94
     49MR00K08, EQPAC,    14,  3,     15,     15,1,20010113, 418, -0.0293,-160.1113, 5126,      205,2,      206,2,   14.792,2,   35.108,2, -999.000,9,   117.52,2,  -999.00,9,      0.0,1,  -999.00,9,  -999.00,9,  -999.00,9,  -999.00,9,  -999.00,9,  -999.00,9,  -999.00,9,  -999.00,9,   -999.0,9,-999.0000,9,    14.76,    26.11
     49MR00K08, EQPAC,    14,  4,     24,     24,1,20010113, 755, -0.0338,-160.1160, 5115,      199,2,      201,2,   14.007,2,   35.044,2,   35.049,2,   114.52,2,   132.80,2,      0.0,1,  -999.00,9,  -999.00,9,  -999.00,9,    12.77,2,    17.03,2,     0.01,2,     1.35,2,     0.00,3,   2147.0,2,   7.7790,5,    13.98,    26.23
     49MR00K08, EQPAC,    14,  4,     23,     23,1,20010113, 755, -0.0338,-160.1160, 5115,      299,2,      301,2,   11.160,2,   34.802,2,   34.794,2,    56.54,2,    67.62,2,      0.0,1,  -999.00,9,  -999.00,9,  -999.00,9,    24.21,2,    28.03,2,     0.01,2,     2.09,2,     0.00,3,   2217.1,2,   7.5826,5,    11.12,    26.60
     49MR00K08, EQPAC,    14,  4,     22,     22,1,20010113, 755, -0.0338,-160.1160, 5115,      399,2,      402,2,    9.295,2,   34.692,2,   34.688,2,    52.43,2,    61.79,2,      0.0,1,  -999.00,9,  -999.00,9,  -999.00,9,    30.08,2,    32.06,2,     0.01,2,     2.36,2,     0.00,3,   2237.7,2,   7.5284,5,     9.25,    26.84
     49MR00K08, EQPAC,    14,  4,     21,     21,1,20010113, 755, -0.0338,-160.1160, 5115,      499,2,      503,2,    7.811,2,   34.611,2,   34.609,2,    43.37,2,    54.30,2,      0.0,1,  -999.00,9,  -999.00,9,  -999.00,9,    40.43,2,    35.77,2,     0.00,2,     2.66,2,     0.00,3,   2259.3,2,   7.4842,5,     7.76,    27.00
     49MR00K08, EQPAC,    14,  4,     20,     20,1,20010113, 755, -0.0338,-160.1160, 5115,      599,2,      603,2,    6.902,2,   34.574,2,   34.573,2,    52.81,2,    63.21,2,      0.0,1,  -999.00,9,  -999.00,9,  -999.00,9,    47.19,2,    36.63,2,     0.00,2,     2.75,2,     0.00,3,   2267.2,2,   7.4820,5,     6.84,    27.10
     49MR00K08, EQPAC,    14,  4,     19,     19,1,20010113, 755, -0.0338,-160.1160, 5115,      700,2,      705,2,    5.990,2,   34.552,2,   34.736,3,    61.93,2,    80.96,3,      0.0,1,  -999.00,9,  -999.00,9,  -999.00,9,    38.61,3,    30.03,3,     0.06,3,     2.29,3,     0.00,3,   -999.0,9,-999.0000,9,     5.93,    27.21
     49MR00K08, EQPAC,    14,  4,     18,     18,1,20010113, 755, -0.0338,-160.1160, 5115,      799,2,      805,2,    5.436,2,   34.547,2,   34.548,2,    67.97,2,    78.58,2,      0.0,1,  -999.00,9,  -999.00,9,  -999.00,9,    63.29,2,    37.32,2,     0.00,2,     2.83,2,     0.00,3,   2282.5,2,   7.4902,5,     5.37,    27.27
     49MR00K08, EQPAC,    14,  4,     17,     17,1,20010113, 755, -0.0338,-160.1160, 5115,      899,2,      906,2,    4.999,2,   34.546,2,   34.546,2,    76.57,2,    89.60,2,      0.0,1,  -999.00,9,  -999.00,9,  -999.00,9,    70.57,2,    36.86,2,     0.01,2,     2.81,2,     0.00,3,   2286.0,2,   7.5054,5,     4.92,    27.32
     49MR00K08, EQPAC,    14,  4,     16,     16,1,20010113, 755, -0.0338,-160.1160, 5115,     1000,2,     1008,2,    4.599,2,   34.554,2,   34.554,2,    72.33,2,    85.34,2,      0.0,1,  -999.00,9,  -999.00,9,  -999.00,9,    79.73,2,    37.62,2,     0.01,2,     2.87,2,     0.00,3,   2298.0,3,   7.5000,5,     4.52,    27.38
     49MR00K08, EQPAC,    14,  4,     15,     15,1,20010113, 755, -0.0338,-160.1160, 5115,     1250,2,     1260,2,    3.572,2,   34.584,2,   34.583,2,    78.43,2,    92.72,2,      0.0,1,  -999.00,9,  -999.00,9,  -999.00,9,   102.22,2,    37.83,2,     0.01,2,     2.90,2,     0.05,3,   2319.1,2,   7.5032,5,     3.48,    27.51
     49MR00K08, EQPAC,    14,  4,     14,     14,1,20010113, 755, -0.0338,-160.1160, 5115,     1500,2,     1514,2,    3.036,2,   34.605,2,   34.604,2,    81.01,2,    94.78,2,      0.0,1,  -999.00,9,  -999.00,9,  -999.00,9,   115.64,2,    38.03,2,     0.01,2,     2.93,2,     0.02,3,   2331.5,3,   7.5039,5,     2.93,    27.58
     49MR00K08, EQPAC,    14,  4,     13,     13,1,20010113, 755, -0.0338,-160.1160, 5115,     1750,2,     1767,2,    2.578,2,   34.627,2,   34.626,2,    86.43,2,   101.02,2,      0.0,1,  -999.00,9,  -999.00,9,  -999.00,9,   127.33,2,    37.70,2,     0.01,2,     2.89,2,     0.00,3,   2337.0,3,   7.5177,5,     2.45,    27.64
     49MR00K08, EQPAC,    14,  4,     12,     12,1,20010113, 755, -0.0338,-160.1160, 5115,     1999,2,     2020,2,    2.244,2,   34.644,2,   34.643,2,    94.36,2,   109.36,2,      0.0,1,  -999.00,9,  -999.00,9,  -999.00,9,   135.22,2,    37.24,2,     0.01,2,     2.85,2,     0.02,3,   2348.3,2,   7.5306,5,     2.10,    27.68
     49MR00K08, EQPAC,    14,  4,     11,     11,1,20010113, 755, -0.0338,-160.1160, 5115,     2250,2,     2274,2,    2.012,2,   34.657,2,   34.654,2,   101.66,2,   117.39,2,      0.0,1,  -999.00,9,  -999.00,9,  -999.00,9,   139.54,2,    36.68,2,     0.01,2,     2.80,2,     0.11,3,   2344.9,2,   7.5428,5,     1.85,    27.71
     49MR00K08, EQPAC,    14,  4,     10,     10,1,20010113, 755, -0.0338,-160.1160, 5115,     2500,2,     2529,2,    1.854,2,   34.665,2,   34.697,3,   108.12,2,   114.07,3,      0.0,1,  -999.00,9,  -999.00,9,  -999.00,9,   127.14,3,    35.43,3,     0.02,3,     2.68,3,     0.00,3,   -999.0,9,-999.0000,9,     1.67,    27.73
     49MR00K08, EQPAC,    14,  4,      9,      9,1,20010113, 755, -0.0338,-160.1160, 5115,     2750,2,     2783,2,    1.788,2,   34.671,2,   34.669,2,   111.27,2,   127.53,2,      0.0,1,  -999.00,9,  -999.00,9,  -999.00,9,   144.19,2,    36.12,2,     0.00,2,     2.72,2,     0.06,3,   2345.1,3,   7.5584,5,     1.59,    27.74
     49MR00K08, EQPAC,    14,  4,      8,      8,1,20010113, 755, -0.0338,-160.1160, 5115,     2999,2,     3037,2,    1.682,2,   34.676,2,   34.735,3,   119.75,2,   120.06,3,      0.0,1,  -999.00,9,  -999.00,9,  -999.00,9,   116.62,3,    34.86,3,     0.01,3,     2.64,3,     0.03,3,   -999.0,9,-999.0000,9,     1.46,    27.75
     49MR00K08, EQPAC,    14,  4,      7,      7,1,20010113, 755, -0.0338,-160.1160, 5115,     3249,2,     3292,2,    1.616,2,   34.680,2,   34.677,2,   125.64,2,   142.81,2,      0.0,1,  -999.00,9,  -999.00,9,  -999.00,9,   139.39,2,    35.16,2,     0.00,2,     2.65,2,     0.00,3,   -999.9,4,   7.5780,5,     1.37,    27.76
     49MR00K08, EQPAC,    14,  4,      6,      6,1,20010113, 755, -0.0338,-160.1160, 5115,     3500,2,     3549,2,    1.506,2,   34.688,2,   34.684,2,   136.46,2,   153.70,2,      0.0,1,  -999.00,9,  -999.00,9,  -999.00,9,   136.72,2,    34.41,2,     0.00,2,     2.59,2,     0.05,3,   2325.0,2,   7.5933,5,     1.23,    27.78
     49MR00K08, EQPAC,    14,  4,      5,      5,1,20010113, 755, -0.0338,-160.1160, 5115,     3750,2,     3804,2,    1.447,2,   34.693,2,   34.690,2,   143.50,2,   160.64,2,      0.0,1,  -999.00,9,  -999.00,9,  -999.00,9,   135.04,2,    33.91,2,     0.01,2,     2.54,2,     0.06,3,   2319.1,2,   7.6019,5,     1.15,    27.79
     49MR00K08, EQPAC,    14,  4,      4,      4,1,20010113, 755, -0.0338,-160.1160, 5115,     3999,2,     4060,2,    1.386,2,   34.698,2,   34.694,2,   151.19,2,   167.84,2,      0.0,1,  -999.00,9,  -999.00,9,  -999.00,9,   133.17,2,    33.44,2,     0.01,2,     2.50,2,     0.02,3,   2304.6,3,   7.6092,5,     1.06,    27.80
     49MR00K08, EQPAC,    14,  4,      3,      3,1,20010113, 755, -0.0338,-160.1160, 5115,     4251,2,     4318,2,    1.311,2,   34.703,2,   34.699,2,   162.27,2,   177.84,2,      0.0,1,  -999.00,9,  -999.00,9,  -999.00,9,   128.65,2,    32.76,2,     0.01,2,     2.45,2,     0.04,3,   2301.2,2,   7.6170,5,     0.96,    27.81
     49MR00K08, EQPAC,    14,  4,      2,      2,1,20010113, 755, -0.0338,-160.1160, 5115,     4500,2,     4573,2,    1.263,2,   34.707,2,   34.697,3,   170.46,2,   174.73,3,      0.0,1,  -999.00,9,  -999.00,9,  -999.00,9,   122.16,3,    32.69,3,     0.01,3,     2.45,3,     0.04,3,   -999.0,9,-999.0000,9,     0.89,    27.82
     49MR00K08, EQPAC,    14,  4,      1,      1,1,20010113, 755, -0.0338,-160.1160, 5115,     5073,2,     5163,2,    1.232,2,   34.711,2,   34.707,2,   183.48,2,   195.32,2,      0.0,1,  -999.00,9,  -999.00,9,  -999.00,9,   121.13,2,    31.62,2,     0.01,2,     2.38,2,     0.06,3,   2279.9,2,   7.6270,5,     0.79,    27.83