BOTTLE,20101227MIRCJHATS
EXPOCODE,SECT,STNNBR,CASTNO,SAMPNO,BTLNBR,BTLNBR_FLAG_W,DATE,TIME,LATITUDE,LONGITUDE,DEPTH,CTDDPT,CTDDPT_FLAG_W,CTDPRS,CTDPRS_FLAG_W,CTDTMP,CTDTMP_FLAG_W,CTDSAL,CTDSAL_FLAG_W,SALNTY,SALNTY_FLAG_W,CTDOXY,CTDOXY_FLAG_W,OXYGEN,OXYGEN_FLAG_W,FLUOR,FLUOR_FLAG_W,CHLORA,CHLORA_FLAG_W,CHLWELSH,CHLWELSH_W,PPHYTN,PPHYTN_FLAG_W,SILCAT,SILCAT_FLAG_W,NITRAT,NITRAT_FLAG_W,NITRIT,NITRIT_FLAG_W,PHSPHT,PHSPHT_FLAG_W,NH4,NH4_FLAG_W,TCARBN,TCARBN_FLAG_W,PH,PH_FLAG_W,THETA,SIG0
,,,,,,,,UTC,DEG,DEG,M,M,,DBAR,,ITS-90,,PSS-78,,PSS-78,,UMOL/KG,,UMOL/KG,,UG/L,,MG/CUM,,MG/CUM,,MG/CUM,,UMOL/KG,,UMOL/KG,,UMOL/KG,,UMOL/KG,,UMOL/KG,,UMOL/KG,,-,,DEG C,KG/CUM
     49MR00K08, EQPAC,    12,  4,     24,     24,1,20010116,2045, -0.0092,-170.1493, 5620,      200,2,      201,2,   14.763,2,   35.041,2,   35.012,2,   116.05,2,   135.33,2,      0.0,1,  -999.00,9,  -999.00,9,  -999.00,9,    13.07,2,    16.09,2,     0.01,2,     1.19,2,     0.01,3,   2139.0,2,   7.7945,5,    14.73,    26.06
     49MR00K08, EQPAC,    12,  4,     23,     23,1,20010116,2045, -0.0092,-170.1493, 5620,      300,2,      302,2,   11.872,2,   34.854,2,   34.837,2,    77.83,2,    86.36,2,      0.0,1,  -999.00,9,  -999.00,9,  -999.00,9,    21.15,2,    25.29,2,     0.00,2,     1.81,2,     0.01,3,   2199.7,2,   7.6380,5,    11.83,    26.51
     49MR00K08, EQPAC,    12,  4,     22,     22,1,20010116,2045, -0.0092,-170.1493, 5620,      400,2,      402,2,    9.135,2,   34.681,2,   34.680,2,    43.38,2,    53.09,2,      0.0,1,  -999.00,9,  -999.00,9,  -999.00,9,    31.17,2,    32.94,2,     0.00,2,     2.35,2,     0.03,3,   2246.1,2,   7.5113,5,     9.09,    26.85
     49MR00K08, EQPAC,    12,  4,     21,     21,1,20010116,2045, -0.0092,-170.1493, 5620,      500,2,      503,2,    7.647,2,   34.603,2,   34.601,2,    44.31,2,    54.67,2,      0.0,1,  -999.00,9,  -999.00,9,  -999.00,9,    40.89,2,    35.99,2,     0.00,2,     2.58,2,     0.00,3,   2265.9,2,   7.4817,5,     7.60,    27.02
     49MR00K08, EQPAC,    12,  4,     20,     20,1,20010116,2045, -0.0092,-170.1493, 5620,      600,2,      604,2,    6.779,2,   34.568,2,   34.568,2,    59.81,2,    70.86,2,      0.0,1,  -999.00,9,  -999.00,9,  -999.00,9,    46.04,2,    36.06,2,     0.00,2,     2.62,2,     0.00,3,   2266.7,2,   7.4947,5,     6.72,    27.12
     49MR00K08, EQPAC,    12,  4,     19,     19,1,20010116,2045, -0.0092,-170.1493, 5620,      699,2,      704,2,    5.807,2,   34.549,2,   34.549,2,    65.21,2,    77.34,2,      0.0,1,  -999.00,9,  -999.00,9,  -999.00,9,    56.65,2,    36.80,2,     0.00,2,     2.70,2,     0.00,3,   2278.1,2,   7.4949,5,     5.75,    27.23
     49MR00K08, EQPAC,    12,  4,     18,     18,1,20010116,2045, -0.0092,-170.1493, 5620,      800,2,      806,2,    5.256,2,   34.547,2,   34.549,2,    70.62,2,    87.53,2,      0.0,1,  -999.00,9,  -999.00,9,  -999.00,9,    69.80,2,    36.89,2,     0.00,2,     2.71,2,     0.00,3,   2290.0,2,   7.4993,5,     5.19,    27.29
     49MR00K08, EQPAC,    12,  4,     17,     17,1,20010116,2045, -0.0092,-170.1493, 5620,      900,2,      907,2,    4.687,2,   34.551,2,   34.551,2,    77.58,2,    91.23,2,      0.0,1,  -999.00,9,  -999.00,9,  -999.00,9,    73.25,2,    36.70,2,     0.00,2,     2.70,2,     0.00,3,   2292.9,2,   7.5053,5,     4.61,    27.36
     49MR00K08, EQPAC,    12,  4,     16,     16,1,20010116,2045, -0.0092,-170.1493, 5620,     1000,2,     1008,2,    4.430,2,   34.558,2,   34.559,2,    76.02,2,    89.68,2,      0.0,1,  -999.00,9,  -999.00,9,  -999.00,9,    77.99,2,    37.13,2,     0.00,2,     2.75,2,     0.01,3,   2300.9,2,   7.5028,5,     4.35,    27.40
     49MR00K08, EQPAC,    12,  4,     15,     15,1,20010116,2045, -0.0092,-170.1493, 5620,     1250,2,     1260,2,    3.574,2,   34.582,2,   34.582,2,    81.87,2,    95.96,2,      0.0,1,  -999.00,9,  -999.00,9,  -999.00,9,    95.01,2,    37.26,2,     0.00,2,     2.77,2,     0.02,3,   2317.7,2,   7.5093,5,     3.48,    27.51
     49MR00K08, EQPAC,    12,  4,     14,     14,1,20010116,2045, -0.0092,-170.1493, 5620,     1500,2,     1514,2,    2.989,2,   34.607,2,   34.605,2,    82.77,2,    97.30,2,      0.0,1,  -999.00,9,  -999.00,9,  -999.00,9,   109.32,2,    37.48,2,     0.01,2,     2.79,2,     0.00,3,   2333.6,2,   7.5062,5,     2.88,    27.58
     49MR00K08, EQPAC,    12,  4,     13,     13,1,20010116,2045, -0.0092,-170.1493, 5620,     1750,2,     1767,2,    2.592,2,   34.625,2,   34.625,2,    89.24,2,   103.83,2,      0.0,1,  -999.00,9,  -999.00,9,  -999.00,9,   118.44,2,    36.96,2,     0.00,2,     2.74,2,     0.00,3,   2336.4,2,   7.5251,5,     2.47,    27.63
     49MR00K08, EQPAC,    12,  4,     12,     12,1,20010116,2045, -0.0092,-170.1493, 5620,     2000,2,     2021,2,    2.268,2,   34.642,2,   34.640,2,    95.79,2,   111.91,2,      0.0,1,  -999.00,9,  -999.00,9,  -999.00,9,   127.77,2,    36.74,2,     0.01,2,     2.71,2,     0.01,3,   2342.2,2,   7.5331,5,     2.13,    27.67
     49MR00K08, EQPAC,    12,  4,     11,     11,1,20010116,2045, -0.0092,-170.1493, 5620,     2250,2,     2275,2,    2.025,2,   34.655,2,   34.654,2,   102.43,2,   118.71,2,      0.0,1,  -999.00,9,  -999.00,9,  -999.00,9,   133.49,2,    36.33,2,     0.00,2,     2.68,2,     0.00,3,   2342.8,2,   7.5426,5,     1.86,    27.71
     49MR00K08, EQPAC,    12,  4,     10,     10,1,20010116,2045, -0.0092,-170.1493, 5620,     2501,2,     2530,2,    1.923,2,   34.661,2,   34.662,2,   105.95,2,   122.08,2,      0.0,1,  -999.00,9,  -999.00,9,  -999.00,9,   135.65,2,    36.07,2,     0.00,2,     2.65,2,     0.00,3,   2343.8,2,   7.5473,5,     1.74,    27.72
     49MR00K08, EQPAC,    12,  4,      9,      9,1,20010116,2045, -0.0092,-170.1493, 5620,     2750,2,     2784,2,    1.781,2,   34.670,2, -999.000,9,   112.16,2,  -999.00,9,      0.0,1,  -999.00,9,  -999.00,9,  -999.00,9,  -999.00,9,  -999.00,9,  -999.00,9,  -999.00,9,  -999.00,9,   -999.0,9,-999.0000,9,     1.58,    27.74
     49MR00K08, EQPAC,    12,  4,      8,      8,1,20010116,2045, -0.0092,-170.1493, 5620,     3001,2,     3039,2,    1.673,2,   34.675,2,   34.672,2,   119.63,2,   137.16,2,      0.0,1,  -999.00,9,  -999.00,9,  -999.00,9,   138.77,2,    35.18,2,     0.00,2,     2.57,2,     0.03,3,   2337.4,2,   7.5704,5,     1.45,    27.75
     49MR00K08, EQPAC,    12,  4,      7,      7,1,20010116,2045, -0.0092,-170.1493, 5620,     3250,2,     3293,2,    1.591,2,   34.681,2,   34.677,2,   126.17,2,   144.37,2,      0.0,1,  -999.00,9,  -999.00,9,  -999.00,9,   139.06,2,    34.76,2,     0.00,2,     2.53,2,     0.00,3,   2332.5,2,   7.5780,5,     1.34,    27.77
     49MR00K08, EQPAC,    12,  4,      6,      6,1,20010116,2045, -0.0092,-170.1493, 5620,     3500,2,     3549,2,    1.537,2,   34.685,2,   34.683,2,   132.65,2,   150.36,2,      0.0,1,  -999.00,9,  -999.00,9,  -999.00,9,   138.38,2,    34.30,2,     0.00,2,     2.49,2,     0.02,3,   2328.6,2,   7.5849,5,     1.27,    27.77
     49MR00K08, EQPAC,    12,  4,      5,      5,1,20010116,2045, -0.0092,-170.1493, 5620,     3750,2,     3804,2,    1.489,2,   34.690,2,   34.687,2,   138.83,2,   157.04,2,      0.0,1,  -999.00,9,  -999.00,9,  -999.00,9,   137.77,2,    33.93,2,     0.00,2,     2.45,2,     0.04,3,   2323.5,2,   7.5966,5,     1.19,    27.78
     49MR00K08, EQPAC,    12,  4,      4,      4,1,20010116,2045, -0.0092,-170.1493, 5620,     4000,2,     4060,2,    1.410,2,   34.697,2,   34.693,2,   148.08,2,   166.16,2,      0.0,1,  -999.00,9,  -999.00,9,  -999.00,9,   135.90,2,    33.44,2,     0.00,2,     2.41,2,     0.00,3,   2318.3,2,   7.6060,5,     1.09,    27.80
     49MR00K08, EQPAC,    12,  4,      3,      3,1,20010116,2045, -0.0092,-170.1493, 5620,     4499,2,     4573,2,    1.260,2,   34.707,2,   34.703,2,   169.12,2,   186.45,2,      0.0,1,  -999.00,9,  -999.00,9,  -999.00,9,   125.67,2,    31.89,2,     0.00,2,     2.30,2,     0.00,3,   2292.5,2,   7.6195,5,     0.88,    27.82
     49MR00K08, EQPAC,    12,  4,      2,      2,1,20010116,2045, -0.0092,-170.1493, 5620,     5000,2,     5087,2,    1.262,2,   34.710,2,   34.706,2,   177.16,2,   192.49,2,      0.0,1,  -999.00,9,  -999.00,9,  -999.00,9,   123.43,2,    31.36,2,     0.00,2,     2.26,2,     0.03,3,   2285.4,2,   7.6216,5,     0.83,    27.82
     49MR00K08, EQPAC,    12,  4,      1,      1,1,20010116,2045, -0.0092,-170.1493, 5620,     5599,2,     5705,2,    1.336,2,   34.710,2,   34.705,2,   182.33,2,   193.50,2,      0.0,1,  -999.00,9,  -999.00,9,  -999.00,9,   122.31,2,    31.31,2,     0.00,2,     2.26,2,     0.04,3,   2282.1,2,   7.6218,5,     0.82,    27.82
     49MR00K08, EQPAC,    11,  1,      0,      0,1,20010117,2302,  0.0017,-176.7678, 5358,     -999,9,     -999,9,   27.100,2, -999.000,9,   35.387,2,  -999.00,9,   196.58,2,   -999.0,9,     0.28,2,     0.33,2,     0.12,2,     2.26,2,     4.17,2,     0.75,2,     0.51,2,     0.01,3,   2028.2,2,   8.0342,5,  -999.00,  -999.00
     49MR00K08, EQPAC,    11,  1,      1,      1,1,20010117,2310,  0.0017,-176.7685, 5358,       11,2,       11,2,   26.927,2,   35.372,2,   35.374,2,   158.71,2,   196.45,2,      0.2,1,     0.26,2,     0.30,2,     0.11,2,     2.21,2,     4.17,2,     0.76,2,     0.48,2,     0.05,3,   2028.9,2,   8.0344,5,    26.92,    23.02
     49MR00K08, EQPAC,    11,  1,      2,      2,1,20010117,2310,  0.0017,-176.7685, 5358,       19,2,       20,2,   26.879,2,   35.371,2,   35.373,2,   157.89,2,   196.66,2,      0.4,1,     0.25,2,     0.30,2,     0.12,2,     2.28,2,     4.16,2,     0.77,2,     0.48,2,     0.02,3,   2027.8,2,   8.0352,5,    26.87,    23.04
     49MR00K08, EQPAC,    11,  1,      3,      3,1,20010117,2310,  0.0017,-176.7685, 5358,       30,2,       30,2,   26.871,2,   35.371,2,   35.373,2,   157.86,2,   196.89,2,      0.6,1,     0.30,2,     0.36,2,     0.16,2,     2.29,2,     4.18,2,     0.77,2,     0.48,2,     0.08,3,   2028.3,2,   8.0344,5,    26.86,    23.04
     49MR00K08, EQPAC,    11,  1,      4,      4,1,20010117,2310,  0.0017,-176.7685, 5358,       40,2,       40,2,   26.866,2,   35.372,2,   35.376,2,   158.02,2,   196.08,2,      0.7,1,     0.30,2,     0.35,2,     0.15,2,     2.26,2,     4.18,2,     0.78,2,     0.48,2,     0.08,3,   2027.0,2,   8.0331,5,    26.86,    23.04
     49MR00K08, EQPAC,    11,  1,      5,      5,1,20010117,2310,  0.0017,-176.7685, 5358,       50,2,       51,2,   26.862,2,   35.373,2,   35.376,2,   157.73,2,   195.48,2,      0.7,1,     0.30,2,     0.38,2,     0.17,2,     2.17,2,     4.20,2,     0.81,2,     0.48,2,     0.01,3,   2027.9,2,   8.0318,5,    26.85,    23.05
     49MR00K08, EQPAC,    11,  1,      6,      6,1,20010117,2310,  0.0017,-176.7685, 5358,       58,2,       59,2,   26.860,2,   35.374,2,   35.377,2,   158.34,2,   195.06,2,      0.7,1,     0.30,2,     0.36,2,     0.17,2,     2.01,2,     4.21,2,     0.83,2,     0.47,2,     0.05,3,   2030.0,2,   8.0314,5,    26.85,    23.05
     49MR00K08, EQPAC,    11,  1,      7,      7,1,20010117,2310,  0.0017,-176.7685, 5358,       70,2,       70,2,   26.845,2,   35.378,2,   35.380,2,   158.06,2,   193.87,2,      0.7,1,     0.35,2,     0.43,2,     0.21,2,     2.03,2,     4.23,2,     0.90,2,     0.48,2,     0.05,3,   2030.2,2,   8.0301,5,    26.83,    23.06
     49MR00K08, EQPAC,    11,  1,      8,      8,1,20010117,2310,  0.0017,-176.7685, 5358,       79,2,       80,2,   26.837,2,   35.381,2,   35.383,2,   157.07,2,   193.07,2,      0.6,1,     0.33,2,     0.41,2,     0.21,2,     1.96,2,     4.27,2,     0.96,2,     0.48,2,     0.05,3,   2030.7,2,   8.0289,5,    26.82,    23.06
     49MR00K08, EQPAC,    11,  1,      9,      9,1,20010117,2310,  0.0017,-176.7685, 5358,       89,2,       90,2,   26.813,2,   35.389,2,   35.391,2,   157.89,2,   192.04,2,      0.5,1,     0.24,2,     0.30,2,     0.17,2,     1.98,2,     4.34,2,     1.05,2,     0.49,2,     0.08,3,   2031.6,2,   8.0262,5,    26.79,    23.08
     49MR00K08, EQPAC,    11,  1,     10,     10,1,20010117,2310,  0.0017,-176.7685, 5358,      100,2,      101,2,   26.756,2,   35.407,2,   35.409,2,   155.87,2,   189.71,2,      0.4,1,     0.21,2,     0.26,2,     0.15,2,     1.98,2,     4.48,2,     1.20,2,     0.52,2,     0.02,3,   2035.0,3,   8.0227,5,    26.73,    23.11
     49MR00K08, EQPAC,    11,  1,     11,     11,1,20010117,2310,  0.0017,-176.7685, 5358,      120,2,      121,2,   25.847,2,   35.474,2,   35.478,2,   139.04,2,   168.77,2,      0.1,1,     0.06,2,     0.09,2,     0.07,2,     2.32,2,     6.65,2,     0.76,2,     0.63,2,     0.02,3,   2055.1,2,   7.9924,5,    25.82,    23.45
     49MR00K08, EQPAC,    11,  1,     12,     12,1,20010117,2310,  0.0017,-176.7685, 5358,      149,2,      150,2,   22.339,2,   35.363,2,   35.385,2,   112.74,2,   134.43,2,      0.0,1,     0.02,2,     0.03,2,     0.03,2,     4.26,2,     9.83,2,     0.03,2,     0.77,2,     0.00,3,   2087.8,2,   7.9227,5,    22.31,    24.41
     49MR00K08, EQPAC,    11,  1,     13,     13,1,20010117,2310,  0.0017,-176.7685, 5358,      201,2,      202,2,   15.999,2,   35.081,2,   35.141,2,   116.92,2,   138.53,2,      0.0,1,     0.01,2,     0.01,2,     0.03,2,     9.62,2,    13.56,2,     0.01,2,     1.04,2,     0.01,3,   2120.9,2,   7.8405,5,    15.97,    25.82
     49MR00K08, EQPAC,    11,  1,     14,     14,1,20010117,2310,  0.0017,-176.7685, 5358,       20,2,       20,2,   26.880,2,   35.371,2, -999.000,9,   158.60,2,  -999.00,9,      0.4,1,  -999.00,9,  -999.00,9,  -999.00,9,  -999.00,9,  -999.00,9,  -999.00,9,  -999.00,9,  -999.00,9,   -999.0,9,-999.0000,9,    26.88,    23.04
     49MR00K08, EQPAC,    11,  1,     15,     15,1,20010117,2310,  0.0017,-176.7685, 5358,       40,2,       40,2,   26.867,2,   35.372,2, -999.000,9,   158.56,2,  -999.00,9,      0.7,1,  -999.00,9,  -999.00,9,  -999.00,9,  -999.00,9,  -999.00,9,  -999.00,9,  -999.00,9,  -999.00,9,   -999.0,9,-999.0000,9,    26.86,    23.04
     49MR00K08, EQPAC,    11,  1,     16,     16,1,20010117,2310,  0.0017,-176.7685, 5358,       59,2,       59,2,   26.859,2,   35.374,2, -999.000,9,   157.46,2,  -999.00,9,      0.8,1,  -999.00,9,  -999.00,9,  -999.00,9,  -999.00,9,  -999.00,9,  -999.00,9,  -999.00,9,  -999.00,9,   -999.0,9,-999.0000,9,    26.85,    23.05
     49MR00K08, EQPAC,    11,  1,     17,     17,1,20010117,2310,  0.0017,-176.7685, 5358,       80,2,       80,2,   26.837,2,   35.381,2, -999.000,9,   156.95,2,  -999.00,9,      0.6,1,  -999.00,9,  -999.00,9,  -999.00,9,  -999.00,9,  -999.00,9,  -999.00,9,  -999.00,9,  -999.00,9,   -999.0,9,-999.0000,9,    26.82,    23.06
     49MR00K08, EQPAC,    11,  1,     18,     18,1,20010117,2310,  0.0017,-176.7685, 5358,      100,2,      100,2,   26.758,2,   35.406,2, -999.000,9,   155.24,2,  -999.00,9,      0.4,1,  -999.00,9,  -999.00,9,  -999.00,9,  -999.00,9,  -999.00,9,  -999.00,9,  -999.00,9,  -999.00,9,   -999.0,9,-999.0000,9,    26.73,    23.11
     49MR00K08, EQPAC,    11,  1,     19,     19,1,20010117,2310,  0.0017,-176.7685, 5358,      120,2,      121,2,   25.849,2,   35.474,2, -999.000,9,   140.81,2,  -999.00,9,      0.1,1,  -999.00,9,  -999.00,9,  -999.00,9,  -999.00,9,  -999.00,9,  -999.00,9,  -999.00,9,  -999.00,9,   -999.0,9,-999.0000,9,    25.82,    23.45
     49MR00K08, EQPAC,    11,  1,     20,     20,1,20010117,2310,  0.0017,-176.7685, 5358,      140,2,      141,2,   24.129,2,   35.246,2, -999.000,9,   119.18,2,  -999.00,9,      0.0,1,  -999.00,9,  -999.00,9,  -999.00,9,  -999.00,9,  -999.00,9,  -999.00,9,  -999.00,9,  -999.00,9,   -999.0,9,-999.0000,9,    24.10,    23.80
     49MR00K08, EQPAC,    11,  1,     21,     21,1,20010117,2310,  0.0017,-176.7685, 5358,      159,2,      160,2,   20.929,2,   35.421,2, -999.000,9,   111.39,2,  -999.00,9,      0.0,1,  -999.00,9,  -999.00,9,  -999.00,9,  -999.00,9,  -999.00,9,  -999.00,9,  -999.00,9,  -999.00,9,   -999.0,9,-999.0000,9,    20.90,    24.84
     49MR00K08, EQPAC,    11,  1,     22,     22,1,20010117,2310,  0.0017,-176.7685, 5358,      181,2,      182,2,   18.932,2,   35.322,2, -999.000,9,   114.64,2,  -999.00,9,      0.0,1,  -999.00,9,  -999.00,9,  -999.00,9,  -999.00,9,  -999.00,9,  -999.00,9,  -999.00,9,  -999.00,9,   -999.0,9,-999.0000,9,    18.90,    25.29
     49MR00K08, EQPAC,    11,  1,     23,     23,1,20010117,2310,  0.0017,-176.7685, 5358,      201,2,      202,2,   16.094,2,   35.101,2, -999.000,9,   116.79,2,  -999.00,9,      0.0,1,  -999.00,9,  -999.00,9,  -999.00,9,  -999.00,9,  -999.00,9,  -999.00,9,  -999.00,9,  -999.00,9,   -999.0,9,-999.0000,9,    16.06,    25.81
     49MR00K08, EQPAC,    11,  1,     24,     24,1,20010117,2310,  0.0017,-176.7685, 5358,       50,2,       50,2,   26.862,2,   35.373,2, -999.000,9,   158.14,2,  -999.00,9,      0.7,1,     0.35,2,     0.43,2,     0.20,2,  -999.00,9,  -999.00,9,  -999.00,9,  -999.00,9,  -999.00,9,   -999.0,9,-999.0000,9,    26.85,    23.05