BOTTLE,20101227MIRCJHATS
EXPOCODE,SECT,STNNBR,CASTNO,SAMPNO,BTLNBR,BTLNBR_FLAG_W,DATE,TIME,LATITUDE,LONGITUDE,DEPTH,CTDDPT,CTDDPT_FLAG_W,CTDPRS,CTDPRS_FLAG_W,CTDTMP,CTDTMP_FLAG_W,CTDSAL,CTDSAL_FLAG_W,SALNTY,SALNTY_FLAG_W,CTDOXY,CTDOXY_FLAG_W,OXYGEN,OXYGEN_FLAG_W,FLUOR,FLUOR_FLAG_W,CHLORA,CHLORA_FLAG_W,CHLWELSH,CHLWELSH_W,PPHYTN,PPHYTN_FLAG_W,SILCAT,SILCAT_FLAG_W,NITRAT,NITRAT_FLAG_W,NITRIT,NITRIT_FLAG_W,PHSPHT,PHSPHT_FLAG_W,NH4,NH4_FLAG_W,TCARBN,TCARBN_FLAG_W,PH,PH_FLAG_W,THETA,SIG0
,,,,,,,,UTC,DEG,DEG,M,M,,DBAR,,ITS-90,,PSS-78,,PSS-78,,UMOL/KG,,UMOL/KG,,UG/L,,MG/CUM,,MG/CUM,,MG/CUM,,UMOL/KG,,UMOL/KG,,UMOL/KG,,UMOL/KG,,UMOL/KG,,UMOL/KG,,-,,DEG C,KG/CUM
     49MR00K08, EQPAC,    13,  1,      0,      0,1,20010114,2159,  0.0002,-166.3408, 5305,     -999,9,     -999,9,   26.000,2, -999.000,9,   35.292,2,  -999.00,9,   199.87,2,   -999.0,9,     0.28,2,     0.35,2,     0.17,2,     3.04,2,     5.23,2,     0.66,2,     0.52,2,     0.11,3,   2033.7,2,   8.0125,5,  -999.00,  -999.00
     49MR00K08, EQPAC,    13,  1,      1,      1,1,20010114,2208,  0.0005,-166.3410, 5305,       10,2,       10,2,   25.911,2,   35.278,2,   35.280,2,   163.35,2,   199.08,2,      0.3,1,     0.28,2,     0.36,2,     0.20,2,     3.05,2,     5.21,2,     0.66,2,     0.55,2,     0.02,3,   2032.4,2,   8.0136,5,    25.91,    23.27
     49MR00K08, EQPAC,    13,  1,      2,      2,1,20010114,2208,  0.0005,-166.3410, 5305,       20,2,       20,2,   25.888,2,   35.277,2,   35.280,2,   162.36,2,   198.90,2,      0.5,1,     0.29,2,     0.36,2,     0.19,2,     2.90,2,     5.23,2,     0.66,2,     0.54,2,     0.07,3,   2033.1,2,   8.0121,5,    25.88,    23.28
     49MR00K08, EQPAC,    13,  1,      3,      3,1,20010114,2208,  0.0005,-166.3410, 5305,       30,2,       31,2,   25.881,2,   35.277,2,   35.280,2,   161.31,2,   198.79,2,      0.6,1,     0.29,2,     0.37,2,     0.20,2,     2.90,2,     5.26,2,     0.67,2,     0.54,2,     0.04,3,   2035.0,2,   8.0124,5,    25.87,    23.28
     49MR00K08, EQPAC,    13,  1,      4,      4,1,20010114,2208,  0.0005,-166.3410, 5305,       39,2,       39,2,   25.875,2,   35.277,2,   35.280,2,   162.69,2,   198.13,2,      0.6,1,     0.32,2,     0.41,2,     0.23,2,     2.86,2,     5.30,2,     0.68,2,     0.55,2,     0.14,3,   2033.5,2,   8.0114,5,    25.87,    23.28
     49MR00K08, EQPAC,    13,  1,      5,      5,1,20010114,2208,  0.0005,-166.3410, 5305,       50,2,       50,2,   25.855,2,   35.278,2,   35.280,2,   161.16,2,   196.59,2,      0.7,1,     0.33,2,     0.42,2,     0.23,2,     2.95,2,     5.32,2,     0.69,2,     0.56,2,     0.05,3,   2035.3,2,   8.0108,5,    25.84,    23.29
     49MR00K08, EQPAC,    13,  1,      6,      6,1,20010114,2208,  0.0005,-166.3410, 5305,       62,2,       62,2,   25.839,2,   35.278,2,   35.280,2,   160.44,2,   195.58,2,      0.7,1,     0.24,2,     0.31,2,     0.18,2,     2.98,2,     5.38,2,     0.70,2,     0.58,2,     0.07,3,   2036.3,2,   8.0096,5,    25.82,    23.30
     49MR00K08, EQPAC,    13,  1,      7,      7,1,20010114,2208,  0.0005,-166.3410, 5305,       69,2,       69,2,   25.805,2,   35.278,2,   35.280,2,   159.34,2,   194.86,2,      0.6,1,     0.28,2,     0.37,2,     0.22,2,     3.00,2,     5.47,2,     0.71,2,     0.57,2,     0.09,3,   2036.4,2,   8.0081,5,    25.79,    23.31
     49MR00K08, EQPAC,    13,  1,      8,      8,1,20010114,2208,  0.0005,-166.3410, 5305,       79,2,       80,2,   25.753,2,   35.277,2,   35.280,2,   158.18,2,   191.28,2,      0.5,1,     0.25,2,     0.31,2,     0.16,2,     3.11,2,     5.63,2,     0.73,2,     0.57,2,     0.07,3,   2040.2,2,   8.0045,5,    25.74,    23.32
     49MR00K08, EQPAC,    13,  1,      9,      9,1,20010114,2208,  0.0005,-166.3410, 5305,       90,2,       90,2,   25.628,2,   35.274,2,   35.277,2,   153.63,2,   185.86,2,      0.4,1,     0.20,2,     0.26,2,     0.14,2,     3.24,2,     5.94,2,     0.68,2,     0.60,2,     0.04,3,   2042.0,2,   7.9985,5,    25.61,    23.36
     49MR00K08, EQPAC,    13,  1,     10,     10,1,20010114,2208,  0.0005,-166.3410, 5305,      100,2,      100,2,   25.193,2,   35.263,2,   35.267,2,   144.89,2,   175.70,2,      0.2,1,     0.11,2,     0.15,2,     0.10,2,     3.41,2,     6.62,2,     0.55,2,     0.62,2,     0.03,3,   2045.5,2,   7.9880,5,    25.17,    23.49
     49MR00K08, EQPAC,    13,  1,     11,     11,1,20010114,2208,  0.0005,-166.3410, 5305,      119,2,      120,2,   24.560,2,   35.245,2,   35.247,2,   135.93,2,   162.26,2,      0.1,1,     0.06,2,     0.08,2,     0.07,2,     3.97,2,     7.61,2,     0.29,2,     0.65,2,     0.01,3,   2055.5,2,   7.9702,5,    24.53,    23.67
     49MR00K08, EQPAC,    13,  1,     12,     12,1,20010114,2208,  0.0005,-166.3410, 5305,      152,2,      152,2,   23.546,2,   35.423,2,   35.416,2,   121.98,2,   146.38,2,      0.1,1,     0.03,2,     0.05,2,     0.05,2,     3.84,2,     8.88,2,     0.11,2,     0.73,2,     0.01,3,   2076.6,2,   7.9481,5,    23.51,    24.10
     49MR00K08, EQPAC,    13,  1,     13,     13,1,20010114,2208,  0.0005,-166.3410, 5305,      200,2,      201,2,   15.660,2,   35.067,2,   35.046,2,   117.55,2,   137.56,2,      0.0,1,     0.00,2,     0.01,2,     0.02,2,    11.72,2,    14.60,2,     0.01,2,     1.10,2,     0.00,3,   2128.0,2,   7.8218,5,    15.63,    25.88
     49MR00K08, EQPAC,    13,  1,     14,     14,1,20010114,2208,  0.0005,-166.3410, 5305,       21,2,       21,2,   25.887,2,   35.277,2, -999.000,9,   162.85,2,  -999.00,9,      0.5,1,  -999.00,9,  -999.00,9,  -999.00,9,  -999.00,9,  -999.00,9,  -999.00,9,  -999.00,9,  -999.00,9,   -999.0,9,-999.0000,9,    25.88,    23.28
     49MR00K08, EQPAC,    13,  1,     15,     15,1,20010114,2208,  0.0005,-166.3410, 5305,       40,2,       41,2,   25.873,2,   35.277,2, -999.000,9,   161.97,2,  -999.00,9,      0.7,1,  -999.00,9,  -999.00,9,  -999.00,9,  -999.00,9,  -999.00,9,  -999.00,9,  -999.00,9,  -999.00,9,   -999.0,9,-999.0000,9,    25.86,    23.28
     49MR00K08, EQPAC,    13,  1,     16,     16,1,20010114,2208,  0.0005,-166.3410, 5305,       61,2,       62,2,   25.841,2,   35.278,2, -999.000,9,   159.64,2,  -999.00,9,      1.1,1,  -999.00,9,  -999.00,9,  -999.00,9,  -999.00,9,  -999.00,9,  -999.00,9,  -999.00,9,  -999.00,9,   -999.0,9,-999.0000,9,    25.83,    23.30
     49MR00K08, EQPAC,    13,  1,     17,     17,1,20010114,2208,  0.0005,-166.3410, 5305,       81,2,       81,2,   25.746,2,   35.278,2, -999.000,9,   157.75,2,  -999.00,9,      0.5,1,  -999.00,9,  -999.00,9,  -999.00,9,  -999.00,9,  -999.00,9,  -999.00,9,  -999.00,9,  -999.00,9,   -999.0,9,-999.0000,9,    25.73,    23.33
     49MR00K08, EQPAC,    13,  1,     18,     18,1,20010114,2208,  0.0005,-166.3410, 5305,       99,2,      100,2,   25.260,2,   35.266,2, -999.000,9,   146.96,2,  -999.00,9,      0.2,1,  -999.00,9,  -999.00,9,  -999.00,9,  -999.00,9,  -999.00,9,  -999.00,9,  -999.00,9,  -999.00,9,   -999.0,9,-999.0000,9,    25.24,    23.47
     49MR00K08, EQPAC,    13,  1,     19,     19,1,20010114,2208,  0.0005,-166.3410, 5305,      122,2,      122,2,   24.573,2,   35.246,2, -999.000,9,   135.91,2,  -999.00,9,      0.1,1,  -999.00,9,  -999.00,9,  -999.00,9,  -999.00,9,  -999.00,9,  -999.00,9,  -999.00,9,  -999.00,9,   -999.0,9,-999.0000,9,    24.55,    23.66
     49MR00K08, EQPAC,    13,  1,     20,     20,1,20010114,2208,  0.0005,-166.3410, 5305,      140,2,      140,2,   23.917,2,   35.288,2, -999.000,9,   129.13,2,  -999.00,9,      0.1,1,  -999.00,9,  -999.00,9,  -999.00,9,  -999.00,9,  -999.00,9,  -999.00,9,  -999.00,9,  -999.00,9,   -999.0,9,-999.0000,9,    23.89,    23.89
     49MR00K08, EQPAC,    13,  1,     21,     21,1,20010114,2208,  0.0005,-166.3410, 5305,      160,2,      161,2,   23.519,2,   35.483,2, -999.000,9,   119.31,2,  -999.00,9,      0.0,1,  -999.00,9,  -999.00,9,  -999.00,9,  -999.00,9,  -999.00,9,  -999.00,9,  -999.00,9,  -999.00,9,   -999.0,9,-999.0000,9,    23.49,    24.16
     49MR00K08, EQPAC,    13,  1,     22,     22,1,20010114,2208,  0.0005,-166.3410, 5305,      180,2,      182,2,   20.053,2,   35.381,2, -999.000,9,   111.34,2,  -999.00,9,      0.0,1,  -999.00,9,  -999.00,9,  -999.00,9,  -999.00,9,  -999.00,9,  -999.00,9,  -999.00,9,  -999.00,9,   -999.0,9,-999.0000,9,    20.02,    25.05
     49MR00K08, EQPAC,    13,  1,     23,     23,1,20010114,2208,  0.0005,-166.3410, 5305,      200,2,      202,2,   15.659,2,   35.081,2, -999.000,9,   116.66,2,  -999.00,9,      0.0,1,  -999.00,9,  -999.00,9,  -999.00,9,  -999.00,9,  -999.00,9,  -999.00,9,  -999.00,9,  -999.00,9,   -999.0,9,-999.0000,9,    15.63,    25.89
     49MR00K08, EQPAC,    13,  1,     24,     24,1,20010114,2208,  0.0005,-166.3410, 5305,       52,2,       52,2,   25.854,2,   35.278,2, -999.000,9,   160.96,2,  -999.00,9,      0.7,1,     0.29,2,     0.36,2,     0.22,2,  -999.00,9,  -999.00,9,  -999.00,9,  -999.00,9,  -999.00,9,   -999.0,9,-999.0000,9,    25.84,    23.29
     49MR00K08, EQPAC,    12,  1,      0,      0,1,20010115,1500, -0.0123,-170.2250, 5560,     -999,9,     -999,9,   26.400,2, -999.000,9, -999.000,9,  -999.00,9,  -999.00,9,   -999.0,9,     0.24,2,     0.29,2,     0.15,2,  -999.00,9,  -999.00,9,  -999.00,9,  -999.00,9,  -999.00,9,   -999.0,9,-999.0000,9,  -999.00,  -999.00
     49MR00K08, EQPAC,    12,  1,      1,      1,1,20010115,1507, -0.0123,-170.2248, 5560,       10,2,       10,2,   26.467,2,   35.373,2, -999.000,9,   155.26,2,  -999.00,9,      0.5,1,     0.27,2,     0.33,2,     0.15,2,  -999.00,9,  -999.00,9,  -999.00,9,  -999.00,9,  -999.00,9,   -999.0,9,-999.0000,9,    26.46,    23.17
     49MR00K08, EQPAC,    12,  1,      2,      2,1,20010115,1507, -0.0123,-170.2248, 5560,       21,2,       21,2,   26.464,2,   35.373,2, -999.000,9,   156.06,2,  -999.00,9,      0.5,1,     0.25,2,     0.29,2,     0.14,2,  -999.00,9,  -999.00,9,  -999.00,9,  -999.00,9,  -999.00,9,   -999.0,9,-999.0000,9,    26.46,    23.17
     49MR00K08, EQPAC,    12,  1,      3,      3,1,20010115,1507, -0.0123,-170.2248, 5560,       30,2,       31,2,   26.463,2,   35.373,2, -999.000,9,   155.98,2,  -999.00,9,      0.5,1,     0.29,2,     0.35,2,     0.18,2,  -999.00,9,  -999.00,9,  -999.00,9,  -999.00,9,  -999.00,9,   -999.0,9,-999.0000,9,    26.46,    23.17
     49MR00K08, EQPAC,    12,  1,      4,      4,1,20010115,1507, -0.0123,-170.2248, 5560,       41,2,       41,2,   26.470,2,   35.373,2, -999.000,9,   155.37,2,  -999.00,9,      0.5,1,     0.24,2,     0.29,2,     0.14,2,  -999.00,9,  -999.00,9,  -999.00,9,  -999.00,9,  -999.00,9,   -999.0,9,-999.0000,9,    26.46,    23.17
     49MR00K08, EQPAC,    12,  1,      5,      5,1,20010115,1507, -0.0123,-170.2248, 5560,       51,2,       51,2,   26.465,2,   35.372,2, -999.000,9,   154.30,2,  -999.00,9,      0.5,1,     0.23,2,     0.27,2,     0.13,2,  -999.00,9,  -999.00,9,  -999.00,9,  -999.00,9,  -999.00,9,   -999.0,9,-999.0000,9,    26.45,    23.17
     49MR00K08, EQPAC,    12,  1,      6,      6,1,20010115,1507, -0.0123,-170.2248, 5560,       59,2,       60,2,   26.453,2,   35.372,2, -999.000,9,   154.19,2,  -999.00,9,      0.5,1,     0.24,2,     0.28,2,     0.13,2,  -999.00,9,  -999.00,9,  -999.00,9,  -999.00,9,  -999.00,9,   -999.0,9,-999.0000,9,    26.44,    23.18
     49MR00K08, EQPAC,    12,  1,      7,      7,1,20010115,1507, -0.0123,-170.2248, 5560,       70,2,       71,2,   26.409,2,   35.371,2, -999.000,9,   154.81,2,  -999.00,9,      0.4,1,     0.19,2,     0.25,2,     0.16,2,  -999.00,9,  -999.00,9,  -999.00,9,  -999.00,9,  -999.00,9,   -999.0,9,-999.0000,9,    26.39,    23.19
     49MR00K08, EQPAC,    12,  1,      8,      8,1,20010115,1507, -0.0123,-170.2248, 5560,       80,2,       81,2,   26.342,2,   35.366,2, -999.000,9,   151.61,2,  -999.00,9,      0.4,1,     0.19,2,     0.23,2,     0.12,2,  -999.00,9,  -999.00,9,  -999.00,9,  -999.00,9,  -999.00,9,   -999.0,9,-999.0000,9,    26.32,    23.21
     49MR00K08, EQPAC,    12,  1,      9,      9,1,20010115,1507, -0.0123,-170.2248, 5560,       90,2,       91,2,   26.269,2,   35.358,2, -999.000,9,   150.48,2,  -999.00,9,      0.3,1,     0.15,2,     0.19,2,     0.12,2,  -999.00,9,  -999.00,9,  -999.00,9,  -999.00,9,  -999.00,9,   -999.0,9,-999.0000,9,    26.25,    23.23
     49MR00K08, EQPAC,    12,  1,     10,     10,1,20010115,1507, -0.0123,-170.2248, 5560,      101,2,      102,2,   26.094,2,   35.338,2, -999.000,9,   146.93,2,  -999.00,9,      0.2,1,     0.13,2,     0.17,2,     0.11,2,  -999.00,9,  -999.00,9,  -999.00,9,  -999.00,9,  -999.00,9,   -999.0,9,-999.0000,9,    26.07,    23.27
     49MR00K08, EQPAC,    12,  1,     11,     11,1,20010115,1507, -0.0123,-170.2248, 5560,      120,2,      121,2,   25.525,2,   35.297,2, -999.000,9,   136.79,2,  -999.00,9,      0.1,1,     0.07,2,     0.09,2,     0.06,2,  -999.00,9,  -999.00,9,  -999.00,9,  -999.00,9,  -999.00,9,   -999.0,9,-999.0000,9,    25.50,    23.41
     49MR00K08, EQPAC,    12,  1,     12,     12,1,20010115,1507, -0.0123,-170.2248, 5560,      150,2,      151,2,   23.029,2,   35.472,2, -999.000,9,   114.28,2,  -999.00,9,      0.0,1,     0.02,2,     0.04,2,     0.04,2,  -999.00,9,  -999.00,9,  -999.00,9,  -999.00,9,  -999.00,9,   -999.0,9,-999.0000,9,    23.00,    24.29
     49MR00K08, EQPAC,    12,  1,     13,     13,1,20010115,1507, -0.0123,-170.2248, 5560,      200,2,      201,2,   16.455,2,   35.264,2, -999.000,9,   115.25,2,  -999.00,9,      0.0,1,     0.00,2,     0.01,2,     0.02,2,  -999.00,9,  -999.00,9,  -999.00,9,  -999.00,9,  -999.00,9,   -999.0,9,-999.0000,9,    16.42,    25.85
     49MR00K08, EQPAC,    12,  1,     14,     14,1,20010115,1507, -0.0123,-170.2248, 5560,       20,2,       21,2,   26.467,2,   35.373,2, -999.000,9,   156.90,2,  -999.00,9,      0.5,1,  -999.00,9,  -999.00,9,  -999.00,9,  -999.00,9,  -999.00,9,  -999.00,9,  -999.00,9,  -999.00,9,   -999.0,9,-999.0000,9,    26.46,    23.17
     49MR00K08, EQPAC,    12,  1,     15,     15,1,20010115,1507, -0.0123,-170.2248, 5560,       41,2,       41,2,   26.461,2,   35.373,2, -999.000,9,   155.39,2,  -999.00,9,      0.5,1,  -999.00,9,  -999.00,9,  -999.00,9,  -999.00,9,  -999.00,9,  -999.00,9,  -999.00,9,  -999.00,9,   -999.0,9,-999.0000,9,    26.45,    23.17
     49MR00K08, EQPAC,    12,  1,     16,     16,1,20010115,1507, -0.0123,-170.2248, 5560,       61,2,       61,2,   26.449,2,   35.372,2, -999.000,9,   154.03,2,  -999.00,9,      0.5,1,  -999.00,9,  -999.00,9,  -999.00,9,  -999.00,9,  -999.00,9,  -999.00,9,  -999.00,9,  -999.00,9,   -999.0,9,-999.0000,9,    26.43,    23.18
     49MR00K08, EQPAC,    12,  1,     17,     17,1,20010115,1507, -0.0123,-170.2248, 5560,       80,2,       80,2,   26.380,2,   35.369,2, -999.000,9,   152.81,2,  -999.00,9,      0.4,1,  -999.00,9,  -999.00,9,  -999.00,9,  -999.00,9,  -999.00,9,  -999.00,9,  -999.00,9,  -999.00,9,   -999.0,9,-999.0000,9,    26.36,    23.20
     49MR00K08, EQPAC,    12,  1,     18,     18,1,20010115,1507, -0.0123,-170.2248, 5560,      100,2,      101,2,   26.115,2,   35.341,2, -999.000,9,   147.13,2,  -999.00,9,      0.2,1,  -999.00,9,  -999.00,9,  -999.00,9,  -999.00,9,  -999.00,9,  -999.00,9,  -999.00,9,  -999.00,9,   -999.0,9,-999.0000,9,    26.09,    23.26
     49MR00K08, EQPAC,    12,  1,     19,     19,1,20010115,1507, -0.0123,-170.2248, 5560,      119,2,      120,2,   25.529,2,   35.298,2, -999.000,9,   136.16,2,  -999.00,9,      0.1,1,  -999.00,9,  -999.00,9,  -999.00,9,  -999.00,9,  -999.00,9,  -999.00,9,  -999.00,9,  -999.00,9,   -999.0,9,-999.0000,9,    25.50,    23.41
     49MR00K08, EQPAC,    12,  1,     20,     20,1,20010115,1507, -0.0123,-170.2248, 5560,      140,2,      141,2,   24.406,2,   35.480,2, -999.000,9,   122.76,2,  -999.00,9,      0.0,1,  -999.00,9,  -999.00,9,  -999.00,9,  -999.00,9,  -999.00,9,  -999.00,9,  -999.00,9,  -999.00,9,   -999.0,9,-999.0000,9,    24.38,    23.89
     49MR00K08, EQPAC,    12,  1,     21,     21,1,20010115,1507, -0.0123,-170.2248, 5560,      160,2,      161,2,   20.680,2,   35.307,2, -999.000,9,   113.62,2,  -999.00,9,      0.0,1,  -999.00,9,  -999.00,9,  -999.00,9,  -999.00,9,  -999.00,9,  -999.00,9,  -999.00,9,  -999.00,9,   -999.0,9,-999.0000,9,    20.65,    24.82
     49MR00K08, EQPAC,    12,  1,     22,     22,1,20010115,1507, -0.0123,-170.2248, 5560,      181,2,      182,2,   18.882,2,   35.370,2, -999.000,9,   114.22,2,  -999.00,9,      0.0,1,  -999.00,9,  -999.00,9,  -999.00,9,  -999.00,9,  -999.00,9,  -999.00,9,  -999.00,9,  -999.00,9,   -999.0,9,-999.0000,9,    18.85,    25.34
     49MR00K08, EQPAC,    12,  1,     23,     23,1,20010115,1507, -0.0123,-170.2248, 5560,      200,2,      201,2,   16.408,2,   35.262,2, -999.000,9,   114.65,2,  -999.00,9,      0.0,1,  -999.00,9,  -999.00,9,  -999.00,9,  -999.00,9,  -999.00,9,  -999.00,9,  -999.00,9,  -999.00,9,   -999.0,9,-999.0000,9,    16.38,    25.86
     49MR00K08, EQPAC,    12,  1,     24,     24,1,20010115,1507, -0.0123,-170.2248, 5560,       50,2,       50,2,   26.473,2,   35.372,2, -999.000,9,   155.92,2,  -999.00,9,      0.6,1,     0.22,2,     0.26,2,     0.13,2,  -999.00,9,  -999.00,9,  -999.00,9,  -999.00,9,  -999.00,9,   -999.0,9,-999.0000,9,    26.46,    23.17