BOTTLE,20101227MIRCJHATS
EXPOCODE,SECT,STNNBR,CASTNO,SAMPNO,BTLNBR,BTLNBR_FLAG_W,DATE,TIME,LATITUDE,LONGITUDE,DEPTH,CTDDPT,CTDDPT_FLAG_W,CTDPRS,CTDPRS_FLAG_W,CTDTMP,CTDTMP_FLAG_W,CTDSAL,CTDSAL_FLAG_W,SALNTY,SALNTY_FLAG_W,CTDOXY,CTDOXY_FLAG_W,OXYGEN,OXYGEN_FLAG_W,FLUOR,FLUOR_FLAG_W,CHLORA,CHLORA_FLAG_W,CHLWELSH,CHLWELSH_W,PPHYTN,PPHYTN_FLAG_W,SILCAT,SILCAT_FLAG_W,NITRAT,NITRAT_FLAG_W,NITRIT,NITRIT_FLAG_W,PHSPHT,PHSPHT_FLAG_W,NH4,NH4_FLAG_W,TCARBN,TCARBN_FLAG_W,PH,PH_FLAG_W,THETA,SIG0
,,,,,,,,UTC,DEG,DEG,M,M,,DBAR,,ITS-90,,PSS-78,,PSS-78,,UMOL/KG,,UMOL/KG,,UG/L,,MG/CUM,,MG/CUM,,MG/CUM,,UMOL/KG,,UMOL/KG,,UMOL/KG,,UMOL/KG,,UMOL/KG,,UMOL/KG,,-,,DEG C,KG/CUM
     49MR00K08, EQPAC,    12,  2,      0,      0,1,20010115,2154, -0.0120,-170.2210, 5508,     -999,9,     -999,9,   26.600,2, -999.000,9,   35.387,2,  -999.00,9,   193.37,2,   -999.0,9,     0.20,2,     0.24,2,     0.12,2,     2.68,2,     4.95,2,     0.54,2,     0.58,2,     0.09,3,   2036.7,2,   8.0218,5,  -999.00,  -999.00
     49MR00K08, EQPAC,    12,  2,      1,      1,1,20010115,2202, -0.0120,-170.2207, 5508,       10,2,       10,2,   26.458,2,   35.372,2,   35.374,2,   156.02,2,   191.77,2,      0.3,1,     0.23,2,     0.28,2,     0.12,2,     2.64,2,     4.88,2,     0.54,2,     0.54,2,     0.07,3,   2035.2,2,   8.0219,5,    26.46,    23.17
     49MR00K08, EQPAC,    12,  2,      2,      2,1,20010115,2202, -0.0120,-170.2207, 5508,       21,2,       21,2,   26.444,2,   35.372,2,   35.373,2,   155.43,2,   191.31,2,      0.4,1,     0.24,2,     0.27,2,     0.12,2,     2.73,2,     4.89,2,     0.53,2,     0.54,2,     0.01,3,   2035.9,2,   8.0210,5,    26.44,    23.18
     49MR00K08, EQPAC,    12,  2,      3,      3,1,20010115,2202, -0.0120,-170.2207, 5508,       30,2,       30,2,   26.441,2,   35.371,2,   35.375,2,   156.05,2,   191.22,2,      0.4,1,     0.25,2,     0.30,2,     0.16,2,     2.65,2,     4.90,2,     0.54,2,     0.54,2,     0.06,3,   2036.1,2,   8.0216,5,    26.43,    23.18
     49MR00K08, EQPAC,    12,  2,      4,      4,1,20010115,2202, -0.0120,-170.2207, 5508,       40,2,       40,2,   26.429,2,   35.371,2,   35.373,2,   155.61,2,   190.42,2,      0.5,1,     0.26,2,     0.32,2,     0.15,2,     2.62,2,     4.94,2,     0.53,2,     0.53,2,     0.07,3,   2036.8,2,   8.0205,5,    26.42,    23.18
     49MR00K08, EQPAC,    12,  2,      5,      5,1,20010115,2202, -0.0120,-170.2207, 5508,       48,2,       49,2,   26.419,2,   35.370,2,   35.372,2,   155.15,2,   189.60,2,      0.5,1,     0.28,2,     0.33,2,     0.15,2,     2.63,2,     4.96,2,     0.53,2,     0.54,2,     0.06,3,   2037.4,2,   8.0202,5,    26.41,    23.18
     49MR00K08, EQPAC,    12,  2,      6,      6,1,20010115,2202, -0.0120,-170.2207, 5508,       61,2,       61,2,   26.400,2,   35.368,2,   35.371,2,   154.01,2,   188.41,2,      0.5,1,     0.22,2,     0.27,2,     0.14,2,     2.63,2,     5.05,2,     0.52,2,     0.54,2,     0.04,3,   2036.4,2,   8.0183,5,    26.39,    23.19
     49MR00K08, EQPAC,    12,  2,      7,      7,1,20010115,2202, -0.0120,-170.2207, 5508,       70,2,       70,2,   26.394,2,   35.367,2,   35.370,2,   154.08,2,   187.70,2,      0.5,1,     0.20,2,     0.25,2,     0.13,2,     2.63,2,     5.10,2,     0.52,2,     0.55,2,     0.03,3,   2037.1,2,   8.0178,5,    26.38,    23.19
     49MR00K08, EQPAC,    12,  2,      8,      8,1,20010115,2202, -0.0120,-170.2207, 5508,       79,2,       79,2,   26.346,2,   35.363,2,   35.365,2,   152.93,2,   185.66,2,      0.4,1,     0.23,2,     0.29,2,     0.16,2,     2.69,2,     5.26,2,     0.50,2,     0.56,2,     0.06,3,   2038.2,2,   8.0149,5,    26.33,    23.20
     49MR00K08, EQPAC,    12,  2,      9,      9,1,20010115,2202, -0.0120,-170.2207, 5508,       90,2,       91,2,   26.241,2,   35.352,2,   35.355,2,   151.34,2,   181.88,2,      0.3,1,     0.16,2,     0.21,2,     0.12,2,     2.76,2,     5.50,2,     0.45,2,     0.59,2,     0.06,3,   2040.1,2,   8.0117,5,    26.22,    23.23
     49MR00K08, EQPAC,    12,  2,     10,     10,1,20010115,2202, -0.0120,-170.2207, 5508,       99,2,      100,2,   26.118,2,   35.338,2,   35.341,2,   148.95,2,   178.40,2,      0.3,1,     0.16,2,     0.20,2,     0.11,2,     2.86,2,     5.76,2,     0.39,2,     0.60,2,     0.11,3,   2042.1,2,   8.0067,5,    26.10,    23.26
     49MR00K08, EQPAC,    12,  2,     11,     11,1,20010115,2202, -0.0120,-170.2207, 5508,      119,2,      120,2,   25.143,2,   35.240,2,   35.300,2,   132.07,2,   154.34,2,      0.1,1,     0.05,2,     0.06,2,     0.05,2,     3.58,2,     7.65,2,     0.09,2,     0.69,2,     0.00,3,   2055.9,2,   7.9733,5,    25.12,    23.49
     49MR00K08, EQPAC,    12,  2,     12,     12,1,20010115,2202, -0.0120,-170.2207, 5508,      151,2,      151,2,   21.012,2,   35.358,2,   35.355,2,   112.04,2,   133.80,2,      0.0,1,     0.01,2,     0.02,2,     0.02,2,     5.58,2,    10.34,2,     0.05,2,     0.88,2,     0.00,3,   2097.8,2,   7.9020,5,    20.98,    24.77
     49MR00K08, EQPAC,    12,  2,     13,     13,1,20010115,2202, -0.0120,-170.2207, 5508,      201,2,      202,2,   14.371,2,   34.995,2,   34.989,2,   115.79,2,   136.75,2,      0.0,1,     0.00,2,     0.01,2,     0.02,2,    13.60,2,    15.84,2,     0.04,2,     1.27,2,     0.04,3,   2140.0,2,   7.7936,5,    14.34,    26.11
     49MR00K08, EQPAC,    12,  2,     14,     14,1,20010115,2202, -0.0120,-170.2207, 5508,       10,2,       10,2,   26.460,2,   35.372,2, -999.000,9,   156.56,2,  -999.00,9,      0.3,1,  -999.00,9,  -999.00,9,  -999.00,9,  -999.00,9,  -999.00,9,  -999.00,9,  -999.00,9,  -999.00,9,   -999.0,9,-999.0000,9,    26.46,    23.17
     49MR00K08, EQPAC,    12,  2,     15,     15,1,20010115,2202, -0.0120,-170.2207, 5508,       20,2,       20,2,   26.446,2,   35.372,2, -999.000,9,   156.00,2,  -999.00,9,      0.4,1,  -999.00,9,  -999.00,9,  -999.00,9,  -999.00,9,  -999.00,9,  -999.00,9,  -999.00,9,  -999.00,9,   -999.0,9,-999.0000,9,    26.44,    23.18
     49MR00K08, EQPAC,    12,  2,     16,     16,1,20010115,2202, -0.0120,-170.2207, 5508,       30,2,       30,2,   26.439,2,   35.371,2, -999.000,9,   155.23,2,  -999.00,9,      0.4,1,  -999.00,9,  -999.00,9,  -999.00,9,  -999.00,9,  -999.00,9,  -999.00,9,  -999.00,9,  -999.00,9,   -999.0,9,-999.0000,9,    26.43,    23.18
     49MR00K08, EQPAC,    12,  2,     17,     17,1,20010115,2202, -0.0120,-170.2207, 5508,       40,2,       40,2,   26.426,2,   35.370,2, -999.000,9,   155.56,2,  -999.00,9,      0.5,1,  -999.00,9,  -999.00,9,  -999.00,9,  -999.00,9,  -999.00,9,  -999.00,9,  -999.00,9,  -999.00,9,   -999.0,9,-999.0000,9,    26.42,    23.18
     49MR00K08, EQPAC,    12,  2,     18,     18,1,20010115,2202, -0.0120,-170.2207, 5508,       48,2,       49,2,   26.417,2,   35.370,2, -999.000,9,   155.91,2,  -999.00,9,      0.5,1,     0.21,2,     0.27,2,     0.14,2,  -999.00,9,  -999.00,9,  -999.00,9,  -999.00,9,  -999.00,9,   -999.0,9,-999.0000,9,    26.41,    23.18
     49MR00K08, EQPAC,    12,  2,     19,     19,1,20010115,2202, -0.0120,-170.2207, 5508,       61,2,       61,2,   26.400,2,   35.368,2, -999.000,9,   154.95,2,  -999.00,9,      0.5,1,  -999.00,9,  -999.00,9,  -999.00,9,  -999.00,9,  -999.00,9,  -999.00,9,  -999.00,9,  -999.00,9,   -999.0,9,-999.0000,9,    26.39,    23.19
     49MR00K08, EQPAC,    12,  2,     20,     20,1,20010115,2202, -0.0120,-170.2207, 5508,       79,2,       80,2,   26.349,2,   35.363,2, -999.000,9,   152.45,2,  -999.00,9,      0.4,1,  -999.00,9,  -999.00,9,  -999.00,9,  -999.00,9,  -999.00,9,  -999.00,9,  -999.00,9,  -999.00,9,   -999.0,9,-999.0000,9,    26.33,    23.20
     49MR00K08, EQPAC,    12,  2,     21,     21,1,20010115,2202, -0.0120,-170.2207, 5508,      100,2,      100,2,   26.146,2,   35.342,2, -999.000,9,   149.15,2,  -999.00,9,      0.3,1,  -999.00,9,  -999.00,9,  -999.00,9,  -999.00,9,  -999.00,9,  -999.00,9,  -999.00,9,  -999.00,9,   -999.0,9,-999.0000,9,    26.12,    23.25
     49MR00K08, EQPAC,    12,  2,     22,     22,1,20010115,2202, -0.0120,-170.2207, 5508,      120,2,      121,2,   25.143,2,   35.239,2, -999.000,9,   133.02,2,  -999.00,9,      0.1,1,  -999.00,9,  -999.00,9,  -999.00,9,  -999.00,9,  -999.00,9,  -999.00,9,  -999.00,9,  -999.00,9,   -999.0,9,-999.0000,9,    25.12,    23.49
     49MR00K08, EQPAC,    12,  2,     23,     23,1,20010115,2202, -0.0120,-170.2207, 5508,      149,2,      149,2,   21.084,2,   35.370,2, -999.000,9,   112.73,2,  -999.00,9,      0.0,1,  -999.00,9,  -999.00,9,  -999.00,9,  -999.00,9,  -999.00,9,  -999.00,9,  -999.00,9,  -999.00,9,   -999.0,9,-999.0000,9,    21.06,    24.76
     49MR00K08, EQPAC,    12,  2,     24,     24,1,20010115,2202, -0.0120,-170.2207, 5508,      201,2,      202,2,   14.373,2,   34.993,2, -999.000,9,   115.85,2,  -999.00,9,      0.0,1,  -999.00,9,  -999.00,9,  -999.00,9,  -999.00,9,  -999.00,9,  -999.00,9,  -999.00,9,  -999.00,9,   -999.0,9,-999.0000,9,    14.34,    26.11
     49MR00K08, EQPAC,    12,  3,      0,      0,1,20010116, 642, -0.0482,-170.2127, 5550,     -999,9,     -999,9, -999.000,9, -999.000,9, -999.000,9,  -999.00,9,  -999.00,9,   -999.0,9,  -999.00,9,  -999.00,9,  -999.00,9,  -999.00,9,  -999.00,9,  -999.00,9,  -999.00,9,  -999.00,9,   -999.0,9,-999.0000,9,  -999.00,  -999.00
     49MR00K08, EQPAC,    12,  3,      1,      1,1,20010116, 651, -0.0483,-170.2130, 5550,       20,2,       20,2,   26.493,2,   35.371,2, -999.000,9,   156.95,2,  -999.00,9,      0.8,1,  -999.00,9,  -999.00,9,  -999.00,9,  -999.00,9,  -999.00,9,  -999.00,9,  -999.00,9,  -999.00,9,   -999.0,9,-999.0000,9,    26.49,    23.16
     49MR00K08, EQPAC,    12,  3,      2,      2,1,20010116, 651, -0.0483,-170.2130, 5550,       40,2,       40,2,   26.412,2,   35.369,2, -999.000,9,   156.33,2,  -999.00,9,      0.9,1,  -999.00,9,  -999.00,9,  -999.00,9,  -999.00,9,  -999.00,9,  -999.00,9,  -999.00,9,  -999.00,9,   -999.0,9,-999.0000,9,    26.40,    23.19
     49MR00K08, EQPAC,    12,  3,      3,      3,1,20010116, 651, -0.0483,-170.2130, 5550,       61,2,       61,2,   26.369,2,   35.365,2, -999.000,9,   154.83,2,  -999.00,9,      0.7,1,  -999.00,9,  -999.00,9,  -999.00,9,  -999.00,9,  -999.00,9,  -999.00,9,  -999.00,9,  -999.00,9,   -999.0,9,-999.0000,9,    26.36,    23.20
     49MR00K08, EQPAC,    12,  3,      4,      4,1,20010116, 651, -0.0483,-170.2130, 5550,       81,2,       81,2,   26.255,2,   35.354,2, -999.000,9,   151.25,2,  -999.00,9,      0.5,1,  -999.00,9,  -999.00,9,  -999.00,9,  -999.00,9,  -999.00,9,  -999.00,9,  -999.00,9,  -999.00,9,   -999.0,9,-999.0000,9,    26.24,    23.23
     49MR00K08, EQPAC,    12,  3,      5,      5,1,20010116, 651, -0.0483,-170.2130, 5550,      101,2,      101,2,   25.892,2,   35.317,2, -999.000,9,   142.95,2,  -999.00,9,      0.3,1,  -999.00,9,  -999.00,9,  -999.00,9,  -999.00,9,  -999.00,9,  -999.00,9,  -999.00,9,  -999.00,9,   -999.0,9,-999.0000,9,    25.87,    23.31
     49MR00K08, EQPAC,    12,  3,      6,      6,1,20010116, 651, -0.0483,-170.2130, 5550,      120,2,      121,2,   24.952,2,   35.463,2, -999.000,9,   126.26,2,  -999.00,9,      0.0,1,  -999.00,9,  -999.00,9,  -999.00,9,  -999.00,9,  -999.00,9,  -999.00,9,  -999.00,9,  -999.00,9,   -999.0,9,-999.0000,9,    24.93,    23.71
     49MR00K08, EQPAC,    12,  3,      7,      7,1,20010116, 651, -0.0483,-170.2130, 5550,      140,2,      141,2,   23.156,2,   35.520,2, -999.000,9,   113.23,2,  -999.00,9,      0.0,1,  -999.00,9,  -999.00,9,  -999.00,9,  -999.00,9,  -999.00,9,  -999.00,9,  -999.00,9,  -999.00,9,   -999.0,9,-999.0000,9,    23.13,    24.29
     49MR00K08, EQPAC,    12,  3,      8,      8,1,20010116, 651, -0.0483,-170.2130, 5550,      159,2,      160,2,   20.642,2,   35.354,2, -999.000,9,   112.38,2,  -999.00,9,      0.0,1,  -999.00,9,  -999.00,9,  -999.00,9,  -999.00,9,  -999.00,9,  -999.00,9,  -999.00,9,  -999.00,9,   -999.0,9,-999.0000,9,    20.61,    24.87
     49MR00K08, EQPAC,    12,  3,      9,      9,1,20010116, 651, -0.0483,-170.2130, 5550,      180,2,      181,2,   16.429,2,   35.220,2, -999.000,9,   117.73,2,  -999.00,9,      0.0,1,  -999.00,9,  -999.00,9,  -999.00,9,  -999.00,9,  -999.00,9,  -999.00,9,  -999.00,9,  -999.00,9,   -999.0,9,-999.0000,9,    16.40,    25.82
     49MR00K08, EQPAC,    12,  3,     10,     10,1,20010116, 651, -0.0483,-170.2130, 5550,      202,2,      203,2,   14.349,2,   35.051,2, -999.000,9,   117.33,2,  -999.00,9,      0.0,1,  -999.00,9,  -999.00,9,  -999.00,9,  -999.00,9,  -999.00,9,  -999.00,9,  -999.00,9,  -999.00,9,   -999.0,9,-999.0000,9,    14.32,    26.16
     49MR00K08, EQPAC,    12,  3,     11,     11,1,20010116, 651, -0.0483,-170.2130, 5550,       50,2,       50,2,   26.396,2,   35.368,2, -999.000,9,   155.77,2,  -999.00,9,      0.9,1,  -999.00,9,  -999.00,9,  -999.00,9,  -999.00,9,  -999.00,9,  -999.00,9,  -999.00,9,  -999.00,9,   -999.0,9,-999.0000,9,    26.38,    23.19
     49MR00K08, EQPAC,    12,  3,     12,     12,1,20010116, 651, -0.0483,-170.2130, 5550,      202,2,      203,2,   14.336,2,   35.051,2, -999.000,9,   118.07,2,  -999.00,9,      0.0,1,  -999.00,9,  -999.00,9,  -999.00,9,  -999.00,9,  -999.00,9,  -999.00,9,  -999.00,9,  -999.00,9,   -999.0,9,-999.0000,9,    14.31,    26.16