BOTTLE,20101227MIRCJHATS
EXPOCODE,SECT,STNNBR,CASTNO,SAMPNO,BTLNBR,BTLNBR_FLAG_W,DATE,TIME,LATITUDE,LONGITUDE,DEPTH,CTDDPT,CTDDPT_FLAG_W,CTDPRS,CTDPRS_FLAG_W,CTDTMP,CTDTMP_FLAG_W,CTDSAL,CTDSAL_FLAG_W,SALNTY,SALNTY_FLAG_W,CTDOXY,CTDOXY_FLAG_W,OXYGEN,OXYGEN_FLAG_W,FLUOR,FLUOR_FLAG_W,CHLORA,CHLORA_FLAG_W,CHLWELSH,CHLWELSH_W,PPHYTN,PPHYTN_FLAG_W,SILCAT,SILCAT_FLAG_W,NITRAT,NITRAT_FLAG_W,NITRIT,NITRIT_FLAG_W,PHSPHT,PHSPHT_FLAG_W,NH4,NH4_FLAG_W,TCARBN,TCARBN_FLAG_W,PH,PH_FLAG_W,THETA,SIG0
,,,,,,,,UTC,DEG,DEG,M,M,,DBAR,,ITS-90,,PSS-78,,PSS-78,,UMOL/KG,,UMOL/KG,,UG/L,,MG/CUM,,MG/CUM,,MG/CUM,,UMOL/KG,,UMOL/KG,,UMOL/KG,,UMOL/KG,,UMOL/KG,,UMOL/KG,,-,,DEG C,KG/CUM
     49MR00K08, EQPAC,     6,  4,     24,     24,1,20010124, 918,  0.0030, 160.0035, 2823,      200,2,      202,2,   18.370,2,   35.327,2,   35.327,2,   122.58,2,   142.22,2,      0.0,1,  -999.00,9,  -999.00,9,  -999.00,9,     2.76,2,    10.75,2,     0.01,2,     0.92,2,     0.00,3,   2105.5,2,   7.8861,5,    18.33,    25.44
     49MR00K08, EQPAC,     6,  4,     23,     23,1,20010124, 918,  0.0030, 160.0035, 2823,      251,2,      252,2,   13.832,2,   34.988,2,   34.981,2,   122.75,2,   140.32,2,      0.0,1,  -999.00,9,  -999.00,9,  -999.00,9,    14.00,2,    16.69,2,     0.01,2,     1.33,2,     0.00,3,   2145.0,2,   7.7829,5,    13.80,    26.22
     49MR00K08, EQPAC,     6,  4,     22,     22,1,20010124, 918,  0.0030, 160.0035, 2823,      301,2,      302,2,   12.738,2,   34.933,2,   34.939,2,   122.50,2,   139.40,2,      0.0,1,  -999.00,9,  -999.00,9,  -999.00,9,    15.14,2,    18.03,2,     0.01,2,     1.43,2,     0.00,3,   2153.3,2,   7.7620,5,    12.70,    26.40
     49MR00K08, EQPAC,     6,  4,     21,     21,1,20010124, 918,  0.0030, 160.0035, 2823,      350,2,      352,2,   11.774,2,   34.860,2,   34.858,2,   119.13,2,   132.88,2,      0.0,1,  -999.00,9,  -999.00,9,  -999.00,9,    17.84,2,    20.21,2,     0.01,2,     1.56,2,     0.00,3,   2165.1,2,   7.7282,5,    11.73,    26.53
     49MR00K08, EQPAC,     6,  4,     20,     20,1,20010124, 918,  0.0030, 160.0035, 2823,      401,2,      403,2,   10.643,2,   34.763,2,   34.761,2,    81.43,2,    94.41,2,      0.0,1,  -999.00,9,  -999.00,9,  -999.00,9,    24.53,2,    25.95,2,     0.01,2,     1.97,2,     0.02,3,   2203.2,2,   7.6276,5,    10.59,    26.66
     49MR00K08, EQPAC,     6,  4,     19,     19,1,20010124, 918,  0.0030, 160.0035, 2823,      400,2,      403,2,   10.592,2,   34.761,2,   34.759,2,    81.66,2,    94.91,2,      0.0,1,  -999.00,9,  -999.00,9,  -999.00,9,    24.91,2,    25.91,2,     0.01,2,     1.96,2,     0.01,3,   2202.7,2,   7.6309,5,    10.54,    26.67
     49MR00K08, EQPAC,     6,  4,     18,     18,1,20010124, 918,  0.0030, 160.0035, 2823,      450,2,      453,2,    9.229,2,   34.667,2,   34.659,2,    77.94,2,    90.00,2,      0.0,1,  -999.00,9,  -999.00,9,  -999.00,9,    31.69,2,    29.01,2,     0.01,2,     2.19,2,     0.00,3,   2221.1,2,   7.5811,5,     9.18,    26.83
     49MR00K08, EQPAC,     6,  4,     17,     17,1,20010124, 918,  0.0030, 160.0035, 2823,      501,2,      504,2,    8.763,2,   34.655,2,   34.654,2,    47.73,2,    61.54,2,      0.0,1,  -999.00,9,  -999.00,9,  -999.00,9,    36.12,2,    33.17,2,     0.00,2,     2.47,2,     0.00,3,   2249.5,2,   7.5067,5,     8.71,    26.89
     49MR00K08, EQPAC,     6,  4,     16,     16,1,20010124, 918,  0.0030, 160.0035, 2823,      550,2,      554,2,    7.822,2,   34.598,2,   34.595,2,    93.35,2,   102.31,2,      0.0,1,  -999.00,9,  -999.00,9,  -999.00,9,    35.89,2,    31.00,2,     0.01,2,     2.32,2,     0.02,3,   2228.9,2,   7.5672,5,     7.77,    26.99
     49MR00K08, EQPAC,     6,  4,     15,     15,1,20010124, 918,  0.0030, 160.0035, 2823,      600,2,      605,2,    7.147,2,   34.578,2,   34.576,2,    68.27,2,    79.02,2,      0.0,1,  -999.00,9,  -999.00,9,  -999.00,9,    44.05,2,    33.92,2,     0.00,2,     2.55,2,     0.02,3,   2252.8,2,   7.5165,5,     7.09,    27.07
     49MR00K08, EQPAC,     6,  4,     14,     14,1,20010124, 918,  0.0030, 160.0035, 2823,      701,2,      706,2,    6.353,2,   34.548,2,   34.546,2,    83.86,2,    95.79,2,      0.0,1,  -999.00,9,  -999.00,9,  -999.00,9,    50.32,2,    33.70,2,     0.00,2,     2.54,2,     0.03,3,   2252.6,2,   7.5319,5,     6.29,    27.16
     49MR00K08, EQPAC,     6,  4,     13,     13,1,20010124, 918,  0.0030, 160.0035, 2823,      801,2,      807,2,    5.739,2,   34.541,2,   34.541,2,    81.87,2,    91.80,2,      0.0,1,  -999.00,9,  -999.00,9,  -999.00,9,    59.36,2,    35.04,2,     0.00,2,     2.67,2,     0.04,3,   2266.7,2,   7.5148,5,     5.67,    27.23
     49MR00K08, EQPAC,     6,  4,     12,     12,1,20010124, 918,  0.0030, 160.0035, 2823,      901,2,      908,2,    5.139,2,   34.542,2,   34.541,2,    82.98,2,    94.72,2,      0.0,1,  -999.00,9,  -999.00,9,  -999.00,9,    67.95,2,    35.49,2,     0.00,2,     2.72,2,     0.00,3,   2279.9,2,   7.5147,5,     5.06,    27.31
     49MR00K08, EQPAC,     6,  4,     11,     11,1,20010124, 918,  0.0030, 160.0035, 2823,     1000,2,     1008,2,    4.542,2,   34.554,2,   34.552,2,    81.81,2,    94.20,2,      0.0,1,  -999.00,9,  -999.00,9,  -999.00,9,    79.96,2,    36.07,2,     0.01,2,     2.78,2,     0.00,3,   2294.5,2,   7.5101,5,     4.46,    27.38
     49MR00K08, EQPAC,     6,  4,     10,     10,1,20010124, 918,  0.0030, 160.0035, 2823,     1000,2,     1008,2,    4.541,2,   34.554,2,   34.552,2,    81.87,2,    93.97,2,      0.0,1,  -999.00,9,  -999.00,9,  -999.00,9,    80.51,2,    36.18,2,     0.01,2,     2.78,2,     0.02,3,   2295.2,2,   7.5126,5,     4.46,    27.38
     49MR00K08, EQPAC,     6,  4,      9,      9,1,20010124, 918,  0.0030, 160.0035, 2823,     1250,2,     1261,2,    3.659,2,   34.578,2,   34.576,2,    90.77,2,   103.81,2,      0.0,1,  -999.00,9,  -999.00,9,  -999.00,9,    99.47,2,    36.00,2,     0.01,2,     2.77,2,     0.02,3,   2309.3,2,   7.5204,5,     3.56,    27.49
     49MR00K08, EQPAC,     6,  4,      8,      8,1,20010124, 918,  0.0030, 160.0035, 2823,     1500,2,     1514,2,    2.977,2,   34.606,2,   34.603,2,    89.80,2,   102.93,2,      0.0,1,  -999.00,9,  -999.00,9,  -999.00,9,   118.49,2,    36.80,2,     0.01,2,     2.83,2,     0.00,3,   2328.6,2,   7.5173,5,     2.87,    27.58
     49MR00K08, EQPAC,     6,  4,      7,      7,1,20010124, 918,  0.0030, 160.0035, 2823,     1750,2,     1767,2,    2.595,2,   34.623,2,   34.620,2,    96.97,2,   110.66,2,      0.0,1,  -999.00,9,  -999.00,9,  -999.00,9,   128.16,2,    36.28,2,     0.01,2,     2.80,2,     0.01,3,   2333.0,2,   7.5258,5,     2.47,    27.63
     49MR00K08, EQPAC,     6,  4,      6,      6,1,20010124, 918,  0.0030, 160.0035, 2823,     2001,2,     2021,2,    2.281,2,   34.639,2,   34.636,2,   103.16,2,   116.73,2,      0.0,1,  -999.00,9,  -999.00,9,  -999.00,9,   136.07,2,    36.05,2,     0.01,2,     2.76,2,     0.01,3,   2338.5,2,   7.5354,5,     2.14,    27.67
     49MR00K08, EQPAC,     6,  4,      5,      5,1,20010124, 918,  0.0030, 160.0035, 2823,     2000,2,     2021,2,    2.281,2,   34.639,2,   34.636,2,   103.18,2,   116.69,2,      0.0,1,  -999.00,9,  -999.00,9,  -999.00,9,   136.95,2,    36.13,2,     0.00,2,     2.76,2,     0.01,3,   2338.0,2,   7.5349,5,     2.14,    27.67
     49MR00K08, EQPAC,     6,  4,      4,      4,1,20010124, 918,  0.0030, 160.0035, 2823,     2248,2,     2273,2,    2.028,2,   34.652,2,   34.756,3,   110.02,2,   101.39,3,      0.0,1,  -999.00,9,  -999.00,9,  -999.00,9,    87.49,3,    32.74,3,     0.00,3,     2.50,3,     0.01,3,   -999.0,9,-999.0000,9,     1.87,    27.70
     49MR00K08, EQPAC,     6,  4,      3,      3,1,20010124, 918,  0.0030, 160.0035, 2823,     2500,2,     2529,2,    1.833,2,   34.662,2,   34.659,2,   114.83,2,   128.03,2,      0.0,1,  -999.00,9,  -999.00,9,  -999.00,9,   145.26,2,    35.35,2,     0.00,2,     2.68,2,     0.04,3,   2339.6,2,   7.5526,5,     1.65,    27.73
     49MR00K08, EQPAC,     6,  4,      2,      2,1,20010124, 918,  0.0030, 160.0035, 2823,     2802,2,     2836,2,    1.699,2,   34.671,2,   34.667,2,   121.46,2,   134.02,2,      0.0,1,  -999.00,9,  -999.00,9,  -999.00,9,   146.00,2,    35.09,2,     0.00,2,     2.64,2,     0.00,3,   2340.3,2,   7.5613,5,     1.49,    27.75
     49MR00K08, EQPAC,     6,  4,      1,      1,1,20010124, 918,  0.0030, 160.0035, 2823,     2801,2,     2836,2,    1.699,2,   34.671,2,   34.667,2,   121.59,2,   133.75,2,      0.0,1,  -999.00,9,  -999.00,9,  -999.00,9,   145.43,2,    35.07,2,     0.00,2,     2.67,2,     0.00,3,   2338.6,2,   7.5603,5,     1.49,    27.75
     49MR00K08, EQPAC,     5,  1,      0,      0,1,20010126,   8,  0.0005, 155.8632, 1947,     -999,9,     -999,9,   30.500,2, -999.000,9,   35.199,2,  -999.00,9,   193.77,2,   -999.0,9,     0.13,2,     0.15,2,     0.06,2,     1.13,2,     0.00,2,     0.02,2,     0.20,2,     0.05,3,   1960.7,2,   8.1245,5,  -999.00,  -999.00
     49MR00K08, EQPAC,     5,  1,      1,      1,1,20010125,2356,  0.0000, 155.8620, 1947,        8,2,        8,2,   30.341,2,   35.178,2,   35.180,2,   150.79,2,  -999.00,9,      0.1,1,     0.13,2,     0.15,2,     0.05,2,     1.08,2,     0.00,2,     0.00,2,     0.18,2,     0.00,3,   1960.2,2,   8.1245,5,    30.34,    21.74
     49MR00K08, EQPAC,     5,  1,      2,      2,1,20010125,2356,  0.0000, 155.8620, 1947,       19,2,       19,2,   30.338,2,   35.178,2,   35.181,2,   151.31,2,   194.37,2,      0.1,1,     0.11,2,     0.14,2,     0.05,2,     1.09,2,     0.00,2,     0.00,2,     0.17,2,     0.01,3,   1961.3,2,   8.1262,5,    30.33,    21.75
     49MR00K08, EQPAC,     5,  1,      3,      3,1,20010125,2356,  0.0000, 155.8620, 1947,       30,2,       30,2,   30.334,2,   35.176,2,   35.179,2,   150.89,2,   194.83,2,      0.1,1,     0.10,2,     0.13,2,     0.05,2,     1.15,2,     0.00,2,     0.00,2,     0.17,2,     0.00,3,   1961.8,2,   8.1263,5,    30.33,    21.75
     49MR00K08, EQPAC,     5,  1,      4,      4,1,20010125,2356,  0.0000, 155.8620, 1947,       40,2,       40,2,   30.332,2,   35.175,2,   35.180,2,   150.42,2,   194.88,2,      0.1,1,     0.13,2,     0.17,2,     0.06,2,     1.13,2,     0.00,2,     0.00,2,     0.16,2,     0.01,3,   1961.1,2,   8.1264,5,    30.32,    21.75
     49MR00K08, EQPAC,     5,  1,      6,      6,1,20010125,2356,  0.0000, 155.8620, 1947,       60,2,       60,2,   30.322,2,   35.174,2,   35.180,2,   151.38,2,   194.11,2,      0.2,1,     0.14,2,     0.18,2,     0.07,2,     1.23,2,     0.00,2,     0.00,2,     0.16,2,     0.21,3,   1961.5,2,   8.1251,5,    30.31,    21.75
     49MR00K08, EQPAC,     5,  1,      7,      7,1,20010125,2356,  0.0000, 155.8620, 1947,       70,2,       71,2,   30.314,2,   35.174,2,   35.181,2,   151.47,2,   194.01,2,      0.2,1,     0.16,2,     0.21,2,     0.08,2,     1.39,2,     0.00,2,     0.00,2,     0.17,2,     0.02,3,   1961.6,2,   8.1256,5,    30.30,    21.75
     49MR00K08, EQPAC,     5,  1,      8,      8,1,20010125,2356,  0.0000, 155.8620, 1947,       79,2,       80,2,   30.297,2,   35.172,2,   35.179,2,   152.31,2,   194.00,2,      0.2,1,     0.16,2,     0.20,2,     0.09,2,     1.14,2,     0.00,2,     0.00,2,     0.17,2,     0.04,3,   1960.5,2,   8.1243,5,    30.28,    21.76
     49MR00K08, EQPAC,     5,  1,      9,      9,1,20010125,2356,  0.0000, 155.8620, 1947,       89,2,       90,2,   30.184,2,   35.170,2,   35.187,2,   154.61,2,   195.56,2,      0.3,1,     0.20,2,     0.24,2,     0.12,2,     1.24,2,     0.00,2,     0.00,2,     0.21,2,     0.05,3,   1966.6,2,   8.1165,5,    30.16,    21.80
     49MR00K08, EQPAC,     5,  1,     10,     10,1,20010125,2356,  0.0000, 155.8620, 1947,       99,2,      100,2,   29.856,2,   35.215,2,   35.210,2,   157.74,2,   194.60,2,      0.5,1,     0.23,2,     0.28,2,     0.13,2,     1.23,2,     0.00,2,     0.00,2,     0.22,2,     0.06,3,   1969.6,2,   8.1115,5,    29.83,    21.94
     49MR00K08, EQPAC,     5,  1,      5,      5,1,20010125,2356,  0.0000, 155.8620, 1947,      110,2,      111,2,   29.554,2,   35.121,2,   35.134,2,   157.75,2,   194.05,2,      0.4,1,     0.24,2,     0.30,2,     0.16,2,     1.22,2,     0.00,2,     0.01,2,     0.22,2,     0.16,3,   1972.7,2,   8.1055,5,    29.53,    21.98
     49MR00K08, EQPAC,     5,  1,     11,     11,1,20010125,2356,  0.0000, 155.8620, 1947,      120,2,      121,2,   29.562,2,   35.249,2,   35.248,2,   157.53,2,   192.98,2,      0.5,1,     0.20,2,     0.27,2,     0.17,2,     1.32,2,     0.04,2,     0.02,2,     0.25,2,     0.32,3,   1980.7,2,   8.1030,5,    29.53,    22.07
     49MR00K08, EQPAC,     5,  1,     12,     12,1,20010125,2356,  0.0000, 155.8620, 1947,      149,2,      149,2,   22.873,2,   35.294,2,   35.286,2,   120.97,2,   143.27,2,      0.1,1,     0.05,2,     0.11,2,     0.13,2,     4.88,2,     8.81,2,     0.01,2,     0.77,2,     0.00,3,   2071.9,2,   7.9462,5,    22.84,    24.20
     49MR00K08, EQPAC,     5,  1,     13,     13,1,20010125,2356,  0.0000, 155.8620, 1947,      200,2,      201,2,   18.445,2,   35.327,2, -999.000,9,   124.16,2,   142.87,2,      0.0,1,     0.00,2,     0.01,2,     0.03,2,  -999.00,9,  -999.00,9,  -999.00,9,  -999.00,9,  -999.00,9,   2104.8,2,   7.8888,5,    18.41,    25.42
     49MR00K08, EQPAC,     5,  1,     14,     14,1,20010125,2356,  0.0000, 155.8620, 1947,       20,2,       20,2,   30.340,2,   35.178,2, -999.000,9,   150.41,2,  -999.00,9,      0.1,1,  -999.00,9,  -999.00,9,  -999.00,9,  -999.00,9,  -999.00,9,  -999.00,9,  -999.00,9,  -999.00,9,   -999.0,9,-999.0000,9,    30.33,    21.74
     49MR00K08, EQPAC,     5,  1,     15,     15,1,20010125,2356,  0.0000, 155.8620, 1947,       39,2,       40,2,   30.333,2,   35.175,2, -999.000,9,   151.54,2,  -999.00,9,      0.1,1,  -999.00,9,  -999.00,9,  -999.00,9,  -999.00,9,  -999.00,9,  -999.00,9,  -999.00,9,  -999.00,9,   -999.0,9,-999.0000,9,    30.32,    21.75
     49MR00K08, EQPAC,     5,  1,     16,     16,1,20010125,2356,  0.0000, 155.8620, 1947,       60,2,       60,2,   30.325,2,   35.174,2, -999.000,9,   150.72,2,  -999.00,9,      0.2,1,  -999.00,9,  -999.00,9,  -999.00,9,  -999.00,9,  -999.00,9,  -999.00,9,  -999.00,9,  -999.00,9,   -999.0,9,-999.0000,9,    30.31,    21.75
     49MR00K08, EQPAC,     5,  1,     17,     17,1,20010125,2356,  0.0000, 155.8620, 1947,       79,2,       80,2,   30.299,2,   35.172,2, -999.000,9,   153.34,2,  -999.00,9,      0.3,1,  -999.00,9,  -999.00,9,  -999.00,9,  -999.00,9,  -999.00,9,  -999.00,9,  -999.00,9,  -999.00,9,   -999.0,9,-999.0000,9,    30.28,    21.76
     49MR00K08, EQPAC,     5,  1,     18,     18,1,20010125,2356,  0.0000, 155.8620, 1947,      100,2,      100,2,   29.866,2,   35.220,2, -999.000,9,   156.68,2,  -999.00,9,      0.5,1,  -999.00,9,  -999.00,9,  -999.00,9,  -999.00,9,  -999.00,9,  -999.00,9,  -999.00,9,  -999.00,9,   -999.0,9,-999.0000,9,    29.84,    21.95
     49MR00K08, EQPAC,     5,  1,     19,     19,1,20010125,2356,  0.0000, 155.8620, 1947,      120,2,      121,2,   29.540,2,   35.225,2, -999.000,9,   158.86,2,  -999.00,9,      0.5,1,  -999.00,9,  -999.00,9,  -999.00,9,  -999.00,9,  -999.00,9,  -999.00,9,  -999.00,9,  -999.00,9,   -999.0,9,-999.0000,9,    29.51,    22.06
     49MR00K08, EQPAC,     5,  1,     20,     20,1,20010125,2356,  0.0000, 155.8620, 1947,      139,2,      140,2,   25.275,2,   35.350,2, -999.000,9,   127.27,2,  -999.00,9,      0.1,1,  -999.00,9,  -999.00,9,  -999.00,9,  -999.00,9,  -999.00,9,  -999.00,9,  -999.00,9,  -999.00,9,   -999.0,9,-999.0000,9,    25.24,    23.53
     49MR00K08, EQPAC,     5,  1,     21,     21,1,20010125,2356,  0.0000, 155.8620, 1947,      160,2,      161,2,   22.036,2,   35.218,2, -999.000,9,   120.14,2,  -999.00,9,      0.1,1,  -999.00,9,  -999.00,9,  -999.00,9,  -999.00,9,  -999.00,9,  -999.00,9,  -999.00,9,  -999.00,9,   -999.0,9,-999.0000,9,    22.00,    24.38
     49MR00K08, EQPAC,     5,  1,     22,     22,1,20010125,2356,  0.0000, 155.8620, 1947,      181,2,      182,2,   20.401,2,   34.984,2, -999.000,9,   124.36,2,  -999.00,9,      0.0,1,  -999.00,9,  -999.00,9,  -999.00,9,  -999.00,9,  -999.00,9,  -999.00,9,  -999.00,9,  -999.00,9,   -999.0,9,-999.0000,9,    20.37,    24.65
     49MR00K08, EQPAC,     5,  1,     23,     23,1,20010125,2356,  0.0000, 155.8620, 1947,      200,2,      202,2,   18.424,2,   35.331,2, -999.000,9,   124.66,2,  -999.00,9,      0.0,1,  -999.00,9,  -999.00,9,  -999.00,9,  -999.00,9,  -999.00,9,  -999.00,9,  -999.00,9,  -999.00,9,   -999.0,9,-999.0000,9,    18.39,    25.43
     49MR00K08, EQPAC,     5,  1,     24,     24,1,20010125,2356,  0.0000, 155.8620, 1947,      100,2,      101,2,   29.806,2,   35.211,2, -999.000,9,   150.82,2,  -999.00,9,      0.5,1,     0.05,2,     0.24,2,     0.37,2,  -999.00,9,  -999.00,9,  -999.00,9,  -999.00,9,  -999.00,9,   -999.0,9,-999.0000,9,    29.78,    21.96