BOTTLE,20101227MIRCJHATS
EXPOCODE,SECT,STNNBR,CASTNO,SAMPNO,BTLNBR,BTLNBR_FLAG_W,DATE,TIME,LATITUDE,LONGITUDE,DEPTH,CTDDPT,CTDDPT_FLAG_W,CTDPRS,CTDPRS_FLAG_W,CTDTMP,CTDTMP_FLAG_W,CTDSAL,CTDSAL_FLAG_W,SALNTY,SALNTY_FLAG_W,CTDOXY,CTDOXY_FLAG_W,OXYGEN,OXYGEN_FLAG_W,FLUOR,FLUOR_FLAG_W,CHLORA,CHLORA_FLAG_W,CHLWELSH,CHLWELSH_W,PPHYTN,PPHYTN_FLAG_W,SILCAT,SILCAT_FLAG_W,NITRAT,NITRAT_FLAG_W,NITRIT,NITRIT_FLAG_W,PHSPHT,PHSPHT_FLAG_W,NH4,NH4_FLAG_W,TCARBN,TCARBN_FLAG_W,PH,PH_FLAG_W,THETA,SIG0
,,,,,,,,UTC,DEG,DEG,M,M,,DBAR,,ITS-90,,PSS-78,,PSS-78,,UMOL/KG,,UMOL/KG,,UG/L,,MG/CUM,,MG/CUM,,MG/CUM,,UMOL/KG,,UMOL/KG,,UMOL/KG,,UMOL/KG,,UMOL/KG,,UMOL/KG,,-,,DEG C,KG/CUM
     49MR00K08, EQPAC,     3,  3,      0,      0,1,20010129, 105, -0.0163, 144.9903, 3776,     -999,9,     -999,9,   30.500,2, -999.000,9,   34.469,2,  -999.00,9,   194.04,2,   -999.0,9,     0.07,2,     0.07,2,     0.02,2,     0.91,2,     0.00,2,     0.01,2,     0.11,2,     0.03,3,   1907.3,2,   8.1492,5,  -999.00,  -999.00
     49MR00K08, EQPAC,     3,  3,      1,      1,1,20010129, 111, -0.0167, 144.9903, 3776,       10,2,       10,2,   30.518,2,   34.416,2,   34.418,2,   151.54,2,   194.84,2,      0.0,1,     0.07,2,     0.08,2,     0.02,2,     1.09,2,     0.00,2,     0.02,2,     0.09,2,     0.00,3,   1907.3,2,   8.1507,5,    30.52,    21.11
     49MR00K08, EQPAC,     3,  3,      2,      2,1,20010129, 111, -0.0167, 144.9903, 3776,       19,2,       19,2,   30.488,2,   34.437,2,   34.442,2,   152.88,2,   195.68,2,      0.0,1,     0.07,2,     0.08,2,     0.02,2,     1.10,2,     0.00,2,     0.01,2,     0.10,2,     0.02,3,   1908.1,2,   8.1507,5,    30.48,    21.14
     49MR00K08, EQPAC,     3,  3,      3,      3,1,20010129, 111, -0.0167, 144.9903, 3776,       40,2,       41,2,   30.113,2,   34.653,2,   34.644,2,   152.55,2,   197.75,2,      0.0,1,     0.08,2,     0.09,2,     0.03,2,     1.19,2,     0.00,2,     0.01,2,     0.14,2,     0.00,3,   1925.2,2,   8.1387,5,    30.10,    21.43
     49MR00K08, EQPAC,     3,  3,      4,      4,1,20010129, 111, -0.0167, 144.9903, 3776,       61,2,       61,2,   30.114,2,   35.144,2,   35.137,2,   154.62,2,   196.44,2,      0.1,1,     0.15,2,     0.18,2,     0.07,2,     0.96,2,     0.00,2,     0.02,2,     0.21,2,     0.00,3,   1962.5,2,   8.1200,5,    30.10,    21.80
     49MR00K08, EQPAC,     3,  3,      5,      5,1,20010129, 111, -0.0167, 144.9903, 3776,       71,2,       71,2,   29.835,2,   35.200,2,   35.204,2,   151.57,2,   193.32,2,      0.3,1,     0.25,2,     0.34,2,     0.20,2,     0.94,2,     0.00,2,     0.01,2,     0.23,2,     0.00,3,   1971.8,2,   8.1079,5,    29.82,    21.94
     49MR00K08, EQPAC,     3,  3,      6,      6,1,20010129, 111, -0.0167, 144.9903, 3776,       79,2,       80,2,   29.764,2,   35.202,2,   35.206,2,   152.37,2,   192.76,2,      0.5,1,     0.26,2,     0.40,2,     0.31,2,     1.15,2,     0.00,2,     0.02,2,     0.23,2,     0.00,3,   1975.3,2,   8.1037,5,    29.74,    21.96
     49MR00K08, EQPAC,     3,  3,      7,      7,1,20010129, 111, -0.0167, 144.9903, 3776,       90,2,       91,2,   29.576,2,   35.279,2,   35.279,2,   150.46,2,   189.26,2,      0.7,1,     0.36,2,     0.51,2,     0.41,2,     1.36,2,     0.23,2,     0.33,2,     0.28,2,     0.00,3,   1986.4,2,   8.0951,5,    29.55,    22.09
     49MR00K08, EQPAC,     3,  3,      8,      8,1,20010129, 111, -0.0167, 144.9903, 3776,      100,2,      100,2,   29.455,2,   35.319,2,   35.332,2,   148.53,2,   185.79,2,      0.4,1,     0.29,2,     0.41,2,     0.33,2,     1.24,2,     0.88,2,     0.56,2,     0.33,2,     0.00,3,   1992.1,2,   8.0888,5,    29.43,    22.16
     49MR00K08, EQPAC,     3,  3,      9,      9,1,20010129, 111, -0.0167, 144.9903, 3776,      109,2,      110,2,   27.531,2,   35.437,2,   35.439,2,   132.71,2,   163.71,2,      0.3,1,     0.13,2,     0.23,2,     0.23,2,     2.25,2,     5.49,2,     0.05,2,     0.60,2,     0.02,3,   2031.9,2,   8.0267,5,    27.51,    22.88
     49MR00K08, EQPAC,     3,  3,     10,     10,1,20010129, 111, -0.0167, 144.9903, 3776,      119,2,      120,2,   25.879,2,   35.402,2,   35.394,2,   124.06,2,   152.17,2,      0.3,1,     0.12,2,     0.24,2,     0.28,2,     2.79,2,     7.10,2,     0.03,2,     0.68,2,     0.00,3,   2048.5,2,   7.9944,5,    25.85,    23.38
     49MR00K08, EQPAC,     3,  3,     11,     11,1,20010129, 111, -0.0167, 144.9903, 3776,      130,2,      131,2,   25.554,2,   35.366,2, -999.000,9,   121.95,2,   150.17,2,      0.3,1,     0.09,2,     0.22,2,     0.30,2,  -999.00,9,  -999.00,9,  -999.00,9,  -999.00,9,  -999.00,9,   2049.3,2,   7.9887,5,    25.52,    23.46
     49MR00K08, EQPAC,     3,  3,     12,     12,1,20010129, 111, -0.0167, 144.9903, 3776,      149,2,      150,2,   23.943,2,   35.482,2,   35.485,2,   116.67,2,   144.31,2,      0.1,1,     0.04,2,     0.09,2,     0.11,2,     2.86,2,     8.21,2,     0.02,2,     0.75,2,     0.00,3,   2067.2,2,   7.9674,5,    23.91,    24.03
     49MR00K08, EQPAC,     3,  3,     13,     13,1,20010129, 111, -0.0167, 144.9903, 3776,      201,2,      202,2,   19.258,2,   35.417,2,   35.401,2,   116.17,2,   143.80,2,      0.0,1,     0.00,2,     0.01,2,     0.03,2,     4.85,2,    10.15,2,     0.03,2,     0.87,2,     0.01,3,   2095.7,2,   7.9087,5,    19.22,    25.28
     49MR00K08, EQPAC,     3,  3,     14,     14,1,20010129, 111, -0.0167, 144.9903, 3776,        9,2,        9,2,   30.540,2,   34.417,2, -999.000,9,   150.78,2,  -999.00,9,      0.0,1,  -999.00,9,  -999.00,9,  -999.00,9,  -999.00,9,  -999.00,9,  -999.00,9,  -999.00,9,  -999.00,9,   -999.0,9,-999.0000,9,    30.54,    21.10
     49MR00K08, EQPAC,     3,  3,     15,     15,1,20010129, 111, -0.0167, 144.9903, 3776,       20,2,       20,2,   30.486,2,   34.440,2, -999.000,9,   151.00,2,  -999.00,9,      0.0,1,  -999.00,9,  -999.00,9,  -999.00,9,  -999.00,9,  -999.00,9,  -999.00,9,  -999.00,9,  -999.00,9,   -999.0,9,-999.0000,9,    30.48,    21.14
     49MR00K08, EQPAC,     3,  3,     16,     16,1,20010129, 111, -0.0167, 144.9903, 3776,       40,2,       40,2,   30.105,2,   34.649,2, -999.000,9,   153.74,2,  -999.00,9,      0.0,1,  -999.00,9,  -999.00,9,  -999.00,9,  -999.00,9,  -999.00,9,  -999.00,9,  -999.00,9,  -999.00,9,   -999.0,9,-999.0000,9,    30.10,    21.43
     49MR00K08, EQPAC,     3,  3,     17,     17,1,20010129, 111, -0.0167, 144.9903, 3776,       59,2,       59,2,   30.107,2,   35.136,2, -999.000,9,   154.33,2,  -999.00,9,      0.1,1,  -999.00,9,  -999.00,9,  -999.00,9,  -999.00,9,  -999.00,9,  -999.00,9,  -999.00,9,  -999.00,9,   -999.0,9,-999.0000,9,    30.09,    21.80
     49MR00K08, EQPAC,     3,  3,     18,     18,1,20010129, 111, -0.0167, 144.9903, 3776,       70,2,       70,2,   29.868,2,   35.198,2, -999.000,9,   152.30,2,  -999.00,9,      0.3,1,  -999.00,9,  -999.00,9,  -999.00,9,  -999.00,9,  -999.00,9,  -999.00,9,  -999.00,9,  -999.00,9,   -999.0,9,-999.0000,9,    29.85,    21.93
     49MR00K08, EQPAC,     3,  3,     19,     19,1,20010129, 111, -0.0167, 144.9903, 3776,       80,2,       80,2,   29.750,2,   35.199,2, -999.000,9,   152.28,2,  -999.00,9,      0.5,1,  -999.00,9,  -999.00,9,  -999.00,9,  -999.00,9,  -999.00,9,  -999.00,9,  -999.00,9,  -999.00,9,   -999.0,9,-999.0000,9,    29.73,    21.97
     49MR00K08, EQPAC,     3,  3,     20,     20,1,20010129, 111, -0.0167, 144.9903, 3776,       90,2,       90,2,   29.575,2,   35.281,2, -999.000,9,   151.03,2,  -999.00,9,      0.6,1,     0.35,2,     0.50,2,     0.40,2,  -999.00,9,  -999.00,9,  -999.00,9,  -999.00,9,  -999.00,9,   -999.0,9,-999.0000,9,    29.55,    22.09
     49MR00K08, EQPAC,     3,  3,     21,     21,1,20010129, 111, -0.0167, 144.9903, 3776,      101,2,      102,2,   29.405,2,   35.333,2, -999.000,9,   148.36,2,  -999.00,9,      0.4,1,  -999.00,9,  -999.00,9,  -999.00,9,  -999.00,9,  -999.00,9,  -999.00,9,  -999.00,9,  -999.00,9,   -999.0,9,-999.0000,9,    29.38,    22.19
     49MR00K08, EQPAC,     3,  3,     22,     22,1,20010129, 111, -0.0167, 144.9903, 3776,      109,2,      109,2,   27.628,2,   35.435,2, -999.000,9,   132.81,2,  -999.00,9,      0.3,1,  -999.00,9,  -999.00,9,  -999.00,9,  -999.00,9,  -999.00,9,  -999.00,9,  -999.00,9,  -999.00,9,   -999.0,9,-999.0000,9,    27.60,    22.85
     49MR00K08, EQPAC,     3,  3,     23,     23,1,20010129, 111, -0.0167, 144.9903, 3776,      140,2,      141,2,   24.340,2,   35.265,2, -999.000,9,   120.67,2,  -999.00,9,      0.2,1,  -999.00,9,  -999.00,9,  -999.00,9,  -999.00,9,  -999.00,9,  -999.00,9,  -999.00,9,  -999.00,9,   -999.0,9,-999.0000,9,    24.31,    23.75
     49MR00K08, EQPAC,     3,  3,     24,     24,1,20010129, 111, -0.0167, 144.9903, 3776,      200,2,      202,2,   19.282,2,   35.410,2, -999.000,9,   115.96,2,  -999.00,9,      0.0,1,  -999.00,9,  -999.00,9,  -999.00,9,  -999.00,9,  -999.00,9,  -999.00,9,  -999.00,9,  -999.00,9,   -999.0,9,-999.0000,9,    19.25,    25.27
     49MR00K08, EQPAC,     3,  4,      0,      0,1,20010129, 641,  0.0025, 144.8850, 3842,     -999,9,     -999,9,   30.500,2, -999.000,9, -999.000,9,  -999.00,9,  -999.00,9,   -999.0,9,     0.06,2,     0.08,2,     0.02,2,  -999.00,9,  -999.00,9,  -999.00,9,  -999.00,9,  -999.00,9,   -999.0,9,-999.0000,9,  -999.00,  -999.00
     49MR00K08, EQPAC,     3,  4,      1,      1,1,20010129, 647,  0.0027, 144.8847, 3842,       20,2,       20,2,   30.535,2,   34.417,2, -999.000,9,   152.60,2,  -999.00,9,      0.0,1,  -999.00,9,  -999.00,9,  -999.00,9,  -999.00,9,  -999.00,9,  -999.00,9,  -999.00,9,  -999.00,9,   -999.0,9,-999.0000,9,    30.53,    21.11
     49MR00K08, EQPAC,     3,  4,      2,      2,1,20010129, 647,  0.0027, 144.8847, 3842,       40,2,       40,2,   30.037,2,   34.556,2, -999.000,9,   157.56,2,  -999.00,9,      0.1,1,  -999.00,9,  -999.00,9,  -999.00,9,  -999.00,9,  -999.00,9,  -999.00,9,  -999.00,9,  -999.00,9,   -999.0,9,-999.0000,9,    30.03,    21.38
     49MR00K08, EQPAC,     3,  4,      3,      3,1,20010129, 647,  0.0027, 144.8847, 3842,       60,2,       61,2,   30.160,2,   35.131,2, -999.000,9,   157.25,2,  -999.00,9,      0.1,1,  -999.00,9,  -999.00,9,  -999.00,9,  -999.00,9,  -999.00,9,  -999.00,9,  -999.00,9,  -999.00,9,   -999.0,9,-999.0000,9,    30.15,    21.77
     49MR00K08, EQPAC,     3,  4,      4,      4,1,20010129, 647,  0.0027, 144.8847, 3842,       80,2,       81,2,   29.559,2,   35.281,2, -999.000,9,   151.92,2,  -999.00,9,      0.7,1,  -999.00,9,  -999.00,9,  -999.00,9,  -999.00,9,  -999.00,9,  -999.00,9,  -999.00,9,  -999.00,9,   -999.0,9,-999.0000,9,    29.54,    22.09
     49MR00K08, EQPAC,     3,  4,      5,      5,1,20010129, 647,  0.0027, 144.8847, 3842,      100,2,      100,2,   26.667,2,   35.429,2, -999.000,9,   127.13,2,  -999.00,9,      0.3,1,  -999.00,9,  -999.00,9,  -999.00,9,  -999.00,9,  -999.00,9,  -999.00,9,  -999.00,9,  -999.00,9,   -999.0,9,-999.0000,9,    26.64,    23.15
     49MR00K08, EQPAC,     3,  4,      6,      6,1,20010129, 647,  0.0027, 144.8847, 3842,      119,2,      120,2,   25.319,2,   35.337,2, -999.000,9,   122.00,2,  -999.00,9,      0.3,1,  -999.00,9,  -999.00,9,  -999.00,9,  -999.00,9,  -999.00,9,  -999.00,9,  -999.00,9,  -999.00,9,   -999.0,9,-999.0000,9,    25.29,    23.51
     49MR00K08, EQPAC,     3,  4,      7,      7,1,20010129, 647,  0.0027, 144.8847, 3842,      139,2,      140,2,   24.442,2,   35.432,2, -999.000,9,   118.10,2,  -999.00,9,      0.1,1,  -999.00,9,  -999.00,9,  -999.00,9,  -999.00,9,  -999.00,9,  -999.00,9,  -999.00,9,  -999.00,9,   -999.0,9,-999.0000,9,    24.41,    23.85
     49MR00K08, EQPAC,     3,  4,      8,      8,1,20010129, 647,  0.0027, 144.8847, 3842,      161,2,      162,2,   22.419,2,   35.325,2, -999.000,9,   115.96,2,  -999.00,9,      0.0,1,  -999.00,9,  -999.00,9,  -999.00,9,  -999.00,9,  -999.00,9,  -999.00,9,  -999.00,9,  -999.00,9,   -999.0,9,-999.0000,9,    22.39,    24.36
     49MR00K08, EQPAC,     3,  4,      9,      9,1,20010129, 647,  0.0027, 144.8847, 3842,      181,2,      182,2,   20.108,2,   35.282,2, -999.000,9,   118.17,2,  -999.00,9,      0.0,1,  -999.00,9,  -999.00,9,  -999.00,9,  -999.00,9,  -999.00,9,  -999.00,9,  -999.00,9,  -999.00,9,   -999.0,9,-999.0000,9,    20.07,    24.96
     49MR00K08, EQPAC,     3,  4,     10,     10,1,20010129, 647,  0.0027, 144.8847, 3842,      200,2,      201,2,   19.059,2,   35.435,2, -999.000,9,   117.02,2,  -999.00,9,      0.0,1,  -999.00,9,  -999.00,9,  -999.00,9,  -999.00,9,  -999.00,9,  -999.00,9,  -999.00,9,  -999.00,9,   -999.0,9,-999.0000,9,    19.02,    25.35
     49MR00K08, EQPAC,     3,  4,     12,     12,1,20010129, 647,  0.0027, 144.8847, 3842,      200,2,      201,2,   19.040,2,   35.433,2, -999.000,9,   116.81,2,  -999.00,9,      0.0,1,  -999.00,9,  -999.00,9,  -999.00,9,  -999.00,9,  -999.00,9,  -999.00,9,  -999.00,9,  -999.00,9,   -999.0,9,-999.0000,9,    19.00,    25.35
     49MR00K08, EQPAC,     3,  4,     13,     13,1,20010129, 647,  0.0027, 144.8847, 3842,       80,2,       80,2,   29.563,2,   35.282,2, -999.000,9,   149.94,2,  -999.00,9,      0.7,1,  -999.00,9,  -999.00,9,  -999.00,9,  -999.00,9,  -999.00,9,  -999.00,9,  -999.00,9,  -999.00,9,   -999.0,9,-999.0000,9,    29.54,    22.09
     49MR00K08, EQPAC,     3,  4,     14,     14,1,20010129, 647,  0.0027, 144.8847, 3842,       81,2,       81,2,   29.562,2,   35.286,2, -999.000,9,   151.71,2,  -999.00,9,      0.7,1,     0.22,2,     0.35,2,     0.32,2,  -999.00,9,  -999.00,9,  -999.00,9,  -999.00,9,  -999.00,9,   -999.0,9,-999.0000,9,    29.54,    22.10
     49MR00K08, EQPAC,     3,  4,     15,     15,1,20010129, 647,  0.0027, 144.8847, 3842,       81,2,       81,2,   29.564,2,   35.282,2, -999.000,9,   151.11,2,  -999.00,9,      0.8,1,  -999.00,9,  -999.00,9,  -999.00,9,  -999.00,9,  -999.00,9,  -999.00,9,  -999.00,9,  -999.00,9,   -999.0,9,-999.0000,9,    29.54,    22.09