BOTTLE,20120607MIRCJHATS
EXPOCODE,STNNBR,CASTNO,SAMPNO,BTLNBR,BTLNBR_FLAG_W,DATE,TIME,LATITUDE,LONGITUDE,DEPTH,CTDPRS,CTDTMP,CTDSAL,CTDSAL_FLAG_W,SALNTY,SALNTY_FLAG_W,OXYGEN,OXYGEN_FLAG_W,NITRAT,NITRAT_FLAG_W,NITRIT,NITRIT_FLAG_W,SILCAT,SILCAT_FLAG_W,PHSPHT,PHSPHT_FLAG_W,NH4,NH4_FLAG_W,ALKALI,ALKALI_FLAG_W,PH,PH_FLAG_W,TCARBN,TCARBN_FLAG_W
,,,,,,,,,,METERS,DBARS,,,,,,UMOL/KG,,UMOL/KG,,UMOL/KG,,UMOL/KG,,UMOL/KG,,UMOL/KG,,UMOL/KG,,,,UMOL/KG,
  49OS20030311,  KNOT,  1,      1,      1,5,20030315,1450, 44.0000, 155.0000, 5315,      1.0,   1.2960,  33.0418,2,  33.0325,2,    332.1,2,    21.10,2,     0.28,3,    33.30,2,     1.75,2,0.61 ,2,   -999.0,9, -999.000,9,   2125.3,2
  49OS20030311,  KNOT,  1,      1,      1,5,20030315,1450, 44.0000, 155.0000, 5315,      5.0,   1.2703,  33.0452,2,  33.0325,2,    330.9,2,    21.20,2,     0.27,3,    33.30,2,     1.76,2,0.38 ,2,   -999.0,9, -999.000,9,   2127.4,2
  49OS20030311,  KNOT,  1,      1,      1,5,20030315,1450, 44.0000, 155.0000, 5315,     10.0,   1.2673,  33.0442,2,  33.0329,2,    331.9,2,    21.10,2,     0.36,3,    33.00,2,     1.75,2,0.73 ,2,   -999.0,9, -999.000,9,   2121.7,2
  49OS20030311,  KNOT,  1,      1,      1,5,20030315,1450, 44.0000, 155.0000, 5315,     20.0,   1.2674,  33.0438,2,  33.0312,2,    330.6,2,    21.20,2,     0.30,3,    33.10,2,     1.77,2,0.16 ,2,   -999.0,9, -999.000,9,   2122.3,2
  49OS20030311,  KNOT,  1,      1,      1,5,20030315,1450, 44.0000, 155.0000, 5315,     30.0,   1.2674,  33.0433,2,  33.0331,2,    329.7,2,    21.30,2,     0.33,3,    33.40,2,     1.77,2,0.75 ,2,   -999.0,9, -999.000,9,   2121.9,2
  49OS20030311,  KNOT,  1,      1,      1,5,20030315,1450, 44.0000, 155.0000, 5315,     40.0,   1.2700,  33.0427,2,  33.0332,2,    330.0,2,    20.70,2,     1.13,3,    31.20,2,     1.74,2,2.01 ,2,   -999.0,9, -999.000,9,   2121.0,2
  49OS20030311,  KNOT,  1,      1,      1,5,20030315,1450, 44.0000, 155.0000, 5315,     50.0,   1.2667,  33.0436,2,  33.0326,2,    330.1,2,    21.30,2,     0.43,3,    33.10,2,     1.76,2,0.95 ,2,   -999.0,9, -999.000,9,   2123.6,2
  49OS20030311,  KNOT,  1,      1,      1,5,20030315,1450, 44.0000, 155.0000, 5315,     60.0,   1.2659,  33.0442,2,  33.0340,2,    330.9,2,    21.30,2,     0.51,3,    33.50,2,     1.76,2,0.61 ,2,   -999.0,9, -999.000,9,   2118.2,2
  49OS20030311,  KNOT,  1,      1,      1,5,20030315,1450, 44.0000, 155.0000, 5315,     81.0,   1.2666,  33.0464,2,  33.0388,2,    331.3,2,    21.30,2,     1.39,3,    32.90,2,     1.71,2,1.72 ,2,   -999.0,9, -999.000,9,   2121.5,2
  49OS20030311,  KNOT,  1,      1,      1,5,20030315,1450, 44.0000, 155.0000, 5315,    101.0,   1.3496,  33.0703,2,  33.0690,2,    326.9,2,    21.80,2,     0.37,3,    34.80,2,     1.79,2,0.87 ,2,   -999.0,9, -999.000,9,   2124.0,2
  49OS20030311,  KNOT,  1,      1,      1,5,20030315,1450, 44.0000, 155.0000, 5315,    126.0,   1.9850,  33.2579,2,  33.2931,2,    245.7,2,    27.90,2,     0.20,3,    47.30,2,     2.17,2,0.28 ,2,   -999.0,9, -999.000,9,   2176.2,2
  49OS20030311,  KNOT,  1,      1,      1,5,20030315,1450, 44.0000, 155.0000, 5315,    151.0,   2.1188,  33.4300,2,  33.4430,2,    185.1,2,    34.20,2,     0.05,3,    61.50,2,     2.60,2,0.50 ,2,   -999.0,9, -999.000,9,   2226.2,2
  49OS20030311,  KNOT,  1,      1,      1,5,20030315,1450, 44.0000, 155.0000, 5315,    202.0,   2.6980,  33.6895,2,  33.6823,2,    109.2,2,    39.90,2,     0.14,3,    79.80,2,     2.95,2,0.55 ,2,   -999.0,9, -999.000,9,   2279.4,2
  49OS20030311,  KNOT,  1,      1,      1,5,20030315,1450, 44.0000, 155.0000, 5315,    253.0,   3.0262,  33.8273,2,  33.7996,2,     75.9,2,    42.20,2,     0.14,3,    90.50,2,     3.09,2,0.37 ,2,   -999.0,9, -999.000,9,   2303.7,2
  49OS20030311,  KNOT,  1,      1,      1,5,20030315,1450, 44.0000, 155.0000, 5315,    289.0,   3.1901,  33.9321,2,  33.9253,2,     55.7,2,    43.10,2,  -999.00,9,  -999.00,9,  -999.00,9,-999,9,   -999.0,9, -999.000,9,   2325.8,2
  49OS20030311,  KNOT,  1,      1,      1,5,20030315,1450, 44.0000, 155.0000, 5315,    384.0,   3.3397,  34.0660,2,  34.0466,2,     43.7,2,    43.60,2,  -999.00,9,  -999.00,9,  -999.00,9,-999,9,   -999.0,9, -999.000,9,   2339.3,2
  49OS20030311,  KNOT,  1,      1,      1,5,20030315,1450, 44.0000, 155.0000, 5315,    480.0,   3.2051,  34.1564,2,  34.1602,2,     36.6,2,    43.80,2,  -999.00,9,  -999.00,9,  -999.00,9,-999,9,   -999.0,9, -999.000,9,   2351.9,2
  49OS20030311,  KNOT,  1,      1,      1,5,20030315,1450, 44.0000, 155.0000, 5315,    574.0,   3.1053,  34.2443,2,  34.2343,2,     26.4,2,    44.40,2,  -999.00,9,  -999.00,9,  -999.00,9,-999,9,   -999.0,9, -999.000,9,   2363.1,2
  49OS20030311,  KNOT,  1,      1,      1,5,20030315,1450, 44.0000, 155.0000, 5315,    669.0,   3.0149,  34.2988,2,  34.2904,2,     32.5,2,    44.40,2,  -999.00,9,  -999.00,9,  -999.00,9,-999,9,   -999.0,9, -999.000,9,   2360.4,2
  49OS20030311,  KNOT,  1,      1,      1,5,20030315,1450, 44.0000, 155.0000, 5315,    764.0,   2.8396,  34.3437,2,  34.3371,2,     30.4,2,    43.80,2,  -999.00,9,  -999.00,9,  -999.00,9,-999,9,   -999.0,9, -999.000,9,   2372.0,2
  49OS20030311,  KNOT,  1,      1,      1,5,20030315,1450, 44.0000, 155.0000, 5315,    953.0,   2.5829,  34.4194,2,  34.4077,2,     38.4,2,    43.30,2,  -999.00,9,  -999.00,9,  -999.00,9,-999,9,   -999.0,9, -999.000,9,   2371.2,2
  49OS20030311,  KNOT,  1,      1,      1,5,20030315,1450, 44.0000, 155.0000, 5315,   1189.0,   2.3864,  34.4952,2,  34.4832,2,     42.9,2,    43.20,2,  -999.00,9,  -999.00,9,  -999.00,9,-999,9,   -999.0,9, -999.000,9,   2377.5,2
  49OS20030311,  KNOT,  1,      1,      1,5,20030315,1450, 44.0000, 155.0000, 5315,   1424.0,   2.1770,  34.5407,2,  34.5235,2,     51.1,2,    42.60,2,  -999.00,9,  -999.00,9,  -999.00,9,-999,9,   -999.0,9, -999.000,9,   2378.1,2
  49OS20030311,  KNOT,  1,      1,      1,5,20030315,1450, 44.0000, 155.0000, 5315,   1896.0,   1.8637,  34.6105,2,  34.5950,2,     71.0,2,    41.10,2,  -999.00,9,  -999.00,9,  -999.00,9,-999,9,   -999.0,9, -999.000,9,   2371.1,2
  49OS20030311,  KNOT,  1,      1,      1,5,20030315,1450, 44.0000, 155.0000, 5315,   2366.0,   1.6583,  34.6512,2,  34.6307,2,    100.3,2,    39.30,2,  -999.00,9,  -999.00,9,  -999.00,9,-999,9,   -999.0,9, -999.000,9,   2359.1,2
  49OS20030311,  KNOT,  1,      1,      1,5,20030315,1450, 44.0000, 155.0000, 5315,   2837.0,   1.5413,  34.6757,2,  34.6545,2,    119.3,2,    38.10,2,  -999.00,9,  -999.00,9,  -999.00,9,-999,9,   -999.0,9, -999.000,9,   2343.4,2