BOTTLE,20130510GEMDJMAYT
EXPOCODE,SECT_ID,STNNBR,CASTNO,SAMPNO,BTLNBR,BTLNBR_FLAG_W,DATE,TIME,LATITUDE,LONGITUDE,DEPTH,CTDPRS,CTDTMP,CTDSAL,CTDSAL_FLAG_W,CTDOXY,CTDOXY_FLAG_W,SALNTY,SALNTY_FLAG_W,OXYGEN,OXYGEN_FLAG_W,SILCAT,SILCAT_FLAG_W,NITRAT,NITRAT_FLAG_W,NO2+NO3,NO2+NO3_FLAG_W,NITRIT,NITRIT_FLAG_W,PHSPHT,PHSPHT_FLAG_W,CFC-11,CFC-11_FLAG_W,CFC-12,CFC-12_FLAG_W,DELC13,DELC13_FLAG_W,TCARBN,TCARBN_FLAG_W,ALKALI,ALKALI_FLAG_W,PH,PH_FLAG_W,PH_TMP,PH_SCALE,PH_NBS,PH_NBS_FLAG_W,C13ERR,TOTALP,TOTALP_FLAG_W,AMMONI,AMMONI_FLAG_W,CHLORA,CHLORA_FLAG_W,PPHYTN,PPHYTN_FLAG_W,REVPRS,REVTMP,DEPTH_,DEPTH_FLAG,CTDDEP,THETA,SIGTHT,DOC,DOC_FLAG_W
,,,,,,,GMT,GMT,,,METER,DBAR,ITS-90,PSS-78,,UMOL/KG,,PSS-78,,UMOL/KG,,UMOL/KG,,UMOL/KG,,UMOL/KG,,UMOL/KG,,UMOL/KG,,PMOL/KG,,PMOL/KG,,/MILLE,,UMOL/KG,,UMOL/KG,,25_DEG_C,,DEG_C,,,,/MILLE,UMOL/KG,,UMOL/KG,,UG/L,,UG/L,,DBAR,ITS-90,METERS,,METERS,DEG_C,,UMOL/L,
       SH98-04,  NONE,SH-5542,  2,     -9,      -9,5,19980425,1618, 28.6523, 134.4312, 3590,      0.0,  23.2622,  34.7321,2,   -999.0,9,-999.0000,9,    218.6,2,  -999.00,9,  -999.00,9,     0.00,2,     0.01,2,     0.00,2, -999.000,9, -999.000,9,  -999.00,9,   -999.0,9,   -999.0,9,-999.0000,9,   -999.0,  9,     8.21,2,   -999.0,  -999.00,9,  -999.00,9,     0.08,2,     0.05,2,   -999.0,-999.0000, -999,9,    0,  23.2622,  23.6547,   -999.0,9
       SH98-04,  NONE,SH-5542,  2,      8, S-1-1-9,2,19980425,1617, 28.6523, 134.4312, 3590,     12.2,  23.2677,  34.7330,2,   -999.0,9,  34.7404,2,    218.8,2,  -999.00,9,  -999.00,9,     0.00,2,     0.00,2,     0.00,2, -999.000,9, -999.000,9,  -999.00,9,   -999.0,9,   -999.0,9,-999.0000,9,   -999.0,  9,     8.21,2,   -999.0,  -999.00,9,  -999.00,9,     0.10,2,     0.05,2,   -999.0,-999.0000, -999,9,   12,  23.2652,  23.6545,   -999.0,9
       SH98-04,  NONE,SH-5542,  2,      7, S-1-1-4,2,19980425,1616, 28.6523, 134.4312, 3590,     26.3,  23.2542,  34.7367,2,   -999.0,9,  34.7790,4,    222.5,2,  -999.00,9,  -999.00,9,     0.68,2,     0.00,2,     0.00,2, -999.000,9, -999.000,9,  -999.00,9,   -999.0,9,   -999.0,9,-999.0000,9,   -999.0,  9,     8.19,2,   -999.0,  -999.00,9,  -999.00,9,     0.15,2,     0.18,2,   -999.0,-999.0000, -999,9,   26,  23.2489,  23.6620,   -999.0,9
       SH98-04,  NONE,SH-5542,  2,      6,02-14892,2,19980425,1615, 28.6523, 134.4312, 3590,     51.0,  21.6065,  34.7800,2,   -999.0,9,  34.8001,4,    216.2,2,  -999.00,9,  -999.00,9,     1.07,2,     0.17,2,     0.05,2, -999.000,9, -999.000,9,  -999.00,9,   -999.0,9,   -999.0,9,-999.0000,9,   -999.0,  9,     8.17,2,   -999.0,  -999.00,9,  -999.00,9,     0.32,2,     0.51,2,   -999.0,-999.0000, -999,9,   51,  21.5966,  24.1629,   -999.0,9
       SH98-04,  NONE,SH-5542,  2,      5, S-1-1-6,2,19980425,1614, 28.6523, 134.4312, 3590,     75.6,  21.0395,  34.7959,2,   -999.0,9,  34.8310,4,    215.7,2,  -999.00,9,  -999.00,9,     1.07,2,     0.18,2,     0.09,2, -999.000,9, -999.000,9,  -999.00,9,   -999.0,9,   -999.0,9,-999.0000,9,   -999.0,  9,     8.16,2,   -999.0,  -999.00,9,  -999.00,9,     0.18,2,     0.24,2,   -999.0,-999.0000, -999,9,   75,  21.0250,  24.3317,   -999.0,9
       SH98-04,  NONE,SH-5542,  2,      4, S-1-1-1,2,19980425,1613, 28.6523, 134.4312, 3590,    100.7,  20.3677,  34.8313,2,   -999.0,9,  34.8369,2,    214.5,2,  -999.00,9,  -999.00,9,     1.66,2,     0.07,2,     0.13,2, -999.000,9, -999.000,9,  -999.00,9,   -999.0,9,   -999.0,9,-999.0000,9,   -999.0,  9,     8.14,2,   -999.0,  -999.00,9,  -999.00,9,     0.04,2,     0.19,2,   -999.0,-999.0000, -999,9,  100,  20.3489,  24.5406,   -999.0,9
       SH98-04,  NONE,SH-5542,  2,      3,1-133-84,2,19980425,1611, 28.6523, 134.4312, 3590,    124.9,  19.6597,  34.8342,2,   -999.0,9,  34.8194,2,    219.1,2,  -999.00,9,  -999.00,9,     1.37,2,     0.03,2,     0.10,2, -999.000,9, -999.000,9,  -999.00,9,   -999.0,9,   -999.0,9,-999.0000,9,   -999.0,  9,     8.15,2,   -999.0,  -999.00,9,  -999.00,9,     0.03,2,     0.05,2,   -999.0,-999.0000, -999,9,  124,  19.6370,  24.7303,   -999.0,9
       SH98-04,  NONE,SH-5542,  2,      2, 1-133-1,2,19980425,1610, 28.6523, 134.4312, 3590,    149.4,  19.2821,  34.8163,2,   -999.0,9,  34.8444,4,    210.5,2,  -999.00,9,  -999.00,9,     2.34,2,     0.03,2,     0.16,2, -999.000,9, -999.000,9,  -999.00,9,   -999.0,9,   -999.0,9,-999.0000,9,   -999.0,  9,     8.13,2,   -999.0,  -999.00,9,  -999.00,9,     0.01,2,     0.03,2,   -999.0,-999.0000, -999,9,  148,  19.2552,  24.8154,   -999.0,9
       SH98-04,  NONE,SH-5542,  2,      1, 1-133-2,2,19980425,1609, 28.6523, 134.4312, 3590,    201.1,  19.0342,  34.8372,2,   -999.0,9,  34.8483,2,    207.0,2,  -999.00,9,  -999.00,9,     3.51,2,     0.02,2,     0.23,2, -999.000,9, -999.000,9,  -999.00,9,   -999.0,9,   -999.0,9,-999.0000,9,   -999.0,  9,     8.11,2,   -999.0,  -999.00,9,  -999.00,9,     0.00,2,     0.02,2,   -999.0,-999.0000, -999,9,  200,  18.9983,  24.8972,   -999.0,9
       SH98-04,  NONE,SH-5542,  2,     12, S-1-1-8,2,19980425,1607, 28.6523, 134.4312, 3590,    250.3,  18.3467,  34.8452,2,   -999.0,9,  34.8359,2,    205.0,2,  -999.00,9,  -999.00,9,     4.59,2,     0.01,2,     0.31,2, -999.000,9, -999.000,9,  -999.00,9,   -999.0,9,   -999.0,9,-999.0000,9,   -999.0,  9,     8.09,2,   -999.0,  -999.00,9,  -999.00,9,     0.00,2,     0.01,2,   -999.0,-999.0000, -999,9,  248,  18.3032,  25.0784,   -999.0,9
       SH98-04,  NONE,SH-5542,  2,     -9,      -9,4,19980425,1606, 28.6523, 134.4312, 3590,    300.9,  17.7027,  34.8340,2,   -999.0,9,-999.0000,9,   -999.0,9,  -999.00,9,  -999.00,9,  -999.00,9,  -999.00,9,  -999.00,9, -999.000,9, -999.000,9,  -999.00,9,   -999.0,9,   -999.0,9,-999.0000,9,   -999.0,  9,  -999.00,9,   -999.0,  -999.00,9,  -999.00,9,  -999.00,9,  -999.00,9,   -999.0,-999.0000, -999,9,  299,  17.6515,  25.2302,   -999.0,9
       SH98-04,  NONE,SH-5542,  2,     11,S-1-1-11,2,19980425,1604, 28.6523, 134.4312, 3590,    400.6,  16.0319,  34.7158,2,   -999.0,9,  34.7215,2,    195.7,2,  -999.00,9,  -999.00,9,     8.00,2,     0.01,2,     0.54,2, -999.000,9, -999.000,9,  -999.00,9,   -999.0,9,   -999.0,9,-999.0000,9,   -999.0,  9,     8.04,2,   -999.0,  -999.00,9,  -999.00,9,     0.00,2,     0.01,2,   -999.0,-999.0000, -999,9,  397,  15.9681,  25.5362,   -999.0,9
       SH98-04,  NONE,SH-5542,  2,     10,S-1-1-10,4,19980425,1602, 28.6523, 134.4312, 3590,    501.6,  13.6875,  34.5312,2,   -999.0,9,  34.5399,2,    185.0,2,  -999.00,9,  -999.00,9,    12.67,2,     0.02,2,     0.88,2, -999.000,9, -999.000,9,  -999.00,9,   -999.0,9,   -999.0,9,-999.0000,9,   -999.0,  9,     7.96,2,   -999.0,  -999.00,9,  -999.00,9,  -999.00,9,  -999.00,9,   -999.0,-999.0000, -999,9,  498,  13.6156,  25.9047,   -999.0,9
       SH98-04,  NONE,SH-5542,  2,      9, S-1-1-2,2,19980425,1602, 28.6523, 134.4312, 3590,    501.6,  13.6875,  34.5312,2,   -999.0,9,  34.5372,2,    185.1,2,  -999.00,9,  -999.00,9,    12.77,2,     0.01,2,     0.89,2, -999.000,9, -999.000,9,  -999.00,9,   -999.0,9,   -999.0,9,-999.0000,9,   -999.0,  9,     7.96,2,   -999.0,  -999.00,9,  -999.00,9,  -999.00,9,  -999.00,9,   -999.0,-999.0000, -999,9,  498,  13.6156,  25.9047,   -999.0,9
       SH98-04,  NONE,SH-5542,  1,      8, S-1-1-9,2,19980425,1527, 28.6585, 134.4478, 3610,    498.5,  13.5224,  34.5248,2,   -999.0,9,  34.5246,2,    181.9,2,  -999.00,9,  -999.00,9,    13.35,2,     0.01,2,     0.94,2, -999.000,9, -999.000,9,  -999.00,9,   -999.0,9,   -999.0,9,-999.0000,9,   -999.0,  9,     7.95,2,   -999.0,  -999.00,9,  -999.00,9,  -999.00,9,  -999.00,9,   -999.0,-999.0000, -999,9,  495,  13.4515,  25.9334,   -999.0,9
       SH98-04,  NONE,SH-5542,  1,      7, S-1-1-4,4,19980425,1524, 28.6585, 134.4478, 3610,    600.3,  10.9708,  34.3464,2,   -999.0,9,  34.3626,2,    169.3,2,  -999.00,9,  -999.00,9,    18.81,2,     0.01,2,     1.34,2, -999.000,9, -999.000,9,  -999.00,9,   -999.0,9,   -999.0,9,-999.0000,9,   -999.0,  9,     7.86,2,   -999.0,  -999.00,9,  -999.00,9,  -999.00,9,  -999.00,9,   -999.0,-999.0000, -999,9,  595,  10.8961,  26.2852,   -999.0,9
       SH98-04,  NONE,SH-5542,  1,     -9,      -9,4,19980425,1522, 28.6585, 134.4478, 3610,    699.2,   7.9416,  34.2127,2,   -999.0,9,-999.0000,9,   -999.0,9,  -999.00,9,  -999.00,9,  -999.00,9,  -999.00,9,  -999.00,9, -999.000,9, -999.000,9,  -999.00,9,   -999.0,9,   -999.0,9,-999.0000,9,   -999.0,  9,  -999.00,9,   -999.0,  -999.00,9,  -999.00,9,  -999.00,9,  -999.00,9,   -999.0,-999.0000, -999,9,  693,   7.8697,  26.6748,   -999.0,9
       SH98-04,  NONE,SH-5542,  1,      6,02-14892,4,19980425,1520, 28.6585, 134.4478, 3610,    799.8,   6.4056,  34.1811,2,   -999.0,9,  34.8503,4,    210.9,4,  -999.00,9,  -999.00,9,     3.51,4,     0.02,4,     0.24,4, -999.000,9, -999.000,9,  -999.00,9,   -999.0,9,   -999.0,9,-999.0000,9,   -999.0,  9,     8.11,4,   -999.0,  -999.00,9,  -999.00,9,  -999.00,9,  -999.00,9,   -999.0,-999.0000, -999,9,  793,   6.3320,  26.8630,   -999.0,9
       SH98-04,  NONE,SH-5542,  1,      5, S-1-1-6,2,19980425,1518, 28.6585, 134.4478, 3610,    900.3,   5.3237,  34.2535,2,   -999.0,9,  34.2526,2,     86.0,2,  -999.00,9,  -999.00,9,    36.03,2,     0.01,2,     2.55,2, -999.000,9, -999.000,9,  -999.00,9,   -999.0,9,   -999.0,9,-999.0000,9,   -999.0,  9,     7.61,2,   -999.0,  -999.00,9,  -999.00,9,  -999.00,9,  -999.00,9,   -999.0,-999.0000, -999,9,  892,   5.2475,  27.0547,   -999.0,9
       SH98-04,  NONE,SH-5542,  1,      4, S-1-1-1,2,19980425,1516, 28.6585, 134.4478, 3610,   1000.4,   4.4198,  34.2941,2,   -999.0,9,  34.2927,2,     69.3,2,  -999.00,9,  -999.00,9,    38.65,2,     0.01,2,     2.74,2, -999.000,9, -999.000,9,  -999.00,9,   -999.0,9,   -999.0,9,-999.0000,9,   -999.0,  9,     7.55,2,   -999.0,  -999.00,9,  -999.00,9,  -999.00,9,  -999.00,9,   -999.0,-999.0000, -999,9,  991,   4.3412,  27.1888,   -999.0,9
       SH98-04,  NONE,SH-5542,  1,      3,1-133-84,2,19980425,1512, 28.6585, 134.4478, 3610,   1201.7,   3.4456,  34.4240,2,   -999.0,9,  34.4105,2,     66.6,2,  -999.00,9,  -999.00,9,    40.30,2,     0.01,2,     2.82,2, -999.000,9, -999.000,9,  -999.00,9,   -999.0,9,   -999.0,9,-999.0000,9,   -999.0,  9,     7.53,2,   -999.0,  -999.00,9,  -999.00,9,  -999.00,9,  -999.00,9,   -999.0,-999.0000, -999,9, 1190,   3.3582,  27.3918,   -999.0,9
       SH98-04,  NONE,SH-5542,  1,      2, 1-133-1,2,19980425,1508, 28.6585, 134.4478, 3610,   1505.3,   2.6524,  34.5236,2,   -999.0,9,  34.5100,2,   -999.0,9,  -999.00,9,  -999.00,9,  -999.00,9,  -999.00,9,  -999.00,9, -999.000,9, -999.000,9,  -999.00,9,   -999.0,9,   -999.0,9,-999.0000,9,   -999.0,  9,  -999.00,9,   -999.0,  -999.00,9,  -999.00,9,  -999.00,9,  -999.00,9,   -999.0,-999.0000, -999,9, 1490,   2.5482,  27.5448,   -999.0,9
       SH98-04,  NONE,SH-5542,  1,      1, 1-133-2,2,19980425,1501, 28.6585, 134.4478, 3610,   2012.3,   2.0289,  34.6153,2,   -999.0,9,  34.6007,2,   -999.0,9,  -999.00,9,  -999.00,9,  -999.00,9,  -999.00,9,  -999.00,9, -999.000,9, -999.000,9,  -999.00,9,   -999.0,9,   -999.0,9,-999.0000,9,   -999.0,  9,  -999.00,9,   -999.0,  -999.00,9,  -999.00,9,  -999.00,9,  -999.00,9,   -999.0,-999.0000, -999,9, 1989,   1.8910,  27.6720,   -999.0,9
       SH98-04,  NONE,SH-5542,  1,     12, S-1-1-8,2,19980425,1454, 28.6585, 134.4478, 3610,   2521.0,   1.7192,  34.6632,2,   -999.0,9,  34.6463,2,   -999.0,9,  -999.00,9,  -999.00,9,  -999.00,9,  -999.00,9,  -999.00,9, -999.000,9, -999.000,9,  -999.00,9,   -999.0,9,   -999.0,9,-999.0000,9,   -999.0,  9,  -999.00,9,   -999.0,  -999.00,9,  -999.00,9,  -999.00,9,  -999.00,9,   -999.0,-999.0000, -999,9, 2489,   1.5422,  27.7368,   -999.0,9
       SH98-04,  NONE,SH-5542,  1,     11,S-1-1-11,2,19980425,1446, 28.6585, 134.4478, 3610,   3031.0,   1.5425,  34.6901,2,   -999.0,9,  34.6723,4,   -999.0,9,  -999.00,9,  -999.00,9,  -999.00,9,  -999.00,9,  -999.00,9, -999.000,9, -999.000,9,  -999.00,9,   -999.0,9,   -999.0,9,-999.0000,9,   -999.0,  9,  -999.00,9,   -999.0,  -999.00,9,  -999.00,9,  -999.00,9,  -999.00,9,   -999.0,-999.0000, -999,9, 2989,   1.3217,  27.7743,   -999.0,9
       SH98-04,  NONE,SH-5542,  1,     10,S-1-1-10,2,19980425,1439, 28.6585, 134.4478, 3610,   3548.1,   1.5174,  34.7009,2,   -999.0,9,  34.6804,4,   -999.0,9,  -999.00,9,  -999.00,9,  -999.00,9,  -999.00,9,  -999.00,9, -999.000,9, -999.000,9,  -999.00,9,   -999.0,9,   -999.0,9,-999.0000,9,   -999.0,  9,  -999.00,9,   -999.0,  -999.00,9,  -999.00,9,  -999.00,9,  -999.00,9,   -999.0,-999.0000, -999,9, 3495,   1.2458,  27.7883,   -999.0,9
       SH98-04,  NONE,SH-5543,  2,     -9,      -9,5,19980425,2139, 29.0757, 133.9805, 2580,      0.0,  23.1988,  34.7218,2,   -999.0,9,-999.0000,9,    218.6,2,  -999.00,9,  -999.00,9,     0.10,2,     0.00,2,     0.01,2, -999.000,9, -999.000,9,  -999.00,9,   -999.0,9,   -999.0,9,-999.0000,9,   -999.0,  9,  -999.00,9,   -999.0,  -999.00,9,  -999.00,9,     0.10,2,     0.06,2,   -999.0,-999.0000, -999,9,    0,  23.1988,  23.6652,   -999.0,9
       SH98-04,  NONE,SH-5543,  2,      3,1-133-84,2,19980425,2138, 29.0757, 133.9805, 2580,     11.2,  23.2111,  34.7224,2,   -999.0,9,-999.0000,9,    218.8,2,  -999.00,9,  -999.00,9,     0.00,2,     0.00,2,     0.00,2, -999.000,9, -999.000,9,  -999.00,9,   -999.0,9,   -999.0,9,-999.0000,9,   -999.0,  9,  -999.00,9,   -999.0,  -999.00,9,  -999.00,9,     0.10,2,     0.08,2,   -999.0,-999.0000, -999,9,   11,  23.2088,  23.6628,   -999.0,9
       SH98-04,  NONE,SH-5543,  2,      2, 1-133-1,2,19980425,2137, 29.0757, 133.9805, 2580,     26.4,  22.6320,  34.7611,2,   -999.0,9,-999.0000,9,    220.5,2,  -999.00,9,  -999.00,9,     0.00,2,     0.00,2,     0.00,2, -999.000,9, -999.000,9,  -999.00,9,   -999.0,9,   -999.0,9,-999.0000,9,   -999.0,  9,  -999.00,9,   -999.0,  -999.00,9,  -999.00,9,     0.14,2,     0.14,2,   -999.0,-999.0000, -999,9,   26,  22.6267,  23.8593,   -999.0,9
       SH98-04,  NONE,SH-5543,  2,      1, 1-133-2,2,19980425,2136, 29.0757, 133.9805, 2580,     51.3,  21.9430,  34.7683,2,   -999.0,9,-999.0000,9,    218.6,2,  -999.00,9,  -999.00,9,     0.20,2,     0.01,2,     0.02,2, -999.000,9, -999.000,9,  -999.00,9,   -999.0,9,   -999.0,9,-999.0000,9,   -999.0,  9,  -999.00,9,   -999.0,  -999.00,9,  -999.00,9,     0.33,2,     0.32,2,   -999.0,-999.0000, -999,9,   51,  21.9329,  24.0605,   -999.0,9
       SH98-04,  NONE,SH-5543,  2,     12, S-1-1-8,2,19980425,2135, 29.0757, 133.9805, 2580,     76.9,  21.2947,  34.7777,2,   -999.0,9,-999.0000,9,    218.6,2,  -999.00,9,  -999.00,9,     0.20,2,     0.07,2,     0.02,2, -999.000,9, -999.000,9,  -999.00,9,   -999.0,9,   -999.0,9,-999.0000,9,   -999.0,  9,  -999.00,9,   -999.0,  -999.00,9,  -999.00,9,     0.24,2,     0.59,2,   -999.0,-999.0000, -999,9,   76,  21.2799,  24.2483,   -999.0,9
       SH98-04,  NONE,SH-5543,  2,     11,S-1-1-11,2,19980425,2134, 29.0757, 133.9805, 2580,    101.3,  20.9001,  34.8063,2,   -999.0,9,-999.0000,9,    209.5,2,  -999.00,9,  -999.00,9,     1.27,2,     0.05,2,     0.08,2, -999.000,9, -999.000,9,  -999.00,9,   -999.0,9,   -999.0,9,-999.0000,9,   -999.0,  9,  -999.00,9,   -999.0,  -999.00,9,  -999.00,9,     0.04,2,     0.15,2,   -999.0,-999.0000, -999,9,  101,  20.8809,  24.3787,   -999.0,9
       SH98-04,  NONE,SH-5543,  2,     10,S-1-1-10,2,19980425,2133, 29.0757, 133.9805, 2580,    126.2,  20.4302,  34.8171,2,   -999.0,9,-999.0000,9,    207.1,2,  -999.00,9,  -999.00,9,     1.85,2,     0.02,2,     0.13,2, -999.000,9, -999.000,9,  -999.00,9,   -999.0,9,   -999.0,9,-999.0000,9,   -999.0,  9,  -999.00,9,   -999.0,  -999.00,9,  -999.00,9,     0.03,2,     0.05,2,   -999.0,-999.0000, -999,9,  125,  20.4066,  24.5145,   -999.0,9
       SH98-04,  NONE,SH-5543,  2,      9, S-1-1-2,2,19980425,2132, 29.0757, 133.9805, 2580,    150.7,  20.0386,  34.8437,2,   -999.0,9,-999.0000,9,    206.8,2,  -999.00,9,  -999.00,9,     1.95,2,     0.01,2,     0.14,2, -999.000,9, -999.000,9,  -999.00,9,   -999.0,9,   -999.0,9,-999.0000,9,   -999.0,  9,  -999.00,9,   -999.0,  -999.00,9,  -999.00,9,     0.01,2,     0.03,2,   -999.0,-999.0000, -999,9,  150,  20.0108,  24.6397,   -999.0,9
       SH98-04,  NONE,SH-5543,  2,      8, S-1-1-9,2,19980425,2130, 29.0757, 133.9805, 2580,    201.1,  19.2129,  34.8547,2,   -999.0,9,-999.0000,9,    203.3,2,  -999.00,9,  -999.00,9,     2.93,2,     0.01,2,     0.20,2, -999.000,9, -999.000,9,  -999.00,9,   -999.0,9,   -999.0,9,-999.0000,9,   -999.0,  9,  -999.00,9,   -999.0,  -999.00,9,  -999.00,9,     0.00,2,     0.02,2,   -999.0,-999.0000, -999,9,  200,  19.1768,  24.8649,   -999.0,9
       SH98-04,  NONE,SH-5543,  2,      7, S-1-1-4,2,19980425,2129, 29.0757, 133.9805, 2580,    250.5,  18.5510,  34.8555,2,   -999.0,9,-999.0000,9,    203.3,2,  -999.00,9,  -999.00,9,     3.51,2,     0.01,2,     0.24,2, -999.000,9, -999.000,9,  -999.00,9,   -999.0,9,   -999.0,9,-999.0000,9,   -999.0,  9,  -999.00,9,   -999.0,  -999.00,9,  -999.00,9,     0.00,2,     0.01,2,   -999.0,-999.0000, -999,9,  249,  18.5070,  25.0353,   -999.0,9
       SH98-04,  NONE,SH-5543,  2,      6,02-14892,2,19980425,2128, 29.0757, 133.9805, 2580,    301.5,  17.9377,  34.8396,2,   -999.0,9,-999.0000,9,    205.3,2,  -999.00,9,  -999.00,9,     4.19,2,     0.00,2,     0.28,2, -999.000,9, -999.000,9,  -999.00,9,   -999.0,9,   -999.0,9,-999.0000,9,   -999.0,  9,  -999.00,9,   -999.0,  -999.00,9,  -999.00,9,     0.00,2,     0.01,2,   -999.0,-999.0000, -999,9,  299,  17.8860,  25.1772,   -999.0,9