BOTTLE,20130510GEMDJMAYT
EXPOCODE,SECT_ID,STNNBR,CASTNO,SAMPNO,BTLNBR,BTLNBR_FLAG_W,DATE,TIME,LATITUDE,LONGITUDE,DEPTH,CTDPRS,CTDTMP,CTDSAL,CTDSAL_FLAG_W,CTDOXY,CTDOXY_FLAG_W,SALNTY,SALNTY_FLAG_W,OXYGEN,OXYGEN_FLAG_W,SILCAT,SILCAT_FLAG_W,NITRAT,NITRAT_FLAG_W,NO2+NO3,NO2+NO3_FLAG_W,NITRIT,NITRIT_FLAG_W,PHSPHT,PHSPHT_FLAG_W,CFC-11,CFC-11_FLAG_W,CFC-12,CFC-12_FLAG_W,DELC13,DELC13_FLAG_W,TCARBN,TCARBN_FLAG_W,ALKALI,ALKALI_FLAG_W,PH,PH_FLAG_W,PH_TMP,PH_SCALE,PH_NBS,PH_NBS_FLAG_W,C13ERR,TOTALP,TOTALP_FLAG_W,AMMONI,AMMONI_FLAG_W,CHLORA,CHLORA_FLAG_W,PPHYTN,PPHYTN_FLAG_W,REVPRS,REVTMP,DEPTH_,DEPTH_FLAG,CTDDEP,THETA,SIGTHT,DOC,DOC_FLAG_W
,,,,,,,GMT,GMT,,,METER,DBAR,ITS-90,PSS-78,,UMOL/KG,,PSS-78,,UMOL/KG,,UMOL/KG,,UMOL/KG,,UMOL/KG,,UMOL/KG,,UMOL/KG,,PMOL/KG,,PMOL/KG,,/MILLE,,UMOL/KG,,UMOL/KG,,25_DEG_C,,DEG_C,,,,/MILLE,UMOL/KG,,UMOL/KG,,UG/L,,UG/L,,DBAR,ITS-90,METERS,,METERS,DEG_C,,UMOL/L,
       SH98-04,  NONE,SH-5536,  2,     -9,      -9,5,19980423,1947, 31.5202, 135.2840, 3980,      0.0,  21.4247,  34.7577,2,   -999.0,9,-999.0000,9,    226.4,2,  -999.00,9,  -999.00,9,     0.10,2,     0.00,2,     0.02,2, -999.000,9, -999.000,9,  -999.00,9,   -999.0,9,   -999.0,9,-999.0000,9,   -999.0,  9,  -999.00,9,   -999.0,  -999.00,9,  -999.00,9,     0.13,2,     0.05,2,   -999.0,-999.0000, -999,9,    0,  21.4247,  24.1934,   -999.0,9
       SH98-04,  NONE,SH-5536,  2,      7, S-1-1-4,2,19980423,1946, 31.5202, 135.2840, 3980,     10.4,  21.4260,  34.7587,2,   -999.0,9,  34.7626,2,    227.1,2,  -999.00,9,  -999.00,9,     0.00,2,     0.00,2,     0.03,2, -999.000,9, -999.000,9,  -999.00,9,   -999.0,9,   -999.0,9,-999.0000,9,   -999.0,  9,  -999.00,9,   -999.0,  -999.00,9,  -999.00,9,     0.12,2,     0.05,2,   -999.0,-999.0000, -999,9,   10,  21.4240,  24.1943,   -999.0,9
       SH98-04,  NONE,SH-5536,  2,      6,02-14892,4,19980423,1945, 31.5202, 135.2840, 3980,     26.1,  20.9322,  34.7780,2,   -999.0,9,  34.8280,4,    226.9,4,  -999.00,9,  -999.00,9,     0.98,4,     0.11,4,     0.11,4, -999.000,9, -999.000,9,  -999.00,9,   -999.0,9,   -999.0,9,-999.0000,9,   -999.0,  9,  -999.00,9,   -999.0,  -999.00,9,  -999.00,9,     0.12,4,     0.15,4,   -999.0,-999.0000, -999,9,   26,  20.9273,  24.3446,   -999.0,9
       SH98-04,  NONE,SH-5536,  2,      5, S-1-1-6,2,19980423,1944, 31.5202, 135.2840, 3980,     50.2,  20.0682,  34.8346,2,   -999.0,9,  34.8394,2,    228.0,2,  -999.00,9,  -999.00,9,     0.00,2,     0.01,2,     0.03,2, -999.000,9, -999.000,9,  -999.00,9,   -999.0,9,   -999.0,9,-999.0000,9,   -999.0,  9,  -999.00,9,   -999.0,  -999.00,9,  -999.00,9,     0.26,2,     0.30,2,   -999.0,-999.0000, -999,9,   50,  20.0589,  24.6201,   -999.0,9
       SH98-04,  NONE,SH-5536,  2,      4, S-1-1-1,2,19980423,1943, 31.5202, 135.2840, 3980,     76.1,  19.4041,  34.8186,2,   -999.0,9,  34.8241,2,    223.1,2,  -999.00,9,  -999.00,9,     1.07,2,     0.12,2,     0.11,2, -999.000,9, -999.000,9,  -999.00,9,   -999.0,9,   -999.0,9,-999.0000,9,   -999.0,  9,  -999.00,9,   -999.0,  -999.00,9,  -999.00,9,     0.19,2,     0.23,2,   -999.0,-999.0000, -999,9,   76,  19.3904,  24.7823,   -999.0,9
       SH98-04,  NONE,SH-5536,  2,      3,1-133-84,2,19980423,1942, 31.5202, 135.2840, 3980,    100.2,  19.2136,  34.8277,2,   -999.0,9,  34.8286,2,    226.2,2,  -999.00,9,  -999.00,9,     0.88,2,     0.12,2,     0.09,2, -999.000,9, -999.000,9,  -999.00,9,   -999.0,9,   -999.0,9,-999.0000,9,   -999.0,  9,  -999.00,9,   -999.0,  -999.00,9,  -999.00,9,     0.12,2,     0.16,2,   -999.0,-999.0000, -999,9,   99,  19.1957,  24.8394,   -999.0,9
       SH98-04,  NONE,SH-5536,  2,      2, 1-133-1,2,19980423,1941, 31.5202, 135.2840, 3980,    124.6,  19.0577,  34.8288,2,   -999.0,9,  34.8306,2,    219.0,2,  -999.00,9,  -999.00,9,     1.66,2,     0.05,2,     0.14,2, -999.000,9, -999.000,9,  -999.00,9,   -999.0,9,   -999.0,9,-999.0000,9,   -999.0,  9,  -999.00,9,   -999.0,  -999.00,9,  -999.00,9,     0.07,2,     0.08,2,   -999.0,-999.0000, -999,9,  124,  19.0355,  24.8813,   -999.0,9
       SH98-04,  NONE,SH-5536,  2,      1, 1-133-2,2,19980423,1940, 31.5202, 135.2840, 3980,    150.4,  18.9404,  34.8299,2,   -999.0,9,  34.8320,2,    219.9,2,  -999.00,9,  -999.00,9,     1.76,2,     0.03,2,     0.13,2, -999.000,9, -999.000,9,  -999.00,9,   -999.0,9,   -999.0,9,-999.0000,9,   -999.0,  9,  -999.00,9,   -999.0,  -999.00,9,  -999.00,9,     0.05,2,     0.05,2,   -999.0,-999.0000, -999,9,  149,  18.9137,  24.9131,   -999.0,9
       SH98-04,  NONE,SH-5536,  2,     12, S-1-1-8,2,19980423,1938, 31.5202, 135.2840, 3980,    199.1,  18.3276,  34.8474,2,   -999.0,9,  34.8453,2,    202.7,2,  -999.00,9,  -999.00,9,     3.90,2,     0.02,2,     0.27,2, -999.000,9, -999.000,9,  -999.00,9,   -999.0,9,   -999.0,9,-999.0000,9,   -999.0,  9,  -999.00,9,   -999.0,  -999.00,9,  -999.00,9,     0.01,2,     0.01,2,   -999.0,-999.0000, -999,9,  198,  18.2930,  25.0826,   -999.0,9
       SH98-04,  NONE,SH-5536,  2,     11,S-1-1-11,2,19980423,1937, 31.5202, 135.2840, 3980,    250.5,  17.7037,  34.8255,2,   -999.0,9,  34.8327,2,    206.5,4,  -999.00,9,  -999.00,9,     4.68,2,     0.02,2,     0.33,2, -999.000,9, -999.000,9,  -999.00,9,   -999.0,9,   -999.0,9,-999.0000,9,   -999.0,  9,  -999.00,9,   -999.0,  -999.00,9,  -999.00,9,     0.00,2,     0.00,2,   -999.0,-999.0000, -999,9,  249,  17.6612,  25.2214,   -999.0,9
       SH98-04,  NONE,SH-5536,  2,     10,S-1-1-10,2,19980423,1935, 31.5202, 135.2840, 3980,    300.3,  17.0690,  34.7997,2,   -999.0,9,  34.8030,2,    200.0,2,  -999.00,9,  -999.00,9,     5.95,2,     0.03,2,     0.40,2, -999.000,9, -999.000,9,  -999.00,9,   -999.0,9,   -999.0,9,-999.0000,9,   -999.0,  9,  -999.00,9,   -999.0,  -999.00,9,  -999.00,9,     0.00,2,     0.00,2,   -999.0,-999.0000, -999,9,  298,  17.0192,  25.3560,   -999.0,9
       SH98-04,  NONE,SH-5536,  1,      9, S-1-1-2,2,19980423,1858, 31.5033, 135.2615, 3540,    400.8,  15.6332,  34.6760,2,   -999.0,9,  34.6841,2,    192.0,2,  -999.00,9,  -999.00,9,     8.97,2,     0.02,2,     0.62,2, -999.000,9, -999.000,9,  -999.00,9,   -999.0,9,   -999.0,9,-999.0000,9,   -999.0,  9,  -999.00,9,   -999.0,  -999.00,9,  -999.00,9,  -999.00,9,  -999.00,9,   -999.0,-999.0000, -999,9,  398,  15.5705,  25.5956,   -999.0,9
       SH98-04,  NONE,SH-5536,  1,      8, S-1-1-9,2,19980423,1855, 31.5033, 135.2615, 3540,    501.7,  13.5962,  34.5206,2,   -999.0,9,  34.5299,2,    183.1,2,  -999.00,9,  -999.00,9,    12.96,2,     0.02,2,     0.93,2, -999.000,9, -999.000,9,  -999.00,9,   -999.0,9,   -999.0,9,-999.0000,9,   -999.0,  9,  -999.00,9,   -999.0,  -999.00,9,  -999.00,9,  -999.00,9,  -999.00,9,   -999.0,-999.0000, -999,9,  498,  13.5247,  25.9152,   -999.0,9
       SH98-04,  NONE,SH-5536,  1,      7, S-1-1-4,2,19980423,1853, 31.5033, 135.2615, 3540,    601.2,  11.2124,  34.3743,2,   -999.0,9,  34.3685,2,    171.6,2,  -999.00,9,  -999.00,9,    18.12,2,     0.01,2,     1.27,2, -999.000,9, -999.000,9,  -999.00,9,   -999.0,9,   -999.0,9,-999.0000,9,   -999.0,  9,  -999.00,9,   -999.0,  -999.00,9,  -999.00,9,  -999.00,9,  -999.00,9,   -999.0,-999.0000, -999,9,  596,  11.1365,  26.2636,   -999.0,9
       SH98-04,  NONE,SH-5536,  1,      6,02-14892,2,19980423,1851, 31.5033, 135.2615, 3540,    701.9,   8.6015,  34.2344,2,   -999.0,9,  34.2308,2,    146.0,2,  -999.00,9,  -999.00,9,    24.74,2,     0.01,2,     1.76,2, -999.000,9, -999.000,9,  -999.00,9,   -999.0,9,   -999.0,9,-999.0000,9,   -999.0,  9,  -999.00,9,   -999.0,  -999.00,9,  -999.00,9,  -999.00,9,  -999.00,9,   -999.0,-999.0000, -999,9,  696,   8.5258,  26.5929,   -999.0,9
       SH98-04,  NONE,SH-5536,  1,      5, S-1-1-6,2,19980423,1848, 31.5033, 135.2615, 3540,    799.2,   6.8896,  34.1916,2,   -999.0,9,  34.1784,2,    121.3,2,  -999.00,9,  -999.00,9,    29.80,2,     0.01,2,     2.12,2, -999.000,9, -999.000,9,  -999.00,9,   -999.0,9,   -999.0,9,-999.0000,9,   -999.0,  9,  -999.00,9,   -999.0,  -999.00,9,  -999.00,9,  -999.00,9,  -999.00,9,   -999.0,-999.0000, -999,9,  792,   6.8132,  26.8074,   -999.0,9
       SH98-04,  NONE,SH-5536,  1,      4, S-1-1-1,2,19980423,1846, 31.5033, 135.2615, 3540,    899.7,   5.3600,  34.2298,2,   -999.0,9,  34.2216,2,     90.8,2,  -999.00,9,  -999.00,9,    34.76,2,     0.01,2,     2.46,2, -999.000,9, -999.000,9,  -999.00,9,   -999.0,9,   -999.0,9,-999.0000,9,   -999.0,  9,  -999.00,9,   -999.0,  -999.00,9,  -999.00,9,  -999.00,9,  -999.00,9,   -999.0,-999.0000, -999,9,  892,   5.2837,  27.0316,   -999.0,9
       SH98-04,  NONE,SH-5536,  1,      3,1-133-84,2,19980423,1844, 31.5033, 135.2615, 3540,    999.0,   4.4211,  34.2865,2,   -999.0,9,  34.2758,2,     70.4,2,  -999.00,9,  -999.00,9,    37.97,2,     0.02,2,     2.68,2, -999.000,9, -999.000,9,  -999.00,9,   -999.0,9,   -999.0,9,-999.0000,9,   -999.0,  9,  -999.00,9,   -999.0,  -999.00,9,  -999.00,9,  -999.00,9,  -999.00,9,   -999.0,-999.0000, -999,9,  990,   4.3426,  27.1826,   -999.0,9
       SH98-04,  NONE,SH-5536,  1,      2, 1-133-1,2,19980423,1841, 31.5033, 135.2615, 3540,   1206.7,   3.5082,  34.4089,2,   -999.0,9,  34.4029,2,     63.9,2,  -999.00,9,  -999.00,9,    39.91,2,     0.02,2,     2.77,2, -999.000,9, -999.000,9,  -999.00,9,   -999.0,9,   -999.0,9,-999.0000,9,   -999.0,  9,  -999.00,9,   -999.0,  -999.00,9,  -999.00,9,  -999.00,9,  -999.00,9,   -999.0,-999.0000, -999,9, 1195,   3.4197,  27.3739,   -999.0,9
       SH98-04,  NONE,SH-5537,  2,     -9,      -9,5,19980424,0245, 31.0087, 135.2693, 4310,      0.0,  21.3716,  34.7082,2,   -999.0,9,-999.0000,9,    215.6,2,  -999.00,9,  -999.00,9,     0.10,2,     0.00,2,     0.05,2, -999.000,9, -999.000,9,  -999.00,9,   -999.0,9,   -999.0,9,-999.0000,9,   -999.0,  9,  -999.00,9,   -999.0,  -999.00,9,  -999.00,9,     0.09,2,     0.03,2,   -999.0,-999.0000, -999,9,    0,  21.3716,  24.1703,   -999.0,9
       SH98-04,  NONE,SH-5537,  2,     -9,      -9,4,19980424,0244, 31.0087, 135.2693, 4310,     11.8,  21.3357,  34.7102,2,   -999.0,9,-999.0000,9,   -999.0,4,  -999.00,9,  -999.00,9,  -999.00,4,  -999.00,4,  -999.00,4, -999.000,9, -999.000,9,  -999.00,9,   -999.0,9,   -999.0,9,-999.0000,9,   -999.0,  9,  -999.00,9,   -999.0,  -999.00,9,  -999.00,9,  -999.00,4,  -999.00,4,   -999.0,-999.0000, -999,9,   12,  21.3334,  24.1823,   -999.0,9
       SH98-04,  NONE,SH-5537,  2,      1, 1-133-2,2,19980424,0243, 31.0087, 135.2693, 4310,     25.9,  20.8727,  34.8278,2,   -999.0,9,-999.0000,9,    229.3,2,  -999.00,9,  -999.00,9,     0.10,2,     0.00,2,     0.03,2, -999.000,9, -999.000,9,  -999.00,9,   -999.0,9,   -999.0,9,-999.0000,9,   -999.0,  9,  -999.00,9,   -999.0,  -999.00,9,  -999.00,9,     0.10,2,     0.04,2,   -999.0,-999.0000, -999,9,   26,  20.8678,  24.3986,   -999.0,9
       SH98-04,  NONE,SH-5537,  2,     12, S-1-1-8,2,19980424,0242, 31.0087, 135.2693, 4310,     52.4,  19.6455,  34.8378,2,   -999.0,9,-999.0000,9,    232.4,2,  -999.00,9,  -999.00,9,     0.10,2,     0.00,2,     0.02,2, -999.000,9, -999.000,9,  -999.00,9,   -999.0,9,   -999.0,9,-999.0000,9,   -999.0,  9,  -999.00,9,   -999.0,  -999.00,9,  -999.00,9,     0.09,2,     0.03,2,   -999.0,-999.0000, -999,9,   52,  19.6359,  24.7333,   -999.0,9
       SH98-04,  NONE,SH-5537,  2,     11,S-1-1-11,2,19980424,0241, 31.0087, 135.2693, 4310,     76.3,  19.2683,  34.8340,2,   -999.0,9,-999.0000,9,    236.5,2,  -999.00,9,  -999.00,9,     0.10,2,     0.01,2,     0.04,2, -999.000,9, -999.000,9,  -999.00,9,   -999.0,9,   -999.0,9,-999.0000,9,   -999.0,  9,  -999.00,9,   -999.0,  -999.00,9,  -999.00,9,     0.23,2,     0.20,2,   -999.0,-999.0000, -999,9,   76,  19.2546,  24.8291,   -999.0,9
       SH98-04,  NONE,SH-5537,  2,     10,S-1-1-10,2,19980424,0240, 31.0087, 135.2693, 4310,    102.6,  19.0682,  34.8128,2,   -999.0,9,-999.0000,9,    235.3,2,  -999.00,9,  -999.00,9,     0.10,2,     0.03,2,     0.04,2, -999.000,9, -999.000,9,  -999.00,9,   -999.0,9,   -999.0,9,-999.0000,9,   -999.0,  9,  -999.00,9,   -999.0,  -999.00,9,  -999.00,9,     0.22,2,     0.30,2,   -999.0,-999.0000, -999,9,  102,  19.0499,  24.8654,   -999.0,9
       SH98-04,  NONE,SH-5537,  2,      9, S-1-1-2,2,19980424,0239, 31.0087, 135.2693, 4310,    126.7,  19.0445,  34.8147,2,   -999.0,9,-999.0000,9,    230.6,2,  -999.00,9,  -999.00,9,     1.07,2,     0.36,2,     0.09,2, -999.000,9, -999.000,9,  -999.00,9,   -999.0,9,   -999.0,9,-999.0000,9,   -999.0,  9,  -999.00,9,   -999.0,  -999.00,9,  -999.00,9,     0.08,2,     0.09,2,   -999.0,-999.0000, -999,9,  126,  19.0219,  24.8739,   -999.0,9
       SH98-04,  NONE,SH-5537,  2,      8, S-1-1-9,2,19980424,0238, 31.0087, 135.2693, 4310,    151.2,  18.9979,  34.8130,2,   -999.0,9,-999.0000,9,    226.2,2,  -999.00,9,  -999.00,9,     1.37,2,     0.06,2,     0.11,2, -999.000,9, -999.000,9,  -999.00,9,   -999.0,9,   -999.0,9,-999.0000,9,   -999.0,  9,  -999.00,9,   -999.0,  -999.00,9,  -999.00,9,     0.10,2,     0.12,2,   -999.0,-999.0000, -999,9,  150,  18.9710,  24.8856,   -999.0,9
       SH98-04,  NONE,SH-5537,  2,      7, S-1-1-4,2,19980424,0236, 31.0087, 135.2693, 4310,    201.9,  18.9562,  34.8100,2,   -999.0,9,-999.0000,9,    227.8,2,  -999.00,9,  -999.00,9,     1.37,2,     0.03,2,     0.12,2, -999.000,9, -999.000,9,  -999.00,9,   -999.0,9,   -999.0,9,-999.0000,9,   -999.0,  9,  -999.00,9,   -999.0,  -999.00,9,  -999.00,9,     0.01,2,     0.02,2,   -999.0,-999.0000, -999,9,  200,  18.9202,  24.8962,   -999.0,9
       SH98-04,  NONE,SH-5537,  2,      6,02-14892,2,19980424,0235, 31.0087, 135.2693, 4310,    252.3,  18.9220,  34.8227,2,   -999.0,9,-999.0000,9,    317.0,4,  -999.00,9,  -999.00,9,     1.46,2,     0.03,2,     0.13,2, -999.000,9, -999.000,9,  -999.00,9,   -999.0,9,   -999.0,9,-999.0000,9,   -999.0,  9,  -999.00,9,   -999.0,  -999.00,9,  -999.00,9,     0.01,2,     0.01,2,   -999.0,-999.0000, -999,9,  250,  18.8771,  24.9169,   -999.0,9
       SH98-04,  NONE,SH-5537,  2,      5, S-1-1-6,2,19980424,0234, 31.0087, 135.2693, 4310,    301.2,  17.9404,  34.8338,2,   -999.0,9,-999.0000,9,    210.7,2,  -999.00,9,  -999.00,9,     4.39,2,     0.03,2,     0.31,2, -999.000,9, -999.000,9,  -999.00,9,   -999.0,9,   -999.0,9,-999.0000,9,   -999.0,  9,  -999.00,9,   -999.0,  -999.00,9,  -999.00,9,     0.00,2,     0.01,2,   -999.0,-999.0000, -999,9,  299,  17.8888,  25.1721,   -999.0,9
       SH98-04,  NONE,SH-5537,  2,      4, S-1-1-1,2,19980424,0232, 31.0087, 135.2693, 4310,    403.8,  16.1419,  34.7273,2,   -999.0,9,-999.0000,9,    202.1,2,  -999.00,9,  -999.00,9,     7.31,2,     0.03,2,     0.52,2, -999.000,9, -999.000,9,  -999.00,9,   -999.0,9,   -999.0,9,-999.0000,9,   -999.0,  9,  -999.00,9,   -999.0,  -999.00,9,  -999.00,9,  -999.00,9,  -999.00,9,   -999.0,-999.0000, -999,9,  401,  16.0773,  25.5202,   -999.0,9
       SH98-04,  NONE,SH-5537,  1,      2, 1-133-1,2,19980424,0135, 30.9962, 135.2562, 4290,    399.3,  16.3282,  34.7491,2,   -999.0,9,-999.0000,9,    203.4,2,  -999.00,9,  -999.00,9,     7.02,2,     0.04,2,     0.50,2, -999.000,9, -999.000,9,  -999.00,9,   -999.0,9,   -999.0,9,-999.0000,9,   -999.0,  9,  -999.00,9,   -999.0,  -999.00,9,  -999.00,9,  -999.00,9,  -999.00,9,   -999.0,-999.0000, -999,9,  396,  16.2639,  25.4940,   -999.0,9
       SH98-04,  NONE,SH-5537,  1,      1, 1-133-2,2,19980424,0133, 30.9962, 135.2562, 4290,    498.9,  14.3534,  34.5946,2,   -999.0,9,-999.0000,9,    195.3,2,  -999.00,9,  -999.00,9,    10.92,2,     0.05,2,     0.78,2, -999.000,9, -999.000,9,  -999.00,9,   -999.0,9,   -999.0,9,-999.0000,9,   -999.0,  9,  -999.00,9,   -999.0,  -999.00,9,  -999.00,9,  -999.00,9,  -999.00,9,   -999.0,-999.0000, -999,9,  495,  14.2796,  25.8148,   -999.0,9
       SH98-04,  NONE,SH-5537,  1,     12, S-1-1-8,2,19980424,0131, 30.9962, 135.2562, 4290,    600.5,  11.4972,  34.3836,2,   -999.0,9,-999.0000,9,    175.1,2,  -999.00,9,  -999.00,9,    17.54,2,     0.04,2,     1.26,2, -999.000,9, -999.000,9,  -999.00,9,   -999.0,9,   -999.0,9,-999.0000,9,   -999.0,  9,  -999.00,9,   -999.0,  -999.00,9,  -999.00,9,  -999.00,9,  -999.00,9,   -999.0,-999.0000, -999,9,  595,  11.4202,  26.2189,   -999.0,9
       SH98-04,  NONE,SH-5537,  1,     11,S-1-1-11,4,19980424,0130, 30.9962, 135.2562, 4290,    699.5,   9.0467,  34.2776,2,   -999.0,9,-999.0000,9,    154.9,2,  -999.00,9,  -999.00,9,    23.48,2,     0.04,2,     1.69,2, -999.000,9, -999.000,9,  -999.00,9,   -999.0,9,   -999.0,9,-999.0000,9,   -999.0,  9,  -999.00,9,   -999.0,  -999.00,9,  -999.00,9,  -999.00,9,  -999.00,9,   -999.0,-999.0000, -999,9,  693,   8.9690,  26.5574,   -999.0,9
       SH98-04,  NONE,SH-5537,  1,     -9,      -9,4,19980424,0128, 30.9962, 135.2562, 4290,    800.1,   6.5999,  34.1360,2,   -999.0,9,-999.0000,9,   -999.0,4,  -999.00,9,  -999.00,9,  -999.00,4,  -999.00,4,  -999.00,4, -999.000,9, -999.000,9,  -999.00,9,   -999.0,9,   -999.0,9,-999.0000,9,   -999.0,  9,  -999.00,9,   -999.0,  -999.00,9,  -999.00,9,  -999.00,9,  -999.00,9,   -999.0,-999.0000, -999,9,  793,   6.5251,  26.8021,   -999.0,9
       SH98-04,  NONE,SH-5537,  1,     10,S-1-1-10,2,19980424,0127, 30.9962, 135.2562, 4290,    902.2,   5.3466,  34.1903,2,   -999.0,9,-999.0000,9,    100.0,2,  -999.00,9,  -999.00,9,    35.25,2,     0.05,2,     2.53,2, -999.000,9, -999.000,9,  -999.00,9,   -999.0,9,   -999.0,9,-999.0000,9,   -999.0,  9,  -999.00,9,   -999.0,  -999.00,9,  -999.00,9,  -999.00,9,  -999.00,9,   -999.0,-999.0000, -999,9,  894,   5.2702,  27.0019,   -999.0,9
       SH98-04,  NONE,SH-5537,  1,      9, S-1-1-2,2,19980424,0125, 30.9962, 135.2562, 4290,   1002.4,   4.6095,  34.3038,2,   -999.0,9,-999.0000,9,     76.3,2,  -999.00,9,  -999.00,9,    37.97,2,     0.05,2,     2.73,2, -999.000,9, -999.000,9,  -999.00,9,   -999.0,9,   -999.0,9,-999.0000,9,   -999.0,  9,  -999.00,9,   -999.0,  -999.00,9,  -999.00,9,  -999.00,9,  -999.00,9,   -999.0,-999.0000, -999,9,  993,   4.5293,  27.1761,   -999.0,9
       SH98-04,  NONE,SH-5537,  1,      8, S-1-1-9,2,19980424,0122, 30.9962, 135.2562, 4290,   1208.7,   3.4698,  34.4098,2,   -999.0,9,-999.0000,9,     64.4,2,  -999.00,9,  -999.00,9,    40.49,2,     0.06,2,     2.89,2, -999.000,9, -999.000,9,  -999.00,9,   -999.0,9,   -999.0,9,-999.0000,9,   -999.0,  9,  -999.00,9,   -999.0,  -999.00,9,  -999.00,9,  -999.00,9,  -999.00,9,   -999.0,-999.0000, -999,9, 1197,   3.3816,  27.3783,   -999.0,9