BOTTLE,20130510GEMDJMAYT
EXPOCODE,SECT_ID,STNNBR,CASTNO,SAMPNO,BTLNBR,BTLNBR_FLAG_W,DATE,TIME,LATITUDE,LONGITUDE,DEPTH,CTDPRS,CTDTMP,CTDSAL,CTDSAL_FLAG_W,CTDOXY,CTDOXY_FLAG_W,SALNTY,SALNTY_FLAG_W,OXYGEN,OXYGEN_FLAG_W,SILCAT,SILCAT_FLAG_W,NITRAT,NITRAT_FLAG_W,NO2+NO3,NO2+NO3_FLAG_W,NITRIT,NITRIT_FLAG_W,PHSPHT,PHSPHT_FLAG_W,CFC-11,CFC-11_FLAG_W,CFC-12,CFC-12_FLAG_W,DELC13,DELC13_FLAG_W,TCARBN,TCARBN_FLAG_W,ALKALI,ALKALI_FLAG_W,PH,PH_FLAG_W,PH_TMP,PH_SCALE,PH_NBS,PH_NBS_FLAG_W,C13ERR,TOTALP,TOTALP_FLAG_W,AMMONI,AMMONI_FLAG_W,CHLORA,CHLORA_FLAG_W,PPHYTN,PPHYTN_FLAG_W,REVPRS,REVTMP,DEPTH_,DEPTH_FLAG,CTDDEP,THETA,SIGTHT,DOC,DOC_FLAG_W
,,,,,,,GMT,GMT,,,METER,DBAR,ITS-90,PSS-78,,UMOL/KG,,PSS-78,,UMOL/KG,,UMOL/KG,,UMOL/KG,,UMOL/KG,,UMOL/KG,,UMOL/KG,,PMOL/KG,,PMOL/KG,,/MILLE,,UMOL/KG,,UMOL/KG,,25_DEG_C,,DEG_C,,,,/MILLE,UMOL/KG,,UMOL/KG,,UG/L,,UG/L,,DBAR,ITS-90,METERS,,METERS,DEG_C,,UMOL/L,
       SH98-04,  NONE,SH-5547,  1,      5, S-1-1-6,2,19980426,2151, 30.6457, 132.2143, 2620,    398.4,  11.6139,  34.4437,2,   -999.0,9,-999.0000,9,    153.4,2,  -999.00,9,  -999.00,9,    19.29,2,     0.01,2,     1.38,2, -999.000,9, -999.000,9,  -999.00,9,   -999.0,9,   -999.0,9,-999.0000,9,   -999.0,  9,     7.86,2,   -999.0,  -999.00,9,  -999.00,9,  -999.00,9,  -999.00,9,   -999.0,-999.0000, -999,9,  395,  11.5629,  26.2392,   -999.0,9
       SH98-04,  NONE,SH-5547,  1,      4, S-1-1-1,2,19980426,2147, 30.6457, 132.2143, 2620,    498.0,   8.1695,  34.2804,2,   -999.0,9,-999.0000,9,    125.6,2,  -999.00,9,  -999.00,9,    27.27,2,     0.00,2,     1.95,2, -999.000,9, -999.000,9,  -999.00,9,   -999.0,9,   -999.0,9,-999.0000,9,   -999.0,  9,     7.73,2,   -999.0,  -999.00,9,  -999.00,9,  -999.00,9,  -999.00,9,   -999.0,-999.0000, -999,9,  494,   8.1180,  26.6911,   -999.0,9
       SH98-04,  NONE,SH-5547,  1,      3,1-133-84,2,19980426,2143, 30.6457, 132.2143, 2620,    597.1,   6.3908,  34.3179,2,   -999.0,9,-999.0000,9,     99.7,2,  -999.00,9,  -999.00,9,    32.81,2,     0.00,2,     2.34,2, -999.000,9, -999.000,9,  -999.00,9,   -999.0,9,   -999.0,9,-999.0000,9,   -999.0,  9,     7.64,2,   -999.0,  -999.00,9,  -999.00,9,  -999.00,9,  -999.00,9,   -999.0,-999.0000, -999,9,  592,   6.3366,  26.9704,   -999.0,9
       SH98-04,  NONE,SH-5547,  1,      2, 1-133-1,2,19980426,2139, 30.6457, 132.2143, 2620,    697.5,   4.8201,  34.2978,2,   -999.0,9,-999.0000,9,     77.6,2,  -999.00,9,  -999.00,9,    37.19,2,     0.00,2,     2.63,2, -999.000,9, -999.000,9,  -999.00,9,   -999.0,9,   -999.0,9,-999.0000,9,   -999.0,  9,     7.56,2,   -999.0,  -999.00,9,  -999.00,9,  -999.00,9,  -999.00,9,   -999.0,-999.0000, -999,9,  692,   4.7647,  27.1452,   -999.0,9
       SH98-04,  NONE,SH-5547,  1,      1, 1-133-2,2,19980426,2135, 30.6457, 132.2143, 2620,    797.8,   4.1930,  34.3588,2,   -999.0,9,-999.0000,9,     70.7,2,  -999.00,9,  -999.00,9,    38.74,2,     0.00,2,     2.73,2, -999.000,9, -999.000,9,  -999.00,9,   -999.0,9,   -999.0,9,-999.0000,9,   -999.0,  9,     7.54,2,   -999.0,  -999.00,9,  -999.00,9,  -999.00,9,  -999.00,9,   -999.0,-999.0000, -999,9,  791,   4.1329,  27.2622,   -999.0,9
       SH98-04,  NONE,SH-5547,  1,     12, S-1-1-8,2,19980426,2130, 30.6457, 132.2143, 2620,    898.0,   3.7394,  34.4127,2,   -999.0,9,-999.0000,9,     68.1,2,  -999.00,9,  -999.00,9,    39.32,2,     0.00,2,     2.78,2, -999.000,9, -999.000,9,  -999.00,9,   -999.0,9,   -999.0,9,-999.0000,9,   -999.0,  9,     7.54,2,   -999.0,  -999.00,9,  -999.00,9,  -999.00,9,  -999.00,9,   -999.0,-999.0000, -999,9,  890,   3.6741,  27.3520,   -999.0,9
       SH98-04,  NONE,SH-5547,  1,     11,S-1-1-11,2,19980426,2126, 30.6457, 132.2143, 2620,    999.3,   3.3877,  34.4446,2,   -999.0,9,-999.0000,9,     70.4,2,  -999.00,9,  -999.00,9,    39.42,2,     0.01,2,     2.78,2, -999.000,9, -999.000,9,  -999.00,9,   -999.0,9,   -999.0,9,-999.0000,9,   -999.0,  9,     7.54,2,   -999.0,  -999.00,9,  -999.00,9,  -999.00,9,  -999.00,9,   -999.0,-999.0000, -999,9,  990,   3.3169,  27.4121,   -999.0,9
       SH98-04,  NONE,SH-5547,  1,     10,S-1-1-10,2,19980426,2119, 30.6457, 132.2143, 2620,   1201.8,   2.9642,  34.4882,2,   -999.0,9,-999.0000,9,     74.6,2,  -999.00,9,  -999.00,9,    39.90,2,     0.01,2,     2.81,2, -999.000,9, -999.000,9,  -999.00,9,   -999.0,9,   -999.0,9,-999.0000,9,   -999.0,  9,     7.54,2,   -999.0,  -999.00,9,  -999.00,9,  -999.00,9,  -999.00,9,   -999.0,-999.0000, -999,9, 1190,   2.8811,  27.4873,   -999.0,9
       SH98-04,  NONE,SH-5548,  2,     -9,      -9,5,19980427,0501, 30.9952, 131.7023, 1440,      0.0,  23.2140,  34.3879,2,   -999.0,9,-999.0000,9,    225.1,2,  -999.00,9,  -999.00,9,     0.00,2,     0.01,2,     0.03,2, -999.000,9, -999.000,9,  -999.00,9,   -999.0,9,   -999.0,9,-999.0000,9,   -999.0,  9,  -999.00,9,   -999.0,  -999.00,9,  -999.00,9,     0.30,2,     0.12,2,   -999.0,-999.0000, -999,9,    0,  23.2140,  23.4077,   -999.0,9
       SH98-04,  NONE,SH-5548,  2,      9, S-1-1-2,2,19980427,0500, 30.9952, 131.7023, 1440,     10.7,  23.1604,  34.3875,2,   -999.0,9,  34.3931,2,    226.3,2,  -999.00,9,  -999.00,9,     0.00,2,     0.00,2,     0.02,2, -999.000,9, -999.000,9,  -999.00,9,   -999.0,9,   -999.0,9,-999.0000,9,   -999.0,  9,  -999.00,9,   -999.0,  -999.00,9,  -999.00,9,     0.31,2,     0.16,2,   -999.0,-999.0000, -999,9,   11,  23.1582,  23.4236,   -999.0,9
       SH98-04,  NONE,SH-5548,  2,      8, S-1-1-9,2,19980427,0459, 30.9952, 131.7023, 1440,     25.1,  20.9321,  34.6058,2,   -999.0,9,  34.6117,2,    234.8,2,  -999.00,9,  -999.00,9,     0.00,2,     0.00,2,     0.03,2, -999.000,9, -999.000,9,  -999.00,9,   -999.0,9,   -999.0,9,-999.0000,9,   -999.0,  9,  -999.00,9,   -999.0,  -999.00,9,  -999.00,9,     0.75,2,     0.41,2,   -999.0,-999.0000, -999,9,   25,  20.9273,  24.2135,   -999.0,9
       SH98-04,  NONE,SH-5548,  2,      7, S-1-1-4,2,19980427,0458, 30.9952, 131.7023, 1440,     50.3,  19.7828,  34.6516,2,   -999.0,9,  34.6546,2,    215.0,2,  -999.00,9,  -999.00,9,     2.73,2,     0.34,2,     0.20,2, -999.000,9, -999.000,9,  -999.00,9,   -999.0,9,   -999.0,9,-999.0000,9,   -999.0,  9,  -999.00,9,   -999.0,  -999.00,9,  -999.00,9,     0.19,2,     0.22,2,   -999.0,-999.0000, -999,9,   50,  19.7736,  24.5553,   -999.0,9
       SH98-04,  NONE,SH-5548,  2,      6,02-14892,2,19980427,0457, 30.9952, 131.7023, 1440,     76.3,  18.5679,  34.6113,2,   -999.0,9,  34.6166,2,    218.0,2,  -999.00,9,  -999.00,9,     3.61,2,     0.09,2,     0.26,2, -999.000,9, -999.000,9,  -999.00,9,   -999.0,9,   -999.0,9,-999.0000,9,   -999.0,  9,  -999.00,9,   -999.0,  -999.00,9,  -999.00,9,     0.09,2,     0.14,2,   -999.0,-999.0000, -999,9,   76,  18.5546,  24.8366,   -999.0,9
       SH98-04,  NONE,SH-5548,  2,      5, S-1-1-6,2,19980427,0456, 30.9952, 131.7023, 1440,     99.9,  17.7174,  34.5727,2,   -999.0,9,  34.5730,2,    212.4,2,  -999.00,9,  -999.00,9,     5.46,2,     0.03,2,     0.39,2, -999.000,9, -999.000,9,  -999.00,9,   -999.0,9,   -999.0,9,-999.0000,9,   -999.0,  9,  -999.00,9,   -999.0,  -999.00,9,  -999.00,9,     0.05,2,     0.08,2,   -999.0,-999.0000, -999,9,   99,  17.7005,  25.0180,   -999.0,9
       SH98-04,  NONE,SH-5548,  2,      4, S-1-1-1,2,19980427,0455, 30.9952, 131.7023, 1440,    125.3,  16.8612,  34.5680,2,   -999.0,9,  34.5903,4,    199.2,2,  -999.00,9,  -999.00,9,     7.61,2,     0.02,2,     0.55,2, -999.000,9, -999.000,9,  -999.00,9,   -999.0,9,   -999.0,9,-999.0000,9,   -999.0,  9,  -999.00,9,   -999.0,  -999.00,9,  -999.00,9,     0.02,2,     0.06,2,   -999.0,-999.0000, -999,9,  124,  16.8407,  25.2203,   -999.0,9
       SH98-04,  NONE,SH-5548,  2,      3,1-133-84,2,19980427,0454, 30.9952, 131.7023, 1440,    149.8,  15.8367,  34.6477,2,   -999.0,9,  34.6485,2,    183.6,2,  -999.00,9,  -999.00,9,     9.95,2,     0.01,2,     0.70,2, -999.000,9, -999.000,9,  -999.00,9,   -999.0,9,   -999.0,9,-999.0000,9,   -999.0,  9,  -999.00,9,   -999.0,  -999.00,9,  -999.00,9,     0.01,2,     0.04,2,   -999.0,-999.0000, -999,9,  149,  15.8133,  25.5191,   -999.0,9
       SH98-04,  NONE,SH-5548,  2,      2, 1-133-1,2,19980427,0452, 30.9952, 131.7023, 1440,    200.7,  13.4574,  34.5371,2,   -999.0,9,  34.5368,2,    174.5,2,  -999.00,9,  -999.00,9,    14.04,2,     0.01,2,     0.99,2, -999.000,9, -999.000,9,  -999.00,9,   -999.0,9,   -999.0,9,-999.0000,9,   -999.0,  9,  -999.00,9,   -999.0,  -999.00,9,  -999.00,9,     0.00,2,     0.02,2,   -999.0,-999.0000, -999,9,  199,  13.4293,  25.9475,   -999.0,9
       SH98-04,  NONE,SH-5548,  2,      1, 1-133-2,2,19980427,0451, 30.9952, 131.7023, 1440,    249.5,  12.1535,  34.4671,2,   -999.0,9,  34.4707,2,    160.8,2,  -999.00,9,  -999.00,9,    17.44,2,     0.01,2,     1.24,2, -999.000,9, -999.000,9,  -999.00,9,   -999.0,9,   -999.0,9,-999.0000,9,   -999.0,  9,  -999.00,9,   -999.0,  -999.00,9,  -999.00,9,     0.00,2,     0.01,2,   -999.0,-999.0000, -999,9,  248,  12.1208,  26.1521,   -999.0,9
       SH98-04,  NONE,SH-5548,  2,     12, S-1-1-8,2,19980427,0449, 30.9952, 131.7023, 1440,    300.7,  11.5649,  34.4463,2,   -999.0,9,  34.4477,2,    154.5,2,  -999.00,9,  -999.00,9,    19.49,2,     0.01,2,     1.37,2, -999.000,9, -999.000,9,  -999.00,9,   -999.0,9,   -999.0,9,-999.0000,9,   -999.0,  9,  -999.00,9,   -999.0,  -999.00,9,  -999.00,9,     0.00,2,     0.02,2,   -999.0,-999.0000, -999,9,  298,  11.5267,  26.2479,   -999.0,9
       SH98-04,  NONE,SH-5548,  1,     11,S-1-1-11,2,19980427,0422, 30.9995, 131.7098, 1460,    400.2,   8.3377,  34.3343,2,   -999.0,9,  34.3308,2,    125.5,2,  -999.00,9,  -999.00,9,    27.66,2,     0.02,2,     1.99,2, -999.000,9, -999.000,9,  -999.00,9,   -999.0,9,   -999.0,9,-999.0000,9,   -999.0,  9,  -999.00,9,   -999.0,  -999.00,9,  -999.00,9,  -999.00,9,  -999.00,9,   -999.0,-999.0000, -999,9,  397,   8.2961,  26.7065,   -999.0,9
       SH98-04,  NONE,SH-5548,  1,     10,S-1-1-10,2,19980427,0420, 30.9995, 131.7098, 1460,    500.0,   6.1836,  34.2839,2,   -999.0,9,  34.2860,2,    100.0,2,  -999.00,9,  -999.00,9,    33.11,2,     0.01,2,     2.36,2, -999.000,9, -999.000,9,  -999.00,9,   -999.0,9,   -999.0,9,-999.0000,9,   -999.0,  9,  -999.00,9,   -999.0,  -999.00,9,  -999.00,9,  -999.00,9,  -999.00,9,   -999.0,-999.0000, -999,9,  496,   6.1394,  26.9690,   -999.0,9
       SH98-04,  NONE,SH-5548,  1,      9, S-1-1-2,2,19980427,0418, 30.9995, 131.7098, 1460,    600.5,   5.3857,  34.2983,2,   -999.0,9,  34.2938,2,     85.8,2,  -999.00,9,  -999.00,9,    35.54,2,     0.01,2,     2.52,2, -999.000,9, -999.000,9,  -999.00,9,   -999.0,9,   -999.0,9,-999.0000,9,   -999.0,  9,  -999.00,9,   -999.0,  -999.00,9,  -999.00,9,  -999.00,9,  -999.00,9,   -999.0,-999.0000, -999,9,  595,   5.3359,  27.0796,   -999.0,9
       SH98-04,  NONE,SH-5548,  1,      8, S-1-1-9,2,19980427,0416, 30.9995, 131.7098, 1460,    701.0,   4.8133,  34.3195,2,   -999.0,9,  34.3184,2,     78.7,2,  -999.00,9,  -999.00,9,    37.00,2,     0.00,2,     2.62,2, -999.000,9, -999.000,9,  -999.00,9,   -999.0,9,   -999.0,9,-999.0000,9,   -999.0,  9,  -999.00,9,   -999.0,  -999.00,9,  -999.00,9,  -999.00,9,  -999.00,9,   -999.0,-999.0000, -999,9,  695,   4.7577,  27.1633,   -999.0,9
       SH98-04,  NONE,SH-5548,  1,      7, S-1-1-4,2,19980427,0414, 30.9995, 131.7098, 1460,    801.4,   4.4119,  34.3502,2,   -999.0,9,  34.3437,2,     72.8,2,  -999.00,9,  -999.00,9,    38.16,2,     0.01,2,     2.72,2, -999.000,9, -999.000,9,  -999.00,9,   -999.0,9,   -999.0,9,-999.0000,9,   -999.0,  9,  -999.00,9,   -999.0,  -999.00,9,  -999.00,9,  -999.00,9,  -999.00,9,   -999.0,-999.0000, -999,9,  794,   4.3501,  27.2324,   -999.0,9
       SH98-04,  NONE,SH-5548,  1,      6,02-14892,2,19980427,0412, 30.9995, 131.7098, 1460,    902.7,   3.9421,  34.3778,2,   -999.0,9,  34.3769,2,     67.1,2,  -999.00,9,  -999.00,9,    39.03,2,     0.01,2,     2.77,2, -999.000,9, -999.000,9,  -999.00,9,   -999.0,9,   -999.0,9,-999.0000,9,   -999.0,  9,  -999.00,9,   -999.0,  -999.00,9,  -999.00,9,  -999.00,9,  -999.00,9,   -999.0,-999.0000, -999,9,  895,   3.8750,  27.3040,   -999.0,9
       SH98-04,  NONE,SH-5548,  1,      5, S-1-1-6,2,19980427,0410, 30.9995, 131.7098, 1460,   1003.6,   3.6340,  34.4188,2,   -999.0,9,  34.4127,2,     66.6,2,  -999.00,9,  -999.00,9,    39.62,2,     0.01,2,     2.80,2, -999.000,9, -999.000,9,  -999.00,9,   -999.0,9,   -999.0,9,-999.0000,9,   -999.0,  9,  -999.00,9,   -999.0,  -999.00,9,  -999.00,9,  -999.00,9,  -999.00,9,   -999.0,-999.0000, -999,9,  994,   3.5610,  27.3680,   -999.0,9
       SH98-04,  NONE,SH-5548,  1,      4, S-1-1-1,2,19980427,0407, 30.9995, 131.7098, 1460,   1222.2,   2.9092,  34.4892,2,   -999.0,9,  34.4831,2,     73.1,2,  -999.00,9,  -999.00,9,    39.90,2,     0.01,2,     2.77,2, -999.000,9, -999.000,9,  -999.00,9,   -999.0,9,   -999.0,9,-999.0000,9,   -999.0,  9,  -999.00,9,   -999.0,  -999.00,9,  -999.00,9,  -999.00,9,  -999.00,9,   -999.0,-999.0000, -999,9, 1210,   2.8250,  27.4931,   -999.0,9
       SH98-04,  NONE,SH-5549,  1,     -9,      -9,5,19980427,0709, 31.1757, 131.4860,  225,      0.0,  23.1638,  34.2906,2,   -999.0,9,-999.0000,9,    222.7,2,  -999.00,9,  -999.00,9,     0.10,2,     0.00,2,     0.03,2, -999.000,9, -999.000,9,  -999.00,9,   -999.0,9,   -999.0,9,-999.0000,9,   -999.0,  9,     8.20,2,   -999.0,  -999.00,9,  -999.00,9,     0.17,2,     0.07,2,   -999.0,-999.0000, -999,9,    0,  23.1638,  23.3485,   -999.0,9
       SH98-04,  NONE,SH-5549,  1,      5, S-1-1-6,2,19980427,0708, 31.1757, 131.4860,  225,     11.0,  23.1559,  34.2927,2,   -999.0,9,-999.0000,9,    223.4,2,  -999.00,9,  -999.00,9,     0.00,2,     0.00,2,     0.03,2, -999.000,9, -999.000,9,  -999.00,9,   -999.0,9,   -999.0,9,-999.0000,9,   -999.0,  9,     8.20,2,   -999.0,  -999.00,9,  -999.00,9,     0.18,2,     0.08,2,   -999.0,-999.0000, -999,9,   11,  23.1536,  23.3530,   -999.0,9
       SH98-04,  NONE,SH-5549,  1,      4, S-1-1-1,2,19980427,0707, 31.1757, 131.4860,  225,     26.2,  21.8491,  34.5214,2,   -999.0,9,-999.0000,9,    218.5,2,  -999.00,9,  -999.00,9,     0.88,2,     0.09,2,     0.10,2, -999.000,9, -999.000,9,  -999.00,9,   -999.0,9,   -999.0,9,-999.0000,9,   -999.0,  9,     8.16,2,   -999.0,  -999.00,9,  -999.00,9,     0.62,2,     0.40,2,   -999.0,-999.0000, -999,9,   26,  21.8439,  23.8977,   -999.0,9
       SH98-04,  NONE,SH-5549,  1,      3,1-133-84,4,19980427,0706, 31.1757, 131.4860,  225,     50.2,  18.7578,  34.7531,2,   -999.0,9,-999.0000,9,    195.6,4,  -999.00,9,  -999.00,9,     4.78,4,     0.07,4,     0.36,4, -999.000,9, -999.000,9,  -999.00,9,   -999.0,9,   -999.0,9,-999.0000,9,   -999.0,  9,     8.08,4,   -999.0,  -999.00,9,  -999.00,9,     0.06,4,     0.08,4,   -999.0,-999.0000, -999,9,   50,  18.7490,  24.8962,   -999.0,9
       SH98-04,  NONE,SH-5549,  1,      2, 1-133-1,2,19980427,0705, 31.1757, 131.4860,  225,     76.4,  17.9789,  34.6475,2,   -999.0,9,-999.0000,9,    220.0,2,  -999.00,9,  -999.00,9,     3.71,2,     0.35,2,     0.28,2, -999.000,9, -999.000,9,  -999.00,9,   -999.0,9,   -999.0,9,-999.0000,9,   -999.0,  9,     8.11,2,   -999.0,  -999.00,9,  -999.00,9,     0.16,2,     0.19,2,   -999.0,-999.0000, -999,9,   76,  17.9659,  25.0104,   -999.0,9
       SH98-04,  NONE,SH-5549,  1,      1, 1-133-2,2,19980427,0704, 31.1757, 131.4860,  225,    101.2,  17.4759,  34.6749,2,   -999.0,9,-999.0000,9,    208.8,2,  -999.00,9,  -999.00,9,     5.37,2,     0.11,2,     0.40,2, -999.000,9, -999.000,9,  -999.00,9,   -999.0,9,   -999.0,9,-999.0000,9,   -999.0,  9,     8.08,2,   -999.0,  -999.00,9,  -999.00,9,     0.10,2,     0.16,2,   -999.0,-999.0000, -999,9,  100,  17.4589,  25.1549,   -999.0,9
       SH98-04,  NONE,SH-5549,  1,     12, S-1-1-8,2,19980427,0703, 31.1757, 131.4860,  225,    125.8,  16.3978,  34.6543,2,   -999.0,9,-999.0000,9,    198.1,2,  -999.00,9,  -999.00,9,     7.80,2,     0.03,2,     0.57,2, -999.000,9, -999.000,9,  -999.00,9,   -999.0,9,   -999.0,9,-999.0000,9,   -999.0,  9,     8.04,2,   -999.0,  -999.00,9,  -999.00,9,     0.04,2,     0.11,2,   -999.0,-999.0000, -999,9,  125,  16.3777,  25.3948,   -999.0,9
       SH98-04,  NONE,SH-5549,  1,     11,S-1-1-11,2,19980427,0702, 31.1757, 131.4860,  225,    151.4,  15.3684,  34.6126,2,   -999.0,9,-999.0000,9,    183.6,2,  -999.00,9,  -999.00,9,    10.34,2,     0.03,2,     0.75,2, -999.000,9, -999.000,9,  -999.00,9,   -999.0,9,   -999.0,9,-999.0000,9,   -999.0,  9,     7.99,2,   -999.0,  -999.00,9,  -999.00,9,     0.03,2,     0.08,2,   -999.0,-999.0000, -999,9,  150,  15.3452,  25.5971,   -999.0,9
       SH98-04,  NONE,SH-5549,  1,     10,S-1-1-10,2,19980427,0701, 31.1757, 131.4860,  225,    201.8,  12.4947,  34.4847,2,   -999.0,9,-999.0000,9,    160.6,2,  -999.00,9,  -999.00,9,    16.96,2,     0.02,2,     1.23,2, -999.000,9, -999.000,9,  -999.00,9,   -999.0,9,   -999.0,9,-999.0000,9,   -999.0,  9,     7.88,2,   -999.0,  -999.00,9,  -999.00,9,     0.04,2,     0.33,2,   -999.0,-999.0000, -999,9,  200,  12.4678,  26.0987,   -999.0,9