BOTTLE,20130510GEMDJMAYT
EXPOCODE,SECT_ID,STNNBR,CASTNO,SAMPNO,BTLNBR,BTLNBR_FLAG_W,DATE,TIME,LATITUDE,LONGITUDE,DEPTH,CTDPRS,CTDTMP,CTDSAL,CTDSAL_FLAG_W,CTDOXY,CTDOXY_FLAG_W,SALNTY,SALNTY_FLAG_W,OXYGEN,OXYGEN_FLAG_W,SILCAT,SILCAT_FLAG_W,NITRAT,NITRAT_FLAG_W,NO2+NO3,NO2+NO3_FLAG_W,NITRIT,NITRIT_FLAG_W,PHSPHT,PHSPHT_FLAG_W,CFC-11,CFC-11_FLAG_W,CFC-12,CFC-12_FLAG_W,DELC13,DELC13_FLAG_W,TCARBN,TCARBN_FLAG_W,ALKALI,ALKALI_FLAG_W,PH,PH_FLAG_W,PH_TMP,PH_SCALE,PH_NBS,PH_NBS_FLAG_W,C13ERR,TOTALP,TOTALP_FLAG_W,AMMONI,AMMONI_FLAG_W,CHLORA,CHLORA_FLAG_W,PPHYTN,PPHYTN_FLAG_W,REVPRS,REVTMP,DEPTH_,DEPTH_FLAG,CTDDEP,THETA,SIGTHT,DOC,DOC_FLAG_W
,,,,,,,GMT,GMT,,,METER,DBAR,ITS-90,PSS-78,,UMOL/KG,,PSS-78,,UMOL/KG,,UMOL/KG,,UMOL/KG,,UMOL/KG,,UMOL/KG,,UMOL/KG,,PMOL/KG,,PMOL/KG,,/MILLE,,UMOL/KG,,UMOL/KG,,25_DEG_C,,DEG_C,,,,/MILLE,UMOL/KG,,UMOL/KG,,UG/L,,UG/L,,DBAR,ITS-90,METERS,,METERS,DEG_C,,UMOL/L,
       SH98-04,  NONE,SH-5543,  1,      5, S-1-1-6,2,19980425,2106, 29.0773, 133.9863, 2640,    398.2,  16.9588,  34.7933,2,   -999.0,9,-999.0000,9,    199.5,2,  -999.00,9,  -999.00,9,     6.14,2,     0.00,2,     0.42,2, -999.000,9, -999.000,9,  -999.00,9,   -999.0,9,   -999.0,9,-999.0000,9,   -999.0,  9,  -999.00,9,   -999.0,  -999.00,9,  -999.00,9,  -999.00,9,  -999.00,9,   -999.0,-999.0000, -999,9,  395,  16.8929,  25.3810,   -999.0,9
       SH98-04,  NONE,SH-5543,  1,      4, S-1-1-1,2,19980425,2105, 29.0773, 133.9863, 2640,    498.2,  15.1903,  34.6527,2,   -999.0,9,-999.0000,9,    190.0,2,  -999.00,9,  -999.00,9,     9.85,2,     0.00,2,     0.67,2, -999.000,9, -999.000,9,  -999.00,9,   -999.0,9,   -999.0,9,-999.0000,9,   -999.0,  9,  -999.00,9,   -999.0,  -999.00,9,  -999.00,9,  -999.00,9,  -999.00,9,   -999.0,-999.0000, -999,9,  494,  15.1138,  25.6792,   -999.0,9
       SH98-04,  NONE,SH-5543,  1,      3,1-133-84,2,19980425,2103, 29.0773, 133.9863, 2640,    598.0,  12.8563,  34.4734,2,   -999.0,9,-999.0000,9,    180.2,2,  -999.00,9,  -999.00,9,    14.52,2,     0.00,2,     1.01,2, -999.000,9, -999.000,9,  -999.00,9,   -999.0,9,   -999.0,9,-999.0000,9,   -999.0,  9,  -999.00,9,   -999.0,  -999.00,9,  -999.00,9,  -999.00,9,  -999.00,9,   -999.0,-999.0000, -999,9,  593,  12.7739,  26.0299,   -999.0,9
       SH98-04,  NONE,SH-5543,  1,      2, 1-133-1,2,19980425,2101, 29.0773, 133.9863, 2640,    698.9,   9.9339,  34.2772,2,   -999.0,9,-999.0000,9,    161.1,2,  -999.00,9,  -999.00,9,    21.14,2,     0.00,2,     1.50,2, -999.000,9, -999.000,9,  -999.00,9,   -999.0,9,   -999.0,9,-999.0000,9,   -999.0,  9,  -999.00,9,   -999.0,  -999.00,9,  -999.00,9,  -999.00,9,  -999.00,9,   -999.0,-999.0000, -999,9,  693,   9.8518,  26.4126,   -999.0,9
       SH98-04,  NONE,SH-5543,  1,      1, 1-133-2,2,19980425,2059, 29.0773, 133.9863, 2640,    799.8,   7.5185,  34.1982,2,   -999.0,9,-999.0000,9,    129.0,2,  -999.00,9,  -999.00,9,    28.44,2,     0.00,2,     2.04,2, -999.000,9, -999.000,9,  -999.00,9,   -999.0,9,   -999.0,9,-999.0000,9,   -999.0,  9,  -999.00,9,   -999.0,  -999.00,9,  -999.00,9,  -999.00,9,  -999.00,9,   -999.0,-999.0000, -999,9,  793,   7.4382,  26.7258,   -999.0,9
       SH98-04,  NONE,SH-5543,  1,     12, S-1-1-8,2,19980425,2057, 29.0773, 133.9863, 2640,    900.6,   5.6480,  34.1785,2,   -999.0,9,-999.0000,9,    100.0,2,  -999.00,9,  -999.00,9,    34.28,2,     0.00,2,     2.44,2, -999.000,9, -999.000,9,  -999.00,9,   -999.0,9,   -999.0,9,-999.0000,9,   -999.0,  9,  -999.00,9,   -999.0,  -999.00,9,  -999.00,9,  -999.00,9,  -999.00,9,   -999.0,-999.0000, -999,9,  893,   5.5697,  26.9567,   -999.0,9
       SH98-04,  NONE,SH-5543,  1,     11,S-1-1-11,2,19980425,2055, 29.0773, 133.9863, 2640,   1002.6,   5.0679,  34.2757,2,   -999.0,9,-999.0000,9,     81.8,2,  -999.00,9,  -999.00,9,    36.61,2,     0.00,2,     2.60,2, -999.000,9, -999.000,9,  -999.00,9,   -999.0,9,   -999.0,9,-999.0000,9,   -999.0,  9,  -999.00,9,   -999.0,  -999.00,9,  -999.00,9,  -999.00,9,  -999.00,9,   -999.0,-999.0000, -999,9,  993,   4.9843,  27.1028,   -999.0,9
       SH98-04,  NONE,SH-5543,  1,     10,S-1-1-10,2,19980425,2051, 29.0773, 133.9863, 2640,   1205.6,   3.5466,  34.4000,2,   -999.0,9,-999.0000,9,     63.9,2,  -999.00,9,  -999.00,9,    40.30,2,     0.00,2,     2.84,2, -999.000,9, -999.000,9,  -999.00,9,   -999.0,9,   -999.0,9,-999.0000,9,   -999.0,  9,  -999.00,9,   -999.0,  -999.00,9,  -999.00,9,  -999.00,9,  -999.00,9,   -999.0,-999.0000, -999,9, 1194,   3.4580,  27.3631,   -999.0,9
       SH98-04,  NONE,SH-5544,  2,     -9,      -9,5,19980426,0336, 29.5005, 133.4985, 2780,      0.0,  21.4531,  34.7398,2,   -999.0,9,-999.0000,9,    229.5,2,  -999.00,9,  -999.00,9,     0.20,2,     0.00,2,     0.01,2, -999.000,9, -999.000,9,  -999.00,9,   -999.0,9,   -999.0,9,-999.0000,9,   -999.0,  9,     8.18,2,   -999.0,  -999.00,9,  -999.00,9,     0.09,2,     0.04,2,   -999.0,-999.0000, -999,9,    0,  21.4531,  24.1719,   -999.0,9
       SH98-04,  NONE,SH-5544,  2,      9, S-1-1-2,2,19980426,0333, 29.5005, 133.4985, 2780,     11.6,  21.1416,  34.7384,2,   -999.0,9,  34.7436,2,    231.6,2,  -999.00,9,  -999.00,9,     0.20,2,     0.00,2,     0.00,2, -999.000,9, -999.000,9,  -999.00,9,   -999.0,9,   -999.0,9,-999.0000,9,   -999.0,  9,     8.18,2,   -999.0,  -999.00,9,  -999.00,9,     0.10,2,     0.05,2,   -999.0,-999.0000, -999,9,   11,  21.1394,  24.2568,   -999.0,9
       SH98-04,  NONE,SH-5544,  2,      8, S-1-1-9,2,19980426,0332, 29.5005, 133.4985, 2780,     24.6,  20.2707,  34.7885,2,   -999.0,9,  34.7847,2,    238.3,2,  -999.00,9,  -999.00,9,     0.20,2,     0.00,2,     0.00,2, -999.000,9, -999.000,9,  -999.00,9,   -999.0,9,   -999.0,9,-999.0000,9,   -999.0,  9,     8.17,2,   -999.0,  -999.00,9,  -999.00,9,     0.09,2,     0.06,2,   -999.0,-999.0000, -999,9,   24,  20.2661,  24.5300,   -999.0,9
       SH98-04,  NONE,SH-5544,  2,      7, S-1-1-4,2,19980426,0331, 29.5005, 133.4985, 2780,     50.2,  19.1461,  34.7966,2,   -999.0,9,  34.8050,2,    239.8,2,  -999.00,9,  -999.00,9,     0.20,2,     0.00,2,     0.03,2, -999.000,9, -999.000,9,  -999.00,9,   -999.0,9,   -999.0,9,-999.0000,9,   -999.0,  9,     8.17,2,   -999.0,  -999.00,9,  -999.00,9,     0.11,2,     0.10,2,   -999.0,-999.0000, -999,9,   50,  19.1372,  24.8307,   -999.0,9
       SH98-04,  NONE,SH-5544,  2,      6,02-14892,2,19980426,0330, 29.5005, 133.4985, 2780,     74.8,  18.9149,  34.8023,2,   -999.0,9,  34.8028,2,    229.6,2,  -999.00,9,  -999.00,9,     1.07,2,     0.04,2,     0.07,2, -999.000,9, -999.000,9,  -999.00,9,   -999.0,9,   -999.0,9,-999.0000,9,   -999.0,  9,     8.15,2,   -999.0,  -999.00,9,  -999.00,9,     0.14,2,     0.22,2,   -999.0,-999.0000, -999,9,   74,  18.9016,  24.8951,   -999.0,9
       SH98-04,  NONE,SH-5544,  2,      5, S-1-1-6,2,19980426,0329, 29.5005, 133.4985, 2780,    100.5,  18.8575,  34.7986,2,   -999.0,9,  34.8042,2,    229.3,2,  -999.00,9,  -999.00,9,     1.07,2,     0.02,2,     0.07,2, -999.000,9, -999.000,9,  -999.00,9,   -999.0,9,   -999.0,9,-999.0000,9,   -999.0,  9,     8.15,2,   -999.0,  -999.00,9,  -999.00,9,     0.07,2,     0.11,2,   -999.0,-999.0000, -999,9,  100,  18.8397,  24.9080,   -999.0,9
       SH98-04,  NONE,SH-5544,  2,      4, S-1-1-1,2,19980426,0328, 29.5005, 133.4985, 2780,    125.9,  18.8080,  34.7973,2,   -999.0,9,  34.8014,2,    229.5,2,  -999.00,9,  -999.00,9,     1.07,2,     0.01,2,     0.08,2, -999.000,9, -999.000,9,  -999.00,9,   -999.0,9,   -999.0,9,-999.0000,9,   -999.0,  9,     8.15,2,   -999.0,  -999.00,9,  -999.00,9,     0.04,2,     0.06,2,   -999.0,-999.0000, -999,9,  125,  18.7858,  24.9206,   -999.0,9
       SH98-04,  NONE,SH-5544,  2,      3,1-133-84,2,19980426,0327, 29.5005, 133.4985, 2780,    151.0,  18.7706,  34.7994,2,   -999.0,9,  34.8010,2,    229.9,2,  -999.00,9,  -999.00,9,     1.07,2,     0.00,2,     0.06,2, -999.000,9, -999.000,9,  -999.00,9,   -999.0,9,   -999.0,9,-999.0000,9,   -999.0,  9,     8.15,2,   -999.0,  -999.00,9,  -999.00,9,     0.02,2,     0.03,2,   -999.0,-999.0000, -999,9,  150,  18.7440,  24.9328,   -999.0,9
       SH98-04,  NONE,SH-5544,  2,      2, 1-133-1,2,19980426,0325, 29.5005, 133.4985, 2780,    202.6,  18.5655,  34.8242,2,   -999.0,9,  34.8314,2,    221.9,2,  -999.00,9,  -999.00,9,     1.95,2,     0.01,2,     0.11,2, -999.000,9, -999.000,9,  -999.00,9,   -999.0,9,   -999.0,9,-999.0000,9,   -999.0,  9,     8.14,2,   -999.0,  -999.00,9,  -999.00,9,     0.01,2,     0.02,2,   -999.0,-999.0000, -999,9,  201,  18.5300,  25.0057,   -999.0,9
       SH98-04,  NONE,SH-5544,  2,      1, 1-133-2,2,19980426,0324, 29.5005, 133.4985, 2780,    248.7,  18.1040,  34.8788,2,   -999.0,9,  34.8826,2,    216.9,2,  -999.00,9,  -999.00,9,     2.73,2,     0.01,2,     0.16,2, -999.000,9, -999.000,9,  -999.00,9,   -999.0,9,   -999.0,9,-999.0000,9,   -999.0,  9,     8.12,2,   -999.0,  -999.00,9,  -999.00,9,     0.00,2,     0.02,2,   -999.0,-999.0000, -999,9,  247,  18.0611,  25.1641,   -999.0,9
       SH98-04,  NONE,SH-5544,  2,     12, S-1-1-8,2,19980426,0322, 29.5005, 133.4985, 2780,    300.9,  18.0603,  34.8840,2,   -999.0,9,  34.8863,2,    218.7,2,  -999.00,9,  -999.00,9,     2.63,2,     0.01,2,     0.15,2, -999.000,9, -999.000,9,  -999.00,9,   -999.0,9,   -999.0,9,-999.0000,9,   -999.0,  9,     8.13,2,   -999.0,  -999.00,9,  -999.00,9,     0.00,2,     0.01,2,   -999.0,-999.0000, -999,9,  299,  18.0085,  25.1811,   -999.0,9
       SH98-04,  NONE,SH-5544,  1,     11,S-1-1-11,2,19980426,0250, 29.5010, 133.5015, 2770,    397.4,  18.0458,  34.8907,2,   -999.0,9,  34.8926,2,    220.4,2,  -999.00,9,  -999.00,9,     2.44,2,     0.00,2,     0.15,2, -999.000,9, -999.000,9,  -999.00,9,   -999.0,9,   -999.0,9,-999.0000,9,   -999.0,  9,     8.13,2,   -999.0,  -999.00,9,  -999.00,9,  -999.00,9,  -999.00,9,   -999.0,-999.0000, -999,9,  394,  17.9771,  25.1940,   -999.0,9
       SH98-04,  NONE,SH-5544,  1,     10,S-1-1-10,2,19980426,0247, 29.5010, 133.5015, 2770,    497.4,  17.2224,  34.8317,2,   -999.0,9,  34.8304,2,    206.2,2,  -999.00,9,  -999.00,9,     5.27,2,     0.00,2,     0.33,2, -999.000,9, -999.000,9,  -999.00,9,   -999.0,9,   -999.0,9,-999.0000,9,   -999.0,  9,     8.09,2,   -999.0,  -999.00,9,  -999.00,9,  -999.00,9,  -999.00,9,   -999.0,-999.0000, -999,9,  493,  17.1390,  25.3520,   -999.0,9
       SH98-04,  NONE,SH-5544,  1,      9, S-1-1-2,2,19980426,0245, 29.5010, 133.5015, 2770,    597.3,  15.3865,  34.7218,2,   -999.0,9,  34.7178,2,    223.8,4,  -999.00,9,  -999.00,9,     6.53,2,     0.00,2,     0.43,2, -999.000,9, -999.000,9,  -999.00,9,   -999.0,9,   -999.0,9,-999.0000,9,   -999.0,  9,     8.06,2,   -999.0,  -999.00,9,  -999.00,9,  -999.00,9,  -999.00,9,   -999.0,-999.0000, -999,9,  592,  15.2936,  25.6926,   -999.0,9
       SH98-04,  NONE,SH-5544,  1,      8, S-1-1-9,2,19980426,0244, 29.5010, 133.5015, 2770,    696.9,  14.1186,  34.5922,2,   -999.0,9,  34.5808,2,    191.9,2,  -999.00,9,  -999.00,9,    11.60,2,     0.00,2,     0.79,2, -999.000,9, -999.000,9,  -999.00,9,   -999.0,9,   -999.0,9,-999.0000,9,   -999.0,  9,     7.98,2,   -999.0,  -999.00,9,  -999.00,9,  -999.00,9,  -999.00,9,   -999.0,-999.0000, -999,9,  691,  14.0160,  25.8686,   -999.0,9
       SH98-04,  NONE,SH-5544,  1,      7, S-1-1-4,2,19980426,0242, 29.5010, 133.5015, 2770,    795.9,  10.8233,  34.3486,2,   -999.0,9,  34.3380,2,    169.0,2,  -999.00,9,  -999.00,9,    19.29,2,     0.00,2,     1.33,2, -999.000,9, -999.000,9,  -999.00,9,   -999.0,9,   -999.0,9,-999.0000,9,   -999.0,  9,     7.85,2,   -999.0,  -999.00,9,  -999.00,9,  -999.00,9,  -999.00,9,   -999.0,-999.0000, -999,9,  789,  10.7242,  26.3176,   -999.0,9
       SH98-04,  NONE,SH-5544,  1,      6,02-14892,4,19980426,0241, 29.5010, 133.5015, 2770,    897.9,   7.5719,  34.2100,2,   -999.0,9,  34.5912,4,    108.7,4,  -999.00,9,  -999.00,9,    39.06,4,     0.00,4,     2.72,4, -999.000,9, -999.000,9,  -999.00,9,   -999.0,9,   -999.0,9,-999.0000,9,   -999.0,  9,     7.60,4,   -999.0,  -999.00,9,  -999.00,9,  -999.00,9,  -999.00,9,   -999.0,-999.0000, -999,9,  890,   7.4809,  26.7290,   -999.0,9
       SH98-04,  NONE,SH-5544,  1,      5, S-1-1-6,2,19980426,0239, 29.5010, 133.5015, 2770,    997.8,   5.5674,  34.2122,2,   -999.0,9,  34.2090,2,     95.8,2,  -999.00,9,  -999.00,9,    34.76,2,     0.00,2,     2.46,2, -999.000,9, -999.000,9,  -999.00,9,   -999.0,9,   -999.0,9,-999.0000,9,   -999.0,  9,     7.58,2,   -999.0,  -999.00,9,  -999.00,9,  -999.00,9,  -999.00,9,   -999.0,-999.0000, -999,9,  989,   5.4804,  26.9942,   -999.0,9
       SH98-04,  NONE,SH-5544,  1,      4, S-1-1-1,2,19980426,0236, 29.5010, 133.5015, 2770,   1198.5,   4.1406,  34.3743,2,   -999.0,9,  34.3667,2,     69.8,2,  -999.00,9,  -999.00,9,    39.13,2,     0.00,2,     2.75,2, -999.000,9, -999.000,9,  -999.00,9,   -999.0,9,   -999.0,9,-999.0000,9,   -999.0,  9,     7.53,2,   -999.0,  -999.00,9,  -999.00,9,  -999.00,9,  -999.00,9,   -999.0,-999.0000, -999,9, 1187,   4.0472,  27.2835,   -999.0,9
       SH98-04,  NONE,SH-5544,  1,      3,1-133-84,2,19980426,0233, 29.5010, 133.5015, 2770,   1503.3,   2.8887,  34.4935,2,   -999.0,9,  34.4850,2,   -999.0,9,  -999.00,9,  -999.00,9,  -999.00,9,  -999.00,9,  -999.00,9, -999.000,9, -999.000,9,  -999.00,9,   -999.0,9,   -999.0,9,-999.0000,9,   -999.0,  9,  -999.00,9,   -999.0,  -999.00,9,  -999.00,9,  -999.00,9,  -999.00,9,   -999.0,-999.0000, -999,9, 1488,   2.7821,  27.5004,   -999.0,9
       SH98-04,  NONE,SH-5544,  1,      2, 1-133-1,2,19980426,0227, 29.5010, 133.5015, 2770,   2011.2,   2.1055,  34.6052,2,   -999.0,9,  34.5944,2,   -999.0,9,  -999.00,9,  -999.00,9,  -999.00,9,  -999.00,9,  -999.00,9, -999.000,9, -999.000,9,  -999.00,9,   -999.0,9,   -999.0,9,-999.0000,9,   -999.0,  9,  -999.00,9,   -999.0,  -999.00,9,  -999.00,9,  -999.00,9,  -999.00,9,   -999.0,-999.0000, -999,9, 1988,   1.9666,  27.6580,   -999.0,9
       SH98-04,  NONE,SH-5544,  1,      1, 1-133-2,2,19980426,0220, 29.5010, 133.5015, 2770,   2629.0,   1.7506,  34.6597,2,   -999.0,9,  34.6440,2,   -999.0,9,  -999.00,9,  -999.00,9,  -999.00,9,  -999.00,9,  -999.00,9, -999.000,9, -999.000,9,  -999.00,9,   -999.0,9,   -999.0,9,-999.0000,9,   -999.0,  9,  -999.00,9,   -999.0,  -999.00,9,  -999.00,9,  -999.00,9,  -999.00,9,   -999.0,-999.0000, -999,9, 2595,   1.5633,  27.7325,   -999.0,9
       SH98-04,  NONE,SH-5545,  2,     -9,      -9,2,19980426,1009, 29.9657, 132.9640, 3780,      1.1,  22.3887,  34.7034,2,   -999.0,9,-999.0000,9,    225.0,2,  -999.00,9,  -999.00,9,     0.10,2,     0.00,2,     0.01,2, -999.000,9, -999.000,9,  -999.00,9,   -999.0,9,   -999.0,9,-999.0000,9,   -999.0,  9,  -999.00,9,   -999.0,  -999.00,9,  -999.00,9,     0.11,2,     0.04,2,   -999.0,-999.0000, -999,9,    1,  22.3885,  23.8832,   -999.0,9
       SH98-04,  NONE,SH-5545,  2,     10,S-1-1-10,2,19980426,1008, 29.9657, 132.9640, 3780,     11.1,  22.3064,  34.7060,2,   -999.0,9,-999.0000,9,    224.7,2,  -999.00,9,  -999.00,9,     0.10,2,     0.00,2,     0.01,2, -999.000,9, -999.000,9,  -999.00,9,   -999.0,9,   -999.0,9,-999.0000,9,   -999.0,  9,  -999.00,9,   -999.0,  -999.00,9,  -999.00,9,     0.09,2,     0.05,2,   -999.0,-999.0000, -999,9,   11,  22.3042,  23.9089,   -999.0,9
       SH98-04,  NONE,SH-5545,  2,      9, S-1-1-2,2,19980426,1007, 29.9657, 132.9640, 3780,     26.4,  21.8814,  34.7515,2,   -999.0,9,-999.0000,9,    228.4,2,  -999.00,9,  -999.00,9,     0.00,2,     0.00,2,     0.01,2, -999.000,9, -999.000,9,  -999.00,9,   -999.0,9,   -999.0,9,-999.0000,9,   -999.0,  9,  -999.00,9,   -999.0,  -999.00,9,  -999.00,9,     0.09,2,     0.07,2,   -999.0,-999.0000, -999,9,   26,  21.8762,  24.0636,   -999.0,9
       SH98-04,  NONE,SH-5545,  2,      8, S-1-1-9,2,19980426,1006, 29.9657, 132.9640, 3780,     51.4,  20.2208,  34.8227,2,   -999.0,9,-999.0000,9,    237.4,2,  -999.00,9,  -999.00,9,     0.10,2,     0.00,2,     0.01,2, -999.000,9, -999.000,9,  -999.00,9,   -999.0,9,   -999.0,9,-999.0000,9,   -999.0,  9,  -999.00,9,   -999.0,  -999.00,9,  -999.00,9,     0.11,2,     0.11,2,   -999.0,-999.0000, -999,9,   51,  20.2113,  24.5706,   -999.0,9
       SH98-04,  NONE,SH-5545,  2,      7, S-1-1-4,2,19980426,1005, 29.9657, 132.9640, 3780,     76.2,  19.6793,  34.8087,2,   -999.0,9,-999.0000,9,    235.6,2,  -999.00,9,  -999.00,9,     0.10,2,     0.00,2,     0.03,2, -999.000,9, -999.000,9,  -999.00,9,   -999.0,9,   -999.0,9,-999.0000,9,   -999.0,  9,  -999.00,9,   -999.0,  -999.00,9,  -999.00,9,     0.18,2,     0.32,2,   -999.0,-999.0000, -999,9,   76,  19.6654,  24.7035,   -999.0,9
       SH98-04,  NONE,SH-5545,  2,      6,02-14892,2,19980426,1004, 29.9657, 132.9640, 3780,    100.8,  19.2936,  34.7969,2,   -999.0,9,-999.0000,9,    230.8,2,  -999.00,9,  -999.00,9,     0.59,2,     0.25,2,     0.05,2, -999.000,9, -999.000,9,  -999.00,9,   -999.0,9,   -999.0,9,-999.0000,9,   -999.0,  9,  -999.00,9,   -999.0,  -999.00,9,  -999.00,9,     0.11,2,     0.26,2,   -999.0,-999.0000, -999,9,  100,  19.2754,  24.7954,   -999.0,9
       SH98-04,  NONE,SH-5545,  2,      5, S-1-1-6,2,19980426,1003, 29.9657, 132.9640, 3780,    125.9,  19.1578,  34.8038,2,   -999.0,9,-999.0000,9,    227.5,2,  -999.00,9,  -999.00,9,     0.98,2,     0.02,2,     0.08,2, -999.000,9, -999.000,9,  -999.00,9,   -999.0,9,   -999.0,9,-999.0000,9,   -999.0,  9,  -999.00,9,   -999.0,  -999.00,9,  -999.00,9,     0.06,2,     0.11,2,   -999.0,-999.0000, -999,9,  125,  19.1352,  24.8366,   -999.0,9
       SH98-04,  NONE,SH-5545,  2,      4, S-1-1-1,2,19980426,1002, 29.9657, 132.9640, 3780,    151.5,  19.1097,  34.8031,2,   -999.0,9,-999.0000,9,    226.2,2,  -999.00,9,  -999.00,9,     1.07,2,     0.01,2,     0.08,2, -999.000,9, -999.000,9,  -999.00,9,   -999.0,9,   -999.0,9,-999.0000,9,   -999.0,  9,  -999.00,9,   -999.0,  -999.00,9,  -999.00,9,     0.03,2,     0.06,2,   -999.0,-999.0000, -999,9,  150,  19.0826,  24.8496,   -999.0,9
       SH98-04,  NONE,SH-5545,  2,      3,1-133-84,2,19980426,1001, 29.9657, 132.9640, 3780,    199.8,  18.9922,  34.8027,2,   -999.0,9,-999.0000,9,    227.2,2,  -999.00,9,  -999.00,9,     1.07,2,     0.01,2,     0.08,2, -999.000,9, -999.000,9,  -999.00,9,   -999.0,9,   -999.0,9,-999.0000,9,   -999.0,  9,  -999.00,9,   -999.0,  -999.00,9,  -999.00,9,     0.01,2,     0.03,2,   -999.0,-999.0000, -999,9,  198,  18.9566,  24.8814,   -999.0,9
       SH98-04,  NONE,SH-5545,  2,      2, 1-133-1,2,19980426,0959, 29.9657, 132.9640, 3780,    253.7,  18.8057,  34.8074,2,   -999.0,9,-999.0000,9,    226.4,2,  -999.00,9,  -999.00,9,     1.37,2,     0.01,2,     0.10,2, -999.000,9, -999.000,9,  -999.00,9,   -999.0,9,   -999.0,9,-999.0000,9,   -999.0,  9,  -999.00,9,   -999.0,  -999.00,9,  -999.00,9,     0.00,2,     0.02,2,   -999.0,-999.0000, -999,9,  252,  18.7608,  24.9347,   -999.0,9
       SH98-04,  NONE,SH-5545,  2,      1, 1-133-2,2,19980426,0958, 29.9657, 132.9640, 3780,    302.5,  18.2348,  34.8465,2,   -999.0,9,-999.0000,9,    209.1,2,  -999.00,9,  -999.00,9,     3.41,2,     0.01,2,     0.22,2, -999.000,9, -999.000,9,  -999.00,9,   -999.0,9,   -999.0,9,-999.0000,9,   -999.0,  9,  -999.00,9,   -999.0,  -999.00,9,  -999.00,9,     0.00,2,     0.02,2,   -999.0,-999.0000, -999,9,  300,  18.1824,  25.1094,   -999.0,9