BOTTLE,20130510GEMDJMAYT
EXPOCODE,SECT_ID,STNNBR,CASTNO,SAMPNO,BTLNBR,BTLNBR_FLAG_W,DATE,TIME,LATITUDE,LONGITUDE,DEPTH,CTDPRS,CTDTMP,CTDSAL,CTDSAL_FLAG_W,CTDOXY,CTDOXY_FLAG_W,SALNTY,SALNTY_FLAG_W,OXYGEN,OXYGEN_FLAG_W,SILCAT,SILCAT_FLAG_W,NITRAT,NITRAT_FLAG_W,NO2+NO3,NO2+NO3_FLAG_W,NITRIT,NITRIT_FLAG_W,PHSPHT,PHSPHT_FLAG_W,CFC-11,CFC-11_FLAG_W,CFC-12,CFC-12_FLAG_W,DELC13,DELC13_FLAG_W,TCARBN,TCARBN_FLAG_W,ALKALI,ALKALI_FLAG_W,PH,PH_FLAG_W,PH_TMP,PH_SCALE,PH_NBS,PH_NBS_FLAG_W,C13ERR,TOTALP,TOTALP_FLAG_W,AMMONI,AMMONI_FLAG_W,CHLORA,CHLORA_FLAG_W,PPHYTN,PPHYTN_FLAG_W,REVPRS,REVTMP,DEPTH_,DEPTH_FLAG,CTDDEP,THETA,SIGTHT,DOC,DOC_FLAG_W
,,,,,,,GMT,GMT,,,METER,DBAR,ITS-90,PSS-78,,UMOL/KG,,PSS-78,,UMOL/KG,,UMOL/KG,,UMOL/KG,,UMOL/KG,,UMOL/KG,,UMOL/KG,,PMOL/KG,,PMOL/KG,,/MILLE,,UMOL/KG,,UMOL/KG,,25_DEG_C,,DEG_C,,,,/MILLE,UMOL/KG,,UMOL/KG,,UG/L,,UG/L,,DBAR,ITS-90,METERS,,METERS,DEG_C,,UMOL/L,
       SH98-04,  NONE,SH-5538,  2,     -9,      -9,5,19980424,0830, 30.5105, 135.2483, 4350,      0.0,  21.8462,  34.7462,2,   -999.0,9,-999.0000,9,    226.0,2,  -999.00,9,  -999.00,9,     0.00,2,     0.01,2,     0.02,2, -999.000,9, -999.000,9,  -999.00,9,   1963.4,6,   -999.0,9,-999.0000,9,   -999.0,  9,     8.18,2,   -999.0,  -999.00,9,  -999.00,9,     0.08,2,     0.03,2,   -999.0,-999.0000, -999,9,    0,  21.8462,  24.0679,   -999.0,9
       SH98-04,  NONE,SH-5538,  2,      9, S-1-1-2,2,19980424,0829, 30.5105, 135.2483, 4350,     11.4,  21.8413,  34.7468,2,   -999.0,9,-999.0000,9,    227.1,2,  -999.00,9,  -999.00,9,     0.00,2,     0.00,2,     0.02,2, -999.000,9, -999.000,9,  -999.00,9,   -999.0,9,   -999.0,9,-999.0000,9,   -999.0,  9,  -999.00,9,   -999.0,  -999.00,9,  -999.00,9,     0.08,2,     0.04,2,   -999.0,-999.0000, -999,9,   11,  21.8391,  24.0703,   -999.0,9
       SH98-04,  NONE,SH-5538,  2,      8, S-1-1-9,2,19980424,0828, 30.5105, 135.2483, 4350,     25.7,  20.9341,  34.8289,2,   -999.0,9,-999.0000,9,    231.8,2,  -999.00,9,  -999.00,9,     0.00,2,     0.00,2,     0.00,2, -999.000,9, -999.000,9,  -999.00,9,   -999.0,9,   -999.0,9,-999.0000,9,   -999.0,  9,  -999.00,9,   -999.0,  -999.00,9,  -999.00,9,     0.11,2,     0.06,2,   -999.0,-999.0000, -999,9,   26,  20.9292,  24.3829,   -999.0,9
       SH98-04,  NONE,SH-5538,  2,      7, S-1-1-4,2,19980424,0827, 30.5105, 135.2483, 4350,     49.8,  19.9701,  34.8226,2,   -999.0,9,-999.0000,9,    228.0,2,  -999.00,9,  -999.00,9,     0.49,2,     0.01,2,     0.01,2, -999.000,9, -999.000,9,  -999.00,9,   -999.0,9,   -999.0,9,-999.0000,9,   -999.0,  9,  -999.00,9,   -999.0,  -999.00,9,  -999.00,9,     0.27,2,     0.42,2,   -999.0,-999.0000, -999,9,   49,  19.9610,  24.6367,   -999.0,9
       SH98-04,  NONE,SH-5538,  2,      6,02-14892,2,19980424,0826, 30.5105, 135.2483, 4350,     75.8,  19.6191,  34.8163,2,   -999.0,9,-999.0000,9,    227.6,2,  -999.00,9,  -999.00,9,     0.49,2,     0.12,2,     0.03,2, -999.000,9, -999.000,9,  -999.00,9,   -999.0,9,   -999.0,9,-999.0000,9,   -999.0,  9,  -999.00,9,   -999.0,  -999.00,9,  -999.00,9,     0.29,2,     0.36,2,   -999.0,-999.0000, -999,9,   75,  19.6053,  24.7249,   -999.0,9
       SH98-04,  NONE,SH-5538,  2,      5, S-1-1-6,2,19980424,0825, 30.5105, 135.2483, 4350,    100.4,  19.2513,  34.8130,2,   -999.0,9,-999.0000,9,    226.2,2,  -999.00,9,  -999.00,9,     1.07,2,     0.02,2,     0.07,2, -999.000,9, -999.000,9,  -999.00,9,   -999.0,9,   -999.0,9,-999.0000,9,   -999.0,  9,  -999.00,9,   -999.0,  -999.00,9,  -999.00,9,     0.06,2,     0.07,2,   -999.0,-999.0000, -999,9,  100,  19.2332,  24.8185,   -999.0,9
       SH98-04,  NONE,SH-5538,  2,      4, S-1-1-1,2,19980424,0824, 30.5105, 135.2483, 4350,    125.0,  19.1216,  34.8204,2,   -999.0,9,-999.0000,9,    223.8,2,  -999.00,9,  -999.00,9,     1.17,2,     0.02,2,     0.09,2, -999.000,9, -999.000,9,  -999.00,9,   -999.0,9,   -999.0,9,-999.0000,9,   -999.0,  9,  -999.00,9,   -999.0,  -999.00,9,  -999.00,9,     0.02,2,     0.04,2,   -999.0,-999.0000, -999,9,  124,  19.0993,  24.8586,   -999.0,9
       SH98-04,  NONE,SH-5538,  2,      3,1-133-84,2,19980424,0822, 30.5105, 135.2483, 4350,    149.9,  18.9980,  34.8228,2,   -999.0,9,-999.0000,9,    224.1,2,  -999.00,9,  -999.00,9,     1.37,2,     0.01,2,     0.09,2, -999.000,9, -999.000,9,  -999.00,9,   -999.0,9,   -999.0,9,-999.0000,9,   -999.0,  9,  -999.00,9,   -999.0,  -999.00,9,  -999.00,9,     0.01,2,     0.03,2,   -999.0,-999.0000, -999,9,  149,  18.9713,  24.8930,   -999.0,9
       SH98-04,  NONE,SH-5538,  2,      2, 1-133-1,2,19980424,0821, 30.5105, 135.2483, 4350,    200.6,  18.5311,  34.8337,2,   -999.0,9,-999.0000,9,    209.7,2,  -999.00,9,  -999.00,9,     3.22,2,     0.01,2,     0.21,2, -999.000,9, -999.000,9,  -999.00,9,   -999.0,9,   -999.0,9,-999.0000,9,   -999.0,  9,  -999.00,9,   -999.0,  -999.00,9,  -999.00,9,     0.01,2,     0.01,2,   -999.0,-999.0000, -999,9,  199,  18.4960,  25.0215,   -999.0,9
       SH98-04,  NONE,SH-5538,  2,      1, 1-133-2,2,19980424,0820, 30.5105, 135.2483, 4350,    251.0,  17.7724,  34.8283,2,   -999.0,9,-999.0000,9,    204.3,2,  -999.00,9,  -999.00,9,     4.58,2,     0.01,2,     0.30,2, -999.000,9, -999.000,9,  -999.00,9,   -999.0,9,   -999.0,9,-999.0000,9,   -999.0,  9,  -999.00,9,   -999.0,  -999.00,9,  -999.00,9,     0.00,2,     0.01,2,   -999.0,-999.0000, -999,9,  249,  17.7297,  25.2068,   -999.0,9
       SH98-04,  NONE,SH-5538,  2,     12, S-1-1-8,2,19980424,0818, 30.5105, 135.2483, 4350,    303.7,  16.9879,  34.7890,2,   -999.0,9,-999.0000,9,    200.0,2,  -999.00,9,  -999.00,9,     6.14,2,     0.01,2,     0.40,2, -999.000,9, -999.000,9,  -999.00,9,   -999.0,9,   -999.0,9,-999.0000,9,   -999.0,  9,  -999.00,9,   -999.0,  -999.00,9,  -999.00,9,     0.00,2,     0.01,2,   -999.0,-999.0000, -999,9,  301,  16.9377,  25.3671,   -999.0,9
       SH98-04,  NONE,SH-5538,  1,     10,S-1-1-10,2,19980424,0743, 30.5045, 135.2478, 4340,    398.6,  15.3769,  34.6708,2,   -999.0,9,-999.0000,9,    196.3,2,  -999.00,9,  -999.00,9,     8.77,2,     0.01,2,     0.58,2, -999.000,9, -999.000,9,  -999.00,9,   -999.0,9,   -999.0,9,-999.0000,9,   -999.0,  9,  -999.00,9,   -999.0,  -999.00,9,  -999.00,9,  -999.00,9,  -999.00,9,   -999.0,-999.0000, -999,9,  396,  15.3153,  25.6486,   -999.0,9
       SH98-04,  NONE,SH-5538,  1,      9, S-1-1-2,2,19980424,0741, 30.5045, 135.2478, 4340,    496.8,  13.0298,  34.4928,2,   -999.0,9,-999.0000,9,    178.8,2,  -999.00,9,  -999.00,9,    14.52,2,     0.00,2,     1.00,2, -999.000,9, -999.000,9,  -999.00,9,   -999.0,9,   -999.0,9,-999.0000,9,   -999.0,  9,  -999.00,9,   -999.0,  -999.00,9,  -999.00,9,  -999.00,9,  -999.00,9,   -999.0,-999.0000, -999,9,  493,  12.9610,  26.0077,   -999.0,9
       SH98-04,  NONE,SH-5538,  1,      8, S-1-1-9,2,19980424,0739, 30.5045, 135.2478, 4340,    598.4,  10.2905,  34.3155,2,   -999.0,9,-999.0000,9,    161.9,2,  -999.00,9,  -999.00,9,    20.56,2,     0.00,2,     1.44,2, -999.000,9, -999.000,9,  -999.00,9,   -999.0,9,   -999.0,9,-999.0000,9,   -999.0,  9,  -999.00,9,   -999.0,  -999.00,9,  -999.00,9,  -999.00,9,  -999.00,9,   -999.0,-999.0000, -999,9,  593,  10.2190,  26.3800,   -999.0,9
       SH98-04,  NONE,SH-5538,  1,      7, S-1-1-4,2,19980424,0737, 30.5045, 135.2478, 4340,    699.5,   8.1545,  34.2110,2,   -999.0,9,-999.0000,9,    142.8,2,  -999.00,9,  -999.00,9,    26.20,2,     0.00,2,     1.87,2, -999.000,9, -999.000,9,  -999.00,9,   -999.0,9,   -999.0,9,-999.0000,9,   -999.0,  9,  -999.00,9,   -999.0,  -999.00,9,  -999.00,9,  -999.00,9,  -999.00,9,   -999.0,-999.0000, -999,9,  694,   8.0815,  26.6420,   -999.0,9
       SH98-04,  NONE,SH-5538,  1,      6,02-14892,2,19980424,0735, 30.5045, 135.2478, 4340,    800.0,   6.1899,  34.1832,2,   -999.0,9,-999.0000,9,    111.1,2,  -999.00,9,  -999.00,9,    32.33,2,     0.02,2,     2.30,2, -999.000,9, -999.000,9,  -999.00,9,   -999.0,9,   -999.0,9,-999.0000,9,   -999.0,  9,  -999.00,9,   -999.0,  -999.00,9,  -999.00,9,  -999.00,9,  -999.00,9,   -999.0,-999.0000, -999,9,  793,   6.1176,  26.8923,   -999.0,9
       SH98-04,  NONE,SH-5538,  1,      5, S-1-1-6,2,19980424,0733, 30.5045, 135.2478, 4340,    900.3,   5.1244,  34.2552,2,   -999.0,9,-999.0000,9,     85.4,2,  -999.00,9,  -999.00,9,    36.51,2,     0.00,2,     2.57,2, -999.000,9, -999.000,9,  -999.00,9,   -999.0,9,   -999.0,9,-999.0000,9,   -999.0,  9,  -999.00,9,   -999.0,  -999.00,9,  -999.00,9,  -999.00,9,  -999.00,9,   -999.0,-999.0000, -999,9,  892,   5.0496,  27.0791,   -999.0,9
       SH98-04,  NONE,SH-5538,  1,      4, S-1-1-1,2,19980424,0731, 30.5045, 135.2478, 4340,   1002.1,   4.3565,  34.3079,2,   -999.0,9,-999.0000,9,     71.0,2,  -999.00,9,  -999.00,9,    38.84,2,     0.00,2,     2.72,2, -999.000,9, -999.000,9,  -999.00,9,   -999.0,9,   -999.0,9,-999.0000,9,   -999.0,  9,  -999.00,9,   -999.0,  -999.00,9,  -999.00,9,  -999.00,9,  -999.00,9,   -999.0,-999.0000, -999,9,  993,   4.2782,  27.2065,   -999.0,9
       SH98-04,  NONE,SH-5538,  1,      3,1-133-84,2,19980424,0728, 30.5045, 135.2478, 4340,   1216.8,   3.3851,  34.4045,2,   -999.0,9,-999.0000,9,     63.4,2,  -999.00,9,  -999.00,9,    40.78,2,     0.00,2,     2.85,2, -999.000,9, -999.000,9,  -999.00,9,   -999.0,9,   -999.0,9,-999.0000,9,   -999.0,  9,  -999.00,9,   -999.0,  -999.00,9,  -999.00,9,  -999.00,9,  -999.00,9,   -999.0,-999.0000, -999,9, 1205,   3.2970,  27.3821,   -999.0,9
       SH98-04,  NONE,SH-5539,  2,     -9,      -9,5,19980424,1418, 29.9568, 135.2975, 4540,      0.0,  23.6670,  34.6685,2,   -999.0,9,-999.0000,9,    218.2,2,  -999.00,9,  -999.00,9,     0.00,2,     0.00,2,     0.01,2, -999.000,9, -999.000,9,  -999.00,9,   1948.9,6,   -999.0,9,-999.0000,9,   -999.0,  9,     8.21,2,   -999.0,  -999.00,9,  -999.00,9,     0.07,2,     0.03,2,   -999.0,-999.0000, -999,9,    0,  23.6670,  23.4885,   -999.0,9
       SH98-04,  NONE,SH-5539,  2,      3,1-133-84,2,19980424,1417, 29.9568, 135.2975, 4540,     11.2,  23.6544,  34.6703,2,   -999.0,9,  34.6756,2,    218.9,2,  -999.00,9,  -999.00,9,     0.00,2,     0.00,2,     0.04,2, -999.000,9, -999.000,9,  -999.00,9,   -999.0,9,   -999.0,9,-999.0000,9,   -999.0,  9,  -999.00,9,   -999.0,  -999.00,9,  -999.00,9,     0.10,2,     0.05,2,   -999.0,-999.0000, -999,9,   11,  23.6521,  23.4942,   -999.0,9
       SH98-04,  NONE,SH-5539,  2,      2, 1-133-1,2,19980424,1416, 29.9568, 135.2975, 4540,     25.7,  23.4454,  34.6782,2,   -999.0,9,  34.6847,2,    219.5,2,  -999.00,9,  -999.00,9,     0.00,2,     0.00,2,     0.00,2, -999.000,9, -999.000,9,  -999.00,9,   -999.0,9,   -999.0,9,-999.0000,9,   -999.0,  9,  -999.00,9,   -999.0,  -999.00,9,  -999.00,9,     0.10,2,     0.06,2,   -999.0,-999.0000, -999,9,   25,  23.4401,  23.5621,   -999.0,9
       SH98-04,  NONE,SH-5539,  2,      1, 1-133-2,2,19980424,1415, 29.9568, 135.2975, 4540,     51.3,  21.4971,  34.7705,2,   -999.0,9,  34.7705,2,    224.6,2,  -999.00,9,  -999.00,9,     0.00,2,     0.00,2,     0.00,2, -999.000,9, -999.000,9,  -999.00,9,   -999.0,9,   -999.0,9,-999.0000,9,   -999.0,  9,  -999.00,9,   -999.0,  -999.00,9,  -999.00,9,     0.19,2,     0.19,2,   -999.0,-999.0000, -999,9,   51,  21.4871,  24.1859,   -999.0,9
       SH98-04,  NONE,SH-5539,  2,     12, S-1-1-8,2,19980424,1414, 29.9568, 135.2975, 4540,     76.6,  20.4066,  34.7885,2,   -999.0,9,  34.7878,2,    232.6,2,  -999.00,9,  -999.00,9,     0.00,2,     0.00,2,     0.01,2, -999.000,9, -999.000,9,  -999.00,9,   -999.0,9,   -999.0,9,-999.0000,9,   -999.0,  9,  -999.00,9,   -999.0,  -999.00,9,  -999.00,9,     0.24,2,     0.19,2,   -999.0,-999.0000, -999,9,   76,  20.3922,  24.4965,   -999.0,9
       SH98-04,  NONE,SH-5539,  2,     11,S-1-1-11,2,19980424,1413, 29.9568, 135.2975, 4540,    100.2,  19.5563,  34.8206,2,   -999.0,9,  34.8211,2,    229.8,2,  -999.00,9,  -999.00,9,     0.29,2,     0.08,2,     0.03,2, -999.000,9, -999.000,9,  -999.00,9,   -999.0,9,   -999.0,9,-999.0000,9,   -999.0,  9,  -999.00,9,   -999.0,  -999.00,9,  -999.00,9,     0.19,2,     0.27,2,   -999.0,-999.0000, -999,9,  100,  19.5381,  24.7456,   -999.0,9
       SH98-04,  NONE,SH-5539,  2,     10,S-1-1-10,2,19980424,1412, 29.9568, 135.2975, 4540,    125.1,  19.2504,  34.8199,2,   -999.0,9,  34.8325,2,    225.4,2,  -999.00,9,  -999.00,9,     0.98,2,     0.08,2,     0.07,2, -999.000,9, -999.000,9,  -999.00,9,   -999.0,9,   -999.0,9,-999.0000,9,   -999.0,  9,  -999.00,9,   -999.0,  -999.00,9,  -999.00,9,     0.11,2,     0.13,2,   -999.0,-999.0000, -999,9,  124,  19.2279,  24.8252,   -999.0,9
       SH98-04,  NONE,SH-5539,  2,      9, S-1-1-2,2,19980424,1411, 29.9568, 135.2975, 4540,    150.7,  19.0207,  34.8331,2,   -999.0,9,  34.8473,2,    217.3,2,  -999.00,9,  -999.00,9,     2.05,2,     0.02,2,     0.13,2, -999.000,9, -999.000,9,  -999.00,9,   -999.0,9,   -999.0,9,-999.0000,9,   -999.0,  9,  -999.00,9,   -999.0,  -999.00,9,  -999.00,9,     0.04,2,     0.05,2,   -999.0,-999.0000, -999,9,  150,  18.9939,  24.8951,   -999.0,9
       SH98-04,  NONE,SH-5539,  2,      8, S-1-1-9,2,19980424,1410, 29.9568, 135.2975, 4540,    201.6,  18.4882,  34.8450,2,   -999.0,9,  34.8583,2,    203.8,2,  -999.00,9,  -999.00,9,     3.71,2,     0.01,2,     0.23,2, -999.000,9, -999.000,9,  -999.00,9,   -999.0,9,   -999.0,9,-999.0000,9,   -999.0,  9,  -999.00,9,   -999.0,  -999.00,9,  -999.00,9,     0.01,2,     0.02,2,   -999.0,-999.0000, -999,9,  200,  18.4530,  25.0408,   -999.0,9
       SH98-04,  NONE,SH-5539,  2,      7, S-1-1-4,2,19980424,1408, 29.9568, 135.2975, 4540,    249.2,  17.8137,  34.8337,2,   -999.0,9,  34.8646,4,    204.4,2,  -999.00,9,  -999.00,9,     4.68,2,     0.01,2,     0.29,2, -999.000,9, -999.000,9,  -999.00,9,   -999.0,9,   -999.0,9,-999.0000,9,   -999.0,  9,  -999.00,9,   -999.0,  -999.00,9,  -999.00,9,     0.00,2,     0.01,2,   -999.0,-999.0000, -999,9,  247,  17.7712,  25.2008,   -999.0,9
       SH98-04,  NONE,SH-5539,  2,      6,02-14892,2,19980424,1407, 29.9568, 135.2975, 4540,    301.2,  16.9379,  34.7834,2,   -999.0,9,  34.7900,2,    199.4,2,  -999.00,9,  -999.00,9,     6.24,2,     0.00,2,     0.41,2, -999.000,9, -999.000,9,  -999.00,9,   -999.0,9,   -999.0,9,-999.0000,9,   -999.0,  9,  -999.00,9,   -999.0,  -999.00,9,  -999.00,9,     0.00,2,     0.01,2,   -999.0,-999.0000, -999,9,  299,  16.8882,  25.3745,   -999.0,9
       SH98-04,  NONE,SH-5539,  1,      5, S-1-1-6,2,19980424,1328, 29.9768, 135.2727, 4410,    398.8,  15.1993,  34.6530,2,   -999.0,9,  34.6512,2,    192.6,2,  -999.00,9,  -999.00,9,     9.75,2,     0.00,2,     0.65,2, -999.000,9, -999.000,9,  -999.00,9,   -999.0,9,   -999.0,9,-999.0000,9,   -999.0,  9,  -999.00,9,   -999.0,  -999.00,9,  -999.00,9,  -999.00,9,  -999.00,9,   -999.0,-999.0000, -999,9,  396,  15.1382,  25.6740,   -999.0,9
       SH98-04,  NONE,SH-5539,  1,      4, S-1-1-1,2,19980424,1326, 29.9768, 135.2727, 4410,    499.1,  12.8873,  34.4774,2,   -999.0,9,  34.4756,2,    180.8,2,  -999.00,9,  -999.00,9,    14.62,2,     0.00,2,     1.01,2, -999.000,9, -999.000,9,  -999.00,9,   -999.0,9,   -999.0,9,-999.0000,9,   -999.0,  9,  -999.00,9,   -999.0,  -999.00,9,  -999.00,9,  -999.00,9,  -999.00,9,   -999.0,-999.0000, -999,9,  495,  12.8186,  26.0241,   -999.0,9
       SH98-04,  NONE,SH-5539,  1,      3,1-133-84,2,19980424,1324, 29.9768, 135.2727, 4410,    600.5,  10.2160,  34.2986,2,   -999.0,9,  34.2982,2,    164.1,2,  -999.00,9,  -999.00,9,    20.85,2,     0.00,2,     1.47,2, -999.000,9, -999.000,9,  -999.00,9,   -999.0,9,   -999.0,9,-999.0000,9,   -999.0,  9,  -999.00,9,   -999.0,  -999.00,9,  -999.00,9,  -999.00,9,  -999.00,9,   -999.0,-999.0000, -999,9,  596,  10.1446,  26.3796,   -999.0,9
       SH98-04,  NONE,SH-5539,  1,      2, 1-133-1,2,19980424,1322, 29.9768, 135.2727, 4410,    700.2,   8.2868,  34.2167,2,   -999.0,9,  34.2131,2,    147.6,2,  -999.00,9,  -999.00,9,    25.62,2,     0.00,2,     1.81,2, -999.000,9, -999.000,9,  -999.00,9,   -999.0,9,   -999.0,9,-999.0000,9,   -999.0,  9,  -999.00,9,   -999.0,  -999.00,9,  -999.00,9,  -999.00,9,  -999.00,9,   -999.0,-999.0000, -999,9,  694,   8.2130,  26.6268,   -999.0,9
       SH98-04,  NONE,SH-5539,  1,      1, 1-133-2,2,19980424,1320, 29.9768, 135.2727, 4410,    800.4,   6.3986,  34.1910,2,   -999.0,9,  34.1831,2,    113.8,2,  -999.00,9,  -999.00,9,    31.75,2,     0.00,2,     2.25,2, -999.000,9, -999.000,9,  -999.00,9,   -999.0,9,   -999.0,9,-999.0000,9,   -999.0,  9,  -999.00,9,   -999.0,  -999.00,9,  -999.00,9,  -999.00,9,  -999.00,9,   -999.0,-999.0000, -999,9,  793,   6.3250,  26.8717,   -999.0,9
       SH98-04,  NONE,SH-5539,  1,     12, S-1-1-8,2,19980424,1318, 29.9768, 135.2727, 4410,    902.1,   5.2965,  34.2529,2,   -999.0,9,  34.2752,4,     88.1,2,  -999.00,9,  -999.00,9,    35.73,2,     0.00,2,     2.51,2, -999.000,9, -999.000,9,  -999.00,9,   -999.0,9,   -999.0,9,-999.0000,9,   -999.0,  9,  -999.00,9,   -999.0,  -999.00,9,  -999.00,9,  -999.00,9,  -999.00,9,   -999.0,-999.0000, -999,9,  894,   5.2203,  27.0574,   -999.0,9
       SH98-04,  NONE,SH-5539,  1,     11,S-1-1-11,2,19980424,1316, 29.9768, 135.2727, 4410,    998.2,   4.2815,  34.3131,2,   -999.0,9,  34.3286,2,     75.3,2,  -999.00,9,  -999.00,9,    37.97,2,     0.00,2,     2.67,2, -999.000,9, -999.000,9,  -999.00,9,   -999.0,9,   -999.0,9,-999.0000,9,   -999.0,  9,  -999.00,9,   -999.0,  -999.00,9,  -999.00,9,  -999.00,9,  -999.00,9,   -999.0,-999.0000, -999,9,  989,   4.2042,  27.2184,   -999.0,9
       SH98-04,  NONE,SH-5539,  1,     10,S-1-1-10,2,19980424,1314, 29.9768, 135.2727, 4410,   1207.2,   3.3294,  34.4330,2,   -999.0,9,  34.4542,4,     69.3,2,  -999.00,9,  -999.00,9,    40.10,2,     0.00,2,     2.79,2, -999.000,9, -999.000,9,  -999.00,9,   -999.0,9,   -999.0,9,-999.0000,9,   -999.0,  9,  -999.00,9,   -999.0,  -999.00,9,  -999.00,9,  -999.00,9,  -999.00,9,   -999.0,-999.0000, -999,9, 1196,   3.2426,  27.4100,   -999.0,9