BOTTLE,20130510GEMDJMAYT
EXPOCODE,SECT_ID,STNNBR,CASTNO,SAMPNO,BTLNBR,BTLNBR_FLAG_W,DATE,TIME,LATITUDE,LONGITUDE,DEPTH,CTDPRS,CTDTMP,CTDSAL,CTDSAL_FLAG_W,CTDOXY,CTDOXY_FLAG_W,SALNTY,SALNTY_FLAG_W,OXYGEN,OXYGEN_FLAG_W,SILCAT,SILCAT_FLAG_W,NITRAT,NITRAT_FLAG_W,NO2+NO3,NO2+NO3_FLAG_W,NITRIT,NITRIT_FLAG_W,PHSPHT,PHSPHT_FLAG_W,CFC-11,CFC-11_FLAG_W,CFC-12,CFC-12_FLAG_W,DELC13,DELC13_FLAG_W,TCARBN,TCARBN_FLAG_W,ALKALI,ALKALI_FLAG_W,PH,PH_FLAG_W,PH_TMP,PH_SCALE,PH_NBS,PH_NBS_FLAG_W,C13ERR,TOTALP,TOTALP_FLAG_W,AMMONI,AMMONI_FLAG_W,CHLORA,CHLORA_FLAG_W,PPHYTN,PPHYTN_FLAG_W,REVPRS,REVTMP,DEPTH_,DEPTH_FLAG,CTDDEP,THETA,SIGTHT,DOC,DOC_FLAG_W
,,,,,,,GMT,GMT,,,METER,DBAR,ITS-90,PSS-78,,UMOL/KG,,PSS-78,,UMOL/KG,,UMOL/KG,,UMOL/KG,,UMOL/KG,,UMOL/KG,,UMOL/KG,,PMOL/KG,,PMOL/KG,,/MILLE,,UMOL/KG,,UMOL/KG,,25_DEG_C,,DEG_C,,,,/MILLE,UMOL/KG,,UMOL/KG,,UG/L,,UG/L,,DBAR,ITS-90,METERS,,METERS,DEG_C,,UMOL/L,
       SH98-04,  NONE,SH-5545,  1,     12, S-1-1-8,2,19980426,0933, 29.9597, 132.9605, 3820,    397.6,  17.1649,  34.8081,2,   -999.0,9,-999.0000,9,    203.2,2,  -999.00,9,  -999.00,9,     5.56,2,     0.00,2,     0.37,2, -999.000,9, -999.000,9,  -999.00,9,   -999.0,9,   -999.0,9,-999.0000,9,   -999.0,  9,  -999.00,9,   -999.0,  -999.00,9,  -999.00,9,  -999.00,9,  -999.00,9,   -999.0,-999.0000, -999,9,  395,  17.0986,  25.3435,   -999.0,9
       SH98-04,  NONE,SH-5545,  1,     11,S-1-1-11,2,19980426,0931, 29.9597, 132.9605, 3820,    497.3,  15.4583,  34.6737,2,   -999.0,9,-999.0000,9,    194.3,2,  -999.00,9,  -999.00,9,     8.97,2,     0.00,2,     0.61,2, -999.000,9, -999.000,9,  -999.00,9,   -999.0,9,   -999.0,9,-999.0000,9,   -999.0,  9,  -999.00,9,   -999.0,  -999.00,9,  -999.00,9,  -999.00,9,  -999.00,9,   -999.0,-999.0000, -999,9,  493,  15.3810,  25.6362,   -999.0,9
       SH98-04,  NONE,SH-5545,  1,     10,S-1-1-10,2,19980426,0929, 29.9597, 132.9605, 3820,    597.4,  13.0540,  34.4944,2,   -999.0,9,-999.0000,9,    178.1,2,  -999.00,9,  -999.00,9,    14.42,2,     0.00,2,     1.00,2, -999.000,9, -999.000,9,  -999.00,9,   -999.0,9,   -999.0,9,-999.0000,9,   -999.0,  9,  -999.00,9,   -999.0,  -999.00,9,  -999.00,9,  -999.00,9,  -999.00,9,   -999.0,-999.0000, -999,9,  592,  12.9708,  26.0070,   -999.0,9
       SH98-04,  NONE,SH-5545,  1,      9, S-1-1-2,2,19980426,0927, 29.9597, 132.9605, 3820,    697.8,  10.0441,  34.2959,2,   -999.0,9,-999.0000,9,    161.1,2,  -999.00,9,  -999.00,9,    21.14,2,     0.00,2,     1.48,2, -999.000,9, -999.000,9,  -999.00,9,   -999.0,9,   -999.0,9,-999.0000,9,   -999.0,  9,  -999.00,9,   -999.0,  -999.00,9,  -999.00,9,  -999.00,9,  -999.00,9,   -999.0,-999.0000, -999,9,  692,   9.9616,  26.4086,   -999.0,9
       SH98-04,  NONE,SH-5545,  1,      8, S-1-1-9,2,19980426,0925, 29.9597, 132.9605, 3820,    798.8,   7.1138,  34.1836,2,   -999.0,9,-999.0000,9,    126.2,2,  -999.00,9,  -999.00,9,    29.41,2,     0.00,2,     2.08,2, -999.000,9, -999.000,9,  -999.00,9,   -999.0,9,   -999.0,9,-999.0000,9,   -999.0,  9,  -999.00,9,   -999.0,  -999.00,9,  -999.00,9,  -999.00,9,  -999.00,9,   -999.0,-999.0000, -999,9,  792,   7.0361,  26.7706,   -999.0,9
       SH98-04,  NONE,SH-5545,  1,      7, S-1-1-4,2,19980426,0923, 29.9597, 132.9605, 3820,    901.7,   5.7922,  34.1962,2,   -999.0,9,-999.0000,9,    101.7,2,  -999.00,9,  -999.00,9,    33.98,2,     0.00,2,     2.41,2, -999.000,9, -999.000,9,  -999.00,9,   -999.0,9,   -999.0,9,-999.0000,9,   -999.0,  9,  -999.00,9,   -999.0,  -999.00,9,  -999.00,9,  -999.00,9,  -999.00,9,   -999.0,-999.0000, -999,9,  894,   5.7128,  26.9533,   -999.0,9
       SH98-04,  NONE,SH-5545,  1,      6,02-14892,2,19980426,0921, 29.9597, 132.9605, 3820,   1001.8,   4.7330,  34.2696,2,   -999.0,9,-999.0000,9,     74.2,2,  -999.00,9,  -999.00,9,    37.77,2,     0.00,2,     2.68,2, -999.000,9, -999.000,9,  -999.00,9,   -999.0,9,   -999.0,9,-999.0000,9,   -999.0,  9,  -999.00,9,   -999.0,  -999.00,9,  -999.00,9,  -999.00,9,  -999.00,9,   -999.0,-999.0000, -999,9,  993,   4.6519,  27.1355,   -999.0,9
       SH98-04,  NONE,SH-5545,  1,      5, S-1-1-6,2,19980426,0918, 29.9597, 132.9605, 3820,   1209.3,   3.7261,  34.4034,2,   -999.0,9,-999.0000,9,     67.2,2,  -999.00,9,  -999.00,9,    39.71,2,     0.00,2,     2.79,2, -999.000,9, -999.000,9,  -999.00,9,   -999.0,9,   -999.0,9,-999.0000,9,   -999.0,  9,  -999.00,9,   -999.0,  -999.00,9,  -999.00,9,  -999.00,9,  -999.00,9,   -999.0,-999.0000, -999,9, 1198,   3.6354,  27.3484,   -999.0,9
       SH98-04,  NONE,SH-5546,  2,     -9,      -9,5,19980426,1619, 30.3182, 132.5797, 4090,      0.0,  25.5789,  34.6082,2,   -999.0,9,-999.0000,9,    211.4,2,  -999.00,9,  -999.00,9,     0.00,2,     0.00,2,     0.03,2, -999.000,9, -999.000,9,  -999.00,9,   -999.0,9,   -999.0,9,-999.0000,9,   -999.0,  9,  -999.00,9,   -999.0,  -999.00,9,  -999.00,9,     0.10,2,     0.06,2,   -999.0,-999.0000, -999,9,    0,  25.5789,  22.8681,   -999.0,9
       SH98-04,  NONE,SH-5546,  2,      9, S-1-1-2,2,19980426,1618, 30.3182, 132.5797, 4090,     11.9,  25.5883,  34.6082,2,   -999.0,9,  34.6174,2,    210.1,2,  -999.00,9,  -999.00,9,     0.00,2,     0.00,2,     0.02,2, -999.000,9, -999.000,9,  -999.00,9,   -999.0,9,   -999.0,9,-999.0000,9,   -999.0,  9,  -999.00,9,   -999.0,  -999.00,9,  -999.00,9,     0.10,2,     0.08,2,   -999.0,-999.0000, -999,9,   12,  25.5857,  22.8660,   -999.0,9
       SH98-04,  NONE,SH-5546,  2,      8, S-1-1-9,2,19980426,1618, 30.3182, 132.5797, 4090,     26.2,  25.5564,  34.6069,2,   -999.0,9,  34.6152,2,    209.8,2,  -999.00,9,  -999.00,9,     0.00,2,     0.00,2,     0.02,2, -999.000,9, -999.000,9,  -999.00,9,   -999.0,9,   -999.0,9,-999.0000,9,   -999.0,  9,  -999.00,9,   -999.0,  -999.00,9,  -999.00,9,     0.08,2,     0.08,2,   -999.0,-999.0000, -999,9,   26,  25.5507,  22.8758,   -999.0,9
       SH98-04,  NONE,SH-5546,  2,      7, S-1-1-4,2,19980426,1616, 30.3182, 132.5797, 4090,     50.6,  24.5813,  34.6426,2,   -999.0,9,  34.6424,2,    211.3,2,  -999.00,9,  -999.00,9,     0.00,2,     0.02,2,     0.04,2, -999.000,9, -999.000,9,  -999.00,9,   -999.0,9,   -999.0,9,-999.0000,9,   -999.0,  9,  -999.00,9,   -999.0,  -999.00,9,  -999.00,9,     0.24,2,     0.30,2,   -999.0,-999.0000, -999,9,   50,  24.5704,  23.2009,   -999.0,9
       SH98-04,  NONE,SH-5546,  2,      6,02-14892,2,19980426,1615, 30.3182, 132.5797, 4090,     74.6,  23.1068,  34.7431,2,   -999.0,9,  34.7436,2,    211.7,2,  -999.00,9,  -999.00,9,     0.49,2,     0.27,2,     0.04,2, -999.000,9, -999.000,9,  -999.00,9,   -999.0,9,   -999.0,9,-999.0000,9,   -999.0,  9,  -999.00,9,   -999.0,  -999.00,9,  -999.00,9,     0.10,2,     0.25,2,   -999.0,-999.0000, -999,9,   74,  23.0915,  23.7124,   -999.0,9
       SH98-04,  NONE,SH-5546,  2,      5, S-1-1-6,2,19980426,1614, 30.3182, 132.5797, 4090,    100.9,  22.5030,  34.7330,2,   -999.0,9,  34.7300,2,    215.7,2,  -999.00,9,  -999.00,9,     0.39,2,     0.22,2,     0.03,2, -999.000,9, -999.000,9,  -999.00,9,   -999.0,9,   -999.0,9,-999.0000,9,   -999.0,  9,  -999.00,9,   -999.0,  -999.00,9,  -999.00,9,     0.07,2,     0.13,2,   -999.0,-999.0000, -999,9,  100,  22.4828,  23.8789,   -999.0,9
       SH98-04,  NONE,SH-5546,  2,      4, S-1-1-1,2,19980426,1613, 30.3182, 132.5797, 4090,    125.0,  21.7466,  34.7643,2,   -999.0,9,  34.7695,2,    215.0,2,  -999.00,9,  -999.00,9,     0.68,2,     0.19,2,     0.07,2, -999.000,9, -999.000,9,  -999.00,9,   -999.0,9,   -999.0,9,-999.0000,9,   -999.0,  9,  -999.00,9,   -999.0,  -999.00,9,  -999.00,9,     0.07,2,     0.11,2,   -999.0,-999.0000, -999,9,  124,  21.7222,  24.1161,   -999.0,9
       SH98-04,  NONE,SH-5546,  2,      3,1-133-84,2,19980426,1612, 30.3182, 132.5797, 4090,    150.4,  21.2442,  34.8282,2,   -999.0,9,  34.8300,2,    200.0,2,  -999.00,9,  -999.00,9,     2.05,2,     0.05,2,     0.17,2, -999.000,9, -999.000,9,  -999.00,9,   -999.0,9,   -999.0,9,-999.0000,9,   -999.0,  9,  -999.00,9,   -999.0,  -999.00,9,  -999.00,9,     0.03,2,     0.11,2,   -999.0,-999.0000, -999,9,  149,  21.2152,  24.3045,   -999.0,9
       SH98-04,  NONE,SH-5546,  2,      2, 1-133-1,2,19980426,1611, 30.3182, 132.5797, 4090,    200.8,  19.7387,  34.8388,2,   -999.0,9,  34.8404,2,    201.2,2,  -999.00,9,  -999.00,9,     2.93,2,     0.01,2,     0.21,2, -999.000,9, -999.000,9,  -999.00,9,   -999.0,9,   -999.0,9,-999.0000,9,   -999.0,  9,  -999.00,9,   -999.0,  -999.00,9,  -999.00,9,     0.01,2,     0.03,2,   -999.0,-999.0000, -999,9,  199,  19.7020,  24.7169,   -999.0,9
       SH98-04,  NONE,SH-5546,  2,      1, 1-133-2,2,19980426,1609, 30.3182, 132.5797, 4090,    250.2,  18.8173,  34.8459,2,   -999.0,9,  34.8444,2,    199.4,2,  -999.00,9,  -999.00,9,     3.90,2,     0.01,2,     0.28,2, -999.000,9, -999.000,9,  -999.00,9,   -999.0,9,   -999.0,9,-999.0000,9,   -999.0,  9,  -999.00,9,   -999.0,  -999.00,9,  -999.00,9,     0.01,2,     0.02,2,   -999.0,-999.0000, -999,9,  248,  18.7729,  24.9611,   -999.0,9
       SH98-04,  NONE,SH-5546,  2,     12, S-1-1-8,2,19980426,1608, 30.3182, 132.5797, 4090,    301.3,  17.5423,  34.8098,2,   -999.0,9,  34.8125,2,    196.2,2,  -999.00,9,  -999.00,9,     5.66,2,     0.01,2,     0.41,2, -999.000,9, -999.000,9,  -999.00,9,   -999.0,9,   -999.0,9,-999.0000,9,   -999.0,  9,  -999.00,9,   -999.0,  -999.00,9,  -999.00,9,     0.00,2,     0.01,2,   -999.0,-999.0000, -999,9,  299,  17.4914,  25.2505,   -999.0,9
       SH98-04,  NONE,SH-5546,  2,     11,S-1-1-11,2,19980426,1606, 30.3182, 132.5797, 4090,    401.3,  15.4946,  34.6682,2,   -999.0,9,  34.6725,2,    187.7,2,  -999.00,9,  -999.00,9,     9.46,2,     0.00,2,     0.66,2, -999.000,9, -999.000,9,  -999.00,9,   -999.0,9,   -999.0,9,-999.0000,9,   -999.0,  9,  -999.00,9,   -999.0,  -999.00,9,  -999.00,9,  -999.00,9,  -999.00,9,   -999.0,-999.0000, -999,9,  398,  15.4323,  25.6205,   -999.0,9
       SH98-04,  NONE,SH-5546,  1,     10,S-1-1-10,2,19980426,1533, 30.3003, 132.5645, 4010,    495.8,  13.0726,  34.5012,2,   -999.0,9,  34.5000,2,    172.3,2,  -999.00,9,  -999.00,9,    14.81,2,     0.00,2,     1.05,2, -999.000,9, -999.000,9,  -999.00,9,   -999.0,9,   -999.0,9,-999.0000,9,   -999.0,  9,  -999.00,9,   -999.0,  -999.00,9,  -999.00,9,  -999.00,9,  -999.00,9,   -999.0,-999.0000, -999,9,  492,  13.0037,  26.0057,   -999.0,9
       SH98-04,  NONE,SH-5546,  1,      9, S-1-1-2,2,19980426,1531, 30.3003, 132.5645, 4010,    596.8,   8.9332,  34.2301,2,   -999.0,9,  34.2212,2,    151.8,2,  -999.00,9,  -999.00,9,    23.77,2,     0.00,2,     1.70,2, -999.000,9, -999.000,9,  -999.00,9,   -999.0,9,   -999.0,9,-999.0000,9,   -999.0,  9,  -999.00,9,   -999.0,  -999.00,9,  -999.00,9,  -999.00,9,  -999.00,9,   -999.0,-999.0000, -999,9,  592,   8.8679,  26.5362,   -999.0,9
       SH98-04,  NONE,SH-5546,  1,      8, S-1-1-9,2,19980426,1529, 30.3003, 132.5645, 4010,    697.2,   7.0705,  34.1851,2,   -999.0,9,  34.1797,2,    120.7,2,  -999.00,9,  -999.00,9,    29.90,2,     0.00,2,     2.12,2, -999.000,9, -999.000,9,  -999.00,9,   -999.0,9,   -999.0,9,-999.0000,9,   -999.0,  9,  -999.00,9,   -999.0,  -999.00,9,  -999.00,9,  -999.00,9,  -999.00,9,   -999.0,-999.0000, -999,9,  691,   7.0033,  26.7764,   -999.0,9
       SH98-04,  NONE,SH-5546,  1,      7, S-1-1-4,2,19980426,1528, 30.3003, 132.5645, 4010,    797.4,   5.9439,  34.3029,2,   -999.0,9,  34.2993,2,     94.9,2,  -999.00,9,  -999.00,9,    34.08,2,     0.00,2,     2.44,2, -999.000,9, -999.000,9,  -999.00,9,   -999.0,9,   -999.0,9,-999.0000,9,   -999.0,  9,  -999.00,9,   -999.0,  -999.00,9,  -999.00,9,  -999.00,9,  -999.00,9,   -999.0,-999.0000, -999,9,  790,   5.8732,  27.0177,   -999.0,9
       SH98-04,  NONE,SH-5546,  1,      6,02-14892,2,19980426,1526, 30.3003, 132.5645, 4010,    900.6,   4.2604,  34.3449,2,   -999.0,9,  34.3369,2,     68.6,2,  -999.00,9,  -999.00,9,    38.74,2,     0.00,2,     2.75,2, -999.000,9, -999.000,9,  -999.00,9,   -999.0,9,   -999.0,9,-999.0000,9,   -999.0,  9,  -999.00,9,   -999.0,  -999.00,9,  -999.00,9,  -999.00,9,  -999.00,9,   -999.0,-999.0000, -999,9,  892,   4.1913,  27.2451,   -999.0,9
       SH98-04,  NONE,SH-5546,  1,      5, S-1-1-6,2,19980426,1523, 30.3003, 132.5645, 4010,   1000.4,   3.9259,  34.4073,2,   -999.0,9,  34.3989,2,     70.4,2,  -999.00,9,  -999.00,9,    39.03,2,     0.00,2,     2.77,2, -999.000,9, -999.000,9,  -999.00,9,   -999.0,9,   -999.0,9,-999.0000,9,   -999.0,  9,  -999.00,9,   -999.0,  -999.00,9,  -999.00,9,  -999.00,9,  -999.00,9,   -999.0,-999.0000, -999,9,  991,   3.8510,  27.3299,   -999.0,9
       SH98-04,  NONE,SH-5546,  1,      4, S-1-1-1,2,19980426,1519, 30.3003, 132.5645, 4010,   1201.6,   3.2790,  34.4692,2,   -999.0,9,  34.4607,2,     71.4,2,  -999.00,9,  -999.00,9,    39.90,2,     0.00,2,     2.81,2, -999.000,9, -999.000,9,  -999.00,9,   -999.0,9,   -999.0,9,-999.0000,9,   -999.0,  9,  -999.00,9,   -999.0,  -999.00,9,  -999.00,9,  -999.00,9,  -999.00,9,   -999.0,-999.0000, -999,9, 1190,   3.1930,  27.4435,   -999.0,9
       SH98-04,  NONE,SH-5546,  1,      3,1-133-84,2,19980426,1515, 30.3003, 132.5645, 4010,   1503.4,   2.6024,  34.5387,2,   -999.0,9,  34.5299,2,   -999.0,9,  -999.00,9,  -999.00,9,  -999.00,9,  -999.00,9,  -999.00,9, -999.000,9, -999.000,9,  -999.00,9,   -999.0,9,   -999.0,9,-999.0000,9,   -999.0,  9,  -999.00,9,   -999.0,  -999.00,9,  -999.00,9,  -999.00,9,  -999.00,9,   -999.0,-999.0000, -999,9, 1488,   2.4989,  27.5611,   -999.0,9
       SH98-04,  NONE,SH-5546,  1,      2, 1-133-1,2,19980426,1508, 30.3003, 132.5645, 4010,   2011.3,   2.0433,  34.6151,2,   -999.0,9,  34.5985,2,   -999.0,9,  -999.00,9,  -999.00,9,  -999.00,9,  -999.00,9,  -999.00,9, -999.000,9, -999.000,9,  -999.00,9,   -999.0,9,   -999.0,9,-999.0000,9,   -999.0,  9,  -999.00,9,   -999.0,  -999.00,9,  -999.00,9,  -999.00,9,  -999.00,9,   -999.0,-999.0000, -999,9, 1988,   1.9053,  27.6707,   -999.0,9
       SH98-04,  NONE,SH-5546,  1,      1, 1-133-2,2,19980426,1502, 30.3003, 132.5645, 4010,   2519.9,   1.7753,  34.6561,2,   -999.0,9,  34.6383,4,   -999.0,9,  -999.00,9,  -999.00,9,  -999.00,9,  -999.00,9,  -999.00,9, -999.000,9, -999.000,9,  -999.00,9,   -999.0,9,   -999.0,9,-999.0000,9,   -999.0,  9,  -999.00,9,   -999.0,  -999.00,9,  -999.00,9,  -999.00,9,  -999.00,9,   -999.0,-999.0000, -999,9, 2488,   1.5974,  27.7270,   -999.0,9
       SH98-04,  NONE,SH-5546,  1,     12, S-1-1-8,2,19980426,1456, 30.3003, 132.5645, 4010,   3030.0,   1.6083,  34.6831,2,   -999.0,9,  34.6662,2,   -999.0,9,  -999.00,9,  -999.00,9,  -999.00,9,  -999.00,9,  -999.00,9, -999.000,9, -999.000,9,  -999.00,9,   -999.0,9,   -999.0,9,-999.0000,9,   -999.0,  9,  -999.00,9,   -999.0,  -999.00,9,  -999.00,9,  -999.00,9,  -999.00,9,   -999.0,-999.0000, -999,9, 2988,   1.3862,  27.7640,   -999.0,9
       SH98-04,  NONE,SH-5546,  1,     11,S-1-1-11,2,19980426,1446, 30.3003, 132.5645, 4010,   3851.4,   1.5550,  34.7014,2,   -999.0,9,  34.6778,4,   -999.0,9,  -999.00,9,  -999.00,9,  -999.00,9,  -999.00,9,  -999.00,9, -999.000,9, -999.000,9,  -999.00,9,   -999.0,9,   -999.0,9,-999.0000,9,   -999.0,  9,  -999.00,9,   -999.0,  -999.00,9,  -999.00,9,  -999.00,9,  -999.00,9,   -999.0,-999.0000, -999,9, 3791,   1.2505,  27.7884,   -999.0,9
       SH98-04,  NONE,SH-5547,  2,     -9,      -9,5,19980426,2232, 30.6838, 132.2817, 2690,      0.0,  25.4262,  34.6091,2,   -999.0,9,-999.0000,9,    209.4,2,  -999.00,9,  -999.00,9,     0.00,2,     0.00,2,     0.03,2, -999.000,9, -999.000,9,  -999.00,9,   -999.0,9,   -999.0,9,-999.0000,9,   -999.0,  9,     8.22,2,   -999.0,  -999.00,9,  -999.00,9,     0.17,2,     0.14,2,   -999.0,-999.0000, -999,9,    0,  25.4262,  22.9158,   -999.0,9
       SH98-04,  NONE,SH-5547,  2,      3,1-133-84,2,19980426,2231, 30.6838, 132.2817, 2690,     11.4,  25.4358,  34.6086,2,   -999.0,9,-999.0000,9,    210.1,2,  -999.00,9,  -999.00,9,     0.00,2,     0.00,2,     0.02,2, -999.000,9, -999.000,9,  -999.00,9,   -999.0,9,   -999.0,9,-999.0000,9,   -999.0,  9,     8.22,2,   -999.0,  -999.00,9,  -999.00,9,     0.19,2,     0.16,2,   -999.0,-999.0000, -999,9,   11,  25.4333,  22.9133,   -999.0,9
       SH98-04,  NONE,SH-5547,  2,      2, 1-133-1,2,19980426,2230, 30.6838, 132.2817, 2690,     26.1,  25.3122,  34.6158,2,   -999.0,9,-999.0000,9,    210.8,2,  -999.00,9,  -999.00,9,     0.00,2,     0.00,2,     0.02,2, -999.000,9, -999.000,9,  -999.00,9,   -999.0,9,   -999.0,9,-999.0000,9,   -999.0,  9,     8.22,2,   -999.0,  -999.00,9,  -999.00,9,     0.20,2,     0.19,2,   -999.0,-999.0000, -999,9,   26,  25.3065,  22.9575,   -999.0,9
       SH98-04,  NONE,SH-5547,  2,      1, 1-133-2,2,19980426,2229, 30.6838, 132.2817, 2690,     50.2,  24.3374,  34.5510,2,   -999.0,9,-999.0000,9,    211.9,2,  -999.00,9,  -999.00,9,     0.20,2,     0.04,2,     0.05,2, -999.000,9, -999.000,9,  -999.00,9,   -999.0,9,   -999.0,9,-999.0000,9,   -999.0,  9,     8.20,2,   -999.0,  -999.00,9,  -999.00,9,     0.41,2,     0.38,2,   -999.0,-999.0000, -999,9,   50,  24.3267,  23.2045,   -999.0,9
       SH98-04,  NONE,SH-5547,  2,     12, S-1-1-8,2,19980426,2228, 30.6838, 132.2817, 2690,     74.6,  23.9241,  34.5944,2,   -999.0,9,-999.0000,9,    209.3,2,  -999.00,9,  -999.00,9,     0.59,2,     0.11,2,     0.07,2, -999.000,9, -999.000,9,  -999.00,9,   -999.0,9,   -999.0,9,-999.0000,9,   -999.0,  9,     8.19,2,   -999.0,  -999.00,9,  -999.00,9,     0.35,2,     0.39,2,   -999.0,-999.0000, -999,9,   74,  23.9085,  23.3613,   -999.0,9
       SH98-04,  NONE,SH-5547,  2,     11,S-1-1-11,2,19980426,2227, 30.6838, 132.2817, 2690,    101.6,  22.5397,  34.5845,2,   -999.0,9,-999.0000,9,    210.6,2,  -999.00,9,  -999.00,9,     1.56,2,     0.16,2,     0.15,2, -999.000,9, -999.000,9,  -999.00,9,   -999.0,9,   -999.0,9,-999.0000,9,   -999.0,  9,     8.17,2,   -999.0,  -999.00,9,  -999.00,9,     0.27,2,     0.33,2,   -999.0,-999.0000, -999,9,  101,  22.5193,  23.7559,   -999.0,9
       SH98-04,  NONE,SH-5547,  2,     10,S-1-1-10,2,19980426,2226, 30.6838, 132.2817, 2690,    127.5,  20.1391,  34.6396,2,   -999.0,9,-999.0000,9,    206.1,2,  -999.00,9,  -999.00,9,     3.71,2,     0.18,2,     0.29,2, -999.000,9, -999.000,9,  -999.00,9,   -999.0,9,   -999.0,9,-999.0000,9,   -999.0,  9,     8.13,2,   -999.0,  -999.00,9,  -999.00,9,     0.10,2,     0.18,2,   -999.0,-999.0000, -999,9,  127,  20.1155,  24.4564,   -999.0,9
       SH98-04,  NONE,SH-5547,  2,      9, S-1-1-2,2,19980426,2224, 30.6838, 132.2817, 2690,    151.9,  18.1978,  34.6123,2,   -999.0,9,-999.0000,9,    212.0,2,  -999.00,9,  -999.00,9,     4.59,2,     0.20,2,     0.34,2, -999.000,9, -999.000,9,  -999.00,9,   -999.0,9,   -999.0,9,-999.0000,9,   -999.0,  9,     8.11,2,   -999.0,  -999.00,9,  -999.00,9,     0.14,2,     0.17,2,   -999.0,-999.0000, -999,9,  151,  18.1716,  24.9328,   -999.0,9
       SH98-04,  NONE,SH-5547,  2,      8, S-1-1-9,2,19980426,2222, 30.6838, 132.2817, 2690,    200.3,  17.5652,  34.6193,2,   -999.0,9,-999.0000,9,    213.9,2,  -999.00,9,  -999.00,9,     5.07,2,     0.15,2,     0.37,2, -999.000,9, -999.000,9,  -999.00,9,   -999.0,9,   -999.0,9,-999.0000,9,   -999.0,  9,     8.10,2,   -999.0,  -999.00,9,  -999.00,9,     0.11,2,     0.20,2,   -999.0,-999.0000, -999,9,  199,  17.5314,  25.0947,   -999.0,9
       SH98-04,  NONE,SH-5547,  2,      7, S-1-1-4,2,19980426,2221, 30.6838, 132.2817, 2690,    250.2,  15.4596,  34.6488,2,   -999.0,9,-999.0000,9,    184.5,2,  -999.00,9,  -999.00,9,    10.04,2,     0.01,2,     0.72,2, -999.000,9, -999.000,9,  -999.00,9,   -999.0,9,   -999.0,9,-999.0000,9,   -999.0,  9,     8.01,2,   -999.0,  -999.00,9,  -999.00,9,     0.01,2,     0.05,2,   -999.0,-999.0000, -999,9,  248,  15.4210,  25.6081,   -999.0,9
       SH98-04,  NONE,SH-5547,  2,      6,02-14892,2,19980426,2220, 30.6838, 132.2817, 2690,    292.9,  13.7985,  34.5610,2,   -999.0,9,-999.0000,9,    173.2,2,  -999.00,9,  -999.00,9,    13.74,2,     0.01,2,     0.98,2, -999.000,9, -999.000,9,  -999.00,9,   -999.0,9,   -999.0,9,-999.0000,9,   -999.0,  9,     7.95,2,   -999.0,  -999.00,9,  -999.00,9,     0.01,2,     0.03,2,   -999.0,-999.0000, -999,9,  291,  13.7566,  25.8985,   -999.0,9