BOTTLE,20130510GEMDJMAYT
EXPOCODE,SECT_ID,STNNBR,CASTNO,SAMPNO,BTLNBR,BTLNBR_FLAG_W,DATE,TIME,LATITUDE,LONGITUDE,DEPTH,CTDPRS,CTDTMP,CTDSAL,CTDSAL_FLAG_W,CTDOXY,CTDOXY_FLAG_W,SALNTY,SALNTY_FLAG_W,OXYGEN,OXYGEN_FLAG_W,SILCAT,SILCAT_FLAG_W,NITRAT,NITRAT_FLAG_W,NO2+NO3,NO2+NO3_FLAG_W,NITRIT,NITRIT_FLAG_W,PHSPHT,PHSPHT_FLAG_W,CFC-11,CFC-11_FLAG_W,CFC-12,CFC-12_FLAG_W,DELC13,DELC13_FLAG_W,TCARBN,TCARBN_FLAG_W,ALKALI,ALKALI_FLAG_W,PH,PH_FLAG_W,PH_TMP,PH_SCALE,PH_NBS,PH_NBS_FLAG_W,C13ERR,TOTALP,TOTALP_FLAG_W,AMMONI,AMMONI_FLAG_W,CHLORA,CHLORA_FLAG_W,PPHYTN,PPHYTN_FLAG_W,REVPRS,REVTMP,DEPTH_,DEPTH_FLAG,CTDDEP,THETA,SIGTHT,DOC,DOC_FLAG_W
,,,,,,,GMT,GMT,,,METER,DBAR,ITS-90,PSS-78,,UMOL/KG,,PSS-78,,UMOL/KG,,UMOL/KG,,UMOL/KG,,UMOL/KG,,UMOL/KG,,UMOL/KG,,PMOL/KG,,PMOL/KG,,/MILLE,,UMOL/KG,,UMOL/KG,,25_DEG_C,,DEG_C,,,,/MILLE,UMOL/KG,,UMOL/KG,,UG/L,,UG/L,,DBAR,ITS-90,METERS,,METERS,DEG_C,,UMOL/L,
       SH98-06,  NONE,SH-5601,  1,      1, 1-133-2,2,19980722,2259, 29.9982, 134.7705, 4610,     51.4,  22.8124,  34.6983,2,   -999.0,9,  34.6999,2,   -999.0,9,  -999.00,9,  -999.00,9,  -999.00,9,  -999.00,9,  -999.00,9, -999.000,9, -999.000,9,  -999.00,9,   -999.0,9,   -999.0,9,-999.0000,9,   -999.0,  9,  -999.00,9,   -999.0,  -999.00,9,  -999.00,9,  -999.00,9,  -999.00,9,   -999.0,-999.0000, -999,9,   51,  22.8020,  23.7616,   -999.0,9
       SH98-06,  NONE,SH-5601,  1,     12, S-1-1-8,2,19980722,2258, 29.9982, 134.7705, 4610,     99.5,  19.9803,  34.8107,2,   -999.0,9,  34.8091,2,   -999.0,9,  -999.00,9,  -999.00,9,  -999.00,9,  -999.00,9,  -999.00,9, -999.000,9, -999.000,9,  -999.00,9,   -999.0,9,   -999.0,9,-999.0000,9,   -999.0,  9,  -999.00,9,   -999.0,  -999.00,9,  -999.00,9,  -999.00,9,  -999.00,9,   -999.0,-999.0000, -999,9,   99,  19.9619,  24.6274,   -999.0,9
       SH98-06,  NONE,SH-5601,  1,     11,S-1-1-11,2,19980722,2257, 29.9982, 134.7705, 4610,    150.4,  19.0458,  34.8129,2,   -999.0,9,  34.8116,2,   -999.0,9,  -999.00,9,  -999.00,9,  -999.00,9,  -999.00,9,  -999.00,9, -999.000,9, -999.000,9,  -999.00,9,   -999.0,9,   -999.0,9,-999.0000,9,   -999.0,  9,  -999.00,9,   -999.0,  -999.00,9,  -999.00,9,  -999.00,9,  -999.00,9,   -999.0,-999.0000, -999,9,  149,  19.0190,  24.8733,   -999.0,9
       SH98-06,  NONE,SH-5601,  1,     10,S-1-1-10,2,19980722,2255, 29.9982, 134.7705, 4610,    200.8,  18.4819,  34.7937,2,   -999.0,9,  34.7919,2,   -999.0,9,  -999.00,9,  -999.00,9,  -999.00,9,  -999.00,9,  -999.00,9, -999.000,9, -999.000,9,  -999.00,9,   -999.0,9,   -999.0,9,-999.0000,9,   -999.0,  9,  -999.00,9,   -999.0,  -999.00,9,  -999.00,9,  -999.00,9,  -999.00,9,   -999.0,-999.0000, -999,9,  199,  18.4468,  25.0032,   -999.0,9
       SH98-06,  NONE,SH-5601,  1,      9, S-1-1-7,2,19980722,2254, 29.9982, 134.7705, 4610,    299.3,  17.5811,  34.8027,2,   -999.0,9,  34.8018,2,   -999.0,9,  -999.00,9,  -999.00,9,  -999.00,9,  -999.00,9,  -999.00,9, -999.000,9, -999.000,9,  -999.00,9,   -999.0,9,   -999.0,9,-999.0000,9,   -999.0,  9,  -999.00,9,   -999.0,  -999.00,9,  -999.00,9,  -999.00,9,  -999.00,9,   -999.0,-999.0000, -999,9,  297,  17.5305,  25.2356,   -999.0,9
       SH98-06,  NONE,SH-5601,  1,      8, S-1-1-9,2,19980722,2252, 29.9982, 134.7705, 4610,    399.7,  15.5488,  34.6741,2,   -999.0,9,  34.6766,2,   -999.0,9,  -999.00,9,  -999.00,9,  -999.00,9,  -999.00,9,  -999.00,9, -999.000,9, -999.000,9,  -999.00,9,   -999.0,9,   -999.0,9,-999.0000,9,   -999.0,  9,  -999.00,9,   -999.0,  -999.00,9,  -999.00,9,  -999.00,9,  -999.00,9,   -999.0,-999.0000, -999,9,  397,  15.4866,  25.6130,   -999.0,9
       SH98-06,  NONE,SH-5601,  1,      7, S-1-1-4,2,19980722,2250, 29.9982, 134.7705, 4610,    499.9,  13.1139,  34.4930,2,   -999.0,9,  34.4909,2,   -999.0,9,  -999.00,9,  -999.00,9,  -999.00,9,  -999.00,9,  -999.00,9, -999.000,9, -999.000,9,  -999.00,9,   -999.0,9,   -999.0,9,-999.0000,9,   -999.0,  9,  -999.00,9,   -999.0,  -999.00,9,  -999.00,9,  -999.00,9,  -999.00,9,   -999.0,-999.0000, -999,9,  496,  13.0443,  25.9912,   -999.0,9
       SH98-06,  NONE,SH-5601,  1,      6,02-14892,2,19980722,2249, 29.9982, 134.7705, 4610,    598.9,  10.4671,  34.3124,2,   -999.0,9,  34.3090,2,   -999.0,9,  -999.00,9,  -999.00,9,  -999.00,9,  -999.00,9,  -999.00,9, -999.000,9, -999.000,9,  -999.00,9,   -999.0,9,   -999.0,9,-999.0000,9,   -999.0,  9,  -999.00,9,   -999.0,  -999.00,9,  -999.00,9,  -999.00,9,  -999.00,9,   -999.0,-999.0000, -999,9,  594,  10.3947,  26.3472,   -999.0,9
       SH98-06,  NONE,SH-5601,  1,      5, S-1-1-6,2,19980722,2246, 29.9982, 134.7705, 4610,    800.0,   6.4017,  34.1839,2,   -999.0,9,  34.1848,2,   -999.0,9,  -999.00,9,  -999.00,9,  -999.00,9,  -999.00,9,  -999.00,9, -999.000,9, -999.000,9,  -999.00,9,   -999.0,9,   -999.0,9,-999.0000,9,   -999.0,  9,  -999.00,9,   -999.0,  -999.00,9,  -999.00,9,  -999.00,9,  -999.00,9,   -999.0,-999.0000, -999,9,  793,   6.3281,  26.8658,   -999.0,9
       SH98-06,  NONE,SH-5601,  1,      4, S-1-1-1,2,19980722,2243, 29.9982, 134.7705, 4610,   1003.2,   4.3332,  34.3225,2,   -999.0,9,  34.3161,2,   -999.0,9,  -999.00,9,  -999.00,9,  -999.00,9,  -999.00,9,  -999.00,9, -999.000,9, -999.000,9,  -999.00,9,   -999.0,9,   -999.0,9,-999.0000,9,   -999.0,  9,  -999.00,9,   -999.0,  -999.00,9,  -999.00,9,  -999.00,9,  -999.00,9,   -999.0,-999.0000, -999,9,  994,   4.2550,  27.2205,   -999.0,9
       SH98-06,  NONE,SH-5601,  1,      3,1-133-84,2,19980722,2241, 29.9982, 134.7705, 4610,   1216.7,   3.2503,  34.4263,2,   -999.0,9,  34.4200,2,   -999.0,9,  -999.00,9,  -999.00,9,  -999.00,9,  -999.00,9,  -999.00,9, -999.000,9, -999.000,9,  -999.00,9,   -999.0,9,   -999.0,9,-999.0000,9,   -999.0,  9,  -999.00,9,   -999.0,  -999.00,9,  -999.00,9,  -999.00,9,  -999.00,9,   -999.0,-999.0000, -999,9, 1205,   3.1634,  27.4121,   -999.0,9
       SH98-06,  NONE,SH-5605,  1,     11,S-1-1-11,2,19980723,0834, 31.0063, 135.3023, 4300,     50.6,  21.3347,  34.7858,2,   -999.0,9,  34.8116,4,   -999.0,9,  -999.00,9,  -999.00,9,  -999.00,9,  -999.00,9,  -999.00,9, -999.000,9, -999.000,9,  -999.00,9,   -999.0,9,   -999.0,9,-999.0000,9,   -999.0,  9,  -999.00,9,   -999.0,  -999.00,9,  -999.00,9,  -999.00,9,  -999.00,9,   -999.0,-999.0000, -999,9,   50,  21.3250,  24.2421,   -999.0,9
       SH98-06,  NONE,SH-5605,  1,     10,S-1-1-10,2,19980723,0833, 31.0063, 135.3023, 4300,    100.2,  19.6808,  34.8212,2,   -999.0,9,  34.8252,2,   -999.0,9,  -999.00,9,  -999.00,9,  -999.00,9,  -999.00,9,  -999.00,9, -999.000,9, -999.000,9,  -999.00,9,   -999.0,9,   -999.0,9,-999.0000,9,   -999.0,  9,  -999.00,9,   -999.0,  -999.00,9,  -999.00,9,  -999.00,9,  -999.00,9,   -999.0,-999.0000, -999,9,   99,  19.6626,  24.7137,   -999.0,9
       SH98-06,  NONE,SH-5605,  1,      9, S-1-1-7,2,19980723,0832, 31.0063, 135.3023, 4300,    149.2,  19.2174,  34.8126,2,   -999.0,9,  34.8130,2,   -999.0,9,  -999.00,9,  -999.00,9,  -999.00,9,  -999.00,9,  -999.00,9, -999.000,9, -999.000,9,  -999.00,9,   -999.0,9,   -999.0,9,-999.0000,9,   -999.0,  9,  -999.00,9,   -999.0,  -999.00,9,  -999.00,9,  -999.00,9,  -999.00,9,   -999.0,-999.0000, -999,9,  148,  19.1906,  24.8292,   -999.0,9
       SH98-06,  NONE,SH-5605,  1,      8, S-1-1-9,2,19980723,0831, 31.0063, 135.3023, 4300,    198.8,  19.0257,  34.8130,2,   -999.0,9,  34.8130,2,   -999.0,9,  -999.00,9,  -999.00,9,  -999.00,9,  -999.00,9,  -999.00,9, -999.000,9, -999.000,9,  -999.00,9,   -999.0,9,   -999.0,9,-999.0000,9,   -999.0,  9,  -999.00,9,   -999.0,  -999.00,9,  -999.00,9,  -999.00,9,  -999.00,9,   -999.0,-999.0000, -999,9,  197,  18.9902,  24.8807,   -999.0,9
       SH98-06,  NONE,SH-5605,  1,      7, S-1-1-4,2,19980723,0829, 31.0063, 135.3023, 4300,    299.0,  18.2660,  34.8391,2,   -999.0,9,  34.8479,2,   -999.0,9,  -999.00,9,  -999.00,9,  -999.00,9,  -999.00,9,  -999.00,9, -999.000,9, -999.000,9,  -999.00,9,   -999.0,9,   -999.0,9,-999.0000,9,   -999.0,  9,  -999.00,9,   -999.0,  -999.00,9,  -999.00,9,  -999.00,9,  -999.00,9,   -999.0,-999.0000, -999,9,  297,  18.2140,  25.0959,   -999.0,9
       SH98-06,  NONE,SH-5605,  1,      6,02-14892,2,19980723,0828, 31.0063, 135.3023, 4300,    397.7,  17.2528,  34.8088,2,   -999.0,9,  34.8110,2,   -999.0,9,  -999.00,9,  -999.00,9,  -999.00,9,  -999.00,9,  -999.00,9, -999.000,9, -999.000,9,  -999.00,9,   -999.0,9,   -999.0,9,-999.0000,9,   -999.0,  9,  -999.00,9,   -999.0,  -999.00,9,  -999.00,9,  -999.00,9,  -999.00,9,   -999.0,-999.0000, -999,9,  395,  17.1862,  25.3231,   -999.0,9
       SH98-06,  NONE,SH-5605,  1,      5, S-1-1-6,2,19980723,0826, 31.0063, 135.3023, 4300,    499.2,  15.5917,  34.6817,2,   -999.0,9,  34.6837,2,   -999.0,9,  -999.00,9,  -999.00,9,  -999.00,9,  -999.00,9,  -999.00,9, -999.000,9, -999.000,9,  -999.00,9,   -999.0,9,   -999.0,9,-999.0000,9,   -999.0,  9,  -999.00,9,   -999.0,  -999.00,9,  -999.00,9,  -999.00,9,  -999.00,9,   -999.0,-999.0000, -999,9,  495,  15.5136,  25.6127,   -999.0,9
       SH98-06,  NONE,SH-5605,  1,      4, S-1-1-1,2,19980723,0825, 31.0063, 135.3023, 4300,    598.8,  13.0705,  34.4912,2,   -999.0,9,  34.4934,2,   -999.0,9,  -999.00,9,  -999.00,9,  -999.00,9,  -999.00,9,  -999.00,9, -999.000,9, -999.000,9,  -999.00,9,   -999.0,9,   -999.0,9,-999.0000,9,   -999.0,  9,  -999.00,9,   -999.0,  -999.00,9,  -999.00,9,  -999.00,9,  -999.00,9,   -999.0,-999.0000, -999,9,  594,  12.9870,  26.0012,   -999.0,9
       SH98-06,  NONE,SH-5605,  1,      3,1-133-84,2,19980723,0822, 31.0063, 135.3023, 4300,    800.3,   7.8832,  34.2034,2,   -999.0,9,  34.2013,2,   -999.0,9,  -999.00,9,  -999.00,9,  -999.00,9,  -999.00,9,  -999.00,9, -999.000,9, -999.000,9,  -999.00,9,   -999.0,9,   -999.0,9,-999.0000,9,   -999.0,  9,  -999.00,9,   -999.0,  -999.00,9,  -999.00,9,  -999.00,9,  -999.00,9,   -999.0,-999.0000, -999,9,  793,   7.8007,  26.6776,   -999.0,9
       SH98-06,  NONE,SH-5605,  1,      2, 1-133-1,2,19980723,0820, 31.0063, 135.3023, 4300,   1001.1,   5.1595,  34.2647,2,   -999.0,9,  34.2644,2,   -999.0,9,  -999.00,9,  -999.00,9,  -999.00,9,  -999.00,9,  -999.00,9, -999.000,9, -999.000,9,  -999.00,9,   -999.0,9,   -999.0,9,-999.0000,9,   -999.0,  9,  -999.00,9,   -999.0,  -999.00,9,  -999.00,9,  -999.00,9,  -999.00,9,   -999.0,-999.0000, -999,9,  992,   5.0753,  27.0836,   -999.0,9
       SH98-06,  NONE,SH-5605,  1,      1, 1-133-2,2,19980723,0817, 31.0063, 135.3023, 4300,   1213.2,   3.7446,  34.4045,2,   -999.0,9,  34.4015,2,   -999.0,9,  -999.00,9,  -999.00,9,  -999.00,9,  -999.00,9,  -999.00,9, -999.000,9, -999.000,9,  -999.00,9,   -999.0,9,   -999.0,9,-999.0000,9,   -999.0,  9,  -999.00,9,   -999.0,  -999.00,9,  -999.00,9,  -999.00,9,  -999.00,9,   -999.0,-999.0000, -999,9, 1201,   3.6534,  27.3476,   -999.0,9
       SH98-06,  137E,SH-5612,  1,      8, S-1-1-9,2,19980723,2357, 32.7560, 136.2987, 4520,     49.0,  23.3231,  34.7333,2,   -999.0,9,  34.7192,4,   -999.0,9,  -999.00,9,  -999.00,9,  -999.00,9,  -999.00,9,  -999.00,9, -999.000,9, -999.000,9,  -999.00,9,   -999.0,9,   -999.0,9,-999.0000,9,   -999.0,  9,  -999.00,9,   -999.0,  -999.00,9,  -999.00,9,  -999.00,9,  -999.00,9,   -999.0,-999.0000, -999,9,   49,  23.3131,  23.6408,   -999.0,9
       SH98-06,  137E,SH-5612,  1,      7, S-1-1-4,2,19980723,2356, 32.7560, 136.2987, 4520,     99.2,  19.7664,  34.8551,2,   -999.0,9,  34.8465,2,   -999.0,9,  -999.00,9,  -999.00,9,  -999.00,9,  -999.00,9,  -999.00,9, -999.000,9, -999.000,9,  -999.00,9,   -999.0,9,   -999.0,9,-999.0000,9,   -999.0,  9,  -999.00,9,   -999.0,  -999.00,9,  -999.00,9,  -999.00,9,  -999.00,9,   -999.0,-999.0000, -999,9,   98,  19.7482,  24.7173,   -999.0,9
       SH98-06,  137E,SH-5612,  1,      6,02-14892,2,19980723,2354, 32.7560, 136.2987, 4520,    149.8,  18.9425,  34.8455,2,   -999.0,9,  34.8461,2,   -999.0,9,  -999.00,9,  -999.00,9,  -999.00,9,  -999.00,9,  -999.00,9, -999.000,9, -999.000,9,  -999.00,9,   -999.0,9,   -999.0,9,-999.0000,9,   -999.0,  9,  -999.00,9,   -999.0,  -999.00,9,  -999.00,9,  -999.00,9,  -999.00,9,   -999.0,-999.0000, -999,9,  149,  18.9158,  24.9245,   -999.0,9
       SH98-06,  137E,SH-5612,  1,      5, S-1-1-6,2,19980723,2353, 32.7560, 136.2987, 4520,    201.4,  17.8725,  34.8274,2,   -999.0,9,  34.8292,2,   -999.0,9,  -999.00,9,  -999.00,9,  -999.00,9,  -999.00,9,  -999.00,9, -999.000,9, -999.000,9,  -999.00,9,   -999.0,9,   -999.0,9,-999.0000,9,   -999.0,  9,  -999.00,9,   -999.0,  -999.00,9,  -999.00,9,  -999.00,9,  -999.00,9,   -999.0,-999.0000, -999,9,  200,  17.8381,  25.1796,   -999.0,9
       SH98-06,  137E,SH-5612,  1,      4, S-1-1-1,2,19980723,2351, 32.7560, 136.2987, 4520,    298.3,  16.0425,  34.7063,2,   -999.0,9,  34.7066,2,   -999.0,9,  -999.00,9,  -999.00,9,  -999.00,9,  -999.00,9,  -999.00,9, -999.000,9, -999.000,9,  -999.00,9,   -999.0,9,   -999.0,9,-999.0000,9,   -999.0,  9,  -999.00,9,   -999.0,  -999.00,9,  -999.00,9,  -999.00,9,  -999.00,9,   -999.0,-999.0000, -999,9,  296,  15.9952,  25.5228,   -999.0,9
       SH98-06,  137E,SH-5612,  1,      3,1-133-84,2,19980723,2349, 32.7560, 136.2987, 4520,    398.7,  13.5426,  34.5132,2,   -999.0,9,  34.5190,2,   -999.0,9,  -999.00,9,  -999.00,9,  -999.00,9,  -999.00,9,  -999.00,9, -999.000,9, -999.000,9,  -999.00,9,   -999.0,9,   -999.0,9,-999.0000,9,   -999.0,  9,  -999.00,9,   -999.0,  -999.00,9,  -999.00,9,  -999.00,9,  -999.00,9,   -999.0,-999.0000, -999,9,  395,  13.4861,  25.9173,   -999.0,9
       SH98-06,  137E,SH-5612,  1,      2, 1-133-1,2,19980723,2348, 32.7560, 136.2987, 4520,    501.2,  10.4390,  34.3083,2,   -999.0,9,  34.3106,2,   -999.0,9,  -999.00,9,  -999.00,9,  -999.00,9,  -999.00,9,  -999.00,9, -999.000,9, -999.000,9,  -999.00,9,   -999.0,9,   -999.0,9,-999.0000,9,   -999.0,  9,  -999.00,9,   -999.0,  -999.00,9,  -999.00,9,  -999.00,9,  -999.00,9,   -999.0,-999.0000, -999,9,  497,  10.3789,  26.3467,   -999.0,9
       SH98-06,  137E,SH-5612,  1,      1, 1-133-2,2,19980723,2346, 32.7560, 136.2987, 4520,    601.0,   8.1956,  34.2456,2,   -999.0,9,  34.2213,4,   -999.0,9,  -999.00,9,  -999.00,9,  -999.00,9,  -999.00,9,  -999.00,9, -999.000,9, -999.000,9,  -999.00,9,   -999.0,9,   -999.0,9,-999.0000,9,   -999.0,  9,  -999.00,9,   -999.0,  -999.00,9,  -999.00,9,  -999.00,9,  -999.00,9,   -999.0,-999.0000, -999,9,  596,   8.1330,  26.6615,   -999.0,9
       SH98-06,  137E,SH-5612,  1,     12, S-1-1-8,2,19980723,2344, 32.7560, 136.2987, 4520,    799.7,   5.1210,  34.2616,2,   -999.0,9,  34.2565,2,   -999.0,9,  -999.00,9,  -999.00,9,  -999.00,9,  -999.00,9,  -999.00,9, -999.000,9, -999.000,9,  -999.00,9,   -999.0,9,   -999.0,9,-999.0000,9,   -999.0,  9,  -999.00,9,   -999.0,  -999.00,9,  -999.00,9,  -999.00,9,  -999.00,9,   -999.0,-999.0000, -999,9,  793,   5.0551,  27.0835,   -999.0,9
       SH98-06,  137E,SH-5612,  1,     11,S-1-1-11,2,19980723,2341, 32.7560, 136.2987, 4520,   1003.9,   3.7549,  34.4104,2,   -999.0,9,  34.4011,2,   -999.0,9,  -999.00,9,  -999.00,9,  -999.00,9,  -999.00,9,  -999.00,9, -999.000,9, -999.000,9,  -999.00,9,   -999.0,9,   -999.0,9,-999.0000,9,   -999.0,  9,  -999.00,9,   -999.0,  -999.00,9,  -999.00,9,  -999.00,9,  -999.00,9,   -999.0,-999.0000, -999,9,  994,   3.6809,  27.3495,   -999.0,9
       SH98-06,  137E,SH-5612,  1,     10,S-1-1-10,2,19980723,2338, 32.7560, 136.2987, 4520,   1227.7,   2.9875,  34.4691,2,   -999.0,9,  34.3702,4,   -999.0,9,  -999.00,9,  -999.00,9,  -999.00,9,  -999.00,9,  -999.00,9, -999.000,9, -999.000,9,  -999.00,9,   -999.0,9,   -999.0,9,-999.0000,9,   -999.0,  9,  -999.00,9,   -999.0,  -999.00,9,  -999.00,9,  -999.00,9,  -999.00,9,   -999.0,-999.0000, -999,9, 1215,   2.9022,  27.4702,   -999.0,9