BOTTLE,20130510GEMDJMAYT
EXPOCODE,SECT_ID,STNNBR,CASTNO,SAMPNO,BTLNBR,BTLNBR_FLAG_W,DATE,TIME,LATITUDE,LONGITUDE,DEPTH,CTDPRS,CTDTMP,CTDSAL,CTDSAL_FLAG_W,CTDOXY,CTDOXY_FLAG_W,SALNTY,SALNTY_FLAG_W,OXYGEN,OXYGEN_FLAG_W,SILCAT,SILCAT_FLAG_W,NITRAT,NITRAT_FLAG_W,NO2+NO3,NO2+NO3_FLAG_W,NITRIT,NITRIT_FLAG_W,PHSPHT,PHSPHT_FLAG_W,CFC-11,CFC-11_FLAG_W,CFC-12,CFC-12_FLAG_W,DELC13,DELC13_FLAG_W,TCARBN,TCARBN_FLAG_W,ALKALI,ALKALI_FLAG_W,PH,PH_FLAG_W,PH_TMP,PH_SCALE,PH_NBS,PH_NBS_FLAG_W,C13ERR,TOTALP,TOTALP_FLAG_W,AMMONI,AMMONI_FLAG_W,CHLORA,CHLORA_FLAG_W,PPHYTN,PPHYTN_FLAG_W,REVPRS,REVTMP,DEPTH_,DEPTH_FLAG,CTDDEP,THETA,SIGTHT,DOC,DOC_FLAG_W
,,,,,,,GMT,GMT,,,METER,DBAR,ITS-90,PSS-78,,UMOL/KG,,PSS-78,,UMOL/KG,,UMOL/KG,,UMOL/KG,,UMOL/KG,,UMOL/KG,,UMOL/KG,,PMOL/KG,,PMOL/KG,,/MILLE,,UMOL/KG,,UMOL/KG,,25_DEG_C,,DEG_C,,,,/MILLE,UMOL/KG,,UMOL/KG,,UG/L,,UG/L,,DBAR,ITS-90,METERS,,METERS,DEG_C,,UMOL/L,
       SH98-06,  NONE,SH-5577,  5,      5, S-1-1-6,2,19980711,1328, 29.5322, 135.2233, 4470,   1006.4,   4.2276,  34.3161,2,   -999.0,9,-999.0000,9,   -999.0,9,  -999.00,9,  -999.00,9,  -999.00,9,  -999.00,9,  -999.00,9, -999.000,9, -999.000,9,  -999.00,9,   -999.0,9,   -999.0,9,-999.0000,9,   -999.0,  9,  -999.00,9,   -999.0,  -999.00,9,  -999.00,9,  -999.00,9,  -999.00,9,   -999.0,-999.0000, -999,9,  997,   4.1500,  27.2265,   -999.0,9
       SH98-06,  NONE,SH-5577,  5,      4, S-1-1-1,2,19980711,1327, 29.5322, 135.2233, 4470,   1006.6,   4.2291,  34.3190,2,   -999.0,9,-999.0000,9,   -999.0,9,  -999.00,9,  -999.00,9,  -999.00,9,  -999.00,9,  -999.00,9, -999.000,9, -999.000,9,  -999.00,9,   -999.0,9,   -999.0,9,-999.0000,9,   -999.0,  9,  -999.00,9,   -999.0,  -999.00,9,  -999.00,9,  -999.00,9,  -999.00,9,   -999.0,-999.0000, -999,9,  997,   4.1515,  27.2287,   -999.0,9
       SH98-06,  NONE,SH-5577,  5,      3,1-133-84,2,19980711,1327, 29.5322, 135.2233, 4470,   1006.3,   4.2278,  34.3177,2,   -999.0,9,-999.0000,9,   -999.0,9,  -999.00,9,  -999.00,9,  -999.00,9,  -999.00,9,  -999.00,9, -999.000,9, -999.000,9,  -999.00,9,   -999.0,9,   -999.0,9,-999.0000,9,   -999.0,  9,  -999.00,9,   -999.0,  -999.00,9,  -999.00,9,  -999.00,9,  -999.00,9,   -999.0,-999.0000, -999,9,  997,   4.1502,  27.2278,   -999.0,9
       SH98-06,  NONE,SH-5577,  5,      2, 1-133-1,2,19980711,1326, 29.5322, 135.2233, 4470,   1006.1,   4.2260,  34.3134,2,   -999.0,9,-999.0000,9,   -999.0,9,  -999.00,9,  -999.00,9,  -999.00,9,  -999.00,9,  -999.00,9, -999.000,9, -999.000,9,  -999.00,9,   -999.0,9,   -999.0,9,-999.0000,9,   -999.0,  9,  -999.00,9,   -999.0,  -999.00,9,  -999.00,9,  -999.00,9,  -999.00,9,   -999.0,-999.0000, -999,9,  997,   4.1484,  27.2245,   -999.0,9
       SH98-06,  NONE,SH-5577,  5,      1, 1-133-2,2,19980711,1326, 29.5322, 135.2233, 4470,   1005.2,   4.2275,  34.3133,2,   -999.0,9,-999.0000,9,   -999.0,9,  -999.00,9,  -999.00,9,  -999.00,9,  -999.00,9,  -999.00,9, -999.000,9, -999.000,9,  -999.00,9,   -999.0,9,   -999.0,9,-999.0000,9,   -999.0,  9,  -999.00,9,   -999.0,  -999.00,9,  -999.00,9,  -999.00,9,  -999.00,9,   -999.0,-999.0000, -999,9,  996,   4.1499,  27.2243,   -999.0,9
       SH98-06,  NONE,SH-5577,  5,     12, S-1-1-8,2,19980711,1325, 29.5322, 135.2233, 4470,   1007.1,   4.2321,  34.3139,2,   -999.0,9,-999.0000,9,   -999.0,9,  -999.00,9,  -999.00,9,  -999.00,9,  -999.00,9,  -999.00,9, -999.000,9, -999.000,9,  -999.00,9,   -999.0,9,   -999.0,9,-999.0000,9,   -999.0,  9,  -999.00,9,   -999.0,  -999.00,9,  -999.00,9,  -999.00,9,  -999.00,9,   -999.0,-999.0000, -999,9,  998,   4.1544,  27.2243,   -999.0,9
       SH98-06,  NONE,SH-5577,  5,     11,S-1-1-11,2,19980711,1325, 29.5322, 135.2233, 4470,   1007.4,   4.2340,  34.3120,2,   -999.0,9,-999.0000,9,   -999.0,9,  -999.00,9,  -999.00,9,  -999.00,9,  -999.00,9,  -999.00,9, -999.000,9, -999.000,9,  -999.00,9,   -999.0,9,   -999.0,9,-999.0000,9,   -999.0,  9,  -999.00,9,   -999.0,  -999.00,9,  -999.00,9,  -999.00,9,  -999.00,9,   -999.0,-999.0000, -999,9,  998,   4.1562,  27.2226,   -999.0,9
       SH98-06,  NONE,SH-5577,  5,     10,S-1-1-10,2,19980711,1325, 29.5322, 135.2233, 4470,   1007.0,   4.2356,  34.3152,2,   -999.0,9,-999.0000,9,   -999.0,9,  -999.00,9,  -999.00,9,  -999.00,9,  -999.00,9,  -999.00,9, -999.000,9, -999.000,9,  -999.00,9,   -999.0,9,   -999.0,9,-999.0000,9,   -999.0,  9,  -999.00,9,   -999.0,  -999.00,9,  -999.00,9,  -999.00,9,  -999.00,9,   -999.0,-999.0000, -999,9,  998,   4.1579,  27.2249,   -999.0,9
       SH98-06,  NONE,SH-5577,  5,      9, S-1-1-7,2,19980711,1324, 29.5322, 135.2233, 4470,   1007.6,   4.2368,  34.3124,2,   -999.0,9,-999.0000,9,   -999.0,9,  -999.00,9,  -999.00,9,  -999.00,9,  -999.00,9,  -999.00,9, -999.000,9, -999.000,9,  -999.00,9,   -999.0,9,   -999.0,9,-999.0000,9,   -999.0,  9,  -999.00,9,   -999.0,  -999.00,9,  -999.00,9,  -999.00,9,  -999.00,9,   -999.0,-999.0000, -999,9,  998,   4.1590,  27.2226,   -999.0,9
       SH98-06,  NONE,SH-5577,  5,      8, S-1-1-9,2,19980711,1324, 29.5322, 135.2233, 4470,   1008.1,   4.2499,  34.3188,2,   -999.0,9,-999.0000,9,   -999.0,9,  -999.00,9,  -999.00,9,  -999.00,9,  -999.00,9,  -999.00,9, -999.000,9, -999.000,9,  -999.00,9,   -999.0,9,   -999.0,9,-999.0000,9,   -999.0,  9,  -999.00,9,   -999.0,  -999.00,9,  -999.00,9,  -999.00,9,  -999.00,9,   -999.0,-999.0000, -999,9,  999,   4.1719,  27.2263,   -999.0,9
       SH98-06,  NONE,SH-5577,  5,      7, S-1-1-4,2,19980711,1323, 29.5322, 135.2233, 4470,   1008.4,   4.2508,  34.3182,2,   -999.0,9,-999.0000,9,   -999.0,9,  -999.00,9,  -999.00,9,  -999.00,9,  -999.00,9,  -999.00,9, -999.000,9, -999.000,9,  -999.00,9,   -999.0,9,   -999.0,9,-999.0000,9,   -999.0,  9,  -999.00,9,   -999.0,  -999.00,9,  -999.00,9,  -999.00,9,  -999.00,9,   -999.0,-999.0000, -999,9,  999,   4.1728,  27.2258,   -999.0,9
       SH98-06,  NONE,SH-5577,  5,      6,02-14892,2,19980711,1323, 29.5322, 135.2233, 4470,   1009.0,   4.2611,  34.3216,2,   -999.0,9,-999.0000,9,   -999.0,9,  -999.00,9,  -999.00,9,  -999.00,9,  -999.00,9,  -999.00,9, -999.000,9, -999.000,9,  -999.00,9,   -999.0,9,   -999.0,9,-999.0000,9,   -999.0,  9,  -999.00,9,   -999.0,  -999.00,9,  -999.00,9,  -999.00,9,  -999.00,9,   -999.0,-999.0000, -999,9, 1000,   4.1830,  27.2274,   -999.0,9
       SH98-06,  NONE,SH-5579,  2,     -9,      -9,5,19980712,0547, 28.6622, 134.5137, 4070,      0.0,  28.7320,  34.1914,2,   -999.0,9,-999.0000,9,    202.2,2,  -999.00,9,  -999.00,9,     0.00,2,     0.00,2,     0.01,2, -999.000,9, -999.000,9,  -999.00,9,   -999.0,9,   -999.0,9,-999.0000,9,   -999.0,  9,     8.21,2,   -999.0,  -999.00,9,  -999.00,9,     0.04,2,     0.01,2,   -999.0,-999.0000, -999,9,    0,  28.7320,  21.5461,   -999.0,9
       SH98-06,  NONE,SH-5579,  2,      8, S-1-1-9,2,19980712,0546, 28.6622, 134.5137, 4070,     11.8,  28.6877,  34.1869,2,   -999.0,9,  34.2038,2,    202.0,2,  -999.00,9,  -999.00,9,     0.00,2,     0.00,2,     0.01,2, -999.000,9, -999.000,9,  -999.00,9,   -999.0,9,   -999.0,9,-999.0000,9,   -999.0,  9,     8.21,2,   -999.0,  -999.00,9,  -999.00,9,     0.04,2,     0.02,2,   -999.0,-999.0000, -999,9,   12,  28.6849,  21.5583,   -999.0,9
       SH98-06,  NONE,SH-5579,  2,      7, S-1-1-4,2,19980712,0545, 28.6622, 134.5137, 4070,     27.3,  25.1030,  34.2711,2,   -999.0,9,  34.2498,4,    215.9,2,  -999.00,9,  -999.00,9,     0.00,2,     0.00,2,     0.00,2, -999.000,9, -999.000,9,  -999.00,9,   -999.0,9,   -999.0,9,-999.0000,9,   -999.0,  9,     8.20,2,   -999.0,  -999.00,9,  -999.00,9,     0.04,2,     0.01,2,   -999.0,-999.0000, -999,9,   27,  25.0971,  22.7610,   -999.0,9
       SH98-06,  NONE,SH-5579,  2,      6,02-14892,2,19980712,0544, 28.6622, 134.5137, 4070,     51.8,  22.7782,  34.7612,2,   -999.0,9,  34.7850,4,    227.5,2,  -999.00,9,  -999.00,9,     0.00,2,     0.00,2,     0.00,2, -999.000,9, -999.000,9,  -999.00,9,   -999.0,9,   -999.0,9,-999.0000,9,   -999.0,  9,     8.20,2,   -999.0,  -999.00,9,  -999.00,9,     0.10,2,     0.05,2,   -999.0,-999.0000, -999,9,   51,  22.7678,  23.8191,   -999.0,9
       SH98-06,  NONE,SH-5579,  2,      5, S-1-1-6,2,19980712,0543, 28.6622, 134.5137, 4070,     75.8,  21.5621,  34.7998,2,   -999.0,9,-999.0000,4,    225.3,2,  -999.00,9,  -999.00,9,     0.10,2,     0.00,2,     0.00,2, -999.000,9, -999.000,9,  -999.00,9,   -999.0,9,   -999.0,9,-999.0000,9,   -999.0,  9,     8.19,2,   -999.0,  -999.00,9,  -999.00,9,     0.14,2,     0.09,2,   -999.0,-999.0000, -999,9,   75,  21.5474,  24.1915,   -999.0,9
       SH98-06,  NONE,SH-5579,  2,      4, S-1-1-1,2,19980712,0542, 28.6622, 134.5137, 4070,    101.5,  20.6622,  34.8339,2,   -999.0,9,  34.8398,2,    207.0,2,  -999.00,9,  -999.00,9,     0.78,2,     0.15,2,     0.04,2, -999.000,9, -999.000,9,  -999.00,9,   -999.0,9,   -999.0,9,-999.0000,9,   -999.0,  9,     8.15,2,   -999.0,  -999.00,9,  -999.00,9,     0.25,2,     0.57,2,   -999.0,-999.0000, -999,9,  101,  20.6431,  24.4639,   -999.0,9
       SH98-06,  NONE,SH-5579,  2,      3,1-133-84,2,19980712,0541, 28.6622, 134.5137, 4070,    126.0,  20.1031,  34.8651,2,   -999.0,9,  34.8899,4,    189.4,2,  -999.00,9,  -999.00,9,     2.93,2,     0.03,2,     0.16,2, -999.000,9, -999.000,9,  -999.00,9,   -999.0,9,   -999.0,9,-999.0000,9,   -999.0,  9,     8.11,2,   -999.0,  -999.00,9,  -999.00,9,     0.09,2,     0.22,2,   -999.0,-999.0000, -999,9,  125,  20.0797,  24.6378,   -999.0,9
       SH98-06,  NONE,SH-5579,  2,      2, 1-133-1,2,19980712,0540, 28.6622, 134.5137, 4070,    151.5,  19.3820,  34.8714,2,   -999.0,9,  34.8787,2,    195.3,2,  -999.00,9,  -999.00,9,     3.12,2,     0.03,2,     0.15,2, -999.000,9, -999.000,9,  -999.00,9,   -999.0,9,   -999.0,9,-999.0000,9,   -999.0,  9,     8.11,2,   -999.0,  -999.00,9,  -999.00,9,     0.04,2,     0.11,2,   -999.0,-999.0000, -999,9,  150,  19.3547,  24.8319,   -999.0,9
       SH98-06,  NONE,SH-5579,  2,      1, 1-133-2,2,19980712,0539, 28.6622, 134.5137, 4070,    200.8,  18.4320,  34.8572,2,   -999.0,9,  34.8633,2,    197.7,2,  -999.00,9,  -999.00,9,     4.00,2,     0.02,2,     0.20,2, -999.000,9, -999.000,9,  -999.00,9,   -999.0,9,   -999.0,9,-999.0000,9,   -999.0,  9,     8.10,2,   -999.0,  -999.00,9,  -999.00,9,     0.01,2,     0.03,2,   -999.0,-999.0000, -999,9,  199,  18.3970,  25.0642,   -999.0,9
       SH98-06,  NONE,SH-5579,  2,     12, S-1-1-8,2,19980712,0538, 28.6622, 134.5137, 4070,    250.4,  17.4961,  34.8217,2,   -999.0,9,  34.8278,2,    196.6,2,  -999.00,9,  -999.00,9,     5.27,2,     0.01,2,     0.28,2, -999.000,9, -999.000,9,  -999.00,9,   -999.0,9,   -999.0,9,-999.0000,9,   -999.0,  9,     8.08,2,   -999.0,  -999.00,9,  -999.00,9,     0.01,2,     0.01,2,   -999.0,-999.0000, -999,9,  249,  17.4539,  25.2686,   -999.0,9
       SH98-06,  NONE,SH-5579,  2,     11,S-1-1-11,2,19980712,0537, 28.6622, 134.5137, 4070,    300.3,  16.7315,  34.7763,2,   -999.0,9,  34.7848,2,    196.8,2,  -999.00,9,  -999.00,9,     6.73,2,     0.01,2,     0.37,2, -999.000,9, -999.000,9,  -999.00,9,   -999.0,9,   -999.0,9,-999.0000,9,   -999.0,  9,     8.06,2,   -999.0,  -999.00,9,  -999.00,9,     0.00,2,     0.02,2,   -999.0,-999.0000, -999,9,  298,  16.6824,  25.4175,   -999.0,9
       SH98-06,  NONE,SH-5579,  2,     10,S-1-1-10,2,19980712,0535, 28.6622, 134.5137, 4070,    402.0,  14.5066,  34.5968,2,   -999.0,9,  34.6069,2,    186.7,2,  -999.00,9,  -999.00,9,    11.02,2,     0.01,2,     0.63,2, -999.000,9, -999.000,9,  -999.00,9,   -999.0,9,   -999.0,9,-999.0000,9,   -999.0,  9,     8.00,2,   -999.0,  -999.00,9,  -999.00,9,  -999.00,9,  -999.00,9,   -999.0,-999.0000, -999,9,  399,  14.4469,  25.7808,   -999.0,9
       SH98-06,  NONE,SH-5579,  1,      8, S-1-1-9,2,19980712,0459, 28.6653, 134.4817, 3810,    498.3,  12.4393,  34.4455,2,   -999.0,9,  34.4434,2,    180.4,2,  -999.00,9,  -999.00,9,    15.30,2,     0.01,2,     0.93,2, -999.000,9, -999.000,9,  -999.00,9,   -999.0,9,   -999.0,9,-999.0000,9,   -999.0,  9,     7.92,2,   -999.0,  -999.00,9,  -999.00,9,  -999.00,9,  -999.00,9,   -999.0,-999.0000, -999,9,  494,  12.3723,  26.0869,   -999.0,9
       SH98-06,  NONE,SH-5579,  1,      7, S-1-1-4,2,19980712,0457, 28.6653, 134.4817, 3810,    598.8,   9.7485,  34.2835,2,   -999.0,9,  34.2805,2,    153.8,2,  -999.00,9,  -999.00,9,    22.41,2,     0.01,2,     1.45,2, -999.000,9, -999.000,9,  -999.00,9,   -999.0,9,   -999.0,9,-999.0000,9,   -999.0,  9,     7.81,2,   -999.0,  -999.00,9,  -999.00,9,  -999.00,9,  -999.00,9,   -999.0,-999.0000, -999,9,  594,   9.6793,  26.4464,   -999.0,9
       SH98-06,  NONE,SH-5579,  1,      6,02-14892,2,19980712,0455, 28.6653, 134.4817, 3810,    698.7,   7.7011,  34.2131,2,   -999.0,9,  34.2086,2,    128.1,2,  -999.00,9,  -999.00,9,    28.54,2,     0.00,2,     1.92,2, -999.000,9, -999.000,9,  -999.00,9,   -999.0,9,   -999.0,9,-999.0000,9,   -999.0,  9,     7.71,2,   -999.0,  -999.00,9,  -999.00,9,  -999.00,9,  -999.00,9,   -999.0,-999.0000, -999,9,  693,   7.6305,  26.7100,   -999.0,9
       SH98-06,  NONE,SH-5579,  1,      5, S-1-1-6,2,19980712,0453, 28.6653, 134.4817, 3810,    798.5,   5.8908,  34.2155,2,   -999.0,9,  34.2089,2,     98.1,2,  -999.00,9,  -999.00,9,    34.28,2,     0.00,2,     2.36,2, -999.000,9, -999.000,9,  -999.00,9,   -999.0,9,   -999.0,9,-999.0000,9,   -999.0,  9,     7.62,2,   -999.0,  -999.00,9,  -999.00,9,  -999.00,9,  -999.00,9,   -999.0,-999.0000, -999,9,  792,   5.8204,  26.9553,   -999.0,9
       SH98-06,  NONE,SH-5579,  1,      4, S-1-1-1,2,19980712,0451, 28.6653, 134.4817, 3810,    898.7,   4.7271,  34.3071,2,   -999.0,9,  34.2972,2,     75.0,2,  -999.00,9,  -999.00,9,    38.07,2,     0.00,2,     2.64,2, -999.000,9, -999.000,9,  -999.00,9,   -999.0,9,   -999.0,9,-999.0000,9,   -999.0,  9,     7.57,2,   -999.0,  -999.00,9,  -999.00,9,  -999.00,9,  -999.00,9,   -999.0,-999.0000, -999,9,  891,   4.6551,  27.1649,   -999.0,9
       SH98-06,  NONE,SH-5579,  1,      3,1-133-84,2,19980712,0449, 28.6653, 134.4817, 3810,   1000.1,   4.0705,  34.3741,2,   -999.0,9,  34.3580,2,     69.4,2,  -999.00,9,  -999.00,9,    39.81,2,     0.00,2,     2.77,2, -999.000,9, -999.000,9,  -999.00,9,   -999.0,9,   -999.0,9,-999.0000,9,   -999.0,  9,     7.55,2,   -999.0,  -999.00,9,  -999.00,9,  -999.00,9,  -999.00,9,   -999.0,-999.0000, -999,9,  991,   3.9945,  27.2888,   -999.0,9
       SH98-06,  NONE,SH-5579,  1,      2, 1-133-1,2,19980712,0446, 28.6653, 134.4817, 3810,   1201.3,   3.1491,  34.4614,2,   -999.0,9,  34.4519,2,     66.1,2,  -999.00,9,  -999.00,9,    40.98,2,     0.00,2,     2.90,2, -999.000,9, -999.000,9,  -999.00,9,   -999.0,9,   -999.0,9,-999.0000,9,   -999.0,  9,     7.54,2,   -999.0,  -999.00,9,  -999.00,9,  -999.00,9,  -999.00,9,   -999.0,-999.0000, -999,9, 1190,   3.0643,  27.4492,   -999.0,9
       SH98-06,  NONE,SH-5579,  1,      1, 1-133-2,2,19980712,0442, 28.6653, 134.4817, 3810,   1503.3,   2.5032,  34.5436,2,   -999.0,9,  34.5326,2,   -999.0,9,  -999.00,9,  -999.00,9,  -999.00,9,  -999.00,9,  -999.00,9, -999.000,9, -999.000,9,  -999.00,9,   -999.0,9,   -999.0,9,-999.0000,9,   -999.0,  9,  -999.00,9,   -999.0,  -999.00,9,  -999.00,9,  -999.00,9,  -999.00,9,   -999.0,-999.0000, -999,9, 1488,   2.4009,  27.5733,   -999.0,9
       SH98-06,  NONE,SH-5579,  1,     12, S-1-1-8,2,19980712,0436, 28.6653, 134.4817, 3810,   2010.5,   1.9592,  34.6260,2,   -999.0,9,  34.6090,2,   -999.0,9,  -999.00,9,  -999.00,9,  -999.00,9,  -999.00,9,  -999.00,9, -999.000,9, -999.000,9,  -999.00,9,   -999.0,9,   -999.0,9,-999.0000,9,   -999.0,  9,  -999.00,9,   -999.0,  -999.00,9,  -999.00,9,  -999.00,9,  -999.00,9,   -999.0,-999.0000, -999,9, 1987,   1.8225,  27.6859,   -999.0,9
       SH98-06,  NONE,SH-5579,  1,     11,S-1-1-11,2,19980712,0430, 28.6653, 134.4817, 3810,   2518.1,   1.6854,  34.6681,2,   -999.0,9,  34.6486,2,   -999.0,9,  -999.00,9,  -999.00,9,  -999.00,9,  -999.00,9,  -999.00,9, -999.000,9, -999.000,9,  -999.00,9,   -999.0,9,   -999.0,9,-999.0000,9,   -999.0,  9,  -999.00,9,   -999.0,  -999.00,9,  -999.00,9,  -999.00,9,  -999.00,9,   -999.0,-999.0000, -999,9, 2486,   1.5093,  27.7432,   -999.0,9
       SH98-06,  NONE,SH-5579,  1,     10,S-1-1-10,2,19980712,0424, 28.6653, 134.4817, 3810,   3029.9,   1.5513,  34.6905,2,   -999.0,9,  34.2837,4,   -999.0,9,  -999.00,9,  -999.00,9,  -999.00,9,  -999.00,9,  -999.00,9, -999.000,9, -999.000,9,  -999.00,9,   -999.0,9,   -999.0,9,-999.0000,9,   -999.0,  9,  -999.00,9,   -999.0,  -999.00,9,  -999.00,9,  -999.00,9,  -999.00,9,   -999.0,-999.0000, -999,9, 2988,   1.3305,  27.7740,   -999.0,9
       SH98-06,  NONE,SH-5579,  1,      9, S-1-1-7,2,19980712,0414, 28.6653, 134.4817, 3810,   3739.8,   1.5235,  34.7028,2,   -999.0,9,  34.6177,4,   -999.0,9,  -999.00,9,  -999.00,9,  -999.00,9,  -999.00,9,  -999.00,9, -999.000,9, -999.000,9,  -999.00,9,   -999.0,9,   -999.0,9,-999.0000,9,   -999.0,  9,  -999.00,9,   -999.0,  -999.00,9,  -999.00,9,  -999.00,9,  -999.00,9,   -999.0,-999.0000, -999,9, 3682,   1.2317,  27.7908,   -999.0,9