BOTTLE,20130510GEMDJMAYT
EXPOCODE,SECT_ID,STNNBR,CASTNO,SAMPNO,BTLNBR,BTLNBR_FLAG_W,DATE,TIME,LATITUDE,LONGITUDE,DEPTH,CTDPRS,CTDTMP,CTDSAL,CTDSAL_FLAG_W,CTDOXY,CTDOXY_FLAG_W,SALNTY,SALNTY_FLAG_W,OXYGEN,OXYGEN_FLAG_W,SILCAT,SILCAT_FLAG_W,NITRAT,NITRAT_FLAG_W,NO2+NO3,NO2+NO3_FLAG_W,NITRIT,NITRIT_FLAG_W,PHSPHT,PHSPHT_FLAG_W,CFC-11,CFC-11_FLAG_W,CFC-12,CFC-12_FLAG_W,DELC13,DELC13_FLAG_W,TCARBN,TCARBN_FLAG_W,ALKALI,ALKALI_FLAG_W,PH,PH_FLAG_W,PH_TMP,PH_SCALE,PH_NBS,PH_NBS_FLAG_W,C13ERR,TOTALP,TOTALP_FLAG_W,AMMONI,AMMONI_FLAG_W,CHLORA,CHLORA_FLAG_W,PPHYTN,PPHYTN_FLAG_W,REVPRS,REVTMP,DEPTH_,DEPTH_FLAG,CTDDEP,THETA,SIGTHT,DOC,DOC_FLAG_W
,,,,,,,GMT,GMT,,,METER,DBAR,ITS-90,PSS-78,,UMOL/KG,,PSS-78,,UMOL/KG,,UMOL/KG,,UMOL/KG,,UMOL/KG,,UMOL/KG,,UMOL/KG,,PMOL/KG,,PMOL/KG,,/MILLE,,UMOL/KG,,UMOL/KG,,25_DEG_C,,DEG_C,,,,/MILLE,UMOL/KG,,UMOL/KG,,UG/L,,UG/L,,DBAR,ITS-90,METERS,,METERS,DEG_C,,UMOL/L,
       SH98-06,  NONE,SH-5582,  2,     -9,      -9,5,19980713,0245, 29.9307, 132.9622, 3870,      0.0,  28.4060,  34.1510,2,   -999.0,9,-999.0000,9,    202.6,2,  -999.00,9,  -999.00,9,     0.00,2,     0.00,2,     0.01,2, -999.000,9, -999.000,9,  -999.00,9,   -999.0,9,   -999.0,9,-999.0000,9,   -999.0,  9,  -999.00,9,   -999.0,  -999.00,9,  -999.00,9,     0.05,2,     0.02,2,   -999.0,-999.0000, -999,9,    0,  28.4060,  21.6234,   -999.0,9
       SH98-06,  NONE,SH-5582,  2,      5, S-1-1-6,2,19980713,0244, 29.9307, 132.9622, 3870,     12.1,  28.0793,  34.1401,2,   -999.0,9,-999.0000,9,    202.9,2,  -999.00,9,  -999.00,9,     0.00,2,     0.00,2,     0.01,2, -999.000,9, -999.000,9,  -999.00,9,   -999.0,9,   -999.0,9,-999.0000,9,   -999.0,  9,  -999.00,9,   -999.0,  -999.00,9,  -999.00,9,     0.05,2,     0.02,2,   -999.0,-999.0000, -999,9,   12,  28.0765,  21.7232,   -999.0,9
       SH98-06,  NONE,SH-5582,  2,      4, S-1-1-1,2,19980713,0243, 29.9307, 132.9622, 3870,     26.9,  26.5756,  34.1515,2,   -999.0,9,-999.0000,9,    210.9,2,  -999.00,9,  -999.00,9,     0.00,2,     0.00,2,     0.00,2, -999.000,9, -999.000,9,  -999.00,9,   -999.0,9,   -999.0,9,-999.0000,9,   -999.0,  9,  -999.00,9,   -999.0,  -999.00,9,  -999.00,9,     0.06,2,     0.02,2,   -999.0,-999.0000, -999,9,   27,  26.5695,  22.2151,   -999.0,9
       SH98-06,  NONE,SH-5582,  2,      3,1-133-84,2,19980713,0242, 29.9307, 132.9622, 3870,     52.0,  21.3919,  34.8180,2,   -999.0,9,-999.0000,9,    233.3,2,  -999.00,9,  -999.00,9,     0.00,2,     0.00,2,     0.00,2, -999.000,9, -999.000,9,  -999.00,9,   -999.0,9,   -999.0,9,-999.0000,9,   -999.0,  9,  -999.00,9,   -999.0,  -999.00,9,  -999.00,9,     0.10,2,     0.05,2,   -999.0,-999.0000, -999,9,   52,  21.3818,  24.2510,   -999.0,9
       SH98-06,  NONE,SH-5582,  2,      2, 1-133-1,2,19980713,0241, 29.9307, 132.9622, 3870,     76.3,  19.7911,  34.8460,2,   -999.0,9,-999.0000,9,    228.7,2,  -999.00,9,  -999.00,9,     0.00,2,     0.00,2,     0.01,2, -999.000,9, -999.000,9,  -999.00,9,   -999.0,9,   -999.0,9,-999.0000,9,   -999.0,  9,  -999.00,9,   -999.0,  -999.00,9,  -999.00,9,  -999.00,4,  -999.00,4,   -999.0,-999.0000, -999,9,   76,  19.7771,  24.7028,   -999.0,9
       SH98-06,  NONE,SH-5582,  2,      1, 1-133-2,2,19980713,0239, 29.9307, 132.9622, 3870,    101.8,  19.2769,  34.8331,2,   -999.0,9,-999.0000,9,    219.9,2,  -999.00,9,  -999.00,9,     0.98,2,     0.12,2,     0.04,2, -999.000,9, -999.000,9,  -999.00,9,   -999.0,9,   -999.0,9,-999.0000,9,   -999.0,  9,  -999.00,9,   -999.0,  -999.00,9,  -999.00,9,     0.21,2,     0.50,2,   -999.0,-999.0000, -999,9,  101,  19.2586,  24.8274,   -999.0,9
       SH98-06,  NONE,SH-5582,  2,     12, S-1-1-8,2,19980713,0238, 29.9307, 132.9622, 3870,    126.6,  19.1255,  34.8234,2,   -999.0,9,-999.0000,9,    218.0,2,  -999.00,9,  -999.00,9,     1.56,2,     0.03,2,     0.06,2, -999.000,9, -999.000,9,  -999.00,9,   -999.0,9,   -999.0,9,-999.0000,9,   -999.0,  9,  -999.00,9,   -999.0,  -999.00,9,  -999.00,9,     0.06,2,     0.13,2,   -999.0,-999.0000, -999,9,  126,  19.1029,  24.8599,   -999.0,9
       SH98-06,  NONE,SH-5582,  2,     11,S-1-1-11,2,19980713,0237, 29.9307, 132.9622, 3870,    152.2,  18.9895,  34.8220,2,   -999.0,9,-999.0000,9,    216.1,2,  -999.00,9,  -999.00,9,     2.05,2,     0.02,2,     0.10,2, -999.000,9, -999.000,9,  -999.00,9,   -999.0,9,   -999.0,9,-999.0000,9,   -999.0,  9,  -999.00,9,   -999.0,  -999.00,9,  -999.00,9,     0.04,2,     0.06,2,   -999.0,-999.0000, -999,9,  151,  18.9624,  24.8947,   -999.0,9
       SH98-06,  NONE,SH-5582,  2,     10,S-1-1-10,2,19980713,0235, 29.9307, 132.9622, 3870,    201.9,  18.2074,  34.8400,2,   -999.0,9,-999.0000,9,    201.2,2,  -999.00,9,  -999.00,9,     4.19,2,     0.00,2,     0.19,2, -999.000,9, -999.000,9,  -999.00,9,   -999.0,9,   -999.0,9,-999.0000,9,   -999.0,  9,  -999.00,9,   -999.0,  -999.00,9,  -999.00,9,     0.00,2,     0.02,2,   -999.0,-999.0000, -999,9,  200,  18.1725,  25.1069,   -999.0,9
       SH98-06,  NONE,SH-5582,  2,      9, S-1-1-7,2,19980713,0234, 29.9307, 132.9622, 3870,    250.5,  17.5137,  34.8213,2,   -999.0,9,-999.0000,9,    198.8,2,  -999.00,9,  -999.00,9,     5.36,2,     0.00,2,     0.28,2, -999.000,9, -999.000,9,  -999.00,9,   -999.0,9,   -999.0,9,-999.0000,9,   -999.0,  9,  -999.00,9,   -999.0,  -999.00,9,  -999.00,9,     0.00,2,     0.02,2,   -999.0,-999.0000, -999,9,  249,  17.4715,  25.2641,   -999.0,9
       SH98-06,  NONE,SH-5582,  2,      8, S-1-1-9,2,19980713,0232, 29.9307, 132.9622, 3870,    302.0,  16.6583,  34.7686,2,   -999.0,9,-999.0000,9,    197.3,2,  -999.00,9,  -999.00,9,     7.02,2,     0.01,2,     0.40,2, -999.000,9, -999.000,9,  -999.00,9,   -999.0,9,   -999.0,9,-999.0000,9,   -999.0,  9,  -999.00,9,   -999.0,  -999.00,9,  -999.00,9,     0.00,2,     0.01,2,   -999.0,-999.0000, -999,9,  300,  16.6091,  25.4288,   -999.0,9
       SH98-06,  NONE,SH-5582,  1,      7, S-1-1-4,2,19980713,0208, 29.9377, 132.9532, 3860,    396.9,  14.7937,  34.6266,2,   -999.0,9,-999.0000,9,    191.5,2,  -999.00,9,  -999.00,9,    10.53,2,     0.00,2,     0.59,2, -999.000,9, -999.000,9,  -999.00,9,   -999.0,9,   -999.0,9,-999.0000,9,   -999.0,  9,  -999.00,9,   -999.0,  -999.00,9,  -999.00,9,  -999.00,9,  -999.00,9,   -999.0,-999.0000, -999,9,  394,  14.7339,  25.7420,   -999.0,9
       SH98-06,  NONE,SH-5582,  1,      6,02-14892,2,19980713,0206, 29.9377, 132.9532, 3860,    496.8,  11.9003,  34.4138,2,   -999.0,9,-999.0000,9,    173.9,2,  -999.00,9,  -999.00,9,    16.96,2,     0.00,2,     1.02,2, -999.000,9, -999.000,9,  -999.00,9,   -999.0,9,   -999.0,9,-999.0000,9,   -999.0,  9,  -999.00,9,   -999.0,  -999.00,9,  -999.00,9,  -999.00,9,  -999.00,9,   -999.0,-999.0000, -999,9,  493,  11.8354,  26.1650,   -999.0,9
       SH98-06,  NONE,SH-5582,  1,      5, S-1-1-6,2,19980713,0204, 29.9377, 132.9532, 3860,    596.4,   9.0625,  34.2402,2,   -999.0,9,-999.0000,9,    157.7,2,  -999.00,9,  -999.00,9,    23.48,2,     0.00,2,     1.52,2, -999.000,9, -999.000,9,  -999.00,9,   -999.0,9,   -999.0,9,-999.0000,9,   -999.0,  9,  -999.00,9,   -999.0,  -999.00,9,  -999.00,9,  -999.00,9,  -999.00,9,   -999.0,-999.0000, -999,9,  592,   8.9966,  26.5237,   -999.0,9
       SH98-06,  NONE,SH-5582,  1,      4, S-1-1-1,2,19980713,0202, 29.9377, 132.9532, 3860,    697.1,   6.8919,  34.2037,2,   -999.0,9,-999.0000,9,    117.6,2,  -999.00,9,  -999.00,9,    31.07,2,     0.00,2,     2.08,2, -999.000,9, -999.000,9,  -999.00,9,   -999.0,9,   -999.0,9,-999.0000,9,   -999.0,  9,  -999.00,9,   -999.0,  -999.00,9,  -999.00,9,  -999.00,9,  -999.00,9,   -999.0,-999.0000, -999,9,  691,   6.8257,  26.8153,   -999.0,9
       SH98-06,  NONE,SH-5582,  1,      3,1-133-84,2,19980713,0200, 29.9377, 132.9532, 3860,    795.8,   5.7968,  34.2268,2,   -999.0,9,-999.0000,9,     95.4,2,  -999.00,9,  -999.00,9,    34.76,2,     0.00,2,     2.36,2, -999.000,9, -999.000,9,  -999.00,9,   -999.0,9,   -999.0,9,-999.0000,9,   -999.0,  9,  -999.00,9,   -999.0,  -999.00,9,  -999.00,9,  -999.00,9,  -999.00,9,   -999.0,-999.0000, -999,9,  789,   5.7272,  26.9757,   -999.0,9
       SH98-06,  NONE,SH-5582,  1,      2, 1-133-1,2,19980713,0158, 29.9377, 132.9532, 3860,    897.8,   4.7586,  34.3009,2,   -999.0,9,-999.0000,9,     76.7,2,  -999.00,9,  -999.00,9,    37.87,2,     0.00,2,     2.62,2, -999.000,9, -999.000,9,  -999.00,9,   -999.0,9,   -999.0,9,-999.0000,9,   -999.0,  9,  -999.00,9,   -999.0,  -999.00,9,  -999.00,9,  -999.00,9,  -999.00,9,   -999.0,-999.0000, -999,9,  890,   4.6865,  27.1564,   -999.0,9
       SH98-06,  NONE,SH-5582,  1,      1, 1-133-2,2,19980713,0155, 29.9377, 132.9532, 3860,    997.6,   4.1244,  34.3585,2,   -999.0,9,-999.0000,9,     68.1,2,  -999.00,9,  -999.00,9,    39.72,2,     0.00,2,     2.73,2, -999.000,9, -999.000,9,  -999.00,9,   -999.0,9,   -999.0,9,-999.0000,9,   -999.0,  9,  -999.00,9,   -999.0,  -999.00,9,  -999.00,9,  -999.00,9,  -999.00,9,   -999.0,-999.0000, -999,9,  988,   4.0482,  27.2708,   -999.0,9
       SH98-06,  NONE,SH-5582,  1,     12, S-1-1-8,2,19980713,0151, 29.9377, 132.9532, 3860,   1199.3,   3.2706,  34.4440,2,   -999.0,9,-999.0000,9,     62.1,2,  -999.00,9,  -999.00,9,    40.98,2,     0.00,2,     2.84,2, -999.000,9, -999.000,9,  -999.00,9,   -999.0,9,   -999.0,9,-999.0000,9,   -999.0,  9,  -999.00,9,   -999.0,  -999.00,9,  -999.00,9,  -999.00,9,  -999.00,9,   -999.0,-999.0000, -999,9, 1188,   3.1850,  27.4241,   -999.0,9
       SH98-06,  NONE,SH-5583,  2,     -9,      -9,5,19980713,0906, 30.2473, 132.5320, 3770,      0.0,  28.8374,  34.1554,2,   -999.0,9,-999.0000,9,    201.0,2,  -999.00,9,  -999.00,9,     0.00,2,     0.00,2,     0.00,2, -999.000,9, -999.000,9,  -999.00,9,   -999.0,9,   -999.0,9,-999.0000,9,   -999.0,  9,  -999.00,9,   -999.0,  -999.00,9,  -999.00,9,     0.09,2,     0.04,2,   -999.0,-999.0000, -999,9,    0,  28.8374,  21.4842,   -999.0,9
       SH98-06,  NONE,SH-5583,  2,      4, S-1-1-1,2,19980713,0905, 30.2473, 132.5320, 3770,     12.5,  28.6550,  34.1626,2,   -999.0,9,  34.1669,2,    201.7,2,  -999.00,9,  -999.00,9,     0.00,2,     0.00,2,     0.00,2, -999.000,9, -999.000,9,  -999.00,9,   -999.0,9,   -999.0,9,-999.0000,9,   -999.0,  9,  -999.00,9,   -999.0,  -999.00,9,  -999.00,9,     0.07,2,     0.03,2,   -999.0,-999.0000, -999,9,   12,  28.6520,  21.5510,   -999.0,9
       SH98-06,  NONE,SH-5583,  2,      3,1-133-84,2,19980713,0904, 30.2473, 132.5320, 3770,     26.2,  28.3838,  34.1882,2,   -999.0,9,  34.1751,2,    201.5,2,  -999.00,9,  -999.00,9,     0.00,2,     0.00,2,     0.00,2, -999.000,9, -999.000,9,  -999.00,9,   -999.0,9,   -999.0,9,-999.0000,9,   -999.0,  9,  -999.00,9,   -999.0,  -999.00,9,  -999.00,9,     0.07,2,     0.03,2,   -999.0,-999.0000, -999,9,   26,  28.3775,  21.6607,   -999.0,9
       SH98-06,  NONE,SH-5583,  2,      2, 1-133-1,2,19980713,0903, 30.2473, 132.5320, 3770,     52.1,  24.0748,  34.4758,2,   -999.0,9,  34.4234,4,    222.4,2,  -999.00,9,  -999.00,9,     0.00,2,     0.00,2,     0.00,2, -999.000,9, -999.000,9,  -999.00,9,   -999.0,9,   -999.0,9,-999.0000,9,   -999.0,  9,  -999.00,9,   -999.0,  -999.00,9,  -999.00,9,     0.07,2,     0.04,2,   -999.0,-999.0000, -999,9,   52,  24.0638,  23.2257,   -999.0,9
       SH98-06,  NONE,SH-5583,  2,      1, 1-133-2,2,19980713,0903, 30.2473, 132.5320, 3770,     75.9,  21.3546,  34.8256,2,   -999.0,9,  34.8292,2,    237.3,2,  -999.00,9,  -999.00,9,     0.00,2,     0.00,2,     0.00,2, -999.000,9, -999.000,9,  -999.00,9,   -999.0,9,   -999.0,9,-999.0000,9,   -999.0,  9,  -999.00,9,   -999.0,  -999.00,9,  -999.00,9,     0.14,2,     0.08,2,   -999.0,-999.0000, -999,9,   75,  21.3399,  24.2683,   -999.0,9
       SH98-06,  NONE,SH-5583,  2,     12, S-1-1-8,2,19980713,0902, 30.2473, 132.5320, 3770,    102.5,  20.0049,  34.8448,2,   -999.0,9,  34.8544,2,    231.6,2,  -999.00,9,  -999.00,9,     0.00,2,     0.00,2,     0.00,2, -999.000,9, -999.000,9,  -999.00,9,   -999.0,9,   -999.0,9,-999.0000,9,   -999.0,  9,  -999.00,9,   -999.0,  -999.00,9,  -999.00,9,     0.21,2,     0.20,2,   -999.0,-999.0000, -999,9,  102,  19.9860,  24.6470,   -999.0,9
       SH98-06,  NONE,SH-5583,  2,     11,S-1-1-11,2,19980713,0901, 30.2473, 132.5320, 3770,    127.4,  19.5578,  34.8448,2,   -999.0,9,  34.8520,2,    222.8,2,  -999.00,9,  -999.00,9,     0.29,2,     0.09,2,     0.03,2, -999.000,9, -999.000,9,  -999.00,9,   -999.0,9,   -999.0,9,-999.0000,9,   -999.0,  9,  -999.00,9,   -999.0,  -999.00,9,  -999.00,9,     0.23,2,     0.49,2,   -999.0,-999.0000, -999,9,  126,  19.5347,  24.7650,   -999.0,9
       SH98-06,  NONE,SH-5583,  2,     10,S-1-1-10,2,19980713,0900, 30.2473, 132.5320, 3770,    152.9,  19.1385,  34.8472,2,   -999.0,9,  34.8534,2,    207.5,2,  -999.00,9,  -999.00,9,     2.54,2,     0.04,2,     0.13,2, -999.000,9, -999.000,9,  -999.00,9,   -999.0,9,   -999.0,9,-999.0000,9,   -999.0,  9,  -999.00,9,   -999.0,  -999.00,9,  -999.00,9,     0.07,2,     0.23,2,   -999.0,-999.0000, -999,9,  152,  19.1111,  24.8760,   -999.0,9
       SH98-06,  NONE,SH-5583,  2,      9, S-1-1-7,2,19980713,0859, 30.2473, 132.5320, 3770,    202.3,  18.1934,  34.8492,2,   -999.0,9,  34.8536,2,    199.5,2,  -999.00,9,  -999.00,9,     4.29,2,     0.01,2,     0.23,2, -999.000,9, -999.000,9,  -999.00,9,   -999.0,9,   -999.0,9,-999.0000,9,   -999.0,  9,  -999.00,9,   -999.0,  -999.00,9,  -999.00,9,     0.01,2,     0.02,2,   -999.0,-999.0000, -999,9,  201,  18.1585,  25.1174,   -999.0,9
       SH98-06,  NONE,SH-5583,  2,      8, S-1-1-9,2,19980713,0857, 30.2473, 132.5320, 3770,    253.7,  17.4362,  34.8178,2,   -999.0,9,  34.8197,2,    199.8,2,  -999.00,9,  -999.00,9,     5.46,2,     0.01,2,     0.31,2, -999.000,9, -999.000,9,  -999.00,9,   -999.0,9,   -999.0,9,-999.0000,9,   -999.0,  9,  -999.00,9,   -999.0,  -999.00,9,  -999.00,9,     0.00,2,     0.01,2,   -999.0,-999.0000, -999,9,  252,  17.3936,  25.2802,   -999.0,9
       SH98-06,  NONE,SH-5583,  2,      7, S-1-1-4,2,19980713,0856, 30.2473, 132.5320, 3770,    301.8,  16.5529,  34.7620,2,   -999.0,9,  34.7655,2,    198.4,2,  -999.00,9,  -999.00,9,     6.92,2,     0.01,2,     0.41,2, -999.000,9, -999.000,9,  -999.00,9,   -999.0,9,   -999.0,9,-999.0000,9,   -999.0,  9,  -999.00,9,   -999.0,  -999.00,9,  -999.00,9,     0.00,2,     0.01,2,   -999.0,-999.0000, -999,9,  300,  16.5039,  25.4483,   -999.0,9
       SH98-06,  NONE,SH-5583,  2,      6,02-14892,2,19980713,0855, 30.2473, 132.5320, 3770,    396.2,  14.9130,  34.6256,2,   -999.0,9,  34.6315,2,    194.2,2,  -999.00,9,  -999.00,9,    10.04,2,     0.02,2,     0.62,2, -999.000,9, -999.000,9,  -999.00,9,   -999.0,9,   -999.0,9,-999.0000,9,   -999.0,  9,  -999.00,9,   -999.0,  -999.00,9,  -999.00,9,  -999.00,9,  -999.00,9,   -999.0,-999.0000, -999,9,  393,  14.8531,  25.7153,   -999.0,9
       SH98-06,  NONE,SH-5583,  1,      5, S-1-1-6,2,19980713,0821, 30.2667, 132.5428, 3520,    499.4,  11.7114,  34.3931,2,   -999.0,9,  34.3907,2,    179.2,2,  -999.00,9,  -999.00,9,    17.05,2,     0.01,2,     1.09,2, -999.000,9, -999.000,9,  -999.00,9,   -999.0,9,   -999.0,9,-999.0000,9,   -999.0,  9,  -999.00,9,   -999.0,  -999.00,9,  -999.00,9,  -999.00,9,  -999.00,9,   -999.0,-999.0000, -999,9,  495,  11.6468,  26.1842,   -999.0,9
       SH98-06,  NONE,SH-5583,  1,      4, S-1-1-1,2,19980713,0819, 30.2667, 132.5428, 3520,    598.5,   8.9349,  34.2416,2,   -999.0,9,  34.2384,2,    149.8,2,  -999.00,9,  -999.00,9,    24.35,2,     0.00,2,     1.62,2, -999.000,9, -999.000,9,  -999.00,9,   -999.0,9,   -999.0,9,-999.0000,9,   -999.0,  9,  -999.00,9,   -999.0,  -999.00,9,  -999.00,9,  -999.00,9,  -999.00,9,   -999.0,-999.0000, -999,9,  594,   8.8693,  26.5450,   -999.0,9
       SH98-06,  NONE,SH-5583,  1,      3,1-133-84,2,19980713,0817, 30.2667, 132.5428, 3520,    697.5,   7.0409,  34.2080,2,   -999.0,9,  34.2066,2,    119.2,2,  -999.00,9,  -999.00,9,    30.48,2,     0.00,2,     2.05,2, -999.000,9, -999.000,9,  -999.00,9,   -999.0,9,   -999.0,9,-999.0000,9,   -999.0,  9,  -999.00,9,   -999.0,  -999.00,9,  -999.00,9,  -999.00,9,  -999.00,9,   -999.0,-999.0000, -999,9,  692,   6.9739,  26.7984,   -999.0,9
       SH98-06,  NONE,SH-5583,  1,      2, 1-133-1,2,19980713,0816, 30.2667, 132.5428, 3520,    796.8,   5.6055,  34.2490,2,   -999.0,9,  34.2418,2,     92.2,2,  -999.00,9,  -999.00,9,    35.35,2,     0.00,2,     2.41,2, -999.000,9, -999.000,9,  -999.00,9,   -999.0,9,   -999.0,9,-999.0000,9,   -999.0,  9,  -999.00,9,   -999.0,  -999.00,9,  -999.00,9,  -999.00,9,  -999.00,9,   -999.0,-999.0000, -999,9,  790,   5.5369,  27.0165,   -999.0,9
       SH98-06,  NONE,SH-5583,  1,      1, 1-133-2,2,19980713,0815, 30.2667, 132.5428, 3520,    895.3,   4.5112,  34.3251,2,   -999.0,9,  34.3151,2,     73.5,2,  -999.00,9,  -999.00,9,    38.45,2,     0.00,2,     2.56,2, -999.000,9, -999.000,9,  -999.00,9,   -999.0,9,   -999.0,9,-999.0000,9,   -999.0,  9,  -999.00,9,   -999.0,  -999.00,9,  -999.00,9,  -999.00,9,  -999.00,9,   -999.0,-999.0000, -999,9,  887,   4.4409,  27.2027,   -999.0,9
       SH98-06,  NONE,SH-5583,  1,     12, S-1-1-8,2,19980713,0813, 30.2667, 132.5428, 3520,    997.0,   4.0168,  34.3844,2,   -999.0,9,  34.3771,2,     67.1,2,  -999.00,9,  -999.00,9,    39.91,2,     0.00,2,     2.75,2, -999.000,9, -999.000,9,  -999.00,9,   -999.0,9,   -999.0,9,-999.0000,9,   -999.0,  9,  -999.00,9,   -999.0,  -999.00,9,  -999.00,9,  -999.00,9,  -999.00,9,   -999.0,-999.0000, -999,9,  988,   3.9415,  27.3025,   -999.0,9
       SH98-06,  NONE,SH-5583,  1,     11,S-1-1-11,2,19980713,0806, 30.2667, 132.5428, 3520,   1202.5,   3.2013,  34.4588,2,   -999.0,9,  34.4491,2,     68.5,2,  -999.00,9,  -999.00,9,    40.68,2,     0.01,2,     2.78,2, -999.000,9, -999.000,9,  -999.00,9,   -999.0,9,   -999.0,9,-999.0000,9,   -999.0,  9,  -999.00,9,   -999.0,  -999.00,9,  -999.00,9,  -999.00,9,  -999.00,9,   -999.0,-999.0000, -999,9, 1191,   3.1160,  27.4424,   -999.0,9
       SH98-06,  NONE,SH-5583,  1,     10,S-1-1-10,2,19980713,0802, 30.2667, 132.5428, 3520,   1503.3,   2.4967,  34.5448,2,   -999.0,9,  34.5328,2,     83.2,2,  -999.00,9,  -999.00,9,    40.48,2,     0.00,2,     2.72,2, -999.000,9, -999.000,9,  -999.00,9,   -999.0,9,   -999.0,9,-999.0000,9,   -999.0,  9,  -999.00,9,   -999.0,  -999.00,9,  -999.00,9,  -999.00,9,  -999.00,9,   -999.0,-999.0000, -999,9, 1488,   2.3945,  27.5748,   -999.0,9
       SH98-06,  NONE,SH-5583,  1,      9, S-1-1-7,2,19980713,0757, 30.2667, 132.5428, 3520,   2009.2,   2.0010,  34.6203,2,   -999.0,9,  34.6029,2,   -999.0,9,  -999.00,9,  -999.00,9,  -999.00,9,  -999.00,9,  -999.00,9, -999.000,9, -999.000,9,  -999.00,9,   -999.0,9,   -999.0,9,-999.0000,9,   -999.0,  9,  -999.00,9,   -999.0,  -999.00,9,  -999.00,9,  -999.00,9,  -999.00,9,   -999.0,-999.0000, -999,9, 1986,   1.8638,  27.6781,   -999.0,9
       SH98-06,  NONE,SH-5583,  1,      8, S-1-1-9,2,19980713,0748, 30.2667, 132.5428, 3520,   2521.3,   1.7401,  34.6623,2,   -999.0,9,  34.6437,2,   -999.0,9,  -999.00,9,  -999.00,9,  -999.00,9,  -999.00,9,  -999.00,9, -999.000,9, -999.000,9,  -999.00,9,   -999.0,9,   -999.0,9,-999.0000,9,   -999.0,  9,  -999.00,9,   -999.0,  -999.00,9,  -999.00,9,  -999.00,9,  -999.00,9,   -999.0,-999.0000, -999,9, 2489,   1.5627,  27.7346,   -999.0,9
       SH98-06,  NONE,SH-5583,  1,      7, S-1-1-4,2,19980713,0741, 30.2667, 132.5428, 3520,   3032.4,   1.5550,  34.6903,2,   -999.0,9,  34.6774,2,   -999.0,9,  -999.00,9,  -999.00,9,  -999.00,9,  -999.00,9,  -999.00,9, -999.000,9, -999.000,9,  -999.00,9,   -999.0,9,   -999.0,9,-999.0000,9,   -999.0,  9,  -999.00,9,   -999.0,  -999.00,9,  -999.00,9,  -999.00,9,  -999.00,9,   -999.0,-999.0000, -999,9, 2990,   1.3338,  27.7736,   -999.0,9
       SH98-06,  NONE,SH-5583,  1,      6,02-14892,2,19980713,0735, 30.2667, 132.5428, 3520,   3453.0,   1.5211,  34.6993,2,   -999.0,9,  34.6703,4,   -999.0,9,  -999.00,9,  -999.00,9,  -999.00,9,  -999.00,9,  -999.00,9, -999.000,9, -999.000,9,  -999.00,9,   -999.0,9,   -999.0,9,-999.0000,9,   -999.0,  9,  -999.00,9,   -999.0,  -999.00,9,  -999.00,9,  -999.00,9,  -999.00,9,   -999.0,-999.0000, -999,9, 3402,   1.2592,  27.7861,   -999.0,9