BOTTLE,20130510GEMDJMAYT
EXPOCODE,SECT_ID,STNNBR,CASTNO,SAMPNO,BTLNBR,BTLNBR_FLAG_W,DATE,TIME,LATITUDE,LONGITUDE,DEPTH,CTDPRS,CTDTMP,CTDSAL,CTDSAL_FLAG_W,CTDOXY,CTDOXY_FLAG_W,SALNTY,SALNTY_FLAG_W,OXYGEN,OXYGEN_FLAG_W,SILCAT,SILCAT_FLAG_W,NITRAT,NITRAT_FLAG_W,NO2+NO3,NO2+NO3_FLAG_W,NITRIT,NITRIT_FLAG_W,PHSPHT,PHSPHT_FLAG_W,CFC-11,CFC-11_FLAG_W,CFC-12,CFC-12_FLAG_W,DELC13,DELC13_FLAG_W,TCARBN,TCARBN_FLAG_W,ALKALI,ALKALI_FLAG_W,PH,PH_FLAG_W,PH_TMP,PH_SCALE,PH_NBS,PH_NBS_FLAG_W,C13ERR,TOTALP,TOTALP_FLAG_W,AMMONI,AMMONI_FLAG_W,CHLORA,CHLORA_FLAG_W,PPHYTN,PPHYTN_FLAG_W,REVPRS,REVTMP,DEPTH_,DEPTH_FLAG,CTDDEP,THETA,SIGTHT,DOC,DOC_FLAG_W
,,,,,,,GMT,GMT,,,METER,DBAR,ITS-90,PSS-78,,UMOL/KG,,PSS-78,,UMOL/KG,,UMOL/KG,,UMOL/KG,,UMOL/KG,,UMOL/KG,,UMOL/KG,,PMOL/KG,,PMOL/KG,,/MILLE,,UMOL/KG,,UMOL/KG,,25_DEG_C,,DEG_C,,,,/MILLE,UMOL/KG,,UMOL/KG,,UG/L,,UG/L,,DBAR,ITS-90,METERS,,METERS,DEG_C,,UMOL/L,
       SH98-06,  NONE,SH-5586,  1,     -9,      -9,5,19980713,2211, 31.1797, 131.4970,  210,      0.0,  27.4975,  33.8355,2,   -999.0,9,-999.0000,9,    203.9,2,  -999.00,9,  -999.00,9,     0.10,2,     0.00,2,     0.00,2, -999.000,9, -999.000,9,  -999.00,9,   -999.0,9,   -999.0,9,-999.0000,9,   -999.0,  9,     8.23,2,   -999.0,  -999.00,9,  -999.00,9,     0.19,2,     0.10,2,   -999.0,-999.0000, -999,9,    0,  27.4975,  21.6818,   -999.0,9
       SH98-06,  NONE,SH-5586,  1,      4, S-1-1-1,2,19980713,2209, 31.1797, 131.4970,  210,     13.4,  26.8988,  33.9874,2,   -999.0,9,-999.0000,9,    206.3,2,  -999.00,9,  -999.00,9,     0.20,2,     0.01,2,     0.05,2, -999.000,9, -999.000,9,  -999.00,9,   -999.0,9,   -999.0,9,-999.0000,9,   -999.0,  9,     8.22,2,   -999.0,  -999.00,9,  -999.00,9,     0.32,2,     0.13,2,   -999.0,-999.0000, -999,9,   13,  26.8957,  21.9884,   -999.0,9
       SH98-06,  NONE,SH-5586,  1,      3,1-133-84,2,19980713,2209, 31.1797, 131.4970,  210,     27.8,  26.0022,  34.0259,2,   -999.0,9,-999.0000,9,    209.5,2,  -999.00,9,  -999.00,9,     0.10,2,     0.01,2,     0.02,2, -999.000,9, -999.000,9,  -999.00,9,   -999.0,9,   -999.0,9,-999.0000,9,   -999.0,  9,     8.21,2,   -999.0,  -999.00,9,  -999.00,9,     0.69,2,     0.21,2,   -999.0,-999.0000, -999,9,   28,  25.9961,  22.2998,   -999.0,9
       SH98-06,  NONE,SH-5586,  1,      2, 1-133-1,2,19980713,2208, 31.1797, 131.4970,  210,     51.8,  24.7886,  34.2139,2,   -999.0,9,-999.0000,9,    212.6,2,  -999.00,9,  -999.00,9,     0.10,2,     0.00,2,     0.01,2, -999.000,9, -999.000,9,  -999.00,9,   -999.0,9,   -999.0,9,-999.0000,9,   -999.0,  9,     8.20,2,   -999.0,  -999.00,9,  -999.00,9,     0.79,2,     0.25,2,   -999.0,-999.0000, -999,9,   51,  24.7774,  22.8145,   -999.0,9
       SH98-06,  NONE,SH-5586,  1,      1, 1-133-2,2,19980713,2207, 31.1797, 131.4970,  210,     78.1,  20.2166,  34.7018,2,   -999.0,9,-999.0000,9,    183.0,2,  -999.00,9,  -999.00,9,     5.27,2,     0.05,2,     0.30,2, -999.000,9, -999.000,9,  -999.00,9,   -999.0,9,   -999.0,9,-999.0000,9,   -999.0,  9,     8.10,2,   -999.0,  -999.00,9,  -999.00,9,     0.12,2,     0.20,2,   -999.0,-999.0000, -999,9,   78,  20.2021,  24.4809,   -999.0,9
       SH98-06,  NONE,SH-5586,  1,     12, S-1-1-8,2,19980713,2206, 31.1797, 131.4970,  210,    102.4,  20.0084,  34.6869,2,   -999.0,9,-999.0000,9,    182.0,2,  -999.00,9,  -999.00,9,     5.56,2,     0.05,2,     0.34,2, -999.000,9, -999.000,9,  -999.00,9,   -999.0,9,   -999.0,9,-999.0000,9,   -999.0,  9,     8.09,2,   -999.0,  -999.00,9,  -999.00,9,     0.11,2,     0.19,2,   -999.0,-999.0000, -999,9,  102,  19.9895,  24.5257,   -999.0,9
       SH98-06,  NONE,SH-5586,  1,     11,S-1-1-11,2,19980713,2204, 31.1797, 131.4970,  210,    128.0,  19.0812,  34.7157,2,   -999.0,9,-999.0000,9,    183.8,2,  -999.00,9,  -999.00,9,     6.25,2,     0.04,2,     0.40,2, -999.000,9, -999.000,9,  -999.00,9,   -999.0,9,   -999.0,9,-999.0000,9,   -999.0,  9,     8.08,2,   -999.0,  -999.00,9,  -999.00,9,     0.06,2,     0.10,2,   -999.0,-999.0000, -999,9,  127,  19.0584,  24.7890,   -999.0,9
       SH98-06,  NONE,SH-5586,  1,     10,S-1-1-10,2,19980713,2202, 31.1797, 131.4970,  210,    152.5,  17.7744,  34.7237,2,   -999.0,9,-999.0000,9,    179.3,2,  -999.00,9,  -999.00,9,     7.80,2,     0.02,2,     0.52,2, -999.000,9, -999.000,9,  -999.00,9,   -999.0,9,   -999.0,9,-999.0000,9,   -999.0,  9,     8.05,2,   -999.0,  -999.00,9,  -999.00,9,     0.01,2,     0.04,2,   -999.0,-999.0000, -999,9,  151,  17.7485,  25.1221,   -999.0,9
       SH98-06,  NONE,SH-5586,  1,      9, S-1-1-7,2,19980713,2201, 31.1797, 131.4970,  210,    178.4,  15.8671,  34.6632,2,   -999.0,9,-999.0000,9,    175.6,2,  -999.00,9,  -999.00,9,    10.24,2,     0.01,2,     0.67,2, -999.000,9, -999.000,9,  -999.00,9,   -999.0,9,   -999.0,9,-999.0000,9,   -999.0,  9,     8.01,2,   -999.0,  -999.00,9,  -999.00,9,     0.01,2,     0.03,2,   -999.0,-999.0000, -999,9,  177,  15.8391,  25.5251,   -999.0,9
       SH98-06,  NONE,SH-5589,  1,      5, S-1-1-6,2,19980721,1546, 32.5073, 133.1945,  730,     50.3,  24.2769,  34.4096,2,   -999.0,9,  34.4434,4,   -999.0,9,  -999.00,9,  -999.00,9,  -999.00,9,  -999.00,9,  -999.00,9, -999.000,9, -999.000,9,  -999.00,9,   -999.0,9,   -999.0,9,-999.0000,9,   -999.0,  9,  -999.00,9,   -999.0,  -999.00,9,  -999.00,9,  -999.00,9,  -999.00,9,   -999.0,-999.0000, -999,9,   50,  24.2663,  23.1155,   -999.0,9
       SH98-06,  NONE,SH-5589,  1,      4, S-1-1-1,2,19980721,1545, 32.5073, 133.1945,  730,    100.3,  21.9186,  34.6543,2,   -999.0,9,  34.6561,2,   -999.0,9,  -999.00,9,  -999.00,9,  -999.00,9,  -999.00,9,  -999.00,9, -999.000,9, -999.000,9,  -999.00,9,   -999.0,9,   -999.0,9,-999.0000,9,   -999.0,  9,  -999.00,9,   -999.0,  -999.00,9,  -999.00,9,  -999.00,9,  -999.00,9,   -999.0,-999.0000, -999,9,  100,  21.8989,  23.9834,   -999.0,9
       SH98-06,  NONE,SH-5589,  1,      3,1-133-84,2,19980721,1542, 32.5073, 133.1945,  730,    150.3,  19.0110,  34.6284,2,   -999.0,9,  34.6354,2,   -999.0,9,  -999.00,9,  -999.00,9,  -999.00,9,  -999.00,9,  -999.00,9, -999.000,9, -999.000,9,  -999.00,9,   -999.0,9,   -999.0,9,-999.0000,9,   -999.0,  9,  -999.00,9,   -999.0,  -999.00,9,  -999.00,9,  -999.00,9,  -999.00,9,   -999.0,-999.0000, -999,9,  149,  18.9843,  24.7411,   -999.0,9
       SH98-06,  NONE,SH-5589,  1,      2, 1-133-1,2,19980721,1540, 32.5073, 133.1945,  730,    200.7,  16.5353,  34.6395,2,   -999.0,9,  34.6457,2,   -999.0,9,  -999.00,9,  -999.00,9,  -999.00,9,  -999.00,9,  -999.00,9, -999.000,9, -999.000,9,  -999.00,9,   -999.0,9,   -999.0,9,-999.0000,9,   -999.0,  9,  -999.00,9,   -999.0,  -999.00,9,  -999.00,9,  -999.00,9,  -999.00,9,   -999.0,-999.0000, -999,9,  199,  16.5029,  25.3543,   -999.0,9
       SH98-06,  NONE,SH-5589,  1,      1, 1-133-2,2,19980721,1538, 32.5073, 133.1945,  730,    301.6,  10.5551,  34.3888,2,   -999.0,9,  34.4013,4,   -999.0,9,  -999.00,9,  -999.00,9,  -999.00,9,  -999.00,9,  -999.00,9, -999.000,9, -999.000,9,  -999.00,9,   -999.0,9,   -999.0,9,-999.0000,9,   -999.0,  9,  -999.00,9,   -999.0,  -999.00,9,  -999.00,9,  -999.00,9,  -999.00,9,   -999.0,-999.0000, -999,9,  299,  10.5189,  26.3851,   -999.0,9
       SH98-06,  NONE,SH-5589,  1,     12, S-1-1-8,2,19980721,1536, 32.5073, 133.1945,  730,    400.1,   7.9260,  34.2827,2,   -999.0,9,  34.2882,2,   -999.0,9,  -999.00,9,  -999.00,9,  -999.00,9,  -999.00,9,  -999.00,9, -999.000,9, -999.000,9,  -999.00,9,   -999.0,9,   -999.0,9,-999.0000,9,   -999.0,  9,  -999.00,9,   -999.0,  -999.00,9,  -999.00,9,  -999.00,9,  -999.00,9,   -999.0,-999.0000, -999,9,  397,   7.8856,  26.7274,   -999.0,9
       SH98-06,  NONE,SH-5589,  1,     11,S-1-1-11,2,19980721,1535, 32.5073, 133.1945,  730,    500.2,   6.3174,  34.2658,2,   -999.0,9,  34.2650,2,   -999.0,9,  -999.00,9,  -999.00,9,  -999.00,9,  -999.00,9,  -999.00,9, -999.000,9, -999.000,9,  -999.00,9,   -999.0,9,   -999.0,9,-999.0000,9,   -999.0,  9,  -999.00,9,   -999.0,  -999.00,9,  -999.00,9,  -999.00,9,  -999.00,9,   -999.0,-999.0000, -999,9,  496,   6.2727,  26.9376,   -999.0,9
       SH98-06,  NONE,SH-5589,  1,     10,S-1-1-10,2,19980721,1534, 32.5073, 133.1945,  730,    601.0,   5.3104,  34.2792,2,   -999.0,9,  34.2795,2,   -999.0,9,  -999.00,9,  -999.00,9,  -999.00,9,  -999.00,9,  -999.00,9, -999.000,9, -999.000,9,  -999.00,9,   -999.0,9,   -999.0,9,-999.0000,9,   -999.0,  9,  -999.00,9,   -999.0,  -999.00,9,  -999.00,9,  -999.00,9,  -999.00,9,   -999.0,-999.0000, -999,9,  596,   5.2608,  27.0734,   -999.0,9
       SH98-06,  NONE,SH-5593,  1,      9, S-1-1-7,2,19980722,0206, 31.5110, 133.7210, 4830,     50.9,  23.8486,  34.7919,2,   -999.0,9,  34.7830,2,   -999.0,9,  -999.00,9,  -999.00,9,  -999.00,9,  -999.00,9,  -999.00,9, -999.000,9, -999.000,9,  -999.00,9,   -999.0,9,   -999.0,9,-999.0000,9,   -999.0,  9,  -999.00,9,   -999.0,  -999.00,9,  -999.00,9,  -999.00,9,  -999.00,9,   -999.0,-999.0000, -999,9,   51,  23.8379,  23.5317,   -999.0,9
       SH98-06,  NONE,SH-5593,  1,      8, S-1-1-9,2,19980722,0205, 31.5110, 133.7210, 4830,    101.4,  19.8312,  34.8412,2,   -999.0,9,  34.8436,2,   -999.0,9,  -999.00,9,  -999.00,9,  -999.00,9,  -999.00,9,  -999.00,9, -999.000,9, -999.000,9,  -999.00,9,   -999.0,9,   -999.0,9,-999.0000,9,   -999.0,  9,  -999.00,9,   -999.0,  -999.00,9,  -999.00,9,  -999.00,9,  -999.00,9,   -999.0,-999.0000, -999,9,  101,  19.8126,  24.6898,   -999.0,9
       SH98-06,  NONE,SH-5593,  1,      7, S-1-1-4,2,19980722,0203, 31.5110, 133.7210, 4830,    151.0,  19.0772,  34.8280,2,   -999.0,9,  34.8296,2,   -999.0,9,  -999.00,9,  -999.00,9,  -999.00,9,  -999.00,9,  -999.00,9, -999.000,9, -999.000,9,  -999.00,9,   -999.0,9,   -999.0,9,-999.0000,9,   -999.0,  9,  -999.00,9,   -999.0,  -999.00,9,  -999.00,9,  -999.00,9,  -999.00,9,   -999.0,-999.0000, -999,9,  150,  19.0503,  24.8769,   -999.0,9
       SH98-06,  NONE,SH-5593,  1,      6,02-14892,2,19980722,0202, 31.5110, 133.7210, 4830,    200.1,  18.5217,  34.8541,2,   -999.0,9,  34.8509,2,   -999.0,9,  -999.00,9,  -999.00,9,  -999.00,9,  -999.00,9,  -999.00,9, -999.000,9, -999.000,9,  -999.00,9,   -999.0,9,   -999.0,9,-999.0000,9,   -999.0,  9,  -999.00,9,   -999.0,  -999.00,9,  -999.00,9,  -999.00,9,  -999.00,9,   -999.0,-999.0000, -999,9,  199,  18.4867,  25.0394,   -999.0,9
       SH98-06,  NONE,SH-5593,  1,      5, S-1-1-6,2,19980722,0200, 31.5110, 133.7210, 4830,    300.5,  16.9134,  34.7906,2,   -999.0,9,  34.7939,2,   -999.0,9,  -999.00,9,  -999.00,9,  -999.00,9,  -999.00,9,  -999.00,9, -999.000,9, -999.000,9,  -999.00,9,   -999.0,9,   -999.0,9,-999.0000,9,   -999.0,  9,  -999.00,9,   -999.0,  -999.00,9,  -999.00,9,  -999.00,9,  -999.00,9,   -999.0,-999.0000, -999,9,  298,  16.8639,  25.3857,   -999.0,9
       SH98-06,  NONE,SH-5593,  1,      4, S-1-1-1,2,19980722,0158, 31.5110, 133.7210, 4830,    398.2,  15.4357,  34.6700,2,   -999.0,9,  34.6715,2,   -999.0,9,  -999.00,9,  -999.00,9,  -999.00,9,  -999.00,9,  -999.00,9, -999.000,9, -999.000,9,  -999.00,9,   -999.0,9,   -999.0,9,-999.0000,9,   -999.0,  9,  -999.00,9,   -999.0,  -999.00,9,  -999.00,9,  -999.00,9,  -999.00,9,   -999.0,-999.0000, -999,9,  395,  15.3740,  25.6349,   -999.0,9
       SH98-06,  NONE,SH-5593,  1,      3,1-133-84,2,19980722,0156, 31.5110, 133.7210, 4830,    499.4,  13.0685,  34.4856,2,   -999.0,9,  34.4885,2,   -999.0,9,  -999.00,9,  -999.00,9,  -999.00,9,  -999.00,9,  -999.00,9, -999.000,9, -999.000,9,  -999.00,9,   -999.0,9,   -999.0,9,-999.0000,9,   -999.0,  9,  -999.00,9,   -999.0,  -999.00,9,  -999.00,9,  -999.00,9,  -999.00,9,   -999.0,-999.0000, -999,9,  495,  12.9991,  25.9946,   -999.0,9
       SH98-06,  NONE,SH-5593,  1,      2, 1-133-1,2,19980722,0154, 31.5110, 133.7210, 4830,    600.5,  10.4627,  34.3076,2,   -999.0,9,  34.3185,2,   -999.0,9,  -999.00,9,  -999.00,9,  -999.00,9,  -999.00,9,  -999.00,9, -999.000,9, -999.000,9,  -999.00,9,   -999.0,9,   -999.0,9,-999.0000,9,   -999.0,  9,  -999.00,9,   -999.0,  -999.00,9,  -999.00,9,  -999.00,9,  -999.00,9,   -999.0,-999.0000, -999,9,  595,  10.3902,  26.3442,   -999.0,9
       SH98-06,  NONE,SH-5593,  1,      1, 1-133-2,2,19980722,0150, 31.5110, 133.7210, 4830,    799.2,   6.4500,  34.1945,2,   -999.0,9,  34.1897,2,   -999.0,9,  -999.00,9,  -999.00,9,  -999.00,9,  -999.00,9,  -999.00,9, -999.000,9, -999.000,9,  -999.00,9,   -999.0,9,   -999.0,9,-999.0000,9,   -999.0,  9,  -999.00,9,   -999.0,  -999.00,9,  -999.00,9,  -999.00,9,  -999.00,9,   -999.0,-999.0000, -999,9,  792,   6.3762,  26.8678,   -999.0,9
       SH98-06,  NONE,SH-5593,  1,     12, S-1-1-8,2,19980722,0147, 31.5110, 133.7210, 4830,   1001.3,   4.2879,  34.3047,2,   -999.0,9,  34.3043,2,   -999.0,9,  -999.00,9,  -999.00,9,  -999.00,9,  -999.00,9,  -999.00,9, -999.000,9, -999.000,9,  -999.00,9,   -999.0,9,   -999.0,9,-999.0000,9,   -999.0,  9,  -999.00,9,   -999.0,  -999.00,9,  -999.00,9,  -999.00,9,  -999.00,9,   -999.0,-999.0000, -999,9,  992,   4.2102,  27.2111,   -999.0,9
       SH98-06,  NONE,SH-5593,  1,     11,S-1-1-11,2,19980722,0143, 31.5110, 133.7210, 4830,   1215.2,   3.3434,  34.4135,2,   -999.0,9,  34.4125,2,   -999.0,9,  -999.00,9,  -999.00,9,  -999.00,9,  -999.00,9,  -999.00,9, -999.000,9, -999.000,9,  -999.00,9,   -999.0,9,   -999.0,9,-999.0000,9,   -999.0,  9,  -999.00,9,   -999.0,  -999.00,9,  -999.00,9,  -999.00,9,  -999.00,9,   -999.0,-999.0000, -999,9, 1203,   3.2558,  27.3932,   -999.0,9
       SH98-06,  NONE,SH-5597,  1,      3,1-133-84,2,19980722,1319, 30.5050, 134.2517, 4500,     50.5,  22.7611,  34.7070,2,   -999.0,9,  34.6997,2,   -999.0,9,  -999.00,9,  -999.00,9,  -999.00,9,  -999.00,9,  -999.00,9, -999.000,9, -999.000,9,  -999.00,9,   -999.0,9,   -999.0,9,-999.0000,9,   -999.0,  9,  -999.00,9,   -999.0,  -999.00,9,  -999.00,9,  -999.00,9,  -999.00,9,   -999.0,-999.0000, -999,9,   50,  22.7509,  23.7828,   -999.0,9
       SH98-06,  NONE,SH-5597,  1,      2, 1-133-1,2,19980722,1318, 30.5050, 134.2517, 4500,     99.7,  20.8210,  34.8054,2,   -999.0,9,  34.7905,4,   -999.0,9,  -999.00,9,  -999.00,9,  -999.00,9,  -999.00,9,  -999.00,9, -999.000,9, -999.000,9,  -999.00,9,   -999.0,9,   -999.0,9,-999.0000,9,   -999.0,  9,  -999.00,9,   -999.0,  -999.00,9,  -999.00,9,  -999.00,9,  -999.00,9,   -999.0,-999.0000, -999,9,   99,  20.8021,  24.3994,   -999.0,9
       SH98-06,  NONE,SH-5597,  1,      1, 1-133-2,2,19980722,1317, 30.5050, 134.2517, 4500,    149.8,  19.2870,  34.8212,2,   -999.0,9,  34.8169,2,   -999.0,9,  -999.00,9,  -999.00,9,  -999.00,9,  -999.00,9,  -999.00,9, -999.000,9, -999.000,9,  -999.00,9,   -999.0,9,   -999.0,9,-999.0000,9,   -999.0,  9,  -999.00,9,   -999.0,  -999.00,9,  -999.00,9,  -999.00,9,  -999.00,9,   -999.0,-999.0000, -999,9,  149,  19.2600,  24.8179,   -999.0,9
       SH98-06,  NONE,SH-5597,  1,     12, S-1-1-8,2,19980722,1316, 30.5050, 134.2517, 4500,    199.2,  18.5375,  34.8077,2,   -999.0,9,  34.8043,2,   -999.0,9,  -999.00,9,  -999.00,9,  -999.00,9,  -999.00,9,  -999.00,9, -999.000,9, -999.000,9,  -999.00,9,   -999.0,9,   -999.0,9,-999.0000,9,   -999.0,  9,  -999.00,9,   -999.0,  -999.00,9,  -999.00,9,  -999.00,9,  -999.00,9,   -999.0,-999.0000, -999,9,  198,  18.5026,  24.9999,   -999.0,9
       SH98-06,  NONE,SH-5597,  1,     11,S-1-1-11,2,19980722,1314, 30.5050, 134.2517, 4500,    297.8,  17.7405,  34.7942,2,   -999.0,9,  34.7945,2,   -999.0,9,  -999.00,9,  -999.00,9,  -999.00,9,  -999.00,9,  -999.00,9, -999.000,9, -999.000,9,  -999.00,9,   -999.0,9,   -999.0,9,-999.0000,9,   -999.0,  9,  -999.00,9,   -999.0,  -999.00,9,  -999.00,9,  -999.00,9,  -999.00,9,   -999.0,-999.0000, -999,9,  296,  17.6898,  25.1904,   -999.0,9
       SH98-06,  NONE,SH-5597,  1,     10,S-1-1-10,2,19980722,1313, 30.5050, 134.2517, 4500,    398.1,  16.1420,  34.7162,2,   -999.0,9,  34.7158,2,   -999.0,9,  -999.00,9,  -999.00,9,  -999.00,9,  -999.00,9,  -999.00,9, -999.000,9, -999.000,9,  -999.00,9,   -999.0,9,   -999.0,9,-999.0000,9,   -999.0,  9,  -999.00,9,   -999.0,  -999.00,9,  -999.00,9,  -999.00,9,  -999.00,9,   -999.0,-999.0000, -999,9,  395,  16.0784,  25.5114,   -999.0,9
       SH98-06,  NONE,SH-5597,  1,      9, S-1-1-7,2,19980722,1311, 30.5050, 134.2517, 4500,    499.1,  13.2340,  34.4650,2,   -999.0,9,  34.5151,4,   -999.0,9,  -999.00,9,  -999.00,9,  -999.00,9,  -999.00,9,  -999.00,9, -999.000,9, -999.000,9,  -999.00,9,   -999.0,9,   -999.0,9,-999.0000,9,   -999.0,  9,  -999.00,9,   -999.0,  -999.00,9,  -999.00,9,  -999.00,9,  -999.00,9,   -999.0,-999.0000, -999,9,  495,  13.1642,  25.9454,   -999.0,9
       SH98-06,  NONE,SH-5597,  1,      8, S-1-1-9,2,19980722,1309, 30.5050, 134.2517, 4500,    600.1,  10.5391,  34.3156,2,   -999.0,9,  34.3183,2,   -999.0,9,  -999.00,9,  -999.00,9,  -999.00,9,  -999.00,9,  -999.00,9, -999.000,9, -999.000,9,  -999.00,9,   -999.0,9,   -999.0,9,-999.0000,9,   -999.0,  9,  -999.00,9,   -999.0,  -999.00,9,  -999.00,9,  -999.00,9,  -999.00,9,   -999.0,-999.0000, -999,9,  595,  10.4663,  26.3372,   -999.0,9
       SH98-06,  NONE,SH-5597,  1,      7, S-1-1-4,2,19980722,1307, 30.5050, 134.2517, 4500,    801.7,   6.1247,  34.1608,2,   -999.0,9,  34.1594,2,   -999.0,9,  -999.00,9,  -999.00,9,  -999.00,9,  -999.00,9,  -999.00,9, -999.000,9, -999.000,9,  -999.00,9,   -999.0,9,   -999.0,9,-999.0000,9,   -999.0,  9,  -999.00,9,   -999.0,  -999.00,9,  -999.00,9,  -999.00,9,  -999.00,9,   -999.0,-999.0000, -999,9,  795,   6.0526,  26.8829,   -999.0,9
       SH98-06,  NONE,SH-5597,  1,      6,02-14892,2,19980722,1304, 30.5050, 134.2517, 4500,   1001.9,   4.4225,  34.2802,2,   -999.0,9,  34.2790,2,   -999.0,9,  -999.00,9,  -999.00,9,  -999.00,9,  -999.00,9,  -999.00,9, -999.000,9, -999.000,9,  -999.00,9,   -999.0,9,   -999.0,9,-999.0000,9,   -999.0,  9,  -999.00,9,   -999.0,  -999.00,9,  -999.00,9,  -999.00,9,  -999.00,9,   -999.0,-999.0000, -999,9,  993,   4.3438,  27.1775,   -999.0,9
       SH98-06,  NONE,SH-5597,  1,      5, S-1-1-6,2,19980722,1301, 30.5050, 134.2517, 4500,   1216.5,   3.3848,  34.3986,2,   -999.0,9,  34.3952,2,   -999.0,9,  -999.00,9,  -999.00,9,  -999.00,9,  -999.00,9,  -999.00,9, -999.000,9, -999.000,9,  -999.00,9,   -999.0,9,   -999.0,9,-999.0000,9,   -999.0,  9,  -999.00,9,   -999.0,  -999.00,9,  -999.00,9,  -999.00,9,  -999.00,9,   -999.0,-999.0000, -999,9, 1205,   3.2968,  27.3774,   -999.0,9