BOTTLE,20130510GEMDJMAYT
EXPOCODE,SECT_ID,STNNBR,CASTNO,SAMPNO,BTLNBR,BTLNBR_FLAG_W,DATE,TIME,LATITUDE,LONGITUDE,DEPTH,CTDPRS,CTDTMP,CTDSAL,CTDSAL_FLAG_W,CTDOXY,CTDOXY_FLAG_W,SALNTY,SALNTY_FLAG_W,OXYGEN,OXYGEN_FLAG_W,SILCAT,SILCAT_FLAG_W,NITRAT,NITRAT_FLAG_W,NO2+NO3,NO2+NO3_FLAG_W,NITRIT,NITRIT_FLAG_W,PHSPHT,PHSPHT_FLAG_W,CFC-11,CFC-11_FLAG_W,CFC-12,CFC-12_FLAG_W,DELC13,DELC13_FLAG_W,TCARBN,TCARBN_FLAG_W,ALKALI,ALKALI_FLAG_W,PH,PH_FLAG_W,PH_TMP,PH_SCALE,PH_NBS,PH_NBS_FLAG_W,C13ERR,TOTALP,TOTALP_FLAG_W,AMMONI,AMMONI_FLAG_W,CHLORA,CHLORA_FLAG_W,PPHYTN,PPHYTN_FLAG_W,REVPRS,REVTMP,DEPTH_,DEPTH_FLAG,CTDDEP,THETA,SIGTHT,DOC,DOC_FLAG_W
,,,,,,,GMT,GMT,,,METER,DBAR,ITS-90,PSS-78,,UMOL/KG,,PSS-78,,UMOL/KG,,UMOL/KG,,UMOL/KG,,UMOL/KG,,UMOL/KG,,UMOL/KG,,PMOL/KG,,PMOL/KG,,/MILLE,,UMOL/KG,,UMOL/KG,,25_DEG_C,,DEG_C,,,,/MILLE,UMOL/KG,,UMOL/KG,,UG/L,,UG/L,,DBAR,ITS-90,METERS,,METERS,DEG_C,,UMOL/L,
       SH98-06,  NONE,SH-5571,  2,     -9,      -9,5,19980710,0106, 32.5073, 135.2905, 4770,      0.0,  27.9552,  34.0718,2,   -999.0,9,-999.0000,9,    203.9,2,  -999.00,9,  -999.00,9,     0.10,2,     0.00,2,     0.00,2, -999.000,9, -999.000,9,  -999.00,9,   -999.0,9,   -999.0,9,-999.0000,9,   -999.0,  9,     8.20,2,   -999.0,     0.25,2,  -999.00,9,     0.03,2,     0.01,2,   -999.0,-999.0000, -999,9,    0,  27.9552,  21.7114,   -999.0,9
       SH98-06,  NONE,SH-5571,  2,     12, S-1-1-8,2,19980710,0105, 32.5073, 135.2905, 4770,     11.8,  27.7907,  34.0814,2,   -999.0,9,-999.0000,9,    204.5,2,  -999.00,9,  -999.00,9,     0.00,2,     0.00,2,     0.00,2, -999.000,9, -999.000,9,  -999.00,9,   -999.0,9,   -999.0,9,-999.0000,9,   -999.0,  9,     8.20,2,   -999.0,     0.23,2,  -999.00,9,     0.03,2,     0.01,2,   -999.0,-999.0000, -999,9,   12,  27.7880,  21.7729,   -999.0,9
       SH98-06,  NONE,SH-5571,  2,     11,S-1-1-11,2,19980710,0104, 32.5073, 135.2905, 4770,     26.1,  24.7298,  34.2815,2,   -999.0,9,-999.0000,9,    218.4,2,  -999.00,9,  -999.00,9,     0.00,2,     0.00,2,     0.00,2, -999.000,9, -999.000,9,  -999.00,9,   -999.0,9,   -999.0,9,-999.0000,9,   -999.0,  9,     8.20,2,   -999.0,     0.23,2,  -999.00,9,     0.05,2,     0.02,2,   -999.0,-999.0000, -999,9,   26,  24.7242,  22.8816,   -999.0,9
       SH98-06,  NONE,SH-5571,  2,     10,S-1-1-10,2,19980710,0103, 32.5073, 135.2905, 4770,     51.0,  22.6396,  34.7216,2,   -999.0,9,-999.0000,9,    232.2,2,  -999.00,9,  -999.00,9,     0.00,2,     0.00,2,     0.00,2, -999.000,9, -999.000,9,  -999.00,9,   -999.0,9,   -999.0,9,-999.0000,9,   -999.0,  9,     8.19,2,   -999.0,     0.26,2,  -999.00,9,     0.05,2,     0.03,2,   -999.0,-999.0000, -999,9,   51,  22.6293,  23.8286,   -999.0,9
       SH98-06,  NONE,SH-5571,  2,      9, S-1-1-7,2,19980710,0102, 32.5073, 135.2905, 4770,     75.4,  20.6327,  34.8466,2,   -999.0,9,-999.0000,9,    237.3,2,  -999.00,9,  -999.00,9,     0.00,2,     0.01,2,     0.00,2, -999.000,9, -999.000,9,  -999.00,9,   -999.0,9,   -999.0,9,-999.0000,9,   -999.0,  9,     8.18,2,   -999.0,     0.30,2,  -999.00,9,     0.09,2,     0.07,2,   -999.0,-999.0000, -999,9,   75,  20.6185,  24.4802,   -999.0,9
       SH98-06,  NONE,SH-5571,  2,      8, S-1-1-9,2,19980710,0101, 32.5073, 135.2905, 4770,    101.4,  19.7599,  34.8577,2,   -999.0,9,-999.0000,9,    224.3,2,  -999.00,9,  -999.00,9,     0.00,2,     0.00,2,     0.02,2, -999.000,9, -999.000,9,  -999.00,9,   -999.0,9,   -999.0,9,-999.0000,9,   -999.0,  9,     8.16,2,   -999.0,     0.30,2,  -999.00,9,     0.26,2,     0.53,2,   -999.0,-999.0000, -999,9,  101,  19.7414,  24.7211,   -999.0,9
       SH98-06,  NONE,SH-5571,  2,      7, S-1-1-4,2,19980710,0100, 32.5073, 135.2905, 4770,    126.6,  19.3719,  34.8346,2,   -999.0,9,-999.0000,9,    219.3,2,  -999.00,9,  -999.00,9,     1.07,2,     0.06,2,     0.08,2, -999.000,9, -999.000,9,  -999.00,9,   -999.0,9,   -999.0,9,-999.0000,9,   -999.0,  9,     8.15,2,   -999.0,     0.33,2,  -999.00,9,     0.13,2,     0.39,2,   -999.0,-999.0000, -999,9,  126,  19.3491,  24.8052,   -999.0,9
       SH98-06,  NONE,SH-5571,  2,      6,02-14892,2,19980710,0059, 32.5073, 135.2905, 4770,    151.9,  19.0975,  34.8328,2,   -999.0,9,-999.0000,9,    213.6,2,  -999.00,9,  -999.00,9,     2.15,2,     0.02,2,     0.15,2, -999.000,9, -999.000,9,  -999.00,9,   -999.0,9,   -999.0,9,-999.0000,9,   -999.0,  9,     8.14,2,   -999.0,     0.38,2,  -999.00,9,     0.04,2,     0.11,2,   -999.0,-999.0000, -999,9,  151,  19.0704,  24.8754,   -999.0,9
       SH98-06,  NONE,SH-5571,  2,      5, S-1-1-6,2,19980710,0058, 32.5073, 135.2905, 4770,    201.5,  18.4635,  34.8422,2,   -999.0,9,-999.0000,9,    204.3,2,  -999.00,9,  -999.00,9,     3.61,2,     0.01,2,     0.23,2, -999.000,9, -999.000,9,  -999.00,9,   -999.0,9,   -999.0,9,-999.0000,9,   -999.0,  9,     8.11,2,   -999.0,     0.44,2,  -999.00,9,     0.01,2,     0.01,2,   -999.0,-999.0000, -999,9,  200,  18.4283,  25.0449,   -999.0,9
       SH98-06,  NONE,SH-5571,  2,      4, S-1-1-1,2,19980710,0057, 32.5073, 135.2905, 4770,    250.8,  17.7148,  34.8308,2,   -999.0,9,-999.0000,9,    201.0,2,  -999.00,9,  -999.00,9,     4.88,2,     0.00,2,     0.31,2, -999.000,9, -999.000,9,  -999.00,9,   -999.0,9,   -999.0,9,-999.0000,9,   -999.0,  9,     8.09,2,   -999.0,     0.51,2,  -999.00,9,     0.00,2,     0.01,2,   -999.0,-999.0000, -999,9,  249,  17.6722,  25.2228,   -999.0,9
       SH98-06,  NONE,SH-5571,  2,      3,1-133-84,2,19980710,0055, 32.5073, 135.2905, 4770,    303.2,  16.9952,  34.7953,2,   -999.0,9,-999.0000,9,    199.4,2,  -999.00,9,  -999.00,9,     6.73,2,     0.01,2,     0.47,2, -999.000,9, -999.000,9,  -999.00,9,   -999.0,9,   -999.0,9,-999.0000,9,   -999.0,  9,     8.07,2,   -999.0,     0.57,2,  -999.00,9,     0.00,2,     0.01,2,   -999.0,-999.0000, -999,9,  301,  16.9451,  25.3701,   -999.0,9
       SH98-06,  NONE,SH-5571,  1,      2, 1-133-1,2,19980710,0019, 32.5000, 135.2633, 4770,    398.7,  15.4278,  34.6729,2,   -999.0,9,-999.0000,9,    193.2,2,  -999.00,9,  -999.00,9,     9.26,2,     0.01,2,     0.61,2, -999.000,9, -999.000,9,  -999.00,9,   -999.0,9,   -999.0,9,-999.0000,9,   -999.0,  9,     8.03,2,   -999.0,     0.79,2,  -999.00,9,  -999.00,9,  -999.00,9,   -999.0,-999.0000, -999,9,  396,  15.3661,  25.6389,   -999.0,9
       SH98-06,  NONE,SH-5571,  1,      1, 1-133-2,2,19980710,0017, 32.5000, 135.2633, 4770,    498.5,  13.4146,  34.5157,2,   -999.0,9,-999.0000,9,    182.2,2,  -999.00,9,  -999.00,9,    13.74,2,     0.00,2,     0.92,2, -999.000,9, -999.000,9,  -999.00,9,   -999.0,9,   -999.0,9,-999.0000,9,   -999.0,  9,     7.96,2,   -999.0,     0.75,4,  -999.00,9,  -999.00,9,  -999.00,9,   -999.0,-999.0000, -999,9,  494,  13.3442,  25.9482,   -999.0,9
       SH98-06,  NONE,SH-5571,  1,     12, S-1-1-8,2,19980710,0015, 32.5000, 135.2633, 4770,    598.2,  10.3999,  34.3215,2,   -999.0,9,-999.0000,9,    164.3,2,  -999.00,9,  -999.00,9,    20.75,2,     0.00,2,     1.43,2, -999.000,9, -999.000,9,  -999.00,9,   -999.0,9,   -999.0,9,-999.0000,9,   -999.0,  9,     7.86,2,   -999.0,     1.64,2,  -999.00,9,  -999.00,9,  -999.00,9,   -999.0,-999.0000, -999,9,  593,  10.3279,  26.3658,   -999.0,9
       SH98-06,  NONE,SH-5571,  1,     11,S-1-1-11,2,19980710,0013, 32.5000, 135.2633, 4770,    700.8,   8.0487,  34.2193,2,   -999.0,9,-999.0000,9,    139.5,2,  -999.00,9,  -999.00,9,    27.47,2,     0.01,2,     1.91,2, -999.000,9, -999.000,9,  -999.00,9,   -999.0,9,   -999.0,9,-999.0000,9,   -999.0,  9,     7.74,2,   -999.0,     2.08,2,  -999.00,9,  -999.00,9,  -999.00,9,   -999.0,-999.0000, -999,9,  695,   7.9760,  26.6642,   -999.0,9
       SH98-06,  NONE,SH-5571,  1,     10,S-1-1-10,2,19980710,0011, 32.5000, 135.2633, 4770,    800.3,   6.2349,  34.1856,2,   -999.0,9,-999.0000,9,    113.0,2,  -999.00,9,  -999.00,9,    33.21,2,     0.01,2,     2.31,2, -999.000,9, -999.000,9,  -999.00,9,   -999.0,9,   -999.0,9,-999.0000,9,   -999.0,  9,     7.66,2,   -999.0,     2.51,2,  -999.00,9,  -999.00,9,  -999.00,9,   -999.0,-999.0000, -999,9,  793,   6.1623,  26.8885,   -999.0,9
       SH98-06,  NONE,SH-5571,  1,      9, S-1-1-7,2,19980710,0009, 32.5000, 135.2633, 4770,    900.4,   5.2236,  34.2488,2,   -999.0,9,-999.0000,9,     88.1,2,  -999.00,9,  -999.00,9,    37.00,2,     0.00,2,     2.58,2, -999.000,9, -999.000,9,  -999.00,9,   -999.0,9,   -999.0,9,-999.0000,9,   -999.0,  9,     7.61,2,   -999.0,     2.80,2,  -999.00,9,  -999.00,9,  -999.00,9,   -999.0,-999.0000, -999,9,  892,   5.1480,  27.0626,   -999.0,9
       SH98-06,  NONE,SH-5571,  1,      8, S-1-1-9,2,19980710,0007, 32.5000, 135.2633, 4770,   1000.0,   4.4982,  34.3232,2,   -999.0,9,-999.0000,9,     77.3,2,  -999.00,9,  -999.00,9,    39.14,2,     0.00,2,     2.74,2, -999.000,9, -999.000,9,  -999.00,9,   -999.0,9,   -999.0,9,-999.0000,9,   -999.0,  9,     7.57,2,   -999.0,     2.93,2,  -999.00,9,  -999.00,9,  -999.00,9,   -999.0,-999.0000, -999,9,  991,   4.4190,  27.2035,   -999.0,9
       SH98-06,  NONE,SH-5571,  1,      7, S-1-1-4,2,19980710,0004, 32.5000, 135.2633, 4770,   1204.0,   3.5042,  34.4330,2,   -999.0,9,-999.0000,9,     74.5,2,  -999.00,9,  -999.00,9,    40.98,2,     0.00,2,     2.87,2, -999.000,9, -999.000,9,  -999.00,9,   -999.0,9,   -999.0,9,-999.0000,9,   -999.0,  9,     7.56,2,   -999.0,     3.08,2,  -999.00,9,  -999.00,9,  -999.00,9,   -999.0,-999.0000, -999,9, 1192,   3.4160,  27.3934,   -999.0,9
       SH98-06,  NONE,SH-5572,  2,     -9,      -9,5,19980710,0718, 32.0073, 135.2760, 4450,      0.0,  27.8690,  34.0775,2,   -999.0,9,-999.0000,9,    204.3,2,  -999.00,9,  -999.00,9,     0.00,2,     0.00,2,     0.02,2, -999.000,9, -999.000,9,  -999.00,9,   -999.0,9,   -999.0,9,-999.0000,9,   -999.0,  9,  -999.00,9,   -999.0,  -999.00,9,  -999.00,9,     0.04,2,     0.02,2,   -999.0,-999.0000, -999,9,    0,  27.8690,  21.7437,   -999.0,9
       SH98-06,  NONE,SH-5572,  2,      6,02-14892,2,19980710,0717, 32.0073, 135.2760, 4450,     11.9,  27.5144,  34.0307,2,   -999.0,9,-999.0000,9,    205.8,2,  -999.00,9,  -999.00,9,     0.00,2,     0.00,2,     0.00,2, -999.000,9, -999.000,9,  -999.00,9,   -999.0,9,   -999.0,9,-999.0000,9,   -999.0,  9,  -999.00,9,   -999.0,  -999.00,9,  -999.00,9,     0.03,2,     0.02,2,   -999.0,-999.0000, -999,9,   12,  27.5117,  21.8240,   -999.0,9
       SH98-06,  NONE,SH-5572,  2,      5, S-1-1-6,2,19980710,0716, 32.0073, 135.2760, 4450,     26.4,  25.2101,  34.2172,2,   -999.0,9,-999.0000,9,    215.9,2,  -999.00,9,  -999.00,9,     0.00,2,     0.00,2,     0.01,2, -999.000,9, -999.000,9,  -999.00,9,   -999.0,9,   -999.0,9,-999.0000,9,   -999.0,  9,  -999.00,9,   -999.0,  -999.00,9,  -999.00,9,     0.04,2,     0.01,2,   -999.0,-999.0000, -999,9,   26,  25.2043,  22.6877,   -999.0,9
       SH98-06,  NONE,SH-5572,  2,      4, S-1-1-1,2,19980710,0715, 32.0073, 135.2760, 4450,     51.3,  22.4008,  34.6742,2,   -999.0,9,-999.0000,9,    227.5,2,  -999.00,9,  -999.00,9,     0.00,2,     0.00,2,     0.00,2, -999.000,9, -999.000,9,  -999.00,9,   -999.0,9,   -999.0,9,-999.0000,9,   -999.0,  9,  -999.00,9,   -999.0,  -999.00,9,  -999.00,9,     0.03,2,     0.10,2,   -999.0,-999.0000, -999,9,   51,  22.3905,  23.8605,   -999.0,9
       SH98-06,  NONE,SH-5572,  2,      3,1-133-84,2,19980710,0714, 32.0073, 135.2760, 4450,     76.7,  20.6116,  34.8290,2,   -999.0,9,-999.0000,9,    226.5,2,  -999.00,9,  -999.00,9,     0.00,2,     0.00,2,     0.02,2, -999.000,9, -999.000,9,  -999.00,9,   -999.0,9,   -999.0,9,-999.0000,9,   -999.0,  9,  -999.00,9,   -999.0,  -999.00,9,  -999.00,9,     0.16,2,     0.24,2,   -999.0,-999.0000, -999,9,   76,  20.5971,  24.4726,   -999.0,9
       SH98-06,  NONE,SH-5572,  2,      2, 1-133-1,2,19980710,0713, 32.0073, 135.2760, 4450,    101.5,  19.7896,  34.8069,2,   -999.0,9,-999.0000,9,    220.9,2,  -999.00,9,  -999.00,9,     0.78,2,     0.06,2,     0.07,2, -999.000,9, -999.000,9,  -999.00,9,   -999.0,9,   -999.0,9,-999.0000,9,   -999.0,  9,  -999.00,9,   -999.0,  -999.00,9,  -999.00,9,     0.20,2,     0.52,2,   -999.0,-999.0000, -999,9,  101,  19.7711,  24.6745,   -999.0,9
       SH98-06,  NONE,SH-5572,  2,      1, 1-133-2,2,19980710,0712, 32.0073, 135.2760, 4450,    126.7,  19.5331,  34.8222,2,   -999.0,9,-999.0000,9,    215.4,2,  -999.00,9,  -999.00,9,     1.56,2,     0.03,2,     0.11,2, -999.000,9, -999.000,9,  -999.00,9,   -999.0,9,   -999.0,9,-999.0000,9,   -999.0,  9,  -999.00,9,   -999.0,  -999.00,9,  -999.00,9,     0.10,2,     0.22,2,   -999.0,-999.0000, -999,9,  126,  19.5101,  24.7541,   -999.0,9
       SH98-06,  NONE,SH-5572,  2,     12, S-1-1-8,2,19980710,0711, 32.0073, 135.2760, 4450,    149.9,  19.2982,  34.8274,2,   -999.0,9,-999.0000,9,    218.4,2,  -999.00,9,  -999.00,9,     1.27,2,     0.02,2,     0.09,2, -999.000,9, -999.000,9,  -999.00,9,   -999.0,9,   -999.0,9,-999.0000,9,   -999.0,  9,  -999.00,9,   -999.0,  -999.00,9,  -999.00,9,     0.06,2,     0.13,2,   -999.0,-999.0000, -999,9,  149,  19.2712,  24.8198,   -999.0,9
       SH98-06,  NONE,SH-5572,  2,     11,S-1-1-11,2,19980710,0710, 32.0073, 135.2760, 4450,    201.8,  18.9285,  34.8212,2,   -999.0,9,-999.0000,9,    216.4,2,  -999.00,9,  -999.00,9,     2.05,2,     0.01,2,     0.14,2, -999.000,9, -999.000,9,  -999.00,9,   -999.0,9,   -999.0,9,-999.0000,9,   -999.0,  9,  -999.00,9,   -999.0,  -999.00,9,  -999.00,9,     0.01,2,     0.02,2,   -999.0,-999.0000, -999,9,  200,  18.8927,  24.9118,   -999.0,9
       SH98-06,  NONE,SH-5572,  2,     10,S-1-1-10,2,19980710,0709, 32.0073, 135.2760, 4450,    251.2,  18.4149,  34.8081,2,   -999.0,9,-999.0000,9,    212.8,2,  -999.00,9,  -999.00,9,     3.02,2,     0.01,2,     0.20,2, -999.000,9, -999.000,9,  -999.00,9,   -999.0,9,   -999.0,9,-999.0000,9,   -999.0,  9,  -999.00,9,   -999.0,  -999.00,9,  -999.00,9,     0.00,2,     0.01,2,   -999.0,-999.0000, -999,9,  249,  18.3711,  25.0331,   -999.0,9
       SH98-06,  NONE,SH-5572,  2,      9, S-1-1-7,2,19980710,0707, 32.0073, 135.2760, 4450,    302.8,  17.8337,  34.8275,2,   -999.0,9,-999.0000,9,    202.1,2,  -999.00,9,  -999.00,9,     4.78,2,     0.01,2,     0.30,2, -999.000,9, -999.000,9,  -999.00,9,   -999.0,9,   -999.0,9,-999.0000,9,   -999.0,  9,  -999.00,9,   -999.0,  -999.00,9,  -999.00,9,     0.00,2,     0.01,2,   -999.0,-999.0000, -999,9,  300,  17.7819,  25.1935,   -999.0,9
       SH98-06,  NONE,SH-5572,  1,      8, S-1-1-9,2,19980710,0615, 31.9972, 135.2525, 4340,    397.5,  16.5752,  34.7665,2,   -999.0,9,  34.7643,2,    199.3,2,  -999.00,9,  -999.00,9,     6.73,2,     0.00,2,     0.44,2, -999.000,9, -999.000,9,  -999.00,9,   -999.0,9,   -999.0,9,-999.0000,9,   -999.0,  9,  -999.00,9,   -999.0,  -999.00,9,  -999.00,9,  -999.00,9,  -999.00,9,   -999.0,-999.0000, -999,9,  394,  16.5106,  25.4502,   -999.0,9
       SH98-06,  NONE,SH-5572,  1,      7, S-1-1-4,2,19980710,0613, 31.9972, 135.2525, 4340,    497.8,  14.5375,  34.5935,2,   -999.0,9,  34.6043,2,    189.1,2,  -999.00,9,  -999.00,9,    11.02,2,     0.00,2,     0.74,2, -999.000,9, -999.000,9,  -999.00,9,   -999.0,9,   -999.0,9,-999.0000,9,   -999.0,  9,  -999.00,9,   -999.0,  -999.00,9,  -999.00,9,  -999.00,9,  -999.00,9,   -999.0,-999.0000, -999,9,  494,  14.4633,  25.7748,   -999.0,9
       SH98-06,  NONE,SH-5572,  1,      6,02-14892,2,19980710,0611, 31.9972, 135.2525, 4340,    598.9,  12.2728,  34.4330,2,   -999.0,9,  34.4350,2,    174.8,2,  -999.00,9,  -999.00,9,    16.28,2,     0.00,2,     1.12,2, -999.000,9, -999.000,9,  -999.00,9,   -999.0,9,   -999.0,9,-999.0000,9,   -999.0,  9,  -999.00,9,   -999.0,  -999.00,9,  -999.00,9,  -999.00,9,  -999.00,9,   -999.0,-999.0000, -999,9,  594,  12.1927,  26.1119,   -999.0,9
       SH98-06,  NONE,SH-5572,  1,      5, S-1-1-6,2,19980710,0609, 31.9972, 135.2525, 4340,    698.4,   9.6431,  34.2815,2,   -999.0,9,  34.2731,2,    155.2,2,  -999.00,9,  -999.00,9,    22.70,2,     0.00,2,     1.58,2, -999.000,9, -999.000,9,  -999.00,9,   -999.0,9,   -999.0,9,-999.0000,9,   -999.0,  9,  -999.00,9,   -999.0,  -999.00,9,  -999.00,9,  -999.00,9,  -999.00,9,   -999.0,-999.0000, -999,9,  692,   9.5625,  26.4642,   -999.0,9
       SH98-06,  NONE,SH-5572,  1,      4, S-1-1-1,2,19980710,0607, 31.9972, 135.2525, 4340,    799.9,   7.5437,  34.2299,2,   -999.0,9,  34.2300,2,    124.4,2,  -999.00,9,  -999.00,9,    29.41,2,     0.00,2,     2.06,2, -999.000,9, -999.000,9,  -999.00,9,   -999.0,9,   -999.0,9,-999.0000,9,   -999.0,  9,  -999.00,9,   -999.0,  -999.00,9,  -999.00,9,  -999.00,9,  -999.00,9,   -999.0,-999.0000, -999,9,  793,   7.4632,  26.7472,   -999.0,9
       SH98-06,  NONE,SH-5572,  1,      3,1-133-84,2,19980710,0605, 31.9972, 135.2525, 4340,    900.6,   6.3733,  34.2598,2,   -999.0,9,  34.2599,2,    101.3,2,  -999.00,9,  -999.00,9,    33.40,2,     0.00,2,     2.36,2, -999.000,9, -999.000,9,  -999.00,9,   -999.0,9,   -999.0,9,-999.0000,9,   -999.0,  9,  -999.00,9,   -999.0,  -999.00,9,  -999.00,9,  -999.00,9,  -999.00,9,   -999.0,-999.0000, -999,9,  892,   6.2899,  26.9306,   -999.0,9
       SH98-06,  NONE,SH-5572,  1,      2, 1-133-1,2,19980710,0603, 31.9972, 135.2525, 4340,   1001.9,   5.1296,  34.2982,2,   -999.0,9,  34.2969,2,     85.3,2,  -999.00,9,  -999.00,9,    36.41,2,     0.00,2,     2.58,2, -999.000,9, -999.000,9,  -999.00,9,   -999.0,9,   -999.0,9,-999.0000,9,   -999.0,  9,  -999.00,9,   -999.0,  -999.00,9,  -999.00,9,  -999.00,9,  -999.00,9,   -999.0,-999.0000, -999,9,  993,   5.0455,  27.1136,   -999.0,9
       SH98-06,  NONE,SH-5572,  1,      1, 1-133-2,2,19980710,0600, 31.9972, 135.2525, 4340,   1219.7,   3.5844,  34.4106,2,   -999.0,9,  34.4041,2,     66.1,2,  -999.00,9,  -999.00,9,    40.78,2,     0.00,2,     2.86,2, -999.000,9, -999.000,9,  -999.00,9,   -999.0,9,   -999.0,9,-999.0000,9,   -999.0,  9,  -999.00,9,   -999.0,  -999.00,9,  -999.00,9,  -999.00,9,  -999.00,9,   -999.0,-999.0000, -999,9, 1208,   3.4942,  27.3680,   -999.0,9
       SH98-06,  NONE,SH-5572,  1,     12, S-1-1-8,4,19980710,0600, 31.9972, 135.2525, 4340,   1219.7,   3.5844,  34.4106,2,   -999.0,9,  34.3934,2,     64.3,2,  -999.00,9,  -999.00,9,    40.69,2,     0.00,2,     2.83,2, -999.000,9, -999.000,9,  -999.00,9,   -999.0,9,   -999.0,9,-999.0000,9,   -999.0,  9,  -999.00,9,   -999.0,  -999.00,9,  -999.00,9,  -999.00,9,  -999.00,9,   -999.0,-999.0000, -999,9, 1208,   3.4942,  27.3680,   -999.0,9