BOTTLE,20130510GEMDJMAYT
EXPOCODE,SECT_ID,STNNBR,CASTNO,SAMPNO,BTLNBR,BTLNBR_FLAG_W,DATE,TIME,LATITUDE,LONGITUDE,DEPTH,CTDPRS,CTDTMP,CTDSAL,CTDSAL_FLAG_W,CTDOXY,CTDOXY_FLAG_W,SALNTY,SALNTY_FLAG_W,OXYGEN,OXYGEN_FLAG_W,SILCAT,SILCAT_FLAG_W,NITRAT,NITRAT_FLAG_W,NO2+NO3,NO2+NO3_FLAG_W,NITRIT,NITRIT_FLAG_W,PHSPHT,PHSPHT_FLAG_W,CFC-11,CFC-11_FLAG_W,CFC-12,CFC-12_FLAG_W,DELC13,DELC13_FLAG_W,TCARBN,TCARBN_FLAG_W,ALKALI,ALKALI_FLAG_W,PH,PH_FLAG_W,PH_TMP,PH_SCALE,PH_NBS,PH_NBS_FLAG_W,C13ERR,TOTALP,TOTALP_FLAG_W,AMMONI,AMMONI_FLAG_W,CHLORA,CHLORA_FLAG_W,PPHYTN,PPHYTN_FLAG_W,REVPRS,REVTMP,DEPTH_,DEPTH_FLAG,CTDDEP,THETA,SIGTHT,DOC,DOC_FLAG_W
,,,,,,,GMT,GMT,,,METER,DBAR,ITS-90,PSS-78,,UMOL/KG,,PSS-78,,UMOL/KG,,UMOL/KG,,UMOL/KG,,UMOL/KG,,UMOL/KG,,UMOL/KG,,PMOL/KG,,PMOL/KG,,/MILLE,,UMOL/KG,,UMOL/KG,,25_DEG_C,,DEG_C,,,,/MILLE,UMOL/KG,,UMOL/KG,,UG/L,,UG/L,,DBAR,ITS-90,METERS,,METERS,DEG_C,,UMOL/L,
       SH98-06,  NONE,SH-5573,  2,     -9,      -9,5,19980710,1240, 31.5072, 135.2508, 3410,      0.0,  27.7133,  34.2601,2,   -999.0,9,-999.0000,9,    204.2,2,  -999.00,9,  -999.00,9,     0.00,2,     0.00,2,     0.00,2, -999.000,9, -999.000,9,  -999.00,9,   -999.0,9,   -999.0,9,-999.0000,9,   -999.0,  9,  -999.00,9,   -999.0,  -999.00,9,  -999.00,9,     0.03,2,     0.02,2,   -999.0,-999.0000, -999,9,    0,  27.7133,  21.9315,   -999.0,9
       SH98-06,  NONE,SH-5573,  2,      1, 1-133-2,2,19980710,1239, 31.5072, 135.2508, 3410,     11.7,  27.6883,  34.2578,2,   -999.0,9,  34.2683,2,    205.4,2,  -999.00,9,  -999.00,9,     0.10,2,     0.00,2,     0.00,2, -999.000,9, -999.000,9,  -999.00,9,   -999.0,9,   -999.0,9,-999.0000,9,   -999.0,  9,  -999.00,9,   -999.0,  -999.00,9,  -999.00,9,     0.03,2,     0.02,2,   -999.0,-999.0000, -999,9,   12,  27.6856,  21.9387,   -999.0,9
       SH98-06,  NONE,SH-5573,  2,     12, S-1-1-8,2,19980710,1238, 31.5072, 135.2508, 3410,     25.4,  25.7672,  34.2946,2,   -999.0,9,  34.3033,2,    213.4,2,  -999.00,9,  -999.00,9,     0.00,2,     0.00,2,     0.00,2, -999.000,9, -999.000,9,  -999.00,9,   -999.0,9,   -999.0,9,-999.0000,9,   -999.0,  9,  -999.00,9,   -999.0,  -999.00,9,  -999.00,9,     0.02,2,     0.01,2,   -999.0,-999.0000, -999,9,   25,  25.7616,  22.5751,   -999.0,9
       SH98-06,  NONE,SH-5573,  2,     11,S-1-1-11,2,19980710,1237, 31.5072, 135.2508, 3410,     51.1,  22.5103,  34.6471,2,   -999.0,9,  34.6640,2,    228.4,2,  -999.00,9,  -999.00,9,     0.00,2,     0.00,2,     0.00,2, -999.000,9, -999.000,9,  -999.00,9,   -999.0,9,   -999.0,9,-999.0000,9,   -999.0,  9,  -999.00,9,   -999.0,  -999.00,9,  -999.00,9,     0.06,2,     0.04,2,   -999.0,-999.0000, -999,9,   51,  22.5000,  23.8088,   -999.0,9
       SH98-06,  NONE,SH-5573,  2,     10,S-1-1-10,2,19980710,1236, 31.5072, 135.2508, 3410,     76.3,  20.5403,  34.8247,2,   -999.0,9,  34.8286,2,    226.1,2,  -999.00,9,  -999.00,9,     0.00,2,     0.00,2,     0.01,2, -999.000,9, -999.000,9,  -999.00,9,   -999.0,9,   -999.0,9,-999.0000,9,   -999.0,  9,  -999.00,9,   -999.0,  -999.00,9,  -999.00,9,     0.10,2,     0.10,2,   -999.0,-999.0000, -999,9,   76,  20.5260,  24.4883,   -999.0,9
       SH98-06,  NONE,SH-5573,  2,      9, S-1-1-7,2,19980710,1235, 31.5072, 135.2508, 3410,    100.2,  19.8783,  34.8224,2,   -999.0,9,  34.8231,2,    224.8,2,  -999.00,9,  -999.00,9,     0.00,2,     0.00,2,     0.02,2, -999.000,9, -999.000,9,  -999.00,9,   -999.0,9,   -999.0,9,-999.0000,9,   -999.0,  9,  -999.00,9,   -999.0,  -999.00,9,  -999.00,9,     0.19,2,     0.45,2,   -999.0,-999.0000, -999,9,  100,  19.8599,  24.6631,   -999.0,9
       SH98-06,  NONE,SH-5573,  2,      8, S-1-1-9,2,19980710,1234, 31.5072, 135.2508, 3410,    125.2,  19.3636,  34.8112,2,   -999.0,9,  34.8905,4,    221.0,2,  -999.00,9,  -999.00,9,     1.07,2,     0.09,2,     0.07,2, -999.000,9, -999.000,9,  -999.00,9,   -999.0,9,   -999.0,9,-999.0000,9,   -999.0,  9,  -999.00,9,   -999.0,  -999.00,9,  -999.00,9,     0.11,2,     0.34,2,   -999.0,-999.0000, -999,9,  124,  19.3410,  24.7894,   -999.0,9
       SH98-06,  NONE,SH-5573,  2,      7, S-1-1-4,2,19980710,1233, 31.5072, 135.2508, 3410,    151.0,  19.1775,  34.8072,2,   -999.0,9,  34.8132,2,    220.0,2,  -999.00,9,  -999.00,9,     1.46,2,     0.02,2,     0.10,2, -999.000,9, -999.000,9,  -999.00,9,   -999.0,9,   -999.0,9,-999.0000,9,   -999.0,  9,  -999.00,9,   -999.0,  -999.00,9,  -999.00,9,     0.04,2,     0.06,2,   -999.0,-999.0000, -999,9,  150,  19.1505,  24.8353,   -999.0,9
       SH98-06,  NONE,SH-5573,  2,      6,02-14892,2,19980710,1231, 31.5072, 135.2508, 3410,    200.0,  19.0273,  34.8062,2,   -999.0,9,  34.8150,2,    220.8,2,  -999.00,9,  -999.00,9,     1.56,2,     0.02,2,     0.09,2, -999.000,9, -999.000,9,  -999.00,9,   -999.0,9,   -999.0,9,-999.0000,9,   -999.0,  9,  -999.00,9,   -999.0,  -999.00,9,  -999.00,9,     0.00,2,     0.01,2,   -999.0,-999.0000, -999,9,  199,  18.9916,  24.8752,   -999.0,9
       SH98-06,  NONE,SH-5573,  2,      5, S-1-1-6,2,19980710,1230, 31.5072, 135.2508, 3410,    250.8,  18.8214,  34.8209,2,   -999.0,9,  34.8238,2,    219.7,2,  -999.00,9,  -999.00,9,     2.15,2,     0.01,2,     0.14,2, -999.000,9, -999.000,9,  -999.00,9,   -999.0,9,   -999.0,9,-999.0000,9,   -999.0,  9,  -999.00,9,   -999.0,  -999.00,9,  -999.00,9,     0.00,2,     0.01,2,   -999.0,-999.0000, -999,9,  249,  18.7769,  24.9409,   -999.0,9
       SH98-06,  NONE,SH-5573,  2,      4, S-1-1-1,2,19980710,1228, 31.5072, 135.2508, 3410,    303.8,  18.1801,  34.8447,2,   -999.0,9,  34.8493,2,    204.7,2,  -999.00,9,  -999.00,9,     3.80,2,     0.01,2,     0.23,2, -999.000,9, -999.000,9,  -999.00,9,   -999.0,9,   -999.0,9,-999.0000,9,   -999.0,  9,  -999.00,9,   -999.0,  -999.00,9,  -999.00,9,     0.00,2,     0.01,2,   -999.0,-999.0000, -999,9,  301,  18.1275,  25.1216,   -999.0,9
       SH98-06,  NONE,SH-5573,  1,      3,1-133-84,2,19980710,1155, 31.4987, 135.2443, 3500,    398.0,  16.9542,  34.7935,2,   -999.0,9,  34.7862,2,    223.9,4,  -999.00,9,  -999.00,9,     6.44,2,     0.01,2,     0.43,2, -999.000,9, -999.000,9,  -999.00,9,   -999.0,9,   -999.0,9,-999.0000,9,   -999.0,  9,  -999.00,9,   -999.0,  -999.00,9,  -999.00,9,  -999.00,9,  -999.00,9,   -999.0,-999.0000, -999,9,  395,  16.8884,  25.3822,   -999.0,9
       SH98-06,  NONE,SH-5573,  1,      2, 1-133-1,2,19980710,1153, 31.4987, 135.2443, 3500,    499.5,  15.3660,  34.6664,2,   -999.0,9,  34.6687,2,    193.6,2,  -999.00,9,  -999.00,9,     9.55,2,     0.01,2,     0.61,2, -999.000,9, -999.000,9,  -999.00,9,   -999.0,9,   -999.0,9,-999.0000,9,   -999.0,  9,  -999.00,9,   -999.0,  -999.00,9,  -999.00,9,  -999.00,9,  -999.00,9,   -999.0,-999.0000, -999,9,  495,  15.2886,  25.6511,   -999.0,9
       SH98-06,  NONE,SH-5573,  1,      1, 1-133-2,2,19980710,1151, 31.4987, 135.2443, 3500,    599.7,  13.2412,  34.5048,2,   -999.0,9,  34.4995,2,    184.3,2,  -999.00,9,  -999.00,9,    14.04,2,     0.00,2,     0.93,2, -999.000,9, -999.000,9,  -999.00,9,   -999.0,9,   -999.0,9,-999.0000,9,   -999.0,  9,  -999.00,9,   -999.0,  -999.00,9,  -999.00,9,  -999.00,9,  -999.00,9,   -999.0,-999.0000, -999,9,  595,  13.1568,  25.9777,   -999.0,9
       SH98-06,  NONE,SH-5573,  1,     12, S-1-1-8,2,19980710,1150, 31.4987, 135.2443, 3500,    700.1,  10.2005,  34.3010,2,   -999.0,9,  34.2984,2,    166.9,2,  -999.00,9,  -999.00,9,    21.43,2,     0.00,2,     1.50,2, -999.000,9, -999.000,9,  -999.00,9,   -999.0,9,   -999.0,9,-999.0000,9,   -999.0,  9,  -999.00,9,   -999.0,  -999.00,9,  -999.00,9,  -999.00,9,  -999.00,9,   -999.0,-999.0000, -999,9,  694,  10.1169,  26.3862,   -999.0,9
       SH98-06,  NONE,SH-5573,  1,     11,S-1-1-11,2,19980710,1148, 31.4987, 135.2443, 3500,    800.4,   8.0861,  34.2187,2,   -999.0,9,  34.2101,2,    142.5,2,  -999.00,9,  -999.00,9,    27.18,2,     0.00,2,     1.89,2, -999.000,9, -999.000,9,  -999.00,9,   -999.0,9,   -999.0,9,-999.0000,9,   -999.0,  9,  -999.00,9,   -999.0,  -999.00,9,  -999.00,9,  -999.00,9,  -999.00,9,   -999.0,-999.0000, -999,9,  793,   8.0024,  26.6599,   -999.0,9
       SH98-06,  NONE,SH-5573,  1,     10,S-1-1-10,2,19980710,1146, 31.4987, 135.2443, 3500,    900.8,   6.5004,  34.2574,2,   -999.0,9,  34.2990,4,    114.7,2,  -999.00,9,  -999.00,9,    30.77,2,     0.00,2,     2.16,2, -999.000,9, -999.000,9,  -999.00,9,   -999.0,9,   -999.0,9,-999.0000,9,   -999.0,  9,  -999.00,9,   -999.0,  -999.00,9,  -999.00,9,  -999.00,9,  -999.00,9,   -999.0,-999.0000, -999,9,  893,   6.4162,  26.9122,   -999.0,9
       SH98-06,  NONE,SH-5573,  1,      9, S-1-1-7,2,19980710,1144, 31.4987, 135.2443, 3500,   1002.6,   5.1285,  34.2683,2,   -999.0,9,  34.2644,2,     80.6,2,  -999.00,9,  -999.00,9,    37.29,2,     0.00,2,     2.62,2, -999.000,9, -999.000,9,  -999.00,9,   -999.0,9,   -999.0,9,-999.0000,9,   -999.0,  9,  -999.00,9,   -999.0,  -999.00,9,  -999.00,9,  -999.00,9,  -999.00,9,   -999.0,-999.0000, -999,9,  993,   5.0443,  27.0901,   -999.0,9
       SH98-06,  NONE,SH-5573,  1,      7, S-1-1-4,2,19980710,1141, 31.4987, 135.2443, 3500,   1206.8,   3.8530,  34.4008,2,   -999.0,9,  34.3982,2,     69.1,2,  -999.00,9,  -999.00,9,    40.59,2,     0.00,2,     2.83,2, -999.000,9, -999.000,9,  -999.00,9,   -999.0,9,   -999.0,9,-999.0000,9,   -999.0,  9,  -999.00,9,   -999.0,  -999.00,9,  -999.00,9,  -999.00,9,  -999.00,9,   -999.0,-999.0000, -999,9, 1195,   3.7613,  27.3339,   -999.0,9
       SH98-06,  NONE,SH-5573,  1,      8, S-1-1-9,4,19980710,1141, 31.4987, 135.2443, 3500,   1206.8,   3.8530,  34.4008,2,   -999.0,9,  34.3964,2,     66.3,2,  -999.00,9,  -999.00,9,    40.59,2,     0.00,2,     2.79,2, -999.000,9, -999.000,9,  -999.00,9,   -999.0,9,   -999.0,9,-999.0000,9,   -999.0,  9,  -999.00,9,   -999.0,  -999.00,9,  -999.00,9,  -999.00,9,  -999.00,9,   -999.0,-999.0000, -999,9, 1195,   3.7613,  27.3339,   -999.0,9
       SH98-06,  NONE,SH-5574,  2,     -9,      -9,5,19980710,1848, 31.0100, 135.2780, 4330,      0.0,  27.4491,  34.2655,2,   -999.0,9,-999.0000,9,    206.4,2,  -999.00,9,  -999.00,9,     0.00,2,     0.01,2,     0.00,2, -999.000,9, -999.000,9,  -999.00,9,   -999.0,9,   -999.0,9,-999.0000,9,   -999.0,  9,  -999.00,9,   -999.0,  -999.00,9,  -999.00,9,     0.03,2,     0.02,2,   -999.0,-999.0000, -999,9,    0,  27.4491,  22.0208,   -999.0,9
       SH98-06,  NONE,SH-5574,  2,      7, S-1-1-4,2,19980710,1848, 31.0100, 135.2780, 4330,     10.8,  27.1897,  34.2376,2,   -999.0,9,-999.0000,9,    205.8,2,  -999.00,9,  -999.00,9,     0.00,2,     0.00,2,     0.00,2, -999.000,9, -999.000,9,  -999.00,9,   -999.0,9,   -999.0,9,-999.0000,9,   -999.0,  9,  -999.00,9,   -999.0,  -999.00,9,  -999.00,9,     0.03,2,     0.01,2,   -999.0,-999.0000, -999,9,   11,  27.1872,  22.0839,   -999.0,9
       SH98-06,  NONE,SH-5574,  2,      6,02-14892,2,19980710,1847, 31.0100, 135.2780, 4330,     27.4,  24.7777,  34.2496,2,   -999.0,9,-999.0000,9,    218.0,2,  -999.00,9,  -999.00,9,     0.10,2,     0.00,2,     0.01,2, -999.000,9, -999.000,9,  -999.00,9,   -999.0,9,   -999.0,9,-999.0000,9,   -999.0,  9,  -999.00,9,   -999.0,  -999.00,9,  -999.00,9,     0.01,2,     0.05,2,   -999.0,-999.0000, -999,9,   27,  24.7719,  22.8432,   -999.0,9
       SH98-06,  NONE,SH-5574,  2,      5, S-1-1-6,2,19980710,1845, 31.0100, 135.2780, 4330,     51.4,  23.2493,  34.5307,2,   -999.0,9,-999.0000,9,    224.9,2,  -999.00,9,  -999.00,9,     0.00,2,     0.00,2,     0.00,2, -999.000,9, -999.000,9,  -999.00,9,   -999.0,9,   -999.0,9,-999.0000,9,   -999.0,  9,  -999.00,9,   -999.0,  -999.00,9,  -999.00,9,     0.05,2,     0.03,2,   -999.0,-999.0000, -999,9,   51,  23.2387,  23.5089,   -999.0,9
       SH98-06,  NONE,SH-5574,  2,      4, S-1-1-1,2,19980710,1844, 31.0100, 135.2780, 4330,     76.6,  21.1490,  34.7979,2,   -999.0,9,-999.0000,9,    227.4,2,  -999.00,9,  -999.00,9,     0.00,2,     0.01,2,     0.02,2, -999.000,9, -999.000,9,  -999.00,9,   -999.0,9,   -999.0,9,-999.0000,9,   -999.0,  9,  -999.00,9,   -999.0,  -999.00,9,  -999.00,9,     0.11,2,     0.11,2,   -999.0,-999.0000, -999,9,   76,  21.1343,  24.3035,   -999.0,9
       SH98-06,  NONE,SH-5574,  2,      3,1-133-84,2,19980710,1843, 31.0100, 135.2780, 4330,    101.4,  19.9719,  34.8250,2,   -999.0,9,-999.0000,9,    220.2,2,  -999.00,9,  -999.00,9,     0.59,2,     0.14,2,     0.06,2, -999.000,9, -999.000,9,  -999.00,9,   -999.0,9,   -999.0,9,-999.0000,9,   -999.0,  9,  -999.00,9,   -999.0,  -999.00,9,  -999.00,9,     0.05,2,     0.61,2,   -999.0,-999.0000, -999,9,  101,  19.9532,  24.6405,   -999.0,9
       SH98-06,  NONE,SH-5574,  2,      2, 1-133-1,2,19980710,1842, 31.0100, 135.2780, 4330,    127.2,  19.5259,  34.8158,2,   -999.0,9,-999.0000,9,    218.0,2,  -999.00,9,  -999.00,9,     1.37,2,     0.06,2,     0.10,2, -999.000,9, -999.000,9,  -999.00,9,   -999.0,9,   -999.0,9,-999.0000,9,   -999.0,  9,  -999.00,9,   -999.0,  -999.00,9,  -999.00,9,     0.09,2,     0.24,2,   -999.0,-999.0000, -999,9,  126,  19.5028,  24.7511,   -999.0,9
       SH98-06,  NONE,SH-5574,  2,      1, 1-133-2,2,19980710,1840, 31.0100, 135.2780, 4330,    154.6,  19.2779,  34.8139,2,   -999.0,9,-999.0000,9,    218.8,2,  -999.00,9,  -999.00,9,     1.56,2,     0.04,2,     0.11,2, -999.000,9, -999.000,9,  -999.00,9,   -999.0,9,   -999.0,9,-999.0000,9,   -999.0,  9,  -999.00,9,   -999.0,  -999.00,9,  -999.00,9,     0.05,2,     0.09,2,   -999.0,-999.0000, -999,9,  154,  19.2501,  24.8149,   -999.0,9
       SH98-06,  NONE,SH-5574,  2,     12, S-1-1-8,2,19980710,1838, 31.0100, 135.2780, 4330,    201.3,  19.1116,  34.8144,2,   -999.0,9,-999.0000,9,    220.8,4,  -999.00,9,  -999.00,9,     1.66,2,     0.03,2,     0.12,2, -999.000,9, -999.000,9,  -999.00,9,   -999.0,9,   -999.0,9,-999.0000,9,   -999.0,  9,  -999.00,9,   -999.0,  -999.00,9,  -999.00,9,     0.01,2,     0.02,2,   -999.0,-999.0000, -999,9,  200,  19.0756,  24.8600,   -999.0,9
       SH98-06,  NONE,SH-5574,  2,     11,S-1-1-11,2,19980710,1837, 31.0100, 135.2780, 4330,    249.8,  18.9405,  34.8169,2,   -999.0,9,-999.0000,9,    217.1,2,  -999.00,9,  -999.00,9,     2.05,2,     0.03,2,     0.14,2, -999.000,9, -999.000,9,  -999.00,9,   -999.0,9,   -999.0,9,-999.0000,9,   -999.0,  9,  -999.00,9,   -999.0,  -999.00,9,  -999.00,9,     0.00,2,     0.01,2,   -999.0,-999.0000, -999,9,  248,  18.8961,  24.9077,   -999.0,9
       SH98-06,  NONE,SH-5574,  2,     10,S-1-1-10,2,19980710,1835, 31.0100, 135.2780, 4330,    298.9,  18.3609,  34.8407,2,   -999.0,9,-999.0000,9,    202.5,2,  -999.00,9,  -999.00,9,     4.00,2,     0.02,2,     0.26,2, -999.000,9, -999.000,9,  -999.00,9,   -999.0,9,   -999.0,9,-999.0000,9,   -999.0,  9,  -999.00,9,   -999.0,  -999.00,9,  -999.00,9,     0.00,2,     0.01,2,   -999.0,-999.0000, -999,9,  297,  18.3087,  25.0736,   -999.0,9
       SH98-06,  NONE,SH-5574,  1,      9, S-1-1-7,2,19980710,1744, 31.0000, 135.2587, 4290,    398.0,  16.9052,  34.7934,2,   -999.0,9,-999.0000,9,    198.9,2,  -999.00,9,  -999.00,9,     6.53,2,     0.01,2,     0.43,2, -999.000,9, -999.000,9,  -999.00,9,   -999.0,9,   -999.0,9,-999.0000,9,   -999.0,  9,  -999.00,9,   -999.0,  -999.00,9,  -999.00,9,  -999.00,9,  -999.00,9,   -999.0,-999.0000, -999,9,  395,  16.8395,  25.3936,   -999.0,9
       SH98-06,  NONE,SH-5574,  1,      8, S-1-1-9,2,19980710,1743, 31.0000, 135.2587, 4290,    497.6,  15.4406,  34.6752,2,   -999.0,9,-999.0000,9,    193.0,2,  -999.00,9,  -999.00,9,     9.46,2,     0.01,2,     0.62,2, -999.000,9, -999.000,9,  -999.00,9,   -999.0,9,   -999.0,9,-999.0000,9,   -999.0,  9,  -999.00,9,   -999.0,  -999.00,9,  -999.00,9,  -999.00,9,  -999.00,9,   -999.0,-999.0000, -999,9,  494,  15.3632,  25.6413,   -999.0,9
       SH98-06,  NONE,SH-5574,  1,      7, S-1-1-4,2,19980710,1741, 31.0000, 135.2587, 4290,    597.5,  13.2239,  34.5030,2,   -999.0,9,-999.0000,9,    185.3,2,  -999.00,9,  -999.00,9,    13.74,2,     0.00,2,     0.93,2, -999.000,9, -999.000,9,  -999.00,9,   -999.0,9,   -999.0,9,-999.0000,9,   -999.0,  9,  -999.00,9,   -999.0,  -999.00,9,  -999.00,9,  -999.00,9,  -999.00,9,   -999.0,-999.0000, -999,9,  593,  13.1399,  25.9797,   -999.0,9
       SH98-06,  NONE,SH-5574,  1,      6,02-14892,2,19980710,1739, 31.0000, 135.2587, 4290,    697.0,  10.4635,  34.3355,2,   -999.0,9,-999.0000,9,    165.3,2,  -999.00,9,  -999.00,9,    20.17,2,     0.00,2,     1.38,2, -999.000,9, -999.000,9,  -999.00,9,   -999.0,9,   -999.0,9,-999.0000,9,   -999.0,  9,  -999.00,9,   -999.0,  -999.00,9,  -999.00,9,  -999.00,9,  -999.00,9,   -999.0,-999.0000, -999,9,  691,  10.3789,  26.3679,   -999.0,9
       SH98-06,  NONE,SH-5574,  1,      5, S-1-1-6,2,19980710,1737, 31.0000, 135.2587, 4290,    798.3,   8.1233,  34.3240,2,   -999.0,9,-999.0000,9,    119.5,2,  -999.00,9,  -999.00,9,    28.63,2,     0.00,2,     2.00,2, -999.000,9, -999.000,9,  -999.00,9,   -999.0,9,   -999.0,9,-999.0000,9,   -999.0,  9,  -999.00,9,   -999.0,  -999.00,9,  -999.00,9,  -999.00,9,  -999.00,9,   -999.0,-999.0000, -999,9,  791,   8.0395,  26.7370,   -999.0,9
       SH98-06,  NONE,SH-5574,  1,      4, S-1-1-1,2,19980710,1736, 31.0000, 135.2587, 4290,    898.3,   6.3354,  34.2616,2,   -999.0,9,-999.0000,9,    101.7,2,  -999.00,9,  -999.00,9,    33.40,2,     0.00,2,     2.35,2, -999.000,9, -999.000,9,  -999.00,9,   -999.0,9,   -999.0,9,-999.0000,9,   -999.0,  9,  -999.00,9,   -999.0,  -999.00,9,  -999.00,9,  -999.00,9,  -999.00,9,   -999.0,-999.0000, -999,9,  890,   6.2525,  26.9369,   -999.0,9
       SH98-06,  NONE,SH-5574,  1,      3,1-133-84,2,19980710,1734, 31.0000, 135.2587, 4290,    999.2,   5.1626,  34.2822,2,   -999.0,9,-999.0000,9,     84.4,2,  -999.00,9,  -999.00,9,    37.29,2,     0.00,2,     2.60,2, -999.000,9, -999.000,9,  -999.00,9,   -999.0,9,   -999.0,9,-999.0000,9,   -999.0,  9,  -999.00,9,   -999.0,  -999.00,9,  -999.00,9,  -999.00,9,  -999.00,9,   -999.0,-999.0000, -999,9,  990,   5.0785,  27.0971,   -999.0,9
       SH98-06,  NONE,SH-5574,  1,      2, 1-133-1,2,19980710,1731, 31.0000, 135.2587, 4290,   1209.3,   3.7882,  34.3897,2,   -999.0,9,-999.0000,9,     69.6,2,  -999.00,9,  -999.00,9,    39.91,2,     0.00,2,     2.78,2, -999.000,9, -999.000,9,  -999.00,9,   -999.0,9,   -999.0,9,-999.0000,9,   -999.0,  9,  -999.00,9,   -999.0,  -999.00,9,  -999.00,9,  -999.00,9,  -999.00,9,   -999.0,-999.0000, -999,9, 1197,   3.6970,  27.3314,   -999.0,9