BOTTLE,20130510GEMDJMAYT
EXPOCODE,SECT_ID,STNNBR,CASTNO,SAMPNO,BTLNBR,BTLNBR_FLAG_W,DATE,TIME,LATITUDE,LONGITUDE,DEPTH,CTDPRS,CTDTMP,CTDSAL,CTDSAL_FLAG_W,CTDOXY,CTDOXY_FLAG_W,SALNTY,SALNTY_FLAG_W,OXYGEN,OXYGEN_FLAG_W,SILCAT,SILCAT_FLAG_W,NITRAT,NITRAT_FLAG_W,NO2+NO3,NO2+NO3_FLAG_W,NITRIT,NITRIT_FLAG_W,PHSPHT,PHSPHT_FLAG_W,CFC-11,CFC-11_FLAG_W,CFC-12,CFC-12_FLAG_W,DELC13,DELC13_FLAG_W,TCARBN,TCARBN_FLAG_W,ALKALI,ALKALI_FLAG_W,PH,PH_FLAG_W,PH_TMP,PH_SCALE,PH_NBS,PH_NBS_FLAG_W,C13ERR,TOTALP,TOTALP_FLAG_W,AMMONI,AMMONI_FLAG_W,CHLORA,CHLORA_FLAG_W,PPHYTN,PPHYTN_FLAG_W,REVPRS,REVTMP,DEPTH_,DEPTH_FLAG,CTDDEP,THETA,SIGTHT,DOC,DOC_FLAG_W
,,,,,,,GMT,GMT,,,METER,DBAR,ITS-90,PSS-78,,UMOL/KG,,PSS-78,,UMOL/KG,,UMOL/KG,,UMOL/KG,,UMOL/KG,,UMOL/KG,,UMOL/KG,,PMOL/KG,,PMOL/KG,,/MILLE,,UMOL/KG,,UMOL/KG,,25_DEG_C,,DEG_C,,,,/MILLE,UMOL/KG,,UMOL/KG,,UG/L,,UG/L,,DBAR,ITS-90,METERS,,METERS,DEG_C,,UMOL/L,
       SH98-08,  NONE,SH-5622,  2,     -9,      -9,5,19980820,1524, 31.5315, 135.2755, 4010,      0.0,  29.4043,  34.1987,2,   -999.0,9,-999.0000,9,    215.5,2,  -999.00,9,  -999.00,9,     0.10,2,     0.00,2,     0.03,2, -999.000,9, -999.000,9,  -999.00,9,   -999.0,9,   -999.0,9,-999.0000,9,   -999.0,  9,  -999.00,9,   -999.0,  -999.00,9,  -999.00,9,     0.02,2,     0.01,2,   -999.0,-999.0000, -999,9,    0,  29.4043,  21.3272,   -999.0,9
       SH98-08,  NONE,SH-5622,  2,      3,1-133-84,2,19980820,1523, 31.5315, 135.2755, 4010,     11.3,  28.8014,  34.2927,2,   -999.0,9,  34.2422,4,    214.4,2,  -999.00,9,  -999.00,9,     0.00,2,     0.00,2,     0.00,2, -999.000,9, -999.000,9,  -999.00,9,   -999.0,9,   -999.0,9,-999.0000,9,   -999.0,  9,  -999.00,9,   -999.0,  -999.00,9,  -999.00,9,     0.03,2,     0.01,2,   -999.0,-999.0000, -999,9,   11,  28.7987,  21.6001,   -999.0,9
       SH98-08,  NONE,SH-5622,  2,      2, 1-133-1,2,19980820,1522, 31.5315, 135.2755, 4010,     25.2,  25.4057,  34.3896,2,   -999.0,9,  34.3722,2,    239.3,2,  -999.00,9,  -999.00,9,     0.00,2,     0.00,2,     0.00,2, -999.000,9, -999.000,9,  -999.00,9,   -999.0,9,   -999.0,9,-999.0000,9,   -999.0,  9,  -999.00,9,   -999.0,  -999.00,9,  -999.00,9,     0.04,2,     0.02,2,   -999.0,-999.0000, -999,9,   25,  25.4002,  22.7580,   -999.0,9
       SH98-08,  NONE,SH-5622,  2,      1, 1-133-2,2,19980820,1521, 31.5315, 135.2755, 4010,     50.0,  21.5869,  34.7972,2,   -999.0,9,  34.8002,2,    256.1,2,  -999.00,9,  -999.00,9,     0.00,2,     0.00,2,  -999.00,4, -999.000,9, -999.000,9,  -999.00,9,   -999.0,9,   -999.0,9,-999.0000,9,   -999.0,  9,  -999.00,9,   -999.0,  -999.00,9,  -999.00,9,     0.05,2,     0.04,2,   -999.0,-999.0000, -999,9,   50,  21.5772,  24.1814,   -999.0,9
       SH98-08,  NONE,SH-5622,  2,     12, S-1-1-8,2,19980820,1520, 31.5315, 135.2755, 4010,     72.4,  20.1912,  34.8085,2,   -999.0,9,  34.8140,2,    256.9,2,  -999.00,9,  -999.00,9,     0.00,2,     0.00,2,  -999.00,4, -999.000,9, -999.000,9,  -999.00,9,   -999.0,9,   -999.0,9,-999.0000,9,   -999.0,  9,  -999.00,9,   -999.0,  -999.00,9,  -999.00,9,     0.09,2,     0.08,2,   -999.0,-999.0000, -999,9,   72,  20.1777,  24.5687,   -999.0,9
       SH98-08,  NONE,SH-5622,  2,     11,s-1-1-11,2,19980820,1519, 31.5315, 135.2755, 4010,     98.8,  19.4652,  34.8068,2,   -999.0,9,  34.8077,2,    248.7,2,  -999.00,9,  -999.00,9,     0.00,2,     0.01,2,  -999.00,4, -999.000,9, -999.000,9,  -999.00,9,   -999.0,9,   -999.0,9,-999.0000,9,   -999.0,  9,  -999.00,9,   -999.0,  -999.00,9,  -999.00,9,     0.13,2,     0.22,2,   -999.0,-999.0000, -999,9,   98,  19.4474,  24.7586,   -999.0,9
       SH98-08,  NONE,SH-5622,  2,     10,S-1-1-10,2,19980820,1518, 31.5315, 135.2755, 4010,    123.8,  19.1974,  34.8038,2,   -999.0,9,  34.8043,2,    238.9,2,  -999.00,9,  -999.00,9,     0.59,2,     0.18,2,  -999.00,4, -999.000,9, -999.000,9,  -999.00,9,   -999.0,9,   -999.0,9,-999.0000,9,   -999.0,  9,  -999.00,9,   -999.0,  -999.00,9,  -999.00,9,     0.13,2,     0.51,2,   -999.0,-999.0000, -999,9,  123,  19.1752,  24.8264,   -999.0,9
       SH98-08,  NONE,SH-5622,  2,      9, S-1-1-7,2,19980820,1517, 31.5315, 135.2755, 4010,    147.4,  19.0827,  34.8039,2,   -999.0,9,  34.8053,2,    235.0,2,  -999.00,9,  -999.00,9,     1.46,2,     0.05,2,  -999.00,4, -999.000,9, -999.000,9,  -999.00,9,   -999.0,9,   -999.0,9,-999.0000,9,   -999.0,  9,  -999.00,9,   -999.0,  -999.00,9,  -999.00,9,     0.08,2,     0.18,2,   -999.0,-999.0000, -999,9,  146,  19.0563,  24.8569,   -999.0,9
       SH98-08,  NONE,SH-5622,  2,      8, S-1-1-9,2,19980820,1516, 31.5315, 135.2755, 4010,    198.5,  18.9372,  34.8020,2,   -999.0,9,  34.8037,2,    236.6,2,  -999.00,9,  -999.00,9,     1.37,2,     0.02,2,     0.13,2, -999.000,9, -999.000,9,  -999.00,9,   -999.0,9,   -999.0,9,-999.0000,9,   -999.0,  9,  -999.00,9,   -999.0,  -999.00,9,  -999.00,9,     0.02,2,     0.04,2,   -999.0,-999.0000, -999,9,  197,  18.9019,  24.8948,   -999.0,9
       SH98-08,  NONE,SH-5622,  2,      7, S-1-1-4,2,19980820,1515, 31.5315, 135.2755, 4010,    248.0,  18.8045,  34.8077,2,   -999.0,9,  34.8077,2,    235.0,2,  -999.00,9,  -999.00,9,     1.56,2,     0.02,2,     0.14,2, -999.000,9, -999.000,9,  -999.00,9,   -999.0,9,   -999.0,9,-999.0000,9,   -999.0,  9,  -999.00,9,   -999.0,  -999.00,9,  -999.00,9,     0.00,2,     0.01,2,   -999.0,-999.0000, -999,9,  246,  18.7605,  24.9350,   -999.0,9
       SH98-08,  NONE,SH-5622,  2,      6,02-14892,2,19980820,1514, 31.5315, 135.2755, 4010,    298.5,  18.3207,  34.8485,2,   -999.0,9,  34.8479,2,    221.8,2,  -999.00,9,  -999.00,9,     3.22,2,     0.01,2,     0.24,2, -999.000,9, -999.000,9,  -999.00,9,   -999.0,9,   -999.0,9,-999.0000,9,   -999.0,  9,  -999.00,9,   -999.0,  -999.00,9,  -999.00,9,     0.00,2,     0.00,2,   -999.0,-999.0000, -999,9,  296,  18.2687,  25.0895,   -999.0,9
       SH98-08,  NONE,SH-5622,  1,      2, 1-133-1,2,19980820,1414, 31.5095, 135.2527, 3390,    398.1,  17.4554,  34.8277,2,   -999.0,9,  34.8311,2,    219.1,2,  -999.00,9,  -999.00,9,     4.68,2,     0.01,2,     0.36,2, -999.000,9, -999.000,9,  -999.00,9,   -999.0,9,   -999.0,9,-999.0000,9,   -999.0,  9,  -999.00,9,   -999.0,  -999.00,9,  -999.00,9,  -999.00,9,  -999.00,9,   -999.0,-999.0000, -999,9,  395,  17.3882,  25.2891,   -999.0,9
       SH98-08,  NONE,SH-5622,  2,      5, S-1-1-6,2,19980820,1512, 31.5315, 135.2755, 4010,    398.4,  17.6039,  34.8371,2,   -999.0,9,  34.8388,2,    220.3,2,  -999.00,9,  -999.00,9,     4.29,2,     0.02,2,     0.33,2, -999.000,9, -999.000,9,  -999.00,9,   -999.0,9,   -999.0,9,-999.0000,9,   -999.0,  9,  -999.00,9,   -999.0,  -999.00,9,  -999.00,9,  -999.00,9,  -999.00,9,   -999.0,-999.0000, -999,9,  395,  17.5363,  25.2605,   -999.0,9
       SH98-08,  NONE,SH-5622,  1,      1, 1-133-2,2,19980820,1412, 31.5095, 135.2527, 3390,    498.2,  16.0081,  34.7186,2,   -999.0,9,  34.7188,2,    208.9,2,  -999.00,9,  -999.00,9,     7.61,2,     0.01,2,     0.59,2, -999.000,9, -999.000,9,  -999.00,9,   -999.0,9,   -999.0,9,-999.0000,9,   -999.0,  9,  -999.00,9,   -999.0,  -999.00,9,  -999.00,9,  -999.00,9,  -999.00,9,   -999.0,-999.0000, -999,9,  494,  15.9288,  25.5474,   -999.0,9
       SH98-08,  NONE,SH-5622,  1,     12, S-1-1-8,4,19980820,1409, 31.5095, 135.2527, 3390,    598.6,  13.9650,  34.5587,2,   -999.0,9,  34.5576,2,    202.9,2,  -999.00,9,  -999.00,9,    11.40,2,     0.01,2,     0.89,2, -999.000,9, -999.000,9,  -999.00,9,   -999.0,9,   -999.0,9,-999.0000,9,   -999.0,  9,  -999.00,9,   -999.0,  -999.00,9,  -999.00,9,  -999.00,9,  -999.00,9,   -999.0,-999.0000, -999,9,  594,  13.8778,  25.8716,   -999.0,9
       SH98-08,  NONE,SH-5622,  1,     -9,      -9,4,19980820,1407, 31.5095, 135.2527, 3390,    698.7,  11.1227,  34.3590,2,   -999.0,9,-999.0000,9,   -999.0,9,  -999.00,9,  -999.00,9,  -999.00,9,  -999.00,9,  -999.00,9, -999.000,9, -999.000,9,  -999.00,9,   -999.0,9,   -999.0,9,-999.0000,9,   -999.0,  9,  -999.00,9,   -999.0,  -999.00,9,  -999.00,9,  -999.00,9,  -999.00,9,   -999.0,-999.0000, -999,9,  693,  11.0346,  26.2701,   -999.0,9
       SH98-08,  NONE,SH-5622,  1,     11,s-1-1-11,2,19980820,1405, 31.5095, 135.2527, 3390,    799.6,   8.5874,  34.2198,2,   -999.0,9,  34.2190,2,    160.7,2,  -999.00,9,  -999.00,9,    22.99,2,     0.01,2,     1.81,2, -999.000,9, -999.000,9,  -999.00,9,   -999.0,9,   -999.0,9,-999.0000,9,   -999.0,  9,  -999.00,9,   -999.0,  -999.00,9,  -999.00,9,  -999.00,9,  -999.00,9,   -999.0,-999.0000, -999,9,  793,   8.5009,  26.5853,   -999.0,9
       SH98-08,  NONE,SH-5622,  1,     10,S-1-1-10,2,19980820,1403, 31.5095, 135.2527, 3390,    900.2,   6.9838,  34.1937,2,   -999.0,9,  34.1920,2,    130.4,2,  -999.00,9,  -999.00,9,    27.85,2,     0.01,2,     2.20,2, -999.000,9, -999.000,9,  -999.00,9,   -999.0,9,   -999.0,9,-999.0000,9,   -999.0,  9,  -999.00,9,   -999.0,  -999.00,9,  -999.00,9,  -999.00,9,  -999.00,9,   -999.0,-999.0000, -999,9,  892,   6.8964,  26.7978,   -999.0,9
       SH98-08,  NONE,SH-5622,  1,      9, S-1-1-7,2,19980820,1401, 31.5095, 135.2527, 3390,   1000.7,   5.3954,  34.2410,2,   -999.0,9,  34.2357,2,     96.2,2,  -999.00,9,  -999.00,9,    33.10,2,     0.01,2,     2.61,2, -999.000,9, -999.000,9,  -999.00,9,   -999.0,9,   -999.0,9,-999.0000,9,   -999.0,  9,  -999.00,9,   -999.0,  -999.00,9,  -999.00,9,  -999.00,9,  -999.00,9,   -999.0,-999.0000, -999,9,  991,   5.3095,  27.0374,   -999.0,9
       SH98-08,  NONE,SH-5622,  2,      4, S-1-1-1,2,19980820,1504, 31.5315, 135.2755, 4010,   1207.7,   4.0613,  34.3670,2,   -999.0,9,  34.3600,2,     72.8,2,  -999.00,9,  -999.00,9,    36.70,2,     0.02,2,     2.86,2, -999.000,9, -999.000,9,  -999.00,9,   -999.0,9,   -999.0,9,-999.0000,9,   -999.0,  9,  -999.00,9,   -999.0,  -999.00,9,  -999.00,9,  -999.00,9,  -999.00,9,   -999.0,-999.0000, -999,9, 1196,   3.9677,  27.2859,   -999.0,9
       SH98-08,  NONE,SH-5622,  1,      8, S-1-1-9,4,19980820,1358, 31.5095, 135.2527, 3390,   1214.0,   3.9648,  34.3774,2,   -999.0,9,  34.3767,2,    122.3,4,  -999.00,9,  -999.00,9,    28.23,4,     0.01,4,     2.12,4, -999.000,9, -999.000,9,  -999.00,9,   -999.0,9,   -999.0,9,-999.0000,9,   -999.0,  9,  -999.00,9,   -999.0,  -999.00,9,  -999.00,9,  -999.00,9,  -999.00,9,   -999.0,-999.0000, -999,9, 1202,   3.8716,  27.3040,   -999.0,9
       SH98-08,  NONE,SH-5623,  2,     -9,      -9,5,19980820,2142, 31.0025, 135.2605, 4260,      0.0,  29.3723,  34.2092,2,   -999.0,9,-999.0000,9,    216.5,2,  -999.00,9,  -999.00,9,     0.00,2,     0.00,2,     0.00,2, -999.000,9, -999.000,9,  -999.00,9,   -999.0,9,   -999.0,9,-999.0000,9,   -999.0,  9,  -999.00,9,   -999.0,  -999.00,9,  -999.00,9,     0.03,2,     0.02,2,   -999.0,-999.0000, -999,9,    0,  29.3723,  21.3458,   -999.0,9
       SH98-08,  NONE,SH-5623,  2,     10,S-1-1-10,2,19980820,2141, 31.0025, 135.2605, 4260,     10.6,  29.3606,  34.2124,2,   -999.0,9,-999.0000,9,    214.4,2,  -999.00,9,  -999.00,9,     0.00,2,     0.00,2,     0.00,2, -999.000,9, -999.000,9,  -999.00,9,   -999.0,9,   -999.0,9,-999.0000,9,   -999.0,  9,  -999.00,9,   -999.0,  -999.00,9,  -999.00,9,     0.04,2,     0.02,2,   -999.0,-999.0000, -999,9,   11,  29.3580,  21.3531,   -999.0,9
       SH98-08,  NONE,SH-5623,  2,      9, S-1-1-7,2,19980820,2140, 31.0025, 135.2605, 4260,     25.7,  26.2591,  34.4017,2,   -999.0,9,-999.0000,9,    230.5,2,  -999.00,9,  -999.00,9,     0.00,2,     0.00,2,     0.00,2, -999.000,9, -999.000,9,  -999.00,9,   -999.0,9,   -999.0,9,-999.0000,9,   -999.0,  9,  -999.00,9,   -999.0,  -999.00,9,  -999.00,9,     0.05,2,     0.02,2,   -999.0,-999.0000, -999,9,   25,  26.2534,  22.5030,   -999.0,9
       SH98-08,  NONE,SH-5623,  2,      8, S-1-1-9,2,19980820,2139, 31.0025, 135.2605, 4260,     50.6,  22.4411,  34.7186,2,   -999.0,9,-999.0000,9,    255.7,2,  -999.00,9,  -999.00,9,     0.00,2,     0.00,2,  -999.00,4, -999.000,9, -999.000,9,  -999.00,9,   -999.0,9,   -999.0,9,-999.0000,9,   -999.0,  9,  -999.00,9,   -999.0,  -999.00,9,  -999.00,9,     0.06,2,     0.04,2,   -999.0,-999.0000, -999,9,   50,  22.4310,  23.8827,   -999.0,9
       SH98-08,  NONE,SH-5623,  2,      7, S-1-1-4,2,19980820,2138, 31.0025, 135.2605, 4260,     75.6,  20.2024,  34.8219,2,   -999.0,9,-999.0000,9,    243.0,2,  -999.00,9,  -999.00,9,     0.10,2,     0.00,2,  -999.00,4, -999.000,9, -999.000,9,  -999.00,9,   -999.0,9,   -999.0,9,-999.0000,9,   -999.0,  9,  -999.00,9,   -999.0,  -999.00,9,  -999.00,9,     0.10,2,     0.13,2,   -999.0,-999.0000, -999,9,   75,  20.1883,  24.5762,   -999.0,9
       SH98-08,  NONE,SH-5623,  2,      6,02-14892,2,19980820,2137, 31.0025, 135.2605, 4260,    101.0,  19.5440,  34.8125,2,   -999.0,9,-999.0000,9,    237.1,2,  -999.00,9,  -999.00,9,     0.29,2,     0.17,2,  -999.00,4, -999.000,9, -999.000,9,  -999.00,9,   -999.0,9,   -999.0,9,-999.0000,9,   -999.0,  9,  -999.00,9,   -999.0,  -999.00,9,  -999.00,9,     0.22,2,     0.48,2,   -999.0,-999.0000, -999,9,  100,  19.5257,  24.7427,   -999.0,9
       SH98-08,  NONE,SH-5623,  2,      5, S-1-1-6,2,19980820,2136, 31.0025, 135.2605, 4260,    125.5,  19.2517,  34.8049,2,   -999.0,9,-999.0000,9,    234.3,2,  -999.00,9,  -999.00,9,     1.56,2,     0.09,2,     0.11,2, -999.000,9, -999.000,9,  -999.00,9,   -999.0,9,   -999.0,9,-999.0000,9,   -999.0,  9,  -999.00,9,   -999.0,  -999.00,9,  -999.00,9,     0.10,2,     0.40,2,   -999.0,-999.0000, -999,9,  125,  19.2292,  24.8134,   -999.0,9
       SH98-08,  NONE,SH-5623,  2,      4, S-1-1-1,2,19980820,2135, 31.0025, 135.2605, 4260,    150.6,  19.1422,  34.8038,2,   -999.0,9,-999.0000,9,    235.5,2,  -999.00,9,  -999.00,9,     1.56,2,     0.03,2,     0.11,2, -999.000,9, -999.000,9,  -999.00,9,   -999.0,9,   -999.0,9,-999.0000,9,   -999.0,  9,  -999.00,9,   -999.0,  -999.00,9,  -999.00,9,     0.03,2,     0.05,2,   -999.0,-999.0000, -999,9,  149,  19.1153,  24.8417,   -999.0,9
       SH98-08,  NONE,SH-5623,  2,      3,1-133-84,2,19980820,2134, 31.0025, 135.2605, 4260,    200.5,  19.0046,  34.8075,2,   -999.0,9,-999.0000,9,    234.3,2,  -999.00,9,  -999.00,9,     1.66,2,     0.01,2,     0.12,2, -999.000,9, -999.000,9,  -999.00,9,   -999.0,9,   -999.0,9,-999.0000,9,   -999.0,  9,  -999.00,9,   -999.0,  -999.00,9,  -999.00,9,     0.00,2,     0.01,2,   -999.0,-999.0000, -999,9,  199,  18.9689,  24.8820,   -999.0,9
       SH98-08,  NONE,SH-5623,  2,      2, 1-133-1,2,19980820,2132, 31.0025, 135.2605, 4260,    250.8,  18.6849,  34.8327,2,   -999.0,9,-999.0000,9,    222.0,2,  -999.00,9,  -999.00,9,     2.93,2,     0.01,2,     0.21,2, -999.000,9, -999.000,9,  -999.00,9,   -999.0,9,   -999.0,9,-999.0000,9,   -999.0,  9,  -999.00,9,   -999.0,  -999.00,9,  -999.00,9,     0.00,2,     0.01,2,   -999.0,-999.0000, -999,9,  249,  18.6406,  24.9843,   -999.0,9
       SH98-08,  NONE,SH-5623,  2,      1, 1-133-2,2,19980820,2131, 31.0025, 135.2605, 4260,    301.3,  18.2736,  34.8429,2,   -999.0,9,-999.0000,9,    220.0,2,  -999.00,9,  -999.00,9,     3.51,2,     0.00,2,     0.25,2, -999.000,9, -999.000,9,  -999.00,9,   -999.0,9,   -999.0,9,-999.0000,9,   -999.0,  9,  -999.00,9,   -999.0,  -999.00,9,  -999.00,9,     0.00,2,     0.01,2,   -999.0,-999.0000, -999,9,  299,  18.2212,  25.0970,   -999.0,9
       SH98-08,  NONE,SH-5623,  1,     12, S-1-1-8,2,19980820,2058, 30.9960, 135.2573, 4260,    398.2,  17.2771,  34.8129,2,   -999.0,9,-999.0000,9,    214.7,2,  -999.00,9,  -999.00,9,     5.36,2,     0.00,2,     0.38,2, -999.000,9, -999.000,9,  -999.00,9,   -999.0,9,   -999.0,9,-999.0000,9,   -999.0,  9,  -999.00,9,   -999.0,  -999.00,9,  -999.00,9,  -999.00,9,  -999.00,9,   -999.0,-999.0000, -999,9,  395,  17.2104,  25.3205,   -999.0,9
       SH98-08,  NONE,SH-5623,  1,     11,s-1-1-11,2,19980820,2057, 30.9960, 135.2573, 4260,    498.9,  15.8098,  34.7008,2,   -999.0,9,-999.0000,9,    209.6,2,  -999.00,9,  -999.00,9,     7.90,2,     0.00,2,     0.58,2, -999.000,9, -999.000,9,  -999.00,9,   -999.0,9,   -999.0,9,-999.0000,9,   -999.0,  9,  -999.00,9,   -999.0,  -999.00,9,  -999.00,9,  -999.00,9,  -999.00,9,   -999.0,-999.0000, -999,9,  495,  15.7310,  25.5785,   -999.0,9
       SH98-08,  NONE,SH-5623,  1,     10,S-1-1-10,2,19980820,2055, 30.9960, 135.2573, 4260,    599.1,  13.6573,  34.5350,2,   -999.0,9,-999.0000,9,    197.1,2,  -999.00,9,  -999.00,9,    12.18,2,     0.00,2,     0.91,2, -999.000,9, -999.000,9,  -999.00,9,   -999.0,9,   -999.0,9,-999.0000,9,   -999.0,  9,  -999.00,9,   -999.0,  -999.00,9,  -999.00,9,  -999.00,9,  -999.00,9,   -999.0,-999.0000, -999,9,  594,  13.5713,  25.9167,   -999.0,9
       SH98-08,  NONE,SH-5623,  1,      9, S-1-1-7,2,19980820,2053, 30.9960, 135.2573, 4260,    699.9,  11.0231,  34.3503,2,   -999.0,9,-999.0000,9,    185.0,2,  -999.00,9,  -999.00,9,    17.05,2,     0.00,2,     1.30,2, -999.000,9, -999.000,9,  -999.00,9,   -999.0,9,   -999.0,9,-999.0000,9,   -999.0,  9,  -999.00,9,   -999.0,  -999.00,9,  -999.00,9,  -999.00,9,  -999.00,9,   -999.0,-999.0000, -999,9,  694,  10.9353,  26.2812,   -999.0,9
       SH98-08,  NONE,SH-5623,  1,      8, S-1-1-9,2,19980820,2052, 30.9960, 135.2573, 4260,    800.1,   8.4511,  34.2227,2,   -999.0,9,-999.0000,9,    154.1,2,  -999.00,9,  -999.00,9,    23.96,2,     0.00,2,     1.85,2, -999.000,9, -999.000,9,  -999.00,9,   -999.0,9,   -999.0,9,-999.0000,9,   -999.0,  9,  -999.00,9,   -999.0,  -999.00,9,  -999.00,9,  -999.00,9,  -999.00,9,   -999.0,-999.0000, -999,9,  793,   8.3653,  26.6084,   -999.0,9
       SH98-08,  NONE,SH-5623,  1,      7, S-1-1-4,2,19980820,2050, 30.9960, 135.2573, 4260,    901.3,   6.9036,  34.2217,2,   -999.0,9,-999.0000,9,    125.2,2,  -999.00,9,  -999.00,9,    29.02,2,     0.00,2,     2.23,2, -999.000,9, -999.000,9,  -999.00,9,   -999.0,9,   -999.0,9,-999.0000,9,   -999.0,  9,  -999.00,9,   -999.0,  -999.00,9,  -999.00,9,  -999.00,9,  -999.00,9,   -999.0,-999.0000, -999,9,  893,   6.8166,  26.8307,   -999.0,9
       SH98-08,  NONE,SH-5623,  1,      6,02-14892,2,19980820,2048, 30.9960, 135.2573, 4260,   1002.4,   5.4123,  34.2406,2,   -999.0,9,-999.0000,9,     96.7,2,  -999.00,9,  -999.00,9,    33.40,2,     0.00,2,     2.58,2, -999.000,9, -999.000,9,  -999.00,9,   -999.0,9,   -999.0,9,-999.0000,9,   -999.0,  9,  -999.00,9,   -999.0,  -999.00,9,  -999.00,9,  -999.00,9,  -999.00,9,   -999.0,-999.0000, -999,9,  993,   5.3261,  27.0351,   -999.0,9
       SH98-08,  NONE,SH-5623,  1,      5, S-1-1-6,2,19980820,2046, 30.9960, 135.2573, 4260,   1205.5,   4.0039,  34.3783,2,   -999.0,9,-999.0000,9,     73.5,2,  -999.00,9,  -999.00,9,    37.18,2,     0.00,2,     2.84,2, -999.000,9, -999.000,9,  -999.00,9,   -999.0,9,   -999.0,9,-999.0000,9,   -999.0,  9,  -999.00,9,   -999.0,  -999.00,9,  -999.00,9,  -999.00,9,  -999.00,9,   -999.0,-999.0000, -999,9, 1194,   3.9111,  27.3007,   -999.0,9