BOTTLE,20130510GEMDJMAYT
EXPOCODE,SECT_ID,STNNBR,CASTNO,SAMPNO,BTLNBR,BTLNBR_FLAG_W,DATE,TIME,LATITUDE,LONGITUDE,DEPTH,CTDPRS,CTDTMP,CTDSAL,CTDSAL_FLAG_W,CTDOXY,CTDOXY_FLAG_W,SALNTY,SALNTY_FLAG_W,OXYGEN,OXYGEN_FLAG_W,SILCAT,SILCAT_FLAG_W,NITRAT,NITRAT_FLAG_W,NO2+NO3,NO2+NO3_FLAG_W,NITRIT,NITRIT_FLAG_W,PHSPHT,PHSPHT_FLAG_W,CFC-11,CFC-11_FLAG_W,CFC-12,CFC-12_FLAG_W,DELC13,DELC13_FLAG_W,TCARBN,TCARBN_FLAG_W,ALKALI,ALKALI_FLAG_W,PH,PH_FLAG_W,PH_TMP,PH_SCALE,PH_NBS,PH_NBS_FLAG_W,C13ERR,TOTALP,TOTALP_FLAG_W,AMMONI,AMMONI_FLAG_W,CHLORA,CHLORA_FLAG_W,PPHYTN,PPHYTN_FLAG_W,REVPRS,REVTMP,DEPTH_,DEPTH_FLAG,CTDDEP,THETA,SIGTHT,DOC,DOC_FLAG_W
,,,,,,,GMT,GMT,,,METER,DBAR,ITS-90,PSS-78,,UMOL/KG,,PSS-78,,UMOL/KG,,UMOL/KG,,UMOL/KG,,UMOL/KG,,UMOL/KG,,UMOL/KG,,PMOL/KG,,PMOL/KG,,/MILLE,,UMOL/KG,,UMOL/KG,,25_DEG_C,,DEG_C,,,,/MILLE,UMOL/KG,,UMOL/KG,,UG/L,,UG/L,,DBAR,ITS-90,METERS,,METERS,DEG_C,,UMOL/L,
       SH98-08,  NONE,SH-5641,  1,      7, S-1-1-4,2,19980901,0105, 31.2542, 133.8485, 4560,     50.4,  23.5104,  34.7657,2,   -999.0,9,  34.7395,4,   -999.0,9,  -999.00,9,  -999.00,9,  -999.00,9,  -999.00,9,  -999.00,9, -999.000,9, -999.000,9,  -999.00,9,   -999.0,9,   -999.0,9,-999.0000,9,   -999.0,  9,  -999.00,9,   -999.0,  -999.00,9,  -999.00,9,  -999.00,9,  -999.00,9,   -999.0,-999.0000, -999,9,   50,  23.5000,  23.6109,   -999.0,9
       SH98-08,  NONE,SH-5641,  1,      6,02-14892,2,19980901,0104, 31.2542, 133.8485, 4560,     99.4,  20.2980,  34.8425,2,   -999.0,9,  34.8378,2,   -999.0,9,  -999.00,9,  -999.00,9,  -999.00,9,  -999.00,9,  -999.00,9, -999.000,9, -999.000,9,  -999.00,9,   -999.0,9,   -999.0,9,-999.0000,9,   -999.0,  9,  -999.00,9,   -999.0,  -999.00,9,  -999.00,9,  -999.00,9,  -999.00,9,   -999.0,-999.0000, -999,9,   99,  20.2795,  24.5676,   -999.0,9
       SH98-08,  NONE,SH-5641,  1,      5, S-1-1-6,2,19980901,0103, 31.2542, 133.8485, 4560,    148.0,  19.3065,  34.8336,2,   -999.0,9,  34.8359,2,   -999.0,9,  -999.00,9,  -999.00,9,  -999.00,9,  -999.00,9,  -999.00,9, -999.000,9, -999.000,9,  -999.00,9,   -999.0,9,   -999.0,9,-999.0000,9,   -999.0,  9,  -999.00,9,   -999.0,  -999.00,9,  -999.00,9,  -999.00,9,  -999.00,9,   -999.0,-999.0000, -999,9,  147,  19.2799,  24.8223,   -999.0,9
       SH98-08,  NONE,SH-5641,  1,      4, S-1-1-1,2,19980901,0101, 31.2542, 133.8485, 4560,    198.9,  18.6422,  34.8431,2,   -999.0,9,  34.8377,2,   -999.0,9,  -999.00,9,  -999.00,9,  -999.00,9,  -999.00,9,  -999.00,9, -999.000,9, -999.000,9,  -999.00,9,   -999.0,9,   -999.0,9,-999.0000,9,   -999.0,  9,  -999.00,9,   -999.0,  -999.00,9,  -999.00,9,  -999.00,9,  -999.00,9,   -999.0,-999.0000, -999,9,  197,  18.6072,  25.0008,   -999.0,9
       SH98-08,  NONE,SH-5641,  1,      3,1-133-84,2,19980901,0100, 31.2542, 133.8485, 4560,    299.0,  17.4028,  34.8186,2,   -999.0,9,  34.8140,2,   -999.0,9,  -999.00,9,  -999.00,9,  -999.00,9,  -999.00,9,  -999.00,9, -999.000,9, -999.000,9,  -999.00,9,   -999.0,9,   -999.0,9,-999.0000,9,   -999.0,  9,  -999.00,9,   -999.0,  -999.00,9,  -999.00,9,  -999.00,9,  -999.00,9,   -999.0,-999.0000, -999,9,  297,  17.3525,  25.2907,   -999.0,9
       SH98-08,  NONE,SH-5641,  1,      2, 1-133-1,2,19980901,0058, 31.2542, 133.8485, 4560,    397.4,  15.7770,  34.7077,2,   -999.0,9,  34.7032,2,   -999.0,9,  -999.00,9,  -999.00,9,  -999.00,9,  -999.00,9,  -999.00,9, -999.000,9, -999.000,9,  -999.00,9,   -999.0,9,   -999.0,9,-999.0000,9,   -999.0,  9,  -999.00,9,   -999.0,  -999.00,9,  -999.00,9,  -999.00,9,  -999.00,9,   -999.0,-999.0000, -999,9,  394,  15.7144,  25.5876,   -999.0,9
       SH98-08,  NONE,SH-5641,  1,      1, 1-133-2,2,19980901,0055, 31.2542, 133.8485, 4560,    597.6,  11.3134,  34.3698,2,   -999.0,9,  34.3724,2,   -999.0,9,  -999.00,9,  -999.00,9,  -999.00,9,  -999.00,9,  -999.00,9, -999.000,9, -999.000,9,  -999.00,9,   -999.0,9,   -999.0,9,-999.0000,9,   -999.0,  9,  -999.00,9,   -999.0,  -999.00,9,  -999.00,9,  -999.00,9,  -999.00,9,   -999.0,-999.0000, -999,9,  593,  11.2376,  26.2416,   -999.0,9
       SH98-08,  NONE,SH-5641,  1,     12, S-1-1-8,2,19980901,0053, 31.2542, 133.8485, 4560,    698.9,   9.0474,  34.2252,2,   -999.0,9,  34.2117,4,   -999.0,9,  -999.00,9,  -999.00,9,  -999.00,9,  -999.00,9,  -999.00,9, -999.000,9, -999.000,9,  -999.00,9,   -999.0,9,   -999.0,9,-999.0000,9,   -999.0,  9,  -999.00,9,   -999.0,  -999.00,9,  -999.00,9,  -999.00,9,  -999.00,9,   -999.0,-999.0000, -999,9,  693,   8.9698,  26.5162,   -999.0,9
       SH98-08,  NONE,SH-5641,  1,     11,s-1-1-11,2,19980901,0051, 31.2542, 133.8485, 4560,    799.9,   6.8540,  34.2170,2,   -999.0,9,  34.2192,2,   -999.0,9,  -999.00,9,  -999.00,9,  -999.00,9,  -999.00,9,  -999.00,9, -999.000,9, -999.000,9,  -999.00,9,   -999.0,9,   -999.0,9,-999.0000,9,   -999.0,  9,  -999.00,9,   -999.0,  -999.00,9,  -999.00,9,  -999.00,9,  -999.00,9,   -999.0,-999.0000, -999,9,  793,   6.7776,  26.8323,   -999.0,9
       SH98-08,  NONE,SH-5641,  1,     10,S-1-1-10,2,19980901,0048, 31.2542, 133.8485, 4560,   1002.0,   4.4809,  34.2890,2,   -999.0,9,  34.2927,2,   -999.0,9,  -999.00,9,  -999.00,9,  -999.00,9,  -999.00,9,  -999.00,9, -999.000,9, -999.000,9,  -999.00,9,   -999.0,9,   -999.0,9,-999.0000,9,   -999.0,  9,  -999.00,9,   -999.0,  -999.00,9,  -999.00,9,  -999.00,9,  -999.00,9,   -999.0,-999.0000, -999,9,  993,   4.4018,  27.1782,   -999.0,9
       SH98-08,  NONE,SH-5641,  1,      9, S-1-1-7,2,19980901,0044, 31.2542, 133.8485, 4560,   1212.0,   3.3802,  34.4052,2,   -999.0,9,  34.3999,2,   -999.0,9,  -999.00,9,  -999.00,9,  -999.00,9,  -999.00,9,  -999.00,9, -999.000,9, -999.000,9,  -999.00,9,   -999.0,9,   -999.0,9,-999.0000,9,   -999.0,  9,  -999.00,9,   -999.0,  -999.00,9,  -999.00,9,  -999.00,9,  -999.00,9,   -999.0,-999.0000, -999,9, 1200,   3.2926,  27.3830,   -999.0,9
       SH98-08,  NONE,SH-5646,  1,      8, S-1-1-9,2,19980901,1329, 30.0005, 134.4985, 4610,     49.7,  24.6186,  34.6907,2,   -999.0,9,  34.6963,2,   -999.0,9,  -999.00,9,  -999.00,9,  -999.00,9,  -999.00,9,  -999.00,9, -999.000,9, -999.000,9,  -999.00,9,   -999.0,9,   -999.0,9,-999.0000,9,   -999.0,  9,  -999.00,9,   -999.0,  -999.00,9,  -999.00,9,  -999.00,9,  -999.00,9,   -999.0,-999.0000, -999,9,   49,  24.6080,  23.2259,   -999.0,9
       SH98-08,  NONE,SH-5646,  1,      7, S-1-1-4,2,19980901,1328, 30.0005, 134.4985, 4610,     98.4,  20.8089,  34.8359,2,   -999.0,9,  34.8317,2,   -999.0,9,  -999.00,9,  -999.00,9,  -999.00,9,  -999.00,9,  -999.00,9, -999.000,9, -999.000,9,  -999.00,9,   -999.0,9,   -999.0,9,-999.0000,9,   -999.0,  9,  -999.00,9,   -999.0,  -999.00,9,  -999.00,9,  -999.00,9,  -999.00,9,   -999.0,-999.0000, -999,9,   98,  20.7902,  24.4258,   -999.0,9
       SH98-08,  NONE,SH-5646,  1,      6,02-14892,2,19980901,1326, 30.0005, 134.4985, 4610,    198.7,  18.8144,  34.8279,2,   -999.0,9,  34.8288,2,   -999.0,9,  -999.00,9,  -999.00,9,  -999.00,9,  -999.00,9,  -999.00,9, -999.000,9, -999.000,9,  -999.00,9,   -999.0,9,   -999.0,9,-999.0000,9,   -999.0,  9,  -999.00,9,   -999.0,  -999.00,9,  -999.00,9,  -999.00,9,  -999.00,9,   -999.0,-999.0000, -999,9,  197,  18.7793,  24.9457,   -999.0,9
       SH98-08,  NONE,SH-5646,  1,      5, S-1-1-6,2,19980901,1325, 30.0005, 134.4985, 4610,    298.3,  17.6910,  34.8507,2,   -999.0,9,  34.8371,4,   -999.0,9,  -999.00,9,  -999.00,9,  -999.00,9,  -999.00,9,  -999.00,9, -999.000,9, -999.000,9,  -999.00,9,   -999.0,9,   -999.0,9,-999.0000,9,   -999.0,  9,  -999.00,9,   -999.0,  -999.00,9,  -999.00,9,  -999.00,9,  -999.00,9,   -999.0,-999.0000, -999,9,  296,  17.6403,  25.2457,   -999.0,9
       SH98-08,  NONE,SH-5646,  1,      4, S-1-1-1,2,19980901,1323, 30.0005, 134.4985, 4610,    398.2,  16.1977,  34.7297,2,   -999.0,9,  34.7316,2,   -999.0,9,  -999.00,9,  -999.00,9,  -999.00,9,  -999.00,9,  -999.00,9, -999.000,9, -999.000,9,  -999.00,9,   -999.0,9,   -999.0,9,-999.0000,9,   -999.0,  9,  -999.00,9,   -999.0,  -999.00,9,  -999.00,9,  -999.00,9,  -999.00,9,   -999.0,-999.0000, -999,9,  395,  16.1339,  25.5090,   -999.0,9
       SH98-08,  NONE,SH-5646,  1,      3,1-133-84,2,19980901,1321, 30.0005, 134.4985, 4610,    497.7,  14.2862,  34.5874,2,   -999.0,9,  34.5864,2,   -999.0,9,  -999.00,9,  -999.00,9,  -999.00,9,  -999.00,9,  -999.00,9, -999.000,9, -999.000,9,  -999.00,9,   -999.0,9,   -999.0,9,-999.0000,9,   -999.0,  9,  -999.00,9,   -999.0,  -999.00,9,  -999.00,9,  -999.00,9,  -999.00,9,   -999.0,-999.0000, -999,9,  494,  14.2129,  25.8234,   -999.0,9
       SH98-08,  NONE,SH-5646,  1,      2, 1-133-1,2,19980901,1319, 30.0005, 134.4985, 4610,    598.2,  11.3294,  34.3812,2,   -999.0,9,  34.3814,2,   -999.0,9,  -999.00,9,  -999.00,9,  -999.00,9,  -999.00,9,  -999.00,9, -999.000,9, -999.000,9,  -999.00,9,   -999.0,9,   -999.0,9,-999.0000,9,   -999.0,  9,  -999.00,9,   -999.0,  -999.00,9,  -999.00,9,  -999.00,9,  -999.00,9,   -999.0,-999.0000, -999,9,  593,  11.2534,  26.2476,   -999.0,9
       SH98-08,  NONE,SH-5646,  1,      1, 1-133-2,2,19980901,1317, 30.0005, 134.4985, 4610,    697.7,   8.7343,  34.2456,2,   -999.0,9,  34.2292,4,   -999.0,9,  -999.00,9,  -999.00,9,  -999.00,9,  -999.00,9,  -999.00,9, -999.000,9, -999.000,9,  -999.00,9,   -999.0,9,   -999.0,9,-999.0000,9,   -999.0,  9,  -999.00,9,   -999.0,  -999.00,9,  -999.00,9,  -999.00,9,  -999.00,9,   -999.0,-999.0000, -999,9,  692,   8.6585,  26.5811,   -999.0,9
       SH98-08,  NONE,SH-5646,  1,     12, S-1-1-8,2,19980901,1316, 30.0005, 134.4985, 4610,    799.1,   6.7782,  34.2317,2,   -999.0,9,  34.2160,4,   -999.0,9,  -999.00,9,  -999.00,9,  -999.00,9,  -999.00,9,  -999.00,9, -999.000,9, -999.000,9,  -999.00,9,   -999.0,9,   -999.0,9,-999.0000,9,   -999.0,  9,  -999.00,9,   -999.0,  -999.00,9,  -999.00,9,  -999.00,9,  -999.00,9,   -999.0,-999.0000, -999,9,  792,   6.7023,  26.8540,   -999.0,9
       SH98-08,  NONE,SH-5646,  1,     11,s-1-1-11,2,19980901,1313, 30.0005, 134.4985, 4610,   1001.0,   4.5373,  34.2837,2,   -999.0,9,  34.2780,2,   -999.0,9,  -999.00,9,  -999.00,9,  -999.00,9,  -999.00,9,  -999.00,9, -999.000,9, -999.000,9,  -999.00,9,   -999.0,9,   -999.0,9,-999.0000,9,   -999.0,  9,  -999.00,9,   -999.0,  -999.00,9,  -999.00,9,  -999.00,9,  -999.00,9,   -999.0,-999.0000, -999,9,  992,   4.4578,  27.1679,   -999.0,9
       SH98-08,  NONE,SH-5646,  1,     10,S-1-1-10,2,19980901,1309, 30.0005, 134.4985, 4610,   1211.0,   3.4227,  34.4107,2,   -999.0,9,  34.4080,2,   -999.0,9,  -999.00,9,  -999.00,9,  -999.00,9,  -999.00,9,  -999.00,9, -999.000,9, -999.000,9,  -999.00,9,   -999.0,9,   -999.0,9,-999.0000,9,   -999.0,  9,  -999.00,9,   -999.0,  -999.00,9,  -999.00,9,  -999.00,9,  -999.00,9,   -999.0,-999.0000, -999,9, 1199,   3.3348,  27.3835,   -999.0,9
       SH98-08,  NONE,SH-5650,  1,      9, S-1-1-7,2,19980902,0039, 29.0023, 135.0398, 4750,     49.7,  26.1778,  34.6335,2,   -999.0,9,  34.6384,2,   -999.0,9,  -999.00,9,  -999.00,9,  -999.00,9,  -999.00,9,  -999.00,9, -999.000,9, -999.000,9,  -999.00,9,   -999.0,9,   -999.0,9,-999.0000,9,   -999.0,  9,  -999.00,9,   -999.0,  -999.00,9,  -999.00,9,  -999.00,9,  -999.00,9,   -999.0,-999.0000, -999,9,   49,  26.1667,  22.7048,   -999.0,9
       SH98-08,  NONE,SH-5650,  1,      8, S-1-1-9,2,19980902,0038, 29.0023, 135.0398, 4750,     99.5,  23.2481,  34.9190,2,   -999.0,9,  34.9197,2,   -999.0,9,  -999.00,9,  -999.00,9,  -999.00,9,  -999.00,9,  -999.00,9, -999.000,9, -999.000,9,  -999.00,9,   -999.0,9,   -999.0,9,-999.0000,9,   -999.0,  9,  -999.00,9,   -999.0,  -999.00,9,  -999.00,9,  -999.00,9,  -999.00,9,   -999.0,-999.0000, -999,9,   99,  23.2276,  23.8064,   -999.0,9
       SH98-08,  NONE,SH-5650,  1,      7, S-1-1-4,2,19980902,0035, 29.0023, 135.0398, 4750,    198.9,  19.3749,  34.8570,2,   -999.0,9,  34.8570,2,   -999.0,9,  -999.00,9,  -999.00,9,  -999.00,9,  -999.00,9,  -999.00,9, -999.000,9, -999.000,9,  -999.00,9,   -999.0,9,   -999.0,9,-999.0000,9,   -999.0,  9,  -999.00,9,   -999.0,  -999.00,9,  -999.00,9,  -999.00,9,  -999.00,9,   -999.0,-999.0000, -999,9,  197,  19.3390,  24.8249,   -999.0,9
       SH98-08,  NONE,SH-5650,  1,      6,02-14892,2,19980902,0034, 29.0023, 135.0398, 4750,    297.5,  17.3730,  34.8123,2,   -999.0,9,  34.8108,2,   -999.0,9,  -999.00,9,  -999.00,9,  -999.00,9,  -999.00,9,  -999.00,9, -999.000,9, -999.000,9,  -999.00,9,   -999.0,9,   -999.0,9,-999.0000,9,   -999.0,  9,  -999.00,9,   -999.0,  -999.00,9,  -999.00,9,  -999.00,9,  -999.00,9,   -999.0,-999.0000, -999,9,  295,  17.3231,  25.2930,   -999.0,9
       SH98-08,  NONE,SH-5650,  1,      5, S-1-1-6,2,19980902,0032, 29.0023, 135.0398, 4750,    399.0,  15.1782,  34.6453,2,   -999.0,9,  34.6472,2,   -999.0,9,  -999.00,9,  -999.00,9,  -999.00,9,  -999.00,9,  -999.00,9, -999.000,9, -999.000,9,  -999.00,9,   -999.0,9,   -999.0,9,-999.0000,9,   -999.0,  9,  -999.00,9,   -999.0,  -999.00,9,  -999.00,9,  -999.00,9,  -999.00,9,   -999.0,-999.0000, -999,9,  396,  15.1170,  25.6727,   -999.0,9
       SH98-08,  NONE,SH-5650,  1,      4, S-1-1-1,2,19980902,0030, 29.0023, 135.0398, 4750,    498.9,  12.4907,  34.4428,2,   -999.0,9,  34.4472,2,   -999.0,9,  -999.00,9,  -999.00,9,  -999.00,9,  -999.00,9,  -999.00,9, -999.000,9, -999.000,9,  -999.00,9,   -999.0,9,   -999.0,9,-999.0000,9,   -999.0,  9,  -999.00,9,   -999.0,  -999.00,9,  -999.00,9,  -999.00,9,  -999.00,9,   -999.0,-999.0000, -999,9,  495,  12.4235,  26.0748,   -999.0,9
       SH98-08,  NONE,SH-5650,  1,      3,1-133-84,2,19980902,0028, 29.0023, 135.0398, 4750,    598.9,  10.1949,  34.2989,2,   -999.0,9,  34.3002,2,   -999.0,9,  -999.00,9,  -999.00,9,  -999.00,9,  -999.00,9,  -999.00,9, -999.000,9, -999.000,9,  -999.00,9,   -999.0,9,   -999.0,9,-999.0000,9,   -999.0,  9,  -999.00,9,   -999.0,  -999.00,9,  -999.00,9,  -999.00,9,  -999.00,9,   -999.0,-999.0000, -999,9,  594,  10.1238,  26.3833,   -999.0,9
       SH98-08,  NONE,SH-5650,  1,      2, 1-133-1,2,19980902,0026, 29.0023, 135.0398, 4750,    698.4,   7.9970,  34.2288,2,   -999.0,9,  34.2304,2,   -999.0,9,  -999.00,9,  -999.00,9,  -999.00,9,  -999.00,9,  -999.00,9, -999.000,9, -999.000,9,  -999.00,9,   -999.0,9,   -999.0,9,-999.0000,9,   -999.0,  9,  -999.00,9,   -999.0,  -999.00,9,  -999.00,9,  -999.00,9,  -999.00,9,   -999.0,-999.0000, -999,9,  693,   7.9249,  26.6793,   -999.0,9
       SH98-08,  NONE,SH-5650,  1,      1, 1-133-2,2,19980902,0024, 29.0023, 135.0398, 4750,    799.8,   6.3809,  34.2210,2,   -999.0,9,  34.2166,2,   -999.0,9,  -999.00,9,  -999.00,9,  -999.00,9,  -999.00,9,  -999.00,9, -999.000,9, -999.000,9,  -999.00,9,   -999.0,9,   -999.0,9,-999.0000,9,   -999.0,  9,  -999.00,9,   -999.0,  -999.00,9,  -999.00,9,  -999.00,9,  -999.00,9,   -999.0,-999.0000, -999,9,  793,   6.3074,  26.8977,   -999.0,9
       SH98-08,  NONE,SH-5650,  1,     12, S-1-1-8,2,19980902,0021, 29.0023, 135.0398, 4750,   1002.5,   4.2851,  34.3341,2,   -999.0,9,  34.3332,2,   -999.0,9,  -999.00,9,  -999.00,9,  -999.00,9,  -999.00,9,  -999.00,9, -999.000,9, -999.000,9,  -999.00,9,   -999.0,9,   -999.0,9,-999.0000,9,   -999.0,  9,  -999.00,9,   -999.0,  -999.00,9,  -999.00,9,  -999.00,9,  -999.00,9,   -999.0,-999.0000, -999,9,  993,   4.2073,  27.2348,   -999.0,9
       SH98-08,  NONE,SH-5650,  1,     11,s-1-1-11,2,19980902,0018, 29.0023, 135.0398, 4750,   1216.0,   3.2523,  34.4465,2,   -999.0,9,  34.4446,2,   -999.0,9,  -999.00,9,  -999.00,9,  -999.00,9,  -999.00,9,  -999.00,9, -999.000,9, -999.000,9,  -999.00,9,   -999.0,9,   -999.0,9,-999.0000,9,   -999.0,  9,  -999.00,9,   -999.0,  -999.00,9,  -999.00,9,  -999.00,9,  -999.00,9,   -999.0,-999.0000, -999,9, 1204,   3.1654,  27.4280,   -999.0,9