BOTTLE,20130510GEMDJMAYT
EXPOCODE,SECT_ID,STNNBR,CASTNO,SAMPNO,BTLNBR,BTLNBR_FLAG_W,DATE,TIME,LATITUDE,LONGITUDE,DEPTH,CTDPRS,CTDTMP,CTDSAL,CTDSAL_FLAG_W,CTDOXY,CTDOXY_FLAG_W,SALNTY,SALNTY_FLAG_W,OXYGEN,OXYGEN_FLAG_W,SILCAT,SILCAT_FLAG_W,NITRAT,NITRAT_FLAG_W,NO2+NO3,NO2+NO3_FLAG_W,NITRIT,NITRIT_FLAG_W,PHSPHT,PHSPHT_FLAG_W,CFC-11,CFC-11_FLAG_W,CFC-12,CFC-12_FLAG_W,DELC13,DELC13_FLAG_W,TCARBN,TCARBN_FLAG_W,ALKALI,ALKALI_FLAG_W,PH,PH_FLAG_W,PH_TMP,PH_SCALE,PH_NBS,PH_NBS_FLAG_W,C13ERR,TOTALP,TOTALP_FLAG_W,AMMONI,AMMONI_FLAG_W,CHLORA,CHLORA_FLAG_W,PPHYTN,PPHYTN_FLAG_W,REVPRS,REVTMP,DEPTH_,DEPTH_FLAG,CTDDEP,THETA,SIGTHT,DOC,DOC_FLAG_W
,,,,,,,GMT,GMT,,,METER,DBAR,ITS-90,PSS-78,,UMOL/KG,,PSS-78,,UMOL/KG,,UMOL/KG,,UMOL/KG,,UMOL/KG,,UMOL/KG,,UMOL/KG,,PMOL/KG,,PMOL/KG,,/MILLE,,UMOL/KG,,UMOL/KG,,25_DEG_C,,DEG_C,,,,/MILLE,UMOL/KG,,UMOL/KG,,UG/L,,UG/L,,DBAR,ITS-90,METERS,,METERS,DEG_C,,UMOL/L,
       SH98-08,  NONE,SH-5632,  2,     -9,      -9,5,19980823,0405, 30.3212, 132.5572, 4040,      0.0,  31.4024,  34.2582,2,   -999.0,9,-999.0000,9,    212.0,2,  -999.00,9,  -999.00,9,     0.00,2,     0.00,2,     0.00,2, -999.000,9, -999.000,9,  -999.00,9,   -999.0,9,   -999.0,9,-999.0000,9,   -999.0,  9,  -999.00,9,   -999.0,  -999.00,9,  -999.00,9,     0.07,2,     0.03,2,   -999.0,-999.0000, -999,9,    0,  31.4024,  20.6853,   -999.0,9
       SH98-08,  NONE,SH-5632,  2,      7, S-1-1-4,2,19980823,0405, 30.3212, 132.5572, 4040,     12.1,  30.3185,  34.1709,2,   -999.0,9,  34.1783,2,    215.4,2,  -999.00,9,  -999.00,9,     0.00,2,     0.00,2,     0.00,2, -999.000,9, -999.000,9,  -999.00,9,   -999.0,9,   -999.0,9,-999.0000,9,   -999.0,  9,  -999.00,9,   -999.0,  -999.00,9,  -999.00,9,     0.06,2,     0.03,2,   -999.0,-999.0000, -999,9,   12,  30.3154,  20.9970,   -999.0,9
       SH98-08,  NONE,SH-5632,  2,      6,02-14892,2,19980823,0404, 30.3212, 132.5572, 4040,     27.3,  29.3767,  34.2510,2,   -999.0,9,  34.2479,2,    220.5,2,  -999.00,9,  -999.00,9,     0.00,2,     0.00,2,     0.00,2, -999.000,9, -999.000,9,  -999.00,9,   -999.0,9,   -999.0,9,-999.0000,9,   -999.0,  9,  -999.00,9,   -999.0,  -999.00,9,  -999.00,9,     0.07,2,     0.04,2,   -999.0,-999.0000, -999,9,   27,  29.3700,  21.3779,   -999.0,9
       SH98-08,  NONE,SH-5632,  2,      5, S-1-1-6,2,19980823,0403, 30.3212, 132.5572, 4040,     53.2,  28.2532,  34.4594,2,   -999.0,9,  34.4598,2,    222.7,2,  -999.00,9,  -999.00,9,     0.00,2,     0.00,2,     0.00,2, -999.000,9, -999.000,9,  -999.00,9,   -999.0,9,   -999.0,9,-999.0000,9,   -999.0,  9,  -999.00,9,   -999.0,  -999.00,9,  -999.00,9,     0.10,2,     0.06,2,   -999.0,-999.0000, -999,9,   53,  28.2406,  21.9094,   -999.0,9
       SH98-08,  NONE,SH-5632,  2,      4, S-1-1-1,2,19980823,0402, 30.3212, 132.5572, 4040,     77.3,  26.9733,  34.5972,2,   -999.0,9,  34.5561,4,    223.5,2,  -999.00,9,  -999.00,9,     0.00,2,     0.00,2,     0.00,2, -999.000,9, -999.000,9,  -999.00,9,   -999.0,9,   -999.0,9,-999.0000,9,   -999.0,  9,  -999.00,9,   -999.0,  -999.00,9,  -999.00,9,     0.17,2,     0.14,2,   -999.0,-999.0000, -999,9,   77,  26.9556,  22.4286,   -999.0,9
       SH98-08,  NONE,SH-5632,  2,      3,1-133-84,2,19980823,0401, 30.3212, 132.5572, 4040,    102.9,  24.9706,  34.7116,2,   -999.0,9,  34.6997,2,    216.5,2,  -999.00,9,  -999.00,9,     0.49,2,     0.10,2,     0.05,2, -999.000,9, -999.000,9,  -999.00,9,   -999.0,9,   -999.0,9,-999.0000,9,   -999.0,  9,  -999.00,9,   -999.0,  -999.00,9,  -999.00,9,     0.31,2,     0.71,2,   -999.0,-999.0000, -999,9,  102,  24.9483,  23.1389,   -999.0,9
       SH98-08,  NONE,SH-5632,  2,      2, 1-133-1,2,19980823,0400, 30.3212, 132.5572, 4040,    127.0,  23.0715,  34.7934,2,   -999.0,9,  34.7872,2,    211.2,2,  -999.00,9,  -999.00,9,     1.37,2,     0.04,2,     0.12,2, -999.000,9, -999.000,9,  -999.00,9,   -999.0,9,   -999.0,9,-999.0000,9,   -999.0,  9,  -999.00,9,   -999.0,  -999.00,9,  -999.00,9,     0.06,2,     0.17,2,   -999.0,-999.0000, -999,9,  126,  23.0455,  23.7638,   -999.0,9
       SH98-08,  NONE,SH-5632,  2,      1, 1-133-2,2,19980823,0400, 30.3212, 132.5572, 4040,    148.2,  22.3629,  34.7976,2,   -999.0,9,  34.8008,2,    210.5,2,  -999.00,9,  -999.00,9,     1.66,2,     0.02,2,     0.14,2, -999.000,9, -999.000,9,  -999.00,9,   -999.0,9,   -999.0,9,-999.0000,9,   -999.0,  9,  -999.00,9,   -999.0,  -999.00,9,  -999.00,9,     0.03,2,     0.08,2,   -999.0,-999.0000, -999,9,  147,  22.3333,  23.9703,   -999.0,9
       SH98-08,  NONE,SH-5632,  2,     12, S-1-1-8,2,19980823,0358, 30.3212, 132.5572, 4040,    202.0,  21.0313,  34.8503,2,   -999.0,9,  34.8373,2,    207.7,2,  -999.00,9,  -999.00,9,     2.44,2,     0.02,2,     0.21,2, -999.000,9, -999.000,9,  -999.00,9,   -999.0,9,   -999.0,9,-999.0000,9,   -999.0,  9,  -999.00,9,   -999.0,  -999.00,9,  -999.00,9,     0.01,2,     0.05,2,   -999.0,-999.0000, -999,9,  200,  20.9926,  24.3819,   -999.0,9
       SH98-08,  NONE,SH-5632,  2,     11,s-1-1-11,2,19980823,0358, 30.3212, 132.5572, 4040,    252.4,  18.8524,  34.8470,2,   -999.0,9,  34.8436,2,    206.5,2,  -999.00,9,  -999.00,9,     4.20,2,     0.00,2,     0.33,2, -999.000,9, -999.000,9,  -999.00,9,   -999.0,9,   -999.0,9,-999.0000,9,   -999.0,  9,  -999.00,9,   -999.0,  -999.00,9,  -999.00,9,     0.00,2,     0.03,2,   -999.0,-999.0000, -999,9,  250,  18.8076,  24.9531,   -999.0,9
       SH98-08,  NONE,SH-5632,  2,     10,S-1-1-10,2,19980823,0356, 30.3212, 132.5572, 4040,    301.2,  17.2682,  34.8047,2,   -999.0,9,  34.8016,2,    212.4,2,  -999.00,9,  -999.00,9,     5.56,2,     0.00,2,     0.42,2, -999.000,9, -999.000,9,  -999.00,9,   -999.0,9,   -999.0,9,-999.0000,9,   -999.0,  9,  -999.00,9,   -999.0,  -999.00,9,  -999.00,9,     0.00,2,     0.01,2,   -999.0,-999.0000, -999,9,  299,  17.2178,  25.3124,   -999.0,9
       SH98-08,  NONE,SH-5632,  2,      9, S-1-1-7,2,19980823,0355, 30.3212, 132.5572, 4040,    402.2,  13.8122,  34.5441,2,   -999.0,9,  34.5407,2,    193.5,2,  -999.00,9,  -999.00,9,    12.09,2,     0.00,2,     0.93,2, -999.000,9, -999.000,9,  -999.00,9,   -999.0,9,   -999.0,9,-999.0000,9,   -999.0,  9,  -999.00,9,   -999.0,  -999.00,9,  -999.00,9,  -999.00,9,  -999.00,9,   -999.0,-999.0000, -999,9,  399,  13.7545,  25.8860,   -999.0,9
       SH98-08,  NONE,SH-5632,  2,      8, S-1-1-9,2,19980823,0353, 30.3212, 132.5572, 4040,    505.1,  10.5532,  34.3112,2,   -999.0,9,  34.3354,4,    172.8,2,  -999.00,9,  -999.00,9,    19.00,2,     0.00,2,     1.45,2, -999.000,9, -999.000,9,  -999.00,9,   -999.0,9,   -999.0,9,-999.0000,9,   -999.0,  9,  -999.00,9,   -999.0,  -999.00,9,  -999.00,9,  -999.00,9,  -999.00,9,   -999.0,-999.0000, -999,9,  501,  10.4921,  26.3293,   -999.0,9
       SH98-08,  NONE,SH-5632,  1,      7, S-1-1-4,2,19980823,0323, 30.2997, 132.5548, 3910,    597.1,   8.1552,  34.2513,2,   -999.0,9,  34.2497,2,    141.0,2,  -999.00,9,  -999.00,9,    25.62,2,     0.00,2,     1.96,2, -999.000,9, -999.000,9,  -999.00,9,   -999.0,9,   -999.0,9,-999.0000,9,   -999.0,  9,  -999.00,9,   -999.0,  -999.00,9,  -999.00,9,  -999.00,9,  -999.00,9,   -999.0,-999.0000, -999,9,  592,   8.0932,  26.6719,   -999.0,9
       SH98-08,  NONE,SH-5632,  1,      6,02-14892,2,19980823,0322, 30.2997, 132.5548, 3910,    697.3,   6.6212,  34.2257,2,   -999.0,9,  34.2235,2,    116.8,2,  -999.00,9,  -999.00,9,    29.90,2,     0.00,2,     2.30,2, -999.000,9, -999.000,9,  -999.00,9,   -999.0,9,   -999.0,9,-999.0000,9,   -999.0,  9,  -999.00,9,   -999.0,  -999.00,9,  -999.00,9,  -999.00,9,  -999.00,9,   -999.0,-999.0000, -999,9,  691,   6.5564,  26.8687,   -999.0,9
       SH98-08,  NONE,SH-5632,  1,      5, S-1-1-6,2,19980823,0320, 30.2997, 132.5548, 3910,    798.2,   5.2838,  34.3268,2,   -999.0,9,  34.3175,2,     91.4,2,  -999.00,9,  -999.00,9,    34.17,2,     0.00,2,     2.61,2, -999.000,9, -999.000,9,  -999.00,9,   -999.0,9,   -999.0,9,-999.0000,9,   -999.0,  9,  -999.00,9,   -999.0,  -999.00,9,  -999.00,9,  -999.00,9,  -999.00,9,   -999.0,-999.0000, -999,9,  791,   5.2170,  27.1163,   -999.0,9
       SH98-08,  NONE,SH-5632,  1,      4, S-1-1-1,2,19980823,0318, 30.2997, 132.5548, 3910,    898.2,   4.3972,  34.3759,2,   -999.0,9,  34.3689,2,     80.3,2,  -999.00,9,  -999.00,9,    36.21,2,     0.00,2,     2.75,2, -999.000,9, -999.000,9,  -999.00,9,   -999.0,9,   -999.0,9,-999.0000,9,   -999.0,  9,  -999.00,9,   -999.0,  -999.00,9,  -999.00,9,  -999.00,9,  -999.00,9,   -999.0,-999.0000, -999,9,  890,   4.3274,  27.2552,   -999.0,9
       SH98-08,  NONE,SH-5632,  1,      3,1-133-84,2,19980823,0317, 30.2997, 132.5548, 3910,    999.1,   3.7453,  34.4138,2,   -999.0,9,  34.4066,2,     75.3,2,  -999.00,9,  -999.00,9,    37.18,2,     0.00,2,     2.83,2, -999.000,9, -999.000,9,  -999.00,9,   -999.0,9,   -999.0,9,-999.0000,9,   -999.0,  9,  -999.00,9,   -999.0,  -999.00,9,  -999.00,9,  -999.00,9,  -999.00,9,   -999.0,-999.0000, -999,9,  990,   3.6718,  27.3531,   -999.0,9
       SH98-08,  NONE,SH-5632,  1,      2, 1-133-1,2,19980823,0314, 30.2997, 132.5548, 3910,   1201.4,   3.0279,  34.4882,2,   -999.0,9,  34.4773,2,     78.7,2,  -999.00,9,  -999.00,9,    37.86,2,     0.00,2,     2.86,2, -999.000,9, -999.000,9,  -999.00,9,   -999.0,9,   -999.0,9,-999.0000,9,   -999.0,  9,  -999.00,9,   -999.0,  -999.00,9,  -999.00,9,  -999.00,9,  -999.00,9,   -999.0,-999.0000, -999,9, 1190,   2.9442,  27.4816,   -999.0,9
       SH98-08,  NONE,SH-5632,  1,      1, 1-133-2,2,19980823,0310, 30.2997, 132.5548, 3910,   1503.8,   2.4967,  34.5519,2,   -999.0,9,  34.5391,2,   -999.0,9,  -999.00,9,  -999.00,9,  -999.00,9,  -999.00,9,  -999.00,9, -999.000,9, -999.000,9,  -999.00,9,   -999.0,9,   -999.0,9,-999.0000,9,   -999.0,  9,  -999.00,9,   -999.0,  -999.00,9,  -999.00,9,  -999.00,9,  -999.00,9,   -999.0,-999.0000, -999,9, 1488,   2.3944,  27.5805,   -999.0,9
       SH98-08,  NONE,SH-5632,  1,     12, S-1-1-8,2,19980823,0304, 30.2997, 132.5548, 3910,   2012.4,   1.9845,  34.6224,2,   -999.0,9,  34.5754,4,   -999.0,9,  -999.00,9,  -999.00,9,  -999.00,9,  -999.00,9,  -999.00,9, -999.000,9, -999.000,9,  -999.00,9,   -999.0,9,   -999.0,9,-999.0000,9,   -999.0,  9,  -999.00,9,   -999.0,  -999.00,9,  -999.00,9,  -999.00,9,  -999.00,9,   -999.0,-999.0000, -999,9, 1989,   1.8473,  27.6811,   -999.0,9
       SH98-08,  NONE,SH-5632,  1,     11,s-1-1-11,2,19980823,0255, 30.2997, 132.5548, 3910,   2519.3,   1.7073,  34.6649,2,   -999.0,9,  34.6455,4,   -999.0,9,  -999.00,9,  -999.00,9,  -999.00,9,  -999.00,9,  -999.00,9, -999.000,9, -999.000,9,  -999.00,9,   -999.0,9,   -999.0,9,-999.0000,9,   -999.0,  9,  -999.00,9,   -999.0,  -999.00,9,  -999.00,9,  -999.00,9,  -999.00,9,   -999.0,-999.0000, -999,9, 2487,   1.5307,  27.7390,   -999.0,9
       SH98-08,  NONE,SH-5632,  1,     10,S-1-1-10,2,19980823,0249, 30.2997, 132.5548, 3910,   3031.7,   1.5291,  34.6922,2,   -999.0,9,  34.6715,4,   -999.0,9,  -999.00,9,  -999.00,9,  -999.00,9,  -999.00,9,  -999.00,9, -999.000,9, -999.000,9,  -999.00,9,   -999.0,9,   -999.0,9,-999.0000,9,   -999.0,  9,  -999.00,9,   -999.0,  -999.00,9,  -999.00,9,  -999.00,9,  -999.00,9,   -999.0,-999.0000, -999,9, 2989,   1.3086,  27.7769,   -999.0,9
       SH98-08,  NONE,SH-5632,  1,      9, S-1-1-7,2,19980823,0237, 30.2997, 132.5548, 3910,   3532.1,   1.5095,  34.6999,2,   -999.0,9,  34.6394,4,   -999.0,9,  -999.00,9,  -999.00,9,  -999.00,9,  -999.00,9,  -999.00,9, -999.000,9, -999.000,9,  -999.00,9,   -999.0,9,   -999.0,9,-999.0000,9,   -999.0,  9,  -999.00,9,   -999.0,  -999.00,9,  -999.00,9,  -999.00,9,  -999.00,9,   -999.0,-999.0000, -999,9, 3479,   1.2397,  27.7879,   -999.0,9
       SH98-08,  NONE,SH-5632,  1,      8, S-1-1-9,2,19980823,0232, 30.2997, 132.5548, 3910,   3849.6,   1.5261,  34.7027,2,   -999.0,9,  34.6782,4,   -999.0,9,  -999.00,9,  -999.00,9,  -999.00,9,  -999.00,9,  -999.00,9, -999.000,9, -999.000,9,  -999.00,9,   -999.0,9,   -999.0,9,-999.0000,9,   -999.0,  9,  -999.00,9,   -999.0,  -999.00,9,  -999.00,9,  -999.00,9,  -999.00,9,   -999.0,-999.0000, -999,9, 3789,   1.2226,  27.7914,   -999.0,9
       SH98-08,  NONE,SH-5633,  2,     -9,      -9,5,19980823,0921, 30.6648, 132.1307, 2280,      0.0,  30.3091,  33.8656,2,   -999.0,9,-999.0000,9,    213.5,2,  -999.00,9,  -999.00,9,     0.00,2,     0.00,2,     0.00,2, -999.000,9, -999.000,9,  -999.00,9,   -999.0,9,   -999.0,9,-999.0000,9,   -999.0,  9,     8.24,2,   -999.0,  -999.00,9,  -999.00,9,     0.08,2,     0.04,2,   -999.0,-999.0000, -999,9,    0,  30.3091,  20.7705,   -999.0,9
       SH98-08,  NONE,SH-5633,  2,      1, 1-133-2,2,19980823,0921, 30.6648, 132.1307, 2280,     12.5,  29.9367,  34.1429,2,   -999.0,9,-999.0000,9,    216.0,2,  -999.00,9,  -999.00,9,     0.00,2,     0.00,2,     0.00,2, -999.000,9, -999.000,9,  -999.00,9,   -999.0,9,   -999.0,9,-999.0000,9,   -999.0,  9,     8.23,2,   -999.0,  -999.00,9,  -999.00,9,     0.08,2,     0.05,2,   -999.0,-999.0000, -999,9,   12,  29.9336,  21.1063,   -999.0,9
       SH98-08,  NONE,SH-5633,  2,     12, S-1-1-8,2,19980823,0919, 30.6648, 132.1307, 2280,     27.6,  28.8199,  34.3870,2,   -999.0,9,-999.0000,9,    219.0,2,  -999.00,9,  -999.00,9,     0.00,2,     0.00,2,     0.01,2, -999.000,9, -999.000,9,  -999.00,9,   -999.0,9,   -999.0,9,-999.0000,9,   -999.0,  9,     8.23,2,   -999.0,  -999.00,9,  -999.00,9,     0.13,2,     0.09,2,   -999.0,-999.0000, -999,9,   27,  28.8133,  21.6661,   -999.0,9
       SH98-08,  NONE,SH-5633,  2,     11,s-1-1-11,2,19980823,0919, 30.6648, 132.1307, 2280,     52.2,  27.0969,  34.5916,2,   -999.0,9,-999.0000,9,    221.6,2,  -999.00,9,  -999.00,9,     0.10,2,     0.00,2,     0.02,2, -999.000,9, -999.000,9,  -999.00,9,   -999.0,9,   -999.0,9,-999.0000,9,   -999.0,  9,     8.22,2,   -999.0,  -999.00,9,  -999.00,9,     0.33,2,     0.48,2,   -999.0,-999.0000, -999,9,   52,  27.0849,  22.3831,   -999.0,9
       SH98-08,  NONE,SH-5633,  2,     10,S-1-1-10,2,19980823,0918, 30.6648, 132.1307, 2280,     77.0,  25.5082,  34.6926,2,   -999.0,9,-999.0000,9,    216.4,2,  -999.00,9,  -999.00,9,     0.59,2,     0.17,2,     0.06,2, -999.000,9, -999.000,9,  -999.00,9,   -999.0,9,   -999.0,9,-999.0000,9,   -999.0,  9,     8.19,2,   -999.0,  -999.00,9,  -999.00,9,     0.12,2,     0.47,2,   -999.0,-999.0000, -999,9,   76,  25.4913,  22.9588,   -999.0,9
       SH98-08,  NONE,SH-5633,  2,      9, S-1-1-7,2,19980823,0917, 30.6648, 132.1307, 2280,    101.9,  24.9400,  34.7184,2,   -999.0,9,-999.0000,9,    218.6,2,  -999.00,9,  -999.00,9,     0.49,2,     0.12,2,     0.04,2, -999.000,9, -999.000,9,  -999.00,9,   -999.0,9,   -999.0,9,-999.0000,9,   -999.0,  9,     8.19,2,   -999.0,  -999.00,9,  -999.00,9,     0.06,2,     0.58,2,   -999.0,-999.0000, -999,9,  101,  24.9180,  23.1533,   -999.0,9
       SH98-08,  NONE,SH-5633,  2,      8, S-1-1-9,2,19980823,0916, 30.6648, 132.1307, 2280,    126.9,  23.8816,  34.7501,2,   -999.0,9,-999.0000,9,    215.0,2,  -999.00,9,  -999.00,9,     1.17,2,     0.09,2,     0.09,2, -999.000,9, -999.000,9,  -999.00,9,   -999.0,9,   -999.0,9,-999.0000,9,   -999.0,  9,     8.18,2,   -999.0,  -999.00,9,  -999.00,9,     0.08,2,     0.22,2,   -999.0,-999.0000, -999,9,  126,  23.8550,  23.4950,   -999.0,9
       SH98-08,  NONE,SH-5633,  2,      7, S-1-1-4,2,19980823,0915, 30.6648, 132.1307, 2280,    151.7,  21.6108,  34.7398,2,   -999.0,9,-999.0000,9,    204.1,2,  -999.00,9,  -999.00,9,     2.93,2,     0.05,2,     0.25,2, -999.000,9, -999.000,9,  -999.00,9,   -999.0,9,   -999.0,9,-999.0000,9,   -999.0,  9,     8.13,2,   -999.0,  -999.00,9,  -999.00,9,     0.04,2,     0.13,2,   -999.0,-999.0000, -999,9,  151,  21.5812,  24.1366,   -999.0,9
       SH98-08,  NONE,SH-5633,  2,      6,02-14892,2,19980823,0913, 30.6648, 132.1307, 2280,    202.0,  19.0274,  34.8303,2,   -999.0,9,-999.0000,9,    201.4,2,  -999.00,9,  -999.00,9,     4.88,2,     0.01,2,     0.39,2, -999.000,9, -999.000,9,  -999.00,9,   -999.0,9,   -999.0,9,-999.0000,9,   -999.0,  9,     8.09,2,   -999.0,  -999.00,9,  -999.00,9,     0.00,2,     0.05,2,   -999.0,-999.0000, -999,9,  201,  18.9914,  24.8936,   -999.0,9
       SH98-08,  NONE,SH-5633,  2,      5, S-1-1-6,2,19980823,0912, 30.6648, 132.1307, 2280,    252.0,  17.2793,  34.6910,2,   -999.0,9,-999.0000,9,    189.8,2,  -999.00,9,  -999.00,9,     8.19,2,     0.00,2,     0.63,2, -999.000,9, -999.000,9,  -999.00,9,   -999.0,9,   -999.0,9,-999.0000,9,   -999.0,  9,     8.03,2,   -999.0,  -999.00,9,  -999.00,9,     0.01,2,     0.04,2,   -999.0,-999.0000, -999,9,  250,  17.2373,  25.2205,   -999.0,9
       SH98-08,  NONE,SH-5633,  2,      4, S-1-1-1,2,19980823,0911, 30.6648, 132.1307, 2280,    302.8,  15.4555,  34.6574,2,   -999.0,9,-999.0000,9,    197.1,2,  -999.00,9,  -999.00,9,     9.36,2,     0.00,2,     0.70,2, -999.000,9, -999.000,9,  -999.00,9,   -999.0,9,   -999.0,9,-999.0000,9,   -999.0,  9,     8.01,2,   -999.0,  -999.00,9,  -999.00,9,     0.00,2,     0.02,2,   -999.0,-999.0000, -999,9,  301,  15.4087,  25.6174,   -999.0,9