BOTTLE,20130510GEMDJMAYT
EXPOCODE,SECT_ID,STNNBR,CASTNO,SAMPNO,BTLNBR,BTLNBR_FLAG_W,DATE,TIME,LATITUDE,LONGITUDE,DEPTH,CTDPRS,CTDTMP,CTDSAL,CTDSAL_FLAG_W,CTDOXY,CTDOXY_FLAG_W,SALNTY,SALNTY_FLAG_W,OXYGEN,OXYGEN_FLAG_W,SILCAT,SILCAT_FLAG_W,NITRAT,NITRAT_FLAG_W,NO2+NO3,NO2+NO3_FLAG_W,NITRIT,NITRIT_FLAG_W,PHSPHT,PHSPHT_FLAG_W,CFC-11,CFC-11_FLAG_W,CFC-12,CFC-12_FLAG_W,DELC13,DELC13_FLAG_W,TCARBN,TCARBN_FLAG_W,ALKALI,ALKALI_FLAG_W,PH,PH_FLAG_W,PH_TMP,PH_SCALE,PH_NBS,PH_NBS_FLAG_W,C13ERR,TOTALP,TOTALP_FLAG_W,AMMONI,AMMONI_FLAG_W,CHLORA,CHLORA_FLAG_W,PPHYTN,PPHYTN_FLAG_W,REVPRS,REVTMP,DEPTH_,DEPTH_FLAG,CTDDEP,THETA,SIGTHT,DOC,DOC_FLAG_W
,,,,,,,GMT,GMT,,,METER,DBAR,ITS-90,PSS-78,,UMOL/KG,,PSS-78,,UMOL/KG,,UMOL/KG,,UMOL/KG,,UMOL/KG,,UMOL/KG,,UMOL/KG,,PMOL/KG,,PMOL/KG,,/MILLE,,UMOL/KG,,UMOL/KG,,25_DEG_C,,DEG_C,,,,/MILLE,UMOL/KG,,UMOL/KG,,UG/L,,UG/L,,DBAR,ITS-90,METERS,,METERS,DEG_C,,UMOL/L,
       SH98-08,  NONE,SH-5630,  2,     -9,      -9,5,19980822,1625, 29.5100, 133.4808, 2640,      0.0,  30.5910,  33.9522,2,   -999.0,9,-999.0000,9,    212.9,2,  -999.00,9,  -999.00,9,     0.00,2,     0.00,2,     0.00,2, -999.000,9, -999.000,9,  -999.00,9,   -999.0,9,   -999.0,9,-999.0000,9,   -999.0,  9,     8.21,2,   -999.0,  -999.00,9,  -999.00,9,     0.05,2,     0.03,2,   -999.0,-999.0000, -999,9,    0,  30.5910,  20.7385,   -999.0,9
       SH98-08,  NONE,SH-5630,  2,     12, S-1-1-8,2,19980822,1624, 29.5100, 133.4808, 2640,     12.3,  30.5166,  33.9411,2,   -999.0,9,  33.9525,2,    211.8,2,  -999.00,9,  -999.00,9,     0.00,2,     0.00,2,     0.00,2, -999.000,9, -999.000,9,  -999.00,9,   -999.0,9,   -999.0,9,-999.0000,9,   -999.0,  9,     8.22,2,   -999.0,  -999.00,9,  -999.00,9,  -999.00,4,  -999.00,4,   -999.0,-999.0000, -999,9,   12,  30.5135,  20.7568,   -999.0,9
       SH98-08,  NONE,SH-5630,  2,     11,s-1-1-11,2,19980822,1623, 29.5100, 133.4808, 2640,     26.8,  27.9465,  34.3692,2,   -999.0,9,  34.1946,4,    227.8,2,  -999.00,9,  -999.00,9,     0.00,2,     0.00,2,     0.00,2, -999.000,9, -999.000,9,  -999.00,9,   -999.0,9,   -999.0,9,-999.0000,9,   -999.0,  9,     8.21,2,   -999.0,  -999.00,9,  -999.00,9,     0.04,2,     0.04,2,   -999.0,-999.0000, -999,9,   27,  27.9402,  21.9398,   -999.0,9
       SH98-08,  NONE,SH-5630,  2,     10,S-1-1-10,2,19980822,1622, 29.5100, 133.4808, 2640,     51.8,  23.5808,  34.7142,2,   -999.0,9,  34.7186,2,    244.6,2,  -999.00,9,  -999.00,9,     0.00,2,     0.00,2,     0.00,2, -999.000,9, -999.000,9,  -999.00,9,   -999.0,9,   -999.0,9,-999.0000,9,   -999.0,  9,     8.19,2,   -999.0,  -999.00,9,  -999.00,9,     0.08,2,     0.04,2,   -999.0,-999.0000, -999,9,   51,  23.5700,  23.5515,   -999.0,9
       SH98-08,  NONE,SH-5630,  2,      9, S-1-1-7,2,19980822,1621, 29.5100, 133.4808, 2640,     76.6,  21.9648,  34.7921,2,   -999.0,9,  34.8033,2,    244.5,2,  -999.00,9,  -999.00,9,     0.00,2,     0.00,2,     0.01,2, -999.000,9, -999.000,9,  -999.00,9,   -999.0,9,   -999.0,9,-999.0000,9,   -999.0,  9,     8.18,2,   -999.0,  -999.00,9,  -999.00,9,     0.04,2,     0.05,2,   -999.0,-999.0000, -999,9,   76,  21.9497,  24.0740,   -999.0,9
       SH98-08,  NONE,SH-5630,  2,      8, S-1-1-9,2,19980822,1620, 29.5100, 133.4808, 2640,    102.1,  20.6866,  34.8135,2,   -999.0,9,  34.8215,2,    237.2,2,  -999.00,9,  -999.00,9,     0.00,2,     0.00,2,     0.03,2, -999.000,9, -999.000,9,  -999.00,9,   -999.0,9,   -999.0,9,-999.0000,9,   -999.0,  9,     8.16,2,   -999.0,  -999.00,9,  -999.00,9,     0.21,2,     0.48,2,   -999.0,-999.0000, -999,9,  101,  20.6673,  24.4419,   -999.0,9
       SH98-08,  NONE,SH-5630,  2,      7, S-1-1-4,2,19980822,1620, 29.5100, 133.4808, 2640,    126.6,  19.5241,  34.8371,2,   -999.0,9,  34.8416,2,    233.3,2,  -999.00,9,  -999.00,9,     0.78,2,     0.03,2,     0.09,2, -999.000,9, -999.000,9,  -999.00,9,   -999.0,9,   -999.0,9,-999.0000,9,   -999.0,  9,     8.14,2,   -999.0,  -999.00,9,  -999.00,9,     0.10,2,     0.39,2,   -999.0,-999.0000, -999,9,  126,  19.5011,  24.7678,   -999.0,9
       SH98-08,  NONE,SH-5630,  2,      6,02-14892,2,19980822,1619, 29.5100, 133.4808, 2640,    152.1,  19.0691,  34.8238,2,   -999.0,9,  34.8258,2,    230.3,2,  -999.00,9,  -999.00,9,     1.95,2,     0.01,2,     0.15,2, -999.000,9, -999.000,9,  -999.00,9,   -999.0,9,   -999.0,9,-999.0000,9,   -999.0,  9,     8.13,2,   -999.0,  -999.00,9,  -999.00,9,     0.02,2,     0.03,2,   -999.0,-999.0000, -999,9,  151,  19.0419,  24.8758,   -999.0,9
       SH98-08,  NONE,SH-5630,  2,      5, S-1-1-6,2,19980822,1618, 29.5100, 133.4808, 2640,    201.5,  18.5020,  34.8293,2,   -999.0,9,  34.8365,2,    221.7,2,  -999.00,9,  -999.00,9,     3.22,2,     0.00,2,     0.23,2, -999.000,9, -999.000,9,  -999.00,9,   -999.0,9,   -999.0,9,-999.0000,9,   -999.0,  9,     8.11,2,   -999.0,  -999.00,9,  -999.00,9,     0.00,2,     0.01,2,   -999.0,-999.0000, -999,9,  200,  18.4668,  25.0254,   -999.0,9
       SH98-08,  NONE,SH-5630,  2,      4, S-1-1-1,2,19980822,1617, 29.5100, 133.4808, 2640,    251.3,  17.7465,  34.8176,2,   -999.0,9,  34.8217,2,    217.7,2,  -999.00,9,  -999.00,9,     4.49,2,     0.00,2,     0.33,2, -999.000,9, -999.000,9,  -999.00,9,   -999.0,9,   -999.0,9,-999.0000,9,   -999.0,  9,     8.08,2,   -999.0,  -999.00,9,  -999.00,9,     0.00,2,     0.01,2,   -999.0,-999.0000, -999,9,  249,  17.7037,  25.2049,   -999.0,9
       SH98-08,  NONE,SH-5630,  2,      3,1-133-84,2,19980822,1615, 29.5100, 133.4808, 2640,    303.5,  16.9641,  34.7835,2,   -999.0,9,  34.7984,2,    214.4,2,  -999.00,9,  -999.00,9,     5.85,2,     0.00,2,     0.43,2, -999.000,9, -999.000,9,  -999.00,9,   -999.0,9,   -999.0,9,-999.0000,9,   -999.0,  9,     8.06,2,   -999.0,  -999.00,9,  -999.00,9,     0.00,2,     0.01,2,   -999.0,-999.0000, -999,9,  301,  16.9140,  25.3685,   -999.0,9
       SH98-08,  NONE,SH-5630,  1,      2, 1-133-1,2,19980822,1549, 29.5052, 133.4908, 2720,    397.8,  14.8145,  34.6226,2,   -999.0,9,  34.6222,2,    204.8,2,  -999.00,9,  -999.00,9,     9.65,2,     0.00,2,     0.71,2, -999.000,9, -999.000,9,  -999.00,9,   -999.0,9,   -999.0,9,-999.0000,9,   -999.0,  9,     8.00,2,   -999.0,  -999.00,9,  -999.00,9,  -999.00,9,  -999.00,9,   -999.0,-999.0000, -999,9,  395,  14.7546,  25.7345,   -999.0,9
       SH98-08,  NONE,SH-5630,  1,      1, 1-133-2,2,19980822,1547, 29.5052, 133.4908, 2720,    497.3,  12.4130,  34.4431,2,   -999.0,9,  34.4405,2,    193.6,2,  -999.00,9,  -999.00,9,    14.42,2,     0.00,2,     1.09,2, -999.000,9, -999.000,9,  -999.00,9,   -999.0,9,   -999.0,9,-999.0000,9,   -999.0,  9,     7.92,2,   -999.0,  -999.00,9,  -999.00,9,  -999.00,9,  -999.00,9,   -999.0,-999.0000, -999,9,  493,  12.3462,  26.0901,   -999.0,9
       SH98-08,  NONE,SH-5630,  1,     12, S-1-1-8,2,19980822,1546, 29.5052, 133.4908, 2720,    597.1,   9.7506,  34.2667,2,   -999.0,9,  34.2624,2,    173.0,2,  -999.00,9,  -999.00,9,    20.26,2,     0.00,2,     1.56,2, -999.000,9, -999.000,9,  -999.00,9,   -999.0,9,   -999.0,9,-999.0000,9,   -999.0,  9,     7.82,2,   -999.0,  -999.00,9,  -999.00,9,  -999.00,9,  -999.00,9,   -999.0,-999.0000, -999,9,  592,   9.6817,  26.4329,   -999.0,9
       SH98-08,  NONE,SH-5630,  1,     11,s-1-1-11,2,19980822,1544, 29.5052, 133.4908, 2720,    697.0,   7.5752,  34.1987,2,   -999.0,9,  34.1968,2,    138.4,2,  -999.00,9,  -999.00,9,    26.69,2,     0.00,2,     2.06,2, -999.000,9, -999.000,9,  -999.00,9,   -999.0,9,   -999.0,9,-999.0000,9,   -999.0,  9,     7.70,2,   -999.0,  -999.00,9,  -999.00,9,  -999.00,9,  -999.00,9,   -999.0,-999.0000, -999,9,  691,   7.5054,  26.7167,   -999.0,9
       SH98-08,  NONE,SH-5630,  1,     10,S-1-1-10,2,19980822,1543, 29.5052, 133.4908, 2720,    797.3,   6.1953,  34.2205,2,   -999.0,9,  34.2198,2,    111.2,2,  -999.00,9,  -999.00,9,    30.97,2,     0.00,2,     2.40,2, -999.000,9, -999.000,9,  -999.00,9,   -999.0,9,   -999.0,9,-999.0000,9,   -999.0,  9,     7.63,2,   -999.0,  -999.00,9,  -999.00,9,  -999.00,9,  -999.00,9,   -999.0,-999.0000, -999,9,  790,   6.1232,  26.9210,   -999.0,9
       SH98-08,  NONE,SH-5630,  1,      9, S-1-1-7,2,19980822,1541, 29.5052, 133.4908, 2720,    898.1,   4.8305,  34.2683,2,   -999.0,9,  34.2642,2,     81.7,2,  -999.00,9,  -999.00,9,    35.15,2,     0.00,2,     2.72,2, -999.000,9, -999.000,9,  -999.00,9,   -999.0,9,   -999.0,9,-999.0000,9,   -999.0,  9,     7.56,2,   -999.0,  -999.00,9,  -999.00,9,  -999.00,9,  -999.00,9,   -999.0,-999.0000, -999,9,  890,   4.7579,  27.1226,   -999.0,9
       SH98-08,  NONE,SH-5630,  1,      8, S-1-1-9,2,19980822,1539, 29.5052, 133.4908, 2720,    999.5,   4.0648,  34.3436,2,   -999.0,9,  34.3386,2,     72.0,2,  -999.00,9,  -999.00,9,    36.89,2,     0.00,2,     2.78,2, -999.000,9, -999.000,9,  -999.00,9,   -999.0,9,   -999.0,9,-999.0000,9,   -999.0,  9,     7.54,2,   -999.0,  -999.00,9,  -999.00,9,  -999.00,9,  -999.00,9,   -999.0,-999.0000, -999,9,  990,   3.9889,  27.2652,   -999.0,9
       SH98-08,  NONE,SH-5630,  1,      7, S-1-1-4,2,19980822,1537, 29.5052, 133.4908, 2720,   1200.7,   3.1641,  34.4543,2,   -999.0,9,  34.4454,2,     71.1,2,  -999.00,9,  -999.00,9,    38.15,2,     0.00,2,     2.91,2, -999.000,9, -999.000,9,  -999.00,9,   -999.0,9,   -999.0,9,-999.0000,9,   -999.0,  9,     7.53,2,   -999.0,  -999.00,9,  -999.00,9,  -999.00,9,  -999.00,9,   -999.0,-999.0000, -999,9, 1189,   3.0793,  27.4422,   -999.0,9
       SH98-08,  NONE,SH-5630,  1,      6,02-14892,2,19980822,1533, 29.5052, 133.4908, 2720,   1503.9,   2.5678,  34.5328,2,   -999.0,9,  34.5184,4,   -999.0,9,  -999.00,9,  -999.00,9,  -999.00,9,  -999.00,9,  -999.00,9, -999.000,9, -999.000,9,  -999.00,9,   -999.0,9,   -999.0,9,-999.0000,9,   -999.0,  9,  -999.00,9,   -999.0,  -999.00,9,  -999.00,9,  -999.00,9,  -999.00,9,   -999.0,-999.0000, -999,9, 1488,   2.4648,  27.5593,   -999.0,9
       SH98-08,  NONE,SH-5630,  1,      5, S-1-1-6,2,19980822,1527, 29.5052, 133.4908, 2720,   2012.5,   1.9529,  34.6239,2,   -999.0,9,  34.6082,4,   -999.0,9,  -999.00,9,  -999.00,9,  -999.00,9,  -999.00,9,  -999.00,9, -999.000,9, -999.000,9,  -999.00,9,   -999.0,9,   -999.0,9,-999.0000,9,   -999.0,  9,  -999.00,9,   -999.0,  -999.00,9,  -999.00,9,  -999.00,9,  -999.00,9,   -999.0,-999.0000, -999,9, 1989,   1.8161,  27.6847,   -999.0,9
       SH98-08,  NONE,SH-5630,  1,      4, S-1-1-1,2,19980822,1520, 29.5052, 133.4908, 2720,   2645.4,   1.6345,  34.6729,2,   -999.0,9,  34.6555,4,   -999.0,9,  -999.00,9,  -999.00,9,  -999.00,9,  -999.00,9,  -999.00,9, -999.000,9, -999.000,9,  -999.00,9,   -999.0,9,   -999.0,9,-999.0000,9,   -999.0,  9,  -999.00,9,   -999.0,  -999.00,9,  -999.00,9,  -999.00,9,  -999.00,9,   -999.0,-999.0000, -999,9, 2611,   1.4479,  27.7515,   -999.0,9
       SH98-08,  NONE,SH-5631,  2,     -9,      -9,5,19980822,2208, 29.9568, 132.9512, 3830,      0.0,  30.2722,  33.9466,2,   -999.0,9,-999.0000,9,    211.5,2,  -999.00,9,  -999.00,9,     0.00,2,     0.00,2,     0.00,2, -999.000,9, -999.000,9,  -999.00,9,   -999.0,9,   -999.0,9,-999.0000,9,   -999.0,  9,  -999.00,9,   -999.0,  -999.00,9,  -999.00,9,     0.08,2,     0.04,2,   -999.0,-999.0000, -999,9,    0,  30.2722,  20.8438,   -999.0,9
       SH98-08,  NONE,SH-5631,  2,      6,02-14892,2,19980822,2208, 29.9568, 132.9512, 3830,     12.1,  30.2675,  33.9478,2,   -999.0,9,-999.0000,9,    211.8,2,  -999.00,9,  -999.00,9,     0.00,2,     0.00,2,     0.00,2, -999.000,9, -999.000,9,  -999.00,9,   -999.0,9,   -999.0,9,-999.0000,9,   -999.0,  9,  -999.00,9,   -999.0,  -999.00,9,  -999.00,9,     0.08,2,     0.04,2,   -999.0,-999.0000, -999,9,   12,  30.2645,  20.8473,   -999.0,9
       SH98-08,  NONE,SH-5631,  2,      5, S-1-1-6,2,19980822,2207, 29.9568, 132.9512, 3830,     27.2,  29.6737,  34.0396,2,   -999.0,9,-999.0000,9,    217.3,2,  -999.00,9,  -999.00,9,     0.00,2,     0.00,2,     0.00,2, -999.000,9, -999.000,9,  -999.00,9,   -999.0,9,   -999.0,9,-999.0000,9,   -999.0,  9,  -999.00,9,   -999.0,  -999.00,9,  -999.00,9,     0.08,2,     0.04,2,   -999.0,-999.0000, -999,9,   27,  29.6671,  21.1193,   -999.0,9
       SH98-08,  NONE,SH-5631,  2,      4, S-1-1-1,2,19980822,2206, 29.9568, 132.9512, 3830,     51.7,  27.5431,  34.3168,2,   -999.0,9,-999.0000,9,    228.3,2,  -999.00,9,  -999.00,9,     0.00,2,     0.00,2,     0.00,2, -999.000,9, -999.000,9,  -999.00,9,   -999.0,9,   -999.0,9,-999.0000,9,   -999.0,  9,  -999.00,9,   -999.0,  -999.00,9,  -999.00,9,     0.10,2,     0.05,2,   -999.0,-999.0000, -999,9,   51,  27.5311,  22.0330,   -999.0,9
       SH98-08,  NONE,SH-5631,  2,      3,1-133-84,2,19980822,2205, 29.9568, 132.9512, 3830,     76.8,  24.6433,  34.7193,2,   -999.0,9,-999.0000,9,    221.9,2,  -999.00,9,  -999.00,9,     0.00,2,     0.00,2,     0.02,2, -999.000,9, -999.000,9,  -999.00,9,   -999.0,9,   -999.0,9,-999.0000,9,   -999.0,  9,  -999.00,9,   -999.0,  -999.00,9,  -999.00,9,  -999.00,4,  -999.00,4,   -999.0,-999.0000, -999,9,   76,  24.6268,  23.2419,   -999.0,9
       SH98-08,  NONE,SH-5631,  2,      2, 1-133-1,2,19980822,2204, 29.9568, 132.9512, 3830,    101.5,  23.2164,  34.7791,2,   -999.0,9,-999.0000,9,    216.0,2,  -999.00,9,  -999.00,9,     1.17,2,     0.09,2,     0.10,2, -999.000,9, -999.000,9,  -999.00,9,   -999.0,9,   -999.0,9,-999.0000,9,   -999.0,  9,  -999.00,9,   -999.0,  -999.00,9,  -999.00,9,  -999.00,4,  -999.00,4,   -999.0,-999.0000, -999,9,  101,  23.1956,  23.7096,   -999.0,9
       SH98-08,  NONE,SH-5631,  2,      1, 1-133-2,2,19980822,2203, 29.9568, 132.9512, 3830,    126.5,  22.0867,  34.8636,2,   -999.0,9,-999.0000,9,    220.9,2,  -999.00,9,  -999.00,9,     0.98,2,     0.20,2,     0.08,2, -999.000,9, -999.000,9,  -999.00,9,   -999.0,9,   -999.0,9,-999.0000,9,   -999.0,  9,  -999.00,9,   -999.0,  -999.00,9,  -999.00,9,  -999.00,4,  -999.00,4,   -999.0,-999.0000, -999,9,  126,  22.0617,  24.0969,   -999.0,9
       SH98-08,  NONE,SH-5631,  2,     12, S-1-1-8,2,19980822,2202, 29.9568, 132.9512, 3830,    151.4,  21.0430,  34.9359,2,   -999.0,9,-999.0000,9,    213.6,2,  -999.00,9,  -999.00,9,     1.37,2,     0.03,2,     0.12,2, -999.000,9, -999.000,9,  -999.00,9,   -999.0,9,   -999.0,9,-999.0000,9,   -999.0,  9,  -999.00,9,   -999.0,  -999.00,9,  -999.00,9,  -999.00,4,  -999.00,4,   -999.0,-999.0000, -999,9,  150,  21.0140,  24.4413,   -999.0,9
       SH98-08,  NONE,SH-5631,  2,     11,s-1-1-11,2,19980822,2201, 29.9568, 132.9512, 3830,    201.8,  19.5227,  34.8844,2,   -999.0,9,-999.0000,9,    216.5,2,  -999.00,9,  -999.00,9,     2.34,2,     0.01,2,     0.19,2, -999.000,9, -999.000,9,  -999.00,9,   -999.0,9,   -999.0,9,-999.0000,9,   -999.0,  9,  -999.00,9,   -999.0,  -999.00,9,  -999.00,9,  -999.00,4,  -999.00,4,   -999.0,-999.0000, -999,9,  200,  19.4860,  24.8079,   -999.0,9
       SH98-08,  NONE,SH-5631,  2,     10,S-1-1-10,2,19980822,2159, 29.9568, 132.9512, 3830,    251.6,  18.4230,  34.8392,2,   -999.0,9,-999.0000,9,    217.3,2,  -999.00,9,  -999.00,9,     3.71,2,     0.01,2,     0.26,2, -999.000,9, -999.000,9,  -999.00,9,   -999.0,9,   -999.0,9,-999.0000,9,   -999.0,  9,  -999.00,9,   -999.0,  -999.00,9,  -999.00,9,  -999.00,4,  -999.00,4,   -999.0,-999.0000, -999,9,  250,  18.3790,  25.0549,   -999.0,9
       SH98-08,  NONE,SH-5631,  2,      9, S-1-1-7,2,19980822,2158, 29.9568, 132.9512, 3830,    302.1,  17.2941,  34.7857,2,   -999.0,9,-999.0000,9,    208.2,2,  -999.00,9,  -999.00,9,     5.95,2,     0.00,2,     0.44,2, -999.000,9, -999.000,9,  -999.00,9,   -999.0,9,   -999.0,9,-999.0000,9,   -999.0,  9,  -999.00,9,   -999.0,  -999.00,9,  -999.00,9,  -999.00,4,  -999.00,4,   -999.0,-999.0000, -999,9,  300,  17.2436,  25.2916,   -999.0,9
       SH98-08,  NONE,SH-5631,  1,      8, S-1-1-9,2,19980822,2138, 29.9565, 132.9515, 3830,    398.4,  15.2764,  34.6535,2,   -999.0,9,-999.0000,9,    201.0,2,  -999.00,9,  -999.00,9,     9.46,2,     0.00,2,     0.70,2, -999.000,9, -999.000,9,  -999.00,9,   -999.0,9,   -999.0,9,-999.0000,9,   -999.0,  9,  -999.00,9,   -999.0,  -999.00,9,  -999.00,9,  -999.00,9,  -999.00,9,   -999.0,-999.0000, -999,9,  395,  15.2151,  25.6574,   -999.0,9
       SH98-08,  NONE,SH-5631,  1,      7, S-1-1-4,2,19980822,2136, 29.9565, 132.9515, 3830,    498.3,  12.5448,  34.4526,2,   -999.0,9,-999.0000,9,    189.4,2,  -999.00,9,  -999.00,9,    14.72,2,     0.00,2,     1.11,2, -999.000,9, -999.000,9,  -999.00,9,   -999.0,9,   -999.0,9,-999.0000,9,   -999.0,  9,  -999.00,9,   -999.0,  -999.00,9,  -999.00,9,  -999.00,9,  -999.00,9,   -999.0,-999.0000, -999,9,  494,  12.4774,  26.0720,   -999.0,9
       SH98-08,  NONE,SH-5631,  1,      6,02-14892,2,19980822,2135, 29.9565, 132.9515, 3830,    598.5,   9.7450,  34.2509,2,   -999.0,9,-999.0000,9,    179.6,2,  -999.00,9,  -999.00,9,    19.87,2,     0.00,2,     1.50,2, -999.000,9, -999.000,9,  -999.00,9,   -999.0,9,   -999.0,9,-999.0000,9,   -999.0,  9,  -999.00,9,   -999.0,  -999.00,9,  -999.00,9,  -999.00,9,  -999.00,9,   -999.0,-999.0000, -999,9,  594,   9.6759,  26.4215,   -999.0,9
       SH98-08,  NONE,SH-5631,  1,      5, S-1-1-6,2,19980822,2133, 29.9565, 132.9515, 3830,    699.2,   7.2925,  34.2006,2,   -999.0,9,-999.0000,9,    138.4,2,  -999.00,9,  -999.00,9,    27.47,2,     0.00,2,     2.11,2, -999.000,9, -999.000,9,  -999.00,9,   -999.0,9,   -999.0,9,-999.0000,9,   -999.0,  9,  -999.00,9,   -999.0,  -999.00,9,  -999.00,9,  -999.00,9,  -999.00,9,   -999.0,-999.0000, -999,9,  693,   7.2239,  26.7580,   -999.0,9
       SH98-08,  NONE,SH-5631,  1,      4, S-1-1-1,2,19980822,2132, 29.9565, 132.9515, 3830,    799.7,   6.0833,  34.2170,2,   -999.0,9,-999.0000,9,    112.2,2,  -999.00,9,  -999.00,9,    31.45,2,     0.00,2,     2.41,2, -999.000,9, -999.000,9,  -999.00,9,   -999.0,9,   -999.0,9,-999.0000,9,   -999.0,  9,  -999.00,9,   -999.0,  -999.00,9,  -999.00,9,  -999.00,9,  -999.00,9,   -999.0,-999.0000, -999,9,  793,   6.0116,  26.9324,   -999.0,9
       SH98-08,  NONE,SH-5631,  1,      3,1-133-84,2,19980822,2130, 29.9565, 132.9515, 3830,    901.0,   5.1337,  34.3369,2,   -999.0,9,-999.0000,9,     87.8,2,  -999.00,9,  -999.00,9,    34.37,2,     0.00,2,     2.63,2, -999.000,9, -999.000,9,  -999.00,9,   -999.0,9,   -999.0,9,-999.0000,9,   -999.0,  9,  -999.00,9,   -999.0,  -999.00,9,  -999.00,9,  -999.00,9,  -999.00,9,   -999.0,-999.0000, -999,9,  893,   5.0586,  27.1428,   -999.0,9
       SH98-08,  NONE,SH-5631,  1,      2, 1-133-1,2,19980822,2128, 29.9565, 132.9515, 3830,   1002.4,   4.2941,  34.3716,2,   -999.0,9,-999.0000,9,     80.0,2,  -999.00,9,  -999.00,9,    36.41,2,     0.00,2,     2.78,2, -999.000,9, -999.000,9,  -999.00,9,   -999.0,9,   -999.0,9,-999.0000,9,   -999.0,  9,  -999.00,9,   -999.0,  -999.00,9,  -999.00,9,  -999.00,9,  -999.00,9,   -999.0,-999.0000, -999,9,  993,   4.2161,  27.2637,   -999.0,9
       SH98-08,  NONE,SH-5631,  1,      1, 1-133-2,2,19980822,2126, 29.9565, 132.9515, 3830,   1205.1,   3.3812,  34.4239,2,   -999.0,9,-999.0000,9,     71.5,2,  -999.00,9,  -999.00,9,    38.06,2,     0.00,2,     2.91,2, -999.000,9, -999.000,9,  -999.00,9,   -999.0,9,   -999.0,9,-999.0000,9,   -999.0,  9,  -999.00,9,   -999.0,  -999.00,9,  -999.00,9,  -999.00,9,  -999.00,9,   -999.0,-999.0000, -999,9, 1193,   3.2941,  27.3979,   -999.0,9