BOTTLE,20130510GEMDJMAYT
EXPOCODE,SECT_ID,STNNBR,CASTNO,SAMPNO,BTLNBR,BTLNBR_FLAG_W,DATE,TIME,LATITUDE,LONGITUDE,DEPTH,CTDPRS,CTDTMP,CTDSAL,CTDSAL_FLAG_W,CTDOXY,CTDOXY_FLAG_W,SALNTY,SALNTY_FLAG_W,OXYGEN,OXYGEN_FLAG_W,SILCAT,SILCAT_FLAG_W,NITRAT,NITRAT_FLAG_W,NO2+NO3,NO2+NO3_FLAG_W,NITRIT,NITRIT_FLAG_W,PHSPHT,PHSPHT_FLAG_W,CFC-11,CFC-11_FLAG_W,CFC-12,CFC-12_FLAG_W,DELC13,DELC13_FLAG_W,TCARBN,TCARBN_FLAG_W,ALKALI,ALKALI_FLAG_W,PH,PH_FLAG_W,PH_TMP,PH_SCALE,PH_NBS,PH_NBS_FLAG_W,C13ERR,TOTALP,TOTALP_FLAG_W,AMMONI,AMMONI_FLAG_W,CHLORA,CHLORA_FLAG_W,PPHYTN,PPHYTN_FLAG_W,REVPRS,REVTMP,DEPTH_,DEPTH_FLAG,CTDDEP,THETA,SIGTHT,DOC,DOC_FLAG_W
,,,,,,,GMT,GMT,,,METER,DBAR,ITS-90,PSS-78,,UMOL/KG,,PSS-78,,UMOL/KG,,UMOL/KG,,UMOL/KG,,UMOL/KG,,UMOL/KG,,UMOL/KG,,PMOL/KG,,PMOL/KG,,/MILLE,,UMOL/KG,,UMOL/KG,,25_DEG_C,,DEG_C,,,,/MILLE,UMOL/KG,,UMOL/KG,,UG/L,,UG/L,,DBAR,ITS-90,METERS,,METERS,DEG_C,,UMOL/L,
       SH98-08,  NONE,SH-5624,  2,     -9,      -9,5,19980821,0259, 30.5060, 135.2442, 4300,      0.0,  30.3465,  34.2118,2,   -999.0,9,-999.0000,9,    213.8,3,  -999.00,9,  -999.00,9,     0.00,2,     0.00,2,     0.00,2, -999.000,9, -999.000,9,  -999.00,9,   1919.5,6,   -999.0,9,-999.0000,9,   -999.0,  9,     8.21,2,   -999.0,  -999.00,9,  -999.00,9,     0.02,2,     0.01,2,   -999.0,-999.0000, -999,9,    0,  30.3465,  21.0169,   -999.0,9
       SH98-08,  NONE,SH-5624,  2,      5, S-1-1-6,2,19980821,0258, 30.5060, 135.2442, 4300,     11.8,  29.8248,  34.1887,2,   -999.0,9,-999.0000,9,    213.6,3,  -999.00,9,  -999.00,9,     0.00,2,     0.00,2,     0.00,2, -999.000,9, -999.000,9,  -999.00,9,   -999.0,9,   -999.0,9,-999.0000,9,   -999.0,  9,  -999.00,9,   -999.0,  -999.00,9,  -999.00,9,     0.03,2,     0.01,2,   -999.0,-999.0000, -999,9,   12,  29.8219,  21.1787,   -999.0,9
       SH98-08,  NONE,SH-5624,  2,      4, S-1-1-1,2,19980821,0258, 30.5060, 135.2442, 4300,     26.2,  26.3200,  34.4229,2,   -999.0,9,-999.0000,9,    230.9,3,  -999.00,9,  -999.00,9,     0.00,2,     0.00,2,     0.00,2, -999.000,9, -999.000,9,  -999.00,9,   -999.0,9,   -999.0,9,-999.0000,9,   -999.0,  9,  -999.00,9,   -999.0,  -999.00,9,  -999.00,9,     0.03,2,     0.02,2,   -999.0,-999.0000, -999,9,   26,  26.3141,  22.4999,   -999.0,9
       SH98-08,  NONE,SH-5624,  2,      3,1-133-84,2,19980821,0257, 30.5060, 135.2442, 4300,     51.1,  22.6598,  34.7498,2,   -999.0,9,-999.0000,9,    251.6,3,  -999.00,9,  -999.00,9,     0.00,2,     0.00,2,     0.00,2, -999.000,9, -999.000,9,  -999.00,9,   -999.0,9,   -999.0,9,-999.0000,9,   -999.0,  9,  -999.00,9,   -999.0,  -999.00,9,  -999.00,9,     0.06,2,     0.04,2,   -999.0,-999.0000, -999,9,   51,  22.6495,  23.8443,   -999.0,9
       SH98-08,  NONE,SH-5624,  2,      2, 1-133-1,2,19980821,0256, 30.5060, 135.2442, 4300,     77.5,  21.1811,  34.8030,2,   -999.0,9,-999.0000,9,    241.6,3,  -999.00,9,  -999.00,9,     0.00,2,     0.00,2,     0.02,2, -999.000,9, -999.000,9,  -999.00,9,   -999.0,9,   -999.0,9,-999.0000,9,   -999.0,  9,  -999.00,9,   -999.0,  -999.00,9,  -999.00,9,     0.09,2,     0.09,2,   -999.0,-999.0000, -999,9,   77,  21.1662,  24.2987,   -999.0,9
       SH98-08,  NONE,SH-5624,  2,      1, 1-133-2,2,19980821,0255, 30.5060, 135.2442, 4300,    101.7,  20.2835,  34.8261,2,   -999.0,9,-999.0000,9,    239.0,3,  -999.00,9,  -999.00,9,     0.00,2,     0.00,2,     0.02,2, -999.000,9, -999.000,9,  -999.00,9,   -999.0,9,   -999.0,9,-999.0000,9,   -999.0,  9,  -999.00,9,   -999.0,  -999.00,9,  -999.00,9,     0.13,2,     0.33,2,   -999.0,-999.0000, -999,9,  101,  20.2646,  24.5591,   -999.0,9
       SH98-08,  NONE,SH-5624,  2,     12, S-1-1-8,2,19980821,0254, 30.5060, 135.2442, 4300,    126.4,  19.6139,  34.8207,2,   -999.0,9,-999.0000,9,    230.5,3,  -999.00,9,  -999.00,9,     1.46,2,     0.04,2,     0.12,2, -999.000,9, -999.000,9,  -999.00,9,   -999.0,9,   -999.0,9,-999.0000,9,   -999.0,  9,  -999.00,9,   -999.0,  -999.00,9,  -999.00,9,     0.10,2,     0.41,2,   -999.0,-999.0000, -999,9,  126,  19.5909,  24.7320,   -999.0,9
       SH98-08,  NONE,SH-5624,  2,     11,s-1-1-11,2,19980821,0253, 30.5060, 135.2442, 4300,    150.3,  19.3203,  34.8168,2,   -999.0,9,-999.0000,9,    232.2,3,  -999.00,9,  -999.00,9,     1.56,2,     0.02,2,     0.12,2, -999.000,9, -999.000,9,  -999.00,9,   -999.0,9,   -999.0,9,-999.0000,9,   -999.0,  9,  -999.00,9,   -999.0,  -999.00,9,  -999.00,9,     0.04,2,     0.09,2,   -999.0,-999.0000, -999,9,  149,  19.2933,  24.8061,   -999.0,9
       SH98-08,  NONE,SH-5624,  2,     10,S-1-1-10,2,19980821,0252, 30.5060, 135.2442, 4300,    200.7,  19.0477,  34.8161,2,   -999.0,9,-999.0000,9,    232.4,3,  -999.00,9,  -999.00,9,     1.76,2,     0.01,2,     0.14,2, -999.000,9, -999.000,9,  -999.00,9,   -999.0,9,   -999.0,9,-999.0000,9,   -999.0,  9,  -999.00,9,   -999.0,  -999.00,9,  -999.00,9,     0.00,2,     0.02,2,   -999.0,-999.0000, -999,9,  199,  19.0119,  24.8776,   -999.0,9
       SH98-08,  NONE,SH-5624,  2,      9, S-1-1-7,2,19980821,0251, 30.5060, 135.2442, 4300,    251.1,  18.6770,  34.8181,2,   -999.0,9,-999.0000,9,    227.1,3,  -999.00,9,  -999.00,9,     2.63,2,     0.01,2,     0.20,2, -999.000,9, -999.000,9,  -999.00,9,   -999.0,9,   -999.0,9,-999.0000,9,   -999.0,  9,  -999.00,9,   -999.0,  -999.00,9,  -999.00,9,     0.00,2,     0.02,2,   -999.0,-999.0000, -999,9,  249,  18.6327,  24.9752,   -999.0,9
       SH98-08,  NONE,SH-5624,  2,      8, S-1-1-9,2,19980821,0249, 30.5060, 135.2442, 4300,    302.9,  18.0138,  34.8388,2,   -999.0,9,-999.0000,9,    217.1,3,  -999.00,9,  -999.00,9,     4.00,2,     0.01,2,     0.29,2, -999.000,9, -999.000,9,  -999.00,9,   -999.0,9,   -999.0,9,-999.0000,9,   -999.0,  9,  -999.00,9,   -999.0,  -999.00,9,  -999.00,9,     0.00,2,     0.01,2,   -999.0,-999.0000, -999,9,  301,  17.9617,  25.1580,   -999.0,9
       SH98-08,  NONE,SH-5624,  1,      6,02-14892,2,19980821,0207, 30.5057, 135.2492, 4310,    398.5,  16.8545,  34.7822,2,   -999.0,9,-999.0000,9,    213.3,3,  -999.00,9,  -999.00,9,     5.95,2,     0.01,2,     0.44,2, -999.000,9, -999.000,9,  -999.00,9,   -999.0,9,   -999.0,9,-999.0000,9,   -999.0,  9,  -999.00,9,   -999.0,  -999.00,9,  -999.00,9,  -999.00,9,  -999.00,9,   -999.0,-999.0000, -999,9,  395,  16.7889,  25.3970,   -999.0,9
       SH98-08,  NONE,SH-5624,  1,      5, S-1-1-6,2,19980821,0205, 30.5057, 135.2492, 4310,    498.5,  15.2719,  34.6606,2,   -999.0,9,-999.0000,9,    206.3,3,  -999.00,9,  -999.00,9,     8.87,2,     0.01,2,     0.67,2, -999.000,9, -999.000,9,  -999.00,9,   -999.0,9,   -999.0,9,-999.0000,9,   -999.0,  9,  -999.00,9,   -999.0,  -999.00,9,  -999.00,9,  -999.00,9,  -999.00,9,   -999.0,-999.0000, -999,9,  494,  15.1950,  25.6674,   -999.0,9
       SH98-08,  NONE,SH-5624,  1,      4, S-1-1-1,2,19980821,0204, 30.5057, 135.2492, 4310,    598.6,  13.0772,  34.5123,2,   -999.0,9,-999.0000,9,    192.8,3,  -999.00,9,  -999.00,9,    13.35,2,     0.01,2,     1.02,2, -999.000,9, -999.000,9,  -999.00,9,   -999.0,9,   -999.0,9,-999.0000,9,   -999.0,  9,  -999.00,9,   -999.0,  -999.00,9,  -999.00,9,  -999.00,9,  -999.00,9,   -999.0,-999.0000, -999,9,  594,  12.9937,  26.0163,   -999.0,9
       SH98-08,  NONE,SH-5624,  1,      3,1-133-84,2,19980821,0202, 30.5057, 135.2492, 4310,    699.9,  10.2957,  34.3015,2,   -999.0,9,-999.0000,9,    174.7,3,  -999.00,9,  -999.00,9,    19.00,2,     0.00,2,     1.47,2, -999.000,9, -999.000,9,  -999.00,9,   -999.0,9,   -999.0,9,-999.0000,9,   -999.0,  9,  -999.00,9,   -999.0,  -999.00,9,  -999.00,9,  -999.00,9,  -999.00,9,   -999.0,-999.0000, -999,9,  694,  10.2116,  26.3703,   -999.0,9
       SH98-08,  NONE,SH-5624,  1,      2, 1-133-1,2,19980821,0200, 30.5057, 135.2492, 4310,    798.0,   7.9923,  34.2085,2,   -999.0,9,-999.0000,9,    147.6,3,  -999.00,9,  -999.00,9,    24.84,2,     0.00,2,     1.95,2, -999.000,9, -999.000,9,  -999.00,9,   -999.0,9,   -999.0,9,-999.0000,9,   -999.0,  9,  -999.00,9,   -999.0,  -999.00,9,  -999.00,9,  -999.00,9,  -999.00,9,   -999.0,-999.0000, -999,9,  791,   7.9095,  26.6656,   -999.0,9
       SH98-08,  NONE,SH-5624,  1,      1, 1-133-2,2,19980821,0158, 30.5057, 135.2492, 4310,    900.1,   6.0909,  34.1858,2,   -999.0,9,-999.0000,9,    114.8,3,  -999.00,9,  -999.00,9,    30.58,2,     0.01,2,     2.40,2, -999.000,9, -999.000,9,  -999.00,9,   -999.0,9,   -999.0,9,-999.0000,9,   -999.0,  9,  -999.00,9,   -999.0,  -999.00,9,  -999.00,9,  -999.00,9,  -999.00,9,   -999.0,-999.0000, -999,9,  892,   6.0096,  26.9081,   -999.0,9
       SH98-08,  NONE,SH-5624,  1,     12, S-1-1-8,2,19980821,0156, 30.5057, 135.2492, 4310,   1002.5,   4.9985,  34.2862,2,   -999.0,9,-999.0000,9,     86.2,3,  -999.00,9,  -999.00,9,    34.37,2,     0.01,2,     2.69,2, -999.000,9, -999.000,9,  -999.00,9,   -999.0,9,   -999.0,9,-999.0000,9,   -999.0,  9,  -999.00,9,   -999.0,  -999.00,9,  -999.00,9,  -999.00,9,  -999.00,9,   -999.0,-999.0000, -999,9,  993,   4.9154,  27.1190,   -999.0,9
       SH98-08,  NONE,SH-5624,  1,     11,s-1-1-11,2,19980821,0152, 30.5057, 135.2492, 4310,   1208.2,   3.6569,  34.3980,2,   -999.0,9,-999.0000,9,     69.7,3,  -999.00,9,  -999.00,9,    37.38,2,     0.01,2,     2.90,2, -999.000,9, -999.000,9,  -999.00,9,   -999.0,9,   -999.0,9,-999.0000,9,   -999.0,  9,  -999.00,9,   -999.0,  -999.00,9,  -999.00,9,  -999.00,9,  -999.00,9,   -999.0,-999.0000, -999,9, 1196,   3.5670,  27.3509,   -999.0,9
       SH98-08,  NONE,SH-5625,  2,     -9,      -9,5,19980821,0801, 30.0138, 135.2360, 4340,      0.0,  30.3005,  34.2062,2,   -999.0,9,  34.2109,2,    214.2,3,  -999.00,9,  -999.00,9,     0.00,2,     0.00,2,     0.00,2, -999.000,9, -999.000,9,  -999.00,9,   1918.5,6,   -999.0,9,-999.0000,9,   -999.0,  9,     8.27,2,   -999.0,  -999.00,9,  -999.00,9,     0.03,2,     0.01,2,   -999.0,-999.0000, -999,9,    0,  30.3005,  21.0285,   -999.0,9
       SH98-08,  NONE,SH-5625,  2,     11,s-1-1-11,2,19980821,0801, 30.0138, 135.2360, 4340,     11.3,  29.3787,  34.1810,2,   -999.0,9,  34.1924,2,    215.4,3,  -999.00,9,  -999.00,9,     0.00,2,     0.00,2,     0.00,2, -999.000,9, -999.000,9,  -999.00,9,   -999.0,9,   -999.0,9,-999.0000,9,   -999.0,  9,  -999.00,9,   -999.0,  -999.00,9,  -999.00,9,     0.03,2,     0.02,2,   -999.0,-999.0000, -999,9,   11,  29.3759,  21.3234,   -999.0,9
       SH98-08,  NONE,SH-5625,  2,     10,S-1-1-10,2,19980821,0800, 30.0138, 135.2360, 4340,     26.4,  26.3155,  34.3599,2,   -999.0,9,  34.3791,4,    238.8,3,  -999.00,9,  -999.00,9,     0.00,2,     0.00,2,     0.00,2, -999.000,9, -999.000,9,  -999.00,9,   -999.0,9,   -999.0,9,-999.0000,9,   -999.0,  9,  -999.00,9,   -999.0,  -999.00,9,  -999.00,9,     0.04,2,     0.02,2,   -999.0,-999.0000, -999,9,   26,  26.3096,  22.4539,   -999.0,9
       SH98-08,  NONE,SH-5625,  2,      9, S-1-1-7,2,19980821,0759, 30.0138, 135.2360, 4340,     51.2,  24.0161,  34.5808,2,   -999.0,9,  34.5744,2,    246.5,3,  -999.00,9,  -999.00,9,     0.00,2,     0.00,2,     0.00,2, -999.000,9, -999.000,9,  -999.00,9,   -999.0,9,   -999.0,9,-999.0000,9,   -999.0,  9,  -999.00,9,   -999.0,  -999.00,9,  -999.00,9,     0.05,2,     0.03,2,   -999.0,-999.0000, -999,9,   51,  24.0053,  23.3224,   -999.0,9
       SH98-08,  NONE,SH-5625,  2,      8, S-1-1-9,2,19980821,0758, 30.0138, 135.2360, 4340,     76.1,  21.7813,  34.8318,2,   -999.0,9,  34.8276,2,    252.4,3,  -999.00,9,  -999.00,9,     0.00,2,     0.00,2,     0.00,2, -999.000,9, -999.000,9,  -999.00,9,   -999.0,9,   -999.0,9,-999.0000,9,   -999.0,  9,  -999.00,9,   -999.0,  -999.00,9,  -999.00,9,     0.11,2,     0.07,2,   -999.0,-999.0000, -999,9,   76,  21.7664,  24.1552,   -999.0,9
       SH98-08,  NONE,SH-5625,  2,      7, S-1-1-4,2,19980821,0757, 30.0138, 135.2360, 4340,    101.5,  20.5879,  34.8690,2,   -999.0,9,  34.8503,4,    246.0,3,  -999.00,9,  -999.00,9,     0.00,2,     0.00,2,     0.01,2, -999.000,9, -999.000,9,  -999.00,9,   -999.0,9,   -999.0,9,-999.0000,9,   -999.0,  9,  -999.00,9,   -999.0,  -999.00,9,  -999.00,9,     0.17,2,     0.27,2,   -999.0,-999.0000, -999,9,  101,  20.5687,  24.5106,   -999.0,9
       SH98-08,  NONE,SH-5625,  2,      6,02-14892,2,19980821,0756, 30.0138, 135.2360, 4340,    126.6,  19.8302,  34.8455,2,   -999.0,9,  34.8542,2,    239.4,3,  -999.00,9,  -999.00,9,     0.20,2,     0.13,2,     0.03,2, -999.000,9, -999.000,9,  -999.00,9,   -999.0,9,   -999.0,9,-999.0000,9,   -999.0,  9,  -999.00,9,   -999.0,  -999.00,9,  -999.00,9,     0.11,2,     0.35,2,   -999.0,-999.0000, -999,9,  126,  19.8070,  24.6946,   -999.0,9
       SH98-08,  NONE,SH-5625,  2,      5, S-1-1-6,2,19980821,0755, 30.0138, 135.2360, 4340,    151.6,  19.3315,  34.8396,2,   -999.0,9,  34.8430,2,    228.9,3,  -999.00,9,  -999.00,9,     1.37,2,     0.04,2,     0.12,2, -999.000,9, -999.000,9,  -999.00,9,   -999.0,9,   -999.0,9,-999.0000,9,   -999.0,  9,  -999.00,9,   -999.0,  -999.00,9,  -999.00,9,     0.06,2,     0.25,2,   -999.0,-999.0000, -999,9,  150,  19.3042,  24.8206,   -999.0,9
       SH98-08,  NONE,SH-5625,  2,      4, S-1-1-1,2,19980821,0754, 30.0138, 135.2360, 4340,    201.1,  18.8019,  34.8501,2,   -999.0,9,  34.8485,2,    221.2,3,  -999.00,9,  -999.00,9,     2.83,2,     0.01,2,     0.21,2, -999.000,9, -999.000,9,  -999.00,9,   -999.0,9,   -999.0,9,-999.0000,9,   -999.0,  9,  -999.00,9,   -999.0,  -999.00,9,  -999.00,9,     0.02,2,     0.05,2,   -999.0,-999.0000, -999,9,  200,  18.7663,  24.9659,   -999.0,9
       SH98-08,  NONE,SH-5625,  2,      3,1-133-84,2,19980821,0752, 30.0138, 135.2360, 4340,    251.2,  18.0865,  34.8384,2,   -999.0,9,  34.8440,2,    216.8,3,  -999.00,9,  -999.00,9,     4.00,2,     0.01,2,     0.29,2, -999.000,9, -999.000,9,  -999.00,9,   -999.0,9,   -999.0,9,-999.0000,9,   -999.0,  9,  -999.00,9,   -999.0,  -999.00,9,  -999.00,9,     0.00,2,     0.01,2,   -999.0,-999.0000, -999,9,  249,  18.0432,  25.1377,   -999.0,9
       SH98-08,  NONE,SH-5625,  2,      2, 1-133-1,2,19980821,0751, 30.0138, 135.2360, 4340,    301.6,  17.5196,  34.8196,2,   -999.0,9,  34.8256,2,    217.1,3,  -999.00,9,  -999.00,9,     4.78,2,     0.00,2,     0.35,2, -999.000,9, -999.000,9,  -999.00,9,   -999.0,9,   -999.0,9,-999.0000,9,   -999.0,  9,  -999.00,9,   -999.0,  -999.00,9,  -999.00,9,     0.00,2,     0.01,2,   -999.0,-999.0000, -999,9,  299,  17.4687,  25.2635,   -999.0,9
       SH98-08,  NONE,SH-5625,  1,      1, 1-133-2,2,19980821,0720, 30.0090, 135.2433, 4330,    399.2,  15.9135,  34.7088,2,   -999.0,9,  34.7160,2,    210.4,3,  -999.00,9,  -999.00,9,     7.61,2,     0.01,2,     0.55,2, -999.000,9, -999.000,9,  -999.00,9,   -999.0,9,   -999.0,9,-999.0000,9,   -999.0,  9,  -999.00,9,   -999.0,  -999.00,9,  -999.00,9,  -999.00,9,  -999.00,9,   -999.0,-999.0000, -999,9,  396,  15.8504,  25.5577,   -999.0,9
       SH98-08,  NONE,SH-5625,  1,     12, S-1-1-8,2,19980821,0718, 30.0090, 135.2433, 4330,    499.0,  13.8684,  34.5504,2,   -999.0,9,  34.5490,2,    200.6,3,  -999.00,9,  -999.00,9,    11.50,2,     0.00,2,     0.87,2, -999.000,9, -999.000,9,  -999.00,9,   -999.0,9,   -999.0,9,-999.0000,9,   -999.0,  9,  -999.00,9,   -999.0,  -999.00,9,  -999.00,9,  -999.00,9,  -999.00,9,   -999.0,-999.0000, -999,9,  495,  13.7963,  25.8821,   -999.0,9
       SH98-08,  NONE,SH-5625,  1,     11,s-1-1-11,2,19980821,0717, 30.0090, 135.2433, 4330,    599.5,  11.2597,  34.3676,2,   -999.0,9,  34.3663,2,    183.4,3,  -999.00,9,  -999.00,9,    17.05,2,     0.00,2,     1.30,2, -999.000,9, -999.000,9,  -999.00,9,   -999.0,9,   -999.0,9,-999.0000,9,   -999.0,  9,  -999.00,9,   -999.0,  -999.00,9,  -999.00,9,  -999.00,9,  -999.00,9,   -999.0,-999.0000, -999,9,  595,  11.1839,  26.2497,   -999.0,9
       SH98-08,  NONE,SH-5625,  1,     10,S-1-1-10,2,19980821,0715, 30.0090, 135.2433, 4330,    699.5,   8.4911,  34.2330,2,   -999.0,9,  34.2325,2,    152.5,3,  -999.00,9,  -999.00,9,    24.06,2,     0.00,2,     1.85,2, -999.000,9, -999.000,9,  -999.00,9,   -999.0,9,   -999.0,9,-999.0000,9,   -999.0,  9,  -999.00,9,   -999.0,  -999.00,9,  -999.00,9,  -999.00,9,  -999.00,9,   -999.0,-999.0000, -999,9,  694,   8.4163,  26.6086,   -999.0,9
       SH98-08,  NONE,SH-5625,  1,      9, S-1-1-7,2,19980821,0713, 30.0090, 135.2433, 4330,    800.5,   6.4689,  34.1893,2,   -999.0,9,  34.1897,2,    121.1,3,  -999.00,9,  -999.00,9,    29.70,2,     0.01,2,     2.30,2, -999.000,9, -999.000,9,  -999.00,9,   -999.0,9,   -999.0,9,-999.0000,9,   -999.0,  9,  -999.00,9,   -999.0,  -999.00,9,  -999.00,9,  -999.00,9,  -999.00,9,   -999.0,-999.0000, -999,9,  794,   6.3949,  26.8613,   -999.0,9
       SH98-08,  NONE,SH-5625,  1,      8, S-1-1-9,2,19980821,0711, 30.0090, 135.2433, 4330,    901.9,   5.0559,  34.2194,2,   -999.0,9,  34.2202,2,     89.8,3,  -999.00,9,  -999.00,9,    34.47,2,     0.00,2,     2.65,2, -999.000,9, -999.000,9,  -999.00,9,   -999.0,9,   -999.0,9,-999.0000,9,   -999.0,  9,  -999.00,9,   -999.0,  -999.00,9,  -999.00,9,  -999.00,9,  -999.00,9,   -999.0,-999.0000, -999,9,  894,   4.9815,  27.0585,   -999.0,9
       SH98-08,  NONE,SH-5625,  1,      7, S-1-1-4,2,19980821,0710, 30.0090, 135.2433, 4330,   1003.3,   4.5420,  34.2797,2,   -999.0,9,  34.2831,2,     80.0,3,  -999.00,9,  -999.00,9,    35.92,2,     0.01,2,     2.76,2, -999.000,9, -999.000,9,  -999.00,9,   -999.0,9,   -999.0,9,-999.0000,9,   -999.0,  9,  -999.00,9,   -999.0,  -999.00,9,  -999.00,9,  -999.00,9,  -999.00,9,   -999.0,-999.0000, -999,9,  994,   4.4622,  27.1642,   -999.0,9
       SH98-08,  NONE,SH-5625,  1,      6,02-14892,2,19980821,0707, 30.0090, 135.2433, 4330,   1205.0,   3.4475,  34.4047,2,   -999.0,9,  34.4045,2,     66.9,3,  -999.00,9,  -999.00,9,    38.25,2,     0.01,2,     2.92,2, -999.000,9, -999.000,9,  -999.00,9,   -999.0,9,   -999.0,9,-999.0000,9,   -999.0,  9,  -999.00,9,   -999.0,  -999.00,9,  -999.00,9,  -999.00,9,  -999.00,9,   -999.0,-999.0000, -999,9, 1193,   3.3598,  27.3763,   -999.0,9