BOTTLE,20130516GEMDJMAYT
EXPOCODE,SECT_ID,STNNBR,CASTNO,SAMPNO,BTLNBR,BTLNBR_FLAG_W,DATE,TIME,LATITUDE,LONGITUDE,DEPTH,CTDPRS,CTDTMP,CTDSAL,CTDSAL_FLAG_W,CTDOXY,CTDOXY_FLAG_W,SALNTY,SALNTY_FLAG_W,OXYGEN,OXYGEN_FLAG_W,SILCAT,SILCAT_FLAG_W,NITRAT,NITRAT_FLAG_W,NO2+NO3,NO2+NO3_FLAG_W,NITRIT,NITRIT_FLAG_W,PHSPHT,PHSPHT_FLAG_W,CFC-11,CFC-11_FLAG_W,CFC-12,CFC-12_FLAG_W,DELC13,DELC13_FLAG_W,TCARBN,TCARBN_FLAG_W,ALKALI,ALKALI_FLAG_W,PH,PH_FLAG_W,PH_TMP,PH_SCALE,PH_NBS,PH_NBS_FLAG_W,C13ERR,TOTALP,TOTALP_FLAG_W,AMMONI,AMMONI_FLAG_W,CHLORA,CHLORA_FLAG_W,PPHYTN,PPHYTN_FLAG_W,REVPRS,REVTMP,DEPTH_,DEPTH_FLAG,CTDDEP,THETA,SIGTHT,DOC,DOC_FLAG_W
,,,,,,,GMT,GMT,,,METER,DBAR,ITS-90,PSS-78,,UMOL/KG,,PSS-78,,UMOL/KG,,UMOL/KG,,UMOL/KG,,UMOL/KG,,UMOL/KG,,UMOL/KG,,PMOL/KG,,PMOL/KG,,/MILLE,,UMOL/KG,,UMOL/KG,,25_DEG_C,,DEG_C,,,,/MILLE,UMOL/KG,,UMOL/KG,,UG/L,,UG/L,,DBAR,ITS-90,METERS,,METERS,DEG_C,,UMOL/L,
       SH98-10,  NONE,SH-5666,  1,     -9,      -9,4,19981011,2039, 30.6450, 132.1403, 2380,    399.2,   8.2025,  34.2337,2,   -999.0,9,-999.0000,9,   -999.0,9,  -999.00,9,  -999.00,9,  -999.00,9,  -999.00,9,  -999.00,9, -999.000,9, -999.000,9,  -999.00,9,   -999.0,9,   -999.0,9,-999.0000,9,   -999.0,  9,  -999.00,9,   -999.0,  -999.00,9,  -999.00,9,  -999.00,9,  -999.00,9,   -999.0,-999.0000, -999,9,  396,   8.1614,  26.6478,   -999.0,9
       SH98-10,  NONE,SH-5666,  1,      7, S-1-1-4,2,19981011,2036, 30.6450, 132.1403, 2380,    499.7,   6.0848,  34.3127,2,   -999.0,9,  34.2687,2,     94.4,2,  -999.00,9,  -999.00,9,    33.98,2,     0.01,2,     2.45,2, -999.000,9, -999.000,9,  -999.00,9,   -999.0,9,   -999.0,9,-999.0000,9,   -999.0,  9,     7.64,2,   -999.0,  -999.00,9,  -999.00,9,  -999.00,9,  -999.00,9,   -999.0,-999.0000, -999,9,  496,   6.0410,  27.0043,   -999.0,9
       SH98-10,  NONE,SH-5666,  1,      6, 1-133-7,2,19981011,2033, 30.6450, 132.1403, 2380,    601.8,   4.8283,  34.3286,2,   -999.0,9,  34.3101,4,     76.8,2,  -999.00,9,  -999.00,9,    37.58,2,     0.00,2,     2.73,2, -999.000,9, -999.000,9,  -999.00,9,   -999.0,9,   -999.0,9,-999.0000,9,   -999.0,  9,     7.58,2,   -999.0,  -999.00,9,  -999.00,9,  -999.00,9,  -999.00,9,   -999.0,-999.0000, -999,9,  597,   4.7809,  27.1679,   -999.0,9
       SH98-10,  NONE,SH-5666,  1,      5, S-1-1-6,2,19981011,2030, 30.6450, 132.1403, 2380,    699.6,   4.1785,  34.3636,2,   -999.0,9,  34.3384,4,     71.4,2,  -999.00,9,  -999.00,9,    38.94,2,     0.00,2,     2.81,2, -999.000,9, -999.000,9,  -999.00,9,   -999.0,9,   -999.0,9,-999.0000,9,   -999.0,  9,     7.56,2,   -999.0,  -999.00,9,  -999.00,9,  -999.00,9,  -999.00,9,   -999.0,-999.0000, -999,9,  694,   4.1263,  27.2667,   -999.0,9
       SH98-10,  NONE,SH-5666,  1,      4, S-1-1-1,2,19981011,2028, 30.6450, 132.1403, 2380,    799.3,   3.8563,  34.4119,2,   -999.0,9,  34.4023,2,     70.6,4,  -999.00,9,  -999.00,9,    39.71,2,     0.00,2,     2.86,2, -999.000,9, -999.000,9,  -999.00,9,   -999.0,9,   -999.0,9,-999.0000,9,   -999.0,  9,     7.56,4,   -999.0,  -999.00,9,  -999.00,9,  -999.00,9,  -999.00,9,   -999.0,-999.0000, -999,9,  792,   3.7980,  27.3390,   -999.0,9
       SH98-10,  NONE,SH-5666,  1,      3,1-133-84,2,19981011,2025, 30.6450, 132.1403, 2380,    899.9,   3.3653,  34.4420,2,   -999.0,9,  34.4253,4,     67.7,2,  -999.00,9,  -999.00,9,    40.30,2,     0.01,2,     2.91,2, -999.000,9, -999.000,9,  -999.00,9,   -999.0,9,   -999.0,9,-999.0000,9,   -999.0,  9,     7.55,2,   -999.0,  -999.00,9,  -999.00,9,  -999.00,9,  -999.00,9,   -999.0,-999.0000, -999,9,  892,   3.3024,  27.4115,   -999.0,9
       SH98-10,  NONE,SH-5666,  1,      2, 1-133-1,2,19981011,2023, 30.6450, 132.1403, 2380,   1001.0,   3.1400,  34.4737,2,   -999.0,9,  34.4475,4,     74.8,4,  -999.00,9,  -999.00,9,    39.81,4,     0.01,4,     2.80,4, -999.000,9, -999.000,9,  -999.00,9,   -999.0,9,   -999.0,9,-999.0000,9,   -999.0,  9,     7.58,4,   -999.0,  -999.00,9,  -999.00,9,  -999.00,9,  -999.00,9,   -999.0,-999.0000, -999,9,  992,   3.0710,  27.4584,   -999.0,9
       SH98-10,  NONE,SH-5666,  1,      1, 1-133-2,2,19981011,2018, 30.6450, 132.1403, 2380,   1202.9,   2.7738,  34.5145,2,   -999.0,9,  34.5020,2,     78.8,2,  -999.00,9,  -999.00,9,    40.39,2,     0.00,2,     2.86,2, -999.000,9, -999.000,9,  -999.00,9,   -999.0,9,   -999.0,9,-999.0000,9,   -999.0,  9,     7.57,2,   -999.0,  -999.00,9,  -999.00,9,  -999.00,9,  -999.00,9,   -999.0,-999.0000, -999,9, 1191,   2.6923,  27.5250,   -999.0,9