BOTTLE,20130516GEMDJMAYT
EXPOCODE,SECT_ID,STNNBR,CASTNO,SAMPNO,BTLNBR,BTLNBR_FLAG_W,DATE,TIME,LATITUDE,LONGITUDE,DEPTH,CTDPRS,CTDTMP,CTDSAL,CTDSAL_FLAG_W,CTDOXY,CTDOXY_FLAG_W,SALNTY,SALNTY_FLAG_W,OXYGEN,OXYGEN_FLAG_W,SILCAT,SILCAT_FLAG_W,NITRAT,NITRAT_FLAG_W,NO2+NO3,NO2+NO3_FLAG_W,NITRIT,NITRIT_FLAG_W,PHSPHT,PHSPHT_FLAG_W,CFC-11,CFC-11_FLAG_W,CFC-12,CFC-12_FLAG_W,DELC13,DELC13_FLAG_W,TCARBN,TCARBN_FLAG_W,ALKALI,ALKALI_FLAG_W,PH,PH_FLAG_W,PH_TMP,PH_SCALE,PH_NBS,PH_NBS_FLAG_W,C13ERR,TOTALP,TOTALP_FLAG_W,AMMONI,AMMONI_FLAG_W,CHLORA,CHLORA_FLAG_W,PPHYTN,PPHYTN_FLAG_W,REVPRS,REVTMP,DEPTH_,DEPTH_FLAG,CTDDEP,THETA,SIGTHT,DOC,DOC_FLAG_W
,,,,,,,GMT,GMT,,,METER,DBAR,ITS-90,PSS-78,,UMOL/KG,,PSS-78,,UMOL/KG,,UMOL/KG,,UMOL/KG,,UMOL/KG,,UMOL/KG,,UMOL/KG,,PMOL/KG,,PMOL/KG,,/MILLE,,UMOL/KG,,UMOL/KG,,25_DEG_C,,DEG_C,,,,/MILLE,UMOL/KG,,UMOL/KG,,UG/L,,UG/L,,DBAR,ITS-90,METERS,,METERS,DEG_C,,UMOL/L,
       SH98-10,  NONE,SH-5657,  2,     -9,      -9,5,19981009,1424, 30.5147, 135.2278, 4260,      0.0,  27.6942,  34.4158,2,   -999.0,9,  34.4326,2,    201.2,2,  -999.00,9,  -999.00,9,     0.00,2,     0.00,2,     0.01,2, -999.000,9, -999.000,9,  -999.00,9,   1926.6,3,   -999.0,9,-999.0000,9,   -999.0,  9,     8.21,2,   -999.0,  -999.00,9,  -999.00,9,     0.05,2,     0.03,2,   -999.0,-999.0000, -999,9,    0,  27.6942,  22.0548,   -999.0,9
       SH98-10,  NONE,SH-5657,  2,      9, S-1-1-7,2,19981009,1422, 30.5147, 135.2278, 4260,     12.8,  27.6983,  34.4154,2,   -999.0,9,-999.0000,9,    201.1,2,  -999.00,9,  -999.00,9,     0.00,2,     0.00,2,     0.00,2, -999.000,9, -999.000,9,  -999.00,9,   -999.0,9,   -999.0,9,-999.0000,9,   -999.0,  9,  -999.00,9,   -999.0,  -999.00,9,  -999.00,9,     0.05,2,     0.03,2,   -999.0,-999.0000, -999,9,   13,  27.6953,  22.0542,   -999.0,9
       SH98-10,  NONE,SH-5657,  2,      8, S-1-1-9,2,19981009,1422, 30.5147, 135.2278, 4260,     27.6,  27.6717,  34.4169,2,   -999.0,9,-999.0000,9,    201.4,2,  -999.00,9,  -999.00,9,     0.00,2,     0.00,2,     0.00,2, -999.000,9, -999.000,9,  -999.00,9,   -999.0,9,   -999.0,9,-999.0000,9,   -999.0,  9,  -999.00,9,   -999.0,  -999.00,9,  -999.00,9,     0.05,2,     0.03,2,   -999.0,-999.0000, -999,9,   27,  27.6653,  22.0650,   -999.0,9
       SH98-10,  NONE,SH-5657,  2,      7, S-1-1-4,2,19981009,1421, 30.5147, 135.2278, 4260,     52.9,  27.1226,  34.4344,2,   -999.0,9,-999.0000,9,    205.2,2,  -999.00,9,  -999.00,9,     0.00,2,     0.00,2,     0.00,2, -999.000,9, -999.000,9,  -999.00,9,   -999.0,9,   -999.0,9,-999.0000,9,   -999.0,  9,  -999.00,9,   -999.0,  -999.00,9,  -999.00,9,     0.09,2,     0.04,2,   -999.0,-999.0000, -999,9,   53,  27.1104,  22.2566,   -999.0,9
       SH98-10,  NONE,SH-5657,  2,      6, 1-133-7,2,19981009,1420, 30.5147, 135.2278, 4260,     76.4,  22.2464,  34.8459,2,   -999.0,9,-999.0000,9,    230.4,2,  -999.00,9,  -999.00,9,     0.00,2,     0.00,2,     0.01,2, -999.000,9, -999.000,9,  -999.00,9,   -999.0,9,   -999.0,9,-999.0000,9,   -999.0,  9,  -999.00,9,   -999.0,  -999.00,9,  -999.00,9,     0.18,2,     0.16,2,   -999.0,-999.0000, -999,9,   76,  22.2312,  24.0358,   -999.0,9
       SH98-10,  NONE,SH-5657,  2,      5, S-1-1-6,2,19981009,1419, 30.5147, 135.2278, 4260,    102.6,  20.4428,  34.8417,2,   -999.0,9,-999.0000,9,    204.4,2,  -999.00,9,  -999.00,9,     1.27,2,     0.13,2,     0.11,2, -999.000,9, -999.000,9,  -999.00,9,   -999.0,9,   -999.0,9,-999.0000,9,   -999.0,  9,  -999.00,9,   -999.0,  -999.00,9,  -999.00,9,     0.19,2,     0.55,2,   -999.0,-999.0000, -999,9,  102,  20.4236,  24.5287,   -999.0,9
       SH98-10,  NONE,SH-5657,  2,      4, S-1-1-1,2,19981009,1418, 30.5147, 135.2278, 4260,    127.3,  19.4856,  34.8257,2,   -999.0,9,-999.0000,9,    206.6,2,  -999.00,9,  -999.00,9,     2.24,2,     0.05,2,     0.15,2, -999.000,9, -999.000,9,  -999.00,9,   -999.0,9,   -999.0,9,-999.0000,9,   -999.0,  9,  -999.00,9,   -999.0,  -999.00,9,  -999.00,9,     0.07,2,     0.33,2,   -999.0,-999.0000, -999,9,  126,  19.4626,  24.7692,   -999.0,9
       SH98-10,  NONE,SH-5657,  2,      3,1-133-84,2,19981009,1417, 30.5147, 135.2278, 4260,    151.8,  18.9494,  34.8285,2,   -999.0,9,-999.0000,9,    206.5,2,  -999.00,9,  -999.00,9,     2.73,2,     0.01,2,     0.20,2, -999.000,9, -999.000,9,  -999.00,9,   -999.0,9,   -999.0,9,-999.0000,9,   -999.0,  9,  -999.00,9,   -999.0,  -999.00,9,  -999.00,9,     0.02,2,     0.04,2,   -999.0,-999.0000, -999,9,  151,  18.9224,  24.9099,   -999.0,9
       SH98-10,  NONE,SH-5657,  2,      2, 1-133-1,2,19981009,1416, 30.5147, 135.2278, 4260,    202.8,  18.2799,  34.8210,2,   -999.0,9,-999.0000,9,    206.2,2,  -999.00,9,  -999.00,9,     3.61,2,     0.01,2,     0.24,2, -999.000,9, -999.000,9,  -999.00,9,   -999.0,9,   -999.0,9,-999.0000,9,   -999.0,  9,  -999.00,9,   -999.0,  -999.00,9,  -999.00,9,     0.00,2,     0.01,2,   -999.0,-999.0000, -999,9,  201,  18.2447,  25.0745,   -999.0,9
       SH98-10,  NONE,SH-5657,  2,      1, 1-133-2,2,19981009,1415, 30.5147, 135.2278, 4260,    252.0,  17.6606,  34.8218,2,   -999.0,9,-999.0000,9,    198.8,2,  -999.00,9,  -999.00,9,     5.07,2,     0.00,2,     0.34,2, -999.000,9, -999.000,9,  -999.00,9,   -999.0,9,   -999.0,9,-999.0000,9,   -999.0,  9,  -999.00,9,   -999.0,  -999.00,9,  -999.00,9,     0.00,2,     0.01,2,   -999.0,-999.0000, -999,9,  250,  17.6179,  25.2290,   -999.0,9
       SH98-10,  NONE,SH-5657,  2,     12, S-1-1-8,2,19981009,1414, 30.5147, 135.2278, 4260,    303.2,  17.0204,  34.7886,2,   -999.0,9,-999.0000,9,    196.0,2,  -999.00,9,  -999.00,9,     6.24,2,     0.00,2,     0.43,2, -999.000,9, -999.000,9,  -999.00,9,   -999.0,9,   -999.0,9,-999.0000,9,   -999.0,  9,  -999.00,9,   -999.0,  -999.00,9,  -999.00,9,     0.00,2,     0.01,2,   -999.0,-999.0000, -999,9,  301,  16.9702,  25.3590,   -999.0,9
       SH98-10,  NONE,SH-5657,  1,     11,S-1-1-11,2,19981009,1340, 30.5073, 135.2423, 4290,    400.4,  15.3373,  34.6674,2,   -999.0,9,-999.0000,9,    189.0,2,  -999.00,9,  -999.00,9,     9.46,2,     0.00,2,     0.65,2, -999.000,9, -999.000,9,  -999.00,9,   -999.0,9,   -999.0,9,-999.0000,9,   -999.0,  9,  -999.00,9,   -999.0,  -999.00,9,  -999.00,9,  -999.00,9,  -999.00,9,   -999.0,-999.0000, -999,9,  397,  15.2756,  25.6547,   -999.0,9
       SH98-10,  NONE,SH-5657,  1,     10,S-1-1-10,2,19981009,1336, 30.5073, 135.2423, 4290,    500.5,  13.0857,  34.4998,2,   -999.0,9,-999.0000,9,    178.2,2,  -999.00,9,  -999.00,9,    14.33,2,     0.00,2,     1.00,2, -999.000,9, -999.000,9,  -999.00,9,   -999.0,9,   -999.0,9,-999.0000,9,   -999.0,  9,  -999.00,9,   -999.0,  -999.00,9,  -999.00,9,  -999.00,9,  -999.00,9,   -999.0,-999.0000, -999,9,  496,  13.0161,  26.0021,   -999.0,9
       SH98-10,  NONE,SH-5657,  1,      9, S-1-1-7,2,19981009,1334, 30.5073, 135.2423, 4290,    600.3,  10.1645,  34.3009,2,   -999.0,9,-999.0000,9,    163.2,2,  -999.00,9,  -999.00,9,    20.65,2,     0.00,2,     1.47,2, -999.000,9, -999.000,9,  -999.00,9,   -999.0,9,   -999.0,9,-999.0000,9,   -999.0,  9,  -999.00,9,   -999.0,  -999.00,9,  -999.00,9,  -999.00,9,  -999.00,9,   -999.0,-999.0000, -999,9,  595,  10.0933,  26.3901,   -999.0,9
       SH98-10,  NONE,SH-5657,  1,      8, S-1-1-9,2,19981009,1332, 30.5073, 135.2423, 4290,    700.4,   7.3788,  34.1546,2,   -999.0,9,-999.0000,9,    138.4,2,  -999.00,9,  -999.00,9,    27.76,2,     0.00,2,     2.01,2, -999.000,9, -999.000,9,  -999.00,9,   -999.0,9,   -999.0,9,-999.0000,9,   -999.0,  9,  -999.00,9,   -999.0,  -999.00,9,  -999.00,9,  -999.00,9,  -999.00,9,   -999.0,-999.0000, -999,9,  694,   7.3097,  26.7097,   -999.0,9
       SH98-10,  NONE,SH-5657,  1,      7, S-1-1-4,2,19981009,1330, 30.5073, 135.2423, 4290,    801.3,   5.8657,  34.1638,2,   -999.0,9,-999.0000,9,    107.1,2,  -999.00,9,  -999.00,9,    33.50,2,     0.00,2,     2.41,2, -999.000,9, -999.000,9,  -999.00,9,   -999.0,9,   -999.0,9,-999.0000,9,   -999.0,  9,  -999.00,9,   -999.0,  -999.00,9,  -999.00,9,  -999.00,9,  -999.00,9,   -999.0,-999.0000, -999,9,  794,   5.7953,  26.9174,   -999.0,9
       SH98-10,  NONE,SH-5657,  1,      6, 1-133-7,2,19981009,1328, 30.5073, 135.2423, 4290,    902.3,   4.9352,  34.2767,2,   -999.0,9,-999.0000,9,     79.3,2,  -999.00,9,  -999.00,9,    37.39,2,     0.00,2,     2.69,2, -999.000,9, -999.000,9,  -999.00,9,   -999.0,9,   -999.0,9,-999.0000,9,   -999.0,  9,  -999.00,9,   -999.0,  -999.00,9,  -999.00,9,  -999.00,9,  -999.00,9,   -999.0,-999.0000, -999,9,  894,   4.8614,  27.1176,   -999.0,9
       SH98-10,  NONE,SH-5657,  1,      5, S-1-1-6,2,19981009,1326, 30.5073, 135.2423, 4290,   1002.3,   4.1749,  34.3392,2,   -999.0,9,-999.0000,9,     68.6,2,  -999.00,9,  -999.00,9,    39.43,2,     0.00,2,     2.82,2, -999.000,9, -999.000,9,  -999.00,9,   -999.0,9,   -999.0,9,-999.0000,9,   -999.0,  9,  -999.00,9,   -999.0,  -999.00,9,  -999.00,9,  -999.00,9,  -999.00,9,   -999.0,-999.0000, -999,9,  993,   4.0979,  27.2503,   -999.0,9
       SH98-10,  NONE,SH-5657,  1,      4, S-1-1-1,2,19981009,1322, 30.5073, 135.2423, 4290,   1217.1,   3.2517,  34.4433,2,   -999.0,9,-999.0000,9,     68.4,2,  -999.00,9,  -999.00,9,    40.98,2,     0.00,2,     2.92,2, -999.000,9, -999.000,9,  -999.00,9,   -999.0,9,   -999.0,9,-999.0000,9,   -999.0,  9,  -999.00,9,   -999.0,  -999.00,9,  -999.00,9,  -999.00,9,  -999.00,9,   -999.0,-999.0000, -999,9, 1205,   3.1647,  27.4255,   -999.0,9
       SH98-10,  NONE,SH-5658,  2,     -9,      -9,5,19981009,1959, 30.0003, 135.2338, 4210,      0.0,  27.3811,  34.3917,2,   -999.0,9,  34.3956,2,    202.8,2,  -999.00,9,  -999.00,9,     0.00,2,     0.00,2,     0.01,2, -999.000,9, -999.000,9,  -999.00,9,   1929.4,6,   -999.0,9,-999.0000,9,   -999.0,  9,     8.22,2,   -999.0,  -999.00,9,  -999.00,9,     0.04,2,     0.03,2,   -999.0,-999.0000, -999,9,    0,  27.3811,  22.1377,   -999.0,9
       SH98-10,  NONE,SH-5658,  2,      3,1-133-84,2,19981009,1958, 30.0003, 135.2338, 4210,     11.7,  27.3933,  34.3900,2,   -999.0,9,  34.3934,2,    202.3,2,  -999.00,9,  -999.00,9,     0.00,2,     0.00,2,     0.00,2, -999.000,9, -999.000,9,  -999.00,9,   -999.0,9,   -999.0,9,-999.0000,9,   -999.0,  9,  -999.00,9,   -999.0,  -999.00,9,  -999.00,9,     0.04,2,     0.03,2,   -999.0,-999.0000, -999,9,   12,  27.3906,  22.1334,   -999.0,9
       SH98-10,  NONE,SH-5658,  2,      2, 1-133-1,2,19981009,1957, 30.0003, 135.2338, 4210,     25.4,  27.3884,  34.3889,2,   -999.0,9,  34.3932,2,    202.2,2,  -999.00,9,  -999.00,9,     0.00,2,     0.00,2,     0.00,2, -999.000,9, -999.000,9,  -999.00,9,   -999.0,9,   -999.0,9,-999.0000,9,   -999.0,  9,  -999.00,9,   -999.0,  -999.00,9,  -999.00,9,     0.05,2,     0.02,2,   -999.0,-999.0000, -999,9,   25,  27.3825,  22.1352,   -999.0,9
       SH98-10,  NONE,SH-5658,  2,      1, 1-133-2,2,19981009,1956, 30.0003, 135.2338, 4210,     50.8,  25.2416,  34.5667,2,   -999.0,9,  34.5436,4,    218.7,2,  -999.00,9,  -999.00,9,     0.00,2,     0.00,2,     0.00,2, -999.000,9, -999.000,9,  -999.00,9,   -999.0,9,   -999.0,9,-999.0000,9,   -999.0,  9,  -999.00,9,   -999.0,  -999.00,9,  -999.00,9,     0.09,2,     0.06,2,   -999.0,-999.0000, -999,9,   50,  25.2306,  22.9436,   -999.0,9
       SH98-10,  NONE,SH-5658,  2,     12, S-1-1-8,2,19981009,1955, 30.0003, 135.2338, 4210,     76.5,  20.8825,  34.8247,2,   -999.0,9,  34.8091,2,    227.7,2,  -999.00,9,  -999.00,9,     0.00,2,     0.00,2,     0.00,2, -999.000,9, -999.000,9,  -999.00,9,   -999.0,9,   -999.0,9,-999.0000,9,   -999.0,  9,  -999.00,9,   -999.0,  -999.00,9,  -999.00,9,     0.14,2,     0.16,2,   -999.0,-999.0000, -999,9,   76,  20.8679,  24.3963,   -999.0,9
       SH98-10,  NONE,SH-5658,  2,     11,S-1-1-11,2,19981009,1954, 30.0003, 135.2338, 4210,     99.9,  19.8475,  34.8423,2,   -999.0,9,  34.8339,2,    209.9,2,  -999.00,9,  -999.00,9,     0.98,2,     0.13,2,     0.10,2, -999.000,9, -999.000,9,  -999.00,9,   -999.0,9,   -999.0,9,-999.0000,9,   -999.0,  9,  -999.00,9,   -999.0,  -999.00,9,  -999.00,9,     0.26,2,     0.63,2,   -999.0,-999.0000, -999,9,   99,  19.8292,  24.6863,   -999.0,9
       SH98-10,  NONE,SH-5658,  2,     10,S-1-1-10,2,19981009,1953, 30.0003, 135.2338, 4210,    125.8,  19.0483,  34.8158,2,   -999.0,9,  34.8205,2,    210.0,2,  -999.00,9,  -999.00,9,     2.05,2,     0.05,2,     0.17,2, -999.000,9, -999.000,9,  -999.00,9,   -999.0,9,   -999.0,9,-999.0000,9,   -999.0,  9,  -999.00,9,   -999.0,  -999.00,9,  -999.00,9,     0.08,2,     0.34,2,   -999.0,-999.0000, -999,9,  125,  19.0259,  24.8738,   -999.0,9
       SH98-10,  NONE,SH-5658,  2,      9, S-1-1-7,2,19981009,1952, 30.0003, 135.2338, 4210,    150.7,  18.6538,  34.8009,2,   -999.0,9,-999.0000,4,    208.2,2,  -999.00,9,  -999.00,9,     2.93,2,     0.01,2,     0.21,2, -999.000,9, -999.000,9,  -999.00,9,   -999.0,9,   -999.0,9,-999.0000,9,   -999.0,  9,  -999.00,9,   -999.0,  -999.00,9,  -999.00,9,     0.04,2,     0.15,2,   -999.0,-999.0000, -999,9,  150,  18.6274,  24.9634,   -999.0,9
       SH98-10,  NONE,SH-5658,  2,      8, S-1-1-9,2,19981009,1950, 30.0003, 135.2338, 4210,    200.9,  17.9628,  34.8123,2,   -999.0,9,  34.8136,2,    202.0,2,  -999.00,9,  -999.00,9,     4.39,2,     0.01,2,     0.30,2, -999.000,9, -999.000,9,  -999.00,9,   -999.0,9,   -999.0,9,-999.0000,9,   -999.0,  9,  -999.00,9,   -999.0,  -999.00,9,  -999.00,9,     0.00,2,     0.02,2,   -999.0,-999.0000, -999,9,  199,  17.9284,  25.1459,   -999.0,9
       SH98-10,  NONE,SH-5658,  2,      7, S-1-1-4,2,19981009,1949, 30.0003, 135.2338, 4210,    250.9,  17.1345,  34.7998,2,   -999.0,9,  34.7993,2,    196.6,2,  -999.00,9,  -999.00,9,     6.05,2,     0.01,2,     0.41,2, -999.000,9, -999.000,9,  -999.00,9,   -999.0,9,   -999.0,9,-999.0000,9,   -999.0,  9,  -999.00,9,   -999.0,  -999.00,9,  -999.00,9,     0.00,2,     0.01,2,   -999.0,-999.0000, -999,9,  249,  17.0929,  25.3385,   -999.0,9
       SH98-10,  NONE,SH-5658,  2,      6, 1-133-7,2,19981009,1947, 30.0003, 135.2338, 4210,    303.6,  16.0462,  34.7174,2,   -999.0,9,  34.7231,2,    195.1,2,  -999.00,9,  -999.00,9,     7.80,2,     0.00,2,     0.53,2, -999.000,9, -999.000,9,  -999.00,9,   -999.0,9,   -999.0,9,-999.0000,9,   -999.0,  9,  -999.00,9,   -999.0,  -999.00,9,  -999.00,9,     0.00,2,     0.01,2,   -999.0,-999.0000, -999,9,  301,  15.9980,  25.5307,   -999.0,9
       SH98-10,  NONE,SH-5658,  1,      5, S-1-1-6,2,19981009,1907, 30.0027, 135.2470, 4050,    399.3,  14.0503,  34.5705,2,   -999.0,9,  34.5694,2,    183.9,2,  -999.00,9,  -999.00,9,    12.09,2,     0.00,2,     0.86,2, -999.000,9, -999.000,9,  -999.00,9,   -999.0,9,   -999.0,9,-999.0000,9,   -999.0,  9,  -999.00,9,   -999.0,  -999.00,9,  -999.00,9,  -999.00,9,  -999.00,9,   -999.0,-999.0000, -999,9,  396,  13.9923,  25.8567,   -999.0,9
       SH98-10,  NONE,SH-5658,  1,      4, S-1-1-1,2,19981009,1905, 30.0027, 135.2470, 4050,    498.7,  11.0562,  34.3647,2,   -999.0,9,  34.3602,2,    167.9,2,  -999.00,9,  -999.00,9,    18.71,2,     0.00,2,     1.33,2, -999.000,9, -999.000,9,  -999.00,9,   -999.0,9,   -999.0,9,-999.0000,9,   -999.0,  9,  -999.00,9,   -999.0,  -999.00,9,  -999.00,9,  -999.00,9,  -999.00,9,   -999.0,-999.0000, -999,9,  495,  10.9941,  26.2818,   -999.0,9
       SH98-10,  NONE,SH-5658,  1,      3,1-133-84,2,19981009,1903, 30.0027, 135.2470, 4050,    599.5,   8.1737,  34.2254,2,   -999.0,9,  34.2168,2,    137.0,2,  -999.00,9,  -999.00,9,    26.49,2,     0.00,2,     1.91,2, -999.000,9, -999.000,9,  -999.00,9,   -999.0,9,   -999.0,9,-999.0000,9,   -999.0,  9,  -999.00,9,   -999.0,  -999.00,9,  -999.00,9,  -999.00,9,  -999.00,9,   -999.0,-999.0000, -999,9,  595,   8.1113,  26.6489,   -999.0,9
       SH98-10,  NONE,SH-5658,  1,      2, 1-133-1,2,19981009,1901, 30.0027, 135.2470, 4050,    699.9,   6.3286,  34.2072,2,   -999.0,9,  34.2070,2,    108.3,2,  -999.00,9,  -999.00,9,    32.23,2,     0.00,2,     2.33,2, -999.000,9, -999.000,9,  -999.00,9,   -999.0,9,   -999.0,9,-999.0000,9,   -999.0,  9,  -999.00,9,   -999.0,  -999.00,9,  -999.00,9,  -999.00,9,  -999.00,9,   -999.0,-999.0000, -999,9,  694,   6.2651,  26.8923,   -999.0,9
       SH98-10,  NONE,SH-5658,  1,      1, 1-133-2,2,19981009,1859, 30.0027, 135.2470, 4050,    800.0,   4.7875,  34.1973,2,   -999.0,9,  34.1917,2,     80.0,3,  -999.00,9,  -999.00,9,    37.58,2,     0.00,2,     2.69,2, -999.000,9, -999.000,9,  -999.00,9,   -999.0,9,   -999.0,9,-999.0000,9,   -999.0,  9,  -999.00,9,   -999.0,  -999.00,9,  -999.00,9,  -999.00,9,  -999.00,9,   -999.0,-999.0000, -999,9,  793,   4.7238,  27.0701,   -999.0,9
       SH98-10,  NONE,SH-5658,  1,     12, S-1-1-8,2,19981009,1857, 30.0027, 135.2470, 4050,    900.7,   4.2406,  34.2563,2,   -999.0,9,  34.2512,2,     65.0,3,  -999.00,9,  -999.00,9,    39.62,2,     0.00,2,     2.84,2, -999.000,9, -999.000,9,  -999.00,9,   -999.0,9,   -999.0,9,-999.0000,9,   -999.0,  9,  -999.00,9,   -999.0,  -999.00,9,  -999.00,9,  -999.00,9,  -999.00,9,   -999.0,-999.0000, -999,9,  893,   4.1718,  27.1767,   -999.0,9
       SH98-10,  NONE,SH-5658,  1,     11,S-1-1-11,2,19981009,1855, 30.0027, 135.2470, 4050,   1003.3,   3.7980,  34.3112,2,   -999.0,9,  34.3054,2,     54.8,3,  -999.00,9,  -999.00,9,    40.89,2,     0.00,2,     2.94,2, -999.000,9, -999.000,9,  -999.00,9,   -999.0,9,   -999.0,9,-999.0000,9,   -999.0,  9,  -999.00,9,   -999.0,  -999.00,9,  -999.00,9,  -999.00,9,  -999.00,9,   -999.0,-999.0000, -999,9,  994,   3.7240,  27.2662,   -999.0,9
       SH98-10,  NONE,SH-5658,  1,     10,S-1-1-10,2,19981009,1852, 30.0027, 135.2470, 4050,   1206.6,   3.1729,  34.4385,2,   -999.0,9,  34.4217,2,     66.7,2,  -999.00,9,  -999.00,9,    40.39,2,     0.00,2,     2.87,2, -999.000,9, -999.000,9,  -999.00,9,   -999.0,9,   -999.0,9,-999.0000,9,   -999.0,  9,  -999.00,9,   -999.0,  -999.00,9,  -999.00,9,  -999.00,9,  -999.00,9,   -999.0,-999.0000, -999,9, 1195,   3.0876,  27.4288,   -999.0,9