BOTTLE,20130516GEMDJMAYT
EXPOCODE,SECT_ID,STNNBR,CASTNO,SAMPNO,BTLNBR,BTLNBR_FLAG_W,DATE,TIME,LATITUDE,LONGITUDE,DEPTH,CTDPRS,CTDTMP,CTDSAL,CTDSAL_FLAG_W,CTDOXY,CTDOXY_FLAG_W,SALNTY,SALNTY_FLAG_W,OXYGEN,OXYGEN_FLAG_W,SILCAT,SILCAT_FLAG_W,NITRAT,NITRAT_FLAG_W,NO2+NO3,NO2+NO3_FLAG_W,NITRIT,NITRIT_FLAG_W,PHSPHT,PHSPHT_FLAG_W,CFC-11,CFC-11_FLAG_W,CFC-12,CFC-12_FLAG_W,DELC13,DELC13_FLAG_W,TCARBN,TCARBN_FLAG_W,ALKALI,ALKALI_FLAG_W,PH,PH_FLAG_W,PH_TMP,PH_SCALE,PH_NBS,PH_NBS_FLAG_W,C13ERR,TOTALP,TOTALP_FLAG_W,AMMONI,AMMONI_FLAG_W,CHLORA,CHLORA_FLAG_W,PPHYTN,PPHYTN_FLAG_W,REVPRS,REVTMP,DEPTH_,DEPTH_FLAG,CTDDEP,THETA,SIGTHT,DOC,DOC_FLAG_W
,,,,,,,GMT,GMT,,,METER,DBAR,ITS-90,PSS-78,,UMOL/KG,,PSS-78,,UMOL/KG,,UMOL/KG,,UMOL/KG,,UMOL/KG,,UMOL/KG,,UMOL/KG,,PMOL/KG,,PMOL/KG,,/MILLE,,UMOL/KG,,UMOL/KG,,25_DEG_C,,DEG_C,,,,/MILLE,UMOL/KG,,UMOL/KG,,UG/L,,UG/L,,DBAR,ITS-90,METERS,,METERS,DEG_C,,UMOL/L,
       SH98-10,  NONE,SH-5663,  2,     -9,      -9,5,19981011,0343, 29.4952, 133.4753, 2750,      0.0,  28.5424,  34.5366,2,   -999.0,9,-999.0000,9,    197.5,2,  -999.00,9,  -999.00,9,     0.00,2,     0.00,2,     0.00,2, -999.000,9, -999.000,9,  -999.00,9,   -999.0,9,   -999.0,9,-999.0000,9,   -999.0,  9,     8.25,2,   -999.0,  -999.00,9,  -999.00,9,     0.08,2,     0.05,2,   -999.0,-999.0000, -999,9,    0,  28.5424,  21.8681,   -999.0,9
       SH98-10,  NONE,SH-5663,  2,      1, 1-133-2,2,19981011,0342, 29.4952, 133.4753, 2750,     13.5,  28.5391,  34.5364,2,   -999.0,9,  34.5409,2,    197.4,2,  -999.00,9,  -999.00,9,     0.00,2,     0.00,2,     0.00,2, -999.000,9, -999.000,9,  -999.00,9,   -999.0,9,   -999.0,9,-999.0000,9,   -999.0,  9,     8.26,2,   -999.0,  -999.00,9,  -999.00,9,     0.09,2,     0.04,2,   -999.0,-999.0000, -999,9,   13,  28.5358,  21.8701,   -999.0,9
       SH98-10,  NONE,SH-5663,  2,     12, S-1-1-8,2,19981011,0341, 29.4952, 133.4753, 2750,     27.4,  28.5391,  34.5373,2,   -999.0,9,  34.5434,2,    197.2,2,  -999.00,9,  -999.00,9,     0.10,2,     0.00,2,     0.00,2, -999.000,9, -999.000,9,  -999.00,9,   -999.0,9,   -999.0,9,-999.0000,9,   -999.0,  9,     8.25,2,   -999.0,  -999.00,9,  -999.00,9,     0.08,2,     0.04,2,   -999.0,-999.0000, -999,9,   27,  28.5325,  21.8719,   -999.0,9
       SH98-10,  NONE,SH-5663,  2,     11,S-1-1-11,2,19981011,0340, 29.4952, 133.4753, 2750,     53.2,  28.5272,  34.5456,2,   -999.0,9,  34.5576,4,    197.3,2,  -999.00,9,  -999.00,9,     0.00,2,     0.00,2,     0.00,2, -999.000,9, -999.000,9,  -999.00,9,   -999.0,9,   -999.0,9,-999.0000,9,   -999.0,  9,     8.26,2,   -999.0,  -999.00,9,  -999.00,9,     0.10,2,     0.07,2,   -999.0,-999.0000, -999,9,   53,  28.5145,  21.8841,   -999.0,9
       SH98-10,  NONE,SH-5663,  2,     10,S-1-1-10,2,19981011,0339, 29.4952, 133.4753, 2750,     78.7,  26.5795,  34.6803,2,   -999.0,9,  34.6936,2,    209.5,2,  -999.00,9,  -999.00,9,     0.00,2,     0.00,2,     0.01,2, -999.000,9, -999.000,9,  -999.00,9,   -999.0,9,   -999.0,9,-999.0000,9,   -999.0,  9,     8.23,2,   -999.0,  -999.00,9,  -999.00,9,     0.22,2,     0.26,2,   -999.0,-999.0000, -999,9,   78,  26.5617,  22.6161,   -999.0,9
       SH98-10,  NONE,SH-5663,  2,      9, S-1-1-7,2,19981011,0338, 29.4952, 133.4753, 2750,    101.0,  24.2931,  34.7923,2,   -999.0,9,  34.7747,2,    205.1,2,  -999.00,9,  -999.00,9,     0.00,2,     0.01,2,     0.02,2, -999.000,9, -999.000,9,  -999.00,9,   -999.0,9,   -999.0,9,-999.0000,9,   -999.0,  9,     8.20,2,   -999.0,  -999.00,9,  -999.00,9,     0.26,2,     0.44,2,   -999.0,-999.0000, -999,9,  100,  24.2717,  23.4034,   -999.0,9
       SH98-10,  NONE,SH-5663,  2,      8, S-1-1-9,2,19981011,0337, 29.4952, 133.4753, 2750,    129.4,  22.9736,  34.8287,2,   -999.0,9,  34.8451,2,    208.4,2,  -999.00,9,  -999.00,9,     0.00,2,     0.13,2,     0.04,2, -999.000,9, -999.000,9,  -999.00,9,   -999.0,9,   -999.0,9,-999.0000,9,   -999.0,  9,     8.19,2,   -999.0,  -999.00,9,  -999.00,9,     0.11,2,     0.27,2,   -999.0,-999.0000, -999,9,  128,  22.9472,  23.8189,   -999.0,9
       SH98-10,  NONE,SH-5663,  2,      7, S-1-1-4,2,19981011,0336, 29.4952, 133.4753, 2750,    154.2,  21.7803,  34.8387,2,   -999.0,9,  34.8414,2,    196.4,2,  -999.00,9,  -999.00,9,     1.66,2,     0.03,2,     0.13,2, -999.000,9, -999.000,9,  -999.00,9,   -999.0,9,   -999.0,9,-999.0000,9,   -999.0,  9,     8.16,2,   -999.0,  -999.00,9,  -999.00,9,     0.04,2,     0.13,2,   -999.0,-999.0000, -999,9,  153,  21.7500,  24.1650,   -999.0,9
       SH98-10,  NONE,SH-5663,  2,      6, 1-133-7,2,19981011,0335, 29.4952, 133.4753, 2750,    204.7,  19.3968,  34.8520,2,   -999.0,9,  34.8509,2,    190.1,2,  -999.00,9,  -999.00,9,     3.90,2,     0.01,2,     0.28,2, -999.000,9, -999.000,9,  -999.00,9,   -999.0,9,   -999.0,9,-999.0000,9,   -999.0,  9,     8.11,2,   -999.0,  -999.00,9,  -999.00,9,     0.01,2,     0.05,2,   -999.0,-999.0000, -999,9,  203,  19.3597,  24.8157,   -999.0,9
       SH98-10,  NONE,SH-5663,  2,      5, S-1-1-6,2,19981011,0333, 29.4952, 133.4753, 2750,    253.2,  18.1710,  34.8296,2,   -999.0,9,  34.8266,2,   -999.0,4,  -999.00,9,  -999.00,9,     5.17,2,     0.01,2,     0.37,2, -999.000,9, -999.000,9,  -999.00,9,   -999.0,9,   -999.0,9,-999.0000,9,   -999.0,  9,     8.09,2,   -999.0,  -999.00,9,  -999.00,9,  -999.00,4,  -999.00,4,   -999.0,-999.0000, -999,9,  251,  18.1272,  25.1102,   -999.0,9
       SH98-10,  NONE,SH-5663,  2,      4, S-1-1-1,2,19981011,0332, 29.4952, 133.4753, 2750,    300.6,  17.0606,  34.7670,2,   -999.0,9,  34.7737,2,    187.5,2,  -999.00,9,  -999.00,9,     6.92,2,     0.00,2,     0.49,2, -999.000,9, -999.000,9,  -999.00,9,   -999.0,9,   -999.0,9,-999.0000,9,   -999.0,  9,     8.06,2,   -999.0,  -999.00,9,  -999.00,9,     0.00,2,     0.02,2,   -999.0,-999.0000, -999,9,  298,  17.0108,  25.3328,   -999.0,9
       SH98-10,  NONE,SH-5663,  1,      3,1-133-84,2,19981011,0259, 29.4968, 133.4940, 2760,    400.8,  14.7583,  34.5961,2,   -999.0,9,  34.5926,2,    170.7,2,  -999.00,9,  -999.00,9,    12.48,2,     0.00,2,     0.92,2, -999.000,9, -999.000,9,  -999.00,9,   -999.0,9,   -999.0,9,-999.0000,9,   -999.0,  9,     7.98,2,   -999.0,  -999.00,9,  -999.00,9,  -999.00,9,  -999.00,9,   -999.0,-999.0000, -999,9,  398,  14.6980,  25.7263,   -999.0,9
       SH98-10,  NONE,SH-5663,  1,      2, 1-133-1,2,19981011,0256, 29.4968, 133.4940, 2760,    500.1,  12.2267,  34.4693,2,   -999.0,9,  34.4642,2,    153.3,2,  -999.00,9,  -999.00,9,    18.32,2,     0.00,2,     1.32,2, -999.000,9, -999.000,9,  -999.00,9,   -999.0,9,   -999.0,9,-999.0000,9,   -999.0,  9,     7.89,2,   -999.0,  -999.00,9,  -999.00,9,  -999.00,9,  -999.00,9,   -999.0,-999.0000, -999,9,  496,  12.1602,  26.1463,   -999.0,9
       SH98-10,  NONE,SH-5663,  1,      1, 1-133-2,2,19981011,0254, 29.4968, 133.4940, 2760,    598.7,   9.7854,  34.3886,2,   -999.0,9,  34.3813,2,    135.2,2,  -999.00,9,  -999.00,9,    23.96,2,     0.00,2,     1.74,2, -999.000,9, -999.000,9,  -999.00,9,   -999.0,9,   -999.0,9,-999.0000,9,   -999.0,  9,     7.81,2,   -999.0,  -999.00,9,  -999.00,9,  -999.00,9,  -999.00,9,   -999.0,-999.0000, -999,9,  594,   9.7160,  26.5224,   -999.0,9
       SH98-10,  NONE,SH-5663,  1,     12, S-1-1-8,2,19981011,0252, 29.4968, 133.4940, 2760,    700.0,   6.7631,  34.1706,2,   -999.0,9,  34.1685,2,    116.9,2,  -999.00,9,  -999.00,9,    31.07,2,     0.00,2,     2.27,2, -999.000,9, -999.000,9,  -999.00,9,   -999.0,9,   -999.0,9,-999.0000,9,   -999.0,  9,     7.69,2,   -999.0,  -999.00,9,  -999.00,9,  -999.00,9,  -999.00,9,   -999.0,-999.0000, -999,9,  694,   6.6973,  26.8065,   -999.0,9
       SH98-10,  NONE,SH-5663,  1,     11,S-1-1-11,2,19981011,0250, 29.4968, 133.4940, 2760,    799.7,   6.1040,  34.3168,2,   -999.0,9,  34.3145,2,     94.6,2,  -999.00,9,  -999.00,9,    33.88,2,     0.00,2,     2.49,2, -999.000,9, -999.000,9,  -999.00,9,   -999.0,9,   -999.0,9,-999.0000,9,   -999.0,  9,     7.66,2,   -999.0,  -999.00,9,  -999.00,9,  -999.00,9,  -999.00,9,   -999.0,-999.0000, -999,9,  793,   6.0321,  27.0087,   -999.0,9
       SH98-10,  NONE,SH-5663,  1,     10,S-1-1-10,2,19981011,0248, 29.4968, 133.4940, 2760,    899.1,   4.8234,  34.3445,2,   -999.0,9,  34.3355,2,     78.4,2,  -999.00,9,  -999.00,9,    37.48,2,     0.00,2,     2.74,2, -999.000,9, -999.000,9,  -999.00,9,   -999.0,9,   -999.0,9,-999.0000,9,   -999.0,  9,     7.60,2,   -999.0,  -999.00,9,  -999.00,9,  -999.00,9,  -999.00,9,   -999.0,-999.0000, -999,9,  891,   4.7506,  27.1838,   -999.0,9
       SH98-10,  NONE,SH-5663,  1,      9, S-1-1-7,2,19981011,0246, 29.4968, 133.4940, 2760,    999.7,   4.0568,  34.4120,2,   -999.0,9,  34.4064,2,     73.4,2,  -999.00,9,  -999.00,9,    38.94,2,     0.00,2,     2.86,2, -999.000,9, -999.000,9,  -999.00,9,   -999.0,9,   -999.0,9,-999.0000,9,   -999.0,  9,     7.59,2,   -999.0,  -999.00,9,  -999.00,9,  -999.00,9,  -999.00,9,   -999.0,-999.0000, -999,9,  991,   3.9809,  27.3204,   -999.0,9
       SH98-10,  NONE,SH-5663,  1,      8, S-1-1-9,2,19981011,0244, 29.4968, 133.4940, 2760,   1199.6,   3.1391,  34.4699,2,   -999.0,9,  34.4561,4,     67.5,2,  -999.00,9,  -999.00,9,    40.78,2,     0.01,2,     2.96,2, -999.000,9, -999.000,9,  -999.00,9,   -999.0,9,   -999.0,9,-999.0000,9,   -999.0,  9,     7.57,2,   -999.0,  -999.00,9,  -999.00,9,  -999.00,9,  -999.00,9,   -999.0,-999.0000, -999,9, 1188,   3.0546,  27.4569,   -999.0,9
       SH98-10,  NONE,SH-5663,  1,      7, S-1-1-4,2,19981011,0240, 29.4968, 133.4940, 2760,   1506.3,   2.5859,  34.5381,2,   -999.0,9,  34.5240,4,     59.4,2,  -999.00,9,  -999.00,9,    40.39,2,     0.01,2,     2.91,2, -999.000,9, -999.000,9,  -999.00,9,   -999.0,9,   -999.0,9,-999.0000,9,   -999.0,  9,     7.59,2,   -999.0,  -999.00,9,  -999.00,9,  -999.00,9,  -999.00,9,   -999.0,-999.0000, -999,9, 1491,   2.4825,  27.5621,   -999.0,9
       SH98-10,  NONE,SH-5663,  1,      6, 1-133-7,2,19981011,0235, 29.4968, 133.4940, 2760,   2012.9,   1.9745,  34.6219,2,   -999.0,9,  34.6042,4,   -999.0,9,  -999.00,9,  -999.00,9,  -999.00,9,  -999.00,9,  -999.00,9, -999.000,9, -999.000,9,  -999.00,9,   -999.0,9,   -999.0,9,-999.0000,9,   -999.0,  9,  -999.00,9,   -999.0,  -999.00,9,  -999.00,9,  -999.00,9,  -999.00,9,   -999.0,-999.0000, -999,9, 1990,   1.8374,  27.6815,   -999.0,9
       SH98-10,  NONE,SH-5663,  1,      5, S-1-1-6,2,19981011,0228, 29.4968, 133.4940, 2760,   2622.4,   1.6144,  34.6770,2,   -999.0,9,  34.6577,4,   -999.0,9,  -999.00,9,  -999.00,9,  -999.00,9,  -999.00,9,  -999.00,9, -999.000,9, -999.000,9,  -999.00,9,   -999.0,9,   -999.0,9,-999.0000,9,   -999.0,  9,  -999.00,9,   -999.0,  -999.00,9,  -999.00,9,  -999.00,9,  -999.00,9,   -999.0,-999.0000, -999,9, 2588,   1.4303,  27.7560,   -999.0,9
       SH98-10,  NONE,SH-5664,  2,     -9,      -9,5,19981011,1007, 29.9657, 132.9453, 3810,      0.0,  28.2553,  34.4802,2,   -999.0,9,-999.0000,9,    197.9,2,  -999.00,9,  -999.00,9,     0.00,2,     0.00,2,     0.00,2, -999.000,9, -999.000,9,  -999.00,9,   -999.0,9,   -999.0,9,-999.0000,9,   -999.0,  9,  -999.00,9,   -999.0,  -999.00,9,  -999.00,9,     0.10,2,     0.07,2,   -999.0,-999.0000, -999,9,    0,  28.2553,  21.9203,   -999.0,9
       SH98-10,  NONE,SH-5664,  2,     12, S-1-1-8,2,19981011,1006, 29.9657, 132.9453, 3810,     10.7,  28.2460,  34.4709,2,   -999.0,9,  34.4774,2,    198.2,2,  -999.00,9,  -999.00,9,     0.00,2,     0.00,2,     0.00,2, -999.000,9, -999.000,9,  -999.00,9,   -999.0,9,   -999.0,9,-999.0000,9,   -999.0,  9,  -999.00,9,   -999.0,  -999.00,9,  -999.00,9,     0.12,2,     0.08,2,   -999.0,-999.0000, -999,9,   11,  28.2435,  21.9171,   -999.0,9
       SH98-10,  NONE,SH-5664,  2,     11,S-1-1-11,2,19981011,1005, 29.9657, 132.9453, 3810,     26.4,  28.2863,  34.4862,2,   -999.0,9,  34.4843,2,    197.8,2,  -999.00,9,  -999.00,9,     0.00,2,     0.00,2,     0.01,2, -999.000,9, -999.000,9,  -999.00,9,   -999.0,9,   -999.0,9,-999.0000,9,   -999.0,  9,  -999.00,9,   -999.0,  -999.00,9,  -999.00,9,     0.10,2,     0.07,2,   -999.0,-999.0000, -999,9,   26,  28.2801,  21.9166,   -999.0,9
       SH98-10,  NONE,SH-5664,  2,     10,S-1-1-10,2,19981011,1004, 29.9657, 132.9453, 3810,     50.7,  28.2037,  34.4501,2,   -999.0,9,  34.4510,2,    198.5,2,  -999.00,9,  -999.00,9,     0.00,2,     0.00,2,     0.01,2, -999.000,9, -999.000,9,  -999.00,9,   -999.0,9,   -999.0,9,-999.0000,9,   -999.0,  9,  -999.00,9,   -999.0,  -999.00,9,  -999.00,9,     0.11,2,     0.09,2,   -999.0,-999.0000, -999,9,   50,  28.1917,  21.9185,   -999.0,9
       SH98-10,  NONE,SH-5664,  2,      9, S-1-1-7,2,19981011,1003, 29.9657, 132.9453, 3810,     74.3,  27.4330,  34.6968,2,   -999.0,9,  34.6975,2,    212.5,2,  -999.00,9,  -999.00,9,     0.00,2,     0.00,2,     0.00,2, -999.000,9, -999.000,9,  -999.00,9,   -999.0,9,   -999.0,9,-999.0000,9,   -999.0,  9,  -999.00,9,   -999.0,  -999.00,9,  -999.00,9,     0.21,2,     0.14,2,   -999.0,-999.0000, -999,9,   74,  27.4157,  22.3561,   -999.0,9
       SH98-10,  NONE,SH-5664,  2,      8, S-1-1-9,2,19981011,1002, 29.9657, 132.9453, 3810,     99.7,  25.0569,  34.7454,2,   -999.0,9,  34.7497,2,    206.8,2,  -999.00,9,  -999.00,9,     0.49,2,     0.13,2,     0.03,2, -999.000,9, -999.000,9,  -999.00,9,   -999.0,9,   -999.0,9,-999.0000,9,   -999.0,  9,  -999.00,9,   -999.0,  -999.00,9,  -999.00,9,     0.21,2,     0.51,2,   -999.0,-999.0000, -999,9,   99,  25.0353,  23.1381,   -999.0,9
       SH98-10,  NONE,SH-5664,  2,      7, S-1-1-4,4,19981011,1001, 29.9657, 132.9453, 3810,    124.8,  23.8826,  34.8074,2,   -999.0,9,  34.7857,4,    202.9,2,  -999.00,9,  -999.00,9,     0.98,2,     0.13,2,     0.08,2, -999.000,9, -999.000,9,  -999.00,9,   -999.0,9,   -999.0,9,-999.0000,9,   -999.0,  9,  -999.00,9,   -999.0,  -999.00,9,  -999.00,9,     0.11,2,     0.33,2,   -999.0,-999.0000, -999,9,  124,  23.8564,  23.5379,   -999.0,9
       SH98-10,  NONE,SH-5664,  2,      6, 1-133-7,2,19981011,1001, 29.9657, 132.9453, 3810,    124.8,  23.8826,  34.8074,2,   -999.0,9,  34.7863,4,    202.1,4,  -999.00,9,  -999.00,9,     0.98,2,     0.13,2,     1.90,4, -999.000,9, -999.000,9,  -999.00,9,   -999.0,9,   -999.0,9,-999.0000,9,   -999.0,  9,  -999.00,9,   -999.0,  -999.00,9,  -999.00,9,     2.00,4,     2.00,4,   -999.0,-999.0000, -999,9,  124,  23.8564,  23.5379,   -999.0,9
       SH98-10,  NONE,SH-5664,  2,      5, S-1-1-6,2,19981011,1000, 29.9657, 132.9453, 3810,    151.1,  21.6107,  34.8346,2,   -999.0,9,  34.8398,2,    195.6,2,  -999.00,9,  -999.00,9,     1.95,2,     0.04,2,     0.17,2, -999.000,9, -999.000,9,  -999.00,9,   -999.0,9,   -999.0,9,-999.0000,9,   -999.0,  9,  -999.00,9,   -999.0,  -999.00,9,  -999.00,9,     0.03,2,     0.12,2,   -999.0,-999.0000, -999,9,  150,  21.5812,  24.2087,   -999.0,9
       SH98-10,  NONE,SH-5664,  2,      4, S-1-1-1,2,19981011,0958, 29.9657, 132.9453, 3810,    199.4,  19.8309,  34.8535,2,   -999.0,9,  34.8526,2,    190.1,2,  -999.00,9,  -999.00,9,     3.42,2,     0.02,2,     0.27,2, -999.000,9, -999.000,9,  -999.00,9,   -999.0,9,   -999.0,9,-999.0000,9,   -999.0,  9,  -999.00,9,   -999.0,  -999.00,9,  -999.00,9,     0.01,2,     0.04,2,   -999.0,-999.0000, -999,9,  198,  19.7942,  24.7040,   -999.0,9
       SH98-10,  NONE,SH-5664,  2,      3,1-133-84,2,19981011,0957, 29.9657, 132.9453, 3810,    250.6,  17.5952,  34.7993,2,   -999.0,9,  34.8003,2,    190.6,2,  -999.00,9,  -999.00,9,     6.05,2,     0.01,2,     0.44,2, -999.000,9, -999.000,9,  -999.00,9,   -999.0,9,   -999.0,9,-999.0000,9,   -999.0,  9,  -999.00,9,   -999.0,  -999.00,9,  -999.00,9,     0.00,2,     0.02,2,   -999.0,-999.0000, -999,9,  249,  17.5529,  25.2276,   -999.0,9
       SH98-10,  NONE,SH-5664,  2,      2, 1-133-1,2,19981011,0956, 29.9657, 132.9453, 3810,    300.2,  16.8593,  34.7631,2,   -999.0,9,  34.7615,2,    188.7,2,  -999.00,9,  -999.00,9,     7.02,2,     0.01,2,     0.50,2, -999.000,9, -999.000,9,  -999.00,9,   -999.0,9,   -999.0,9,-999.0000,9,   -999.0,  9,  -999.00,9,   -999.0,  -999.00,9,  -999.00,9,     0.00,2,     0.01,2,   -999.0,-999.0000, -999,9,  298,  16.8100,  25.3773,   -999.0,9
       SH98-10,  NONE,SH-5664,  1,      8, S-1-1-9,2,19981011,0921, 29.9573, 132.9558, 3810,    397.9,  14.2256,  34.5763,2,   -999.0,9,  34.5789,2,    170.5,2,  -999.00,9,  -999.00,9,    12.58,2,     0.01,2,     0.90,2, -999.000,9, -999.000,9,  -999.00,9,   -999.0,9,   -999.0,9,-999.0000,9,   -999.0,  9,  -999.00,9,   -999.0,  -999.00,9,  -999.00,9,  -999.00,9,  -999.00,9,   -999.0,-999.0000, -999,9,  395,  14.1672,  25.8244,   -999.0,9
       SH98-10,  NONE,SH-5664,  2,      1, 1-133-2,2,19981011,0954, 29.9657, 132.9453, 3810,    404.2,  14.2222,  34.5641,2,   -999.0,9,  34.5741,2,    175.4,2,  -999.00,9,  -999.00,9,    12.38,2,     0.00,2,     0.90,2, -999.000,9, -999.000,9,  -999.00,9,   -999.0,9,   -999.0,9,-999.0000,9,   -999.0,  9,  -999.00,9,   -999.0,  -999.00,9,  -999.00,9,     0.00,2,     0.01,2,   -999.0,-999.0000, -999,9,  401,  14.1630,  25.8159,   -999.0,9
       SH98-10,  NONE,SH-5664,  1,      7, S-1-1-4,2,19981011,0919, 29.9573, 132.9558, 3810,    497.9,  10.9323,  34.3652,2,   -999.0,9,  34.3510,4,    158.4,2,  -999.00,9,  -999.00,9,    19.58,2,     0.00,2,     1.41,2, -999.000,9, -999.000,9,  -999.00,9,   -999.0,9,   -999.0,9,-999.0000,9,   -999.0,  9,  -999.00,9,   -999.0,  -999.00,9,  -999.00,9,  -999.00,9,  -999.00,9,   -999.0,-999.0000, -999,9,  494,  10.8707,  26.3044,   -999.0,9
       SH98-10,  NONE,SH-5664,  1,      6, 1-133-7,2,19981011,0917, 29.9573, 132.9558, 3810,    597.7,   7.9220,  34.1997,2,   -999.0,9,  34.1858,4,    130.2,2,  -999.00,9,  -999.00,9,    27.66,2,     0.00,2,     2.03,2, -999.000,9, -999.000,9,  -999.00,9,   -999.0,9,   -999.0,9,-999.0000,9,   -999.0,  9,  -999.00,9,   -999.0,  -999.00,9,  -999.00,9,  -999.00,9,  -999.00,9,   -999.0,-999.0000, -999,9,  593,   7.8610,  26.6659,   -999.0,9
       SH98-10,  NONE,SH-5664,  1,      5, S-1-1-6,4,19981011,0915, 29.9573, 132.9558, 3810,    698.7,   7.0782,  34.2697,2,   -999.0,9,  34.2673,2,    107.1,2,  -999.00,9,  -999.00,9,    31.26,2,     0.00,2,     2.26,2, -999.000,9, -999.000,9,  -999.00,9,   -999.0,9,   -999.0,9,-999.0000,9,   -999.0,  9,  -999.00,9,   -999.0,  -999.00,9,  -999.00,9,  -999.00,9,  -999.00,9,   -999.0,-999.0000, -999,9,  693,   7.0108,  26.8420,   -999.0,9
       SH98-10,  NONE,SH-5664,  1,     -9,      -9,4,19981011,0913, 29.9573, 132.9558, 3810,    799.3,   5.2711,  34.3089,2,   -999.0,9,-999.0000,9,   -999.0,9,  -999.00,9,  -999.00,9,  -999.00,9,  -999.00,9,  -999.00,9, -999.000,9, -999.000,9,  -999.00,9,   -999.0,9,   -999.0,9,-999.0000,9,   -999.0,  9,  -999.00,9,   -999.0,  -999.00,9,  -999.00,9,  -999.00,9,  -999.00,9,   -999.0,-999.0000, -999,9,  792,   5.2043,  27.1036,   -999.0,9
       SH98-10,  NONE,SH-5664,  1,      4, S-1-1-1,2,19981011,0911, 29.9573, 132.9558, 3810,    900.8,   4.2905,  34.3538,2,   -999.0,9,  34.3461,2,     69.3,2,  -999.00,9,  -999.00,9,    39.23,2,     0.00,2,     2.83,2, -999.000,9, -999.000,9,  -999.00,9,   -999.0,9,   -999.0,9,-999.0000,9,   -999.0,  9,  -999.00,9,   -999.0,  -999.00,9,  -999.00,9,  -999.00,9,  -999.00,9,   -999.0,-999.0000, -999,9,  893,   4.2212,  27.2490,   -999.0,9
       SH98-10,  NONE,SH-5664,  1,      3,1-133-84,2,19981011,0909, 29.9573, 132.9558, 3810,   1001.1,   3.6326,  34.4078,2,   -999.0,9,  34.3993,2,     66.1,2,  -999.00,9,  -999.00,9,    40.30,2,     0.00,2,     2.89,2, -999.000,9, -999.000,9,  -999.00,9,   -999.0,9,   -999.0,9,-999.0000,9,   -999.0,  9,  -999.00,9,   -999.0,  -999.00,9,  -999.00,9,  -999.00,9,  -999.00,9,   -999.0,-999.0000, -999,9,  992,   3.5599,  27.3594,   -999.0,9
       SH98-10,  NONE,SH-5664,  1,      2, 1-133-1,2,19981011,0906, 29.9573, 132.9558, 3810,   1208.8,   3.0632,  34.4784,2,   -999.0,9,  34.4719,2,     73.2,2,  -999.00,9,  -999.00,9,    40.59,2,     0.01,2,     2.87,2, -999.000,9, -999.000,9,  -999.00,9,   -999.0,9,   -999.0,9,-999.0000,9,   -999.0,  9,  -999.00,9,   -999.0,  -999.00,9,  -999.00,9,  -999.00,9,  -999.00,9,   -999.0,-999.0000, -999,9, 1197,   2.9787,  27.4707,   -999.0,9