BOTTLE,20130516GEMDJMAYT
EXPOCODE,SECT_ID,STNNBR,CASTNO,SAMPNO,BTLNBR,BTLNBR_FLAG_W,DATE,TIME,LATITUDE,LONGITUDE,DEPTH,CTDPRS,CTDTMP,CTDSAL,CTDSAL_FLAG_W,CTDOXY,CTDOXY_FLAG_W,SALNTY,SALNTY_FLAG_W,OXYGEN,OXYGEN_FLAG_W,SILCAT,SILCAT_FLAG_W,NITRAT,NITRAT_FLAG_W,NO2+NO3,NO2+NO3_FLAG_W,NITRIT,NITRIT_FLAG_W,PHSPHT,PHSPHT_FLAG_W,CFC-11,CFC-11_FLAG_W,CFC-12,CFC-12_FLAG_W,DELC13,DELC13_FLAG_W,TCARBN,TCARBN_FLAG_W,ALKALI,ALKALI_FLAG_W,PH,PH_FLAG_W,PH_TMP,PH_SCALE,PH_NBS,PH_NBS_FLAG_W,C13ERR,TOTALP,TOTALP_FLAG_W,AMMONI,AMMONI_FLAG_W,CHLORA,CHLORA_FLAG_W,PPHYTN,PPHYTN_FLAG_W,REVPRS,REVTMP,DEPTH_,DEPTH_FLAG,CTDDEP,THETA,SIGTHT,DOC,DOC_FLAG_W
,,,,,,,GMT,GMT,,,METER,DBAR,ITS-90,PSS-78,,UMOL/KG,,PSS-78,,UMOL/KG,,UMOL/KG,,UMOL/KG,,UMOL/KG,,UMOL/KG,,UMOL/KG,,PMOL/KG,,PMOL/KG,,/MILLE,,UMOL/KG,,UMOL/KG,,25_DEG_C,,DEG_C,,,,/MILLE,UMOL/KG,,UMOL/KG,,UG/L,,UG/L,,DBAR,ITS-90,METERS,,METERS,DEG_C,,UMOL/L,
       SH98-10,  NONE,SH-5661,  2,     -9,      -9,5,19981010,1551, 28.6558, 134.4542, 3590,      0.0,  27.1100,  34.3719,2,   -999.0,9,-999.0000,9,    204.5,2,  -999.00,9,  -999.00,9,     0.00,2,     0.00,2,     0.00,2, -999.000,9, -999.000,9,  -999.00,9,   -999.0,9,   -999.0,9,-999.0000,9,   -999.0,  9,     8.22,2,   -999.0,  -999.00,9,  -999.00,9,     0.05,2,     0.04,2,   -999.0,-999.0000, -999,9,    0,  27.1100,  22.2097,   -999.0,9
       SH98-10,  NONE,SH-5661,  2,      8, S-1-1-9,2,19981010,1550, 28.6558, 134.4542, 3590,     12.5,  27.1238,  34.3719,2,   -999.0,9,  34.3748,2,    204.0,2,  -999.00,9,  -999.00,9,     0.00,2,     0.00,2,     0.00,2, -999.000,9, -999.000,9,  -999.00,9,   -999.0,9,   -999.0,9,-999.0000,9,   -999.0,  9,     8.22,2,   -999.0,  -999.00,9,  -999.00,9,     0.06,2,     0.04,2,   -999.0,-999.0000, -999,9,   12,  27.1209,  22.2061,   -999.0,9
       SH98-10,  NONE,SH-5661,  2,      7, S-1-1-4,2,19981010,1549, 28.6558, 134.4542, 3590,     27.3,  27.1211,  34.3719,2,   -999.0,9,  34.3752,2,    203.5,2,  -999.00,9,  -999.00,9,     0.00,2,     0.00,2,     0.00,2, -999.000,9, -999.000,9,  -999.00,9,   -999.0,9,   -999.0,9,-999.0000,9,   -999.0,  9,     8.22,2,   -999.0,  -999.00,9,  -999.00,9,     0.06,2,     0.03,2,   -999.0,-999.0000, -999,9,   27,  27.1148,  22.2081,   -999.0,9
       SH98-10,  NONE,SH-5661,  2,      6, 1-133-7,2,19981010,1548, 28.6558, 134.4542, 3590,     52.2,  26.0257,  34.4877,2,   -999.0,9,  34.4868,2,    213.7,2,  -999.00,9,  -999.00,9,     0.00,2,     0.00,2,     0.00,2, -999.000,9, -999.000,9,  -999.00,9,   -999.0,9,   -999.0,9,-999.0000,9,   -999.0,  9,     8.22,2,   -999.0,  -999.00,9,  -999.00,9,     0.09,2,     0.08,2,   -999.0,-999.0000, -999,9,   52,  26.0140,  22.6425,   -999.0,9
       SH98-10,  NONE,SH-5661,  2,      5, S-1-1-6,2,19981010,1547, 28.6558, 134.4542, 3590,     77.8,  22.9170,  34.7792,2,   -999.0,9,  34.7774,2,    217.7,2,  -999.00,9,  -999.00,9,     0.10,2,     0.02,2,     0.03,2, -999.000,9, -999.000,9,  -999.00,9,   -999.0,9,   -999.0,9,-999.0000,9,   -999.0,  9,     8.19,2,   -999.0,  -999.00,9,  -999.00,9,     0.27,2,     0.79,2,   -999.0,-999.0000, -999,9,   77,  22.9012,  23.7946,   -999.0,9
       SH98-10,  NONE,SH-5661,  2,      4, S-1-1-1,2,19981010,1546, 28.6558, 134.4542, 3590,    102.2,  21.1399,  34.8322,2,   -999.0,9,  34.8320,2,    213.3,2,  -999.00,9,  -999.00,9,     0.59,2,     0.16,2,     0.06,2, -999.000,9, -999.000,9,  -999.00,9,   -999.0,9,   -999.0,9,-999.0000,9,   -999.0,  9,     8.17,2,   -999.0,  -999.00,9,  -999.00,9,     0.16,2,     0.45,2,   -999.0,-999.0000, -999,9,  102,  21.1203,  24.3334,   -999.0,9
       SH98-10,  NONE,SH-5661,  2,      3,1-133-84,2,19981010,1545, 28.6558, 134.4542, 3590,    125.2,  20.3127,  34.8519,2,   -999.0,9,  34.8432,2,    202.3,2,  -999.00,9,  -999.00,9,     1.66,2,     0.06,2,     0.14,2, -999.000,9, -999.000,9,  -999.00,9,   -999.0,9,   -999.0,9,-999.0000,9,   -999.0,  9,     8.15,2,   -999.0,  -999.00,9,  -999.00,9,     0.07,2,     0.29,2,   -999.0,-999.0000, -999,9,  124,  20.2893,  24.5722,   -999.0,9
       SH98-10,  NONE,SH-5661,  2,      2, 1-133-1,2,19981010,1544, 28.6558, 134.4542, 3590,    152.3,  19.0758,  34.8253,2,   -999.0,9,  34.8253,2,    209.0,2,  -999.00,9,  -999.00,9,     2.24,2,     0.02,2,     0.16,2, -999.000,9, -999.000,9,  -999.00,9,   -999.0,9,   -999.0,9,-999.0000,9,   -999.0,  9,     8.14,2,   -999.0,  -999.00,9,  -999.00,9,     0.01,2,     0.04,2,   -999.0,-999.0000, -999,9,  151,  19.0486,  24.8753,   -999.0,9
       SH98-10,  NONE,SH-5661,  2,      1, 1-133-2,2,19981010,1543, 28.6558, 134.4542, 3590,    202.2,  18.7573,  34.8214,2,   -999.0,9,  34.8215,2,    206.3,2,  -999.00,9,  -999.00,9,     2.83,2,     0.02,2,     0.20,2, -999.000,9, -999.000,9,  -999.00,9,   -999.0,9,   -999.0,9,-999.0000,9,   -999.0,  9,     8.13,2,   -999.0,  -999.00,9,  -999.00,9,     0.00,2,     0.02,2,   -999.0,-999.0000, -999,9,  201,  18.7216,  24.9553,   -999.0,9
       SH98-10,  NONE,SH-5661,  2,     12, S-1-1-8,2,19981010,1542, 28.6558, 134.4542, 3590,    251.1,  18.0142,  34.8282,2,   -999.0,9,  34.8304,2,    199.2,2,  -999.00,9,  -999.00,9,     4.29,2,     0.00,2,     0.29,2, -999.000,9, -999.000,9,  -999.00,9,   -999.0,9,   -999.0,9,-999.0000,9,   -999.0,  9,     8.11,2,   -999.0,  -999.00,9,  -999.00,9,     0.00,2,     0.01,2,   -999.0,-999.0000, -999,9,  249,  17.9710,  25.1476,   -999.0,9
       SH98-10,  NONE,SH-5661,  2,     11,S-1-1-11,2,19981010,1540, 28.6558, 134.4542, 3590,    302.8,  17.0820,  34.7987,2,   -999.0,9,  34.8008,2,    198.1,2,  -999.00,9,  -999.00,9,     5.66,2,     0.00,2,     0.38,2, -999.000,9, -999.000,9,  -999.00,9,   -999.0,9,   -999.0,9,-999.0000,9,   -999.0,  9,     8.08,2,   -999.0,  -999.00,9,  -999.00,9,     0.00,2,     0.01,2,   -999.0,-999.0000, -999,9,  301,  17.0318,  25.3522,   -999.0,9
       SH98-10,  NONE,SH-5661,  2,     10,S-1-1-10,2,19981010,1538, 28.6558, 134.4542, 3590,    404.2,  14.5038,  34.5797,2,   -999.0,9,  34.5983,4,    189.5,2,  -999.00,9,  -999.00,9,    10.53,2,     0.00,2,     0.72,2, -999.000,9, -999.000,9,  -999.00,9,   -999.0,9,   -999.0,9,-999.0000,9,   -999.0,  9,     8.01,2,   -999.0,  -999.00,9,  -999.00,9,  -999.00,9,  -999.00,9,   -999.0,-999.0000, -999,9,  401,  14.4438,  25.7682,   -999.0,9
       SH98-10,  NONE,SH-5661,  1,     -9,      -9,4,19981010,1505, 28.6648, 134.4605, 3670,    498.0,  11.9652,  34.4241,2,   -999.0,9,-999.0000,4,   -999.0,9,  -999.00,9,  -999.00,9,  -999.00,9,  -999.00,9,  -999.00,9, -999.000,9, -999.000,9,  -999.00,9,   -999.0,9,   -999.0,9,-999.0000,9,   -999.0,  9,  -999.00,9,   -999.0,  -999.00,9,  -999.00,9,  -999.00,9,  -999.00,9,   -999.0,-999.0000, -999,9,  494,  11.8999,  26.1607,   -999.0,9
       SH98-10,  NONE,SH-5661,  1,      8, S-1-1-9,2,19981010,1503, 28.6648, 134.4605, 3670,    596.5,   9.4839,  34.2769,2,   -999.0,9,  34.2703,2,    146.8,2,  -999.00,9,  -999.00,9,    23.48,2,     0.00,2,     1.67,2, -999.000,9, -999.000,9,  -999.00,9,   -999.0,9,   -999.0,9,-999.0000,9,   -999.0,  9,     7.81,2,   -999.0,  -999.00,9,  -999.00,9,  -999.00,9,  -999.00,9,   -999.0,-999.0000, -999,9,  592,   9.4161,  26.4846,   -999.0,9
       SH98-10,  NONE,SH-5661,  1,      7, S-1-1-4,2,19981010,1501, 28.6648, 134.4605, 3670,    698.3,   7.5330,  34.1989,2,   -999.0,9,  34.1919,2,    128.0,2,  -999.00,9,  -999.00,9,    28.63,2,     0.00,2,     2.05,2, -999.000,9, -999.000,9,  -999.00,9,   -999.0,9,   -999.0,9,-999.0000,9,   -999.0,  9,     7.72,2,   -999.0,  -999.00,9,  -999.00,9,  -999.00,9,  -999.00,9,   -999.0,-999.0000, -999,9,  692,   7.4633,  26.7228,   -999.0,9
       SH98-10,  NONE,SH-5661,  1,      6, 1-133-7,2,19981010,1459, 28.6648, 134.4605, 3670,    799.0,   5.8744,  34.2440,2,   -999.0,9,  34.2331,2,     96.7,2,  -999.00,9,  -999.00,9,    34.76,2,     0.00,2,     2.49,2, -999.000,9, -999.000,9,  -999.00,9,   -999.0,9,   -999.0,9,-999.0000,9,   -999.0,  9,     7.63,2,   -999.0,  -999.00,9,  -999.00,9,  -999.00,9,  -999.00,9,   -999.0,-999.0000, -999,9,  792,   5.8040,  26.9798,   -999.0,9
       SH98-10,  NONE,SH-5661,  1,      5, S-1-1-6,2,19981010,1457, 28.6648, 134.4605, 3670,    898.6,   4.8252,  34.2938,2,   -999.0,9,  34.2854,2,     74.9,2,  -999.00,9,  -999.00,9,    38.07,2,     0.00,2,     2.71,2, -999.000,9, -999.000,9,  -999.00,9,   -999.0,9,   -999.0,9,-999.0000,9,   -999.0,  9,     7.58,2,   -999.0,  -999.00,9,  -999.00,9,  -999.00,9,  -999.00,9,   -999.0,-999.0000, -999,9,  891,   4.7525,  27.1434,   -999.0,9
       SH98-10,  NONE,SH-5661,  1,      4, S-1-1-1,2,19981010,1456, 28.6648, 134.4605, 3670,    998.4,   4.2320,  34.3526,2,   -999.0,9,  34.3426,2,     67.7,2,  -999.00,9,  -999.00,9,    39.62,2,     0.00,2,     2.81,2, -999.000,9, -999.000,9,  -999.00,9,   -999.0,9,   -999.0,9,-999.0000,9,   -999.0,  9,     7.56,2,   -999.0,  -999.00,9,  -999.00,9,  -999.00,9,  -999.00,9,   -999.0,-999.0000, -999,9,  989,   4.1550,  27.2550,   -999.0,9
       SH98-10,  NONE,SH-5661,  1,      3,1-133-84,2,19981010,1453, 28.6648, 134.4605, 3670,   1201.7,   3.2031,  34.4510,2,   -999.0,9,  34.4396,2,     64.7,2,  -999.00,9,  -999.00,9,    41.17,2,     0.00,2,     2.91,2, -999.000,9, -999.000,9,  -999.00,9,   -999.0,9,   -999.0,9,-999.0000,9,   -999.0,  9,     7.55,2,   -999.0,  -999.00,9,  -999.00,9,  -999.00,9,  -999.00,9,   -999.0,-999.0000, -999,9, 1190,   3.1178,  27.4360,   -999.0,9
       SH98-10,  NONE,SH-5661,  1,      2, 1-133-1,2,19981010,1448, 28.6648, 134.4605, 3670,   1503.6,   2.5288,  34.5403,2,   -999.0,9,  34.5273,2,     78.3,2,  -999.00,9,  -999.00,9,    40.78,2,     0.01,2,     2.83,2, -999.000,9, -999.000,9,  -999.00,9,   -999.0,9,   -999.0,9,-999.0000,9,   -999.0,  9,     7.57,2,   -999.0,  -999.00,9,  -999.00,9,  -999.00,9,  -999.00,9,   -999.0,-999.0000, -999,9, 1488,   2.4262,  27.5685,   -999.0,9
       SH98-10,  NONE,SH-5661,  1,      1, 1-133-2,2,19981010,1443, 28.6648, 134.4605, 3670,   2010.2,   1.9349,  34.6290,2,   -999.0,9,  34.6115,4,   -999.0,9,  -999.00,9,  -999.00,9,  -999.00,9,  -999.00,9,  -999.00,9, -999.000,9, -999.000,9,  -999.00,9,   -999.0,9,   -999.0,9,-999.0000,9,   -999.0,  9,  -999.00,9,   -999.0,  -999.00,9,  -999.00,9,  -999.00,9,  -999.00,9,   -999.0,-999.0000, -999,9, 1987,   1.7986,  27.6901,   -999.0,9
       SH98-10,  NONE,SH-5661,  1,     12, S-1-1-8,2,19981010,1437, 28.6648, 134.4605, 3670,   2518.5,   1.6531,  34.6727,2,   -999.0,9,  34.6499,4,   -999.0,9,  -999.00,9,  -999.00,9,  -999.00,9,  -999.00,9,  -999.00,9, -999.000,9, -999.000,9,  -999.00,9,   -999.0,9,   -999.0,9,-999.0000,9,   -999.0,  9,  -999.00,9,   -999.0,  -999.00,9,  -999.00,9,  -999.00,9,  -999.00,9,   -999.0,-999.0000, -999,9, 2487,   1.4776,  27.7491,   -999.0,9
       SH98-10,  NONE,SH-5661,  1,     11,S-1-1-11,2,19981010,1431, 28.6648, 134.4605, 3670,   3030.2,   1.5276,  34.6932,2,   -999.0,9,  34.6690,4,   -999.0,9,  -999.00,9,  -999.00,9,  -999.00,9,  -999.00,9,  -999.00,9, -999.000,9, -999.000,9,  -999.00,9,   -999.0,9,   -999.0,9,-999.0000,9,   -999.0,  9,  -999.00,9,   -999.0,  -999.00,9,  -999.00,9,  -999.00,9,  -999.00,9,   -999.0,-999.0000, -999,9, 2988,   1.3072,  27.7778,   -999.0,9
       SH98-10,  NONE,SH-5661,  1,     10,S-1-1-10,2,19981010,1423, 28.6648, 134.4605, 3670,   3644.6,   1.5178,  34.7019,2,   -999.0,9,  34.6760,4,   -999.0,9,  -999.00,9,  -999.00,9,  -999.00,9,  -999.00,9,  -999.00,9, -999.000,9, -999.000,9,  -999.00,9,   -999.0,9,   -999.0,9,-999.0000,9,   -999.0,  9,  -999.00,9,   -999.0,  -999.00,9,  -999.00,9,  -999.00,9,  -999.00,9,   -999.0,-999.0000, -999,9, 3589,   1.2362,  27.7897,   -999.0,9
       SH98-10,  NONE,SH-5662,  2,     -9,      -9,5,19981010,2132, 29.0613, 133.9767, 2460,      0.0,  27.6579,  34.4891,2,   -999.0,9,-999.0000,9,    200.3,2,  -999.00,9,  -999.00,9,     0.00,2,     0.00,2,     0.00,2, -999.000,9, -999.000,9,  -999.00,9,   -999.0,9,   -999.0,9,-999.0000,9,   -999.0,  9,  -999.00,9,   -999.0,  -999.00,9,  -999.00,9,     0.06,2,     0.04,2,   -999.0,-999.0000, -999,9,    0,  27.6579,  22.1217,   -999.0,9
       SH98-10,  NONE,SH-5662,  2,      4, S-1-1-1,2,19981010,2132, 29.0613, 133.9767, 2460,     11.0,  27.6468,  34.4872,2,   -999.0,9,-999.0000,9,    200.3,2,  -999.00,9,  -999.00,9,     0.00,2,     0.00,2,     0.01,2, -999.000,9, -999.000,9,  -999.00,9,   -999.0,9,   -999.0,9,-999.0000,9,   -999.0,  9,  -999.00,9,   -999.0,  -999.00,9,  -999.00,9,     0.06,2,     0.04,2,   -999.0,-999.0000, -999,9,   11,  27.6443,  22.1246,   -999.0,9
       SH98-10,  NONE,SH-5662,  2,      3,1-133-84,2,19981010,2131, 29.0613, 133.9767, 2460,     25.2,  27.3487,  34.4100,2,   -999.0,9,-999.0000,9,    201.3,2,  -999.00,9,  -999.00,9,     0.00,2,     0.00,2,     0.01,2, -999.000,9, -999.000,9,  -999.00,9,   -999.0,9,   -999.0,9,-999.0000,9,   -999.0,  9,  -999.00,9,   -999.0,  -999.00,9,  -999.00,9,     0.05,2,     0.04,2,   -999.0,-999.0000, -999,9,   25,  27.3428,  22.1637,   -999.0,9
       SH98-10,  NONE,SH-5662,  2,      2, 1-133-1,2,19981010,2130, 29.0613, 133.9767, 2460,     51.4,  26.6365,  34.4789,2,   -999.0,9,-999.0000,9,    209.4,2,  -999.00,9,  -999.00,9,     0.00,2,     0.00,2,     0.01,2, -999.000,9, -999.000,9,  -999.00,9,   -999.0,9,   -999.0,9,-999.0000,9,   -999.0,  9,  -999.00,9,   -999.0,  -999.00,9,  -999.00,9,     0.08,2,     0.08,2,   -999.0,-999.0000, -999,9,   51,  26.6249,  22.4443,   -999.0,9
       SH98-10,  NONE,SH-5662,  2,      1, 1-133-2,2,19981010,2129, 29.0613, 133.9767, 2460,     76.1,  24.1958,  34.8161,2,   -999.0,9,-999.0000,9,    216.9,2,  -999.00,9,  -999.00,9,     0.00,2,     0.00,2,     0.01,2, -999.000,9, -999.000,9,  -999.00,9,   -999.0,9,   -999.0,9,-999.0000,9,   -999.0,  9,  -999.00,9,   -999.0,  -999.00,9,  -999.00,9,     0.17,2,     0.20,2,   -999.0,-999.0000, -999,9,   76,  24.1797,  23.4488,   -999.0,9
       SH98-10,  NONE,SH-5662,  2,     12, S-1-1-8,2,19981010,2128, 29.0613, 133.9767, 2460,    101.5,  23.0023,  34.8301,2,   -999.0,9,-999.0000,9,    201.6,2,  -999.00,9,  -999.00,9,     0.59,2,     0.14,2,     0.07,2, -999.000,9, -999.000,9,  -999.00,9,   -999.0,9,   -999.0,9,-999.0000,9,   -999.0,  9,  -999.00,9,   -999.0,  -999.00,9,  -999.00,9,     0.12,2,     0.47,2,   -999.0,-999.0000, -999,9,  101,  22.9816,  23.8100,   -999.0,9
       SH98-10,  NONE,SH-5662,  2,     11,S-1-1-11,2,19981010,2127, 29.0613, 133.9767, 2460,    127.1,  21.1966,  34.8422,2,   -999.0,9,-999.0000,9,    202.9,2,  -999.00,9,  -999.00,9,     1.27,2,     0.05,2,     0.12,2, -999.000,9, -999.000,9,  -999.00,9,   -999.0,9,   -999.0,9,-999.0000,9,   -999.0,  9,  -999.00,9,   -999.0,  -999.00,9,  -999.00,9,     0.04,2,     0.22,2,   -999.0,-999.0000, -999,9,  126,  21.1721,  24.3269,   -999.0,9
       SH98-10,  NONE,SH-5662,  2,     10,S-1-1-10,2,19981010,2125, 29.0613, 133.9767, 2460,    151.8,  19.7710,  34.8296,2,   -999.0,9,-999.0000,9,    205.2,2,  -999.00,9,  -999.00,9,     2.05,2,     0.02,2,     0.17,2, -999.000,9, -999.000,9,  -999.00,9,   -999.0,9,   -999.0,9,-999.0000,9,   -999.0,  9,  -999.00,9,   -999.0,  -999.00,9,  -999.00,9,     0.02,2,     0.13,2,   -999.0,-999.0000, -999,9,  151,  19.7432,  24.6991,   -999.0,9
       SH98-10,  NONE,SH-5662,  2,      9, S-1-1-7,2,19981010,2124, 29.0613, 133.9767, 2460,    201.3,  18.4746,  34.8198,2,   -999.0,9,-999.0000,9,    205.8,2,  -999.00,9,  -999.00,9,     3.41,2,     0.01,2,     0.24,2, -999.000,9, -999.000,9,  -999.00,9,   -999.0,9,   -999.0,9,-999.0000,9,   -999.0,  9,  -999.00,9,   -999.0,  -999.00,9,  -999.00,9,     0.00,2,     0.01,2,   -999.0,-999.0000, -999,9,  200,  18.4394,  25.0250,   -999.0,9
       SH98-10,  NONE,SH-5662,  2,      8, S-1-1-9,2,19981010,2122, 29.0613, 133.9767, 2460,    248.3,  17.7611,  34.8185,2,   -999.0,9,-999.0000,9,    199.2,2,  -999.00,9,  -999.00,9,     4.88,2,     0.00,2,     0.34,2, -999.000,9, -999.000,9,  -999.00,9,   -999.0,9,   -999.0,9,-999.0000,9,   -999.0,  9,  -999.00,9,   -999.0,  -999.00,9,  -999.00,9,     0.00,2,     0.01,2,   -999.0,-999.0000, -999,9,  247,  17.7188,  25.2019,   -999.0,9
       SH98-10,  NONE,SH-5662,  2,      7, S-1-1-4,2,19981010,2121, 29.0613, 133.9767, 2460,    296.1,  16.8747,  34.7812,2,   -999.0,9,-999.0000,9,    196.4,2,  -999.00,9,  -999.00,9,     6.44,2,     0.00,2,     0.45,2, -999.000,9, -999.000,9,  -999.00,9,   -999.0,9,   -999.0,9,-999.0000,9,   -999.0,  9,  -999.00,9,   -999.0,  -999.00,9,  -999.00,9,     0.00,2,     0.01,2,   -999.0,-999.0000, -999,9,  294,  16.8260,  25.3875,   -999.0,9
       SH98-10,  NONE,SH-5662,  1,      5, S-1-1-6,2,19981010,2052, 29.0750, 133.9853, 2610,    398.0,  15.2864,  34.6596,2,   -999.0,9,-999.0000,9,    188.3,2,  -999.00,9,  -999.00,9,     9.75,2,     0.00,2,     0.68,2, -999.000,9, -999.000,9,  -999.00,9,   -999.0,9,   -999.0,9,-999.0000,9,   -999.0,  9,  -999.00,9,   -999.0,  -999.00,9,  -999.00,9,  -999.00,9,  -999.00,9,   -999.0,-999.0000, -999,9,  395,  15.2251,  25.6599,   -999.0,9
       SH98-10,  NONE,SH-5662,  1,      4, S-1-1-1,2,19981010,2050, 29.0750, 133.9853, 2610,    497.5,  11.9391,  34.4120,2,   -999.0,9,-999.0000,9,    171.3,2,  -999.00,9,  -999.00,9,    16.66,2,     0.00,2,     1.20,2, -999.000,9, -999.000,9,  -999.00,9,   -999.0,9,   -999.0,9,-999.0000,9,   -999.0,  9,  -999.00,9,   -999.0,  -999.00,9,  -999.00,9,  -999.00,9,  -999.00,9,   -999.0,-999.0000, -999,9,  494,  11.8740,  26.1563,   -999.0,9
       SH98-10,  NONE,SH-5662,  1,      3,1-133-84,2,19981010,2048, 29.0750, 133.9853, 2610,    597.2,   9.7029,  34.3412,2,   -999.0,9,-999.0000,9,    138.7,2,  -999.00,9,  -999.00,9,    23.77,2,     0.00,2,     1.70,2, -999.000,9, -999.000,9,  -999.00,9,   -999.0,9,   -999.0,9,-999.0000,9,   -999.0,  9,  -999.00,9,   -999.0,  -999.00,9,  -999.00,9,  -999.00,9,  -999.00,9,   -999.0,-999.0000, -999,9,  592,   9.6340,  26.4990,   -999.0,9
       SH98-10,  NONE,SH-5662,  1,      2, 1-133-1,2,19981010,2046, 29.0750, 133.9853, 2610,    698.2,   7.7281,  34.2317,2,   -999.0,9,-999.0000,9,    125.1,2,  -999.00,9,  -999.00,9,    28.54,2,     0.00,2,     2.06,2, -999.000,9, -999.000,9,  -999.00,9,   -999.0,9,   -999.0,9,-999.0000,9,   -999.0,  9,  -999.00,9,   -999.0,  -999.00,9,  -999.00,9,  -999.00,9,  -999.00,9,   -999.0,-999.0000, -999,9,  692,   7.6573,  26.7207,   -999.0,9
       SH98-10,  NONE,SH-5662,  1,      1, 1-133-2,2,19981010,2044, 29.0750, 133.9853, 2610,    798.0,   6.1429,  34.2336,2,   -999.0,9,-999.0000,9,    100.2,2,  -999.00,9,  -999.00,9,    33.60,2,     0.00,2,     2.41,2, -999.000,9, -999.000,9,  -999.00,9,   -999.0,9,   -999.0,9,-999.0000,9,   -999.0,  9,  -999.00,9,   -999.0,  -999.00,9,  -999.00,9,  -999.00,9,  -999.00,9,   -999.0,-999.0000, -999,9,  791,   6.0710,  26.9380,   -999.0,9
       SH98-10,  NONE,SH-5662,  1,     12, S-1-1-8,2,19981010,2042, 29.0750, 133.9853, 2610,    899.9,   4.8557,  34.3133,2,   -999.0,9,-999.0000,9,     76.7,2,  -999.00,9,  -999.00,9,    37.77,2,     0.00,2,     2.72,2, -999.000,9, -999.000,9,  -999.00,9,   -999.0,9,   -999.0,9,-999.0000,9,   -999.0,  9,  -999.00,9,   -999.0,  -999.00,9,  -999.00,9,  -999.00,9,  -999.00,9,   -999.0,-999.0000, -999,9,  892,   4.7827,  27.1555,   -999.0,9
       SH98-10,  NONE,SH-5662,  1,     11,S-1-1-11,2,19981010,2040, 29.0750, 133.9853, 2610,   1000.2,   4.2251,  34.3519,2,   -999.0,9,-999.0000,9,     69.5,2,  -999.00,9,  -999.00,9,    39.33,2,     0.00,2,     2.82,2, -999.000,9, -999.000,9,  -999.00,9,   -999.0,9,   -999.0,9,-999.0000,9,   -999.0,  9,  -999.00,9,   -999.0,  -999.00,9,  -999.00,9,  -999.00,9,  -999.00,9,   -999.0,-999.0000, -999,9,  991,   4.1480,  27.2552,   -999.0,9
       SH98-10,  NONE,SH-5662,  1,     10,S-1-1-10,2,19981010,2037, 29.0750, 133.9853, 2610,   1203.8,   3.1490,  34.4471,2,   -999.0,9,-999.0000,9,     64.5,2,  -999.00,9,  -999.00,9,    41.17,2,     0.00,2,     2.93,2, -999.000,9, -999.000,9,  -999.00,9,   -999.0,9,   -999.0,9,-999.0000,9,   -999.0,  9,  -999.00,9,   -999.0,  -999.00,9,  -999.00,9,  -999.00,9,  -999.00,9,   -999.0,-999.0000, -999,9, 1192,   3.0641,  27.4378,   -999.0,9