BOTTLE,20130516GEMDJMAYT
EXPOCODE,SECT_ID,STNNBR,CASTNO,SAMPNO,BTLNBR,BTLNBR_FLAG_W,DATE,TIME,LATITUDE,LONGITUDE,DEPTH,CTDPRS,CTDTMP,CTDSAL,CTDSAL_FLAG_W,CTDOXY,CTDOXY_FLAG_W,SALNTY,SALNTY_FLAG_W,OXYGEN,OXYGEN_FLAG_W,SILCAT,SILCAT_FLAG_W,NITRAT,NITRAT_FLAG_W,NO2+NO3,NO2+NO3_FLAG_W,NITRIT,NITRIT_FLAG_W,PHSPHT,PHSPHT_FLAG_W,CFC-11,CFC-11_FLAG_W,CFC-12,CFC-12_FLAG_W,DELC13,DELC13_FLAG_W,TCARBN,TCARBN_FLAG_W,ALKALI,ALKALI_FLAG_W,PH,PH_FLAG_W,PH_TMP,PH_SCALE,PH_NBS,PH_NBS_FLAG_W,C13ERR,TOTALP,TOTALP_FLAG_W,AMMONI,AMMONI_FLAG_W,CHLORA,CHLORA_FLAG_W,PPHYTN,PPHYTN_FLAG_W,REVPRS,REVTMP,DEPTH_,DEPTH_FLAG,CTDDEP,THETA,SIGTHT,DOC,DOC_FLAG_W
,,,,,,,GMT,GMT,,,METER,DBAR,ITS-90,PSS-78,,UMOL/KG,,PSS-78,,UMOL/KG,,UMOL/KG,,UMOL/KG,,UMOL/KG,,UMOL/KG,,UMOL/KG,,PMOL/KG,,PMOL/KG,,/MILLE,,UMOL/KG,,UMOL/KG,,25_DEG_C,,DEG_C,,,,/MILLE,UMOL/KG,,UMOL/KG,,UG/L,,UG/L,,DBAR,ITS-90,METERS,,METERS,DEG_C,,UMOL/L,
       SH98-10,  NONE,SH-5665,  2,     -9,      -9,5,19981011,1618, 30.3400, 132.5135, 4430,      0.0,  27.5119,  34.3336,2,   -999.0,9,-999.0000,9,    198.6,2,  -999.00,9,  -999.00,9,     0.00,2,     0.00,2,     0.02,2, -999.000,9, -999.000,9,  -999.00,9,   -999.0,9,   -999.0,9,-999.0000,9,   -999.0,  9,  -999.00,9,   -999.0,  -999.00,9,  -999.00,9,     0.17,2,     0.15,2,   -999.0,-999.0000, -999,9,    0,  27.5119,  22.0519,   -999.0,9
       SH98-10,  NONE,SH-5665,  2,     12, S-1-1-8,2,19981011,1616, 30.3400, 132.5135, 4430,     14.2,  27.5289,  34.3327,2,   -999.0,9,  34.3361,2,    199.0,2,  -999.00,9,  -999.00,9,     0.00,2,     0.00,2,     0.02,2, -999.000,9, -999.000,9,  -999.00,9,   -999.0,9,   -999.0,9,-999.0000,9,   -999.0,  9,  -999.00,9,   -999.0,  -999.00,9,  -999.00,9,     0.20,2,     0.15,2,   -999.0,-999.0000, -999,9,   14,  27.5256,  22.0468,   -999.0,9
       SH98-10,  NONE,SH-5665,  2,     11,S-1-1-11,2,19981011,1615, 30.3400, 132.5135, 4430,     28.0,  27.5345,  34.3320,2,   -999.0,9,  34.3396,2,    198.9,2,  -999.00,9,  -999.00,9,     0.00,2,     0.00,2,     0.00,2, -999.000,9, -999.000,9,  -999.00,9,   -999.0,9,   -999.0,9,-999.0000,9,   -999.0,  9,  -999.00,9,   -999.0,  -999.00,9,  -999.00,9,     0.19,2,     0.16,2,   -999.0,-999.0000, -999,9,   28,  27.5280,  22.0455,   -999.0,9
       SH98-10,  NONE,SH-5665,  2,     10,S-1-1-10,2,19981011,1615, 30.3400, 132.5135, 4430,     52.8,  27.5407,  34.3338,2,   -999.0,9,  34.3400,2,    197.6,2,  -999.00,9,  -999.00,9,     0.00,2,     0.00,2,     0.01,2, -999.000,9, -999.000,9,  -999.00,9,   -999.0,9,   -999.0,9,-999.0000,9,   -999.0,  9,  -999.00,9,   -999.0,  -999.00,9,  -999.00,9,     0.19,2,     0.16,2,   -999.0,-999.0000, -999,9,   52,  27.5284,  22.0467,   -999.0,9
       SH98-10,  NONE,SH-5665,  2,      9, S-1-1-7,2,19981011,1614, 30.3400, 132.5135, 4430,     77.0,  27.5109,  34.3919,2,   -999.0,9,  34.3801,4,    196.8,2,  -999.00,9,  -999.00,9,     0.10,2,     0.04,2,     0.02,2, -999.000,9, -999.000,9,  -999.00,9,   -999.0,9,   -999.0,9,-999.0000,9,   -999.0,  9,  -999.00,9,   -999.0,  -999.00,9,  -999.00,9,     0.26,2,     0.25,2,   -999.0,-999.0000, -999,9,   76,  27.4930,  22.1018,   -999.0,9
       SH98-10,  NONE,SH-5665,  2,      8, S-1-1-9,2,19981011,1613, 30.3400, 132.5135, 4430,    102.3,  26.0796,  34.6217,2,   -999.0,9,  34.6176,2,    195.0,2,  -999.00,9,  -999.00,9,     0.78,2,     0.17,2,     0.07,2, -999.000,9, -999.000,9,  -999.00,9,   -999.0,9,   -999.0,9,-999.0000,9,   -999.0,  9,  -999.00,9,   -999.0,  -999.00,9,  -999.00,9,     0.11,2,     0.25,2,   -999.0,-999.0000, -999,9,  102,  26.0568,  22.7303,   -999.0,9
       SH98-10,  NONE,SH-5665,  2,      7, S-1-1-4,2,19981011,1612, 30.3400, 132.5135, 4430,    127.5,  24.3384,  34.7416,2,   -999.0,9,  34.7378,2,    195.3,2,  -999.00,9,  -999.00,9,     1.27,2,     0.13,2,     0.12,2, -999.000,9, -999.000,9,  -999.00,9,   -999.0,9,   -999.0,9,-999.0000,9,   -999.0,  9,  -999.00,9,   -999.0,  -999.00,9,  -999.00,9,     0.05,2,     0.19,2,   -999.0,-999.0000, -999,9,  127,  24.3113,  23.3532,   -999.0,9
       SH98-10,  NONE,SH-5665,  2,      6, 1-133-7,2,19981011,1611, 30.3400, 132.5135, 4430,    153.8,  21.8534,  34.7959,2,   -999.0,9,  34.7841,4,    190.4,2,  -999.00,9,  -999.00,9,     2.73,2,     0.04,2,     0.22,2, -999.000,9, -999.000,9,  -999.00,9,   -999.0,9,   -999.0,9,-999.0000,9,   -999.0,  9,  -999.00,9,   -999.0,  -999.00,9,  -999.00,9,     0.03,2,     0.11,2,   -999.0,-999.0000, -999,9,  153,  21.8231,  24.1121,   -999.0,9
       SH98-10,  NONE,SH-5665,  2,      5, S-1-1-6,2,19981011,1609, 30.3400, 132.5135, 4430,    199.9,  19.5061,  34.7060,2,   -999.0,9,  34.7036,2,    177.7,2,  -999.00,9,  -999.00,9,     6.64,2,     0.01,2,     0.51,2, -999.000,9, -999.000,9,  -999.00,9,   -999.0,9,   -999.0,9,-999.0000,9,   -999.0,  9,  -999.00,9,   -999.0,  -999.00,9,  -999.00,9,     0.03,2,     0.08,2,   -999.0,-999.0000, -999,9,  198,  19.4698,  24.6758,   -999.0,9
       SH98-10,  NONE,SH-5665,  2,      4, S-1-1-1,2,19981011,1608, 30.3400, 132.5135, 4430,    252.5,  17.8026,  34.6742,2,   -999.0,9,  34.6760,2,    172.6,2,  -999.00,9,  -999.00,9,     8.88,2,     0.01,2,     0.66,2, -999.000,9, -999.000,9,  -999.00,9,   -999.0,9,   -999.0,9,-999.0000,9,   -999.0,  9,  -999.00,9,   -999.0,  -999.00,9,  -999.00,9,     0.01,2,     0.06,2,   -999.0,-999.0000, -999,9,  251,  17.7596,  25.0814,   -999.0,9
       SH98-10,  NONE,SH-5665,  2,      3,1-133-84,2,19981011,1607, 30.3400, 132.5135, 4430,    302.8,  14.7476,  34.5845,2,   -999.0,9,  34.5875,2,    168.6,2,  -999.00,9,  -999.00,9,    12.87,2,     0.01,2,     0.93,2, -999.000,9, -999.000,9,  -999.00,9,   -999.0,9,   -999.0,9,-999.0000,9,   -999.0,  9,  -999.00,9,   -999.0,  -999.00,9,  -999.00,9,     0.00,2,     0.02,2,   -999.0,-999.0000, -999,9,  301,  14.7023,  25.7164,   -999.0,9
       SH98-10,  NONE,SH-5665,  2,      2, 1-133-1,2,19981011,1605, 30.3400, 132.5135, 4430,    401.4,  11.5398,  34.4412,2,   -999.0,9,  34.4412,2,    148.6,2,  -999.00,9,  -999.00,9,    19.78,2,     0.00,2,     1.43,2, -999.000,9, -999.000,9,  -999.00,9,   -999.0,9,   -999.0,9,-999.0000,9,   -999.0,  9,  -999.00,9,   -999.0,  -999.00,9,  -999.00,9,  -999.00,9,  -999.00,9,   -999.0,-999.0000, -999,9,  398,  11.4886,  26.2511,   -999.0,9
       SH98-10,  NONE,SH-5665,  2,      1, 1-133-2,2,19981011,1603, 30.3400, 132.5135, 4430,    502.0,   8.3000,  34.3364,2,   -999.0,9,  34.3363,2,    119.8,2,  -999.00,9,  -999.00,9,    27.95,2,     0.00,2,     2.02,2, -999.000,9, -999.000,9,  -999.00,9,   -999.0,9,   -999.0,9,-999.0000,9,   -999.0,  9,  -999.00,9,   -999.0,  -999.00,9,  -999.00,9,  -999.00,9,  -999.00,9,   -999.0,-999.0000, -999,9,  498,   8.2475,  26.7155,   -999.0,9
       SH98-10,  NONE,SH-5665,  1,     12, S-1-1-8,2,19981011,1526, 30.3063, 132.5340, 3900,    599.1,   5.9070,  34.2974,2,   -999.0,9,  34.2893,2,     91.9,2,  -999.00,9,  -999.00,9,    34.47,2,     0.00,2,     2.50,2, -999.000,9, -999.000,9,  -999.00,9,   -999.0,9,   -999.0,9,-999.0000,9,   -999.0,  9,  -999.00,9,   -999.0,  -999.00,9,  -999.00,9,  -999.00,9,  -999.00,9,   -999.0,-999.0000, -999,9,  594,   5.8548,  27.0157,   -999.0,9
       SH98-10,  NONE,SH-5665,  1,     11,S-1-1-11,2,19981011,1523, 30.3063, 132.5340, 3900,    698.4,   4.7647,  34.3415,2,   -999.0,9,  34.3402,2,     77.9,2,  -999.00,9,  -999.00,9,    37.77,2,     0.01,2,     2.72,2, -999.000,9, -999.000,9,  -999.00,9,   -999.0,9,   -999.0,9,-999.0000,9,   -999.0,  9,  -999.00,9,   -999.0,  -999.00,9,  -999.00,9,  -999.00,9,  -999.00,9,   -999.0,-999.0000, -999,9,  692,   4.7095,  27.1861,   -999.0,9
       SH98-10,  NONE,SH-5665,  1,     10,S-1-1-10,2,19981011,1521, 30.3063, 132.5340, 3900,    799.0,   3.9841,  34.3873,2,   -999.0,9,  34.3793,2,     68.5,2,  -999.00,9,  -999.00,9,    39.52,2,     0.00,2,     2.85,2, -999.000,9, -999.000,9,  -999.00,9,   -999.0,9,   -999.0,9,-999.0000,9,   -999.0,  9,  -999.00,9,   -999.0,  -999.00,9,  -999.00,9,  -999.00,9,  -999.00,9,   -999.0,-999.0000, -999,9,  792,   3.9251,  27.3065,   -999.0,9
       SH98-10,  NONE,SH-5665,  1,      9, S-1-1-7,4,19981011,1518, 30.3063, 132.5340, 3900,    900.6,   3.5768,  34.4251,2,   -999.0,9,  34.2838,4,     74.7,4,  -999.00,9,  -999.00,9,    38.54,4,     0.00,4,     2.76,4, -999.000,9, -999.000,9,  -999.00,9,   -999.0,9,   -999.0,9,-999.0000,9,   -999.0,  9,  -999.00,9,   -999.0,  -999.00,9,  -999.00,9,  -999.00,9,  -999.00,9,   -999.0,-999.0000, -999,9,  892,   3.5124,  27.3778,   -999.0,9
       SH98-10,  NONE,SH-5665,  1,      8, S-1-1-9,2,19981011,1516, 30.3063, 132.5340, 3900,   1001.7,   3.2766,  34.4622,2,   -999.0,9,  34.4503,4,     70.6,2,  -999.00,9,  -999.00,9,    40.78,2,     0.00,2,     2.89,2, -999.000,9, -999.000,9,  -999.00,9,   -999.0,9,   -999.0,9,-999.0000,9,   -999.0,  9,  -999.00,9,   -999.0,  -999.00,9,  -999.00,9,  -999.00,9,  -999.00,9,   -999.0,-999.0000, -999,9,  992,   3.2065,  27.4367,   -999.0,9
       SH98-10,  NONE,SH-5665,  1,      7, S-1-1-4,2,19981011,1513, 30.3063, 132.5340, 3900,   1202.7,   2.8294,  34.5104,2,   -999.0,9,  34.4992,4,     76.3,2,  -999.00,9,  -999.00,9,    40.97,2,     0.01,2,     2.86,2, -999.000,9, -999.000,9,  -999.00,9,   -999.0,9,   -999.0,9,-999.0000,9,   -999.0,  9,  -999.00,9,   -999.0,  -999.00,9,  -999.00,9,  -999.00,9,  -999.00,9,   -999.0,-999.0000, -999,9, 1191,   2.7474,  27.5170,   -999.0,9
       SH98-10,  NONE,SH-5665,  1,      6, 1-133-7,2,19981011,1508, 30.3063, 132.5340, 3900,   1505.4,   2.3511,  34.5744,2,   -999.0,9,  34.5610,4,   -999.0,9,  -999.00,9,  -999.00,9,  -999.00,9,  -999.00,9,  -999.00,9, -999.000,9, -999.000,9,  -999.00,9,   -999.0,9,   -999.0,9,-999.0000,9,   -999.0,  9,  -999.00,9,   -999.0,  -999.00,9,  -999.00,9,  -999.00,9,  -999.00,9,   -999.0,-999.0000, -999,9, 1490,   2.2504,  27.6105,   -999.0,9
       SH98-10,  NONE,SH-5665,  1,      5, S-1-1-6,2,19981011,1501, 30.3063, 132.5340, 3900,   2011.3,   1.8938,  34.6346,2,   -999.0,9,  34.6180,4,   -999.0,9,  -999.00,9,  -999.00,9,  -999.00,9,  -999.00,9,  -999.00,9, -999.000,9, -999.000,9,  -999.00,9,   -999.0,9,   -999.0,9,-999.0000,9,   -999.0,  9,  -999.00,9,   -999.0,  -999.00,9,  -999.00,9,  -999.00,9,  -999.00,9,   -999.0,-999.0000, -999,9, 1988,   1.7581,  27.6977,   -999.0,9
       SH98-10,  NONE,SH-5665,  1,      4, S-1-1-1,2,19981011,1454, 30.3063, 132.5340, 3900,   2521.5,   1.6808,  34.6699,2,   -999.0,9,  34.6040,4,   -999.0,9,  -999.00,9,  -999.00,9,  -999.00,9,  -999.00,9,  -999.00,9, -999.000,9, -999.000,9,  -999.00,9,   -999.0,9,   -999.0,9,-999.0000,9,   -999.0,  9,  -999.00,9,   -999.0,  -999.00,9,  -999.00,9,  -999.00,9,  -999.00,9,   -999.0,-999.0000, -999,9, 2489,   1.5045,  27.7450,   -999.0,9
       SH98-10,  NONE,SH-5665,  1,      3,1-133-84,2,19981011,1447, 30.3063, 132.5340, 3900,   3032.7,   1.5313,  34.6931,2,   -999.0,9,  34.6330,4,   -999.0,9,  -999.00,9,  -999.00,9,  -999.00,9,  -999.00,9,  -999.00,9, -999.000,9, -999.000,9,  -999.00,9,   -999.0,9,   -999.0,9,-999.0000,9,   -999.0,  9,  -999.00,9,   -999.0,  -999.00,9,  -999.00,9,  -999.00,9,  -999.00,9,   -999.0,-999.0000, -999,9, 2990,   1.3106,  27.7775,   -999.0,9
       SH98-10,  NONE,SH-5665,  1,      2, 1-133-1,2,19981011,1441, 30.3063, 132.5340, 3900,   3542.4,   1.5091,  34.7030,2,   -999.0,9,  34.6774,4,   -999.0,9,  -999.00,9,  -999.00,9,  -999.00,9,  -999.00,9,  -999.00,9, -999.000,9, -999.000,9,  -999.00,9,   -999.0,9,   -999.0,9,-999.0000,9,   -999.0,  9,  -999.00,9,   -999.0,  -999.00,9,  -999.00,9,  -999.00,9,  -999.00,9,   -999.0,-999.0000, -999,9, 3489,   1.2383,  27.7905,   -999.0,9
       SH98-10,  NONE,SH-5665,  1,      1, 1-133-2,2,19981011,1438, 30.3063, 132.5340, 3900,   3743.8,   1.5185,  34.7048,2,   -999.0,9,  34.6818,4,   -999.0,9,  -999.00,9,  -999.00,9,  -999.00,9,  -999.00,9,  -999.00,9, -999.000,9, -999.000,9,  -999.00,9,   -999.0,9,   -999.0,9,-999.0000,9,   -999.0,  9,  -999.00,9,   -999.0,  -999.00,9,  -999.00,9,  -999.00,9,  -999.00,9,   -999.0,-999.0000, -999,9, 3686,   1.2264,  27.7927,   -999.0,9
       SH98-10,  NONE,SH-5666,  2,     -9,      -9,5,19981011,2149, 30.6958, 132.1188, 2100,      0.0,  27.7156,  34.3418,2,   -999.0,9,-999.0000,9,    199.5,2,  -999.00,9,  -999.00,9,     0.00,2,     0.00,2,     0.02,2, -999.000,9, -999.000,9,  -999.00,9,   -999.0,9,   -999.0,9,-999.0000,9,   -999.0,  9,     8.23,2,   -999.0,  -999.00,9,  -999.00,9,     0.14,2,     0.11,2,   -999.0,-999.0000, -999,9,    0,  27.7156,  21.9922,   -999.0,9
       SH98-10,  NONE,SH-5666,  2,      6, S-133-7,2,19981011,2148, 30.6958, 132.1188, 2100,     11.5,  27.7551,  34.3799,2,   -999.0,9,  34.3995,4,    198.9,2,  -999.00,9,  -999.00,9,     0.00,2,     0.00,2,     0.01,2, -999.000,9, -999.000,9,  -999.00,9,   -999.0,9,   -999.0,9,-999.0000,9,   -999.0,  9,     8.24,2,   -999.0,  -999.00,9,  -999.00,9,     0.13,2,     0.11,2,   -999.0,-999.0000, -999,9,   11,  27.7524,  22.0089,   -999.0,9
       SH98-10,  NONE,SH-5666,  2,      5, S-1-1-6,2,19981011,2147, 30.6958, 132.1188, 2100,     27.1,  27.7561,  34.4241,2,   -999.0,9,  34.4333,2,    199.4,2,  -999.00,9,  -999.00,9,     0.00,2,     0.00,2,     0.01,2, -999.000,9, -999.000,9,  -999.00,9,   -999.0,9,   -999.0,9,-999.0000,9,   -999.0,  9,     8.24,2,   -999.0,  -999.00,9,  -999.00,9,     0.14,2,     0.10,2,   -999.0,-999.0000, -999,9,   27,  27.7498,  22.0430,   -999.0,9
       SH98-10,  NONE,SH-5666,  2,      4, S-1-1-1,2,19981011,2146, 30.6958, 132.1188, 2100,     51.8,  27.7102,  34.4190,2,   -999.0,9,  34.4237,2,    198.5,2,  -999.00,9,  -999.00,9,     0.00,2,     0.00,2,     0.01,2, -999.000,9, -999.000,9,  -999.00,9,   -999.0,9,   -999.0,9,-999.0000,9,   -999.0,  9,     8.23,2,   -999.0,  -999.00,9,  -999.00,9,     0.15,2,     0.12,2,   -999.0,-999.0000, -999,9,   51,  27.6981,  22.0559,   -999.0,9
       SH98-10,  NONE,SH-5666,  2,      3,1-133-84,2,19981011,2145, 30.6958, 132.1188, 2100,     77.0,  27.1209,  34.2187,2,   -999.0,9,  34.2559,4,    198.1,2,  -999.00,9,  -999.00,9,     0.10,2,     0.02,2,     0.02,2, -999.000,9, -999.000,9,  -999.00,9,   -999.0,9,   -999.0,9,-999.0000,9,   -999.0,  9,     8.23,2,   -999.0,  -999.00,9,  -999.00,9,     0.26,2,     0.27,2,   -999.0,-999.0000, -999,9,   76,  27.1032,  22.0965,   -999.0,9
       SH98-10,  NONE,SH-5666,  2,      2, 1-133-1,2,19981011,2144, 30.6958, 132.1188, 2100,    100.7,  24.7359,  34.3138,2,   -999.0,9,  34.3469,4,    183.9,2,  -999.00,9,  -999.00,9,     2.64,2,     0.20,2,     0.20,2, -999.000,9, -999.000,9,  -999.00,9,   -999.0,9,   -999.0,9,-999.0000,9,   -999.0,  9,  -999.00,4,   -999.0,  -999.00,9,  -999.00,9,     0.17,2,     0.39,2,   -999.0,-999.0000, -999,9,  100,  24.7143,  22.9090,   -999.0,9
       SH98-10,  NONE,SH-5666,  2,      1, S-133-2,2,19981011,2143, 30.6958, 132.1188, 2100,    126.4,  22.2516,  34.6137,2,   -999.0,9,  34.6267,2,    179.8,2,  -999.00,9,  -999.00,9,     4.40,2,     0.05,2,     0.34,2, -999.000,9, -999.000,9,  -999.00,9,   -999.0,9,   -999.0,9,-999.0000,9,   -999.0,  9,     8.13,2,   -999.0,  -999.00,9,  -999.00,9,     0.05,2,     0.15,2,   -999.0,-999.0000, -999,9,  126,  22.2265,  23.8608,   -999.0,9
       SH98-10,  NONE,SH-5666,  2,     12, S-1-1-8,2,19981011,2141, 30.6958, 132.1188, 2100,    153.8,  20.3774,  34.5845,2,   -999.0,9,  34.5773,2,    173.5,2,  -999.00,9,  -999.00,9,     6.64,2,     0.02,2,     0.49,2, -999.000,9, -999.000,9,  -999.00,9,   -999.0,9,   -999.0,9,-999.0000,9,   -999.0,  9,     8.09,2,   -999.0,  -999.00,9,  -999.00,9,     0.02,2,     0.09,2,   -999.0,-999.0000, -999,9,  153,  20.3486,  24.3526,   -999.0,9
       SH98-10,  NONE,SH-5666,  2,     11,S-1-1-11,2,19981011,2140, 30.6958, 132.1188, 2100,    202.1,  16.5639,  34.6378,2,   -999.0,9,  34.6379,2,    170.8,2,  -999.00,9,  -999.00,9,    10.34,2,     0.01,2,     0.77,2, -999.000,9, -999.000,9,  -999.00,9,   -999.0,9,   -999.0,9,-999.0000,9,   -999.0,  9,     8.02,2,   -999.0,  -999.00,9,  -999.00,9,  -999.00,9,  -999.00,9,   -999.0,-999.0000, -999,9,  201,  16.5313,  25.3464,   -999.0,9
       SH98-10,  NONE,SH-5666,  2,     10,S-1-1-10,4,19981011,2138, 30.6958, 132.1188, 2100,    251.4,  13.9412,  34.5524,2,   -999.0,9,  34.5578,2,    207.3,4,  -999.00,9,  -999.00,9,    14.23,2,     0.00,2,     1.04,2, -999.000,9, -999.000,9,  -999.00,9,   -999.0,9,   -999.0,9,-999.0000,9,   -999.0,  9,     7.96,2,   -999.0,  -999.00,9,  -999.00,9,  -999.00,9,  -999.00,9,   -999.0,-999.0000, -999,9,  250,  13.9050,  25.8610,   -999.0,9
       SH98-10,  NONE,SH-5666,  2,     -9,      -9,4,19981011,2137, 30.6958, 132.1188, 2100,    301.0,  12.1763,  34.4552,2,   -999.0,9,-999.0000,9,   -999.0,9,  -999.00,9,  -999.00,9,  -999.00,9,  -999.00,9,  -999.00,9, -999.000,9, -999.000,9,  -999.00,9,   -999.0,9,   -999.0,9,-999.0000,9,   -999.0,  9,  -999.00,9,   -999.0,  -999.00,9,  -999.00,9,  -999.00,9,  -999.00,9,   -999.0,-999.0000, -999,9,  299,  12.1367,  26.1399,   -999.0,9
       SH98-10,  NONE,SH-5666,  2,      9, S-1-1-7,2,19981011,2135, 30.6958, 132.1188, 2100,    397.4,   8.5907,  34.2334,2,   -999.0,9,  34.2390,2,    137.0,2,  -999.00,9,  -999.00,9,    25.13,2,     0.00,2,     1.84,2, -999.000,9, -999.000,9,  -999.00,9,   -999.0,9,   -999.0,9,-999.0000,9,   -999.0,  9,     7.78,2,   -999.0,  -999.00,9,  -999.00,9,     0.00,2,     0.01,2,   -999.0,-999.0000, -999,9,  394,   8.5486,  26.5886,   -999.0,9