BOTTLE,20130516GEMDJMAYT
EXPOCODE,SECT_ID,STNNBR,CASTNO,SAMPNO,BTLNBR,BTLNBR_FLAG_W,DATE,TIME,LATITUDE,LONGITUDE,DEPTH,CTDPRS,CTDTMP,CTDSAL,CTDSAL_FLAG_W,CTDOXY,CTDOXY_FLAG_W,SALNTY,SALNTY_FLAG_W,OXYGEN,OXYGEN_FLAG_W,SILCAT,SILCAT_FLAG_W,NITRAT,NITRAT_FLAG_W,NO2+NO3,NO2+NO3_FLAG_W,NITRIT,NITRIT_FLAG_W,PHSPHT,PHSPHT_FLAG_W,CFC-11,CFC-11_FLAG_W,CFC-12,CFC-12_FLAG_W,DELC13,DELC13_FLAG_W,TCARBN,TCARBN_FLAG_W,ALKALI,ALKALI_FLAG_W,PH,PH_FLAG_W,PH_TMP,PH_SCALE,PH_NBS,PH_NBS_FLAG_W,C13ERR,TOTALP,TOTALP_FLAG_W,AMMONI,AMMONI_FLAG_W,CHLORA,CHLORA_FLAG_W,PPHYTN,PPHYTN_FLAG_W,REVPRS,REVTMP,DEPTH_,DEPTH_FLAG,CTDDEP,THETA,SIGTHT,DOC,DOC_FLAG_W
,,,,,,,GMT,GMT,,,METER,DBAR,ITS-90,PSS-78,,UMOL/KG,,PSS-78,,UMOL/KG,,UMOL/KG,,UMOL/KG,,UMOL/KG,,UMOL/KG,,UMOL/KG,,PMOL/KG,,PMOL/KG,,/MILLE,,UMOL/KG,,UMOL/KG,,25_DEG_C,,DEG_C,,,,/MILLE,UMOL/KG,,UMOL/KG,,UG/L,,UG/L,,DBAR,ITS-90,METERS,,METERS,DEG_C,,UMOL/L,
       SH98-10,  NONE,SH-5655,  2,     -9,      -9,5,19981009,0323, 31.5027, 135.2327, 3420,      0.0,  26.4209,  34.3601,2,   -999.0,9,-999.0000,9,    202.4,2,  -999.00,9,  -999.00,9,     0.00,2,     0.00,2,     0.01,2, -999.000,9, -999.000,9,  -999.00,9,   -999.0,9,   -999.0,9,-999.0000,9,   -999.0,  9,  -999.00,9,   -999.0,  -999.00,9,  -999.00,9,     0.05,2,     0.03,2,   -999.0,-999.0000, -999,9,    0,  26.4209,  22.4191,   -999.0,9
       SH98-10,  NONE,SH-5655,  2,      9, S-1-1-7,2,19981009,0322, 31.5027, 135.2327, 3420,     10.5,  26.4127,  34.3606,2,   -999.0,9,  34.3679,2,    203.5,2,  -999.00,9,  -999.00,9,     0.00,2,     0.00,2,     0.01,2, -999.000,9, -999.000,9,  -999.00,9,   -999.0,9,   -999.0,9,-999.0000,9,   -999.0,  9,  -999.00,9,   -999.0,  -999.00,9,  -999.00,9,     0.06,2,     0.03,2,   -999.0,-999.0000, -999,9,   10,  26.4104,  22.4227,   -999.0,9
       SH98-10,  NONE,SH-5655,  2,      8, S-1-1-9,2,19981009,0321, 31.5027, 135.2327, 3420,     25.6,  26.3730,  34.3632,2,   -999.0,9,  34.3679,2,    203.4,2,  -999.00,9,  -999.00,9,     0.00,2,     0.00,2,     0.00,2, -999.000,9, -999.000,9,  -999.00,9,   -999.0,9,   -999.0,9,-999.0000,9,   -999.0,  9,  -999.00,9,   -999.0,  -999.00,9,  -999.00,9,     0.07,2,     0.03,2,   -999.0,-999.0000, -999,9,   25,  26.3672,  22.4383,   -999.0,9
       SH98-10,  NONE,SH-5655,  2,      7, S-1-1-4,2,19981009,0320, 31.5027, 135.2327, 3420,     51.3,  22.4794,  34.6916,2,   -999.0,9,  34.7119,4,    232.5,2,  -999.00,9,  -999.00,9,     0.00,2,     0.00,2,     0.00,2, -999.000,9, -999.000,9,  -999.00,9,   -999.0,9,   -999.0,9,-999.0000,9,   -999.0,  9,  -999.00,9,   -999.0,  -999.00,9,  -999.00,9,     0.14,2,     0.08,2,   -999.0,-999.0000, -999,9,   51,  22.4691,  23.8514,   -999.0,9
       SH98-10,  NONE,SH-5655,  2,      6, 1-133-7,2,19981009,0319, 31.5027, 135.2327, 3420,     77.2,  19.7702,  34.7919,2,   -999.0,9,  34.8046,4,    230.6,2,  -999.00,9,  -999.00,9,     0.00,2,     0.00,2,     0.01,2, -999.000,9, -999.000,9,  -999.00,9,   -999.0,9,   -999.0,9,-999.0000,9,   -999.0,  9,  -999.00,9,   -999.0,  -999.00,9,  -999.00,9,     0.19,2,     0.19,2,   -999.0,-999.0000, -999,9,   77,  19.7561,  24.6670,   -999.0,9
       SH98-10,  NONE,SH-5655,  2,      5, S-1-1-6,2,19981009,0318, 31.5027, 135.2327, 3420,    101.5,  19.3234,  34.8050,2,   -999.0,9,  34.8099,2,    216.6,2,  -999.00,9,  -999.00,9,     0.10,2,     0.04,2,     0.04,2, -999.000,9, -999.000,9,  -999.00,9,   -999.0,9,   -999.0,9,-999.0000,9,   -999.0,  9,  -999.00,9,   -999.0,  -999.00,9,  -999.00,9,     0.20,2,     0.52,2,   -999.0,-999.0000, -999,9,  101,  19.3052,  24.7940,   -999.0,9
       SH98-10,  NONE,SH-5655,  2,      4, S-1-1-1,2,19981009,0317, 31.5027, 135.2327, 3420,    126.0,  19.0496,  34.8017,2,   -999.0,9,  34.8044,2,    211.6,2,  -999.00,9,  -999.00,9,     1.46,2,     0.03,2,     0.10,2, -999.000,9, -999.000,9,  -999.00,9,   -999.0,9,   -999.0,9,-999.0000,9,   -999.0,  9,  -999.00,9,   -999.0,  -999.00,9,  -999.00,9,     0.09,2,     0.26,2,   -999.0,-999.0000, -999,9,  125,  19.0271,  24.8627,   -999.0,9
       SH98-10,  NONE,SH-5655,  2,      3,1-133-84,2,19981009,0316, 31.5027, 135.2327, 3420,    153.8,  18.9587,  34.8027,2,   -999.0,9,  34.8054,2,    213.3,2,  -999.00,9,  -999.00,9,     1.66,2,     0.01,2,     0.12,2, -999.000,9, -999.000,9,  -999.00,9,   -999.0,9,   -999.0,9,-999.0000,9,   -999.0,  9,  -999.00,9,   -999.0,  -999.00,9,  -999.00,9,     0.02,2,     0.03,2,   -999.0,-999.0000, -999,9,  153,  18.9313,  24.8878,   -999.0,9
       SH98-10,  NONE,SH-5655,  2,      2, 1-133-1,2,19981009,0314, 31.5027, 135.2327, 3420,    201.0,  18.8204,  34.8046,2,   -999.0,9,  34.8085,2,    212.7,2,  -999.00,9,  -999.00,9,     1.76,2,     0.00,2,     0.13,2, -999.000,9, -999.000,9,  -999.00,9,   -999.0,9,   -999.0,9,-999.0000,9,   -999.0,  9,  -999.00,9,   -999.0,  -999.00,9,  -999.00,9,     0.00,2,     0.01,2,   -999.0,-999.0000, -999,9,  199,  18.7848,  24.9265,   -999.0,9
       SH98-10,  NONE,SH-5655,  2,      1, 1-133-2,2,19981009,0313, 31.5027, 135.2327, 3420,    249.9,  18.5081,  34.8287,2,   -999.0,9,  34.8337,2,    203.5,2,  -999.00,9,  -999.00,9,     3.02,2,     0.00,2,     0.20,2, -999.000,9, -999.000,9,  -999.00,9,   -999.0,9,   -999.0,9,-999.0000,9,   -999.0,  9,  -999.00,9,   -999.0,  -999.00,9,  -999.00,9,     0.00,2,     0.01,2,   -999.0,-999.0000, -999,9,  248,  18.4643,  25.0255,   -999.0,9
       SH98-10,  NONE,SH-5655,  2,     12, S-1-1-8,2,19981009,0311, 31.5027, 135.2327, 3420,    298.0,  18.1510,  34.8552,2,   -999.0,9,  34.8593,2,    200.8,2,  -999.00,9,  -999.00,9,     3.41,2,     0.00,2,     0.22,2, -999.000,9, -999.000,9,  -999.00,9,   -999.0,9,   -999.0,9,-999.0000,9,   -999.0,  9,  -999.00,9,   -999.0,  -999.00,9,  -999.00,9,     0.00,2,     0.01,2,   -999.0,-999.0000, -999,9,  296,  18.0994,  25.1366,   -999.0,9
       SH98-10,  NONE,SH-5655,  1,     10,S-1-1-10,2,19981009,0244, 31.5042, 135.2477, 3380,    399.5,  17.6520,  34.8454,2,   -999.0,9,  34.8451,2,    198.1,2,  -999.00,9,  -999.00,9,     4.39,2,     0.00,2,     0.30,2, -999.000,9, -999.000,9,  -999.00,9,   -999.0,9,   -999.0,9,-999.0000,9,   -999.0,  9,  -999.00,9,   -999.0,  -999.00,9,  -999.00,9,  -999.00,9,  -999.00,9,   -999.0,-999.0000, -999,9,  396,  17.5840,  25.2554,   -999.0,9
       SH98-10,  NONE,SH-5655,  1,      9, S-1-1-7,2,19981009,0243, 31.5042, 135.2477, 3380,    499.3,  16.3365,  34.7456,2,   -999.0,9,  34.7491,2,    191.5,2,  -999.00,9,  -999.00,9,     7.41,2,     0.00,2,     0.51,2, -999.000,9, -999.000,9,  -999.00,9,   -999.0,9,   -999.0,9,-999.0000,9,   -999.0,  9,  -999.00,9,   -999.0,  -999.00,9,  -999.00,9,  -999.00,9,  -999.00,9,   -999.0,-999.0000, -999,9,  495,  16.2558,  25.4932,   -999.0,9
       SH98-10,  NONE,SH-5655,  1,      8, S-1-1-9,2,19981009,0241, 31.5042, 135.2477, 3380,    598.5,  14.7757,  34.6458,2,   -999.0,9,  34.6422,2,    195.5,4,  -999.00,9,  -999.00,9,     9.46,2,     0.00,2,     0.66,2, -999.000,9, -999.000,9,  -999.00,9,   -999.0,9,   -999.0,9,-999.0000,9,   -999.0,  9,  -999.00,9,   -999.0,  -999.00,9,  -999.00,9,  -999.00,9,  -999.00,9,   -999.0,-999.0000, -999,9,  594,  14.6851,  25.7674,   -999.0,9
       SH98-10,  NONE,SH-5655,  1,      7, S-1-1-4,2,19981009,0240, 31.5042, 135.2477, 3380,    699.3,  11.8979,  34.4126,2,   -999.0,9,  34.4129,2,    169.0,2,  -999.00,9,  -999.00,9,    16.86,2,     0.00,2,     1.21,2, -999.000,9, -999.000,9,  -999.00,9,   -999.0,9,   -999.0,9,-999.0000,9,   -999.0,  9,  -999.00,9,   -999.0,  -999.00,9,  -999.00,9,  -999.00,9,  -999.00,9,   -999.0,-999.0000, -999,9,  693,  11.8059,  26.1696,   -999.0,9
       SH98-10,  NONE,SH-5655,  1,      6, 1-133-7,2,19981009,0238, 31.5042, 135.2477, 3380,    800.9,   8.9264,  34.2505,2,   -999.0,9,  34.2567,2,    142.0,2,  -999.00,9,  -999.00,9,    24.45,2,     0.00,2,     1.77,2, -999.000,9, -999.000,9,  -999.00,9,   -999.0,9,   -999.0,9,-999.0000,9,   -999.0,  9,  -999.00,9,   -999.0,  -999.00,9,  -999.00,9,  -999.00,9,  -999.00,9,   -999.0,-999.0000, -999,9,  794,   8.8377,  26.5569,   -999.0,9
       SH98-10,  NONE,SH-5655,  1,      5, S-1-1-6,2,19981009,0237, 31.5042, 135.2477, 3380,    901.9,   7.0700,  34.1967,2,   -999.0,9,  34.2047,2,    116.8,2,  -999.00,9,  -999.00,9,    30.09,2,     0.00,2,     2.18,2, -999.000,9, -999.000,9,  -999.00,9,   -999.0,9,   -999.0,9,-999.0000,9,   -999.0,  9,  -999.00,9,   -999.0,  -999.00,9,  -999.00,9,  -999.00,9,  -999.00,9,   -999.0,-999.0000, -999,9,  894,   6.9819,  26.7884,   -999.0,9
       SH98-10,  NONE,SH-5655,  1,      4, S-1-1-1,2,19981009,0236, 31.5042, 135.2477, 3380,   1001.9,   5.5120,  34.2445,2,   -999.0,9,  34.2483,2,     87.2,2,  -999.00,9,  -999.00,9,    35.44,2,     0.00,2,     2.56,2, -999.000,9, -999.000,9,  -999.00,9,   -999.0,9,   -999.0,9,-999.0000,9,   -999.0,  9,  -999.00,9,   -999.0,  -999.00,9,  -999.00,9,  -999.00,9,  -999.00,9,   -999.0,-999.0000, -999,9,  993,   5.4250,  27.0264,   -999.0,9
       SH98-10,  NONE,SH-5655,  1,      3,1-133-84,2,19981009,0233, 31.5042, 135.2477, 3380,   1203.4,   4.0812,  34.3586,2,   -999.0,9,  34.3545,2,     62.8,2,  -999.00,9,  -999.00,9,    39.42,2,     0.00,2,     2.84,2, -999.000,9, -999.000,9,  -999.00,9,   -999.0,9,   -999.0,9,-999.0000,9,   -999.0,  9,  -999.00,9,   -999.0,  -999.00,9,  -999.00,9,  -999.00,9,  -999.00,9,   -999.0,-999.0000, -999,9, 1192,   3.9879,  27.2771,   -999.0,9
       SH98-10,  NONE,SH-5656,  2,     -9,      -9,5,19981009,0907, 30.9935, 135.2330, 4260,      0.0,  27.1421,  34.3165,2,   -999.0,9,-999.0000,9,    202.8,2,  -999.00,9,  -999.00,9,     0.00,2,     0.00,2,     0.01,2, -999.000,9, -999.000,9,  -999.00,9,   -999.0,9,   -999.0,9,-999.0000,9,   -999.0,  9,  -999.00,9,   -999.0,  -999.00,9,  -999.00,9,     0.06,2,     0.04,2,   -999.0,-999.0000, -999,9,    0,  27.1421,  22.1577,   -999.0,9
       SH98-10,  NONE,SH-5656,  2,      3,1-133-84,2,19981009,0906, 30.9935, 135.2330, 4260,     11.2,  27.1381,  34.3132,2,   -999.0,9,-999.0000,9,    203.6,2,  -999.00,9,  -999.00,9,     0.00,2,     0.00,2,     0.01,2, -999.000,9, -999.000,9,  -999.00,9,   -999.0,9,   -999.0,9,-999.0000,9,   -999.0,  9,  -999.00,9,   -999.0,  -999.00,9,  -999.00,9,     0.06,2,     0.04,2,   -999.0,-999.0000, -999,9,   11,  27.1355,  22.1573,   -999.0,9
       SH98-10,  NONE,SH-5656,  2,      2, 1-133-1,2,19981009,0905, 30.9935, 135.2330, 4260,     26.8,  27.0655,  34.3040,2,   -999.0,9,-999.0000,9,    203.5,2,  -999.00,9,  -999.00,9,     0.00,2,     0.00,2,     0.01,2, -999.000,9, -999.000,9,  -999.00,9,   -999.0,9,   -999.0,9,-999.0000,9,   -999.0,  9,  -999.00,9,   -999.0,  -999.00,9,  -999.00,9,     0.07,2,     0.04,2,   -999.0,-999.0000, -999,9,   27,  27.0593,  22.1747,   -999.0,9
       SH98-10,  NONE,SH-5656,  2,      1, 1-133-2,2,19981009,0904, 30.9935, 135.2330, 4260,     51.3,  26.4748,  34.4688,2,   -999.0,9,-999.0000,9,    207.3,2,  -999.00,9,  -999.00,9,     0.00,2,     0.00,2,     0.00,2, -999.000,9, -999.000,9,  -999.00,9,   -999.0,9,   -999.0,9,-999.0000,9,   -999.0,  9,  -999.00,9,   -999.0,  -999.00,9,  -999.00,9,     0.14,2,     0.14,2,   -999.0,-999.0000, -999,9,   51,  26.4633,  22.4877,   -999.0,9
       SH98-10,  NONE,SH-5656,  2,     12, S-1-1-8,2,19981009,0903, 30.9935, 135.2330, 4260,     76.0,  22.6014,  34.7938,2,   -999.0,9,-999.0000,9,    216.4,2,  -999.00,9,  -999.00,9,     0.00,2,     0.00,2,     0.02,2, -999.000,9, -999.000,9,  -999.00,9,   -999.0,9,   -999.0,9,-999.0000,9,   -999.0,  9,  -999.00,9,   -999.0,  -999.00,9,  -999.00,9,     0.24,2,     0.44,2,   -999.0,-999.0000, -999,9,   75,  22.5861,  23.8957,   -999.0,9
       SH98-10,  NONE,SH-5656,  2,     11,S-1-1-11,2,19981009,0902, 30.9935, 135.2330, 4260,    101.1,  21.2470,  34.8296,2,   -999.0,9,-999.0000,9,    193.5,3,  -999.00,9,  -999.00,9,     2.25,2,     0.19,2,     0.18,2, -999.000,9, -999.000,9,  -999.00,9,   -999.0,9,   -999.0,9,-999.0000,9,   -999.0,  9,  -999.00,9,   -999.0,  -999.00,9,  -999.00,9,     0.14,2,     0.56,2,   -999.0,-999.0000, -999,9,  100,  21.2275,  24.3021,   -999.0,9
       SH98-10,  NONE,SH-5656,  2,     10,S-1-1-10,2,19981009,0901, 30.9935, 135.2330, 4260,    125.1,  20.1352,  34.8488,2,   -999.0,9,-999.0000,9,    198.1,3,  -999.00,9,  -999.00,9,     2.34,2,     0.04,2,     0.20,2, -999.000,9, -999.000,9,  -999.00,9,   -999.0,9,   -999.0,9,-999.0000,9,   -999.0,  9,  -999.00,9,   -999.0,  -999.00,9,  -999.00,9,     0.05,2,     0.16,2,   -999.0,-999.0000, -999,9,  124,  20.1120,  24.6169,   -999.0,9
       SH98-10,  NONE,SH-5656,  2,      9, S-1-1-7,2,19981009,0900, 30.9935, 135.2330, 4260,    150.4,  19.5144,  34.8313,2,   -999.0,9,-999.0000,9,    208.6,2,  -999.00,9,  -999.00,9,     1.66,2,     0.02,2,     0.13,2, -999.000,9, -999.000,9,  -999.00,9,   -999.0,9,   -999.0,9,-999.0000,9,   -999.0,  9,  -999.00,9,   -999.0,  -999.00,9,  -999.00,9,     0.03,2,     0.08,2,   -999.0,-999.0000, -999,9,  149,  19.4872,  24.7671,   -999.0,9
       SH98-10,  NONE,SH-5656,  2,      8, S-1-1-9,2,19981009,0858, 30.9935, 135.2330, 4260,    200.5,  18.9720,  34.8180,2,   -999.0,9,-999.0000,9,    209.9,2,  -999.00,9,  -999.00,9,     2.24,2,     0.00,2,     0.16,2, -999.000,9, -999.000,9,  -999.00,9,   -999.0,9,   -999.0,9,-999.0000,9,   -999.0,  9,  -999.00,9,   -999.0,  -999.00,9,  -999.00,9,     0.00,2,     0.01,2,   -999.0,-999.0000, -999,9,  199,  18.9363,  24.8983,   -999.0,9
       SH98-10,  NONE,SH-5656,  2,      7, S-1-1-4,2,19981009,0857, 30.9935, 135.2330, 4260,    250.3,  18.3325,  34.8107,2,   -999.0,9,-999.0000,9,    209.6,2,  -999.00,9,  -999.00,9,     3.32,2,     0.01,2,     0.23,2, -999.000,9, -999.000,9,  -999.00,9,   -999.0,9,   -999.0,9,-999.0000,9,   -999.0,  9,  -999.00,9,   -999.0,  -999.00,9,  -999.00,9,     0.00,2,     0.01,2,   -999.0,-999.0000, -999,9,  248,  18.2889,  25.0556,   -999.0,9
       SH98-10,  NONE,SH-5656,  2,      6, 1-133-7,2,19981009,0856, 30.9935, 135.2330, 4260,    302.4,  17.8457,  34.8313,2,   -999.0,9,-999.0000,9,    199.0,2,  -999.00,9,  -999.00,9,     4.68,2,     0.00,2,     0.31,2, -999.000,9, -999.000,9,  -999.00,9,   -999.0,9,   -999.0,9,-999.0000,9,   -999.0,  9,  -999.00,9,   -999.0,  -999.00,9,  -999.00,9,     0.00,2,     0.01,2,   -999.0,-999.0000, -999,9,  300,  17.7940,  25.1934,   -999.0,9
       SH98-10,  NONE,SH-5656,  1,      5, S-1-1-6,2,19981009,0825, 30.9940, 135.2455, 4240,    397.7,  16.3722,  34.7379,2,   -999.0,9,-999.0000,9,    193.9,2,  -999.00,9,  -999.00,9,     7.51,2,     0.01,2,     0.51,2, -999.000,9, -999.000,9,  -999.00,9,   -999.0,9,   -999.0,9,-999.0000,9,   -999.0,  9,  -999.00,9,   -999.0,  -999.00,9,  -999.00,9,  -999.00,9,  -999.00,9,   -999.0,-999.0000, -999,9,  395,  16.3080,  25.4752,   -999.0,9
       SH98-10,  NONE,SH-5656,  1,      4, S-1-1-1,2,19981009,0823, 30.9940, 135.2455, 4240,    498.0,  14.4421,  34.5956,2,   -999.0,9,-999.0000,9,    188.4,2,  -999.00,9,  -999.00,9,    11.31,2,     0.00,2,     0.79,2, -999.000,9, -999.000,9,  -999.00,9,   -999.0,9,   -999.0,9,-999.0000,9,   -999.0,  9,  -999.00,9,   -999.0,  -999.00,9,  -999.00,9,  -999.00,9,  -999.00,9,   -999.0,-999.0000, -999,9,  494,  14.3681,  25.7967,   -999.0,9
       SH98-10,  NONE,SH-5656,  1,      3,1-133-84,2,19981009,0821, 30.9940, 135.2455, 4240,    599.0,  12.2405,  34.4375,2,   -999.0,9,-999.0000,9,    174.0,2,  -999.00,9,  -999.00,9,    16.08,2,     0.00,2,     1.15,2, -999.000,9, -999.000,9,  -999.00,9,   -999.0,9,   -999.0,9,-999.0000,9,   -999.0,  9,  -999.00,9,   -999.0,  -999.00,9,  -999.00,9,  -999.00,9,  -999.00,9,   -999.0,-999.0000, -999,9,  594,  12.1605,  26.1216,   -999.0,9
       SH98-10,  NONE,SH-5656,  1,      2, 1-133-1,2,19981009,0819, 30.9940, 135.2455, 4240,    698.4,   9.8888,  34.2829,2,   -999.0,9,-999.0000,9,    159.0,2,  -999.00,9,  -999.00,9,    21.43,2,     0.00,2,     1.54,2, -999.000,9, -999.000,9,  -999.00,9,   -999.0,9,   -999.0,9,-999.0000,9,   -999.0,  9,  -999.00,9,   -999.0,  -999.00,9,  -999.00,9,  -999.00,9,  -999.00,9,   -999.0,-999.0000, -999,9,  692,   9.8070,  26.4245,   -999.0,9
       SH98-10,  NONE,SH-5656,  1,      1, 1-133-2,2,19981009,0817, 30.9940, 135.2455, 4240,    798.8,   7.6712,  34.2172,2,   -999.0,9,-999.0000,9,    133.3,2,  -999.00,9,  -999.00,9,    27.86,2,     0.00,2,     2.01,2, -999.000,9, -999.000,9,  -999.00,9,   -999.0,9,   -999.0,9,-999.0000,9,   -999.0,  9,  -999.00,9,   -999.0,  -999.00,9,  -999.00,9,  -999.00,9,  -999.00,9,   -999.0,-999.0000, -999,9,  792,   7.5901,  26.7190,   -999.0,9
       SH98-10,  NONE,SH-5656,  1,     12, S-1-1-8,2,19981009,0815, 30.9940, 135.2455, 4240,    899.6,   5.9997,  34.2392,2,   -999.0,9,-999.0000,9,     98.6,2,  -999.00,9,  -999.00,9,    33.79,2,     0.00,2,     2.43,2, -999.000,9, -999.000,9,  -999.00,9,   -999.0,9,   -999.0,9,-999.0000,9,   -999.0,  9,  -999.00,9,   -999.0,  -999.00,9,  -999.00,9,  -999.00,9,  -999.00,9,   -999.0,-999.0000, -999,9,  891,   5.9190,  26.9617,   -999.0,9
       SH98-10,  NONE,SH-5656,  1,     11,S-1-1-11,2,19981009,0814, 30.9940, 135.2455, 4240,   1000.0,   4.9710,  34.2945,2,   -999.0,9,-999.0000,9,     79.4,2,  -999.00,9,  -999.00,9,    37.29,2,     0.00,2,     2.70,2, -999.000,9, -999.000,9,  -999.00,9,   -999.0,9,   -999.0,9,-999.0000,9,   -999.0,  9,  -999.00,9,   -999.0,  -999.00,9,  -999.00,9,  -999.00,9,  -999.00,9,   -999.0,-999.0000, -999,9,  991,   4.8883,  27.1286,   -999.0,9
       SH98-10,  NONE,SH-5656,  1,     10,S-1-1-10,2,19981009,0811, 30.9940, 135.2455, 4240,   1204.6,   3.6616,  34.4054,2,   -999.0,9,-999.0000,9,     65.8,2,  -999.00,9,  -999.00,9,    40.30,2,     0.00,2,     2.89,2, -999.000,9, -999.000,9,  -999.00,9,   -999.0,9,   -999.0,9,-999.0000,9,   -999.0,  9,  -999.00,9,   -999.0,  -999.00,9,  -999.00,9,  -999.00,9,  -999.00,9,   -999.0,-999.0000, -999,9, 1193,   3.5719,  27.3563,   -999.0,9