BOTTLE,20130510GEMDJMAYT
EXPOCODE,SECT_ID,STNNBR,CASTNO,SAMPNO,BTLNBR,BTLNBR_FLAG_W,DATE,TIME,LATITUDE,LONGITUDE,DEPTH,CTDPRS,CTDTMP,CTDSAL,CTDSAL_FLAG_W,CTDOXY,CTDOXY_FLAG_W,SALNTY,SALNTY_FLAG_W,OXYGEN,OXYGEN_FLAG_W,SILCAT,SILCAT_FLAG_W,NITRAT,NITRAT_FLAG_W,NO2+NO3,NO2+NO3_FLAG_W,NITRIT,NITRIT_FLAG_W,PHSPHT,PHSPHT_FLAG_W,CFC-11,CFC-11_FLAG_W,CFC-12,CFC-12_FLAG_W,DELC13,DELC13_FLAG_W,TCARBN,TCARBN_FLAG_W,ALKALI,ALKALI_FLAG_W,PH,PH_FLAG_W,PH_TMP,PH_SCALE,PH_NBS,PH_NBS_FLAG_W,C13ERR,TOTALP,TOTALP_FLAG_W,AMMONI,AMMONI_FLAG_W,CHLORA,CHLORA_FLAG_W,PPHYTN,PPHYTN_FLAG_W,REVPRS,REVTMP,DEPTH_,DEPTH_FLAG,CTDDEP,THETA,SIGTHT,DOC,DOC_FLAG_W
,,,,,,,GMT,GMT,,,METER,DBAR,ITS-90,PSS-78,,UMOL/KG,,PSS-78,,UMOL/KG,,UMOL/KG,,UMOL/KG,,UMOL/KG,,UMOL/KG,,UMOL/KG,,PMOL/KG,,PMOL/KG,,/MILLE,,UMOL/KG,,UMOL/KG,,25_DEG_C,,DEG_C,,,,/MILLE,UMOL/KG,,UMOL/KG,,UG/L,,UG/L,,DBAR,ITS-90,METERS,,METERS,DEG_C,,UMOL/L,
       SH99-01,  NONE,SH-5704,  2,     -9,      -9,5,19990122,2315, 30.5095, 135.2397, 4280,      0.0,  21.2012,  34.6296,2,   -999.0,9,  34.7544,2,    223.1,2,  -999.00,9,  -999.00,9,     0.39,2,     0.18,2,     0.14,2, -999.000,9, -999.000,9,  -999.00,9,   1966.8,3,   -999.0,9,-999.0000,9,   -999.0,  9,     8.19,2,   -999.0,  -999.00,9,  -999.00,9,     0.21,2,     0.28,2,   -999.0,-999.0000, -999,9,    0,  21.2012,  24.1572,   -999.0,9
       SH99-01,  NONE,SH-5704,  2,     10,1-133-94,2,19990122,2314, 30.5095, 135.2397, 4280,     12.6,  21.2224,  34.6288,2,   -999.0,9,-999.0000,9,    222.1,2,  -999.00,9,  -999.00,9,     0.39,2,     0.18,2,     0.10,2, -999.000,9, -999.000,9,  -999.00,9,   -999.0,9,   -999.0,9,-999.0000,9,   -999.0,  9,  -999.00,9,   -999.0,  -999.00,9,  -999.00,9,     0.20,2,     0.25,2,   -999.0,-999.0000, -999,9,   13,  21.2200,  24.1514,   -999.0,9
       SH99-01,  NONE,SH-5704,  2,      9, S-1-1-5,2,19990122,2313, 30.5095, 135.2397, 4280,     27.5,  21.2233,  34.6292,2,   -999.0,9,-999.0000,9,    221.5,2,  -999.00,9,  -999.00,9,     0.39,2,     0.19,2,     0.09,2, -999.000,9, -999.000,9,  -999.00,9,   -999.0,9,   -999.0,9,-999.0000,9,   -999.0,  9,  -999.00,9,   -999.0,  -999.00,9,  -999.00,9,     0.22,2,     0.26,2,   -999.0,-999.0000, -999,9,   27,  21.2180,  24.1523,   -999.0,9
       SH99-01,  NONE,SH-5704,  2,      8,1-133-95,2,19990122,2312, 30.5095, 135.2397, 4280,     52.4,  21.2257,  34.6290,2,   -999.0,9,-999.0000,9,    222.1,2,  -999.00,9,  -999.00,9,     0.49,2,     0.19,2,     0.07,2, -999.000,9, -999.000,9,  -999.00,9,   -999.0,9,   -999.0,9,-999.0000,9,   -999.0,  9,  -999.00,9,   -999.0,  -999.00,9,  -999.00,9,     0.21,2,     0.26,2,   -999.0,-999.0000, -999,9,   52,  21.2156,  24.1528,   -999.0,9
       SH99-01,  NONE,SH-5704,  2,      7, S-1-1-4,2,19990122,2311, 30.5095, 135.2397, 4280,     77.0,  21.2277,  34.6291,2,   -999.0,9,-999.0000,9,    221.6,2,  -999.00,9,  -999.00,9,     0.39,2,     0.20,2,     0.08,2, -999.000,9, -999.000,9,  -999.00,9,   -999.0,9,   -999.0,9,-999.0000,9,   -999.0,  9,  -999.00,9,   -999.0,  -999.00,9,  -999.00,9,     0.21,2,     0.23,2,   -999.0,-999.0000, -999,9,   76,  21.2129,  24.1536,   -999.0,9
       SH99-01,  NONE,SH-5704,  2,      6,1-133-93,2,19990122,2310, 30.5095, 135.2397, 4280,    101.6,  21.2269,  34.6291,2,   -999.0,9,-999.0000,9,    216.2,4,  -999.00,9,  -999.00,9,     0.49,2,     0.20,2,     0.06,2, -999.000,9, -999.000,9,  -999.00,9,   -999.0,9,   -999.0,9,-999.0000,9,   -999.0,  9,  -999.00,9,   -999.0,  -999.00,9,  -999.00,9,     0.21,2,     0.25,2,   -999.0,-999.0000, -999,9,  101,  21.2074,  24.1551,   -999.0,9
       SH99-01,  NONE,SH-5704,  2,      5,S-1-1-11,2,19990122,2309, 30.5095, 135.2397, 4280,    126.9,  20.9898,  34.6249,2,   -999.0,9,-999.0000,9,    222.7,2,  -999.00,9,  -999.00,9,     0.59,2,     0.26,2,     0.07,2, -999.000,9, -999.000,9,  -999.00,9,   -999.0,9,   -999.0,9,-999.0000,9,   -999.0,  9,  -999.00,9,   -999.0,  -999.00,9,  -999.00,9,     0.11,2,     0.14,2,   -999.0,-999.0000, -999,9,  126,  20.9656,  24.2177,   -999.0,9
       SH99-01,  NONE,SH-5704,  2,      4,S-1-1-12,2,19990122,2308, 30.5095, 135.2397, 4280,    152.7,  20.4749,  34.6282,2,   -999.0,9,-999.0000,9,    222.7,2,  -999.00,9,  -999.00,9,     0.68,2,     0.29,2,     0.05,2, -999.000,9, -999.000,9,  -999.00,9,   -999.0,9,   -999.0,9,-999.0000,9,   -999.0,  9,  -999.00,9,   -999.0,  -999.00,9,  -999.00,9,     0.05,2,     0.09,2,   -999.0,-999.0000, -999,9,  152,  20.4463,  24.3599,   -999.0,9
       SH99-01,  NONE,SH-5704,  2,      3,1-133-84,2,19990122,2306, 30.5095, 135.2397, 4280,    202.7,  19.6635,  34.6838,2,   -999.0,9,-999.0000,9,    215.9,2,  -999.00,9,  -999.00,9,     1.37,2,     0.07,2,     0.10,2, -999.000,9, -999.000,9,  -999.00,9,   -999.0,9,   -999.0,9,-999.0000,9,   -999.0,  9,  -999.00,9,   -999.0,  -999.00,9,  -999.00,9,     0.02,2,     0.05,2,   -999.0,-999.0000, -999,9,  201,  19.6265,  24.6182,   -999.0,9
       SH99-01,  NONE,SH-5704,  2,      2, S-1-1-7,2,19990122,2305, 30.5095, 135.2397, 4280,    252.7,  19.0048,  34.7111,2,   -999.0,9,-999.0000,9,    215.0,2,  -999.00,9,  -999.00,9,     2.15,2,     0.02,2,     0.15,2, -999.000,9, -999.000,9,  -999.00,9,   -999.0,9,   -999.0,9,-999.0000,9,   -999.0,  9,  -999.00,9,   -999.0,  -999.00,9,  -999.00,9,     0.00,2,     0.01,2,   -999.0,-999.0000, -999,9,  251,  18.9597,  24.8106,   -999.0,9
       SH99-01,  NONE,SH-5704,  2,      1, 1-133-1,2,19990122,2303, 30.5095, 135.2397, 4280,    307.7,  18.3370,  34.7248,2,   -999.0,9,-999.0000,9,    206.8,2,  -999.00,9,  -999.00,9,     3.71,2,     0.01,2,     0.23,2, -999.000,9, -999.000,9,  -999.00,9,   -999.0,9,   -999.0,9,-999.0000,9,   -999.0,  9,  -999.00,9,   -999.0,  -999.00,9,  -999.00,9,     0.00,2,     0.01,2,   -999.0,-999.0000, -999,9,  305,  18.2834,  24.9912,   -999.0,9
       SH99-01,  NONE,SH-5704,  1,     12, 1-133-7,2,19990122,2227, 30.5072, 135.2443, 4290,    402.1,  16.8587,  34.6955,2,   -999.0,9,-999.0000,9,    199.0,2,  -999.00,9,  -999.00,9,     6.14,2,     0.01,2,     0.41,2, -999.000,9, -999.000,9,  -999.00,9,   -999.0,9,   -999.0,9,-999.0000,9,   -999.0,  9,  -999.00,9,   -999.0,  -999.00,9,  -999.00,9,  -999.00,9,  -999.00,9,   -999.0,-999.0000, -999,9,  399,  16.7925,  25.3296,   -999.0,9
       SH99-01,  NONE,SH-5704,  1,     11, S-1-1-9,2,19990122,2225, 30.5072, 135.2443, 4290,    503.7,  15.0343,  34.5703,2,   -999.0,9,-999.0000,9,    191.5,2,  -999.00,9,  -999.00,9,     9.65,2,     0.00,2,     0.64,2, -999.000,9, -999.000,9,  -999.00,9,   -999.0,9,   -999.0,9,-999.0000,9,   -999.0,  9,  -999.00,9,   -999.0,  -999.00,9,  -999.00,9,  -999.00,9,  -999.00,9,   -999.0,-999.0000, -999,9,  500,  14.9574,  25.6500,   -999.0,9
       SH99-01,  NONE,SH-5704,  1,     10,1-133-94,2,19990122,2222, 30.5072, 135.2443, 4290,    605.2,  12.7677,  34.4203,2,   -999.0,9,-999.0000,9,    180.0,2,  -999.00,9,  -999.00,9,    14.23,2,     0.00,2,     0.98,2, -999.000,9, -999.000,9,  -999.00,9,   -999.0,9,   -999.0,9,-999.0000,9,   -999.0,  9,  -999.00,9,   -999.0,  -999.00,9,  -999.00,9,  -999.00,9,  -999.00,9,   -999.0,-999.0000, -999,9,  600,  12.6847,  26.0063,   -999.0,9
       SH99-01,  NONE,SH-5704,  1,      9, S-1-1-5,2,19990122,2220, 30.5072, 135.2443, 4290,    706.0,  10.3246,  34.2857,2,   -999.0,9,-999.0000,9,    162.5,2,  -999.00,9,  -999.00,9,    19.68,2,     0.00,2,     1.38,2, -999.000,9, -999.000,9,  -999.00,9,   -999.0,9,   -999.0,9,-999.0000,9,   -999.0,  9,  -999.00,9,   -999.0,  -999.00,9,  -999.00,9,  -999.00,9,  -999.00,9,   -999.0,-999.0000, -999,9,  700,  10.2396,  26.3532,   -999.0,9
       SH99-01,  NONE,SH-5704,  1,      8,1-133-95,2,19990122,2219, 30.5072, 135.2443, 4290,    806.6,   8.0171,  34.1825,2,   -999.0,9,-999.0000,9,    140.5,2,  -999.00,9,  -999.00,9,    25.52,2,     0.00,2,     1.85,2, -999.000,9, -999.000,9,  -999.00,9,   -999.0,9,   -999.0,9,-999.0000,9,   -999.0,  9,  -999.00,9,   -999.0,  -999.00,9,  -999.00,9,  -999.00,9,  -999.00,9,   -999.0,-999.0000, -999,9,  800,   7.9332,  26.6417,   -999.0,9
       SH99-01,  NONE,SH-5704,  1,      7, S-1-1-4,2,19990122,2217, 30.5072, 135.2443, 4290,    906.8,   6.5589,  34.1846,2,   -999.0,9,-999.0000,9,    114.3,2,  -999.00,9,  -999.00,9,    30.38,2,     0.01,2,     2.20,2, -999.000,9, -999.000,9,  -999.00,9,   -999.0,9,   -999.0,9,-999.0000,9,   -999.0,  9,  -999.00,9,   -999.0,  -999.00,9,  -999.00,9,  -999.00,9,  -999.00,9,   -999.0,-999.0000, -999,9,  899,   6.4738,  26.8472,   -999.0,9
       SH99-01,  NONE,SH-5704,  1,      6,1-133-93,2,19990122,2216, 30.5072, 135.2443, 4290,   1008.9,   5.2159,  34.2484,2,   -999.0,9,-999.0000,9,     86.6,2,  -999.00,9,  -999.00,9,    34.86,2,     0.01,2,     2.52,2, -999.000,9, -999.000,9,  -999.00,9,   -999.0,9,   -999.0,9,-999.0000,9,   -999.0,  9,  -999.00,9,   -999.0,  -999.00,9,  -999.00,9,  -999.00,9,  -999.00,9,   -999.0,-999.0000, -999,9, 1000,   5.1305,  27.0643,   -999.0,9
       SH99-01,  NONE,SH-5704,  1,      5,S-1-1-11,2,19990122,2214, 30.5072, 135.2443, 4290,   1222.5,   3.8156,  34.3838,2,   -999.0,9,-999.0000,9,     68.6,2,  -999.00,9,  -999.00,9,    38.35,2,     0.01,2,     2.76,2, -999.000,9, -999.000,9,  -999.00,9,   -999.0,9,   -999.0,9,-999.0000,9,   -999.0,  9,  -999.00,9,   -999.0,  -999.00,9,  -999.00,9,  -999.00,9,  -999.00,9,   -999.0,-999.0000, -999,9, 1211,   3.7230,  27.3241,   -999.0,9
       SH99-01,  NONE,SH-5705,  2,     -9,      -9,5,19990123,0355, 30.0075, 135.2408, 4330,      0.0,  21.1179,  34.6187,2,   -999.0,9,  34.7449,2,    223.9,2,  -999.00,9,  -999.00,9,     0.29,2,     0.13,2,     0.14,2, -999.000,9, -999.000,9,  -999.00,9,   1965.2,3,   -999.0,9,-999.0000,9,   -999.0,  9,     8.20,2,   -999.0,  -999.00,9,  -999.00,9,     0.21,2,     0.31,2,   -999.0,-999.0000, -999,9,    0,  21.1179,  24.1716,   -999.0,9
       SH99-01,  NONE,SH-5705,  2,      3,1-133-84,2,19990123,0354, 30.0075, 135.2408, 4330,     11.1,  21.1271,  34.6184,2,   -999.0,9,  34.7428,4,    223.4,2,  -999.00,9,  -999.00,9,     0.29,2,     0.14,2,     0.10,2, -999.000,9, -999.000,9,  -999.00,9,   -999.0,9,   -999.0,9,-999.0000,9,   -999.0,  9,  -999.00,9,   -999.0,  -999.00,9,  -999.00,9,     0.25,2,     0.26,2,   -999.0,-999.0000, -999,9,   11,  21.1250,  24.1694,   -999.0,9
       SH99-01,  NONE,SH-5705,  2,      2, S-1-1-7,2,19990123,0353, 30.0075, 135.2408, 4330,     26.2,  21.1270,  34.6188,2,   -999.0,9,  34.7439,4,    223.7,2,  -999.00,9,  -999.00,9,     0.29,2,     0.14,2,     0.08,2, -999.000,9, -999.000,9,  -999.00,9,   -999.0,9,   -999.0,9,-999.0000,9,   -999.0,  9,  -999.00,9,   -999.0,  -999.00,9,  -999.00,9,     0.24,2,     0.28,2,   -999.0,-999.0000, -999,9,   26,  21.1220,  24.1706,   -999.0,9
       SH99-01,  NONE,SH-5705,  2,      1, 1-133-1,2,19990123,0352, 30.0075, 135.2408, 4330,     51.0,  21.1290,  34.6189,2,   -999.0,9,  34.7485,4,    223.5,2,  -999.00,9,  -999.00,9,     0.29,2,     0.13,2,     0.07,2, -999.000,9, -999.000,9,  -999.00,9,   -999.0,9,   -999.0,9,-999.0000,9,   -999.0,  9,  -999.00,9,   -999.0,  -999.00,9,  -999.00,9,     0.22,2,     0.25,2,   -999.0,-999.0000, -999,9,   51,  21.1192,  24.1714,   -999.0,9
       SH99-01,  NONE,SH-5705,  2,     12, 1-133-7,2,19990123,0351, 30.0075, 135.2408, 4330,     76.0,  21.1136,  34.6198,2,   -999.0,9,  34.7439,4,    223.3,2,  -999.00,9,  -999.00,9,     0.39,2,     0.15,2,     0.07,2, -999.000,9, -999.000,9,  -999.00,9,   -999.0,9,   -999.0,9,-999.0000,9,   -999.0,  9,  -999.00,9,   -999.0,  -999.00,9,  -999.00,9,     0.23,2,     0.28,2,   -999.0,-999.0000, -999,9,   76,  21.0990,  24.1776,   -999.0,9
       SH99-01,  NONE,SH-5705,  2,     11, S-1-1-9,2,19990123,0350, 30.0075, 135.2408, 4330,    100.8,  20.6096,  34.6457,2,   -999.0,9,  34.7674,4,    219.1,2,  -999.00,9,  -999.00,9,     0.88,2,     0.23,2,     0.08,2, -999.000,9, -999.000,9,  -999.00,9,   -999.0,9,   -999.0,9,-999.0000,9,   -999.0,  9,  -999.00,9,   -999.0,  -999.00,9,  -999.00,9,     0.04,2,     0.09,2,   -999.0,-999.0000, -999,9,  100,  20.5906,  24.3346,   -999.0,9
       SH99-01,  NONE,SH-5705,  2,     10,1-133-94,2,19990123,0349, 30.0075, 135.2408, 4330,    125.7,  20.3431,  34.6447,2,   -999.0,9,  34.7619,4,    220.0,2,  -999.00,9,  -999.00,9,     0.78,2,     0.21,2,     0.06,2, -999.000,9, -999.000,9,  -999.00,9,   -999.0,9,   -999.0,9,-999.0000,9,   -999.0,  9,  -999.00,9,   -999.0,  -999.00,9,  -999.00,9,     0.04,2,     0.07,2,   -999.0,-999.0000, -999,9,  125,  20.3197,  24.4062,   -999.0,9
       SH99-01,  NONE,SH-5705,  2,      9, S-1-1-5,2,19990123,0348, 30.0075, 135.2408, 4330,    150.6,  19.9713,  34.7415,2,   -999.0,9,  34.8566,4,    201.8,2,  -999.00,9,  -999.00,9,     2.24,2,     0.02,2,     0.17,2, -999.000,9, -999.000,9,  -999.00,9,   -999.0,9,   -999.0,9,-999.0000,9,   -999.0,  9,  -999.00,9,   -999.0,  -999.00,9,  -999.00,9,     0.01,2,     0.02,2,   -999.0,-999.0000, -999,9,  150,  19.9436,  24.5794,   -999.0,9
       SH99-01,  NONE,SH-5705,  2,      8,1-133-95,2,19990123,0346, 30.0075, 135.2408, 4330,    201.3,  19.0521,  34.7001,2,   -999.0,9,  34.8026,2,    216.7,2,  -999.00,9,  -999.00,9,     1.66,2,     0.02,2,     0.10,2, -999.000,9, -999.000,9,  -999.00,9,   -999.0,9,   -999.0,9,-999.0000,9,   -999.0,  9,  -999.00,9,   -999.0,  -999.00,9,  -999.00,9,     0.01,2,     0.03,2,   -999.0,-999.0000, -999,9,  200,  19.0162,  24.7878,   -999.0,9
       SH99-01,  NONE,SH-5705,  2,      7, S-1-1-4,2,19990123,0344, 30.0075, 135.2408, 4330,    252.5,  18.6080,  34.7244,2,   -999.0,9,  34.8235,2,    209.3,2,  -999.00,9,  -999.00,9,     2.93,2,     0.01,2,     0.19,2, -999.000,9, -999.000,9,  -999.00,9,   -999.0,9,   -999.0,9,-999.0000,9,   -999.0,  9,  -999.00,9,   -999.0,  -999.00,9,  -999.00,9,     0.00,2,     0.01,2,   -999.0,-999.0000, -999,9,  251,  18.5636,  24.9209,   -999.0,9
       SH99-01,  NONE,SH-5705,  2,      6,1-133-93,2,19990123,0343, 30.0075, 135.2408, 4330,    303.3,  18.1329,  34.7477,2,   -999.0,9,  34.8444,2,    206.8,2,  -999.00,9,  -999.00,9,     3.61,2,     0.01,2,     0.21,2, -999.000,9, -999.000,9,  -999.00,9,   -999.0,9,   -999.0,9,-999.0000,9,   -999.0,  9,  -999.00,9,   -999.0,  -999.00,9,  -999.00,9,     0.00,2,     0.01,2,   -999.0,-999.0000, -999,9,  301,  18.0805,  25.0590,   -999.0,9
       SH99-01,  NONE,SH-5705,  1,      5,S-1-1-11,2,19990123,0316, 30.0035, 135.2473, 4060,    401.7,  16.7661,  34.6915,2,   -999.0,9,  34.7727,2,    197.6,2,  -999.00,9,  -999.00,9,     6.44,2,     0.00,2,     0.41,2, -999.000,9, -999.000,9,  -999.00,9,   -999.0,9,   -999.0,9,-999.0000,9,   -999.0,  9,  -999.00,9,   -999.0,  -999.00,9,  -999.00,9,  -999.00,9,  -999.00,9,   -999.0,-999.0000, -999,9,  399,  16.7002,  25.3482,   -999.0,9
       SH99-01,  NONE,SH-5705,  1,      4,S-1-1-12,2,19990123,0314, 30.0035, 135.2473, 4060,    502.0,  14.4108,  34.5317,2,   -999.0,9,  34.5920,2,    188.7,2,  -999.00,9,  -999.00,9,    10.82,2,     0.00,2,     0.71,2, -999.000,9, -999.000,9,  -999.00,9,   -999.0,9,   -999.0,9,-999.0000,9,   -999.0,  9,  -999.00,9,   -999.0,  -999.00,9,  -999.00,9,  -999.00,9,  -999.00,9,   -999.0,-999.0000, -999,9,  498,  14.3364,  25.7541,   -999.0,9
       SH99-01,  NONE,SH-5705,  1,      3,1-133-84,2,19990123,0312, 30.0035, 135.2473, 4060,    603.0,  11.9923,  34.3715,2,   -999.0,9,  34.4145,2,    174.3,2,  -999.00,9,  -999.00,9,    16.08,2,     0.00,2,     1.12,2, -999.000,9, -999.000,9,  -999.00,9,   -999.0,9,   -999.0,9,-999.0000,9,   -999.0,  9,  -999.00,9,   -999.0,  -999.00,9,  -999.00,9,  -999.00,9,  -999.00,9,   -999.0,-999.0000, -999,9,  598,  11.9128,  26.1175,   -999.0,9
       SH99-01,  NONE,SH-5705,  1,      2, S-1-1-7,2,19990123,0310, 30.0035, 135.2473, 4060,    703.9,   9.2109,  34.2316,2,   -999.0,9,  34.2589,2,    153.1,2,  -999.00,9,  -999.00,9,    22.80,2,     0.01,2,     1.62,2, -999.000,9, -999.000,9,  -999.00,9,   -999.0,9,   -999.0,9,-999.0000,9,   -999.0,  9,  -999.00,9,   -999.0,  -999.00,9,  -999.00,9,  -999.00,9,  -999.00,9,   -999.0,-999.0000, -999,9,  698,   9.1319,  26.4953,   -999.0,9
       SH99-01,  NONE,SH-5705,  1,      1, 1-133-1,2,19990123,0308, 30.0035, 135.2473, 4060,    805.6,   7.1507,  34.1642,2,   -999.0,9,  34.1815,2,    128.0,2,  -999.00,9,  -999.00,9,    28.34,2,     0.01,2,     2.02,2, -999.000,9, -999.000,9,  -999.00,9,   -999.0,9,   -999.0,9,-999.0000,9,   -999.0,  9,  -999.00,9,   -999.0,  -999.00,9,  -999.00,9,  -999.00,9,  -999.00,9,   -999.0,-999.0000, -999,9,  799,   7.0721,  26.7505,   -999.0,9
       SH99-01,  NONE,SH-5705,  1,     12, 1-133-7,2,19990123,0306, 30.0035, 135.2473, 4060,    907.1,   5.6621,  34.2192,2,   -999.0,9,  34.2308,4,     94.1,2,  -999.00,9,  -999.00,9,    33.69,2,     0.00,2,     2.40,2, -999.000,9, -999.000,9,  -999.00,9,   -999.0,9,   -999.0,9,-999.0000,9,   -999.0,  9,  -999.00,9,   -999.0,  -999.00,9,  -999.00,9,  -999.00,9,  -999.00,9,   -999.0,-999.0000, -999,9,  899,   5.5830,  26.9873,   -999.0,9
       SH99-01,  NONE,SH-5705,  1,     11, S-1-1-9,4,19990123,0304, 30.0035, 135.2473, 4060,   1007.3,   4.6921,  34.2932,2,   -999.0,9,  34.3001,4,     75.7,2,  -999.00,9,  -999.00,9,    36.80,2,     0.01,2,     2.62,2, -999.000,9, -999.000,9,  -999.00,9,   -999.0,9,   -999.0,9,-999.0000,9,   -999.0,  9,  -999.00,9,   -999.0,  -999.00,9,  -999.00,9,  -999.00,9,  -999.00,9,   -999.0,-999.0000, -999,9,  998,   4.6108,  27.1587,   -999.0,9
       SH99-01,  NONE,SH-5705,  1,     -9,      -9,4,19990123,0301, 30.0035, 135.2473, 4060,   1221.6,   3.5309,  34.3984,2,   -999.0,9,-999.0000,9,   -999.0,9,  -999.00,9,  -999.00,9,  -999.00,9,  -999.00,9,  -999.00,9, -999.000,9, -999.000,9,  -999.00,9,   -999.0,9,   -999.0,9,-999.0000,9,   -999.0,  9,  -999.00,9,   -999.0,  -999.00,9,  -999.00,9,  -999.00,9,  -999.00,9,   -999.0,-999.0000, -999,9, 1210,   3.4411,  27.3635,   -999.0,9