BOTTLE,20130510GEMDJMAYT
EXPOCODE,SECT_ID,STNNBR,CASTNO,SAMPNO,BTLNBR,BTLNBR_FLAG_W,DATE,TIME,LATITUDE,LONGITUDE,DEPTH,CTDPRS,CTDTMP,CTDSAL,CTDSAL_FLAG_W,CTDOXY,CTDOXY_FLAG_W,SALNTY,SALNTY_FLAG_W,OXYGEN,OXYGEN_FLAG_W,SILCAT,SILCAT_FLAG_W,NITRAT,NITRAT_FLAG_W,NO2+NO3,NO2+NO3_FLAG_W,NITRIT,NITRIT_FLAG_W,PHSPHT,PHSPHT_FLAG_W,CFC-11,CFC-11_FLAG_W,CFC-12,CFC-12_FLAG_W,DELC13,DELC13_FLAG_W,TCARBN,TCARBN_FLAG_W,ALKALI,ALKALI_FLAG_W,PH,PH_FLAG_W,PH_TMP,PH_SCALE,PH_NBS,PH_NBS_FLAG_W,C13ERR,TOTALP,TOTALP_FLAG_W,AMMONI,AMMONI_FLAG_W,CHLORA,CHLORA_FLAG_W,PPHYTN,PPHYTN_FLAG_W,REVPRS,REVTMP,DEPTH_,DEPTH_FLAG,CTDDEP,THETA,SIGTHT,DOC,DOC_FLAG_W
,,,,,,,GMT,GMT,,,METER,DBAR,ITS-90,PSS-78,,UMOL/KG,,PSS-78,,UMOL/KG,,UMOL/KG,,UMOL/KG,,UMOL/KG,,UMOL/KG,,UMOL/KG,,PMOL/KG,,PMOL/KG,,/MILLE,,UMOL/KG,,UMOL/KG,,25_DEG_C,,DEG_C,,,,/MILLE,UMOL/KG,,UMOL/KG,,UG/L,,UG/L,,DBAR,ITS-90,METERS,,METERS,DEG_C,,UMOL/L,
       SH99-01,  NONE,SH-5706,  1,     11, S-1-1-9,2,19990123,0840, 29.5037, 135.2512, 4450,    401.9,  15.6850,  34.6130,2,   -999.0,9,-999.0000,9,    193.7,2,  -999.00,9,  -999.00,9,     8.48,2,     0.00,2,     0.56,2, -999.000,9, -999.000,9,  -999.00,9,   -999.0,9,   -999.0,9,-999.0000,9,   -999.0,  9,     8.03,2,   -999.0,     0.70,2,  -999.00,9,  -999.00,9,  -999.00,9,   -999.0,-999.0000, -999,9,  399,  15.6221,  25.5355,   -999.0,9
       SH99-01,  NONE,SH-5706,  1,     10,1-133-94,2,19990123,0838, 29.5037, 135.2512, 4450,    503.2,  13.4936,  34.4693,2,   -999.0,9,-999.0000,9,    173.5,3,  -999.00,9,  -999.00,9,    13.65,2,     0.00,2,     0.94,2, -999.000,9, -999.000,9,  -999.00,9,   -999.0,9,   -999.0,9,-999.0000,9,   -999.0,  9,     7.95,2,   -999.0,     1.07,2,  -999.00,9,  -999.00,9,  -999.00,9,   -999.0,-999.0000, -999,9,  499,  13.4222,  25.8964,   -999.0,9
       SH99-01,  NONE,SH-5706,  1,      9, S-1-1-5,2,19990123,0837, 29.5037, 135.2512, 4450,    603.7,  10.9962,  34.3137,2,   -999.0,9,-999.0000,9,    163.8,2,  -999.00,9,  -999.00,9,    18.22,2,     0.00,2,     1.27,2, -999.000,9, -999.000,9,  -999.00,9,   -999.0,9,   -999.0,9,-999.0000,9,   -999.0,  9,     7.87,2,   -999.0,     1.40,2,  -999.00,9,  -999.00,9,  -999.00,9,   -999.0,-999.0000, -999,9,  599,  10.9210,  26.2552,   -999.0,9
       SH99-01,  NONE,SH-5706,  1,      8,1-133-95,2,19990123,0835, 29.5037, 135.2512, 4450,    705.4,   8.5531,  34.2014,2,   -999.0,9,-999.0000,9,    146.8,2,  -999.00,9,  -999.00,9,    24.35,2,     0.00,2,     1.72,2, -999.000,9, -999.000,9,  -999.00,9,   -999.0,9,   -999.0,9,-999.0000,9,   -999.0,  9,     7.77,2,   -999.0,     1.87,2,  -999.00,9,  -999.00,9,  -999.00,9,   -999.0,-999.0000, -999,9,  699,   8.4774,  26.5745,   -999.0,9
       SH99-01,  NONE,SH-5706,  1,      7, S-1-1-4,2,19990123,0834, 29.5037, 135.2512, 4450,    805.3,   6.7998,  34.1808,2,   -999.0,9,-999.0000,9,    118.5,2,  -999.00,9,  -999.00,9,    29.90,2,     0.00,2,     2.13,2, -999.000,9, -999.000,9,  -999.00,9,   -999.0,9,   -999.0,9,-999.0000,9,   -999.0,  9,     7.69,2,   -999.0,     2.28,2,  -999.00,9,  -999.00,9,  -999.00,9,   -999.0,-999.0000, -999,9,  798,   6.7233,  26.8111,   -999.0,9
       SH99-01,  NONE,SH-5706,  1,      6,1-133-93,2,19990123,0833, 29.5037, 135.2512, 4450,    907.0,   5.1995,  34.2214,2,   -999.0,9,-999.0000,9,     86.4,2,  -999.00,9,  -999.00,9,    34.76,2,     0.00,2,     2.49,2, -999.000,9, -999.000,9,  -999.00,9,   -999.0,9,   -999.0,9,-999.0000,9,   -999.0,  9,     7.60,2,   -999.0,     2.67,2,  -999.00,9,  -999.00,9,  -999.00,9,   -999.0,-999.0000, -999,9,  899,   5.1236,  27.0437,   -999.0,9
       SH99-01,  NONE,SH-5706,  1,      5,S-1-1-11,2,19990123,0831, 29.5037, 135.2512, 4450,   1008.6,   4.3720,  34.3105,2,   -999.0,9,-999.0000,9,     70.8,2,  -999.00,9,  -999.00,9,    37.29,2,     0.00,2,     2.68,2, -999.000,9, -999.000,9,  -999.00,9,   -999.0,9,   -999.0,9,-999.0000,9,   -999.0,  9,     7.57,2,   -999.0,     2.87,2,  -999.00,9,  -999.00,9,  -999.00,9,   -999.0,-999.0000, -999,9,  999,   4.2930,  27.2069,   -999.0,9
       SH99-01,  NONE,SH-5706,  1,      4,S-1-1-12,2,19990123,0828, 29.5037, 135.2512, 4450,   1233.4,   3.3932,  34.4179,2,   -999.0,9,-999.0000,9,     75.2,3,  -999.00,9,  -999.00,9,    38.93,2,     0.00,2,     2.81,2, -999.000,9, -999.000,9,  -999.00,9,   -999.0,9,   -999.0,9,-999.0000,9,   -999.0,  9,     7.56,2,   -999.0,     3.10,2,  -999.00,9,  -999.00,9,  -999.00,9,   -999.0,-999.0000, -999,9, 1221,   3.3036,  27.3922,   -999.0,9
       SH99-01,  NONE,SH-5708,  1,      3,1-133-84,2,19990123,2009, 29.2545, 134.8865, 4630,     54.6,  21.6756,  34.6436,2,   -999.0,9,  34.7723,4,   -999.0,9,  -999.00,9,  -999.00,9,  -999.00,9,  -999.00,9,  -999.00,9, -999.000,9, -999.000,9,  -999.00,9,   -999.0,9,   -999.0,9,-999.0000,9,   -999.0,  9,  -999.00,9,   -999.0,  -999.00,9,  -999.00,9,  -999.00,9,  -999.00,9,   -999.0,-999.0000, -999,9,   54,  21.6650,  24.0403,   -999.0,9
       SH99-01,  NONE,SH-5708,  1,      2, S-1-1-7,2,19990123,2007, 29.2545, 134.8865, 4630,    103.2,  21.6759,  34.6452,2,   -999.0,9,  34.7737,4,   -999.0,9,  -999.00,9,  -999.00,9,  -999.00,9,  -999.00,9,  -999.00,9, -999.000,9, -999.000,9,  -999.00,9,   -999.0,9,   -999.0,9,-999.0000,9,   -999.0,  9,  -999.00,9,   -999.0,  -999.00,9,  -999.00,9,  -999.00,9,  -999.00,9,   -999.0,-999.0000, -999,9,  102,  21.6558,  24.0440,   -999.0,9
       SH99-01,  NONE,SH-5708,  1,      1, 1-133-1,2,19990123,2006, 29.2545, 134.8865, 4630,    155.5,  20.0785,  34.7534,2,   -999.0,9,  34.8670,4,   -999.0,9,  -999.00,9,  -999.00,9,  -999.00,9,  -999.00,9,  -999.00,9, -999.000,9, -999.000,9,  -999.00,9,   -999.0,9,   -999.0,9,-999.0000,9,   -999.0,  9,  -999.00,9,   -999.0,  -999.00,9,  -999.00,9,  -999.00,9,  -999.00,9,   -999.0,-999.0000, -999,9,  154,  20.0497,  24.5605,   -999.0,9
       SH99-01,  NONE,SH-5708,  1,     12, 1-133-7,2,19990123,2005, 29.2545, 134.8865, 4630,    205.9,  18.8869,  34.7560,2,   -999.0,9,  34.8613,2,   -999.0,9,  -999.00,9,  -999.00,9,  -999.00,9,  -999.00,9,  -999.00,9, -999.000,9, -999.000,9,  -999.00,9,   -999.0,9,   -999.0,9,-999.0000,9,   -999.0,  9,  -999.00,9,   -999.0,  -999.00,9,  -999.00,9,  -999.00,9,  -999.00,9,   -999.0,-999.0000, -999,9,  204,  18.8503,  24.8727,   -999.0,9
       SH99-01,  NONE,SH-5708,  1,     11, S-1-1-9,2,19990123,2003, 29.2545, 134.8865, 4630,    304.7,  17.3020,  34.7223,2,   -999.0,9,  34.8085,2,   -999.0,9,  -999.00,9,  -999.00,9,  -999.00,9,  -999.00,9,  -999.00,9, -999.000,9, -999.000,9,  -999.00,9,   -999.0,9,   -999.0,9,-999.0000,9,   -999.0,  9,  -999.00,9,   -999.0,  -999.00,9,  -999.00,9,  -999.00,9,  -999.00,9,   -999.0,-999.0000, -999,9,  302,  17.2511,  25.2412,   -999.0,9
       SH99-01,  NONE,SH-5708,  1,     10,1-133-94,2,19990123,2001, 29.2545, 134.8865, 4630,    405.8,  15.3288,  34.5848,2,   -999.0,9,  34.6560,2,   -999.0,9,  -999.00,9,  -999.00,9,  -999.00,9,  -999.00,9,  -999.00,9, -999.000,9, -999.000,9,  -999.00,9,   -999.0,9,   -999.0,9,-999.0000,9,   -999.0,  9,  -999.00,9,   -999.0,  -999.00,9,  -999.00,9,  -999.00,9,  -999.00,9,   -999.0,-999.0000, -999,9,  403,  15.2663,  25.5932,   -999.0,9
       SH99-01,  NONE,SH-5708,  1,      9, S-1-1-5,2,19990123,1959, 29.2545, 134.8865, 4630,    504.6,  13.1806,  34.4256,2,   -999.0,9,  34.4860,2,   -999.0,9,  -999.00,9,  -999.00,9,  -999.00,9,  -999.00,9,  -999.00,9, -999.000,9, -999.000,9,  -999.00,9,   -999.0,9,   -999.0,9,-999.0000,9,   -999.0,  9,  -999.00,9,   -999.0,  -999.00,9,  -999.00,9,  -999.00,9,  -999.00,9,   -999.0,-999.0000, -999,9,  501,  13.1101,  25.9258,   -999.0,9
       SH99-01,  NONE,SH-5708,  1,      8,1-133-95,2,19990123,1958, 29.2545, 134.8865, 4630,    603.8,  10.5294,  34.2716,2,   -999.0,9,  34.3058,2,   -999.0,9,  -999.00,9,  -999.00,9,  -999.00,9,  -999.00,9,  -999.00,9, -999.000,9, -999.000,9,  -999.00,9,   -999.0,9,   -999.0,9,-999.0000,9,   -999.0,  9,  -999.00,9,   -999.0,  -999.00,9,  -999.00,9,  -999.00,9,  -999.00,9,   -999.0,-999.0000, -999,9,  599,  10.4562,  26.3046,   -999.0,9
       SH99-01,  NONE,SH-5708,  1,      7, S-1-1-4,2,19990123,1956, 29.2545, 134.8865, 4630,    705.0,   8.3413,  34.1872,2,   -999.0,9,  34.2090,2,   -999.0,9,  -999.00,9,  -999.00,9,  -999.00,9,  -999.00,9,  -999.00,9, -999.000,9, -999.000,9,  -999.00,9,   -999.0,9,   -999.0,9,-999.0000,9,   -999.0,  9,  -999.00,9,   -999.0,  -999.00,9,  -999.00,9,  -999.00,9,  -999.00,9,   -999.0,-999.0000, -999,9,  699,   8.2667,  26.5955,   -999.0,9
       SH99-01,  NONE,SH-5708,  1,      6,1-133-93,2,19990123,1955, 29.2545, 134.8865, 4630,    804.4,   6.7165,  34.1903,2,   -999.0,9,  34.2031,2,   -999.0,9,  -999.00,9,  -999.00,9,  -999.00,9,  -999.00,9,  -999.00,9, -999.000,9, -999.000,9,  -999.00,9,   -999.0,9,   -999.0,9,-999.0000,9,   -999.0,  9,  -999.00,9,   -999.0,  -999.00,9,  -999.00,9,  -999.00,9,  -999.00,9,   -999.0,-999.0000, -999,9,  797,   6.6406,  26.8296,   -999.0,9
       SH99-01,  NONE,SH-5708,  1,      5,S-1-1-11,2,19990123,1953, 29.2545, 134.8865, 4630,   1007.3,   4.5006,  34.3099,2,   -999.0,9,  34.3152,4,   -999.0,9,  -999.00,9,  -999.00,9,  -999.00,9,  -999.00,9,  -999.00,9, -999.000,9, -999.000,9,  -999.00,9,   -999.0,9,   -999.0,9,-999.0000,9,   -999.0,  9,  -999.00,9,   -999.0,  -999.00,9,  -999.00,9,  -999.00,9,  -999.00,9,   -999.0,-999.0000, -999,9,  998,   4.4208,  27.1927,   -999.0,9
       SH99-01,  NONE,SH-5708,  1,      4,S-1-1-12,2,19990123,1950, 29.2545, 134.8865, 4630,   1215.7,   3.3747,  34.4193,2,   -999.0,9,  34.4278,4,   -999.0,9,  -999.00,9,  -999.00,9,  -999.00,9,  -999.00,9,  -999.00,9, -999.000,9, -999.000,9,  -999.00,9,   -999.0,9,   -999.0,9,-999.0000,9,   -999.0,  9,  -999.00,9,   -999.0,  -999.00,9,  -999.00,9,  -999.00,9,  -999.00,9,   -999.0,-999.0000, -999,9, 1204,   3.2868,  27.3949,   -999.0,9
       SH99-01,  NONE,SH-5711,  1,      4,S-1-1-12,2,19990204,0330, 30.4903, 132.3535, 3430,     52.6,  21.4620,  34.7622,2,   -999.0,9,  34.7626,2,   -999.0,9,  -999.00,9,  -999.00,9,  -999.00,9,  -999.00,9,  -999.00,9, -999.000,9, -999.000,9,  -999.00,9,   -999.0,9,   -999.0,9,-999.0000,9,   -999.0,  9,  -999.00,9,   -999.0,  -999.00,9,  -999.00,9,  -999.00,9,  -999.00,9,   -999.0,-999.0000, -999,9,   52,  21.4518,  24.1893,   -999.0,9
       SH99-01,  NONE,SH-5711,  1,      3,1-133-84,2,19990204,0329, 30.4903, 132.3535, 3430,    102.1,  19.9264,  34.6989,2,   -999.0,9,  34.6985,2,   -999.0,9,  -999.00,9,  -999.00,9,  -999.00,9,  -999.00,9,  -999.00,9, -999.000,9, -999.000,9,  -999.00,9,   -999.0,9,   -999.0,9,-999.0000,9,   -999.0,  9,  -999.00,9,   -999.0,  -999.00,9,  -999.00,9,  -999.00,9,  -999.00,9,   -999.0,-999.0000, -999,9,  101,  19.9077,  24.5563,   -999.0,9
       SH99-01,  NONE,SH-5711,  1,      2, S-1-1-7,2,19990204,0328, 30.4903, 132.3535, 3430,    151.7,  19.4001,  34.6672,2,   -999.0,9,  34.6664,2,   -999.0,9,  -999.00,9,  -999.00,9,  -999.00,9,  -999.00,9,  -999.00,9, -999.000,9, -999.000,9,  -999.00,9,   -999.0,9,   -999.0,9,-999.0000,9,   -999.0,  9,  -999.00,9,   -999.0,  -999.00,9,  -999.00,9,  -999.00,9,  -999.00,9,   -999.0,-999.0000, -999,9,  151,  19.3727,  24.6713,   -999.0,9
       SH99-01,  NONE,SH-5711,  1,      1, 1-133-1,4,19990204,0327, 30.4903, 132.3535, 3430,    203.1,  17.8913,  34.6144,2,   -999.0,9,  34.6119,2,   -999.0,9,  -999.00,9,  -999.00,9,  -999.00,9,  -999.00,9,  -999.00,9, -999.000,9, -999.000,9,  -999.00,9,   -999.0,9,   -999.0,9,-999.0000,9,   -999.0,  9,  -999.00,9,   -999.0,  -999.00,9,  -999.00,9,  -999.00,9,  -999.00,9,   -999.0,-999.0000, -999,9,  202,  17.8566,  25.0119,   -999.0,9
       SH99-01,  NONE,SH-5711,  1,     -9,      -9,4,19990204,0323, 30.4903, 132.3535, 3430,    403.7,  12.4000,  34.4875,2,   -999.0,9,-999.0000,9,   -999.0,9,  -999.00,9,  -999.00,9,  -999.00,9,  -999.00,9,  -999.00,9, -999.000,9, -999.000,9,  -999.00,9,   -999.0,9,   -999.0,9,-999.0000,9,   -999.0,  9,  -999.00,9,   -999.0,  -999.00,9,  -999.00,9,  -999.00,9,  -999.00,9,   -999.0,-999.0000, -999,9,  401,  12.3460,  26.1245,   -999.0,9
       SH99-01,  NONE,SH-5711,  1,     12, 1-133-7,2,19990204,0319, 30.4903, 132.3535, 3430,    605.4,   7.7485,  34.3228,2,   -999.0,9,  34.3184,4,   -999.0,9,  -999.00,9,  -999.00,9,  -999.00,9,  -999.00,9,  -999.00,9, -999.000,9, -999.000,9,  -999.00,9,   -999.0,9,   -999.0,9,-999.0000,9,   -999.0,  9,  -999.00,9,   -999.0,  -999.00,9,  -999.00,9,  -999.00,9,  -999.00,9,   -999.0,-999.0000, -999,9,  600,   7.6874,  26.7879,   -999.0,9
       SH99-01,  NONE,SH-5711,  1,     11, S-1-1-9,2,19990204,0315, 30.4903, 132.3535, 3430,    805.7,   4.3941,  34.3518,2,   -999.0,9,  34.3510,4,   -999.0,9,  -999.00,9,  -999.00,9,  -999.00,9,  -999.00,9,  -999.00,9, -999.000,9, -999.000,9,  -999.00,9,   -999.0,9,   -999.0,9,-999.0000,9,   -999.0,  9,  -999.00,9,   -999.0,  -999.00,9,  -999.00,9,  -999.00,9,  -999.00,9,   -999.0,-999.0000, -999,9,  799,   4.3320,  27.2356,   -999.0,9
       SH99-01,  NONE,SH-5711,  1,     10,1-133-94,2,19990204,0311, 30.4903, 132.3535, 3430,   1008.8,   3.3654,  34.4352,2,   -999.0,9,  34.4351,4,   -999.0,9,  -999.00,9,  -999.00,9,  -999.00,9,  -999.00,9,  -999.00,9, -999.000,9, -999.000,9,  -999.00,9,   -999.0,9,   -999.0,9,-999.0000,9,   -999.0,  9,  -999.00,9,   -999.0,  -999.00,9,  -999.00,9,  -999.00,9,  -999.00,9,   -999.0,-999.0000, -999,9,  999,   3.2941,  27.4068,   -999.0,9
       SH99-01,  NONE,SH-5711,  1,      9, S-1-1-5,2,19990204,0301, 30.4903, 132.3535, 3430,   1515.3,   2.4508,  34.5454,2,   -999.0,9,  34.5446,4,   -999.0,9,  -999.00,9,  -999.00,9,  -999.00,9,  -999.00,9,  -999.00,9, -999.000,9, -999.000,9,  -999.00,9,   -999.0,9,   -999.0,9,-999.0000,9,   -999.0,  9,  -999.00,9,   -999.0,  -999.00,9,  -999.00,9,  -999.00,9,  -999.00,9,   -999.0,-999.0000, -999,9, 1499,   2.3482,  27.5792,   -999.0,9
       SH99-01,  NONE,SH-5711,  1,      8,1-133-95,2,19990204,0253, 30.4903, 132.3535, 3430,   2021.4,   1.9379,  34.6121,2,   -999.0,9,  34.6107,4,   -999.0,9,  -999.00,9,  -999.00,9,  -999.00,9,  -999.00,9,  -999.00,9, -999.000,9, -999.000,9,  -999.00,9,   -999.0,9,   -999.0,9,-999.0000,9,   -999.0,  9,  -999.00,9,   -999.0,  -999.00,9,  -999.00,9,  -999.00,9,  -999.00,9,   -999.0,-999.0000, -999,9, 1998,   1.8007,  27.6765,   -999.0,9
       SH99-01,  NONE,SH-5711,  1,      7, S-1-1-4,4,19990204,0242, 30.4903, 132.3535, 3430,   2932.5,   1.5927,  34.6645,2,   -999.0,9,  34.6650,4,   -999.0,9,  -999.00,9,  -999.00,9,  -999.00,9,  -999.00,9,  -999.00,9, -999.000,9, -999.000,9,  -999.00,9,   -999.0,9,   -999.0,9,-999.0000,9,   -999.0,  9,  -999.00,9,   -999.0,  -999.00,9,  -999.00,9,  -999.00,9,  -999.00,9,   -999.0,-999.0000, -999,9, 2892,   1.3804,  27.7495,   -999.0,9
       SH99-01,  NONE,SH-5711,  1,      6,1-133-93,2,19990204,0242, 30.4903, 132.3535, 3430,   2932.5,   1.5927,  34.6645,2,   -999.0,9,  34.6654,2,   -999.0,9,  -999.00,9,  -999.00,9,  -999.00,9,  -999.00,9,  -999.00,9, -999.000,9, -999.000,9,  -999.00,9,   -999.0,9,   -999.0,9,-999.0000,9,   -999.0,  9,  -999.00,9,   -999.0,  -999.00,9,  -999.00,9,  -999.00,9,  -999.00,9,   -999.0,-999.0000, -999,9, 2892,   1.3804,  27.7495,   -999.0,9