BOTTLE,20130510GEMDJMAYT
EXPOCODE,SECT_ID,STNNBR,CASTNO,SAMPNO,BTLNBR,BTLNBR_FLAG_W,DATE,TIME,LATITUDE,LONGITUDE,DEPTH,CTDPRS,CTDTMP,CTDSAL,CTDSAL_FLAG_W,CTDOXY,CTDOXY_FLAG_W,SALNTY,SALNTY_FLAG_W,OXYGEN,OXYGEN_FLAG_W,SILCAT,SILCAT_FLAG_W,NITRAT,NITRAT_FLAG_W,NO2+NO3,NO2+NO3_FLAG_W,NITRIT,NITRIT_FLAG_W,PHSPHT,PHSPHT_FLAG_W,CFC-11,CFC-11_FLAG_W,CFC-12,CFC-12_FLAG_W,DELC13,DELC13_FLAG_W,TCARBN,TCARBN_FLAG_W,ALKALI,ALKALI_FLAG_W,PH,PH_FLAG_W,PH_TMP,PH_SCALE,PH_NBS,PH_NBS_FLAG_W,C13ERR,TOTALP,TOTALP_FLAG_W,AMMONI,AMMONI_FLAG_W,CHLORA,CHLORA_FLAG_W,PPHYTN,PPHYTN_FLAG_W,REVPRS,REVTMP,DEPTH_,DEPTH_FLAG,CTDDEP,THETA,SIGTHT,DOC,DOC_FLAG_W
,,,,,,,GMT,GMT,,,METER,DBAR,ITS-90,PSS-78,,UMOL/KG,,PSS-78,,UMOL/KG,,UMOL/KG,,UMOL/KG,,UMOL/KG,,UMOL/KG,,UMOL/KG,,PMOL/KG,,PMOL/KG,,/MILLE,,UMOL/KG,,UMOL/KG,,25_DEG_C,,DEG_C,,,,/MILLE,UMOL/KG,,UMOL/KG,,UG/L,,UG/L,,DBAR,ITS-90,METERS,,METERS,DEG_C,,UMOL/L,
       SH99-01,  NONE,SH-5712,  1,      3,1-133-84,2,19990204,0712, 30.2852, 132.5522, 3840,     50.4,  21.5883,  34.7526,2,   -999.0,9,  34.7676,4,   -999.0,9,  -999.00,9,  -999.00,9,  -999.00,9,  -999.00,9,  -999.00,9, -999.000,9, -999.000,9,  -999.00,9,   -999.0,9,   -999.0,9,-999.0000,9,   -999.0,  9,  -999.00,9,   -999.0,  -999.00,9,  -999.00,9,  -999.00,9,  -999.00,9,   -999.0,-999.0000, -999,9,   50,  21.5785,  24.1471,   -999.0,9
       SH99-01,  NONE,SH-5712,  1,      2, S-1-1-7,2,19990204,0711, 30.2852, 132.5522, 3840,     99.2,  21.6060,  34.7603,2,   -999.0,9,  34.8219,4,   -999.0,9,  -999.00,9,  -999.00,9,  -999.00,9,  -999.00,9,  -999.00,9, -999.000,9, -999.000,9,  -999.00,9,   -999.0,9,   -999.0,9,-999.0000,9,   -999.0,  9,  -999.00,9,   -999.0,  -999.00,9,  -999.00,9,  -999.00,9,  -999.00,9,   -999.0,-999.0000, -999,9,   98,  21.5866,  24.1507,   -999.0,9
       SH99-01,  NONE,SH-5712,  1,      1, 1-133-1,4,19990204,0710, 30.2852, 132.5522, 3840,    148.9,  21.3974,  34.8239,2,   -999.0,9,  34.8548,4,   -999.0,9,  -999.00,9,  -999.00,9,  -999.00,9,  -999.00,9,  -999.00,9, -999.000,9, -999.000,9,  -999.00,9,   -999.0,9,   -999.0,9,-999.0000,9,   -999.0,  9,  -999.00,9,   -999.0,  -999.00,9,  -999.00,9,  -999.00,9,  -999.00,9,   -999.0,-999.0000, -999,9,  148,  21.3686,  24.2591,   -999.0,9
       SH99-01,  NONE,SH-5712,  1,     -9,      -9,4,19990204,0709, 30.2852, 132.5522, 3840,    200.1,  19.3596,  34.8500,2,   -999.0,9,-999.0000,9,   -999.0,9,  -999.00,9,  -999.00,9,  -999.00,9,  -999.00,9,  -999.00,9, -999.000,9, -999.000,9,  -999.00,9,   -999.0,9,   -999.0,9,-999.0000,9,   -999.0,  9,  -999.00,9,   -999.0,  -999.00,9,  -999.00,9,  -999.00,9,  -999.00,9,   -999.0,-999.0000, -999,9,  199,  19.3235,  24.8236,   -999.0,9
       SH99-01,  NONE,SH-5712,  1,     12, 1-133-7,4,19990204,0706, 30.2852, 132.5522, 3840,    399.3,  13.8978,  34.5420,2,   -999.0,9,  34.5397,4,   -999.0,9,  -999.00,9,  -999.00,9,  -999.00,9,  -999.00,9,  -999.00,9, -999.000,9, -999.000,9,  -999.00,9,   -999.0,9,   -999.0,9,-999.0000,9,   -999.0,  9,  -999.00,9,   -999.0,  -999.00,9,  -999.00,9,  -999.00,9,  -999.00,9,   -999.0,-999.0000, -999,9,  396,  13.8402,  25.8665,   -999.0,9
       SH99-01,  NONE,SH-5712,  1,     11, S-1-1-9,2,19990204,0706, 30.2852, 132.5522, 3840,    399.3,  13.8978,  34.5420,2,   -999.0,9,  34.5399,4,   -999.0,9,  -999.00,9,  -999.00,9,  -999.00,9,  -999.00,9,  -999.00,9, -999.000,9, -999.000,9,  -999.00,9,   -999.0,9,   -999.0,9,-999.0000,9,   -999.0,  9,  -999.00,9,   -999.0,  -999.00,9,  -999.00,9,  -999.00,9,  -999.00,9,   -999.0,-999.0000, -999,9,  396,  13.8402,  25.8665,   -999.0,9
       SH99-01,  NONE,SH-5712,  1,     10,1-133-94,2,19990204,0704, 30.2852, 132.5522, 3840,    598.2,   8.4815,  34.3382,2,   -999.0,9,  34.3378,4,   -999.0,9,  -999.00,9,  -999.00,9,  -999.00,9,  -999.00,9,  -999.00,9, -999.000,9, -999.000,9,  -999.00,9,   -999.0,9,   -999.0,9,-999.0000,9,   -999.0,  9,  -999.00,9,   -999.0,  -999.00,9,  -999.00,9,  -999.00,9,  -999.00,9,   -999.0,-999.0000, -999,9,  593,   8.4179,  26.6909,   -999.0,9
       SH99-01,  NONE,SH-5712,  1,      9, S-1-1-5,2,19990204,0700, 30.2852, 132.5522, 3840,   1002.6,   3.8044,  34.4605,2,   -999.0,9,  34.4719,4,   -999.0,9,  -999.00,9,  -999.00,9,  -999.00,9,  -999.00,9,  -999.00,9, -999.000,9, -999.000,9,  -999.00,9,   -999.0,9,   -999.0,9,-999.0000,9,   -999.0,  9,  -999.00,9,   -999.0,  -999.00,9,  -999.00,9,  -999.00,9,  -999.00,9,   -999.0,-999.0000, -999,9,  993,   3.7301,  27.3845,   -999.0,9
       SH99-01,  NONE,SH-5712,  1,      8,1-133-95,2,19990204,0655, 30.2852, 132.5522, 3840,   1509.1,   2.4560,  34.5429,2,   -999.0,9,  34.5600,4,   -999.0,9,  -999.00,9,  -999.00,9,  -999.00,9,  -999.00,9,  -999.00,9, -999.000,9, -999.000,9,  -999.00,9,   -999.0,9,   -999.0,9,-999.0000,9,   -999.0,  9,  -999.00,9,   -999.0,  -999.00,9,  -999.00,9,  -999.00,9,  -999.00,9,   -999.0,-999.0000, -999,9, 1493,   2.3538,  27.5767,   -999.0,9
       SH99-01,  NONE,SH-5712,  1,      7, S-1-1-4,2,19990204,0649, 30.2852, 132.5522, 3840,   2018.9,   1.9932,  34.6095,2,   -999.0,9,-999.0000,4,   -999.0,9,  -999.00,9,  -999.00,9,  -999.00,9,  -999.00,9,  -999.00,9, -999.000,9, -999.000,9,  -999.00,9,   -999.0,9,   -999.0,9,-999.0000,9,   -999.0,  9,  -999.00,9,   -999.0,  -999.00,9,  -999.00,9,  -999.00,9,  -999.00,9,   -999.0,-999.0000, -999,9, 1996,   1.8554,  27.6701,   -999.0,9
       SH99-01,  NONE,SH-5712,  1,      6,1-133-93,2,19990204,0638, 30.2852, 132.5522, 3840,   3041.6,   1.5694,  34.6675,2,   -999.0,9,-999.0000,4,   -999.0,9,  -999.00,9,  -999.00,9,  -999.00,9,  -999.00,9,  -999.00,9, -999.000,9, -999.000,9,  -999.00,9,   -999.0,9,   -999.0,9,-999.0000,9,   -999.0,  9,  -999.00,9,   -999.0,  -999.00,9,  -999.00,9,  -999.00,9,  -999.00,9,   -999.0,-999.0000, -999,9, 2999,   1.3472,  27.7543,   -999.0,9
       SH99-01,  NONE,SH-5712,  1,      5,S-1-1-11,2,19990204,0631, 30.2852, 132.5522, 3840,   3665.6,   1.5379,  34.6785,2,   -999.0,9,  34.6762,4,   -999.0,9,  -999.00,9,  -999.00,9,  -999.00,9,  -999.00,9,  -999.00,9, -999.000,9, -999.000,9,  -999.00,9,   -999.0,9,   -999.0,9,-999.0000,9,   -999.0,  9,  -999.00,9,   -999.0,  -999.00,9,  -999.00,9,  -999.00,9,  -999.00,9,   -999.0,-999.0000, -999,9, 3609,   1.2537,  27.7697,   -999.0,9
       SH99-01,  NONE,SH-5713,  1,      4,S-1-1-12,2,19990204,1159, 29.9575, 132.9477, 3840,     51.3,  21.0279,  34.7731,2,   -999.0,9,  34.3716,4,   -999.0,9,  -999.00,9,  -999.00,9,  -999.00,9,  -999.00,9,  -999.00,9, -999.000,9, -999.000,9,  -999.00,9,   -999.0,9,   -999.0,9,-999.0000,9,   -999.0,  9,  -999.00,9,   -999.0,  -999.00,9,  -999.00,9,  -999.00,9,  -999.00,9,   -999.0,-999.0000, -999,9,   51,  21.0181,  24.3162,   -999.0,9
       SH99-01,  NONE,SH-5713,  1,      3,1-133-84,2,19990204,1158, 29.9575, 132.9477, 3840,    102.7,  21.0435,  34.7816,2,   -999.0,9,  34.7823,2,   -999.0,9,  -999.00,9,  -999.00,9,  -999.00,9,  -999.00,9,  -999.00,9, -999.000,9, -999.000,9,  -999.00,9,   -999.0,9,   -999.0,9,-999.0000,9,   -999.0,  9,  -999.00,9,   -999.0,  -999.00,9,  -999.00,9,  -999.00,9,  -999.00,9,   -999.0,-999.0000, -999,9,  102,  21.0238,  24.3212,   -999.0,9
       SH99-01,  NONE,SH-5713,  1,      2, S-1-1-7,2,19990204,1156, 29.9575, 132.9477, 3840,    151.9,  20.5084,  34.8165,2,   -999.0,9,  34.8160,2,   -999.0,9,  -999.00,9,  -999.00,9,  -999.00,9,  -999.00,9,  -999.00,9, -999.000,9, -999.000,9,  -999.00,9,   -999.0,9,   -999.0,9,-999.0000,9,   -999.0,  9,  -999.00,9,   -999.0,  -999.00,9,  -999.00,9,  -999.00,9,  -999.00,9,   -999.0,-999.0000, -999,9,  151,  20.4799,  24.4944,   -999.0,9
       SH99-01,  NONE,SH-5713,  1,      1, 1-133-1,2,19990204,1155, 29.9575, 132.9477, 3840,    203.3,  19.0032,  34.8335,2,   -999.0,9,  34.8367,2,   -999.0,9,  -999.00,9,  -999.00,9,  -999.00,9,  -999.00,9,  -999.00,9, -999.000,9, -999.000,9,  -999.00,9,   -999.0,9,   -999.0,9,-999.0000,9,   -999.0,  9,  -999.00,9,   -999.0,  -999.00,9,  -999.00,9,  -999.00,9,  -999.00,9,   -999.0,-999.0000, -999,9,  202,  18.9670,  24.9023,   -999.0,9
       SH99-01,  NONE,SH-5713,  1,     12, 1-133-7,2,19990204,1152, 29.9575, 132.9477, 3840,    400.7,  15.3695,  34.6578,2,   -999.0,9,  34.6556,2,   -999.0,9,  -999.00,9,  -999.00,9,  -999.00,9,  -999.00,9,  -999.00,9, -999.000,9, -999.000,9,  -999.00,9,   -999.0,9,   -999.0,9,-999.0000,9,   -999.0,  9,  -999.00,9,   -999.0,  -999.00,9,  -999.00,9,  -999.00,9,  -999.00,9,   -999.0,-999.0000, -999,9,  398,  15.3076,  25.6403,   -999.0,9
       SH99-01,  NONE,SH-5713,  1,     11, S-1-1-9,2,19990204,1149, 29.9575, 132.9477, 3840,    601.0,   9.2790,  34.2633,2,   -999.0,9,  34.2612,2,   -999.0,9,  -999.00,9,  -999.00,9,  -999.00,9,  -999.00,9,  -999.00,9, -999.000,9, -999.000,9,  -999.00,9,   -999.0,9,   -999.0,9,-999.0000,9,   -999.0,  9,  -999.00,9,   -999.0,  -999.00,9,  -999.00,9,  -999.00,9,  -999.00,9,   -999.0,-999.0000, -999,9,  596,   9.2117,  26.5073,   -999.0,9
       SH99-01,  NONE,SH-5713,  1,     10,1-133-94,2,19990204,1144, 29.9575, 132.9477, 3840,   1006.2,   4.1093,  34.3539,2,   -999.0,9,  34.3514,2,   -999.0,9,  -999.00,9,  -999.00,9,  -999.00,9,  -999.00,9,  -999.00,9, -999.000,9, -999.000,9,  -999.00,9,   -999.0,9,   -999.0,9,-999.0000,9,   -999.0,  9,  -999.00,9,   -999.0,  -999.00,9,  -999.00,9,  -999.00,9,  -999.00,9,   -999.0,-999.0000, -999,9,  997,   4.0325,  27.2688,   -999.0,9
       SH99-01,  NONE,SH-5713,  1,      9, S-1-1-5,2,19990204,1138, 29.9575, 132.9477, 3840,   1510.2,   2.6620,  34.5158,2,   -999.0,9,  34.5145,2,   -999.0,9,  -999.00,9,  -999.00,9,  -999.00,9,  -999.00,9,  -999.00,9, -999.000,9, -999.000,9,  -999.00,9,   -999.0,9,   -999.0,9,-999.0000,9,   -999.0,  9,  -999.00,9,   -999.0,  -999.00,9,  -999.00,9,  -999.00,9,  -999.00,9,   -999.0,-999.0000, -999,9, 1495,   2.5574,  27.5378,   -999.0,9
       SH99-01,  NONE,SH-5713,  1,      8,1-133-95,2,19990204,1131, 29.9575, 132.9477, 3840,   2017.1,   2.0568,  34.6002,2,   -999.0,9,  34.6019,2,   -999.0,9,  -999.00,9,  -999.00,9,  -999.00,9,  -999.00,9,  -999.00,9, -999.000,9, -999.000,9,  -999.00,9,   -999.0,9,   -999.0,9,-999.0000,9,   -999.0,  9,  -999.00,9,   -999.0,  -999.00,9,  -999.00,9,  -999.00,9,  -999.00,9,   -999.0,-999.0000, -999,9, 1994,   1.9182,  27.6578,   -999.0,9
       SH99-01,  NONE,SH-5713,  1,      7, S-1-1-4,2,19990204,1120, 29.9575, 132.9477, 3840,   3041.1,   1.5784,  34.6672,2,   -999.0,9,  34.6654,2,   -999.0,9,  -999.00,9,  -999.00,9,  -999.00,9,  -999.00,9,  -999.00,9, -999.000,9, -999.000,9,  -999.00,9,   -999.0,9,   -999.0,9,-999.0000,9,   -999.0,  9,  -999.00,9,   -999.0,  -999.00,9,  -999.00,9,  -999.00,9,  -999.00,9,   -999.0,-999.0000, -999,9, 2999,   1.3560,  27.7535,   -999.0,9
       SH99-01,  NONE,SH-5713,  1,      6,1-133-93,2,19990204,1110, 29.9575, 132.9477, 3840,   3813.4,   1.5615,  34.6781,2,   -999.0,9,  34.6768,2,   -999.0,9,  -999.00,9,  -999.00,9,  -999.00,9,  -999.00,9,  -999.00,9, -999.000,9, -999.000,9,  -999.00,9,   -999.0,9,   -999.0,9,-999.0000,9,   -999.0,  9,  -999.00,9,   -999.0,  -999.00,9,  -999.00,9,  -999.00,9,  -999.00,9,   -999.0,-999.0000, -999,9, 3754,   1.2610,  27.7689,   -999.0,9
       SH99-01,  NONE,SH-5714,  1,      3,1-133-84,2,19990204,1707, 29.4907, 133.4900, 2770,     49.5,  20.7131,  34.8000,2,   -999.0,9,  34.8018,2,   -999.0,9,  -999.00,9,  -999.00,9,  -999.00,9,  -999.00,9,  -999.00,9, -999.000,9, -999.000,9,  -999.00,9,   -999.0,9,   -999.0,9,-999.0000,9,   -999.0,  9,  -999.00,9,   -999.0,  -999.00,9,  -999.00,9,  -999.00,9,  -999.00,9,   -999.0,-999.0000, -999,9,   49,  20.7037,  24.4218,   -999.0,9
       SH99-01,  NONE,SH-5714,  1,      2, S-1-1-7,2,19990204,1705, 29.4907, 133.4900, 2770,    101.1,  20.7096,  34.7994,2,   -999.0,9,  34.8003,2,   -999.0,9,  -999.00,9,  -999.00,9,  -999.00,9,  -999.00,9,  -999.00,9, -999.000,9, -999.000,9,  -999.00,9,   -999.0,9,   -999.0,9,-999.0000,9,   -999.0,  9,  -999.00,9,   -999.0,  -999.00,9,  -999.00,9,  -999.00,9,  -999.00,9,   -999.0,-999.0000, -999,9,  100,  20.6904,  24.4249,   -999.0,9
       SH99-01,  NONE,SH-5714,  1,      1, 1-133-1,2,19990204,1704, 29.4907, 133.4900, 2770,    151.7,  19.4619,  34.8447,2,   -999.0,9,  34.8469,2,   -999.0,9,  -999.00,9,  -999.00,9,  -999.00,9,  -999.00,9,  -999.00,9, -999.000,9, -999.000,9,  -999.00,9,   -999.0,9,   -999.0,9,-999.0000,9,   -999.0,  9,  -999.00,9,   -999.0,  -999.00,9,  -999.00,9,  -999.00,9,  -999.00,9,   -999.0,-999.0000, -999,9,  151,  19.4344,  24.7909,   -999.0,9
       SH99-01,  NONE,SH-5714,  1,     12, 1-133-7,2,19990204,1702, 29.4907, 133.4900, 2770,    200.9,  18.5579,  34.8366,2,   -999.0,9,  34.8351,2,   -999.0,9,  -999.00,9,  -999.00,9,  -999.00,9,  -999.00,9,  -999.00,9, -999.000,9, -999.000,9,  -999.00,9,   -999.0,9,   -999.0,9,-999.0000,9,   -999.0,  9,  -999.00,9,   -999.0,  -999.00,9,  -999.00,9,  -999.00,9,  -999.00,9,   -999.0,-999.0000, -999,9,  199,  18.5227,  25.0170,   -999.0,9
       SH99-01,  NONE,SH-5714,  1,     11, S-1-1-9,2,19990204,1659, 29.4907, 133.4900, 2770,    399.3,  15.4793,  34.6710,2,   -999.0,9,  34.6737,2,   -999.0,9,  -999.00,9,  -999.00,9,  -999.00,9,  -999.00,9,  -999.00,9, -999.000,9, -999.000,9,  -999.00,9,   -999.0,9,   -999.0,9,-999.0000,9,   -999.0,  9,  -999.00,9,   -999.0,  -999.00,9,  -999.00,9,  -999.00,9,  -999.00,9,   -999.0,-999.0000, -999,9,  396,  15.4173,  25.6260,   -999.0,9
       SH99-01,  NONE,SH-5714,  1,     10,1-133-94,2,19990204,1656, 29.4907, 133.4900, 2770,    601.3,  10.3929,  34.2988,2,   -999.0,9,  34.3033,2,   -999.0,9,  -999.00,9,  -999.00,9,  -999.00,9,  -999.00,9,  -999.00,9, -999.000,9, -999.000,9,  -999.00,9,   -999.0,9,   -999.0,9,-999.0000,9,   -999.0,  9,  -999.00,9,   -999.0,  -999.00,9,  -999.00,9,  -999.00,9,  -999.00,9,   -999.0,-999.0000, -999,9,  596,  10.3206,  26.3494,   -999.0,9
       SH99-01,  NONE,SH-5714,  1,      9, S-1-1-5,2,19990204,1653, 29.4907, 133.4900, 2770,    802.0,   6.1582,  34.1992,2,   -999.0,9,  34.2041,2,   -999.0,9,  -999.00,9,  -999.00,9,  -999.00,9,  -999.00,9,  -999.00,9, -999.000,9, -999.000,9,  -999.00,9,   -999.0,9,   -999.0,9,-999.0000,9,   -999.0,  9,  -999.00,9,   -999.0,  -999.00,9,  -999.00,9,  -999.00,9,  -999.00,9,   -999.0,-999.0000, -999,9,  795,   6.0859,  26.9090,   -999.0,9
       SH99-01,  NONE,SH-5714,  1,      8,1-133-95,2,19990204,1650, 29.4907, 133.4900, 2770,   1003.9,   4.3676,  34.3301,2,   -999.0,9,  34.3296,2,   -999.0,9,  -999.00,9,  -999.00,9,  -999.00,9,  -999.00,9,  -999.00,9, -999.000,9, -999.000,9,  -999.00,9,   -999.0,9,   -999.0,9,-999.0000,9,   -999.0,  9,  -999.00,9,   -999.0,  -999.00,9,  -999.00,9,  -999.00,9,  -999.00,9,   -999.0,-999.0000, -999,9,  995,   4.2891,  27.2229,   -999.0,9
       SH99-01,  NONE,SH-5714,  1,      7, S-1-1-4,2,19990204,1643, 29.4907, 133.4900, 2770,   1511.3,   2.5443,  34.5234,2,   -999.0,9,  34.5242,2,   -999.0,9,  -999.00,9,  -999.00,9,  -999.00,9,  -999.00,9,  -999.00,9, -999.000,9, -999.000,9,  -999.00,9,   -999.0,9,   -999.0,9,-999.0000,9,   -999.0,  9,  -999.00,9,   -999.0,  -999.00,9,  -999.00,9,  -999.00,9,  -999.00,9,   -999.0,-999.0000, -999,9, 1496,   2.4410,  27.5538,   -999.0,9
       SH99-01,  NONE,SH-5714,  1,      6,1-133-93,2,19990204,1637, 29.4907, 133.4900, 2770,   2021.7,   2.0186,  34.6031,2,   -999.0,9,  34.6030,2,   -999.0,9,  -999.00,9,  -999.00,9,  -999.00,9,  -999.00,9,  -999.00,9, -999.000,9, -999.000,9,  -999.00,9,   -999.0,9,   -999.0,9,-999.0000,9,   -999.0,  9,  -999.00,9,   -999.0,  -999.00,9,  -999.00,9,  -999.00,9,  -999.00,9,   -999.0,-999.0000, -999,9, 1998,   1.8801,  27.6631,   -999.0,9
       SH99-01,  NONE,SH-5714,  1,      5,S-1-1-11,2,19990204,1629, 29.4907, 133.4900, 2770,   2635.4,   1.6849,  34.6506,2,   -999.0,9,  34.6552,2,   -999.0,9,  -999.00,9,  -999.00,9,  -999.00,9,  -999.00,9,  -999.00,9, -999.000,9, -999.000,9,  -999.00,9,   -999.0,9,   -999.0,9,-999.0000,9,   -999.0,  9,  -999.00,9,   -999.0,  -999.00,9,  -999.00,9,  -999.00,9,  -999.00,9,   -999.0,-999.0000, -999,9, 2601,   1.4983,  27.7299,   -999.0,9