BOTTLE,20130510GEMDJMAYT
EXPOCODE,SECT_ID,STNNBR,CASTNO,SAMPNO,BTLNBR,BTLNBR_FLAG_W,DATE,TIME,LATITUDE,LONGITUDE,DEPTH,CTDPRS,CTDTMP,CTDSAL,CTDSAL_FLAG_W,CTDOXY,CTDOXY_FLAG_W,SALNTY,SALNTY_FLAG_W,OXYGEN,OXYGEN_FLAG_W,SILCAT,SILCAT_FLAG_W,NITRAT,NITRAT_FLAG_W,NO2+NO3,NO2+NO3_FLAG_W,NITRIT,NITRIT_FLAG_W,PHSPHT,PHSPHT_FLAG_W,CFC-11,CFC-11_FLAG_W,CFC-12,CFC-12_FLAG_W,DELC13,DELC13_FLAG_W,TCARBN,TCARBN_FLAG_W,ALKALI,ALKALI_FLAG_W,PH,PH_FLAG_W,PH_TMP,PH_SCALE,PH_NBS,PH_NBS_FLAG_W,C13ERR,TOTALP,TOTALP_FLAG_W,AMMONI,AMMONI_FLAG_W,CHLORA,CHLORA_FLAG_W,PPHYTN,PPHYTN_FLAG_W,REVPRS,REVTMP,DEPTH_,DEPTH_FLAG,CTDDEP,THETA,SIGTHT,DOC,DOC_FLAG_W
,,,,,,,GMT,GMT,,,METER,DBAR,ITS-90,PSS-78,,UMOL/KG,,PSS-78,,UMOL/KG,,UMOL/KG,,UMOL/KG,,UMOL/KG,,UMOL/KG,,UMOL/KG,,PMOL/KG,,PMOL/KG,,/MILLE,,UMOL/KG,,UMOL/KG,,25_DEG_C,,DEG_C,,,,/MILLE,UMOL/KG,,UMOL/KG,,UG/L,,UG/L,,DBAR,ITS-90,METERS,,METERS,DEG_C,,UMOL/L,
       SH99-01,  NONE,SH-5715,  1,      2, S-1-1-7,2,19990204,2156, 29.0862, 133.9795, 2660,     50.9,  20.8657,  34.7809,2,   -999.0,9,  34.7802,2,   -999.0,9,  -999.00,9,  -999.00,9,  -999.00,9,  -999.00,9,  -999.00,9, -999.000,9, -999.000,9,  -999.00,9,   -999.0,9,   -999.0,9,-999.0000,9,   -999.0,  9,  -999.00,9,   -999.0,  -999.00,9,  -999.00,9,  -999.00,9,  -999.00,9,   -999.0,-999.0000, -999,9,   51,  20.8561,  24.3661,   -999.0,9
       SH99-01,  NONE,SH-5715,  1,      1, 1-133-1,2,19990204,2155, 29.0862, 133.9795, 2660,    101.8,  20.8714,  34.7811,2,   -999.0,9,  34.7808,2,   -999.0,9,  -999.00,9,  -999.00,9,  -999.00,9,  -999.00,9,  -999.00,9, -999.000,9, -999.000,9,  -999.00,9,   -999.0,9,   -999.0,9,-999.0000,9,   -999.0,  9,  -999.00,9,   -999.0,  -999.00,9,  -999.00,9,  -999.00,9,  -999.00,9,   -999.0,-999.0000, -999,9,  101,  20.8521,  24.3674,   -999.0,9
       SH99-01,  NONE,SH-5715,  1,     12, 1-133-7,2,19990204,2154, 29.0862, 133.9795, 2660,    152.3,  20.2346,  34.8431,2,   -999.0,9,  34.8365,2,   -999.0,9,  -999.00,9,  -999.00,9,  -999.00,9,  -999.00,9,  -999.00,9, -999.000,9, -999.000,9,  -999.00,9,   -999.0,9,   -999.0,9,-999.0000,9,   -999.0,  9,  -999.00,9,   -999.0,  -999.00,9,  -999.00,9,  -999.00,9,  -999.00,9,   -999.0,-999.0000, -999,9,  151,  20.2062,  24.5875,   -999.0,9
       SH99-01,  NONE,SH-5715,  1,     11, S-1-1-9,2,19990204,2153, 29.0862, 133.9795, 2660,    202.1,  18.9325,  34.8364,2,   -999.0,9,  34.8371,2,   -999.0,9,  -999.00,9,  -999.00,9,  -999.00,9,  -999.00,9,  -999.00,9, -999.000,9, -999.000,9,  -999.00,9,   -999.0,9,   -999.0,9,-999.0000,9,   -999.0,  9,  -999.00,9,   -999.0,  -999.00,9,  -999.00,9,  -999.00,9,  -999.00,9,   -999.0,-999.0000, -999,9,  201,  18.8966,  24.9225,   -999.0,9
       SH99-01,  NONE,SH-5715,  1,     10,1-133-94,2,19990204,2150, 29.0862, 133.9795, 2660,    401.7,  14.6328,  34.5988,2,   -999.0,9,  34.6030,2,   -999.0,9,  -999.00,9,  -999.00,9,  -999.00,9,  -999.00,9,  -999.00,9, -999.000,9, -999.000,9,  -999.00,9,   -999.0,9,   -999.0,9,-999.0000,9,   -999.0,  9,  -999.00,9,   -999.0,  -999.00,9,  -999.00,9,  -999.00,9,  -999.00,9,   -999.0,-999.0000, -999,9,  399,  14.5728,  25.7553,   -999.0,9
       SH99-01,  NONE,SH-5715,  1,      9, S-1-1-5,2,19990204,2148, 29.0862, 133.9795, 2660,    602.1,   9.0736,  34.2293,2,   -999.0,9,  34.2294,2,   -999.0,9,  -999.00,9,  -999.00,9,  -999.00,9,  -999.00,9,  -999.00,9, -999.000,9, -999.000,9,  -999.00,9,   -999.0,9,   -999.0,9,-999.0000,9,   -999.0,  9,  -999.00,9,   -999.0,  -999.00,9,  -999.00,9,  -999.00,9,  -999.00,9,   -999.0,-999.0000, -999,9,  597,   9.0070,  26.5135,   -999.0,9
       SH99-01,  NONE,SH-5715,  1,      8,1-133-95,2,19990204,2145, 29.0862, 133.9795, 2660,    802.7,   6.0433,  34.2087,2,   -999.0,9,  34.2100,2,   -999.0,9,  -999.00,9,  -999.00,9,  -999.00,9,  -999.00,9,  -999.00,9, -999.000,9, -999.000,9,  -999.00,9,   -999.0,9,   -999.0,9,-999.0000,9,   -999.0,  9,  -999.00,9,   -999.0,  -999.00,9,  -999.00,9,  -999.00,9,  -999.00,9,   -999.0,-999.0000, -999,9,  796,   5.9716,  26.9309,   -999.0,9
       SH99-01,  NONE,SH-5715,  1,      7, S-1-1-4,2,19990204,2143, 29.0862, 133.9795, 2660,   1005.7,   4.3615,  34.3568,2,   -999.0,9,  34.3571,2,   -999.0,9,  -999.00,9,  -999.00,9,  -999.00,9,  -999.00,9,  -999.00,9, -999.000,9, -999.000,9,  -999.00,9,   -999.0,9,   -999.0,9,-999.0000,9,   -999.0,  9,  -999.00,9,   -999.0,  -999.00,9,  -999.00,9,  -999.00,9,  -999.00,9,   -999.0,-999.0000, -999,9,  997,   4.2828,  27.2448,   -999.0,9
       SH99-01,  NONE,SH-5715,  1,      6,1-133-93,2,19990204,2138, 29.0862, 133.9795, 2660,   1512.3,   2.5962,  34.5193,2,   -999.0,9,  34.5200,2,   -999.0,9,  -999.00,9,  -999.00,9,  -999.00,9,  -999.00,9,  -999.00,9, -999.000,9, -999.000,9,  -999.00,9,   -999.0,9,   -999.0,9,-999.0000,9,   -999.0,  9,  -999.00,9,   -999.0,  -999.00,9,  -999.00,9,  -999.00,9,  -999.00,9,   -999.0,-999.0000, -999,9, 1497,   2.4922,  27.5462,   -999.0,9
       SH99-01,  NONE,SH-5715,  1,      5,S-1-1-11,2,19990204,2132, 29.0862, 133.9795, 2660,   2020.9,   2.0107,  34.6022,2,   -999.0,9,  34.6015,2,   -999.0,9,  -999.00,9,  -999.00,9,  -999.00,9,  -999.00,9,  -999.00,9, -999.000,9, -999.000,9,  -999.00,9,   -999.0,9,   -999.0,9,-999.0000,9,   -999.0,  9,  -999.00,9,   -999.0,  -999.00,9,  -999.00,9,  -999.00,9,  -999.00,9,   -999.0,-999.0000, -999,9, 1998,   1.8724,  27.6629,   -999.0,9
       SH99-01,  NONE,SH-5715,  1,      4,S-1-1-12,2,19990204,2125, 29.0862, 133.9795, 2660,   2638.5,   1.6373,  34.6556,2,   -999.0,9,  34.6550,2,   -999.0,9,  -999.00,9,  -999.00,9,  -999.00,9,  -999.00,9,  -999.00,9, -999.000,9, -999.000,9,  -999.00,9,   -999.0,9,   -999.0,9,-999.0000,9,   -999.0,  9,  -999.00,9,   -999.0,  -999.00,9,  -999.00,9,  -999.00,9,  -999.00,9,   -999.0,-999.0000, -999,9, 2604,   1.4514,  27.7373,   -999.0,9
       SH99-01,  NONE,SH-5716,  1,      2, S-1-1-7,2,19990205,0325, 28.6722, 134.4595, 3720,     52.6,  21.0573,  34.7809,2,   -999.0,9,  34.7806,2,   -999.0,9,  -999.00,9,  -999.00,9,  -999.00,9,  -999.00,9,  -999.00,9, -999.000,9, -999.000,9,  -999.00,9,   -999.0,9,   -999.0,9,-999.0000,9,   -999.0,  9,  -999.00,9,   -999.0,  -999.00,9,  -999.00,9,  -999.00,9,  -999.00,9,   -999.0,-999.0000, -999,9,   52,  21.0472,  24.3143,   -999.0,9
       SH99-01,  NONE,SH-5716,  1,      1, 1-133-1,2,19990205,0324, 28.6722, 134.4595, 3720,    102.5,  21.0638,  34.7818,2,   -999.0,9,  34.7837,2,   -999.0,9,  -999.00,9,  -999.00,9,  -999.00,9,  -999.00,9,  -999.00,9, -999.000,9, -999.000,9,  -999.00,9,   -999.0,9,   -999.0,9,-999.0000,9,   -999.0,  9,  -999.00,9,   -999.0,  -999.00,9,  -999.00,9,  -999.00,9,  -999.00,9,   -999.0,-999.0000, -999,9,  102,  21.0442,  24.3158,   -999.0,9
       SH99-01,  NONE,SH-5716,  1,     12, 1-133-7,2,19990205,0323, 28.6722, 134.4595, 3720,    151.8,  21.0563,  34.7825,2,   -999.0,9,  34.7804,2,   -999.0,9,  -999.00,9,  -999.00,9,  -999.00,9,  -999.00,9,  -999.00,9, -999.000,9, -999.000,9,  -999.00,9,   -999.0,9,   -999.0,9,-999.0000,9,   -999.0,  9,  -999.00,9,   -999.0,  -999.00,9,  -999.00,9,  -999.00,9,  -999.00,9,   -999.0,-999.0000, -999,9,  151,  21.0272,  24.3209,   -999.0,9
       SH99-01,  NONE,SH-5716,  1,     11, S-1-1-9,2,19990205,0321, 28.6722, 134.4595, 3720,    201.9,  19.1396,  34.8428,2,   -999.0,9,  34.8416,2,   -999.0,9,  -999.00,9,  -999.00,9,  -999.00,9,  -999.00,9,  -999.00,9, -999.000,9, -999.000,9,  -999.00,9,   -999.0,9,   -999.0,9,-999.0000,9,   -999.0,  9,  -999.00,9,   -999.0,  -999.00,9,  -999.00,9,  -999.00,9,  -999.00,9,   -999.0,-999.0000, -999,9,  200,  19.1034,  24.8746,   -999.0,9
       SH99-01,  NONE,SH-5716,  1,     10,1-133-94,2,19990205,0319, 28.6722, 134.4595, 3720,    402.3,  15.1890,  34.6436,2,   -999.0,9,  34.6481,2,   -999.0,9,  -999.00,9,  -999.00,9,  -999.00,9,  -999.00,9,  -999.00,9, -999.000,9, -999.000,9,  -999.00,9,   -999.0,9,   -999.0,9,-999.0000,9,   -999.0,  9,  -999.00,9,   -999.0,  -999.00,9,  -999.00,9,  -999.00,9,  -999.00,9,   -999.0,-999.0000, -999,9,  399,  15.1274,  25.6691,   -999.0,9
       SH99-01,  NONE,SH-5716,  1,      9, S-1-1-5,2,19990205,0316, 28.6722, 134.4595, 3720,    602.8,   9.7648,  34.2678,2,   -999.0,9,  34.2777,2,   -999.0,9,  -999.00,9,  -999.00,9,  -999.00,9,  -999.00,9,  -999.00,9, -999.000,9, -999.000,9,  -999.00,9,   -999.0,9,   -999.0,9,-999.0000,9,   -999.0,  9,  -999.00,9,   -999.0,  -999.00,9,  -999.00,9,  -999.00,9,  -999.00,9,   -999.0,-999.0000, -999,9,  598,   9.6951,  26.4315,   -999.0,9
       SH99-01,  NONE,SH-5716,  1,      8,1-133-95,2,19990205,0311, 28.6722, 134.4595, 3720,   1006.3,   4.3598,  34.2876,2,   -999.0,9,  34.2889,2,   -999.0,9,  -999.00,9,  -999.00,9,  -999.00,9,  -999.00,9,  -999.00,9, -999.000,9, -999.000,9,  -999.00,9,   -999.0,9,   -999.0,9,-999.0000,9,   -999.0,  9,  -999.00,9,   -999.0,  -999.00,9,  -999.00,9,  -999.00,9,  -999.00,9,   -999.0,-999.0000, -999,9,  997,   4.2812,  27.1900,   -999.0,9
       SH99-01,  NONE,SH-5716,  1,      7, S-1-1-4,2,19990205,0306, 28.6722, 134.4595, 3720,   1511.2,   2.7221,  34.5047,2,   -999.0,9,  34.5053,2,   -999.0,9,  -999.00,9,  -999.00,9,  -999.00,9,  -999.00,9,  -999.00,9, -999.000,9, -999.000,9,  -999.00,9,   -999.0,9,   -999.0,9,-999.0000,9,   -999.0,  9,  -999.00,9,   -999.0,  -999.00,9,  -999.00,9,  -999.00,9,  -999.00,9,   -999.0,-999.0000, -999,9, 1496,   2.6168,  27.5238,   -999.0,9
       SH99-01,  NONE,SH-5716,  1,      6,1-133-93,2,19990205,0300, 28.6722, 134.4595, 3720,   2020.0,   2.0179,  34.6020,2,   -999.0,9,  34.6003,2,   -999.0,9,  -999.00,9,  -999.00,9,  -999.00,9,  -999.00,9,  -999.00,9, -999.000,9, -999.000,9,  -999.00,9,   -999.0,9,   -999.0,9,-999.0000,9,   -999.0,  9,  -999.00,9,   -999.0,  -999.00,9,  -999.00,9,  -999.00,9,  -999.00,9,   -999.0,-999.0000, -999,9, 1997,   1.8796,  27.6622,   -999.0,9
       SH99-01,  NONE,SH-5716,  1,      5,S-1-1-11,2,19990205,0249, 28.6722, 134.4595, 3720,   3043.3,   1.5688,  34.6683,2,   -999.0,9,  34.6749,2,   -999.0,9,  -999.00,9,  -999.00,9,  -999.00,9,  -999.00,9,  -999.00,9, -999.000,9, -999.000,9,  -999.00,9,   -999.0,9,   -999.0,9,-999.0000,9,   -999.0,  9,  -999.00,9,   -999.0,  -999.00,9,  -999.00,9,  -999.00,9,  -999.00,9,   -999.0,-999.0000, -999,9, 3001,   1.3464,  27.7551,   -999.0,9
       SH99-01,  NONE,SH-5716,  1,      4,S-1-1-12,2,19990205,0241, 28.6722, 134.4595, 3720,   3658.2,   1.5285,  34.6793,2,   -999.0,9,  34.6772,2,   -999.0,9,  -999.00,9,  -999.00,9,  -999.00,9,  -999.00,9,  -999.00,9, -999.000,9, -999.000,9,  -999.00,9,   -999.0,9,   -999.0,9,-999.0000,9,   -999.0,  9,  -999.00,9,   -999.0,  -999.00,9,  -999.00,9,  -999.00,9,  -999.00,9,   -999.0,-999.0000, -999,9, 3603,   1.2453,  27.7710,   -999.0,9