BOTTLE,20130510GEMDJMAYT
EXPOCODE,SECT_ID,STNNBR,CASTNO,SAMPNO,BTLNBR,BTLNBR_FLAG_W,DATE,TIME,LATITUDE,LONGITUDE,DEPTH,CTDPRS,CTDTMP,CTDSAL,CTDSAL_FLAG_W,CTDOXY,CTDOXY_FLAG_W,SALNTY,SALNTY_FLAG_W,OXYGEN,OXYGEN_FLAG_W,SILCAT,SILCAT_FLAG_W,NITRAT,NITRAT_FLAG_W,NO2+NO3,NO2+NO3_FLAG_W,NITRIT,NITRIT_FLAG_W,PHSPHT,PHSPHT_FLAG_W,CFC-11,CFC-11_FLAG_W,CFC-12,CFC-12_FLAG_W,DELC13,DELC13_FLAG_W,TCARBN,TCARBN_FLAG_W,ALKALI,ALKALI_FLAG_W,PH,PH_FLAG_W,PH_TMP,PH_SCALE,PH_NBS,PH_NBS_FLAG_W,C13ERR,TOTALP,TOTALP_FLAG_W,AMMONI,AMMONI_FLAG_W,CHLORA,CHLORA_FLAG_W,PPHYTN,PPHYTN_FLAG_W,REVPRS,REVTMP,DEPTH_,DEPTH_FLAG,CTDDEP,THETA,SIGTHT,DOC,DOC_FLAG_W
,,,,,,,GMT,GMT,,,METER,DBAR,ITS-90,PSS-78,,UMOL/KG,,PSS-78,,UMOL/KG,,UMOL/KG,,UMOL/KG,,UMOL/KG,,UMOL/KG,,UMOL/KG,,PMOL/KG,,PMOL/KG,,/MILLE,,UMOL/KG,,UMOL/KG,,25_DEG_C,,DEG_C,,,,/MILLE,UMOL/KG,,UMOL/KG,,UG/L,,UG/L,,DBAR,ITS-90,METERS,,METERS,DEG_C,,UMOL/L,
       SH99-01,  NONE,SH-5702,  2,     -9,      -9,5,19990122,1232, 31.5247, 135.2868, 4040,      0.0,  20.4280,  34.6548,2,   -999.0,9,-999.0000,9,    226.4,2,  -999.00,9,  -999.00,9,     0.29,2,     0.09,2,     0.10,2, -999.000,9, -999.000,9,  -999.00,9,   -999.0,9,   -999.0,9,-999.0000,9,   -999.0,  9,  -999.00,9,   -999.0,  -999.00,9,  -999.00,9,     0.28,2,     0.34,2,   -999.0,-999.0000, -999,9,    0,  20.4280,  24.3851,   -999.0,9
       SH99-01,  NONE,SH-5702,  2,     10,1-133-94,2,19990122,1231, 31.5247, 135.2868, 4040,     11.1,  20.4380,  34.6538,2,   -999.0,9,-999.0000,9,    226.4,2,  -999.00,9,  -999.00,9,     0.29,2,     0.08,2,     0.08,2, -999.000,9, -999.000,9,  -999.00,9,   -999.0,9,   -999.0,9,-999.0000,9,   -999.0,  9,  -999.00,9,   -999.0,  -999.00,9,  -999.00,9,     0.28,2,     0.30,2,   -999.0,-999.0000, -999,9,   11,  20.4360,  24.3822,   -999.0,9
       SH99-01,  NONE,SH-5702,  2,      9, S-1-1-5,2,19990122,1230, 31.5247, 135.2868, 4040,     26.2,  20.4410,  34.6538,2,   -999.0,9,-999.0000,9,    226.2,2,  -999.00,9,  -999.00,9,     0.29,2,     0.09,2,     0.06,2, -999.000,9, -999.000,9,  -999.00,9,   -999.0,9,   -999.0,9,-999.0000,9,   -999.0,  9,  -999.00,9,   -999.0,  -999.00,9,  -999.00,9,     0.27,2,     0.29,2,   -999.0,-999.0000, -999,9,   26,  20.4361,  24.3821,   -999.0,9
       SH99-01,  NONE,SH-5702,  2,      8,1-133-95,2,19990122,1229, 31.5247, 135.2868, 4040,     51.3,  20.2550,  34.6518,2,   -999.0,9,-999.0000,9,    223.8,2,  -999.00,9,  -999.00,9,     0.49,2,     0.14,2,     0.07,2, -999.000,9, -999.000,9,  -999.00,9,   -999.0,9,   -999.0,9,-999.0000,9,   -999.0,  9,  -999.00,9,   -999.0,  -999.00,9,  -999.00,9,     0.20,2,     0.25,2,   -999.0,-999.0000, -999,9,   51,  20.2454,  24.4313,   -999.0,9
       SH99-01,  NONE,SH-5702,  2,      7, S-1-1-4,2,19990122,1228, 31.5247, 135.2868, 4040,     75.9,  19.9695,  34.6586,2,   -999.0,9,-999.0000,9,    226.3,2,  -999.00,9,  -999.00,9,     0.49,2,     0.19,2,     0.06,2, -999.000,9, -999.000,9,  -999.00,9,   -999.0,9,   -999.0,9,-999.0000,9,   -999.0,  9,  -999.00,9,   -999.0,  -999.00,9,  -999.00,9,     0.16,2,     0.20,2,   -999.0,-999.0000, -999,9,   75,  19.9555,  24.5130,   -999.0,9
       SH99-01,  NONE,SH-5702,  2,      6,1-133-93,2,19990122,1227, 31.5247, 135.2868, 4040,    102.1,  19.7427,  34.6751,2,   -999.0,9,-999.0000,9,    216.9,2,  -999.00,9,  -999.00,9,     1.07,2,     0.09,2,     0.08,2, -999.000,9, -999.000,9,  -999.00,9,   -999.0,9,   -999.0,9,-999.0000,9,   -999.0,  9,  -999.00,9,   -999.0,  -999.00,9,  -999.00,9,     0.04,2,     0.09,2,   -999.0,-999.0000, -999,9,  101,  19.7240,  24.5862,   -999.0,9
       SH99-01,  NONE,SH-5702,  2,      5,S-1-1-11,2,19990122,1226, 31.5247, 135.2868, 4040,    126.9,  19.4757,  34.6747,2,   -999.0,9,-999.0000,9,    220.4,2,  -999.00,9,  -999.00,9,     1.07,2,     0.08,2,     0.06,2, -999.000,9, -999.000,9,  -999.00,9,   -999.0,9,   -999.0,9,-999.0000,9,   -999.0,  9,  -999.00,9,   -999.0,  -999.00,9,  -999.00,9,     0.04,2,     0.06,2,   -999.0,-999.0000, -999,9,  126,  19.4528,  24.6563,   -999.0,9
       SH99-01,  NONE,SH-5702,  2,      4,S-1-1-12,2,19990122,1225, 31.5247, 135.2868, 4040,    151.7,  19.3692,  34.6996,2,   -999.0,9,-999.0000,9,    214.8,2,  -999.00,9,  -999.00,9,     1.66,2,     0.03,2,     0.10,2, -999.000,9, -999.000,9,  -999.00,9,   -999.0,9,   -999.0,9,-999.0000,9,   -999.0,  9,  -999.00,9,   -999.0,  -999.00,9,  -999.00,9,     0.01,2,     0.03,2,   -999.0,-999.0000, -999,9,  151,  19.3418,  24.7040,   -999.0,9
       SH99-01,  NONE,SH-5702,  2,      3,1-133-84,2,19990122,1223, 31.5247, 135.2868, 4040,    201.9,  19.0091,  34.6972,2,   -999.0,9,-999.0000,9,    219.4,2,  -999.00,9,  -999.00,9,     1.66,2,     0.02,2,     0.10,2, -999.000,9, -999.000,9,  -999.00,9,   -999.0,9,   -999.0,9,-999.0000,9,   -999.0,  9,  -999.00,9,   -999.0,  -999.00,9,  -999.00,9,     0.01,2,     0.03,2,   -999.0,-999.0000, -999,9,  200,  18.9731,  24.7966,   -999.0,9
       SH99-01,  NONE,SH-5702,  2,      2, S-1-1-7,2,19990122,1222, 31.5247, 135.2868, 4040,    252.7,  18.7518,  34.7117,2,   -999.0,9,-999.0000,9,    216.2,2,  -999.00,9,  -999.00,9,     2.15,2,     0.00,2,     0.13,2, -999.000,9, -999.000,9,  -999.00,9,   -999.0,9,   -999.0,9,-999.0000,9,   -999.0,  9,  -999.00,9,   -999.0,  -999.00,9,  -999.00,9,     0.00,2,     0.01,2,   -999.0,-999.0000, -999,9,  251,  18.7071,  24.8751,   -999.0,9
       SH99-01,  NONE,SH-5702,  2,      1, 1-133-1,2,19990122,1221, 31.5247, 135.2868, 4040,    304.6,  18.3502,  34.7415,2,   -999.0,9,-999.0000,9,    209.4,2,  -999.00,9,  -999.00,9,     3.32,2,     0.00,2,     0.20,2, -999.000,9, -999.000,9,  -999.00,9,   -999.0,9,   -999.0,9,-999.0000,9,   -999.0,  9,  -999.00,9,   -999.0,  -999.00,9,  -999.00,9,     0.00,2,     0.01,2,   -999.0,-999.0000, -999,9,  302,  18.2972,  25.0005,   -999.0,9
       SH99-01,  NONE,SH-5702,  1,     12, 1-133-7,2,19990122,1144, 31.5108, 135.2645, 3540,    401.9,  17.7535,  34.7526,2,   -999.0,9,-999.0000,9,    207.7,2,  -999.00,9,  -999.00,9,     4.10,2,     0.01,2,     0.24,2, -999.000,9, -999.000,9,  -999.00,9,   -999.0,9,   -999.0,9,-999.0000,9,   -999.0,  9,  -999.00,9,   -999.0,  -999.00,9,  -999.00,9,  -999.00,9,  -999.00,9,   -999.0,-999.0000, -999,9,  399,  17.6849,  25.1597,   -999.0,9
       SH99-01,  NONE,SH-5702,  1,     11, S-1-1-9,2,19990122,1142, 31.5108, 135.2645, 3540,    502.0,  16.8407,  34.7017,2,   -999.0,9,-999.0000,9,    201.5,2,  -999.00,9,  -999.00,9,     6.24,2,     0.00,2,     0.39,2, -999.000,9, -999.000,9,  -999.00,9,   -999.0,9,   -999.0,9,-999.0000,9,   -999.0,  9,  -999.00,9,   -999.0,  -999.00,9,  -999.00,9,  -999.00,9,  -999.00,9,   -999.0,-999.0000, -999,9,  498,  16.7579,  25.3425,   -999.0,9
       SH99-01,  NONE,SH-5702,  1,     10,1-133-94,2,19990122,1139, 31.5108, 135.2645, 3540,    604.4,  14.3165,  34.5286,2,   -999.0,9,-999.0000,9,    195.4,2,  -999.00,9,  -999.00,9,    10.43,2,     0.00,2,     0.70,2, -999.000,9, -999.000,9,  -999.00,9,   -999.0,9,   -999.0,9,-999.0000,9,   -999.0,  9,  -999.00,9,   -999.0,  -999.00,9,  -999.00,9,  -999.00,9,  -999.00,9,   -999.0,-999.0000, -999,9,  599,  14.2270,  25.7749,   -999.0,9
       SH99-01,  NONE,SH-5702,  1,      9, S-1-1-5,2,19990122,1137, 31.5108, 135.2645, 3540,    704.7,  11.9866,  34.3697,2,   -999.0,9,-999.0000,9,    176.6,2,  -999.00,9,  -999.00,9,    15.98,2,     0.00,2,     1.10,2, -999.000,9, -999.000,9,  -999.00,9,   -999.0,9,   -999.0,9,-999.0000,9,   -999.0,  9,  -999.00,9,   -999.0,  -999.00,9,  -999.00,9,  -999.00,9,  -999.00,9,   -999.0,-999.0000, -999,9,  699,  11.8934,  26.1197,   -999.0,9
       SH99-01,  NONE,SH-5702,  1,      8,1-133-95,2,19990122,1135, 31.5108, 135.2645, 3540,    806.7,   9.3250,  34.2303,2,   -999.0,9,-999.0000,9,    154.9,2,  -999.00,9,  -999.00,9,    22.31,2,     0.00,2,     1.59,2, -999.000,9, -999.000,9,  -999.00,9,   -999.0,9,   -999.0,9,-999.0000,9,   -999.0,  9,  -999.00,9,   -999.0,  -999.00,9,  -999.00,9,  -999.00,9,  -999.00,9,   -999.0,-999.0000, -999,9,  800,   9.2333,  26.4780,   -999.0,9
       SH99-01,  NONE,SH-5702,  1,      7, S-1-1-4,2,19990122,1133, 31.5108, 135.2645, 3540,    906.0,   7.1025,  34.1694,2,   -999.0,9,-999.0000,9,    128.0,2,  -999.00,9,  -999.00,9,    28.54,2,     0.00,2,     2.05,2, -999.000,9, -999.000,9,  -999.00,9,   -999.0,9,   -999.0,9,-999.0000,9,   -999.0,  9,  -999.00,9,   -999.0,  -999.00,9,  -999.00,9,  -999.00,9,  -999.00,9,   -999.0,-999.0000, -999,9,  898,   7.0138,  26.7626,   -999.0,9
       SH99-01,  NONE,SH-5702,  1,      6,1-133-93,2,19990122,1131, 31.5108, 135.2645, 3540,   1007.3,   5.5047,  34.2294,2,   -999.0,9,-999.0000,9,     92.7,2,  -999.00,9,  -999.00,9,    33.79,2,     0.01,2,     2.41,2, -999.000,9, -999.000,9,  -999.00,9,   -999.0,9,   -999.0,9,-999.0000,9,   -999.0,  9,  -999.00,9,   -999.0,  -999.00,9,  -999.00,9,  -999.00,9,  -999.00,9,   -999.0,-999.0000, -999,9,  998,   5.4174,  27.0154,   -999.0,9
       SH99-01,  NONE,SH-5702,  1,      5,S-1-1-11,2,19990122,1128, 31.5108, 135.2645, 3540,   1218.8,   3.9188,  34.3708,2,   -999.0,9,-999.0000,9,     69.1,2,  -999.00,9,  -999.00,9,    38.16,2,     0.00,2,     2.74,2, -999.000,9, -999.000,9,  -999.00,9,   -999.0,9,   -999.0,9,-999.0000,9,   -999.0,  9,  -999.00,9,   -999.0,  -999.00,9,  -999.00,9,  -999.00,9,  -999.00,9,   -999.0,-999.0000, -999,9, 1207,   3.8256,  27.3034,   -999.0,9
       SH99-01,  NONE,SH-5703,  2,     -9,      -9,5,19990122,1748, 31.0232, 135.2423, 4240,      0.0,  19.7996,  34.6581,2,   -999.0,9,-999.0000,9,    229.4,2,  -999.00,9,  -999.00,9,     0.20,2,     0.09,2,     0.12,2, -999.000,9, -999.000,9,  -999.00,9,   -999.0,9,   -999.0,9,-999.0000,9,   -999.0,  9,  -999.00,9,   -999.0,  -999.00,9,  -999.00,9,     0.22,2,     0.27,2,   -999.0,-999.0000, -999,9,    0,  19.7996,  24.5535,   -999.0,9
       SH99-01,  NONE,SH-5703,  2,      4,S-1-1-12,2,19990122,1747, 31.0232, 135.2423, 4240,     11.5,  19.8210,  34.6579,2,   -999.0,9,  34.7701,2,    228.9,2,  -999.00,9,  -999.00,9,     0.20,2,     0.09,2,     0.09,2, -999.000,9, -999.000,9,  -999.00,9,   -999.0,9,   -999.0,9,-999.0000,9,   -999.0,  9,  -999.00,9,   -999.0,  -999.00,9,  -999.00,9,     0.22,2,     0.27,2,   -999.0,-999.0000, -999,9,   11,  19.8189,  24.5483,   -999.0,9
       SH99-01,  NONE,SH-5703,  2,      3,1-133-84,2,19990122,1746, 31.0232, 135.2423, 4240,     26.2,  19.8194,  34.6577,2,   -999.0,9,  34.7695,2,    229.2,2,  -999.00,9,  -999.00,9,     0.20,2,     0.09,2,     0.08,2, -999.000,9, -999.000,9,  -999.00,9,   -999.0,9,   -999.0,9,-999.0000,9,   -999.0,  9,  -999.00,9,   -999.0,  -999.00,9,  -999.00,9,     0.23,2,     0.29,2,   -999.0,-999.0000, -999,9,   26,  19.8146,  24.5493,   -999.0,9
       SH99-01,  NONE,SH-5703,  2,      2, S-1-1-7,2,19990122,1745, 31.0232, 135.2423, 4240,     51.5,  19.7087,  34.6567,2,   -999.0,9,  34.7652,4,    230.2,2,  -999.00,9,  -999.00,9,     0.20,2,     0.08,2,     0.07,2, -999.000,9, -999.000,9,  -999.00,9,   -999.0,9,   -999.0,9,-999.0000,9,   -999.0,  9,  -999.00,9,   -999.0,  -999.00,9,  -999.00,9,     0.23,2,     0.32,2,   -999.0,-999.0000, -999,9,   51,  19.6994,  24.5786,   -999.0,9
       SH99-01,  NONE,SH-5703,  2,      1, 1-133-1,2,19990122,1743, 31.0232, 135.2423, 4240,     76.1,  19.6187,  34.6586,2,   -999.0,9,  34.7687,2,    231.0,2,  -999.00,9,  -999.00,9,     0.20,2,     0.09,2,     0.06,2, -999.000,9, -999.000,9,  -999.00,9,   -999.0,9,   -999.0,9,-999.0000,9,   -999.0,  9,  -999.00,9,   -999.0,  -999.00,9,  -999.00,9,     0.26,2,     0.34,2,   -999.0,-999.0000, -999,9,   76,  19.6049,  24.6046,   -999.0,9
       SH99-01,  NONE,SH-5703,  2,     12, 1-133-7,2,19990122,1742, 31.0232, 135.2423, 4240,    101.3,  19.5699,  34.6574,2,   -999.0,9,  34.7666,2,    229.0,2,  -999.00,9,  -999.00,9,     0.39,2,     0.13,2,     0.06,2, -999.000,9, -999.000,9,  -999.00,9,   -999.0,9,   -999.0,9,-999.0000,9,   -999.0,  9,  -999.00,9,   -999.0,  -999.00,9,  -999.00,9,     0.16,2,     0.25,2,   -999.0,-999.0000, -999,9,  101,  19.5515,  24.6176,   -999.0,9
       SH99-01,  NONE,SH-5703,  2,     11, S-1-1-9,2,19990122,1741, 31.0232, 135.2423, 4240,    126.9,  19.1924,  34.6939,2,   -999.0,9,  34.8026,2,    217.8,2,  -999.00,9,  -999.00,9,     1.37,2,     0.05,2,     0.12,2, -999.000,9, -999.000,9,  -999.00,9,   -999.0,9,   -999.0,9,-999.0000,9,   -999.0,  9,  -999.00,9,   -999.0,  -999.00,9,  -999.00,9,     0.03,2,     0.09,2,   -999.0,-999.0000, -999,9,  126,  19.1697,  24.7439,   -999.0,9
       SH99-01,  NONE,SH-5703,  2,     10,1-133-94,2,19990122,1739, 31.0232, 135.2423, 4240,    151.7,  18.8592,  34.7030,2,   -999.0,9,  34.8073,2,    216.9,2,  -999.00,9,  -999.00,9,     1.95,2,     0.01,2,     0.14,2, -999.000,9, -999.000,9,  -999.00,9,   -999.0,9,   -999.0,9,-999.0000,9,   -999.0,  9,  -999.00,9,   -999.0,  -999.00,9,  -999.00,9,     0.01,2,     0.02,2,   -999.0,-999.0000, -999,9,  151,  18.8323,  24.8367,   -999.0,9
       SH99-01,  NONE,SH-5703,  2,      9, S-1-1-5,2,19990122,1738, 31.0232, 135.2423, 4240,    202.8,  18.3984,  34.7475,2,   -999.0,9,  34.8487,2,    213.3,2,  -999.00,9,  -999.00,9,     2.83,2,     0.01,2,     0.19,2, -999.000,9, -999.000,9,  -999.00,9,   -999.0,9,   -999.0,9,-999.0000,9,   -999.0,  9,  -999.00,9,   -999.0,  -999.00,9,  -999.00,9,     0.00,2,     0.01,2,   -999.0,-999.0000, -999,9,  201,  18.3631,  24.9887,   -999.0,9
       SH99-01,  NONE,SH-5703,  2,      8,1-133-95,2,19990122,1736, 31.0232, 135.2423, 4240,    253.1,  18.1433,  34.7766,2,   -999.0,9,  34.8751,2,    213.5,2,  -999.00,9,  -999.00,9,     2.83,2,     0.01,2,     0.19,2, -999.000,9, -999.000,9,  -999.00,9,   -999.0,9,   -999.0,9,-999.0000,9,   -999.0,  9,  -999.00,9,   -999.0,  -999.00,9,  -999.00,9,     0.00,2,     0.01,2,   -999.0,-999.0000, -999,9,  251,  18.0996,  25.0764,   -999.0,9
       SH99-01,  NONE,SH-5703,  2,      7, S-1-1-4,2,19990122,1735, 31.0232, 135.2423, 4240,    305.2,  18.0909,  34.7853,2,   -999.0,9,  34.8822,2,    215.9,2,  -999.00,9,  -999.00,9,     2.63,2,     0.01,2,     0.17,2, -999.000,9, -999.000,9,  -999.00,9,   -999.0,9,   -999.0,9,-999.0000,9,   -999.0,  9,  -999.00,9,   -999.0,  -999.00,9,  -999.00,9,     0.00,2,     0.00,2,   -999.0,-999.0000, -999,9,  303,  18.0383,  25.0982,   -999.0,9
       SH99-01,  NONE,SH-5703,  1,      6,1-133-93,2,19990122,1657, 31.0077, 135.2453, 4230,    401.3,  18.0547,  34.7919,2,   -999.0,9,  34.9251,2,    216.4,2,  -999.00,9,  -999.00,9,     2.63,2,     0.01,2,     0.16,2, -999.000,9, -999.000,9,  -999.00,9,   -999.0,9,   -999.0,9,-999.0000,9,   -999.0,  9,  -999.00,9,   -999.0,  -999.00,9,  -999.00,9,  -999.00,9,  -999.00,9,   -999.0,-999.0000, -999,9,  398,  17.9854,  25.1163,   -999.0,9
       SH99-01,  NONE,SH-5703,  1,      5,S-1-1-11,2,19990122,1655, 31.0077, 135.2453, 4230,    501.9,  17.3148,  34.7431,2,   -999.0,9,  34.8314,2,    205.5,2,  -999.00,9,  -999.00,9,     4.88,2,     0.01,2,     0.32,2, -999.000,9, -999.000,9,  -999.00,9,   -999.0,9,   -999.0,9,-999.0000,9,   -999.0,  9,  -999.00,9,   -999.0,  -999.00,9,  -999.00,9,  -999.00,9,  -999.00,9,   -999.0,-999.0000, -999,9,  498,  17.2304,  25.2621,   -999.0,9
       SH99-01,  NONE,SH-5703,  1,      4,S-1-1-12,2,19990122,1653, 31.0077, 135.2453, 4230,    602.8,  15.3603,  34.6118,2,   -999.0,9,  34.6841,2,    203.2,2,  -999.00,9,  -999.00,9,     8.09,2,     0.00,2,     0.54,2, -999.000,9, -999.000,9,  -999.00,9,   -999.0,9,   -999.0,9,-999.0000,9,   -999.0,  9,  -999.00,9,   -999.0,  -999.00,9,  -999.00,9,  -999.00,9,  -999.00,9,   -999.0,-999.0000, -999,9,  598,  15.2667,  25.6139,   -999.0,9
       SH99-01,  NONE,SH-5703,  1,      3,1-133-84,2,19990122,1651, 31.0077, 135.2453, 4230,    704.5,  13.2303,  34.4570,2,   -999.0,9,  34.5110,2,    184.0,2,  -999.00,9,  -999.00,9,    13.06,2,     0.01,2,     0.93,2, -999.000,9, -999.000,9,  -999.00,9,   -999.0,9,   -999.0,9,-999.0000,9,   -999.0,  9,  -999.00,9,   -999.0,  -999.00,9,  -999.00,9,  -999.00,9,  -999.00,9,   -999.0,-999.0000, -999,9,  698,  13.1310,  25.9459,   -999.0,9
       SH99-01,  NONE,SH-5703,  1,      2, S-1-1-7,2,19990122,1648, 31.0077, 135.2453, 4230,    804.3,   9.6480,  34.2612,2,   -999.0,9,  34.2930,2,    153.1,2,  -999.00,9,  -999.00,9,    21.53,2,     0.00,2,     1.54,2, -999.000,9, -999.000,9,  -999.00,9,   -999.0,9,   -999.0,9,-999.0000,9,   -999.0,  9,  -999.00,9,   -999.0,  -999.00,9,  -999.00,9,  -999.00,9,  -999.00,9,   -999.0,-999.0000, -999,9,  797,   9.5547,  26.4496,   -999.0,9
       SH99-01,  NONE,SH-5703,  1,      1, 1-133-1,2,19990122,1646, 31.0077, 135.2453, 4230,    906.2,   7.1557,  34.1948,2,   -999.0,9,  34.2084,2,    122.2,2,  -999.00,9,  -999.00,9,    28.44,2,     0.00,2,     2.05,2, -999.000,9, -999.000,9,  -999.00,9,   -999.0,9,   -999.0,9,-999.0000,9,   -999.0,  9,  -999.00,9,   -999.0,  -999.00,9,  -999.00,9,  -999.00,9,  -999.00,9,   -999.0,-999.0000, -999,9,  898,   7.0666,  26.7752,   -999.0,9
       SH99-01,  NONE,SH-5703,  1,     12, 1-133-7,2,19990122,1644, 31.0077, 135.2453, 4230,   1007.2,   5.8957,  34.2133,2,   -999.0,9,  34.2322,4,    103.7,2,  -999.00,9,  -999.00,9,    32.72,2,     0.01,2,     2.36,2, -999.000,9, -999.000,9,  -999.00,9,   -999.0,9,   -999.0,9,-999.0000,9,   -999.0,  9,  -999.00,9,   -999.0,  -999.00,9,  -999.00,9,  -999.00,9,  -999.00,9,   -999.0,-999.0000, -999,9,  998,   5.8054,  26.9553,   -999.0,9
       SH99-01,  NONE,SH-5703,  1,     11, S-1-1-9,2,19990122,1640, 31.0077, 135.2453, 4230,   1212.2,   4.0420,  34.3611,2,   -999.0,9,  34.3707,4,     69.5,2,  -999.00,9,  -999.00,9,    38.06,2,     0.00,2,     2.73,2, -999.000,9, -999.000,9,  -999.00,9,   -999.0,9,   -999.0,9,-999.0000,9,   -999.0,  9,  -999.00,9,   -999.0,  -999.00,9,  -999.00,9,  -999.00,9,  -999.00,9,   -999.0,-999.0000, -999,9, 1200,   3.9482,  27.2833,   -999.0,9