BOTTLE,20130510GEMDJMAYT
EXPOCODE,SECT_ID,STNNBR,CASTNO,SAMPNO,BTLNBR,BTLNBR_FLAG_W,DATE,TIME,LATITUDE,LONGITUDE,DEPTH,CTDPRS,CTDTMP,CTDSAL,CTDSAL_FLAG_W,CTDOXY,CTDOXY_FLAG_W,SALNTY,SALNTY_FLAG_W,OXYGEN,OXYGEN_FLAG_W,SILCAT,SILCAT_FLAG_W,NITRAT,NITRAT_FLAG_W,NO2+NO3,NO2+NO3_FLAG_W,NITRIT,NITRIT_FLAG_W,PHSPHT,PHSPHT_FLAG_W,CFC-11,CFC-11_FLAG_W,CFC-12,CFC-12_FLAG_W,DELC13,DELC13_FLAG_W,TCARBN,TCARBN_FLAG_W,ALKALI,ALKALI_FLAG_W,PH,PH_FLAG_W,PH_TMP,PH_SCALE,PH_NBS,PH_NBS_FLAG_W,C13ERR,TOTALP,TOTALP_FLAG_W,AMMONI,AMMONI_FLAG_W,CHLORA,CHLORA_FLAG_W,PPHYTN,PPHYTN_FLAG_W,REVPRS,REVTMP,DEPTH_,DEPTH_FLAG,CTDDEP,THETA,SIGTHT,DOC,DOC_FLAG_W
,,,,,,,GMT,GMT,,,METER,DBAR,ITS-90,PSS-78,,UMOL/KG,,PSS-78,,UMOL/KG,,UMOL/KG,,UMOL/KG,,UMOL/KG,,UMOL/KG,,UMOL/KG,,PMOL/KG,,PMOL/KG,,/MILLE,,UMOL/KG,,UMOL/KG,,25_DEG_C,,DEG_C,,,,/MILLE,UMOL/KG,,UMOL/KG,,UG/L,,UG/L,,DBAR,ITS-90,METERS,,METERS,DEG_C,,UMOL/L,
       SH99-04,  NONE,SH-5739,  2,     -9,      -9,5,19990502,1547, 29.5108, 133.4768, 2630,      0.0,  21.2965,  34.8379,2,   -999.0,9,-999.0000,9,    226.0,2,  -999.00,9,  -999.00,9,     0.00,2,     0.01,2,     0.00,2, -999.000,9, -999.000,9,  -999.00,9,   -999.0,9,   -999.0,9,-999.0000,9,   -999.0,  9,     8.19,2,   -999.0,  -999.00,9,  -999.00,9,     0.06,2,     0.04,2,   -999.0,-999.0000, -999,9,    0,  21.2965,  24.2896,   -999.0,9
       SH99-04,  NONE,SH-5739,  2,      1, 1-133-1,2,19990502,1544, 29.5108, 133.4768, 2630,     11.0,  21.2947,  34.8461,2,   -999.0,9,  34.8448,2,    225.3,2,  -999.00,9,  -999.00,9,     0.00,2,     0.01,2,     0.00,2, -999.000,9, -999.000,9,  -999.00,9,   -999.0,9,   -999.0,9,-999.0000,9,   -999.0,  9,     8.19,2,   -999.0,  -999.00,9,  -999.00,9,     0.06,2,     0.03,2,   -999.0,-999.0000, -999,9,   11,  21.2926,  24.2968,   -999.0,9
       SH99-04,  NONE,SH-5739,  2,     12,S-1-1-10,2,19990502,1543, 29.5108, 133.4768, 2630,     25.2,  21.3004,  34.8445,2,   -999.0,9,  34.8463,2,    225.1,2,  -999.00,9,  -999.00,9,     0.00,2,     0.00,2,     0.00,2, -999.000,9, -999.000,9,  -999.00,9,   -999.0,9,   -999.0,9,-999.0000,9,   -999.0,  9,     8.19,2,   -999.0,  -999.00,9,  -999.00,9,     0.06,2,     0.03,2,   -999.0,-999.0000, -999,9,   25,  21.2955,  24.2949,   -999.0,9
       SH99-04,  NONE,SH-5739,  2,     11, S-1-1-9,2,19990502,1542, 29.5108, 133.4768, 2630,     52.9,  20.9385,  34.8265,2,   -999.0,9,  34.8337,2,    225.8,2,  -999.00,9,  -999.00,9,     0.00,2,     0.00,2,     0.00,2, -999.000,9, -999.000,9,  -999.00,9,   -999.0,9,   -999.0,9,-999.0000,9,   -999.0,  9,     8.19,2,   -999.0,  -999.00,9,  -999.00,9,     0.13,2,     0.10,2,   -999.0,-999.0000, -999,9,   52,  20.9284,  24.3813,   -999.0,9
       SH99-04,  NONE,SH-5739,  2,     10,1-133-94,2,19990502,1541, 29.5108, 133.4768, 2630,     78.1,  20.5878,  34.8370,2,   -999.0,9,  34.8392,2,    225.6,2,  -999.00,9,  -999.00,9,     0.00,2,     0.01,2,     0.02,2, -999.000,9, -999.000,9,  -999.00,9,   -999.0,9,   -999.0,9,-999.0000,9,   -999.0,  9,     8.18,2,   -999.0,  -999.00,9,  -999.00,9,     0.20,2,     0.22,2,   -999.0,-999.0000, -999,9,   78,  20.5731,  24.4851,   -999.0,9
       SH99-04,  NONE,SH-5739,  2,      9, S-1-1-5,2,19990502,1540, 29.5108, 133.4768, 2630,    102.3,  20.2464,  34.8269,2,   -999.0,9,  34.8249,2,    223.9,2,  -999.00,9,  -999.00,9,     0.00,2,     0.03,2,     0.02,2, -999.000,9, -999.000,9,  -999.00,9,   -999.0,9,   -999.0,9,-999.0000,9,   -999.0,  9,     8.17,2,   -999.0,  -999.00,9,  -999.00,9,     0.31,2,     0.51,2,   -999.0,-999.0000, -999,9,  102,  20.2274,  24.5696,   -999.0,9
       SH99-04,  NONE,SH-5739,  2,      8,1-133-95,2,19990502,1540, 29.5108, 133.4768, 2630,    127.7,  19.4381,  34.7894,2,   -999.0,9,  34.7876,2,    230.2,2,  -999.00,9,  -999.00,9,     0.39,2,     0.16,2,     0.04,2, -999.000,9, -999.000,9,  -999.00,9,   -999.0,9,   -999.0,9,-999.0000,9,   -999.0,  9,     8.17,2,   -999.0,  -999.00,9,  -999.00,9,     0.16,2,     0.26,2,   -999.0,-999.0000, -999,9,  127,  19.4150,  24.7537,   -999.0,9
       SH99-04,  NONE,SH-5739,  2,      7, S-1-1-4,2,19990502,1539, 29.5108, 133.4768, 2630,    151.8,  19.3383,  34.7996,2,   -999.0,9,  34.7985,2,    226.6,2,  -999.00,9,  -999.00,9,     0.88,2,     0.19,2,     0.07,2, -999.000,9, -999.000,9,  -999.00,9,   -999.0,9,   -999.0,9,-999.0000,9,   -999.0,  9,     8.17,2,   -999.0,  -999.00,9,  -999.00,9,     0.11,2,     0.15,2,   -999.0,-999.0000, -999,9,  151,  19.3109,  24.7884,   -999.0,9
       SH99-04,  NONE,SH-5739,  2,      6,1-133-93,2,19990502,1538, 29.5108, 133.4768, 2630,    203.7,  18.7833,  34.8386,2,   -999.0,9,  34.8383,2,    200.9,2,  -999.00,9,  -999.00,9,     3.22,2,     0.01,2,     0.24,2, -999.000,9, -999.000,9,  -999.00,9,   -999.0,9,   -999.0,9,-999.0000,9,   -999.0,  9,     8.11,2,   -999.0,  -999.00,9,  -999.00,9,     0.01,2,     0.02,2,   -999.0,-999.0000, -999,9,  202,  18.7473,  24.9619,   -999.0,9
       SH99-04,  NONE,SH-5739,  2,      5, 1-133-2,2,19990502,1537, 29.5108, 133.4768, 2630,    253.9,  17.8415,  34.8175,2,   -999.0,9,  34.8174,2,    199.3,2,  -999.00,9,  -999.00,9,     4.39,2,     0.01,2,     0.33,2, -999.000,9, -999.000,9,  -999.00,9,   -999.0,9,   -999.0,9,-999.0000,9,   -999.0,  9,     8.09,2,   -999.0,  -999.00,9,  -999.00,9,     0.00,2,     0.01,2,   -999.0,-999.0000, -999,9,  252,  17.7982,  25.1818,   -999.0,9
       SH99-04,  NONE,SH-5739,  2,      4, 1-133-7,2,19990502,1535, 29.5108, 133.4768, 2630,    304.2,  17.0273,  34.7820,2,   -999.0,9,  34.7882,2,    197.6,2,  -999.00,9,  -999.00,9,     5.75,2,     0.01,2,     0.42,2, -999.000,9, -999.000,9,  -999.00,9,   -999.0,9,   -999.0,9,-999.0000,9,   -999.0,  9,     8.07,2,   -999.0,  -999.00,9,  -999.00,9,     0.00,2,     0.01,2,   -999.0,-999.0000, -999,9,  302,  16.9769,  25.3524,   -999.0,9
       SH99-04,  NONE,SH-5739,  1,      4, 1-133-7,4,19990502,1500, 29.5013, 133.4960, 2740,    401.7,  15.0684,  34.6349,2,   -999.0,9,  34.2756,4,    156.4,4,  -999.00,9,  -999.00,9,    21.35,4,     0.00,4,     1.62,4, -999.000,9, -999.000,9,  -999.00,9,   -999.0,9,   -999.0,9,-999.0000,9,   -999.0,  9,     7.81,4,   -999.0,  -999.00,9,  -999.00,9,  -999.00,9,  -999.00,9,   -999.0,-999.0000, -999,9,  399,  15.0072,  25.6889,   -999.0,9
       SH99-04,  NONE,SH-5739,  1,      3,1-133-84,2,19990502,1500, 29.5013, 133.4960, 2740,    401.7,  15.0684,  34.6349,2,   -999.0,9,  34.6355,2,    188.0,2,  -999.00,9,  -999.00,9,     9.55,2,     0.01,2,     0.70,2, -999.000,9, -999.000,9,  -999.00,9,   -999.0,9,   -999.0,9,-999.0000,9,   -999.0,  9,     8.01,2,   -999.0,  -999.00,9,  -999.00,9,  -999.00,9,  -999.00,9,   -999.0,-999.0000, -999,9,  399,  15.0072,  25.6889,   -999.0,9
       SH99-04,  NONE,SH-5739,  1,      2, S-1-1-7,2,19990502,1459, 29.5013, 133.4960, 2740,    502.4,  12.7179,  34.4669,2,   -999.0,9,  34.4640,2,    175.4,2,  -999.00,9,  -999.00,9,    14.33,2,     0.00,2,     1.06,2, -999.000,9, -999.000,9,  -999.00,9,   -999.0,9,   -999.0,9,-999.0000,9,   -999.0,  9,     7.93,2,   -999.0,  -999.00,9,  -999.00,9,  -999.00,9,  -999.00,9,   -999.0,-999.0000, -999,9,  498,  12.6493,  26.0494,   -999.0,9
       SH99-04,  NONE,SH-5739,  1,      1, 1-133-1,2,19990502,1457, 29.5013, 133.4960, 2740,    603.7,  10.0352,  34.2969,2,   -999.0,9,  34.2954,2,    157.8,2,  -999.00,9,  -999.00,9,    20.46,2,     0.00,2,     1.52,2, -999.000,9, -999.000,9,  -999.00,9,   -999.0,9,   -999.0,9,-999.0000,9,   -999.0,  9,     7.83,2,   -999.0,  -999.00,9,  -999.00,9,  -999.00,9,  -999.00,9,   -999.0,-999.0000, -999,9,  599,   9.9642,  26.4090,   -999.0,9
       SH99-04,  NONE,SH-5739,  1,     12,S-1-1-10,2,19990502,1455, 29.5013, 133.4960, 2740,    703.4,   7.7216,  34.2051,2,   -999.0,9,  34.2043,2,    132.2,2,  -999.00,9,  -999.00,9,    26.49,2,     0.01,2,     2.00,2, -999.000,9, -999.000,9,  -999.00,9,   -999.0,9,   -999.0,9,-999.0000,9,   -999.0,  9,     7.72,2,   -999.0,  -999.00,9,  -999.00,9,  -999.00,9,  -999.00,9,   -999.0,-999.0000, -999,9,  697,   7.6504,  26.7008,   -999.0,9
       SH99-04,  NONE,SH-5739,  1,     11, S-1-1-9,2,19990502,1453, 29.5013, 133.4960, 2740,    804.6,   6.1639,  34.2090,2,   -999.0,9,  34.2090,2,    103.4,2,  -999.00,9,  -999.00,9,    31.45,2,     0.00,2,     2.38,2, -999.000,9, -999.000,9,  -999.00,9,   -999.0,9,   -999.0,9,-999.0000,9,   -999.0,  9,     7.63,2,   -999.0,  -999.00,9,  -999.00,9,  -999.00,9,  -999.00,9,   -999.0,-999.0000, -999,9,  798,   6.0913,  26.9160,   -999.0,9
       SH99-04,  NONE,SH-5739,  1,     10,1-133-94,2,19990502,1450, 29.5013, 133.4960, 2740,    905.6,   5.0318,  34.2677,2,   -999.0,9,  34.2695,2,     81.0,2,  -999.00,9,  -999.00,9,    35.15,2,     0.01,2,     2.66,2, -999.000,9, -999.000,9,  -999.00,9,   -999.0,9,   -999.0,9,-999.0000,9,   -999.0,  9,     7.57,2,   -999.0,  -999.00,9,  -999.00,9,  -999.00,9,  -999.00,9,   -999.0,-999.0000, -999,9,  898,   4.9571,  27.0996,   -999.0,9
       SH99-04,  NONE,SH-5739,  1,      9, S-1-1-5,2,19990502,1449, 29.5013, 133.4960, 2740,   1006.6,   4.1592,  34.3486,2,   -999.0,9,  34.3539,2,     67.4,2,  -999.00,9,  -999.00,9,    37.38,2,     0.00,2,     2.82,2, -999.000,9, -999.000,9,  -999.00,9,   -999.0,9,   -999.0,9,-999.0000,9,   -999.0,  9,     7.55,2,   -999.0,  -999.00,9,  -999.00,9,  -999.00,9,  -999.00,9,   -999.0,-999.0000, -999,9,  997,   4.0820,  27.2595,   -999.0,9
       SH99-04,  NONE,SH-5739,  1,      8,1-133-95,2,19990502,1445, 29.5013, 133.4960, 2740,   1209.7,   3.3947,  34.4370,2,   -999.0,9,  34.4367,2,     67.5,2,  -999.00,9,  -999.00,9,    38.35,2,     0.00,2,     2.90,2, -999.000,9, -999.000,9,  -999.00,9,   -999.0,9,   -999.0,9,-999.0000,9,   -999.0,  9,     7.54,2,   -999.0,  -999.00,9,  -999.00,9,  -999.00,9,  -999.00,9,   -999.0,-999.0000, -999,9, 1198,   3.3070,  27.4071,   -999.0,9
       SH99-04,  NONE,SH-5739,  1,      7, S-1-1-4,2,19990502,1441, 29.5013, 133.4960, 2740,   1513.0,   2.6146,  34.5205,2,   -999.0,9,  34.5222,2,   -999.0,9,  -999.00,9,  -999.00,9,  -999.00,9,  -999.00,9,  -999.00,9, -999.000,9, -999.000,9,  -999.00,9,   -999.0,9,   -999.0,9,-999.0000,9,   -999.0,  9,  -999.00,9,   -999.0,  -999.00,9,  -999.00,9,  -999.00,9,  -999.00,9,   -999.0,-999.0000, -999,9, 1497,   2.5103,  27.5456,   -999.0,9
       SH99-04,  NONE,SH-5739,  1,      6,1-133-93,2,19990502,1435, 29.5013, 133.4960, 2740,   2019.3,   2.0358,  34.6097,2,   -999.0,9,  34.6070,2,   -999.0,9,  -999.00,9,  -999.00,9,  -999.00,9,  -999.00,9,  -999.00,9, -999.000,9, -999.000,9,  -999.00,9,   -999.0,9,   -999.0,9,-999.0000,9,   -999.0,  9,  -999.00,9,   -999.0,  -999.00,9,  -999.00,9,  -999.00,9,  -999.00,9,   -999.0,-999.0000, -999,9, 1996,   1.8972,  27.6670,   -999.0,9
       SH99-04,  NONE,SH-5739,  1,      5, 1-133-2,2,19990502,1428, 29.5013, 133.4960, 2740,   2525.5,   1.7179,  34.6566,2,   -999.0,9,  34.6489,2,   -999.0,9,  -999.00,9,  -999.00,9,  -999.00,9,  -999.00,9,  -999.00,9, -999.000,9, -999.000,9,  -999.00,9,   -999.0,9,   -999.0,9,-999.0000,9,   -999.0,  9,  -999.00,9,   -999.0,  -999.00,9,  -999.00,9,  -999.00,9,  -999.00,9,   -999.0,-999.0000, -999,9, 2493,   1.5405,  27.7316,   -999.0,9
       SH99-04,  NONE,SH-5740,  2,     -9,      -9,5,19990502,2131, 29.9688, 132.9388, 3800,      0.0,  21.1163,  34.8654,2,   -999.0,9,-999.0000,9,    226.5,2,  -999.00,9,  -999.00,9,     0.00,2,     0.00,2,     0.00,2, -999.000,9, -999.000,9,  -999.00,9,   -999.0,9,   -999.0,9,-999.0000,9,   -999.0,  9,  -999.00,9,   -999.0,  -999.00,9,  -999.00,9,     0.08,2,     0.04,2,   -999.0,-999.0000, -999,9,    0,  21.1163,  24.3598,   -999.0,9
       SH99-04,  NONE,SH-5740,  2,      8,1-133-95,2,19990502,2129, 29.9688, 132.9388, 3800,     13.1,  21.1353,  34.8474,2,   -999.0,9,-999.0000,9,    226.3,2,  -999.00,9,  -999.00,9,     0.00,2,     0.00,2,     0.00,2, -999.000,9, -999.000,9,  -999.00,9,   -999.0,9,   -999.0,9,-999.0000,9,   -999.0,  9,  -999.00,9,   -999.0,  -999.00,9,  -999.00,9,     0.08,2,     0.04,2,   -999.0,-999.0000, -999,9,   13,  21.1327,  24.3416,   -999.0,9
       SH99-04,  NONE,SH-5740,  2,      7, S-1-1-4,2,19990502,2128, 29.9688, 132.9388, 3800,     26.6,  21.1401,  34.8474,2,   -999.0,9,-999.0000,9,    226.6,2,  -999.00,9,  -999.00,9,     0.00,2,     0.00,2,     0.00,2, -999.000,9, -999.000,9,  -999.00,9,   -999.0,9,   -999.0,9,-999.0000,9,   -999.0,  9,  -999.00,9,   -999.0,  -999.00,9,  -999.00,9,     0.08,2,     0.04,2,   -999.0,-999.0000, -999,9,   26,  21.1350,  24.3410,   -999.0,9
       SH99-04,  NONE,SH-5740,  2,      6,1-133-93,2,19990502,2127, 29.9688, 132.9388, 3800,     52.2,  21.1460,  34.8581,2,   -999.0,9,-999.0000,9,    225.8,2,  -999.00,9,  -999.00,9,     0.00,2,     0.01,2,     0.01,2, -999.000,9, -999.000,9,  -999.00,9,   -999.0,9,   -999.0,9,-999.0000,9,   -999.0,  9,  -999.00,9,   -999.0,  -999.00,9,  -999.00,9,     0.09,2,     0.04,2,   -999.0,-999.0000, -999,9,   52,  21.1360,  24.3489,   -999.0,9
       SH99-04,  NONE,SH-5740,  2,      5, 1-133-2,2,19990502,2126, 29.9688, 132.9388, 3800,     77.0,  20.7627,  34.8659,2,   -999.0,9,-999.0000,9,    224.3,2,  -999.00,9,  -999.00,9,     0.00,2,     0.00,2,     0.01,2, -999.000,9, -999.000,9,  -999.00,9,   -999.0,9,   -999.0,9,-999.0000,9,   -999.0,  9,  -999.00,9,   -999.0,  -999.00,9,  -999.00,9,     0.21,2,     0.23,2,   -999.0,-999.0000, -999,9,   76,  20.7481,  24.4601,   -999.0,9
       SH99-04,  NONE,SH-5740,  2,      4, 1-133-7,2,19990502,2125, 29.9688, 132.9388, 3800,     99.8,  19.5161,  34.8362,2,   -999.0,9,-999.0000,9,    217.0,2,  -999.00,9,  -999.00,9,     1.46,2,     0.07,2,     0.11,2, -999.000,9, -999.000,9,  -999.00,9,   -999.0,9,   -999.0,9,-999.0000,9,   -999.0,  9,  -999.00,9,   -999.0,  -999.00,9,  -999.00,9,     0.09,2,     0.11,2,   -999.0,-999.0000, -999,9,   99,  19.4980,  24.7680,   -999.0,9
       SH99-04,  NONE,SH-5740,  2,      3,1-133-84,2,19990502,2124, 29.9688, 132.9388, 3800,    127.5,  19.2184,  34.8113,2,   -999.0,9,-999.0000,9,    225.3,2,  -999.00,9,  -999.00,9,     1.07,2,     0.03,2,     0.09,2, -999.000,9, -999.000,9,  -999.00,9,   -999.0,9,   -999.0,9,-999.0000,9,   -999.0,  9,  -999.00,9,   -999.0,  -999.00,9,  -999.00,9,     0.04,2,     0.06,2,   -999.0,-999.0000, -999,9,  127,  19.1955,  24.8269,   -999.0,9
       SH99-04,  NONE,SH-5740,  2,      2, S-1-1-7,2,19990502,2122, 29.9688, 132.9388, 3800,    152.7,  19.1731,  34.8144,2,   -999.0,9,-999.0000,9,    224.3,2,  -999.00,9,  -999.00,9,     1.17,2,     0.03,2,     0.10,2, -999.000,9, -999.000,9,  -999.00,9,   -999.0,9,   -999.0,9,-999.0000,9,   -999.0,  9,  -999.00,9,   -999.0,  -999.00,9,  -999.00,9,     0.01,2,     0.04,2,   -999.0,-999.0000, -999,9,  152,  19.1457,  24.8420,   -999.0,9
       SH99-04,  NONE,SH-5740,  2,      1, 1-133-1,2,19990502,2121, 29.9688, 132.9388, 3800,    202.7,  18.4041,  34.8387,2,   -999.0,9,-999.0000,9,    199.5,2,  -999.00,9,  -999.00,9,     4.00,2,     0.03,2,     0.28,2, -999.000,9, -999.000,9,  -999.00,9,   -999.0,9,   -999.0,9,-999.0000,9,   -999.0,  9,  -999.00,9,   -999.0,  -999.00,9,  -999.00,9,     0.00,2,     0.01,2,   -999.0,-999.0000, -999,9,  201,  18.3687,  25.0571,   -999.0,9
       SH99-04,  NONE,SH-5740,  2,     12,S-1-1-10,2,19990502,2119, 29.9688, 132.9388, 3800,    253.3,  17.6175,  34.8108,2,   -999.0,9,-999.0000,9,    197.0,2,  -999.00,9,  -999.00,9,     5.27,2,     0.01,2,     0.36,2, -999.000,9, -999.000,9,  -999.00,9,   -999.0,9,   -999.0,9,-999.0000,9,   -999.0,  9,  -999.00,9,   -999.0,  -999.00,9,  -999.00,9,     0.00,2,     0.01,2,   -999.0,-999.0000, -999,9,  251,  17.5746,  25.2311,   -999.0,9
       SH99-04,  NONE,SH-5740,  2,     11, S-1-1-9,2,19990502,2118, 29.9688, 132.9388, 3800,    304.0,  16.8170,  34.7698,2,   -999.0,9,-999.0000,9,    197.2,2,  -999.00,9,  -999.00,9,     6.44,2,     0.01,2,     0.44,2, -999.000,9, -999.000,9,  -999.00,9,   -999.0,9,   -999.0,9,-999.0000,9,   -999.0,  9,  -999.00,9,   -999.0,  -999.00,9,  -999.00,9,     0.00,2,     0.01,2,   -999.0,-999.0000, -999,9,  302,  16.7671,  25.3926,   -999.0,9
       SH99-04,  NONE,SH-5740,  1,      9, S-1-1-5,2,19990502,2046, 29.9585, 132.9472, 3810,    404.6,  14.7224,  34.6197,2,   -999.0,9,-999.0000,9,    189.8,2,  -999.00,9,  -999.00,9,    10.14,2,     0.01,2,     0.71,2, -999.000,9, -999.000,9,  -999.00,9,   -999.0,9,   -999.0,9,-999.0000,9,   -999.0,  9,  -999.00,9,   -999.0,  -999.00,9,  -999.00,9,  -999.00,9,  -999.00,9,   -999.0,-999.0000, -999,9,  401,  14.6617,  25.7523,   -999.0,9
       SH99-04,  NONE,SH-5740,  1,      8,1-133-95,2,19990502,2044, 29.9585, 132.9472, 3810,    506.3,  12.6680,  34.4561,2,   -999.0,9,-999.0000,9,    182.3,2,  -999.00,9,  -999.00,9,    14.23,2,     0.01,2,     1.00,2, -999.000,9, -999.000,9,  -999.00,9,   -999.0,9,   -999.0,9,-999.0000,9,   -999.0,  9,  -999.00,9,   -999.0,  -999.00,9,  -999.00,9,  -999.00,9,  -999.00,9,   -999.0,-999.0000, -999,9,  502,  12.5991,  26.0509,   -999.0,9
       SH99-04,  NONE,SH-5740,  1,      7, S-1-1-4,2,19990502,2042, 29.9585, 132.9472, 3810,    606.6,  10.0422,  34.2937,2,   -999.0,9,-999.0000,9,    160.7,2,  -999.00,9,  -999.00,9,    20.85,2,     0.00,2,     1.48,2, -999.000,9, -999.000,9,  -999.00,9,   -999.0,9,   -999.0,9,-999.0000,9,   -999.0,  9,  -999.00,9,   -999.0,  -999.00,9,  -999.00,9,  -999.00,9,  -999.00,9,   -999.0,-999.0000, -999,9,  602,   9.9708,  26.4054,   -999.0,9
       SH99-04,  NONE,SH-5740,  1,      6,1-133-93,2,19990502,2040, 29.9585, 132.9472, 3810,    708.1,   7.8613,  34.2090,2,   -999.0,9,-999.0000,9,    131.3,2,  -999.00,9,  -999.00,9,    27.27,2,     0.02,2,     1.94,2, -999.000,9, -999.000,9,  -999.00,9,   -999.0,9,   -999.0,9,-999.0000,9,   -999.0,  9,  -999.00,9,   -999.0,  -999.00,9,  -999.00,9,  -999.00,9,  -999.00,9,   -999.0,-999.0000, -999,9,  702,   7.7888,  26.6837,   -999.0,9
       SH99-04,  NONE,SH-5740,  1,      5, 1-133-2,2,19990502,2038, 29.9585, 132.9472, 3810,    807.6,   6.2083,  34.2388,2,   -999.0,9,-999.0000,9,     98.8,2,  -999.00,9,  -999.00,9,    32.91,2,     0.02,2,     2.36,2, -999.000,9, -999.000,9,  -999.00,9,   -999.0,9,   -999.0,9,-999.0000,9,   -999.0,  9,  -999.00,9,   -999.0,  -999.00,9,  -999.00,9,  -999.00,9,  -999.00,9,   -999.0,-999.0000, -999,9,  801,   6.1351,  26.9340,   -999.0,9
       SH99-04,  NONE,SH-5740,  1,      4, 1-133-7,2,19990502,2036, 29.9585, 132.9472, 3810,    908.4,   5.0076,  34.2742,2,   -999.0,9,-999.0000,9,     81.5,2,  -999.00,9,  -999.00,9,    36.41,2,     0.02,2,     2.61,2, -999.000,9, -999.000,9,  -999.00,9,   -999.0,9,   -999.0,9,-999.0000,9,   -999.0,  9,  -999.00,9,   -999.0,  -999.00,9,  -999.00,9,  -999.00,9,  -999.00,9,   -999.0,-999.0000, -999,9,  900,   4.9328,  27.1075,   -999.0,9
       SH99-04,  NONE,SH-5740,  1,      3,1-133-84,2,19990502,2034, 29.9585, 132.9472, 3810,   1011.3,   4.2973,  34.3367,2,   -999.0,9,-999.0000,9,     69.2,2,  -999.00,9,  -999.00,9,    38.06,2,     0.01,2,     2.74,2, -999.000,9, -999.000,9,  -999.00,9,   -999.0,9,   -999.0,9,-999.0000,9,   -999.0,  9,  -999.00,9,   -999.0,  -999.00,9,  -999.00,9,  -999.00,9,  -999.00,9,   -999.0,-999.0000, -999,9, 1002,   4.2187,  27.2356,   -999.0,9
       SH99-04,  NONE,SH-5740,  1,      2, S-1-1-7,2,19990502,2030, 29.9585, 132.9472, 3810,   1212.7,   3.4171,  34.4311,2,   -999.0,9,-999.0000,9,     67.5,2,  -999.00,9,  -999.00,9,    39.23,2,     0.01,2,     2.82,2, -999.000,9, -999.000,9,  -999.00,9,   -999.0,9,   -999.0,9,-999.0000,9,   -999.0,  9,  -999.00,9,   -999.0,  -999.00,9,  -999.00,9,  -999.00,9,  -999.00,9,   -999.0,-999.0000, -999,9, 1201,   3.3289,  27.4002,   -999.0,9