BOTTLE,20130510GEMDJMAYT
EXPOCODE,SECT_ID,STNNBR,CASTNO,SAMPNO,BTLNBR,BTLNBR_FLAG_W,DATE,TIME,LATITUDE,LONGITUDE,DEPTH,CTDPRS,CTDTMP,CTDSAL,CTDSAL_FLAG_W,CTDOXY,CTDOXY_FLAG_W,SALNTY,SALNTY_FLAG_W,OXYGEN,OXYGEN_FLAG_W,SILCAT,SILCAT_FLAG_W,NITRAT,NITRAT_FLAG_W,NO2+NO3,NO2+NO3_FLAG_W,NITRIT,NITRIT_FLAG_W,PHSPHT,PHSPHT_FLAG_W,CFC-11,CFC-11_FLAG_W,CFC-12,CFC-12_FLAG_W,DELC13,DELC13_FLAG_W,TCARBN,TCARBN_FLAG_W,ALKALI,ALKALI_FLAG_W,PH,PH_FLAG_W,PH_TMP,PH_SCALE,PH_NBS,PH_NBS_FLAG_W,C13ERR,TOTALP,TOTALP_FLAG_W,AMMONI,AMMONI_FLAG_W,CHLORA,CHLORA_FLAG_W,PPHYTN,PPHYTN_FLAG_W,REVPRS,REVTMP,DEPTH_,DEPTH_FLAG,CTDDEP,THETA,SIGTHT,DOC,DOC_FLAG_W
,,,,,,,GMT,GMT,,,METER,DBAR,ITS-90,PSS-78,,UMOL/KG,,PSS-78,,UMOL/KG,,UMOL/KG,,UMOL/KG,,UMOL/KG,,UMOL/KG,,UMOL/KG,,PMOL/KG,,PMOL/KG,,/MILLE,,UMOL/KG,,UMOL/KG,,25_DEG_C,,DEG_C,,,,/MILLE,UMOL/KG,,UMOL/KG,,UG/L,,UG/L,,DBAR,ITS-90,METERS,,METERS,DEG_C,,UMOL/L,
       SH99-04,  NONE,SH-5749,  1,      6,1-133-93,2,19990510,1931, 31.9960, 133.4583, 2320,     51.6,  20.7660,  34.8262,2,   -999.0,9,  34.8270,2,   -999.0,9,  -999.00,9,  -999.00,9,  -999.00,9,  -999.00,9,  -999.00,9, -999.000,9, -999.000,9,  -999.00,9,   -999.0,9,   -999.0,9,-999.0000,9,   -999.0,  9,  -999.00,9,   -999.0,  -999.00,9,  -999.00,9,  -999.00,9,  -999.00,9,   -999.0,-999.0000, -999,9,   51,  20.7562,  24.4276,   -999.0,9
       SH99-04,  NONE,SH-5749,  1,      5, 1-133-2,2,19990510,1929, 31.9960, 133.4583, 2320,    102.6,  19.3869,  34.8040,2,   -999.0,9,  34.8085,2,   -999.0,9,  -999.00,9,  -999.00,9,  -999.00,9,  -999.00,9,  -999.00,9, -999.000,9, -999.000,9,  -999.00,9,   -999.0,9,   -999.0,9,-999.0000,9,   -999.0,  9,  -999.00,9,   -999.0,  -999.00,9,  -999.00,9,  -999.00,9,  -999.00,9,   -999.0,-999.0000, -999,9,  102,  19.3684,  24.7769,   -999.0,9
       SH99-04,  NONE,SH-5749,  1,      4, S-1-1-2,2,19990510,1927, 31.9960, 133.4583, 2320,    153.1,  19.2320,  34.8119,2,   -999.0,9,  34.8154,2,   -999.0,9,  -999.00,9,  -999.00,9,  -999.00,9,  -999.00,9,  -999.00,9, -999.000,9, -999.000,9,  -999.00,9,   -999.0,9,   -999.0,9,-999.0000,9,   -999.0,  9,  -999.00,9,   -999.0,  -999.00,9,  -999.00,9,  -999.00,9,  -999.00,9,   -999.0,-999.0000, -999,9,  152,  19.2046,  24.8251,   -999.0,9
       SH99-04,  NONE,SH-5749,  1,      3,1-133-84,2,19990510,1925, 31.9960, 133.4583, 2320,    203.5,  18.8040,  34.8211,2,   -999.0,9,  34.8274,2,   -999.0,9,  -999.00,9,  -999.00,9,  -999.00,9,  -999.00,9,  -999.00,9, -999.000,9, -999.000,9,  -999.00,9,   -999.0,9,   -999.0,9,-999.0000,9,   -999.0,  9,  -999.00,9,   -999.0,  -999.00,9,  -999.00,9,  -999.00,9,  -999.00,9,   -999.0,-999.0000, -999,9,  202,  18.7680,  24.9433,   -999.0,9
       SH99-04,  NONE,SH-5749,  1,      2, S-1-1-7,2,19990510,1923, 31.9960, 133.4583, 2320,    303.7,  16.6218,  34.7501,2,   -999.0,9,  34.7542,2,   -999.0,9,  -999.00,9,  -999.00,9,  -999.00,9,  -999.00,9,  -999.00,9, -999.000,9, -999.000,9,  -999.00,9,   -999.0,9,   -999.0,9,-999.0000,9,   -999.0,  9,  -999.00,9,   -999.0,  -999.00,9,  -999.00,9,  -999.00,9,  -999.00,9,   -999.0,-999.0000, -999,9,  301,  16.5724,  25.4232,   -999.0,9
       SH99-04,  NONE,SH-5749,  1,      1, 1-133-1,2,19990510,1921, 31.9960, 133.4583, 2320,    400.2,  14.2264,  34.5753,2,   -999.0,9,  34.5755,2,   -999.0,9,  -999.00,9,  -999.00,9,  -999.00,9,  -999.00,9,  -999.00,9, -999.000,9, -999.000,9,  -999.00,9,   -999.0,9,   -999.0,9,-999.0000,9,   -999.0,  9,  -999.00,9,   -999.0,  -999.00,9,  -999.00,9,  -999.00,9,  -999.00,9,   -999.0,-999.0000, -999,9,  397,  14.1677,  25.8236,   -999.0,9
       SH99-04,  NONE,SH-5749,  1,     12,S-1-1-10,2,19990510,1918, 31.9960, 133.4583, 2320,    504.3,  11.1154,  34.3368,2,   -999.0,9,  34.3390,2,   -999.0,9,  -999.00,9,  -999.00,9,  -999.00,9,  -999.00,9,  -999.00,9, -999.000,9, -999.000,9,  -999.00,9,   -999.0,9,   -999.0,9,-999.0000,9,   -999.0,  9,  -999.00,9,   -999.0,  -999.00,9,  -999.00,9,  -999.00,9,  -999.00,9,   -999.0,-999.0000, -999,9,  500,  11.0524,  26.2496,   -999.0,9
       SH99-04,  NONE,SH-5749,  1,     11, S-1-1-9,2,19990510,1916, 31.9960, 133.4583, 2320,    605.5,   8.9650,  34.2817,2,   -999.0,9,  34.2987,4,   -999.0,9,  -999.00,9,  -999.00,9,  -999.00,9,  -999.00,9,  -999.00,9, -999.000,9, -999.000,9,  -999.00,9,   -999.0,9,   -999.0,9,-999.0000,9,   -999.0,  9,  -999.00,9,   -999.0,  -999.00,9,  -999.00,9,  -999.00,9,  -999.00,9,   -999.0,-999.0000, -999,9,  600,   8.8984,  26.5718,   -999.0,9
       SH99-04,  NONE,SH-5749,  1,     10,1-133-94,2,19990510,1913, 31.9960, 133.4583, 2320,    807.4,   5.4947,  34.2670,2,   -999.0,9,  34.2687,2,   -999.0,9,  -999.00,9,  -999.00,9,  -999.00,9,  -999.00,9,  -999.00,9, -999.000,9, -999.000,9,  -999.00,9,   -999.0,9,   -999.0,9,-999.0000,9,   -999.0,  9,  -999.00,9,   -999.0,  -999.00,9,  -999.00,9,  -999.00,9,  -999.00,9,   -999.0,-999.0000, -999,9,  800,   5.4258,  27.0442,   -999.0,9
       SH99-04,  NONE,SH-5749,  1,      9, S-1-1-5,2,19990510,1910, 31.9960, 133.4583, 2320,   1011.1,   3.8761,  34.3780,2,   -999.0,9,  34.3791,2,   -999.0,9,  -999.00,9,  -999.00,9,  -999.00,9,  -999.00,9,  -999.00,9, -999.000,9, -999.000,9,  -999.00,9,   -999.0,9,   -999.0,9,-999.0000,9,   -999.0,  9,  -999.00,9,   -999.0,  -999.00,9,  -999.00,9,  -999.00,9,  -999.00,9,   -999.0,-999.0000, -999,9, 1002,   3.8007,  27.3117,   -999.0,9
       SH99-04,  NONE,SH-5749,  1,      8,1-133-95,2,19990510,1906, 31.9960, 133.4583, 2320,   1222.6,   3.1250,  34.4543,2,   -999.0,9,  34.4540,2,   -999.0,9,  -999.00,9,  -999.00,9,  -999.00,9,  -999.00,9,  -999.00,9, -999.000,9, -999.000,9,  -999.00,9,   -999.0,9,   -999.0,9,-999.0000,9,   -999.0,  9,  -999.00,9,   -999.0,  -999.00,9,  -999.00,9,  -999.00,9,  -999.00,9,   -999.0,-999.0000, -999,9, 1210,   3.0388,  27.4459,   -999.0,9
       SH99-04,  NONE,SH-5750,  1,      5, 1-133-2,2,19990510,2158, 31.7432, 133.5878, 4290,     51.3,  20.8398,  34.8369,2,   -999.0,9,  34.8351,2,   -999.0,9,  -999.00,9,  -999.00,9,  -999.00,9,  -999.00,9,  -999.00,9, -999.000,9, -999.000,9,  -999.00,9,   -999.0,9,   -999.0,9,-999.0000,9,   -999.0,  9,  -999.00,9,   -999.0,  -999.00,9,  -999.00,9,  -999.00,9,  -999.00,9,   -999.0,-999.0000, -999,9,   51,  20.8301,  24.4158,   -999.0,9
       SH99-04,  NONE,SH-5750,  1,      4, S-1-1-2,2,19990510,2157, 31.7432, 133.5878, 4290,    100.7,  19.7943,  34.8459,2,   -999.0,9,  34.8463,2,   -999.0,9,  -999.00,9,  -999.00,9,  -999.00,9,  -999.00,9,  -999.00,9, -999.000,9, -999.000,9,  -999.00,9,   -999.0,9,   -999.0,9,-999.0000,9,   -999.0,  9,  -999.00,9,   -999.0,  -999.00,9,  -999.00,9,  -999.00,9,  -999.00,9,   -999.0,-999.0000, -999,9,  100,  19.7759,  24.7030,   -999.0,9
       SH99-04,  NONE,SH-5750,  1,      3,1-133-84,2,19990510,2155, 31.7432, 133.5878, 4290,    152.5,  19.2791,  34.8423,2,   -999.0,9,  34.8485,2,   -999.0,9,  -999.00,9,  -999.00,9,  -999.00,9,  -999.00,9,  -999.00,9, -999.000,9, -999.000,9,  -999.00,9,   -999.0,9,   -999.0,9,-999.0000,9,   -999.0,  9,  -999.00,9,   -999.0,  -999.00,9,  -999.00,9,  -999.00,9,  -999.00,9,   -999.0,-999.0000, -999,9,  151,  19.2517,  24.8362,   -999.0,9
       SH99-04,  NONE,SH-5750,  1,      2, S-1-1-7,2,19990510,2154, 31.7432, 133.5878, 4290,    202.3,  18.2760,  34.8408,2,   -999.0,9,  34.8268,4,   -999.0,9,  -999.00,9,  -999.00,9,  -999.00,9,  -999.00,9,  -999.00,9, -999.000,9, -999.000,9,  -999.00,9,   -999.0,9,   -999.0,9,-999.0000,9,   -999.0,  9,  -999.00,9,   -999.0,  -999.00,9,  -999.00,9,  -999.00,9,  -999.00,9,   -999.0,-999.0000, -999,9,  201,  18.2409,  25.0905,   -999.0,9
       SH99-04,  NONE,SH-5750,  1,      1, 1-133-1,2,19990510,2152, 31.7432, 133.5878, 4290,    303.0,  16.7085,  34.7655,2,   -999.0,9,  34.7684,2,   -999.0,9,  -999.00,9,  -999.00,9,  -999.00,9,  -999.00,9,  -999.00,9, -999.000,9, -999.000,9,  -999.00,9,   -999.0,9,   -999.0,9,-999.0000,9,   -999.0,  9,  -999.00,9,   -999.0,  -999.00,9,  -999.00,9,  -999.00,9,  -999.00,9,   -999.0,-999.0000, -999,9,  301,  16.6590,  25.4147,   -999.0,9
       SH99-04,  NONE,SH-5750,  1,     12,S-1-1-10,2,19990510,2150, 31.7432, 133.5878, 4290,    403.7,  14.6705,  34.6095,2,   -999.0,9,  34.5891,4,   -999.0,9,  -999.00,9,  -999.00,9,  -999.00,9,  -999.00,9,  -999.00,9, -999.000,9, -999.000,9,  -999.00,9,   -999.0,9,   -999.0,9,-999.0000,9,   -999.0,  9,  -999.00,9,   -999.0,  -999.00,9,  -999.00,9,  -999.00,9,  -999.00,9,   -999.0,-999.0000, -999,9,  400,  14.6101,  25.7555,   -999.0,9
       SH99-04,  NONE,SH-5750,  1,     11, S-1-1-9,2,19990510,2148, 31.7432, 133.5878, 4290,    504.6,  12.2946,  34.4308,2,   -999.0,9,  34.4361,2,   -999.0,9,  -999.00,9,  -999.00,9,  -999.00,9,  -999.00,9,  -999.00,9, -999.000,9, -999.000,9,  -999.00,9,   -999.0,9,   -999.0,9,-999.0000,9,   -999.0,  9,  -999.00,9,   -999.0,  -999.00,9,  -999.00,9,  -999.00,9,  -999.00,9,   -999.0,-999.0000, -999,9,  500,  12.2273,  26.1035,   -999.0,9
       SH99-04,  NONE,SH-5750,  1,     10,1-133-94,2,19990510,2146, 31.7432, 133.5878, 4290,    605.0,   9.7119,  34.2747,2,   -999.0,9,  34.2748,2,   -999.0,9,  -999.00,9,  -999.00,9,  -999.00,9,  -999.00,9,  -999.00,9, -999.000,9, -999.000,9,  -999.00,9,   -999.0,9,   -999.0,9,-999.0000,9,   -999.0,  9,  -999.00,9,   -999.0,  -999.00,9,  -999.00,9,  -999.00,9,  -999.00,9,   -999.0,-999.0000, -999,9,  600,   9.6421,  26.4457,   -999.0,9
       SH99-04,  NONE,SH-5750,  1,      9, S-1-1-5,2,19990510,2144, 31.7432, 133.5878, 4290,    806.3,   6.2255,  34.2527,2,   -999.0,9,  34.2547,2,   -999.0,9,  -999.00,9,  -999.00,9,  -999.00,9,  -999.00,9,  -999.00,9, -999.000,9, -999.000,9,  -999.00,9,   -999.0,9,   -999.0,9,-999.0000,9,   -999.0,  9,  -999.00,9,   -999.0,  -999.00,9,  -999.00,9,  -999.00,9,  -999.00,9,   -999.0,-999.0000, -999,9,  799,   6.1523,  26.9427,   -999.0,9
       SH99-04,  NONE,SH-5750,  1,      8,1-133-95,2,19990510,2141, 31.7432, 133.5878, 4290,   1010.6,   4.1175,  34.3472,2,   -999.0,9,  34.3439,2,   -999.0,9,  -999.00,9,  -999.00,9,  -999.00,9,  -999.00,9,  -999.00,9, -999.000,9, -999.000,9,  -999.00,9,   -999.0,9,   -999.0,9,-999.0000,9,   -999.0,  9,  -999.00,9,   -999.0,  -999.00,9,  -999.00,9,  -999.00,9,  -999.00,9,   -999.0,-999.0000, -999,9, 1001,   4.0403,  27.2627,   -999.0,9
       SH99-04,  NONE,SH-5750,  1,      7, S-1-1-4,2,19990510,2138, 31.7432, 133.5878, 4290,   1227.0,   3.2870,  34.4368,2,   -999.0,9,  34.4394,2,   -999.0,9,  -999.00,9,  -999.00,9,  -999.00,9,  -999.00,9,  -999.00,9, -999.000,9, -999.000,9,  -999.00,9,   -999.0,9,   -999.0,9,-999.0000,9,   -999.0,  9,  -999.00,9,   -999.0,  -999.00,9,  -999.00,9,  -999.00,9,  -999.00,9,   -999.0,-999.0000, -999,9, 1215,   3.1989,  27.4171,   -999.0,9
       SH99-04,  NONE,SH-5754,  1,      6,1-133-93,2,19990511,0748, 30.7462, 134.1057, 4430,     50.2,  20.2455,  34.8050,2,   -999.0,9,  34.7853,4,   -999.0,9,  -999.00,9,  -999.00,9,  -999.00,9,  -999.00,9,  -999.00,9, -999.000,9, -999.000,9,  -999.00,9,   -999.0,9,   -999.0,9,-999.0000,9,   -999.0,  9,  -999.00,9,   -999.0,  -999.00,9,  -999.00,9,  -999.00,9,  -999.00,9,   -999.0,-999.0000, -999,9,   50,  20.2361,  24.5506,   -999.0,9
       SH99-04,  NONE,SH-5754,  1,      5, 1-133-2,2,19990511,0746, 30.7462, 134.1057, 4430,    100.8,  19.3970,  34.8053,2,   -999.0,9,  34.8032,2,   -999.0,9,  -999.00,9,  -999.00,9,  -999.00,9,  -999.00,9,  -999.00,9, -999.000,9, -999.000,9,  -999.00,9,   -999.0,9,   -999.0,9,-999.0000,9,   -999.0,  9,  -999.00,9,   -999.0,  -999.00,9,  -999.00,9,  -999.00,9,  -999.00,9,   -999.0,-999.0000, -999,9,  100,  19.3788,  24.7752,   -999.0,9
       SH99-04,  NONE,SH-5754,  1,      4, S-1-1-2,2,19990511,0745, 30.7462, 134.1057, 4430,    151.5,  19.2136,  34.8079,2,   -999.0,9,  34.8062,2,   -999.0,9,  -999.00,9,  -999.00,9,  -999.00,9,  -999.00,9,  -999.00,9, -999.000,9, -999.000,9,  -999.00,9,   -999.0,9,   -999.0,9,-999.0000,9,   -999.0,  9,  -999.00,9,   -999.0,  -999.00,9,  -999.00,9,  -999.00,9,  -999.00,9,   -999.0,-999.0000, -999,9,  150,  19.1864,  24.8267,   -999.0,9
       SH99-04,  NONE,SH-5754,  1,      3,1-133-84,2,19990511,0743, 30.7462, 134.1057, 4430,    201.9,  18.8445,  34.8161,2,   -999.0,9,  34.8144,2,   -999.0,9,  -999.00,9,  -999.00,9,  -999.00,9,  -999.00,9,  -999.00,9, -999.000,9, -999.000,9,  -999.00,9,   -999.0,9,   -999.0,9,-999.0000,9,   -999.0,  9,  -999.00,9,   -999.0,  -999.00,9,  -999.00,9,  -999.00,9,  -999.00,9,   -999.0,-999.0000, -999,9,  200,  18.8087,  24.9292,   -999.0,9
       SH99-04,  NONE,SH-5754,  1,      2, S-1-1-7,2,19990511,0741, 30.7462, 134.1057, 4430,    302.0,  17.4488,  34.8108,2,   -999.0,9,  34.8075,2,   -999.0,9,  -999.00,9,  -999.00,9,  -999.00,9,  -999.00,9,  -999.00,9, -999.000,9, -999.000,9,  -999.00,9,   -999.0,9,   -999.0,9,-999.0000,9,   -999.0,  9,  -999.00,9,   -999.0,  -999.00,9,  -999.00,9,  -999.00,9,  -999.00,9,   -999.0,-999.0000, -999,9,  300,  17.3980,  25.2738,   -999.0,9
       SH99-04,  NONE,SH-5754,  1,      1, 1-133-1,2,19990511,0739, 30.7462, 134.1057, 4430,    402.1,  15.8908,  34.7048,2,   -999.0,9,  34.7048,2,   -999.0,9,  -999.00,9,  -999.00,9,  -999.00,9,  -999.00,9,  -999.00,9, -999.000,9, -999.000,9,  -999.00,9,   -999.0,9,   -999.0,9,-999.0000,9,   -999.0,  9,  -999.00,9,   -999.0,  -999.00,9,  -999.00,9,  -999.00,9,  -999.00,9,   -999.0,-999.0000, -999,9,  399,  15.8273,  25.5599,   -999.0,9
       SH99-04,  NONE,SH-5754,  1,     12,S-1-1-10,2,19990511,0737, 30.7462, 134.1057, 4430,    503.6,  13.6544,  34.5328,2,   -999.0,9,  34.5413,4,   -999.0,9,  -999.00,9,  -999.00,9,  -999.00,9,  -999.00,9,  -999.00,9, -999.000,9, -999.000,9,  -999.00,9,   -999.0,9,   -999.0,9,-999.0000,9,   -999.0,  9,  -999.00,9,   -999.0,  -999.00,9,  -999.00,9,  -999.00,9,  -999.00,9,   -999.0,-999.0000, -999,9,  500,  13.5823,  25.9128,   -999.0,9
       SH99-04,  NONE,SH-5754,  1,     11, S-1-1-9,2,19990511,0735, 30.7462, 134.1057, 4430,    604.7,  11.1269,  34.3629,2,   -999.0,9,  34.3648,2,   -999.0,9,  -999.00,9,  -999.00,9,  -999.00,9,  -999.00,9,  -999.00,9, -999.000,9, -999.000,9,  -999.00,9,   -999.0,9,   -999.0,9,-999.0000,9,   -999.0,  9,  -999.00,9,   -999.0,  -999.00,9,  -999.00,9,  -999.00,9,  -999.00,9,   -999.0,-999.0000, -999,9,  600,  11.0509,  26.2702,   -999.0,9
       SH99-04,  NONE,SH-5754,  1,     10,1-133-94,2,19990511,0732, 30.7462, 134.1057, 4430,    805.8,   6.9040,  34.2187,2,   -999.0,9,  34.2180,2,   -999.0,9,  -999.00,9,  -999.00,9,  -999.00,9,  -999.00,9,  -999.00,9, -999.000,9, -999.000,9,  -999.00,9,   -999.0,9,   -999.0,9,-999.0000,9,   -999.0,  9,  -999.00,9,   -999.0,  -999.00,9,  -999.00,9,  -999.00,9,  -999.00,9,   -999.0,-999.0000, -999,9,  799,   6.8268,  26.8269,   -999.0,9
       SH99-04,  NONE,SH-5754,  1,      9, S-1-1-5,2,19990511,0729, 30.7462, 134.1057, 4430,   1010.7,   4.7191,  34.2891,2,   -999.0,9,  34.2899,2,   -999.0,9,  -999.00,9,  -999.00,9,  -999.00,9,  -999.00,9,  -999.00,9, -999.000,9, -999.000,9,  -999.00,9,   -999.0,9,   -999.0,9,-999.0000,9,   -999.0,  9,  -999.00,9,   -999.0,  -999.00,9,  -999.00,9,  -999.00,9,  -999.00,9,   -999.0,-999.0000, -999,9, 1001,   4.6373,  27.1525,   -999.0,9
       SH99-04,  NONE,SH-5754,  1,      8,1-133-95,2,19990511,0725, 30.7462, 134.1057, 4430,   1212.5,   3.6399,  34.4156,2,   -999.0,9,  34.4143,2,   -999.0,9,  -999.00,9,  -999.00,9,  -999.00,9,  -999.00,9,  -999.00,9, -999.000,9, -999.000,9,  -999.00,9,   -999.0,9,   -999.0,9,-999.0000,9,   -999.0,  9,  -999.00,9,   -999.0,  -999.00,9,  -999.00,9,  -999.00,9,  -999.00,9,   -999.0,-999.0000, -999,9, 1201,   3.5498,  27.3666,   -999.0,9