BOTTLE,20130510GEMDJMAYT
EXPOCODE,SECT_ID,STNNBR,CASTNO,SAMPNO,BTLNBR,BTLNBR_FLAG_W,DATE,TIME,LATITUDE,LONGITUDE,DEPTH,CTDPRS,CTDTMP,CTDSAL,CTDSAL_FLAG_W,CTDOXY,CTDOXY_FLAG_W,SALNTY,SALNTY_FLAG_W,OXYGEN,OXYGEN_FLAG_W,SILCAT,SILCAT_FLAG_W,NITRAT,NITRAT_FLAG_W,NO2+NO3,NO2+NO3_FLAG_W,NITRIT,NITRIT_FLAG_W,PHSPHT,PHSPHT_FLAG_W,CFC-11,CFC-11_FLAG_W,CFC-12,CFC-12_FLAG_W,DELC13,DELC13_FLAG_W,TCARBN,TCARBN_FLAG_W,ALKALI,ALKALI_FLAG_W,PH,PH_FLAG_W,PH_TMP,PH_SCALE,PH_NBS,PH_NBS_FLAG_W,C13ERR,TOTALP,TOTALP_FLAG_W,AMMONI,AMMONI_FLAG_W,CHLORA,CHLORA_FLAG_W,PPHYTN,PPHYTN_FLAG_W,REVPRS,REVTMP,DEPTH_,DEPTH_FLAG,CTDDEP,THETA,SIGTHT,DOC,DOC_FLAG_W
,,,,,,,GMT,GMT,,,METER,DBAR,ITS-90,PSS-78,,UMOL/KG,,PSS-78,,UMOL/KG,,UMOL/KG,,UMOL/KG,,UMOL/KG,,UMOL/KG,,UMOL/KG,,PMOL/KG,,PMOL/KG,,/MILLE,,UMOL/KG,,UMOL/KG,,25_DEG_C,,DEG_C,,,,/MILLE,UMOL/KG,,UMOL/KG,,UG/L,,UG/L,,DBAR,ITS-90,METERS,,METERS,DEG_C,,UMOL/L,
       SH99-04,  NONE,SH-5743,  2,     -9,      -9,5,19990503,1319, 31.0557, 131.7242, 1320,      0.0,  23.6612,  34.6836,2,   -999.0,9,-999.0000,9,    215.0,2,  -999.00,9,  -999.00,9,     0.00,2,     0.00,2,     0.04,2, -999.000,9, -999.000,9,  -999.00,9,   -999.0,9,   -999.0,9,-999.0000,9,   -999.0,  9,  -999.00,9,   -999.0,  -999.00,9,  -999.00,9,     0.12,2,     0.08,2,   -999.0,-999.0000, -999,9,    0,  23.6612,  23.5016,   -999.0,9
       SH99-04,  NONE,SH-5743,  2,      8,1-133-95,2,19990503,1318, 31.0557, 131.7242, 1320,     11.5,  23.6679,  34.6835,2,   -999.0,9,-999.0000,9,    215.2,2,  -999.00,9,  -999.00,9,     0.00,2,     0.00,2,     0.04,2, -999.000,9, -999.000,9,  -999.00,9,   -999.0,9,   -999.0,9,-999.0000,9,   -999.0,  9,  -999.00,9,   -999.0,  -999.00,9,  -999.00,9,     0.15,2,     0.07,2,   -999.0,-999.0000, -999,9,   11,  23.6655,  23.5003,   -999.0,9
       SH99-04,  NONE,SH-5743,  2,      7, S-1-1-4,2,19990503,1317, 31.0557, 131.7242, 1320,     25.3,  23.6681,  34.6847,2,   -999.0,9,-999.0000,9,    215.9,2,  -999.00,9,  -999.00,9,     0.00,2,     0.00,2,     0.05,2, -999.000,9, -999.000,9,  -999.00,9,   -999.0,9,   -999.0,9,-999.0000,9,   -999.0,  9,  -999.00,9,   -999.0,  -999.00,9,  -999.00,9,     0.14,2,     0.08,2,   -999.0,-999.0000, -999,9,   25,  23.6629,  23.5019,   -999.0,9
       SH99-04,  NONE,SH-5743,  2,      6,1-133-93,2,19990503,1316, 31.0557, 131.7242, 1320,     51.1,  23.2487,  34.6660,2,   -999.0,9,-999.0000,9,    215.5,2,  -999.00,9,  -999.00,9,     0.00,2,     0.00,2,     0.05,2, -999.000,9, -999.000,9,  -999.00,9,   -999.0,9,   -999.0,9,-999.0000,9,   -999.0,  9,  -999.00,9,   -999.0,  -999.00,9,  -999.00,9,     0.34,2,     0.32,2,   -999.0,-999.0000, -999,9,   51,  23.2382,  23.6115,   -999.0,9
       SH99-04,  NONE,SH-5743,  2,      5, 1-133-2,2,19990503,1315, 31.0557, 131.7242, 1320,     75.8,  22.0932,  34.6959,2,   -999.0,9,-999.0000,9,    200.9,2,  -999.00,9,  -999.00,9,     2.15,2,     0.19,2,     0.18,2, -999.000,9, -999.000,9,  -999.00,9,   -999.0,9,   -999.0,9,-999.0000,9,   -999.0,  9,  -999.00,9,   -999.0,  -999.00,9,  -999.00,9,     0.15,2,     0.15,2,   -999.0,-999.0000, -999,9,   75,  22.0782,  23.9649,   -999.0,9
       SH99-04,  NONE,SH-5743,  2,      4, 1-133-7,2,19990503,1314, 31.0557, 131.7242, 1320,    104.1,  20.7397,  34.7146,2,   -999.0,9,-999.0000,9,    192.7,2,  -999.00,9,  -999.00,9,     3.81,2,     0.08,2,     0.31,2, -999.000,9, -999.000,9,  -999.00,9,   -999.0,9,   -999.0,9,-999.0000,9,   -999.0,  9,  -999.00,9,   -999.0,  -999.00,9,  -999.00,9,     0.06,2,     0.08,2,   -999.0,-999.0000, -999,9,  103,  20.7200,  24.3524,   -999.0,9
       SH99-04,  NONE,SH-5743,  2,      3,1-133-84,2,19990503,1313, 31.0557, 131.7242, 1320,    128.7,  19.1770,  34.7706,2,   -999.0,9,-999.0000,9,    185.3,2,  -999.00,9,  -999.00,9,     5.37,2,     0.00,2,     0.43,2, -999.000,9, -999.000,9,  -999.00,9,   -999.0,9,   -999.0,9,-999.0000,9,   -999.0,  9,  -999.00,9,   -999.0,  -999.00,9,  -999.00,9,     0.01,2,     0.04,2,   -999.0,-999.0000, -999,9,  128,  19.1540,  24.8065,   -999.0,9
       SH99-04,  NONE,SH-5743,  2,      2, S-1-1-7,2,19990503,1311, 31.0557, 131.7242, 1320,    152.2,  17.5349,  34.7870,2,   -999.0,9,-999.0000,9,    189.7,2,  -999.00,9,  -999.00,9,     5.95,2,     0.01,2,     0.44,2, -999.000,9, -999.000,9,  -999.00,9,   -999.0,9,   -999.0,9,-999.0000,9,   -999.0,  9,  -999.00,9,   -999.0,  -999.00,9,  -999.00,9,     0.00,2,     0.02,2,   -999.0,-999.0000, -999,9,  151,  17.5093,  25.2287,   -999.0,9
       SH99-04,  NONE,SH-5743,  2,      1, 1-133-1,2,19990503,1310, 31.0557, 131.7242, 1320,    205.0,  16.4129,  34.6927,2,   -999.0,9,-999.0000,9,    181.2,2,  -999.00,9,  -999.00,9,     8.68,2,     0.00,2,     0.64,2, -999.000,9, -999.000,9,  -999.00,9,   -999.0,9,   -999.0,9,-999.0000,9,   -999.0,  9,  -999.00,9,   -999.0,  -999.00,9,  -999.00,9,     0.00,2,     0.02,2,   -999.0,-999.0000, -999,9,  203,  16.3799,  25.4238,   -999.0,9
       SH99-04,  NONE,SH-5743,  2,     12,S-1-1-10,2,19990503,1308, 31.0557, 131.7242, 1320,    251.9,  14.9222,  34.6128,2,   -999.0,9,-999.0000,9,    175.1,2,  -999.00,9,  -999.00,9,    11.41,2,     0.00,2,     0.85,2, -999.000,9, -999.000,9,  -999.00,9,   -999.0,9,   -999.0,9,-999.0000,9,   -999.0,  9,  -999.00,9,   -999.0,  -999.00,9,  -999.00,9,     0.00,2,     0.03,2,   -999.0,-999.0000, -999,9,  250,  14.8842,  25.6987,   -999.0,9
       SH99-04,  NONE,SH-5743,  2,     11, S-1-1-9,2,19990503,1307, 31.0557, 131.7242, 1320,    300.9,  12.4583,  34.4624,2,   -999.0,9,-999.0000,9,    167.4,2,  -999.00,9,  -999.00,9,    15.20,2,     0.00,2,     1.12,2, -999.000,9, -999.000,9,  -999.00,9,   -999.0,9,   -999.0,9,-999.0000,9,   -999.0,  9,  -999.00,9,   -999.0,  -999.00,9,  -999.00,9,     0.00,2,     0.02,2,   -999.0,-999.0000, -999,9,  299,  12.4181,  26.0911,   -999.0,9
       SH99-04,  NONE,SH-5743,  1,     10,1-133-94,2,19990503,1240, 31.0207, 131.7200, 1390,    405.5,  10.2257,  34.3603,2,   -999.0,9,-999.0000,9,    135.8,2,  -999.00,9,  -999.00,9,    22.70,2,     0.01,2,     1.68,2, -999.000,9, -999.000,9,  -999.00,9,   -999.0,9,   -999.0,9,-999.0000,9,   -999.0,  9,  -999.00,9,   -999.0,  -999.00,9,  -999.00,9,  -999.00,9,  -999.00,9,   -999.0,-999.0000, -999,9,  402,  10.1779,  26.4220,   -999.0,9
       SH99-04,  NONE,SH-5743,  1,      9, S-1-1-5,2,19990503,1236, 31.0207, 131.7200, 1390,    507.3,   7.3140,  34.3060,2,   -999.0,9,-999.0000,9,    114.0,2,  -999.00,9,  -999.00,9,    28.14,2,     0.00,2,     2.06,2, -999.000,9, -999.000,9,  -999.00,9,   -999.0,9,   -999.0,9,-999.0000,9,   -999.0,  9,  -999.00,9,   -999.0,  -999.00,9,  -999.00,9,  -999.00,9,  -999.00,9,   -999.0,-999.0000, -999,9,  503,   7.2648,  26.8352,   -999.0,9
       SH99-04,  NONE,SH-5743,  1,      8,1-133-95,2,19990503,1233, 31.0207, 131.7200, 1390,    608.9,   5.3758,  34.3058,2,   -999.0,9,-999.0000,9,     85.8,2,  -999.00,9,  -999.00,9,    34.27,2,     0.01,2,     2.53,2, -999.000,9, -999.000,9,  -999.00,9,   -999.0,9,   -999.0,9,-999.0000,9,   -999.0,  9,  -999.00,9,   -999.0,  -999.00,9,  -999.00,9,  -999.00,9,  -999.00,9,   -999.0,-999.0000, -999,9,  604,   5.3253,  27.0869,   -999.0,9
       SH99-04,  NONE,SH-5743,  1,      7, S-1-1-4,2,19990503,1231, 31.0207, 131.7200, 1390,    709.0,   4.2448,  34.3656,2,   -999.0,9,-999.0000,9,     71.2,2,  -999.00,9,  -999.00,9,    36.99,2,     0.00,2,     2.74,2, -999.000,9, -999.000,9,  -999.00,9,   -999.0,9,   -999.0,9,-999.0000,9,   -999.0,  9,  -999.00,9,   -999.0,  -999.00,9,  -999.00,9,  -999.00,9,  -999.00,9,   -999.0,-999.0000, -999,9,  703,   4.1916,  27.2615,   -999.0,9
       SH99-04,  NONE,SH-5743,  1,      6,1-133-93,2,19990503,1228, 31.0207, 131.7200, 1390,    806.2,   3.8515,  34.4075,2,   -999.0,9,-999.0000,9,     72.6,2,  -999.00,9,  -999.00,9,    37.67,2,     0.00,2,     2.74,2, -999.000,9, -999.000,9,  -999.00,9,   -999.0,9,   -999.0,9,-999.0000,9,   -999.0,  9,  -999.00,9,   -999.0,  -999.00,9,  -999.00,9,  -999.00,9,  -999.00,9,   -999.0,-999.0000, -999,9,  799,   3.7928,  27.3360,   -999.0,9
       SH99-04,  NONE,SH-5743,  1,      5, 1-133-2,2,19990503,1226, 31.0207, 131.7200, 1390,    905.3,   3.5700,  34.4323,2,   -999.0,9,-999.0000,9,     71.3,2,  -999.00,9,  -999.00,9,    38.06,2,     0.01,2,     2.80,2, -999.000,9, -999.000,9,  -999.00,9,   -999.0,9,   -999.0,9,-999.0000,9,   -999.0,  9,  -999.00,9,   -999.0,  -999.00,9,  -999.00,9,  -999.00,9,  -999.00,9,   -999.0,-999.0000, -999,9,  897,   3.5053,  27.3842,   -999.0,9
       SH99-04,  NONE,SH-5743,  1,      4, 1-133-7,2,19990503,1225, 31.0207, 131.7200, 1390,   1001.1,   3.4151,  34.4444,2,   -999.0,9,-999.0000,9,     70.7,2,  -999.00,9,  -999.00,9,    38.54,2,     0.01,2,     2.81,2, -999.000,9, -999.000,9,  -999.00,9,   -999.0,9,   -999.0,9,-999.0000,9,   -999.0,  9,  -999.00,9,   -999.0,  -999.00,9,  -999.00,9,  -999.00,9,  -999.00,9,   -999.0,-999.0000, -999,9,  992,   3.3440,  27.4094,   -999.0,9
       SH99-04,  NONE,SH-5743,  1,      3,1-133-84,2,19990503,1223, 31.0207, 131.7200, 1390,   1174.5,   3.1690,  34.4687,2,   -999.0,9,-999.0000,9,     72.1,2,  -999.00,9,  -999.00,9,    38.83,2,     0.00,2,     2.82,2, -999.000,9, -999.000,9,  -999.00,9,   -999.0,9,   -999.0,9,-999.0000,9,   -999.0,  9,  -999.00,9,   -999.0,  -999.00,9,  -999.00,9,  -999.00,9,  -999.00,9,   -999.0,-999.0000, -999,9, 1163,   3.0862,  27.4531,   -999.0,9
       SH99-04,  NONE,SH-5744,  1,     -9,      -9,5,19990503,1507, 31.1737, 131.5052,  246,      0.0,  23.4878,  34.7068,2,   -999.0,9,-999.0000,9,    215.5,2,  -999.00,9,  -999.00,9,     0.00,2,     0.00,2,     0.06,2, -999.000,9, -999.000,9,  -999.00,9,   -999.0,9,   -999.0,9,-999.0000,9,   -999.0,  9,     8.21,2,   -999.0,  -999.00,9,  -999.00,9,     0.27,2,     0.17,2,   -999.0,-999.0000, -999,9,    0,  23.4878,  23.5699,   -999.0,9
       SH99-04,  NONE,SH-5744,  1,      4, 1-133-7,2,19990503,1506, 31.1737, 131.5052,  246,     11.5,  23.4879,  34.7070,2,   -999.0,9,-999.0000,9,    214.3,2,  -999.00,9,  -999.00,9,     0.00,2,     0.00,2,     0.06,2, -999.000,9, -999.000,9,  -999.00,9,   -999.0,9,   -999.0,9,-999.0000,9,   -999.0,  9,     8.20,2,   -999.0,  -999.00,9,  -999.00,9,     0.30,2,     0.17,2,   -999.0,-999.0000, -999,9,   11,  23.4855,  23.5707,   -999.0,9
       SH99-04,  NONE,SH-5744,  1,      3,1-133-84,2,19990503,1505, 31.1737, 131.5052,  246,     25.6,  22.5133,  34.6164,2,   -999.0,9,-999.0000,9,    213.1,2,  -999.00,9,  -999.00,9,     0.68,2,     0.10,2,     0.11,2, -999.000,9, -999.000,9,  -999.00,9,   -999.0,9,   -999.0,9,-999.0000,9,   -999.0,  9,     8.18,2,   -999.0,  -999.00,9,  -999.00,9,     0.38,2,     0.30,2,   -999.0,-999.0000, -999,9,   25,  22.5081,  23.7832,   -999.0,9
       SH99-04,  NONE,SH-5744,  1,      2, S-1-1-7,2,19990503,1504, 31.1737, 131.5052,  246,     51.0,  20.8456,  34.6346,2,   -999.0,9,-999.0000,9,    233.0,2,  -999.00,9,  -999.00,9,     0.00,2,     0.00,2,     0.05,2, -999.000,9, -999.000,9,  -999.00,9,   -999.0,9,   -999.0,9,-999.0000,9,   -999.0,  9,     8.19,2,   -999.0,  -999.00,9,  -999.00,9,     0.90,2,     0.40,2,   -999.0,-999.0000, -999,9,   51,  20.8359,  24.2602,   -999.0,9
       SH99-04,  NONE,SH-5744,  1,      1, 1-133-1,2,19990503,1503, 31.1737, 131.5052,  246,     77.2,  19.4295,  34.5865,2,   -999.0,9,-999.0000,9,    230.6,2,  -999.00,9,  -999.00,9,     1.17,2,     0.09,2,     0.14,2, -999.000,9, -999.000,9,  -999.00,9,   -999.0,9,   -999.0,9,-999.0000,9,   -999.0,  9,     8.16,2,   -999.0,  -999.00,9,  -999.00,9,     0.95,2,     0.50,2,   -999.0,-999.0000, -999,9,   77,  19.4156,  24.5986,   -999.0,9
       SH99-04,  NONE,SH-5744,  1,     12,S-1-1-10,2,19990503,1502, 31.1737, 131.5052,  246,    103.6,  18.4692,  34.5781,2,   -999.0,9,-999.0000,9,    216.1,2,  -999.00,9,  -999.00,9,     3.81,2,     0.13,2,     0.32,2, -999.000,9, -999.000,9,  -999.00,9,   -999.0,9,   -999.0,9,-999.0000,9,   -999.0,  9,     8.11,2,   -999.0,  -999.00,9,  -999.00,9,     0.60,2,     0.35,2,   -999.0,-999.0000, -999,9,  103,  18.4512,  24.8371,   -999.0,9
       SH99-04,  NONE,SH-5744,  1,     11, S-1-1-9,2,19990503,1501, 31.1737, 131.5052,  246,    128.8,  17.2173,  34.5800,2,   -999.0,9,-999.0000,9,    200.7,2,  -999.00,9,  -999.00,9,     6.73,2,     0.12,2,     0.53,2, -999.000,9, -999.000,9,  -999.00,9,   -999.0,9,   -999.0,9,-999.0000,9,   -999.0,  9,     8.06,2,   -999.0,  -999.00,9,  -999.00,9,     0.23,2,     0.28,2,   -999.0,-999.0000, -999,9,  128,  17.1959,  25.1453,   -999.0,9
       SH99-04,  NONE,SH-5744,  1,     10,1-133-94,2,19990503,1500, 31.1737, 131.5052,  246,    151.5,  16.3698,  34.5840,2,   -999.0,9,-999.0000,9,    192.4,2,  -999.00,9,  -999.00,9,     8.39,2,     0.09,2,     0.65,2, -999.000,9, -999.000,9,  -999.00,9,   -999.0,9,   -999.0,9,-999.0000,9,   -999.0,  9,     8.04,2,   -999.0,  -999.00,9,  -999.00,9,     0.18,2,     0.23,2,   -999.0,-999.0000, -999,9,  150,  16.3456,  25.3482,   -999.0,9
       SH99-04,  NONE,SH-5744,  1,      9, S-1-1-5,2,19990503,1459, 31.1737, 131.5052,  246,    202.8,  15.8237,  34.5863,2,   -999.0,9,-999.0000,9,    186.7,2,  -999.00,9,  -999.00,9,     9.26,2,     0.06,2,     0.72,2, -999.000,9, -999.000,9,  -999.00,9,   -999.0,9,   -999.0,9,-999.0000,9,   -999.0,  9,     8.03,2,   -999.0,  -999.00,9,  -999.00,9,     0.12,2,     0.21,2,   -999.0,-999.0000, -999,9,  201,  15.7920,  25.4767,   -999.0,9
       SH99-04,  NONE,SH-5748,  1,      7, S-1-1-4,2,19990510,1649, 32.2530, 133.3257, 1310,     50.1,  22.9008,  34.7314,2,   -999.0,9,  34.7280,2,   -999.0,9,  -999.00,9,  -999.00,9,  -999.00,9,  -999.00,9,  -999.00,9, -999.000,9, -999.000,9,  -999.00,9,   -999.0,9,   -999.0,9,-999.0000,9,   -999.0,  9,  -999.00,9,   -999.0,  -999.00,9,  -999.00,9,  -999.00,9,  -999.00,9,   -999.0,-999.0000, -999,9,   50,  22.8907,  23.7613,   -999.0,9
       SH99-04,  NONE,SH-5748,  1,      6,1-133-93,2,19990510,1648, 32.2530, 133.3257, 1310,    101.3,  21.5922,  34.7515,2,   -999.0,9,  34.7502,2,   -999.0,9,  -999.00,9,  -999.00,9,  -999.00,9,  -999.00,9,  -999.00,9, -999.000,9, -999.000,9,  -999.00,9,   -999.0,9,   -999.0,9,-999.0000,9,   -999.0,  9,  -999.00,9,   -999.0,  -999.00,9,  -999.00,9,  -999.00,9,  -999.00,9,   -999.0,-999.0000, -999,9,  101,  21.5725,  24.1479,   -999.0,9
       SH99-04,  NONE,SH-5748,  1,      5, 1-133-2,2,19990510,1647, 32.2530, 133.3257, 1310,    151.0,  20.0843,  34.8059,2,   -999.0,9,  34.8099,2,   -999.0,9,  -999.00,9,  -999.00,9,  -999.00,9,  -999.00,9,  -999.00,9, -999.000,9, -999.000,9,  -999.00,9,   -999.0,9,   -999.0,9,-999.0000,9,   -999.0,  9,  -999.00,9,   -999.0,  -999.00,9,  -999.00,9,  -999.00,9,  -999.00,9,   -999.0,-999.0000, -999,9,  150,  20.0563,  24.5988,   -999.0,9
       SH99-04,  NONE,SH-5748,  1,      4, S-1-1-2,2,19990510,1646, 32.2530, 133.3257, 1310,    201.4,  18.2740,  34.8531,2,   -999.0,9,  34.8503,2,   -999.0,9,  -999.00,9,  -999.00,9,  -999.00,9,  -999.00,9,  -999.00,9, -999.000,9, -999.000,9,  -999.00,9,   -999.0,9,   -999.0,9,-999.0000,9,   -999.0,  9,  -999.00,9,   -999.0,  -999.00,9,  -999.00,9,  -999.00,9,  -999.00,9,   -999.0,-999.0000, -999,9,  200,  18.2391,  25.1004,   -999.0,9
       SH99-04,  NONE,SH-5748,  1,      3,1-133-84,2,19990510,1644, 32.2530, 133.3257, 1310,    300.9,  15.7500,  34.6962,2,   -999.0,9,  34.6989,2,   -999.0,9,  -999.00,9,  -999.00,9,  -999.00,9,  -999.00,9,  -999.00,9, -999.000,9, -999.000,9,  -999.00,9,   -999.0,9,   -999.0,9,-999.0000,9,   -999.0,  9,  -999.00,9,   -999.0,  -999.00,9,  -999.00,9,  -999.00,9,  -999.00,9,   -999.0,-999.0000, -999,9,  299,  15.7029,  25.5813,   -999.0,9
       SH99-04,  NONE,SH-5748,  1,      2, S-1-1-7,2,19990510,1643, 32.2530, 133.3257, 1310,    402.0,  12.5613,  34.4447,2,   -999.0,9,  34.4459,2,   -999.0,9,  -999.00,9,  -999.00,9,  -999.00,9,  -999.00,9,  -999.00,9, -999.000,9, -999.000,9,  -999.00,9,   -999.0,9,   -999.0,9,-999.0000,9,   -999.0,  9,  -999.00,9,   -999.0,  -999.00,9,  -999.00,9,  -999.00,9,  -999.00,9,   -999.0,-999.0000, -999,9,  399,  12.5072,  26.0600,   -999.0,9
       SH99-04,  NONE,SH-5748,  1,      1, 1-133-1,2,19990510,1641, 32.2530, 133.3257, 1310,    503.9,   9.3081,  34.3265,2,   -999.0,9,  34.3274,2,   -999.0,9,  -999.00,9,  -999.00,9,  -999.00,9,  -999.00,9,  -999.00,9, -999.000,9, -999.000,9,  -999.00,9,   -999.0,9,   -999.0,9,-999.0000,9,   -999.0,  9,  -999.00,9,   -999.0,  -999.00,9,  -999.00,9,  -999.00,9,  -999.00,9,   -999.0,-999.0000, -999,9,  500,   9.2518,  26.5502,   -999.0,9
       SH99-04,  NONE,SH-5748,  1,     12,S-1-1-10,2,19990510,1640, 32.2530, 133.3257, 1310,    604.8,   7.3305,  34.2810,2,   -999.0,9,  34.2801,2,   -999.0,9,  -999.00,9,  -999.00,9,  -999.00,9,  -999.00,9,  -999.00,9, -999.000,9, -999.000,9,  -999.00,9,   -999.0,9,   -999.0,9,-999.0000,9,   -999.0,  9,  -999.00,9,   -999.0,  -999.00,9,  -999.00,9,  -999.00,9,  -999.00,9,   -999.0,-999.0000, -999,9,  600,   7.2714,  26.8146,   -999.0,9
       SH99-04,  NONE,SH-5748,  1,     11, S-1-1-9,2,19990510,1638, 32.2530, 133.3257, 1310,    807.1,   4.4098,  34.3415,2,   -999.0,9,  34.3422,2,   -999.0,9,  -999.00,9,  -999.00,9,  -999.00,9,  -999.00,9,  -999.00,9, -999.000,9, -999.000,9,  -999.00,9,   -999.0,9,   -999.0,9,-999.0000,9,   -999.0,  9,  -999.00,9,   -999.0,  -999.00,9,  -999.00,9,  -999.00,9,  -999.00,9,   -999.0,-999.0000, -999,9,  800,   4.3476,  27.2257,   -999.0,9
       SH99-04,  NONE,SH-5748,  1,     -9,      -9,4,19990510,1635, 32.2530, 133.3257, 1310,   1009.5,   3.5504,  34.4312,2,   -999.0,9,-999.0000,9,   -999.0,9,  -999.00,9,  -999.00,9,  -999.00,9,  -999.00,9,  -999.00,9, -999.000,9, -999.000,9,  -999.00,9,   -999.0,9,   -999.0,9,-999.0000,9,   -999.0,  9,  -999.00,9,   -999.0,  -999.00,9,  -999.00,9,  -999.00,9,  -999.00,9,   -999.0,-999.0000, -999,9, 1000,   3.4776,  27.3861,   -999.0,9
       SH99-04,  NONE,SH-5748,  1,     10,1-133-94,2,19990510,1633, 32.2530, 133.3257, 1310,   1214.9,   2.9448,  34.4738,2,   -999.0,9,  34.4776,2,   -999.0,9,  -999.00,9,  -999.00,9,  -999.00,9,  -999.00,9,  -999.00,9, -999.000,9, -999.000,9,  -999.00,9,   -999.0,9,   -999.0,9,-999.0000,9,   -999.0,  9,  -999.00,9,   -999.0,  -999.00,9,  -999.00,9,  -999.00,9,  -999.00,9,   -999.0,-999.0000, -999,9, 1203,   2.8609,  27.4776,   -999.0,9