BOTTLE,20130510GEMDJMAYT
EXPOCODE,SECT_ID,STNNBR,CASTNO,SAMPNO,BTLNBR,BTLNBR_FLAG_W,DATE,TIME,LATITUDE,LONGITUDE,DEPTH,CTDPRS,CTDTMP,CTDSAL,CTDSAL_FLAG_W,CTDOXY,CTDOXY_FLAG_W,SALNTY,SALNTY_FLAG_W,OXYGEN,OXYGEN_FLAG_W,SILCAT,SILCAT_FLAG_W,NITRAT,NITRAT_FLAG_W,NO2+NO3,NO2+NO3_FLAG_W,NITRIT,NITRIT_FLAG_W,PHSPHT,PHSPHT_FLAG_W,CFC-11,CFC-11_FLAG_W,CFC-12,CFC-12_FLAG_W,DELC13,DELC13_FLAG_W,TCARBN,TCARBN_FLAG_W,ALKALI,ALKALI_FLAG_W,PH,PH_FLAG_W,PH_TMP,PH_SCALE,PH_NBS,PH_NBS_FLAG_W,C13ERR,TOTALP,TOTALP_FLAG_W,AMMONI,AMMONI_FLAG_W,CHLORA,CHLORA_FLAG_W,PPHYTN,PPHYTN_FLAG_W,REVPRS,REVTMP,DEPTH_,DEPTH_FLAG,CTDDEP,THETA,SIGTHT,DOC,DOC_FLAG_W
,,,,,,,GMT,GMT,,,METER,DBAR,ITS-90,PSS-78,,UMOL/KG,,PSS-78,,UMOL/KG,,UMOL/KG,,UMOL/KG,,UMOL/KG,,UMOL/KG,,UMOL/KG,,PMOL/KG,,PMOL/KG,,/MILLE,,UMOL/KG,,UMOL/KG,,25_DEG_C,,DEG_C,,,,/MILLE,UMOL/KG,,UMOL/KG,,UG/L,,UG/L,,DBAR,ITS-90,METERS,,METERS,DEG_C,,UMOL/L,
       SH99-04,  NONE,SH-5737,  2,     -9,      -9,5,19990502,0450, 28.6775, 134.4185, 3580,      0.0,  21.0727,  34.8609,2,   -999.0,9,-999.0000,9,   -999.0,4,  -999.00,9,  -999.00,9,     0.00,2,     0.01,2,     0.00,2, -999.000,9, -999.000,9,  -999.00,9,   -999.0,9,   -999.0,9,-999.0000,9,   -999.0,  9,     8.19,2,   -999.0,  -999.00,9,  -999.00,9,     0.06,2,     0.03,2,   -999.0,-999.0000, -999,9,    0,  21.0727,  24.3682,   -999.0,9
       SH99-04,  NONE,SH-5737,  2,      8,1-133-95,2,19990502,0448, 28.6775, 134.4185, 3580,     10.5,  21.0713,  34.8611,2,   -999.0,9,  34.9208,4,    227.7,2,  -999.00,9,  -999.00,9,     0.00,2,     0.01,2,     0.00,2, -999.000,9, -999.000,9,  -999.00,9,   -999.0,9,   -999.0,9,-999.0000,9,   -999.0,  9,     8.18,2,   -999.0,  -999.00,9,  -999.00,9,     0.06,2,     0.02,2,   -999.0,-999.0000, -999,9,   10,  21.0693,  24.3693,   -999.0,9
       SH99-04,  NONE,SH-5737,  2,      7, S-1-1-4,2,19990502,0447, 28.6775, 134.4185, 3580,     27.7,  21.0655,  34.8577,2,   -999.0,9,  34.8603,2,    227.5,2,  -999.00,9,  -999.00,9,     0.00,2,     0.01,2,     0.01,2, -999.000,9, -999.000,9,  -999.00,9,   -999.0,9,   -999.0,9,-999.0000,9,   -999.0,  9,     8.18,2,   -999.0,  -999.00,9,  -999.00,9,     0.07,2,  -999.00,4,   -999.0,-999.0000, -999,9,   28,  21.0602,  24.3692,   -999.0,9
       SH99-04,  NONE,SH-5737,  2,      6,1-133-93,2,19990502,0446, 28.6775, 134.4185, 3580,     50.0,  21.0372,  34.8609,2,   -999.0,9,  34.8605,2,    227.2,2,  -999.00,9,  -999.00,9,     0.00,2,     0.01,2,     0.00,2, -999.000,9, -999.000,9,  -999.00,9,   -999.0,9,   -999.0,9,-999.0000,9,   -999.0,  9,     8.18,2,   -999.0,  -999.00,9,  -999.00,9,     0.07,2,     0.04,2,   -999.0,-999.0000, -999,9,   50,  21.0277,  24.3805,   -999.0,9
       SH99-04,  NONE,SH-5737,  2,      5, 1-133-2,2,19990502,0445, 28.6775, 134.4185, 3580,     76.4,  20.6780,  34.8519,2,   -999.0,9,  34.8499,2,    227.4,2,  -999.00,9,  -999.00,9,     0.00,2,     0.00,2,     0.00,2, -999.000,9, -999.000,9,  -999.00,9,   -999.0,9,   -999.0,9,-999.0000,9,   -999.0,  9,     8.18,2,   -999.0,  -999.00,9,  -999.00,9,     0.15,2,     0.12,2,   -999.0,-999.0000, -999,9,   76,  20.6636,  24.4721,   -999.0,9
       SH99-04,  NONE,SH-5737,  2,      4, 1-133-7,2,19990502,0444, 28.6775, 134.4185, 3580,    102.6,  20.3136,  34.8406,2,   -999.0,9,  34.8422,2,    222.5,2,  -999.00,9,  -999.00,9,     0.59,2,     0.10,2,     0.04,2, -999.000,9, -999.000,9,  -999.00,9,   -999.0,9,   -999.0,9,-999.0000,9,   -999.0,  9,     8.17,2,   -999.0,  -999.00,9,  -999.00,9,     0.15,2,     0.26,2,   -999.0,-999.0000, -999,9,  102,  20.2944,  24.5622,   -999.0,9
       SH99-04,  NONE,SH-5737,  2,      3,1-133-84,2,19990502,0443, 28.6775, 134.4185, 3580,    125.8,  19.8345,  34.8237,2,   -999.0,9,  34.8217,2,    217.1,2,  -999.00,9,  -999.00,9,     1.07,2,     0.03,2,     0.09,2, -999.000,9, -999.000,9,  -999.00,9,   -999.0,9,   -999.0,9,-999.0000,9,   -999.0,  9,     8.16,2,   -999.0,  -999.00,9,  -999.00,9,     0.05,2,     0.07,2,   -999.0,-999.0000, -999,9,  125,  19.8114,  24.6768,   -999.0,9
       SH99-04,  NONE,SH-5737,  2,      2, S-1-1-7,2,19990502,0442, 28.6775, 134.4185, 3580,    152.4,  19.5953,  34.8127,2,   -999.0,9,  34.8099,2,    219.4,2,  -999.00,9,  -999.00,9,     1.07,2,     0.02,2,     0.09,2, -999.000,9, -999.000,9,  -999.00,9,   -999.0,9,   -999.0,9,-999.0000,9,   -999.0,  9,     8.16,2,   -999.0,  -999.00,9,  -999.00,9,     0.03,2,     0.05,2,   -999.0,-999.0000, -999,9,  151,  19.5675,  24.7320,   -999.0,9
       SH99-04,  NONE,SH-5737,  2,      1, 1-133-1,2,19990502,0440, 28.6775, 134.4185, 3580,    202.3,  19.3125,  34.8332,2,   -999.0,9,  34.8286,2,    210.5,2,  -999.00,9,  -999.00,9,     2.05,2,     0.02,2,     0.16,2, -999.000,9, -999.000,9,  -999.00,9,   -999.0,9,   -999.0,9,-999.0000,9,   -999.0,  9,     8.14,2,   -999.0,  -999.00,9,  -999.00,9,     0.00,2,     0.01,2,   -999.0,-999.0000, -999,9,  201,  19.2760,  24.8230,   -999.0,9
       SH99-04,  NONE,SH-5737,  2,     12,S-1-1-10,2,19990502,0439, 28.6775, 134.4185, 3580,    251.2,  18.3994,  34.8320,2,   -999.0,9,  34.8306,2,    202.1,2,  -999.00,9,  -999.00,9,     3.80,2,     0.01,2,     0.27,2, -999.000,9, -999.000,9,  -999.00,9,   -999.0,9,   -999.0,9,-999.0000,9,   -999.0,  9,     8.10,2,   -999.0,  -999.00,9,  -999.00,9,     0.00,2,     0.01,2,   -999.0,-999.0000, -999,9,  249,  18.3556,  25.0553,   -999.0,9
       SH99-04,  NONE,SH-5737,  2,     11, S-1-1-9,2,19990502,0438, 28.6775, 134.4185, 3580,    301.6,  17.4094,  34.8034,2,   -999.0,9,  34.8042,2,   -999.0,4,  -999.00,9,  -999.00,9,     5.46,2,     0.00,2,     0.38,2, -999.000,9, -999.000,9,  -999.00,9,   -999.0,9,   -999.0,9,-999.0000,9,   -999.0,  9,     8.08,2,   -999.0,  -999.00,9,  -999.00,9,     0.00,2,     0.01,2,   -999.0,-999.0000, -999,9,  299,  17.3588,  25.2776,   -999.0,9
       SH99-04,  NONE,SH-5737,  2,     10,1-133-94,2,19990502,0436, 28.6775, 134.4185, 3580,    405.7,  14.8454,  34.6192,2,   -999.0,9,  34.6237,2,    197.6,2,  -999.00,9,  -999.00,9,     9.55,2,     0.01,2,     0.68,2, -999.000,9, -999.000,9,  -999.00,9,   -999.0,9,   -999.0,9,-999.0000,9,   -999.0,  9,     8.01,2,   -999.0,  -999.00,9,  -999.00,9,  -999.00,9,  -999.00,9,   -999.0,-999.0000, -999,9,  403,  14.7842,  25.7254,   -999.0,9
       SH99-04,  NONE,SH-5737,  1,      9, S-1-1-5,2,19990502,0350, 28.6685, 134.4477, 3620,    502.2,  12.4183,  34.4427,2,   -999.0,9,  34.4363,2,    177.8,2,  -999.00,9,  -999.00,9,    14.42,2,     0.01,2,     1.05,2, -999.000,9, -999.000,9,  -999.00,9,   -999.0,9,   -999.0,9,-999.0000,9,   -999.0,  9,     7.92,2,   -999.0,  -999.00,9,  -999.00,9,  -999.00,9,  -999.00,9,   -999.0,-999.0000, -999,9,  498,  12.3508,  26.0889,   -999.0,9
       SH99-04,  NONE,SH-5737,  1,      8,1-133-95,2,19990502,0349, 28.6685, 134.4477, 3620,    602.8,   9.4570,  34.2671,2,   -999.0,9,  34.2536,4,    154.2,2,  -999.00,9,  -999.00,9,    21.72,2,     0.00,2,     1.63,2, -999.000,9, -999.000,9,  -999.00,9,   -999.0,9,   -999.0,9,-999.0000,9,   -999.0,  9,     7.80,2,   -999.0,  -999.00,9,  -999.00,9,  -999.00,9,  -999.00,9,   -999.0,-999.0000, -999,9,  598,   9.3886,  26.4815,   -999.0,9
       SH99-04,  NONE,SH-5737,  1,      7, S-1-1-4,2,19990502,0347, 28.6685, 134.4477, 3620,    705.4,   7.3897,  34.2078,2,   -999.0,9,  34.2047,2,    122.1,2,  -999.00,9,  -999.00,9,    28.24,2,     0.00,2,     2.11,2, -999.000,9, -999.000,9,  -999.00,9,   -999.0,9,   -999.0,9,-999.0000,9,   -999.0,  9,     7.69,2,   -999.0,  -999.00,9,  -999.00,9,  -999.00,9,  -999.00,9,   -999.0,-999.0000, -999,9,  700,   7.3201,  26.7501,   -999.0,9
       SH99-04,  NONE,SH-5737,  1,      6,1-133-93,2,19990502,0345, 28.6685, 134.4477, 3620,    806.8,   5.9285,  34.2357,2,   -999.0,9,  34.2375,2,     96.5,2,  -999.00,9,  -999.00,9,    32.82,2,     0.00,2,     2.45,2, -999.000,9, -999.000,9,  -999.00,9,   -999.0,9,   -999.0,9,-999.0000,9,   -999.0,  9,     7.61,2,   -999.0,  -999.00,9,  -999.00,9,  -999.00,9,  -999.00,9,   -999.0,-999.0000, -999,9,  800,   5.8571,  26.9667,   -999.0,9
       SH99-04,  NONE,SH-5737,  1,      5, 1-133-2,2,19990502,0344, 28.6685, 134.4477, 3620,    906.6,   4.9355,  34.2961,2,   -999.0,9,  34.2915,2,     77.4,2,  -999.00,9,  -999.00,9,    35.63,2,     0.01,2,     2.69,2, -999.000,9, -999.000,9,  -999.00,9,   -999.0,9,   -999.0,9,-999.0000,9,   -999.0,  9,     7.56,2,   -999.0,  -999.00,9,  -999.00,9,  -999.00,9,  -999.00,9,   -999.0,-999.0000, -999,9,  899,   4.8613,  27.1330,   -999.0,9
       SH99-04,  NONE,SH-5737,  1,      4, 1-133-7,4,19990502,0342, 28.6685, 134.4477, 3620,   1007.6,   4.1742,  34.3432,2,   -999.0,9,  34.6074,4,    113.1,4,  -999.00,9,  -999.00,9,    36.99,4,     0.00,4,     2.75,4, -999.000,9, -999.000,9,  -999.00,9,   -999.0,9,   -999.0,9,-999.0000,9,   -999.0,  9,     7.62,4,   -999.0,  -999.00,9,  -999.00,9,  -999.00,9,  -999.00,9,   -999.0,-999.0000, -999,9,  998,   4.0969,  27.2536,   -999.0,9
       SH99-04,  NONE,SH-5737,  1,      3,1-133-84,2,19990502,0339, 28.6685, 134.4477, 3620,   1210.5,   3.3686,  34.4372,2,   -999.0,9,  34.4355,2,     67.9,2,  -999.00,9,  -999.00,9,    38.93,2,     0.01,2,     2.89,2, -999.000,9, -999.000,9,  -999.00,9,   -999.0,9,   -999.0,9,-999.0000,9,   -999.0,  9,     7.54,2,   -999.0,  -999.00,9,  -999.00,9,  -999.00,9,  -999.00,9,   -999.0,-999.0000, -999,9, 1199,   3.2811,  27.4097,   -999.0,9
       SH99-04,  NONE,SH-5737,  1,      2, S-1-1-7,2,19990502,0335, 28.6685, 134.4477, 3620,   1510.9,   2.6316,  34.5272,2,   -999.0,9,  34.5193,2,   -999.0,9,  -999.00,9,  -999.00,9,  -999.00,9,  -999.00,9,  -999.00,9, -999.000,9, -999.000,9,  -999.00,9,   -999.0,9,   -999.0,9,-999.0000,9,   -999.0,  9,  -999.00,9,   -999.0,  -999.00,9,  -999.00,9,  -999.00,9,  -999.00,9,   -999.0,-999.0000, -999,9, 1495,   2.5272,  27.5495,   -999.0,9
       SH99-04,  NONE,SH-5737,  1,      1, 1-133-1,2,19990502,0329, 28.6685, 134.4477, 3620,   2019.0,   2.0423,  34.6077,2,   -999.0,9,  34.5995,2,   -999.0,9,  -999.00,9,  -999.00,9,  -999.00,9,  -999.00,9,  -999.00,9, -999.000,9, -999.000,9,  -999.00,9,   -999.0,9,   -999.0,9,-999.0000,9,   -999.0,  9,  -999.00,9,   -999.0,  -999.00,9,  -999.00,9,  -999.00,9,  -999.00,9,   -999.0,-999.0000, -999,9, 1996,   1.9037,  27.6649,   -999.0,9
       SH99-04,  NONE,SH-5737,  1,     12,S-1-1-10,2,19990502,0323, 28.6685, 134.4477, 3620,   2529.6,   1.7415,  34.6552,2,   -999.0,9,  34.6434,2,   -999.0,9,  -999.00,9,  -999.00,9,  -999.00,9,  -999.00,9,  -999.00,9, -999.000,9, -999.000,9,  -999.00,9,   -999.0,9,   -999.0,9,-999.0000,9,   -999.0,  9,  -999.00,9,   -999.0,  -999.00,9,  -999.00,9,  -999.00,9,  -999.00,9,   -999.0,-999.0000, -999,9, 2498,   1.5634,  27.7288,   -999.0,9
       SH99-04,  NONE,SH-5737,  1,     11, S-1-1-9,2,19990502,0316, 28.6685, 134.4477, 3620,   3041.7,   1.5638,  34.6824,2,   -999.0,9,  34.6692,4,   -999.0,9,  -999.00,9,  -999.00,9,  -999.00,9,  -999.00,9,  -999.00,9, -999.000,9, -999.000,9,  -999.00,9,   -999.0,9,   -999.0,9,-999.0000,9,   -999.0,  9,  -999.00,9,   -999.0,  -999.00,9,  -999.00,9,  -999.00,9,  -999.00,9,   -999.0,-999.0000, -999,9, 3000,   1.3416,  27.7667,   -999.0,9
       SH99-04,  NONE,SH-5737,  1,     10,1-133-94,2,19990502,0310, 28.6685, 134.4477, 3620,   3501.1,   1.5376,  34.6910,2,   -999.0,9,  34.6747,4,   -999.0,9,  -999.00,9,  -999.00,9,  -999.00,9,  -999.00,9,  -999.00,9, -999.000,9, -999.000,9,  -999.00,9,   -999.0,9,   -999.0,9,-999.0000,9,   -999.0,  9,  -999.00,9,   -999.0,  -999.00,9,  -999.00,9,  -999.00,9,  -999.00,9,   -999.0,-999.0000, -999,9, 3449,   1.2704,  27.7786,   -999.0,9
       SH99-04,  NONE,SH-5738,  2,     -9,      -9,5,19990502,0954, 29.0973, 133.9532, 2590,      0.0,  20.9829,  34.8642,2,   -999.0,9,-999.0000,9,    228.2,2,  -999.00,9,  -999.00,9,     0.00,2,     0.00,2,     0.02,2, -999.000,9, -999.000,9,  -999.00,9,   -999.0,9,   -999.0,9,-999.0000,9,   -999.0,  9,  -999.00,9,   -999.0,  -999.00,9,  -999.00,9,     0.08,2,     0.04,2,   -999.0,-999.0000, -999,9,    0,  20.9829,  24.3952,   -999.0,9
       SH99-04,  NONE,SH-5738,  2,      4, 1-133-7,2,19990502,0953, 29.0973, 133.9532, 2590,     10.6,  21.0133,  34.8538,2,   -999.0,9,-999.0000,9,    227.7,2,  -999.00,9,  -999.00,9,     0.00,2,     0.01,2,     0.00,2, -999.000,9, -999.000,9,  -999.00,9,   -999.0,9,   -999.0,9,-999.0000,9,   -999.0,  9,  -999.00,9,   -999.0,  -999.00,9,  -999.00,9,     0.03,2,     0.11,2,   -999.0,-999.0000, -999,9,   11,  21.0113,  24.3795,   -999.0,9
       SH99-04,  NONE,SH-5738,  2,      3,1-133-84,2,19990502,0952, 29.0973, 133.9532, 2590,     27.6,  21.0103,  34.8524,2,   -999.0,9,-999.0000,9,    227.5,2,  -999.00,9,  -999.00,9,     0.00,2,     0.00,2,     0.00,2, -999.000,9, -999.000,9,  -999.00,9,   -999.0,9,   -999.0,9,-999.0000,9,   -999.0,  9,  -999.00,9,   -999.0,  -999.00,9,  -999.00,9,     0.10,2,     0.06,2,   -999.0,-999.0000, -999,9,   27,  21.0050,  24.3802,   -999.0,9
       SH99-04,  NONE,SH-5738,  2,      2, S-1-1-7,2,19990502,0951, 29.0973, 133.9532, 2590,     52.3,  21.0211,  34.8562,2,   -999.0,9,-999.0000,9,    227.2,2,  -999.00,9,  -999.00,9,     0.00,2,     0.00,2,     0.00,2, -999.000,9, -999.000,9,  -999.00,9,   -999.0,9,   -999.0,9,-999.0000,9,   -999.0,  9,  -999.00,9,   -999.0,  -999.00,9,  -999.00,9,     0.10,2,     0.05,2,   -999.0,-999.0000, -999,9,   52,  21.0111,  24.3814,   -999.0,9
       SH99-04,  NONE,SH-5738,  2,      1, 1-133-1,2,19990502,0949, 29.0973, 133.9532, 2590,     78.1,  20.9925,  34.8499,2,   -999.0,9,-999.0000,9,    226.6,2,  -999.00,9,  -999.00,9,     0.00,2,     0.00,2,     0.00,2, -999.000,9, -999.000,9,  -999.00,9,   -999.0,9,   -999.0,9,-999.0000,9,   -999.0,  9,  -999.00,9,   -999.0,  -999.00,9,  -999.00,9,     0.13,2,     0.09,2,   -999.0,-999.0000, -999,9,   78,  20.9776,  24.3857,   -999.0,9
       SH99-04,  NONE,SH-5738,  2,     12,S-1-1-10,2,19990502,0948, 29.0973, 133.9532, 2590,    102.6,  20.3704,  34.8335,2,   -999.0,9,-999.0000,9,    215.8,2,  -999.00,9,  -999.00,9,     0.98,2,     0.12,2,     0.07,2, -999.000,9, -999.000,9,  -999.00,9,   -999.0,9,   -999.0,9,-999.0000,9,   -999.0,  9,  -999.00,9,   -999.0,  -999.00,9,  -999.00,9,     0.15,2,     0.23,2,   -999.0,-999.0000, -999,9,  102,  20.3512,  24.5417,   -999.0,9
       SH99-04,  NONE,SH-5738,  2,     11, S-1-1-9,2,19990502,0947, 29.0973, 133.9532, 2590,    128.1,  19.8626,  34.8437,2,   -999.0,9,-999.0000,9,    207.6,2,  -999.00,9,  -999.00,9,     1.76,2,     0.04,2,     0.13,2, -999.000,9, -999.000,9,  -999.00,9,   -999.0,9,   -999.0,9,-999.0000,9,   -999.0,  9,  -999.00,9,   -999.0,  -999.00,9,  -999.00,9,     0.01,2,     0.12,2,   -999.0,-999.0000, -999,9,  127,  19.8391,  24.6848,   -999.0,9
       SH99-04,  NONE,SH-5738,  2,     10,1-133-94,2,19990502,0946, 29.0973, 133.9532, 2590,    152.2,  19.4980,  34.8376,2,   -999.0,9,-999.0000,9,    209.4,2,  -999.00,9,  -999.00,9,     2.05,2,     0.03,2,     0.15,2, -999.000,9, -999.000,9,  -999.00,9,   -999.0,9,   -999.0,9,-999.0000,9,   -999.0,  9,  -999.00,9,   -999.0,  -999.00,9,  -999.00,9,     0.02,2,     0.04,2,   -999.0,-999.0000, -999,9,  151,  19.4704,  24.7762,   -999.0,9
       SH99-04,  NONE,SH-5738,  2,      9, S-1-1-5,2,19990502,0944, 29.0973, 133.9532, 2590,    203.9,  18.6859,  34.8407,2,   -999.0,9,-999.0000,9,    200.5,2,  -999.00,9,  -999.00,9,     3.41,2,     0.02,2,     0.24,2, -999.000,9, -999.000,9,  -999.00,9,   -999.0,9,   -999.0,9,-999.0000,9,   -999.0,  9,  -999.00,9,   -999.0,  -999.00,9,  -999.00,9,     0.00,2,     0.02,2,   -999.0,-999.0000, -999,9,  202,  18.6499,  24.9882,   -999.0,9
       SH99-04,  NONE,SH-5738,  2,      8,1-133-95,2,19990502,0943, 29.0973, 133.9532, 2590,    254.7,  17.8518,  34.8194,2,   -999.0,9,-999.0000,9,    197.5,2,  -999.00,9,  -999.00,9,     4.78,2,     0.02,2,     0.33,2, -999.000,9, -999.000,9,  -999.00,9,   -999.0,9,   -999.0,9,-999.0000,9,   -999.0,  9,  -999.00,9,   -999.0,  -999.00,9,  -999.00,9,     0.00,2,     0.02,2,   -999.0,-999.0000, -999,9,  253,  17.8083,  25.1808,   -999.0,9
       SH99-04,  NONE,SH-5738,  2,      7, S-1-1-4,2,19990502,0941, 29.0973, 133.9532, 2590,    306.3,  16.9246,  34.7787,2,   -999.0,9,-999.0000,9,    195.8,2,  -999.00,9,  -999.00,9,     6.24,2,     0.02,2,     0.44,2, -999.000,9, -999.000,9,  -999.00,9,   -999.0,9,   -999.0,9,-999.0000,9,   -999.0,  9,  -999.00,9,   -999.0,  -999.00,9,  -999.00,9,     0.00,2,     0.01,2,   -999.0,-999.0000, -999,9,  304,  16.8741,  25.3742,   -999.0,9
       SH99-04,  NONE,SH-5738,  1,      5, 1-133-2,2,19990502,0912, 29.0917, 133.9683, 2620,    403.2,  15.0209,  34.6439,2,   -999.0,9,-999.0000,9,    187.6,2,  -999.00,9,  -999.00,9,     9.85,2,     0.01,2,     0.68,2, -999.000,9, -999.000,9,  -999.00,9,   -999.0,9,   -999.0,9,-999.0000,9,   -999.0,  9,  -999.00,9,   -999.0,  -999.00,9,  -999.00,9,  -999.00,9,  -999.00,9,   -999.0,-999.0000, -999,9,  400,  14.9596,  25.7062,   -999.0,9
       SH99-04,  NONE,SH-5738,  1,      4, 1-133-7,2,19990502,0910, 29.0917, 133.9683, 2620,    507.3,  11.8347,  34.3862,2,   -999.0,9,-999.0000,9,    180.1,2,  -999.00,9,  -999.00,9,    15.49,2,     0.01,2,     1.11,2, -999.000,9, -999.000,9,  -999.00,9,   -999.0,9,   -999.0,9,-999.0000,9,   -999.0,  9,  -999.00,9,   -999.0,  -999.00,9,  -999.00,9,  -999.00,9,  -999.00,9,   -999.0,-999.0000, -999,9,  503,  11.7687,  26.1560,   -999.0,9
       SH99-04,  NONE,SH-5738,  1,      3,1-133-84,2,19990502,0908, 29.0917, 133.9683, 2620,    607.6,   9.5978,  34.2412,2,   -999.0,9,-999.0000,9,    161.5,2,  -999.00,9,  -999.00,9,    21.04,2,     0.01,2,     1.53,2, -999.000,9, -999.000,9,  -999.00,9,   -999.0,9,   -999.0,9,-999.0000,9,   -999.0,  9,  -999.00,9,   -999.0,  -999.00,9,  -999.00,9,  -999.00,9,  -999.00,9,   -999.0,-999.0000, -999,9,  603,   9.5283,  26.4384,   -999.0,9
       SH99-04,  NONE,SH-5738,  1,      2, S-1-1-7,2,19990502,0906, 29.0917, 133.9683, 2620,    707.7,   7.1856,  34.2094,2,   -999.0,9,-999.0000,9,    119.4,2,  -999.00,9,  -999.00,9,    29.02,2,     0.01,2,     2.11,2, -999.000,9, -999.000,9,  -999.00,9,   -999.0,9,   -999.0,9,-999.0000,9,   -999.0,  9,  -999.00,9,   -999.0,  -999.00,9,  -999.00,9,  -999.00,9,  -999.00,9,   -999.0,-999.0000, -999,9,  702,   7.1167,  26.7798,   -999.0,9
       SH99-04,  NONE,SH-5738,  1,      1, 1-133-1,2,19990502,0904, 29.0917, 133.9683, 2620,    808.2,   5.8037,  34.2291,2,   -999.0,9,-999.0000,9,     92.9,2,  -999.00,9,  -999.00,9,    33.69,2,     0.02,2,     2.42,2, -999.000,9, -999.000,9,  -999.00,9,   -999.0,9,   -999.0,9,-999.0000,9,   -999.0,  9,  -999.00,9,   -999.0,  -999.00,9,  -999.00,9,  -999.00,9,  -999.00,9,   -999.0,-999.0000, -999,9,  801,   5.7329,  26.9768,   -999.0,9
       SH99-04,  NONE,SH-5738,  1,     12,S-1-1-10,2,19990502,0901, 29.0917, 133.9683, 2620,    909.8,   4.8813,  34.3014,2,   -999.0,9,-999.0000,9,     76.9,2,  -999.00,9,  -999.00,9,    36.61,2,     0.01,2,     2.64,2, -999.000,9, -999.000,9,  -999.00,9,   -999.0,9,   -999.0,9,-999.0000,9,   -999.0,  9,  -999.00,9,   -999.0,  -999.00,9,  -999.00,9,  -999.00,9,  -999.00,9,   -999.0,-999.0000, -999,9,  902,   4.8072,  27.1433,   -999.0,9
       SH99-04,  NONE,SH-5738,  1,     11, S-1-1-9,2,19990502,0859, 29.0917, 133.9683, 2620,   1011.0,   4.3182,  34.3422,2,   -999.0,9,-999.0000,9,     68.8,2,  -999.00,9,  -999.00,9,    38.06,2,     0.01,2,     2.73,2, -999.000,9, -999.000,9,  -999.00,9,   -999.0,9,   -999.0,9,-999.0000,9,   -999.0,  9,  -999.00,9,   -999.0,  -999.00,9,  -999.00,9,  -999.00,9,  -999.00,9,   -999.0,-999.0000, -999,9, 1002,   4.2395,  27.2378,   -999.0,9
       SH99-04,  NONE,SH-5738,  1,     10,1-133-94,2,19990502,0856, 29.0917, 133.9683, 2620,   1201.4,   3.3137,  34.4443,2,   -999.0,9,-999.0000,9,     67.9,2,  -999.00,9,  -999.00,9,    39.52,2,     0.01,2,     2.83,2, -999.000,9, -999.000,9,  -999.00,9,   -999.0,9,   -999.0,9,-999.0000,9,   -999.0,  9,  -999.00,9,   -999.0,  -999.00,9,  -999.00,9,  -999.00,9,  -999.00,9,   -999.0,-999.0000, -999,9, 1190,   3.2275,  27.4204,   -999.0,9