BOTTLE,20130510GEMDJMAYT
EXPOCODE,SECT_ID,STNNBR,CASTNO,SAMPNO,BTLNBR,BTLNBR_FLAG_W,DATE,TIME,LATITUDE,LONGITUDE,DEPTH,CTDPRS,CTDTMP,CTDSAL,CTDSAL_FLAG_W,CTDOXY,CTDOXY_FLAG_W,SALNTY,SALNTY_FLAG_W,OXYGEN,OXYGEN_FLAG_W,SILCAT,SILCAT_FLAG_W,NITRAT,NITRAT_FLAG_W,NO2+NO3,NO2+NO3_FLAG_W,NITRIT,NITRIT_FLAG_W,PHSPHT,PHSPHT_FLAG_W,CFC-11,CFC-11_FLAG_W,CFC-12,CFC-12_FLAG_W,DELC13,DELC13_FLAG_W,TCARBN,TCARBN_FLAG_W,ALKALI,ALKALI_FLAG_W,PH,PH_FLAG_W,PH_TMP,PH_SCALE,PH_NBS,PH_NBS_FLAG_W,C13ERR,TOTALP,TOTALP_FLAG_W,AMMONI,AMMONI_FLAG_W,CHLORA,CHLORA_FLAG_W,PPHYTN,PPHYTN_FLAG_W,REVPRS,REVTMP,DEPTH_,DEPTH_FLAG,CTDDEP,THETA,SIGTHT,DOC,DOC_FLAG_W
,,,,,,,GMT,GMT,,,METER,DBAR,ITS-90,PSS-78,,UMOL/KG,,PSS-78,,UMOL/KG,,UMOL/KG,,UMOL/KG,,UMOL/KG,,UMOL/KG,,UMOL/KG,,PMOL/KG,,PMOL/KG,,/MILLE,,UMOL/KG,,UMOL/KG,,25_DEG_C,,DEG_C,,,,/MILLE,UMOL/KG,,UMOL/KG,,UG/L,,UG/L,,DBAR,ITS-90,METERS,,METERS,DEG_C,,UMOL/L,
       SH99-04,  NONE,SH-5741,  2,     -9,      -9,5,19990503,0301, 30.2842, 132.5702, 3980,      0.0,  22.6239,  34.7166,2,   -999.0,9,-999.0000,9,    220.3,2,  -999.00,9,  -999.00,9,     0.00,2,     0.00,2,     0.04,2, -999.000,9, -999.000,9,  -999.00,9,   -999.0,9,   -999.0,9,-999.0000,9,   -999.0,  9,  -999.00,9,   -999.0,  -999.00,9,  -999.00,9,     0.09,2,     0.04,2,   -999.0,-999.0000, -999,9,    0,  22.6239,  23.8264,   -999.0,9
       SH99-04,  NONE,SH-5741,  2,      8,1-133-95,2,19990503,0300, 30.2842, 132.5702, 3980,     10.5,  22.6238,  34.7181,2,   -999.0,9,  34.7207,2,    220.1,2,  -999.00,9,  -999.00,9,     0.00,2,     0.00,2,     0.03,2, -999.000,9, -999.000,9,  -999.00,9,   -999.0,9,   -999.0,9,-999.0000,9,   -999.0,  9,  -999.00,9,   -999.0,  -999.00,9,  -999.00,9,     0.10,2,     0.04,2,   -999.0,-999.0000, -999,9,   10,  22.6217,  23.8281,   -999.0,9
       SH99-04,  NONE,SH-5741,  2,      7, S-1-1-4,2,19990503,0259, 30.2842, 132.5702, 3980,     24.5,  21.7538,  34.8049,2,   -999.0,9,  34.7861,4,    223.4,2,  -999.00,9,  -999.00,9,     0.00,2,     0.00,2,     0.01,2, -999.000,9, -999.000,9,  -999.00,9,   -999.0,9,   -999.0,9,-999.0000,9,   -999.0,  9,  -999.00,9,   -999.0,  -999.00,9,  -999.00,9,     0.11,2,     0.05,2,   -999.0,-999.0000, -999,9,   24,  21.7491,  24.1396,   -999.0,9
       SH99-04,  NONE,SH-5741,  2,      6,1-133-93,2,19990503,0258, 30.2842, 132.5702, 3980,     49.5,  21.4158,  34.8105,2,   -999.0,9,  34.8136,2,    224.9,2,  -999.00,9,  -999.00,9,     0.00,2,     0.00,2,     0.00,2, -999.000,9, -999.000,9,  -999.00,9,   -999.0,9,   -999.0,9,-999.0000,9,   -999.0,  9,  -999.00,9,   -999.0,  -999.00,9,  -999.00,9,     0.12,2,     0.05,2,   -999.0,-999.0000, -999,9,   49,  21.4062,  24.2386,   -999.0,9
       SH99-04,  NONE,SH-5741,  2,      5, 1-133-2,2,19990503,0257, 30.2842, 132.5702, 3980,     74.4,  21.4076,  34.8104,2,   -999.0,9,  34.8125,2,    224.8,2,  -999.00,9,  -999.00,9,     0.00,2,     0.00,2,     0.00,2, -999.000,9, -999.000,9,  -999.00,9,   -999.0,9,   -999.0,9,-999.0000,9,   -999.0,  9,  -999.00,9,   -999.0,  -999.00,9,  -999.00,9,     0.14,2,     0.07,2,   -999.0,-999.0000, -999,9,   74,  21.3932,  24.2421,   -999.0,9
       SH99-04,  NONE,SH-5741,  2,      4, 1-133-7,2,19990503,0257, 30.2842, 132.5702, 3980,     99.7,  20.8827,  34.8609,2,   -999.0,9,  34.8554,2,    225.3,2,  -999.00,9,  -999.00,9,     0.00,2,     0.00,2,     0.00,2, -999.000,9, -999.000,9,  -999.00,9,   -999.0,9,   -999.0,9,-999.0000,9,   -999.0,  9,  -999.00,9,   -999.0,  -999.00,9,  -999.00,9,     0.26,2,     0.25,2,   -999.0,-999.0000, -999,9,   99,  20.8637,  24.4250,   -999.0,9
       SH99-04,  NONE,SH-5741,  2,      3,1-133-84,2,19990503,0256, 30.2842, 132.5702, 3980,    126.3,  20.3435,  34.8738,2,   -999.0,9,  34.8625,2,    214.4,2,  -999.00,9,  -999.00,9,     0.88,2,     0.13,2,     0.07,2, -999.000,9, -999.000,9,  -999.00,9,   -999.0,9,   -999.0,9,-999.0000,9,   -999.0,  9,  -999.00,9,   -999.0,  -999.00,9,  -999.00,9,     0.17,2,     0.40,2,   -999.0,-999.0000, -999,9,  125,  20.3199,  24.5808,   -999.0,9
       SH99-04,  NONE,SH-5741,  2,      2, S-1-1-7,2,19990503,0255, 30.2842, 132.5702, 3980,    149.7,  19.8300,  34.8537,2,   -999.0,9,  34.8485,2,    207.6,2,  -999.00,9,  -999.00,9,     1.85,2,     0.06,2,     0.14,2, -999.000,9, -999.000,9,  -999.00,9,   -999.0,9,   -999.0,9,-999.0000,9,   -999.0,  9,  -999.00,9,   -999.0,  -999.00,9,  -999.00,9,     0.04,2,     0.10,2,   -999.0,-999.0000, -999,9,  149,  19.8025,  24.7020,   -999.0,9
       SH99-04,  NONE,SH-5741,  2,      1, 1-133-1,2,19990503,0254, 30.2842, 132.5702, 3980,    201.8,  18.4751,  34.8482,2,   -999.0,9,  34.8505,2,    199.5,2,  -999.00,9,  -999.00,9,     3.41,2,     0.02,2,     0.24,2, -999.000,9, -999.000,9,  -999.00,9,   -999.0,9,   -999.0,9,-999.0000,9,   -999.0,  9,  -999.00,9,   -999.0,  -999.00,9,  -999.00,9,     0.00,2,     0.02,2,   -999.0,-999.0000, -999,9,  200,  18.4399,  25.0466,   -999.0,9
       SH99-04,  NONE,SH-5741,  2,     12,S-1-1-10,2,19990503,0253, 30.2842, 132.5702, 3980,    251.3,  17.7992,  34.8147,2,   -999.0,9,  34.8136,2,    195.7,2,  -999.00,9,  -999.00,9,     4.97,2,     0.02,2,     0.35,2, -999.000,9, -999.000,9,  -999.00,9,   -999.0,9,   -999.0,9,-999.0000,9,   -999.0,  9,  -999.00,9,   -999.0,  -999.00,9,  -999.00,9,     0.00,2,     0.01,2,   -999.0,-999.0000, -999,9,  249,  17.7563,  25.1899,   -999.0,9
       SH99-04,  NONE,SH-5741,  2,     11, S-1-1-9,2,19990503,0252, 30.2842, 132.5702, 3980,    301.8,  16.5707,  34.7534,2,   -999.0,9,  34.7422,2,    189.9,2,  -999.00,9,  -999.00,9,     7.22,2,     0.01,2,     0.51,2, -999.000,9, -999.000,9,  -999.00,9,   -999.0,9,   -999.0,9,-999.0000,9,   -999.0,  9,  -999.00,9,   -999.0,  -999.00,9,  -999.00,9,     0.00,2,     0.01,2,   -999.0,-999.0000, -999,9,  300,  16.5217,  25.4375,   -999.0,9
       SH99-04,  NONE,SH-5741,  2,     10,1-133-94,2,19990503,0250, 30.2842, 132.5702, 3980,    405.2,  14.4641,  34.6003,2,   -999.0,9,  34.5940,2,    179.8,2,  -999.00,9,  -999.00,9,    11.31,2,     0.01,2,     0.83,2, -999.000,9, -999.000,9,  -999.00,9,   -999.0,9,   -999.0,9,-999.0000,9,   -999.0,  9,  -999.00,9,   -999.0,  -999.00,9,  -999.00,9,  -999.00,9,  -999.00,9,   -999.0,-999.0000, -999,9,  402,  14.4040,  25.7927,   -999.0,9
       SH99-04,  NONE,SH-5741,  1,      8,1-133-95,2,19990503,0223, 30.2795, 132.5613, 3880,    501.2,  11.9965,  34.4458,2,   -999.0,9,  34.4438,2,    163.6,2,  -999.00,9,  -999.00,9,    16.57,2,     0.01,2,     1.22,2, -999.000,9, -999.000,9,  -999.00,9,   -999.0,9,   -999.0,9,-999.0000,9,   -999.0,  9,  -999.00,9,   -999.0,  -999.00,9,  -999.00,9,  -999.00,9,  -999.00,9,   -999.0,-999.0000, -999,9,  497,  11.9307,  26.1718,   -999.0,9
       SH99-04,  NONE,SH-5741,  1,      7, S-1-1-4,2,19990503,0221, 30.2795, 132.5613, 3880,    600.9,   9.8657,  34.3601,2,   -999.0,9,  34.3600,2,    141.8,2,  -999.00,9,  -999.00,9,    22.02,2,     0.01,2,     1.65,2, -999.000,9, -999.000,9,  -999.00,9,   -999.0,9,   -999.0,9,-999.0000,9,   -999.0,  9,  -999.00,9,   -999.0,  -999.00,9,  -999.00,9,  -999.00,9,  -999.00,9,   -999.0,-999.0000, -999,9,  596,   9.7957,  26.4868,   -999.0,9
       SH99-04,  NONE,SH-5741,  1,      6,1-133-93,2,19990503,0219, 30.2795, 132.5613, 3880,    704.1,   7.4769,  34.2182,2,   -999.0,9,  34.2194,2,    123.0,2,  -999.00,9,  -999.00,9,    27.56,2,     0.00,2,     2.05,2, -999.000,9, -999.000,9,  -999.00,9,   -999.0,9,   -999.0,9,-999.0000,9,   -999.0,  9,  -999.00,9,   -999.0,  -999.00,9,  -999.00,9,  -999.00,9,  -999.00,9,   -999.0,-999.0000, -999,9,  698,   7.4069,  26.7460,   -999.0,9
       SH99-04,  NONE,SH-5741,  1,      5, 1-133-2,2,19990503,0217, 30.2795, 132.5613, 3880,    805.6,   5.9817,  34.2465,2,   -999.0,9,  34.2416,2,     95.1,2,  -999.00,9,  -999.00,9,    32.43,2,     0.00,2,     2.41,2, -999.000,9, -999.000,9,  -999.00,9,   -999.0,9,   -999.0,9,-999.0000,9,   -999.0,  9,  -999.00,9,   -999.0,  -999.00,9,  -999.00,9,  -999.00,9,  -999.00,9,   -999.0,-999.0000, -999,9,  799,   5.9100,  26.9686,   -999.0,9
       SH99-04,  NONE,SH-5741,  1,      4, 1-133-7,2,19990503,0215, 30.2795, 132.5613, 3880,    904.2,   5.0778,  34.2961,2,   -999.0,9,  34.2974,2,     79.3,2,  -999.00,9,  -999.00,9,    35.24,2,     0.01,2,     2.61,2, -999.000,9, -999.000,9,  -999.00,9,   -999.0,9,   -999.0,9,-999.0000,9,   -999.0,  9,  -999.00,9,   -999.0,  -999.00,9,  -999.00,9,  -999.00,9,  -999.00,9,   -999.0,-999.0000, -999,9,  896,   5.0029,  27.1169,   -999.0,9
       SH99-04,  NONE,SH-5741,  1,      3,1-133-84,2,19990503,0213, 30.2795, 132.5613, 3880,   1005.8,   4.3101,  34.3719,2,   -999.0,9,  34.3675,2,     71.1,2,  -999.00,9,  -999.00,9,    37.09,2,     0.01,2,     2.72,2, -999.000,9, -999.000,9,  -999.00,9,   -999.0,9,   -999.0,9,-999.0000,9,   -999.0,  9,  -999.00,9,   -999.0,  -999.00,9,  -999.00,9,  -999.00,9,  -999.00,9,   -999.0,-999.0000, -999,9,  996,   4.2317,  27.2623,   -999.0,9
       SH99-04,  NONE,SH-5741,  1,      2, S-1-1-7,2,19990503,0210, 30.2795, 132.5613, 3880,   1207.7,   3.1806,  34.4637,2,   -999.0,9,  34.4634,2,     69.8,2,  -999.00,9,  -999.00,9,    38.93,2,     0.01,2,     2.83,2, -999.000,9, -999.000,9,  -999.00,9,   -999.0,9,   -999.0,9,-999.0000,9,   -999.0,  9,  -999.00,9,   -999.0,  -999.00,9,  -999.00,9,  -999.00,9,  -999.00,9,   -999.0,-999.0000, -999,9, 1196,   3.0950,  27.4482,   -999.0,9
       SH99-04,  NONE,SH-5741,  1,      1, 1-133-1,2,19990503,0206, 30.2795, 132.5613, 3880,   1511.9,   2.5944,  34.5311,2,   -999.0,9,  34.5252,2,   -999.0,9,  -999.00,9,  -999.00,9,  -999.00,9,  -999.00,9,  -999.00,9, -999.000,9, -999.000,9,  -999.00,9,   -999.0,9,   -999.0,9,-999.0000,9,   -999.0,  9,  -999.00,9,   -999.0,  -999.00,9,  -999.00,9,  -999.00,9,  -999.00,9,   -999.0,-999.0000, -999,9, 1496,   2.4904,  27.5558,   -999.0,9
       SH99-04,  NONE,SH-5741,  1,     12,S-1-1-10,2,19990503,0200, 30.2795, 132.5613, 3880,   2020.3,   2.0473,  34.6116,2,   -999.0,9,  34.6048,2,   -999.0,9,  -999.00,9,  -999.00,9,  -999.00,9,  -999.00,9,  -999.00,9, -999.000,9, -999.000,9,  -999.00,9,   -999.0,9,   -999.0,9,-999.0000,9,   -999.0,  9,  -999.00,9,   -999.0,  -999.00,9,  -999.00,9,  -999.00,9,  -999.00,9,   -999.0,-999.0000, -999,9, 1997,   1.9085,  27.6677,   -999.0,9
       SH99-04,  NONE,SH-5741,  1,     11, S-1-1-9,2,19990503,0153, 30.2795, 132.5613, 3880,   2529.1,   1.7419,  34.6563,2,   -999.0,9,  34.6467,2,   -999.0,9,  -999.00,9,  -999.00,9,  -999.00,9,  -999.00,9,  -999.00,9, -999.000,9, -999.000,9,  -999.00,9,   -999.0,9,   -999.0,9,-999.0000,9,   -999.0,  9,  -999.00,9,   -999.0,  -999.00,9,  -999.00,9,  -999.00,9,  -999.00,9,   -999.0,-999.0000, -999,9, 2497,   1.5638,  27.7297,   -999.0,9
       SH99-04,  NONE,SH-5741,  1,     10,1-133-94,2,19990503,0147, 30.2795, 132.5613, 3880,   3040.0,   1.5741,  34.6821,2,   -999.0,9,  34.6636,4,   -999.0,9,  -999.00,9,  -999.00,9,  -999.00,9,  -999.00,9,  -999.00,9, -999.000,9, -999.000,9,  -999.00,9,   -999.0,9,   -999.0,9,-999.0000,9,   -999.0,  9,  -999.00,9,   -999.0,  -999.00,9,  -999.00,9,  -999.00,9,  -999.00,9,   -999.0,-999.0000, -999,9, 2998,   1.3518,  27.7657,   -999.0,9
       SH99-04,  NONE,SH-5741,  1,      9, S-1-1-5,2,19990503,0139, 30.2795, 132.5613, 3880,   3569.3,   1.5287,  34.6939,2,   -999.0,9,  34.6853,2,   -999.0,9,  -999.00,9,  -999.00,9,  -999.00,9,  -999.00,9,  -999.00,9, -999.000,9, -999.000,9,  -999.00,9,   -999.0,9,   -999.0,9,-999.0000,9,   -999.0,  9,  -999.00,9,   -999.0,  -999.00,9,  -999.00,9,  -999.00,9,  -999.00,9,   -999.0,-999.0000, -999,9, 3515,   1.2546,  27.7820,   -999.0,9
       SH99-04,  NONE,SH-5742,  2,     -9,      -9,5,19990503,0825, 30.6482, 132.1523, 2410,      0.0,  23.7782,  34.7335,2,   -999.0,9,-999.0000,9,    216.4,2,  -999.00,9,  -999.00,9,     0.00,2,     0.02,2,     0.04,2, -999.000,9, -999.000,9,  -999.00,9,   -999.0,9,   -999.0,9,-999.0000,9,   -999.0,  9,     8.24,2,   -999.0,  -999.00,9,  -999.00,9,     0.24,2,     0.13,2,   -999.0,-999.0000, -999,9,    0,  23.7782,  23.5050,   -999.0,9
       SH99-04,  NONE,SH-5742,  2,      2, S-1-1-7,2,19990503,0824, 30.6482, 132.1523, 2410,     11.5,  23.8115,  34.7093,2,   -999.0,9,-999.0000,9,    216.6,2,  -999.00,9,  -999.00,9,     0.00,2,     0.01,2,     0.04,2, -999.000,9, -999.000,9,  -999.00,9,   -999.0,9,   -999.0,9,-999.0000,9,   -999.0,  9,     8.21,2,   -999.0,  -999.00,9,  -999.00,9,     0.25,2,     0.13,2,   -999.0,-999.0000, -999,9,   11,  23.8091,  23.4776,   -999.0,9
       SH99-04,  NONE,SH-5742,  2,      1, 1-133-1,2,19990503,0823, 30.6482, 132.1523, 2410,     25.4,  23.8089,  34.7081,2,   -999.0,9,-999.0000,9,    215.4,2,  -999.00,9,  -999.00,9,     0.00,2,     0.02,2,     0.04,2, -999.000,9, -999.000,9,  -999.00,9,   -999.0,9,   -999.0,9,-999.0000,9,   -999.0,  9,     8.21,2,   -999.0,  -999.00,9,  -999.00,9,     0.30,2,     0.14,2,   -999.0,-999.0000, -999,9,   25,  23.8036,  23.4783,   -999.0,9
       SH99-04,  NONE,SH-5742,  2,     12,S-1-1-10,2,19990503,0822, 30.6482, 132.1523, 2410,     50.2,  23.1670,  34.7092,2,   -999.0,9,-999.0000,9,    210.5,2,  -999.00,9,  -999.00,9,     0.49,2,     0.10,2,     0.06,2, -999.000,9, -999.000,9,  -999.00,9,   -999.0,9,   -999.0,9,-999.0000,9,   -999.0,  9,     8.19,2,   -999.0,  -999.00,9,  -999.00,9,     0.30,2,     0.19,2,   -999.0,-999.0000, -999,9,   50,  23.1567,  23.6678,   -999.0,9
       SH99-04,  NONE,SH-5742,  2,     11, S-1-1-9,2,19990503,0821, 30.6482, 132.1523, 2410,     73.9,  22.5485,  34.7241,2,   -999.0,9,-999.0000,9,    203.2,2,  -999.00,9,  -999.00,9,     1.56,2,     0.17,2,     0.13,2, -999.000,9, -999.000,9,  -999.00,9,   -999.0,9,   -999.0,9,-999.0000,9,   -999.0,  9,     8.18,2,   -999.0,  -999.00,9,  -999.00,9,     0.10,2,     0.10,2,   -999.0,-999.0000, -999,9,   73,  22.5337,  23.8577,   -999.0,9
       SH99-04,  NONE,SH-5742,  2,     10,1-133-94,2,19990503,0820, 30.6482, 132.1523, 2410,    101.5,  21.5454,  34.7859,2,   -999.0,9,-999.0000,9,    200.0,2,  -999.00,9,  -999.00,9,     2.15,2,     0.10,2,     0.17,2, -999.000,9, -999.000,9,  -999.00,9,   -999.0,9,   -999.0,9,-999.0000,9,   -999.0,  9,     8.16,2,   -999.0,  -999.00,9,  -999.00,9,     0.11,2,     0.17,2,   -999.0,-999.0000, -999,9,  101,  21.5257,  24.1870,   -999.0,9
       SH99-04,  NONE,SH-5742,  2,      9, S-1-1-5,2,19990503,0819, 30.6482, 132.1523, 2410,    126.3,  20.5855,  34.8022,2,   -999.0,9,-999.0000,9,    195.8,2,  -999.00,9,  -999.00,9,  -999.00,4,  -999.00,4,  -999.00,4, -999.000,9, -999.000,9,  -999.00,9,   -999.0,9,   -999.0,9,-999.0000,9,   -999.0,  9,     8.14,2,   -999.0,  -999.00,9,  -999.00,9,     0.02,2,     0.04,2,   -999.0,-999.0000, -999,9,  125,  20.5618,  24.4616,   -999.0,9
       SH99-04,  NONE,SH-5742,  2,      8,1-133-95,2,19990503,0818, 30.6482, 132.1523, 2410,    151.3,  19.7251,  34.8136,2,   -999.0,9,-999.0000,9,    193.9,2,  -999.00,9,  -999.00,9,     3.71,2,     0.03,2,     0.28,2, -999.000,9, -999.000,9,  -999.00,9,   -999.0,9,   -999.0,9,-999.0000,9,   -999.0,  9,     8.12,2,   -999.0,  -999.00,9,  -999.00,9,     0.01,2,     0.02,2,   -999.0,-999.0000, -999,9,  150,  19.6975,  24.6988,   -999.0,9
       SH99-04,  NONE,SH-5742,  2,      7, S-1-1-4,2,19990503,0816, 30.6482, 132.1523, 2410,    201.9,  18.5652,  34.8103,2,   -999.0,9,-999.0000,9,    191.8,2,  -999.00,9,  -999.00,9,     4.78,2,     0.04,2,     0.39,2, -999.000,9, -999.000,9,  -999.00,9,   -999.0,9,   -999.0,9,-999.0000,9,   -999.0,  9,     8.09,2,   -999.0,  -999.00,9,  -999.00,9,     0.00,2,     0.01,2,   -999.0,-999.0000, -999,9,  200,  18.5298,  24.9951,   -999.0,9
       SH99-04,  NONE,SH-5742,  2,      6,1-133-93,2,19990503,0814, 30.6482, 132.1523, 2410,    252.2,  16.8295,  34.7539,2,   -999.0,9,-999.0000,9,    190.7,2,  -999.00,9,  -999.00,9,     6.63,2,     0.02,2,     0.51,2, -999.000,9, -999.000,9,  -999.00,9,   -999.0,9,   -999.0,9,-999.0000,9,   -999.0,  9,     8.06,2,   -999.0,  -999.00,9,  -999.00,9,     0.00,2,     0.01,2,   -999.0,-999.0000, -999,9,  250,  16.7882,  25.3754,   -999.0,9
       SH99-04,  NONE,SH-5742,  2,      5, 1-133-2,2,19990503,0813, 30.6482, 132.1523, 2410,    304.8,  16.1740,  34.7064,2,   -999.0,9,-999.0000,9,    186.3,2,  -999.00,9,  -999.00,9,     8.09,2,     0.02,2,     0.62,2, -999.000,9, -999.000,9,  -999.00,9,   -999.0,9,   -999.0,9,-999.0000,9,   -999.0,  9,     8.03,2,   -999.0,  -999.00,9,  -999.00,9,     0.00,2,     0.01,2,   -999.0,-999.0000, -999,9,  302,  16.1254,  25.4931,   -999.0,9
       SH99-04,  NONE,SH-5742,  1,      4, 1-133-7,4,19990503,0742, 30.6270, 132.1543, 2410,    405.4,  13.8194,  34.5187,2,   -999.0,9,-999.0000,9,     88.8,4,  -999.00,9,  -999.00,9,    38.31,4,     0.01,4,     2.80,4, -999.000,9, -999.000,9,  -999.00,9,   -999.0,9,   -999.0,9,-999.0000,9,   -999.0,  9,     7.59,4,   -999.0,  -999.00,9,  -999.00,9,  -999.00,9,  -999.00,9,   -999.0,-999.0000, -999,9,  402,  13.7611,  25.8649,   -999.0,9
       SH99-04,  NONE,SH-5742,  1,      3,1-133-84,2,19990503,0739, 30.6270, 132.1543, 2410,    505.4,  10.3468,  34.2988,2,   -999.0,9,-999.0000,9,    161.7,2,  -999.00,9,  -999.00,9,    19.58,2,     0.02,2,     1.46,2, -999.000,9, -999.000,9,  -999.00,9,   -999.0,9,   -999.0,9,-999.0000,9,   -999.0,  9,     7.84,2,   -999.0,  -999.00,9,  -999.00,9,  -999.00,9,  -999.00,9,   -999.0,-999.0000, -999,9,  501,  10.2865,  26.3553,   -999.0,9
       SH99-04,  NONE,SH-5742,  1,      2, S-1-1-7,2,19990503,0737, 30.6270, 132.1543, 2410,    606.0,   8.5195,  34.2749,2,   -999.0,9,-999.0000,9,    133.1,2,  -999.00,9,  -999.00,9,    24.84,2,     0.01,2,     1.88,2, -999.000,9, -999.000,9,  -999.00,9,   -999.0,9,   -999.0,9,-999.0000,9,   -999.0,  9,     7.75,2,   -999.0,  -999.00,9,  -999.00,9,  -999.00,9,  -999.00,9,   -999.0,-999.0000, -999,9,  601,   8.4549,  26.6356,   -999.0,9
       SH99-04,  NONE,SH-5742,  1,      1, 1-133-1,2,19990503,0735, 30.6270, 132.1543, 2410,    706.5,   6.9937,  34.3355,2,   -999.0,9,-999.0000,9,    104.2,2,  -999.00,9,  -999.00,9,    29.60,2,     0.02,2,     2.24,2, -999.000,9, -999.000,9,  -999.00,9,   -999.0,9,   -999.0,9,-999.0000,9,   -999.0,  9,     7.68,2,   -999.0,  -999.00,9,  -999.00,9,  -999.00,9,  -999.00,9,   -999.0,-999.0000, -999,9,  700,   6.9258,  26.9055,   -999.0,9
       SH99-04,  NONE,SH-5742,  1,     12,S-1-1-10,2,19990503,0733, 30.6270, 132.1543, 2410,    807.7,   5.2322,  34.3682,2,   -999.0,9,-999.0000,9,     84.1,2,  -999.00,9,  -999.00,9,    34.17,2,     0.00,2,     2.55,2, -999.000,9, -999.000,9,  -999.00,9,   -999.0,9,   -999.0,9,-999.0000,9,   -999.0,  9,     7.62,2,   -999.0,  -999.00,9,  -999.00,9,  -999.00,9,  -999.00,9,   -999.0,-999.0000, -999,9,  801,   5.1647,  27.1552,   -999.0,9
       SH99-04,  NONE,SH-5742,  1,     11, S-1-1-9,2,19990503,0730, 30.6270, 132.1543, 2410,    907.4,   4.1746,  34.3561,2,   -999.0,9,-999.0000,9,     69.0,2,  -999.00,9,  -999.00,9,    37.67,2,     0.02,2,     2.77,2, -999.000,9, -999.000,9,  -999.00,9,   -999.0,9,   -999.0,9,-999.0000,9,   -999.0,  9,     7.54,2,   -999.0,  -999.00,9,  -999.00,9,  -999.00,9,  -999.00,9,   -999.0,-999.0000, -999,9,  899,   4.1056,  27.2630,   -999.0,9
       SH99-04,  NONE,SH-5742,  1,     10,1-133-94,2,19990503,0728, 30.6270, 132.1543, 2410,   1009.6,   3.6674,  34.4396,2,   -999.0,9,-999.0000,9,     73.4,2,  -999.00,9,  -999.00,9,    37.86,2,     0.00,2,     2.79,2, -999.000,9, -999.000,9,  -999.00,9,   -999.0,9,   -999.0,9,-999.0000,9,   -999.0,  9,     7.55,2,   -999.0,  -999.00,9,  -999.00,9,  -999.00,9,  -999.00,9,   -999.0,-999.0000, -999,9, 1000,   3.5936,  27.3814,   -999.0,9
       SH99-04,  NONE,SH-5742,  1,      9, S-1-1-5,2,19990503,0725, 30.6270, 132.1543, 2410,   1211.3,   3.0317,  34.4769,2,   -999.0,9,-999.0000,9,     72.1,2,  -999.00,9,  -999.00,9,    37.76,2,     0.00,2,     2.83,2, -999.000,9, -999.000,9,  -999.00,9,   -999.0,9,   -999.0,9,-999.0000,9,   -999.0,  9,     7.56,2,   -999.0,  -999.00,9,  -999.00,9,  -999.00,9,  -999.00,9,   -999.0,-999.0000, -999,9, 1199,   2.9472,  27.4723,   -999.0,9