BOTTLE,20130510GEMDJMAYT
EXPOCODE,SECT_ID,STNNBR,CASTNO,SAMPNO,BTLNBR,BTLNBR_FLAG_W,DATE,TIME,LATITUDE,LONGITUDE,DEPTH,CTDPRS,CTDTMP,CTDSAL,CTDSAL_FLAG_W,CTDOXY,CTDOXY_FLAG_W,SALNTY,SALNTY_FLAG_W,OXYGEN,OXYGEN_FLAG_W,SILCAT,SILCAT_FLAG_W,NITRAT,NITRAT_FLAG_W,NO2+NO3,NO2+NO3_FLAG_W,NITRIT,NITRIT_FLAG_W,PHSPHT,PHSPHT_FLAG_W,CFC-11,CFC-11_FLAG_W,CFC-12,CFC-12_FLAG_W,DELC13,DELC13_FLAG_W,TCARBN,TCARBN_FLAG_W,ALKALI,ALKALI_FLAG_W,PH,PH_FLAG_W,PH_TMP,PH_SCALE,PH_NBS,PH_NBS_FLAG_W,C13ERR,TOTALP,TOTALP_FLAG_W,AMMONI,AMMONI_FLAG_W,CHLORA,CHLORA_FLAG_W,PPHYTN,PPHYTN_FLAG_W,REVPRS,REVTMP,DEPTH_,DEPTH_FLAG,CTDDEP,THETA,SIGTHT,DOC,DOC_FLAG_W
,,,,,,,GMT,GMT,,,METER,DBAR,ITS-90,PSS-78,,UMOL/KG,,PSS-78,,UMOL/KG,,UMOL/KG,,UMOL/KG,,UMOL/KG,,UMOL/KG,,UMOL/KG,,PMOL/KG,,PMOL/KG,,/MILLE,,UMOL/KG,,UMOL/KG,,25_DEG_C,,DEG_C,,,,/MILLE,UMOL/KG,,UMOL/KG,,UG/L,,UG/L,,DBAR,ITS-90,METERS,,METERS,DEG_C,,UMOL/L,
       SH99-04,  NONE,SH-5731,  2,     -9,      -9,5,19990430,1730, 31.5358, 135.2223, 3260,      0.0,  19.2729,  34.7957,2,   -999.0,9,-999.0000,9,    237.4,2,  -999.00,9,  -999.00,9,     0.00,2,     0.01,2,     0.02,2, -999.000,9, -999.000,9,  -999.00,9,   -999.0,9,   -999.0,9,-999.0000,9,   -999.0,  9,  -999.00,9,   -999.0,  -999.00,9,  -999.00,9,     0.13,2,     0.13,2,   -999.0,-999.0000, -999,9,    0,  19.2729,  24.7951,   -999.0,9
       SH99-04,  NONE,SH-5731,  2,     11, S-1-1-9,2,19990430,1729, 31.5358, 135.2223, 3260,     11.7,  19.2856,  34.7945,2,   -999.0,9,  34.7983,2,    236.5,2,  -999.00,9,  -999.00,9,     0.00,2,     0.00,2,     0.02,2, -999.000,9, -999.000,9,  -999.00,9,   -999.0,9,   -999.0,9,-999.0000,9,   -999.0,  9,  -999.00,9,   -999.0,  -999.00,9,  -999.00,9,     0.08,4,     0.08,4,   -999.0,-999.0000, -999,9,   12,  19.2835,  24.7915,   -999.0,9
       SH99-04,  NONE,SH-5731,  2,     10,1-133-94,2,19990430,1728, 31.5358, 135.2223, 3260,     26.2,  19.2639,  34.7964,2,   -999.0,9,  34.8006,2,    236.3,2,  -999.00,9,  -999.00,9,     0.00,2,     0.01,2,     0.02,2, -999.000,9, -999.000,9,  -999.00,9,   -999.0,9,   -999.0,9,-999.0000,9,   -999.0,  9,  -999.00,9,   -999.0,  -999.00,9,  -999.00,9,     0.17,2,     0.17,2,   -999.0,-999.0000, -999,9,   26,  19.2592,  24.7992,   -999.0,9
       SH99-04,  NONE,SH-5731,  2,      9, S-1-1-5,2,19990430,1727, 31.5358, 135.2223, 3260,     50.2,  18.9223,  34.8036,2,   -999.0,9,  34.8148,2,    228.8,2,  -999.00,9,  -999.00,9,     0.98,2,     0.24,2,     0.07,2, -999.000,9, -999.000,9,  -999.00,9,   -999.0,9,   -999.0,9,-999.0000,9,   -999.0,  9,  -999.00,9,   -999.0,  -999.00,9,  -999.00,9,     0.18,2,     0.22,2,   -999.0,-999.0000, -999,9,   50,  18.9134,  24.8931,   -999.0,9
       SH99-04,  NONE,SH-5731,  2,      8,1-133-95,2,19990430,1726, 31.5358, 135.2223, 3260,     77.1,  18.9056,  34.8081,2,   -999.0,9,  34.8125,2,    229.6,2,  -999.00,9,  -999.00,9,     0.98,2,     0.24,2,     0.07,2, -999.000,9, -999.000,9,  -999.00,9,   -999.0,9,   -999.0,9,-999.0000,9,   -999.0,  9,  -999.00,9,   -999.0,  -999.00,9,  -999.00,9,     0.06,2,     0.10,2,   -999.0,-999.0000, -999,9,   77,  18.8920,  24.9020,   -999.0,9
       SH99-04,  NONE,SH-5731,  2,      7, S-1-1-4,2,19990430,1725, 31.5358, 135.2223, 3260,    103.4,  18.8928,  34.8032,2,   -999.0,9,  34.8282,4,    228.4,2,  -999.00,9,  -999.00,9,     1.07,2,     0.31,2,     0.07,2, -999.000,9, -999.000,9,  -999.00,9,   -999.0,9,   -999.0,9,-999.0000,9,   -999.0,  9,  -999.00,9,   -999.0,  -999.00,9,  -999.00,9,     0.07,2,     0.12,2,   -999.0,-999.0000, -999,9,  103,  18.8745,  24.9027,   -999.0,9
       SH99-04,  NONE,SH-5731,  2,      6,1-133-93,2,19990430,1724, 31.5358, 135.2223, 3260,    129.1,  18.8778,  34.8019,2,   -999.0,9,  34.8064,2,    228.9,2,  -999.00,9,  -999.00,9,     1.07,2,     0.31,2,     0.07,2, -999.000,9, -999.000,9,  -999.00,9,   -999.0,9,   -999.0,9,-999.0000,9,   -999.0,  9,  -999.00,9,   -999.0,  -999.00,9,  -999.00,9,     0.05,2,     0.07,2,   -999.0,-999.0000, -999,9,  128,  18.8549,  24.9066,   -999.0,9
       SH99-04,  NONE,SH-5731,  2,     -9,      -9,4,19990430,1723, 31.5358, 135.2223, 3260,    154.0,  18.8756,  34.8003,2,   -999.0,9,-999.0000,9,   -999.0,9,  -999.00,9,  -999.00,9,  -999.00,9,  -999.00,9,  -999.00,9, -999.000,9, -999.000,9,  -999.00,9,   -999.0,9,   -999.0,9,-999.0000,9,   -999.0,  9,  -999.00,9,   -999.0,  -999.00,9,  -999.00,9,  -999.00,9,  -999.00,9,   -999.0,-999.0000, -999,9,  153,  18.8483,  24.9071,   -999.0,9
       SH99-04,  NONE,SH-5731,  2,      5, 1-133-2,2,19990430,1723, 31.5358, 135.2223, 3260,    154.9,  18.8757,  34.7962,2,   -999.0,9,  34.8060,2,    230.3,2,  -999.00,9,  -999.00,9,     1.07,2,     0.33,2,     0.07,2, -999.000,9, -999.000,9,  -999.00,9,   -999.0,9,   -999.0,9,-999.0000,9,   -999.0,  9,  -999.00,9,   -999.0,  -999.00,9,  -999.00,9,     0.05,2,     0.10,2,   -999.0,-999.0000, -999,9,  154,  18.8482,  24.9040,   -999.0,9
       SH99-04,  NONE,SH-5731,  2,      3,1-133-84,2,19990430,1721, 31.5358, 135.2223, 3260,    202.8,  18.8701,  34.8064,2,   -999.0,9,  34.8105,2,    229.2,2,  -999.00,9,  -999.00,9,     0.88,2,     0.11,2,     0.08,2, -999.000,9, -999.000,9,  -999.00,9,   -999.0,9,   -999.0,9,-999.0000,9,   -999.0,  9,  -999.00,9,   -999.0,  -999.00,9,  -999.00,9,     0.02,2,     0.05,2,   -999.0,-999.0000, -999,9,  201,  18.8341,  24.9153,   -999.0,9
       SH99-04,  NONE,SH-5731,  2,      2, S-1-1-7,2,19990430,1720, 31.5358, 135.2223, 3260,    253.7,  18.8591,  34.8067,2,   -999.0,9,  34.8115,2,    228.6,2,  -999.00,9,  -999.00,9,     0.98,2,     0.05,2,     0.08,2, -999.000,9, -999.000,9,  -999.00,9,   -999.0,9,   -999.0,9,-999.0000,9,   -999.0,  9,  -999.00,9,   -999.0,  -999.00,9,  -999.00,9,     0.01,2,     0.04,2,   -999.0,-999.0000, -999,9,  252,  18.8141,  24.9207,   -999.0,9
       SH99-04,  NONE,SH-5731,  2,      1, 1-133-1,2,19990430,1718, 31.5358, 135.2223, 3260,    300.7,  18.7483,  34.8160,2,   -999.0,9,  34.8170,2,    222.8,2,  -999.00,9,  -999.00,9,     1.46,2,     0.02,2,     0.12,2, -999.000,9, -999.000,9,  -999.00,9,   -999.0,9,   -999.0,9,-999.0000,9,   -999.0,  9,  -999.00,9,   -999.0,  -999.00,9,  -999.00,9,     0.01,2,     0.04,2,   -999.0,-999.0000, -999,9,  298,  18.6951,  24.9579,   -999.0,9
       SH99-04,  NONE,SH-5731,  1,     12,S-1-1-10,2,19990430,1639, 31.5178, 135.2355, 3420,    405.8,  18.0817,  34.8879,2,   -999.0,9,  34.8932,2,    212.4,2,  -999.00,9,  -999.00,9,     2.73,2,     0.01,2,     0.19,2, -999.000,9, -999.000,9,  -999.00,9,   -999.0,9,   -999.0,9,-999.0000,9,   -999.0,  9,  -999.00,9,   -999.0,  -999.00,9,  -999.00,9,  -999.00,9,  -999.00,9,   -999.0,-999.0000, -999,9,  403,  18.0115,  25.1833,   -999.0,9
       SH99-04,  NONE,SH-5731,  1,     11, S-1-1-9,2,19990430,1638, 31.5178, 135.2355, 3420,    505.4,  17.8800,  34.8802,2,   -999.0,9,  34.8810,2,    210.0,2,  -999.00,9,  -999.00,9,     3.32,2,     0.00,2,     0.23,2, -999.000,9, -999.000,9,  -999.00,9,   -999.0,9,   -999.0,9,-999.0000,9,   -999.0,  9,  -999.00,9,   -999.0,  -999.00,9,  -999.00,9,  -999.00,9,  -999.00,9,   -999.0,-999.0000, -999,9,  501,  17.7931,  25.2311,   -999.0,9
       SH99-04,  NONE,SH-5731,  1,     10,1-133-94,2,19990430,1636, 31.5178, 135.2355, 3420,    607.6,  15.2245,  34.6645,2,   -999.0,9,  34.6650,2,    198.9,2,  -999.00,9,  -999.00,9,     8.77,2,     0.00,2,     0.65,2, -999.000,9, -999.000,9,  -999.00,9,   -999.0,9,   -999.0,9,-999.0000,9,   -999.0,  9,  -999.00,9,   -999.0,  -999.00,9,  -999.00,9,  -999.00,9,  -999.00,9,   -999.0,-999.0000, -999,9,  603,  15.1306,  25.6846,   -999.0,9
       SH99-04,  NONE,SH-5731,  1,      9, S-1-1-5,2,19990430,1635, 31.5178, 135.2355, 3420,    708.5,  12.6534,  34.4614,2,   -999.0,9,  34.4605,2,    176.4,2,  -999.00,9,  -999.00,9,    14.23,2,     0.00,2,     1.09,2, -999.000,9, -999.000,9,  -999.00,9,   -999.0,9,   -999.0,9,-999.0000,9,   -999.0,  9,  -999.00,9,   -999.0,  -999.00,9,  -999.00,9,  -999.00,9,  -999.00,9,   -999.0,-999.0000, -999,9,  702,  12.5563,  26.0634,   -999.0,9
       SH99-04,  NONE,SH-5731,  1,      8,1-133-95,2,19990430,1633, 31.5178, 135.2355, 3420,    809.1,   9.3540,  34.2731,2,   -999.0,9,  34.2758,2,    151.3,2,  -999.00,9,  -999.00,9,    21.43,2,     0.00,2,     1.66,2, -999.000,9, -999.000,9,  -999.00,9,   -999.0,9,   -999.0,9,-999.0000,9,   -999.0,  9,  -999.00,9,   -999.0,  -999.00,9,  -999.00,9,  -999.00,9,  -999.00,9,   -999.0,-999.0000, -999,9,  802,   9.2618,  26.5068,   -999.0,9
       SH99-04,  NONE,SH-5731,  1,      7, S-1-1-4,2,19990430,1632, 31.5178, 135.2355, 3420,    909.0,   6.9903,  34.2127,2,   -999.0,9,  34.2139,2,    115.1,2,  -999.00,9,  -999.00,9,    28.83,2,     0.00,2,     2.20,2, -999.000,9, -999.000,9,  -999.00,9,   -999.0,9,   -999.0,9,-999.0000,9,   -999.0,  9,  -999.00,9,   -999.0,  -999.00,9,  -999.00,9,  -999.00,9,  -999.00,9,   -999.0,-999.0000, -999,9,  901,   6.9020,  26.8120,   -999.0,9
       SH99-04,  NONE,SH-5731,  1,      6,1-133-93,2,19990430,1630, 31.5178, 135.2355, 3420,   1012.0,   5.6911,  34.2578,2,   -999.0,9,  34.2616,2,     91.9,2,  -999.00,9,  -999.00,9,    32.62,2,     0.00,2,     2.50,2, -999.000,9, -999.000,9,  -999.00,9,   -999.0,9,   -999.0,9,-999.0000,9,   -999.0,  9,  -999.00,9,   -999.0,  -999.00,9,  -999.00,9,  -999.00,9,  -999.00,9,   -999.0,-999.0000, -999,9, 1003,   5.6018,  27.0156,   -999.0,9
       SH99-04,  NONE,SH-5731,  1,      5, 1-133-2,2,19990430,1628, 31.5178, 135.2355, 3420,   1216.3,   4.1916,  34.3742,2,   -999.0,9,  34.3756,2,     70.8,2,  -999.00,9,  -999.00,9,    36.80,2,     0.00,2,     2.79,2, -999.000,9, -999.000,9,  -999.00,9,   -999.0,9,   -999.0,9,-999.0000,9,   -999.0,  9,  -999.00,9,   -999.0,  -999.00,9,  -999.00,9,  -999.00,9,  -999.00,9,   -999.0,-999.0000, -999,9, 1204,   4.0961,  27.2784,   -999.0,9
       SH99-04,  NONE,SH-5732,  2,     -9,      -9,5,19990430,2312, 31.0073, 135.2022, 4280,      0.0,  19.7970,  34.7751,2,   -999.0,9,-999.0000,9,    234.8,2,  -999.00,9,  -999.00,9,     0.00,2,     0.01,2,     0.02,2, -999.000,9, -999.000,9,  -999.00,9,   -999.0,9,   -999.0,9,-999.0000,9,   -999.0,  9,  -999.00,9,   -999.0,  -999.00,9,  -999.00,9,     0.16,2,     0.08,2,   -999.0,-999.0000, -999,9,    0,  19.7970,  24.6435,   -999.0,9
       SH99-04,  NONE,SH-5732,  2,      2, S-1-1-7,2,19990430,2311, 31.0073, 135.2022, 4280,      9.7,  19.7865,  34.7787,2,   -999.0,9,-999.0000,9,    234.3,2,  -999.00,9,  -999.00,9,     0.00,2,     0.00,2,     0.01,2, -999.000,9, -999.000,9,  -999.00,9,   -999.0,9,   -999.0,9,-999.0000,9,   -999.0,  9,  -999.00,9,   -999.0,  -999.00,9,  -999.00,9,     0.17,2,     0.07,2,   -999.0,-999.0000, -999,9,   10,  19.7847,  24.6494,   -999.0,9
       SH99-04,  NONE,SH-5732,  2,      1, 1-133-1,2,19990430,2310, 31.0073, 135.2022, 4280,     25.0,  19.7871,  34.7796,2,   -999.0,9,-999.0000,9,    234.5,2,  -999.00,9,  -999.00,9,     0.00,2,     0.00,2,     0.01,2, -999.000,9, -999.000,9,  -999.00,9,   -999.0,9,   -999.0,9,-999.0000,9,   -999.0,  9,  -999.00,9,   -999.0,  -999.00,9,  -999.00,9,     0.17,2,     0.07,2,   -999.0,-999.0000, -999,9,   25,  19.7825,  24.6507,   -999.0,9
       SH99-04,  NONE,SH-5732,  2,     12,S-1-1-10,2,19990430,2308, 31.0073, 135.2022, 4280,     50.3,  19.7255,  34.7794,2,   -999.0,9,-999.0000,9,    234.3,2,  -999.00,9,  -999.00,9,     0.00,2,     0.00,2,     0.01,2, -999.000,9, -999.000,9,  -999.00,9,   -999.0,9,   -999.0,9,-999.0000,9,   -999.0,  9,  -999.00,9,   -999.0,  -999.00,9,  -999.00,9,     0.19,2,     0.09,2,   -999.0,-999.0000, -999,9,   50,  19.7163,  24.6678,   -999.0,9
       SH99-04,  NONE,SH-5732,  2,     11, S-1-1-9,2,19990430,2307, 31.0073, 135.2022, 4280,     75.0,  19.3174,  34.7884,2,   -999.0,9,-999.0000,9,    234.6,2,  -999.00,9,  -999.00,9,     0.00,2,     0.00,2,     0.02,2, -999.000,9, -999.000,9,  -999.00,9,   -999.0,9,   -999.0,9,-999.0000,9,   -999.0,  9,  -999.00,9,   -999.0,  -999.00,9,  -999.00,9,     0.38,2,     0.38,2,   -999.0,-999.0000, -999,9,   74,  19.3039,  24.7816,   -999.0,9
       SH99-04,  NONE,SH-5732,  2,     10,1-133-94,2,19990430,2306, 31.0073, 135.2022, 4280,    100.3,  19.2075,  34.8032,2,   -999.0,9,-999.0000,9,    228.4,2,  -999.00,9,  -999.00,9,     0.98,2,     0.25,2,     0.07,2, -999.000,9, -999.000,9,  -999.00,9,   -999.0,9,   -999.0,9,-999.0000,9,   -999.0,  9,  -999.00,9,   -999.0,  -999.00,9,  -999.00,9,     0.20,2,     0.19,2,   -999.0,-999.0000, -999,9,  100,  19.1895,  24.8223,   -999.0,9
       SH99-04,  NONE,SH-5732,  2,      9, S-1-1-5,2,19990430,2305, 31.0073, 135.2022, 4280,    126.0,  19.2107,  34.8111,2,   -999.0,9,-999.0000,9,    226.2,2,  -999.00,9,  -999.00,9,     0.88,2,     0.07,2,     0.08,2, -999.000,9, -999.000,9,  -999.00,9,   -999.0,9,   -999.0,9,-999.0000,9,   -999.0,  9,  -999.00,9,   -999.0,  -999.00,9,  -999.00,9,     0.05,2,     0.07,2,   -999.0,-999.0000, -999,9,  125,  19.1881,  24.8287,   -999.0,9
       SH99-04,  NONE,SH-5732,  2,      8,1-133-95,2,19990430,2304, 31.0073, 135.2022, 4280,    152.0,  19.1864,  34.8101,2,   -999.0,9,-999.0000,9,    226.2,2,  -999.00,9,  -999.00,9,     0.98,2,     0.06,2,     0.12,2, -999.000,9, -999.000,9,  -999.00,9,   -999.0,9,   -999.0,9,-999.0000,9,   -999.0,  9,  -999.00,9,   -999.0,  -999.00,9,  -999.00,9,     0.06,2,     0.07,2,   -999.0,-999.0000, -999,9,  151,  19.1591,  24.8353,   -999.0,9
       SH99-04,  NONE,SH-5732,  2,      7, S-1-1-4,2,19990430,2302, 31.0073, 135.2022, 4280,    202.8,  19.1474,  34.8066,2,   -999.0,9,-999.0000,9,    226.9,2,  -999.00,9,  -999.00,9,     0.88,2,     0.09,2,     0.09,2, -999.000,9, -999.000,9,  -999.00,9,   -999.0,9,   -999.0,9,-999.0000,9,   -999.0,  9,  -999.00,9,   -999.0,  -999.00,9,  -999.00,9,     0.03,2,     0.05,2,   -999.0,-999.0000, -999,9,  201,  19.1111,  24.8450,   -999.0,9
       SH99-04,  NONE,SH-5732,  2,      6,1-133-93,2,19990430,2301, 31.0073, 135.2022, 4280,    252.9,  19.0281,  34.8073,2,   -999.0,9,-999.0000,9,    222.7,2,  -999.00,9,  -999.00,9,     1.17,2,     0.02,2,     0.10,2, -999.000,9, -999.000,9,  -999.00,9,   -999.0,9,   -999.0,9,-999.0000,9,   -999.0,  9,  -999.00,9,   -999.0,  -999.00,9,  -999.00,9,     0.01,2,     0.03,2,   -999.0,-999.0000, -999,9,  251,  18.9830,  24.8782,   -999.0,9
       SH99-04,  NONE,SH-5732,  2,      5, 1-133-2,2,19990430,2259, 31.0073, 135.2022, 4280,    304.3,  18.6690,  34.8220,2,   -999.0,9,-999.0000,9,    204.6,2,  -999.00,9,  -999.00,9,     3.12,2,     0.02,2,     0.23,2, -999.000,9, -999.000,9,  -999.00,9,   -999.0,9,   -999.0,9,-999.0000,9,   -999.0,  9,  -999.00,9,   -999.0,  -999.00,9,  -999.00,9,     0.00,2,     0.02,2,   -999.0,-999.0000, -999,9,  302,  18.6153,  24.9825,   -999.0,9
       SH99-04,  NONE,SH-5732,  1,     12,S-1-1-10,2,19990430,2227, 31.0022, 135.2308, 4230,    404.3,  17.5171,  34.8152,2,   -999.0,9,-999.0000,9,    196.7,2,  -999.00,9,  -999.00,9,     5.27,2,     0.01,2,     0.38,2, -999.000,9, -999.000,9,  -999.00,9,   -999.0,9,   -999.0,9,-999.0000,9,   -999.0,  9,  -999.00,9,   -999.0,  -999.00,9,  -999.00,9,  -999.00,9,  -999.00,9,   -999.0,-999.0000, -999,9,  401,  17.4487,  25.2649,   -999.0,9
       SH99-04,  NONE,SH-5732,  1,     11, S-1-1-9,2,19990430,2225, 31.0022, 135.2308, 4230,    505.4,  15.9238,  34.7132,2,   -999.0,9,-999.0000,9,    193.0,2,  -999.00,9,  -999.00,9,     8.00,2,     0.01,2,     0.58,2, -999.000,9, -999.000,9,  -999.00,9,   -999.0,9,   -999.0,9,-999.0000,9,   -999.0,  9,  -999.00,9,   -999.0,  -999.00,9,  -999.00,9,  -999.00,9,  -999.00,9,   -999.0,-999.0000, -999,9,  501,  15.8436,  25.5626,   -999.0,9
       SH99-04,  NONE,SH-5732,  1,     10,1-133-94,2,19990430,2222, 31.0022, 135.2308, 4230,    607.1,  13.8172,  34.5450,2,   -999.0,9,-999.0000,9,    183.3,2,  -999.00,9,  -999.00,9,    12.09,2,     0.00,2,     0.90,2, -999.000,9, -999.000,9,  -999.00,9,   -999.0,9,   -999.0,9,-999.0000,9,   -999.0,  9,  -999.00,9,   -999.0,  -999.00,9,  -999.00,9,  -999.00,9,  -999.00,9,   -999.0,-999.0000, -999,9,  602,  13.7293,  25.8919,   -999.0,9
       SH99-04,  NONE,SH-5732,  1,      9, S-1-1-5,2,19990430,2220, 31.0022, 135.2308, 4230,    710.3,  10.6603,  34.2962,2,   -999.0,9,-999.0000,9,    163.0,2,  -999.00,9,  -999.00,9,    18.81,2,     0.00,2,     1.41,2, -999.000,9, -999.000,9,  -999.00,9,   -999.0,9,   -999.0,9,-999.0000,9,   -999.0,  9,  -999.00,9,   -999.0,  -999.00,9,  -999.00,9,  -999.00,9,  -999.00,9,   -999.0,-999.0000, -999,9,  704,  10.5731,  26.3034,   -999.0,9
       SH99-04,  NONE,SH-5732,  1,      8,1-133-95,2,19990430,2218, 31.0022, 135.2308, 4230,    808.2,   8.6782,  34.2380,2,   -999.0,9,-999.0000,9,    142.1,2,  -999.00,9,  -999.00,9,    24.16,2,     0.00,2,     1.83,2, -999.000,9, -999.000,9,  -999.00,9,   -999.0,9,   -999.0,9,-999.0000,9,   -999.0,  9,  -999.00,9,   -999.0,  -999.00,9,  -999.00,9,  -999.00,9,  -999.00,9,   -999.0,-999.0000, -999,9,  801,   8.5902,  26.5858,   -999.0,9
       SH99-04,  NONE,SH-5732,  1,      7, S-1-1-4,2,19990430,2216, 31.0022, 135.2308, 4230,    908.9,   6.6886,  34.2443,2,   -999.0,9,-999.0000,9,    108.2,2,  -999.00,9,  -999.00,9,    30.48,2,     0.00,2,     2.29,2, -999.000,9, -999.000,9,  -999.00,9,   -999.0,9,   -999.0,9,-999.0000,9,   -999.0,  9,  -999.00,9,   -999.0,  -999.00,9,  -999.00,9,  -999.00,9,  -999.00,9,   -999.0,-999.0000, -999,9,  901,   6.6023,  26.8773,   -999.0,9
       SH99-04,  NONE,SH-5732,  1,      6,1-133-93,2,19990430,2214, 31.0022, 135.2308, 4230,   1008.2,   5.5753,  34.2880,2,   -999.0,9,-999.0000,9,     87.7,2,  -999.00,9,  -999.00,9,    33.59,2,     0.00,2,     2.53,2, -999.000,9, -999.000,9,  -999.00,9,   -999.0,9,   -999.0,9,-999.0000,9,   -999.0,  9,  -999.00,9,   -999.0,  -999.00,9,  -999.00,9,  -999.00,9,  -999.00,9,   -999.0,-999.0000, -999,9,  999,   5.4872,  27.0534,   -999.0,9
       SH99-04,  NONE,SH-5732,  1,      5, 1-133-2,2,19990430,2210, 31.0022, 135.2308, 4230,   1206.9,   3.9626,  34.3693,2,   -999.0,9,-999.0000,9,     66.6,2,  -999.00,9,  -999.00,9,    38.06,2,     0.00,2,     2.85,2, -999.000,9, -999.000,9,  -999.00,9,   -999.0,9,   -999.0,9,-999.0000,9,   -999.0,  9,  -999.00,9,   -999.0,  -999.00,9,  -999.00,9,  -999.00,9,  -999.00,9,   -999.0,-999.0000, -999,9, 1195,   3.8700,  27.2977,   -999.0,9