BOTTLE,20130510GEMDJMAYT
EXPOCODE,SECT_ID,STNNBR,CASTNO,SAMPNO,BTLNBR,BTLNBR_FLAG_W,DATE,TIME,LATITUDE,LONGITUDE,DEPTH,CTDPRS,CTDTMP,CTDSAL,CTDSAL_FLAG_W,CTDOXY,CTDOXY_FLAG_W,SALNTY,SALNTY_FLAG_W,OXYGEN,OXYGEN_FLAG_W,SILCAT,SILCAT_FLAG_W,NITRAT,NITRAT_FLAG_W,NO2+NO3,NO2+NO3_FLAG_W,NITRIT,NITRIT_FLAG_W,PHSPHT,PHSPHT_FLAG_W,CFC-11,CFC-11_FLAG_W,CFC-12,CFC-12_FLAG_W,DELC13,DELC13_FLAG_W,TCARBN,TCARBN_FLAG_W,ALKALI,ALKALI_FLAG_W,PH,PH_FLAG_W,PH_TMP,PH_SCALE,PH_NBS,PH_NBS_FLAG_W,C13ERR,TOTALP,TOTALP_FLAG_W,AMMONI,AMMONI_FLAG_W,CHLORA,CHLORA_FLAG_W,PPHYTN,PPHYTN_FLAG_W,REVPRS,REVTMP,DEPTH_,DEPTH_FLAG,CTDDEP,THETA,SIGTHT,DOC,DOC_FLAG_W
,,,,,,,GMT,GMT,,,METER,DBAR,ITS-90,PSS-78,,UMOL/KG,,PSS-78,,UMOL/KG,,UMOL/KG,,UMOL/KG,,UMOL/KG,,UMOL/KG,,UMOL/KG,,PMOL/KG,,PMOL/KG,,/MILLE,,UMOL/KG,,UMOL/KG,,25_DEG_C,,DEG_C,,,,/MILLE,UMOL/KG,,UMOL/KG,,UG/L,,UG/L,,DBAR,ITS-90,METERS,,METERS,DEG_C,,UMOL/L,
       SH99-04,  NONE,SH-5756,  1,      6,1-133-93,2,19990511,1257, 30.2532, 134.3625, 4520,     50.3,  20.1062,  34.7842,2,   -999.0,9,  34.7825,2,   -999.0,9,  -999.00,9,  -999.00,9,  -999.00,9,  -999.00,9,  -999.00,9, -999.000,9, -999.000,9,  -999.00,9,   -999.0,9,   -999.0,9,-999.0000,9,   -999.0,  9,  -999.00,9,   -999.0,  -999.00,9,  -999.00,9,  -999.00,9,  -999.00,9,   -999.0,-999.0000, -999,9,   50,  20.0969,  24.5716,   -999.0,9
       SH99-04,  NONE,SH-5756,  1,      5, 1-133-2,2,19990511,1256, 30.2532, 134.3625, 4520,    101.6,  19.3616,  34.8016,2,   -999.0,9,  34.7995,2,   -999.0,9,  -999.00,9,  -999.00,9,  -999.00,9,  -999.00,9,  -999.00,9, -999.000,9, -999.000,9,  -999.00,9,   -999.0,9,   -999.0,9,-999.0000,9,   -999.0,  9,  -999.00,9,   -999.0,  -999.00,9,  -999.00,9,  -999.00,9,  -999.00,9,   -999.0,-999.0000, -999,9,  101,  19.3433,  24.7815,   -999.0,9
       SH99-04,  NONE,SH-5756,  1,      4, S-1-1-2,2,19990511,1255, 30.2532, 134.3625, 4520,    150.2,  19.0639,  34.8078,2,   -999.0,9,  34.8071,2,   -999.0,9,  -999.00,9,  -999.00,9,  -999.00,9,  -999.00,9,  -999.00,9, -999.000,9, -999.000,9,  -999.00,9,   -999.0,9,   -999.0,9,-999.0000,9,   -999.0,  9,  -999.00,9,   -999.0,  -999.00,9,  -999.00,9,  -999.00,9,  -999.00,9,   -999.0,-999.0000, -999,9,  149,  19.0371,  24.8648,   -999.0,9
       SH99-04,  NONE,SH-5756,  1,      3,1-133-84,2,19990511,1253, 30.2532, 134.3625, 4520,    202.2,  18.7085,  34.8040,2,   -999.0,9,  34.8036,2,   -999.0,9,  -999.00,9,  -999.00,9,  -999.00,9,  -999.00,9,  -999.00,9, -999.000,9, -999.000,9,  -999.00,9,   -999.0,9,   -999.0,9,-999.0000,9,   -999.0,  9,  -999.00,9,   -999.0,  -999.00,9,  -999.00,9,  -999.00,9,  -999.00,9,   -999.0,-999.0000, -999,9,  201,  18.6729,  24.9543,   -999.0,9
       SH99-04,  NONE,SH-5756,  1,      2, S-1-1-7,2,19990511,1251, 30.2532, 134.3625, 4520,    302.6,  17.6601,  34.8145,2,   -999.0,9,  34.8132,2,   -999.0,9,  -999.00,9,  -999.00,9,  -999.00,9,  -999.00,9,  -999.00,9, -999.000,9, -999.000,9,  -999.00,9,   -999.0,9,   -999.0,9,-999.0000,9,   -999.0,  9,  -999.00,9,   -999.0,  -999.00,9,  -999.00,9,  -999.00,9,  -999.00,9,   -999.0,-999.0000, -999,9,  300,  17.6088,  25.2256,   -999.0,9
       SH99-04,  NONE,SH-5756,  1,      1, 1-133-1,2,19990511,1249, 30.2532, 134.3625, 4520,    403.1,  15.8238,  34.6944,2,   -999.0,9,  34.6961,2,   -999.0,9,  -999.00,9,  -999.00,9,  -999.00,9,  -999.00,9,  -999.00,9, -999.000,9, -999.000,9,  -999.00,9,   -999.0,9,   -999.0,9,-999.0000,9,   -999.0,  9,  -999.00,9,   -999.0,  -999.00,9,  -999.00,9,  -999.00,9,  -999.00,9,   -999.0,-999.0000, -999,9,  400,  15.7603,  25.5670,   -999.0,9
       SH99-04,  NONE,SH-5756,  1,     12,S-1-1-10,2,19990511,1247, 30.2532, 134.3625, 4520,    503.5,  13.4958,  34.5231,2,   -999.0,9,  34.5214,2,   -999.0,9,  -999.00,9,  -999.00,9,  -999.00,9,  -999.00,9,  -999.00,9, -999.000,9, -999.000,9,  -999.00,9,   -999.0,9,   -999.0,9,-999.0000,9,   -999.0,  9,  -999.00,9,   -999.0,  -999.00,9,  -999.00,9,  -999.00,9,  -999.00,9,   -999.0,-999.0000, -999,9,  500,  13.4243,  25.9376,   -999.0,9
       SH99-04,  NONE,SH-5756,  1,     11, S-1-1-9,2,19990511,1245, 30.2532, 134.3625, 4520,    604.7,  10.7162,  34.3379,2,   -999.0,9,  34.3372,2,   -999.0,9,  -999.00,9,  -999.00,9,  -999.00,9,  -999.00,9,  -999.00,9, -999.000,9, -999.000,9,  -999.00,9,   -999.0,9,   -999.0,9,-999.0000,9,   -999.0,  9,  -999.00,9,   -999.0,  -999.00,9,  -999.00,9,  -999.00,9,  -999.00,9,   -999.0,-999.0000, -999,9,  600,  10.6421,  26.3237,   -999.0,9
       SH99-04,  NONE,SH-5756,  1,     10,1-133-94,2,19990511,1242, 30.2532, 134.3625, 4520,    807.1,   6.9119,  34.2516,2,   -999.0,9,  34.2506,2,   -999.0,9,  -999.00,9,  -999.00,9,  -999.00,9,  -999.00,9,  -999.00,9, -999.000,9, -999.000,9,  -999.00,9,   -999.0,9,   -999.0,9,-999.0000,9,   -999.0,  9,  -999.00,9,   -999.0,  -999.00,9,  -999.00,9,  -999.00,9,  -999.00,9,   -999.0,-999.0000, -999,9,  800,   6.8344,  26.8518,   -999.0,9
       SH99-04,  NONE,SH-5756,  1,      9, S-1-1-5,2,19990511,1239, 30.2532, 134.3625, 4520,   1011.0,   4.3925,  34.2631,2,   -999.0,9,  34.2632,2,   -999.0,9,  -999.00,9,  -999.00,9,  -999.00,9,  -999.00,9,  -999.00,9, -999.000,9, -999.000,9,  -999.00,9,   -999.0,9,   -999.0,9,-999.0000,9,   -999.0,  9,  -999.00,9,   -999.0,  -999.00,9,  -999.00,9,  -999.00,9,  -999.00,9,   -999.0,-999.0000, -999,9, 1002,   4.3133,  27.1671,   -999.0,9
       SH99-04,  NONE,SH-5756,  1,      8,1-133-95,2,19990511,1235, 30.2532, 134.3625, 4520,   1216.4,   3.5758,  34.4006,2,   -999.0,9,  34.3991,2,   -999.0,9,  -999.00,9,  -999.00,9,  -999.00,9,  -999.00,9,  -999.00,9, -999.000,9, -999.000,9,  -999.00,9,   -999.0,9,   -999.0,9,-999.0000,9,   -999.0,  9,  -999.00,9,   -999.0,  -999.00,9,  -999.00,9,  -999.00,9,  -999.00,9,   -999.0,-999.0000, -999,9, 1205,   3.4859,  27.3609,   -999.0,9
       SH99-04,  NONE,SH-5758,  1,      6,1-133-93,2,19990511,1752, 29.7497, 134.6297, 4700,     50.9,  20.2813,  34.8071,2,   -999.0,9,  34.7995,2,   -999.0,9,  -999.00,9,  -999.00,9,  -999.00,9,  -999.00,9,  -999.00,9, -999.000,9, -999.000,9,  -999.00,9,   -999.0,9,   -999.0,9,-999.0000,9,   -999.0,  9,  -999.00,9,   -999.0,  -999.00,9,  -999.00,9,  -999.00,9,  -999.00,9,   -999.0,-999.0000, -999,9,   51,  20.2718,  24.5427,   -999.0,9
       SH99-04,  NONE,SH-5758,  1,      5, 1-133-2,2,19990511,1752, 29.7497, 134.6297, 4700,    101.5,  19.4194,  34.7991,2,   -999.0,9,  34.7975,2,   -999.0,9,  -999.00,9,  -999.00,9,  -999.00,9,  -999.00,9,  -999.00,9, -999.000,9, -999.000,9,  -999.00,9,   -999.0,9,   -999.0,9,-999.0000,9,   -999.0,  9,  -999.00,9,   -999.0,  -999.00,9,  -999.00,9,  -999.00,9,  -999.00,9,   -999.0,-999.0000, -999,9,  101,  19.4010,  24.7647,   -999.0,9
       SH99-04,  NONE,SH-5758,  1,      4, S-1-1-2,2,19990511,1751, 29.7497, 134.6297, 4700,    150.8,  19.2671,  34.8058,2,   -999.0,9,  34.8044,2,   -999.0,9,  -999.00,9,  -999.00,9,  -999.00,9,  -999.00,9,  -999.00,9, -999.000,9, -999.000,9,  -999.00,9,   -999.0,9,   -999.0,9,-999.0000,9,   -999.0,  9,  -999.00,9,   -999.0,  -999.00,9,  -999.00,9,  -999.00,9,  -999.00,9,   -999.0,-999.0000, -999,9,  150,  19.2400,  24.8113,   -999.0,9
       SH99-04,  NONE,SH-5758,  1,      3,1-133-84,2,19990511,1750, 29.7497, 134.6297, 4700,    202.7,  19.0926,  34.8145,2,   -999.0,9,  34.8127,2,   -999.0,9,  -999.00,9,  -999.00,9,  -999.00,9,  -999.00,9,  -999.00,9, -999.000,9, -999.000,9,  -999.00,9,   -999.0,9,   -999.0,9,-999.0000,9,   -999.0,  9,  -999.00,9,   -999.0,  -999.00,9,  -999.00,9,  -999.00,9,  -999.00,9,   -999.0,-999.0000, -999,9,  201,  19.0564,  24.8650,   -999.0,9
       SH99-04,  NONE,SH-5758,  1,      2, S-1-1-7,2,19990511,1748, 29.7497, 134.6297, 4700,    302.2,  17.6246,  34.8081,2,   -999.0,9,  34.8073,2,   -999.0,9,  -999.00,9,  -999.00,9,  -999.00,9,  -999.00,9,  -999.00,9, -999.000,9, -999.000,9,  -999.00,9,   -999.0,9,   -999.0,9,-999.0000,9,   -999.0,  9,  -999.00,9,   -999.0,  -999.00,9,  -999.00,9,  -999.00,9,  -999.00,9,   -999.0,-999.0000, -999,9,  300,  17.5734,  25.2293,   -999.0,9
       SH99-04,  NONE,SH-5758,  1,     -9,      -9,4,19990511,1747, 29.7497, 134.6297, 4700,    403.0,  15.9250,  34.7035,2,   -999.0,9,-999.0000,9,   -999.0,9,  -999.00,9,  -999.00,9,  -999.00,9,  -999.00,9,  -999.00,9, -999.000,9, -999.000,9,  -999.00,9,   -999.0,9,   -999.0,9,-999.0000,9,   -999.0,  9,  -999.00,9,   -999.0,  -999.00,9,  -999.00,9,  -999.00,9,  -999.00,9,   -999.0,-999.0000, -999,9,  400,  15.8612,  25.5511,   -999.0,9
       SH99-04,  NONE,SH-5758,  1,      1, 1-133-1,4,19990511,1746, 29.7497, 134.6297, 4700,    503.6,  13.3636,  34.5057,2,   -999.0,9,  34.5122,4,   -999.0,9,  -999.00,9,  -999.00,9,  -999.00,9,  -999.00,9,  -999.00,9, -999.000,9, -999.000,9,  -999.00,9,   -999.0,9,   -999.0,9,-999.0000,9,   -999.0,  9,  -999.00,9,   -999.0,  -999.00,9,  -999.00,9,  -999.00,9,  -999.00,9,   -999.0,-999.0000, -999,9,  500,  13.2926,  25.9510,   -999.0,9
       SH99-04,  NONE,SH-5758,  1,     12,S-1-1-10,2,19990511,1746, 29.7497, 134.6297, 4700,    503.6,  13.3636,  34.5057,2,   -999.0,9,  34.5136,2,   -999.0,9,  -999.00,9,  -999.00,9,  -999.00,9,  -999.00,9,  -999.00,9, -999.000,9, -999.000,9,  -999.00,9,   -999.0,9,   -999.0,9,-999.0000,9,   -999.0,  9,  -999.00,9,   -999.0,  -999.00,9,  -999.00,9,  -999.00,9,  -999.00,9,   -999.0,-999.0000, -999,9,  500,  13.2926,  25.9510,   -999.0,9
       SH99-04,  NONE,SH-5758,  1,     11, S-1-1-9,2,19990511,1744, 29.7497, 134.6297, 4700,    604.4,  10.4700,  34.3206,2,   -999.0,9,  34.3217,2,   -999.0,9,  -999.00,9,  -999.00,9,  -999.00,9,  -999.00,9,  -999.00,9, -999.000,9, -999.000,9,  -999.00,9,   -999.0,9,   -999.0,9,-999.0000,9,   -999.0,  9,  -999.00,9,   -999.0,  -999.00,9,  -999.00,9,  -999.00,9,  -999.00,9,   -999.0,-999.0000, -999,9,  599,  10.3970,  26.3532,   -999.0,9
       SH99-04,  NONE,SH-5758,  1,     10,1-133-94,2,19990511,1742, 29.7497, 134.6297, 4700,    806.7,   6.4898,  34.1927,2,   -999.0,9,  34.1927,2,   -999.0,9,  -999.00,9,  -999.00,9,  -999.00,9,  -999.00,9,  -999.00,9, -999.000,9, -999.000,9,  -999.00,9,   -999.0,9,   -999.0,9,-999.0000,9,   -999.0,  9,  -999.00,9,   -999.0,  -999.00,9,  -999.00,9,  -999.00,9,  -999.00,9,   -999.0,-999.0000, -999,9,  800,   6.4150,  26.8613,   -999.0,9
       SH99-04,  NONE,SH-5758,  1,      9, S-1-1-5,2,19990511,1739, 29.7497, 134.6297, 4700,   1009.3,   4.5184,  34.3192,2,   -999.0,9,  34.3198,2,   -999.0,9,  -999.00,9,  -999.00,9,  -999.00,9,  -999.00,9,  -999.00,9, -999.000,9, -999.000,9,  -999.00,9,   -999.0,9,   -999.0,9,-999.0000,9,   -999.0,  9,  -999.00,9,   -999.0,  -999.00,9,  -999.00,9,  -999.00,9,  -999.00,9,   -999.0,-999.0000, -999,9, 1000,   4.4383,  27.1982,   -999.0,9
       SH99-04,  NONE,SH-5758,  1,      8,1-133-95,2,19990511,1737, 29.7497, 134.6297, 4700,   1226.7,   3.4129,  34.4173,2,   -999.0,9,  34.4168,2,   -999.0,9,  -999.00,9,  -999.00,9,  -999.00,9,  -999.00,9,  -999.00,9, -999.000,9, -999.000,9,  -999.00,9,   -999.0,9,   -999.0,9,-999.0000,9,   -999.0,  9,  -999.00,9,   -999.0,  -999.00,9,  -999.00,9,  -999.00,9,  -999.00,9,   -999.0,-999.0000, -999,9, 1215,   3.3237,  27.3897,   -999.0,9
       SH99-04,  NONE,SH-5759,  1,      5, 1-133-2,2,19990511,2020, 29.4963, 134.7647, 4610,     50.8,  20.1996,  34.7910,2,   -999.0,9,  34.7953,2,   -999.0,9,  -999.00,9,  -999.00,9,  -999.00,9,  -999.00,9,  -999.00,9, -999.000,9, -999.000,9,  -999.00,9,   -999.0,9,   -999.0,9,-999.0000,9,   -999.0,  9,  -999.00,9,   -999.0,  -999.00,9,  -999.00,9,  -999.00,9,  -999.00,9,   -999.0,-999.0000, -999,9,   50,  20.1902,  24.5521,   -999.0,9
       SH99-04,  NONE,SH-5759,  1,      4, S-1-1-2,2,19990511,2019, 29.4963, 134.7647, 4610,    100.2,  19.6266,  34.7882,2,   -999.0,9,  34.7884,2,   -999.0,9,  -999.00,9,  -999.00,9,  -999.00,9,  -999.00,9,  -999.00,9, -999.000,9, -999.000,9,  -999.00,9,   -999.0,9,   -999.0,9,-999.0000,9,   -999.0,  9,  -999.00,9,   -999.0,  -999.00,9,  -999.00,9,  -999.00,9,  -999.00,9,   -999.0,-999.0000, -999,9,   99,  19.6084,  24.7027,   -999.0,9
       SH99-04,  NONE,SH-5759,  1,      3,1-133-84,2,19990511,2017, 29.4963, 134.7647, 4610,    150.6,  19.3650,  34.8088,2,   -999.0,9,  34.8095,2,   -999.0,9,  -999.00,9,  -999.00,9,  -999.00,9,  -999.00,9,  -999.00,9, -999.000,9, -999.000,9,  -999.00,9,   -999.0,9,   -999.0,9,-999.0000,9,   -999.0,  9,  -999.00,9,   -999.0,  -999.00,9,  -999.00,9,  -999.00,9,  -999.00,9,   -999.0,-999.0000, -999,9,  150,  19.3378,  24.7885,   -999.0,9
       SH99-04,  NONE,SH-5759,  1,      2, S-1-1-7,2,19990511,2016, 29.4963, 134.7647, 4610,    201.1,  19.1301,  34.8133,2,   -999.0,9,  34.8089,2,   -999.0,9,  -999.00,9,  -999.00,9,  -999.00,9,  -999.00,9,  -999.00,9, -999.000,9, -999.000,9,  -999.00,9,   -999.0,9,   -999.0,9,-999.0000,9,   -999.0,  9,  -999.00,9,   -999.0,  -999.00,9,  -999.00,9,  -999.00,9,  -999.00,9,   -999.0,-999.0000, -999,9,  200,  19.0941,  24.8544,   -999.0,9
       SH99-04,  NONE,SH-5759,  1,      1, 1-133-1,2,19990511,2014, 29.4963, 134.7647, 4610,    301.6,  17.8195,  34.8223,2,   -999.0,9,  34.8199,2,   -999.0,9,  -999.00,9,  -999.00,9,  -999.00,9,  -999.00,9,  -999.00,9, -999.000,9, -999.000,9,  -999.00,9,   -999.0,9,   -999.0,9,-999.0000,9,   -999.0,  9,  -999.00,9,   -999.0,  -999.00,9,  -999.00,9,  -999.00,9,  -999.00,9,   -999.0,-999.0000, -999,9,  299,  17.7680,  25.1929,   -999.0,9
       SH99-04,  NONE,SH-5759,  1,     12,S-1-1-10,2,19990511,2012, 29.4963, 134.7647, 4610,    403.6,  15.8284,  34.6962,2,   -999.0,9,  34.6991,2,   -999.0,9,  -999.00,9,  -999.00,9,  -999.00,9,  -999.00,9,  -999.00,9, -999.000,9, -999.000,9,  -999.00,9,   -999.0,9,   -999.0,9,-999.0000,9,   -999.0,  9,  -999.00,9,   -999.0,  -999.00,9,  -999.00,9,  -999.00,9,  -999.00,9,   -999.0,-999.0000, -999,9,  401,  15.7648,  25.5673,   -999.0,9
       SH99-04,  NONE,SH-5759,  1,     11, S-1-1-9,2,19990511,2010, 29.4963, 134.7647, 4610,    502.8,  13.2283,  34.5053,2,   -999.0,9,  34.5092,2,   -999.0,9,  -999.00,9,  -999.00,9,  -999.00,9,  -999.00,9,  -999.00,9, -999.000,9, -999.000,9,  -999.00,9,   -999.0,9,   -999.0,9,-999.0000,9,   -999.0,  9,  -999.00,9,   -999.0,  -999.00,9,  -999.00,9,  -999.00,9,  -999.00,9,   -999.0,-999.0000, -999,9,  499,  13.1578,  25.9779,   -999.0,9
       SH99-04,  NONE,SH-5759,  1,     10,1-133-94,2,19990511,2008, 29.4963, 134.7647, 4610,    605.0,  10.4685,  34.3287,2,   -999.0,9,  34.3323,2,   -999.0,9,  -999.00,9,  -999.00,9,  -999.00,9,  -999.00,9,  -999.00,9, -999.000,9, -999.000,9,  -999.00,9,   -999.0,9,   -999.0,9,-999.0000,9,   -999.0,  9,  -999.00,9,   -999.0,  -999.00,9,  -999.00,9,  -999.00,9,  -999.00,9,   -999.0,-999.0000, -999,9,  600,  10.3954,  26.3598,   -999.0,9
       SH99-04,  NONE,SH-5759,  1,      9, S-1-1-5,2,19990511,2005, 29.4963, 134.7647, 4610,    807.4,   6.0685,  34.2171,2,   -999.0,9,  34.2033,4,   -999.0,9,  -999.00,9,  -999.00,9,  -999.00,9,  -999.00,9,  -999.00,9, -999.000,9, -999.000,9,  -999.00,9,   -999.0,9,   -999.0,9,-999.0000,9,   -999.0,  9,  -999.00,9,   -999.0,  -999.00,9,  -999.00,9,  -999.00,9,  -999.00,9,   -999.0,-999.0000, -999,9,  800,   5.9962,  26.9344,   -999.0,9
       SH99-04,  NONE,SH-5759,  1,      8,1-133-95,2,19990511,2002, 29.4963, 134.7647, 4610,   1010.6,   4.3050,  34.3298,2,   -999.0,9,  34.3249,2,   -999.0,9,  -999.00,9,  -999.00,9,  -999.00,9,  -999.00,9,  -999.00,9, -999.000,9, -999.000,9,  -999.00,9,   -999.0,9,   -999.0,9,-999.0000,9,   -999.0,  9,  -999.00,9,   -999.0,  -999.00,9,  -999.00,9,  -999.00,9,  -999.00,9,   -999.0,-999.0000, -999,9, 1001,   4.2264,  27.2294,   -999.0,9
       SH99-04,  NONE,SH-5759,  1,      7, S-1-1-4,2,19990511,1958, 29.4963, 134.7647, 4610,   1215.3,   3.3652,  34.4266,2,   -999.0,9,  34.4259,2,   -999.0,9,  -999.00,9,  -999.00,9,  -999.00,9,  -999.00,9,  -999.00,9, -999.000,9, -999.000,9,  -999.00,9,   -999.0,9,   -999.0,9,-999.0000,9,   -999.0,  9,  -999.00,9,   -999.0,  -999.00,9,  -999.00,9,  -999.00,9,  -999.00,9,   -999.0,-999.0000, -999,9, 1204,   3.2774,  27.4016,   -999.0,9