BOTTLE,20130510GEMDJMAYT
EXPOCODE,SECT_ID,STNNBR,CASTNO,SAMPNO,BTLNBR,BTLNBR_FLAG_W,DATE,TIME,LATITUDE,LONGITUDE,DEPTH,CTDPRS,CTDTMP,CTDSAL,CTDSAL_FLAG_W,CTDOXY,CTDOXY_FLAG_W,SALNTY,SALNTY_FLAG_W,OXYGEN,OXYGEN_FLAG_W,SILCAT,SILCAT_FLAG_W,NITRAT,NITRAT_FLAG_W,NO2+NO3,NO2+NO3_FLAG_W,NITRIT,NITRIT_FLAG_W,PHSPHT,PHSPHT_FLAG_W,CFC-11,CFC-11_FLAG_W,CFC-12,CFC-12_FLAG_W,DELC13,DELC13_FLAG_W,TCARBN,TCARBN_FLAG_W,ALKALI,ALKALI_FLAG_W,PH,PH_FLAG_W,PH_TMP,PH_SCALE,PH_NBS,PH_NBS_FLAG_W,C13ERR,TOTALP,TOTALP_FLAG_W,AMMONI,AMMONI_FLAG_W,CHLORA,CHLORA_FLAG_W,PPHYTN,PPHYTN_FLAG_W,REVPRS,REVTMP,DEPTH_,DEPTH_FLAG,CTDDEP,THETA,SIGTHT,DOC,DOC_FLAG_W
,,,,,,,GMT,GMT,,,METER,DBAR,ITS-90,PSS-78,,UMOL/KG,,PSS-78,,UMOL/KG,,UMOL/KG,,UMOL/KG,,UMOL/KG,,UMOL/KG,,UMOL/KG,,PMOL/KG,,PMOL/KG,,/MILLE,,UMOL/KG,,UMOL/KG,,25_DEG_C,,DEG_C,,,,/MILLE,UMOL/KG,,UMOL/KG,,UG/L,,UG/L,,DBAR,ITS-90,METERS,,METERS,DEG_C,,UMOL/L,
       SH99-06,  NONE,SH-5788,  1,     11, S-1-1-9,2,19990712,1740, 29.9497, 132.9470, 3840,    501.1,  12.8705,  34.4605,2,   -999.0,9,  34.4560,2,    187.2,2,  -999.00,9,  -999.00,9,    13.65,2,     0.00,2,     0.93,2, -999.000,9, -999.000,9,  -999.00,9,   -999.0,9,   -999.0,9,-999.0000,9,   -999.0,  9,  -999.00,9,   -999.0,  -999.00,9,  -999.00,9,  -999.00,9,  -999.00,9,   -999.0,-999.0000, -999,9,  497,  12.8016,  26.0144,   -999.0,9
       SH99-06,  NONE,SH-5788,  1,     10,1-133-94,2,19990712,1738, 29.9497, 132.9470, 3840,    602.8,  10.4184,  34.3027,2,   -999.0,9,  34.2989,2,    166.4,2,  -999.00,9,  -999.00,9,    19.88,2,     0.00,2,     1.36,2, -999.000,9, -999.000,9,  -999.00,9,   -999.0,9,   -999.0,9,-999.0000,9,   -999.0,  9,  -999.00,9,   -999.0,  -999.00,9,  -999.00,9,  -999.00,9,  -999.00,9,   -999.0,-999.0000, -999,9,  598,  10.3458,  26.3481,   -999.0,9
       SH99-06,  NONE,SH-5788,  1,      9, S-1-1-5,2,19990712,1737, 29.9497, 132.9470, 3840,    704.1,   7.9080,  34.1911,2,   -999.0,9,  34.1921,2,    132.2,2,  -999.00,9,  -999.00,9,    27.27,2,     0.00,2,     1.88,2, -999.000,9, -999.000,9,  -999.00,9,   -999.0,9,   -999.0,9,-999.0000,9,   -999.0,  9,  -999.00,9,   -999.0,  -999.00,9,  -999.00,9,  -999.00,9,  -999.00,9,   -999.0,-999.0000, -999,9,  698,   7.8358,  26.6627,   -999.0,9
       SH99-06,  NONE,SH-5788,  1,      8,1-133-95,2,19990712,1735, 29.9497, 132.9470, 3840,    805.1,   6.2941,  34.1980,2,   -999.0,9,  34.1958,2,    103.3,2,  -999.00,9,  -999.00,9,    32.53,2,     0.00,2,     2.26,2, -999.000,9, -999.000,9,  -999.00,9,   -999.0,9,   -999.0,9,-999.0000,9,   -999.0,  9,  -999.00,9,   -999.0,  -999.00,9,  -999.00,9,  -999.00,9,  -999.00,9,   -999.0,-999.0000, -999,9,  798,   6.2207,  26.8908,   -999.0,9
       SH99-06,  NONE,SH-5788,  1,      7, S-1-1-4,2,19990712,1733, 29.9497, 132.9470, 3840,    904.3,   5.1937,  34.2769,2,   -999.0,9,  34.2734,2,     82.3,2,  -999.00,9,  -999.00,9,    36.22,2,     0.00,2,     2.50,2, -999.000,9, -999.000,9,  -999.00,9,   -999.0,9,   -999.0,9,-999.0000,9,   -999.0,  9,  -999.00,9,   -999.0,  -999.00,9,  -999.00,9,  -999.00,9,  -999.00,9,   -999.0,-999.0000, -999,9,  896,   5.1179,  27.0883,   -999.0,9
       SH99-06,  NONE,SH-5788,  1,      6,1-133-93,2,19990712,1731, 29.9497, 132.9470, 3840,   1006.3,   4.5118,  34.3347,2,   -999.0,9,  34.3310,2,     72.2,2,  -999.00,9,  -999.00,9,    37.77,2,     0.00,2,     2.62,2, -999.000,9, -999.000,9,  -999.00,9,   -999.0,9,   -999.0,9,-999.0000,9,   -999.0,  9,  -999.00,9,   -999.0,  -999.00,9,  -999.00,9,  -999.00,9,  -999.00,9,   -999.0,-999.0000, -999,9,  997,   4.4319,  27.2113,   -999.0,9
       SH99-06,  NONE,SH-5788,  1,      5, 1-133-2,2,19990712,1728, 29.9497, 132.9470, 3840,   1209.0,   3.5304,  34.4413,2,   -999.0,9,  34.4416,2,     70.0,2,  -999.00,9,  -999.00,9,    39.52,2,     0.00,2,     2.71,2, -999.000,9, -999.000,9,  -999.00,9,   -999.0,9,   -999.0,9,-999.0000,9,   -999.0,  9,  -999.00,9,   -999.0,  -999.00,9,  -999.00,9,  -999.00,9,  -999.00,9,   -999.0,-999.0000, -999,9, 1197,   3.4415,  27.3976,   -999.0,9
       SH99-06,  NONE,SH-5788,  1,      4, S-1-1-2,2,19990712,1723, 29.9497, 132.9470, 3840,   1511.9,   2.6883,  34.5161,2,   -999.0,9,  34.5157,2,   -999.0,9,  -999.00,9,  -999.00,9,  -999.00,9,  -999.00,9,  -999.00,9, -999.000,9, -999.000,9,  -999.00,9,   -999.0,9,   -999.0,9,-999.0000,9,   -999.0,  9,  -999.00,9,   -999.0,  -999.00,9,  -999.00,9,  -999.00,9,  -999.00,9,   -999.0,-999.0000, -999,9, 1496,   2.5832,  27.5358,   -999.0,9
       SH99-06,  NONE,SH-5788,  1,      3,1-133-84,2,19990712,1717, 29.9497, 132.9470, 3840,   2019.0,   2.0799,  34.6047,2,   -999.0,9,  34.5975,2,   -999.0,9,  -999.00,9,  -999.00,9,  -999.00,9,  -999.00,9,  -999.00,9, -999.000,9, -999.000,9,  -999.00,9,   -999.0,9,   -999.0,9,-999.0000,9,   -999.0,  9,  -999.00,9,   -999.0,  -999.00,9,  -999.00,9,  -999.00,9,  -999.00,9,   -999.0,-999.0000, -999,9, 1996,   1.9407,  27.6596,   -999.0,9
       SH99-06,  NONE,SH-5788,  1,      2, S-1-1-7,2,19990712,1710, 29.9497, 132.9470, 3840,   2529.1,   1.7750,  34.6519,2,   -999.0,9,-999.0000,4,   -999.0,9,  -999.00,9,  -999.00,9,  -999.00,9,  -999.00,9,  -999.00,9, -999.000,9, -999.000,9,  -999.00,9,   -999.0,9,   -999.0,9,-999.0000,9,   -999.0,  9,  -999.00,9,   -999.0,  -999.00,9,  -999.00,9,  -999.00,9,  -999.00,9,   -999.0,-999.0000, -999,9, 2497,   1.5963,  27.7237,   -999.0,9
       SH99-06,  NONE,SH-5788,  1,      1, 1-133-1,2,19990712,1703, 29.9497, 132.9470, 3840,   3031.8,   1.5867,  34.6787,2,   -999.0,9,  34.6694,4,   -999.0,9,  -999.00,9,  -999.00,9,  -999.00,9,  -999.00,9,  -999.00,9, -999.000,9, -999.000,9,  -999.00,9,   -999.0,9,   -999.0,9,-999.0000,9,   -999.0,  9,  -999.00,9,   -999.0,  -999.00,9,  -999.00,9,  -999.00,9,  -999.00,9,   -999.0,-999.0000, -999,9, 2990,   1.3650,  27.7621,   -999.0,9
       SH99-06,  NONE,SH-5788,  1,     12, 1-133-7,2,19990712,1655, 29.9497, 132.9470, 3840,   3556.2,   1.5450,  34.6907,2,   -999.0,9,  34.6766,4,   -999.0,9,  -999.00,9,  -999.00,9,  -999.00,9,  -999.00,9,  -999.00,9, -999.000,9, -999.000,9,  -999.00,9,   -999.0,9,   -999.0,9,-999.0000,9,   -999.0,  9,  -999.00,9,   -999.0,  -999.00,9,  -999.00,9,  -999.00,9,  -999.00,9,   -999.0,-999.0000, -999,9, 3503,   1.2719,  27.7783,   -999.0,9
       SH99-06,  NONE,SH-5789,  1,     -9,      -9,5,19990714,0130, 31.1690, 131.4973,  238,      0.0,  26.1219,  33.7141,2,   -999.0,9,-999.0000,9,    212.7,2,  -999.00,9,  -999.00,9,     0.00,2,     0.00,2,     0.00,2, -999.000,9, -999.000,9,  -999.00,9,   -999.0,9,   -999.0,9,-999.0000,9,   -999.0,  9,     8.24,2,   -999.0,  -999.00,9,  -999.00,9,     0.15,2,     0.07,2,   -999.0,-999.0000, -999,9,    0,  26.1219,  22.0256,   -999.0,9
       SH99-06,  NONE,SH-5789,  1,      8,1-133-95,2,19990714,0129, 31.1690, 131.4973,  238,     11.8,  25.8313,  33.7209,2,   -999.0,9,-999.0000,9,    212.7,2,  -999.00,9,  -999.00,9,     0.00,2,     0.00,2,     0.00,2, -999.000,9, -999.000,9,  -999.00,9,   -999.0,9,   -999.0,9,-999.0000,9,   -999.0,  9,     8.24,2,   -999.0,  -999.00,9,  -999.00,9,     0.14,2,     0.08,2,   -999.0,-999.0000, -999,9,   12,  25.8286,  22.1217,   -999.0,9
       SH99-06,  NONE,SH-5789,  1,      7, S-1-1-4,2,19990714,0128, 31.1690, 131.4973,  238,     26.5,  25.5658,  33.9428,2,   -999.0,9,-999.0000,9,    212.3,2,  -999.00,9,  -999.00,9,     0.00,2,     0.00,2,     0.02,2, -999.000,9, -999.000,9,  -999.00,9,   -999.0,9,   -999.0,9,-999.0000,9,   -999.0,  9,     8.23,2,   -999.0,  -999.00,9,  -999.00,9,     0.20,2,     0.15,2,   -999.0,-999.0000, -999,9,   26,  25.5600,  22.3718,   -999.0,9
       SH99-06,  NONE,SH-5789,  1,      6,1-133-93,2,19990714,0127, 31.1690, 131.4973,  238,     52.6,  23.8280,  34.2395,2,   -999.0,9,-999.0000,9,    211.8,2,  -999.00,9,  -999.00,9,     0.29,2,     0.03,2,     0.06,2, -999.000,9, -999.000,9,  -999.00,9,   -999.0,9,   -999.0,9,-999.0000,9,   -999.0,  9,     8.20,2,   -999.0,  -999.00,9,  -999.00,9,     0.72,2,     0.69,2,   -999.0,-999.0000, -999,9,   52,  23.8170,  23.1196,   -999.0,9
       SH99-06,  NONE,SH-5789,  1,      5, 1-133-2,2,19990714,0126, 31.1690, 131.4973,  238,     77.0,  20.6993,  34.5939,2,   -999.0,9,-999.0000,9,    190.0,2,  -999.00,9,  -999.00,9,     4.20,2,     0.14,2,     0.35,2, -999.000,9, -999.000,9,  -999.00,9,   -999.0,9,   -999.0,9,-999.0000,9,   -999.0,  9,     8.13,2,   -999.0,  -999.00,9,  -999.00,9,     0.17,2,     0.35,2,   -999.0,-999.0000, -999,9,   76,  20.6848,  24.2699,   -999.0,9
       SH99-06,  NONE,SH-5789,  1,      4, S-1-1-2,2,19990714,0125, 31.1690, 131.4973,  238,    102.7,  19.1748,  34.6891,2,   -999.0,9,-999.0000,9,    181.9,2,  -999.00,9,  -999.00,9,     6.34,2,     0.07,2,     0.47,2, -999.000,9, -999.000,9,  -999.00,9,   -999.0,9,   -999.0,9,-999.0000,9,   -999.0,  9,     8.09,2,   -999.0,  -999.00,9,  -999.00,9,     0.14,2,     0.31,2,   -999.0,-999.0000, -999,9,  102,  19.1565,  24.7436,   -999.0,9
       SH99-06,  NONE,SH-5789,  1,      3,1-133-84,2,19990714,0124, 31.1690, 131.4973,  238,    127.5,  17.7562,  34.7148,2,   -999.0,9,-999.0000,9,    180.8,2,  -999.00,9,  -999.00,9,     7.61,2,     0.02,2,     0.54,2, -999.000,9, -999.000,9,  -999.00,9,   -999.0,9,   -999.0,9,-999.0000,9,   -999.0,  9,     8.06,2,   -999.0,  -999.00,9,  -999.00,9,     0.03,2,     0.15,2,   -999.0,-999.0000, -999,9,  127,  17.7346,  25.1187,   -999.0,9
       SH99-06,  NONE,SH-5789,  1,      2, S-1-1-7,2,19990714,0123, 31.1690, 131.4973,  238,    152.8,  17.1421,  34.7027,2,   -999.0,9,-999.0000,9,    181.1,2,  -999.00,9,  -999.00,9,     8.10,2,     0.01,2,     0.58,2, -999.000,9, -999.000,9,  -999.00,9,   -999.0,9,   -999.0,9,-999.0000,9,   -999.0,  9,     8.05,2,   -999.0,  -999.00,9,  -999.00,9,     0.02,2,     0.12,2,   -999.0,-999.0000, -999,9,  152,  17.1169,  25.2583,   -999.0,9
       SH99-06,  NONE,SH-5789,  1,      1, 1-133-1,2,19990714,0122, 31.1690, 131.4973,  238,    202.7,  15.1914,  34.6419,2,   -999.0,9,-999.0000,9,    175.0,2,  -999.00,9,  -999.00,9,    11.60,2,     0.00,2,     0.81,2, -999.000,9, -999.000,9,  -999.00,9,   -999.0,9,   -999.0,9,-999.0000,9,   -999.0,  9,     8.00,2,   -999.0,  -999.00,9,  -999.00,9,     0.02,2,     0.09,2,   -999.0,-999.0000, -999,9,  201,  15.1605,  25.6605,   -999.0,9
       SH99-06,  NONE,SH-5789,  1,     12, 1-133-7,2,19990714,0121, 31.1690, 131.4973,  238,    218.8,  14.4801,  34.5872,2,   -999.0,9,-999.0000,9,    172.5,2,  -999.00,9,  -999.00,9,    12.97,2,     0.01,2,     0.92,2, -999.000,9, -999.000,9,  -999.00,9,   -999.0,9,   -999.0,9,-999.0000,9,   -999.0,  9,     7.98,2,   -999.0,  -999.00,9,  -999.00,9,     0.01,2,     0.08,2,   -999.0,-999.0000, -999,9,  217,  14.4478,  25.7732,   -999.0,9
       SH99-06,  NONE,SH-5790,  2,     -9,      -9,5,19990714,0424, 31.0098, 131.7253, 1430,      0.0,  27.8292,  34.1736,2,   -999.0,9,-999.0000,9,    203.5,2,  -999.00,9,  -999.00,9,     0.00,2,     0.00,2,     0.01,2, -999.000,9, -999.000,9,  -999.00,9,   -999.0,9,   -999.0,9,-999.0000,9,   -999.0,  9,  -999.00,9,   -999.0,  -999.00,9,  -999.00,9,     0.16,2,     0.07,2,   -999.0,-999.0000, -999,9,    0,  27.8292,  21.8289,   -999.0,9
       SH99-06,  NONE,SH-5790,  2,      3,1-133-84,2,19990714,0423, 31.0098, 131.7253, 1430,     10.9,  27.5791,  34.1634,2,   -999.0,9,-999.0000,9,    204.2,2,  -999.00,9,  -999.00,9,     0.00,2,     0.00,2,     0.01,2, -999.000,9, -999.000,9,  -999.00,9,   -999.0,9,   -999.0,9,-999.0000,9,   -999.0,  9,  -999.00,9,   -999.0,  -999.00,9,  -999.00,9,     0.16,2,     0.09,2,   -999.0,-999.0000, -999,9,   11,  27.5765,  21.9030,   -999.0,9
       SH99-06,  NONE,SH-5790,  2,      2, S-1-1-7,2,19990714,0422, 31.0098, 131.7253, 1430,     24.8,  27.4705,  34.1840,2,   -999.0,9,-999.0000,9,    204.9,2,  -999.00,9,  -999.00,9,     0.00,2,     0.00,2,     0.02,2, -999.000,9, -999.000,9,  -999.00,9,   -999.0,9,   -999.0,9,-999.0000,9,   -999.0,  9,  -999.00,9,   -999.0,  -999.00,9,  -999.00,9,     0.27,2,     0.17,2,   -999.0,-999.0000, -999,9,   25,  27.4648,  21.9545,   -999.0,9
       SH99-06,  NONE,SH-5790,  2,      1, 1-133-1,2,19990714,0421, 31.0098, 131.7253, 1430,     50.2,  25.3536,  34.6183,2,   -999.0,9,-999.0000,9,    207.0,2,  -999.00,9,  -999.00,9,     0.10,2,     0.06,2,     0.05,2, -999.000,9, -999.000,9,  -999.00,9,   -999.0,9,   -999.0,9,-999.0000,9,   -999.0,  9,  -999.00,9,   -999.0,  -999.00,9,  -999.00,9,     0.42,2,     0.62,2,   -999.0,-999.0000, -999,9,   50,  25.3426,  22.9483,   -999.0,9
       SH99-06,  NONE,SH-5790,  2,     12, 1-133-7,2,19990714,0420, 31.0098, 131.7253, 1430,     75.9,  24.3583,  34.6995,2,   -999.0,9,-999.0000,9,    202.1,2,  -999.00,9,  -999.00,9,     0.78,2,     0.27,2,     0.10,2, -999.000,9, -999.000,9,  -999.00,9,   -999.0,9,   -999.0,9,-999.0000,9,   -999.0,  9,  -999.00,9,   -999.0,  -999.00,9,  -999.00,9,     0.24,2,     0.45,2,   -999.0,-999.0000, -999,9,   75,  24.3422,  23.3122,   -999.0,9
       SH99-06,  NONE,SH-5790,  2,     11, S-1-1-9,2,19990714,0419, 31.0098, 131.7253, 1430,    100.6,  23.1473,  34.7272,2,   -999.0,9,-999.0000,9,    193.9,2,  -999.00,9,  -999.00,9,     2.05,2,     0.20,2,     0.19,2, -999.000,9, -999.000,9,  -999.00,9,   -999.0,9,   -999.0,9,-999.0000,9,   -999.0,  9,  -999.00,9,   -999.0,  -999.00,9,  -999.00,9,     0.12,2,     0.29,2,   -999.0,-999.0000, -999,9,  100,  23.1267,  23.6901,   -999.0,9
       SH99-06,  NONE,SH-5790,  2,     10,1-133-94,2,19990714,0418, 31.0098, 131.7253, 1430,    126.4,  21.2653,  34.6793,2,   -999.0,9,-999.0000,9,    186.7,2,  -999.00,9,  -999.00,9,     4.20,2,     0.07,2,     0.33,2, -999.000,9, -999.000,9,  -999.00,9,   -999.0,9,   -999.0,9,-999.0000,9,   -999.0,  9,  -999.00,9,   -999.0,  -999.00,9,  -999.00,9,     0.05,2,     0.18,2,   -999.0,-999.0000, -999,9,  126,  21.2409,  24.1841,   -999.0,9
       SH99-06,  NONE,SH-5790,  2,      9, S-1-1-5,2,19990714,0417, 31.0098, 131.7253, 1430,    151.4,  19.8694,  34.6745,2,   -999.0,9,-999.0000,9,    182.2,2,  -999.00,9,  -999.00,9,     5.76,2,     0.03,2,     0.43,2, -999.000,9, -999.000,9,  -999.00,9,   -999.0,9,   -999.0,9,-999.0000,9,   -999.0,  9,  -999.00,9,   -999.0,  -999.00,9,  -999.00,9,     0.04,2,     0.11,2,   -999.0,-999.0000, -999,9,  150,  19.8416,  24.5551,   -999.0,9
       SH99-06,  NONE,SH-5790,  2,      8,1-133-95,2,19990714,0416, 31.0098, 131.7253, 1430,    201.9,  16.4776,  34.6561,2,   -999.0,9,-999.0000,9,    178.5,2,  -999.00,9,  -999.00,9,     9.56,2,     0.01,2,     0.66,2, -999.000,9, -999.000,9,  -999.00,9,   -999.0,9,   -999.0,9,-999.0000,9,   -999.0,  9,  -999.00,9,   -999.0,  -999.00,9,  -999.00,9,     0.01,2,     0.06,2,   -999.0,-999.0000, -999,9,  200,  16.4450,  25.3806,   -999.0,9
       SH99-06,  NONE,SH-5790,  2,      7, S-1-1-4,2,19990714,0414, 31.0098, 131.7253, 1430,    252.1,  14.8819,  34.6019,2,   -999.0,9,-999.0000,9,    173.8,2,  -999.00,9,  -999.00,9,    12.19,2,     0.01,2,     0.85,2, -999.000,9, -999.000,9,  -999.00,9,   -999.0,9,   -999.0,9,-999.0000,9,   -999.0,  9,  -999.00,9,   -999.0,  -999.00,9,  -999.00,9,     0.01,2,     0.04,2,   -999.0,-999.0000, -999,9,  250,  14.8440,  25.6991,   -999.0,9
       SH99-06,  NONE,SH-5790,  2,      6,1-133-93,2,19990714,0412, 31.0098, 131.7253, 1430,    303.8,  12.7010,  34.4899,2,   -999.0,9,-999.0000,9,    161.5,2,  -999.00,9,  -999.00,9,    16.57,2,     0.00,2,     1.16,2, -999.000,9, -999.000,9,  -999.00,9,   -999.0,9,   -999.0,9,-999.0000,9,   -999.0,  9,  -999.00,9,   -999.0,  -999.00,9,  -999.00,9,     0.00,2,     0.01,2,   -999.0,-999.0000, -999,9,  301,  12.6599,  26.0652,   -999.0,9
       SH99-06,  NONE,SH-5790,  1,      4, S-1-1-2,2,19990714,0348, 31.0025, 131.7172, 1430,    402.3,  10.3887,  34.3947,2,   -999.0,9,-999.0000,9,    140.7,2,  -999.00,9,  -999.00,9,    22.12,2,     0.00,2,     1.54,2, -999.000,9, -999.000,9,  -999.00,9,   -999.0,9,   -999.0,9,-999.0000,9,   -999.0,  9,  -999.00,9,   -999.0,  -999.00,9,  -999.00,9,  -999.00,9,  -999.00,9,   -999.0,-999.0000, -999,9,  399,  10.3407,  26.4207,   -999.0,9
       SH99-06,  NONE,SH-5790,  1,      3,1-133-84,2,19990714,0345, 31.0025, 131.7172, 1430,    504.2,   7.4141,  34.3178,2,   -999.0,9,-999.0000,9,    110.6,2,  -999.00,9,  -999.00,9,    29.61,2,     0.00,2,     2.05,2, -999.000,9, -999.000,9,  -999.00,9,   -999.0,9,   -999.0,9,-999.0000,9,   -999.0,  9,  -999.00,9,   -999.0,  -999.00,9,  -999.00,9,  -999.00,9,  -999.00,9,   -999.0,-999.0000, -999,9,  500,   7.3648,  26.8304,   -999.0,9
       SH99-06,  NONE,SH-5790,  1,      2, S-1-1-7,2,19990714,0343, 31.0025, 131.7172, 1430,    604.1,   5.2215,  34.2906,2,   -999.0,9,-999.0000,9,     80.5,2,  -999.00,9,  -999.00,9,    36.12,2,     0.00,2,     2.50,2, -999.000,9, -999.000,9,  -999.00,9,   -999.0,9,   -999.0,9,-999.0000,9,   -999.0,  9,  -999.00,9,   -999.0,  -999.00,9,  -999.00,9,  -999.00,9,  -999.00,9,   -999.0,-999.0000, -999,9,  599,   5.1720,  27.0929,   -999.0,9
       SH99-06,  NONE,SH-5790,  1,      1, 1-133-1,2,19990714,0341, 31.0025, 131.7172, 1430,    705.0,   4.3355,  34.3415,2,   -999.0,9,-999.0000,9,     69.9,2,  -999.00,9,  -999.00,9,    38.26,2,     0.00,2,     2.66,2, -999.000,9, -999.000,9,  -999.00,9,   -999.0,9,   -999.0,9,-999.0000,9,   -999.0,  9,  -999.00,9,   -999.0,  -999.00,9,  -999.00,9,  -999.00,9,  -999.00,9,   -999.0,-999.0000, -999,9,  699,   4.2821,  27.2327,   -999.0,9
       SH99-06,  NONE,SH-5790,  1,     12, 1-133-7,2,19990714,0339, 31.0025, 131.7172, 1430,    806.1,   3.8027,  34.4015,2,   -999.0,9,-999.0000,9,     69.0,2,  -999.00,9,  -999.00,9,    39.03,2,     0.00,2,     2.72,2, -999.000,9, -999.000,9,  -999.00,9,   -999.0,9,   -999.0,9,-999.0000,9,   -999.0,  9,  -999.00,9,   -999.0,  -999.00,9,  -999.00,9,  -999.00,9,  -999.00,9,   -999.0,-999.0000, -999,9,  799,   3.7443,  27.3361,   -999.0,9
       SH99-06,  NONE,SH-5790,  1,     11, S-1-1-9,2,19990714,0337, 31.0025, 131.7172, 1430,    908.4,   3.4325,  34.4319,2,   -999.0,9,-999.0000,9,     67.7,2,  -999.00,9,  -999.00,9,    39.61,2,     0.00,2,     2.74,2, -999.000,9, -999.000,9,  -999.00,9,   -999.0,9,   -999.0,9,-999.0000,9,   -999.0,  9,  -999.00,9,   -999.0,  -999.00,9,  -999.00,9,  -999.00,9,  -999.00,9,   -999.0,-999.0000, -999,9,  900,   3.3685,  27.3971,   -999.0,9
       SH99-06,  NONE,SH-5790,  1,     10,1-133-94,2,19990714,0335, 31.0025, 131.7172, 1430,   1009.5,   3.2011,  34.4569,2,   -999.0,9,-999.0000,9,     70.9,2,  -999.00,9,  -999.00,9,    39.71,2,     0.00,2,     2.71,2, -999.000,9, -999.000,9,  -999.00,9,   -999.0,9,   -999.0,9,-999.0000,9,   -999.0,  9,  -999.00,9,   -999.0,  -999.00,9,  -999.00,9,  -999.00,9,  -999.00,9,   -999.0,-999.0000, -999,9, 1000,   3.1310,  27.4395,   -999.0,9
       SH99-06,  NONE,SH-5790,  1,      9, S-1-1-5,2,19990714,0332, 31.0025, 131.7172, 1430,   1212.1,   2.8493,  34.4896,2,   -999.0,9,-999.0000,9,     76.8,2,  -999.00,9,  -999.00,9,    39.90,2,     0.00,2,     2.71,2, -999.000,9, -999.000,9,  -999.00,9,   -999.0,9,   -999.0,9,-999.0000,9,   -999.0,  9,  -999.00,9,   -999.0,  -999.00,9,  -999.00,9,  -999.00,9,  -999.00,9,   -999.0,-999.0000, -999,9, 1200,   2.7664,  27.4987,   -999.0,9