BOTTLE,20130510GEMDJMAYT
EXPOCODE,SECT_ID,STNNBR,CASTNO,SAMPNO,BTLNBR,BTLNBR_FLAG_W,DATE,TIME,LATITUDE,LONGITUDE,DEPTH,CTDPRS,CTDTMP,CTDSAL,CTDSAL_FLAG_W,CTDOXY,CTDOXY_FLAG_W,SALNTY,SALNTY_FLAG_W,OXYGEN,OXYGEN_FLAG_W,SILCAT,SILCAT_FLAG_W,NITRAT,NITRAT_FLAG_W,NO2+NO3,NO2+NO3_FLAG_W,NITRIT,NITRIT_FLAG_W,PHSPHT,PHSPHT_FLAG_W,CFC-11,CFC-11_FLAG_W,CFC-12,CFC-12_FLAG_W,DELC13,DELC13_FLAG_W,TCARBN,TCARBN_FLAG_W,ALKALI,ALKALI_FLAG_W,PH,PH_FLAG_W,PH_TMP,PH_SCALE,PH_NBS,PH_NBS_FLAG_W,C13ERR,TOTALP,TOTALP_FLAG_W,AMMONI,AMMONI_FLAG_W,CHLORA,CHLORA_FLAG_W,PPHYTN,PPHYTN_FLAG_W,REVPRS,REVTMP,DEPTH_,DEPTH_FLAG,CTDDEP,THETA,SIGTHT,DOC,DOC_FLAG_W
,,,,,,,GMT,GMT,,,METER,DBAR,ITS-90,PSS-78,,UMOL/KG,,PSS-78,,UMOL/KG,,UMOL/KG,,UMOL/KG,,UMOL/KG,,UMOL/KG,,UMOL/KG,,PMOL/KG,,PMOL/KG,,/MILLE,,UMOL/KG,,UMOL/KG,,25_DEG_C,,DEG_C,,,,/MILLE,UMOL/KG,,UMOL/KG,,UG/L,,UG/L,,DBAR,ITS-90,METERS,,METERS,DEG_C,,UMOL/L,
       SH99-06,  NONE,SH-5786,  1,      4, S-1-1-2,2,19990712,0244, 28.6718, 134.4675, 3750,    602.5,  10.4200,  34.3244,2,   -999.0,9,  34.3198,2,    159.6,2,  -999.00,9,  -999.00,9,    20.36,2,     0.00,2,     1.44,2, -999.000,9, -999.000,9,  -999.00,9,   -999.0,9,   -999.0,9,-999.0000,9,   -999.0,  9,     7.85,2,   -999.0,  -999.00,9,  -999.00,9,  -999.00,9,  -999.00,9,   -999.0,-999.0000, -999,9,  598,  10.3474,  26.3647,   -999.0,9
       SH99-06,  NONE,SH-5786,  1,      3,1-133-84,2,19990712,0242, 28.6718, 134.4675, 3750,    702.7,   8.3493,  34.2289,2,   -999.0,9,  34.2280,2,    137.4,2,  -999.00,9,  -999.00,9,    26.01,2,     0.00,2,     1.84,2, -999.000,9, -999.000,9,  -999.00,9,   -999.0,9,   -999.0,9,-999.0000,9,   -999.0,  9,     7.76,2,   -999.0,  -999.00,9,  -999.00,9,  -999.00,9,  -999.00,9,   -999.0,-999.0000, -999,9,  697,   8.2749,  26.6270,   -999.0,9
       SH99-06,  NONE,SH-5786,  1,      2, S-1-1-7,2,19990712,0240, 28.6718, 134.4675, 3750,    803.4,   6.4551,  34.2165,2,   -999.0,9,  34.2129,2,    106.7,2,  -999.00,9,  -999.00,9,    32.04,2,     0.00,2,     2.28,2, -999.000,9, -999.000,9,  -999.00,9,   -999.0,9,   -999.0,9,-999.0000,9,   -999.0,  9,     7.66,2,   -999.0,  -999.00,9,  -999.00,9,  -999.00,9,  -999.00,9,   -999.0,-999.0000, -999,9,  796,   6.3808,  26.8846,   -999.0,9
       SH99-06,  NONE,SH-5786,  1,      1, 1-133-1,2,19990712,0239, 28.6718, 134.4675, 3750,    906.0,   5.3825,  34.2645,2,   -999.0,9,  34.2618,2,     85.1,2,  -999.00,9,  -999.00,9,    35.44,2,     0.00,2,     2.52,2, -999.000,9, -999.000,9,  -999.00,9,   -999.0,9,   -999.0,9,-999.0000,9,   -999.0,  9,     7.60,2,   -999.0,  -999.00,9,  -999.00,9,  -999.00,9,  -999.00,9,   -999.0,-999.0000, -999,9,  898,   5.3054,  27.0565,   -999.0,9
       SH99-06,  NONE,SH-5786,  1,     12, 1-133-7,2,19990712,0237, 28.6718, 134.4675, 3750,   1005.8,   4.4239,  34.3243,2,   -999.0,9,  34.3182,2,     70.3,2,  -999.00,9,  -999.00,9,    38.16,2,     0.00,2,     2.72,2, -999.000,9, -999.000,9,  -999.00,9,   -999.0,9,   -999.0,9,-999.0000,9,   -999.0,  9,     7.58,2,   -999.0,  -999.00,9,  -999.00,9,  -999.00,9,  -999.00,9,   -999.0,-999.0000, -999,9,  997,   4.3448,  27.2123,   -999.0,9
       SH99-06,  NONE,SH-5786,  1,     11, S-1-1-9,2,19990712,0235, 28.6718, 134.4675, 3750,   1208.5,   3.4215,  34.4306,2,   -999.0,9,  34.4274,2,     66.6,2,  -999.00,9,  -999.00,9,    40.00,2,     0.00,2,     2.82,2, -999.000,9, -999.000,9,  -999.00,9,   -999.0,9,   -999.0,9,-999.0000,9,   -999.0,  9,     7.55,2,   -999.0,  -999.00,9,  -999.00,9,  -999.00,9,  -999.00,9,   -999.0,-999.0000, -999,9, 1197,   3.3337,  27.3994,   -999.0,9
       SH99-06,  NONE,SH-5786,  1,     10,1-133-94,2,19990712,0231, 28.6718, 134.4675, 3750,   1511.5,   2.6382,  34.5200,2,   -999.0,9,  34.5140,2,   -999.0,9,  -999.00,9,  -999.00,9,  -999.00,9,  -999.00,9,  -999.00,9, -999.000,9, -999.000,9,  -999.00,9,   -999.0,9,   -999.0,9,-999.0000,9,   -999.0,  9,  -999.00,9,   -999.0,  -999.00,9,  -999.00,9,  -999.00,9,  -999.00,9,   -999.0,-999.0000, -999,9, 1496,   2.5337,  27.5432,   -999.0,9
       SH99-06,  NONE,SH-5786,  1,      9, S-1-1-5,2,19990712,0225, 28.6718, 134.4675, 3750,   2019.7,   2.0543,  34.6058,2,   -999.0,9,  34.5651,4,   -999.0,9,  -999.00,9,  -999.00,9,  -999.00,9,  -999.00,9,  -999.00,9, -999.000,9, -999.000,9,  -999.00,9,   -999.0,9,   -999.0,9,-999.0000,9,   -999.0,  9,  -999.00,9,   -999.0,  -999.00,9,  -999.00,9,  -999.00,9,  -999.00,9,   -999.0,-999.0000, -999,9, 1997,   1.9155,  27.6625,   -999.0,9
       SH99-06,  NONE,SH-5786,  1,      8,1-133-95,2,19990712,0219, 28.6718, 134.4675, 3750,   2530.1,   1.7180,  34.6557,2,   -999.0,9,  34.6444,4,   -999.0,9,  -999.00,9,  -999.00,9,  -999.00,9,  -999.00,9,  -999.00,9, -999.000,9, -999.000,9,  -999.00,9,   -999.0,9,   -999.0,9,-999.0000,9,   -999.0,  9,  -999.00,9,   -999.0,  -999.00,9,  -999.00,9,  -999.00,9,  -999.00,9,   -999.0,-999.0000, -999,9, 2498,   1.5403,  27.7309,   -999.0,9
       SH99-06,  NONE,SH-5786,  1,      7, S-1-1-4,2,19990712,0213, 28.6718, 134.4675, 3750,   3038.9,   1.5780,  34.6781,2,   -999.0,9,  34.6695,2,   -999.0,9,  -999.00,9,  -999.00,9,  -999.00,9,  -999.00,9,  -999.00,9, -999.000,9, -999.000,9,  -999.00,9,   -999.0,9,   -999.0,9,-999.0000,9,   -999.0,  9,  -999.00,9,   -999.0,  -999.00,9,  -999.00,9,  -999.00,9,  -999.00,9,   -999.0,-999.0000, -999,9, 2997,   1.3557,  27.7622,   -999.0,9
       SH99-06,  NONE,SH-5786,  1,      6,1-133-93,2,19990712,0206, 28.6718, 134.4675, 3750,   3551.8,   1.5253,  34.6914,2,   -999.0,9,  34.6753,4,   -999.0,9,  -999.00,9,  -999.00,9,  -999.00,9,  -999.00,9,  -999.00,9, -999.000,9, -999.000,9,  -999.00,9,   -999.0,9,   -999.0,9,-999.0000,9,   -999.0,  9,  -999.00,9,   -999.0,  -999.00,9,  -999.00,9,  -999.00,9,  -999.00,9,   -999.0,-999.0000, -999,9, 3499,   1.2531,  27.7801,   -999.0,9
       SH99-06,  NONE,SH-5786,  1,      5, 1-133-2,2,19990712,0204, 28.6718, 134.4675, 3750,   3656.3,   1.5282,  34.6922,2,   -999.0,9,  34.6802,4,   -999.0,9,  -999.00,9,  -999.00,9,  -999.00,9,  -999.00,9,  -999.00,9, -999.000,9, -999.000,9,  -999.00,9,   -999.0,9,   -999.0,9,-999.0000,9,   -999.0,  9,  -999.00,9,   -999.0,  -999.00,9,  -999.00,9,  -999.00,9,  -999.00,9,   -999.0,-999.0000, -999,9, 3601,   1.2451,  27.7813,   -999.0,9
       SH99-06,  NONE,SH-5787,  2,     -9,      -9,5,19990712,0847, 29.0730, 133.9748, 2480,      0.0,  27.2034,  34.2517,2,   -999.0,9,-999.0000,9,    205.3,2,  -999.00,9,  -999.00,9,     0.00,2,     0.00,2,     0.00,2, -999.000,9, -999.000,9,  -999.00,9,   -999.0,9,   -999.0,9,-999.0000,9,   -999.0,  9,  -999.00,9,   -999.0,  -999.00,9,  -999.00,9,     0.04,2,     0.03,2,   -999.0,-999.0000, -999,9,    0,  27.2034,  22.0893,   -999.0,9
       SH99-06,  NONE,SH-5787,  2,     11, S-1-1-9,2,19990712,0846, 29.0730, 133.9748, 2480,     10.8,  27.1243,  34.2991,2,   -999.0,9,-999.0000,9,    205.1,2,  -999.00,9,  -999.00,9,     0.00,2,     0.00,2,     0.00,2, -999.000,9, -999.000,9,  -999.00,9,   -999.0,9,   -999.0,9,-999.0000,9,   -999.0,  9,  -999.00,9,   -999.0,  -999.00,9,  -999.00,9,     0.05,2,     0.02,2,   -999.0,-999.0000, -999,9,   11,  27.1218,  22.1511,   -999.0,9
       SH99-06,  NONE,SH-5787,  2,     10,1-133-94,2,19990712,0845, 29.0730, 133.9748, 2480,     25.5,  25.0951,  34.5902,2,   -999.0,9,-999.0000,9,    215.5,2,  -999.00,9,  -999.00,9,     0.00,2,     0.00,2,     0.00,2, -999.000,9, -999.000,9,  -999.00,9,   -999.0,9,   -999.0,9,-999.0000,9,   -999.0,  9,  -999.00,9,   -999.0,  -999.00,9,  -999.00,9,     0.07,2,     0.04,2,   -999.0,-999.0000, -999,9,   25,  25.0896,  23.0043,   -999.0,9
       SH99-06,  NONE,SH-5787,  2,      9, S-1-1-5,2,19990712,0844, 29.0730, 133.9748, 2480,     50.6,  23.2129,  34.8368,2,   -999.0,9,-999.0000,9,    224.0,2,  -999.00,9,  -999.00,9,     0.00,2,     0.00,2,     0.00,2, -999.000,9, -999.000,9,  -999.00,9,   -999.0,9,   -999.0,9,-999.0000,9,   -999.0,  9,  -999.00,9,   -999.0,  -999.00,9,  -999.00,9,     0.05,2,     0.03,2,   -999.0,-999.0000, -999,9,   50,  23.2026,  23.7513,   -999.0,9
       SH99-06,  NONE,SH-5787,  2,      8,1-133-95,2,19990712,0844, 29.0730, 133.9748, 2480,     76.7,  21.6186,  34.8244,2,   -999.0,9,-999.0000,9,    221.3,2,  -999.00,9,  -999.00,9,     0.00,2,     0.00,2,     0.02,2, -999.000,9, -999.000,9,  -999.00,9,   -999.0,9,   -999.0,9,-999.0000,9,   -999.0,  9,  -999.00,9,   -999.0,  -999.00,9,  -999.00,9,     0.12,2,     0.25,2,   -999.0,-999.0000, -999,9,   76,  21.6036,  24.1947,   -999.0,9
       SH99-06,  NONE,SH-5787,  2,      7, S-1-1-4,2,19990712,0843, 29.0730, 133.9748, 2480,    101.2,  20.7969,  34.8524,2,   -999.0,9,-999.0000,9,    217.6,2,  -999.00,9,  -999.00,9,     0.29,2,     0.16,2,     0.04,2, -999.000,9, -999.000,9,  -999.00,9,   -999.0,9,   -999.0,9,-999.0000,9,   -999.0,  9,  -999.00,9,   -999.0,  -999.00,9,  -999.00,9,     0.16,2,     0.34,2,   -999.0,-999.0000, -999,9,  101,  20.7777,  24.4418,   -999.0,9
       SH99-06,  NONE,SH-5787,  2,      6,1-133-93,2,19990712,0842, 29.0730, 133.9748, 2480,    127.8,  20.0101,  34.8230,2,   -999.0,9,-999.0000,9,    216.2,2,  -999.00,9,  -999.00,9,     1.07,2,     0.10,2,     0.09,2, -999.000,9, -999.000,9,  -999.00,9,   -999.0,9,   -999.0,9,-999.0000,9,   -999.0,  9,  -999.00,9,   -999.0,  -999.00,9,  -999.00,9,     0.08,2,     0.24,2,   -999.0,-999.0000, -999,9,  127,  19.9865,  24.6303,   -999.0,9
       SH99-06,  NONE,SH-5787,  2,      5, 1-133-2,2,19990712,0841, 29.0730, 133.9748, 2480,    151.4,  19.6196,  34.8064,2,   -999.0,9,-999.0000,9,    219.5,2,  -999.00,9,  -999.00,9,     1.07,2,     0.03,2,     0.10,2, -999.000,9, -999.000,9,  -999.00,9,   -999.0,9,   -999.0,9,-999.0000,9,   -999.0,  9,  -999.00,9,   -999.0,  -999.00,9,  -999.00,9,     0.05,2,     0.14,2,   -999.0,-999.0000, -999,9,  150,  19.5921,  24.7208,   -999.0,9
       SH99-06,  NONE,SH-5787,  2,      4, S-1-1-2,2,19990712,0840, 29.0730, 133.9748, 2480,    202.4,  19.2711,  34.8099,2,   -999.0,9,-999.0000,9,    218.3,2,  -999.00,9,  -999.00,9,     1.66,2,     0.02,2,     0.13,2, -999.000,9, -999.000,9,  -999.00,9,   -999.0,9,   -999.0,9,-999.0000,9,   -999.0,  9,  -999.00,9,   -999.0,  -999.00,9,  -999.00,9,     0.00,2,     0.02,2,   -999.0,-999.0000, -999,9,  201,  19.2347,  24.8158,   -999.0,9
       SH99-06,  NONE,SH-5787,  2,      3,1-133-84,2,19990712,0839, 29.0730, 133.9748, 2480,    253.3,  18.8976,  34.8142,2,   -999.0,9,-999.0000,9,    208.0,2,  -999.00,9,  -999.00,9,     2.93,2,     0.01,2,     0.20,2, -999.000,9, -999.000,9,  -999.00,9,   -999.0,9,   -999.0,9,-999.0000,9,   -999.0,  9,  -999.00,9,   -999.0,  -999.00,9,  -999.00,9,     0.00,2,     0.01,2,   -999.0,-999.0000, -999,9,  251,  18.8526,  24.9167,   -999.0,9
       SH99-06,  NONE,SH-5787,  2,      2, S-1-1-7,2,19990712,0838, 29.0730, 133.9748, 2480,    303.7,  17.9510,  34.8128,2,   -999.0,9,-999.0000,9,    198.1,2,  -999.00,9,  -999.00,9,     4.97,2,     0.01,2,     0.33,2, -999.000,9, -999.000,9,  -999.00,9,   -999.0,9,   -999.0,9,-999.0000,9,   -999.0,  9,  -999.00,9,   -999.0,  -999.00,9,  -999.00,9,     0.00,2,     0.01,2,   -999.0,-999.0000, -999,9,  301,  17.8989,  25.1535,   -999.0,9
       SH99-06,  NONE,SH-5787,  1,      1, 1-133-1,2,19990712,0809, 29.0787, 133.9810, 2480,    402.1,  16.2400,  34.7279,2,   -999.0,9,-999.0000,9,    195.6,2,  -999.00,9,  -999.00,9,     7.51,2,     0.00,2,     0.50,2, -999.000,9, -999.000,9,  -999.00,9,   -999.0,9,   -999.0,9,-999.0000,9,   -999.0,  9,  -999.00,9,   -999.0,  -999.00,9,  -999.00,9,  -999.00,9,  -999.00,9,   -999.0,-999.0000, -999,9,  399,  16.1755,  25.4981,   -999.0,9
       SH99-06,  NONE,SH-5787,  1,     12, 1-133-7,2,19990712,0808, 29.0787, 133.9810, 2480,    503.5,  13.4088,  34.5139,2,   -999.0,9,-999.0000,9,    181.0,2,  -999.00,9,  -999.00,9,    13.45,2,     0.01,2,     0.91,2, -999.000,9, -999.000,9,  -999.00,9,   -999.0,9,   -999.0,9,-999.0000,9,   -999.0,  9,  -999.00,9,   -999.0,  -999.00,9,  -999.00,9,  -999.00,9,  -999.00,9,   -999.0,-999.0000, -999,9,  499,  13.3377,  25.9481,   -999.0,9
       SH99-06,  NONE,SH-5787,  1,     11, S-1-1-9,2,19990712,0806, 29.0787, 133.9810, 2480,    602.7,  11.1720,  34.3657,2,   -999.0,9,-999.0000,9,    165.0,2,  -999.00,9,  -999.00,9,    18.71,2,     0.00,2,     1.28,2, -999.000,9, -999.000,9,  -999.00,9,   -999.0,9,   -999.0,9,-999.0000,9,   -999.0,  9,  -999.00,9,   -999.0,  -999.00,9,  -999.00,9,  -999.00,9,  -999.00,9,   -999.0,-999.0000, -999,9,  598,  11.0961,  26.2642,   -999.0,9
       SH99-06,  NONE,SH-5787,  1,     10,1-133-94,2,19990712,0805, 29.0787, 133.9810, 2480,    704.0,   8.7135,  34.2423,2,   -999.0,9,-999.0000,9,    141.8,2,  -999.00,9,  -999.00,9,    24.94,2,     0.00,2,     1.72,2, -999.000,9, -999.000,9,  -999.00,9,   -999.0,9,   -999.0,9,-999.0000,9,   -999.0,  9,  -999.00,9,   -999.0,  -999.00,9,  -999.00,9,  -999.00,9,  -999.00,9,   -999.0,-999.0000, -999,9,  698,   8.6371,  26.5819,   -999.0,9
       SH99-06,  NONE,SH-5787,  1,      9, S-1-1-5,2,19990712,0803, 29.0787, 133.9810, 2480,    804.8,   6.5442,  34.2365,2,   -999.0,9,-999.0000,9,    105.3,2,  -999.00,9,  -999.00,9,    31.65,2,     0.00,2,     2.20,2, -999.000,9, -999.000,9,  -999.00,9,   -999.0,9,   -999.0,9,-999.0000,9,   -999.0,  9,  -999.00,9,   -999.0,  -999.00,9,  -999.00,9,  -999.00,9,  -999.00,9,   -999.0,-999.0000, -999,9,  798,   6.4692,  26.8888,   -999.0,9
       SH99-06,  NONE,SH-5787,  1,      8,1-133-95,2,19990712,0801, 29.0787, 133.9810, 2480,    906.4,   5.2006,  34.2887,2,   -999.0,9,-999.0000,9,     82.3,2,  -999.00,9,  -999.00,9,    36.12,2,     0.00,2,     2.49,2, -999.000,9, -999.000,9,  -999.00,9,   -999.0,9,   -999.0,9,-999.0000,9,   -999.0,  9,  -999.00,9,   -999.0,  -999.00,9,  -999.00,9,  -999.00,9,  -999.00,9,   -999.0,-999.0000, -999,9,  898,   5.1246,  27.0969,   -999.0,9
       SH99-06,  NONE,SH-5787,  1,      7, S-1-1-4,2,19990712,0800, 29.0787, 133.9810, 2480,   1007.7,   4.3262,  34.3450,2,   -999.0,9,-999.0000,9,     71.3,2,  -999.00,9,  -999.00,9,    38.45,2,     0.00,2,     2.65,2, -999.000,9, -999.000,9,  -999.00,9,   -999.0,9,   -999.0,9,-999.0000,9,   -999.0,  9,  -999.00,9,   -999.0,  -999.00,9,  -999.00,9,  -999.00,9,  -999.00,9,   -999.0,-999.0000, -999,9,  998,   4.2477,  27.2392,   -999.0,9
       SH99-06,  NONE,SH-5787,  1,      6,1-133-93,2,19990712,0757, 29.0787, 133.9810, 2480,   1208.4,   3.4724,  34.4200,2,   -999.0,9,-999.0000,9,     65.6,2,  -999.00,9,  -999.00,9,    39.81,2,     0.00,2,     2.74,2, -999.000,9, -999.000,9,  -999.00,9,   -999.0,9,   -999.0,9,-999.0000,9,   -999.0,  9,  -999.00,9,   -999.0,  -999.00,9,  -999.00,9,  -999.00,9,  -999.00,9,   -999.0,-999.0000, -999,9, 1197,   3.3842,  27.3861,   -999.0,9
       SH99-06,  NONE,SH-5788,  2,     -9,      -9,5,19990712,1831, 29.9500, 132.9383, 3850,      0.0,  27.4266,  34.3894,2,   -999.0,9,-999.0000,9,    202.9,2,  -999.00,9,  -999.00,9,     0.10,2,     0.00,2,     0.00,2, -999.000,9, -999.000,9,  -999.00,9,   -999.0,9,   -999.0,9,-999.0000,9,   -999.0,  9,  -999.00,9,   -999.0,  -999.00,9,  -999.00,9,     0.06,2,     0.04,2,   -999.0,-999.0000, -999,9,    0,  27.4266,  22.1213,   -999.0,9
       SH99-06,  NONE,SH-5788,  2,     11, S-1-1-9,2,19990712,1830, 29.9500, 132.9383, 3850,     10.8,  27.4324,  34.3885,2,   -999.0,9,  34.3885,2,    202.7,2,  -999.00,9,  -999.00,9,     0.10,2,     0.00,2,     0.00,2, -999.000,9, -999.000,9,  -999.00,9,   -999.0,9,   -999.0,9,-999.0000,9,   -999.0,  9,  -999.00,9,   -999.0,  -999.00,9,  -999.00,9,     0.05,2,     0.04,2,   -999.0,-999.0000, -999,9,   11,  27.4299,  22.1196,   -999.0,9
       SH99-06,  NONE,SH-5788,  2,     10,1-133-94,2,19990712,1829, 29.9500, 132.9383, 3850,     26.9,  27.5612,  34.4594,2,   -999.0,9,  34.4473,4,    202.5,2,  -999.00,9,  -999.00,9,     0.00,2,     0.00,2,     0.00,2, -999.000,9, -999.000,9,  -999.00,9,   -999.0,9,   -999.0,9,-999.0000,9,   -999.0,  9,  -999.00,9,   -999.0,  -999.00,9,  -999.00,9,     0.06,2,     0.04,2,   -999.0,-999.0000, -999,9,   27,  27.5549,  22.1326,   -999.0,9
       SH99-06,  NONE,SH-5788,  2,      9, S-1-1-5,2,19990712,1828, 29.9500, 132.9383, 3850,     50.4,  23.6240,  34.6808,2,   -999.0,9,  34.6764,2,    221.2,2,  -999.00,9,  -999.00,9,     0.00,2,     0.00,2,     0.00,2, -999.000,9, -999.000,9,  -999.00,9,   -999.0,9,   -999.0,9,-999.0000,9,   -999.0,  9,  -999.00,9,   -999.0,  -999.00,9,  -999.00,9,     0.12,2,     0.11,2,   -999.0,-999.0000, -999,9,   50,  23.6136,  23.5135,   -999.0,9
       SH99-06,  NONE,SH-5788,  2,      8,1-133-95,2,19990712,1826, 29.9500, 132.9383, 3850,     76.9,  22.4822,  34.8431,2,   -999.0,9,  34.8406,2,    221.0,2,  -999.00,9,  -999.00,9,     0.00,2,     0.00,2,     0.00,2, -999.000,9, -999.000,9,  -999.00,9,   -999.0,9,   -999.0,9,-999.0000,9,   -999.0,  9,  -999.00,9,   -999.0,  -999.00,9,  -999.00,9,     0.27,2,     0.29,2,   -999.0,-999.0000, -999,9,   76,  22.4668,  23.9670,   -999.0,9
       SH99-06,  NONE,SH-5788,  2,      7, S-1-1-4,2,19990712,1825, 29.9500, 132.9383, 3850,    102.0,  21.3297,  34.8316,2,   -999.0,9,  34.8327,2,    209.5,2,  -999.00,9,  -999.00,9,     0.98,2,     0.15,2,     0.08,2, -999.000,9, -999.000,9,  -999.00,9,   -999.0,9,   -999.0,9,-999.0000,9,   -999.0,  9,  -999.00,9,   -999.0,  -999.00,9,  -999.00,9,     0.13,2,     0.42,2,   -999.0,-999.0000, -999,9,  101,  21.3100,  24.2811,   -999.0,9
       SH99-06,  NONE,SH-5788,  2,      6,1-133-93,2,19990712,1824, 29.9500, 132.9383, 3850,    126.6,  20.8206,  34.8405,2,   -999.0,9,  34.8404,2,    210.0,2,  -999.00,9,  -999.00,9,     1.07,2,     0.08,2,     0.09,2, -999.000,9, -999.000,9,  -999.00,9,   -999.0,9,   -999.0,9,-999.0000,9,   -999.0,  9,  -999.00,9,   -999.0,  -999.00,9,  -999.00,9,     0.07,2,     0.25,2,   -999.0,-999.0000, -999,9,  126,  20.7965,  24.4276,   -999.0,9
       SH99-06,  NONE,SH-5788,  2,      5, 1-133-2,2,19990712,1823, 29.9500, 132.9383, 3850,    151.1,  20.0583,  34.8313,2,   -999.0,9,  34.8302,2,    215.7,2,  -999.00,9,  -999.00,9,     0.88,2,     0.08,2,     0.08,2, -999.000,9, -999.000,9,  -999.00,9,   -999.0,9,   -999.0,9,-999.0000,9,   -999.0,  9,  -999.00,9,   -999.0,  -999.00,9,  -999.00,9,     0.04,2,     0.13,2,   -999.0,-999.0000, -999,9,  150,  20.0303,  24.6251,   -999.0,9
       SH99-06,  NONE,SH-5788,  2,      4, S-1-1-2,2,19990712,1822, 29.9500, 132.9383, 3850,    202.2,  19.0409,  34.8264,2,   -999.0,9,  34.8296,2,    202.0,2,  -999.00,9,  -999.00,9,     3.12,2,     0.01,2,     0.21,2, -999.000,9, -999.000,9,  -999.00,9,   -999.0,9,   -999.0,9,-999.0000,9,   -999.0,  9,  -999.00,9,   -999.0,  -999.00,9,  -999.00,9,     0.01,2,     0.04,2,   -999.0,-999.0000, -999,9,  201,  19.0048,  24.8873,   -999.0,9
       SH99-06,  NONE,SH-5788,  2,      3,1-133-84,2,19990712,1820, 29.9500, 132.9383, 3850,    252.4,  18.1360,  34.8214,2,   -999.0,9,  34.8192,2,   -999.0,4,  -999.00,9,  -999.00,9,     4.78,2,     0.01,2,     0.31,2, -999.000,9, -999.000,9,  -999.00,9,   -999.0,9,   -999.0,9,-999.0000,9,   -999.0,  9,  -999.00,9,   -999.0,  -999.00,9,  -999.00,9,     0.00,2,     0.01,2,   -999.0,-999.0000, -999,9,  251,  18.0924,  25.1125,   -999.0,9
       SH99-06,  NONE,SH-5788,  2,      2, S-1-1-7,2,19990712,1819, 29.9500, 132.9383, 3850,    301.8,  16.9901,  34.7777,2,   -999.0,9,  34.7760,2,    194.7,2,  -999.00,9,  -999.00,9,     6.53,2,     0.00,2,     0.44,2, -999.000,9, -999.000,9,  -999.00,9,   -999.0,9,   -999.0,9,-999.0000,9,   -999.0,  9,  -999.00,9,   -999.0,  -999.00,9,  -999.00,9,     0.00,2,     0.01,2,   -999.0,-999.0000, -999,9,  300,  16.9403,  25.3578,   -999.0,9
       SH99-06,  NONE,SH-5788,  2,      1, 1-133-1,2,19990712,1817, 29.9500, 132.9383, 3850,    404.3,  15.0649,  34.6337,2,   -999.0,9,  34.6347,2,    191.7,2,  -999.00,9,  -999.00,9,     9.75,2,     0.00,2,     0.64,2, -999.000,9, -999.000,9,  -999.00,9,   -999.0,9,   -999.0,9,-999.0000,9,   -999.0,  9,  -999.00,9,   -999.0,  -999.00,9,  -999.00,9,  -999.00,9,  -999.00,9,   -999.0,-999.0000, -999,9,  401,  15.0033,  25.6888,   -999.0,9