BOTTLE,20130510GEMDJMAYT
EXPOCODE,SECT_ID,STNNBR,CASTNO,SAMPNO,BTLNBR,BTLNBR_FLAG_W,DATE,TIME,LATITUDE,LONGITUDE,DEPTH,CTDPRS,CTDTMP,CTDSAL,CTDSAL_FLAG_W,CTDOXY,CTDOXY_FLAG_W,SALNTY,SALNTY_FLAG_W,OXYGEN,OXYGEN_FLAG_W,SILCAT,SILCAT_FLAG_W,NITRAT,NITRAT_FLAG_W,NO2+NO3,NO2+NO3_FLAG_W,NITRIT,NITRIT_FLAG_W,PHSPHT,PHSPHT_FLAG_W,CFC-11,CFC-11_FLAG_W,CFC-12,CFC-12_FLAG_W,DELC13,DELC13_FLAG_W,TCARBN,TCARBN_FLAG_W,ALKALI,ALKALI_FLAG_W,PH,PH_FLAG_W,PH_TMP,PH_SCALE,PH_NBS,PH_NBS_FLAG_W,C13ERR,TOTALP,TOTALP_FLAG_W,AMMONI,AMMONI_FLAG_W,CHLORA,CHLORA_FLAG_W,PPHYTN,PPHYTN_FLAG_W,REVPRS,REVTMP,DEPTH_,DEPTH_FLAG,CTDDEP,THETA,SIGTHT,DOC,DOC_FLAG_W
,,,,,,,GMT,GMT,,,METER,DBAR,ITS-90,PSS-78,,UMOL/KG,,PSS-78,,UMOL/KG,,UMOL/KG,,UMOL/KG,,UMOL/KG,,UMOL/KG,,UMOL/KG,,PMOL/KG,,PMOL/KG,,/MILLE,,UMOL/KG,,UMOL/KG,,25_DEG_C,,DEG_C,,,,/MILLE,UMOL/KG,,UMOL/KG,,UG/L,,UG/L,,DBAR,ITS-90,METERS,,METERS,DEG_C,,UMOL/L,
       SH99-06,  137E,SH-5810,  1,      5, 1-133-2,2,19990725,0235, 31.0113, 136.7957, 4700,     50.6,  21.0912,  34.7845,2,   -999.0,9,  34.7815,2,   -999.0,9,  -999.00,9,  -999.00,9,  -999.00,9,  -999.00,9,  -999.00,9, -999.000,9, -999.000,9,  -999.00,9,   -999.0,9,   -999.0,9,-999.0000,9,   -999.0,  9,  -999.00,9,   -999.0,  -999.00,9,  -999.00,9,  -999.00,9,  -999.00,9,   -999.0,-999.0000, -999,9,   50,  21.0815,  24.3077,   -999.0,9
       SH99-06,  137E,SH-5810,  1,      4, S-1-1-2,2,19990725,0233, 31.0113, 136.7957, 4700,    100.3,  19.5948,  34.7952,2,   -999.0,9,  34.7981,2,   -999.0,9,  -999.00,9,  -999.00,9,  -999.00,9,  -999.00,9,  -999.00,9, -999.000,9, -999.000,9,  -999.00,9,   -999.0,9,   -999.0,9,-999.0000,9,   -999.0,  9,  -999.00,9,   -999.0,  -999.00,9,  -999.00,9,  -999.00,9,  -999.00,9,   -999.0,-999.0000, -999,9,  100,  19.5766,  24.7163,   -999.0,9
       SH99-06,  137E,SH-5810,  1,      3,1-133-84,2,19990725,0232, 31.0113, 136.7957, 4700,    150.9,  19.2464,  34.8104,2,   -999.0,9,  34.8083,2,   -999.0,9,  -999.00,9,  -999.00,9,  -999.00,9,  -999.00,9,  -999.00,9, -999.000,9, -999.000,9,  -999.00,9,   -999.0,9,   -999.0,9,-999.0000,9,   -999.0,  9,  -999.00,9,   -999.0,  -999.00,9,  -999.00,9,  -999.00,9,  -999.00,9,   -999.0,-999.0000, -999,9,  150,  19.2192,  24.8201,   -999.0,9
       SH99-06,  137E,SH-5810,  1,      2, S-1-1-7,2,19990725,0230, 31.0113, 136.7957, 4700,    200.8,  19.1074,  34.8086,2,   -999.0,9,  34.8064,2,   -999.0,9,  -999.00,9,  -999.00,9,  -999.00,9,  -999.00,9,  -999.00,9, -999.000,9, -999.000,9,  -999.00,9,   -999.0,9,   -999.0,9,-999.0000,9,   -999.0,  9,  -999.00,9,   -999.0,  -999.00,9,  -999.00,9,  -999.00,9,  -999.00,9,   -999.0,-999.0000, -999,9,  199,  19.0715,  24.8566,   -999.0,9
       SH99-06,  137E,SH-5810,  1,      1, 1-133-1,2,19990725,0229, 31.0113, 136.7957, 4700,    301.0,  18.8920,  34.8081,2,   -999.0,9,  34.8081,2,   -999.0,9,  -999.00,9,  -999.00,9,  -999.00,9,  -999.00,9,  -999.00,9, -999.000,9, -999.000,9,  -999.00,9,   -999.0,9,   -999.0,9,-999.0000,9,   -999.0,  9,  -999.00,9,   -999.0,  -999.00,9,  -999.00,9,  -999.00,9,  -999.00,9,   -999.0,-999.0000, -999,9,  299,  18.8385,  24.9156,   -999.0,9
       SH99-06,  137E,SH-5810,  1,     12,S-1-1-10,2,19990725,0227, 31.0113, 136.7957, 4700,    402.6,  17.9141,  34.8359,2,   -999.0,9,  34.8331,2,   -999.0,9,  -999.00,9,  -999.00,9,  -999.00,9,  -999.00,9,  -999.00,9, -999.000,9, -999.000,9,  -999.00,9,   -999.0,9,   -999.0,9,-999.0000,9,   -999.0,  9,  -999.00,9,   -999.0,  -999.00,9,  -999.00,9,  -999.00,9,  -999.00,9,   -999.0,-999.0000, -999,9,  399,  17.8449,  25.1845,   -999.0,9
       SH99-06,  137E,SH-5810,  1,     11, S-1-1-9,2,19990725,0225, 31.0113, 136.7957, 4700,    504.8,  16.6857,  34.7669,2,   -999.0,9,  34.7646,2,   -999.0,9,  -999.00,9,  -999.00,9,  -999.00,9,  -999.00,9,  -999.00,9, -999.000,9, -999.000,9,  -999.00,9,   -999.0,9,   -999.0,9,-999.0000,9,   -999.0,  9,  -999.00,9,   -999.0,  -999.00,9,  -999.00,9,  -999.00,9,  -999.00,9,   -999.0,-999.0000, -999,9,  501,  16.6030,  25.4289,   -999.0,9
       SH99-06,  137E,SH-5810,  1,     10,1-133-94,2,19990725,0222, 31.0113, 136.7957, 4700,    604.8,  14.6580,  34.6116,2,   -999.0,9,  34.6095,2,   -999.0,9,  -999.00,9,  -999.00,9,  -999.00,9,  -999.00,9,  -999.00,9, -999.000,9, -999.000,9,  -999.00,9,   -999.0,9,   -999.0,9,-999.0000,9,   -999.0,  9,  -999.00,9,   -999.0,  -999.00,9,  -999.00,9,  -999.00,9,  -999.00,9,   -999.0,-999.0000, -999,9,  600,  14.5670,  25.7665,   -999.0,9
       SH99-06,  137E,SH-5810,  1,      9, S-1-1-5,2,19990725,0219, 31.0113, 136.7957, 4700,    806.5,   9.2597,  34.2598,2,   -999.0,9,  34.2612,2,   -999.0,9,  -999.00,9,  -999.00,9,  -999.00,9,  -999.00,9,  -999.00,9, -999.000,9, -999.000,9,  -999.00,9,   -999.0,9,   -999.0,9,-999.0000,9,   -999.0,  9,  -999.00,9,   -999.0,  -999.00,9,  -999.00,9,  -999.00,9,  -999.00,9,   -999.0,-999.0000, -999,9,  799,   9.1684,  26.5115,   -999.0,9
       SH99-06,  137E,SH-5810,  1,      8,1-133-95,2,19990725,0216, 31.0113, 136.7957, 4700,   1007.7,   5.7328,  34.2382,2,   -999.0,9,  34.2386,2,   -999.0,9,  -999.00,9,  -999.00,9,  -999.00,9,  -999.00,9,  -999.00,9, -999.000,9, -999.000,9,  -999.00,9,   -999.0,9,   -999.0,9,-999.0000,9,   -999.0,  9,  -999.00,9,   -999.0,  -999.00,9,  -999.00,9,  -999.00,9,  -999.00,9,   -999.0,-999.0000, -999,9,  998,   5.6437,  26.9950,   -999.0,9
       SH99-06,  137E,SH-5810,  1,      7, S-1-1-4,2,19990725,0213, 31.0113, 136.7957, 4700,   1210.0,   4.1026,  34.3690,2,   -999.0,9,  34.3657,2,   -999.0,9,  -999.00,9,  -999.00,9,  -999.00,9,  -999.00,9,  -999.00,9, -999.000,9, -999.000,9,  -999.00,9,   -999.0,9,   -999.0,9,-999.0000,9,   -999.0,  9,  -999.00,9,   -999.0,  -999.00,9,  -999.00,9,  -999.00,9,  -999.00,9,   -999.0,-999.0000, -999,9, 1198,   4.0085,  27.2833,   -999.0,9
       SH99-06,  137E,SH-5814,  1,      6,1-133-93,2,19990725,1107, 32.0120, 136.2698, 4320,     53.0,  22.5569,  34.7553,2,   -999.0,9,  34.7589,2,   -999.0,9,  -999.00,9,  -999.00,9,  -999.00,9,  -999.00,9,  -999.00,9, -999.000,9, -999.000,9,  -999.00,9,   -999.0,9,   -999.0,9,-999.0000,9,   -999.0,  9,  -999.00,9,   -999.0,  -999.00,9,  -999.00,9,  -999.00,9,  -999.00,9,   -999.0,-999.0000, -999,9,   53,  22.5462,  23.8778,   -999.0,9
       SH99-06,  137E,SH-5814,  1,      5, 1-133-2,2,19990725,1106, 32.0120, 136.2698, 4320,    102.5,  20.2526,  34.8297,2,   -999.0,9,  34.8286,2,   -999.0,9,  -999.00,9,  -999.00,9,  -999.00,9,  -999.00,9,  -999.00,9, -999.000,9, -999.000,9,  -999.00,9,   -999.0,9,   -999.0,9,-999.0000,9,   -999.0,  9,  -999.00,9,   -999.0,  -999.00,9,  -999.00,9,  -999.00,9,  -999.00,9,   -999.0,-999.0000, -999,9,  102,  20.2335,  24.5701,   -999.0,9
       SH99-06,  137E,SH-5814,  1,      4, S-1-1-2,4,19990725,1104, 32.0120, 136.2698, 4320,    152.5,  19.4161,  34.8205,2,   -999.0,9,  34.8207,2,   -999.0,9,  -999.00,9,  -999.00,9,  -999.00,9,  -999.00,9,  -999.00,9, -999.000,9, -999.000,9,  -999.00,9,   -999.0,9,   -999.0,9,-999.0000,9,   -999.0,  9,  -999.00,9,   -999.0,  -999.00,9,  -999.00,9,  -999.00,9,  -999.00,9,   -999.0,-999.0000, -999,9,  151,  19.3885,  24.7843,   -999.0,9
       SH99-06,  137E,SH-5814,  1,      3,1-133-84,2,19990725,1104, 32.0120, 136.2698, 4320,    152.5,  19.4161,  34.8205,2,   -999.0,9,  34.8194,2,   -999.0,9,  -999.00,9,  -999.00,9,  -999.00,9,  -999.00,9,  -999.00,9, -999.000,9, -999.000,9,  -999.00,9,   -999.0,9,   -999.0,9,-999.0000,9,   -999.0,  9,  -999.00,9,   -999.0,  -999.00,9,  -999.00,9,  -999.00,9,  -999.00,9,   -999.0,-999.0000, -999,9,  151,  19.3885,  24.7843,   -999.0,9
       SH99-06,  137E,SH-5814,  1,      2, S-1-1-7,2,19990725,1103, 32.0120, 136.2698, 4320,    203.3,  19.1477,  34.8403,2,   -999.0,9,  34.8408,2,   -999.0,9,  -999.00,9,  -999.00,9,  -999.00,9,  -999.00,9,  -999.00,9, -999.000,9, -999.000,9,  -999.00,9,   -999.0,9,   -999.0,9,-999.0000,9,   -999.0,  9,  -999.00,9,   -999.0,  -999.00,9,  -999.00,9,  -999.00,9,  -999.00,9,   -999.0,-999.0000, -999,9,  202,  19.1112,  24.8707,   -999.0,9
       SH99-06,  137E,SH-5814,  1,      1, 1-133-1,2,19990725,1100, 32.0120, 136.2698, 4320,    304.6,  17.8642,  34.8119,2,   -999.0,9,  34.8115,2,   -999.0,9,  -999.00,9,  -999.00,9,  -999.00,9,  -999.00,9,  -999.00,9, -999.000,9, -999.000,9,  -999.00,9,   -999.0,9,   -999.0,9,-999.0000,9,   -999.0,  9,  -999.00,9,   -999.0,  -999.00,9,  -999.00,9,  -999.00,9,  -999.00,9,   -999.0,-999.0000, -999,9,  302,  17.8121,  25.1741,   -999.0,9
       SH99-06,  137E,SH-5814,  1,     12,S-1-1-10,2,19990725,1058, 32.0120, 136.2698, 4320,    404.9,  16.2704,  34.7293,2,   -999.0,9,  34.7280,2,   -999.0,9,  -999.00,9,  -999.00,9,  -999.00,9,  -999.00,9,  -999.00,9, -999.000,9, -999.000,9,  -999.00,9,   -999.0,9,   -999.0,9,-999.0000,9,   -999.0,  9,  -999.00,9,   -999.0,  -999.00,9,  -999.00,9,  -999.00,9,  -999.00,9,   -999.0,-999.0000, -999,9,  402,  16.2053,  25.4923,   -999.0,9
       SH99-06,  137E,SH-5814,  1,     11, S-1-1-9,2,19990725,1056, 32.0120, 136.2698, 4320,    506.7,  14.0148,  34.5560,2,   -999.0,9,  34.5556,2,   -999.0,9,  -999.00,9,  -999.00,9,  -999.00,9,  -999.00,9,  -999.00,9, -999.000,9, -999.000,9,  -999.00,9,   -999.0,9,   -999.0,9,-999.0000,9,   -999.0,  9,  -999.00,9,   -999.0,  -999.00,9,  -999.00,9,  -999.00,9,  -999.00,9,   -999.0,-999.0000, -999,9,  503,  13.9411,  25.8563,   -999.0,9
       SH99-06,  137E,SH-5814,  1,     10,1-133-94,2,19990725,1054, 32.0120, 136.2698, 4320,    606.4,  11.5204,  34.3857,2,   -999.0,9,  34.3876,2,   -999.0,9,  -999.00,9,  -999.00,9,  -999.00,9,  -999.00,9,  -999.00,9, -999.000,9, -999.000,9,  -999.00,9,   -999.0,9,   -999.0,9,-999.0000,9,   -999.0,  9,  -999.00,9,   -999.0,  -999.00,9,  -999.00,9,  -999.00,9,  -999.00,9,   -999.0,-999.0000, -999,9,  601,  11.4425,  26.2164,   -999.0,9
       SH99-06,  137E,SH-5814,  1,      9, S-1-1-5,2,19990725,1051, 32.0120, 136.2698, 4320,    805.7,   7.2362,  34.1990,2,   -999.0,9,  34.2068,4,   -999.0,9,  -999.00,9,  -999.00,9,  -999.00,9,  -999.00,9,  -999.00,9, -999.000,9, -999.000,9,  -999.00,9,   -999.0,9,   -999.0,9,-999.0000,9,   -999.0,  9,  -999.00,9,   -999.0,  -999.00,9,  -999.00,9,  -999.00,9,  -999.00,9,   -999.0,-999.0000, -999,9,  798,   7.1570,  26.7660,   -999.0,9
       SH99-06,  137E,SH-5814,  1,      8,1-133-95,2,19990725,1048, 32.0120, 136.2698, 4320,   1010.2,   4.6752,  34.2781,2,   -999.0,9,  34.2807,2,   -999.0,9,  -999.00,9,  -999.00,9,  -999.00,9,  -999.00,9,  -999.00,9, -999.000,9, -999.000,9,  -999.00,9,   -999.0,9,   -999.0,9,-999.0000,9,   -999.0,  9,  -999.00,9,   -999.0,  -999.00,9,  -999.00,9,  -999.00,9,  -999.00,9,   -999.0,-999.0000, -999,9, 1001,   4.5938,  27.1486,   -999.0,9
       SH99-06,  137E,SH-5814,  1,      7, S-1-1-4,2,19990725,1044, 32.0120, 136.2698, 4320,   1233.1,   3.5994,  34.4042,2,   -999.0,9,  34.4099,2,   -999.0,9,  -999.00,9,  -999.00,9,  -999.00,9,  -999.00,9,  -999.00,9, -999.000,9, -999.000,9,  -999.00,9,   -999.0,9,   -999.0,9,-999.0000,9,   -999.0,  9,  -999.00,9,   -999.0,  -999.00,9,  -999.00,9,  -999.00,9,  -999.00,9,   -999.0,-999.0000, -999,9, 1221,   3.5080,  27.3616,   -999.0,9
       SH99-06,  NONE,SH-5818,  1,      6,1-133-93,2,19990725,2023, 33.0123, 135.7140, 2670,     51.5,  26.0326,  34.4437,2,   -999.0,9,  34.4565,4,   -999.0,9,  -999.00,9,  -999.00,9,  -999.00,9,  -999.00,9,  -999.00,9, -999.000,9, -999.000,9,  -999.00,9,   -999.0,9,   -999.0,9,-999.0000,9,   -999.0,  9,  -999.00,9,   -999.0,  -999.00,9,  -999.00,9,  -999.00,9,  -999.00,9,   -999.0,-999.0000, -999,9,   51,  26.0211,  22.6071,   -999.0,9
       SH99-06,  NONE,SH-5818,  1,      5, 1-133-2,2,19990725,2022, 33.0123, 135.7140, 2670,    101.2,  23.3738,  34.7801,2,   -999.0,9,  34.7735,2,   -999.0,9,  -999.00,9,  -999.00,9,  -999.00,9,  -999.00,9,  -999.00,9, -999.000,9, -999.000,9,  -999.00,9,   -999.0,9,   -999.0,9,-999.0000,9,   -999.0,  9,  -999.00,9,   -999.0,  -999.00,9,  -999.00,9,  -999.00,9,  -999.00,9,   -999.0,-999.0000, -999,9,  100,  23.3530,  23.6647,   -999.0,9
       SH99-06,  NONE,SH-5818,  1,      4, S-1-1-2,2,19990725,2018, 33.0123, 135.7140, 2670,    152.7,  20.5586,  34.7572,2,   -999.0,9,  34.7654,4,   -999.0,9,  -999.00,9,  -999.00,9,  -999.00,9,  -999.00,9,  -999.00,9, -999.000,9, -999.000,9,  -999.00,9,   -999.0,9,   -999.0,9,-999.0000,9,   -999.0,  9,  -999.00,9,   -999.0,  -999.00,9,  -999.00,9,  -999.00,9,  -999.00,9,   -999.0,-999.0000, -999,9,  152,  20.5298,  24.4359,   -999.0,9
       SH99-06,  NONE,SH-5818,  1,      3,1-133-84,2,19990725,2017, 33.0123, 135.7140, 2670,    204.0,  18.5228,  34.7285,2,   -999.0,9,  34.7286,2,   -999.0,9,  -999.00,9,  -999.00,9,  -999.00,9,  -999.00,9,  -999.00,9, -999.000,9, -999.000,9,  -999.00,9,   -999.0,9,   -999.0,9,-999.0000,9,   -999.0,  9,  -999.00,9,   -999.0,  -999.00,9,  -999.00,9,  -999.00,9,  -999.00,9,   -999.0,-999.0000, -999,9,  202,  18.4872,  24.9432,   -999.0,9
       SH99-06,  NONE,SH-5818,  1,      2, S-1-1-7,2,19990725,2016, 33.0123, 135.7140, 2670,    302.8,  15.4014,  34.6236,2,   -999.0,9,  34.6304,2,   -999.0,9,  -999.00,9,  -999.00,9,  -999.00,9,  -999.00,9,  -999.00,9, -999.000,9, -999.000,9,  -999.00,9,   -999.0,9,   -999.0,9,-999.0000,9,   -999.0,  9,  -999.00,9,   -999.0,  -999.00,9,  -999.00,9,  -999.00,9,  -999.00,9,   -999.0,-999.0000, -999,9,  300,  15.3547,  25.6034,   -999.0,9
       SH99-06,  NONE,SH-5818,  1,      1, 1-133-1,2,19990725,2014, 33.0123, 135.7140, 2670,    404.5,  12.3550,  34.4613,2,   -999.0,9,  34.4599,2,   -999.0,9,  -999.00,9,  -999.00,9,  -999.00,9,  -999.00,9,  -999.00,9, -999.000,9, -999.000,9,  -999.00,9,   -999.0,9,   -999.0,9,-999.0000,9,   -999.0,  9,  -999.00,9,   -999.0,  -999.00,9,  -999.00,9,  -999.00,9,  -999.00,9,   -999.0,-999.0000, -999,9,  401,  12.3010,  26.1130,   -999.0,9
       SH99-06,  NONE,SH-5818,  1,     12,S-1-1-10,2,19990725,2012, 33.0123, 135.7140, 2670,    505.8,   9.5031,  34.3328,2,   -999.0,9,  34.3347,2,   -999.0,9,  -999.00,9,  -999.00,9,  -999.00,9,  -999.00,9,  -999.00,9, -999.000,9, -999.000,9,  -999.00,9,   -999.0,9,   -999.0,9,-999.0000,9,   -999.0,  9,  -999.00,9,   -999.0,  -999.00,9,  -999.00,9,  -999.00,9,  -999.00,9,   -999.0,-999.0000, -999,9,  502,   9.4458,  26.5235,   -999.0,9
       SH99-06,  NONE,SH-5818,  1,     11, S-1-1-9,2,19990725,2010, 33.0123, 135.7140, 2670,    607.8,   6.8815,  34.2120,2,   -999.0,9,  34.2653,4,   -999.0,9,  -999.00,9,  -999.00,9,  -999.00,9,  -999.00,9,  -999.00,9, -999.000,9, -999.000,9,  -999.00,9,   -999.0,9,   -999.0,9,-999.0000,9,   -999.0,  9,  -999.00,9,   -999.0,  -999.00,9,  -999.00,9,  -999.00,9,  -999.00,9,   -999.0,-999.0000, -999,9,  603,   6.8242,  26.8221,   -999.0,9
       SH99-06,  NONE,SH-5818,  1,     10,1-133-94,2,19990725,2007, 33.0123, 135.7140, 2670,    807.1,   4.1777,  34.3579,2,   -999.0,9,  34.3589,2,   -999.0,9,  -999.00,9,  -999.00,9,  -999.00,9,  -999.00,9,  -999.00,9, -999.000,9, -999.000,9,  -999.00,9,   -999.0,9,   -999.0,9,-999.0000,9,   -999.0,  9,  -999.00,9,   -999.0,  -999.00,9,  -999.00,9,  -999.00,9,  -999.00,9,   -999.0,-999.0000, -999,9,  800,   4.1169,  27.2632,   -999.0,9
       SH99-06,  NONE,SH-5818,  1,      9, S-1-1-5,2,19990725,2005, 33.0123, 135.7140, 2670,   1008.2,   3.3923,  34.4384,2,   -999.0,9,  34.4400,2,   -999.0,9,  -999.00,9,  -999.00,9,  -999.00,9,  -999.00,9,  -999.00,9, -999.000,9, -999.000,9,  -999.00,9,   -999.0,9,   -999.0,9,-999.0000,9,   -999.0,  9,  -999.00,9,   -999.0,  -999.00,9,  -999.00,9,  -999.00,9,  -999.00,9,   -999.0,-999.0000, -999,9,  999,   3.3208,  27.4068,   -999.0,9
       SH99-06,  NONE,SH-5818,  1,      8,1-133-95,2,19990725,2003, 33.0123, 135.7140, 2670,   1226.9,   2.8100,  34.4890,2,   -999.0,9,  34.4868,2,   -999.0,9,  -999.00,9,  -999.00,9,  -999.00,9,  -999.00,9,  -999.00,9, -999.000,9, -999.000,9,  -999.00,9,   -999.0,9,   -999.0,9,-999.0000,9,   -999.0,  9,  -999.00,9,   -999.0,  -999.00,9,  -999.00,9,  -999.00,9,  -999.00,9,   -999.0,-999.0000, -999,9, 1215,   2.7263,  27.5017,   -999.0,9