BOTTLE,20130510GEMDJMAYT
EXPOCODE,SECT_ID,STNNBR,CASTNO,SAMPNO,BTLNBR,BTLNBR_FLAG_W,DATE,TIME,LATITUDE,LONGITUDE,DEPTH,CTDPRS,CTDTMP,CTDSAL,CTDSAL_FLAG_W,CTDOXY,CTDOXY_FLAG_W,SALNTY,SALNTY_FLAG_W,OXYGEN,OXYGEN_FLAG_W,SILCAT,SILCAT_FLAG_W,NITRAT,NITRAT_FLAG_W,NO2+NO3,NO2+NO3_FLAG_W,NITRIT,NITRIT_FLAG_W,PHSPHT,PHSPHT_FLAG_W,CFC-11,CFC-11_FLAG_W,CFC-12,CFC-12_FLAG_W,DELC13,DELC13_FLAG_W,TCARBN,TCARBN_FLAG_W,ALKALI,ALKALI_FLAG_W,PH,PH_FLAG_W,PH_TMP,PH_SCALE,PH_NBS,PH_NBS_FLAG_W,C13ERR,TOTALP,TOTALP_FLAG_W,AMMONI,AMMONI_FLAG_W,CHLORA,CHLORA_FLAG_W,PPHYTN,PPHYTN_FLAG_W,REVPRS,REVTMP,DEPTH_,DEPTH_FLAG,CTDDEP,THETA,SIGTHT,DOC,DOC_FLAG_W
,,,,,,,GMT,GMT,,,METER,DBAR,ITS-90,PSS-78,,UMOL/KG,,PSS-78,,UMOL/KG,,UMOL/KG,,UMOL/KG,,UMOL/KG,,UMOL/KG,,UMOL/KG,,PMOL/KG,,PMOL/KG,,/MILLE,,UMOL/KG,,UMOL/KG,,25_DEG_C,,DEG_C,,,,/MILLE,UMOL/KG,,UMOL/KG,,UG/L,,UG/L,,DBAR,ITS-90,METERS,,METERS,DEG_C,,UMOL/L,
       SH99-06,  NONE,SH-5798,  1,      7, S-1-1-4,2,19990723,0326, 31.7572, 133.5820, 4140,     51.2,  25.0822,  34.6687,2,   -999.0,9,  34.6662,2,   -999.0,9,  -999.00,9,  -999.00,9,  -999.00,9,  -999.00,9,  -999.00,9, -999.000,9, -999.000,9,  -999.00,9,   -999.0,9,   -999.0,9,-999.0000,9,   -999.0,  9,  -999.00,9,   -999.0,  -999.00,9,  -999.00,9,  -999.00,9,  -999.00,9,   -999.0,-999.0000, -999,9,   51,  25.0711,  23.0693,   -999.0,9
       SH99-06,  NONE,SH-5798,  1,      6,1-133-93,2,19990723,0325, 31.7572, 133.5820, 4140,    102.5,  22.4263,  34.7794,2,   -999.0,9,  34.7788,2,   -999.0,9,  -999.00,9,  -999.00,9,  -999.00,9,  -999.00,9,  -999.00,9, -999.000,9, -999.000,9,  -999.00,9,   -999.0,9,   -999.0,9,-999.0000,9,   -999.0,  9,  -999.00,9,   -999.0,  -999.00,9,  -999.00,9,  -999.00,9,  -999.00,9,   -999.0,-999.0000, -999,9,  102,  22.4058,  23.9360,   -999.0,9
       SH99-06,  NONE,SH-5798,  1,      5, 1-133-2,2,19990723,0323, 31.7572, 133.5820, 4140,    151.2,  20.3185,  34.8405,2,   -999.0,9,  34.8300,4,   -999.0,9,  -999.00,9,  -999.00,9,  -999.00,9,  -999.00,9,  -999.00,9, -999.000,9, -999.000,9,  -999.00,9,   -999.0,9,   -999.0,9,-999.0000,9,   -999.0,  9,  -999.00,9,   -999.0,  -999.00,9,  -999.00,9,  -999.00,9,  -999.00,9,   -999.0,-999.0000, -999,9,  150,  20.2903,  24.5632,   -999.0,9
       SH99-06,  NONE,SH-5798,  1,      4, S-1-1-2,2,19990723,0322, 31.7572, 133.5820, 4140,    202.4,  19.3262,  34.8346,2,   -999.0,9,  34.8312,2,   -999.0,9,  -999.00,9,  -999.00,9,  -999.00,9,  -999.00,9,  -999.00,9, -999.000,9, -999.000,9,  -999.00,9,   -999.0,9,   -999.0,9,-999.0000,9,   -999.0,  9,  -999.00,9,   -999.0,  -999.00,9,  -999.00,9,  -999.00,9,  -999.00,9,   -999.0,-999.0000, -999,9,  201,  19.2897,  24.8205,   -999.0,9
       SH99-06,  NONE,SH-5798,  1,      3,1-133-84,2,19990723,0320, 31.7572, 133.5820, 4140,    301.5,  17.6176,  34.7964,2,   -999.0,9,  34.7941,2,   -999.0,9,  -999.00,9,  -999.00,9,  -999.00,9,  -999.00,9,  -999.00,9, -999.000,9, -999.000,9,  -999.00,9,   -999.0,9,   -999.0,9,-999.0000,9,   -999.0,  9,  -999.00,9,   -999.0,  -999.00,9,  -999.00,9,  -999.00,9,  -999.00,9,   -999.0,-999.0000, -999,9,  299,  17.5665,  25.2221,   -999.0,9
       SH99-06,  NONE,SH-5798,  1,      2, S-1-1-7,2,19990723,0318, 31.7572, 133.5820, 4140,    402.0,  15.5604,  34.6879,2,   -999.0,9,  34.6780,4,   -999.0,9,  -999.00,9,  -999.00,9,  -999.00,9,  -999.00,9,  -999.00,9, -999.000,9, -999.000,9,  -999.00,9,   -999.0,9,   -999.0,9,-999.0000,9,   -999.0,  9,  -999.00,9,   -999.0,  -999.00,9,  -999.00,9,  -999.00,9,  -999.00,9,   -999.0,-999.0000, -999,9,  399,  15.4978,  25.6210,   -999.0,9
       SH99-06,  NONE,SH-5798,  1,      1, 1-133-1,2,19990723,0316, 31.7572, 133.5820, 4140,    502.9,  13.3347,  34.5035,2,   -999.0,9,  34.5004,2,   -999.0,9,  -999.00,9,  -999.00,9,  -999.00,9,  -999.00,9,  -999.00,9, -999.000,9, -999.000,9,  -999.00,9,   -999.0,9,   -999.0,9,-999.0000,9,   -999.0,  9,  -999.00,9,   -999.0,  -999.00,9,  -999.00,9,  -999.00,9,  -999.00,9,   -999.0,-999.0000, -999,9,  499,  13.2640,  25.9551,   -999.0,9
       SH99-06,  NONE,SH-5798,  1,     12,S-1-1-10,2,19990723,0314, 31.7572, 133.5820, 4140,    604.6,  10.3325,  34.3353,2,   -999.0,9,  34.3357,2,   -999.0,9,  -999.00,9,  -999.00,9,  -999.00,9,  -999.00,9,  -999.00,9, -999.000,9, -999.000,9,  -999.00,9,   -999.0,9,   -999.0,9,-999.0000,9,   -999.0,  9,  -999.00,9,   -999.0,  -999.00,9,  -999.00,9,  -999.00,9,  -999.00,9,   -999.0,-999.0000, -999,9,  599,  10.2600,  26.3884,   -999.0,9
       SH99-06,  NONE,SH-5798,  1,     11, S-1-1-9,2,19990723,0310, 31.7572, 133.5820, 4140,    807.2,   5.7825,  34.2489,2,   -999.0,9,  34.2487,2,   -999.0,9,  -999.00,9,  -999.00,9,  -999.00,9,  -999.00,9,  -999.00,9, -999.000,9, -999.000,9,  -999.00,9,   -999.0,9,   -999.0,9,-999.0000,9,   -999.0,  9,  -999.00,9,   -999.0,  -999.00,9,  -999.00,9,  -999.00,9,  -999.00,9,   -999.0,-999.0000, -999,9,  800,   5.7119,  26.9951,   -999.0,9
       SH99-06,  NONE,SH-5798,  1,     10,1-133-94,2,19990723,0307, 31.7572, 133.5820, 4140,   1009.7,   3.8731,  34.3755,2,   -999.0,9,  34.3765,2,   -999.0,9,  -999.00,9,  -999.00,9,  -999.00,9,  -999.00,9,  -999.00,9, -999.000,9, -999.000,9,  -999.00,9,   -999.0,9,   -999.0,9,-999.0000,9,   -999.0,  9,  -999.00,9,   -999.0,  -999.00,9,  -999.00,9,  -999.00,9,  -999.00,9,   -999.0,-999.0000, -999,9, 1000,   3.7979,  27.3100,   -999.0,9
       SH99-06,  NONE,SH-5798,  1,      9, S-1-1-5,2,19990723,0304, 31.7572, 133.5820, 4140,   1211.7,   3.1490,  34.4492,2,   -999.0,9,  34.4501,2,   -999.0,9,  -999.00,9,  -999.00,9,  -999.00,9,  -999.00,9,  -999.00,9, -999.000,9, -999.000,9,  -999.00,9,   -999.0,9,   -999.0,9,-999.0000,9,   -999.0,  9,  -999.00,9,   -999.0,  -999.00,9,  -999.00,9,  -999.00,9,  -999.00,9,   -999.0,-999.0000, -999,9, 1200,   3.0634,  27.4396,   -999.0,9
       SH99-06,  NONE,SH-5802,  1,      6,1-133-93,2,19990723,1252, 30.7533, 134.1125, 4440,     51.4,  22.1841,  34.6785,2,   -999.0,9,  34.6727,2,   -999.0,9,  -999.00,9,  -999.00,9,  -999.00,9,  -999.00,9,  -999.00,9, -999.000,9, -999.000,9,  -999.00,9,   -999.0,9,   -999.0,9,-999.0000,9,   -999.0,  9,  -999.00,9,   -999.0,  -999.00,9,  -999.00,9,  -999.00,9,  -999.00,9,   -999.0,-999.0000, -999,9,   51,  22.1739,  23.9248,   -999.0,9
       SH99-06,  NONE,SH-5802,  1,      5, 1-133-2,2,19990723,1250, 30.7533, 134.1125, 4440,    100.3,  19.5034,  34.8098,2,   -999.0,9,  34.8095,2,   -999.0,9,  -999.00,9,  -999.00,9,  -999.00,9,  -999.00,9,  -999.00,9, -999.000,9, -999.000,9,  -999.00,9,   -999.0,9,   -999.0,9,-999.0000,9,   -999.0,  9,  -999.00,9,   -999.0,  -999.00,9,  -999.00,9,  -999.00,9,  -999.00,9,   -999.0,-999.0000, -999,9,  100,  19.4852,  24.7511,   -999.0,9
       SH99-06,  NONE,SH-5802,  1,      4, S-1-1-2,2,19990723,1249, 30.7533, 134.1125, 4440,    152.1,  19.0301,  34.8109,2,   -999.0,9,  34.8113,2,   -999.0,9,  -999.00,9,  -999.00,9,  -999.00,9,  -999.00,9,  -999.00,9, -999.000,9, -999.000,9,  -999.00,9,   -999.0,9,   -999.0,9,-999.0000,9,   -999.0,  9,  -999.00,9,   -999.0,  -999.00,9,  -999.00,9,  -999.00,9,  -999.00,9,   -999.0,-999.0000, -999,9,  151,  19.0030,  24.8759,   -999.0,9
       SH99-06,  NONE,SH-5802,  1,      3,1-133-84,2,19990723,1247, 30.7533, 134.1125, 4440,    200.6,  17.8314,  34.7975,2,   -999.0,9,  34.7971,2,   -999.0,9,  -999.00,9,  -999.00,9,  -999.00,9,  -999.00,9,  -999.00,9, -999.000,9, -999.000,9,  -999.00,9,   -999.0,9,   -999.0,9,-999.0000,9,   -999.0,  9,  -999.00,9,   -999.0,  -999.00,9,  -999.00,9,  -999.00,9,  -999.00,9,   -999.0,-999.0000, -999,9,  199,  17.7972,  25.1667,   -999.0,9
       SH99-06,  NONE,SH-5802,  1,      2, S-1-1-7,2,19990723,1246, 30.7533, 134.1125, 4440,    300.8,  15.8967,  34.6970,2,   -999.0,9,  34.6975,2,   -999.0,9,  -999.00,9,  -999.00,9,  -999.00,9,  -999.00,9,  -999.00,9, -999.000,9, -999.000,9,  -999.00,9,   -999.0,9,   -999.0,9,-999.0000,9,   -999.0,  9,  -999.00,9,   -999.0,  -999.00,9,  -999.00,9,  -999.00,9,  -999.00,9,   -999.0,-999.0000, -999,9,  298,  15.8493,  25.5488,   -999.0,9
       SH99-06,  NONE,SH-5802,  1,      1, 1-133-1,2,19990723,1244, 30.7533, 134.1125, 4440,    400.8,  13.9099,  34.5531,2,   -999.0,9,  34.5551,2,   -999.0,9,  -999.00,9,  -999.00,9,  -999.00,9,  -999.00,9,  -999.00,9, -999.000,9, -999.000,9,  -999.00,9,   -999.0,9,   -999.0,9,-999.0000,9,   -999.0,  9,  -999.00,9,   -999.0,  -999.00,9,  -999.00,9,  -999.00,9,  -999.00,9,   -999.0,-999.0000, -999,9,  398,  13.8521,  25.8726,   -999.0,9
       SH99-06,  NONE,SH-5802,  1,     12,S-1-1-10,2,19990723,1242, 30.7533, 134.1125, 4440,    502.1,  10.9021,  34.3513,2,   -999.0,9,  34.3508,2,   -999.0,9,  -999.00,9,  -999.00,9,  -999.00,9,  -999.00,9,  -999.00,9, -999.000,9, -999.000,9,  -999.00,9,   -999.0,9,   -999.0,9,-999.0000,9,   -999.0,  9,  -999.00,9,   -999.0,  -999.00,9,  -999.00,9,  -999.00,9,  -999.00,9,   -999.0,-999.0000, -999,9,  498,  10.8401,  26.2990,   -999.0,9
       SH99-06,  NONE,SH-5802,  1,     11, S-1-1-9,2,19990723,1240, 30.7533, 134.1125, 4440,    602.3,   9.0186,  34.2490,2,   -999.0,9,  34.2530,2,   -999.0,9,  -999.00,9,  -999.00,9,  -999.00,9,  -999.00,9,  -999.00,9, -999.000,9, -999.000,9,  -999.00,9,   -999.0,9,   -999.0,9,-999.0000,9,   -999.0,  9,  -999.00,9,   -999.0,  -999.00,9,  -999.00,9,  -999.00,9,  -999.00,9,   -999.0,-999.0000, -999,9,  597,   8.9522,  26.5376,   -999.0,9
       SH99-06,  NONE,SH-5802,  1,     10,1-133-94,2,19990723,1237, 30.7533, 134.1125, 4440,    805.4,   5.8418,  34.2469,2,   -999.0,9,  34.2485,2,   -999.0,9,  -999.00,9,  -999.00,9,  -999.00,9,  -999.00,9,  -999.00,9, -999.000,9, -999.000,9,  -999.00,9,   -999.0,9,   -999.0,9,-999.0000,9,   -999.0,  9,  -999.00,9,   -999.0,  -999.00,9,  -999.00,9,  -999.00,9,  -999.00,9,   -999.0,-999.0000, -999,9,  798,   5.7710,  26.9862,   -999.0,9
       SH99-06,  NONE,SH-5802,  1,      9, S-1-1-5,2,19990723,1234, 30.7533, 134.1125, 4440,   1008.9,   3.9626,  34.3572,2,   -999.0,9,  34.3600,2,   -999.0,9,  -999.00,9,  -999.00,9,  -999.00,9,  -999.00,9,  -999.00,9, -999.000,9, -999.000,9,  -999.00,9,   -999.0,9,   -999.0,9,-999.0000,9,   -999.0,  9,  -999.00,9,   -999.0,  -999.00,9,  -999.00,9,  -999.00,9,  -999.00,9,   -999.0,-999.0000, -999,9, 1000,   3.8867,  27.2864,   -999.0,9
       SH99-06,  NONE,SH-5802,  1,      8,1-133-95,2,19990723,1231, 30.7533, 134.1125, 4440,   1212.4,   3.1827,  34.4369,2,   -999.0,9,  34.4377,2,   -999.0,9,  -999.00,9,  -999.00,9,  -999.00,9,  -999.00,9,  -999.00,9, -999.000,9, -999.000,9,  -999.00,9,   -999.0,9,   -999.0,9,-999.0000,9,   -999.0,  9,  -999.00,9,   -999.0,  -999.00,9,  -999.00,9,  -999.00,9,  -999.00,9,   -999.0,-999.0000, -999,9, 1201,   3.0968,  27.4267,   -999.0,9
       SH99-06,  NONE,SH-5806,  1,      5, 1-133-2,2,19990723,2208, 29.7482, 134.6372, 4710,     52.4,  22.5098,  34.7890,2,   -999.0,9,  34.7583,4,   -999.0,9,  -999.00,9,  -999.00,9,  -999.00,9,  -999.00,9,  -999.00,9, -999.000,9, -999.000,9,  -999.00,9,   -999.0,9,   -999.0,9,-999.0000,9,   -999.0,  9,  -999.00,9,   -999.0,  -999.00,9,  -999.00,9,  -999.00,9,  -999.00,9,   -999.0,-999.0000, -999,9,   52,  22.4993,  23.9167,   -999.0,9
       SH99-06,  NONE,SH-5806,  1,      4, S-1-1-2,2,19990723,2207, 29.7482, 134.6372, 4710,    102.9,  20.2913,  34.8273,2,   -999.0,9,  34.8282,2,   -999.0,9,  -999.00,9,  -999.00,9,  -999.00,9,  -999.00,9,  -999.00,9, -999.000,9, -999.000,9,  -999.00,9,   -999.0,9,   -999.0,9,-999.0000,9,   -999.0,  9,  -999.00,9,   -999.0,  -999.00,9,  -999.00,9,  -999.00,9,  -999.00,9,   -999.0,-999.0000, -999,9,  102,  20.2722,  24.5580,   -999.0,9
       SH99-06,  NONE,SH-5806,  1,      3,1-133-84,2,19990723,2206, 29.7482, 134.6372, 4710,    152.4,  19.4229,  34.8168,2,   -999.0,9,  34.8140,2,   -999.0,9,  -999.00,9,  -999.00,9,  -999.00,9,  -999.00,9,  -999.00,9, -999.000,9, -999.000,9,  -999.00,9,   -999.0,9,   -999.0,9,-999.0000,9,   -999.0,  9,  -999.00,9,   -999.0,  -999.00,9,  -999.00,9,  -999.00,9,  -999.00,9,   -999.0,-999.0000, -999,9,  151,  19.3953,  24.7797,   -999.0,9
       SH99-06,  NONE,SH-5806,  1,      2, S-1-1-7,2,19990723,2205, 29.7482, 134.6372, 4710,    202.2,  18.8430,  34.8233,2,   -999.0,9,  34.8209,2,   -999.0,9,  -999.00,9,  -999.00,9,  -999.00,9,  -999.00,9,  -999.00,9, -999.000,9, -999.000,9,  -999.00,9,   -999.0,9,   -999.0,9,-999.0000,9,   -999.0,  9,  -999.00,9,   -999.0,  -999.00,9,  -999.00,9,  -999.00,9,  -999.00,9,   -999.0,-999.0000, -999,9,  201,  18.8071,  24.9351,   -999.0,9
       SH99-06,  NONE,SH-5806,  1,      1, 1-133-1,2,19990723,2204, 29.7482, 134.6372, 4710,    303.9,  17.3607,  34.7951,2,   -999.0,9,  34.7955,2,   -999.0,9,  -999.00,9,  -999.00,9,  -999.00,9,  -999.00,9,  -999.00,9, -999.000,9, -999.000,9,  -999.00,9,   -999.0,9,   -999.0,9,-999.0000,9,   -999.0,  9,  -999.00,9,   -999.0,  -999.00,9,  -999.00,9,  -999.00,9,  -999.00,9,   -999.0,-999.0000, -999,9,  302,  17.3098,  25.2830,   -999.0,9
       SH99-06,  NONE,SH-5806,  1,     12,S-1-1-10,2,19990723,2203, 29.7482, 134.6372, 4710,    404.8,  15.2948,  34.6596,2,   -999.0,9,  34.6536,2,   -999.0,9,  -999.00,9,  -999.00,9,  -999.00,9,  -999.00,9,  -999.00,9, -999.000,9, -999.000,9,  -999.00,9,   -999.0,9,   -999.0,9,-999.0000,9,   -999.0,  9,  -999.00,9,   -999.0,  -999.00,9,  -999.00,9,  -999.00,9,  -999.00,9,   -999.0,-999.0000, -999,9,  402,  15.2325,  25.6582,   -999.0,9
       SH99-06,  NONE,SH-5806,  1,     11, S-1-1-9,2,19990723,2201, 29.7482, 134.6372, 4710,    504.6,  12.8675,  34.4829,2,   -999.0,9,  34.4784,2,   -999.0,9,  -999.00,9,  -999.00,9,  -999.00,9,  -999.00,9,  -999.00,9, -999.000,9, -999.000,9,  -999.00,9,   -999.0,9,   -999.0,9,-999.0000,9,   -999.0,  9,  -999.00,9,   -999.0,  -999.00,9,  -999.00,9,  -999.00,9,  -999.00,9,   -999.0,-999.0000, -999,9,  501,  12.7981,  26.0324,   -999.0,9
       SH99-06,  NONE,SH-5806,  1,     10,1-133-94,2,19990723,2200, 29.7482, 134.6372, 4710,    605.2,  10.0514,  34.2991,2,   -999.0,9,  34.3023,2,   -999.0,9,  -999.00,9,  -999.00,9,  -999.00,9,  -999.00,9,  -999.00,9, -999.000,9, -999.000,9,  -999.00,9,   -999.0,9,   -999.0,9,-999.0000,9,   -999.0,  9,  -999.00,9,   -999.0,  -999.00,9,  -999.00,9,  -999.00,9,  -999.00,9,   -999.0,-999.0000, -999,9,  600,   9.9801,  26.4080,   -999.0,9
       SH99-06,  NONE,SH-5806,  1,      9, S-1-1-5,2,19990723,2158, 29.7482, 134.6372, 4710,    808.1,   6.0675,  34.2194,2,   -999.0,9,  34.2255,2,   -999.0,9,  -999.00,9,  -999.00,9,  -999.00,9,  -999.00,9,  -999.00,9, -999.000,9, -999.000,9,  -999.00,9,   -999.0,9,   -999.0,9,-999.0000,9,   -999.0,  9,  -999.00,9,   -999.0,  -999.00,9,  -999.00,9,  -999.00,9,  -999.00,9,   -999.0,-999.0000, -999,9,  801,   5.9952,  26.9364,   -999.0,9
       SH99-06,  NONE,SH-5806,  1,      8,1-133-95,2,19990723,2155, 29.7482, 134.6372, 4710,   1011.2,   4.2328,  34.3389,2,   -999.0,9,  34.3398,2,   -999.0,9,  -999.00,9,  -999.00,9,  -999.00,9,  -999.00,9,  -999.00,9, -999.000,9, -999.000,9,  -999.00,9,   -999.0,9,   -999.0,9,-999.0000,9,   -999.0,  9,  -999.00,9,   -999.0,  -999.00,9,  -999.00,9,  -999.00,9,  -999.00,9,   -999.0,-999.0000, -999,9, 1002,   4.1547,  27.2442,   -999.0,9
       SH99-06,  NONE,SH-5806,  1,      7, S-1-1-4,2,19990723,2153, 29.7482, 134.6372, 4710,   1225.4,   3.3188,  34.4268,2,   -999.0,9,  34.4282,2,   -999.0,9,  -999.00,9,  -999.00,9,  -999.00,9,  -999.00,9,  -999.00,9, -999.000,9, -999.000,9,  -999.00,9,   -999.0,9,   -999.0,9,-999.0000,9,   -999.0,  9,  -999.00,9,   -999.0,  -999.00,9,  -999.00,9,  -999.00,9,  -999.00,9,   -999.0,-999.0000, -999,9, 1213,   3.2305,  27.4061,   -999.0,9