BOTTLE,20130510GEMDJMAYT
EXPOCODE,SECT_ID,STNNBR,CASTNO,SAMPNO,BTLNBR,BTLNBR_FLAG_W,DATE,TIME,LATITUDE,LONGITUDE,DEPTH,CTDPRS,CTDTMP,CTDSAL,CTDSAL_FLAG_W,CTDOXY,CTDOXY_FLAG_W,SALNTY,SALNTY_FLAG_W,OXYGEN,OXYGEN_FLAG_W,SILCAT,SILCAT_FLAG_W,NITRAT,NITRAT_FLAG_W,NO2+NO3,NO2+NO3_FLAG_W,NITRIT,NITRIT_FLAG_W,PHSPHT,PHSPHT_FLAG_W,CFC-11,CFC-11_FLAG_W,CFC-12,CFC-12_FLAG_W,DELC13,DELC13_FLAG_W,TCARBN,TCARBN_FLAG_W,ALKALI,ALKALI_FLAG_W,PH,PH_FLAG_W,PH_TMP,PH_SCALE,PH_NBS,PH_NBS_FLAG_W,C13ERR,TOTALP,TOTALP_FLAG_W,AMMONI,AMMONI_FLAG_W,CHLORA,CHLORA_FLAG_W,PPHYTN,PPHYTN_FLAG_W,REVPRS,REVTMP,DEPTH_,DEPTH_FLAG,CTDDEP,THETA,SIGTHT,DOC,DOC_FLAG_W
,,,,,,,GMT,GMT,,,METER,DBAR,ITS-90,PSS-78,,UMOL/KG,,PSS-78,,UMOL/KG,,UMOL/KG,,UMOL/KG,,UMOL/KG,,UMOL/KG,,UMOL/KG,,PMOL/KG,,PMOL/KG,,/MILLE,,UMOL/KG,,UMOL/KG,,25_DEG_C,,DEG_C,,,,/MILLE,UMOL/KG,,UMOL/KG,,UG/L,,UG/L,,DBAR,ITS-90,METERS,,METERS,DEG_C,,UMOL/L,
       SH99-06,  NONE,SH-5780,  2,     -9,      -9,5,19990710,1336, 31.5125, 135.2380, 3360,      0.0,  26.1058,  34.1618,2,   -999.0,9,-999.0000,9,    210.3,2,  -999.00,9,  -999.00,9,     0.10,2,     0.00,2,     0.00,2, -999.000,9, -999.000,9,  -999.00,9,   -999.0,9,   -999.0,9,-999.0000,9,   -999.0,  9,  -999.00,9,   -999.0,  -999.00,9,  -999.00,9,     0.04,2,     0.02,2,   -999.0,-999.0000, -999,9,    0,  26.1058,  22.3682,   -999.0,9
       SH99-06,  NONE,SH-5780,  2,      9, S-1-1-5,2,19990710,1335, 31.5125, 135.2380, 3360,     12.4,  25.6947,  34.2023,2,   -999.0,9,  34.1905,4,    211.6,2,  -999.00,9,  -999.00,9,     0.00,2,     0.00,2,     0.00,2, -999.000,9, -999.000,9,  -999.00,9,   -999.0,9,   -999.0,9,-999.0000,9,   -999.0,  9,  -999.00,9,   -999.0,  -999.00,9,  -999.00,9,     0.05,2,     0.02,2,   -999.0,-999.0000, -999,9,   12,  25.6920,  22.5270,   -999.0,9
       SH99-06,  NONE,SH-5780,  2,      8,1-133-95,2,19990710,1334, 31.5125, 135.2380, 3360,     26.6,  23.0804,  34.6643,2,   -999.0,9,  34.6479,4,    229.2,2,  -999.00,9,  -999.00,9,     0.00,2,     0.00,2,     0.00,2, -999.000,9, -999.000,9,  -999.00,9,   -999.0,9,   -999.0,9,-999.0000,9,   -999.0,  9,  -999.00,9,   -999.0,  -999.00,9,  -999.00,9,     0.05,2,     0.03,2,   -999.0,-999.0000, -999,9,   26,  23.0750,  23.6574,   -999.0,9
       SH99-06,  NONE,SH-5780,  2,      7, S-1-1-4,2,19990710,1333, 31.5125, 135.2380, 3360,     52.8,  20.8805,  34.7932,2,   -999.0,9,  34.8020,4,    232.4,2,  -999.00,9,  -999.00,9,     0.00,2,     0.00,2,     0.00,2, -999.000,9, -999.000,9,  -999.00,9,   -999.0,9,   -999.0,9,-999.0000,9,   -999.0,  9,  -999.00,9,   -999.0,  -999.00,9,  -999.00,9,     0.09,2,     0.08,2,   -999.0,-999.0000, -999,9,   52,  20.8705,  24.3716,   -999.0,9
       SH99-06,  NONE,SH-5780,  2,      6,1-133-93,2,19990710,1332, 31.5125, 135.2380, 3360,     77.1,  20.1423,  34.8133,2,   -999.0,9,  34.8103,2,    230.3,2,  -999.00,9,  -999.00,9,     0.00,2,     0.00,2,     0.02,2, -999.000,9, -999.000,9,  -999.00,9,   -999.0,9,   -999.0,9,-999.0000,9,   -999.0,  9,  -999.00,9,   -999.0,  -999.00,9,  -999.00,9,     0.15,2,     0.16,2,   -999.0,-999.0000, -999,9,   77,  20.1280,  24.5855,   -999.0,9
       SH99-06,  NONE,SH-5780,  2,      5, 1-133-2,2,19990710,1331, 31.5125, 135.2380, 3360,    101.7,  19.6657,  34.8230,2,   -999.0,9,  34.8260,2,    213.7,2,  -999.00,9,  -999.00,9,     1.56,2,     0.05,2,     0.13,2, -999.000,9, -999.000,9,  -999.00,9,   -999.0,9,   -999.0,9,-999.0000,9,   -999.0,  9,  -999.00,9,   -999.0,  -999.00,9,  -999.00,9,     0.14,2,     0.49,2,   -999.0,-999.0000, -999,9,  101,  19.6471,  24.7192,   -999.0,9
       SH99-06,  NONE,SH-5780,  2,      4, S-1-1-2,2,19990710,1330, 31.5125, 135.2380, 3360,    127.9,  19.3937,  34.8045,2,   -999.0,9,  34.8132,4,    217.6,2,  -999.00,9,  -999.00,9,     1.37,2,     0.05,2,     0.12,2, -999.000,9, -999.000,9,  -999.00,9,   -999.0,9,   -999.0,9,-999.0000,9,   -999.0,  9,  -999.00,9,   -999.0,  -999.00,9,  -999.00,9,     0.08,2,     0.28,2,   -999.0,-999.0000, -999,9,  127,  19.3707,  24.7767,   -999.0,9
       SH99-06,  NONE,SH-5780,  2,      3,1-133-84,2,19990710,1330, 31.5125, 135.2380, 3360,    153.0,  19.2420,  34.8092,2,   -999.0,9,  34.8103,2,    218.5,2,  -999.00,9,  -999.00,9,     1.56,2,     0.02,2,     0.12,2, -999.000,9, -999.000,9,  -999.00,9,   -999.0,9,   -999.0,9,-999.0000,9,   -999.0,  9,  -999.00,9,   -999.0,  -999.00,9,  -999.00,9,     0.04,2,     0.06,2,   -999.0,-999.0000, -999,9,  152,  19.2145,  24.8205,   -999.0,9
       SH99-06,  NONE,SH-5780,  2,      2, S-1-1-7,2,19990710,1328, 31.5125, 135.2380, 3360,    203.6,  18.8700,  34.8177,2,   -999.0,9,  34.8213,2,    205.3,2,  -999.00,9,  -999.00,9,     3.12,2,     0.00,2,     0.22,2, -999.000,9, -999.000,9,  -999.00,9,   -999.0,9,   -999.0,9,-999.0000,9,   -999.0,  9,  -999.00,9,   -999.0,  -999.00,9,  -999.00,9,     0.00,2,     0.01,2,   -999.0,-999.0000, -999,9,  202,  18.8339,  24.9240,   -999.0,9
       SH99-06,  NONE,SH-5780,  2,      1, 1-133-1,2,19990710,1327, 31.5125, 135.2380, 3360,    254.7,  18.1424,  34.8109,2,   -999.0,9,  34.8131,2,    198.4,2,  -999.00,9,  -999.00,9,     4.78,2,     0.00,2,     0.32,2, -999.000,9, -999.000,9,  -999.00,9,   -999.0,9,   -999.0,9,-999.0000,9,   -999.0,  9,  -999.00,9,   -999.0,  -999.00,9,  -999.00,9,     0.00,2,     0.01,2,   -999.0,-999.0000, -999,9,  253,  18.0984,  25.1029,   -999.0,9
       SH99-06,  NONE,SH-5780,  2,     12, 1-133-7,2,19990710,1326, 31.5125, 135.2380, 3360,    304.8,  17.2538,  34.7889,2,   -999.0,9,  34.7890,2,    194.2,2,  -999.00,9,  -999.00,9,     6.34,2,     0.00,2,     0.42,2, -999.000,9, -999.000,9,  -999.00,9,   -999.0,9,   -999.0,9,-999.0000,9,   -999.0,  9,  -999.00,9,   -999.0,  -999.00,9,  -999.00,9,     0.00,2,     0.01,2,   -999.0,-999.0000, -999,9,  302,  17.2029,  25.3039,   -999.0,9
       SH99-06,  NONE,SH-5780,  1,     11, S-1-1-9,2,19990710,1252, 31.5057, 135.2467, 3360,    403.4,  15.3165,  34.6593,2,   -999.0,9,  34.6575,2,    187.4,2,  -999.00,9,  -999.00,9,     9.94,2,     0.00,2,     0.67,2, -999.000,9, -999.000,9,  -999.00,9,   -999.0,9,   -999.0,9,-999.0000,9,   -999.0,  9,  -999.00,9,   -999.0,  -999.00,9,  -999.00,9,  -999.00,9,  -999.00,9,   -999.0,-999.0000, -999,9,  400,  15.2543,  25.6532,   -999.0,9
       SH99-06,  NONE,SH-5780,  1,     10,1-133-94,2,19990710,1250, 31.5057, 135.2467, 3360,    501.2,  13.0057,  34.4902,2,   -999.0,9,  34.4943,2,    176.2,2,  -999.00,9,  -999.00,9,    14.72,2,     0.00,2,     1.01,2, -999.000,9, -999.000,9,  -999.00,9,   -999.0,9,   -999.0,9,-999.0000,9,   -999.0,  9,  -999.00,9,   -999.0,  -999.00,9,  -999.00,9,  -999.00,9,  -999.00,9,   -999.0,-999.0000, -999,9,  497,  12.9363,  26.0107,   -999.0,9
       SH99-06,  NONE,SH-5780,  1,      9, S-1-1-5,2,19990710,1248, 31.5057, 135.2467, 3360,    604.6,  10.3444,  34.3330,2,   -999.0,9,  34.3249,2,    159.1,2,  -999.00,9,  -999.00,9,    20.85,2,     0.00,2,     1.47,2, -999.000,9, -999.000,9,  -999.00,9,   -999.0,9,   -999.0,9,-999.0000,9,   -999.0,  9,  -999.00,9,   -999.0,  -999.00,9,  -999.00,9,  -999.00,9,  -999.00,9,   -999.0,-999.0000, -999,9,  600,  10.2719,  26.3845,   -999.0,9
       SH99-06,  NONE,SH-5780,  1,      8,1-133-95,2,19990710,1247, 31.5057, 135.2467, 3360,    706.2,   8.0845,  34.2321,2,   -999.0,9,  34.2253,2,    135.0,2,  -999.00,9,  -999.00,9,    26.79,2,     0.00,2,     1.90,2, -999.000,9, -999.000,9,  -999.00,9,   -999.0,9,   -999.0,9,-999.0000,9,   -999.0,  9,  -999.00,9,   -999.0,  -999.00,9,  -999.00,9,  -999.00,9,  -999.00,9,   -999.0,-999.0000, -999,9,  700,   8.0110,  26.6691,   -999.0,9
       SH99-06,  NONE,SH-5780,  1,      7, S-1-1-4,2,19990710,1245, 31.5057, 135.2467, 3360,    807.8,   6.4010,  34.2272,2,   -999.0,9,  34.2274,2,    105.8,2,  -999.00,9,  -999.00,9,    32.33,2,     0.00,2,     2.30,2, -999.000,9, -999.000,9,  -999.00,9,   -999.0,9,   -999.0,9,-999.0000,9,   -999.0,  9,  -999.00,9,   -999.0,  -999.00,9,  -999.00,9,  -999.00,9,  -999.00,9,   -999.0,-999.0000, -999,9,  801,   6.3266,  26.9001,   -999.0,9
       SH99-06,  NONE,SH-5780,  1,      6,1-133-93,2,19990710,1243, 31.5057, 135.2467, 3360,    908.8,   5.1962,  34.2703,2,   -999.0,9,  34.2728,2,     84.1,2,  -999.00,9,  -999.00,9,    36.12,2,     0.00,2,     2.58,2, -999.000,9, -999.000,9,  -999.00,9,   -999.0,9,   -999.0,9,-999.0000,9,   -999.0,  9,  -999.00,9,   -999.0,  -999.00,9,  -999.00,9,  -999.00,9,  -999.00,9,   -999.0,-999.0000, -999,9,  901,   5.1201,  27.0829,   -999.0,9
       SH99-06,  NONE,SH-5780,  1,      5, 1-133-2,2,19990710,1242, 31.5057, 135.2467, 3360,   1009.6,   4.2802,  34.3362,2,   -999.0,9,  34.3408,2,     69.8,2,  -999.00,9,  -999.00,9,    38.65,2,     0.00,2,     2.75,2, -999.000,9, -999.000,9,  -999.00,9,   -999.0,9,   -999.0,9,-999.0000,9,   -999.0,  9,  -999.00,9,   -999.0,  -999.00,9,  -999.00,9,  -999.00,9,  -999.00,9,   -999.0,-999.0000, -999,9, 1000,   4.2019,  27.2370,   -999.0,9
       SH99-06,  NONE,SH-5780,  1,      4, S-1-1-2,2,19990710,1239, 31.5057, 135.2467, 3360,   1224.2,   3.3450,  34.4159,2,   -999.0,9,  34.4194,2,     64.1,2,  -999.00,9,  -999.00,9,    40.39,2,     0.01,2,     2.87,2, -999.000,9, -999.000,9,  -999.00,9,   -999.0,9,   -999.0,9,-999.0000,9,   -999.0,  9,  -999.00,9,   -999.0,  -999.00,9,  -999.00,9,  -999.00,9,  -999.00,9,   -999.0,-999.0000, -999,9, 1212,   3.2567,  27.3950,   -999.0,9
       SH99-06,  NONE,SH-5781,  2,     -9,      -9,5,19990710,1954, 31.0255, 135.2205, 4270,      0.0,  26.3893,  34.2644,2,   -999.0,9,-999.0000,9,    209.4,2,  -999.00,9,  -999.00,9,     0.00,2,     0.00,2,     0.00,2, -999.000,9, -999.000,9,  -999.00,9,   -999.0,9,   -999.0,9,-999.0000,9,   -999.0,  9,  -999.00,9,   -999.0,  -999.00,9,  -999.00,9,     0.06,2,     0.02,2,   -999.0,-999.0000, -999,9,    0,  26.3893,  22.3569,   -999.0,9
       SH99-06,  NONE,SH-5781,  2,     12, 1-133-7,2,19990710,1953, 31.0255, 135.2205, 4270,     11.1,  26.1304,  34.2684,2,   -999.0,9,-999.0000,9,    208.8,2,  -999.00,9,  -999.00,9,     0.00,2,     0.00,2,     0.00,2, -999.000,9, -999.000,9,  -999.00,9,   -999.0,9,   -999.0,9,-999.0000,9,   -999.0,  9,  -999.00,9,   -999.0,  -999.00,9,  -999.00,9,     0.05,2,     0.02,2,   -999.0,-999.0000, -999,9,   11,  26.1280,  22.4416,   -999.0,9
       SH99-06,  NONE,SH-5781,  2,     11, S-1-1-9,2,19990710,1953, 31.0255, 135.2205, 4270,     25.7,  23.3169,  34.6703,2,   -999.0,9,-999.0000,9,    225.4,2,  -999.00,9,  -999.00,9,     0.00,2,     0.00,2,     0.00,2, -999.000,9, -999.000,9,  -999.00,9,   -999.0,9,   -999.0,9,-999.0000,9,   -999.0,  9,  -999.00,9,   -999.0,  -999.00,9,  -999.00,9,     0.05,2,     0.02,2,   -999.0,-999.0000, -999,9,   26,  23.3116,  23.5935,   -999.0,9
       SH99-06,  NONE,SH-5781,  2,     10,1-133-94,2,19990710,1952, 31.0255, 135.2205, 4270,     51.5,  21.5703,  34.8163,2,   -999.0,9,-999.0000,9,    231.0,2,  -999.00,9,  -999.00,9,     0.00,2,     0.00,2,     0.00,2, -999.000,9, -999.000,9,  -999.00,9,   -999.0,9,   -999.0,9,-999.0000,9,   -999.0,  9,  -999.00,9,   -999.0,  -999.00,9,  -999.00,9,     0.07,2,     0.04,2,   -999.0,-999.0000, -999,9,   51,  21.5603,  24.2006,   -999.0,9
       SH99-06,  NONE,SH-5781,  2,      9, S-1-1-5,2,19990710,1951, 31.0255, 135.2205, 4270,     77.5,  20.3453,  34.7951,2,   -999.0,9,-999.0000,9,    228.0,2,  -999.00,9,  -999.00,9,     0.00,2,     0.00,2,     0.01,2, -999.000,9, -999.000,9,  -999.00,9,   -999.0,9,   -999.0,9,-999.0000,9,   -999.0,  9,  -999.00,9,   -999.0,  -999.00,9,  -999.00,9,     0.12,2,     0.14,2,   -999.0,-999.0000, -999,9,   77,  20.3308,  24.5179,   -999.0,9
       SH99-06,  NONE,SH-5781,  2,      8,1-133-95,2,19990710,1951, 31.0255, 135.2205, 4270,    102.6,  19.8493,  34.8150,2,   -999.0,9,-999.0000,9,    221.3,2,  -999.00,9,  -999.00,9,     0.39,2,     0.09,2,     0.05,2, -999.000,9, -999.000,9,  -999.00,9,   -999.0,9,   -999.0,9,-999.0000,9,   -999.0,  9,  -999.00,9,   -999.0,  -999.00,9,  -999.00,9,     0.21,2,     0.54,2,   -999.0,-999.0000, -999,9,  102,  19.8305,  24.6651,   -999.0,9
       SH99-06,  NONE,SH-5781,  2,      7, S-1-1-4,2,19990710,1950, 31.0255, 135.2205, 4270,    127.1,  19.4553,  34.8086,2,   -999.0,9,-999.0000,9,    215.7,2,  -999.00,9,  -999.00,9,     1.46,2,     0.06,2,     0.11,2, -999.000,9, -999.000,9,  -999.00,9,   -999.0,9,   -999.0,9,-999.0000,9,   -999.0,  9,  -999.00,9,   -999.0,  -999.00,9,  -999.00,9,     0.09,2,     0.31,2,   -999.0,-999.0000, -999,9,  126,  19.4323,  24.7639,   -999.0,9
       SH99-06,  NONE,SH-5781,  2,      6,1-133-93,2,19990710,1949, 31.0255, 135.2205, 4270,    152.5,  19.2656,  34.8109,2,   -999.0,9,-999.0000,9,    217.5,2,  -999.00,9,  -999.00,9,     1.56,2,     0.02,2,     0.12,2, -999.000,9, -999.000,9,  -999.00,9,   -999.0,9,   -999.0,9,-999.0000,9,   -999.0,  9,  -999.00,9,   -999.0,  -999.00,9,  -999.00,9,     0.03,2,     0.05,2,   -999.0,-999.0000, -999,9,  151,  19.2382,  24.8157,   -999.0,9
       SH99-06,  NONE,SH-5781,  2,      5, 1-133-2,2,19990710,1948, 31.0255, 135.2205, 4270,    203.2,  18.9007,  34.8238,2,   -999.0,9,-999.0000,9,    205.8,2,  -999.00,9,  -999.00,9,     3.02,2,     0.01,2,     0.20,2, -999.000,9, -999.000,9,  -999.00,9,   -999.0,9,   -999.0,9,-999.0000,9,   -999.0,  9,  -999.00,9,   -999.0,  -999.00,9,  -999.00,9,     0.00,2,     0.01,2,   -999.0,-999.0000, -999,9,  202,  18.8646,  24.9209,   -999.0,9
       SH99-06,  NONE,SH-5781,  2,      4, S-1-1-2,2,19990710,1947, 31.0255, 135.2205, 4270,    253.8,  18.0954,  34.8133,2,   -999.0,9,-999.0000,9,    199.9,2,  -999.00,9,  -999.00,9,     4.58,2,     0.00,2,     0.30,2, -999.000,9, -999.000,9,  -999.00,9,   -999.0,9,   -999.0,9,-999.0000,9,   -999.0,  9,  -999.00,9,   -999.0,  -999.00,9,  -999.00,9,     0.00,2,     0.01,2,   -999.0,-999.0000, -999,9,  252,  18.0517,  25.1163,   -999.0,9
       SH99-06,  NONE,SH-5781,  2,      3,1-133-84,2,19990710,1946, 31.0255, 135.2205, 4270,    304.0,  17.3102,  34.8284,2,   -999.0,9,-999.0000,9,    195.6,2,  -999.00,9,  -999.00,9,     5.95,2,     0.00,2,     0.39,2, -999.000,9, -999.000,9,  -999.00,9,   -999.0,9,   -999.0,9,-999.0000,9,   -999.0,  9,  -999.00,9,   -999.0,  -999.00,9,  -999.00,9,     0.00,2,     0.01,2,   -999.0,-999.0000, -999,9,  302,  17.2593,  25.3206,   -999.0,9
       SH99-06,  NONE,SH-5781,  1,      2, S-1-1-7,2,19990710,1912, 31.0173, 135.2272, 4270,    403.1,  15.4304,  34.6723,2,   -999.0,9,-999.0000,9,    190.3,2,  -999.00,9,  -999.00,9,     9.56,2,     0.00,2,     0.64,2, -999.000,9, -999.000,9,  -999.00,9,   -999.0,9,   -999.0,9,-999.0000,9,   -999.0,  9,  -999.00,9,   -999.0,  -999.00,9,  -999.00,9,  -999.00,9,  -999.00,9,   -999.0,-999.0000, -999,9,  400,  15.3680,  25.6380,   -999.0,9
       SH99-06,  NONE,SH-5781,  1,      1, 1-133-1,2,19990710,1910, 31.0173, 135.2272, 4270,    503.7,  12.7101,  34.4711,2,   -999.0,9,-999.0000,9,    176.2,2,  -999.00,9,  -999.00,9,    15.30,2,     0.00,2,     1.05,2, -999.000,9, -999.000,9,  -999.00,9,   -999.0,9,   -999.0,9,-999.0000,9,   -999.0,  9,  -999.00,9,   -999.0,  -999.00,9,  -999.00,9,  -999.00,9,  -999.00,9,   -999.0,-999.0000, -999,9,  500,  12.6414,  26.0542,   -999.0,9
       SH99-06,  NONE,SH-5781,  1,     12, 1-133-7,2,19990710,1909, 31.0173, 135.2272, 4270,    604.7,   9.8525,  34.2871,2,   -999.0,9,-999.0000,9,    158.6,2,  -999.00,9,  -999.00,9,    21.82,2,     0.00,2,     1.53,2, -999.000,9, -999.000,9,  -999.00,9,   -999.0,9,   -999.0,9,-999.0000,9,   -999.0,  9,  -999.00,9,   -999.0,  -999.00,9,  -999.00,9,  -999.00,9,  -999.00,9,   -999.0,-999.0000, -999,9,  600,   9.7821,  26.4320,   -999.0,9
       SH99-06,  NONE,SH-5781,  1,     11, S-1-1-9,2,19990710,1907, 31.0173, 135.2272, 4270,    707.3,   7.5719,  34.2089,2,   -999.0,9,-999.0000,9,    129.7,2,  -999.00,9,  -999.00,9,    28.34,2,     0.00,2,     2.02,2, -999.000,9, -999.000,9,  -999.00,9,   -999.0,9,   -999.0,9,-999.0000,9,   -999.0,  9,  -999.00,9,   -999.0,  -999.00,9,  -999.00,9,  -999.00,9,  -999.00,9,   -999.0,-999.0000, -999,9,  701,   7.5010,  26.7253,   -999.0,9
       SH99-06,  NONE,SH-5781,  1,     10,1-133-94,2,19990710,1906, 31.0173, 135.2272, 4270,    807.9,   5.9497,  34.2353,2,   -999.0,9,-999.0000,9,     98.5,2,  -999.00,9,  -999.00,9,    33.79,2,     0.00,2,     2.41,2, -999.000,9, -999.000,9,  -999.00,9,   -999.0,9,   -999.0,9,-999.0000,9,   -999.0,  9,  -999.00,9,   -999.0,  -999.00,9,  -999.00,9,  -999.00,9,  -999.00,9,   -999.0,-999.0000, -999,9,  801,   5.8780,  26.9637,   -999.0,9
       SH99-06,  NONE,SH-5781,  1,      9, S-1-1-5,2,19990710,1905, 31.0173, 135.2272, 4270,    907.7,   5.0479,  34.2558,2,   -999.0,9,-999.0000,9,     85.1,2,  -999.00,9,  -999.00,9,    36.12,2,     0.00,2,     2.56,2, -999.000,9, -999.000,9,  -999.00,9,   -999.0,9,   -999.0,9,-999.0000,9,   -999.0,  9,  -999.00,9,   -999.0,  -999.00,9,  -999.00,9,  -999.00,9,  -999.00,9,   -999.0,-999.0000, -999,9,  900,   4.9729,  27.0883,   -999.0,9
       SH99-06,  NONE,SH-5781,  1,      8,1-133-95,2,19990710,1903, 31.0173, 135.2272, 4270,   1010.6,   4.1194,  34.3278,2,   -999.0,9,-999.0000,9,     66.0,2,  -999.00,9,  -999.00,9,    39.04,2,     0.00,2,     2.76,2, -999.000,9, -999.000,9,  -999.00,9,   -999.0,9,   -999.0,9,-999.0000,9,   -999.0,  9,  -999.00,9,   -999.0,  -999.00,9,  -999.00,9,  -999.00,9,  -999.00,9,   -999.0,-999.0000, -999,9, 1001,   4.0422,  27.2471,   -999.0,9
       SH99-06,  NONE,SH-5781,  1,      7, S-1-1-4,2,19990710,1901, 31.0173, 135.2272, 4270,   1214.3,   3.3033,  34.4226,2,   -999.0,9,-999.0000,9,     65.6,2,  -999.00,9,  -999.00,9,    40.39,2,     0.00,2,     2.86,2, -999.000,9, -999.000,9,  -999.00,9,   -999.0,9,   -999.0,9,-999.0000,9,   -999.0,  9,  -999.00,9,   -999.0,  -999.00,9,  -999.00,9,  -999.00,9,  -999.00,9,   -999.0,-999.0000, -999,9, 1202,   3.2162,  27.4041,   -999.0,9