BOTTLE,20130510GEMDJMAYT
EXPOCODE,SECT_ID,STNNBR,CASTNO,SAMPNO,BTLNBR,BTLNBR_FLAG_W,DATE,TIME,LATITUDE,LONGITUDE,DEPTH,CTDPRS,CTDTMP,CTDSAL,CTDSAL_FLAG_W,CTDOXY,CTDOXY_FLAG_W,SALNTY,SALNTY_FLAG_W,OXYGEN,OXYGEN_FLAG_W,SILCAT,SILCAT_FLAG_W,NITRAT,NITRAT_FLAG_W,NO2+NO3,NO2+NO3_FLAG_W,NITRIT,NITRIT_FLAG_W,PHSPHT,PHSPHT_FLAG_W,CFC-11,CFC-11_FLAG_W,CFC-12,CFC-12_FLAG_W,DELC13,DELC13_FLAG_W,TCARBN,TCARBN_FLAG_W,ALKALI,ALKALI_FLAG_W,PH,PH_FLAG_W,PH_TMP,PH_SCALE,PH_NBS,PH_NBS_FLAG_W,C13ERR,TOTALP,TOTALP_FLAG_W,AMMONI,AMMONI_FLAG_W,CHLORA,CHLORA_FLAG_W,PPHYTN,PPHYTN_FLAG_W,REVPRS,REVTMP,DEPTH_,DEPTH_FLAG,CTDDEP,THETA,SIGTHT,DOC,DOC_FLAG_W
,,,,,,,GMT,GMT,,,METER,DBAR,ITS-90,PSS-78,,UMOL/KG,,PSS-78,,UMOL/KG,,UMOL/KG,,UMOL/KG,,UMOL/KG,,UMOL/KG,,UMOL/KG,,PMOL/KG,,PMOL/KG,,/MILLE,,UMOL/KG,,UMOL/KG,,25_DEG_C,,DEG_C,,,,/MILLE,UMOL/KG,,UMOL/KG,,UG/L,,UG/L,,DBAR,ITS-90,METERS,,METERS,DEG_C,,UMOL/L,
       SH99-06,  NONE,SH-5784,  2,     -9,      -9,5,19990711,1252, 29.5173, 135.2185, 4530,      0.0,  26.6766,  34.0627,2,   -999.0,9,-999.0000,9,    211.3,2,  -999.00,9,  -999.00,9,     0.10,2,     0.00,2,     0.00,2, -999.000,9, -999.000,9,  -999.00,9,   -999.0,9,   -999.0,9,-999.0000,9,   -999.0,  9,     8.22,2,   -999.0,     0.28,2,  -999.00,9,     0.04,2,     0.02,2,   -999.0,-999.0000, -999,9,    0,  26.6766,  22.1145,   -999.0,9
       SH99-06,  NONE,SH-5784,  2,      8,1-133-95,2,19990711,1250, 29.5173, 135.2185, 4530,     10.8,  26.6732,  34.0643,2,   -999.0,9,-999.0000,9,    211.7,2,  -999.00,9,  -999.00,9,     0.10,2,     0.00,2,     0.00,2, -999.000,9, -999.000,9,  -999.00,9,   -999.0,9,   -999.0,9,-999.0000,9,   -999.0,  9,     8.23,2,   -999.0,     0.23,2,  -999.00,9,     0.03,2,     0.02,2,   -999.0,-999.0000, -999,9,   11,  26.6707,  22.1176,   -999.0,9
       SH99-06,  NONE,SH-5784,  2,      7, S-1-1-4,2,19990711,1249, 29.5173, 135.2185, 4530,     25.7,  24.0808,  34.6429,2,   -999.0,9,-999.0000,9,    226.4,2,  -999.00,9,  -999.00,9,     0.10,2,     0.00,2,     0.00,2, -999.000,9, -999.000,9,  -999.00,9,   -999.0,9,   -999.0,9,-999.0000,9,   -999.0,  9,     8.22,2,   -999.0,     0.21,2,  -999.00,9,     0.04,2,     0.02,2,   -999.0,-999.0000, -999,9,   26,  24.0754,  23.3487,   -999.0,9
       SH99-06,  NONE,SH-5784,  2,      6,1-133-93,2,19990711,1248, 29.5173, 135.2185, 4530,     52.2,  21.7230,  34.8051,2,   -999.0,9,-999.0000,9,    231.5,2,  -999.00,9,  -999.00,9,     0.00,2,     0.00,2,     0.00,2, -999.000,9, -999.000,9,  -999.00,9,   -999.0,9,   -999.0,9,-999.0000,9,   -999.0,  9,     8.21,2,   -999.0,     0.27,2,  -999.00,9,     0.07,2,     0.05,2,   -999.0,-999.0000, -999,9,   52,  21.7128,  24.1498,   -999.0,9
       SH99-06,  NONE,SH-5784,  2,      5, 1-133-2,2,19990711,1247, 29.5173, 135.2185, 4530,     77.0,  20.7103,  34.8087,2,   -999.0,9,-999.0000,9,    228.9,2,  -999.00,9,  -999.00,9,     0.00,2,     0.00,2,     0.01,2, -999.000,9, -999.000,9,  -999.00,9,   -999.0,9,   -999.0,9,-999.0000,9,   -999.0,  9,     8.19,2,   -999.0,     0.41,2,  -999.00,9,     0.12,2,     0.16,2,   -999.0,-999.0000, -999,9,   76,  20.6957,  24.4305,   -999.0,9
       SH99-06,  NONE,SH-5784,  2,      4, S-1-1-2,2,19990711,1246, 29.5173, 135.2185, 4530,    103.3,  20.2372,  34.8238,2,   -999.0,9,-999.0000,9,    219.0,2,  -999.00,9,  -999.00,9,     0.68,2,     0.11,2,     0.07,2, -999.000,9, -999.000,9,  -999.00,9,   -999.0,9,   -999.0,9,-999.0000,9,   -999.0,  9,     8.18,2,   -999.0,     0.50,2,  -999.00,9,     0.25,2,     0.56,2,   -999.0,-999.0000, -999,9,  103,  20.2180,  24.5697,   -999.0,9
       SH99-06,  NONE,SH-5784,  2,      3,1-133-84,2,19990711,1245, 29.5173, 135.2185, 4530,    125.8,  19.8525,  34.8234,2,   -999.0,9,-999.0000,9,    222.3,2,  -999.00,9,  -999.00,9,     1.27,2,     0.04,2,     0.11,2, -999.000,9, -999.000,9,  -999.00,9,   -999.0,9,   -999.0,9,-999.0000,9,   -999.0,  9,     8.17,2,   -999.0,     0.58,2,  -999.00,9,     0.09,2,     0.29,2,   -999.0,-999.0000, -999,9,  125,  19.8294,  24.6718,   -999.0,9
       SH99-06,  NONE,SH-5784,  2,      2, S-1-1-7,2,19990711,1244, 29.5173, 135.2185, 4530,    151.3,  19.4534,  34.8362,2,   -999.0,9,-999.0000,9,    209.4,2,  -999.00,9,  -999.00,9,     2.34,2,     0.01,2,     0.18,2, -999.000,9, -999.000,9,  -999.00,9,   -999.0,9,   -999.0,9,-999.0000,9,   -999.0,  9,     8.15,2,   -999.0,     0.64,2,  -999.00,9,     0.02,2,     0.05,2,   -999.0,-999.0000, -999,9,  150,  19.4260,  24.7866,   -999.0,9
       SH99-06,  NONE,SH-5784,  2,      1, 1-133-1,2,19990711,1243, 29.5173, 135.2185, 4530,    203.3,  18.8263,  34.8282,2,   -999.0,9,-999.0000,9,    206.7,2,  -999.00,9,  -999.00,9,     3.51,2,     0.01,2,     0.23,2, -999.000,9, -999.000,9,  -999.00,9,   -999.0,9,   -999.0,9,-999.0000,9,   -999.0,  9,     8.13,2,   -999.0,     0.97,2,  -999.00,9,     0.00,2,     0.01,2,   -999.0,-999.0000, -999,9,  202,  18.7903,  24.9431,   -999.0,9
       SH99-06,  NONE,SH-5784,  2,     12, 1-133-7,2,19990711,1241, 29.5173, 135.2185, 4530,    251.2,  18.0601,  34.8225,2,   -999.0,9,-999.0000,9,    202.2,2,  -999.00,9,  -999.00,9,     4.88,2,     0.00,2,     0.33,2, -999.000,9, -999.000,9,  -999.00,9,   -999.0,9,   -999.0,9,-999.0000,9,   -999.0,  9,     8.10,2,   -999.0,     1.42,2,  -999.00,9,     0.00,2,     0.01,2,   -999.0,-999.0000, -999,9,  249,  18.0169,  25.1319,   -999.0,9
       SH99-06,  NONE,SH-5784,  2,     11, S-1-1-9,2,19990711,1240, 29.5173, 135.2185, 4530,    303.1,  17.1839,  34.7870,2,   -999.0,9,-999.0000,9,    200.9,2,  -999.00,9,  -999.00,9,     6.24,2,     0.00,2,     0.42,2, -999.000,9, -999.000,9,  -999.00,9,   -999.0,9,   -999.0,9,-999.0000,9,   -999.0,  9,     8.08,2,   -999.0,     1.89,2,  -999.00,9,     0.00,2,     0.01,2,   -999.0,-999.0000, -999,9,  301,  17.1335,  25.3190,   -999.0,9
       SH99-06,  NONE,SH-5784,  1,     10,1-133-94,2,19990711,1207, 29.5083, 135.2323, 4520,    404.8,  15.3902,  34.6484,2,   -999.0,9,-999.0000,9,    191.7,2,  -999.00,9,  -999.00,9,     9.56,2,     0.00,2,     0.64,2, -999.000,9, -999.000,9,  -999.00,9,   -999.0,9,   -999.0,9,-999.0000,9,   -999.0,  9,     8.03,2,   -999.0,     2.31,2,  -999.00,9,  -999.00,9,  -999.00,9,   -999.0,-999.0000, -999,9,  402,  15.3276,  25.6286,   -999.0,9
       SH99-06,  NONE,SH-5784,  1,      9, S-1-1-5,2,19990711,1205, 29.5083, 135.2323, 4520,    503.5,  12.9871,  34.5101,2,   -999.0,9,-999.0000,9,    179.0,2,  -999.00,9,  -999.00,9,    14.72,2,     0.00,2,     1.01,2, -999.000,9, -999.000,9,  -999.00,9,   -999.0,9,   -999.0,9,-999.0000,9,   -999.0,  9,     7.95,2,   -999.0,     2.59,2,  -999.00,9,  -999.00,9,  -999.00,9,   -999.0,-999.0000, -999,9,  499,  12.9175,  26.0298,   -999.0,9
       SH99-06,  NONE,SH-5784,  1,      8,1-133-95,2,19990711,1203, 29.5083, 135.2323, 4520,    606.0,  10.1823,  34.3067,2,   -999.0,9,-999.0000,9,    162.5,2,  -999.00,9,  -999.00,9,    21.14,2,     0.00,2,     1.49,2, -999.000,9, -999.000,9,  -999.00,9,   -999.0,9,   -999.0,9,-999.0000,9,   -999.0,  9,     7.85,2,   -999.0,     2.80,2,  -999.00,9,  -999.00,9,  -999.00,9,   -999.0,-999.0000, -999,9,  601,  10.1103,  26.3917,   -999.0,9
       SH99-06,  NONE,SH-5784,  1,      7, S-1-1-4,2,19990711,1201, 29.5083, 135.2323, 4520,    705.9,   8.0612,  34.2273,2,   -999.0,9,-999.0000,9,    137.9,2,  -999.00,9,  -999.00,9,    27.18,2,     0.00,2,     1.94,2, -999.000,9, -999.000,9,  -999.00,9,   -999.0,9,   -999.0,9,-999.0000,9,   -999.0,  9,     7.74,2,   -999.0,     2.90,2,  -999.00,9,  -999.00,9,  -999.00,9,   -999.0,-999.0000, -999,9,  700,   7.9879,  26.6687,   -999.0,9
       SH99-06,  NONE,SH-5784,  1,      6,1-133-93,2,19990711,1159, 29.5083, 135.2323, 4520,    808.6,   6.2469,  34.2484,2,   -999.0,9,-999.0000,9,     99.4,2,  -999.00,9,  -999.00,9,    33.01,2,     0.00,2,     2.36,2, -999.000,9, -999.000,9,  -999.00,9,   -999.0,9,   -999.0,9,-999.0000,9,   -999.0,  9,     7.64,2,   -999.0,     2.94,2,  -999.00,9,  -999.00,9,  -999.00,9,   -999.0,-999.0000, -999,9,  802,   6.1733,  26.9367,   -999.0,9
       SH99-06,  NONE,SH-5784,  1,      5, 1-133-2,2,19990711,1158, 29.5083, 135.2323, 4520,    906.5,   5.1184,  34.2755,2,   -999.0,9,-999.0000,9,     80.3,2,  -999.00,9,  -999.00,9,    36.32,2,     0.00,2,     2.59,2, -999.000,9, -999.000,9,  -999.00,9,   -999.0,9,   -999.0,9,-999.0000,9,   -999.0,  9,     7.60,2,   -999.0,     2.98,2,  -999.00,9,  -999.00,9,  -999.00,9,   -999.0,-999.0000, -999,9,  898,   5.0430,  27.0959,   -999.0,9
       SH99-06,  NONE,SH-5784,  1,      4, S-1-1-2,2,19990711,1156, 29.5083, 135.2323, 4520,   1008.9,   4.1571,  34.3449,2,   -999.0,9,-999.0000,9,   -999.0,9,  -999.00,9,  -999.00,9,  -999.00,9,  -999.00,9,  -999.00,9, -999.000,9, -999.000,9,  -999.00,9,   -999.0,9,   -999.0,9,-999.0000,9,   -999.0,  9,  -999.00,9,   -999.0,  -999.00,9,  -999.00,9,  -999.00,9,  -999.00,9,   -999.0,-999.0000, -999,9, 1000,   4.0797,  27.2568,   -999.0,9
       SH99-06,  NONE,SH-5784,  1,      3,1-133-84,2,19990711,1155, 29.5083, 135.2323, 4520,   1009.8,   4.1514,  34.3445,2,   -999.0,9,-999.0000,9,     68.4,2,  -999.00,9,  -999.00,9,    38.94,2,     0.00,2,     2.76,2, -999.000,9, -999.000,9,  -999.00,9,   -999.0,9,   -999.0,9,-999.0000,9,   -999.0,  9,     7.56,2,   -999.0,     3.00,2,  -999.00,9,  -999.00,9,  -999.00,9,   -999.0,-999.0000, -999,9, 1001,   4.0740,  27.2570,   -999.0,9
       SH99-06,  NONE,SH-5784,  1,      2, S-1-1-7,2,19990711,1153, 29.5083, 135.2323, 4520,   1222.5,   3.2888,  34.4348,2,   -999.0,9,-999.0000,9,     65.6,2,  -999.00,9,  -999.00,9,    40.20,2,     0.00,2,     2.85,2, -999.000,9, -999.000,9,  -999.00,9,   -999.0,9,   -999.0,9,-999.0000,9,   -999.0,  9,     7.56,2,   -999.0,     2.97,2,  -999.00,9,  -999.00,9,  -999.00,9,   -999.0,-999.0000, -999,9, 1211,   3.2011,  27.4153,   -999.0,9
       SH99-06,  NONE,SH-5786,  2,     -9,      -9,5,19990712,0329, 28.6678, 134.4660, 3680,      0.0,  27.3579,  34.2825,2,   -999.0,9,-999.0000,9,    204.3,2,  -999.00,9,  -999.00,9,     0.00,2,     0.00,2,     0.00,2, -999.000,9, -999.000,9,  -999.00,9,   -999.0,9,   -999.0,9,-999.0000,9,   -999.0,  9,     8.24,2,   -999.0,  -999.00,9,  -999.00,9,     0.04,2,     0.02,2,   -999.0,-999.0000, -999,9,    0,  27.3579,  22.0630,   -999.0,9
       SH99-06,  NONE,SH-5786,  2,      5, 1-133-2,2,19990712,0328, 28.6678, 134.4660, 3680,     12.6,  27.2016,  34.2856,2,   -999.0,9,  34.2848,2,    203.7,2,  -999.00,9,  -999.00,9,     0.00,2,     0.00,2,     0.00,2, -999.000,9, -999.000,9,  -999.00,9,   -999.0,9,   -999.0,9,-999.0000,9,   -999.0,  9,     8.24,2,   -999.0,  -999.00,9,  -999.00,9,     0.07,2,     0.03,2,   -999.0,-999.0000, -999,9,   12,  27.1987,  22.1163,   -999.0,9
       SH99-06,  NONE,SH-5786,  2,      4, S-1-1-2,2,19990712,0327, 28.6678, 134.4660, 3680,     26.5,  25.2616,  34.5354,2,   -999.0,9,  34.5143,4,    218.4,2,  -999.00,9,  -999.00,9,     0.00,2,     0.00,2,     0.00,2, -999.000,9, -999.000,9,  -999.00,9,   -999.0,9,   -999.0,9,-999.0000,9,   -999.0,  9,     8.23,2,   -999.0,  -999.00,9,  -999.00,9,     0.08,2,     0.03,2,   -999.0,-999.0000, -999,9,   26,  25.2558,  22.9123,   -999.0,9
       SH99-06,  NONE,SH-5786,  2,      3,1-133-84,2,19990712,0326, 28.6678, 134.4660, 3680,     51.7,  23.1750,  34.8079,2,   -999.0,9,  34.8201,4,    222.1,2,  -999.00,9,  -999.00,9,     0.00,2,     0.00,2,     0.00,2, -999.000,9, -999.000,9,  -999.00,9,   -999.0,9,   -999.0,9,-999.0000,9,   -999.0,  9,     8.22,2,   -999.0,  -999.00,9,  -999.00,9,     0.02,2,     0.14,2,   -999.0,-999.0000, -999,9,   51,  23.1644,  23.7405,   -999.0,9
       SH99-06,  NONE,SH-5786,  2,      2, S-1-1-7,2,19990712,0325, 28.6678, 134.4660, 3680,     76.9,  21.5631,  34.8352,2,   -999.0,9,  34.8341,2,    219.5,2,  -999.00,9,  -999.00,9,     0.00,2,     0.00,2,     0.02,2, -999.000,9, -999.000,9,  -999.00,9,   -999.0,9,   -999.0,9,-999.0000,9,   -999.0,  9,     8.20,2,   -999.0,  -999.00,9,  -999.00,9,     0.20,2,     0.32,2,   -999.0,-999.0000, -999,9,   76,  21.5481,  24.2183,   -999.0,9
       SH99-06,  NONE,SH-5786,  2,      1, 1-133-1,2,19990712,0324, 28.6678, 134.4660, 3680,    101.8,  20.8325,  34.8447,2,   -999.0,9,  34.8451,2,    216.7,2,  -999.00,9,  -999.00,9,     0.39,2,     0.08,2,     0.05,2, -999.000,9, -999.000,9,  -999.00,9,   -999.0,9,   -999.0,9,-999.0000,9,   -999.0,  9,     8.18,2,   -999.0,  -999.00,9,  -999.00,9,     0.18,2,     0.47,2,   -999.0,-999.0000, -999,9,  101,  20.8131,  24.4263,   -999.0,9
       SH99-06,  NONE,SH-5786,  2,     12, 1-133-7,2,19990712,0323, 28.6678, 134.4660, 3680,    127.4,  20.0080,  34.8201,2,   -999.0,9,  34.8223,2,    222.8,2,  -999.00,9,  -999.00,9,     0.20,2,     0.12,2,     0.04,2, -999.000,9, -999.000,9,  -999.00,9,   -999.0,9,   -999.0,9,-999.0000,9,   -999.0,  9,     8.18,2,   -999.0,  -999.00,9,  -999.00,9,     0.08,2,     0.35,2,   -999.0,-999.0000, -999,9,  126,  19.9845,  24.6286,   -999.0,9
       SH99-06,  NONE,SH-5786,  2,     11, S-1-1-9,2,19990712,0321, 28.6678, 134.4660, 3680,    152.6,  19.6869,  34.8393,2,   -999.0,9,  34.8416,2,    206.1,2,  -999.00,9,  -999.00,9,     2.15,2,     0.01,2,     0.16,2, -999.000,9, -999.000,9,  -999.00,9,   -999.0,9,   -999.0,9,-999.0000,9,   -999.0,  9,     8.15,2,   -999.0,  -999.00,9,  -999.00,9,     0.02,2,     0.07,2,   -999.0,-999.0000, -999,9,  152,  19.6590,  24.7285,   -999.0,9
       SH99-06,  NONE,SH-5786,  2,     10,1-133-94,2,19990712,0320, 28.6678, 134.4660, 3680,    202.2,  19.1708,  34.8448,2,   -999.0,9,  34.8432,2,    202.5,2,  -999.00,9,  -999.00,9,     2.93,2,     0.01,2,     0.20,2, -999.000,9, -999.000,9,  -999.00,9,   -999.0,9,   -999.0,9,-999.0000,9,   -999.0,  9,     8.14,2,   -999.0,  -999.00,9,  -999.00,9,     0.01,2,     0.02,2,   -999.0,-999.0000, -999,9,  201,  19.1345,  24.8681,   -999.0,9
       SH99-06,  NONE,SH-5786,  2,      9, S-1-1-5,2,19990712,0319, 28.6678, 134.4660, 3680,    253.0,  18.1277,  34.8294,2,   -999.0,9,  34.8272,2,    199.4,2,  -999.00,9,  -999.00,9,     4.39,2,     0.00,2,     0.30,2, -999.000,9, -999.000,9,  -999.00,9,   -999.0,9,   -999.0,9,-999.0000,9,   -999.0,  9,     8.11,2,   -999.0,  -999.00,9,  -999.00,9,     0.00,2,     0.01,2,   -999.0,-999.0000, -999,9,  251,  18.0840,  25.1206,   -999.0,9
       SH99-06,  NONE,SH-5786,  2,      8,1-133-95,2,19990712,0317, 28.6678, 134.4660, 3680,    303.1,  17.2940,  34.8000,2,   -999.0,9,  34.8006,2,    197.1,2,  -999.00,9,  -999.00,9,     5.75,2,     0.00,2,     0.39,2, -999.000,9, -999.000,9,  -999.00,9,   -999.0,9,   -999.0,9,-999.0000,9,   -999.0,  9,     8.09,2,   -999.0,  -999.00,9,  -999.00,9,     0.00,2,     0.01,2,   -999.0,-999.0000, -999,9,  301,  17.2433,  25.3027,   -999.0,9
       SH99-06,  NONE,SH-5786,  2,      7, S-1-1-4,2,19990712,0315, 28.6678, 134.4660, 3680,    404.7,  15.3857,  34.6623,2,   -999.0,9,  34.6644,2,    191.7,2,  -999.00,9,  -999.00,9,     9.26,2,     0.00,2,     0.62,2, -999.000,9, -999.000,9,  -999.00,9,   -999.0,9,   -999.0,9,-999.0000,9,   -999.0,  9,     8.03,2,   -999.0,  -999.00,9,  -999.00,9,  -999.00,9,  -999.00,9,   -999.0,-999.0000, -999,9,  402,  15.3231,  25.6403,   -999.0,9
       SH99-06,  NONE,SH-5786,  2,      6,1-133-93,2,19990712,0313, 28.6678, 134.4660, 3680,    506.5,  13.2882,  34.4991,2,   -999.0,9,  34.5033,2,    183.9,2,  -999.00,9,  -999.00,9,    13.35,2,     0.00,2,     0.93,2, -999.000,9, -999.000,9,  -999.00,9,   -999.0,9,   -999.0,9,-999.0000,9,   -999.0,  9,     7.97,2,   -999.0,  -999.00,9,  -999.00,9,  -999.00,9,  -999.00,9,   -999.0,-999.0000, -999,9,  503,  13.2171,  25.9611,   -999.0,9