BOTTLE,20130510GEMDJMAYT
EXPOCODE,SECT_ID,STNNBR,CASTNO,SAMPNO,BTLNBR,BTLNBR_FLAG_W,DATE,TIME,LATITUDE,LONGITUDE,DEPTH,CTDPRS,CTDTMP,CTDSAL,CTDSAL_FLAG_W,CTDOXY,CTDOXY_FLAG_W,SALNTY,SALNTY_FLAG_W,OXYGEN,OXYGEN_FLAG_W,SILCAT,SILCAT_FLAG_W,NITRAT,NITRAT_FLAG_W,NO2+NO3,NO2+NO3_FLAG_W,NITRIT,NITRIT_FLAG_W,PHSPHT,PHSPHT_FLAG_W,CFC-11,CFC-11_FLAG_W,CFC-12,CFC-12_FLAG_W,DELC13,DELC13_FLAG_W,TCARBN,TCARBN_FLAG_W,ALKALI,ALKALI_FLAG_W,PH,PH_FLAG_W,PH_TMP,PH_SCALE,PH_NBS,PH_NBS_FLAG_W,C13ERR,TOTALP,TOTALP_FLAG_W,AMMONI,AMMONI_FLAG_W,CHLORA,CHLORA_FLAG_W,PPHYTN,PPHYTN_FLAG_W,REVPRS,REVTMP,DEPTH_,DEPTH_FLAG,CTDDEP,THETA,SIGTHT,DOC,DOC_FLAG_W
,,,,,,,GMT,GMT,,,METER,DBAR,ITS-90,PSS-78,,UMOL/KG,,PSS-78,,UMOL/KG,,UMOL/KG,,UMOL/KG,,UMOL/KG,,UMOL/KG,,UMOL/KG,,PMOL/KG,,PMOL/KG,,/MILLE,,UMOL/KG,,UMOL/KG,,25_DEG_C,,DEG_C,,,,/MILLE,UMOL/KG,,UMOL/KG,,UG/L,,UG/L,,DBAR,ITS-90,METERS,,METERS,DEG_C,,UMOL/L,
       SH99-08,  NONE,SH-5830,  2,     -9,      -9,5,19990902,0957, 28.6702, 134.4528, 3680,      0.0,  29.1499,  34.2474,2,   -999.0,9,-999.0000,9,    195.8,2,  -999.00,9,  -999.00,9,     0.00,2,     0.00,2,     0.00,2, -999.000,9, -999.000,9,  -999.00,9,   -999.0,9,   -999.0,9,-999.0000,9,   -999.0,  9,     8.23,2,   -999.0,  -999.00,9,  -999.00,9,     0.03,2,     0.02,2,   -999.0,-999.0000, -999,9,    0,  29.1499,  21.4491,   -999.0,9
       SH99-08,  NONE,SH-5830,  2,      2, S-1-1-7,2,19990902,0956, 28.6702, 134.4528, 3680,     11.4,  28.7897,  34.2342,2,   -999.0,9,  34.2286,2,    197.5,2,  -999.00,9,  -999.00,9,     0.00,2,     0.00,2,     0.00,2, -999.000,9, -999.000,9,  -999.00,9,   -999.0,9,   -999.0,9,-999.0000,9,   -999.0,  9,     8.23,2,   -999.0,  -999.00,9,  -999.00,9,     0.04,2,     0.02,2,   -999.0,-999.0000, -999,9,   11,  28.7870,  21.5601,   -999.0,9
       SH99-08,  NONE,SH-5830,  2,      1, 1-133-1,2,19990902,0955, 28.6702, 134.4528, 3680,     26.8,  26.8732,  34.4333,2,   -999.0,9,  34.4259,2,    208.0,2,  -999.00,9,  -999.00,9,     0.00,2,     0.00,2,     0.00,2, -999.000,9, -999.000,9,  -999.00,9,   -999.0,9,   -999.0,9,-999.0000,9,   -999.0,  9,     8.22,2,   -999.0,  -999.00,9,  -999.00,9,     0.03,2,     0.03,2,   -999.0,-999.0000, -999,9,   27,  26.8671,  22.3333,   -999.0,9
       SH99-08,  NONE,SH-5830,  2,     12, S-1-1-8,2,19990902,0954, 28.6702, 134.4528, 3680,     51.5,  22.5599,  34.8255,2,   -999.0,9,  34.8215,2,    219.4,2,  -999.00,9,  -999.00,9,     0.00,2,     0.00,2,     0.00,2, -999.000,9, -999.000,9,  -999.00,9,   -999.0,9,   -999.0,9,-999.0000,9,   -999.0,  9,     8.20,2,   -999.0,  -999.00,9,  -999.00,9,     0.08,2,     0.07,2,   -999.0,-999.0000, -999,9,   51,  22.5496,  23.9302,   -999.0,9
       SH99-08,  NONE,SH-5830,  2,     11, S-1-1-9,2,19990902,0953, 28.6702, 134.4528, 3680,     76.6,  21.2279,  34.8330,2,   -999.0,9,  34.8337,2,    210.6,2,  -999.00,9,  -999.00,9,     0.49,2,     0.10,2,     0.05,2, -999.000,9, -999.000,9,  -999.00,9,   -999.0,9,   -999.0,9,-999.0000,9,   -999.0,  9,     8.15,2,   -999.0,  -999.00,9,  -999.00,9,     0.24,2,     0.50,2,   -999.0,-999.0000, -999,9,   76,  21.2132,  24.3086,   -999.0,9
       SH99-08,  NONE,SH-5830,  2,     10,1-133-94,2,19990902,0952, 28.6702, 134.4528, 3680,    101.5,  20.2592,  34.8231,2,   -999.0,9,  34.8176,2,    219.3,2,  -999.00,9,  -999.00,9,     0.29,2,     0.12,2,     0.03,2, -999.000,9, -999.000,9,  -999.00,9,   -999.0,9,   -999.0,9,-999.0000,9,   -999.0,  9,     8.17,2,   -999.0,  -999.00,9,  -999.00,9,     0.09,2,     0.29,2,   -999.0,-999.0000, -999,9,  101,  20.2404,  24.5633,   -999.0,9
       SH99-08,  NONE,SH-5830,  2,      9, S-1-1-5,2,19990902,0951, 28.6702, 134.4528, 3680,    126.8,  19.7938,  34.8211,2,   -999.0,9,  34.8255,2,    209.7,2,  -999.00,9,  -999.00,9,     1.17,2,     0.06,2,     0.10,2, -999.000,9, -999.000,9,  -999.00,9,   -999.0,9,   -999.0,9,-999.0000,9,   -999.0,  9,     8.16,2,   -999.0,  -999.00,9,  -999.00,9,     0.04,2,     0.26,2,   -999.0,-999.0000, -999,9,  126,  19.7705,  24.6855,   -999.0,9
       SH99-08,  NONE,SH-5830,  2,      8,1-133-95,2,19990902,0950, 28.6702, 134.4528, 3680,    151.6,  19.4368,  34.8156,2,   -999.0,9,  34.8276,4,    206.7,2,  -999.00,9,  -999.00,9,     1.85,2,     0.02,2,     0.14,2, -999.000,9, -999.000,9,  -999.00,9,   -999.0,9,   -999.0,9,-999.0000,9,   -999.0,  9,     8.15,2,   -999.0,  -999.00,9,  -999.00,9,     0.02,2,     0.04,2,   -999.0,-999.0000, -999,9,  151,  19.4093,  24.7752,   -999.0,9
       SH99-08,  NONE,SH-5830,  2,      7, S-1-1-4,2,19990902,0948, 28.6702, 134.4528, 3680,    202.5,  18.8994,  34.8092,2,   -999.0,9,  34.8103,2,    206.1,2,  -999.00,9,  -999.00,9,     2.63,2,     0.01,2,     0.19,2, -999.000,9, -999.000,9,  -999.00,9,   -999.0,9,   -999.0,9,-999.0000,9,   -999.0,  9,     8.14,2,   -999.0,  -999.00,9,  -999.00,9,     0.00,2,     0.01,2,   -999.0,-999.0000, -999,9,  201,  18.8634,  24.9101,   -999.0,9
       SH99-08,  NONE,SH-5830,  2,      6,1-133-93,2,19990902,0947, 28.6702, 134.4528, 3680,    252.9,  18.0162,  34.8041,2,   -999.0,9,  34.8073,2,    197.1,2,  -999.00,9,  -999.00,9,     4.39,2,     0.00,2,     0.31,2, -999.000,9, -999.000,9,  -999.00,9,   -999.0,9,   -999.0,9,-999.0000,9,   -999.0,  9,     8.11,2,   -999.0,  -999.00,9,  -999.00,9,     0.00,2,     0.00,2,   -999.0,-999.0000, -999,9,  251,  17.9727,  25.1287,   -999.0,9
       SH99-08,  NONE,SH-5830,  2,      5, 1-133-2,2,19990902,0946, 28.6702, 134.4528, 3680,    303.5,  17.2428,  34.7889,2,   -999.0,9,  34.7904,2,    189.9,2,  -999.00,9,  -999.00,9,     5.95,2,     0.00,2,     0.41,2, -999.000,9, -999.000,9,  -999.00,9,   -999.0,9,   -999.0,9,-999.0000,9,   -999.0,  9,     8.08,2,   -999.0,  -999.00,9,  -999.00,9,     0.00,2,     0.00,2,   -999.0,-999.0000, -999,9,  301,  17.1921,  25.3065,   -999.0,9
       SH99-08,  NONE,SH-5830,  2,      4, S-1-1-2,2,19990902,0944, 28.6702, 134.4528, 3680,    404.5,  15.0409,  34.6331,2,   -999.0,9,  34.6343,2,    184.9,2,  -999.00,9,  -999.00,9,     9.65,2,     0.00,2,     0.68,2, -999.000,9, -999.000,9,  -999.00,9,   -999.0,9,   -999.0,9,-999.0000,9,   -999.0,  9,     8.02,2,   -999.0,  -999.00,9,  -999.00,9,  -999.00,9,  -999.00,9,   -999.0,-999.0000, -999,9,  401,  14.9794,  25.6936,   -999.0,9
       SH99-08,  NONE,SH-5830,  2,      3,1-133-84,2,19990902,0942, 28.6702, 134.4528, 3680,    506.1,  12.9143,  34.4789,2,   -999.0,9,  34.4847,2,    173.1,2,  -999.00,9,  -999.00,9,    14.13,2,     0.00,2,     1.01,2, -999.000,9, -999.000,9,  -999.00,9,   -999.0,9,   -999.0,9,-999.0000,9,   -999.0,  9,     7.94,2,   -999.0,  -999.00,9,  -999.00,9,  -999.00,9,  -999.00,9,   -999.0,-999.0000, -999,9,  502,  12.8445,  26.0202,   -999.0,9
       SH99-08,  NONE,SH-5830,  1,      2, S-1-1-7,2,19990902,0909, 28.6675, 134.4608, 3700,    604.5,  10.0343,  34.3027,2,   -999.0,9,  34.2999,2,    152.8,2,  -999.00,9,  -999.00,9,    20.46,2,     0.00,2,     1.49,2, -999.000,9, -999.000,9,  -999.00,9,   -999.0,9,   -999.0,9,-999.0000,9,   -999.0,  9,     7.84,2,   -999.0,  -999.00,9,  -999.00,9,  -999.00,9,  -999.00,9,   -999.0,-999.0000, -999,9,  600,   9.9632,  26.4136,   -999.0,9
       SH99-08,  NONE,SH-5830,  1,      1, 1-133-1,2,19990902,0907, 28.6675, 134.4608, 3700,    705.2,   7.3003,  34.1897,2,   -999.0,9,  34.1931,2,    123.3,2,  -999.00,9,  -999.00,9,    27.76,2,     0.00,2,     2.05,2, -999.000,9, -999.000,9,  -999.00,9,   -999.0,9,   -999.0,9,-999.0000,9,   -999.0,  9,     7.72,2,   -999.0,  -999.00,9,  -999.00,9,  -999.00,9,  -999.00,9,   -999.0,-999.0000, -999,9,  699,   7.2311,  26.7484,   -999.0,9
       SH99-08,  NONE,SH-5830,  1,     12, S-1-1-8,2,19990902,0905, 28.6675, 134.4608, 3700,    805.6,   5.9257,  34.1869,2,   -999.0,9,  34.1840,2,    100.2,2,  -999.00,9,  -999.00,9,    32.04,2,     0.00,2,     2.37,2, -999.000,9, -999.000,9,  -999.00,9,   -999.0,9,   -999.0,9,-999.0000,9,   -999.0,  9,     7.63,2,   -999.0,  -999.00,9,  -999.00,9,  -999.00,9,  -999.00,9,   -999.0,-999.0000, -999,9,  799,   5.8545,  26.9284,   -999.0,9
       SH99-08,  NONE,SH-5830,  1,     11, S-1-1-9,2,19990902,0903, 28.6675, 134.4608, 3700,    906.4,   5.1348,  34.2732,2,   -999.0,9,  34.2710,2,     79.3,2,  -999.00,9,  -999.00,9,    35.25,2,     0.00,2,     2.59,2, -999.000,9, -999.000,9,  -999.00,9,   -999.0,9,   -999.0,9,-999.0000,9,   -999.0,  9,     7.60,2,   -999.0,  -999.00,9,  -999.00,9,  -999.00,9,  -999.00,9,   -999.0,-999.0000, -999,9,  898,   5.0593,  27.0922,   -999.0,9
       SH99-08,  NONE,SH-5830,  1,     10,1-133-94,2,19990902,0901, 28.6675, 134.4608, 3700,   1007.2,   4.4227,  34.3284,2,   -999.0,9,  34.3262,2,     69.3,2,  -999.00,9,  -999.00,9,    36.99,2,     0.00,2,     2.72,2, -999.000,9, -999.000,9,  -999.00,9,   -999.0,9,   -999.0,9,-999.0000,9,   -999.0,  9,     7.57,2,   -999.0,  -999.00,9,  -999.00,9,  -999.00,9,  -999.00,9,   -999.0,-999.0000, -999,9,  998,   4.3435,  27.2157,   -999.0,9
       SH99-08,  NONE,SH-5830,  1,      9, S-1-1-5,2,19990902,0857, 28.6675, 134.4608, 3700,   1209.8,   3.4537,  34.4232,2,   -999.0,9,  34.4221,2,     65.0,2,  -999.00,9,  -999.00,9,    38.84,2,     0.00,2,     2.83,2, -999.000,9, -999.000,9,  -999.00,9,   -999.0,9,   -999.0,9,-999.0000,9,   -999.0,  9,     7.56,2,   -999.0,  -999.00,9,  -999.00,9,  -999.00,9,  -999.00,9,   -999.0,-999.0000, -999,9, 1198,   3.3655,  27.3905,   -999.0,9
       SH99-08,  NONE,SH-5830,  1,      8,1-133-95,2,19990902,0854, 28.6675, 134.4608, 3700,   1513.5,   2.5965,  34.5228,2,   -999.0,9,  34.5181,2,   -999.0,9,  -999.00,9,  -999.00,9,  -999.00,9,  -999.00,9,  -999.00,9, -999.000,9, -999.000,9,  -999.00,9,   -999.0,9,   -999.0,9,-999.0000,9,   -999.0,  9,  -999.00,9,   -999.0,  -999.00,9,  -999.00,9,  -999.00,9,  -999.00,9,   -999.0,-999.0000, -999,9, 1498,   2.4924,  27.5490,   -999.0,9
       SH99-08,  NONE,SH-5830,  1,      7, S-1-1-4,2,19990902,0848, 28.6675, 134.4608, 3700,   2021.6,   1.9793,  34.6154,2,   -999.0,9,  34.6082,2,   -999.0,9,  -999.00,9,  -999.00,9,  -999.00,9,  -999.00,9,  -999.00,9, -999.000,9, -999.000,9,  -999.00,9,   -999.0,9,   -999.0,9,-999.0000,9,   -999.0,  9,  -999.00,9,   -999.0,  -999.00,9,  -999.00,9,  -999.00,9,  -999.00,9,   -999.0,-999.0000, -999,9, 1998,   1.8414,  27.6759,   -999.0,9
       SH99-08,  NONE,SH-5830,  1,      6,1-133-93,2,19990902,0842, 28.6675, 134.4608, 3700,   2530.7,   1.6759,  34.6615,2,   -999.0,9,  34.6514,2,   -999.0,9,  -999.00,9,  -999.00,9,  -999.00,9,  -999.00,9,  -999.00,9, -999.000,9, -999.000,9,  -999.00,9,   -999.0,9,   -999.0,9,-999.0000,9,   -999.0,  9,  -999.00,9,   -999.0,  -999.00,9,  -999.00,9,  -999.00,9,  -999.00,9,   -999.0,-999.0000, -999,9, 2499,   1.4989,  27.7386,   -999.0,9
       SH99-08,  NONE,SH-5830,  1,      5, 1-133-2,2,19990902,0835, 28.6675, 134.4608, 3700,   3040.9,   1.5147,  34.6866,2,   -999.0,9,  34.6737,4,   -999.0,9,  -999.00,9,  -999.00,9,  -999.00,9,  -999.00,9,  -999.00,9, -999.000,9, -999.000,9,  -999.00,9,   -999.0,9,   -999.0,9,-999.0000,9,   -999.0,  9,  -999.00,9,   -999.0,  -999.00,9,  -999.00,9,  -999.00,9,  -999.00,9,   -999.0,-999.0000, -999,9, 2999,   1.2936,  27.7735,   -999.0,9
       SH99-08,  NONE,SH-5830,  1,      4, S-1-1-2,2,19990902,0828, 28.6675, 134.4608, 3700,   3576.2,   1.5082,  34.6954,2,   -999.0,9,  34.6810,4,   -999.0,9,  -999.00,9,  -999.00,9,  -999.00,9,  -999.00,9,  -999.00,9, -999.000,9, -999.000,9,  -999.00,9,   -999.0,9,   -999.0,9,-999.0000,9,   -999.0,  9,  -999.00,9,   -999.0,  -999.00,9,  -999.00,9,  -999.00,9,  -999.00,9,   -999.0,-999.0000, -999,9, 3522,   1.2339,  27.7847,   -999.0,9
       SH99-08,  NONE,SH-5831,  2,     -9,      -9,5,19990902,1525, 29.0802, 133.9645, 2490,      0.0,  28.8422,  34.2879,2,   -999.0,9,-999.0000,9,    196.7,2,  -999.00,9,  -999.00,9,     0.00,2,     0.00,2,     0.00,2, -999.000,9, -999.000,9,  -999.00,9,   -999.0,9,   -999.0,9,-999.0000,9,   -999.0,  9,  -999.00,9,   -999.0,  -999.00,9,  -999.00,9,     0.02,2,     0.02,2,   -999.0,-999.0000, -999,9,    0,  28.8422,  21.5820,   -999.0,9
       SH99-08,  NONE,SH-5831,  2,      8,1-133-95,2,19990902,1524, 29.0802, 133.9645, 2490,     11.1,  28.7103,  34.2799,2,   -999.0,9,-999.0000,9,    195.8,2,  -999.00,9,  -999.00,9,     0.00,2,     0.00,2,     0.00,2, -999.000,9, -999.000,9,  -999.00,9,   -999.0,9,   -999.0,9,-999.0000,9,   -999.0,  9,  -999.00,9,   -999.0,  -999.00,9,  -999.00,9,     0.03,2,     0.02,2,   -999.0,-999.0000, -999,9,   11,  28.7076,  21.6207,   -999.0,9
       SH99-08,  NONE,SH-5831,  2,      7, S-1-1-4,2,19990902,1524, 29.0802, 133.9645, 2490,     25.9,  28.4590,  34.2987,2,   -999.0,9,-999.0000,9,    197.7,2,  -999.00,9,  -999.00,9,     0.00,2,     0.00,2,     0.00,2, -999.000,9, -999.000,9,  -999.00,9,   -999.0,9,   -999.0,9,-999.0000,9,   -999.0,  9,  -999.00,9,   -999.0,  -999.00,9,  -999.00,9,     0.03,2,     0.02,2,   -999.0,-999.0000, -999,9,   26,  28.4528,  21.7190,   -999.0,9
       SH99-08,  NONE,SH-5831,  2,      6,1-133-93,2,19990902,1523, 29.0802, 133.9645, 2490,     51.8,  24.9493,  34.6950,2,   -999.0,9,-999.0000,9,    215.7,2,  -999.00,9,  -999.00,9,     0.00,2,     0.00,2,     0.00,2, -999.000,9, -999.000,9,  -999.00,9,   -999.0,9,   -999.0,9,-999.0000,9,   -999.0,  9,  -999.00,9,   -999.0,  -999.00,9,  -999.00,9,     0.05,2,     0.03,2,   -999.0,-999.0000, -999,9,   51,  24.9381,  23.1295,   -999.0,9
       SH99-08,  NONE,SH-5831,  2,      5, 1-133-2,2,19990902,1522, 29.0802, 133.9645, 2490,     76.8,  22.4943,  34.8003,2,   -999.0,9,-999.0000,9,    214.1,2,  -999.00,9,  -999.00,9,     0.00,2,     0.00,2,     0.01,2, -999.000,9, -999.000,9,  -999.00,9,   -999.0,9,   -999.0,9,-999.0000,9,   -999.0,  9,  -999.00,9,   -999.0,  -999.00,9,  -999.00,9,     0.08,2,     0.08,2,   -999.0,-999.0000, -999,9,   76,  22.4789,  23.9311,   -999.0,9
       SH99-08,  NONE,SH-5831,  2,      4, S-1-1-2,2,19990902,1521, 29.0802, 133.9645, 2490,    101.7,  21.3091,  34.8353,2,   -999.0,9,-999.0000,9,    210.2,2,  -999.00,9,  -999.00,9,     0.10,2,     0.04,2,     0.04,2, -999.000,9, -999.000,9,  -999.00,9,   -999.0,9,   -999.0,9,-999.0000,9,   -999.0,  9,  -999.00,9,   -999.0,  -999.00,9,  -999.00,9,     0.18,2,     0.52,2,   -999.0,-999.0000, -999,9,  101,  21.2894,  24.2895,   -999.0,9
       SH99-08,  NONE,SH-5831,  2,      3,1-133-84,2,19990902,1520, 29.0802, 133.9645, 2490,    126.8,  20.9662,  34.8408,2,   -999.0,9,-999.0000,9,    204.1,2,  -999.00,9,  -999.00,9,     0.98,2,     0.12,2,     0.08,2, -999.000,9, -999.000,9,  -999.00,9,   -999.0,9,   -999.0,9,-999.0000,9,   -999.0,  9,  -999.00,9,   -999.0,  -999.00,9,  -999.00,9,     0.11,2,     0.37,2,   -999.0,-999.0000, -999,9,  126,  20.9420,  24.3885,   -999.0,9
       SH99-08,  NONE,SH-5831,  2,      2, S-1-1-7,2,19990902,1518, 29.0802, 133.9645, 2490,    152.1,  20.2045,  34.8346,2,   -999.0,9,-999.0000,9,    203.2,2,  -999.00,9,  -999.00,9,     1.46,2,     0.05,2,     0.12,2, -999.000,9, -999.000,9,  -999.00,9,   -999.0,9,   -999.0,9,-999.0000,9,   -999.0,  9,  -999.00,9,   -999.0,  -999.00,9,  -999.00,9,     0.05,2,     0.21,2,   -999.0,-999.0000, -999,9,  151,  20.1762,  24.5890,   -999.0,9
       SH99-08,  NONE,SH-5831,  2,      1, 1-133-1,2,19990902,1517, 29.0802, 133.9645, 2490,    203.0,  19.3902,  34.8166,2,   -999.0,9,-999.0000,9,    206.1,2,  -999.00,9,  -999.00,9,     1.76,2,     0.01,2,     0.14,2, -999.000,9, -999.000,9,  -999.00,9,   -999.0,9,   -999.0,9,-999.0000,9,   -999.0,  9,  -999.00,9,   -999.0,  -999.00,9,  -999.00,9,     0.01,2,     0.04,2,   -999.0,-999.0000, -999,9,  202,  19.3535,  24.7904,   -999.0,9
       SH99-08,  NONE,SH-5831,  2,     12, S-1-1-8,2,19990902,1516, 29.0802, 133.9645, 2490,    253.2,  18.8311,  34.8231,2,   -999.0,9,-999.0000,9,    198.9,2,  -999.00,9,  -999.00,9,     3.02,2,     0.01,2,     0.22,2, -999.000,9, -999.000,9,  -999.00,9,   -999.0,9,   -999.0,9,-999.0000,9,   -999.0,  9,  -999.00,9,   -999.0,  -999.00,9,  -999.00,9,     0.00,2,     0.01,2,   -999.0,-999.0000, -999,9,  251,  18.7862,  24.9402,   -999.0,9
       SH99-08,  NONE,SH-5831,  2,     11, S-1-1-9,2,19990902,1514, 29.0802, 133.9645, 2490,    304.9,  17.8802,  34.8084,2,   -999.0,9,-999.0000,9,    193.3,2,  -999.00,9,  -999.00,9,     4.68,2,     0.00,2,     0.33,2, -999.000,9, -999.000,9,  -999.00,9,   -999.0,9,   -999.0,9,-999.0000,9,   -999.0,  9,  -999.00,9,   -999.0,  -999.00,9,  -999.00,9,     0.00,2,     0.00,2,   -999.0,-999.0000, -999,9,  303,  17.8280,  25.1675,   -999.0,9