BOTTLE,20130510GEMDJMAYT
EXPOCODE,SECT_ID,STNNBR,CASTNO,SAMPNO,BTLNBR,BTLNBR_FLAG_W,DATE,TIME,LATITUDE,LONGITUDE,DEPTH,CTDPRS,CTDTMP,CTDSAL,CTDSAL_FLAG_W,CTDOXY,CTDOXY_FLAG_W,SALNTY,SALNTY_FLAG_W,OXYGEN,OXYGEN_FLAG_W,SILCAT,SILCAT_FLAG_W,NITRAT,NITRAT_FLAG_W,NO2+NO3,NO2+NO3_FLAG_W,NITRIT,NITRIT_FLAG_W,PHSPHT,PHSPHT_FLAG_W,CFC-11,CFC-11_FLAG_W,CFC-12,CFC-12_FLAG_W,DELC13,DELC13_FLAG_W,TCARBN,TCARBN_FLAG_W,ALKALI,ALKALI_FLAG_W,PH,PH_FLAG_W,PH_TMP,PH_SCALE,PH_NBS,PH_NBS_FLAG_W,C13ERR,TOTALP,TOTALP_FLAG_W,AMMONI,AMMONI_FLAG_W,CHLORA,CHLORA_FLAG_W,PPHYTN,PPHYTN_FLAG_W,REVPRS,REVTMP,DEPTH_,DEPTH_FLAG,CTDDEP,THETA,SIGTHT,DOC,DOC_FLAG_W
,,,,,,,GMT,GMT,,,METER,DBAR,ITS-90,PSS-78,,UMOL/KG,,PSS-78,,UMOL/KG,,UMOL/KG,,UMOL/KG,,UMOL/KG,,UMOL/KG,,UMOL/KG,,PMOL/KG,,PMOL/KG,,/MILLE,,UMOL/KG,,UMOL/KG,,25_DEG_C,,DEG_C,,,,/MILLE,UMOL/KG,,UMOL/KG,,UG/L,,UG/L,,DBAR,ITS-90,METERS,,METERS,DEG_C,,UMOL/L,
       SH99-08,  NONE,SH-5833,  1,      1, 1-133-1,2,19990903,0240, 29.9582, 132.9500, 3830,    401.4,  17.6626,  34.8029,2,   -999.0,9,-999.0000,9,    195.2,2,  -999.00,9,  -999.00,9,     4.58,2,     0.01,2,     0.32,2, -999.000,9, -999.000,9,  -999.00,9,   -999.0,9,   -999.0,9,-999.0000,9,   -999.0,  9,  -999.00,9,   -999.0,  -999.00,9,  -999.00,9,  -999.00,9,  -999.00,9,   -999.0,-999.0000, -999,9,  398,  17.5943,  25.2203,   -999.0,9
       SH99-08,  NONE,SH-5833,  1,     12, S-1-1-8,2,19990903,0238, 29.9582, 132.9500, 3830,    503.0,  15.4767,  34.6807,2,   -999.0,9,-999.0000,9,    191.1,2,  -999.00,9,  -999.00,9,     8.19,2,     0.00,2,     0.57,2, -999.000,9, -999.000,9,  -999.00,9,   -999.0,9,   -999.0,9,-999.0000,9,   -999.0,  9,  -999.00,9,   -999.0,  -999.00,9,  -999.00,9,  -999.00,9,  -999.00,9,   -999.0,-999.0000, -999,9,  499,  15.3984,  25.6377,   -999.0,9
       SH99-08,  NONE,SH-5833,  1,     11, S-1-1-9,2,19990903,0236, 29.9582, 132.9500, 3830,    603.6,  12.8658,  34.4679,2,   -999.0,9,-999.0000,9,    180.9,2,  -999.00,9,  -999.00,9,    12.57,2,     0.00,2,     0.92,2, -999.000,9, -999.000,9,  -999.00,9,   -999.0,9,   -999.0,9,-999.0000,9,   -999.0,  9,  -999.00,9,   -999.0,  -999.00,9,  -999.00,9,  -999.00,9,  -999.00,9,   -999.0,-999.0000, -999,9,  599,  12.7825,  26.0239,   -999.0,9
       SH99-08,  NONE,SH-5833,  1,     10,1-133-94,2,19990903,0234, 29.9582, 132.9500, 3830,    705.5,   9.7114,  34.2557,2,   -999.0,9,-999.0000,9,    161.1,2,  -999.00,9,  -999.00,9,    19.78,2,     0.00,2,     1.45,2, -999.000,9, -999.000,9,  -999.00,9,   -999.0,9,   -999.0,9,-999.0000,9,   -999.0,  9,  -999.00,9,   -999.0,  -999.00,9,  -999.00,9,  -999.00,9,  -999.00,9,   -999.0,-999.0000, -999,9,  700,   9.6296,  26.4329,   -999.0,9
       SH99-08,  NONE,SH-5833,  1,      9, S-1-1-5,2,19990903,0232, 29.9582, 132.9500, 3830,    806.4,   7.1403,  34.1488,2,   -999.0,9,-999.0000,9,    128.4,2,  -999.00,9,  -999.00,9,    26.69,2,     0.00,2,     2.00,2, -999.000,9, -999.000,9,  -999.00,9,   -999.0,9,   -999.0,9,-999.0000,9,   -999.0,  9,  -999.00,9,   -999.0,  -999.00,9,  -999.00,9,  -999.00,9,  -999.00,9,   -999.0,-999.0000, -999,9,  799,   7.0617,  26.7397,   -999.0,9
       SH99-08,  NONE,SH-5833,  1,      8,1-133-95,2,19990903,0230, 29.9582, 132.9500, 3830,    907.7,   5.8033,  34.1632,2,   -999.0,9,-999.0000,9,    103.5,2,  -999.00,9,  -999.00,9,    30.67,2,     0.00,2,     2.25,2, -999.000,9, -999.000,9,  -999.00,9,   -999.0,9,   -999.0,9,-999.0000,9,   -999.0,  9,  -999.00,9,   -999.0,  -999.00,9,  -999.00,9,  -999.00,9,  -999.00,9,   -999.0,-999.0000, -999,9,  900,   5.7232,  26.9259,   -999.0,9
       SH99-08,  NONE,SH-5833,  1,      7, S-1-1-4,2,19990903,0229, 29.9582, 132.9500, 3830,   1008.5,   4.9605,  34.2502,2,   -999.0,9,-999.0000,9,     77.7,2,  -999.00,9,  -999.00,9,    34.76,2,     0.00,2,     2.57,2, -999.000,9, -999.000,9,  -999.00,9,   -999.0,9,   -999.0,9,-999.0000,9,   -999.0,  9,  -999.00,9,   -999.0,  -999.00,9,  -999.00,9,  -999.00,9,  -999.00,9,   -999.0,-999.0000, -999,9,  999,   4.8771,  27.0948,   -999.0,9
       SH99-08,  NONE,SH-5833,  1,      6,1-133-93,2,19990903,0225, 29.9582, 132.9500, 3830,   1211.2,   3.7592,  34.4116,2,   -999.0,9,-999.0000,9,     69.4,2,  -999.00,9,  -999.00,9,    36.99,2,     0.00,2,     2.71,2, -999.000,9, -999.000,9,  -999.00,9,   -999.0,9,   -999.0,9,-999.0000,9,   -999.0,  9,  -999.00,9,   -999.0,  -999.00,9,  -999.00,9,  -999.00,9,  -999.00,9,   -999.0,-999.0000, -999,9, 1199,   3.6681,  27.3517,   -999.0,9
       SH99-08,  NONE,SH-5834,  2,     -9,      -9,5,19990903,0934, 30.3347, 132.5872, 4210,      0.0,  28.6741,  34.2912,2,   -999.0,9,-999.0000,9,    196.6,2,  -999.00,9,  -999.00,9,     0.00,2,     0.00,2,     0.00,2, -999.000,9, -999.000,9,  -999.00,9,   -999.0,9,   -999.0,9,-999.0000,9,   -999.0,  9,  -999.00,9,   -999.0,  -999.00,9,  -999.00,9,     0.02,2,     0.02,2,   -999.0,-999.0000, -999,9,    0,  28.6741,  21.6403,   -999.0,9
       SH99-08,  NONE,SH-5834,  2,     11, S-1-1-9,2,19990903,0932, 30.3347, 132.5872, 4210,     11.2,  28.6741,  34.2913,2,   -999.0,9,  34.2875,2,    196.6,2,  -999.00,9,  -999.00,9,     0.00,2,     0.00,2,     0.00,2, -999.000,9, -999.000,9,  -999.00,9,   -999.0,9,   -999.0,9,-999.0000,9,   -999.0,  9,  -999.00,9,   -999.0,  -999.00,9,  -999.00,9,     0.02,2,     0.02,2,   -999.0,-999.0000, -999,9,   11,  28.6714,  21.6412,   -999.0,9
       SH99-08,  NONE,SH-5834,  2,     10,1-133-94,2,19990903,0931, 30.3347, 132.5872, 4210,     25.4,  27.4584,  34.2783,2,   -999.0,9,  34.2677,4,    201.1,2,  -999.00,9,  -999.00,9,     0.00,2,     0.00,2,     0.00,2, -999.000,9, -999.000,9,  -999.00,9,   -999.0,9,   -999.0,9,-999.0000,9,   -999.0,  9,  -999.00,9,   -999.0,  -999.00,9,  -999.00,9,     0.03,2,     0.01,2,   -999.0,-999.0000, -999,9,   25,  27.4525,  22.0294,   -999.0,9
       SH99-08,  NONE,SH-5834,  2,      9, S-1-1-5,2,19990903,0930, 30.3347, 132.5872, 4210,     50.3,  24.4341,  34.7887,2,   -999.0,9,  34.7813,2,    219.1,2,  -999.00,9,  -999.00,9,     0.00,2,     0.00,2,     0.00,2, -999.000,9, -999.000,9,  -999.00,9,   -999.0,9,   -999.0,9,-999.0000,9,   -999.0,  9,  -999.00,9,   -999.0,  -999.00,9,  -999.00,9,     0.05,2,     0.04,2,   -999.0,-999.0000, -999,9,   50,  24.4234,  23.3554,   -999.0,9
       SH99-08,  NONE,SH-5834,  2,      8,1-133-95,2,19990903,0929, 30.3347, 132.5872, 4210,     74.6,  22.3450,  34.8471,2,   -999.0,9,  34.8457,2,    218.8,2,  -999.00,9,  -999.00,9,     0.00,2,     0.00,2,     0.00,2, -999.000,9, -999.000,9,  -999.00,9,   -999.0,9,   -999.0,9,-999.0000,9,   -999.0,  9,  -999.00,9,   -999.0,  -999.00,9,  -999.00,9,     0.10,2,     0.07,2,   -999.0,-999.0000, -999,9,   74,  22.3301,  24.0088,   -999.0,9
       SH99-08,  NONE,SH-5834,  2,      7, S-1-1-4,2,19990903,0928, 30.3347, 132.5872, 4210,    101.3,  21.0912,  34.8582,2,   -999.0,9,  34.8546,2,    214.6,2,  -999.00,9,  -999.00,9,     0.00,2,     0.00,2,     0.01,2, -999.000,9, -999.000,9,  -999.00,9,   -999.0,9,   -999.0,9,-999.0000,9,   -999.0,  9,  -999.00,9,   -999.0,  -999.00,9,  -999.00,9,     0.05,2,     0.09,2,   -999.0,-999.0000, -999,9,  101,  21.0717,  24.3664,   -999.0,9
       SH99-08,  NONE,SH-5834,  2,      6,1-133-93,2,19990903,0927, 30.3347, 132.5872, 4210,    127.3,  20.3423,  34.8445,2,   -999.0,9,  34.8450,2,    216.8,2,  -999.00,9,  -999.00,9,     0.39,2,     0.09,2,     0.04,2, -999.000,9, -999.000,9,  -999.00,9,   -999.0,9,   -999.0,9,-999.0000,9,   -999.0,  9,  -999.00,9,   -999.0,  -999.00,9,  -999.00,9,     0.08,2,     0.36,2,   -999.0,-999.0000, -999,9,  126,  20.3185,  24.5588,   -999.0,9
       SH99-08,  NONE,SH-5834,  2,      5, 1-133-2,2,19990903,0926, 30.3347, 132.5872, 4210,    151.5,  19.8826,  34.8249,2,   -999.0,9,  34.8276,2,    207.6,2,  -999.00,9,  -999.00,9,     1.37,2,     0.01,2,     0.11,2, -999.000,9, -999.000,9,  -999.00,9,   -999.0,9,   -999.0,9,-999.0000,9,   -999.0,  9,  -999.00,9,   -999.0,  -999.00,9,  -999.00,9,     0.02,2,     0.12,2,   -999.0,-999.0000, -999,9,  150,  19.8547,  24.6664,   -999.0,9
       SH99-08,  NONE,SH-5834,  2,      4, S-1-1-2,2,19990903,0925, 30.3347, 132.5872, 4210,    201.1,  19.4265,  34.8142,2,   -999.0,9,  34.8160,2,    208.6,2,  -999.00,9,  -999.00,9,     1.76,2,     0.01,2,     0.13,2, -999.000,9, -999.000,9,  -999.00,9,   -999.0,9,   -999.0,9,-999.0000,9,   -999.0,  9,  -999.00,9,   -999.0,  -999.00,9,  -999.00,9,     0.00,2,     0.01,2,   -999.0,-999.0000, -999,9,  200,  19.3901,  24.7791,   -999.0,9
       SH99-08,  NONE,SH-5834,  2,      3,1-133-84,2,19990903,0923, 30.3347, 132.5872, 4210,    252.0,  18.7735,  34.8278,2,   -999.0,9,  34.8266,2,    198.1,2,  -999.00,9,  -999.00,9,     3.22,2,     0.01,2,     0.22,2, -999.000,9, -999.000,9,  -999.00,9,   -999.0,9,   -999.0,9,-999.0000,9,   -999.0,  9,  -999.00,9,   -999.0,  -999.00,9,  -999.00,9,     0.00,2,     0.00,2,   -999.0,-999.0000, -999,9,  250,  18.7289,  24.9584,   -999.0,9
       SH99-08,  NONE,SH-5834,  2,      2, S-1-1-7,2,19990903,0922, 30.3347, 132.5872, 4210,    302.2,  17.7851,  34.8132,2,   -999.0,9,  34.8109,2,    194.7,2,  -999.00,9,  -999.00,9,     4.49,2,     0.01,2,     0.32,2, -999.000,9, -999.000,9,  -999.00,9,   -999.0,9,   -999.0,9,-999.0000,9,   -999.0,  9,  -999.00,9,   -999.0,  -999.00,9,  -999.00,9,     0.00,2,     0.01,2,   -999.0,-999.0000, -999,9,  300,  17.7336,  25.1943,   -999.0,9
       SH99-08,  NONE,SH-5834,  2,      1, 1-133-1,2,19990903,0920, 30.3347, 132.5872, 4210,    403.8,  15.7972,  34.6932,2,   -999.0,9,  34.6916,2,    189.4,2,  -999.00,9,  -999.00,9,     7.61,2,     0.00,2,     0.54,2, -999.000,9, -999.000,9,  -999.00,9,   -999.0,9,   -999.0,9,-999.0000,9,   -999.0,  9,  -999.00,9,   -999.0,  -999.00,9,  -999.00,9,  -999.00,9,  -999.00,9,   -999.0,-999.0000, -999,9,  401,  15.7336,  25.5721,   -999.0,9
       SH99-08,  NONE,SH-5834,  2,     12, S-1-1-8,2,19990903,0918, 30.3347, 132.5872, 4210,    505.6,  13.2643,  34.4959,2,   -999.0,9,  34.4986,2,    184.9,2,  -999.00,9,  -999.00,9,    11.99,2,     0.00,2,     0.89,2, -999.000,9, -999.000,9,  -999.00,9,   -999.0,9,   -999.0,9,-999.0000,9,   -999.0,  9,  -999.00,9,   -999.0,  -999.00,9,  -999.00,9,  -999.00,9,  -999.00,9,   -999.0,-999.0000, -999,9,  502,  13.1934,  25.9635,   -999.0,9
       SH99-08,  NONE,SH-5834,  1,     11, S-1-1-9,2,19990903,0843, 30.3085, 132.5717, 4030,    602.8,  10.7507,  34.3227,2,   -999.0,9,  34.3190,2,    168.1,2,  -999.00,9,  -999.00,9,    17.44,2,     0.00,2,     1.27,2, -999.000,9, -999.000,9,  -999.00,9,   -999.0,9,   -999.0,9,-999.0000,9,   -999.0,  9,  -999.00,9,   -999.0,  -999.00,9,  -999.00,9,  -999.00,9,  -999.00,9,   -999.0,-999.0000, -999,9,  598,  10.6766,  26.3058,   -999.0,9
       SH99-08,  NONE,SH-5834,  1,     10,1-133-94,2,19990903,0841, 30.3085, 132.5717, 4030,    703.1,   8.0615,  34.1756,2,   -999.0,9,  34.1789,2,    144.0,2,  -999.00,9,  -999.00,9,    23.86,2,     0.00,2,     1.75,2, -999.000,9, -999.000,9,  -999.00,9,   -999.0,9,   -999.0,9,-999.0000,9,   -999.0,  9,  -999.00,9,   -999.0,  -999.00,9,  -999.00,9,  -999.00,9,  -999.00,9,   -999.0,-999.0000, -999,9,  697,   7.9886,  26.6281,   -999.0,9
       SH99-08,  NONE,SH-5834,  1,      9, S-1-1-5,2,19990903,0839, 30.3085, 132.5717, 4030,    803.9,   6.3409,  34.1377,2,   -999.0,9,  34.1295,2,    114.2,2,  -999.00,9,  -999.00,9,    29.51,2,     0.00,2,     2.19,2, -999.000,9, -999.000,9,  -999.00,9,   -999.0,9,   -999.0,9,-999.0000,9,   -999.0,  9,  -999.00,9,   -999.0,  -999.00,9,  -999.00,9,  -999.00,9,  -999.00,9,   -999.0,-999.0000, -999,9,  797,   6.2674,  26.8371,   -999.0,9
       SH99-08,  NONE,SH-5834,  1,      8,1-133-95,2,19990903,0836, 30.3085, 132.5717, 4030,    905.3,   5.2273,  34.1883,2,   -999.0,9,  34.1960,2,     88.9,2,  -999.00,9,  -999.00,9,    32.91,2,     0.00,2,     2.42,2, -999.000,9, -999.000,9,  -999.00,9,   -999.0,9,   -999.0,9,-999.0000,9,   -999.0,  9,  -999.00,9,   -999.0,  -999.00,9,  -999.00,9,  -999.00,9,  -999.00,9,   -999.0,-999.0000, -999,9,  897,   5.1514,  27.0142,   -999.0,9
       SH99-08,  NONE,SH-5834,  1,      7, S-1-1-4,2,19990903,0833, 30.3085, 132.5717, 4030,   1007.1,   4.6396,  34.3073,2,   -999.0,9,  34.3050,2,     70.2,2,  -999.00,9,  -999.00,9,    35.83,2,     0.00,2,     2.63,2, -999.000,9, -999.000,9,  -999.00,9,   -999.0,9,   -999.0,9,-999.0000,9,   -999.0,  9,  -999.00,9,   -999.0,  -999.00,9,  -999.00,9,  -999.00,9,  -999.00,9,   -999.0,-999.0000, -999,9,  998,   4.5588,  27.1756,   -999.0,9
       SH99-08,  NONE,SH-5834,  1,      6,1-133-93,2,19990903,0829, 30.3085, 132.5717, 4030,   1210.4,   3.5715,  34.4342,2,   -999.0,9,  34.4257,2,     68.1,2,  -999.00,9,  -999.00,9,    37.38,2,     0.01,2,     2.74,2, -999.000,9, -999.000,9,  -999.00,9,   -999.0,9,   -999.0,9,-999.0000,9,   -999.0,  9,  -999.00,9,   -999.0,  -999.00,9,  -999.00,9,  -999.00,9,  -999.00,9,   -999.0,-999.0000, -999,9, 1199,   3.4821,  27.3880,   -999.0,9
       SH99-08,  NONE,SH-5834,  1,      5, 1-133-2,2,19990903,0824, 30.3085, 132.5717, 4030,   1513.6,   2.8248,  34.5063,2,   -999.0,9,  34.5025,2,   -999.0,9,  -999.00,9,  -999.00,9,  -999.00,9,  -999.00,9,  -999.00,9, -999.000,9, -999.000,9,  -999.00,9,   -999.0,9,   -999.0,9,-999.0000,9,   -999.0,  9,  -999.00,9,   -999.0,  -999.00,9,  -999.00,9,  -999.00,9,  -999.00,9,   -999.0,-999.0000, -999,9, 1498,   2.7180,  27.5163,   -999.0,9
       SH99-08,  NONE,SH-5834,  1,      4, S-1-1-2,2,19990903,0817, 30.3085, 132.5717, 4030,   2021.6,   2.1919,  34.5887,2,   -999.0,9,  34.5830,2,   -999.0,9,  -999.00,9,  -999.00,9,  -999.00,9,  -999.00,9,  -999.00,9, -999.000,9, -999.000,9,  -999.00,9,   -999.0,9,   -999.0,9,-999.0000,9,   -999.0,  9,  -999.00,9,   -999.0,  -999.00,9,  -999.00,9,  -999.00,9,  -999.00,9,   -999.0,-999.0000, -999,9, 1998,   2.0508,  27.6381,   -999.0,9
       SH99-08,  NONE,SH-5834,  1,      3,1-133-84,2,19990903,0810, 30.3085, 132.5717, 4030,   2530.1,   1.8389,  34.6428,2,   -999.0,9,  34.6335,2,   -999.0,9,  -999.00,9,  -999.00,9,  -999.00,9,  -999.00,9,  -999.00,9, -999.000,9, -999.000,9,  -999.00,9,   -999.0,9,   -999.0,9,-999.0000,9,   -999.0,  9,  -999.00,9,   -999.0,  -999.00,9,  -999.00,9,  -999.00,9,  -999.00,9,   -999.0,-999.0000, -999,9, 2498,   1.6590,  27.7117,   -999.0,9
       SH99-08,  NONE,SH-5834,  1,      2, S-1-1-7,2,19990903,0803, 30.3085, 132.5717, 4030,   3040.0,   1.6495,  34.6714,2,   -999.0,9,  34.6473,4,   -999.0,9,  -999.00,9,  -999.00,9,  -999.00,9,  -999.00,9,  -999.00,9, -999.000,9, -999.000,9,  -999.00,9,   -999.0,9,   -999.0,9,-999.0000,9,   -999.0,  9,  -999.00,9,   -999.0,  -999.00,9,  -999.00,9,  -999.00,9,  -999.00,9,   -999.0,-999.0000, -999,9, 2998,   1.4255,  27.7519,   -999.0,9
       SH99-08,  NONE,SH-5834,  1,      1, 1-133-1,2,19990903,0756, 30.3085, 132.5717, 4030,   3550.5,   1.5565,  34.6874,2,   -999.0,9,-999.0000,4,   -999.0,9,  -999.00,9,  -999.00,9,  -999.00,9,  -999.00,9,  -999.00,9, -999.000,9, -999.000,9,  -999.00,9,   -999.0,9,   -999.0,9,-999.0000,9,   -999.0,  9,  -999.00,9,   -999.0,  -999.00,9,  -999.00,9,  -999.00,9,  -999.00,9,   -999.0,-999.0000, -999,9, 3497,   1.2838,  27.7748,   -999.0,9
       SH99-08,  NONE,SH-5834,  1,     12, S-1-1-8,2,19990903,0751, 30.3085, 132.5717, 4030,   3862.5,   1.5617,  34.6921,2,   -999.0,9,  34.6790,4,   -999.0,9,  -999.00,9,  -999.00,9,  -999.00,9,  -999.00,9,  -999.00,9, -999.000,9, -999.000,9,  -999.00,9,   -999.0,9,   -999.0,9,-999.0000,9,   -999.0,  9,  -999.00,9,   -999.0,  -999.00,9,  -999.00,9,  -999.00,9,  -999.00,9,   -999.0,-999.0000, -999,9, 3802,   1.2559,  27.7805,   -999.0,9