BOTTLE,20130510GEMDJMAYT
EXPOCODE,SECT_ID,STNNBR,CASTNO,SAMPNO,BTLNBR,BTLNBR_FLAG_W,DATE,TIME,LATITUDE,LONGITUDE,DEPTH,CTDPRS,CTDTMP,CTDSAL,CTDSAL_FLAG_W,CTDOXY,CTDOXY_FLAG_W,SALNTY,SALNTY_FLAG_W,OXYGEN,OXYGEN_FLAG_W,SILCAT,SILCAT_FLAG_W,NITRAT,NITRAT_FLAG_W,NO2+NO3,NO2+NO3_FLAG_W,NITRIT,NITRIT_FLAG_W,PHSPHT,PHSPHT_FLAG_W,CFC-11,CFC-11_FLAG_W,CFC-12,CFC-12_FLAG_W,DELC13,DELC13_FLAG_W,TCARBN,TCARBN_FLAG_W,ALKALI,ALKALI_FLAG_W,PH,PH_FLAG_W,PH_TMP,PH_SCALE,PH_NBS,PH_NBS_FLAG_W,C13ERR,TOTALP,TOTALP_FLAG_W,AMMONI,AMMONI_FLAG_W,CHLORA,CHLORA_FLAG_W,PPHYTN,PPHYTN_FLAG_W,REVPRS,REVTMP,DEPTH_,DEPTH_FLAG,CTDDEP,THETA,SIGTHT,DOC,DOC_FLAG_W
,,,,,,,GMT,GMT,,,METER,DBAR,ITS-90,PSS-78,,UMOL/KG,,PSS-78,,UMOL/KG,,UMOL/KG,,UMOL/KG,,UMOL/KG,,UMOL/KG,,UMOL/KG,,PMOL/KG,,PMOL/KG,,/MILLE,,UMOL/KG,,UMOL/KG,,25_DEG_C,,DEG_C,,,,/MILLE,UMOL/KG,,UMOL/KG,,UG/L,,UG/L,,DBAR,ITS-90,METERS,,METERS,DEG_C,,UMOL/L,
       SH99-08,  NONE,SH-5837,  1,     -9,      -9,5,19990904,0009, 31.1732, 131.4965,  220,      0.0,  27.9613,  33.5148,2,   -999.0,9,-999.0000,9,    198.9,2,  -999.00,9,  -999.00,9,     0.10,2,     0.00,2,     0.00,2, -999.000,9, -999.000,9,  -999.00,9,   -999.0,9,   -999.0,9,-999.0000,9,   -999.0,  9,     8.23,2,   -999.0,  -999.00,9,  -999.00,9,     0.00,4,     0.28,4,   -999.0,-999.0000, -999,9,    0,  27.9613,  21.2908,   -999.0,9
       SH99-08,  NONE,SH-5837,  1,      8,1-133-95,2,19990904,0008, 31.1732, 131.4965,  220,     10.9,  27.7344,  33.6143,2,   -999.0,9,  33.5326,4,    198.6,2,  -999.00,9,  -999.00,9,     0.00,2,     0.00,2,     0.00,2, -999.000,9, -999.000,9,  -999.00,9,   -999.0,9,   -999.0,9,-999.0000,9,   -999.0,  9,     8.21,2,   -999.0,  -999.00,9,  -999.00,9,     0.16,2,     0.11,2,   -999.0,-999.0000, -999,9,   11,  27.7319,  21.4399,   -999.0,9
       SH99-08,  NONE,SH-5837,  1,      7, S-1-1-4,2,19990904,0005, 31.1732, 131.4965,  220,     25.7,  27.4514,  33.7176,2,   -999.0,9,  33.7092,2,    198.8,2,  -999.00,9,  -999.00,9,     0.10,2,     0.00,2,     0.02,2, -999.000,9, -999.000,9,  -999.00,9,   -999.0,9,   -999.0,9,-999.0000,9,   -999.0,  9,     8.21,2,   -999.0,  -999.00,9,  -999.00,9,     0.10,2,     0.39,2,   -999.0,-999.0000, -999,9,   26,  27.4455,  21.6099,   -999.0,9
       SH99-08,  NONE,SH-5837,  1,      6,1-133-93,2,19990904,0003, 31.1732, 131.4965,  220,     50.9,  21.5600,  34.5688,2,   -999.0,9,  34.5436,4,    178.6,2,  -999.00,9,  -999.00,9,     4.00,2,     0.11,2,     0.34,2, -999.000,9, -999.000,9,  -999.00,9,   -999.0,9,   -999.0,9,-999.0000,9,   -999.0,  9,     8.10,2,   -999.0,  -999.00,9,  -999.00,9,     0.06,2,     0.31,2,   -999.0,-999.0000, -999,9,   51,  21.5501,  24.0152,   -999.0,9
       SH99-08,  NONE,SH-5837,  1,      5, 1-133-2,4,19990904,0002, 31.1732, 131.4965,  220,     76.4,  19.1820,  34.6714,2,   -999.0,9,-999.0000,4,    175.7,2,  -999.00,9,  -999.00,9,     5.95,2,     0.04,2,     0.47,2, -999.000,9, -999.000,9,  -999.00,9,   -999.0,9,   -999.0,9,-999.0000,9,   -999.0,  9,     8.06,2,   -999.0,  -999.00,9,  -999.00,9,     0.01,2,     0.24,2,   -999.0,-999.0000, -999,9,   76,  19.1684,  24.7270,   -999.0,9
       SH99-08,  NONE,SH-5837,  1,      4, S-1-1-2,2,19990904,0002, 31.1732, 131.4965,  220,     76.4,  19.1820,  34.6714,2,   -999.0,9,  34.6894,4,    175.6,2,  -999.00,9,  -999.00,9,     5.76,2,     0.03,2,     0.47,2, -999.000,9, -999.000,9,  -999.00,9,   -999.0,9,   -999.0,9,-999.0000,9,   -999.0,  9,     8.05,2,   -999.0,  -999.00,9,  -999.00,9,     0.04,2,     0.22,2,   -999.0,-999.0000, -999,9,   76,  19.1684,  24.7270,   -999.0,9
       SH99-08,  NONE,SH-5837,  1,      3,1-133-84,2,19990904,0001, 31.1732, 131.4965,  220,    101.4,  18.7469,  34.6680,2,   -999.0,9,  34.6678,2,    174.8,2,  -999.00,9,  -999.00,9,     6.54,2,     0.04,2,     0.50,2, -999.000,9, -999.000,9,  -999.00,9,   -999.0,9,   -999.0,9,-999.0000,9,   -999.0,  9,     8.04,2,   -999.0,  -999.00,9,  -999.00,9,     0.06,2,     0.15,2,   -999.0,-999.0000, -999,9,  101,  18.7291,  24.8361,   -999.0,9
       SH99-08,  NONE,SH-5837,  1,      2, S-1-1-7,2,19990904,0000, 31.1732, 131.4965,  220,    127.4,  17.9285,  34.6713,2,   -999.0,9,  34.6755,2,    175.0,2,  -999.00,9,  -999.00,9,     7.02,2,     0.03,2,     0.55,2, -999.000,9, -999.000,9,  -999.00,9,   -999.0,9,   -999.0,9,-999.0000,9,   -999.0,  9,     8.03,2,   -999.0,  -999.00,9,  -999.00,9,     0.04,2,     0.11,2,   -999.0,-999.0000, -999,9,  126,  17.9068,  25.0432,   -999.0,9
       SH99-08,  NONE,SH-5837,  1,      1, 1-133-1,2,19990903,2359, 31.1732, 131.4965,  220,    152.0,  16.2800,  34.6636,2,   -999.0,9,  34.6660,2,    174.4,2,  -999.00,9,  -999.00,9,     8.97,2,     0.00,2,     0.72,2, -999.000,9, -999.000,9,  -999.00,9,   -999.0,9,   -999.0,9,-999.0000,9,   -999.0,  9,     8.00,2,   -999.0,  -999.00,9,  -999.00,9,     0.00,2,     0.05,2,   -999.0,-999.0000, -999,9,  151,  16.2557,  25.4301,   -999.0,9
       SH99-08,  NONE,SH-5837,  1,     12, S-1-1-8,2,19990903,2357, 31.1732, 131.4965,  220,    202.1,  13.7232,  34.5429,2,   -999.0,9,  34.5464,2,    163.9,2,  -999.00,9,  -999.00,9,    13.26,2,     0.00,2,     1.04,2, -999.000,9, -999.000,9,  -999.00,9,   -999.0,9,   -999.0,9,-999.0000,9,   -999.0,  9,     7.94,2,   -999.0,  -999.00,9,  -999.00,9,     0.00,2,     0.03,2,   -999.0,-999.0000, -999,9,  201,  13.6945,  25.8974,   -999.0,9