BOTTLE,20130510GEMDJMAYT
EXPOCODE,SECT_ID,STNNBR,CASTNO,SAMPNO,BTLNBR,BTLNBR_FLAG_W,DATE,TIME,LATITUDE,LONGITUDE,DEPTH,CTDPRS,CTDTMP,CTDSAL,CTDSAL_FLAG_W,CTDOXY,CTDOXY_FLAG_W,SALNTY,SALNTY_FLAG_W,OXYGEN,OXYGEN_FLAG_W,SILCAT,SILCAT_FLAG_W,NITRAT,NITRAT_FLAG_W,NO2+NO3,NO2+NO3_FLAG_W,NITRIT,NITRIT_FLAG_W,PHSPHT,PHSPHT_FLAG_W,CFC-11,CFC-11_FLAG_W,CFC-12,CFC-12_FLAG_W,DELC13,DELC13_FLAG_W,TCARBN,TCARBN_FLAG_W,ALKALI,ALKALI_FLAG_W,PH,PH_FLAG_W,PH_TMP,PH_SCALE,PH_NBS,PH_NBS_FLAG_W,C13ERR,TOTALP,TOTALP_FLAG_W,AMMONI,AMMONI_FLAG_W,CHLORA,CHLORA_FLAG_W,PPHYTN,PPHYTN_FLAG_W,REVPRS,REVTMP,DEPTH_,DEPTH_FLAG,CTDDEP,THETA,SIGTHT,DOC,DOC_FLAG_W
,,,,,,,GMT,GMT,,,METER,DBAR,ITS-90,PSS-78,,UMOL/KG,,PSS-78,,UMOL/KG,,UMOL/KG,,UMOL/KG,,UMOL/KG,,UMOL/KG,,UMOL/KG,,PMOL/KG,,PMOL/KG,,/MILLE,,UMOL/KG,,UMOL/KG,,25_DEG_C,,DEG_C,,,,/MILLE,UMOL/KG,,UMOL/KG,,UG/L,,UG/L,,DBAR,ITS-90,METERS,,METERS,DEG_C,,UMOL/L,
       SH99-08,  NONE,SH-5824,  2,     -9,      -9,5,19990831,2220, 31.4993, 135.2808, 3600,      0.0,  28.6134,  34.0848,2,   -999.0,9,-999.0000,9,    196.3,2,  -999.00,9,  -999.00,9,     0.00,2,     0.00,2,     0.01,2, -999.000,9, -999.000,9,  -999.00,9,   -999.0,9,   -999.0,9,-999.0000,9,   -999.0,  9,  -999.00,9,   -999.0,  -999.00,9,  -999.00,9,     0.06,2,     0.03,2,   -999.0,-999.0000, -999,9,    0,  28.6134,  21.5053,   -999.0,9
       SH99-08,  NONE,SH-5824,  2,     10,1-133-94,2,19990831,2219, 31.4993, 135.2808, 3600,     10.4,  28.6093,  34.0885,2,   -999.0,9,  34.0863,2,    196.3,2,  -999.00,9,  -999.00,9,     0.00,2,     0.00,2,     0.00,2, -999.000,9, -999.000,9,  -999.00,9,   -999.0,9,   -999.0,9,-999.0000,9,   -999.0,  9,  -999.00,9,   -999.0,  -999.00,9,  -999.00,9,     0.12,2,     0.05,2,   -999.0,-999.0000, -999,9,   10,  28.6068,  21.5103,   -999.0,9
       SH99-08,  NONE,SH-5824,  2,      9, S-1-1-5,2,19990831,2218, 31.4993, 135.2808, 3600,     26.2,  27.9809,  34.4083,2,   -999.0,9,  34.3911,4,    198.9,2,  -999.00,9,  -999.00,9,     0.00,2,     0.00,2,     0.00,2, -999.000,9, -999.000,9,  -999.00,9,   -999.0,9,   -999.0,9,-999.0000,9,   -999.0,  9,  -999.00,9,   -999.0,  -999.00,9,  -999.00,9,     0.09,2,     0.07,2,   -999.0,-999.0000, -999,9,   26,  27.9748,  21.9579,   -999.0,9
       SH99-08,  NONE,SH-5824,  2,      8,1-133-95,2,19990831,2217, 31.4993, 135.2808, 3600,     51.6,  26.2703,  34.5510,2,   -999.0,9,  34.5171,4,    208.4,2,  -999.00,9,  -999.00,9,     0.00,2,     0.00,2,     0.00,2, -999.000,9, -999.000,9,  -999.00,9,   -999.0,9,   -999.0,9,-999.0000,9,   -999.0,  9,  -999.00,9,   -999.0,  -999.00,9,  -999.00,9,     0.71,2,     0.84,2,   -999.0,-999.0000, -999,9,   51,  26.2587,  22.6138,   -999.0,9
       SH99-08,  NONE,SH-5824,  2,      7, S-1-1-4,2,19990831,2215, 31.4993, 135.2808, 3600,     76.0,  22.9580,  34.7486,2,   -999.0,9,  34.7487,2,    225.3,2,  -999.00,9,  -999.00,9,     0.00,2,     0.00,2,     0.00,2, -999.000,9, -999.000,9,  -999.00,9,   -999.0,9,   -999.0,9,-999.0000,9,   -999.0,  9,  -999.00,9,   -999.0,  -999.00,9,  -999.00,9,     0.21,2,     0.56,2,   -999.0,-999.0000, -999,9,   75,  22.9425,  23.7595,   -999.0,9
       SH99-08,  NONE,SH-5824,  2,      6,1-133-93,2,19990831,2214, 31.4993, 135.2808, 3600,    101.4,  21.5639,  34.8307,2,   -999.0,9,  34.8357,2,    212.0,2,  -999.00,9,  -999.00,9,     0.00,2,     0.00,2,     0.02,2, -999.000,9, -999.000,9,  -999.00,9,   -999.0,9,   -999.0,9,-999.0000,9,   -999.0,  9,  -999.00,9,   -999.0,  -999.00,9,  -999.00,9,     0.06,2,     0.19,2,   -999.0,-999.0000, -999,9,  101,  21.5441,  24.2159,   -999.0,9
       SH99-08,  NONE,SH-5824,  2,      5, 1-133-2,2,19990831,2213, 31.4993, 135.2808, 3600,    127.4,  20.7894,  34.8266,2,   -999.0,9,  34.8294,2,    209.8,2,  -999.00,9,  -999.00,9,     0.68,2,     0.13,2,     0.06,2, -999.000,9, -999.000,9,  -999.00,9,   -999.0,9,   -999.0,9,-999.0000,9,   -999.0,  9,  -999.00,9,   -999.0,  -999.00,9,  -999.00,9,     0.02,2,     0.09,2,   -999.0,-999.0000, -999,9,  126,  20.7653,  24.4254,   -999.0,9
       SH99-08,  NONE,SH-5824,  2,      4, S-1-1-2,2,19990831,2211, 31.4993, 135.2808, 3600,    151.6,  20.2200,  34.8217,2,   -999.0,9,  34.8217,2,    210.2,2,  -999.00,9,  -999.00,9,     0.88,2,     0.11,2,     0.08,2, -999.000,9, -999.000,9,  -999.00,9,   -999.0,9,   -999.0,9,-999.0000,9,   -999.0,  9,  -999.00,9,   -999.0,  -999.00,9,  -999.00,9,     0.02,2,     0.09,2,   -999.0,-999.0000, -999,9,  150,  20.1918,  24.5751,   -999.0,9
       SH99-08,  NONE,SH-5824,  2,      3,1-133-84,2,19990831,2209, 31.4993, 135.2808, 3600,    202.9,  19.4140,  34.8149,2,   -999.0,9,  34.8158,2,    209.5,2,  -999.00,9,  -999.00,9,     1.56,2,     0.02,2,     0.13,2, -999.000,9, -999.000,9,  -999.00,9,   -999.0,9,   -999.0,9,-999.0000,9,   -999.0,  9,  -999.00,9,   -999.0,  -999.00,9,  -999.00,9,     0.00,2,     0.03,2,   -999.0,-999.0000, -999,9,  201,  19.3773,  24.7829,   -999.0,9
       SH99-08,  NONE,SH-5824,  2,      2, S-1-1-7,2,19990831,2207, 31.4993, 135.2808, 3600,    252.3,  19.1142,  34.8161,2,   -999.0,9,  34.8156,2,    205.9,2,  -999.00,9,  -999.00,9,     2.24,2,     0.01,2,     0.17,2, -999.000,9, -999.000,9,  -999.00,9,   -999.0,9,   -999.0,9,-999.0000,9,   -999.0,  9,  -999.00,9,   -999.0,  -999.00,9,  -999.00,9,     0.00,2,     0.02,2,   -999.0,-999.0000, -999,9,  250,  19.0691,  24.8630,   -999.0,9
       SH99-08,  NONE,SH-5824,  2,      1, 1-133-1,2,19990831,2206, 31.4993, 135.2808, 3600,    304.1,  18.4347,  34.8242,2,   -999.0,9,  34.8245,2,    193.4,2,  -999.00,9,  -999.00,9,     3.80,2,     0.01,2,     0.28,2, -999.000,9, -999.000,9,  -999.00,9,   -999.0,9,   -999.0,9,-999.0000,9,   -999.0,  9,  -999.00,9,   -999.0,  -999.00,9,  -999.00,9,     0.00,2,     0.03,2,   -999.0,-999.0000, -999,9,  302,  18.3816,  25.0428,   -999.0,9
       SH99-08,  NONE,SH-5824,  1,     12, S-1-1-8,2,19990831,2121, 31.4952, 135.2580, 3620,    403.3,  16.8290,  34.7663,2,   -999.0,9,  34.7666,2,    189.4,2,  -999.00,9,  -999.00,9,     6.44,2,     0.01,2,     0.46,2, -999.000,9, -999.000,9,  -999.00,9,   -999.0,9,   -999.0,9,-999.0000,9,   -999.0,  9,  -999.00,9,   -999.0,  -999.00,9,  -999.00,9,  -999.00,9,  -999.00,9,   -999.0,-999.0000, -999,9,  400,  16.7626,  25.3909,   -999.0,9
       SH99-08,  NONE,SH-5824,  1,     11, S-1-1-9,2,19990831,2118, 31.4952, 135.2580, 3620,    503.5,  14.9861,  34.6324,2,   -999.0,9,  34.6349,2,    183.2,2,  -999.00,9,  -999.00,9,     9.85,2,     0.01,2,     0.70,2, -999.000,9, -999.000,9,  -999.00,9,   -999.0,9,   -999.0,9,-999.0000,9,   -999.0,  9,  -999.00,9,   -999.0,  -999.00,9,  -999.00,9,  -999.00,9,  -999.00,9,   -999.0,-999.0000, -999,9,  499,  14.9094,  25.7083,   -999.0,9
       SH99-08,  NONE,SH-5824,  1,     10,1-133-94,2,19990831,2111, 31.4952, 135.2580, 3620,    604.2,  12.6002,  34.4672,2,   -999.0,9,  34.4597,2,    171.7,2,  -999.00,9,  -999.00,9,    14.42,2,     0.00,2,     1.05,2, -999.000,9, -999.000,9,  -999.00,9,   -999.0,9,   -999.0,9,-999.0000,9,   -999.0,  9,  -999.00,9,   -999.0,  -999.00,9,  -999.00,9,  -999.00,9,  -999.00,9,   -999.0,-999.0000, -999,9,  599,  12.5180,  26.0754,   -999.0,9
       SH99-08,  NONE,SH-5824,  1,      9, S-1-1-5,2,19990831,2107, 31.4952, 135.2580, 3620,    705.6,  10.0887,  34.3005,2,   -999.0,9,  34.3054,2,    153.6,2,  -999.00,9,  -999.00,9,    20.17,2,     0.00,2,     1.49,2, -999.000,9, -999.000,9,  -999.00,9,   -999.0,9,   -999.0,9,-999.0000,9,   -999.0,  9,  -999.00,9,   -999.0,  -999.00,9,  -999.00,9,  -999.00,9,  -999.00,9,   -999.0,-999.0000, -999,9,  699,  10.0050,  26.4049,   -999.0,9
       SH99-08,  NONE,SH-5824,  1,      8,1-133-95,2,19990831,2103, 31.4952, 135.2580, 3620,    807.0,   7.7401,  34.1771,2,   -999.0,9,  34.1764,2,    135.4,2,  -999.00,9,  -999.00,9,    25.81,2,     0.00,2,     1.91,2, -999.000,9, -999.000,9,  -999.00,9,   -999.0,9,   -999.0,9,-999.0000,9,   -999.0,  9,  -999.00,9,   -999.0,  -999.00,9,  -999.00,9,  -999.00,9,  -999.00,9,   -999.0,-999.0000, -999,9,  800,   7.6578,  26.6777,   -999.0,9
       SH99-08,  NONE,SH-5824,  1,      7, S-1-1-4,2,19990831,2054, 31.4952, 135.2580, 3620,    907.7,   6.2339,  34.2070,2,   -999.0,9,  34.2084,2,    100.8,2,  -999.00,9,  -999.00,9,    31.45,2,     0.01,2,     2.33,2, -999.000,9, -999.000,9,  -999.00,9,   -999.0,9,   -999.0,9,-999.0000,9,   -999.0,  9,  -999.00,9,   -999.0,  -999.00,9,  -999.00,9,  -999.00,9,  -999.00,9,   -999.0,-999.0000, -999,9,  899,   6.1509,  26.9069,   -999.0,9
       SH99-08,  NONE,SH-5824,  1,      6,1-133-93,2,19990831,2052, 31.4952, 135.2580, 3620,   1008.8,   5.1509,  34.2774,2,   -999.0,9,  34.2793,2,     81.2,2,  -999.00,9,  -999.00,9,    34.66,2,     0.01,2,     2.58,2, -999.000,9, -999.000,9,  -999.00,9,   -999.0,9,   -999.0,9,-999.0000,9,   -999.0,  9,  -999.00,9,   -999.0,  -999.00,9,  -999.00,9,  -999.00,9,  -999.00,9,   -999.0,-999.0000, -999,9,  999,   5.0660,  27.0947,   -999.0,9
       SH99-08,  NONE,SH-5824,  1,      5, 1-133-2,2,19990831,2049, 31.4952, 135.2580, 3620,   1213.5,   3.7802,  34.3900,2,   -999.0,9,  34.3911,2,     65.9,2,  -999.00,9,  -999.00,9,    37.87,2,     0.01,2,     2.77,2, -999.000,9, -999.000,9,  -999.00,9,   -999.0,9,   -999.0,9,-999.0000,9,   -999.0,  9,  -999.00,9,   -999.0,  -999.00,9,  -999.00,9,  -999.00,9,  -999.00,9,   -999.0,-999.0000, -999,9, 1202,   3.6887,  27.3325,   -999.0,9
       SH99-08,  NONE,SH-5825,  2,     -9,      -9,5,19990901,0347, 31.0103, 135.2753, 4300,      0.0,  28.7664,  34.5227,2,   -999.0,9,-999.0000,9,    196.6,2,  -999.00,9,  -999.00,9,     0.10,2,     0.00,2,     0.00,2, -999.000,9, -999.000,9,  -999.00,9,   -999.0,9,   -999.0,9,-999.0000,9,   -999.0,  9,  -999.00,9,   -999.0,  -999.00,9,  -999.00,9,     0.17,2,     0.09,2,   -999.0,-999.0000, -999,9,    0,  28.7664,  21.7835,   -999.0,9
       SH99-08,  NONE,SH-5825,  2,      4, S-1-1-2,2,19990901,0346, 31.0103, 135.2753, 4300,     11.4,  28.5256,  34.5192,2,   -999.0,9,-999.0000,9,    196.6,2,  -999.00,9,  -999.00,9,     0.00,2,     0.00,2,     0.00,2, -999.000,9, -999.000,9,  -999.00,9,   -999.0,9,   -999.0,9,-999.0000,9,   -999.0,  9,  -999.00,9,   -999.0,  -999.00,9,  -999.00,9,     0.15,2,     0.09,2,   -999.0,-999.0000, -999,9,   11,  28.5229,  21.8615,   -999.0,9
       SH99-08,  NONE,SH-5825,  2,      3,1-133-84,2,19990901,0345, 31.0103, 135.2753, 4300,     25.8,  27.8886,  34.5422,2,   -999.0,9,-999.0000,9,    199.8,2,  -999.00,9,  -999.00,9,     0.00,2,     0.00,2,     0.00,2, -999.000,9, -999.000,9,  -999.00,9,   -999.0,9,   -999.0,9,-999.0000,9,   -999.0,  9,  -999.00,9,   -999.0,  -999.00,9,  -999.00,9,     0.39,2,     0.47,2,   -999.0,-999.0000, -999,9,   26,  27.8825,  22.0887,   -999.0,9
       SH99-08,  NONE,SH-5825,  2,      2, S-1-1-7,2,19990901,0344, 31.0103, 135.2753, 4300,     50.9,  22.0664,  34.7741,2,   -999.0,9,-999.0000,9,    235.0,2,  -999.00,9,  -999.00,9,     0.00,2,     0.00,2,     0.00,2, -999.000,9, -999.000,9,  -999.00,9,   -999.0,9,   -999.0,9,-999.0000,9,   -999.0,  9,  -999.00,9,   -999.0,  -999.00,9,  -999.00,9,     0.25,2,     0.48,2,   -999.0,-999.0000, -999,9,   51,  22.0564,  24.0304,   -999.0,9
       SH99-08,  NONE,SH-5825,  2,      1, 1-133-1,2,19990901,0343, 31.0103, 135.2753, 4300,     76.4,  20.3872,  34.7922,2,   -999.0,9,-999.0000,9,    233.0,2,  -999.00,9,  -999.00,9,     0.10,2,     0.00,2,     0.00,2, -999.000,9, -999.000,9,  -999.00,9,   -999.0,9,   -999.0,9,-999.0000,9,   -999.0,  9,  -999.00,9,   -999.0,  -999.00,9,  -999.00,9,     0.08,2,     0.19,2,   -999.0,-999.0000, -999,9,   76,  20.3729,  24.5044,   -999.0,9
       SH99-08,  NONE,SH-5825,  2,     12, S-1-1-8,2,19990901,0342, 31.0103, 135.2753, 4300,    101.9,  19.5904,  34.7984,2,   -999.0,9,-999.0000,9,    216.6,2,  -999.00,9,  -999.00,9,     0.59,2,     0.05,2,     0.07,2, -999.000,9, -999.000,9,  -999.00,9,   -999.0,9,   -999.0,9,-999.0000,9,   -999.0,  9,  -999.00,9,   -999.0,  -999.00,9,  -999.00,9,     0.03,2,     0.10,2,   -999.0,-999.0000, -999,9,  101,  19.5718,  24.7199,   -999.0,9
       SH99-08,  NONE,SH-5825,  2,     11, S-1-1-9,2,19990901,0341, 31.0103, 135.2753, 4300,    127.6,  19.2949,  34.8037,2,   -999.0,9,-999.0000,9,    213.2,2,  -999.00,9,  -999.00,9,     1.27,2,     0.07,2,     0.11,2, -999.000,9, -999.000,9,  -999.00,9,   -999.0,9,   -999.0,9,-999.0000,9,   -999.0,  9,  -999.00,9,   -999.0,  -999.00,9,  -999.00,9,     0.02,2,     0.06,2,   -999.0,-999.0000, -999,9,  127,  19.2719,  24.8015,   -999.0,9
       SH99-08,  NONE,SH-5825,  2,     10,1-133-94,2,19990901,0340, 31.0103, 135.2753, 4300,    153.0,  19.2089,  34.8067,2,   -999.0,9,-999.0000,9,    211.9,2,  -999.00,9,  -999.00,9,     1.66,2,     0.01,2,     0.13,2, -999.000,9, -999.000,9,  -999.00,9,   -999.0,9,   -999.0,9,-999.0000,9,   -999.0,  9,  -999.00,9,   -999.0,  -999.00,9,  -999.00,9,     0.01,2,     0.03,2,   -999.0,-999.0000, -999,9,  152,  19.1815,  24.8270,   -999.0,9
       SH99-08,  NONE,SH-5825,  2,      9, S-1-1-5,2,19990901,0339, 31.0103, 135.2753, 4300,    203.0,  19.1058,  34.8042,2,   -999.0,9,-999.0000,9,    214.3,2,  -999.00,9,  -999.00,9,     1.66,2,     0.01,2,     0.13,2, -999.000,9, -999.000,9,  -999.00,9,   -999.0,9,   -999.0,9,-999.0000,9,   -999.0,  9,  -999.00,9,   -999.0,  -999.00,9,  -999.00,9,     0.00,2,     0.02,2,   -999.0,-999.0000, -999,9,  202,  19.0695,  24.8538,   -999.0,9
       SH99-08,  NONE,SH-5825,  2,      8,1-133-95,2,19990901,0338, 31.0103, 135.2753, 4300,    252.5,  18.9724,  34.7981,2,   -999.0,9,-999.0000,9,    214.2,2,  -999.00,9,  -999.00,9,     1.85,2,     0.01,2,     0.14,2, -999.000,9, -999.000,9,  -999.00,9,   -999.0,9,   -999.0,9,-999.0000,9,   -999.0,  9,  -999.00,9,   -999.0,  -999.00,9,  -999.00,9,     0.00,2,     0.02,2,   -999.0,-999.0000, -999,9,  251,  18.9274,  24.8854,   -999.0,9
       SH99-08,  NONE,SH-5825,  2,      7, S-1-1-4,2,19990901,0336, 31.0103, 135.2753, 4300,    305.6,  18.8972,  34.8028,2,   -999.0,9,-999.0000,9,    212.6,2,  -999.00,9,  -999.00,9,     1.85,2,     0.01,2,     0.14,2, -999.000,9, -999.000,9,  -999.00,9,   -999.0,9,   -999.0,9,-999.0000,9,   -999.0,  9,  -999.00,9,   -999.0,  -999.00,9,  -999.00,9,     0.00,2,     0.02,2,   -999.0,-999.0000, -999,9,  303,  18.8428,  24.9104,   -999.0,9
       SH99-08,  NONE,SH-5825,  1,      6,1-133-93,2,19990901,0302, 31.0035, 135.2572, 4260,    402.2,  17.8157,  34.8352,2,   -999.0,9,-999.0000,9,    193.8,2,  -999.00,9,  -999.00,9,     4.78,2,     0.00,2,     0.32,2, -999.000,9, -999.000,9,  -999.00,9,   -999.0,9,   -999.0,9,-999.0000,9,   -999.0,  9,  -999.00,9,   -999.0,  -999.00,9,  -999.00,9,  -999.00,9,  -999.00,9,   -999.0,-999.0000, -999,9,  399,  17.7469,  25.2079,   -999.0,9
       SH99-08,  NONE,SH-5825,  1,      5, 1-133-2,2,19990901,0301, 31.0035, 135.2572, 4260,    502.9,  16.2838,  34.7332,2,   -999.0,9,-999.0000,9,    187.1,2,  -999.00,9,  -999.00,9,     7.51,2,     0.00,2,     0.52,2, -999.000,9, -999.000,9,  -999.00,9,   -999.0,9,   -999.0,9,-999.0000,9,   -999.0,  9,  -999.00,9,   -999.0,  -999.00,9,  -999.00,9,  -999.00,9,  -999.00,9,   -999.0,-999.0000, -999,9,  499,  16.2027,  25.4958,   -999.0,9
       SH99-08,  NONE,SH-5825,  1,      4, S-1-1-2,2,19990901,0259, 31.0035, 135.2572, 4260,    604.5,  14.1948,  34.5723,2,   -999.0,9,-999.0000,9,    179.6,2,  -999.00,9,  -999.00,9,    11.50,2,     0.00,2,     0.82,2, -999.000,9, -999.000,9,  -999.00,9,   -999.0,9,   -999.0,9,-999.0000,9,   -999.0,  9,  -999.00,9,   -999.0,  -999.00,9,  -999.00,9,  -999.00,9,  -999.00,9,   -999.0,-999.0000, -999,9,  599,  14.1057,  25.8343,   -999.0,9
       SH99-08,  NONE,SH-5825,  1,      3,1-133-84,2,19990901,0249, 31.0035, 135.2572, 4260,    704.6,  11.5724,  34.3890,2,   -999.0,9,-999.0000,9,    163.3,2,  -999.00,9,  -999.00,9,    17.05,2,     0.00,2,     1.23,2, -999.000,9, -999.000,9,  -999.00,9,   -999.0,9,   -999.0,9,-999.0000,9,   -999.0,  9,  -999.00,9,   -999.0,  -999.00,9,  -999.00,9,  -999.00,9,  -999.00,9,   -999.0,-999.0000, -999,9,  699,  11.4813,  26.2118,   -999.0,9
       SH99-08,  NONE,SH-5825,  1,      2, S-1-1-7,2,19990901,0247, 31.0035, 135.2572, 4260,    806.8,   8.8379,  34.2487,2,   -999.0,9,-999.0000,9,    138.0,2,  -999.00,9,  -999.00,9,    23.96,2,     0.00,2,     1.74,2, -999.000,9, -999.000,9,  -999.00,9,   -999.0,9,   -999.0,9,-999.0000,9,   -999.0,  9,  -999.00,9,   -999.0,  -999.00,9,  -999.00,9,  -999.00,9,  -999.00,9,   -999.0,-999.0000, -999,9,  800,   8.7490,  26.5694,   -999.0,9
       SH99-08,  NONE,SH-5825,  1,      1, 1-133-1,2,19990901,0245, 31.0035, 135.2572, 4260,    907.6,   6.9952,  34.2012,2,   -999.0,9,-999.0000,9,    114.9,2,  -999.00,9,  -999.00,9,    29.12,2,     0.00,2,     2.13,2, -999.000,9, -999.000,9,  -999.00,9,   -999.0,9,   -999.0,9,-999.0000,9,   -999.0,  9,  -999.00,9,   -999.0,  -999.00,9,  -999.00,9,  -999.00,9,  -999.00,9,   -999.0,-999.0000, -999,9,  899,   6.9070,  26.8022,   -999.0,9
       SH99-08,  NONE,SH-5825,  1,     12, S-1-1-8,2,19990901,0243, 31.0035, 135.2572, 4260,   1009.7,   5.5323,  34.2495,2,   -999.0,9,-999.0000,9,     88.3,2,  -999.00,9,  -999.00,9,    33.88,2,     0.00,2,     2.49,2, -999.000,9, -999.000,9,  -999.00,9,   -999.0,9,   -999.0,9,-999.0000,9,   -999.0,  9,  -999.00,9,   -999.0,  -999.00,9,  -999.00,9,  -999.00,9,  -999.00,9,   -999.0,-999.0000, -999,9, 1000,   5.4445,  27.0281,   -999.0,9
       SH99-08,  NONE,SH-5825,  1,     11, S-1-1-9,2,19990901,0240, 31.0035, 135.2572, 4260,   1213.0,   4.0538,  34.3618,2,   -999.0,9,-999.0000,9,     66.3,2,  -999.00,9,  -999.00,9,    37.96,2,     0.00,2,     2.75,2, -999.000,9, -999.000,9,  -999.00,9,   -999.0,9,   -999.0,9,-999.0000,9,   -999.0,  9,  -999.00,9,   -999.0,  -999.00,9,  -999.00,9,  -999.00,9,  -999.00,9,   -999.0,-999.0000, -999,9, 1201,   3.9599,  27.2826,   -999.0,9