BOTTLE,20130510GEMDJMAYT
EXPOCODE,SECT_ID,STNNBR,CASTNO,SAMPNO,BTLNBR,BTLNBR_FLAG_W,DATE,TIME,LATITUDE,LONGITUDE,DEPTH,CTDPRS,CTDTMP,CTDSAL,CTDSAL_FLAG_W,CTDOXY,CTDOXY_FLAG_W,SALNTY,SALNTY_FLAG_W,OXYGEN,OXYGEN_FLAG_W,SILCAT,SILCAT_FLAG_W,NITRAT,NITRAT_FLAG_W,NO2+NO3,NO2+NO3_FLAG_W,NITRIT,NITRIT_FLAG_W,PHSPHT,PHSPHT_FLAG_W,CFC-11,CFC-11_FLAG_W,CFC-12,CFC-12_FLAG_W,DELC13,DELC13_FLAG_W,TCARBN,TCARBN_FLAG_W,ALKALI,ALKALI_FLAG_W,PH,PH_FLAG_W,PH_TMP,PH_SCALE,PH_NBS,PH_NBS_FLAG_W,C13ERR,TOTALP,TOTALP_FLAG_W,AMMONI,AMMONI_FLAG_W,CHLORA,CHLORA_FLAG_W,PPHYTN,PPHYTN_FLAG_W,REVPRS,REVTMP,DEPTH_,DEPTH_FLAG,CTDDEP,THETA,SIGTHT,DOC,DOC_FLAG_W
,,,,,,,GMT,GMT,,,METER,DBAR,ITS-90,PSS-78,,UMOL/KG,,PSS-78,,UMOL/KG,,UMOL/KG,,UMOL/KG,,UMOL/KG,,UMOL/KG,,UMOL/KG,,PMOL/KG,,PMOL/KG,,/MILLE,,UMOL/KG,,UMOL/KG,,25_DEG_C,,DEG_C,,,,/MILLE,UMOL/KG,,UMOL/KG,,UG/L,,UG/L,,DBAR,ITS-90,METERS,,METERS,DEG_C,,UMOL/L,
       SH99-08,  NONE,SH-5826,  2,     -9,      -9,5,19990901,0924, 30.5103, 135.2455, 4320,      0.0,  28.6107,  34.5741,2,   -999.0,9,  34.5706,2,    197.0,2,  -999.00,9,  -999.00,9,     0.20,2,     0.00,2,     0.02,2, -999.000,9, -999.000,9,  -999.00,9,   1940.1,6,   -999.0,9,-999.0000,9,   -999.0,  9,     8.21,2,   -999.0,  -999.00,9,  -999.00,9,     0.03,2,     0.04,2,   -999.0,-999.0000, -999,9,    0,  28.6107,  21.8737,   -999.0,9
       SH99-08,  NONE,SH-5826,  2,     10,1-133-94,2,19990901,0923, 30.5103, 135.2455, 4320,     12.1,  28.5848,  34.5755,2,   -999.0,9,-999.0000,9,    197.9,2,  -999.00,9,  -999.00,9,     0.00,2,     0.00,2,     0.00,2, -999.000,9, -999.000,9,  -999.00,9,   -999.0,9,   -999.0,9,-999.0000,9,   -999.0,  9,  -999.00,9,   -999.0,  -999.00,9,  -999.00,9,     0.03,2,  -999.00,4,   -999.0,-999.0000, -999,9,   12,  28.5819,  21.8843,   -999.0,9
       SH99-08,  NONE,SH-5826,  2,      9, S-1-1-5,2,19990901,0922, 30.5103, 135.2455, 4320,     27.1,  27.3300,  34.5743,2,   -999.0,9,-999.0000,9,    204.1,2,  -999.00,9,  -999.00,9,     0.10,2,     0.00,2,     0.00,2, -999.000,9, -999.000,9,  -999.00,9,   -999.0,9,   -999.0,9,-999.0000,9,   -999.0,  9,  -999.00,9,   -999.0,  -999.00,9,  -999.00,9,     0.03,2,     0.02,2,   -999.0,-999.0000, -999,9,   27,  27.3238,  22.2936,   -999.0,9
       SH99-08,  NONE,SH-5826,  2,      8,1-133-95,3,19990901,0921, 30.5103, 135.2455, 4320,     52.2,  21.3803,  34.7689,2,   -999.0,9,-999.0000,9,    223.2,2,  -999.00,9,  -999.00,9,     0.00,2,     0.00,2,     0.00,2, -999.000,9, -999.000,9,  -999.00,9,   -999.0,9,   -999.0,9,-999.0000,9,   -999.0,  9,  -999.00,9,   -999.0,  -999.00,9,  -999.00,9,     0.03,2,     0.02,2,   -999.0,-999.0000, -999,9,   52,  21.3702,  24.2168,   -999.0,9
       SH99-08,  NONE,SH-5826,  2,      7, S-1-1-4,2,19990901,0920, 30.5103, 135.2455, 4320,     77.2,  19.9419,  34.7910,2,   -999.0,9,-999.0000,9,    233.8,2,  -999.00,9,  -999.00,9,     0.00,2,     0.00,2,     0.01,2, -999.000,9, -999.000,9,  -999.00,9,   -999.0,9,   -999.0,9,-999.0000,9,   -999.0,  9,  -999.00,9,   -999.0,  -999.00,9,  -999.00,9,     0.06,2,     0.06,2,   -999.0,-999.0000, -999,9,   77,  19.9277,  24.6213,   -999.0,9
       SH99-08,  NONE,SH-5826,  2,      6,1-133-93,2,19990901,0919, 30.5103, 135.2455, 4320,    102.8,  19.2698,  34.8066,2,   -999.0,9,-999.0000,9,    217.5,2,  -999.00,9,  -999.00,9,     0.49,2,     0.02,2,     0.07,2, -999.000,9, -999.000,9,  -999.00,9,   -999.0,9,   -999.0,9,-999.0000,9,   -999.0,  9,  -999.00,9,   -999.0,  -999.00,9,  -999.00,9,     0.24,2,     0.81,2,   -999.0,-999.0000, -999,9,  102,  19.2513,  24.8090,   -999.0,9
       SH99-08,  NONE,SH-5826,  2,      5, 1-133-2,2,19990901,0917, 30.5103, 135.2455, 4320,    128.7,  19.1049,  34.8044,2,   -999.0,9,-999.0000,9,    215.0,2,  -999.00,9,  -999.00,9,     1.37,2,     0.05,2,     0.11,2, -999.000,9, -999.000,9,  -999.00,9,   -999.0,9,   -999.0,9,-999.0000,9,   -999.0,  9,  -999.00,9,   -999.0,  -999.00,9,  -999.00,9,     0.08,2,     0.25,2,   -999.0,-999.0000, -999,9,  128,  19.0819,  24.8507,   -999.0,9
       SH99-08,  NONE,SH-5826,  2,      4, S-1-1-2,2,19990901,0916, 30.5103, 135.2455, 4320,    153.3,  19.0071,  34.8033,2,   -999.0,9,-999.0000,9,    214.1,2,  -999.00,9,  -999.00,9,     1.46,2,     0.02,2,     0.12,2, -999.000,9, -999.000,9,  -999.00,9,   -999.0,9,   -999.0,9,-999.0000,9,   -999.0,  9,  -999.00,9,   -999.0,  -999.00,9,  -999.00,9,     0.05,2,     0.13,2,   -999.0,-999.0000, -999,9,  152,  18.9798,  24.8759,   -999.0,9
       SH99-08,  NONE,SH-5826,  2,      3,1-133-84,2,19990901,0914, 30.5103, 135.2455, 4320,    203.2,  18.9211,  34.8032,2,   -999.0,9,-999.0000,9,    214.3,2,  -999.00,9,  -999.00,9,     1.56,2,     0.01,2,     0.12,2, -999.000,9, -999.000,9,  -999.00,9,   -999.0,9,   -999.0,9,-999.0000,9,   -999.0,  9,  -999.00,9,   -999.0,  -999.00,9,  -999.00,9,     0.01,2,     0.01,2,   -999.0,-999.0000, -999,9,  202,  18.8850,  24.9000,   -999.0,9
       SH99-08,  NONE,SH-5826,  2,      2, S-1-1-7,2,19990901,0913, 30.5103, 135.2455, 4320,    254.4,  18.8825,  34.8037,2,   -999.0,9,-999.0000,9,    214.2,2,  -999.00,9,  -999.00,9,     1.66,2,     0.01,2,     0.12,2, -999.000,9, -999.000,9,  -999.00,9,   -999.0,9,   -999.0,9,-999.0000,9,   -999.0,  9,  -999.00,9,   -999.0,  -999.00,9,  -999.00,9,     0.00,2,     0.00,2,   -999.0,-999.0000, -999,9,  252,  18.8373,  24.9125,   -999.0,9
       SH99-08,  NONE,SH-5826,  2,      1, 1-133-1,2,19990901,0912, 30.5103, 135.2455, 4320,    306.0,  18.7059,  34.8157,2,   -999.0,9,-999.0000,9,    206.5,2,  -999.00,9,  -999.00,9,     2.34,2,     0.01,2,     0.18,2, -999.000,9, -999.000,9,  -999.00,9,   -999.0,9,   -999.0,9,-999.0000,9,   -999.0,  9,  -999.00,9,   -999.0,  -999.00,9,  -999.00,9,     0.00,2,     0.01,2,   -999.0,-999.0000, -999,9,  304,  18.6518,  24.9685,   -999.0,9
       SH99-08,  NONE,SH-5826,  1,     12, S-1-1-8,2,19990901,0835, 30.5050, 135.2465, 4310,    402.5,  18.1132,  34.8810,2,   -999.0,9,-999.0000,9,    203.9,2,  -999.00,9,  -999.00,9,     3.22,2,     0.00,2,     0.20,2, -999.000,9, -999.000,9,  -999.00,9,   -999.0,9,   -999.0,9,-999.0000,9,   -999.0,  9,  -999.00,9,   -999.0,  -999.00,9,  -999.00,9,  -999.00,9,  -999.00,9,   -999.0,-999.0000, -999,9,  399,  18.0435,  25.1702,   -999.0,9
       SH99-08,  NONE,SH-5826,  1,     11, S-1-1-9,2,19990901,0833, 30.5050, 135.2465, 4310,    502.1,  17.4171,  34.8240,2,   -999.0,9,-999.0000,9,    193.8,2,  -999.00,9,  -999.00,9,     5.27,2,     0.00,2,     0.36,2, -999.000,9, -999.000,9,  -999.00,9,   -999.0,9,   -999.0,9,-999.0000,9,   -999.0,  9,  -999.00,9,   -999.0,  -999.00,9,  -999.00,9,  -999.00,9,  -999.00,9,   -999.0,-999.0000, -999,9,  498,  17.3324,  25.2997,   -999.0,9
       SH99-08,  NONE,SH-5826,  1,     10,1-133-94,2,19990901,0831, 30.5050, 135.2465, 4310,    604.4,  15.2623,  34.6642,2,   -999.0,9,-999.0000,9,    185.3,2,  -999.00,9,  -999.00,9,     9.26,2,     0.00,2,     0.65,2, -999.000,9, -999.000,9,  -999.00,9,   -999.0,9,   -999.0,9,-999.0000,9,   -999.0,  9,  -999.00,9,   -999.0,  -999.00,9,  -999.00,9,  -999.00,9,  -999.00,9,   -999.0,-999.0000, -999,9,  599,  15.1688,  25.6759,   -999.0,9
       SH99-08,  NONE,SH-5826,  1,      9, S-1-1-5,2,19990901,0828, 30.5050, 135.2465, 4310,    704.9,  12.3882,  34.4432,2,   -999.0,9,-999.0000,9,    169.5,2,  -999.00,9,  -999.00,9,    15.20,2,     0.00,2,     1.11,2, -999.000,9, -999.000,9,  -999.00,9,   -999.0,9,   -999.0,9,-999.0000,9,   -999.0,  9,  -999.00,9,   -999.0,  -999.00,9,  -999.00,9,  -999.00,9,  -999.00,9,   -999.0,-999.0000, -999,9,  699,  12.2929,  26.1005,   -999.0,9
       SH99-08,  NONE,SH-5826,  1,      8,1-133-95,2,19990901,0826, 30.5050, 135.2465, 4310,    803.8,   9.5257,  34.2742,2,   -999.0,9,-999.0000,9,    160.9,2,  -999.00,9,  -999.00,9,    21.82,2,     0.00,2,     1.59,2, -999.000,9, -999.000,9,  -999.00,9,   -999.0,9,   -999.0,9,-999.0000,9,   -999.0,  9,  -999.00,9,   -999.0,  -999.00,9,  -999.00,9,  -999.00,9,  -999.00,9,   -999.0,-999.0000, -999,9,  797,   9.4331,  26.4798,   -999.0,9
       SH99-08,  NONE,SH-5826,  1,      7, S-1-1-4,2,19990901,0822, 30.5050, 135.2465, 4310,    908.1,   6.9840,  34.1956,2,   -999.0,9,-999.0000,9,    114.5,2,  -999.00,9,  -999.00,9,    29.22,2,     0.00,2,     2.15,2, -999.000,9, -999.000,9,  -999.00,9,   -999.0,9,   -999.0,9,-999.0000,9,   -999.0,  9,  -999.00,9,   -999.0,  -999.00,9,  -999.00,9,  -999.00,9,  -999.00,9,   -999.0,-999.0000, -999,9,  900,   6.8958,  26.7994,   -999.0,9
       SH99-08,  NONE,SH-5826,  1,      6,1-133-93,2,19990901,0819, 30.5050, 135.2465, 4310,   1008.3,   5.7556,  34.2427,2,   -999.0,9,-999.0000,9,     90.9,2,  -999.00,9,  -999.00,9,    33.20,2,     0.00,2,     2.45,2, -999.000,9, -999.000,9,  -999.00,9,   -999.0,9,   -999.0,9,-999.0000,9,   -999.0,  9,  -999.00,9,   -999.0,  -999.00,9,  -999.00,9,  -999.00,9,  -999.00,9,   -999.0,-999.0000, -999,9,  999,   5.6662,  26.9958,   -999.0,9
       SH99-08,  NONE,SH-5826,  1,      5, 1-133-2,2,19990901,0815, 30.5050, 135.2465, 4310,   1213.4,   4.0156,  34.3728,2,   -999.0,9,-999.0000,9,     67.2,2,  -999.00,9,  -999.00,9,    37.77,2,     0.00,2,     2.75,2, -999.000,9, -999.000,9,  -999.00,9,   -999.0,9,   -999.0,9,-999.0000,9,   -999.0,  9,  -999.00,9,   -999.0,  -999.00,9,  -999.00,9,  -999.00,9,  -999.00,9,   -999.0,-999.0000, -999,9, 1202,   3.9220,  27.2953,   -999.0,9
       SH99-08,  NONE,SH-5827,  2,     -9,      -9,5,19990901,1442, 30.0090, 135.2283, 3960,      0.0,  28.5561,  34.4471,2,   -999.0,9,-999.0000,9,    196.6,2,  -999.00,9,  -999.00,9,     0.00,2,     0.00,2,     0.00,2, -999.000,9, -999.000,9,  -999.00,9,   1930.9,2,   -999.0,9,-999.0000,9,   -999.0,  9,     8.22,2,   -999.0,  -999.00,9,  -999.00,9,     0.02,2,     0.01,2,   -999.0,-999.0000, -999,9,    0,  28.5561,  21.7964,   -999.0,9
       SH99-08,  NONE,SH-5827,  2,      4, S-1-1-2,2,19990901,1441, 30.0090, 135.2283, 3960,     11.0,  28.3926,  34.4537,2,   -999.0,9,  34.4528,2,    196.6,2,  -999.00,9,  -999.00,9,     0.00,2,     0.00,2,     0.00,2, -999.000,9, -999.000,9,  -999.00,9,   -999.0,9,   -999.0,9,-999.0000,9,   -999.0,  9,  -999.00,9,   -999.0,  -999.00,9,  -999.00,9,     0.02,2,     0.01,2,   -999.0,-999.0000, -999,9,   11,  28.3900,  21.8561,   -999.0,9
       SH99-08,  NONE,SH-5827,  2,      3,1-133-84,2,19990901,1440, 30.0090, 135.2283, 3960,     25.6,  27.7955,  34.4652,2,   -999.0,9,  34.4626,2,    199.8,2,  -999.00,9,  -999.00,9,     0.00,2,     0.00,2,     0.00,2, -999.000,9, -999.000,9,  -999.00,9,   -999.0,9,   -999.0,9,-999.0000,9,   -999.0,  9,  -999.00,9,   -999.0,  -999.00,9,  -999.00,9,     0.02,2,     0.02,2,   -999.0,-999.0000, -999,9,   25,  27.7895,  22.0611,   -999.0,9
       SH99-08,  NONE,SH-5827,  2,      2, S-1-1-7,2,19990901,1439, 30.0090, 135.2283, 3960,     50.6,  22.6766,  34.7481,2,   -999.0,9,  34.7430,2,    232.0,2,  -999.00,9,  -999.00,9,     0.00,2,     0.00,2,     0.00,2, -999.000,9, -999.000,9,  -999.00,9,   -999.0,9,   -999.0,9,-999.0000,9,   -999.0,  9,  -999.00,9,   -999.0,  -999.00,9,  -999.00,9,     0.05,2,     0.03,2,   -999.0,-999.0000, -999,9,   50,  22.6664,  23.8382,   -999.0,9
       SH99-08,  NONE,SH-5827,  2,      1, 1-133-1,2,19990901,1438, 30.0090, 135.2283, 3960,     75.7,  21.3771,  34.7811,2,   -999.0,9,  34.7851,2,    231.8,2,  -999.00,9,  -999.00,9,     0.00,2,     0.00,2,     0.00,2, -999.000,9, -999.000,9,  -999.00,9,   -999.0,9,   -999.0,9,-999.0000,9,   -999.0,  9,  -999.00,9,   -999.0,  -999.00,9,  -999.00,9,     0.07,2,     0.07,2,   -999.0,-999.0000, -999,9,   75,  21.3625,  24.2283,   -999.0,9
       SH99-08,  NONE,SH-5827,  2,     12, S-1-1-8,2,19990901,1437, 30.0090, 135.2283, 3960,    101.2,  20.2455,  34.8090,2,   -999.0,9,  34.8121,2,    214.9,2,  -999.00,9,  -999.00,9,     0.39,2,     0.05,2,     0.06,2, -999.000,9, -999.000,9,  -999.00,9,   -999.0,9,   -999.0,9,-999.0000,9,   -999.0,  9,  -999.00,9,   -999.0,  -999.00,9,  -999.00,9,     0.20,2,     0.51,2,   -999.0,-999.0000, -999,9,  101,  20.2266,  24.5561,   -999.0,9
       SH99-08,  NONE,SH-5827,  2,     11, S-1-1-9,2,19990901,1436, 30.0090, 135.2283, 3960,    126.1,  19.7201,  34.8048,2,   -999.0,9,  34.8044,2,    214.5,2,  -999.00,9,  -999.00,9,     0.59,2,     0.11,2,     0.07,2, -999.000,9, -999.000,9,  -999.00,9,   -999.0,9,   -999.0,9,-999.0000,9,   -999.0,  9,  -999.00,9,   -999.0,  -999.00,9,  -999.00,9,     0.09,2,     0.37,2,   -999.0,-999.0000, -999,9,  125,  19.6971,  24.6922,   -999.0,9
       SH99-08,  NONE,SH-5827,  2,     10,1-133-94,2,19990901,1435, 30.0090, 135.2283, 3960,    151.0,  19.4458,  34.8050,2,   -999.0,9,  34.8056,2,    210.6,2,  -999.00,9,  -999.00,9,     1.46,2,     0.02,2,     0.12,2, -999.000,9, -999.000,9,  -999.00,9,   -999.0,9,   -999.0,9,-999.0000,9,   -999.0,  9,  -999.00,9,   -999.0,  -999.00,9,  -999.00,9,     0.04,2,     0.18,2,   -999.0,-999.0000, -999,9,  150,  19.4184,  24.7647,   -999.0,9
       SH99-08,  NONE,SH-5827,  2,      9, S-1-1-5,2,19990901,1434, 30.0090, 135.2283, 3960,    202.0,  19.2605,  34.8074,2,   -999.0,9,  34.8115,2,    211.3,2,  -999.00,9,  -999.00,9,     1.66,2,     0.01,2,     0.13,2, -999.000,9, -999.000,9,  -999.00,9,   -999.0,9,   -999.0,9,-999.0000,9,   -999.0,  9,  -999.00,9,   -999.0,  -999.00,9,  -999.00,9,     0.00,2,     0.01,2,   -999.0,-999.0000, -999,9,  201,  19.2242,  24.8166,   -999.0,9
       SH99-08,  NONE,SH-5827,  2,      8,1-133-95,2,19990901,1432, 30.0090, 135.2283, 3960,    252.6,  19.1619,  34.8078,2,   -999.0,9,  34.8091,2,    210.3,2,  -999.00,9,  -999.00,9,     1.76,2,     0.01,2,     0.14,2, -999.000,9, -999.000,9,  -999.00,9,   -999.0,9,   -999.0,9,-999.0000,9,   -999.0,  9,  -999.00,9,   -999.0,  -999.00,9,  -999.00,9,     0.00,2,     0.01,2,   -999.0,-999.0000, -999,9,  251,  19.1166,  24.8445,   -999.0,9
       SH99-08,  NONE,SH-5827,  2,      7, S-1-1-4,2,19990901,1431, 30.0090, 135.2283, 3960,    304.1,  18.8215,  34.8111,2,   -999.0,9,  34.8138,2,    202.5,2,  -999.00,9,  -999.00,9,     2.83,2,     0.01,2,     0.20,2, -999.000,9, -999.000,9,  -999.00,9,   -999.0,9,   -999.0,9,-999.0000,9,   -999.0,  9,  -999.00,9,   -999.0,  -999.00,9,  -999.00,9,     0.00,2,     0.01,2,   -999.0,-999.0000, -999,9,  302,  18.7676,  24.9358,   -999.0,9
       SH99-08,  NONE,SH-5827,  1,      6,1-133-93,2,19990901,1402, 30.0030, 135.2425, 3960,    402.8,  17.3660,  34.8008,2,   -999.0,9,  34.8010,2,    189.9,2,  -999.00,9,  -999.00,9,     5.56,2,     0.00,2,     0.40,2, -999.000,9, -999.000,9,  -999.00,9,   -999.0,9,   -999.0,9,-999.0000,9,   -999.0,  9,  -999.00,9,   -999.0,  -999.00,9,  -999.00,9,  -999.00,9,  -999.00,9,   -999.0,-999.0000, -999,9,  400,  17.2983,  25.2901,   -999.0,9
       SH99-08,  NONE,SH-5827,  1,      5, 1-133-2,2,19990901,1400, 30.0030, 135.2425, 3960,    503.7,  15.5274,  34.6724,2,   -999.0,9,  34.6739,2,    187.6,2,  -999.00,9,  -999.00,9,     8.68,2,     0.00,2,     0.61,2, -999.000,9, -999.000,9,  -999.00,9,   -999.0,9,   -999.0,9,-999.0000,9,   -999.0,  9,  -999.00,9,   -999.0,  -999.00,9,  -999.00,9,  -999.00,9,  -999.00,9,   -999.0,-999.0000, -999,9,  500,  15.4488,  25.6201,   -999.0,9
       SH99-08,  NONE,SH-5827,  1,      4, S-1-1-2,2,19990901,1358, 30.0030, 135.2425, 3960,    603.7,  13.2753,  34.5038,2,   -999.0,9,  34.5100,2,    174.3,2,  -999.00,9,  -999.00,9,    13.35,2,     0.00,2,     0.96,2, -999.000,9, -999.000,9,  -999.00,9,   -999.0,9,   -999.0,9,-999.0000,9,   -999.0,  9,  -999.00,9,   -999.0,  -999.00,9,  -999.00,9,  -999.00,9,  -999.00,9,   -999.0,-999.0000, -999,9,  599,  13.1903,  25.9702,   -999.0,9
       SH99-08,  NONE,SH-5827,  1,      3,1-133-84,2,19990901,1356, 30.0030, 135.2425, 3960,    704.6,  10.4029,  34.3203,2,   -999.0,9,  34.3211,2,    155.0,2,  -999.00,9,  -999.00,9,    19.68,2,     0.00,2,     1.46,2, -999.000,9, -999.000,9,  -999.00,9,   -999.0,9,   -999.0,9,-999.0000,9,   -999.0,  9,  -999.00,9,   -999.0,  -999.00,9,  -999.00,9,  -999.00,9,  -999.00,9,   -999.0,-999.0000, -999,9,  699,  10.3177,  26.3667,   -999.0,9
       SH99-08,  NONE,SH-5827,  1,      2, S-1-1-7,2,19990901,1354, 30.0030, 135.2425, 3960,    805.0,   7.9501,  34.2171,2,   -999.0,9,  34.2192,2,    128.4,2,  -999.00,9,  -999.00,9,    26.10,2,     0.00,2,     1.92,2, -999.000,9, -999.000,9,  -999.00,9,   -999.0,9,   -999.0,9,-999.0000,9,   -999.0,  9,  -999.00,9,   -999.0,  -999.00,9,  -999.00,9,  -999.00,9,  -999.00,9,   -999.0,-999.0000, -999,9,  798,   7.8667,  26.6787,   -999.0,9
       SH99-08,  NONE,SH-5827,  1,      1, 1-133-1,2,19990901,1351, 30.0030, 135.2425, 3960,    906.9,   6.2898,  34.2296,2,   -999.0,9,  34.2308,2,     99.5,2,  -999.00,9,  -999.00,9,    31.65,2,     0.00,2,     2.31,2, -999.000,9, -999.000,9,  -999.00,9,   -999.0,9,   -999.0,9,-999.0000,9,   -999.0,  9,  -999.00,9,   -999.0,  -999.00,9,  -999.00,9,  -999.00,9,  -999.00,9,   -999.0,-999.0000, -999,9,  899,   6.2064,  26.9176,   -999.0,9
       SH99-08,  NONE,SH-5827,  1,     12, S-1-1-8,2,19990901,1349, 30.0030, 135.2425, 3960,   1009.6,   5.0002,  34.2917,2,   -999.0,9,  34.2942,2,     78.2,2,  -999.00,9,  -999.00,9,    35.34,2,     0.00,2,     2.60,2, -999.000,9, -999.000,9,  -999.00,9,   -999.0,9,   -999.0,9,-999.0000,9,   -999.0,  9,  -999.00,9,   -999.0,  -999.00,9,  -999.00,9,  -999.00,9,  -999.00,9,   -999.0,-999.0000, -999,9, 1000,   4.9164,  27.1233,   -999.0,9
       SH99-08,  NONE,SH-5827,  1,     11, S-1-1-9,2,19990901,1346, 30.0030, 135.2425, 3960,   1212.6,   3.6908,  34.4019,2,   -999.0,9,  34.4033,2,     65.9,2,  -999.00,9,  -999.00,9,    38.45,2,     0.00,2,     2.80,2, -999.000,9, -999.000,9,  -999.00,9,   -999.0,9,   -999.0,9,-999.0000,9,   -999.0,  9,  -999.00,9,   -999.0,  -999.00,9,  -999.00,9,  -999.00,9,  -999.00,9,   -999.0,-999.0000, -999,9, 1201,   3.6002,  27.3507,   -999.0,9