BOTTLE,20130510GEMDJMAYT
EXPOCODE,SECT_ID,STNNBR,CASTNO,SAMPNO,BTLNBR,BTLNBR_FLAG_W,DATE,TIME,LATITUDE,LONGITUDE,DEPTH,CTDPRS,CTDTMP,CTDSAL,CTDSAL_FLAG_W,CTDOXY,CTDOXY_FLAG_W,SALNTY,SALNTY_FLAG_W,OXYGEN,OXYGEN_FLAG_W,SILCAT,SILCAT_FLAG_W,NITRAT,NITRAT_FLAG_W,NO2+NO3,NO2+NO3_FLAG_W,NITRIT,NITRIT_FLAG_W,PHSPHT,PHSPHT_FLAG_W,CFC-11,CFC-11_FLAG_W,CFC-12,CFC-12_FLAG_W,DELC13,DELC13_FLAG_W,TCARBN,TCARBN_FLAG_W,ALKALI,ALKALI_FLAG_W,PH,PH_FLAG_W,PH_TMP,PH_SCALE,PH_NBS,PH_NBS_FLAG_W,C13ERR,TOTALP,TOTALP_FLAG_W,AMMONI,AMMONI_FLAG_W,CHLORA,CHLORA_FLAG_W,PPHYTN,PPHYTN_FLAG_W,REVPRS,REVTMP,DEPTH_,DEPTH_FLAG,CTDDEP,THETA,SIGTHT,DOC,DOC_FLAG_W
,,,,,,,GMT,GMT,,,METER,DBAR,ITS-90,PSS-78,,UMOL/KG,,PSS-78,,UMOL/KG,,UMOL/KG,,UMOL/KG,,UMOL/KG,,UMOL/KG,,UMOL/KG,,PMOL/KG,,PMOL/KG,,/MILLE,,UMOL/KG,,UMOL/KG,,25_DEG_C,,DEG_C,,,,/MILLE,UMOL/KG,,UMOL/KG,,UG/L,,UG/L,,DBAR,ITS-90,METERS,,METERS,DEG_C,,UMOL/L,
       SH99-08,  NONE,SH-5835,  3,     -9,      -9,5,19990903,1635, 30.6983, 132.1808, 2500,      0.0,  28.7500,  33.5849,2,   -999.0,9,-999.0000,9,    197.1,2,  -999.00,9,  -999.00,9,     0.00,2,     0.00,2,     0.00,2, -999.000,9, -999.000,9,  -999.00,9,   -999.0,9,   -999.0,9,-999.0000,9,   -999.0,  9,     8.23,2,   -999.0,  -999.00,9,  -999.00,9,     0.06,2,     0.06,2,   -999.0,-999.0000, -999,9,    0,  28.7500,  21.0849,   -999.0,9
       SH99-08,  NONE,SH-5835,  3,      3,1-133-84,2,19990903,1634, 30.6983, 132.1808, 2500,     11.2,  28.7592,  33.5851,2,   -999.0,9,  33.5865,2,    196.9,2,  -999.00,9,  -999.00,9,     0.00,2,     0.00,2,     0.00,2, -999.000,9, -999.000,9,  -999.00,9,   -999.0,9,   -999.0,9,-999.0000,9,   -999.0,  9,     8.23,2,   -999.0,  -999.00,9,  -999.00,9,     0.07,2,     0.05,2,   -999.0,-999.0000, -999,9,   11,  28.7565,  21.0829,   -999.0,9
       SH99-08,  NONE,SH-5835,  3,      2, S-1-1-7,2,19990903,1633, 30.6983, 132.1808, 2500,     11.7,  28.7575,  33.5851,2,   -999.0,9,  33.5865,2,    196.8,2,  -999.00,9,  -999.00,9,     0.00,2,     0.00,2,     0.00,2, -999.000,9, -999.000,9,  -999.00,9,   -999.0,9,   -999.0,9,-999.0000,9,   -999.0,  9,     8.23,2,   -999.0,  -999.00,9,  -999.00,9,     0.07,2,     0.06,2,   -999.0,-999.0000, -999,9,   12,  28.7547,  21.0835,   -999.0,9
       SH99-08,  NONE,SH-5835,  3,      1, 1-133-1,2,19990903,1633, 30.6983, 132.1808, 2500,     26.4,  28.3552,  33.6445,2,   -999.0,9,  33.5906,4,    197.8,2,  -999.00,9,  -999.00,9,     0.00,2,     0.00,2,     0.00,2, -999.000,9, -999.000,9,  -999.00,9,   -999.0,9,   -999.0,9,-999.0000,9,   -999.0,  9,     8.23,2,   -999.0,  -999.00,9,  -999.00,9,     0.10,2,     0.07,2,   -999.0,-999.0000, -999,9,   26,  28.3490,  21.2617,   -999.0,9
       SH99-08,  NONE,SH-5835,  3,     12, S-1-1-8,2,19990903,1632, 30.6983, 132.1808, 2500,     51.2,  26.8979,  34.0301,2,   -999.0,9,  34.0294,2,    193.4,2,  -999.00,9,  -999.00,9,     0.49,2,     0.11,2,     0.06,2, -999.000,9, -999.000,9,  -999.00,9,   -999.0,9,   -999.0,9,-999.0000,9,   -999.0,  9,     8.19,2,   -999.0,  -999.00,9,  -999.00,9,     0.30,2,     0.40,2,   -999.0,-999.0000, -999,9,   51,  26.8862,  22.0235,   -999.0,9
       SH99-08,  NONE,SH-5835,  3,     11, S-1-1-9,2,19990903,1631, 30.6983, 132.1808, 2500,     76.6,  25.5274,  34.3600,2,   -999.0,9,  34.3579,2,    184.9,2,  -999.00,9,  -999.00,9,     1.66,2,     0.25,2,     0.14,2, -999.000,9, -999.000,9,  -999.00,9,   -999.0,9,   -999.0,9,-999.0000,9,   -999.0,  9,     8.17,2,   -999.0,  -999.00,9,  -999.00,9,     0.20,2,     0.45,2,   -999.0,-999.0000, -999,9,   76,  25.5106,  22.7018,   -999.0,9
       SH99-08,  NONE,SH-5835,  3,     10,1-133-94,2,19990903,1630, 30.6983, 132.1808, 2500,    102.4,  22.6504,  34.7762,2,   -999.0,9,  34.7745,2,    182.2,2,  -999.00,9,  -999.00,9,     2.44,2,     0.04,2,     0.21,2, -999.000,9, -999.000,9,  -999.00,9,   -999.0,9,   -999.0,9,-999.0000,9,   -999.0,  9,     8.14,2,   -999.0,  -999.00,9,  -999.00,9,     0.04,2,     0.13,2,   -999.0,-999.0000, -999,9,  102,  22.6298,  23.8699,   -999.0,9
       SH99-08,  NONE,SH-5835,  3,      9, S-1-1-5,2,19990903,1629, 30.6983, 132.1808, 2500,    127.5,  20.3567,  34.8025,2,   -999.0,9,  34.8024,2,    182.8,2,  -999.00,9,  -999.00,9,     3.61,2,     0.01,2,     0.29,2, -999.000,9, -999.000,9,  -999.00,9,   -999.0,9,   -999.0,9,-999.0000,9,   -999.0,  9,     8.11,2,   -999.0,  -999.00,9,  -999.00,9,     0.02,2,     0.05,2,   -999.0,-999.0000, -999,9,  127,  20.3329,  24.5230,   -999.0,9
       SH99-08,  NONE,SH-5835,  3,      8,1-133-95,2,19990903,1628, 30.6983, 132.1808, 2500,    152.9,  19.7591,  34.7858,2,   -999.0,9,  34.7855,2,    180.6,2,  -999.00,9,  -999.00,9,     4.49,2,     0.01,2,     0.35,2, -999.000,9, -999.000,9,  -999.00,9,   -999.0,9,   -999.0,9,-999.0000,9,   -999.0,  9,     8.09,2,   -999.0,  -999.00,9,  -999.00,9,     0.01,2,     0.05,2,   -999.0,-999.0000, -999,9,  152,  19.7311,  24.6688,   -999.0,9
       SH99-08,  NONE,SH-5835,  3,      7, S-1-1-4,2,19990903,1626, 30.6983, 132.1808, 2500,    202.4,  18.4136,  34.8048,2,   -999.0,9,  34.8069,2,    186.4,2,  -999.00,9,  -999.00,9,     4.68,2,     0.01,2,     0.34,2, -999.000,9, -999.000,9,  -999.00,9,   -999.0,9,   -999.0,9,-999.0000,9,   -999.0,  9,     8.08,2,   -999.0,  -999.00,9,  -999.00,9,     0.00,2,     0.02,2,   -999.0,-999.0000, -999,9,  201,  18.3783,  25.0288,   -999.0,9
       SH99-08,  NONE,SH-5835,  3,      6,1-133-93,2,19990903,1625, 30.6983, 132.1808, 2500,    252.9,  17.1020,  34.7452,2,   -999.0,9,  34.7441,2,    184.0,2,  -999.00,9,  -999.00,9,     6.73,2,     0.00,2,     0.49,2, -999.000,9, -999.000,9,  -999.00,9,   -999.0,9,   -999.0,9,-999.0000,9,   -999.0,  9,     8.05,2,   -999.0,  -999.00,9,  -999.00,9,     0.00,2,     0.01,2,   -999.0,-999.0000, -999,9,  251,  17.0601,  25.3044,   -999.0,9
       SH99-08,  NONE,SH-5835,  3,      5, 1-133-2,2,19990903,1624, 30.6983, 132.1808, 2500,    303.2,  15.3983,  34.6556,2,   -999.0,9,  34.6609,2,    181.5,2,  -999.00,9,  -999.00,9,     8.97,2,     0.00,2,     0.65,2, -999.000,9, -999.000,9,  -999.00,9,   -999.0,9,   -999.0,9,-999.0000,9,   -999.0,  9,     8.01,2,   -999.0,  -999.00,9,  -999.00,9,     0.00,2,     0.01,2,   -999.0,-999.0000, -999,9,  301,  15.3516,  25.6288,   -999.0,9
       SH99-08,  NONE,SH-5835,  3,      4, S-1-1-2,2,19990903,1621, 30.6983, 132.1808, 2500,    405.8,  13.2944,  34.5179,2,   -999.0,9,  34.5210,2,    167.9,2,  -999.00,9,  -999.00,9,    13.65,2,     0.01,2,     1.00,2, -999.000,9, -999.000,9,  -999.00,9,   -999.0,9,   -999.0,9,-999.0000,9,   -999.0,  9,     7.94,2,   -999.0,  -999.00,9,  -999.00,9,  -999.00,9,  -999.00,9,   -999.0,-999.0000, -999,9,  403,  13.2375,  25.9716,   -999.0,9
       SH99-08,  NONE,SH-5835,  2,      2, S-1-1-7,2,19990903,1542, 30.6758, 132.1733, 2450,    403.1,  13.3555,  34.5255,2,   -999.0,9,  34.5246,2,    167.0,2,  -999.00,9,  -999.00,9,    13.55,2,     0.00,2,     0.99,2, -999.000,9, -999.000,9,  -999.00,9,   -999.0,9,   -999.0,9,-999.0000,9,   -999.0,  9,     7.93,2,   -999.0,  -999.00,9,  -999.00,9,  -999.00,9,  -999.00,9,   -999.0,-999.0000, -999,9,  400,  13.2988,  25.9650,   -999.0,9
       SH99-08,  NONE,SH-5835,  2,      1, 1-133-1,2,19990903,1541, 30.6758, 132.1733, 2450,    503.5,  10.1862,  34.3545,2,   -999.0,9,  34.3518,2,    144.9,2,  -999.00,9,  -999.00,9,    20.36,2,     0.00,2,     1.50,2, -999.000,9, -999.000,9,  -999.00,9,   -999.0,9,   -999.0,9,-999.0000,9,   -999.0,  9,     7.82,2,   -999.0,  -999.00,9,  -999.00,9,  -999.00,9,  -999.00,9,   -999.0,-999.0000, -999,9,  499,  10.1267,  26.4262,   -999.0,9
       SH99-08,  NONE,SH-5835,  2,     12, S-1-1-8,2,19990903,1539, 30.6758, 132.1733, 2450,    605.4,   7.3398,  34.2068,2,   -999.0,9,  34.2082,2,    112.4,2,  -999.00,9,  -999.00,9,    27.76,2,     0.00,2,     2.07,2, -999.000,9, -999.000,9,  -999.00,9,   -999.0,9,   -999.0,9,-999.0000,9,   -999.0,  9,     7.67,2,   -999.0,  -999.00,9,  -999.00,9,  -999.00,9,  -999.00,9,   -999.0,-999.0000, -999,9,  600,   7.2806,  26.7549,   -999.0,9
       SH99-08,  NONE,SH-5835,  2,     11, S-1-1-9,2,19990903,1537, 30.6758, 132.1733, 2450,    706.2,   5.9684,  34.2461,2,   -999.0,9,  34.2477,2,     90.1,2,  -999.00,9,  -999.00,9,    31.94,2,     0.00,2,     2.38,2, -999.000,9, -999.000,9,  -999.00,9,   -999.0,9,   -999.0,9,-999.0000,9,   -999.0,  9,     7.60,2,   -999.0,  -999.00,9,  -999.00,9,  -999.00,9,  -999.00,9,   -999.0,-999.0000, -999,9,  700,   5.9062,  26.9687,   -999.0,9
       SH99-08,  NONE,SH-5835,  2,     10,1-133-94,2,19990903,1535, 30.6758, 132.1733, 2450,    807.0,   4.7145,  34.2286,2,   -999.0,9,  34.2326,2,     74.4,2,  -999.00,9,  -999.00,9,    35.05,2,     0.00,2,     2.60,2, -999.000,9, -999.000,9,  -999.00,9,   -999.0,9,   -999.0,9,-999.0000,9,   -999.0,  9,     7.54,2,   -999.0,  -999.00,9,  -999.00,9,  -999.00,9,  -999.00,9,   -999.0,-999.0000, -999,9,  800,   4.6505,  27.1030,   -999.0,9
       SH99-08,  NONE,SH-5835,  2,      9, S-1-1-5,4,19990903,1533, 30.6758, 132.1733, 2450,    908.9,   4.3062,  34.3397,2,   -999.0,9,  34.3384,2,     67.9,2,  -999.00,9,  -999.00,9,    36.02,2,     0.00,2,     2.67,2, -999.000,9, -999.000,9,  -999.00,9,   -999.0,9,   -999.0,9,-999.0000,9,   -999.0,  9,     7.54,2,   -999.0,  -999.00,9,  -999.00,9,  -999.00,9,  -999.00,9,   -999.0,-999.0000, -999,9,  901,   4.2361,  27.2362,   -999.0,9
       SH99-08,  NONE,SH-5835,  2,     -9,      -9,4,19990903,1531, 30.6758, 132.1733, 2450,   1010.2,   3.7522,  34.4095,2,   -999.0,9,-999.0000,9,   -999.0,9,  -999.00,9,  -999.00,9,  -999.00,9,  -999.00,9,  -999.00,9, -999.000,9, -999.000,9,  -999.00,9,   -999.0,9,   -999.0,9,-999.0000,9,   -999.0,  9,  -999.00,9,   -999.0,  -999.00,9,  -999.00,9,  -999.00,9,  -999.00,9,   -999.0,-999.0000, -999,9, 1001,   3.6778,  27.3491,   -999.0,9
       SH99-08,  NONE,SH-5835,  2,      8,1-133-95,2,19990903,1527, 30.6758, 132.1733, 2450,   1213.3,   3.1297,  34.4584,2,   -999.0,9,  34.4626,2,     69.4,2,  -999.00,9,  -999.00,9,    37.37,2,     0.01,2,     2.73,2, -999.000,9, -999.000,9,  -999.00,9,   -999.0,9,   -999.0,9,-999.0000,9,   -999.0,  9,     7.54,2,   -999.0,  -999.00,9,  -999.00,9,  -999.00,9,  -999.00,9,   -999.0,-999.0000, -999,9, 1202,   3.0441,  27.4487,   -999.0,9
       SH99-08,  NONE,SH-5836,  2,     -9,      -9,5,19990903,2206, 31.0188, 131.7012, 1370,      0.0,  28.4852,  33.4007,2,   -999.0,9,-999.0000,9,    196.8,2,  -999.00,9,  -999.00,9,     0.00,2,     0.00,2,     0.00,2, -999.000,9, -999.000,9,  -999.00,9,   -999.0,9,   -999.0,9,-999.0000,9,   -999.0,  9,  -999.00,9,   -999.0,  -999.00,9,  -999.00,9,     0.12,2,     0.10,2,   -999.0,-999.0000, -999,9,    0,  28.4852,  21.0339,   -999.0,9
       SH99-08,  NONE,SH-5836,  2,      9, S-1-1-5,2,19990903,2205, 31.0188, 131.7012, 1370,     12.0,  28.5034,  33.4059,2,   -999.0,9,-999.0000,9,    197.6,2,  -999.00,9,  -999.00,9,     0.00,2,     0.00,2,     0.00,2, -999.000,9, -999.000,9,  -999.00,9,   -999.0,9,   -999.0,9,-999.0000,9,   -999.0,  9,  -999.00,9,   -999.0,  -999.00,9,  -999.00,9,     0.10,2,     0.11,2,   -999.0,-999.0000, -999,9,   12,  28.5006,  21.0328,   -999.0,9
       SH99-08,  NONE,SH-5836,  2,      8,1-133-95,2,19990903,2204, 31.0188, 131.7012, 1370,     26.7,  28.5215,  33.5403,2,   -999.0,9,-999.0000,9,    196.9,2,  -999.00,9,  -999.00,9,     0.20,2,     0.00,2,     0.00,2, -999.000,9, -999.000,9,  -999.00,9,   -999.0,9,   -999.0,9,-999.0000,9,   -999.0,  9,  -999.00,9,   -999.0,  -999.00,9,  -999.00,9,     0.11,2,     0.14,2,   -999.0,-999.0000, -999,9,   27,  28.5152,  21.1289,   -999.0,9
       SH99-08,  NONE,SH-5836,  2,      7, S-1-1-4,2,19990903,2203, 31.0188, 131.7012, 1370,     52.0,  27.2750,  34.0031,2,   -999.0,9,-999.0000,9,    195.6,2,  -999.00,9,  -999.00,9,     0.20,2,     0.05,2,     0.04,2, -999.000,9, -999.000,9,  -999.00,9,   -999.0,9,   -999.0,9,-999.0000,9,   -999.0,  9,  -999.00,9,   -999.0,  -999.00,9,  -999.00,9,     0.34,2,     0.40,2,   -999.0,-999.0000, -999,9,   52,  27.2631,  21.8831,   -999.0,9
       SH99-08,  NONE,SH-5836,  2,      6,1-133-93,2,19990903,2202, 31.0188, 131.7012, 1370,     77.2,  25.8165,  34.1407,2,   -999.0,9,-999.0000,9,    189.3,2,  -999.00,9,  -999.00,9,     1.37,2,     0.22,2,     0.12,2, -999.000,9, -999.000,9,  -999.00,9,   -999.0,9,   -999.0,9,-999.0000,9,   -999.0,  9,  -999.00,9,   -999.0,  -999.00,9,  -999.00,9,     0.12,2,     0.32,2,   -999.0,-999.0000, -999,9,   77,  25.7994,  22.4473,   -999.0,9
       SH99-08,  NONE,SH-5836,  2,      5, 1-133-2,2,19990903,2201, 31.0188, 131.7012, 1370,    102.6,  22.7072,  34.4221,2,   -999.0,9,-999.0000,9,    178.7,2,  -999.00,9,  -999.00,9,     3.81,2,     0.13,2,     0.31,2, -999.000,9, -999.000,9,  -999.00,9,   -999.0,9,   -999.0,9,-999.0000,9,   -999.0,  9,  -999.00,9,   -999.0,  -999.00,9,  -999.00,9,     0.01,2,     0.30,2,   -999.0,-999.0000, -999,9,  102,  22.6865,  23.5851,   -999.0,9
       SH99-08,  NONE,SH-5836,  2,      4, S-1-1-2,2,19990903,2200, 31.0188, 131.7012, 1370,    127.6,  19.6969,  34.5899,2,   -999.0,9,-999.0000,9,    170.7,2,  -999.00,9,  -999.00,9,     6.54,2,     0.04,2,     0.50,2, -999.000,9, -999.000,9,  -999.00,9,   -999.0,9,   -999.0,9,-999.0000,9,   -999.0,  9,  -999.00,9,   -999.0,  -999.00,9,  -999.00,9,     0.04,2,     0.16,2,   -999.0,-999.0000, -999,9,  127,  19.6736,  24.5343,   -999.0,9
       SH99-08,  NONE,SH-5836,  2,      3,1-133-84,2,19990903,2159, 31.0188, 131.7012, 1370,    152.2,  16.9168,  34.6152,2,   -999.0,9,-999.0000,9,    159.7,2,  -999.00,9,  -999.00,9,     9.56,2,     0.01,2,     0.71,2, -999.000,9, -999.000,9,  -999.00,9,   -999.0,9,   -999.0,9,-999.0000,9,   -999.0,  9,  -999.00,9,   -999.0,  -999.00,9,  -999.00,9,     0.02,2,     0.09,2,   -999.0,-999.0000, -999,9,  151,  16.8919,  25.2444,   -999.0,9
       SH99-08,  NONE,SH-5836,  2,      2, S-1-1-7,2,19990903,2157, 31.0188, 131.7012, 1370,    203.1,  12.1796,  34.4702,2,   -999.0,9,-999.0000,9,    152.3,2,  -999.00,9,  -999.00,9,    16.57,2,     0.00,2,     1.23,2, -999.000,9, -999.000,9,  -999.00,9,   -999.0,9,   -999.0,9,-999.0000,9,   -999.0,  9,  -999.00,9,   -999.0,  -999.00,9,  -999.00,9,     0.00,2,     0.02,2,   -999.0,-999.0000, -999,9,  202,  12.1530,  26.1484,   -999.0,9
       SH99-08,  NONE,SH-5836,  2,      1, 1-133-1,2,19990903,2156, 31.0188, 131.7012, 1370,    253.3,  11.1729,  34.4234,2,   -999.0,9,-999.0000,9,    145.6,2,  -999.00,9,  -999.00,9,    18.81,2,     0.00,2,     1.39,2, -999.000,9, -999.000,9,  -999.00,9,   -999.0,9,   -999.0,9,-999.0000,9,   -999.0,  9,  -999.00,9,   -999.0,  -999.00,9,  -999.00,9,     0.00,2,     0.02,2,   -999.0,-999.0000, -999,9,  251,  11.1415,  26.3008,   -999.0,9
       SH99-08,  NONE,SH-5836,  2,     12, S-1-1-8,2,19990903,2154, 31.0188, 131.7012, 1370,    304.0,   9.6677,  34.3796,2,   -999.0,9,-999.0000,9,    131.7,2,  -999.00,9,  -999.00,9,    22.31,2,     0.00,2,     1.67,2, -999.000,9, -999.000,9,  -999.00,9,   -999.0,9,   -999.0,9,-999.0000,9,   -999.0,  9,  -999.00,9,   -999.0,  -999.00,9,  -999.00,9,     0.00,2,     0.02,2,   -999.0,-999.0000, -999,9,  302,   9.6332,  26.5291,   -999.0,9
       SH99-08,  NONE,SH-5836,  2,     11, S-1-1-9,2,19990903,2152, 31.0188, 131.7012, 1370,    407.0,   7.8635,  34.3297,2,   -999.0,9,-999.0000,9,    112.3,2,  -999.00,9,  -999.00,9,    26.88,2,     0.00,2,     2.00,2, -999.000,9, -999.000,9,  -999.00,9,   -999.0,9,   -999.0,9,-999.0000,9,   -999.0,  9,  -999.00,9,   -999.0,  -999.00,9,  -999.00,9,  -999.00,9,  -999.00,9,   -999.0,-999.0000, -999,9,  404,   7.8226,  26.7736,   -999.0,9
       SH99-08,  NONE,SH-5836,  1,     10,1-133-94,4,19990903,2119, 31.0092, 131.7065, 1430,    403.0,   8.1969,  34.3516,2,   -999.0,9,  34.3475,2,    115.6,2,  -999.00,9,  -999.00,9,    26.00,2,     0.01,2,     1.93,2, -999.000,9, -999.000,9,  -999.00,9,   -999.0,9,   -999.0,9,-999.0000,9,   -999.0,  9,  -999.00,9,   -999.0,  -999.00,9,  -999.00,9,  -999.00,9,  -999.00,9,   -999.0,-999.0000, -999,9,  400,   8.1554,  26.7413,   -999.0,9
       SH99-08,  NONE,SH-5836,  1,     -9,      -9,4,19990903,2117, 31.0092, 131.7065, 1430,    504.2,   6.0390,  34.3036,2,   -999.0,9,-999.0000,9,   -999.0,9,  -999.00,9,  -999.00,9,  -999.00,9,  -999.00,9,  -999.00,9, -999.000,9, -999.000,9,  -999.00,9,   -999.0,9,   -999.0,9,-999.0000,9,   -999.0,  9,  -999.00,9,   -999.0,  -999.00,9,  -999.00,9,  -999.00,9,  -999.00,9,   -999.0,-999.0000, -999,9,  500,   5.9950,  27.0030,   -999.0,9
       SH99-08,  NONE,SH-5836,  1,      9, S-1-1-5,2,19990903,2114, 31.0092, 131.7065, 1430,    604.2,   4.7270,  34.3268,2,   -999.0,9,  34.3235,2,     73.2,2,  -999.00,9,  -999.00,9,    35.14,2,     0.00,2,     2.60,2, -999.000,9, -999.000,9,  -999.00,9,   -999.0,9,   -999.0,9,-999.0000,9,   -999.0,  9,  -999.00,9,   -999.0,  -999.00,9,  -999.00,9,  -999.00,9,  -999.00,9,   -999.0,-999.0000, -999,9,  599,   4.6799,  27.1777,   -999.0,9
       SH99-08,  NONE,SH-5836,  1,      8,1-133-95,2,19990903,2111, 31.0092, 131.7065, 1430,    706.0,   4.1124,  34.3689,2,   -999.0,9,  34.3636,2,     70.2,2,  -999.00,9,  -999.00,9,    35.82,2,     0.01,2,     2.63,2, -999.000,9, -999.000,9,  -999.00,9,   -999.0,9,   -999.0,9,-999.0000,9,   -999.0,  9,  -999.00,9,   -999.0,  -999.00,9,  -999.00,9,  -999.00,9,  -999.00,9,   -999.0,-999.0000, -999,9,  700,   4.0601,  27.2779,   -999.0,9
       SH99-08,  NONE,SH-5836,  1,      7, S-1-1-4,2,19990903,2109, 31.0092, 131.7065, 1430,    807.0,   3.7678,  34.3989,2,   -999.0,9,  34.3974,2,     65.9,2,  -999.00,9,  -999.00,9,    36.79,2,     0.00,2,     2.73,2, -999.000,9, -999.000,9,  -999.00,9,   -999.0,9,   -999.0,9,-999.0000,9,   -999.0,  9,  -999.00,9,   -999.0,  -999.00,9,  -999.00,9,  -999.00,9,  -999.00,9,   -999.0,-999.0000, -999,9,  800,   3.7095,  27.3375,   -999.0,9
       SH99-08,  NONE,SH-5836,  1,      6,1-133-93,2,19990903,2056, 31.0092, 131.7065, 1430,    907.8,   3.4439,  34.4315,2,   -999.0,9,  34.4253,2,     66.9,2,  -999.00,9,  -999.00,9,    37.08,2,     0.00,2,     2.75,2, -999.000,9, -999.000,9,  -999.00,9,   -999.0,9,   -999.0,9,-999.0000,9,   -999.0,  9,  -999.00,9,   -999.0,  -999.00,9,  -999.00,9,  -999.00,9,  -999.00,9,   -999.0,-999.0000, -999,9,  900,   3.3799,  27.3958,   -999.0,9
       SH99-08,  NONE,SH-5836,  1,      5, 1-133-2,2,19990903,2054, 31.0092, 131.7065, 1430,   1009.9,   3.2545,  34.4502,2,   -999.0,9,  34.4508,2,     67.5,2,  -999.00,9,  -999.00,9,    37.28,2,     0.00,2,     2.76,2, -999.000,9, -999.000,9,  -999.00,9,   -999.0,9,   -999.0,9,-999.0000,9,   -999.0,  9,  -999.00,9,   -999.0,  -999.00,9,  -999.00,9,  -999.00,9,  -999.00,9,   -999.0,-999.0000, -999,9, 1000,   3.1839,  27.4292,   -999.0,9
       SH99-08,  NONE,SH-5836,  1,      4, S-1-1-2,2,19990903,2050, 31.0092, 131.7065, 1430,   1213.3,   2.8766,  34.4889,2,   -999.0,9,  34.4860,2,     69.4,2,  -999.00,9,  -999.00,9,    37.37,2,     0.02,2,     2.73,2, -999.000,9, -999.000,9,  -999.00,9,   -999.0,9,   -999.0,9,-999.0000,9,   -999.0,  9,  -999.00,9,   -999.0,  -999.00,9,  -999.00,9,  -999.00,9,  -999.00,9,   -999.0,-999.0000, -999,9, 1201,   2.7934,  27.4957,   -999.0,9