BOTTLE,20130510GEMDJMAYT
EXPOCODE,SECT_ID,STNNBR,CASTNO,SAMPNO,BTLNBR,BTLNBR_FLAG_W,DATE,TIME,LATITUDE,LONGITUDE,DEPTH,CTDPRS,CTDTMP,CTDSAL,CTDSAL_FLAG_W,CTDOXY,CTDOXY_FLAG_W,SALNTY,SALNTY_FLAG_W,OXYGEN,OXYGEN_FLAG_W,SILCAT,SILCAT_FLAG_W,NITRAT,NITRAT_FLAG_W,NO2+NO3,NO2+NO3_FLAG_W,NITRIT,NITRIT_FLAG_W,PHSPHT,PHSPHT_FLAG_W,CFC-11,CFC-11_FLAG_W,CFC-12,CFC-12_FLAG_W,DELC13,DELC13_FLAG_W,TCARBN,TCARBN_FLAG_W,ALKALI,ALKALI_FLAG_W,PH,PH_FLAG_W,PH_TMP,PH_SCALE,PH_NBS,PH_NBS_FLAG_W,C13ERR,TOTALP,TOTALP_FLAG_W,AMMONI,AMMONI_FLAG_W,CHLORA,CHLORA_FLAG_W,PPHYTN,PPHYTN_FLAG_W,REVPRS,REVTMP,DEPTH_,DEPTH_FLAG,CTDDEP,THETA,SIGTHT,DOC,DOC_FLAG_W
,,,,,,,GMT,GMT,,,METER,DBAR,ITS-90,PSS-78,,UMOL/KG,,PSS-78,,UMOL/KG,,UMOL/KG,,UMOL/KG,,UMOL/KG,,UMOL/KG,,UMOL/KG,,PMOL/KG,,PMOL/KG,,/MILLE,,UMOL/KG,,UMOL/KG,,25_DEG_C,,DEG_C,,,,/MILLE,UMOL/KG,,UMOL/KG,,UG/L,,UG/L,,DBAR,ITS-90,METERS,,METERS,DEG_C,,UMOL/L,
       SH99-10,  NONE,SH-5871,  1,      6,1-133-93,2,19991009,0845, 29.0813, 133.9732, 2450,    403.8,  14.7822,  34.6158,2,   -999.0,9,  34.6154,2,    188.1,2,  -999.00,9,  -999.00,9,    10.82,2,     0.00,2,  -999.00,4, -999.000,9, -999.000,9,  -999.00,9,   -999.0,9,   -999.0,9,-999.0000,9,   -999.0,  9,  -999.00,9,   -999.0,  -999.00,9,  -999.00,9,  -999.00,9,  -999.00,9,   -999.0,-999.0000, -999,9,  401,  14.7215,  25.7364,   -999.0,9
       SH99-10,  NONE,SH-5871,  1,      5, 1-133-2,2,19991009,0843, 29.0813, 133.9732, 2450,    504.3,  11.6370,  34.3818,2,   -999.0,9,  34.4017,4,    169.8,2,  -999.00,9,  -999.00,9,    17.74,2,     0.00,2,  -999.00,4, -999.000,9, -999.000,9,  -999.00,9,   -999.0,9,   -999.0,9,-999.0000,9,   -999.0,  9,  -999.00,9,   -999.0,  -999.00,9,  -999.00,9,  -999.00,9,  -999.00,9,   -999.0,-999.0000, -999,9,  500,  11.5721,  26.1893,   -999.0,9
       SH99-10,  NONE,SH-5871,  1,      4, S-1-1-2,2,19991009,0840, 29.0813, 133.9732, 2450,    604.6,   8.9974,  34.2506,2,   -999.0,9,  34.2551,2,    145.7,2,  -999.00,9,  -999.00,9,    24.65,2,     0.00,2,  -999.00,4, -999.000,9, -999.000,9,  -999.00,9,   -999.0,9,   -999.0,9,-999.0000,9,   -999.0,  9,  -999.00,9,   -999.0,  -999.00,9,  -999.00,9,  -999.00,9,  -999.00,9,   -999.0,-999.0000, -999,9,  600,   8.9308,  26.5423,   -999.0,9
       SH99-10,  NONE,SH-5871,  1,      3,1-133-84,4,19991009,0838, 29.0813, 133.9732, 2450,    705.6,   7.2530,  34.2026,2,   -999.0,9,  34.2027,2,    121.4,2,  -999.00,9,  -999.00,9,    30.00,2,     0.00,2,  -999.00,4, -999.000,9, -999.000,9,  -999.00,9,   -999.0,9,   -999.0,9,-999.0000,9,   -999.0,  9,  -999.00,9,   -999.0,  -999.00,9,  -999.00,9,  -999.00,9,  -999.00,9,   -999.0,-999.0000, -999,9,  700,   7.1840,  26.7651,   -999.0,9
       SH99-10,  NONE,SH-5871,  1,     -9,      -9,4,19991009,0836, 29.0813, 133.9732, 2450,    806.8,   5.8368,  34.2352,2,   -999.0,9,-999.0000,9,   -999.0,9,  -999.00,9,  -999.00,9,  -999.00,9,  -999.00,9,  -999.00,9, -999.000,9, -999.000,9,  -999.00,9,   -999.0,9,   -999.0,9,-999.0000,9,   -999.0,  9,  -999.00,9,   -999.0,  -999.00,9,  -999.00,9,  -999.00,9,  -999.00,9,   -999.0,-999.0000, -999,9,  800,   5.7659,  26.9776,   -999.0,9
       SH99-10,  NONE,SH-5871,  1,      2, S-1-1-7,2,19991009,0834, 29.0813, 133.9732, 2450,    907.6,   4.8720,  34.3043,2,   -999.0,9,  34.3040,2,     80.1,2,  -999.00,9,  -999.00,9,    37.68,2,     0.00,2,  -999.00,4, -999.000,9, -999.000,9,  -999.00,9,   -999.0,9,   -999.0,9,-999.0000,9,   -999.0,  9,  -999.00,9,   -999.0,  -999.00,9,  -999.00,9,  -999.00,9,  -999.00,9,   -999.0,-999.0000, -999,9,  900,   4.7981,  27.1467,   -999.0,9
       SH99-10,  NONE,SH-5871,  1,      1, 1-133-1,2,19991009,0832, 29.0813, 133.9732, 2450,   1009.4,   4.0460,  34.3698,2,   -999.0,9,  34.3665,2,     68.0,2,  -999.00,9,  -999.00,9,    39.62,2,     0.00,2,  -999.00,4, -999.000,9, -999.000,9,  -999.00,9,   -999.0,9,   -999.0,9,-999.0000,9,   -999.0,  9,  -999.00,9,   -999.0,  -999.00,9,  -999.00,9,  -999.00,9,  -999.00,9,   -999.0,-999.0000, -999,9, 1000,   3.9694,  27.2880,   -999.0,9
       SH99-10,  NONE,SH-5871,  1,     12, 1-133-7,2,19991009,0829, 29.0813, 133.9732, 2450,   1210.6,   3.1529,  34.4506,2,   -999.0,9,  34.4493,2,     66.3,2,  -999.00,9,  -999.00,9,    40.88,2,     0.00,2,  -999.00,4, -999.000,9, -999.000,9,  -999.00,9,   -999.0,9,   -999.0,9,-999.0000,9,   -999.0,  9,  -999.00,9,   -999.0,  -999.00,9,  -999.00,9,  -999.00,9,  -999.00,9,   -999.0,-999.0000, -999,9, 1199,   3.0674,  27.4403,   -999.0,9
       SH99-10,  NONE,SH-5872,  3,     -9,      -9,5,19991009,1658, 29.4797, 133.4478, 2760,      0.0,  28.5935,  34.4593,2,   -999.0,9,-999.0000,9,    202.0,2,  -999.00,9,  -999.00,9,     0.20,2,     0.00,2,  -999.00,4, -999.000,9, -999.000,9,  -999.00,9,   -999.0,9,   -999.0,9,-999.0000,9,   -999.0,  9,     8.24,2,   -999.0,  -999.00,9,  -999.00,9,     0.04,2,     0.01,2,   -999.0,-999.0000, -999,9,    0,  28.5935,  21.7932,   -999.0,9
       SH99-10,  NONE,SH-5872,  3,      5, 1-133-2,2,19991009,1657, 29.4797, 133.4478, 2760,     11.6,  28.5993,  34.4589,2,   -999.0,9,-999.0000,9,    202.0,2,  -999.00,9,  -999.00,9,     0.00,2,     0.00,2,  -999.00,4, -999.000,9, -999.000,9,  -999.00,9,   -999.0,9,   -999.0,9,-999.0000,9,   -999.0,  9,     8.24,2,   -999.0,  -999.00,9,  -999.00,9,     0.03,2,     0.02,2,   -999.0,-999.0000, -999,9,   12,  28.5965,  21.7919,   -999.0,9
       SH99-10,  NONE,SH-5872,  3,      4, S-1-1-2,2,19991009,1656, 29.4797, 133.4478, 2760,     26.5,  28.6010,  34.4591,2,   -999.0,9,-999.0000,9,    203.1,2,  -999.00,9,  -999.00,9,     0.00,2,     0.00,2,  -999.00,4, -999.000,9, -999.000,9,  -999.00,9,   -999.0,9,   -999.0,9,-999.0000,9,   -999.0,  9,     8.24,2,   -999.0,  -999.00,9,  -999.00,9,     0.03,2,     0.01,2,   -999.0,-999.0000, -999,9,   26,  28.5947,  21.7926,   -999.0,9
       SH99-10,  NONE,SH-5872,  3,      3,1-133-84,2,19991009,1655, 29.4797, 133.4478, 2760,     51.6,  26.6640,  34.5551,2,   -999.0,9,-999.0000,9,    217.8,2,  -999.00,9,  -999.00,9,     0.10,2,     0.00,2,  -999.00,4, -999.000,9, -999.000,9,  -999.00,9,   -999.0,9,   -999.0,9,-999.0000,9,   -999.0,  9,     8.24,2,   -999.0,  -999.00,9,  -999.00,9,     0.06,2,     0.03,2,   -999.0,-999.0000, -999,9,   51,  26.6523,  22.4931,   -999.0,9
       SH99-10,  NONE,SH-5872,  3,      2, S-1-1-7,2,19991009,1654, 29.4797, 133.4478, 2760,     77.2,  23.0268,  34.7355,2,   -999.0,9,-999.0000,9,    238.8,2,  -999.00,9,  -999.00,9,     0.10,2,     0.00,2,  -999.00,4, -999.000,9, -999.000,9,  -999.00,9,   -999.0,9,   -999.0,9,-999.0000,9,   -999.0,  9,     8.22,2,   -999.0,  -999.00,9,  -999.00,9,     0.13,2,     0.06,2,   -999.0,-999.0000, -999,9,   77,  23.0111,  23.7298,   -999.0,9
       SH99-10,  NONE,SH-5872,  3,      1, 1-133-1,2,19991009,1653, 29.4797, 133.4478, 2760,    103.1,  21.1095,  34.8026,2,   -999.0,9,-999.0000,9,    231.3,2,  -999.00,9,  -999.00,9,     0.20,2,     0.00,2,  -999.00,4, -999.000,9, -999.000,9,  -999.00,9,   -999.0,9,   -999.0,9,-999.0000,9,   -999.0,  9,     8.20,2,   -999.0,  -999.00,9,  -999.00,9,     0.12,2,     0.13,2,   -999.0,-999.0000, -999,9,  102,  21.0898,  24.3192,   -999.0,9
       SH99-10,  NONE,SH-5872,  3,     12, 1-133-7,2,19991009,1649, 29.4797, 133.4478, 2760,    128.5,  20.1431,  34.8019,2,   -999.0,9,-999.0000,9,    217.8,2,  -999.00,9,  -999.00,9,     0.78,2,     0.09,2,  -999.00,4, -999.000,9, -999.000,9,  -999.00,9,   -999.0,9,   -999.0,9,-999.0000,9,   -999.0,  9,     8.17,2,   -999.0,  -999.00,9,  -999.00,9,     0.08,2,     0.26,2,   -999.0,-999.0000, -999,9,  128,  20.1192,  24.5792,   -999.0,9
       SH99-10,  NONE,SH-5872,  3,     11, S-1-1-9,2,19991009,1648, 29.4797, 133.4478, 2760,    153.5,  19.4963,  34.8056,2,   -999.0,9,-999.0000,9,    212.8,2,  -999.00,9,  -999.00,9,     1.56,2,     0.02,2,  -999.00,4, -999.000,9, -999.000,9,  -999.00,9,   -999.0,9,   -999.0,9,-999.0000,9,   -999.0,  9,     8.16,2,   -999.0,  -999.00,9,  -999.00,9,     0.03,2,     0.13,2,   -999.0,-999.0000, -999,9,  152,  19.4684,  24.7522,   -999.0,9
       SH99-10,  NONE,SH-5872,  3,     10,1-133-94,2,19991009,1646, 29.4797, 133.4478, 2760,    203.2,  18.8043,  34.8250,2,   -999.0,9,-999.0000,9,    202.6,2,  -999.00,9,  -999.00,9,     3.71,2,     0.01,2,  -999.00,4, -999.000,9, -999.000,9,  -999.00,9,   -999.0,9,   -999.0,9,-999.0000,9,   -999.0,  9,     8.13,2,   -999.0,  -999.00,9,  -999.00,9,     0.00,2,     0.01,2,   -999.0,-999.0000, -999,9,  202,  18.7683,  24.9463,   -999.0,9
       SH99-10,  NONE,SH-5872,  3,      9, S-1-1-5,2,19991009,1645, 29.4797, 133.4478, 2760,    252.4,  18.1299,  34.8167,2,   -999.0,9,-999.0000,9,    197.5,2,  -999.00,9,  -999.00,9,     5.07,2,     0.01,2,  -999.00,4, -999.000,9, -999.000,9,  -999.00,9,   -999.0,9,   -999.0,9,-999.0000,9,   -999.0,  9,     8.11,2,   -999.0,  -999.00,9,  -999.00,9,     0.00,2,     0.01,2,   -999.0,-999.0000, -999,9,  251,  18.0863,  25.1103,   -999.0,9
       SH99-10,  NONE,SH-5872,  3,      8,1-133-95,2,19991009,1642, 29.4797, 133.4478, 2760,    306.0,  17.2037,  34.7836,2,   -999.0,9,-999.0000,9,    203.1,4,  -999.00,9,  -999.00,9,     6.53,2,     0.01,2,  -999.00,4, -999.000,9, -999.000,9,  -999.00,9,   -999.0,9,   -999.0,9,-999.0000,9,   -999.0,  9,     8.08,2,   -999.0,  -999.00,9,  -999.00,9,     0.00,2,     0.01,2,   -999.0,-999.0000, -999,9,  304,  17.1527,  25.3118,   -999.0,9
       SH99-10,  NONE,SH-5872,  2,      7, S-1-1-4,2,19991009,1611, 29.4847, 133.4635, 2770,    404.4,  15.1616,  34.6673,2,   -999.0,9,  34.6418,4,    193.5,2,  -999.00,9,  -999.00,9,     9.75,2,     0.01,2,  -999.00,4, -999.000,9, -999.000,9,  -999.00,9,   -999.0,9,   -999.0,9,-999.0000,9,   -999.0,  9,     8.03,2,   -999.0,  -999.00,9,  -999.00,9,  -999.00,9,  -999.00,9,   -999.0,-999.0000, -999,9,  401,  15.0997,  25.6935,   -999.0,9
       SH99-10,  NONE,SH-5872,  2,      6,1-133-93,4,19991009,1609, 29.4847, 133.4635, 2770,    505.5,  12.5507,  34.4542,2,   -999.0,9,  34.4501,2,    176.1,2,  -999.00,9,  -999.00,9,    15.79,2,     0.00,2,  -999.00,4, -999.000,9, -999.000,9,  -999.00,9,   -999.0,9,   -999.0,9,-999.0000,9,   -999.0,  9,     7.94,2,   -999.0,  -999.00,9,  -999.00,9,  -999.00,9,  -999.00,9,   -999.0,-999.0000, -999,9,  501,  12.4823,  26.0723,   -999.0,9
       SH99-10,  NONE,SH-5872,  2,     -9,      -9,4,19991009,1606, 29.4847, 133.4635, 2770,    605.1,  10.1422,  34.3113,2,   -999.0,9,-999.0000,9,   -999.0,9,  -999.00,9,  -999.00,9,  -999.00,9,  -999.00,9,  -999.00,9, -999.000,9, -999.000,9,  -999.00,9,   -999.0,9,   -999.0,9,-999.0000,9,   -999.0,  9,  -999.00,9,   -999.0,  -999.00,9,  -999.00,9,  -999.00,9,  -999.00,9,   -999.0,-999.0000, -999,9,  600,  10.0706,  26.4022,   -999.0,9
       SH99-10,  NONE,SH-5872,  2,      5, 1-133-2,2,19991009,1604, 29.4847, 133.4635, 2770,    706.6,   7.6396,  34.2141,2,   -999.0,9,  34.2219,2,    126.1,2,  -999.00,9,  -999.00,9,    28.83,2,     0.00,2,  -999.00,4, -999.000,9, -999.000,9,  -999.00,9,   -999.0,9,   -999.0,9,-999.0000,9,   -999.0,  9,     7.72,2,   -999.0,  -999.00,9,  -999.00,9,  -999.00,9,  -999.00,9,   -999.0,-999.0000, -999,9,  701,   7.5685,  26.7197,   -999.0,9
       SH99-10,  NONE,SH-5872,  2,      4, S-1-1-2,4,19991009,1603, 29.4847, 133.4635, 2770,    806.7,   6.2527,  34.2338,2,   -999.0,9,  34.4308,4,     67.7,4,  -999.00,9,  -999.00,9,    40.61,4,     0.00,4,  -999.00,4, -999.000,9, -999.000,9,  -999.00,9,   -999.0,9,   -999.0,9,-999.0000,9,   -999.0,  9,     7.56,4,   -999.0,  -999.00,9,  -999.00,9,  -999.00,9,  -999.00,9,   -999.0,-999.0000, -999,9,  800,   6.1793,  26.9244,   -999.0,9
       SH99-10,  NONE,SH-5872,  2,      3,1-133-84,2,19991009,1559, 29.4847, 133.4635, 2770,    909.0,   5.0825,  34.2720,2,   -999.0,9,  34.2734,2,     82.0,2,  -999.00,9,  -999.00,9,    37.19,2,     0.00,2,  -999.00,4, -999.000,9, -999.000,9,  -999.00,9,   -999.0,9,   -999.0,9,-999.0000,9,   -999.0,  9,     7.60,2,   -999.0,  -999.00,9,  -999.00,9,  -999.00,9,  -999.00,9,   -999.0,-999.0000, -999,9,  901,   5.0072,  27.0973,   -999.0,9
       SH99-10,  NONE,SH-5872,  2,      2, S-1-1-7,2,19991009,1557, 29.4847, 133.4635, 2770,   1010.9,   4.2684,  34.3361,2,   -999.0,9,  34.3365,2,     70.8,2,  -999.00,9,  -999.00,9,    39.23,2,     0.00,2,  -999.00,4, -999.000,9, -999.000,9,  -999.00,9,   -999.0,9,   -999.0,9,-999.0000,9,   -999.0,  9,     7.57,2,   -999.0,  -999.00,9,  -999.00,9,  -999.00,9,  -999.00,9,   -999.0,-999.0000, -999,9, 1002,   4.1900,  27.2382,   -999.0,9
       SH99-10,  NONE,SH-5872,  2,      1, 1-133-1,2,19991009,1553, 29.4847, 133.4635, 2770,   1214.0,   3.3423,  34.4325,2,   -999.0,9,  34.4330,2,     67.3,2,  -999.00,9,  -999.00,9,    40.68,2,     0.00,2,  -999.00,4, -999.000,9, -999.000,9,  -999.00,9,   -999.0,9,   -999.0,9,-999.0000,9,   -999.0,  9,     7.56,2,   -999.0,  -999.00,9,  -999.00,9,  -999.00,9,  -999.00,9,   -999.0,-999.0000, -999,9, 1202,   3.2548,  27.4084,   -999.0,9
       SH99-10,  NONE,SH-5873,  2,     -9,      -9,5,19991009,2321, 29.9340, 132.9262, 3890,      0.0,  28.3401,  34.1268,2,   -999.0,9,-999.0000,9,    202.0,2,  -999.00,9,  -999.00,9,     0.10,2,     0.00,2,  -999.00,4, -999.000,9, -999.000,9,  -999.00,9,   -999.0,9,   -999.0,9,-999.0000,9,   -999.0,  9,  -999.00,9,   -999.0,  -999.00,9,  -999.00,9,     0.08,2,     0.04,2,   -999.0,-999.0000, -999,9,    0,  28.3401,  21.6269,   -999.0,9
       SH99-10,  NONE,SH-5873,  2,      9, S-1-1-5,2,19991009,2320, 29.9340, 132.9262, 3890,     11.6,  28.3451,  34.1277,2,   -999.0,9,  34.1297,2,    202.7,2,  -999.00,9,  -999.00,9,     0.10,2,     0.00,2,  -999.00,4, -999.000,9, -999.000,9,  -999.00,9,   -999.0,9,   -999.0,9,-999.0000,9,   -999.0,  9,  -999.00,9,   -999.0,  -999.00,9,  -999.00,9,     0.08,2,     0.03,2,   -999.0,-999.0000, -999,9,   11,  28.3423,  21.6268,   -999.0,9
       SH99-10,  NONE,SH-5873,  2,      8,1-133-95,2,19991009,2319, 29.9340, 132.9262, 3890,     26.0,  28.3474,  34.1309,2,   -999.0,9,  34.1293,2,    202.3,2,  -999.00,9,  -999.00,9,     0.10,2,     0.00,2,  -999.00,4, -999.000,9, -999.000,9,  -999.00,9,   -999.0,9,   -999.0,9,-999.0000,9,   -999.0,  9,  -999.00,9,   -999.0,  -999.00,9,  -999.00,9,     0.06,2,     0.02,2,   -999.0,-999.0000, -999,9,   26,  28.3412,  21.6296,   -999.0,9
       SH99-10,  NONE,SH-5873,  2,      7, S-1-1-4,4,19991009,2319, 29.9340, 132.9262, 3890,     51.4,  26.5144,  34.4830,2,   -999.0,9,  34.4768,2,    209.6,2,  -999.00,9,  -999.00,9,     0.10,2,     0.00,2,  -999.00,4, -999.000,9, -999.000,9,  -999.00,9,   -999.0,9,   -999.0,9,-999.0000,9,   -999.0,  9,  -999.00,9,   -999.0,  -999.00,9,  -999.00,9,     0.15,2,     0.12,2,   -999.0,-999.0000, -999,9,   51,  26.5028,  22.4859,   -999.0,9
       SH99-10,  NONE,SH-5873,  2,     -9,      -9,4,19991009,2318, 29.9340, 132.9262, 3890,     77.6,  23.9185,  34.7303,2,   -999.0,9,-999.0000,9,   -999.0,9,  -999.00,9,  -999.00,9,  -999.00,9,  -999.00,9,  -999.00,9, -999.000,9, -999.000,9,  -999.00,9,   -999.0,9,   -999.0,9,-999.0000,9,   -999.0,  9,  -999.00,9,   -999.0,  -999.00,9,  -999.00,9,  -999.00,9,  -999.00,9,   -999.0,-999.0000, -999,9,   77,  23.9023,  23.4661,   -999.0,9
       SH99-10,  NONE,SH-5873,  2,      6,1-133-93,2,19991009,2317, 29.9340, 132.9262, 3890,    102.4,  21.8947,  34.8512,2,   -999.0,9,  34.8404,4,    223.2,2,  -999.00,9,  -999.00,9,     0.29,2,     0.23,2,  -999.00,4, -999.000,9, -999.000,9,  -999.00,9,   -999.0,9,   -999.0,9,-999.0000,9,   -999.0,  9,  -999.00,9,   -999.0,  -999.00,9,  -999.00,9,     0.17,2,     0.31,2,   -999.0,-999.0000, -999,9,  102,  21.8745,  24.1398,   -999.0,9
       SH99-10,  NONE,SH-5873,  2,      5, 1-133-2,2,19991009,2316, 29.9340, 132.9262, 3890,    127.1,  20.8817,  34.8359,2,   -999.0,9,  34.8381,2,    216.5,2,  -999.00,9,  -999.00,9,     0.39,2,     0.13,2,  -999.00,4, -999.000,9, -999.000,9,  -999.00,9,   -999.0,9,   -999.0,9,-999.0000,9,   -999.0,  9,  -999.00,9,   -999.0,  -999.00,9,  -999.00,9,     0.06,2,     0.16,2,   -999.0,-999.0000, -999,9,  126,  20.8575,  24.4076,   -999.0,9
       SH99-10,  NONE,SH-5873,  2,      4, S-1-1-2,2,19991009,2315, 29.9340, 132.9262, 3890,    152.4,  20.2118,  34.8264,2,   -999.0,9,  34.8308,2,    212.4,2,  -999.00,9,  -999.00,9,     0.78,2,     0.05,2,  -999.00,4, -999.000,9, -999.000,9,  -999.00,9,   -999.0,9,   -999.0,9,-999.0000,9,   -999.0,  9,  -999.00,9,   -999.0,  -999.00,9,  -999.00,9,     0.03,2,     0.09,2,   -999.0,-999.0000, -999,9,  151,  20.1834,  24.5809,   -999.0,9
       SH99-10,  NONE,SH-5873,  2,      3,1-133-84,2,19991009,2314, 29.9340, 132.9262, 3890,    203.6,  19.3586,  34.8312,2,   -999.0,9,  34.8306,2,    198.2,2,  -999.00,9,  -999.00,9,     3.32,2,     0.02,2,  -999.00,4, -999.000,9, -999.000,9,  -999.00,9,   -999.0,9,   -999.0,9,-999.0000,9,   -999.0,  9,  -999.00,9,   -999.0,  -999.00,9,  -999.00,9,     0.01,2,     0.02,2,   -999.0,-999.0000, -999,9,  202,  19.3219,  24.8096,   -999.0,9
       SH99-10,  NONE,SH-5873,  2,      2, S-1-1-7,2,19991009,2313, 29.9340, 132.9262, 3890,    253.9,  18.2626,  34.8250,2,   -999.0,9,  34.8251,2,    197.5,2,  -999.00,9,  -999.00,9,     4.68,2,     0.01,2,  -999.00,4, -999.000,9, -999.000,9,  -999.00,9,   -999.0,9,   -999.0,9,-999.0000,9,   -999.0,  9,  -999.00,9,   -999.0,  -999.00,9,  -999.00,9,     0.00,2,     0.01,2,   -999.0,-999.0000, -999,9,  252,  18.2186,  25.0840,   -999.0,9
       SH99-10,  NONE,SH-5873,  2,      1, 1-133-1,2,19991009,2312, 29.9340, 132.9262, 3890,    305.6,  17.3714,  34.7970,2,   -999.0,9,  34.7971,2,    196.8,2,  -999.00,9,  -999.00,9,     5.85,2,     0.01,2,  -999.00,4, -999.000,9, -999.000,9,  -999.00,9,   -999.0,9,   -999.0,9,-999.0000,9,   -999.0,  9,  -999.00,9,   -999.0,  -999.00,9,  -999.00,9,     0.00,2,     0.01,2,   -999.0,-999.0000, -999,9,  303,  17.3201,  25.2820,   -999.0,9