BOTTLE,20130510GEMDJMAYT
EXPOCODE,SECT_ID,STNNBR,CASTNO,SAMPNO,BTLNBR,BTLNBR_FLAG_W,DATE,TIME,LATITUDE,LONGITUDE,DEPTH,CTDPRS,CTDTMP,CTDSAL,CTDSAL_FLAG_W,CTDOXY,CTDOXY_FLAG_W,SALNTY,SALNTY_FLAG_W,OXYGEN,OXYGEN_FLAG_W,SILCAT,SILCAT_FLAG_W,NITRAT,NITRAT_FLAG_W,NO2+NO3,NO2+NO3_FLAG_W,NITRIT,NITRIT_FLAG_W,PHSPHT,PHSPHT_FLAG_W,CFC-11,CFC-11_FLAG_W,CFC-12,CFC-12_FLAG_W,DELC13,DELC13_FLAG_W,TCARBN,TCARBN_FLAG_W,ALKALI,ALKALI_FLAG_W,PH,PH_FLAG_W,PH_TMP,PH_SCALE,PH_NBS,PH_NBS_FLAG_W,C13ERR,TOTALP,TOTALP_FLAG_W,AMMONI,AMMONI_FLAG_W,CHLORA,CHLORA_FLAG_W,PPHYTN,PPHYTN_FLAG_W,REVPRS,REVTMP,DEPTH_,DEPTH_FLAG,CTDDEP,THETA,SIGTHT,DOC,DOC_FLAG_W
,,,,,,,GMT,GMT,,,METER,DBAR,ITS-90,PSS-78,,UMOL/KG,,PSS-78,,UMOL/KG,,UMOL/KG,,UMOL/KG,,UMOL/KG,,UMOL/KG,,UMOL/KG,,PMOL/KG,,PMOL/KG,,/MILLE,,UMOL/KG,,UMOL/KG,,25_DEG_C,,DEG_C,,,,/MILLE,UMOL/KG,,UMOL/KG,,UG/L,,UG/L,,DBAR,ITS-90,METERS,,METERS,DEG_C,,UMOL/L,
       SH99-10,  NONE,SH-5875,  1,      3,1-133-84,2,19991010,1040, 30.6255, 132.1417, 2360,    403.4,  15.5909,  34.6608,2,   -999.0,9,-999.0000,9,    193.6,2,  -999.00,9,  -999.00,9,     9.07,2,     0.01,2,  -999.00,4, -999.000,9, -999.000,9,  -999.00,9,   -999.0,9,   -999.0,9,-999.0000,9,   -999.0,  9,     8.05,2,   -999.0,  -999.00,9,  -999.00,9,  -999.00,9,  -999.00,9,   -999.0,-999.0000, -999,9,  400,  15.5279,  25.5934,   -999.0,9
       SH99-10,  NONE,SH-5875,  1,      2, S-1-1-7,2,19991010,1038, 30.6255, 132.1417, 2360,    504.7,  12.8688,  34.4530,2,   -999.0,9,-999.0000,9,    186.2,2,  -999.00,9,  -999.00,9,    14.33,2,     0.00,2,  -999.00,4, -999.000,9, -999.000,9,  -999.00,9,   -999.0,9,   -999.0,9,-999.0000,9,   -999.0,  9,     7.96,2,   -999.0,  -999.00,9,  -999.00,9,  -999.00,9,  -999.00,9,   -999.0,-999.0000, -999,9,  501,  12.7994,  26.0090,   -999.0,9
       SH99-10,  NONE,SH-5875,  1,      1, 1-133-1,2,19991010,1035, 30.6255, 132.1417, 2360,    605.0,  10.1530,  34.2994,2,   -999.0,9,-999.0000,9,    160.7,2,  -999.00,9,  -999.00,9,    21.53,2,     0.00,2,  -999.00,4, -999.000,9, -999.000,9,  -999.00,9,   -999.0,9,   -999.0,9,-999.0000,9,   -999.0,  9,     7.85,2,   -999.0,  -999.00,9,  -999.00,9,  -999.00,9,  -999.00,9,   -999.0,-999.0000, -999,9,  600,  10.0812,  26.3910,   -999.0,9
       SH99-10,  NONE,SH-5875,  1,     12, 1-133-7,2,19991010,1033, 30.6255, 132.1417, 2360,    703.9,   7.7958,  34.2139,2,   -999.0,9,-999.0000,9,    129.3,2,  -999.00,9,  -999.00,9,    28.44,2,     0.00,2,  -999.00,4, -999.000,9, -999.000,9,  -999.00,9,   -999.0,9,   -999.0,9,-999.0000,9,   -999.0,  9,     7.73,2,   -999.0,  -999.00,9,  -999.00,9,  -999.00,9,  -999.00,9,   -999.0,-999.0000, -999,9,  698,   7.7241,  26.6970,   -999.0,9
       SH99-10,  NONE,SH-5875,  1,     11, S-1-1-9,4,19991010,1026, 30.6255, 132.1417, 2360,    807.2,   6.1894,  34.2174,2,   -999.0,9,-999.0000,9,    105.0,4,  -999.00,9,  -999.00,9,    39.34,4,     0.00,4,  -999.00,4, -999.000,9, -999.000,9,  -999.00,9,   -999.0,9,   -999.0,9,-999.0000,9,   -999.0,  9,     7.62,4,   -999.0,  -999.00,9,  -999.00,9,  -999.00,9,  -999.00,9,   -999.0,-999.0000, -999,9,  800,   6.1163,  26.9195,   -999.0,9
       SH99-10,  NONE,SH-5875,  1,     10,1-133-94,2,19991010,1024, 30.6255, 132.1417, 2360,    905.2,   5.0946,  34.2754,2,   -999.0,9,-999.0000,9,     83.7,2,  -999.00,9,  -999.00,9,    36.61,2,     0.00,2,  -999.00,4, -999.000,9, -999.000,9,  -999.00,9,   -999.0,9,   -999.0,9,-999.0000,9,   -999.0,  9,     7.61,2,   -999.0,  -999.00,9,  -999.00,9,  -999.00,9,  -999.00,9,   -999.0,-999.0000, -999,9,  897,   5.0195,  27.0985,   -999.0,9
       SH99-10,  NONE,SH-5875,  1,      9, S-1-1-5,2,19991010,1021, 30.6255, 132.1417, 2360,   1008.3,   4.3823,  34.3548,2,   -999.0,9,-999.0000,9,     74.0,2,  -999.00,9,  -999.00,9,    38.74,2,     0.00,2,  -999.00,4, -999.000,9, -999.000,9,  -999.00,9,   -999.0,9,   -999.0,9,-999.0000,9,   -999.0,  9,     7.57,2,   -999.0,  -999.00,9,  -999.00,9,  -999.00,9,  -999.00,9,   -999.0,-999.0000, -999,9,  999,   4.3032,  27.2411,   -999.0,9
       SH99-10,  NONE,SH-5875,  1,      8,1-133-95,2,19991010,1017, 30.6255, 132.1417, 2360,   1211.7,   3.3937,  34.4309,2,   -999.0,9,-999.0000,9,     70.4,2,  -999.00,9,  -999.00,9,    39.61,2,     0.00,2,  -999.00,4, -999.000,9, -999.000,9,  -999.00,9,   -999.0,9,   -999.0,9,-999.0000,9,   -999.0,  9,     7.58,2,   -999.0,  -999.00,9,  -999.00,9,  -999.00,9,  -999.00,9,   -999.0,-999.0000, -999,9, 1200,   3.3059,  27.4023,   -999.0,9
       SH99-10,  NONE,SH-5875,  1,      7, S-1-1-4,4,19991010,1017, 30.6255, 132.1417, 2360,   1211.7,   3.3937,  34.4309,2,   -999.0,9,-999.0000,9,     83.5,4,  -999.00,9,  -999.00,9,    37.18,4,     0.00,4,  -999.00,4, -999.000,9, -999.000,9,  -999.00,9,   -999.0,9,   -999.0,9,-999.0000,9,   -999.0,  9,     7.59,4,   -999.0,  -999.00,9,  -999.00,9,  -999.00,9,  -999.00,9,   -999.0,-999.0000, -999,9, 1200,   3.3059,  27.4023,   -999.0,9
       SH99-10,  NONE,SH-5876,  1,     11, S-1-1-9,4,19991010,1551, 31.0157, 131.7210, 1420,    403.7,  11.9300,  34.4229,2,   -999.0,9,  34.4392,4,    161.4,4,  -999.00,9,  -999.00,9,    18.13,4,     0.01,4,  -999.00,4, -999.000,9, -999.000,9,  -999.00,9,   -999.0,9,   -999.0,9,-999.0000,9,   -999.0,  9,  -999.00,9,   -999.0,  -999.00,9,  -999.00,9,  -999.00,9,  -999.00,9,   -999.0,-999.0000, -999,9,  401,  11.8774,  26.1641,   -999.0,9
       SH99-10,  NONE,SH-5876,  1,     10,1-133-94,4,19991010,1549, 31.0157, 131.7210, 1420,    506.0,  10.0849,  34.3509,2,   -999.0,9,  34.3801,4,    138.1,4,  -999.00,9,  -999.00,9,    23.67,4,     0.01,4,  -999.00,4, -999.000,9, -999.000,9,  -999.00,9,   -999.0,9,   -999.0,9,-999.0000,9,   -999.0,  9,  -999.00,9,   -999.0,  -999.00,9,  -999.00,9,  -999.00,9,  -999.00,9,   -999.0,-999.0000, -999,9,  502,  10.0254,  26.4407,   -999.0,9
       SH99-10,  NONE,SH-5876,  1,      9, S-1-1-5,4,19991010,1543, 31.0157, 131.7210, 1420,    606.3,   6.5334,  34.3202,2,   -999.0,9,  34.3386,4,     99.3,4,  -999.00,9,  -999.00,9,    32.72,4,     0.01,4,  -999.00,4, -999.000,9, -999.000,9,  -999.00,9,   -999.0,9,   -999.0,9,-999.0000,9,   -999.0,  9,  -999.00,9,   -999.0,  -999.00,9,  -999.00,9,  -999.00,9,  -999.00,9,   -999.0,-999.0000, -999,9,  601,   6.4777,  26.9537,   -999.0,9
       SH99-10,  NONE,SH-5876,  1,      8,1-133-95,2,19991010,1538, 31.0157, 131.7210, 1420,    706.5,   5.0251,  34.3754,2,   -999.0,9,  34.3732,2,     83.9,2,  -999.00,9,  -999.00,9,    36.41,2,     0.02,2,  -999.00,4, -999.000,9, -999.000,9,  -999.00,9,   -999.0,9,   -999.0,9,-999.0000,9,   -999.0,  9,  -999.00,9,   -999.0,  -999.00,9,  -999.00,9,  -999.00,9,  -999.00,9,   -999.0,-999.0000, -999,9,  700,   4.9678,  27.1837,   -999.0,9
       SH99-10,  NONE,SH-5876,  1,      7, S-1-1-4,2,19991010,1532, 31.0157, 131.7210, 1420,    808.1,   4.2133,  34.4076,2,   -999.0,9,  34.4068,2,     77.2,2,  -999.00,9,  -999.00,9,    38.84,2,     0.01,2,  -999.00,4, -999.000,9, -999.000,9,  -999.00,9,   -999.0,9,   -999.0,9,-999.0000,9,   -999.0,  9,  -999.00,9,   -999.0,  -999.00,9,  -999.00,9,  -999.00,9,  -999.00,9,   -999.0,-999.0000, -999,9,  801,   4.1521,  27.2990,   -999.0,9
       SH99-10,  NONE,SH-5876,  1,      6,1-133-93,2,19991010,1530, 31.0157, 131.7210, 1420,    908.8,   3.5025,  34.4193,2,   -999.0,9,  34.4227,2,     67.8,2,  -999.00,9,  -999.00,9,    40.30,2,     0.01,2,  -999.00,4, -999.000,9, -999.000,9,  -999.00,9,   -999.0,9,   -999.0,9,-999.0000,9,   -999.0,  9,  -999.00,9,   -999.0,  -999.00,9,  -999.00,9,  -999.00,9,  -999.00,9,   -999.0,-999.0000, -999,9,  901,   3.4380,  27.3804,   -999.0,9
       SH99-10,  NONE,SH-5876,  1,      5, 1-133-2,2,19991010,1526, 31.0157, 131.7210, 1420,   1009.8,   3.3155,  34.4500,2,   -999.0,9,  34.4526,2,     71.6,2,  -999.00,9,  -999.00,9,    40.20,2,     0.01,2,  -999.00,4, -999.000,9, -999.000,9,  -999.00,9,   -999.0,9,   -999.0,9,-999.0000,9,   -999.0,  9,  -999.00,9,   -999.0,  -999.00,9,  -999.00,9,  -999.00,9,  -999.00,9,   -999.0,-999.0000, -999,9, 1000,   3.2445,  27.4233,   -999.0,9
       SH99-10,  NONE,SH-5876,  1,      4, S-1-1-2,4,19991010,1523, 31.0157, 131.7210, 1420,   1218.6,   2.8839,  34.4918,2,   -999.0,9,  34.5173,4,    170.0,4,  -999.00,9,  -999.00,9,    15.38,4,     0.01,4,  -999.00,4, -999.000,9, -999.000,9,  -999.00,9,   -999.0,9,   -999.0,9,-999.0000,9,   -999.0,  9,  -999.00,9,   -999.0,  -999.00,9,  -999.00,9,  -999.00,9,  -999.00,9,   -999.0,-999.0000, -999,9, 1207,   2.8002,  27.4974,   -999.0,9
       SH99-10,  NONE,SH-5876,  1,      3,1-133-84,4,19991010,1523, 31.0157, 131.7210, 1420,   1218.6,   2.8839,  34.4918,2,   -999.0,9,  34.3887,4,    145.2,4,  -999.00,9,  -999.00,9,    22.38,4,     0.00,4,  -999.00,4, -999.000,9, -999.000,9,  -999.00,9,   -999.0,9,   -999.0,9,-999.0000,9,   -999.0,  9,  -999.00,9,   -999.0,  -999.00,9,  -999.00,9,  -999.00,9,  -999.00,9,   -999.0,-999.0000, -999,9, 1207,   2.8002,  27.4974,   -999.0,9
       SH99-10,  NONE,SH-5877,  1,     -9,      -9,5,19991010,1825, 31.1693, 131.4970,  240,      0.0,  26.4575,  34.2718,2,   -999.0,9,-999.0000,9,    205.8,2,  -999.00,9,  -999.00,9,     0.00,2,     0.00,2,  -999.00,4, -999.000,9, -999.000,9,  -999.00,9,   -999.0,9,   -999.0,9,-999.0000,9,   -999.0,  9,     8.24,2,   -999.0,  -999.00,9,  -999.00,9,     0.22,2,     0.18,2,   -999.0,-999.0000, -999,9,    0,  26.4575,  22.3410,   -999.0,9
       SH99-10,  NONE,SH-5877,  1,      3,1-133-84,2,19991010,1824, 31.1693, 131.4970,  240,     12.4,  26.4448,  34.2778,2,   -999.0,9,-999.0000,9,    204.1,2,  -999.00,9,  -999.00,9,     0.29,2,     0.00,2,  -999.00,4, -999.000,9, -999.000,9,  -999.00,9,   -999.0,9,   -999.0,9,-999.0000,9,   -999.0,  9,     8.23,2,   -999.0,  -999.00,9,  -999.00,9,     0.24,2,     0.18,2,   -999.0,-999.0000, -999,9,   12,  26.4420,  22.3504,   -999.0,9
       SH99-10,  NONE,SH-5877,  1,      2, S-1-1-7,2,19991010,1823, 31.1693, 131.4970,  240,     26.8,  26.2282,  34.3225,2,   -999.0,9,-999.0000,9,    202.6,2,  -999.00,9,  -999.00,9,     0.49,2,     0.00,2,  -999.00,4, -999.000,9, -999.000,9,  -999.00,9,   -999.0,9,   -999.0,9,-999.0000,9,   -999.0,  9,     8.23,2,   -999.0,  -999.00,9,  -999.00,9,     0.28,2,     0.25,2,   -999.0,-999.0000, -999,9,   27,  26.2222,  22.4530,   -999.0,9
       SH99-10,  NONE,SH-5877,  1,      1, 1-133-1,2,19991010,1822, 31.1693, 131.4970,  240,     51.8,  25.8831,  34.3277,2,   -999.0,9,-999.0000,9,    196.8,2,  -999.00,9,  -999.00,9,     0.98,2,     0.10,2,  -999.00,4, -999.000,9, -999.000,9,  -999.00,9,   -999.0,9,   -999.0,9,-999.0000,9,   -999.0,  9,     8.21,2,   -999.0,  -999.00,9,  -999.00,9,     0.28,2,     0.32,2,   -999.0,-999.0000, -999,9,   51,  25.8716,  22.5660,   -999.0,9
       SH99-10,  NONE,SH-5877,  1,     12, 1-133-7,2,19991010,1821, 31.1693, 131.4970,  240,     78.0,  25.5047,  34.3579,2,   -999.0,9,-999.0000,9,    193.4,2,  -999.00,9,  -999.00,9,     1.37,2,     0.10,2,  -999.00,4, -999.000,9, -999.000,9,  -999.00,9,   -999.0,9,   -999.0,9,-999.0000,9,   -999.0,  9,     8.20,2,   -999.0,  -999.00,9,  -999.00,9,     0.27,2,     0.35,2,   -999.0,-999.0000, -999,9,   77,  25.4876,  22.7072,   -999.0,9
       SH99-10,  NONE,SH-5877,  1,     11, S-1-1-9,2,19991010,1819, 31.1693, 131.4970,  240,    103.8,  23.0595,  34.6038,2,   -999.0,9,-999.0000,9,    186.1,2,  -999.00,9,  -999.00,9,     3.03,2,     0.00,2,  -999.00,4, -999.000,9, -999.000,9,  -999.00,9,   -999.0,9,   -999.0,9,-999.0000,9,   -999.0,  9,     8.16,2,   -999.0,  -999.00,9,  -999.00,9,     0.01,4,     0.03,4,   -999.0,-999.0000, -999,9,  103,  23.0383,  23.6221,   -999.0,9
       SH99-10,  NONE,SH-5877,  1,     10,1-133-94,2,19991010,1818, 31.1693, 131.4970,  240,    128.0,  22.5894,  34.6827,2,   -999.0,9,-999.0000,9,    186.5,2,  -999.00,9,  -999.00,9,     3.22,2,     0.00,2,  -999.00,4, -999.000,9, -999.000,9,  -999.00,9,   -999.0,9,   -999.0,9,-999.0000,9,   -999.0,  9,     8.15,2,   -999.0,  -999.00,9,  -999.00,9,     0.06,2,     0.15,2,   -999.0,-999.0000, -999,9,  127,  22.5637,  23.8178,   -999.0,9
       SH99-10,  NONE,SH-5877,  1,      9, S-1-1-5,2,19991010,1816, 31.1693, 131.4970,  240,    151.8,  20.3185,  34.6269,2,   -999.0,9,-999.0000,9,    178.3,2,  -999.00,9,  -999.00,9,     6.05,2,     0.00,2,  -999.00,4, -999.000,9, -999.000,9,  -999.00,9,   -999.0,9,   -999.0,9,-999.0000,9,   -999.0,  9,     8.10,2,   -999.0,  -999.00,9,  -999.00,9,     0.05,2,     0.10,2,   -999.0,-999.0000, -999,9,  151,  20.2902,  24.4005,   -999.0,9
       SH99-10,  NONE,SH-5877,  1,      8,1-133-95,2,19991010,1815, 31.1693, 131.4970,  240,    203.3,  15.7713,  34.6105,2,   -999.0,9,-999.0000,9,    173.2,2,  -999.00,9,  -999.00,9,    10.82,2,     0.00,2,  -999.00,4, -999.000,9, -999.000,9,  -999.00,9,   -999.0,9,   -999.0,9,-999.0000,9,   -999.0,  9,     8.02,2,   -999.0,  -999.00,9,  -999.00,9,     0.01,2,     0.05,2,   -999.0,-999.0000, -999,9,  202,  15.7395,  25.5071,   -999.0,9
       SH99-10,  137E,SH-5887,  1,     12, 1-133-7,2,19991029,1338, 34.0105, 137.9737, 1440,     50.6,  24.5226,  34.2813,2,   -999.0,9,  34.2783,2,   -999.0,9,  -999.00,9,  -999.00,9,  -999.00,9,  -999.00,9,  -999.00,9, -999.000,9, -999.000,9,  -999.00,9,   -999.0,9,   -999.0,9,-999.0000,9,   -999.0,  9,  -999.00,9,   -999.0,  -999.00,9,  -999.00,9,  -999.00,9,  -999.00,9,   -999.0,-999.0000, -999,9,   50,  24.5118,  22.9452,   -999.0,9
       SH99-10,  137E,SH-5887,  1,     11, S-1-1-9,2,19991029,1338, 34.0105, 137.9737, 1440,     50.9,  24.5255,  34.2820,2,   -999.0,9,  34.2785,2,   -999.0,9,  -999.00,9,  -999.00,9,  -999.00,9,  -999.00,9,  -999.00,9, -999.000,9, -999.000,9,  -999.00,9,   -999.0,9,   -999.0,9,-999.0000,9,   -999.0,  9,  -999.00,9,   -999.0,  -999.00,9,  -999.00,9,  -999.00,9,  -999.00,9,   -999.0,-999.0000, -999,9,   51,  24.5146,  22.9449,   -999.0,9
       SH99-10,  137E,SH-5887,  1,     10,1-133-94,2,19991029,1337, 34.0105, 137.9737, 1440,    100.4,  22.8450,  34.6093,2,   -999.0,9,  34.6086,2,   -999.0,9,  -999.00,9,  -999.00,9,  -999.00,9,  -999.00,9,  -999.00,9, -999.000,9, -999.000,9,  -999.00,9,   -999.0,9,   -999.0,9,-999.0000,9,   -999.0,  9,  -999.00,9,   -999.0,  -999.00,9,  -999.00,9,  -999.00,9,  -999.00,9,   -999.0,-999.0000, -999,9,  100,  22.8246,  23.6877,   -999.0,9
       SH99-10,  137E,SH-5887,  1,      9, S-1-1-5,2,19991029,1337, 34.0105, 137.9737, 1440,    100.6,  22.4776,  34.5725,2,   -999.0,9,  34.5968,4,   -999.0,9,  -999.00,9,  -999.00,9,  -999.00,9,  -999.00,9,  -999.00,9, -999.000,9, -999.000,9,  -999.00,9,   -999.0,9,   -999.0,9,-999.0000,9,   -999.0,  9,  -999.00,9,   -999.0,  -999.00,9,  -999.00,9,  -999.00,9,  -999.00,9,   -999.0,-999.0000, -999,9,  100,  22.4575,  23.7643,   -999.0,9
       SH99-10,  137E,SH-5887,  1,      8,1-133-95,2,19991029,1334, 34.0105, 137.9737, 1440,    302.6,   9.3105,  34.3484,2,   -999.0,9,  34.3429,2,   -999.0,9,  -999.00,9,  -999.00,9,  -999.00,9,  -999.00,9,  -999.00,9, -999.000,9, -999.000,9,  -999.00,9,   -999.0,9,   -999.0,9,-999.0000,9,   -999.0,  9,  -999.00,9,   -999.0,  -999.00,9,  -999.00,9,  -999.00,9,  -999.00,9,   -999.0,-999.0000, -999,9,  300,   9.2770,  26.5633,   -999.0,9
       SH99-10,  137E,SH-5887,  1,      7, S-1-1-4,2,19991029,1333, 34.0105, 137.9737, 1440,    301.7,   9.3163,  34.3482,2,   -999.0,9,  34.3467,2,   -999.0,9,  -999.00,9,  -999.00,9,  -999.00,9,  -999.00,9,  -999.00,9, -999.000,9, -999.000,9,  -999.00,9,   -999.0,9,   -999.0,9,-999.0000,9,   -999.0,  9,  -999.00,9,   -999.0,  -999.00,9,  -999.00,9,  -999.00,9,  -999.00,9,   -999.0,-999.0000, -999,9,  299,   9.2829,  26.5622,   -999.0,9
       SH99-10,  137E,SH-5887,  1,      6,1-133-93,2,19991029,1330, 34.0105, 137.9737, 1440,    503.4,   5.7559,  34.3102,2,   -999.0,9,  34.3099,2,   -999.0,9,  -999.00,9,  -999.00,9,  -999.00,9,  -999.00,9,  -999.00,9, -999.000,9, -999.000,9,  -999.00,9,   -999.0,9,   -999.0,9,-999.0000,9,   -999.0,  9,  -999.00,9,   -999.0,  -999.00,9,  -999.00,9,  -999.00,9,  -999.00,9,   -999.0,-999.0000, -999,9,  499,   5.7130,  27.0434,   -999.0,9
       SH99-10,  137E,SH-5887,  1,      5, 1-133-2,2,19991029,1330, 34.0105, 137.9737, 1440,    503.7,   5.7565,  34.3093,2,   -999.0,9,  34.5423,4,   -999.0,9,  -999.00,9,  -999.00,9,  -999.00,9,  -999.00,9,  -999.00,9, -999.000,9, -999.000,9,  -999.00,9,   -999.0,9,   -999.0,9,-999.0000,9,   -999.0,  9,  -999.00,9,   -999.0,  -999.00,9,  -999.00,9,  -999.00,9,  -999.00,9,   -999.0,-999.0000, -999,9,  500,   5.7136,  27.0426,   -999.0,9
       SH99-10,  137E,SH-5887,  1,      4, S-1-1-2,2,19991029,1327, 34.0105, 137.9737, 1440,    706.2,   3.9957,  34.3823,2,   -999.0,9,  34.3310,4,   -999.0,9,  -999.00,9,  -999.00,9,  -999.00,9,  -999.00,9,  -999.00,9, -999.000,9, -999.000,9,  -999.00,9,   -999.0,9,   -999.0,9,-999.0000,9,   -999.0,  9,  -999.00,9,   -999.0,  -999.00,9,  -999.00,9,  -999.00,9,  -999.00,9,   -999.0,-999.0000, -999,9,  700,   3.9440,  27.3006,   -999.0,9
       SH99-10,  137E,SH-5887,  1,      3,1-133-84,2,19991029,1327, 34.0105, 137.9737, 1440,    705.8,   3.9959,  34.3822,2,   -999.0,9,  34.3545,4,   -999.0,9,  -999.00,9,  -999.00,9,  -999.00,9,  -999.00,9,  -999.00,9, -999.000,9, -999.000,9,  -999.00,9,   -999.0,9,   -999.0,9,-999.0000,9,   -999.0,  9,  -999.00,9,   -999.0,  -999.00,9,  -999.00,9,  -999.00,9,  -999.00,9,   -999.0,-999.0000, -999,9,  700,   3.9443,  27.3005,   -999.0,9
       SH99-10,  137E,SH-5887,  1,      2, S-1-1-7,2,19991029,1320, 34.0105, 137.9737, 1440,   1214.1,   2.8054,  34.4974,2,   -999.0,9,-999.0000,4,   -999.0,9,  -999.00,9,  -999.00,9,  -999.00,9,  -999.00,9,  -999.00,9, -999.000,9, -999.000,9,  -999.00,9,   -999.0,9,   -999.0,9,-999.0000,9,   -999.0,  9,  -999.00,9,   -999.0,  -999.00,9,  -999.00,9,  -999.00,9,  -999.00,9,   -999.0,-999.0000, -999,9, 1202,   2.7228,  27.5087,   -999.0,9
       SH99-10,  137E,SH-5887,  1,      1, 1-133-1,2,19991029,1320, 34.0105, 137.9737, 1440,   1215.2,   2.8053,  34.4969,2,   -999.0,9,  34.4937,2,   -999.0,9,  -999.00,9,  -999.00,9,  -999.00,9,  -999.00,9,  -999.00,9, -999.000,9, -999.000,9,  -999.00,9,   -999.0,9,   -999.0,9,-999.0000,9,   -999.0,  9,  -999.00,9,   -999.0,  -999.00,9,  -999.00,9,  -999.00,9,  -999.00,9,   -999.0,-999.0000, -999,9, 1203,   2.7226,  27.5083,   -999.0,9