BOTTLE,20130510GEMDJMAYT
EXPOCODE,SECT_ID,STNNBR,CASTNO,SAMPNO,BTLNBR,BTLNBR_FLAG_W,DATE,TIME,LATITUDE,LONGITUDE,DEPTH,CTDPRS,CTDTMP,CTDSAL,CTDSAL_FLAG_W,CTDOXY,CTDOXY_FLAG_W,SALNTY,SALNTY_FLAG_W,OXYGEN,OXYGEN_FLAG_W,SILCAT,SILCAT_FLAG_W,NITRAT,NITRAT_FLAG_W,NO2+NO3,NO2+NO3_FLAG_W,NITRIT,NITRIT_FLAG_W,PHSPHT,PHSPHT_FLAG_W,CFC-11,CFC-11_FLAG_W,CFC-12,CFC-12_FLAG_W,DELC13,DELC13_FLAG_W,TCARBN,TCARBN_FLAG_W,ALKALI,ALKALI_FLAG_W,PH,PH_FLAG_W,PH_TMP,PH_SCALE,PH_NBS,PH_NBS_FLAG_W,C13ERR,TOTALP,TOTALP_FLAG_W,AMMONI,AMMONI_FLAG_W,CHLORA,CHLORA_FLAG_W,PPHYTN,PPHYTN_FLAG_W,REVPRS,REVTMP,DEPTH_,DEPTH_FLAG,CTDDEP,THETA,SIGTHT,DOC,DOC_FLAG_W
,,,,,,,GMT,GMT,,,METER,DBAR,ITS-90,PSS-78,,UMOL/KG,,PSS-78,,UMOL/KG,,UMOL/KG,,UMOL/KG,,UMOL/KG,,UMOL/KG,,UMOL/KG,,PMOL/KG,,PMOL/KG,,/MILLE,,UMOL/KG,,UMOL/KG,,25_DEG_C,,DEG_C,,,,/MILLE,UMOL/KG,,UMOL/KG,,UG/L,,UG/L,,DBAR,ITS-90,METERS,,METERS,DEG_C,,UMOL/L,
       SH99-10,  NONE,SH-5891,  1,      1, 1-133-1,2,19991030,0039, 33.0063, 138.5642, 3260,     51.4,  25.5803,  34.3261,2,   -999.0,9,  34.3272,2,   -999.0,9,  -999.00,9,  -999.00,9,  -999.00,9,  -999.00,9,  -999.00,9, -999.000,9, -999.000,9,  -999.00,9,   -999.0,9,   -999.0,9,-999.0000,9,   -999.0,  9,  -999.00,9,   -999.0,  -999.00,9,  -999.00,9,  -999.00,9,  -999.00,9,   -999.0,-999.0000, -999,9,   51,  25.5690,  22.6583,   -999.0,9
       SH99-10,  NONE,SH-5891,  1,     12, 1-133-7,2,19991030,0039, 33.0063, 138.5642, 3260,     50.8,  25.5655,  34.3243,2,   -999.0,9,  34.3211,2,   -999.0,9,  -999.00,9,  -999.00,9,  -999.00,9,  -999.00,9,  -999.00,9, -999.000,9, -999.000,9,  -999.00,9,   -999.0,9,   -999.0,9,-999.0000,9,   -999.0,  9,  -999.00,9,   -999.0,  -999.00,9,  -999.00,9,  -999.00,9,  -999.00,9,   -999.0,-999.0000, -999,9,   50,  25.5543,  22.6614,   -999.0,9
       SH99-10,  NONE,SH-5891,  1,     11, S-1-1-9,2,19991030,0038, 33.0063, 138.5642, 3260,    101.3,  22.1797,  34.6068,2,   -999.0,9,  34.6115,2,   -999.0,9,  -999.00,9,  -999.00,9,  -999.00,9,  -999.00,9,  -999.00,9, -999.000,9, -999.000,9,  -999.00,9,   -999.0,9,   -999.0,9,-999.0000,9,   -999.0,  9,  -999.00,9,   -999.0,  -999.00,9,  -999.00,9,  -999.00,9,  -999.00,9,   -999.0,-999.0000, -999,9,  101,  22.1596,  23.8743,   -999.0,9
       SH99-10,  NONE,SH-5891,  1,     10,1-133-94,2,19991030,0038, 33.0063, 138.5642, 3260,    101.1,  22.2996,  34.6240,2,   -999.0,9,  34.6434,4,   -999.0,9,  -999.00,9,  -999.00,9,  -999.00,9,  -999.00,9,  -999.00,9, -999.000,9, -999.000,9,  -999.00,9,   -999.0,9,   -999.0,9,-999.0000,9,   -999.0,  9,  -999.00,9,   -999.0,  -999.00,9,  -999.00,9,  -999.00,9,  -999.00,9,   -999.0,-999.0000, -999,9,  100,  22.2795,  23.8536,   -999.0,9
       SH99-10,  NONE,SH-5891,  1,      9, S-1-1-5,2,19991030,0035, 33.0063, 138.5642, 3260,    306.2,  12.0009,  34.4515,2,   -999.0,9,  34.4573,2,   -999.0,9,  -999.00,9,  -999.00,9,  -999.00,9,  -999.00,9,  -999.00,9, -999.000,9, -999.000,9,  -999.00,9,   -999.0,9,   -999.0,9,-999.0000,9,   -999.0,  9,  -999.00,9,   -999.0,  -999.00,9,  -999.00,9,  -999.00,9,  -999.00,9,   -999.0,-999.0000, -999,9,  304,  11.9610,  26.1705,   -999.0,9
       SH99-10,  NONE,SH-5891,  1,      8,1-133-95,2,19991030,0034, 33.0063, 138.5642, 3260,    301.5,  12.3263,  34.4743,2,   -999.0,9,  34.4752,2,   -999.0,9,  -999.00,9,  -999.00,9,  -999.00,9,  -999.00,9,  -999.00,9, -999.000,9, -999.000,9,  -999.00,9,   -999.0,9,   -999.0,9,-999.0000,9,   -999.0,  9,  -999.00,9,   -999.0,  -999.00,9,  -999.00,9,  -999.00,9,  -999.00,9,   -999.0,-999.0000, -999,9,  299,  12.2863,  26.1259,   -999.0,9
       SH99-10,  NONE,SH-5891,  1,      7, S-1-1-4,2,19991030,0031, 33.0063, 138.5642, 3260,    507.0,   6.8566,  34.2853,2,   -999.0,9,  34.2872,2,   -999.0,9,  -999.00,9,  -999.00,9,  -999.00,9,  -999.00,9,  -999.00,9, -999.000,9, -999.000,9,  -999.00,9,   -999.0,9,   -999.0,9,-999.0000,9,   -999.0,  9,  -999.00,9,   -999.0,  -999.00,9,  -999.00,9,  -999.00,9,  -999.00,9,   -999.0,-999.0000, -999,9,  503,   6.8091,  26.8819,   -999.0,9
       SH99-10,  NONE,SH-5891,  1,      6,1-133-93,2,19991030,0031, 33.0063, 138.5642, 3260,    504.7,   6.9089,  34.2749,2,   -999.0,9,  34.2828,2,   -999.0,9,  -999.00,9,  -999.00,9,  -999.00,9,  -999.00,9,  -999.00,9, -999.000,9, -999.000,9,  -999.00,9,   -999.0,9,   -999.0,9,-999.0000,9,   -999.0,  9,  -999.00,9,   -999.0,  -999.00,9,  -999.00,9,  -999.00,9,  -999.00,9,   -999.0,-999.0000, -999,9,  501,   6.8615,  26.8666,   -999.0,9
       SH99-10,  NONE,SH-5891,  1,      5, 1-133-2,2,19991030,0028, 33.0063, 138.5642, 3260,    707.4,   4.7665,  34.3430,2,   -999.0,9,  34.3426,2,   -999.0,9,  -999.00,9,  -999.00,9,  -999.00,9,  -999.00,9,  -999.00,9, -999.000,9, -999.000,9,  -999.00,9,   -999.0,9,   -999.0,9,-999.0000,9,   -999.0,  9,  -999.00,9,   -999.0,  -999.00,9,  -999.00,9,  -999.00,9,  -999.00,9,   -999.0,-999.0000, -999,9,  701,   4.7105,  27.1872,   -999.0,9
       SH99-10,  NONE,SH-5891,  1,      4, S-1-1-2,2,19991030,0027, 33.0063, 138.5642, 3260,    705.5,   4.7758,  34.3420,2,   -999.0,9,  34.3441,2,   -999.0,9,  -999.00,9,  -999.00,9,  -999.00,9,  -999.00,9,  -999.00,9, -999.000,9, -999.000,9,  -999.00,9,   -999.0,9,   -999.0,9,-999.0000,9,   -999.0,  9,  -999.00,9,   -999.0,  -999.00,9,  -999.00,9,  -999.00,9,  -999.00,9,   -999.0,-999.0000, -999,9,  699,   4.7199,  27.1854,   -999.0,9
       SH99-10,  NONE,SH-5891,  1,      3,1-133-84,2,19991030,0021, 33.0063, 138.5642, 3260,   1211.4,   2.8838,  34.4823,2,   -999.0,9,  34.4837,2,   -999.0,9,  -999.00,9,  -999.00,9,  -999.00,9,  -999.00,9,  -999.00,9, -999.000,9, -999.000,9,  -999.00,9,   -999.0,9,   -999.0,9,-999.0000,9,   -999.0,  9,  -999.00,9,   -999.0,  -999.00,9,  -999.00,9,  -999.00,9,  -999.00,9,   -999.0,-999.0000, -999,9, 1199,   2.8006,  27.4898,   -999.0,9
       SH99-10,  NONE,SH-5891,  1,      2, S-1-1-7,2,19991030,0021, 33.0063, 138.5642, 3260,   1213.2,   2.8808,  34.4822,2,   -999.0,9,  34.4823,2,   -999.0,9,  -999.00,9,  -999.00,9,  -999.00,9,  -999.00,9,  -999.00,9, -999.000,9, -999.000,9,  -999.00,9,   -999.0,9,   -999.0,9,-999.0000,9,   -999.0,  9,  -999.00,9,   -999.0,  -999.00,9,  -999.00,9,  -999.00,9,  -999.00,9,   -999.0,-999.0000, -999,9, 1201,   2.7976,  27.4899,   -999.0,9
       SH99-10,  NONE,SH-5895,  1,      2, 1-133-7,2,19991030,1101, 31.9982, 139.1200, 1430,     52.5,  25.0349,  34.5364,2,   -999.0,9,  34.4520,4,   -999.0,9,  -999.00,9,  -999.00,9,  -999.00,9,  -999.00,9,  -999.00,9, -999.000,9, -999.000,9,  -999.00,9,   -999.0,9,   -999.0,9,-999.0000,9,   -999.0,  9,  -999.00,9,   -999.0,  -999.00,9,  -999.00,9,  -999.00,9,  -999.00,9,   -999.0,-999.0000, -999,9,   52,  25.0235,  22.9837,   -999.0,9
       SH99-10,  NONE,SH-5895,  1,      1, 1-133-1,2,19991030,1100, 31.9982, 139.1200, 1430,     52.3,  25.0342,  34.5375,2,   -999.0,9,  34.5374,2,   -999.0,9,  -999.00,9,  -999.00,9,  -999.00,9,  -999.00,9,  -999.00,9, -999.000,9, -999.000,9,  -999.00,9,   -999.0,9,   -999.0,9,-999.0000,9,   -999.0,  9,  -999.00,9,   -999.0,  -999.00,9,  -999.00,9,  -999.00,9,  -999.00,9,   -999.0,-999.0000, -999,9,   52,  25.0229,  22.9848,   -999.0,9
       SH99-10,  NONE,SH-5895,  1,     12, S-1-1-7,2,19991030,1059, 31.9982, 139.1200, 1430,    104.8,  21.1864,  34.8527,2,   -999.0,9,  34.8554,2,   -999.0,9,  -999.00,9,  -999.00,9,  -999.00,9,  -999.00,9,  -999.00,9, -999.000,9, -999.000,9,  -999.00,9,   -999.0,9,   -999.0,9,-999.0000,9,   -999.0,  9,  -999.00,9,   -999.0,  -999.00,9,  -999.00,9,  -999.00,9,  -999.00,9,   -999.0,-999.0000, -999,9,  104,  21.1663,  24.3364,   -999.0,9
       SH99-10,  NONE,SH-5895,  1,     11,1-133-84,2,19991030,1058, 31.9982, 139.1200, 1430,    102.9,  21.2703,  34.8523,2,   -999.0,9,  34.8511,2,   -999.0,9,  -999.00,9,  -999.00,9,  -999.00,9,  -999.00,9,  -999.00,9, -999.000,9, -999.000,9,  -999.00,9,   -999.0,9,   -999.0,9,-999.0000,9,   -999.0,  9,  -999.00,9,   -999.0,  -999.00,9,  -999.00,9,  -999.00,9,  -999.00,9,   -999.0,-999.0000, -999,9,  102,  21.2505,  24.3131,   -999.0,9
       SH99-10,  NONE,SH-5895,  1,     10, S-1-1-2,2,19991030,1055, 31.9982, 139.1200, 1430,    302.9,  17.8605,  34.8127,2,   -999.0,9,  34.8107,2,   -999.0,9,  -999.00,9,  -999.00,9,  -999.00,9,  -999.00,9,  -999.00,9, -999.000,9, -999.000,9,  -999.00,9,   -999.0,9,   -999.0,9,-999.0000,9,   -999.0,  9,  -999.00,9,   -999.0,  -999.00,9,  -999.00,9,  -999.00,9,  -999.00,9,   -999.0,-999.0000, -999,9,  301,  17.8087,  25.1756,   -999.0,9
       SH99-10,  NONE,SH-5895,  1,      9, 1-133-2,2,19991030,1055, 31.9982, 139.1200, 1430,    302.3,  17.8745,  34.8124,2,   -999.0,9,  34.8125,2,   -999.0,9,  -999.00,9,  -999.00,9,  -999.00,9,  -999.00,9,  -999.00,9, -999.000,9, -999.000,9,  -999.00,9,   -999.0,9,   -999.0,9,-999.0000,9,   -999.0,  9,  -999.00,9,   -999.0,  -999.00,9,  -999.00,9,  -999.00,9,  -999.00,9,   -999.0,-999.0000, -999,9,  300,  17.8228,  25.1719,   -999.0,9
       SH99-10,  NONE,SH-5895,  1,      8,1-133-93,2,19991030,1052, 31.9982, 139.1200, 1430,    503.6,  13.6150,  34.5277,2,   -999.0,9,  34.5344,2,   -999.0,9,  -999.00,9,  -999.00,9,  -999.00,9,  -999.00,9,  -999.00,9, -999.000,9, -999.000,9,  -999.00,9,   -999.0,9,   -999.0,9,-999.0000,9,   -999.0,  9,  -999.00,9,   -999.0,  -999.00,9,  -999.00,9,  -999.00,9,  -999.00,9,   -999.0,-999.0000, -999,9,  499,  13.5431,  25.9169,   -999.0,9
       SH99-10,  NONE,SH-5895,  1,      7, S-1-1-4,2,19991030,1052, 31.9982, 139.1200, 1430,    503.7,  13.6038,  34.5309,2,   -999.0,9,  34.5305,2,   -999.0,9,  -999.00,9,  -999.00,9,  -999.00,9,  -999.00,9,  -999.00,9, -999.000,9, -999.000,9,  -999.00,9,   -999.0,9,   -999.0,9,-999.0000,9,   -999.0,  9,  -999.00,9,   -999.0,  -999.00,9,  -999.00,9,  -999.00,9,  -999.00,9,   -999.0,-999.0000, -999,9,  500,  13.5319,  25.9217,   -999.0,9
       SH99-10,  NONE,SH-5895,  1,      6,1-133-95,2,19991030,1049, 31.9982, 139.1200, 1430,    705.1,   8.1396,  34.2134,2,   -999.0,9,  34.2163,2,   -999.0,9,  -999.00,9,  -999.00,9,  -999.00,9,  -999.00,9,  -999.00,9, -999.000,9, -999.000,9,  -999.00,9,   -999.0,9,   -999.0,9,-999.0000,9,   -999.0,  9,  -999.00,9,   -999.0,  -999.00,9,  -999.00,9,  -999.00,9,  -999.00,9,   -999.0,-999.0000, -999,9,  699,   8.0660,  26.6462,   -999.0,9
       SH99-10,  NONE,SH-5895,  1,      5, S-1-1-5,2,19991030,1048, 31.9982, 139.1200, 1430,    705.1,   8.1409,  34.2155,2,   -999.0,9,  34.2198,2,   -999.0,9,  -999.00,9,  -999.00,9,  -999.00,9,  -999.00,9,  -999.00,9, -999.000,9, -999.000,9,  -999.00,9,   -999.0,9,   -999.0,9,-999.0000,9,   -999.0,  9,  -999.00,9,   -999.0,  -999.00,9,  -999.00,9,  -999.00,9,  -999.00,9,   -999.0,-999.0000, -999,9,  699,   8.0673,  26.6477,   -999.0,9
       SH99-10,  NONE,SH-5895,  1,      4,1-133-94,2,19991030,1042, 31.9982, 139.1200, 1430,   1213.8,   3.1843,  34.4524,2,   -999.0,9,  34.4530,2,   -999.0,9,  -999.00,9,  -999.00,9,  -999.00,9,  -999.00,9,  -999.00,9, -999.000,9, -999.000,9,  -999.00,9,   -999.0,9,   -999.0,9,-999.0000,9,   -999.0,  9,  -999.00,9,   -999.0,  -999.00,9,  -999.00,9,  -999.00,9,  -999.00,9,   -999.0,-999.0000, -999,9, 1202,   3.0983,  27.4389,   -999.0,9
       SH99-10,  NONE,SH-5895,  1,      3, S-1-1-9,2,19991030,1041, 31.9982, 139.1200, 1430,   1214.4,   3.1855,  34.4516,2,   -999.0,9,  34.4514,2,   -999.0,9,  -999.00,9,  -999.00,9,  -999.00,9,  -999.00,9,  -999.00,9, -999.000,9, -999.000,9,  -999.00,9,   -999.0,9,   -999.0,9,-999.0000,9,   -999.0,  9,  -999.00,9,   -999.0,  -999.00,9,  -999.00,9,  -999.00,9,  -999.00,9,   -999.0,-999.0000, -999,9, 1202,   3.0994,  27.4381,   -999.0,9