BOTTLE,20130510GEMDJMAYT
EXPOCODE,SECT_ID,STNNBR,CASTNO,SAMPNO,BTLNBR,BTLNBR_FLAG_W,DATE,TIME,LATITUDE,LONGITUDE,DEPTH,CTDPRS,CTDTMP,CTDSAL,CTDSAL_FLAG_W,CTDOXY,CTDOXY_FLAG_W,SALNTY,SALNTY_FLAG_W,OXYGEN,OXYGEN_FLAG_W,SILCAT,SILCAT_FLAG_W,NITRAT,NITRAT_FLAG_W,NO2+NO3,NO2+NO3_FLAG_W,NITRIT,NITRIT_FLAG_W,PHSPHT,PHSPHT_FLAG_W,CFC-11,CFC-11_FLAG_W,CFC-12,CFC-12_FLAG_W,DELC13,DELC13_FLAG_W,TCARBN,TCARBN_FLAG_W,ALKALI,ALKALI_FLAG_W,PH,PH_FLAG_W,PH_TMP,PH_SCALE,PH_NBS,PH_NBS_FLAG_W,C13ERR,TOTALP,TOTALP_FLAG_W,AMMONI,AMMONI_FLAG_W,CHLORA,CHLORA_FLAG_W,PPHYTN,PPHYTN_FLAG_W,REVPRS,REVTMP,DEPTH_,DEPTH_FLAG,CTDDEP,THETA,SIGTHT,DOC,DOC_FLAG_W
,,,,,,,GMT,GMT,,,METER,DBAR,ITS-90,PSS-78,,UMOL/KG,,PSS-78,,UMOL/KG,,UMOL/KG,,UMOL/KG,,UMOL/KG,,UMOL/KG,,UMOL/KG,,PMOL/KG,,PMOL/KG,,/MILLE,,UMOL/KG,,UMOL/KG,,25_DEG_C,,DEG_C,,,,/MILLE,UMOL/KG,,UMOL/KG,,UG/L,,UG/L,,DBAR,ITS-90,METERS,,METERS,DEG_C,,UMOL/L,
       SH99-10,  NONE,SH-5866,  2,     -9,      -9,5,19991008,0112, 30.4887, 135.2360, 4360,      0.0,  28.2075,  34.4164,2,   -999.0,9,  34.4184,2,    204.1,2,  -999.00,9,  -999.00,9,     0.00,2,     0.00,2,  -999.00,4, -999.000,9, -999.000,9,  -999.00,9,   1928.0,6,   -999.0,9,-999.0000,9,   -999.0,  9,     8.25,2,   -999.0,  -999.00,9,  -999.00,9,     0.05,2,     0.02,2,   -999.0,-999.0000, -999,9,    0,  28.2075,  21.8880,   -999.0,9
       SH99-10,  NONE,SH-5866,  2,      1, 1-133-1,2,19991008,0111, 30.4887, 135.2360, 4360,      9.6,  28.1588,  34.4104,2,   -999.0,9,-999.0000,9,    203.2,2,  -999.00,9,  -999.00,9,     0.00,2,     0.00,2,  -999.00,4, -999.000,9, -999.000,9,  -999.00,9,   -999.0,9,   -999.0,9,-999.0000,9,   -999.0,  9,  -999.00,9,   -999.0,  -999.00,9,  -999.00,9,     0.05,2,     0.03,2,   -999.0,-999.0000, -999,9,   10,  28.1565,  21.9002,   -999.0,9
       SH99-10,  NONE,SH-5866,  2,     12, 1-133-7,2,19991008,0110, 30.4887, 135.2360, 4360,     25.9,  28.0989,  34.4137,2,   -999.0,9,-999.0000,9,    203.5,2,  -999.00,9,  -999.00,9,     0.00,2,     0.00,2,  -999.00,4, -999.000,9, -999.000,9,  -999.00,9,   -999.0,9,   -999.0,9,-999.0000,9,   -999.0,  9,  -999.00,9,   -999.0,  -999.00,9,  -999.00,9,     0.05,2,     0.02,2,   -999.0,-999.0000, -999,9,   26,  28.0928,  21.9235,   -999.0,9
       SH99-10,  NONE,SH-5866,  2,     11, S-1-1-9,2,19991008,0110, 30.4887, 135.2360, 4360,     49.5,  27.4501,  34.4867,2,   -999.0,9,-999.0000,9,    221.9,2,  -999.00,9,  -999.00,9,     0.00,2,     0.00,2,  -999.00,4, -999.000,9, -999.000,9,  -999.00,9,   -999.0,9,   -999.0,9,-999.0000,9,   -999.0,  9,  -999.00,9,   -999.0,  -999.00,9,  -999.00,9,     0.07,2,     0.04,2,   -999.0,-999.0000, -999,9,   49,  27.4386,  22.1907,   -999.0,9
       SH99-10,  NONE,SH-5866,  2,     10,1-133-94,2,19991008,0109, 30.4887, 135.2360, 4360,     75.6,  23.1246,  34.7922,2,   -999.0,9,-999.0000,9,    225.9,2,  -999.00,9,  -999.00,9,     0.00,2,     0.00,2,  -999.00,4, -999.000,9, -999.000,9,  -999.00,9,   -999.0,9,   -999.0,9,-999.0000,9,   -999.0,  9,  -999.00,9,   -999.0,  -999.00,9,  -999.00,9,     0.14,2,     0.15,2,   -999.0,-999.0000, -999,9,   75,  23.1092,  23.7445,   -999.0,9
       SH99-10,  NONE,SH-5866,  2,      9, S-1-1-5,2,19991008,0108, 30.4887, 135.2360, 4360,    100.0,  21.6596,  34.8338,2,   -999.0,9,-999.0000,9,    216.5,2,  -999.00,9,  -999.00,9,     0.20,2,     0.12,2,  -999.00,4, -999.000,9, -999.000,9,  -999.00,9,   -999.0,9,   -999.0,9,-999.0000,9,   -999.0,  9,  -999.00,9,   -999.0,  -999.00,9,  -999.00,9,     0.21,2,     0.49,2,   -999.0,-999.0000, -999,9,   99,  21.6400,  24.1917,   -999.0,9
       SH99-10,  NONE,SH-5866,  2,      8,1-133-95,2,19991008,0107, 30.4887, 135.2360, 4360,    126.5,  20.6634,  34.8227,2,   -999.0,9,-999.0000,9,    209.8,2,  -999.00,9,  -999.00,9,     1.27,2,     0.07,2,  -999.00,4, -999.000,9, -999.000,9,  -999.00,9,   -999.0,9,   -999.0,9,-999.0000,9,   -999.0,  9,  -999.00,9,   -999.0,  -999.00,9,  -999.00,9,     0.06,2,     0.29,2,   -999.0,-999.0000, -999,9,  126,  20.6395,  24.4563,   -999.0,9
       SH99-10,  NONE,SH-5866,  2,      7, S-1-1-4,2,19991008,0107, 30.4887, 135.2360, 4360,    151.2,  20.1390,  34.8246,2,   -999.0,9,-999.0000,9,    208.4,2,  -999.00,9,  -999.00,9,     1.66,2,     0.03,2,  -999.00,4, -999.000,9, -999.000,9,  -999.00,9,   -999.0,9,   -999.0,9,-999.0000,9,   -999.0,  9,  -999.00,9,   -999.0,  -999.00,9,  -999.00,9,     0.04,2,     0.13,2,   -999.0,-999.0000, -999,9,  150,  20.1109,  24.5987,   -999.0,9
       SH99-10,  NONE,SH-5866,  2,      6,1-133-93,2,19991008,0106, 30.4887, 135.2360, 4360,    201.0,  19.3232,  34.8361,2,   -999.0,9,-999.0000,9,    205.9,2,  -999.00,9,  -999.00,9,     2.63,2,     0.01,2,  -999.00,4, -999.000,9, -999.000,9,  -999.00,9,   -999.0,9,   -999.0,9,-999.0000,9,   -999.0,  9,  -999.00,9,   -999.0,  -999.00,9,  -999.00,9,     0.02,2,     0.06,2,   -999.0,-999.0000, -999,9,  200,  19.2870,  24.8224,   -999.0,9
       SH99-10,  NONE,SH-5866,  2,      5, 1-133-2,2,19991008,0105, 30.4887, 135.2360, 4360,    251.2,  18.7142,  34.8432,2,   -999.0,9,-999.0000,9,    199.4,2,  -999.00,9,  -999.00,9,     3.80,2,     0.01,2,  -999.00,4, -999.000,9, -999.000,9,  -999.00,9,   -999.0,9,   -999.0,9,-999.0000,9,   -999.0,  9,  -999.00,9,   -999.0,  -999.00,9,  -999.00,9,     0.01,2,     0.02,2,   -999.0,-999.0000, -999,9,  249,  18.6698,  24.9850,   -999.0,9
       SH99-10,  NONE,SH-5866,  2,      4, S-1-1-2,2,19991008,0104, 30.4887, 135.2360, 4360,    302.9,  17.9520,  34.8074,2,   -999.0,9,-999.0000,9,    199.5,2,  -999.00,9,  -999.00,9,     4.97,2,     0.01,2,  -999.00,4, -999.000,9, -999.000,9,  -999.00,9,   -999.0,9,   -999.0,9,-999.0000,9,   -999.0,  9,  -999.00,9,   -999.0,  -999.00,9,  -999.00,9,     0.00,2,     0.00,2,   -999.0,-999.0000, -999,9,  301,  17.9000,  25.1491,   -999.0,9
       SH99-10,  NONE,SH-5866,  1,      3,1-133-84,2,19991008,0038, 30.4972, 135.2437, 4300,    403.0,  16.4433,  34.7422,2,   -999.0,9,-999.0000,9,    194.1,2,  -999.00,9,  -999.00,9,     7.61,2,     0.00,2,  -999.00,4, -999.000,9, -999.000,9,  -999.00,9,   -999.0,9,   -999.0,9,-999.0000,9,   -999.0,  9,  -999.00,9,   -999.0,  -999.00,9,  -999.00,9,  -999.00,9,  -999.00,9,   -999.0,-999.0000, -999,9,  400,  16.3781,  25.4623,   -999.0,9
       SH99-10,  NONE,SH-5866,  1,      2, S-1-1-7,2,19991008,0036, 30.4972, 135.2437, 4300,    502.6,  14.5245,  34.5922,2,   -999.0,9,-999.0000,9,    191.3,2,  -999.00,9,  -999.00,9,    10.82,2,     0.00,2,  -999.00,4, -999.000,9, -999.000,9,  -999.00,9,   -999.0,9,   -999.0,9,-999.0000,9,   -999.0,  9,  -999.00,9,   -999.0,  -999.00,9,  -999.00,9,  -999.00,9,  -999.00,9,   -999.0,-999.0000, -999,9,  499,  14.4496,  25.7767,   -999.0,9
       SH99-10,  NONE,SH-5866,  1,      1, 1-133-1,2,19991008,0035, 30.4972, 135.2437, 4300,    603.7,  11.7962,  34.3849,2,   -999.0,9,-999.0000,9,    176.1,2,  -999.00,9,  -999.00,9,    16.76,2,     0.00,2,  -999.00,4, -999.000,9, -999.000,9,  -999.00,9,   -999.0,9,   -999.0,9,-999.0000,9,   -999.0,  9,  -999.00,9,   -999.0,  -999.00,9,  -999.00,9,  -999.00,9,  -999.00,9,   -999.0,-999.0000, -999,9,  599,  11.7175,  26.1647,   -999.0,9
       SH99-10,  NONE,SH-5866,  1,     12, 1-133-7,2,19991008,0033, 30.4972, 135.2437, 4300,    704.6,   9.6017,  34.2854,2,   -999.0,9,-999.0000,9,    150.2,2,  -999.00,9,  -999.00,9,    23.09,2,     0.00,2,  -999.00,4, -999.000,9, -999.000,9,  -999.00,9,   -999.0,9,   -999.0,9,-999.0000,9,   -999.0,  9,  -999.00,9,   -999.0,  -999.00,9,  -999.00,9,  -999.00,9,  -999.00,9,   -999.0,-999.0000, -999,9,  699,   9.5206,  26.4741,   -999.0,9
       SH99-10,  NONE,SH-5866,  1,     11, S-1-1-9,2,19991008,0032, 30.4972, 135.2437, 4300,    804.3,   7.8089,  34.2317,2,   -999.0,9,-999.0000,9,    125.9,2,  -999.00,9,  -999.00,9,    28.34,2,     0.00,2,  -999.00,4, -999.000,9, -999.000,9,  -999.00,9,   -999.0,9,   -999.0,9,-999.0000,9,   -999.0,  9,  -999.00,9,   -999.0,  -999.00,9,  -999.00,9,  -999.00,9,  -999.00,9,   -999.0,-999.0000, -999,9,  797,   7.7264,  26.7106,   -999.0,9
       SH99-10,  NONE,SH-5866,  1,     10,1-133-94,2,19991008,0031, 30.4972, 135.2437, 4300,    908.0,   6.2561,  34.2745,2,   -999.0,9,-999.0000,9,     97.5,2,  -999.00,9,  -999.00,9,    33.40,2,     0.00,2,  -999.00,4, -999.000,9, -999.000,9,  -999.00,9,   -999.0,9,   -999.0,9,-999.0000,9,   -999.0,  9,  -999.00,9,   -999.0,  -999.00,9,  -999.00,9,  -999.00,9,  -999.00,9,   -999.0,-999.0000, -999,9,  900,   6.1727,  26.9573,   -999.0,9
       SH99-10,  NONE,SH-5866,  1,      9, S-1-1-5,2,19991008,0029, 30.4972, 135.2437, 4300,   1008.7,   4.8923,  34.2961,2,   -999.0,9,-999.0000,9,     78.1,2,  -999.00,9,  -999.00,9,    37.09,2,     0.00,2,  -999.00,4, -999.000,9, -999.000,9,  -999.00,9,   -999.0,9,   -999.0,9,-999.0000,9,   -999.0,  9,  -999.00,9,   -999.0,  -999.00,9,  -999.00,9,  -999.00,9,  -999.00,9,   -999.0,-999.0000, -999,9,  999,   4.8094,  27.1388,   -999.0,9
       SH99-10,  NONE,SH-5866,  1,      8,1-133-95,2,19991008,0027, 30.4972, 135.2437, 4300,   1212.6,   3.5858,  34.4009,2,   -999.0,9,-999.0000,9,     68.6,2,  -999.00,9,  -999.00,9,    39.52,2,     0.00,2,  -999.00,4, -999.000,9, -999.000,9,  -999.00,9,   -999.0,9,   -999.0,9,-999.0000,9,   -999.0,  9,  -999.00,9,   -999.0,  -999.00,9,  -999.00,9,  -999.00,9,  -999.00,9,   -999.0,-999.0000, -999,9, 1201,   3.4962,  27.3601,   -999.0,9
       SH99-10,  NONE,SH-5867,  2,     -9,      -9,5,19991008,0618, 29.9658, 135.2448, 4420,      0.0,  28.5227,  34.0498,2,   -999.0,9,  34.0849,2,    202.9,2,  -999.00,9,  -999.00,9,     0.20,2,     0.00,2,  -999.00,4, -999.000,9, -999.000,9,  -999.00,9,   1910.3,6,   -999.0,9,-999.0000,9,   -999.0,  9,     8.27,2,   -999.0,  -999.00,9,  -999.00,9,     0.04,2,     0.02,2,   -999.0,-999.0000, -999,9,    0,  28.5227,  21.5090,   -999.0,9
       SH99-10,  NONE,SH-5867,  2,      7, S-1-1-4,2,19991008,0617, 29.9658, 135.2448, 4420,     11.6,  28.4386,  34.0822,2,   -999.0,9,  34.0814,2,    203.3,2,  -999.00,9,  -999.00,9,     0.00,2,     0.00,2,  -999.00,4, -999.000,9, -999.000,9,  -999.00,9,   -999.0,9,   -999.0,9,-999.0000,9,   -999.0,  9,  -999.00,9,   -999.0,  -999.00,9,  -999.00,9,     0.06,2,     0.03,2,   -999.0,-999.0000, -999,9,   12,  28.4358,  21.5619,   -999.0,9
       SH99-10,  NONE,SH-5867,  2,      6,1-133-93,2,19991008,0616, 29.9658, 135.2448, 4420,     25.9,  28.4357,  34.1740,2,   -999.0,9,  34.1664,2,    203.6,2,  -999.00,9,  -999.00,9,     0.10,2,     0.00,2,  -999.00,4, -999.000,9, -999.000,9,  -999.00,9,   -999.0,9,   -999.0,9,-999.0000,9,   -999.0,  9,  -999.00,9,   -999.0,  -999.00,9,  -999.00,9,     0.09,2,     0.05,2,   -999.0,-999.0000, -999,9,   26,  28.4296,  21.6330,   -999.0,9
       SH99-10,  NONE,SH-5867,  2,      5, 1-133-2,2,19991008,0615, 29.9658, 135.2448, 4420,     51.2,  27.2825,  34.2509,2,   -999.0,9,  34.2294,4,    206.2,2,  -999.00,9,  -999.00,9,     0.00,2,     0.00,2,  -999.00,4, -999.000,9, -999.000,9,  -999.00,9,   -999.0,9,   -999.0,9,-999.0000,9,   -999.0,  9,  -999.00,9,   -999.0,  -999.00,9,  -999.00,9,     0.13,2,     0.11,2,   -999.0,-999.0000, -999,9,   51,  27.2707,  22.0671,   -999.0,9
       SH99-10,  NONE,SH-5867,  2,      4, S-1-1-2,2,19991008,0614, 29.9658, 135.2448, 4420,     76.6,  24.5761,  34.6790,2,   -999.0,9,  34.6471,4,    207.7,2,  -999.00,9,  -999.00,9,     0.39,2,     0.06,2,  -999.00,4, -999.000,9, -999.000,9,  -999.00,9,   -999.0,9,   -999.0,9,-999.0000,9,   -999.0,  9,  -999.00,9,   -999.0,  -999.00,9,  -999.00,9,     0.30,2,     0.66,2,   -999.0,-999.0000, -999,9,   76,  24.5597,  23.2316,   -999.0,9
       SH99-10,  NONE,SH-5867,  2,      3,1-133-84,2,19991008,0613, 29.9658, 135.2448, 4420,    102.0,  22.3570,  34.8212,2,   -999.0,9,  34.8381,4,    211.1,2,  -999.00,9,  -999.00,9,     1.07,2,     0.14,2,  -999.00,4, -999.000,9, -999.000,9,  -999.00,9,   -999.0,9,   -999.0,9,-999.0000,9,   -999.0,  9,  -999.00,9,   -999.0,  -999.00,9,  -999.00,9,     0.08,2,     0.28,2,   -999.0,-999.0000, -999,9,  101,  22.3366,  23.9873,   -999.0,9
       SH99-10,  NONE,SH-5867,  2,      2, S-1-1-7,2,19991008,0612, 29.9658, 135.2448, 4420,    127.5,  20.9967,  34.8361,2,   -999.0,9,  34.8221,4,    215.2,2,  -999.00,9,  -999.00,9,     1.17,2,     0.04,2,  -999.00,4, -999.000,9, -999.000,9,  -999.00,9,   -999.0,9,   -999.0,9,-999.0000,9,   -999.0,  9,  -999.00,9,   -999.0,  -999.00,9,  -999.00,9,     0.03,2,     0.13,2,   -999.0,-999.0000, -999,9,  127,  20.9724,  24.3766,   -999.0,9
       SH99-10,  NONE,SH-5867,  2,      1, 1-133-1,2,19991008,0611, 29.9658, 135.2448, 4420,    152.6,  20.1047,  34.8185,2,   -999.0,9,  34.8152,2,    212.9,2,  -999.00,9,  -999.00,9,     2.24,2,     0.02,2,  -999.00,4, -999.000,9, -999.000,9,  -999.00,9,   -999.0,9,   -999.0,9,-999.0000,9,   -999.0,  9,  -999.00,9,   -999.0,  -999.00,9,  -999.00,9,     0.00,2,     0.01,2,   -999.0,-999.0000, -999,9,  152,  20.0764,  24.6031,   -999.0,9
       SH99-10,  NONE,SH-5867,  2,     12, 1-133-7,2,19991008,0610, 29.9658, 135.2448, 4420,    202.7,  19.3418,  34.8129,2,   -999.0,9,  34.8217,4,    208.1,2,  -999.00,9,  -999.00,9,     3.02,2,     0.01,2,  -999.00,4, -999.000,9, -999.000,9,  -999.00,9,   -999.0,9,   -999.0,9,-999.0000,9,   -999.0,  9,  -999.00,9,   -999.0,  -999.00,9,  -999.00,9,     0.00,2,     0.01,2,   -999.0,-999.0000, -999,9,  201,  19.3053,  24.8000,   -999.0,9
       SH99-10,  NONE,SH-5867,  2,     11, S-1-1-9,2,19991008,0608, 29.9658, 135.2448, 4420,    252.7,  18.9255,  34.8165,2,   -999.0,9,  34.8079,2,    203.4,2,  -999.00,9,  -999.00,9,     4.39,2,     0.01,2,  -999.00,4, -999.000,9, -999.000,9,  -999.00,9,   -999.0,9,   -999.0,9,-999.0000,9,   -999.0,  9,  -999.00,9,   -999.0,  -999.00,9,  -999.00,9,     0.00,2,     0.01,2,   -999.0,-999.0000, -999,9,  251,  18.8805,  24.9113,   -999.0,9
       SH99-10,  NONE,SH-5867,  2,     10,1-133-94,2,19991008,0607, 29.9658, 135.2448, 4420,    303.5,  18.1415,  34.8060,2,   -999.0,9,  34.8101,2,    202.7,2,  -999.00,9,  -999.00,9,     4.49,2,     0.01,2,  -999.00,4, -999.000,9, -999.000,9,  -999.00,9,   -999.0,9,   -999.0,9,-999.0000,9,   -999.0,  9,  -999.00,9,   -999.0,  -999.00,9,  -999.00,9,     0.00,2,     0.00,2,   -999.0,-999.0000, -999,9,  301,  18.0891,  25.1015,   -999.0,9
       SH99-10,  NONE,SH-5867,  1,      9, S-1-1-5,2,19991008,0531, 29.9860, 135.2492, 4380,    402.8,  16.4051,  34.7373,2,   -999.0,9,  34.7426,2,    195.8,2,  -999.00,9,  -999.00,9,     7.61,2,     0.01,2,  -999.00,4, -999.000,9, -999.000,9,  -999.00,9,   -999.0,9,   -999.0,9,-999.0000,9,   -999.0,  9,  -999.00,9,   -999.0,  -999.00,9,  -999.00,9,  -999.00,9,  -999.00,9,   -999.0,-999.0000, -999,9,  400,  16.3401,  25.4673,   -999.0,9
       SH99-10,  NONE,SH-5867,  1,      8,1-133-95,2,19991008,0529, 29.9860, 135.2492, 4380,    504.2,  14.1126,  34.5679,2,   -999.0,9,  34.5794,4,    186.7,2,  -999.00,9,  -999.00,9,    11.80,2,     0.01,2,  -999.00,4, -999.000,9, -999.000,9,  -999.00,9,   -999.0,9,   -999.0,9,-999.0000,9,   -999.0,  9,  -999.00,9,   -999.0,  -999.00,9,  -999.00,9,  -999.00,9,  -999.00,9,   -999.0,-999.0000, -999,9,  500,  14.0389,  25.8450,   -999.0,9
       SH99-10,  NONE,SH-5867,  1,      7, S-1-1-4,2,19991008,0526, 29.9860, 135.2492, 4380,    604.3,  11.2163,  34.3704,2,   -999.0,9,  34.3730,2,    176.3,4,  -999.00,9,  -999.00,9,    18.81,2,     0.00,2,  -999.00,4, -999.000,9, -999.000,9,  -999.00,9,   -999.0,9,   -999.0,9,-999.0000,9,   -999.0,  9,  -999.00,9,   -999.0,  -999.00,9,  -999.00,9,  -999.00,9,  -999.00,9,   -999.0,-999.0000, -999,9,  599,  11.1400,  26.2599,   -999.0,9
       SH99-10,  NONE,SH-5867,  1,      6,1-133-93,2,19991008,0525, 29.9860, 135.2492, 4380,    705.2,   8.2711,  34.2287,2,   -999.0,9,  34.2288,2,    138.4,2,  -999.00,9,  -999.00,9,    26.40,2,     0.00,2,  -999.00,4, -999.000,9, -999.000,9,  -999.00,9,   -999.0,9,   -999.0,9,-999.0000,9,   -999.0,  9,  -999.00,9,   -999.0,  -999.00,9,  -999.00,9,  -999.00,9,  -999.00,9,   -999.0,-999.0000, -999,9,  699,   8.1968,  26.6386,   -999.0,9
       SH99-10,  NONE,SH-5867,  1,      5, 1-133-2,2,19991008,0523, 29.9860, 135.2492, 4380,    806.4,   6.6081,  34.2217,2,   -999.0,9,  34.2257,2,    110.9,2,  -999.00,9,  -999.00,9,    31.75,2,     0.00,2,  -999.00,4, -999.000,9, -999.000,9,  -999.00,9,   -999.0,9,   -999.0,9,-999.0000,9,   -999.0,  9,  -999.00,9,   -999.0,  -999.00,9,  -999.00,9,  -999.00,9,  -999.00,9,   -999.0,-999.0000, -999,9,  799,   6.5326,  26.8688,   -999.0,9
       SH99-10,  NONE,SH-5867,  1,      4, S-1-1-2,2,19991008,0521, 29.9860, 135.2492, 4380,    907.7,   5.2617,  34.2604,2,   -999.0,9,  34.2608,2,     91.8,4,  -999.00,9,  -999.00,9,    36.22,2,     0.00,2,  -999.00,4, -999.000,9, -999.000,9,  -999.00,9,   -999.0,9,   -999.0,9,-999.0000,9,   -999.0,  9,  -999.00,9,   -999.0,  -999.00,9,  -999.00,9,  -999.00,9,  -999.00,9,   -999.0,-999.0000, -999,9,  900,   5.1852,  27.0674,   -999.0,9
       SH99-10,  NONE,SH-5867,  1,      3,1-133-84,2,19991008,0519, 29.9860, 135.2492, 4380,   1008.7,   4.4536,  34.3246,2,   -999.0,9,  34.3270,2,     71.7,2,  -999.00,9,  -999.00,9,    38.45,2,     0.00,2,  -999.00,4, -999.000,9, -999.000,9,  -999.00,9,   -999.0,9,   -999.0,9,-999.0000,9,   -999.0,  9,  -999.00,9,   -999.0,  -999.00,9,  -999.00,9,  -999.00,9,  -999.00,9,   -999.0,-999.0000, -999,9,  999,   4.3740,  27.2094,   -999.0,9
       SH99-10,  NONE,SH-5867,  1,      2, S-1-1-7,2,19991008,0516, 29.9860, 135.2492, 4380,   1212.9,   3.4319,  34.4256,2,   -999.0,9,  34.4290,2,   -999.0,4,  -999.00,9,  -999.00,9,    40.20,2,     0.00,2,  -999.00,4, -999.000,9, -999.000,9,  -999.00,9,   -999.0,9,   -999.0,9,-999.0000,9,   -999.0,  9,  -999.00,9,   -999.0,  -999.00,9,  -999.00,9,  -999.00,9,  -999.00,9,   -999.0,-999.0000, -999,9, 1201,   3.3437,  27.3945,   -999.0,9