BOTTLE,20130510GEMDJMAYT
EXPOCODE,SECT_ID,STNNBR,CASTNO,SAMPNO,BTLNBR,BTLNBR_FLAG_W,DATE,TIME,LATITUDE,LONGITUDE,DEPTH,CTDPRS,CTDTMP,CTDSAL,CTDSAL_FLAG_W,CTDOXY,CTDOXY_FLAG_W,SALNTY,SALNTY_FLAG_W,OXYGEN,OXYGEN_FLAG_W,SILCAT,SILCAT_FLAG_W,NITRAT,NITRAT_FLAG_W,NO2+NO3,NO2+NO3_FLAG_W,NITRIT,NITRIT_FLAG_W,PHSPHT,PHSPHT_FLAG_W,CFC-11,CFC-11_FLAG_W,CFC-12,CFC-12_FLAG_W,DELC13,DELC13_FLAG_W,TCARBN,TCARBN_FLAG_W,ALKALI,ALKALI_FLAG_W,PH,PH_FLAG_W,PH_TMP,PH_SCALE,PH_NBS,PH_NBS_FLAG_W,C13ERR,TOTALP,TOTALP_FLAG_W,AMMONI,AMMONI_FLAG_W,CHLORA,CHLORA_FLAG_W,PPHYTN,PPHYTN_FLAG_W,REVPRS,REVTMP,DEPTH_,DEPTH_FLAG,CTDDEP,THETA,SIGTHT,DOC,DOC_FLAG_W
,,,,,,,GMT,GMT,,,METER,DBAR,ITS-90,PSS-78,,UMOL/KG,,PSS-78,,UMOL/KG,,UMOL/KG,,UMOL/KG,,UMOL/KG,,UMOL/KG,,UMOL/KG,,PMOL/KG,,PMOL/KG,,/MILLE,,UMOL/KG,,UMOL/KG,,25_DEG_C,,DEG_C,,,,/MILLE,UMOL/KG,,UMOL/KG,,UG/L,,UG/L,,DBAR,ITS-90,METERS,,METERS,DEG_C,,UMOL/L,
       SH99-10,  NONE,SH-5873,  1,      1, 1-133-1,2,19991009,2237, 29.9445, 132.9432, 3850,    402.3,  15.5977,  34.6802,2,   -999.0,9,  34.6768,2,    190.4,2,  -999.00,9,  -999.00,9,     9.26,2,     0.01,2,  -999.00,4, -999.000,9, -999.000,9,  -999.00,9,   -999.0,9,   -999.0,9,-999.0000,9,   -999.0,  9,  -999.00,9,   -999.0,  -999.00,9,  -999.00,9,  -999.00,9,  -999.00,9,   -999.0,-999.0000, -999,9,  399,  15.5349,  25.6068,   -999.0,9
       SH99-10,  NONE,SH-5873,  1,     12, 1-133-7,2,19991009,2235, 29.9445, 132.9432, 3850,    502.4,  13.3863,  34.5160,2,   -999.0,9,  34.5145,2,    179.4,2,  -999.00,9,  -999.00,9,    14.04,2,     0.01,2,  -999.00,4, -999.000,9, -999.000,9,  -999.00,9,   -999.0,9,   -999.0,9,-999.0000,9,   -999.0,  9,  -999.00,9,   -999.0,  -999.00,9,  -999.00,9,  -999.00,9,  -999.00,9,   -999.0,-999.0000, -999,9,  498,  13.3154,  25.9543,   -999.0,9
       SH99-10,  NONE,SH-5873,  1,     11, S-1-1-9,2,19991009,2233, 29.9445, 132.9432, 3850,    605.0,  10.2819,  34.2810,2,   -999.0,9,  34.2850,2,    170.2,2,  -999.00,9,  -999.00,9,    20.27,2,     0.01,2,  -999.00,4, -999.000,9, -999.000,9,  -999.00,9,   -999.0,9,   -999.0,9,-999.0000,9,   -999.0,  9,  -999.00,9,   -999.0,  -999.00,9,  -999.00,9,  -999.00,9,  -999.00,9,   -999.0,-999.0000, -999,9,  600,  10.2096,  26.3547,   -999.0,9
       SH99-10,  NONE,SH-5873,  1,     10,1-133-94,2,19991009,2229, 29.9445, 132.9432, 3850,    704.7,   8.0447,  34.1858,2,   -999.0,9,  34.1827,2,    142.1,2,  -999.00,9,  -999.00,9,    26.79,2,     0.01,2,  -999.00,4, -999.000,9, -999.000,9,  -999.00,9,   -999.0,9,   -999.0,9,-999.0000,9,   -999.0,  9,  -999.00,9,   -999.0,  -999.00,9,  -999.00,9,  -999.00,9,  -999.00,9,   -999.0,-999.0000, -999,9,  699,   7.9717,  26.6386,   -999.0,9
       SH99-10,  NONE,SH-5873,  1,      9, S-1-1-5,2,19991009,2224, 29.9445, 132.9432, 3850,    805.1,   6.3602,  34.1804,2,   -999.0,9,  34.1729,2,    110.4,2,  -999.00,9,  -999.00,9,    32.43,2,     0.01,2,  -999.00,4, -999.000,9, -999.000,9,  -999.00,9,   -999.0,9,   -999.0,9,-999.0000,9,   -999.0,  9,  -999.00,9,   -999.0,  -999.00,9,  -999.00,9,  -999.00,9,  -999.00,9,   -999.0,-999.0000, -999,9,  798,   6.2863,  26.8684,   -999.0,9
       SH99-10,  NONE,SH-5873,  1,      8,1-133-95,2,19991009,2218, 29.9445, 132.9432, 3850,    907.9,   5.2733,  34.2855,2,   -999.0,9,  34.2799,2,     84.7,2,  -999.00,9,  -999.00,9,    36.41,2,     0.00,2,  -999.00,4, -999.000,9, -999.000,9,  -999.00,9,   -999.0,9,   -999.0,9,-999.0000,9,   -999.0,  9,  -999.00,9,   -999.0,  -999.00,9,  -999.00,9,  -999.00,9,  -999.00,9,   -999.0,-999.0000, -999,9,  900,   5.1967,  27.0859,   -999.0,9
       SH99-10,  NONE,SH-5873,  1,      7, S-1-1-4,4,19991009,2216, 29.9445, 132.9432, 3850,   1008.3,   4.2717,  34.3503,2,   -999.0,9,  34.4676,4,    184.0,4,  -999.00,9,  -999.00,9,    14.50,4,     0.01,4,  -999.00,4, -999.000,9, -999.000,9,  -999.00,9,   -999.0,9,   -999.0,9,-999.0000,9,   -999.0,  9,  -999.00,9,   -999.0,  -999.00,9,  -999.00,9,  -999.00,9,  -999.00,9,   -999.0,-999.0000, -999,9,  999,   4.1935,  27.2491,   -999.0,9
       SH99-10,  NONE,SH-5873,  1,      6,1-133-93,2,19991009,2213, 29.9445, 132.9432, 3850,   1211.9,   3.3547,  34.4318,2,   -999.0,9,  34.4302,2,     65.8,2,  -999.00,9,  -999.00,9,    40.59,2,     0.01,2,  -999.00,4, -999.000,9, -999.000,9,  -999.00,9,   -999.0,9,   -999.0,9,-999.0000,9,   -999.0,  9,  -999.00,9,   -999.0,  -999.00,9,  -999.00,9,  -999.00,9,  -999.00,9,   -999.0,-999.0000, -999,9, 1200,   3.2673,  27.4067,   -999.0,9
       SH99-10,  NONE,SH-5874,  2,     -9,      -9,5,19991010,0540, 30.2830, 132.5295, 3560,      0.0,  28.2080,  34.2159,2,   -999.0,9,-999.0000,9,    203.3,2,  -999.00,9,  -999.00,9,     0.10,2,     0.00,2,  -999.00,4, -999.000,9, -999.000,9,  -999.00,9,   -999.0,9,   -999.0,9,-999.0000,9,   -999.0,  9,  -999.00,9,   -999.0,  -999.00,9,  -999.00,9,     0.06,2,     0.02,2,   -999.0,-999.0000, -999,9,    0,  28.2080,  21.7372,   -999.0,9
       SH99-10,  NONE,SH-5874,  2,      1, 1-133-1,2,19991010,0539, 30.2830, 132.5295, 3560,     11.2,  28.1625,  34.2415,2,   -999.0,9,  34.2424,2,    202.7,2,  -999.00,9,  -999.00,9,     0.10,2,     0.00,2,  -999.00,4, -999.000,9, -999.000,9,  -999.00,9,   -999.0,9,   -999.0,9,-999.0000,9,   -999.0,  9,  -999.00,9,   -999.0,  -999.00,9,  -999.00,9,     0.01,4,     0.01,4,   -999.0,-999.0000, -999,9,   11,  28.1598,  21.7722,   -999.0,9
       SH99-10,  NONE,SH-5874,  2,     12, 1-133-7,2,19991010,0538, 30.2830, 132.5295, 3560,     25.3,  28.0817,  34.4131,2,   -999.0,9,  34.3881,4,    203.1,2,  -999.00,9,  -999.00,9,     0.10,2,     0.00,2,  -999.00,4, -999.000,9, -999.000,9,  -999.00,9,   -999.0,9,   -999.0,9,-999.0000,9,   -999.0,  9,  -999.00,9,   -999.0,  -999.00,9,  -999.00,9,     0.05,2,     0.03,2,   -999.0,-999.0000, -999,9,   25,  28.0758,  21.9286,   -999.0,9
       SH99-10,  NONE,SH-5874,  2,     11, S-1-1-9,2,19991010,0537, 30.2830, 132.5295, 3560,     51.4,  24.9924,  34.6863,2,   -999.0,9,  34.6182,4,    215.3,2,  -999.00,9,  -999.00,9,     0.00,2,     0.00,2,  -999.00,4, -999.000,9, -999.000,9,  -999.00,9,   -999.0,9,   -999.0,9,-999.0000,9,   -999.0,  9,  -999.00,9,   -999.0,  -999.00,9,  -999.00,9,     0.12,2,     0.08,2,   -999.0,-999.0000, -999,9,   51,  24.9813,  23.1099,   -999.0,9
       SH99-10,  NONE,SH-5874,  2,     10,1-133-94,2,19991010,0536, 30.2830, 132.5295, 3560,     76.5,  22.7320,  34.7851,2,   -999.0,9,  34.7863,2,    229.5,2,  -999.00,9,  -999.00,9,     0.10,2,     0.00,2,  -999.00,4, -999.000,9, -999.000,9,  -999.00,9,   -999.0,9,   -999.0,9,-999.0000,9,   -999.0,  9,  -999.00,9,   -999.0,  -999.00,9,  -999.00,9,     0.02,4,     0.02,4,   -999.0,-999.0000, -999,9,   76,  22.7165,  23.8519,   -999.0,9
       SH99-10,  NONE,SH-5874,  2,      9, S-1-1-5,2,19991010,0535, 30.2830, 132.5295, 3560,    102.3,  21.4715,  34.7940,2,   -999.0,9,  34.8255,4,    223.7,2,  -999.00,9,  -999.00,9,     0.10,2,     0.00,2,  -999.00,4, -999.000,9, -999.000,9,  -999.00,9,   -999.0,9,   -999.0,9,-999.0000,9,   -999.0,  9,  -999.00,9,   -999.0,  -999.00,9,  -999.00,9,     0.15,2,     0.26,2,   -999.0,-999.0000, -999,9,  102,  21.4517,  24.2136,   -999.0,9
       SH99-10,  NONE,SH-5874,  2,      8,1-133-95,2,19991010,0533, 30.2830, 132.5295, 3560,    129.6,  20.4061,  34.8214,2,   -999.0,9,  34.8266,2,    212.9,2,  -999.00,9,  -999.00,9,     0.98,2,     0.05,2,  -999.00,4, -999.000,9, -999.000,9,  -999.00,9,   -999.0,9,   -999.0,9,-999.0000,9,   -999.0,  9,  -999.00,9,   -999.0,  -999.00,9,  -999.00,9,     0.07,2,     0.21,2,   -999.0,-999.0000, -999,9,  129,  20.3819,  24.5243,   -999.0,9
       SH99-10,  NONE,SH-5874,  2,      7, S-1-1-4,2,19991010,0532, 30.2830, 132.5295, 3560,    151.4,  20.0126,  34.8323,2,   -999.0,9,  34.8444,4,    207.2,2,  -999.00,9,  -999.00,9,     1.95,2,     0.03,2,  -999.00,4, -999.000,9, -999.000,9,  -999.00,9,   -999.0,9,   -999.0,9,-999.0000,9,   -999.0,  9,  -999.00,9,   -999.0,  -999.00,9,  -999.00,9,     0.03,2,     0.08,2,   -999.0,-999.0000, -999,9,  150,  19.9847,  24.6379,   -999.0,9
       SH99-10,  NONE,SH-5874,  2,      6,1-133-93,2,19991010,0531, 30.2830, 132.5295, 3560,    202.6,  19.2922,  34.8168,2,   -999.0,9,  34.8201,2,    209.3,2,  -999.00,9,  -999.00,9,     2.54,2,     0.01,2,  -999.00,4, -999.000,9, -999.000,9,  -999.00,9,   -999.0,9,   -999.0,9,-999.0000,9,   -999.0,  9,  -999.00,9,   -999.0,  -999.00,9,  -999.00,9,     0.01,2,     0.02,2,   -999.0,-999.0000, -999,9,  201,  19.2557,  24.8157,   -999.0,9
       SH99-10,  NONE,SH-5874,  2,      5, 1-133-2,4,19991010,0529, 30.2830, 132.5295, 3560,    252.1,  18.8361,  34.8104,2,   -999.0,9,  34.8127,2,    199.5,2,  -999.00,9,  -999.00,9,     4.98,2,     0.01,2,  -999.00,4, -999.000,9, -999.000,9,  -999.00,9,   -999.0,9,   -999.0,9,-999.0000,9,   -999.0,  9,  -999.00,9,   -999.0,  -999.00,9,  -999.00,9,     0.00,2,     0.00,2,   -999.0,-999.0000, -999,9,  250,  18.7914,  24.9292,   -999.0,9
       SH99-10,  NONE,SH-5874,  2,     -9,      -9,4,19991010,0528, 30.2830, 132.5295, 3560,    303.1,  17.9712,  34.8092,2,   -999.0,9,-999.0000,9,   -999.0,9,  -999.00,9,  -999.00,9,  -999.00,9,  -999.00,9,  -999.00,9, -999.000,9, -999.000,9,  -999.00,9,   -999.0,9,   -999.0,9,-999.0000,9,   -999.0,  9,  -999.00,9,   -999.0,  -999.00,9,  -999.00,9,  -999.00,9,  -999.00,9,   -999.0,-999.0000, -999,9,  301,  17.9191,  25.1458,   -999.0,9
       SH99-10,  NONE,SH-5874,  1,      4, S-1-1-2,2,19991010,0459, 30.2848, 132.5437, 3680,    401.9,  16.0577,  34.7152,2,   -999.0,9,-999.0000,9,    190.4,2,  -999.00,9,  -999.00,9,     8.29,2,     0.00,2,  -999.00,4, -999.000,9, -999.000,9,  -999.00,9,   -999.0,9,   -999.0,9,-999.0000,9,   -999.0,  9,  -999.00,9,   -999.0,  -999.00,9,  -999.00,9,  -999.00,9,  -999.00,9,   -999.0,-999.0000, -999,9,  399,  15.9937,  25.5300,   -999.0,9
       SH99-10,  NONE,SH-5874,  1,      3,1-133-84,2,19991010,0457, 30.2848, 132.5437, 3680,    501.6,  13.8925,  34.5524,2,   -999.0,9,-999.0000,9,    183.5,2,  -999.00,9,  -999.00,9,    12.87,2,     0.00,2,  -999.00,4, -999.000,9, -999.000,9,  -999.00,9,   -999.0,9,   -999.0,9,-999.0000,9,   -999.0,  9,  -999.00,9,   -999.0,  -999.00,9,  -999.00,9,  -999.00,9,  -999.00,9,   -999.0,-999.0000, -999,9,  498,  13.8199,  25.8787,   -999.0,9
       SH99-10,  NONE,SH-5874,  1,      2, S-1-1-7,2,19991010,0455, 30.2848, 132.5437, 3680,    603.0,  11.3490,  34.3702,2,   -999.0,9,-999.0000,9,    173.4,2,  -999.00,9,  -999.00,9,    18.22,2,     0.00,2,  -999.00,4, -999.000,9, -999.000,9,  -999.00,9,   -999.0,9,   -999.0,9,-999.0000,9,   -999.0,  9,  -999.00,9,   -999.0,  -999.00,9,  -999.00,9,  -999.00,9,  -999.00,9,   -999.0,-999.0000, -999,9,  598,  11.2723,  26.2356,   -999.0,9
       SH99-10,  NONE,SH-5874,  1,      1, 1-133-1,2,19991010,0443, 30.2848, 132.5437, 3680,    704.5,   8.4938,  34.1961,2,   -999.0,9,-999.0000,9,    150.2,2,  -999.00,9,  -999.00,9,    25.23,2,     0.00,2,  -999.00,4, -999.000,9, -999.000,9,  -999.00,9,   -999.0,9,   -999.0,9,-999.0000,9,   -999.0,  9,  -999.00,9,   -999.0,  -999.00,9,  -999.00,9,  -999.00,9,  -999.00,9,   -999.0,-999.0000, -999,9,  699,   8.4184,  26.5794,   -999.0,9
       SH99-10,  NONE,SH-5874,  1,     12, 1-133-7,2,19991010,0441, 30.2848, 132.5437, 3680,    805.8,   6.8040,  34.2276,2,   -999.0,9,-999.0000,9,    110.4,2,  -999.00,9,  -999.00,9,    31.85,2,     0.00,2,  -999.00,4, -999.000,9, -999.000,9,  -999.00,9,   -999.0,9,   -999.0,9,-999.0000,9,   -999.0,  9,  -999.00,9,   -999.0,  -999.00,9,  -999.00,9,  -999.00,9,  -999.00,9,   -999.0,-999.0000, -999,9,  799,   6.7273,  26.8474,   -999.0,9
       SH99-10,  NONE,SH-5874,  1,     11, S-1-1-9,2,19991010,0434, 30.2848, 132.5437, 3680,    905.8,   5.4370,  34.2618,2,   -999.0,9,-999.0000,9,     88.3,2,  -999.00,9,  -999.00,9,    36.12,2,     0.00,2,  -999.00,4, -999.000,9, -999.000,9,  -999.00,9,   -999.0,9,   -999.0,9,-999.0000,9,   -999.0,  9,  -999.00,9,   -999.0,  -999.00,9,  -999.00,9,  -999.00,9,  -999.00,9,   -999.0,-999.0000, -999,9,  898,   5.3595,  27.0479,   -999.0,9
       SH99-10,  NONE,SH-5874,  1,     10,1-133-94,2,19991010,0432, 30.2848, 132.5437, 3680,   1005.6,   4.5505,  34.3241,2,   -999.0,9,-999.0000,9,     69.8,2,  -999.00,9,  -999.00,9,    40.30,2,     0.00,2,  -999.00,4, -999.000,9, -999.000,9,  -999.00,9,   -999.0,9,   -999.0,9,-999.0000,9,   -999.0,  9,  -999.00,9,   -999.0,  -999.00,9,  -999.00,9,  -999.00,9,  -999.00,9,   -999.0,-999.0000, -999,9,  996,   4.4704,  27.1986,   -999.0,9
       SH99-10,  NONE,SH-5874,  1,      9, S-1-1-5,4,19991010,0428, 30.2848, 132.5437, 3680,   1209.1,   3.6086,  34.4271,2,   -999.0,9,-999.0000,9,    149.0,4,  -999.00,9,  -999.00,9,    36.89,4,     0.01,4,  -999.00,4, -999.000,9, -999.000,9,  -999.00,9,   -999.0,9,   -999.0,9,-999.0000,9,   -999.0,  9,  -999.00,9,   -999.0,  -999.00,9,  -999.00,9,  -999.00,9,  -999.00,9,   -999.0,-999.0000, -999,9, 1197,   3.5190,  27.3788,   -999.0,9
       SH99-10,  NONE,SH-5875,  2,     -9,      -9,5,19991010,1123, 30.6397, 132.1262, 2310,      0.0,  27.8851,  34.3390,2,   -999.0,9,-999.0000,9,    259.0,4,  -999.00,9,  -999.00,9,     0.29,2,     0.00,2,  -999.00,4, -999.000,9, -999.000,9,  -999.00,9,   -999.0,9,   -999.0,9,-999.0000,9,   -999.0,  9,     8.25,2,   -999.0,  -999.00,9,  -999.00,9,     0.05,2,     0.02,2,   -999.0,-999.0000, -999,9,    0,  27.8851,  21.9351,   -999.0,9
       SH99-10,  NONE,SH-5875,  2,      3,1-133-84,2,19991010,1120, 30.6397, 132.1262, 2310,     10.9,  27.8992,  34.3415,2,   -999.0,9,  34.3439,4,    204.5,2,  -999.00,9,  -999.00,9,     0.00,2,     0.00,2,  -999.00,4, -999.000,9, -999.000,9,  -999.00,9,   -999.0,9,   -999.0,9,-999.0000,9,   -999.0,  9,     8.25,2,   -999.0,  -999.00,9,  -999.00,9,     0.05,2,     0.03,2,   -999.0,-999.0000, -999,9,   11,  27.8966,  21.9332,   -999.0,9
       SH99-10,  NONE,SH-5875,  2,      2, S-1-1-7,2,19991010,1119, 30.6397, 132.1262, 2310,     26.1,  27.9079,  34.3466,2,   -999.0,9,  34.3459,2,    204.3,2,  -999.00,9,  -999.00,9,     0.10,2,     0.00,2,  -999.00,4, -999.000,9, -999.000,9,  -999.00,9,   -999.0,9,   -999.0,9,-999.0000,9,   -999.0,  9,     8.25,2,   -999.0,  -999.00,9,  -999.00,9,     0.05,2,     0.02,2,   -999.0,-999.0000, -999,9,   26,  27.9017,  21.9354,   -999.0,9
       SH99-10,  NONE,SH-5875,  2,      1, 1-133-1,2,19991010,1118, 30.6397, 132.1262, 2310,     52.8,  25.2308,  34.6213,2,   -999.0,9,  34.6383,4,    218.6,2,  -999.00,9,  -999.00,9,     0.10,2,     0.00,2,  -999.00,4, -999.000,9, -999.000,9,  -999.00,9,   -999.0,9,   -999.0,9,-999.0000,9,   -999.0,  9,     8.23,2,   -999.0,  -999.00,9,  -999.00,9,     0.11,2,     0.08,2,   -999.0,-999.0000, -999,9,   52,  25.2193,  22.9883,   -999.0,9
       SH99-10,  NONE,SH-5875,  2,     12, 1-133-7,2,19991010,1117, 30.6397, 132.1262, 2310,     76.8,  23.2947,  34.7862,2,   -999.0,9,  34.7865,2,    214.4,2,  -999.00,9,  -999.00,9,     0.10,2,     0.00,2,  -999.00,4, -999.000,9, -999.000,9,  -999.00,9,   -999.0,9,   -999.0,9,-999.0000,9,   -999.0,  9,     8.21,2,   -999.0,  -999.00,9,  -999.00,9,     0.14,2,     0.23,2,   -999.0,-999.0000, -999,9,   76,  23.2789,  23.6908,   -999.0,9
       SH99-10,  NONE,SH-5875,  2,     11, S-1-1-9,4,19991010,1116, 30.6397, 132.1262, 2310,    102.2,  21.6584,  34.8348,2,   -999.0,9,  34.8333,2,    211.2,2,  -999.00,9,  -999.00,9,     0.78,2,     0.11,2,  -999.00,4, -999.000,9, -999.000,9,  -999.00,9,   -999.0,9,   -999.0,9,-999.0000,9,   -999.0,  9,     8.19,2,   -999.0,  -999.00,9,  -999.00,9,     0.10,2,     0.32,2,   -999.0,-999.0000, -999,9,  101,  21.6385,  24.1929,   -999.0,9
       SH99-10,  NONE,SH-5875,  2,     -9,      -9,4,19991010,1115, 30.6397, 132.1262, 2310,    127.4,  20.7460,  34.8379,2,   -999.0,9,-999.0000,9,   -999.0,9,  -999.00,9,  -999.00,9,  -999.00,9,  -999.00,9,  -999.00,9, -999.000,9, -999.000,9,  -999.00,9,   -999.0,9,   -999.0,9,-999.0000,9,   -999.0,  9,  -999.00,9,   -999.0,  -999.00,9,  -999.00,9,  -999.00,9,  -999.00,9,   -999.0,-999.0000, -999,9,  126,  20.7219,  24.4457,   -999.0,9
       SH99-10,  NONE,SH-5875,  2,     10,1-133-94,4,19991010,1114, 30.6397, 132.1262, 2310,    154.3,  19.9907,  34.8429,2,   -999.0,9,  34.8420,2,    208.2,2,  -999.00,9,  -999.00,9,     1.17,2,     0.04,2,  -999.00,4, -999.000,9, -999.000,9,  -999.00,9,   -999.0,9,   -999.0,9,-999.0000,9,   -999.0,  9,     8.17,2,   -999.0,  -999.00,9,  -999.00,9,     0.04,2,     0.14,2,   -999.0,-999.0000, -999,9,  153,  19.9623,  24.6518,   -999.0,9
       SH99-10,  NONE,SH-5875,  2,     -9,      -9,4,19991010,1112, 30.6397, 132.1262, 2310,    204.6,  19.0726,  34.8223,2,   -999.0,9,-999.0000,9,   -999.0,9,  -999.00,9,  -999.00,9,  -999.00,9,  -999.00,9,  -999.00,9, -999.000,9, -999.000,9,  -999.00,9,   -999.0,9,   -999.0,9,-999.0000,9,   -999.0,  9,  -999.00,9,   -999.0,  -999.00,9,  -999.00,9,  -999.00,9,  -999.00,9,   -999.0,-999.0000, -999,9,  203,  19.0360,  24.8761,   -999.0,9
       SH99-10,  NONE,SH-5875,  2,      9, S-1-1-5,2,19991010,1110, 30.6397, 132.1262, 2310,    252.6,  18.2188,  34.8252,2,   -999.0,9,  34.8233,2,    196.7,2,  -999.00,9,  -999.00,9,     4.98,2,     0.01,2,  -999.00,4, -999.000,9, -999.000,9,  -999.00,9,   -999.0,9,   -999.0,9,-999.0000,9,   -999.0,  9,     8.11,2,   -999.0,  -999.00,9,  -999.00,9,     0.00,2,     0.01,2,   -999.0,-999.0000, -999,9,  251,  18.1750,  25.0950,   -999.0,9
       SH99-10,  NONE,SH-5875,  2,      8,1-133-95,2,19991010,1108, 30.6397, 132.1262, 2310,    301.5,  17.4321,  34.7998,2,   -999.0,9,  34.7961,2,    198.6,2,  -999.00,9,  -999.00,9,     5.46,2,     0.01,2,  -999.00,4, -999.000,9, -999.000,9,  -999.00,9,   -999.0,9,   -999.0,9,-999.0000,9,   -999.0,  9,     8.11,2,   -999.0,  -999.00,9,  -999.00,9,     0.01,2,     0.02,2,   -999.0,-999.0000, -999,9,  299,  17.3814,  25.2694,   -999.0,9