BOTTLE,20130510GEMDJMAYT
EXPOCODE,SECT_ID,STNNBR,CASTNO,SAMPNO,BTLNBR,BTLNBR_FLAG_W,DATE,TIME,LATITUDE,LONGITUDE,DEPTH,CTDPRS,CTDTMP,CTDSAL,CTDSAL_FLAG_W,CTDOXY,CTDOXY_FLAG_W,SALNTY,SALNTY_FLAG_W,OXYGEN,OXYGEN_FLAG_W,SILCAT,SILCAT_FLAG_W,NITRAT,NITRAT_FLAG_W,NO2+NO3,NO2+NO3_FLAG_W,NITRIT,NITRIT_FLAG_W,PHSPHT,PHSPHT_FLAG_W,CFC-11,CFC-11_FLAG_W,CFC-12,CFC-12_FLAG_W,DELC13,DELC13_FLAG_W,TCARBN,TCARBN_FLAG_W,ALKALI,ALKALI_FLAG_W,PH,PH_FLAG_W,PH_TMP,PH_SCALE,PH_NBS,PH_NBS_FLAG_W,C13ERR,TOTALP,TOTALP_FLAG_W,AMMONI,AMMONI_FLAG_W,CHLORA,CHLORA_FLAG_W,PPHYTN,PPHYTN_FLAG_W,REVPRS,REVTMP,DEPTH_,DEPTH_FLAG,CTDDEP,THETA,SIGTHT,DOC,DOC_FLAG_W
,,,,,,,GMT,GMT,,,METER,DBAR,ITS-90,PSS-78,,UMOL/KG,,PSS-78,,UMOL/KG,,UMOL/KG,,UMOL/KG,,UMOL/KG,,UMOL/KG,,UMOL/KG,,PMOL/KG,,PMOL/KG,,/MILLE,,UMOL/KG,,UMOL/KG,,25_DEG_C,,DEG_C,,,,/MILLE,UMOL/KG,,UMOL/KG,,UG/L,,UG/L,,DBAR,ITS-90,METERS,,METERS,DEG_C,,UMOL/L,
       SH99-10,  NONE,SH-5864,  2,     -9,      -9,5,19991007,1555, 31.4808, 135.2592, 3910,      0.0,  27.5869,  34.3882,2,   -999.0,9,-999.0000,9,    204.6,2,  -999.00,9,  -999.00,9,     0.00,2,     0.02,2,  -999.00,4, -999.000,9, -999.000,9,  -999.00,9,   -999.0,9,   -999.0,9,-999.0000,9,   -999.0,  9,  -999.00,9,   -999.0,  -999.00,9,  -999.00,9,     0.04,2,     0.02,2,   -999.0,-999.0000, -999,9,    0,  27.5869,  22.0687,   -999.0,9
       SH99-10,  NONE,SH-5864,  2,      1, 1-133-1,2,19991007,1554, 31.4808, 135.2592, 3910,     11.1,  27.5944,  34.3896,2,   -999.0,9,  34.3883,2,    205.1,2,  -999.00,9,  -999.00,9,     0.10,2,     0.02,2,  -999.00,4, -999.000,9, -999.000,9,  -999.00,9,   -999.0,9,   -999.0,9,-999.0000,9,   -999.0,  9,  -999.00,9,   -999.0,  -999.00,9,  -999.00,9,     0.04,2,     0.02,2,   -999.0,-999.0000, -999,9,   11,  27.5919,  22.0682,   -999.0,9
       SH99-10,  NONE,SH-5864,  2,     12, 1-133-7,2,19991007,1553, 31.4808, 135.2592, 3910,     24.8,  27.5952,  34.3887,2,   -999.0,9,  34.3893,2,    204.4,2,  -999.00,9,  -999.00,9,     0.10,2,     0.02,2,  -999.00,4, -999.000,9, -999.000,9,  -999.00,9,   -999.0,9,   -999.0,9,-999.0000,9,   -999.0,  9,  -999.00,9,   -999.0,  -999.00,9,  -999.00,9,     0.04,2,     0.02,2,   -999.0,-999.0000, -999,9,   25,  27.5894,  22.0683,   -999.0,9
       SH99-10,  NONE,SH-5864,  2,     11, S-1-1-9,2,19991007,1552, 31.4808, 135.2592, 3910,     50.0,  26.0485,  34.5693,2,   -999.0,9,  34.5578,4,    215.5,2,  -999.00,9,  -999.00,9,     0.10,2,     0.02,2,  -999.00,4, -999.000,9, -999.000,9,  -999.00,9,   -999.0,9,   -999.0,9,-999.0000,9,   -999.0,  9,  -999.00,9,   -999.0,  -999.00,9,  -999.00,9,     0.08,2,     0.06,2,   -999.0,-999.0000, -999,9,   50,  26.0373,  22.6968,   -999.0,9
       SH99-10,  NONE,SH-5864,  2,     10,1-133-94,2,19991007,1551, 31.4808, 135.2592, 3910,     76.3,  22.7505,  34.8259,2,   -999.0,9,  34.8237,2,    220.9,2,  -999.00,9,  -999.00,9,     0.00,2,     0.02,2,  -999.00,4, -999.000,9, -999.000,9,  -999.00,9,   -999.0,9,   -999.0,9,-999.0000,9,   -999.0,  9,  -999.00,9,   -999.0,  -999.00,9,  -999.00,9,     0.10,2,     0.24,2,   -999.0,-999.0000, -999,9,   76,  22.7351,  23.8776,   -999.0,9
       SH99-10,  NONE,SH-5864,  2,      9, S-1-1-5,2,19991007,1550, 31.4808, 135.2592, 3910,    101.0,  21.5309,  34.8310,2,   -999.0,9,  34.8276,2,    221.9,2,  -999.00,9,  -999.00,9,     0.29,2,     0.16,2,  -999.00,4, -999.000,9, -999.000,9,  -999.00,9,   -999.0,9,   -999.0,9,-999.0000,9,   -999.0,  9,  -999.00,9,   -999.0,  -999.00,9,  -999.00,9,     0.14,2,     0.46,2,   -999.0,-999.0000, -999,9,  100,  21.5113,  24.2252,   -999.0,9
       SH99-10,  NONE,SH-5864,  2,      8,1-133-95,2,19991007,1549, 31.4808, 135.2592, 3910,    126.7,  20.7069,  34.8293,2,   -999.0,9,  34.8300,2,    215.1,2,  -999.00,9,  -999.00,9,     0.59,2,     0.08,2,  -999.00,4, -999.000,9, -999.000,9,  -999.00,9,   -999.0,9,   -999.0,9,-999.0000,9,   -999.0,  9,  -999.00,9,   -999.0,  -999.00,9,  -999.00,9,     0.04,2,     0.26,2,   -999.0,-999.0000, -999,9,  126,  20.6829,  24.4497,   -999.0,9
       SH99-10,  NONE,SH-5864,  2,      7, S-1-1-4,2,19991007,1548, 31.4808, 135.2592, 3910,    151.3,  20.1370,  34.8145,2,   -999.0,9,  34.8300,4,    212.0,2,  -999.00,9,  -999.00,9,     1.17,2,     0.05,2,  -999.00,4, -999.000,9, -999.000,9,  -999.00,9,   -999.0,9,   -999.0,9,-999.0000,9,   -999.0,  9,  -999.00,9,   -999.0,  -999.00,9,  -999.00,9,     0.02,2,     0.13,2,   -999.0,-999.0000, -999,9,  150,  20.1090,  24.5915,   -999.0,9
       SH99-10,  NONE,SH-5864,  2,      6,1-133-93,2,19991007,1547, 31.4808, 135.2592, 3910,    202.8,  19.4060,  34.8198,2,   -999.0,9,  34.8199,2,    211.3,2,  -999.00,9,  -999.00,9,     2.15,2,     0.02,2,  -999.00,4, -999.000,9, -999.000,9,  -999.00,9,   -999.0,9,   -999.0,9,-999.0000,9,   -999.0,  9,  -999.00,9,   -999.0,  -999.00,9,  -999.00,9,     0.00,2,     0.02,2,   -999.0,-999.0000, -999,9,  201,  19.3693,  24.7887,   -999.0,9
       SH99-10,  NONE,SH-5864,  2,      5, 1-133-2,2,19991007,1546, 31.4808, 135.2592, 3910,    251.8,  19.0477,  34.8126,2,   -999.0,9,  34.8125,2,    212.0,2,  -999.00,9,  -999.00,9,     2.63,2,     0.02,2,  -999.00,4, -999.000,9, -999.000,9,  -999.00,9,   -999.0,9,   -999.0,9,-999.0000,9,   -999.0,  9,  -999.00,9,   -999.0,  -999.00,9,  -999.00,9,     0.00,2,     0.01,2,   -999.0,-999.0000, -999,9,  250,  19.0027,  24.8772,   -999.0,9
       SH99-10,  NONE,SH-5864,  2,      4, S-1-1-2,2,19991007,1544, 31.4808, 135.2592, 3910,    305.5,  18.2527,  34.8145,2,   -999.0,9,  34.8132,2,    201.4,2,  -999.00,9,  -999.00,9,     4.39,2,     0.01,2,  -999.00,4, -999.000,9, -999.000,9,  -999.00,9,   -999.0,9,   -999.0,9,-999.0000,9,   -999.0,  9,  -999.00,9,   -999.0,  -999.00,9,  -999.00,9,     0.00,2,     0.01,2,   -999.0,-999.0000, -999,9,  303,  18.1997,  25.0806,   -999.0,9
       SH99-10,  NONE,SH-5864,  1,      3,1-133-84,2,19991007,1513, 31.4907, 135.2543, 3680,    401.9,  16.7216,  34.7617,2,   -999.0,9,  34.7617,2,    193.6,2,  -999.00,9,  -999.00,9,     7.31,2,     0.01,2,  -999.00,4, -999.000,9, -999.000,9,  -999.00,9,   -999.0,9,   -999.0,9,-999.0000,9,   -999.0,  9,  -999.00,9,   -999.0,  -999.00,9,  -999.00,9,  -999.00,9,  -999.00,9,   -999.0,-999.0000, -999,9,  399,  16.6558,  25.4125,   -999.0,9
       SH99-10,  NONE,SH-5864,  1,      2, S-1-1-7,2,19991007,1511, 31.4907, 135.2543, 3680,    503.6,  14.6949,  34.6106,2,   -999.0,9,  34.6150,2,    187.6,2,  -999.00,9,  -999.00,9,    11.11,2,     0.01,2,  -999.00,4, -999.000,9, -999.000,9,  -999.00,9,   -999.0,9,   -999.0,9,-999.0000,9,   -999.0,  9,  -999.00,9,   -999.0,  -999.00,9,  -999.00,9,  -999.00,9,  -999.00,9,   -999.0,-999.0000, -999,9,  500,  14.6193,  25.7544,   -999.0,9
       SH99-10,  NONE,SH-5864,  1,      1, 1-133-1,2,19991007,1509, 31.4907, 135.2543, 3680,    604.6,  12.5913,  34.4483,2,   -999.0,9,  34.4565,2,    176.6,2,  -999.00,9,  -999.00,9,    15.59,2,     0.01,2,  -999.00,4, -999.000,9, -999.000,9,  -999.00,9,   -999.0,9,   -999.0,9,-999.0000,9,   -999.0,  9,  -999.00,9,   -999.0,  -999.00,9,  -999.00,9,  -999.00,9,  -999.00,9,   -999.0,-999.0000, -999,9,  599,  12.5091,  26.0625,   -999.0,9
       SH99-10,  NONE,SH-5864,  1,     12, 1-133-7,2,19991007,1507, 31.4907, 135.2543, 3680,    705.2,   9.9737,  34.2874,2,   -999.0,9,  34.2883,2,    159.8,2,  -999.00,9,  -999.00,9,    21.63,2,     0.00,2,  -999.00,4, -999.000,9, -999.000,9,  -999.00,9,   -999.0,9,   -999.0,9,-999.0000,9,   -999.0,  9,  -999.00,9,   -999.0,  -999.00,9,  -999.00,9,  -999.00,9,  -999.00,9,   -999.0,-999.0000, -999,9,  699,   9.8906,  26.4140,   -999.0,9
       SH99-10,  NONE,SH-5864,  1,     11, S-1-1-9,2,19991007,1505, 31.4907, 135.2543, 3680,    808.1,   7.3767,  34.1694,2,   -999.0,9,  34.1731,2,    131.4,2,  -999.00,9,  -999.00,9,    28.54,2,     0.00,2,  -999.00,4, -999.000,9, -999.000,9,  -999.00,9,   -999.0,9,   -999.0,9,-999.0000,9,   -999.0,  9,  -999.00,9,   -999.0,  -999.00,9,  -999.00,9,  -999.00,9,  -999.00,9,   -999.0,-999.0000, -999,9,  801,   7.2965,  26.7232,   -999.0,9
       SH99-10,  NONE,SH-5864,  1,     10,1-133-94,2,19991007,1504, 31.4907, 135.2543, 3680,    907.9,   6.1781,  34.1837,2,   -999.0,9,  34.1950,4,    103.3,2,  -999.00,9,  -999.00,9,    33.40,2,     0.00,2,  -999.00,4, -999.000,9, -999.000,9,  -999.00,9,   -999.0,9,   -999.0,9,-999.0000,9,   -999.0,  9,  -999.00,9,   -999.0,  -999.00,9,  -999.00,9,  -999.00,9,  -999.00,9,   -999.0,-999.0000, -999,9,  900,   6.0954,  26.8955,   -999.0,9
       SH99-10,  NONE,SH-5864,  1,      9, S-1-1-5,2,19991007,1502, 31.4907, 135.2543, 3680,   1008.1,   5.1145,  34.2535,2,   -999.0,9,  34.2589,2,     82.7,2,  -999.00,9,  -999.00,9,    36.41,2,     0.00,2,  -999.00,4, -999.000,9, -999.000,9,  -999.00,9,   -999.0,9,   -999.0,9,-999.0000,9,   -999.0,  9,  -999.00,9,   -999.0,  -999.00,9,  -999.00,9,  -999.00,9,  -999.00,9,   -999.0,-999.0000, -999,9,  999,   5.0300,  27.0799,   -999.0,9
       SH99-10,  NONE,SH-5864,  1,      8,1-133-95,2,19991007,1459, 31.4907, 135.2543, 3680,   1212.8,   3.8631,  34.3967,2,   -999.0,9,  34.3968,2,     71.4,2,  -999.00,9,  -999.00,9,    39.52,2,     0.00,2,  -999.00,4, -999.000,9, -999.000,9,  -999.00,9,   -999.0,9,   -999.0,9,-999.0000,9,   -999.0,  9,  -999.00,9,   -999.0,  -999.00,9,  -999.00,9,  -999.00,9,  -999.00,9,   -999.0,-999.0000, -999,9, 1201,   3.7709,  27.3296,   -999.0,9
       SH99-10,  NONE,SH-5865,  2,     -9,      -9,5,19991007,2043, 30.9838, 135.2325, 4280,      0.0,  27.6015,  34.3702,2,   -999.0,9,-999.0000,9,    205.5,2,  -999.00,9,  -999.00,9,     0.29,2,     0.00,2,  -999.00,4, -999.000,9, -999.000,9,  -999.00,9,   -999.0,9,   -999.0,9,-999.0000,9,   -999.0,  9,  -999.00,9,   -999.0,  -999.00,9,  -999.00,9,     0.05,2,     0.03,2,   -999.0,-999.0000, -999,9,    0,  27.6015,  22.0505,   -999.0,9
       SH99-10,  NONE,SH-5865,  2,      7, S-1-1-4,2,19991007,2042, 30.9838, 135.2325, 4280,     11.1,  27.6237,  34.3713,2,   -999.0,9,-999.0000,9,    204.2,2,  -999.00,9,  -999.00,9,     0.10,2,     0.00,2,  -999.00,4, -999.000,9, -999.000,9,  -999.00,9,   -999.0,9,   -999.0,9,-999.0000,9,   -999.0,  9,  -999.00,9,   -999.0,  -999.00,9,  -999.00,9,     0.05,2,     0.03,2,   -999.0,-999.0000, -999,9,   11,  27.6212,  22.0450,   -999.0,9
       SH99-10,  NONE,SH-5865,  2,      6,1-133-93,2,19991007,2041, 30.9838, 135.2325, 4280,     25.8,  27.6294,  34.3824,2,   -999.0,9,-999.0000,9,    204.4,2,  -999.00,9,  -999.00,9,     0.10,2,     0.00,2,  -999.00,4, -999.000,9, -999.000,9,  -999.00,9,   -999.0,9,   -999.0,9,-999.0000,9,   -999.0,  9,  -999.00,9,   -999.0,  -999.00,9,  -999.00,9,     0.06,2,     0.02,2,   -999.0,-999.0000, -999,9,   26,  27.6234,  22.0525,   -999.0,9
       SH99-10,  NONE,SH-5865,  2,      5, 1-133-2,2,19991007,2040, 30.9838, 135.2325, 4280,     50.0,  27.6049,  34.3920,2,   -999.0,9,-999.0000,9,    204.9,2,  -999.00,9,  -999.00,9,     0.10,2,     0.00,2,  -999.00,4, -999.000,9, -999.000,9,  -999.00,9,   -999.0,9,   -999.0,9,-999.0000,9,   -999.0,  9,  -999.00,9,   -999.0,  -999.00,9,  -999.00,9,     0.06,2,     0.03,2,   -999.0,-999.0000, -999,9,   50,  27.5932,  22.0695,   -999.0,9
       SH99-10,  NONE,SH-5865,  2,      4, S-1-1-2,2,19991007,2039, 30.9838, 135.2325, 4280,     75.2,  23.0551,  34.8481,2,   -999.0,9,-999.0000,9,    231.3,2,  -999.00,9,  -999.00,9,     0.00,2,     0.00,2,  -999.00,4, -999.000,9, -999.000,9,  -999.00,9,   -999.0,9,   -999.0,9,-999.0000,9,   -999.0,  9,  -999.00,9,   -999.0,  -999.00,9,  -999.00,9,     0.15,2,     0.13,2,   -999.0,-999.0000, -999,9,   75,  23.0397,  23.8069,   -999.0,9
       SH99-10,  NONE,SH-5865,  2,      3,1-133-84,2,19991007,2038, 30.9838, 135.2325, 4280,    100.1,  21.5682,  34.8873,2,   -999.0,9,-999.0000,9,    224.1,2,  -999.00,9,  -999.00,9,     0.10,2,     0.00,2,  -999.00,4, -999.000,9, -999.000,9,  -999.00,9,   -999.0,9,   -999.0,9,-999.0000,9,   -999.0,  9,  -999.00,9,   -999.0,  -999.00,9,  -999.00,9,     0.22,2,     0.35,2,   -999.0,-999.0000, -999,9,   99,  21.5487,  24.2577,   -999.0,9
       SH99-10,  NONE,SH-5865,  2,      2, S-1-1-7,2,19991007,2037, 30.9838, 135.2325, 4280,    124.8,  20.7153,  34.8397,2,   -999.0,9,-999.0000,9,    214.7,2,  -999.00,9,  -999.00,9,     0.49,2,     0.08,2,  -999.00,4, -999.000,9, -999.000,9,  -999.00,9,   -999.0,9,   -999.0,9,-999.0000,9,   -999.0,  9,  -999.00,9,   -999.0,  -999.00,9,  -999.00,9,     0.07,2,     0.31,2,   -999.0,-999.0000, -999,9,  124,  20.6917,  24.4552,   -999.0,9
       SH99-10,  NONE,SH-5865,  2,      1, 1-133-1,2,19991007,2036, 30.9838, 135.2325, 4280,    151.2,  20.2410,  34.8306,2,   -999.0,9,-999.0000,9,    212.0,2,  -999.00,9,  -999.00,9,     1.17,2,     0.03,2,  -999.00,4, -999.000,9, -999.000,9,  -999.00,9,   -999.0,9,   -999.0,9,-999.0000,9,   -999.0,  9,  -999.00,9,   -999.0,  -999.00,9,  -999.00,9,     0.03,2,     0.18,2,   -999.0,-999.0000, -999,9,  150,  20.2128,  24.5763,   -999.0,9
       SH99-10,  NONE,SH-5865,  2,     12, 1-133-7,2,19991007,2034, 30.9838, 135.2325, 4280,    203.5,  19.5001,  34.8141,2,   -999.0,9,-999.0000,9,    211.8,2,  -999.00,9,  -999.00,9,     2.05,2,     0.01,2,  -999.00,4, -999.000,9, -999.000,9,  -999.00,9,   -999.0,9,   -999.0,9,-999.0000,9,   -999.0,  9,  -999.00,9,   -999.0,  -999.00,9,  -999.00,9,     0.01,2,     0.02,2,   -999.0,-999.0000, -999,9,  202,  19.4632,  24.7601,   -999.0,9
       SH99-10,  NONE,SH-5865,  2,     11, S-1-1-9,2,19991007,2032, 30.9838, 135.2325, 4280,    252.1,  18.9562,  34.8124,2,   -999.0,9,-999.0000,9,    210.7,2,  -999.00,9,  -999.00,9,     2.73,2,     0.01,2,  -999.00,4, -999.000,9, -999.000,9,  -999.00,9,   -999.0,9,   -999.0,9,-999.0000,9,   -999.0,  9,  -999.00,9,   -999.0,  -999.00,9,  -999.00,9,     0.00,2,     0.01,2,   -999.0,-999.0000, -999,9,  250,  18.9113,  24.9003,   -999.0,9
       SH99-10,  NONE,SH-5865,  2,     10,1-133-94,2,19991007,2031, 30.9838, 135.2325, 4280,    303.2,  18.3336,  34.8172,2,   -999.0,9,-999.0000,9,    201.4,2,  -999.00,9,  -999.00,9,     4.10,2,     0.01,2,  -999.00,4, -999.000,9, -999.000,9,  -999.00,9,   -999.0,9,   -999.0,9,-999.0000,9,   -999.0,  9,  -999.00,9,   -999.0,  -999.00,9,  -999.00,9,     0.00,2,     0.00,2,   -999.0,-999.0000, -999,9,  301,  18.2808,  25.0625,   -999.0,9
       SH99-10,  NONE,SH-5865,  1,      9, S-1-1-5,2,19991007,1950, 30.9973, 135.2452, 4260,    403.5,  16.8183,  34.7671,2,   -999.0,9,-999.0000,9,    196.3,2,  -999.00,9,  -999.00,9,     6.83,2,     0.00,2,  -999.00,4, -999.000,9, -999.000,9,  -999.00,9,   -999.0,9,   -999.0,9,-999.0000,9,   -999.0,  9,  -999.00,9,   -999.0,  -999.00,9,  -999.00,9,  -999.00,9,  -999.00,9,   -999.0,-999.0000, -999,9,  400,  16.7519,  25.3941,   -999.0,9
       SH99-10,  NONE,SH-5865,  1,      8,1-133-95,2,19991007,1948, 30.9973, 135.2452, 4260,    503.3,  14.8960,  34.6272,2,   -999.0,9,-999.0000,9,    188.1,2,  -999.00,9,  -999.00,9,    10.82,2,     0.00,2,  -999.00,4, -999.000,9, -999.000,9,  -999.00,9,   -999.0,9,   -999.0,9,-999.0000,9,   -999.0,  9,  -999.00,9,   -999.0,  -999.00,9,  -999.00,9,  -999.00,9,  -999.00,9,   -999.0,-999.0000, -999,9,  499,  14.8197,  25.7239,   -999.0,9
       SH99-10,  NONE,SH-5865,  1,      7, S-1-1-4,2,19991007,1946, 30.9973, 135.2452, 4260,    605.7,  12.0421,  34.4114,2,   -999.0,9,-999.0000,9,    174.7,2,  -999.00,9,  -999.00,9,    16.76,2,     0.00,2,  -999.00,4, -999.000,9, -999.000,9,  -999.00,9,   -999.0,9,   -999.0,9,-999.0000,9,   -999.0,  9,  -999.00,9,   -999.0,  -999.00,9,  -999.00,9,  -999.00,9,  -999.00,9,   -999.0,-999.0000, -999,9,  601,  11.9621,  26.1391,   -999.0,9
       SH99-10,  NONE,SH-5865,  1,      6,1-133-93,2,19991007,1944, 30.9973, 135.2452, 4260,    704.5,   9.7126,  34.2640,2,   -999.0,9,-999.0000,9,    163.4,2,  -999.00,9,  -999.00,9,    21.73,2,     0.00,2,  -999.00,4, -999.000,9, -999.000,9,  -999.00,9,   -999.0,9,   -999.0,9,-999.0000,9,   -999.0,  9,  -999.00,9,   -999.0,  -999.00,9,  -999.00,9,  -999.00,9,  -999.00,9,   -999.0,-999.0000, -999,9,  699,   9.6310,  26.4391,   -999.0,9
       SH99-10,  NONE,SH-5865,  1,      5, 1-133-2,2,19991007,1942, 30.9973, 135.2452, 4260,    806.8,   7.4958,  34.1732,2,   -999.0,9,-999.0000,9,    133.6,2,  -999.00,9,  -999.00,9,    28.34,2,     0.00,2,  -999.00,4, -999.000,9, -999.000,9,  -999.00,9,   -999.0,9,   -999.0,9,-999.0000,9,   -999.0,  9,  -999.00,9,   -999.0,  -999.00,9,  -999.00,9,  -999.00,9,  -999.00,9,   -999.0,-999.0000, -999,9,  800,   7.4150,  26.7095,   -999.0,9
       SH99-10,  NONE,SH-5865,  1,      4, S-1-1-2,2,19991007,1940, 30.9973, 135.2452, 4260,    908.7,   6.4374,  34.2201,2,   -999.0,9,-999.0000,9,    105.2,2,  -999.00,9,  -999.00,9,    33.01,2,     0.00,2,  -999.00,4, -999.000,9, -999.000,9,  -999.00,9,   -999.0,9,   -999.0,9,-999.0000,9,   -999.0,  9,  -999.00,9,   -999.0,  -999.00,9,  -999.00,9,  -999.00,9,  -999.00,9,   -999.0,-999.0000, -999,9,  900,   6.3529,  26.8911,   -999.0,9
       SH99-10,  NONE,SH-5865,  1,      3,1-133-84,2,19991007,1939, 30.9973, 135.2452, 4260,   1008.9,   4.9092,  34.2395,2,   -999.0,9,-999.0000,9,     78.6,2,  -999.00,9,  -999.00,9,    37.29,2,     0.00,2,  -999.00,4, -999.000,9, -999.000,9,  -999.00,9,   -999.0,9,   -999.0,9,-999.0000,9,   -999.0,  9,  -999.00,9,   -999.0,  -999.00,9,  -999.00,9,  -999.00,9,  -999.00,9,   -999.0,-999.0000, -999,9, 1000,   4.8262,  27.0921,   -999.0,9
       SH99-10,  NONE,SH-5865,  1,      2, S-1-1-7,2,19991007,1935, 30.9973, 135.2452, 4260,   1212.8,   3.8835,  34.3872,2,   -999.0,9,-999.0000,9,     68.6,2,  -999.00,9,  -999.00,9,    39.52,2,     0.00,2,  -999.00,4, -999.000,9, -999.000,9,  -999.00,9,   -999.0,9,   -999.0,9,-999.0000,9,   -999.0,  9,  -999.00,9,   -999.0,  -999.00,9,  -999.00,9,  -999.00,9,  -999.00,9,   -999.0,-999.0000, -999,9, 1201,   3.7911,  27.3200,   -999.0,9