BOTTLE,20130510GEMDJMAYT
EXPOCODE,SECT_ID,STNNBR,CASTNO,SAMPNO,BTLNBR,BTLNBR_FLAG_W,DATE,TIME,LATITUDE,LONGITUDE,DEPTH,CTDPRS,CTDTMP,CTDSAL,CTDSAL_FLAG_W,CTDOXY,CTDOXY_FLAG_W,SALNTY,SALNTY_FLAG_W,OXYGEN,OXYGEN_FLAG_W,SILCAT,SILCAT_FLAG_W,NITRAT,NITRAT_FLAG_W,NO2+NO3,NO2+NO3_FLAG_W,NITRIT,NITRIT_FLAG_W,PHSPHT,PHSPHT_FLAG_W,CFC-11,CFC-11_FLAG_W,CFC-12,CFC-12_FLAG_W,DELC13,DELC13_FLAG_W,TCARBN,TCARBN_FLAG_W,ALKALI,ALKALI_FLAG_W,PH,PH_FLAG_W,PH_TMP,PH_SCALE,PH_NBS,PH_NBS_FLAG_W,C13ERR,TOTALP,TOTALP_FLAG_W,AMMONI,AMMONI_FLAG_W,CHLORA,CHLORA_FLAG_W,PPHYTN,PPHYTN_FLAG_W,REVPRS,REVTMP,DEPTH_,DEPTH_FLAG,CTDDEP,THETA,SIGTHT,DOC,DOC_FLAG_W
,,,,,,,GMT,GMT,,,METER,DBAR,ITS-90,PSS-78,,UMOL/KG,,PSS-78,,UMOL/KG,,UMOL/KG,,UMOL/KG,,UMOL/KG,,UMOL/KG,,UMOL/KG,,PMOL/KG,,PMOL/KG,,/MILLE,,UMOL/KG,,UMOL/KG,,25_DEG_C,,DEG_C,,,,/MILLE,UMOL/KG,,UMOL/KG,,UG/L,,UG/L,,DBAR,ITS-90,METERS,,METERS,DEG_C,,UMOL/L,
       SH99-10,  NONE,SH-5870,  2,     -9,      -9,5,19991009,0342, 28.6613, 134.4335, 3550,      0.0,  28.8131,  34.4369,2,   -999.0,9,-999.0000,9,    201.5,2,  -999.00,9,  -999.00,9,     0.29,2,     0.01,2,  -999.00,4, -999.000,9, -999.000,9,  -999.00,9,   -999.0,9,   -999.0,9,-999.0000,9,   -999.0,  9,     8.23,2,   -999.0,  -999.00,9,  -999.00,9,     0.04,2,     0.02,2,   -999.0,-999.0000, -999,9,    0,  28.8131,  21.7036,   -999.0,9
       SH99-10,  NONE,SH-5870,  2,     11, S-1-1-9,2,19991009,0341, 28.6613, 134.4335, 3550,     11.6,  28.8172,  34.4363,2,   -999.0,9,-999.0000,9,    200.6,2,  -999.00,9,  -999.00,9,     0.20,2,     0.01,2,  -999.00,4, -999.000,9, -999.000,9,  -999.00,9,   -999.0,9,   -999.0,9,-999.0000,9,   -999.0,  9,     8.23,2,   -999.0,  -999.00,9,  -999.00,9,     0.04,2,     0.02,2,   -999.0,-999.0000, -999,9,   12,  28.8144,  21.7026,   -999.0,9
       SH99-10,  NONE,SH-5870,  2,     10,1-133-94,2,19991009,0340, 28.6613, 134.4335, 3550,     25.6,  28.8119,  34.4378,2,   -999.0,9,  34.4347,2,    200.8,2,  -999.00,9,  -999.00,9,     0.20,2,     0.01,2,  -999.00,4, -999.000,9, -999.000,9,  -999.00,9,   -999.0,9,   -999.0,9,-999.0000,9,   -999.0,  9,     8.24,2,   -999.0,  -999.00,9,  -999.00,9,     0.04,2,     0.02,2,   -999.0,-999.0000, -999,9,   25,  28.8057,  21.7067,   -999.0,9
       SH99-10,  NONE,SH-5870,  2,      9, S-1-1-5,2,19991009,0339, 28.6613, 134.4335, 3550,     51.1,  27.0467,  34.5060,2,   -999.0,9,  34.5132,2,    215.1,2,  -999.00,9,  -999.00,9,     0.00,2,     0.00,2,  -999.00,4, -999.000,9, -999.000,9,  -999.00,9,   -999.0,9,   -999.0,9,-999.0000,9,   -999.0,  9,     8.23,2,   -999.0,  -999.00,9,  -999.00,9,     0.03,4,     0.01,4,   -999.0,-999.0000, -999,9,   51,  27.0350,  22.3345,   -999.0,9
       SH99-10,  NONE,SH-5870,  2,      8,1-133-95,2,19991009,0338, 28.6613, 134.4335, 3550,     75.7,  22.3276,  34.7970,2,   -999.0,9,  34.7947,2,    229.4,2,  -999.00,9,  -999.00,9,     0.20,2,     0.00,2,  -999.00,4, -999.000,9, -999.000,9,  -999.00,9,   -999.0,9,   -999.0,9,-999.0000,9,   -999.0,  9,     8.20,2,   -999.0,  -999.00,9,  -999.00,9,     0.11,2,     0.08,2,   -999.0,-999.0000, -999,9,   75,  22.3125,  23.9757,   -999.0,9
       SH99-10,  NONE,SH-5870,  2,      7, S-1-1-4,2,19991009,0337, 28.6613, 134.4335, 3550,    100.9,  20.2630,  34.7951,2,   -999.0,9,  34.7871,2,    229.0,2,  -999.00,9,  -999.00,9,     0.20,2,     0.00,2,  -999.00,4, -999.000,9, -999.000,9,  -999.00,9,   -999.0,9,   -999.0,9,-999.0000,9,   -999.0,  9,     8.18,2,   -999.0,  -999.00,9,  -999.00,9,     0.07,4,     0.15,4,   -999.0,-999.0000, -999,9,  100,  20.2442,  24.5409,   -999.0,9
       SH99-10,  NONE,SH-5870,  2,      6,1-133-93,2,19991009,0336, 28.6613, 134.4335, 3550,    125.1,  19.5223,  34.8009,2,   -999.0,9,  34.8008,2,    242.5,2,  -999.00,9,  -999.00,9,     2.73,2,     0.02,2,  -999.00,4, -999.000,9, -999.000,9,  -999.00,9,   -999.0,9,   -999.0,9,-999.0000,9,   -999.0,  9,     8.13,2,   -999.0,  -999.00,9,  -999.00,9,     0.03,2,     0.15,2,   -999.0,-999.0000, -999,9,  124,  19.4996,  24.7406,   -999.0,9
       SH99-10,  NONE,SH-5870,  2,      5, 1-133-2,2,19991009,0335, 28.6613, 134.4335, 3550,    151.7,  18.8371,  34.7983,2,   -999.0,9,  34.7955,2,    206.6,2,  -999.00,9,  -999.00,9,     4.20,2,     0.01,2,  -999.00,4, -999.000,9, -999.000,9,  -999.00,9,   -999.0,9,   -999.0,9,-999.0000,9,   -999.0,  9,     8.12,2,   -999.0,  -999.00,9,  -999.00,9,     0.00,2,     0.01,2,   -999.0,-999.0000, -999,9,  151,  18.8102,  24.9153,   -999.0,9
       SH99-10,  NONE,SH-5870,  2,      4, S-1-1-2,4,19991009,0334, 28.6613, 134.4335, 3550,    202.3,  18.1587,  34.7984,2,   -999.0,9,  34.7928,2,    203.1,2,  -999.00,9,  -999.00,9,     5.37,2,     0.01,2,  -999.00,4, -999.000,9, -999.000,9,  -999.00,9,   -999.0,9,   -999.0,9,-999.0000,9,   -999.0,  9,     8.10,2,   -999.0,  -999.00,9,  -999.00,9,     0.00,2,     0.01,2,   -999.0,-999.0000, -999,9,  201,  18.1238,  25.0871,   -999.0,9
       SH99-10,  NONE,SH-5870,  2,     -9,      -9,4,19991009,0332, 28.6613, 134.4335, 3550,    252.5,  17.6330,  34.7897,2,   -999.0,9,-999.0000,9,   -999.0,9,  -999.00,9,  -999.00,9,  -999.00,9,  -999.00,9,  -999.00,9, -999.000,9, -999.000,9,  -999.00,9,   -999.0,9,   -999.0,9,-999.0000,9,   -999.0,  9,  -999.00,9,   -999.0,  -999.00,9,  -999.00,9,  -999.00,9,  -999.00,9,   -999.0,-999.0000, -999,9,  251,  17.5903,  25.2111,   -999.0,9
       SH99-10,  NONE,SH-5870,  2,      3,1-133-84,2,19991009,0331, 28.6613, 134.4335, 3550,    303.2,  16.7908,  34.7552,2,   -999.0,9,  34.7573,2,    197.1,2,  -999.00,9,  -999.00,9,     7.02,2,     0.01,2,  -999.00,4, -999.000,9, -999.000,9,  -999.00,9,   -999.0,9,   -999.0,9,-999.0000,9,   -999.0,  9,     8.07,2,   -999.0,  -999.00,9,  -999.00,9,     0.00,2,     0.00,2,   -999.0,-999.0000, -999,9,  301,  16.7412,  25.3875,   -999.0,9
       SH99-10,  NONE,SH-5870,  2,      2, S-1-1-7,2,19991009,0329, 28.6613, 134.4335, 3550,    403.5,  14.3351,  34.5858,2,   -999.0,9,  34.5816,2,    189.5,2,  -999.00,9,  -999.00,9,    11.60,2,     0.01,2,  -999.00,4, -999.000,9, -999.000,9,  -999.00,9,   -999.0,9,   -999.0,9,-999.0000,9,   -999.0,  9,     8.00,2,   -999.0,  -999.00,9,  -999.00,9,     0.00,2,     0.00,2,   -999.0,-999.0000, -999,9,  400,  14.2757,  25.8088,   -999.0,9
       SH99-10,  NONE,SH-5870,  2,      1, 1-133-1,4,19991009,0327, 28.6613, 134.4335, 3550,    505.0,  11.6463,  34.3912,2,   -999.0,9,  34.3929,2,    172.2,2,  -999.00,9,  -999.00,9,    17.83,2,     0.01,2,  -999.00,4, -999.000,9, -999.000,9,  -999.00,9,   -999.0,9,   -999.0,9,-999.0000,9,   -999.0,  9,     7.90,2,   -999.0,  -999.00,9,  -999.00,9,  -999.00,9,  -999.00,9,   -999.0,-999.0000, -999,9,  501,  11.5812,  26.1950,   -999.0,9
       SH99-10,  NONE,SH-5870,  2,     12, 1-133-7,2,19991009,0327, 28.6613, 134.4335, 3550,    505.0,  11.6463,  34.3912,2,   -999.0,9,  34.3921,2,    171.5,2,  -999.00,9,  -999.00,9,  -999.00,9,  -999.00,9,  -999.00,9, -999.000,9, -999.000,9,  -999.00,9,   -999.0,9,   -999.0,9,-999.0000,9,   -999.0,  9,     7.90,2,   -999.0,  -999.00,9,  -999.00,9,  -999.00,9,  -999.00,9,   -999.0,-999.0000, -999,9,  501,  11.5812,  26.1950,   -999.0,9
       SH99-10,  NONE,SH-5870,  1,     11, S-1-1-9,2,19991009,0254, 28.6677, 134.4515, 3620,    604.3,   8.8998,  34.2536,2,   -999.0,9,  34.2498,2,    144.0,2,  -999.00,9,  -999.00,9,    25.04,2,     0.01,2,  -999.00,4, -999.000,9, -999.000,9,  -999.00,9,   -999.0,9,   -999.0,9,-999.0000,9,   -999.0,  9,     7.78,2,   -999.0,  -999.00,9,  -999.00,9,  -999.00,9,  -999.00,9,   -999.0,-999.0000, -999,9,  599,   8.8337,  26.5600,   -999.0,9
       SH99-10,  NONE,SH-5870,  1,     10,1-133-94,2,19991009,0252, 28.6677, 134.4515, 3620,    702.7,   7.0667,  34.2147,2,   -999.0,9,  34.2115,2,    119.3,2,  -999.00,9,  -999.00,9,    30.48,2,     0.01,2,  -999.00,4, -999.000,9, -999.000,9,  -999.00,9,   -999.0,9,   -999.0,9,-999.0000,9,   -999.0,  9,     7.69,2,   -999.0,  -999.00,9,  -999.00,9,  -999.00,9,  -999.00,9,   -999.0,-999.0000, -999,9,  697,   6.9990,  26.8003,   -999.0,9
       SH99-10,  NONE,SH-5870,  1,      9, S-1-1-5,2,19991009,0250, 28.6677, 134.4515, 3620,    804.9,   5.4986,  34.2511,2,   -999.0,9,  34.2471,2,     88.9,2,  -999.00,9,  -999.00,9,    35.64,2,     0.01,2,  -999.00,4, -999.000,9, -999.000,9,  -999.00,9,   -999.0,9,   -999.0,9,-999.0000,9,   -999.0,  9,     7.61,2,   -999.0,  -999.00,9,  -999.00,9,  -999.00,9,  -999.00,9,   -999.0,-999.0000, -999,9,  798,   5.4299,  27.0311,   -999.0,9
       SH99-10,  NONE,SH-5870,  1,      8,1-133-95,2,19991009,0248, 28.6677, 134.4515, 3620,    904.3,   4.5290,  34.2996,2,   -999.0,9,  34.3011,2,     73.1,2,  -999.00,9,  -999.00,9,    38.45,2,     0.00,2,  -999.00,4, -999.000,9, -999.000,9,  -999.00,9,   -999.0,9,   -999.0,9,-999.0000,9,   -999.0,  9,     7.57,2,   -999.0,  -999.00,9,  -999.00,9,  -999.00,9,  -999.00,9,   -999.0,-999.0000, -999,9,  896,   4.4578,  27.1805,   -999.0,9
       SH99-10,  NONE,SH-5870,  1,      7, S-1-1-4,4,19991009,0246, 28.6677, 134.4515, 3620,   1005.5,   3.8561,  34.3744,2,   -999.0,9,  34.6465,4,    133.8,4,  -999.00,9,  -999.00,9,    37.96,4,     0.00,4,  -999.00,4, -999.000,9, -999.000,9,  -999.00,9,   -999.0,9,   -999.0,9,-999.0000,9,   -999.0,  9,     7.66,4,   -999.0,  -999.00,9,  -999.00,9,  -999.00,9,  -999.00,9,   -999.0,-999.0000, -999,9,  996,   3.7813,  27.3108,   -999.0,9
       SH99-10,  NONE,SH-5870,  1,      6,1-133-93,2,19991009,0244, 28.6677, 134.4515, 3620,   1209.4,   3.1555,  34.4592,2,   -999.0,9,  34.4542,2,     71.2,2,  -999.00,9,  -999.00,9,    40.68,2,     0.01,2,  -999.00,4, -999.000,9, -999.000,9,  -999.00,9,   -999.0,9,   -999.0,9,-999.0000,9,   -999.0,  9,     7.56,2,   -999.0,  -999.00,9,  -999.00,9,  -999.00,9,  -999.00,9,   -999.0,-999.0000, -999,9, 1198,   3.0701,  27.4469,   -999.0,9
       SH99-10,  NONE,SH-5870,  1,      5, 1-133-2,2,19991009,0240, 28.6677, 134.4515, 3620,   1512.6,   2.5120,  34.5378,2,   -999.0,9,  34.5309,2,     83.7,2,  -999.00,9,  -999.00,9,    40.39,2,     0.01,2,  -999.00,4, -999.000,9, -999.000,9,  -999.00,9,   -999.0,9,   -999.0,9,-999.0000,9,   -999.0,  9,     7.59,2,   -999.0,  -999.00,9,  -999.00,9,  -999.00,9,  -999.00,9,   -999.0,-999.0000, -999,9, 1497,   2.4089,  27.5680,   -999.0,9
       SH99-10,  NONE,SH-5870,  1,      4, S-1-1-2,2,19991009,0234, 28.6677, 134.4515, 3620,   2019.5,   1.9671,  34.6166,2,   -999.0,9,  34.6093,2,   -999.0,9,  -999.00,9,  -999.00,9,  -999.00,9,  -999.00,9,  -999.00,9, -999.000,9, -999.000,9,  -999.00,9,   -999.0,9,   -999.0,9,-999.0000,9,   -999.0,  9,  -999.00,9,   -999.0,  -999.00,9,  -999.00,9,  -999.00,9,  -999.00,9,   -999.0,-999.0000, -999,9, 1996,   1.8296,  27.6778,   -999.0,9
       SH99-10,  NONE,SH-5870,  1,      3,1-133-84,2,19991009,0228, 28.6677, 134.4515, 3620,   2528.6,   1.6930,  34.6594,2,   -999.0,9,  34.6481,4,   -999.0,9,  -999.00,9,  -999.00,9,  -999.00,9,  -999.00,9,  -999.00,9, -999.000,9, -999.000,9,  -999.00,9,   -999.0,9,   -999.0,9,-999.0000,9,   -999.0,  9,  -999.00,9,   -999.0,  -999.00,9,  -999.00,9,  -999.00,9,  -999.00,9,   -999.0,-999.0000, -999,9, 2497,   1.5158,  27.7357,   -999.0,9
       SH99-10,  NONE,SH-5870,  1,      2, S-1-1-7,2,19991009,0221, 28.6677, 134.4515, 3620,   3040.8,   1.5329,  34.6838,2,   -999.0,9,  34.6705,4,   -999.0,9,  -999.00,9,  -999.00,9,  -999.00,9,  -999.00,9,  -999.00,9, -999.000,9, -999.000,9,  -999.00,9,   -999.0,9,   -999.0,9,-999.0000,9,   -999.0,  9,  -999.00,9,   -999.0,  -999.00,9,  -999.00,9,  -999.00,9,  -999.00,9,   -999.0,-999.0000, -999,9, 2999,   1.3114,  27.7700,   -999.0,9
       SH99-10,  NONE,SH-5870,  1,      1, 1-133-1,2,19991009,0213, 28.6677, 134.4515, 3620,   3445.3,   1.5127,  34.6917,2,   -999.0,9,  34.6792,4,   -999.0,9,  -999.00,9,  -999.00,9,  -999.00,9,  -999.00,9,  -999.00,9, -999.000,9, -999.000,9,  -999.00,9,   -999.0,9,   -999.0,9,-999.0000,9,   -999.0,  9,  -999.00,9,   -999.0,  -999.00,9,  -999.00,9,  -999.00,9,  -999.00,9,   -999.0,-999.0000, -999,9, 3395,   1.2518,  27.7805,   -999.0,9
       SH99-10,  NONE,SH-5870,  1,     12, 1-133-7,2,19991009,0211, 28.6677, 134.4515, 3620,   3451.5,   1.5132,  34.6922,2,   -999.0,9,  34.6806,4,   -999.0,9,  -999.00,9,  -999.00,9,  -999.00,9,  -999.00,9,  -999.00,9, -999.000,9, -999.000,9,  -999.00,9,   -999.0,9,   -999.0,9,-999.0000,9,   -999.0,  9,  -999.00,9,   -999.0,  -999.00,9,  -999.00,9,  -999.00,9,  -999.00,9,   -999.0,-999.0000, -999,9, 3401,   1.2516,  27.7809,   -999.0,9
       SH99-10,  NONE,SH-5871,  2,     -9,      -9,5,19991009,0939, 29.0783, 133.9472, 2400,      0.0,  28.6084,  34.4516,2,   -999.0,9,-999.0000,9,    203.8,2,  -999.00,9,  -999.00,9,     0.29,2,     0.00,2,  -999.00,4, -999.000,9, -999.000,9,  -999.00,9,   -999.0,9,   -999.0,9,-999.0000,9,   -999.0,  9,  -999.00,9,   -999.0,  -999.00,9,  -999.00,9,     0.02,2,     0.02,2,   -999.0,-999.0000, -999,9,    0,  28.6084,  21.7825,   -999.0,9
       SH99-10,  NONE,SH-5871,  2,      6,1-133-93,2,19991009,0938, 29.0783, 133.9472, 2400,     11.3,  28.6188,  34.4511,2,   -999.0,9,-999.0000,9,    202.9,2,  -999.00,9,  -999.00,9,     0.10,2,     0.00,2,  -999.00,4, -999.000,9, -999.000,9,  -999.00,9,   -999.0,9,   -999.0,9,-999.0000,9,   -999.0,  9,  -999.00,9,   -999.0,  -999.00,9,  -999.00,9,     0.04,2,     0.02,2,   -999.0,-999.0000, -999,9,   11,  28.6161,  21.7795,   -999.0,9
       SH99-10,  NONE,SH-5871,  2,      5, 1-133-2,2,19991009,0937, 29.0783, 133.9472, 2400,     26.4,  28.5937,  34.4532,2,   -999.0,9,-999.0000,9,    202.7,2,  -999.00,9,  -999.00,9,     0.10,2,     0.00,2,  -999.00,4, -999.000,9, -999.000,9,  -999.00,9,   -999.0,9,   -999.0,9,-999.0000,9,   -999.0,  9,  -999.00,9,   -999.0,  -999.00,9,  -999.00,9,     0.04,2,     0.02,2,   -999.0,-999.0000, -999,9,   26,  28.5874,  21.7906,   -999.0,9
       SH99-10,  NONE,SH-5871,  2,      4, S-1-1-2,2,19991009,0936, 29.0783, 133.9472, 2400,     50.5,  27.0207,  34.5015,2,   -999.0,9,-999.0000,9,    216.0,2,  -999.00,9,  -999.00,9,     0.10,2,     0.00,2,  -999.00,4, -999.000,9, -999.000,9,  -999.00,9,   -999.0,9,   -999.0,9,-999.0000,9,   -999.0,  9,  -999.00,9,   -999.0,  -999.00,9,  -999.00,9,     0.06,2,     0.04,2,   -999.0,-999.0000, -999,9,   50,  27.0091,  22.3395,   -999.0,9
       SH99-10,  NONE,SH-5871,  2,      3,1-133-84,2,19991009,0935, 29.0783, 133.9472, 2400,     75.8,  22.2778,  34.7934,2,   -999.0,9,-999.0000,9,    237.9,2,  -999.00,9,  -999.00,9,     0.00,2,     0.00,2,  -999.00,4, -999.000,9, -999.000,9,  -999.00,9,   -999.0,9,   -999.0,9,-999.0000,9,   -999.0,  9,  -999.00,9,   -999.0,  -999.00,9,  -999.00,9,     0.11,2,     0.10,2,   -999.0,-999.0000, -999,9,   75,  22.2627,  23.9871,   -999.0,9
       SH99-10,  NONE,SH-5871,  2,      2, S-1-1-7,2,19991009,0934, 29.0783, 133.9472, 2400,    100.6,  20.5880,  34.7864,2,   -999.0,9,-999.0000,9,    231.7,2,  -999.00,9,  -999.00,9,     0.10,2,     0.00,2,  -999.00,4, -999.000,9, -999.000,9,  -999.00,9,   -999.0,9,   -999.0,9,-999.0000,9,   -999.0,  9,  -999.00,9,   -999.0,  -999.00,9,  -999.00,9,     0.18,2,     0.28,2,   -999.0,-999.0000, -999,9,  100,  20.5690,  24.4476,   -999.0,9
       SH99-10,  NONE,SH-5871,  2,      1, 1-133-1,2,19991009,0933, 29.0783, 133.9472, 2400,    126.3,  19.5085,  34.8117,2,   -999.0,9,-999.0000,9,    219.6,2,  -999.00,9,  -999.00,9,     0.88,2,     0.15,2,  -999.00,4, -999.000,9, -999.000,9,  -999.00,9,   -999.0,9,   -999.0,9,-999.0000,9,   -999.0,  9,  -999.00,9,   -999.0,  -999.00,9,  -999.00,9,     0.18,2,     0.46,2,   -999.0,-999.0000, -999,9,  125,  19.4856,  24.7524,   -999.0,9
       SH99-10,  NONE,SH-5871,  2,     12, 1-133-7,2,19991009,0932, 29.0783, 133.9472, 2400,    152.3,  19.1041,  34.8095,2,   -999.0,9,-999.0000,9,    211.9,2,  -999.00,9,  -999.00,9,     2.05,2,     0.04,2,  -999.00,4, -999.000,9, -999.000,9,  -999.00,9,   -999.0,9,   -999.0,9,-999.0000,9,   -999.0,  9,  -999.00,9,   -999.0,  -999.00,9,  -999.00,9,     0.06,2,     0.26,2,   -999.0,-999.0000, -999,9,  151,  19.0769,  24.8560,   -999.0,9
       SH99-10,  NONE,SH-5871,  2,     11, S-1-1-9,2,19991009,0931, 29.0783, 133.9472, 2400,    202.8,  18.4002,  34.8042,2,   -999.0,9,-999.0000,9,    207.2,2,  -999.00,9,  -999.00,9,     4.00,2,     0.01,2,  -999.00,4, -999.000,9, -999.000,9,  -999.00,9,   -999.0,9,   -999.0,9,-999.0000,9,   -999.0,  9,  -999.00,9,   -999.0,  -999.00,9,  -999.00,9,     0.01,2,     0.02,2,   -999.0,-999.0000, -999,9,  201,  18.3649,  25.0316,   -999.0,9
       SH99-10,  NONE,SH-5871,  2,     10,1-133-94,2,19991009,0929, 29.0783, 133.9472, 2400,    252.7,  17.6732,  34.7921,2,   -999.0,9,-999.0000,9,    200.7,2,  -999.00,9,  -999.00,9,     5.36,2,     0.01,2,  -999.00,4, -999.000,9, -999.000,9,  -999.00,9,   -999.0,9,   -999.0,9,-999.0000,9,   -999.0,  9,  -999.00,9,   -999.0,  -999.00,9,  -999.00,9,     0.00,2,     0.01,2,   -999.0,-999.0000, -999,9,  251,  17.6304,  25.2033,   -999.0,9
       SH99-10,  NONE,SH-5871,  2,      9, S-1-1-5,2,19991009,0928, 29.0783, 133.9472, 2400,    303.2,  16.7453,  34.7418,2,   -999.0,9,-999.0000,9,    197.2,2,  -999.00,9,  -999.00,9,     7.12,2,     0.00,2,  -999.00,4, -999.000,9, -999.000,9,  -999.00,9,   -999.0,9,   -999.0,9,-999.0000,9,   -999.0,  9,  -999.00,9,   -999.0,  -999.00,9,  -999.00,9,     0.00,2,     0.01,2,   -999.0,-999.0000, -999,9,  301,  16.6957,  25.3879,   -999.0,9
       SH99-10,  NONE,SH-5871,  2,      8,1-133-95,2,19991009,0926, 29.0783, 133.9472, 2400,    402.3,  14.8592,  34.6187,2,   -999.0,9,-999.0000,9,    189.4,2,  -999.00,9,  -999.00,9,    10.53,2,     0.00,2,  -999.00,4, -999.000,9, -999.000,9,  -999.00,9,   -999.0,9,   -999.0,9,-999.0000,9,   -999.0,  9,  -999.00,9,   -999.0,  -999.00,9,  -999.00,9,  -999.00,9,  -999.00,9,   -999.0,-999.0000, -999,9,  399,  14.7984,  25.7220,   -999.0,9