BOTTLE,20130510GEMDJMAYT
EXPOCODE,SECT_ID,STNNBR,CASTNO,SAMPNO,BTLNBR,BTLNBR_FLAG_W,DATE,TIME,LATITUDE,LONGITUDE,DEPTH,CTDPRS,CTDTMP,CTDSAL,CTDSAL_FLAG_W,CTDOXY,CTDOXY_FLAG_W,SALNTY,SALNTY_FLAG_W,OXYGEN,OXYGEN_FLAG_W,SILCAT,SILCAT_FLAG_W,NITRAT,NITRAT_FLAG_W,NO2+NO3,NO2+NO3_FLAG_W,NITRIT,NITRIT_FLAG_W,PHSPHT,PHSPHT_FLAG_W,CFC-11,CFC-11_FLAG_W,CFC-12,CFC-12_FLAG_W,DELC13,DELC13_FLAG_W,TCARBN,TCARBN_FLAG_W,ALKALI,ALKALI_FLAG_W,PH,PH_FLAG_W,PH_TMP,PH_SCALE,PH_NBS,PH_NBS_FLAG_W,C13ERR,TOTALP,TOTALP_FLAG_W,AMMONI,AMMONI_FLAG_W,CHLORA,CHLORA_FLAG_W,PPHYTN,PPHYTN_FLAG_W,REVPRS,REVTMP,DEPTH_,DEPTH_FLAG,CTDDEP,THETA,SIGTHT,DOC,DOC_FLAG_W
,,,,,,,GMT,GMT,,,METER,DBAR,ITS-90,PSS-78,,UMOL/KG,,PSS-78,,UMOL/KG,,UMOL/KG,,UMOL/KG,,UMOL/KG,,UMOL/KG,,UMOL/KG,,PMOL/KG,,PMOL/KG,,/MILLE,,UMOL/KG,,UMOL/KG,,25_DEG_C,,DEG_C,,,,/MILLE,UMOL/KG,,UMOL/KG,,UG/L,,UG/L,,DBAR,ITS-90,METERS,,METERS,DEG_C,,UMOL/L,
       SH00-04,  NONE,SH-5956,  1,     12, 1-133-7,2,20000521,2054, 32.0025, 135.8777, 4140,     50.3,  20.6538,  34.8058,2,   -999.0,9,  34.8217,4,   -999.0,9,  -999.00,9,  -999.00,9,  -999.00,9,  -999.00,9,  -999.00,9, -999.000,9, -999.000,9,  -999.00,9,   -999.0,9,   -999.0,9,-999.0000,9,   -999.0,  9,  -999.00,9,   -999.0,  -999.00,9,  -999.00,9,  -999.00,9,  -999.00,9,   -999.0,-999.0000, -999,9,   50,  20.6444,  24.4421,   -999.0,9
       SH00-04,  NONE,SH-5956,  1,     11,S-1-1-10,2,20000521,2052, 32.0025, 135.8777, 4140,    102.0,  19.4278,  34.7912,2,   -999.0,9,  34.7892,2,   -999.0,9,  -999.00,9,  -999.00,9,  -999.00,9,  -999.00,9,  -999.00,9, -999.000,9, -999.000,9,  -999.00,9,   -999.0,9,   -999.0,9,-999.0000,9,   -999.0,  9,  -999.00,9,   -999.0,  -999.00,9,  -999.00,9,  -999.00,9,  -999.00,9,   -999.0,-999.0000, -999,9,  101,  19.4094,  24.7565,   -999.0,9
       SH00-04,  NONE,SH-5956,  1,     10,1-133-94,2,20000521,2051, 32.0025, 135.8777, 4140,    201.6,  18.8304,  34.8061,2,   -999.0,9,  34.8058,2,   -999.0,9,  -999.00,9,  -999.00,9,  -999.00,9,  -999.00,9,  -999.00,9, -999.000,9, -999.000,9,  -999.00,9,   -999.0,9,   -999.0,9,-999.0000,9,   -999.0,  9,  -999.00,9,   -999.0,  -999.00,9,  -999.00,9,  -999.00,9,  -999.00,9,   -999.0,-999.0000, -999,9,  200,  18.7947,  24.9251,   -999.0,9
       SH00-04,  NONE,SH-5956,  1,      9, S-1-1-5,2,20000521,2049, 32.0025, 135.8777, 4140,    301.8,  17.7217,  34.7867,2,   -999.0,9,  34.7861,2,   -999.0,9,  -999.00,9,  -999.00,9,  -999.00,9,  -999.00,9,  -999.00,9, -999.000,9, -999.000,9,  -999.00,9,   -999.0,9,   -999.0,9,-999.0000,9,   -999.0,  9,  -999.00,9,   -999.0,  -999.00,9,  -999.00,9,  -999.00,9,  -999.00,9,   -999.0,-999.0000, -999,9,  299,  17.6704,  25.1894,   -999.0,9
       SH00-04,  NONE,SH-5956,  1,      8,1-133-95,2,20000521,2047, 32.0025, 135.8777, 4140,    403.0,  15.6962,  34.6784,2,   -999.0,9,  34.6786,2,   -999.0,9,  -999.00,9,  -999.00,9,  -999.00,9,  -999.00,9,  -999.00,9, -999.000,9, -999.000,9,  -999.00,9,   -999.0,9,   -999.0,9,-999.0000,9,   -999.0,  9,  -999.00,9,   -999.0,  -999.00,9,  -999.00,9,  -999.00,9,  -999.00,9,   -999.0,-999.0000, -999,9,  400,  15.6330,  25.5834,   -999.0,9
       SH00-04,  NONE,SH-5956,  1,      7, S-1-1-4,2,20000521,2045, 32.0025, 135.8777, 4140,    503.5,  13.0283,  34.4856,2,   -999.0,9,  34.4852,2,   -999.0,9,  -999.00,9,  -999.00,9,  -999.00,9,  -999.00,9,  -999.00,9, -999.000,9, -999.000,9,  -999.00,9,   -999.0,9,   -999.0,9,-999.0000,9,   -999.0,  9,  -999.00,9,   -999.0,  -999.00,9,  -999.00,9,  -999.00,9,  -999.00,9,   -999.0,-999.0000, -999,9,  499,  12.9585,  26.0026,   -999.0,9
       SH00-04,  NONE,SH-5956,  1,      6,1-133-93,2,20000521,2043, 32.0025, 135.8777, 4140,    605.1,  10.0349,  34.2822,2,   -999.0,9,  34.2836,4,   -999.0,9,  -999.00,9,  -999.00,9,  -999.00,9,  -999.00,9,  -999.00,9, -999.000,9, -999.000,9,  -999.00,9,   -999.0,9,   -999.0,9,-999.0000,9,   -999.0,  9,  -999.00,9,   -999.0,  -999.00,9,  -999.00,9,  -999.00,9,  -999.00,9,   -999.0,-999.0000, -999,9,  600,   9.9637,  26.3976,   -999.0,9
       SH00-04,  NONE,SH-5956,  1,      5,S-1-1-11,2,20000521,2041, 32.0025, 135.8777, 4140,    705.3,   7.9532,  34.2336,2,   -999.0,9,  34.2349,4,   -999.0,9,  -999.00,9,  -999.00,9,  -999.00,9,  -999.00,9,  -999.00,9, -999.000,9, -999.000,9,  -999.00,9,   -999.0,9,   -999.0,9,-999.0000,9,   -999.0,  9,  -999.00,9,   -999.0,  -999.00,9,  -999.00,9,  -999.00,9,  -999.00,9,   -999.0,-999.0000, -999,9,  699,   7.8806,  26.6895,   -999.0,9
       SH00-04,  NONE,SH-5956,  1,      4,S-1-1-12,3,20000521,2039, 32.0025, 135.8777, 4140,    806.4,   6.2270,  34.2047,2,   -999.0,9,-999.0000,9,   -999.0,9,  -999.00,9,  -999.00,9,  -999.00,9,  -999.00,9,  -999.00,9, -999.000,9, -999.000,9,  -999.00,9,   -999.0,9,   -999.0,9,-999.0000,9,   -999.0,  9,  -999.00,9,   -999.0,  -999.00,9,  -999.00,9,  -999.00,9,  -999.00,9,   -999.0,-999.0000, -999,9,  799,   6.1538,  26.9047,   -999.0,9
       SH00-04,  NONE,SH-5956,  1,     -9,      -9,4,20000521,2036, 32.0025, 135.8777, 4140,   1009.9,   4.3573,  34.3064,2,   -999.0,9,-999.0000,9,   -999.0,9,  -999.00,9,  -999.00,9,  -999.00,9,  -999.00,9,  -999.00,9, -999.000,9, -999.000,9,  -999.00,9,   -999.0,9,   -999.0,9,-999.0000,9,   -999.0,  9,  -999.00,9,   -999.0,  -999.00,9,  -999.00,9,  -999.00,9,  -999.00,9,   -999.0,-999.0000, -999,9, 1000,   4.2784,  27.2052,   -999.0,9
       SH00-04,  NONE,SH-5956,  1,     -9,      -9,4,20000521,2029, 32.0025, 135.8777, 4140,   1518.9,   2.6811,  34.5077,2,   -999.0,9,-999.0000,9,   -999.0,9,  -999.00,9,  -999.00,9,  -999.00,9,  -999.00,9,  -999.00,9, -999.000,9, -999.000,9,  -999.00,9,   -999.0,9,   -999.0,9,-999.0000,9,   -999.0,  9,  -999.00,9,   -999.0,  -999.00,9,  -999.00,9,  -999.00,9,  -999.00,9,   -999.0,-999.0000, -999,9, 1503,   2.5756,  27.5298,   -999.0,9
       SH00-04,  137E,SH-5957,  1,     11,S-1-1-10,2,20000521,2317, 32.2508, 136.0080, 4300,     51.2,  20.2199,  34.7826,2,   -999.0,9,  34.7943,4,   -999.0,9,  -999.00,9,  -999.00,9,  -999.00,9,  -999.00,9,  -999.00,9, -999.000,9, -999.000,9,  -999.00,9,   -999.0,9,   -999.0,9,-999.0000,9,   -999.0,  9,  -999.00,9,   -999.0,  -999.00,9,  -999.00,9,  -999.00,9,  -999.00,9,   -999.0,-999.0000, -999,9,   51,  20.2103,  24.5403,   -999.0,9
       SH00-04,  137E,SH-5957,  1,     10,1-133-94,2,20000521,2316, 32.2508, 136.0080, 4300,    101.6,  19.4884,  34.7981,2,   -999.0,9,  34.7993,2,   -999.0,9,  -999.00,9,  -999.00,9,  -999.00,9,  -999.00,9,  -999.00,9, -999.000,9, -999.000,9,  -999.00,9,   -999.0,9,   -999.0,9,-999.0000,9,   -999.0,  9,  -999.00,9,   -999.0,  -999.00,9,  -999.00,9,  -999.00,9,  -999.00,9,   -999.0,-999.0000, -999,9,  101,  19.4700,  24.7461,   -999.0,9
       SH00-04,  137E,SH-5957,  1,      9, S-1-1-5,2,20000521,2314, 32.2508, 136.0080, 4300,    201.2,  18.8112,  34.8179,2,   -999.0,9,  34.8166,2,   -999.0,9,  -999.00,9,  -999.00,9,  -999.00,9,  -999.00,9,  -999.00,9, -999.000,9, -999.000,9,  -999.00,9,   -999.0,9,   -999.0,9,-999.0000,9,   -999.0,  9,  -999.00,9,   -999.0,  -999.00,9,  -999.00,9,  -999.00,9,  -999.00,9,   -999.0,-999.0000, -999,9,  200,  18.7756,  24.9390,   -999.0,9
       SH00-04,  137E,SH-5957,  1,      8,1-133-95,2,20000521,2312, 32.2508, 136.0080, 4300,    302.5,  16.7882,  34.7502,2,   -999.0,9,  34.7508,2,   -999.0,9,  -999.00,9,  -999.00,9,  -999.00,9,  -999.00,9,  -999.00,9, -999.000,9, -999.000,9,  -999.00,9,   -999.0,9,   -999.0,9,-999.0000,9,   -999.0,  9,  -999.00,9,   -999.0,  -999.00,9,  -999.00,9,  -999.00,9,  -999.00,9,   -999.0,-999.0000, -999,9,  300,  16.7387,  25.3842,   -999.0,9
       SH00-04,  137E,SH-5957,  1,      7, S-1-1-4,2,20000521,2310, 32.2508, 136.0080, 4300,    402.8,  14.7739,  34.6118,2,   -999.0,9,  34.6168,4,   -999.0,9,  -999.00,9,  -999.00,9,  -999.00,9,  -999.00,9,  -999.00,9, -999.000,9, -999.000,9,  -999.00,9,   -999.0,9,   -999.0,9,-999.0000,9,   -999.0,  9,  -999.00,9,   -999.0,  -999.00,9,  -999.00,9,  -999.00,9,  -999.00,9,   -999.0,-999.0000, -999,9,  400,  14.7133,  25.7351,   -999.0,9
       SH00-04,  137E,SH-5957,  1,      6,1-133-93,2,20000521,2309, 32.2508, 136.0080, 4300,    503.6,  12.0513,  34.4195,2,   -999.0,9,  34.4214,2,   -999.0,9,  -999.00,9,  -999.00,9,  -999.00,9,  -999.00,9,  -999.00,9, -999.000,9, -999.000,9,  -999.00,9,   -999.0,9,   -999.0,9,-999.0000,9,   -999.0,  9,  -999.00,9,   -999.0,  -999.00,9,  -999.00,9,  -999.00,9,  -999.00,9,   -999.0,-999.0000, -999,9,  499,  11.9850,  26.1411,   -999.0,9
       SH00-04,  137E,SH-5957,  1,      5,S-1-1-11,2,20000521,2307, 32.2508, 136.0080, 4300,    604.7,   9.2219,  34.2286,2,   -999.0,9,  34.2298,2,   -999.0,9,  -999.00,9,  -999.00,9,  -999.00,9,  -999.00,9,  -999.00,9, -999.000,9, -999.000,9,  -999.00,9,   -999.0,9,   -999.0,9,-999.0000,9,   -999.0,  9,  -999.00,9,   -999.0,  -999.00,9,  -999.00,9,  -999.00,9,  -999.00,9,   -999.0,-999.0000, -999,9,  600,   9.1543,  26.4894,   -999.0,9
       SH00-04,  137E,SH-5957,  1,      4,S-1-1-12,2,20000521,2305, 32.2508, 136.0080, 4300,    705.0,   7.0984,  34.1966,2,   -999.0,9,  34.1943,2,   -999.0,9,  -999.00,9,  -999.00,9,  -999.00,9,  -999.00,9,  -999.00,9, -999.000,9, -999.000,9,  -999.00,9,   -999.0,9,   -999.0,9,-999.0000,9,   -999.0,  9,  -999.00,9,   -999.0,  -999.00,9,  -999.00,9,  -999.00,9,  -999.00,9,   -999.0,-999.0000, -999,9,  699,   7.0303,  26.7817,   -999.0,9
       SH00-04,  137E,SH-5957,  1,      3,1-133-84,2,20000521,2303, 32.2508, 136.0080, 4300,    805.7,   5.6424,  34.2206,2,   -999.0,9,  34.2227,2,   -999.0,9,  -999.00,9,  -999.00,9,  -999.00,9,  -999.00,9,  -999.00,9, -999.000,9, -999.000,9,  -999.00,9,   -999.0,9,   -999.0,9,-999.0000,9,   -999.0,  9,  -999.00,9,   -999.0,  -999.00,9,  -999.00,9,  -999.00,9,  -999.00,9,   -999.0,-999.0000, -999,9,  799,   5.5728,  26.9896,   -999.0,9
       SH00-04,  137E,SH-5957,  1,      2, S-1-1-7,2,20000521,2300, 32.2508, 136.0080, 4300,   1009.1,   4.1324,  34.3530,2,   -999.0,9,  34.3547,2,   -999.0,9,  -999.00,9,  -999.00,9,  -999.00,9,  -999.00,9,  -999.00,9, -999.000,9, -999.000,9,  -999.00,9,   -999.0,9,   -999.0,9,-999.0000,9,   -999.0,  9,  -999.00,9,   -999.0,  -999.00,9,  -999.00,9,  -999.00,9,  -999.00,9,   -999.0,-999.0000, -999,9, 1000,   4.0552,  27.2658,   -999.0,9
       SH00-04,  137E,SH-5957,  1,      1, 1-133-1,2,20000521,2254, 32.2508, 136.0080, 4300,   1517.0,   2.6337,  34.5130,2,   -999.0,9,  34.5153,2,   -999.0,9,  -999.00,9,  -999.00,9,  -999.00,9,  -999.00,9,  -999.00,9, -999.000,9, -999.000,9,  -999.00,9,   -999.0,9,   -999.0,9,-999.0000,9,   -999.0,  9,  -999.00,9,   -999.0,  -999.00,9,  -999.00,9,  -999.00,9,  -999.00,9,   -999.0,-999.0000, -999,9, 1501,   2.5289,  27.5381,   -999.0,9
       SH00-04,  137E,SH-5958,  1,     11,S-1-1-10,2,20000522,0146, 32.4977, 136.1647, 4500,     50.2,  23.3574,  34.6580,2,   -999.0,9,  34.6499,4,   -999.0,9,  -999.00,9,  -999.00,9,  -999.00,9,  -999.00,9,  -999.00,9, -999.000,9, -999.000,9,  -999.00,9,   -999.0,9,   -999.0,9,-999.0000,9,   -999.0,  9,  -999.00,9,   -999.0,  -999.00,9,  -999.00,9,  -999.00,9,  -999.00,9,   -999.0,-999.0000, -999,9,   50,  23.3471,  23.5739,   -999.0,9
       SH00-04,  137E,SH-5958,  1,     10,1-133-94,2,20000522,0145, 32.4977, 136.1647, 4500,    101.2,  20.9649,  34.7462,2,   -999.0,9,  34.7447,2,   -999.0,9,  -999.00,9,  -999.00,9,  -999.00,9,  -999.00,9,  -999.00,9, -999.000,9, -999.000,9,  -999.00,9,   -999.0,9,   -999.0,9,-999.0000,9,   -999.0,  9,  -999.00,9,   -999.0,  -999.00,9,  -999.00,9,  -999.00,9,  -999.00,9,   -999.0,-999.0000, -999,9,  100,  20.9456,  24.3155,   -999.0,9
       SH00-04,  137E,SH-5958,  1,      9, S-1-1-5,2,20000522,0143, 32.4977, 136.1647, 4500,    200.5,  18.9616,  34.8249,2,   -999.0,9,  34.8241,2,   -999.0,9,  -999.00,9,  -999.00,9,  -999.00,9,  -999.00,9,  -999.00,9, -999.000,9, -999.000,9,  -999.00,9,   -999.0,9,   -999.0,9,-999.0000,9,   -999.0,  9,  -999.00,9,   -999.0,  -999.00,9,  -999.00,9,  -999.00,9,  -999.00,9,   -999.0,-999.0000, -999,9,  199,  18.9259,  24.9062,   -999.0,9
       SH00-04,  137E,SH-5958,  1,      8,1-133-95,2,20000522,0142, 32.4977, 136.1647, 4500,    302.3,  16.7030,  34.7447,2,   -999.0,9,  34.7445,2,   -999.0,9,  -999.00,9,  -999.00,9,  -999.00,9,  -999.00,9,  -999.00,9, -999.000,9, -999.000,9,  -999.00,9,   -999.0,9,   -999.0,9,-999.0000,9,   -999.0,  9,  -999.00,9,   -999.0,  -999.00,9,  -999.00,9,  -999.00,9,  -999.00,9,   -999.0,-999.0000, -999,9,  300,  16.6537,  25.4000,   -999.0,9
       SH00-04,  137E,SH-5958,  1,      7, S-1-1-4,2,20000522,0140, 32.4977, 136.1647, 4500,    402.0,  13.5930,  34.5238,2,   -999.0,9,  34.5389,4,   -999.0,9,  -999.00,9,  -999.00,9,  -999.00,9,  -999.00,9,  -999.00,9, -999.000,9, -999.000,9,  -999.00,9,   -999.0,9,   -999.0,9,-999.0000,9,   -999.0,  9,  -999.00,9,   -999.0,  -999.00,9,  -999.00,9,  -999.00,9,  -999.00,9,   -999.0,-999.0000, -999,9,  399,  13.5359,  25.9153,   -999.0,9
       SH00-04,  137E,SH-5958,  1,      6,1-133-93,2,20000522,0138, 32.4977, 136.1647, 4500,    503.2,  10.7586,  34.3390,2,   -999.0,9,  34.3400,2,   -999.0,9,  -999.00,9,  -999.00,9,  -999.00,9,  -999.00,9,  -999.00,9, -999.000,9, -999.000,9,  -999.00,9,   -999.0,9,   -999.0,9,-999.0000,9,   -999.0,  9,  -999.00,9,   -999.0,  -999.00,9,  -999.00,9,  -999.00,9,  -999.00,9,   -999.0,-999.0000, -999,9,  499,  10.6971,  26.3149,   -999.0,9
       SH00-04,  137E,SH-5958,  1,      5,S-1-1-11,2,20000522,0136, 32.4977, 136.1647, 4500,    604.8,   8.1388,  34.2401,2,   -999.0,9,  34.2398,2,   -999.0,9,  -999.00,9,  -999.00,9,  -999.00,9,  -999.00,9,  -999.00,9, -999.000,9, -999.000,9,  -999.00,9,   -999.0,9,   -999.0,9,-999.0000,9,   -999.0,  9,  -999.00,9,   -999.0,  -999.00,9,  -999.00,9,  -999.00,9,  -999.00,9,   -999.0,-999.0000, -999,9,  600,   8.0760,  26.6657,   -999.0,9
       SH00-04,  137E,SH-5958,  1,      4,S-1-1-12,2,20000522,0135, 32.4977, 136.1647, 4500,    705.8,   6.1902,  34.2198,2,   -999.0,9,  34.2274,4,   -999.0,9,  -999.00,9,  -999.00,9,  -999.00,9,  -999.00,9,  -999.00,9, -999.000,9, -999.000,9,  -999.00,9,   -999.0,9,   -999.0,9,-999.0000,9,   -999.0,  9,  -999.00,9,   -999.0,  -999.00,9,  -999.00,9,  -999.00,9,  -999.00,9,   -999.0,-999.0000, -999,9,  700,   6.1268,  26.9201,   -999.0,9
       SH00-04,  137E,SH-5958,  1,      3,1-133-84,2,20000522,0133, 32.4977, 136.1647, 4500,    807.0,   5.0189,  34.2656,2,   -999.0,9,  34.2752,4,   -999.0,9,  -999.00,9,  -999.00,9,  -999.00,9,  -999.00,9,  -999.00,9, -999.000,9, -999.000,9,  -999.00,9,   -999.0,9,   -999.0,9,-999.0000,9,   -999.0,  9,  -999.00,9,   -999.0,  -999.00,9,  -999.00,9,  -999.00,9,  -999.00,9,   -999.0,-999.0000, -999,9,  800,   4.9530,  27.0984,   -999.0,9
       SH00-04,  137E,SH-5958,  1,      2, S-1-1-7,2,20000522,0130, 32.4977, 136.1647, 4500,   1008.9,   3.9891,  34.3808,2,   -999.0,9,  34.3783,2,   -999.0,9,  -999.00,9,  -999.00,9,  -999.00,9,  -999.00,9,  -999.00,9, -999.000,9, -999.000,9,  -999.00,9,   -999.0,9,   -999.0,9,-999.0000,9,   -999.0,  9,  -999.00,9,   -999.0,  -999.00,9,  -999.00,9,  -999.00,9,  -999.00,9,   -999.0,-999.0000, -999,9,  999,   3.9130,  27.3025,   -999.0,9
       SH00-04,  137E,SH-5958,  1,      1, 1-133-1,4,20000522,0123, 32.4977, 136.1647, 4500,   1528.4,   2.4561,  34.5385,2,   -999.0,9,  34.5419,2,   -999.0,9,  -999.00,9,  -999.00,9,  -999.00,9,  -999.00,9,  -999.00,9, -999.000,9, -999.000,9,  -999.00,9,   -999.0,9,   -999.0,9,-999.0000,9,   -999.0,  9,  -999.00,9,   -999.0,  -999.00,9,  -999.00,9,  -999.00,9,  -999.00,9,   -999.0,-999.0000, -999,9, 1512,   2.3524,  27.5733,   -999.0,9
       SH00-04,  137E,SH-5958,  1,     12, 1-133-7,2,20000522,0123, 32.4977, 136.1647, 4500,   1528.4,   2.4561,  34.5385,2,   -999.0,9,  34.5374,2,   -999.0,9,  -999.00,9,  -999.00,9,  -999.00,9,  -999.00,9,  -999.00,9, -999.000,9, -999.000,9,  -999.00,9,   -999.0,9,   -999.0,9,-999.0000,9,   -999.0,  9,  -999.00,9,   -999.0,  -999.00,9,  -999.00,9,  -999.00,9,  -999.00,9,   -999.0,-999.0000, -999,9, 1512,   2.3524,  27.5733,   -999.0,9