BOTTLE,20130510GEMDJMAYT
EXPOCODE,SECT_ID,STNNBR,CASTNO,SAMPNO,BTLNBR,BTLNBR_FLAG_W,DATE,TIME,LATITUDE,LONGITUDE,DEPTH,CTDPRS,CTDTMP,CTDSAL,CTDSAL_FLAG_W,CTDOXY,CTDOXY_FLAG_W,SALNTY,SALNTY_FLAG_W,OXYGEN,OXYGEN_FLAG_W,SILCAT,SILCAT_FLAG_W,NITRAT,NITRAT_FLAG_W,NO2+NO3,NO2+NO3_FLAG_W,NITRIT,NITRIT_FLAG_W,PHSPHT,PHSPHT_FLAG_W,CFC-11,CFC-11_FLAG_W,CFC-12,CFC-12_FLAG_W,DELC13,DELC13_FLAG_W,TCARBN,TCARBN_FLAG_W,ALKALI,ALKALI_FLAG_W,PH,PH_FLAG_W,PH_TMP,PH_SCALE,PH_NBS,PH_NBS_FLAG_W,C13ERR,TOTALP,TOTALP_FLAG_W,AMMONI,AMMONI_FLAG_W,CHLORA,CHLORA_FLAG_W,PPHYTN,PPHYTN_FLAG_W,REVPRS,REVTMP,DEPTH_,DEPTH_FLAG,CTDDEP,THETA,SIGTHT,DOC,DOC_FLAG_W
,,,,,,,GMT,GMT,,,METER,DBAR,ITS-90,PSS-78,,UMOL/KG,,PSS-78,,UMOL/KG,,UMOL/KG,,UMOL/KG,,UMOL/KG,,UMOL/KG,,UMOL/KG,,PMOL/KG,,PMOL/KG,,/MILLE,,UMOL/KG,,UMOL/KG,,25_DEG_C,,DEG_C,,,,/MILLE,UMOL/KG,,UMOL/KG,,UG/L,,UG/L,,DBAR,ITS-90,METERS,,METERS,DEG_C,,UMOL/L,
       SH00-04,  NONE,SH-5936,  1,      1, 1-133-1,2,20000511,1157, 29.5018, 133.5093, 2730,    401.7,  15.0572,  34.6344,2,   -999.0,9,  34.6318,2,    185.4,2,  -999.00,9,  -999.00,9,    10.53,2,     0.01,2,     0.72,2, -999.000,9, -999.000,9,  -999.00,9,   -999.0,9,   -999.0,9,-999.0000,9,   -999.0,  9,     7.98,2,   -999.0,  -999.00,9,  -999.00,9,  -999.00,9,  -999.00,9,   -999.0,-999.0000, -999,9,  399,  14.9960,  25.6910,   -999.0,9
       SH00-04,  NONE,SH-5936,  1,     12, 1-133-7,2,20000511,1155, 29.5018, 133.5093, 2730,    504.1,  12.4135,  34.4428,2,   -999.0,9,  34.4426,2,    175.4,2,  -999.00,9,  -999.00,9,    15.89,2,     0.01,2,     1.09,2, -999.000,9, -999.000,9,  -999.00,9,   -999.0,9,   -999.0,9,-999.0000,9,   -999.0,  9,     7.91,2,   -999.0,  -999.00,9,  -999.00,9,  -999.00,9,  -999.00,9,   -999.0,-999.0000, -999,9,  500,  12.3458,  26.0899,   -999.0,9
       SH00-04,  NONE,SH-5936,  1,     11,S-1-1-10,2,20000511,1153, 29.5018, 133.5093, 2730,    605.3,   9.3936,  34.2708,2,   -999.0,9,  34.2785,2,    146.9,2,  -999.00,9,  -999.00,9,    23.38,2,     0.00,2,     1.64,2, -999.000,9, -999.000,9,  -999.00,9,   -999.0,9,   -999.0,9,-999.0000,9,   -999.0,  9,     7.79,2,   -999.0,  -999.00,9,  -999.00,9,  -999.00,9,  -999.00,9,   -999.0,-999.0000, -999,9,  600,   9.3252,  26.4947,   -999.0,9
       SH00-04,  NONE,SH-5936,  1,     10,1-133-94,2,20000511,1151, 29.5018, 133.5093, 2730,    706.5,   7.5949,  34.2266,2,   -999.0,9,  34.2353,2,    122.1,2,  -999.00,9,  -999.00,9,    28.73,2,     0.00,2,     2.03,2, -999.000,9, -999.000,9,  -999.00,9,   -999.0,9,   -999.0,9,-999.0000,9,   -999.0,  9,     7.70,2,   -999.0,  -999.00,9,  -999.00,9,  -999.00,9,  -999.00,9,   -999.0,-999.0000, -999,9,  701,   7.5240,  26.7359,   -999.0,9
       SH00-04,  NONE,SH-5936,  1,      9, S-1-1-5,2,20000511,1149, 29.5018, 133.5093, 2730,    806.9,   6.1431,  34.2217,2,   -999.0,9,  34.2255,2,     99.6,2,  -999.00,9,  -999.00,9,    33.40,2,     0.00,2,     2.33,2, -999.000,9, -999.000,9,  -999.00,9,   -999.0,9,   -999.0,9,-999.0000,9,   -999.0,  9,     7.62,2,   -999.0,  -999.00,9,  -999.00,9,  -999.00,9,  -999.00,9,   -999.0,-999.0000, -999,9,  800,   6.0703,  26.9287,   -999.0,9
       SH00-04,  NONE,SH-5936,  1,      8,1-133-95,2,20000511,1147, 29.5018, 133.5093, 2730,    906.2,   5.1562,  34.2715,2,   -999.0,9,  34.2716,2,     82.4,2,  -999.00,9,  -999.00,9,    36.32,2,     0.00,2,     2.57,2, -999.000,9, -999.000,9,  -999.00,9,   -999.0,9,   -999.0,9,-999.0000,9,   -999.0,  9,     7.57,2,   -999.0,  -999.00,9,  -999.00,9,  -999.00,9,  -999.00,9,   -999.0,-999.0000, -999,9,  898,   5.0806,  27.0884,   -999.0,9
       SH00-04,  NONE,SH-5936,  1,      7, S-1-1-4,2,20000511,1145, 29.5018, 133.5093, 2730,   1009.1,   4.4166,  34.3328,2,   -999.0,9,  34.3341,2,     71.8,2,  -999.00,9,  -999.00,9,    38.55,2,     0.00,2,     2.70,2, -999.000,9, -999.000,9,  -999.00,9,   -999.0,9,   -999.0,9,-999.0000,9,   -999.0,  9,     7.54,2,   -999.0,  -999.00,9,  -999.00,9,  -999.00,9,  -999.00,9,   -999.0,-999.0000, -999,9, 1000,   4.3372,  27.2200,   -999.0,9
       SH00-04,  NONE,SH-5936,  1,      6,1-133-93,2,20000511,1142, 29.5018, 133.5093, 2730,   1210.6,   3.3682,  34.4353,2,   -999.0,9,  34.4392,2,     66.2,2,  -999.00,9,  -999.00,9,    40.30,2,     0.00,2,     2.78,2, -999.000,9, -999.000,9,  -999.00,9,   -999.0,9,   -999.0,9,-999.0000,9,   -999.0,  9,     7.52,2,   -999.0,  -999.00,9,  -999.00,9,  -999.00,9,  -999.00,9,   -999.0,-999.0000, -999,9, 1199,   3.2807,  27.4082,   -999.0,9
       SH00-04,  NONE,SH-5936,  1,      5,S-1-1-11,2,20000511,1138, 29.5018, 133.5093, 2730,   1515.8,   2.6249,  34.5153,2,   -999.0,9,-999.0000,9,     72.6,2,  -999.00,9,  -999.00,9,    40.68,2,     0.00,2,     2.80,2, -999.000,9, -999.000,9,  -999.00,9,   -999.0,9,   -999.0,9,-999.0000,9,   -999.0,  9,     7.54,2,   -999.0,  -999.00,9,  -999.00,9,  -999.00,9,  -999.00,9,   -999.0,-999.0000, -999,9, 1500,   2.5202,  27.5406,   -999.0,9
       SH00-04,  NONE,SH-5936,  1,      4,S-1-1-12,2,20000511,1131, 29.5018, 133.5093, 2730,   2022.4,   2.0007,  34.6076,2,   -999.0,9,  34.6074,2,   -999.0,9,  -999.00,9,  -999.00,9,  -999.00,9,  -999.00,9,  -999.00,9, -999.000,9, -999.000,9,  -999.00,9,   -999.0,9,   -999.0,9,-999.0000,9,   -999.0,  9,  -999.00,9,   -999.0,  -999.00,9,  -999.00,9,  -999.00,9,  -999.00,9,   -999.0,-999.0000, -999,9, 1999,   1.8625,  27.6681,   -999.0,9
       SH00-04,  NONE,SH-5936,  1,      3,1-133-84,2,20000511,1125, 29.5018, 133.5093, 2730,   2536.1,   1.7107,  34.6532,2,   -999.0,9,  34.6516,2,   -999.0,9,  -999.00,9,  -999.00,9,  -999.00,9,  -999.00,9,  -999.00,9, -999.000,9, -999.000,9,  -999.00,9,   -999.0,9,   -999.0,9,-999.0000,9,   -999.0,  9,  -999.00,9,   -999.0,  -999.00,9,  -999.00,9,  -999.00,9,  -999.00,9,   -999.0,-999.0000, -999,9, 2504,   1.5326,  27.7295,   -999.0,9
       SH00-04,  NONE,SH-5937,  2,     -9,      -9,5,20000511,1738, 29.0753, 133.9737, 2490,      0.0,  21.0685,  34.8243,2,   -999.0,9,-999.0000,9,    229.3,2,  -999.00,9,  -999.00,9,     0.00,2,     0.00,2,     0.01,2, -999.000,9, -999.000,9,  -999.00,9,   -999.0,9,   -999.0,9,-999.0000,9,   -999.0,  9,  -999.00,9,   -999.0,  -999.00,9,  -999.00,9,     0.07,2,     0.03,2,   -999.0,-999.0000, -999,9,    0,  21.0685,  24.3415,   -999.0,9
       SH00-04,  NONE,SH-5937,  2,      6,1-133-93,2,20000511,1738, 29.0753, 133.9737, 2490,     10.6,  21.0814,  34.8234,2,   -999.0,9,-999.0000,9,    228.4,2,  -999.00,9,  -999.00,9,     0.00,2,     0.00,2,     0.00,2, -999.000,9, -999.000,9,  -999.00,9,   -999.0,9,   -999.0,9,-999.0000,9,   -999.0,  9,  -999.00,9,   -999.0,  -999.00,9,  -999.00,9,     0.02,2,     0.02,2,   -999.0,-999.0000, -999,9,   11,  21.0793,  24.3379,   -999.0,9
       SH00-04,  NONE,SH-5937,  2,      5,S-1-1-11,2,20000511,1736, 29.0753, 133.9737, 2490,     25.2,  20.9335,  34.8191,2,   -999.0,9,-999.0000,9,    229.0,2,  -999.00,9,  -999.00,9,     0.00,2,     0.00,2,     0.01,2, -999.000,9, -999.000,9,  -999.00,9,   -999.0,9,   -999.0,9,-999.0000,9,   -999.0,  9,  -999.00,9,   -999.0,  -999.00,9,  -999.00,9,     0.08,2,     0.03,2,   -999.0,-999.0000, -999,9,   25,  20.9288,  24.3755,   -999.0,9
       SH00-04,  NONE,SH-5937,  2,      4,S-1-1-12,2,20000511,1735, 29.0753, 133.9737, 2490,     50.9,  20.0108,  34.7944,2,   -999.0,9,-999.0000,9,    236.2,2,  -999.00,9,  -999.00,9,     0.00,2,     0.00,2,     0.01,2, -999.000,9, -999.000,9,  -999.00,9,   -999.0,9,   -999.0,9,-999.0000,9,   -999.0,  9,  -999.00,9,   -999.0,  -999.00,9,  -999.00,9,     0.08,2,     0.04,2,   -999.0,-999.0000, -999,9,   51,  20.0014,  24.6045,   -999.0,9
       SH00-04,  NONE,SH-5937,  2,      3,1-133-84,2,20000511,1734, 29.0753, 133.9737, 2490,     77.4,  19.2459,  34.8099,2,   -999.0,9,-999.0000,9,    233.4,2,  -999.00,9,  -999.00,9,     0.00,2,     0.00,2,     0.03,2, -999.000,9, -999.000,9,  -999.00,9,   -999.0,9,   -999.0,9,-999.0000,9,   -999.0,  9,  -999.00,9,   -999.0,  -999.00,9,  -999.00,9,     0.12,2,     0.11,2,   -999.0,-999.0000, -999,9,   77,  19.2320,  24.8165,   -999.0,9
       SH00-04,  NONE,SH-5937,  2,      2, S-1-1-7,2,20000511,1733, 29.0753, 133.9737, 2490,    102.3,  18.9327,  34.8146,2,   -999.0,9,-999.0000,9,    226.9,2,  -999.00,9,  -999.00,9,     0.49,2,     0.07,2,     0.07,2, -999.000,9, -999.000,9,  -999.00,9,   -999.0,9,   -999.0,9,-999.0000,9,   -999.0,  9,  -999.00,9,   -999.0,  -999.00,9,  -999.00,9,     0.34,2,     0.66,2,   -999.0,-999.0000, -999,9,  102,  18.9145,  24.9012,   -999.0,9
       SH00-04,  NONE,SH-5937,  2,      1, 1-133-1,2,20000511,1732, 29.0753, 133.9737, 2490,    128.8,  18.7294,  34.8094,2,   -999.0,9,-999.0000,9,    216.1,2,  -999.00,9,  -999.00,9,     1.85,2,     0.03,2,     0.15,2, -999.000,9, -999.000,9,  -999.00,9,   -999.0,9,   -999.0,9,-999.0000,9,   -999.0,  9,  -999.00,9,   -999.0,  -999.00,9,  -999.00,9,     0.06,2,     0.12,2,   -999.0,-999.0000, -999,9,  128,  18.7067,  24.9499,   -999.0,9
       SH00-04,  NONE,SH-5937,  2,     12, 1-133-7,2,20000511,1731, 29.0753, 133.9737, 2490,    151.0,  18.5054,  34.8038,2,   -999.0,9,-999.0000,9,    208.1,2,  -999.00,9,  -999.00,9,     3.02,2,     0.02,2,     0.21,2, -999.000,9, -999.000,9,  -999.00,9,   -999.0,9,   -999.0,9,-999.0000,9,   -999.0,  9,  -999.00,9,   -999.0,  -999.00,9,  -999.00,9,     0.01,2,     0.02,2,   -999.0,-999.0000, -999,9,  150,  18.4790,  25.0028,   -999.0,9
       SH00-04,  NONE,SH-5937,  2,     11,S-1-1-10,2,20000511,1730, 29.0753, 133.9737, 2490,    204.9,  17.9032,  34.7893,2,   -999.0,9,-999.0000,9,    195.2,2,  -999.00,9,  -999.00,9,     5.07,2,     0.01,2,     0.33,2, -999.000,9, -999.000,9,  -999.00,9,   -999.0,9,   -999.0,9,-999.0000,9,   -999.0,  9,  -999.00,9,   -999.0,  -999.00,9,  -999.00,9,     0.00,2,     0.01,2,   -999.0,-999.0000, -999,9,  203,  17.8682,  25.1431,   -999.0,9
       SH00-04,  NONE,SH-5937,  2,     10,1-133-94,2,20000511,1728, 29.0753, 133.9737, 2490,    253.7,  17.0888,  34.7632,2,   -999.0,9,-999.0000,9,    191.8,2,  -999.00,9,  -999.00,9,     6.63,2,     0.01,2,     0.43,2, -999.000,9, -999.000,9,  -999.00,9,   -999.0,9,   -999.0,9,-999.0000,9,   -999.0,  9,  -999.00,9,   -999.0,  -999.00,9,  -999.00,9,     0.00,2,     0.01,2,   -999.0,-999.0000, -999,9,  252,  17.0467,  25.3214,   -999.0,9
       SH00-04,  NONE,SH-5937,  2,      9, S-1-1-5,2,20000511,1726, 29.0753, 133.9737, 2490,    305.7,  16.2518,  34.7164,2,   -999.0,9,-999.0000,9,    191.1,2,  -999.00,9,  -999.00,9,     7.90,2,     0.01,2,     0.51,2, -999.000,9, -999.000,9,  -999.00,9,   -999.0,9,   -999.0,9,-999.0000,9,   -999.0,  9,  -999.00,9,   -999.0,  -999.00,9,  -999.00,9,     0.00,2,     0.01,2,   -999.0,-999.0000, -999,9,  303,  16.2029,  25.4829,   -999.0,9
       SH00-04,  NONE,SH-5937,  1,      8,1-133-95,2,20000511,1655, 29.0808, 133.9798, 2600,    402.5,  14.5566,  34.5960,2,   -999.0,9,-999.0000,9,    184.5,2,  -999.00,9,  -999.00,9,    11.21,2,     0.01,2,     0.74,2, -999.000,9, -999.000,9,  -999.00,9,   -999.0,9,   -999.0,9,-999.0000,9,   -999.0,  9,  -999.00,9,   -999.0,  -999.00,9,  -999.00,9,  -999.00,9,  -999.00,9,   -999.0,-999.0000, -999,9,  399,  14.4967,  25.7695,   -999.0,9
       SH00-04,  NONE,SH-5937,  1,      7, S-1-1-4,2,20000511,1653, 29.0808, 133.9798, 2600,    504.3,  12.2975,  34.4332,2,   -999.0,9,-999.0000,9,    170.1,2,  -999.00,9,  -999.00,9,    16.37,2,     0.01,2,     1.09,2, -999.000,9, -999.000,9,  -999.00,9,   -999.0,9,   -999.0,9,-999.0000,9,   -999.0,  9,  -999.00,9,   -999.0,  -999.00,9,  -999.00,9,  -999.00,9,  -999.00,9,   -999.0,-999.0000, -999,9,  500,  12.2302,  26.1048,   -999.0,9
       SH00-04,  NONE,SH-5937,  1,      6,1-133-93,2,20000511,1652, 29.0808, 133.9798, 2600,    605.3,   9.9194,  34.3050,2,   -999.0,9,-999.0000,9,    151.3,2,  -999.00,9,  -999.00,9,    22.12,2,     0.01,2,     1.51,2, -999.000,9, -999.000,9,  -999.00,9,   -999.0,9,   -999.0,9,-999.0000,9,   -999.0,  9,  -999.00,9,   -999.0,  -999.00,9,  -999.00,9,  -999.00,9,  -999.00,9,   -999.0,-999.0000, -999,9,  600,   9.8486,  26.4348,   -999.0,9
       SH00-04,  NONE,SH-5937,  1,      5,S-1-1-11,2,20000511,1650, 29.0808, 133.9798, 2600,    706.3,   7.5123,  34.2103,2,   -999.0,9,-999.0000,9,    125.6,2,  -999.00,9,  -999.00,9,    28.93,2,     0.00,2,     1.98,2, -999.000,9, -999.000,9,  -999.00,9,   -999.0,9,   -999.0,9,-999.0000,9,   -999.0,  9,  -999.00,9,   -999.0,  -999.00,9,  -999.00,9,  -999.00,9,  -999.00,9,   -999.0,-999.0000, -999,9,  700,   7.4419,  26.7348,   -999.0,9
       SH00-04,  NONE,SH-5937,  1,      4,S-1-1-12,2,20000511,1648, 29.0808, 133.9798, 2600,    807.9,   6.0479,  34.2304,2,   -999.0,9,-999.0000,9,     99.1,2,  -999.00,9,  -999.00,9,    33.69,2,     0.01,2,     2.29,2, -999.000,9, -999.000,9,  -999.00,9,   -999.0,9,   -999.0,9,-999.0000,9,   -999.0,  9,  -999.00,9,   -999.0,  -999.00,9,  -999.00,9,  -999.00,9,  -999.00,9,   -999.0,-999.0000, -999,9,  801,   5.9756,  26.9476,   -999.0,9
       SH00-04,  NONE,SH-5937,  1,      3,1-133-84,2,20000511,1646, 29.0808, 133.9798, 2600,    909.2,   4.9211,  34.2915,2,   -999.0,9,-999.0000,9,     76.6,2,  -999.00,9,  -999.00,9,    37.29,2,     0.00,2,     2.54,2, -999.000,9, -999.000,9,  -999.00,9,   -999.0,9,   -999.0,9,-999.0000,9,   -999.0,  9,  -999.00,9,   -999.0,  -999.00,9,  -999.00,9,  -999.00,9,  -999.00,9,   -999.0,-999.0000, -999,9,  901,   4.8468,  27.1310,   -999.0,9
       SH00-04,  NONE,SH-5937,  1,      2, S-1-1-7,2,20000511,1644, 29.0808, 133.9798, 2600,   1011.6,   4.1752,  34.3621,2,   -999.0,9,-999.0000,9,     70.1,2,  -999.00,9,  -999.00,9,    38.65,2,     0.00,2,     2.62,2, -999.000,9, -999.000,9,  -999.00,9,   -999.0,9,   -999.0,9,-999.0000,9,   -999.0,  9,  -999.00,9,   -999.0,  -999.00,9,  -999.00,9,  -999.00,9,  -999.00,9,   -999.0,-999.0000, -999,9, 1002,   4.0975,  27.2686,   -999.0,9
       SH00-04,  NONE,SH-5937,  1,      1, 1-133-1,2,20000511,1641, 29.0808, 133.9798, 2600,   1214.2,   3.1688,  34.4297,2,   -999.0,9,-999.0000,9,     64.8,2,  -999.00,9,  -999.00,9,    40.78,2,     0.01,2,     2.75,2, -999.000,9, -999.000,9,  -999.00,9,   -999.0,9,   -999.0,9,-999.0000,9,   -999.0,  9,  -999.00,9,   -999.0,  -999.00,9,  -999.00,9,  -999.00,9,  -999.00,9,   -999.0,-999.0000, -999,9, 1203,   3.0829,  27.4222,   -999.0,9
       SH00-04,  NONE,SH-5938,  2,     -9,      -9,5,20000511,2344, 28.6550, 134.4757, 3730,      0.0,  20.7084,  34.7858,2,   -999.0,9,-999.0000,9,    229.3,2,  -999.00,9,  -999.00,9,     0.00,2,     0.00,2,     0.00,2, -999.000,9, -999.000,9,  -999.00,9,   -999.0,9,   -999.0,9,-999.0000,9,   -999.0,  9,     8.17,2,   -999.0,  -999.00,9,  -999.00,9,     0.08,2,     0.03,2,   -999.0,-999.0000, -999,9,    0,  20.7084,  24.4097,   -999.0,9
       SH00-04,  NONE,SH-5938,  2,      6,1-133-93,2,20000511,2342, 28.6550, 134.4757, 3730,     11.3,  20.5762,  34.7805,2,   -999.0,9,  34.7812,2,    230.1,2,  -999.00,9,  -999.00,9,     0.20,2,     0.00,2,     0.00,2, -999.000,9, -999.000,9,  -999.00,9,   -999.0,9,   -999.0,9,-999.0000,9,   -999.0,  9,     8.17,2,   -999.0,  -999.00,9,  -999.00,9,     0.08,2,     0.03,2,   -999.0,-999.0000, -999,9,   11,  20.5741,  24.4417,   -999.0,9
       SH00-04,  NONE,SH-5938,  2,      5,S-1-1-11,2,20000511,2342, 28.6550, 134.4757, 3730,     26.2,  20.5482,  34.7870,2,   -999.0,9,  34.7851,2,    231.1,2,  -999.00,9,  -999.00,9,     0.20,2,     0.00,2,     0.00,2, -999.000,9, -999.000,9,  -999.00,9,   -999.0,9,   -999.0,9,-999.0000,9,   -999.0,  9,     8.15,2,   -999.0,  -999.00,9,  -999.00,9,     0.09,2,     0.05,2,   -999.0,-999.0000, -999,9,   26,  20.5432,  24.4550,   -999.0,9
       SH00-04,  NONE,SH-5938,  2,      4,S-1-1-12,2,20000511,2341, 28.6550, 134.4757, 3730,     51.5,  19.8606,  34.7843,2,   -999.0,9,  34.7880,2,    234.8,2,  -999.00,9,  -999.00,9,     0.20,2,     0.00,2,     0.01,2, -999.000,9, -999.000,9,  -999.00,9,   -999.0,9,   -999.0,9,-999.0000,9,   -999.0,  9,     8.18,2,   -999.0,  -999.00,9,  -999.00,9,     0.09,2,     0.05,2,   -999.0,-999.0000, -999,9,   51,  19.8512,  24.6363,   -999.0,9
       SH00-04,  NONE,SH-5938,  2,      3,1-133-84,2,20000511,2340, 28.6550, 134.4757, 3730,     76.1,  19.5635,  34.7935,2,   -999.0,9,  34.7884,2,    233.4,2,  -999.00,9,  -999.00,9,     0.00,2,     0.00,2,     0.01,2, -999.000,9, -999.000,9,  -999.00,9,   -999.0,9,   -999.0,9,-999.0000,9,   -999.0,  9,     8.17,2,   -999.0,  -999.00,9,  -999.00,9,     0.16,2,     0.12,2,   -999.0,-999.0000, -999,9,   76,  19.5497,  24.7220,   -999.0,9
       SH00-04,  NONE,SH-5938,  2,      2, S-1-1-7,2,20000511,2339, 28.6550, 134.4757, 3730,    102.3,  19.1650,  34.8203,2,   -999.0,9,  34.8241,2,    225.2,2,  -999.00,9,  -999.00,9,     0.59,2,     0.10,2,     0.05,2, -999.000,9, -999.000,9,  -999.00,9,   -999.0,9,   -999.0,9,-999.0000,9,   -999.0,  9,     8.16,2,   -999.0,  -999.00,9,  -999.00,9,     0.35,2,     0.64,2,   -999.0,-999.0000, -999,9,  102,  19.1467,  24.8463,   -999.0,9
       SH00-04,  NONE,SH-5938,  2,      1, 1-133-1,2,20000511,2338, 28.6550, 134.4757, 3730,    125.7,  18.9689,  34.8217,2,   -999.0,9,  34.8249,2,    221.8,2,  -999.00,9,  -999.00,9,     1.46,2,     0.03,2,     0.09,2, -999.000,9, -999.000,9,  -999.00,9,   -999.0,9,   -999.0,9,-999.0000,9,   -999.0,  9,     8.15,2,   -999.0,  -999.00,9,  -999.00,9,     0.09,2,     0.13,2,   -999.0,-999.0000, -999,9,  125,  18.9466,  24.8985,   -999.0,9
       SH00-04,  NONE,SH-5938,  2,     12, 1-133-7,2,20000511,2337, 28.6550, 134.4757, 3730,    152.6,  18.9224,  34.8242,2,   -999.0,9,  34.8243,2,    221.3,2,  -999.00,9,  -999.00,9,     1.46,2,     0.02,2,     0.10,2, -999.000,9, -999.000,9,  -999.00,9,   -999.0,9,   -999.0,9,-999.0000,9,   -999.0,  9,     8.15,2,   -999.0,  -999.00,9,  -999.00,9,     0.03,2,     0.05,2,   -999.0,-999.0000, -999,9,  152,  18.8953,  24.9134,   -999.0,9
       SH00-04,  NONE,SH-5938,  2,     11,S-1-1-10,2,20000511,2336, 28.6550, 134.4757, 3730,    203.6,  18.5650,  34.8040,2,   -999.0,9,  34.8036,2,    212.0,2,  -999.00,9,  -999.00,9,     2.93,2,     0.01,2,     0.19,2, -999.000,9, -999.000,9,  -999.00,9,   -999.0,9,   -999.0,9,-999.0000,9,   -999.0,  9,     8.12,2,   -999.0,  -999.00,9,  -999.00,9,     0.00,2,     0.01,2,   -999.0,-999.0000, -999,9,  202,  18.5293,  24.9904,   -999.0,9
       SH00-04,  NONE,SH-5938,  2,     10,1-133-94,2,20000511,2334, 28.6550, 134.4757, 3730,    252.7,  17.7884,  34.7932,2,   -999.0,9,  34.7940,2,    198.0,2,  -999.00,9,  -999.00,9,     5.07,2,     0.01,2,     0.34,2, -999.000,9, -999.000,9,  -999.00,9,   -999.0,9,   -999.0,9,-999.0000,9,   -999.0,  9,     8.09,2,   -999.0,  -999.00,9,  -999.00,9,     0.00,2,     0.01,2,   -999.0,-999.0000, -999,9,  251,  17.7454,  25.1761,   -999.0,9
       SH00-04,  NONE,SH-5938,  2,      9, S-1-1-5,2,20000511,2333, 28.6550, 134.4757, 3730,    303.3,  17.2379,  34.7717,2,   -999.0,9,  34.7727,2,    193.8,2,  -999.00,9,  -999.00,9,     6.34,2,     0.01,2,     0.42,2, -999.000,9, -999.000,9,  -999.00,9,   -999.0,9,   -999.0,9,-999.0000,9,   -999.0,  9,     8.07,2,   -999.0,  -999.00,9,  -999.00,9,     0.00,2,     0.01,2,   -999.0,-999.0000, -999,9,  301,  17.1873,  25.2944,   -999.0,9
       SH00-04,  NONE,SH-5938,  2,      8,1-133-95,2,20000511,2331, 28.6550, 134.4757, 3730,    404.4,  15.0591,  34.6303,2,   -999.0,9,  34.6310,2,    187.7,2,  -999.00,9,  -999.00,9,    10.43,2,     0.00,2,     0.69,2, -999.000,9, -999.000,9,  -999.00,9,   -999.0,9,   -999.0,9,-999.0000,9,   -999.0,  9,     8.00,2,   -999.0,  -999.00,9,  -999.00,9,  -999.00,9,  -999.00,9,   -999.0,-999.0000, -999,9,  401,  14.9975,  25.6875,   -999.0,9
       SH00-04,  NONE,SH-5938,  2,      7, S-1-1-4,2,20000511,2329, 28.6550, 134.4757, 3730,    508.2,  12.6316,  34.4573,2,   -999.0,9,  34.4587,2,    174.9,2,  -999.00,9,  -999.00,9,    15.59,2,     0.00,2,     1.05,2, -999.000,9, -999.000,9,  -999.00,9,   -999.0,9,   -999.0,9,-999.0000,9,   -999.0,  9,     7.92,2,   -999.0,  -999.00,9,  -999.00,9,  -999.00,9,  -999.00,9,   -999.0,-999.0000, -999,9,  504,  12.5626,  26.0590,   -999.0,9