BOTTLE,20130510GEMDJMAYT
EXPOCODE,SECT_ID,STNNBR,CASTNO,SAMPNO,BTLNBR,BTLNBR_FLAG_W,DATE,TIME,LATITUDE,LONGITUDE,DEPTH,CTDPRS,CTDTMP,CTDSAL,CTDSAL_FLAG_W,CTDOXY,CTDOXY_FLAG_W,SALNTY,SALNTY_FLAG_W,OXYGEN,OXYGEN_FLAG_W,SILCAT,SILCAT_FLAG_W,NITRAT,NITRAT_FLAG_W,NO2+NO3,NO2+NO3_FLAG_W,NITRIT,NITRIT_FLAG_W,PHSPHT,PHSPHT_FLAG_W,CFC-11,CFC-11_FLAG_W,CFC-12,CFC-12_FLAG_W,DELC13,DELC13_FLAG_W,TCARBN,TCARBN_FLAG_W,ALKALI,ALKALI_FLAG_W,PH,PH_FLAG_W,PH_TMP,PH_SCALE,PH_NBS,PH_NBS_FLAG_W,C13ERR,TOTALP,TOTALP_FLAG_W,AMMONI,AMMONI_FLAG_W,CHLORA,CHLORA_FLAG_W,PPHYTN,PPHYTN_FLAG_W,REVPRS,REVTMP,DEPTH_,DEPTH_FLAG,CTDDEP,THETA,SIGTHT,DOC,DOC_FLAG_W
,,,,,,,GMT,GMT,,,METER,DBAR,ITS-90,PSS-78,,UMOL/KG,,PSS-78,,UMOL/KG,,UMOL/KG,,UMOL/KG,,UMOL/KG,,UMOL/KG,,UMOL/KG,,PMOL/KG,,PMOL/KG,,/MILLE,,UMOL/KG,,UMOL/KG,,25_DEG_C,,DEG_C,,,,/MILLE,UMOL/KG,,UMOL/KG,,UG/L,,UG/L,,DBAR,ITS-90,METERS,,METERS,DEG_C,,UMOL/L,
       SH00-04,  NONE,SH-5938,  1,      6,1-133-93,2,20000511,2255, 28.6633, 134.4733, 3740,    603.1,   9.5832,  34.2747,2,   -999.0,9,  34.2773,2,    153.1,2,  -999.00,9,  -999.00,9,    22.80,2,     0.00,2,     1.58,2, -999.000,9, -999.000,9,  -999.00,9,   -999.0,9,   -999.0,9,-999.0000,9,   -999.0,  9,     7.80,2,   -999.0,  -999.00,9,  -999.00,9,  -999.00,9,  -999.00,9,   -999.0,-999.0000, -999,9,  598,   9.5143,  26.4668,   -999.0,9
       SH00-04,  NONE,SH-5938,  1,      5,S-1-1-11,2,20000511,2253, 28.6633, 134.4733, 3740,    704.8,   7.8355,  34.2415,2,   -999.0,9,  34.2373,2,    127.0,2,  -999.00,9,  -999.00,9,    28.34,2,     0.00,2,     1.98,2, -999.000,9, -999.000,9,  -999.00,9,   -999.0,9,   -999.0,9,-999.0000,9,   -999.0,  9,     7.72,2,   -999.0,  -999.00,9,  -999.00,9,  -999.00,9,  -999.00,9,   -999.0,-999.0000, -999,9,  699,   7.7635,  26.7129,   -999.0,9
       SH00-04,  NONE,SH-5938,  1,      4,S-1-1-12,2,20000511,2251, 28.6633, 134.4733, 3740,    806.4,   5.7690,  34.2252,2,   -999.0,9,  34.2316,2,     93.8,2,  -999.00,9,  -999.00,9,    34.66,2,     0.00,2,     2.40,2, -999.000,9, -999.000,9,  -999.00,9,   -999.0,9,   -999.0,9,-999.0000,9,   -999.0,  9,     7.61,2,   -999.0,  -999.00,9,  -999.00,9,  -999.00,9,  -999.00,9,   -999.0,-999.0000, -999,9,  799,   5.6985,  26.9779,   -999.0,9
       SH00-04,  NONE,SH-5938,  1,      3,1-133-84,2,20000511,2249, 28.6633, 134.4733, 3740,    905.1,   4.9766,  34.2782,2,   -999.0,9,  34.2779,2,     77.5,2,  -999.00,9,  -999.00,9,    37.48,2,     0.00,2,     2.62,2, -999.000,9, -999.000,9,  -999.00,9,   -999.0,9,   -999.0,9,-999.0000,9,   -999.0,  9,     7.56,2,   -999.0,  -999.00,9,  -999.00,9,  -999.00,9,  -999.00,9,   -999.0,-999.0000, -999,9,  897,   4.9023,  27.1142,   -999.0,9
       SH00-04,  NONE,SH-5938,  1,      2, S-1-1-7,2,20000511,2247, 28.6633, 134.4733, 3740,   1008.1,   4.1681,  34.3304,2,   -999.0,9,  34.3249,2,     66.1,2,  -999.00,9,  -999.00,9,    39.62,2,     0.00,2,     2.75,2, -999.000,9, -999.000,9,  -999.00,9,   -999.0,9,   -999.0,9,-999.0000,9,   -999.0,  9,     7.53,2,   -999.0,  -999.00,9,  -999.00,9,  -999.00,9,  -999.00,9,   -999.0,-999.0000, -999,9,  999,   4.0908,  27.2440,   -999.0,9
       SH00-04,  NONE,SH-5938,  1,      1, 1-133-1,2,20000511,2244, 28.6633, 134.4733, 3740,   1208.9,   3.2118,  34.4375,2,   -999.0,9,  34.4365,2,     63.9,2,  -999.00,9,  -999.00,9,    40.98,2,     0.00,2,     2.85,2, -999.000,9, -999.000,9,  -999.00,9,   -999.0,9,   -999.0,9,-999.0000,9,   -999.0,  9,     7.52,2,   -999.0,  -999.00,9,  -999.00,9,  -999.00,9,  -999.00,9,   -999.0,-999.0000, -999,9, 1197,   3.1259,  27.4245,   -999.0,9
       SH00-04,  NONE,SH-5938,  1,     12, 1-133-7,2,20000511,2240, 28.6633, 134.4733, 3740,   1513.7,   2.6001,  34.5216,2,   -999.0,9,  34.5214,2,     79.3,2,  -999.00,9,  -999.00,9,    40.58,2,     0.00,2,     2.77,2, -999.000,9, -999.000,9,  -999.00,9,   -999.0,9,   -999.0,9,-999.0000,9,   -999.0,  9,     7.55,2,   -999.0,  -999.00,9,  -999.00,9,  -999.00,9,  -999.00,9,   -999.0,-999.0000, -999,9, 1498,   2.4959,  27.5477,   -999.0,9
       SH00-04,  NONE,SH-5938,  1,     11,S-1-1-10,2,20000511,2233, 28.6633, 134.4733, 3740,   2020.9,   1.9813,  34.6124,2,   -999.0,9,  34.6097,2,   -999.0,9,  -999.00,9,  -999.00,9,  -999.00,9,  -999.00,9,  -999.00,9, -999.000,9, -999.000,9,  -999.00,9,   -999.0,9,   -999.0,9,-999.0000,9,   -999.0,  9,  -999.00,9,   -999.0,  -999.00,9,  -999.00,9,  -999.00,9,  -999.00,9,   -999.0,-999.0000, -999,9, 1998,   1.8435,  27.6734,   -999.0,9
       SH00-04,  NONE,SH-5938,  1,     10,1-133-94,2,20000511,2226, 28.6633, 134.4733, 3740,   2529.6,   1.7381,  34.6516,2,   -999.0,9,  34.6471,2,   -999.0,9,  -999.00,9,  -999.00,9,  -999.00,9,  -999.00,9,  -999.00,9, -999.000,9, -999.000,9,  -999.00,9,   -999.0,9,   -999.0,9,-999.0000,9,   -999.0,  9,  -999.00,9,   -999.0,  -999.00,9,  -999.00,9,  -999.00,9,  -999.00,9,   -999.0,-999.0000, -999,9, 2498,   1.5601,  27.7262,   -999.0,9
       SH00-04,  NONE,SH-5938,  1,      9, S-1-1-5,2,20000511,2219, 28.6633, 134.4733, 3740,   3041.4,   1.5850,  34.6761,2,   -999.0,9,  34.6672,2,   -999.0,9,  -999.00,9,  -999.00,9,  -999.00,9,  -999.00,9,  -999.00,9, -999.000,9, -999.000,9,  -999.00,9,   -999.0,9,   -999.0,9,-999.0000,9,   -999.0,  9,  -999.00,9,   -999.0,  -999.00,9,  -999.00,9,  -999.00,9,  -999.00,9,   -999.0,-999.0000, -999,9, 2999,   1.3623,  27.7602,   -999.0,9
       SH00-04,  NONE,SH-5938,  1,      8,1-133-95,2,20000511,2211, 28.6633, 134.4733, 3740,   3554.5,   1.5066,  34.6921,2,   -999.0,9,  34.6800,4,   -999.0,9,  -999.00,9,  -999.00,9,  -999.00,9,  -999.00,9,  -999.00,9, -999.000,9, -999.000,9,  -999.00,9,   -999.0,9,   -999.0,9,-999.0000,9,   -999.0,  9,  -999.00,9,   -999.0,  -999.00,9,  -999.00,9,  -999.00,9,  -999.00,9,   -999.0,-999.0000, -999,9, 3501,   1.2346,  27.7820,   -999.0,9
       SH00-04,  NONE,SH-5938,  1,      7, S-1-1-4,2,20000511,2208, 28.6633, 134.4733, 3740,   3671.1,   1.5105,  34.6922,2,   -999.0,9,  34.6847,2,   -999.0,9,  -999.00,9,  -999.00,9,  -999.00,9,  -999.00,9,  -999.00,9, -999.000,9, -999.000,9,  -999.00,9,   -999.0,9,   -999.0,9,-999.0000,9,   -999.0,  9,  -999.00,9,   -999.0,  -999.00,9,  -999.00,9,  -999.00,9,  -999.00,9,   -999.0,-999.0000, -999,9, 3615,   1.2264,  27.7826,   -999.0,9
       SH00-04,  NONE,SH-5939,  4,     -9,      -9,5,20000512,1055, 29.5027, 135.2027, 4570,      0.0,  21.7635,  34.7619,2,   -999.0,9,  34.7601,2,   -999.0,9,  -999.00,9,  -999.00,9,  -999.00,9,  -999.00,9,  -999.00,9, -999.000,9, -999.000,9,  -999.00,9,   1964.7,6,   -999.0,9,-999.0000,9,   -999.0,  9,     8.19,2,   -999.0,  -999.00,9,  -999.00,9,  -999.00,9,  -999.00,9,   -999.0,-999.0000, -999,9,    0,  21.7635,  24.1029,   -999.0,9
       SH00-04,  NONE,SH-5939,  4,     11,S-1-1-10,2,20000512,1054, 29.5027, 135.2027, 4570,     12.0,  21.4394,  34.7533,2,   -999.0,9,-999.0000,9,   -999.0,9,  -999.00,9,  -999.00,9,  -999.00,9,  -999.00,9,  -999.00,9, -999.000,9, -999.000,9,  -999.00,9,   1963.2,2,   -999.0,9,-999.0000,9,   -999.0,  9,     8.19,2,   -999.0,  -999.00,9,  -999.00,9,  -999.00,9,  -999.00,9,   -999.0,-999.0000, -999,9,   12,  21.4370,  24.1866,   -999.0,9
       SH00-04,  NONE,SH-5939,  4,     10,1-133-94,2,20000512,1053, 29.5027, 135.2027, 4570,     26.6,  21.4025,  34.7535,2,   -999.0,9,-999.0000,9,   -999.0,9,  -999.00,9,  -999.00,9,  -999.00,9,  -999.00,9,  -999.00,9, -999.000,9, -999.000,9,  -999.00,9,   1963.3,2,   -999.0,9,-999.0000,9,   -999.0,  9,     8.19,2,   -999.0,  -999.00,9,  -999.00,9,  -999.00,9,  -999.00,9,   -999.0,-999.0000, -999,9,   26,  21.3974,  24.1977,   -999.0,9
       SH00-04,  NONE,SH-5939,  4,      9, S-1-1-5,2,20000512,1052, 29.5027, 135.2027, 4570,     53.2,  20.8920,  34.7258,2,   -999.0,9,-999.0000,9,   -999.0,9,  -999.00,9,  -999.00,9,  -999.00,9,  -999.00,9,  -999.00,9, -999.000,9, -999.000,9,  -999.00,9,   1965.0,2,   -999.0,9,-999.0000,9,   -999.0,  9,     8.19,2,   -999.0,  -999.00,9,  -999.00,9,  -999.00,9,  -999.00,9,   -999.0,-999.0000, -999,9,   53,  20.8819,  24.3172,   -999.0,9
       SH00-04,  NONE,SH-5939,  4,      8,1-133-95,2,20000512,1051, 29.5027, 135.2027, 4570,     78.2,  20.4145,  34.7386,2,   -999.0,9,-999.0000,9,   -999.0,9,  -999.00,9,  -999.00,9,  -999.00,9,  -999.00,9,  -999.00,9, -999.000,9, -999.000,9,  -999.00,9,   1972.3,2,   -999.0,9,-999.0000,9,   -999.0,  9,     8.17,2,   -999.0,  -999.00,9,  -999.00,9,  -999.00,9,  -999.00,9,   -999.0,-999.0000, -999,9,   78,  20.3999,  24.4564,   -999.0,9
       SH00-04,  NONE,SH-5939,  4,      7, S-1-1-4,2,20000512,1050, 29.5027, 135.2027, 4570,    101.4,  20.0139,  34.7516,2,   -999.0,9,-999.0000,9,   -999.0,9,  -999.00,9,  -999.00,9,  -999.00,9,  -999.00,9,  -999.00,9, -999.000,9, -999.000,9,  -999.00,9,   1969.2,2,   -999.0,9,-999.0000,9,   -999.0,  9,     8.18,2,   -999.0,  -999.00,9,  -999.00,9,  -999.00,9,  -999.00,9,   -999.0,-999.0000, -999,9,  101,  19.9952,  24.5735,   -999.0,9
       SH00-04,  NONE,SH-5939,  4,      6,1-133-93,2,20000512,1049, 29.5027, 135.2027, 4570,    102.7,  20.0069,  34.7534,2,   -999.0,9,-999.0000,9,   -999.0,9,  -999.00,9,  -999.00,9,  -999.00,9,  -999.00,9,  -999.00,9, -999.000,9, -999.000,9,  -999.00,9,   1970.4,2,   -999.0,9,-999.0000,9,   -999.0,  9,     8.18,2,   -999.0,  -999.00,9,  -999.00,9,  -999.00,9,  -999.00,9,   -999.0,-999.0000, -999,9,  102,  19.9879,  24.5768,   -999.0,9
       SH00-04,  NONE,SH-5939,  4,      5,S-1-1-11,2,20000512,1048, 29.5027, 135.2027, 4570,    128.0,  19.4357,  34.7680,2,   -999.0,9,-999.0000,9,   -999.0,9,  -999.00,9,  -999.00,9,  -999.00,9,  -999.00,9,  -999.00,9, -999.000,9, -999.000,9,  -999.00,9,   1980.6,2,   -999.0,9,-999.0000,9,   -999.0,  9,     8.17,2,   -999.0,  -999.00,9,  -999.00,9,  -999.00,9,  -999.00,9,   -999.0,-999.0000, -999,9,  127,  19.4125,  24.7380,   -999.0,9
       SH00-04,  NONE,SH-5939,  4,      4,S-1-1-12,2,20000512,1047, 29.5027, 135.2027, 4570,    153.9,  19.2675,  34.7993,2,   -999.0,9,-999.0000,9,   -999.0,9,  -999.00,9,  -999.00,9,  -999.00,9,  -999.00,9,  -999.00,9, -999.000,9, -999.000,9,  -999.00,9,   1986.7,2,   -999.0,9,-999.0000,9,   -999.0,  9,     8.16,2,   -999.0,  -999.00,9,  -999.00,9,  -999.00,9,  -999.00,9,   -999.0,-999.0000, -999,9,  153,  19.2399,  24.8064,   -999.0,9
       SH00-04,  NONE,SH-5939,  4,      3,1-133-84,2,20000512,1046, 29.5027, 135.2027, 4570,    204.2,  18.9818,  34.8051,2,   -999.0,9,-999.0000,9,   -999.0,9,  -999.00,9,  -999.00,9,  -999.00,9,  -999.00,9,  -999.00,9, -999.000,9, -999.000,9,  -999.00,9,   1985.9,2,   -999.0,9,-999.0000,9,   -999.0,  9,     8.16,2,   -999.0,  -999.00,9,  -999.00,9,  -999.00,9,  -999.00,9,   -999.0,-999.0000, -999,9,  203,  18.9455,  24.8861,   -999.0,9
       SH00-04,  NONE,SH-5939,  4,      2, S-1-1-7,2,20000512,1044, 29.5027, 135.2027, 4570,    253.1,  18.8701,  34.8157,2,   -999.0,9,-999.0000,9,   -999.0,9,  -999.00,9,  -999.00,9,  -999.00,9,  -999.00,9,  -999.00,9, -999.000,9, -999.000,9,  -999.00,9,   1985.9,2,   -999.0,9,-999.0000,9,   -999.0,  9,     8.16,2,   -999.0,  -999.00,9,  -999.00,9,  -999.00,9,  -999.00,9,   -999.0,-999.0000, -999,9,  251,  18.8252,  24.9247,   -999.0,9
       SH00-04,  NONE,SH-5939,  4,      1, 1-133-1,2,20000512,1043, 29.5027, 135.2027, 4570,    304.5,  18.5173,  34.8011,2,   -999.0,9,-999.0000,9,   -999.0,9,  -999.00,9,  -999.00,9,  -999.00,9,  -999.00,9,  -999.00,9, -999.000,9, -999.000,9,  -999.00,9,   2001.9,2,   -999.0,9,-999.0000,9,   -999.0,  9,     8.12,2,   -999.0,  -999.00,9,  -999.00,9,  -999.00,9,  -999.00,9,   -999.0,-999.0000, -999,9,  302,  18.4639,  25.0045,   -999.0,9
       SH00-04,  NONE,SH-5939,  3,     12, 1-133-7,2,20000512,1014, 29.5013, 135.2152, 4540,    403.1,  16.9540,  34.7645,2,   -999.0,9,-999.0000,9,   -999.0,9,  -999.00,9,  -999.00,9,  -999.00,9,  -999.00,9,  -999.00,9, -999.000,9, -999.000,9,  -999.00,9,   2039.8,2,   -999.0,9,-999.0000,9,   -999.0,  9,     8.06,2,   -999.0,  -999.00,9,  -999.00,9,  -999.00,9,  -999.00,9,   -999.0,-999.0000, -999,9,  400,  16.8873,  25.3602,   -999.0,9
       SH00-04,  NONE,SH-5939,  3,     11,S-1-1-10,2,20000512,1012, 29.5013, 135.2152, 4540,    503.4,  14.9008,  34.6197,2,   -999.0,9,-999.0000,9,   -999.0,9,  -999.00,9,  -999.00,9,  -999.00,9,  -999.00,9,  -999.00,9, -999.000,9, -999.000,9,  -999.00,9,   2064.0,2,   -999.0,9,-999.0000,9,   -999.0,  9,     8.01,2,   -999.0,  -999.00,9,  -999.00,9,  -999.00,9,  -999.00,9,   -999.0,-999.0000, -999,9,  499,  14.8245,  25.7171,   -999.0,9
       SH00-04,  NONE,SH-5939,  3,     10,1-133-94,2,20000512,1010, 29.5013, 135.2152, 4540,    603.5,  11.6954,  34.3893,2,   -999.0,9,-999.0000,9,   -999.0,9,  -999.00,9,  -999.00,9,  -999.00,9,  -999.00,9,  -999.00,9, -999.000,9, -999.000,9,  -999.00,9,   2109.6,2,   -999.0,9,-999.0000,9,   -999.0,  9,     7.91,2,   -999.0,  -999.00,9,  -999.00,9,  -999.00,9,  -999.00,9,   -999.0,-999.0000, -999,9,  599,  11.6172,  26.1868,   -999.0,9
       SH00-04,  NONE,SH-5939,  3,      9, S-1-1-5,2,20000512,1008, 29.5013, 135.2152, 4540,    705.6,   9.3443,  34.2427,2,   -999.0,9,-999.0000,9,   -999.0,9,  -999.00,9,  -999.00,9,  -999.00,9,  -999.00,9,  -999.00,9, -999.000,9, -999.000,9,  -999.00,9,   2156.0,2,   -999.0,9,-999.0000,9,   -999.0,  9,     7.81,2,   -999.0,  -999.00,9,  -999.00,9,  -999.00,9,  -999.00,9,   -999.0,-999.0000, -999,9,  700,   9.2644,  26.4826,   -999.0,9
       SH00-04,  NONE,SH-5939,  3,      8,1-133-95,2,20000512,1006, 29.5013, 135.2152, 4540,    807.6,   6.6544,  34.1565,2,   -999.0,9,-999.0000,9,   -999.0,9,  -999.00,9,  -999.00,9,  -999.00,9,  -999.00,9,  -999.00,9, -999.000,9, -999.000,9,  -999.00,9,   2219.5,2,   -999.0,9,-999.0000,9,   -999.0,  9,     7.68,2,   -999.0,  -999.00,9,  -999.00,9,  -999.00,9,  -999.00,9,   -999.0,-999.0000, -999,9,  801,   6.5785,  26.8112,   -999.0,9
       SH00-04,  NONE,SH-5939,  3,      7, S-1-1-4,2,20000512,1004, 29.5013, 135.2152, 4540,    906.7,   5.4971,  34.1917,2,   -999.0,9,-999.0000,9,   -999.0,9,  -999.00,9,  -999.00,9,  -999.00,9,  -999.00,9,  -999.00,9, -999.000,9, -999.000,9,  -999.00,9,   2264.4,2,   -999.0,9,-999.0000,9,   -999.0,  9,     7.60,2,   -999.0,  -999.00,9,  -999.00,9,  -999.00,9,  -999.00,9,   -999.0,-999.0000, -999,9,  899,   5.4192,  26.9853,   -999.0,9
       SH00-04,  NONE,SH-5939,  3,      6,1-133-93,2,20000512,1002, 29.5013, 135.2152, 4540,   1009.3,   4.7105,  34.3021,2,   -999.0,9,-999.0000,9,   -999.0,9,  -999.00,9,  -999.00,9,  -999.00,9,  -999.00,9,  -999.00,9, -999.000,9, -999.000,9,  -999.00,9,   2298.8,2,   -999.0,9,-999.0000,9,   -999.0,  9,     7.58,2,   -999.0,  -999.00,9,  -999.00,9,  -999.00,9,  -999.00,9,   -999.0,-999.0000, -999,9, 1000,   4.6289,  27.1638,   -999.0,9
       SH00-04,  NONE,SH-5939,  3,      5,S-1-1-11,2,20000512,1001, 29.5013, 135.2152, 4540,   1009.2,   4.7010,  34.3104,2,   -999.0,9,-999.0000,9,   -999.0,9,  -999.00,9,  -999.00,9,  -999.00,9,  -999.00,9,  -999.00,9, -999.000,9, -999.000,9,  -999.00,9,   2297.2,2,   -999.0,9,-999.0000,9,   -999.0,  9,     7.57,2,   -999.0,  -999.00,9,  -999.00,9,  -999.00,9,  -999.00,9,   -999.0,-999.0000, -999,9, 1000,   4.6195,  27.1714,   -999.0,9
       SH00-04,  NONE,SH-5939,  3,      4,S-1-1-12,2,20000512,0958, 29.5013, 135.2152, 4540,   1213.1,   3.4658,  34.4279,2,   -999.0,9,-999.0000,9,   -999.0,9,  -999.00,9,  -999.00,9,  -999.00,9,  -999.00,9,  -999.00,9, -999.000,9, -999.000,9,  -999.00,9,   2334.4,2,   -999.0,9,-999.0000,9,   -999.0,  9,     7.55,2,   -999.0,  -999.00,9,  -999.00,9,  -999.00,9,  -999.00,9,   -999.0,-999.0000, -999,9, 1201,   3.3772,  27.3931,   -999.0,9
       SH00-04,  NONE,SH-5939,  3,      3,1-133-84,2,20000512,0954, 29.5013, 135.2152, 4540,   1519.1,   2.8498,  34.4923,2,   -999.0,9,-999.0000,9,   -999.0,9,  -999.00,9,  -999.00,9,  -999.00,9,  -999.00,9,  -999.00,9, -999.000,9, -999.000,9,  -999.00,9,   2347.4,2,   -999.0,9,-999.0000,9,   -999.0,  9,     7.56,2,   -999.0,  -999.00,9,  -999.00,9,  -999.00,9,  -999.00,9,   -999.0,-999.0000, -999,9, 1503,   2.7424,  27.5030,   -999.0,9