BOTTLE,20130510GEMDJMAYT
EXPOCODE,SECT_ID,STNNBR,CASTNO,SAMPNO,BTLNBR,BTLNBR_FLAG_W,DATE,TIME,LATITUDE,LONGITUDE,DEPTH,CTDPRS,CTDTMP,CTDSAL,CTDSAL_FLAG_W,CTDOXY,CTDOXY_FLAG_W,SALNTY,SALNTY_FLAG_W,OXYGEN,OXYGEN_FLAG_W,SILCAT,SILCAT_FLAG_W,NITRAT,NITRAT_FLAG_W,NO2+NO3,NO2+NO3_FLAG_W,NITRIT,NITRIT_FLAG_W,PHSPHT,PHSPHT_FLAG_W,CFC-11,CFC-11_FLAG_W,CFC-12,CFC-12_FLAG_W,DELC13,DELC13_FLAG_W,TCARBN,TCARBN_FLAG_W,ALKALI,ALKALI_FLAG_W,PH,PH_FLAG_W,PH_TMP,PH_SCALE,PH_NBS,PH_NBS_FLAG_W,C13ERR,TOTALP,TOTALP_FLAG_W,AMMONI,AMMONI_FLAG_W,CHLORA,CHLORA_FLAG_W,PPHYTN,PPHYTN_FLAG_W,REVPRS,REVTMP,DEPTH_,DEPTH_FLAG,CTDDEP,THETA,SIGTHT,DOC,DOC_FLAG_W
,,,,,,,GMT,GMT,,,METER,DBAR,ITS-90,PSS-78,,UMOL/KG,,PSS-78,,UMOL/KG,,UMOL/KG,,UMOL/KG,,UMOL/KG,,UMOL/KG,,UMOL/KG,,PMOL/KG,,PMOL/KG,,/MILLE,,UMOL/KG,,UMOL/KG,,25_DEG_C,,DEG_C,,,,/MILLE,UMOL/KG,,UMOL/KG,,UG/L,,UG/L,,DBAR,ITS-90,METERS,,METERS,DEG_C,,UMOL/L,
       SH00-04,  NONE,SH-5932,  1,      1, 1-133-1,2,20000510,0928, 31.0132, 131.7073, 1390,    404.9,  10.5656,  34.3685,2,   -999.0,9,  34.3573,4,    151.3,2,  -999.00,9,  -999.00,9,    21.14,2,     0.01,2,     1.47,2, -999.000,9, -999.000,9,  -999.00,9,   -999.0,9,   -999.0,9,-999.0000,9,   -999.0,  9,  -999.00,9,   -999.0,  -999.00,9,  -999.00,9,  -999.00,9,  -999.00,9,   -999.0,-999.0000, -999,9,  402,  10.5168,  26.3696,   -999.0,9
       SH00-04,  NONE,SH-5932,  1,     12, 1-133-7,2,20000510,0925, 31.0132, 131.7073, 1390,    505.1,   7.9646,  34.3568,2,   -999.0,9,  34.3567,2,    113.4,2,  -999.00,9,  -999.00,9,    28.63,2,     0.01,2,     2.01,2, -999.000,9, -999.000,9,  -999.00,9,   -999.0,9,   -999.0,9,-999.0000,9,   -999.0,  9,  -999.00,9,   -999.0,  -999.00,9,  -999.00,9,  -999.00,9,  -999.00,9,   -999.0,-999.0000, -999,9,  501,   7.9131,  26.7816,   -999.0,9
       SH00-04,  NONE,SH-5932,  1,     11,S-1-1-10,2,20000510,0923, 31.0132, 131.7073, 1390,    606.0,   5.4706,  34.2102,2,   -999.0,9,  34.2119,2,     90.1,2,  -999.00,9,  -999.00,9,    35.15,2,     0.01,2,     2.46,2, -999.000,9, -999.000,9,  -999.00,9,   -999.0,9,   -999.0,9,-999.0000,9,   -999.0,  9,  -999.00,9,   -999.0,  -999.00,9,  -999.00,9,  -999.00,9,  -999.00,9,   -999.0,-999.0000, -999,9,  601,   5.4199,  26.9998,   -999.0,9
       SH00-04,  NONE,SH-5932,  1,     10,1-133-94,2,20000510,0920, 31.0132, 131.7073, 1390,    707.3,   4.9775,  34.3105,2,   -999.0,9,  34.3204,4,     78.6,2,  -999.00,9,  -999.00,9,    36.61,2,     0.01,2,     2.57,2, -999.000,9, -999.000,9,  -999.00,9,   -999.0,9,   -999.0,9,-999.0000,9,   -999.0,  9,  -999.00,9,   -999.0,  -999.00,9,  -999.00,9,  -999.00,9,  -999.00,9,   -999.0,-999.0000, -999,9,  701,   4.9204,  27.1377,   -999.0,9
       SH00-04,  NONE,SH-5932,  1,      9, S-1-1-5,2,20000510,0918, 31.0132, 131.7073, 1390,    807.8,   4.2917,  34.3764,2,   -999.0,9,  34.3752,2,     70.7,2,  -999.00,9,  -999.00,9,    38.26,2,     0.01,2,     2.67,2, -999.000,9, -999.000,9,  -999.00,9,   -999.0,9,   -999.0,9,-999.0000,9,   -999.0,  9,  -999.00,9,   -999.0,  -999.00,9,  -999.00,9,  -999.00,9,  -999.00,9,   -999.0,-999.0000, -999,9,  801,   4.2301,  27.2660,   -999.0,9
       SH00-04,  NONE,SH-5932,  1,      8,1-133-95,2,20000510,0916, 31.0132, 131.7073, 1390,    909.5,   3.6593,  34.4050,2,   -999.0,9,  34.4117,2,     68.5,2,  -999.00,9,  -999.00,9,    38.93,2,     0.01,2,     2.73,2, -999.000,9, -999.000,9,  -999.00,9,   -999.0,9,   -999.0,9,-999.0000,9,   -999.0,  9,  -999.00,9,   -999.0,  -999.00,9,  -999.00,9,  -999.00,9,  -999.00,9,   -999.0,-999.0000, -999,9,  901,   3.5936,  27.3538,   -999.0,9
       SH00-04,  NONE,SH-5932,  1,      7, S-1-1-4,2,20000510,0914, 31.0132, 131.7073, 1390,   1011.6,   3.3312,  34.4329,2,   -999.0,9,  34.4363,2,     66.5,2,  -999.00,9,  -999.00,9,    39.91,2,     0.01,2,     2.78,2, -999.000,9, -999.000,9,  -999.00,9,   -999.0,9,   -999.0,9,-999.0000,9,   -999.0,  9,  -999.00,9,   -999.0,  -999.00,9,  -999.00,9,  -999.00,9,  -999.00,9,   -999.0,-999.0000, -999,9, 1002,   3.2599,  27.4082,   -999.0,9
       SH00-04,  NONE,SH-5932,  1,      6,1-133-93,2,20000510,0911, 31.0132, 131.7073, 1390,   1214.2,   2.9612,  34.4773,2,   -999.0,9,  34.4839,2,     72.0,2,  -999.00,9,  -999.00,9,    39.81,2,     0.01,2,     2.74,2, -999.000,9, -999.000,9,  -999.00,9,   -999.0,9,   -999.0,9,-999.0000,9,   -999.0,  9,  -999.00,9,   -999.0,  -999.00,9,  -999.00,9,  -999.00,9,  -999.00,9,   -999.0,-999.0000, -999,9, 1202,   2.8772,  27.4790,   -999.0,9
       SH00-04,  NONE,SH-5933,  2,     -9,      -9,5,20000510,1842, 30.6923, 132.1350, 2270,      0.0,  24.6341,  34.5521,2,   -999.0,9,-999.0000,9,    210.6,2,  -999.00,9,  -999.00,9,     0.20,2,     0.00,2,     0.04,2, -999.000,9, -999.000,9,  -999.00,9,   -999.0,9,   -999.0,9,-999.0000,9,   -999.0,  9,     8.23,2,   -999.0,  -999.00,9,  -999.00,9,     0.07,2,     0.04,2,   -999.0,-999.0000, -999,9,    0,  24.6341,  23.1133,   -999.0,9
       SH00-04,  NONE,SH-5933,  2,      8,1-133-95,2,20000510,1841, 30.6923, 132.1350, 2270,     10.6,  24.6601,  34.5410,2,   -999.0,9,  34.5446,2,    210.0,2,  -999.00,9,  -999.00,9,     0.20,2,     0.00,2,     0.04,2, -999.000,9, -999.000,9,  -999.00,9,   -999.0,9,   -999.0,9,-999.0000,9,   -999.0,  9,     8.21,2,   -999.0,  -999.00,9,  -999.00,9,     0.08,2,     0.05,2,   -999.0,-999.0000, -999,9,   11,  24.6578,  23.0977,   -999.0,9
       SH00-04,  NONE,SH-5933,  2,      7, S-1-1-4,2,20000510,1840, 30.6923, 132.1350, 2270,     26.4,  24.6598,  34.5414,2,   -999.0,9,  34.5448,2,    209.3,2,  -999.00,9,  -999.00,9,     0.00,2,     0.00,2,     0.03,2, -999.000,9, -999.000,9,  -999.00,9,   -999.0,9,   -999.0,9,-999.0000,9,   -999.0,  9,     8.21,2,   -999.0,  -999.00,9,  -999.00,9,     0.08,2,     0.05,2,   -999.0,-999.0000, -999,9,   26,  24.6541,  23.0991,   -999.0,9
       SH00-04,  NONE,SH-5933,  2,      6,1-133-93,2,20000510,1839, 30.6923, 132.1350, 2270,     51.1,  24.2832,  34.5765,2,   -999.0,9,  34.5692,2,    209.8,2,  -999.00,9,  -999.00,9,     0.00,2,     0.01,2,     0.04,2, -999.000,9, -999.000,9,  -999.00,9,   -999.0,9,   -999.0,9,-999.0000,9,   -999.0,  9,     8.21,2,   -999.0,  -999.00,9,  -999.00,9,     0.31,2,     0.29,2,   -999.0,-999.0000, -999,9,   51,  24.2724,  23.2399,   -999.0,9
       SH00-04,  NONE,SH-5933,  2,      5,S-1-1-11,2,20000510,1839, 30.6923, 132.1350, 2270,     75.4,  23.4746,  34.6169,2,   -999.0,9,  34.6097,2,    201.8,2,  -999.00,9,  -999.00,9,     1.07,2,     0.20,2,     0.12,2, -999.000,9, -999.000,9,  -999.00,9,   -999.0,9,   -999.0,9,-999.0000,9,   -999.0,  9,     8.18,2,   -999.0,  -999.00,9,  -999.00,9,     0.14,2,     0.16,2,   -999.0,-999.0000, -999,9,   75,  23.4590,  23.5102,   -999.0,9
       SH00-04,  NONE,SH-5933,  2,      4,S-1-1-12,2,20000510,1838, 30.6923, 132.1350, 2270,    101.8,  22.8610,  34.6243,2,   -999.0,9,  34.6255,2,    199.1,2,  -999.00,9,  -999.00,9,     1.76,2,     0.20,2,     0.16,2, -999.000,9, -999.000,9,  -999.00,9,   -999.0,9,   -999.0,9,-999.0000,9,   -999.0,  9,     8.17,2,   -999.0,  -999.00,9,  -999.00,9,     0.09,2,     0.13,2,   -999.0,-999.0000, -999,9,  101,  22.8404,  23.6945,   -999.0,9
       SH00-04,  NONE,SH-5933,  2,      3,1-133-84,2,20000510,1837, 30.6923, 132.1350, 2270,    126.3,  22.1120,  34.6634,2,   -999.0,9,  34.6623,2,    197.4,2,  -999.00,9,  -999.00,9,     2.34,2,     0.15,2,     0.20,2, -999.000,9, -999.000,9,  -999.00,9,   -999.0,9,   -999.0,9,-999.0000,9,   -999.0,  9,     8.15,2,   -999.0,  -999.00,9,  -999.00,9,     0.07,2,     0.10,2,   -999.0,-999.0000, -999,9,  125,  22.0870,  23.9377,   -999.0,9
       SH00-04,  NONE,SH-5933,  2,      2, S-1-1-7,2,20000510,1836, 30.6923, 132.1350, 2270,    151.8,  21.7139,  34.7049,2,   -999.0,9,  34.6951,2,    198.1,2,  -999.00,9,  -999.00,9,     2.25,2,     0.11,2,     0.20,2, -999.000,9, -999.000,9,  -999.00,9,   -999.0,9,   -999.0,9,-999.0000,9,   -999.0,  9,     8.15,2,   -999.0,  -999.00,9,  -999.00,9,     0.04,2,     0.07,2,   -999.0,-999.0000, -999,9,  151,  21.6842,  24.0815,   -999.0,9
       SH00-04,  NONE,SH-5933,  2,      1, 1-133-1,2,20000510,1835, 30.6923, 132.1350, 2270,    202.2,  20.6462,  34.7966,2,   -999.0,9,  34.7910,2,    192.3,2,  -999.00,9,  -999.00,9,     3.22,2,     0.03,2,     0.25,2, -999.000,9, -999.000,9,  -999.00,9,   -999.0,9,   -999.0,9,-999.0000,9,   -999.0,  9,     8.13,2,   -999.0,  -999.00,9,  -999.00,9,     0.01,2,     0.04,2,   -999.0,-999.0000, -999,9,  201,  20.6080,  24.4449,   -999.0,9
       SH00-04,  NONE,SH-5933,  2,     12, 1-133-7,2,20000510,1834, 30.6923, 132.1350, 2270,    252.7,  18.7536,  34.7900,2,   -999.0,9,  34.7949,2,    188.8,2,  -999.00,9,  -999.00,9,     5.27,2,     0.02,2,     0.39,2, -999.000,9, -999.000,9,  -999.00,9,   -999.0,9,   -999.0,9,-999.0000,9,   -999.0,  9,     8.08,2,   -999.0,  -999.00,9,  -999.00,9,     0.01,2,     0.02,2,   -999.0,-999.0000, -999,9,  251,  18.7089,  24.9345,   -999.0,9
       SH00-04,  NONE,SH-5933,  2,     11,S-1-1-10,2,20000510,1832, 30.6923, 132.1350, 2270,    305.6,  16.7973,  34.7115,2,   -999.0,9,  34.7158,2,    181.9,2,  -999.00,9,  -999.00,9,     8.29,2,     0.01,2,     0.58,2, -999.000,9, -999.000,9,  -999.00,9,   -999.0,9,   -999.0,9,-999.0000,9,   -999.0,  9,     8.04,2,   -999.0,  -999.00,9,  -999.00,9,     0.00,2,     0.01,2,   -999.0,-999.0000, -999,9,  303,  16.7473,  25.3525,   -999.0,9
       SH00-04,  NONE,SH-5933,  1,     10,1-133-94,2,20000510,1756, 30.6475, 132.1418, 2420,    404.2,  13.4056,  34.5220,2,   -999.0,9,  34.5197,2,    168.6,2,  -999.00,9,  -999.00,9,    14.43,2,     0.01,2,     1.00,2, -999.000,9, -999.000,9,  -999.00,9,   -999.0,9,   -999.0,9,-999.0000,9,   -999.0,  9,     7.94,2,   -999.0,  -999.00,9,  -999.00,9,  -999.00,9,  -999.00,9,   -999.0,-999.0000, -999,9,  401,  13.3487,  25.9522,   -999.0,9
       SH00-04,  NONE,SH-5933,  1,      9, S-1-1-5,2,20000510,1753, 30.6475, 132.1418, 2420,    505.7,   9.8739,  34.2943,2,   -999.0,9,  34.2968,2,    149.3,2,  -999.00,9,  -999.00,9,    22.21,2,     0.01,2,     1.56,2, -999.000,9, -999.000,9,  -999.00,9,   -999.0,9,   -999.0,9,-999.0000,9,   -999.0,  9,     7.81,2,   -999.0,  -999.00,9,  -999.00,9,  -999.00,9,  -999.00,9,   -999.0,-999.0000, -999,9,  502,   9.8152,  26.4321,   -999.0,9
       SH00-04,  NONE,SH-5933,  1,      8,1-133-95,2,20000510,1751, 30.6475, 132.1418, 2420,    605.6,   7.8559,  34.2519,2,   -999.0,9,  34.2597,2,    121.2,2,  -999.00,9,  -999.00,9,    28.15,2,     0.01,2,     2.00,2, -999.000,9, -999.000,9,  -999.00,9,   -999.0,9,   -999.0,9,-999.0000,9,   -999.0,  9,     7.73,2,   -999.0,  -999.00,9,  -999.00,9,  -999.00,9,  -999.00,9,   -999.0,-999.0000, -999,9,  601,   7.7943,  26.7166,   -999.0,9
       SH00-04,  NONE,SH-5933,  1,      7, S-1-1-4,2,20000510,1748, 30.6475, 132.1418, 2420,    707.4,   6.0302,  34.3446,2,   -999.0,9,  34.3451,2,     92.8,2,  -999.00,9,  -999.00,9,    33.59,2,     0.01,2,     2.38,2, -999.000,9, -999.000,9,  -999.00,9,   -999.0,9,   -999.0,9,-999.0000,9,   -999.0,  9,     7.63,2,   -999.0,  -999.00,9,  -999.00,9,  -999.00,9,  -999.00,9,   -999.0,-999.0000, -999,9,  701,   5.9674,  27.0389,   -999.0,9
       SH00-04,  NONE,SH-5933,  1,      6,1-133-93,2,20000510,1745, 30.6475, 132.1418, 2420,    807.8,   4.5827,  34.3644,2,   -999.0,9,  34.3712,2,     74.7,2,  -999.00,9,  -999.00,9,    37.48,2,     0.01,2,     2.62,2, -999.000,9, -999.000,9,  -999.00,9,   -999.0,9,   -999.0,9,-999.0000,9,   -999.0,  9,     7.60,2,   -999.0,  -999.00,9,  -999.00,9,  -999.00,9,  -999.00,9,   -999.0,-999.0000, -999,9,  801,   4.5193,  27.2253,   -999.0,9
       SH00-04,  NONE,SH-5933,  1,      5,S-1-1-11,2,20000510,1742, 30.6475, 132.1418, 2420,    908.8,   3.8811,  34.3879,2,   -999.0,9,  34.3887,2,     67.3,2,  -999.00,9,  -999.00,9,    39.13,2,     0.01,2,     2.75,2, -999.000,9, -999.000,9,  -999.00,9,   -999.0,9,   -999.0,9,-999.0000,9,   -999.0,  9,     7.56,2,   -999.0,  -999.00,9,  -999.00,9,  -999.00,9,  -999.00,9,   -999.0,-999.0000, -999,9,  901,   3.8140,  27.3182,   -999.0,9
       SH00-04,  NONE,SH-5933,  1,      4,S-1-1-12,2,20000510,1740, 30.6475, 132.1418, 2420,   1009.5,   3.4473,  34.4148,2,   -999.0,9,  34.4147,2,     75.0,2,  -999.00,9,  -999.00,9,    39.81,2,     0.01,2,     2.78,2, -999.000,9, -999.000,9,  -999.00,9,   -999.0,9,   -999.0,9,-999.0000,9,   -999.0,  9,     7.56,2,   -999.0,  -999.00,9,  -999.00,9,  -999.00,9,  -999.00,9,   -999.0,-999.0000, -999,9, 1000,   3.3753,  27.3829,   -999.0,9
       SH00-04,  NONE,SH-5933,  1,      3,1-133-84,2,20000510,1735, 30.6475, 132.1418, 2420,   1213.8,   2.9080,  34.4787,2,   -999.0,9,  34.4738,2,     77.8,2,  -999.00,9,  -999.00,9,    40.10,2,     0.01,2,     2.79,2, -999.000,9, -999.000,9,  -999.00,9,   -999.0,9,   -999.0,9,-999.0000,9,   -999.0,  9,     7.56,2,   -999.0,  -999.00,9,  -999.00,9,  -999.00,9,  -999.00,9,   -999.0,-999.0000, -999,9, 1202,   2.8245,  27.4848,   -999.0,9
       SH00-04,  NONE,SH-5933,  1,      2, S-1-1-7,2,20000510,1727, 30.6475, 132.1418, 2420,   1518.2,   2.3663,  34.5513,2,   -999.0,9,  34.5226,4,    120.5,4,  -999.00,9,  -999.00,9,    38.73,2,     0.01,2,     2.67,2, -999.000,9, -999.000,9,  -999.00,9,   -999.0,9,   -999.0,9,-999.0000,9,   -999.0,  9,     7.59,2,   -999.0,  -999.00,9,  -999.00,9,  -999.00,9,  -999.00,9,   -999.0,-999.0000, -999,9, 1502,   2.2644,  27.5909,   -999.0,9
       SH00-04,  NONE,SH-5933,  1,      1, 1-133-1,2,20000510,1712, 30.6475, 132.1418, 2420,   2025.6,   1.9266,  34.6168,2,   -999.0,9,  34.6103,2,   -999.0,9,  -999.00,9,  -999.00,9,  -999.00,9,  -999.00,9,  -999.00,9, -999.000,9, -999.000,9,  -999.00,9,   -999.0,9,   -999.0,9,-999.0000,9,   -999.0,  9,  -999.00,9,   -999.0,  -999.00,9,  -999.00,9,  -999.00,9,  -999.00,9,   -999.0,-999.0000, -999,9, 2002,   1.7892,  27.6810,   -999.0,9
       SH00-04,  NONE,SH-5933,  1,     12, 1-133-7,2,20000510,1701, 30.6475, 132.1418, 2420,   2223.1,   1.7443,  34.6420,2,   -999.0,9,  34.6408,2,   -999.0,9,  -999.00,9,  -999.00,9,  -999.00,9,  -999.00,9,  -999.00,9, -999.000,9, -999.000,9,  -999.00,9,   -999.0,9,   -999.0,9,-999.0000,9,   -999.0,  9,  -999.00,9,   -999.0,  -999.00,9,  -999.00,9,  -999.00,9,  -999.00,9,   -999.0,-999.0000, -999,9, 2196,   1.5931,  27.7160,   -999.0,9
       SH00-04,  NONE,SH-5934,  2,     -9,      -9,5,20000511,0221, 30.3080, 132.5448, 3700,      0.0,  24.4835,  34.5642,2,   -999.0,9,-999.0000,9,    211.5,2,  -999.00,9,  -999.00,9,     0.00,2,     0.00,2,     0.05,2, -999.000,9, -999.000,9,  -999.00,9,   -999.0,9,   -999.0,9,-999.0000,9,   -999.0,  9,  -999.00,9,   -999.0,  -999.00,9,  -999.00,9,     0.07,2,     0.03,2,   -999.0,-999.0000, -999,9,    0,  24.4835,  23.1676,   -999.0,9
       SH00-04,  NONE,SH-5934,  2,      7, S-1-1-4,2,20000511,0220, 30.3080, 132.5448, 3700,     11.8,  24.4188,  34.5656,2,   -999.0,9,  34.5657,2,    211.2,2,  -999.00,9,  -999.00,9,     0.10,2,     0.00,2,     0.06,2, -999.000,9, -999.000,9,  -999.00,9,   -999.0,9,   -999.0,9,-999.0000,9,   -999.0,  9,  -999.00,9,   -999.0,  -999.00,9,  -999.00,9,     0.07,2,     0.03,2,   -999.0,-999.0000, -999,9,   12,  24.4163,  23.1888,   -999.0,9
       SH00-04,  NONE,SH-5934,  2,      6,1-133-93,2,20000511,0219, 30.3080, 132.5448, 3700,     25.3,  24.1561,  34.5662,2,   -999.0,9,  34.5531,4,    213.1,2,  -999.00,9,  -999.00,9,     0.10,2,     0.00,2,     0.05,2, -999.000,9, -999.000,9,  -999.00,9,   -999.0,9,   -999.0,9,-999.0000,9,   -999.0,  9,  -999.00,9,   -999.0,  -999.00,9,  -999.00,9,     0.10,2,     0.05,2,   -999.0,-999.0000, -999,9,   25,  24.1508,  23.2683,   -999.0,9
       SH00-04,  NONE,SH-5934,  2,      5,S-1-1-11,2,20000511,0218, 30.3080, 132.5448, 3700,     53.0,  23.3093,  34.5692,2,   -999.0,9,  34.5771,2,    209.3,2,  -999.00,9,  -999.00,9,     0.49,2,     0.06,2,     0.08,2, -999.000,9, -999.000,9,  -999.00,9,   -999.0,9,   -999.0,9,-999.0000,9,   -999.0,  9,  -999.00,9,   -999.0,  -999.00,9,  -999.00,9,     0.59,2,     0.51,2,   -999.0,-999.0000, -999,9,   53,  23.2984,  23.5207,   -999.0,9
       SH00-04,  NONE,SH-5934,  2,      4,S-1-1-12,2,20000511,0217, 30.3080, 132.5448, 3700,     77.5,  22.8794,  34.6514,2,   -999.0,9,  34.6373,4,    204.0,2,  -999.00,9,  -999.00,9,     1.27,2,     0.23,2,     0.13,2, -999.000,9, -999.000,9,  -999.00,9,   -999.0,9,   -999.0,9,-999.0000,9,   -999.0,  9,  -999.00,9,   -999.0,  -999.00,9,  -999.00,9,     0.30,2,     0.33,2,   -999.0,-999.0000, -999,9,   77,  22.8637,  23.7084,   -999.0,9
       SH00-04,  NONE,SH-5934,  2,      3,1-133-84,2,20000511,0216, 30.3080, 132.5448, 3700,    101.3,  22.1388,  34.7182,2,   -999.0,9,  34.7012,4,    211.3,2,  -999.00,9,  -999.00,9,     0.49,2,     0.06,2,     0.08,2, -999.000,9, -999.000,9,  -999.00,9,   -999.0,9,   -999.0,9,-999.0000,9,   -999.0,  9,  -999.00,9,   -999.0,  -999.00,9,  -999.00,9,     0.29,2,     0.26,2,   -999.0,-999.0000, -999,9,  101,  22.1187,  23.9705,   -999.0,9
       SH00-04,  NONE,SH-5934,  2,      2, S-1-1-7,2,20000511,0215, 30.3080, 132.5448, 3700,    127.3,  21.3073,  34.7006,2,   -999.0,9,  34.7528,4,    201.7,2,  -999.00,9,  -999.00,9,     1.76,2,     0.12,2,     0.17,2, -999.000,9, -999.000,9,  -999.00,9,   -999.0,9,   -999.0,9,-999.0000,9,   -999.0,  9,  -999.00,9,   -999.0,  -999.00,9,  -999.00,9,     0.18,2,     0.20,2,   -999.0,-999.0000, -999,9,  126,  21.2828,  24.1889,   -999.0,9
       SH00-04,  NONE,SH-5934,  2,      1, 1-133-1,2,20000511,0214, 30.3080, 132.5448, 3700,    152.7,  20.2211,  34.7748,2,   -999.0,9,  34.7774,2,    213.1,2,  -999.00,9,  -999.00,9,     1.37,2,     0.14,2,     0.13,2, -999.000,9, -999.000,9,  -999.00,9,   -999.0,9,   -999.0,9,-999.0000,9,   -999.0,  9,  -999.00,9,   -999.0,  -999.00,9,  -999.00,9,     0.13,2,     0.16,2,   -999.0,-999.0000, -999,9,  152,  20.1927,  24.5390,   -999.0,9
       SH00-04,  NONE,SH-5934,  2,     12, 1-133-7,2,20000511,0213, 30.3080, 132.5448, 3700,    202.3,  19.2669,  34.8058,2,   -999.0,9,  34.8046,2,    213.8,2,  -999.00,9,  -999.00,9,     2.15,2,     0.03,2,     0.17,2, -999.000,9, -999.000,9,  -999.00,9,   -999.0,9,   -999.0,9,-999.0000,9,   -999.0,  9,  -999.00,9,   -999.0,  -999.00,9,  -999.00,9,     0.02,2,     0.06,2,   -999.0,-999.0000, -999,9,  201,  19.2305,  24.8137,   -999.0,9
       SH00-04,  NONE,SH-5934,  2,     11,S-1-1-10,2,20000511,0211, 30.3080, 132.5448, 3700,    254.2,  18.6182,  34.7987,2,   -999.0,9,  34.7940,2,    198.1,2,  -999.00,9,  -999.00,9,     4.39,2,     0.01,2,     0.31,2, -999.000,9, -999.000,9,  -999.00,9,   -999.0,9,   -999.0,9,-999.0000,9,   -999.0,  9,  -999.00,9,   -999.0,  -999.00,9,  -999.00,9,     0.00,2,     0.02,2,   -999.0,-999.0000, -999,9,  252,  18.5735,  24.9752,   -999.0,9
       SH00-04,  NONE,SH-5934,  2,     10,1-133-94,2,20000511,0210, 30.3080, 132.5448, 3700,    304.2,  17.3743,  34.7739,2,   -999.0,9,  34.7621,4,    186.3,2,  -999.00,9,  -999.00,9,     7.02,2,     0.01,2,     0.49,2, -999.000,9, -999.000,9,  -999.00,9,   -999.0,9,   -999.0,9,-999.0000,9,   -999.0,  9,  -999.00,9,   -999.0,  -999.00,9,  -999.00,9,     0.00,2,     0.01,2,   -999.0,-999.0000, -999,9,  302,  17.3233,  25.2635,   -999.0,9
       SH00-04,  NONE,SH-5934,  2,      9, S-1-1-5,2,20000511,0208, 30.3080, 132.5448, 3700,    405.2,  14.9213,  34.6248,2,   -999.0,9,  34.6188,2,    184.6,2,  -999.00,9,  -999.00,9,    10.92,2,     0.01,2,     0.74,2, -999.000,9, -999.000,9,  -999.00,9,   -999.0,9,   -999.0,9,-999.0000,9,   -999.0,  9,  -999.00,9,   -999.0,  -999.00,9,  -999.00,9,  -999.00,9,  -999.00,9,   -999.0,-999.0000, -999,9,  402,  14.8600,  25.7132,   -999.0,9
       SH00-04,  NONE,SH-5934,  2,      8,1-133-95,2,20000511,0206, 30.3080, 132.5448, 3700,    505.7,  11.8656,  34.4000,2,   -999.0,9,  34.4078,2,    172.3,2,  -999.00,9,  -999.00,9,    17.05,2,     0.01,2,     1.18,2, -999.000,9, -999.000,9,  -999.00,9,   -999.0,9,   -999.0,9,-999.0000,9,   -999.0,  9,  -999.00,9,   -999.0,  -999.00,9,  -999.00,9,  -999.00,9,  -999.00,9,   -999.0,-999.0000, -999,9,  502,  11.7997,  26.1610,   -999.0,9