BOTTLE,20130510GEMDJMAYT
EXPOCODE,SECT_ID,STNNBR,CASTNO,SAMPNO,BTLNBR,BTLNBR_FLAG_W,DATE,TIME,LATITUDE,LONGITUDE,DEPTH,CTDPRS,CTDTMP,CTDSAL,CTDSAL_FLAG_W,CTDOXY,CTDOXY_FLAG_W,SALNTY,SALNTY_FLAG_W,OXYGEN,OXYGEN_FLAG_W,SILCAT,SILCAT_FLAG_W,NITRAT,NITRAT_FLAG_W,NO2+NO3,NO2+NO3_FLAG_W,NITRIT,NITRIT_FLAG_W,PHSPHT,PHSPHT_FLAG_W,CFC-11,CFC-11_FLAG_W,CFC-12,CFC-12_FLAG_W,DELC13,DELC13_FLAG_W,TCARBN,TCARBN_FLAG_W,ALKALI,ALKALI_FLAG_W,PH,PH_FLAG_W,PH_TMP,PH_SCALE,PH_NBS,PH_NBS_FLAG_W,C13ERR,TOTALP,TOTALP_FLAG_W,AMMONI,AMMONI_FLAG_W,CHLORA,CHLORA_FLAG_W,PPHYTN,PPHYTN_FLAG_W,REVPRS,REVTMP,DEPTH_,DEPTH_FLAG,CTDDEP,THETA,SIGTHT,DOC,DOC_FLAG_W
,,,,,,,GMT,GMT,,,METER,DBAR,ITS-90,PSS-78,,UMOL/KG,,PSS-78,,UMOL/KG,,UMOL/KG,,UMOL/KG,,UMOL/KG,,UMOL/KG,,UMOL/KG,,PMOL/KG,,PMOL/KG,,/MILLE,,UMOL/KG,,UMOL/KG,,25_DEG_C,,DEG_C,,,,/MILLE,UMOL/KG,,UMOL/KG,,UG/L,,UG/L,,DBAR,ITS-90,METERS,,METERS,DEG_C,,UMOL/L,
       SH00-04,  NONE,SH-5934,  1,      7, S-1-1-4,2,20000511,0129, 30.2940, 132.5480, 3830,    604.6,   9.0359,  34.2338,2,   -999.0,9,  34.2316,2,    145.2,2,  -999.00,9,  -999.00,9,    24.35,2,     0.01,2,     1.71,2, -999.000,9, -999.000,9,  -999.00,9,   -999.0,9,   -999.0,9,-999.0000,9,   -999.0,  9,  -999.00,9,   -999.0,  -999.00,9,  -999.00,9,  -999.00,9,  -999.00,9,   -999.0,-999.0000, -999,9,  600,   8.9692,  26.5231,   -999.0,9
       SH00-04,  NONE,SH-5934,  1,      6,1-133-93,2,20000511,0127, 30.2940, 132.5480, 3830,    704.4,   7.1174,  34.2251,2,   -999.0,9,  34.2274,2,    110.7,2,  -999.00,9,  -999.00,9,    30.78,2,     0.00,2,     2.16,2, -999.000,9, -999.000,9,  -999.00,9,   -999.0,9,   -999.0,9,-999.0000,9,   -999.0,  9,  -999.00,9,   -999.0,  -999.00,9,  -999.00,9,  -999.00,9,  -999.00,9,   -999.0,-999.0000, -999,9,  698,   7.0492,  26.8016,   -999.0,9
       SH00-04,  NONE,SH-5934,  1,      5,S-1-1-11,2,20000511,0125, 30.2940, 132.5480, 3830,    807.3,   5.2638,  34.2146,2,   -999.0,9,  34.2111,2,     86.0,2,  -999.00,9,  -999.00,9,    36.03,2,     0.00,2,     2.51,2, -999.000,9, -999.000,9,  -999.00,9,   -999.0,9,   -999.0,9,-999.0000,9,   -999.0,  9,  -999.00,9,   -999.0,  -999.00,9,  -999.00,9,  -999.00,9,  -999.00,9,   -999.0,-999.0000, -999,9,  800,   5.1964,  27.0298,   -999.0,9
       SH00-04,  NONE,SH-5934,  1,      4,S-1-1-12,2,20000511,0123, 30.2940, 132.5480, 3830,    907.8,   4.5490,  34.3168,2,   -999.0,9,  34.3131,2,     71.8,2,  -999.00,9,  -999.00,9,    38.26,2,     0.00,2,     2.68,2, -999.000,9, -999.000,9,  -999.00,9,   -999.0,9,   -999.0,9,-999.0000,9,   -999.0,  9,  -999.00,9,   -999.0,  -999.00,9,  -999.00,9,  -999.00,9,  -999.00,9,   -999.0,-999.0000, -999,9,  900,   4.4774,  27.1921,   -999.0,9
       SH00-04,  NONE,SH-5934,  1,      3,1-133-84,2,20000511,0121, 30.2940, 132.5480, 3830,   1011.0,   3.7900,  34.3947,2,   -999.0,9,  34.3927,2,     66.7,2,  -999.00,9,  -999.00,9,    39.62,2,     0.00,2,     2.76,2, -999.000,9, -999.000,9,  -999.00,9,   -999.0,9,   -999.0,9,-999.0000,9,   -999.0,  9,  -999.00,9,   -999.0,  -999.00,9,  -999.00,9,  -999.00,9,  -999.00,9,   -999.0,-999.0000, -999,9, 1002,   3.7153,  27.3336,   -999.0,9
       SH00-04,  NONE,SH-5934,  1,      2, S-1-1-7,2,20000511,0118, 30.2940, 132.5480, 3830,   1211.2,   3.1439,  34.4584,2,   -999.0,9,  34.4585,2,     68.1,2,  -999.00,9,  -999.00,9,    40.39,2,     0.00,2,     2.79,2, -999.000,9, -999.000,9,  -999.00,9,   -999.0,9,   -999.0,9,-999.0000,9,   -999.0,  9,  -999.00,9,   -999.0,  -999.00,9,  -999.00,9,  -999.00,9,  -999.00,9,   -999.0,-999.0000, -999,9, 1199,   3.0584,  27.4474,   -999.0,9
       SH00-04,  NONE,SH-5934,  1,      1, 1-133-1,2,20000511,0114, 30.2940, 132.5480, 3830,   1515.3,   2.5486,  34.5260,2,   -999.0,9,  34.5232,2,     79.4,2,  -999.00,9,  -999.00,9,    40.19,2,     0.01,2,     2.75,2, -999.000,9, -999.000,9,  -999.00,9,   -999.0,9,   -999.0,9,-999.0000,9,   -999.0,  9,  -999.00,9,   -999.0,  -999.00,9,  -999.00,9,  -999.00,9,  -999.00,9,   -999.0,-999.0000, -999,9, 1499,   2.4449,  27.5555,   -999.0,9
       SH00-04,  NONE,SH-5934,  1,     12, 1-133-7,2,20000511,0107, 30.2940, 132.5480, 3830,   2023.6,   2.0138,  34.6078,2,   -999.0,9,  34.6027,2,   -999.0,9,  -999.00,9,  -999.00,9,  -999.00,9,  -999.00,9,  -999.00,9, -999.000,9, -999.000,9,  -999.00,9,   -999.0,9,   -999.0,9,-999.0000,9,   -999.0,  9,  -999.00,9,   -999.0,  -999.00,9,  -999.00,9,  -999.00,9,  -999.00,9,   -999.0,-999.0000, -999,9, 2000,   1.8753,  27.6672,   -999.0,9
       SH00-04,  NONE,SH-5934,  1,     11,S-1-1-10,4,20000511,0100, 30.2940, 132.5480, 3830,   2534.4,   1.7308,  34.6534,2,   -999.0,9,  34.6457,2,   -999.0,9,  -999.00,9,  -999.00,9,  -999.00,9,  -999.00,9,  -999.00,9, -999.000,9, -999.000,9,  -999.00,9,   -999.0,9,   -999.0,9,-999.0000,9,   -999.0,  9,  -999.00,9,   -999.0,  -999.00,9,  -999.00,9,  -999.00,9,  -999.00,9,   -999.0,-999.0000, -999,9, 2502,   1.5525,  27.7282,   -999.0,9
       SH00-04,  NONE,SH-5934,  1,     -9,      -9,4,20000511,0053, 30.2940, 132.5480, 3830,   3042.1,   1.5691,  34.6780,2,   -999.0,9,-999.0000,9,   -999.0,9,  -999.00,9,  -999.00,9,  -999.00,9,  -999.00,9,  -999.00,9, -999.000,9, -999.000,9,  -999.00,9,   -999.0,9,   -999.0,9,-999.0000,9,   -999.0,  9,  -999.00,9,   -999.0,  -999.00,9,  -999.00,9,  -999.00,9,  -999.00,9,   -999.0,-999.0000, -999,9, 3000,   1.3467,  27.7628,   -999.0,9
       SH00-04,  NONE,SH-5934,  1,     10,1-133-94,2,20000511,0046, 30.2940, 132.5480, 3830,   3555.0,   1.5236,  34.6898,2,   -999.0,9,  34.6792,2,   -999.0,9,  -999.00,9,  -999.00,9,  -999.00,9,  -999.00,9,  -999.00,9, -999.000,9, -999.000,9,  -999.00,9,   -999.0,9,   -999.0,9,-999.0000,9,   -999.0,  9,  -999.00,9,   -999.0,  -999.00,9,  -999.00,9,  -999.00,9,  -999.00,9,   -999.0,-999.0000, -999,9, 3501,   1.2511,  27.7790,   -999.0,9
       SH00-04,  NONE,SH-5934,  1,      9, S-1-1-5,2,20000511,0042, 30.2940, 132.5480, 3830,   3763.4,   1.5407,  34.6913,2,   -999.0,9,  34.6778,4,   -999.0,9,  -999.00,9,  -999.00,9,  -999.00,9,  -999.00,9,  -999.00,9, -999.000,9, -999.000,9,  -999.00,9,   -999.0,9,   -999.0,9,-999.0000,9,   -999.0,  9,  -999.00,9,   -999.0,  -999.00,9,  -999.00,9,  -999.00,9,  -999.00,9,   -999.0,-999.0000, -999,9, 3705,   1.2460,  27.7806,   -999.0,9
       SH00-04,  NONE,SH-5935,  2,     -9,      -9,5,20000511,0654, 29.9210, 132.9662, 3860,      0.0,  24.2777,  34.6295,2,   -999.0,9,-999.0000,9,    213.2,2,  -999.00,9,  -999.00,9,     0.20,2,     0.00,2,     0.04,2, -999.000,9, -999.000,9,  -999.00,9,   -999.0,9,   -999.0,9,-999.0000,9,   -999.0,  9,  -999.00,9,   -999.0,  -999.00,9,  -999.00,9,     0.07,2,     0.04,2,   -999.0,-999.0000, -999,9,    0,  24.2777,  23.2785,   -999.0,9
       SH00-04,  NONE,SH-5935,  2,      2, S-1-1-7,2,20000511,0653, 29.9210, 132.9662, 3860,     12.7,  24.0652,  34.6266,2,   -999.0,9,-999.0000,9,    212.9,2,  -999.00,9,  -999.00,9,     0.20,2,     0.00,2,     0.05,2, -999.000,9, -999.000,9,  -999.00,9,   -999.0,9,   -999.0,9,-999.0000,9,   -999.0,  9,  -999.00,9,   -999.0,  -999.00,9,  -999.00,9,     0.07,2,     0.03,2,   -999.0,-999.0000, -999,9,   13,  24.0626,  23.3402,   -999.0,9
       SH00-04,  NONE,SH-5935,  2,      1, 1-133-1,2,20000511,0652, 29.9210, 132.9662, 3860,     27.1,  23.9620,  34.6264,2,   -999.0,9,-999.0000,9,    212.7,2,  -999.00,9,  -999.00,9,     0.20,2,     0.00,2,     0.04,2, -999.000,9, -999.000,9,  -999.00,9,   -999.0,9,   -999.0,9,-999.0000,9,   -999.0,  9,  -999.00,9,   -999.0,  -999.00,9,  -999.00,9,     0.08,2,     0.04,2,   -999.0,-999.0000, -999,9,   27,  23.9564,  23.3714,   -999.0,9
       SH00-04,  NONE,SH-5935,  2,     12, 1-133-7,2,20000511,0651, 29.9210, 132.9662, 3860,     52.3,  22.2214,  34.6926,2,   -999.0,9,-999.0000,9,    219.7,2,  -999.00,9,  -999.00,9,     0.00,2,     0.00,2,     0.03,2, -999.000,9, -999.000,9,  -999.00,9,   -999.0,9,   -999.0,9,-999.0000,9,   -999.0,  9,  -999.00,9,   -999.0,  -999.00,9,  -999.00,9,     0.36,2,     0.27,2,   -999.0,-999.0000, -999,9,   52,  22.2110,  23.9250,   -999.0,9
       SH00-04,  NONE,SH-5935,  2,     11,S-1-1-10,2,20000511,0650, 29.9210, 132.9662, 3860,     77.7,  20.8582,  34.8098,2,   -999.0,9,-999.0000,9,    227.5,2,  -999.00,9,  -999.00,9,     0.00,2,     0.00,2,     0.01,2, -999.000,9, -999.000,9,  -999.00,9,   -999.0,9,   -999.0,9,-999.0000,9,   -999.0,  9,  -999.00,9,   -999.0,  -999.00,9,  -999.00,9,     0.23,2,     0.17,2,   -999.0,-999.0000, -999,9,   77,  20.8435,  24.3915,   -999.0,9
       SH00-04,  NONE,SH-5935,  2,     10,1-133-94,2,20000511,0649, 29.9210, 132.9662, 3860,    103.1,  19.8825,  34.8087,2,   -999.0,9,-999.0000,9,    230.9,2,  -999.00,9,  -999.00,9,     0.20,2,     0.00,2,     0.01,2, -999.000,9, -999.000,9,  -999.00,9,   -999.0,9,   -999.0,9,-999.0000,9,   -999.0,  9,  -999.00,9,   -999.0,  -999.00,9,  -999.00,9,     0.17,2,     0.14,2,   -999.0,-999.0000, -999,9,  102,  19.8635,  24.6517,   -999.0,9
       SH00-04,  NONE,SH-5935,  2,      9, S-1-1-5,2,20000511,0648, 29.9210, 132.9662, 3860,    127.3,  19.3079,  34.8175,2,   -999.0,9,  34.8199,2,    230.2,2,  -999.00,9,  -999.00,9,     0.29,2,     0.02,2,     0.04,2, -999.000,9, -999.000,9,  -999.00,9,   -999.0,9,   -999.0,9,-999.0000,9,   -999.0,  9,  -999.00,9,   -999.0,  -999.00,9,  -999.00,9,     0.19,2,     0.30,2,   -999.0,-999.0000, -999,9,  126,  19.2850,  24.8087,   -999.0,9
       SH00-04,  NONE,SH-5935,  2,      8,1-133-95,2,20000511,0647, 29.9210, 132.9662, 3860,    152.2,  18.9983,  34.8202,2,   -999.0,9,  34.8258,2,    222.2,2,  -999.00,9,  -999.00,9,     1.37,2,     0.06,2,     0.09,2, -999.000,9, -999.000,9,  -999.00,9,   -999.0,9,   -999.0,9,-999.0000,9,   -999.0,  9,  -999.00,9,   -999.0,  -999.00,9,  -999.00,9,     0.14,2,     0.23,2,   -999.0,-999.0000, -999,9,  151,  18.9712,  24.8911,   -999.0,9
       SH00-04,  NONE,SH-5935,  2,      7, S-1-1-4,2,20000511,0646, 29.9210, 132.9662, 3860,    204.0,  18.7824,  34.8154,2,   -999.0,9,  34.8168,2,    219.5,2,  -999.00,9,  -999.00,9,     1.85,2,     0.02,2,     0.13,2, -999.000,9, -999.000,9,  -999.00,9,   -999.0,9,   -999.0,9,-999.0000,9,   -999.0,  9,  -999.00,9,   -999.0,  -999.00,9,  -999.00,9,     0.02,2,     0.04,2,   -999.0,-999.0000, -999,9,  202,  18.7463,  24.9444,   -999.0,9
       SH00-04,  NONE,SH-5935,  2,      6,1-133-93,2,20000511,0645, 29.9210, 132.9662, 3860,    252.7,  17.6603,  34.7813,2,   -999.0,9,-999.0000,9,    196.3,2,  -999.00,9,  -999.00,9,     5.46,2,     0.01,2,     0.36,2, -999.000,9, -999.000,9,  -999.00,9,   -999.0,9,   -999.0,9,-999.0000,9,   -999.0,  9,  -999.00,9,   -999.0,  -999.00,9,  -999.00,9,     0.00,2,     0.01,2,   -999.0,-999.0000, -999,9,  251,  17.6175,  25.1981,   -999.0,9
       SH00-04,  NONE,SH-5935,  2,      5,S-1-1-11,2,20000511,0643, 29.9210, 132.9662, 3860,    303.3,  16.7694,  34.7450,2,   -999.0,9,-999.0000,9,    189.4,2,  -999.00,9,  -999.00,9,     7.31,2,     0.02,2,     0.47,2, -999.000,9, -999.000,9,  -999.00,9,   -999.0,9,   -999.0,9,-999.0000,9,   -999.0,  9,  -999.00,9,   -999.0,  -999.00,9,  -999.00,9,     0.00,2,     0.01,2,   -999.0,-999.0000, -999,9,  301,  16.7198,  25.3847,   -999.0,9
       SH00-04,  NONE,SH-5935,  1,      4,S-1-1-12,2,20000511,0619, 29.9348, 132.9598, 3850,    402.5,  15.0361,  34.6320,2,   -999.0,9,-999.0000,9,    190.8,2,  -999.00,9,  -999.00,9,    10.24,2,     0.01,2,     0.66,2, -999.000,9, -999.000,9,  -999.00,9,   -999.0,9,   -999.0,9,-999.0000,9,   -999.0,  9,  -999.00,9,   -999.0,  -999.00,9,  -999.00,9,  -999.00,9,  -999.00,9,   -999.0,-999.0000, -999,9,  399,  14.9749,  25.6937,   -999.0,9
       SH00-04,  NONE,SH-5935,  1,      3,1-133-84,2,20000511,0616, 29.9348, 132.9598, 3850,    503.7,  11.8792,  34.3955,2,   -999.0,9,-999.0000,9,    177.7,2,  -999.00,9,  -999.00,9,    16.86,2,     0.03,2,     1.13,2, -999.000,9, -999.000,9,  -999.00,9,   -999.0,9,   -999.0,9,-999.0000,9,   -999.0,  9,  -999.00,9,   -999.0,  -999.00,9,  -999.00,9,  -999.00,9,  -999.00,9,   -999.0,-999.0000, -999,9,  500,  11.8135,  26.1549,   -999.0,9
       SH00-04,  NONE,SH-5935,  1,      2, S-1-1-7,2,20000511,0614, 29.9348, 132.9598, 3850,    604.7,   9.5875,  34.2680,2,   -999.0,9,-999.0000,9,    154.0,2,  -999.00,9,  -999.00,9,    16.76,4,     0.01,4,     1.12,4, -999.000,9, -999.000,9,  -999.00,9,   -999.0,9,   -999.0,9,-999.0000,9,   -999.0,  9,  -999.00,9,   -999.0,  -999.00,9,  -999.00,9,  -999.00,9,  -999.00,9,   -999.0,-999.0000, -999,9,  600,   9.5183,  26.4609,   -999.0,9
       SH00-04,  NONE,SH-5935,  1,      1, 1-133-1,2,20000511,0613, 29.9348, 132.9598, 3850,    706.2,   7.3228,  34.2342,2,   -999.0,9,-999.0000,9,    117.2,2,  -999.00,9,  -999.00,9,    16.65,4,     0.02,4,     1.12,4, -999.000,9, -999.000,9,  -999.00,9,   -999.0,9,   -999.0,9,-999.0000,9,   -999.0,  9,  -999.00,9,   -999.0,  -999.00,9,  -999.00,9,  -999.00,9,  -999.00,9,   -999.0,-999.0000, -999,9,  700,   7.2534,  26.7803,   -999.0,9
       SH00-04,  NONE,SH-5935,  1,     12, 1-133-7,2,20000511,0611, 29.9348, 132.9598, 3850,    806.9,   5.9923,  34.2363,2,   -999.0,9,-999.0000,9,     96.9,2,  -999.00,9,  -999.00,9,    33.89,2,     0.01,2,     2.36,2, -999.000,9, -999.000,9,  -999.00,9,   -999.0,9,   -999.0,9,-999.0000,9,   -999.0,  9,  -999.00,9,   -999.0,  -999.00,9,  -999.00,9,  -999.00,9,  -999.00,9,   -999.0,-999.0000, -999,9,  800,   5.9205,  26.9592,   -999.0,9
       SH00-04,  NONE,SH-5935,  1,     11,S-1-1-10,2,20000511,0609, 29.9348, 132.9598, 3850,    907.3,   4.8933,  34.2557,2,   -999.0,9,-999.0000,9,     77.5,2,  -999.00,9,  -999.00,9,    37.29,2,     0.01,2,     2.61,2, -999.000,9, -999.000,9,  -999.00,9,   -999.0,9,   -999.0,9,-999.0000,9,   -999.0,  9,  -999.00,9,   -999.0,  -999.00,9,  -999.00,9,  -999.00,9,  -999.00,9,   -999.0,-999.0000, -999,9,  899,   4.8194,  27.1057,   -999.0,9
       SH00-04,  NONE,SH-5935,  1,     10,1-133-94,2,20000511,0607, 29.9348, 132.9598, 3850,   1010.3,   4.2360,  34.3354,2,   -999.0,9,-999.0000,9,     71.5,2,  -999.00,9,  -999.00,9,    38.94,2,     0.01,2,     2.70,2, -999.000,9, -999.000,9,  -999.00,9,   -999.0,9,   -999.0,9,-999.0000,9,   -999.0,  9,  -999.00,9,   -999.0,  -999.00,9,  -999.00,9,  -999.00,9,  -999.00,9,   -999.0,-999.0000, -999,9, 1001,   4.1580,  27.2411,   -999.0,9
       SH00-04,  NONE,SH-5935,  1,      9, S-1-1-5,2,20000511,0605, 29.9348, 132.9598, 3850,   1212.1,   3.4571,  34.4281,2,   -999.0,9,-999.0000,9,     68.4,2,  -999.00,9,  -999.00,9,    40.20,2,     0.02,2,     2.77,2, -999.000,9, -999.000,9,  -999.00,9,   -999.0,9,   -999.0,9,-999.0000,9,   -999.0,  9,  -999.00,9,   -999.0,  -999.00,9,  -999.00,9,  -999.00,9,  -999.00,9,   -999.0,-999.0000, -999,9, 1200,   3.3687,  27.3941,   -999.0,9
       SH00-04,  NONE,SH-5936,  2,     12, 1-133-7,2,20000511,1238, 29.5028, 133.5187, 2700,      1.0,  23.5128,  34.5993,2,   -999.0,9,  34.6048,2,    215.9,2,  -999.00,9,  -999.00,9,     0.10,2,     0.00,2,     0.04,2, -999.000,9, -999.000,9,  -999.00,9,   -999.0,9,   -999.0,9,-999.0000,9,   -999.0,  9,     8.20,2,   -999.0,  -999.00,9,  -999.00,9,     0.09,2,     0.03,2,   -999.0,-999.0000, -999,9,    1,  23.5126,  23.4812,   -999.0,9
       SH00-04,  NONE,SH-5936,  2,     11,S-1-1-10,2,20000511,1237, 29.5028, 133.5187, 2700,     12.1,  23.4885,  34.6085,2,   -999.0,9,  34.7717,2,    227.3,2,  -999.00,9,  -999.00,9,     0.10,2,     0.00,2,     0.02,2, -999.000,9, -999.000,9,  -999.00,9,   -999.0,9,   -999.0,9,-999.0000,9,   -999.0,  9,     8.18,2,   -999.0,  -999.00,9,  -999.00,9,     0.10,2,     0.05,2,   -999.0,-999.0000, -999,9,   12,  23.4860,  23.4959,   -999.0,9
       SH00-04,  NONE,SH-5936,  2,     10,1-133-94,2,20000511,1236, 29.5028, 133.5187, 2700,     27.0,  21.3751,  34.7724,2,   -999.0,9,  34.8101,2,    228.2,2,  -999.00,9,  -999.00,9,     0.20,2,     0.01,2,     0.02,2, -999.000,9, -999.000,9,  -999.00,9,   -999.0,9,   -999.0,9,-999.0000,9,   -999.0,  9,     8.16,2,   -999.0,  -999.00,9,  -999.00,9,     0.23,2,     0.21,2,   -999.0,-999.0000, -999,9,   27,  21.3699,  24.2196,   -999.0,9
       SH00-04,  NONE,SH-5936,  2,      9, S-1-1-5,2,20000511,1235, 29.5028, 133.5187, 2700,     53.0,  20.2086,  34.8087,2,   -999.0,9,  34.8438,4,    206.9,2,  -999.00,9,  -999.00,9,     2.24,2,     0.04,2,     0.17,2, -999.000,9, -999.000,9,  -999.00,9,   -999.0,9,   -999.0,9,-999.0000,9,   -999.0,  9,     8.13,2,   -999.0,  -999.00,9,  -999.00,9,     0.02,2,     0.03,2,   -999.0,-999.0000, -999,9,   53,  20.1987,  24.5633,   -999.0,9
       SH00-04,  NONE,SH-5936,  2,      8,1-133-95,4,20000511,1235, 29.5028, 133.5187, 2700,     76.2,  19.6703,  34.8067,2,   -999.0,9,  34.8089,2,    205.0,4,  -999.00,9,  -999.00,9,     2.44,4,     0.04,4,     0.19,4, -999.000,9, -999.000,9,  -999.00,9,   -999.0,9,   -999.0,9,-999.0000,9,   -999.0,  9,     8.12,4,   -999.0,  -999.00,9,  -999.00,9,     0.06,4,     0.10,4,   -999.0,-999.0000, -999,9,   76,  19.6564,  24.7043,   -999.0,9
       SH00-04,  NONE,SH-5936,  2,      7, S-1-1-4,2,20000511,1234, 29.5028, 133.5187, 2700,    101.0,  19.4746,  34.8184,2,   -999.0,9,  34.8087,2,    208.5,2,  -999.00,9,  -999.00,9,     2.34,2,     0.07,2,     0.18,2, -999.000,9, -999.000,9,  -999.00,9,   -999.0,9,   -999.0,9,-999.0000,9,   -999.0,  9,     8.13,2,   -999.0,  -999.00,9,  -999.00,9,     0.09,2,     0.12,2,   -999.0,-999.0000, -999,9,  100,  19.4563,  24.7652,   -999.0,9
       SH00-04,  NONE,SH-5936,  2,      6,1-133-93,2,20000511,1233, 29.5028, 133.5187, 2700,    128.1,  19.2448,  34.8241,2,   -999.0,9,  34.8192,2,    221.8,2,  -999.00,9,  -999.00,9,     1.07,2,     0.04,2,     0.10,2, -999.000,9, -999.000,9,  -999.00,9,   -999.0,9,   -999.0,9,-999.0000,9,   -999.0,  9,     8.15,2,   -999.0,  -999.00,9,  -999.00,9,     0.12,2,     0.15,2,   -999.0,-999.0000, -999,9,  127,  19.2218,  24.8299,   -999.0,9
       SH00-04,  NONE,SH-5936,  2,      5,S-1-1-11,2,20000511,1232, 29.5028, 133.5187, 2700,    153.7,  19.0521,  34.8148,2,   -999.0,9,  34.8156,2,    221.3,2,  -999.00,9,  -999.00,9,     1.27,2,     0.02,2,     0.10,2, -999.000,9, -999.000,9,  -999.00,9,   -999.0,9,   -999.0,9,-999.0000,9,   -999.0,  9,     8.14,2,   -999.0,  -999.00,9,  -999.00,9,     0.07,2,     0.07,2,   -999.0,-999.0000, -999,9,  153,  19.0246,  24.8733,   -999.0,9
       SH00-04,  NONE,SH-5936,  2,      4,S-1-1-12,2,20000511,1231, 29.5028, 133.5187, 2700,    204.1,  18.7402,  34.8083,2,   -999.0,9,  34.8111,2,    214.6,2,  -999.00,9,  -999.00,9,     2.24,2,     0.02,2,     0.18,2, -999.000,9, -999.000,9,  -999.00,9,   -999.0,9,   -999.0,9,-999.0000,9,   -999.0,  9,     8.13,2,   -999.0,  -999.00,9,  -999.00,9,     0.01,2,     0.02,2,   -999.0,-999.0000, -999,9,  203,  18.7042,  24.9497,   -999.0,9
       SH00-04,  NONE,SH-5936,  2,      3,1-133-84,2,20000511,1229, 29.5028, 133.5187, 2700,    253.6,  18.1023,  34.7978,2,   -999.0,9,  34.8036,2,    195.0,2,  -999.00,9,  -999.00,9,     5.07,2,     0.01,2,     0.34,2, -999.000,9, -999.000,9,  -999.00,9,   -999.0,9,   -999.0,9,-999.0000,9,   -999.0,  9,     8.08,2,   -999.0,  -999.00,9,  -999.00,9,     0.00,2,     0.01,2,   -999.0,-999.0000, -999,9,  252,  18.0586,  25.1027,   -999.0,9
       SH00-04,  NONE,SH-5936,  2,      2, S-1-1-7,2,20000511,1228, 29.5028, 133.5187, 2700,    304.1,  17.0784,  34.7652,2,   -999.0,9,  34.7691,2,    191.6,2,  -999.00,9,  -999.00,9,     6.83,2,     0.01,2,     0.48,2, -999.000,9, -999.000,9,  -999.00,9,   -999.0,9,   -999.0,9,-999.0000,9,   -999.0,  9,     8.05,2,   -999.0,  -999.00,9,  -999.00,9,     0.00,2,     0.01,2,   -999.0,-999.0000, -999,9,  302,  17.0280,  25.3274,   -999.0,9