BOTTLE,20130510GEMDJMAYT
EXPOCODE,SECT_ID,STNNBR,CASTNO,SAMPNO,BTLNBR,BTLNBR_FLAG_W,DATE,TIME,LATITUDE,LONGITUDE,DEPTH,CTDPRS,CTDTMP,CTDSAL,CTDSAL_FLAG_W,CTDOXY,CTDOXY_FLAG_W,SALNTY,SALNTY_FLAG_W,OXYGEN,OXYGEN_FLAG_W,SILCAT,SILCAT_FLAG_W,NITRAT,NITRAT_FLAG_W,NO2+NO3,NO2+NO3_FLAG_W,NITRIT,NITRIT_FLAG_W,PHSPHT,PHSPHT_FLAG_W,CFC-11,CFC-11_FLAG_W,CFC-12,CFC-12_FLAG_W,DELC13,DELC13_FLAG_W,TCARBN,TCARBN_FLAG_W,ALKALI,ALKALI_FLAG_W,PH,PH_FLAG_W,PH_TMP,PH_SCALE,PH_NBS,PH_NBS_FLAG_W,C13ERR,TOTALP,TOTALP_FLAG_W,AMMONI,AMMONI_FLAG_W,CHLORA,CHLORA_FLAG_W,PPHYTN,PPHYTN_FLAG_W,REVPRS,REVTMP,DEPTH_,DEPTH_FLAG,CTDDEP,THETA,SIGTHT,DOC,DOC_FLAG_W
,,,,,,,GMT,GMT,,,METER,DBAR,ITS-90,PSS-78,,UMOL/KG,,PSS-78,,UMOL/KG,,UMOL/KG,,UMOL/KG,,UMOL/KG,,UMOL/KG,,UMOL/KG,,PMOL/KG,,PMOL/KG,,/MILLE,,UMOL/KG,,UMOL/KG,,25_DEG_C,,DEG_C,,,,/MILLE,UMOL/KG,,UMOL/KG,,UG/L,,UG/L,,DBAR,ITS-90,METERS,,METERS,DEG_C,,UMOL/L,
       SH00-04,  NONE,SH-5928,  2,     -9,      -9,5,20000509,0056, 31.4968, 135.2355, 3420,      0.0,  21.0845,  34.7495,2,   -999.0,9,-999.0000,9,    230.1,2,  -999.00,9,  -999.00,9,     0.00,2,     0.00,2,     0.02,2, -999.000,9, -999.000,9,  -999.00,9,   -999.0,9,   -999.0,9,-999.0000,9,   -999.0,  9,  -999.00,9,   -999.0,  -999.00,9,  -999.00,9,     0.07,2,     0.03,2,   -999.0,-999.0000, -999,9,    0,  21.0845,  24.2802,   -999.0,9
       SH00-04,  NONE,SH-5928,  2,      7, S-1-1-4,2,20000509,0055, 31.4968, 135.2355, 3420,     11.5,  20.9104,  34.7409,2,   -999.0,9,  34.7404,2,    229.7,2,  -999.00,9,  -999.00,9,     0.10,2,     0.01,2,     0.02,2, -999.000,9, -999.000,9,  -999.00,9,   -999.0,9,   -999.0,9,-999.0000,9,   -999.0,  9,  -999.00,9,   -999.0,  -999.00,9,  -999.00,9,     0.08,2,     0.03,2,   -999.0,-999.0000, -999,9,   11,  20.9082,  24.3215,   -999.0,9
       SH00-04,  NONE,SH-5928,  2,      6,1-133-93,2,20000509,0054, 31.4968, 135.2355, 3420,     27.6,  20.4331,  34.7013,2,   -999.0,9,  34.7048,2,    231.6,2,  -999.00,9,  -999.00,9,     0.10,2,     0.00,2,     0.01,2, -999.000,9, -999.000,9,  -999.00,9,   -999.0,9,   -999.0,9,-999.0000,9,   -999.0,  9,  -999.00,9,   -999.0,  -999.00,9,  -999.00,9,     0.01,2,     0.00,2,   -999.0,-999.0000, -999,9,   27,  20.4280,  24.4205,   -999.0,9
       SH00-04,  NONE,SH-5928,  2,      5,S-1-1-11,2,20000509,0053, 31.4968, 135.2355, 3420,     51.6,  20.0262,  34.7352,2,   -999.0,9,  34.7331,2,    233.6,2,  -999.00,9,  -999.00,9,     0.10,2,     0.00,2,     0.07,2, -999.000,9, -999.000,9,  -999.00,9,   -999.0,9,   -999.0,9,-999.0000,9,   -999.0,  9,  -999.00,9,   -999.0,  -999.00,9,  -999.00,9,     0.12,2,     0.06,2,   -999.0,-999.0000, -999,9,   51,  20.0167,  24.5554,   -999.0,9
       SH00-04,  NONE,SH-5928,  2,      4,S-1-1-12,2,20000509,0052, 31.4968, 135.2355, 3420,     77.4,  19.5377,  34.7755,2,   -999.0,9,  34.7772,2,    226.9,2,  -999.00,9,  -999.00,9,     0.29,2,     0.07,2,     0.04,2, -999.000,9, -999.000,9,  -999.00,9,   -999.0,9,   -999.0,9,-999.0000,9,   -999.0,  9,  -999.00,9,   -999.0,  -999.00,9,  -999.00,9,     0.47,2,     0.58,2,   -999.0,-999.0000, -999,9,   77,  19.5237,  24.7149,   -999.0,9
       SH00-04,  NONE,SH-5928,  2,      3,1-133-84,2,20000509,0051, 31.4968, 135.2355, 3420,    101.9,  19.2650,  34.7929,2,   -999.0,9,  34.7904,2,    220.3,2,  -999.00,9,  -999.00,9,     1.37,2,     0.09,2,     0.11,2, -999.000,9, -999.000,9,  -999.00,9,   -999.0,9,   -999.0,9,-999.0000,9,   -999.0,  9,  -999.00,9,   -999.0,  -999.00,9,  -999.00,9,     0.21,2,     0.21,2,   -999.0,-999.0000, -999,9,  101,  19.2467,  24.7997,   -999.0,9
       SH00-04,  NONE,SH-5928,  2,      2, S-1-1-7,2,20000509,0050, 31.4968, 135.2355, 3420,    127.5,  19.1318,  34.7980,2,   -999.0,9,  34.7977,2,    219.2,2,  -999.00,9,  -999.00,9,     1.56,2,     0.03,2,     0.11,2, -999.000,9, -999.000,9,  -999.00,9,   -999.0,9,   -999.0,9,-999.0000,9,   -999.0,  9,  -999.00,9,   -999.0,  -999.00,9,  -999.00,9,     0.05,2,     0.06,2,   -999.0,-999.0000, -999,9,  127,  19.1090,  24.8389,   -999.0,9
       SH00-04,  NONE,SH-5928,  2,      1, 1-133-1,2,20000509,0049, 31.4968, 135.2355, 3420,    153.6,  19.0172,  34.8027,2,   -999.0,9,  34.8022,2,    220.9,2,  -999.00,9,  -999.00,9,     1.37,2,     0.02,2,     0.12,2, -999.000,9, -999.000,9,  -999.00,9,   -999.0,9,   -999.0,9,-999.0000,9,   -999.0,  9,  -999.00,9,   -999.0,  -999.00,9,  -999.00,9,     0.02,2,     0.03,2,   -999.0,-999.0000, -999,9,  152,  18.9899,  24.8729,   -999.0,9
       SH00-04,  NONE,SH-5928,  2,     12, 1-133-7,2,20000509,0048, 31.4968, 135.2355, 3420,    203.6,  18.9169,  34.8188,2,   -999.0,9,  34.8184,2,    223.0,2,  -999.00,9,  -999.00,9,     1.27,2,     0.02,2,     0.11,2, -999.000,9, -999.000,9,  -999.00,9,   -999.0,9,   -999.0,9,-999.0000,9,   -999.0,  9,  -999.00,9,   -999.0,  -999.00,9,  -999.00,9,     0.00,2,     0.03,2,   -999.0,-999.0000, -999,9,  202,  18.8807,  24.9130,   -999.0,9
       SH00-04,  NONE,SH-5928,  2,     11,S-1-1-10,2,20000509,0046, 31.4968, 135.2355, 3420,    253.9,  18.7942,  34.8120,2,   -999.0,9,  34.8123,2,    218.8,2,  -999.00,9,  -999.00,9,     1.85,2,     0.02,2,     0.14,2, -999.000,9, -999.000,9,  -999.00,9,   -999.0,9,   -999.0,9,-999.0000,9,   -999.0,  9,  -999.00,9,   -999.0,  -999.00,9,  -999.00,9,     0.00,2,     0.01,2,   -999.0,-999.0000, -999,9,  252,  18.7492,  24.9411,   -999.0,9
       SH00-04,  NONE,SH-5928,  2,     10,1-133-94,2,20000509,0045, 31.4968, 135.2355, 3420,    305.1,  18.5491,  34.8006,2,   -999.0,9,  34.8014,2,    210.2,2,  -999.00,9,  -999.00,9,     2.93,2,     0.01,2,     0.20,2, -999.000,9, -999.000,9,  -999.00,9,   -999.0,9,   -999.0,9,-999.0000,9,   -999.0,  9,  -999.00,9,   -999.0,  -999.00,9,  -999.00,9,     0.00,2,     0.02,2,   -999.0,-999.0000, -999,9,  303,  18.4955,  24.9963,   -999.0,9
       SH00-04,  NONE,SH-5928,  1,      9, S-1-1-5,2,20000508,2342, 31.4995, 135.2438, 3400,    401.3,  16.8774,  34.7544,2,   -999.0,9,  34.7534,2,    193.0,2,  -999.00,9,  -999.00,9,     6.92,2,     0.01,2,     0.46,2, -999.000,9, -999.000,9,  -999.00,9,   -999.0,9,   -999.0,9,-999.0000,9,   -999.0,  9,  -999.00,9,   -999.0,  -999.00,9,  -999.00,9,  -999.00,9,  -999.00,9,   -999.0,-999.0000, -999,9,  398,  16.8112,  25.3704,   -999.0,9
       SH00-04,  NONE,SH-5928,  1,      8,1-133-95,2,20000508,2340, 31.4995, 135.2438, 3400,    503.1,  14.9310,  34.6226,2,   -999.0,9,  34.6219,2,     50.1,4,  -999.00,9,  -999.00,9,    10.72,2,     0.01,2,     0.71,2, -999.000,9, -999.000,9,  -999.00,9,   -999.0,9,   -999.0,9,-999.0000,9,   -999.0,  9,  -999.00,9,   -999.0,  -999.00,9,  -999.00,9,  -999.00,9,  -999.00,9,   -999.0,-999.0000, -999,9,  499,  14.8545,  25.7127,   -999.0,9
       SH00-04,  NONE,SH-5928,  1,      7, S-1-1-4,2,20000508,2338, 31.4995, 135.2438, 3400,    603.7,  12.3516,  34.4364,2,   -999.0,9,  34.4335,2,    173.6,2,  -999.00,9,  -999.00,9,    15.79,2,     0.01,2,     1.10,2, -999.000,9, -999.000,9,  -999.00,9,   -999.0,9,   -999.0,9,-999.0000,9,   -999.0,  9,  -999.00,9,   -999.0,  -999.00,9,  -999.00,9,  -999.00,9,  -999.00,9,   -999.0,-999.0000, -999,9,  599,  12.2705,  26.0996,   -999.0,9
       SH00-04,  NONE,SH-5928,  1,      6,1-133-93,2,20000508,2336, 31.4995, 135.2438, 3400,    705.3,   9.9857,  34.2774,2,   -999.0,9,  34.2911,4,    158.1,2,  -999.00,9,  -999.00,9,    21.43,2,     0.01,2,     1.48,2, -999.000,9, -999.000,9,  -999.00,9,   -999.0,9,   -999.0,9,-999.0000,9,   -999.0,  9,  -999.00,9,   -999.0,  -999.00,9,  -999.00,9,  -999.00,9,  -999.00,9,   -999.0,-999.0000, -999,9,  699,   9.9026,  26.4042,   -999.0,9
       SH00-04,  NONE,SH-5928,  1,      5,S-1-1-11,2,20000508,2334, 31.4995, 135.2438, 3400,    807.3,   7.5452,  34.2134,2,   -999.0,9,  34.2153,2,    127.1,2,  -999.00,9,  -999.00,9,    28.73,2,     0.01,2,     2.05,2, -999.000,9, -999.000,9,  -999.00,9,   -999.0,9,   -999.0,9,-999.0000,9,   -999.0,  9,  -999.00,9,   -999.0,  -999.00,9,  -999.00,9,  -999.00,9,  -999.00,9,   -999.0,-999.0000, -999,9,  800,   7.4639,  26.7341,   -999.0,9
       SH00-04,  NONE,SH-5928,  1,      4,S-1-1-12,2,20000508,2332, 31.4995, 135.2438, 3400,    907.2,   5.8345,  34.2173,2,   -999.0,9,  34.2261,2,     96.2,2,  -999.00,9,  -999.00,9,    33.89,2,     0.01,2,     2.39,2, -999.000,9, -999.000,9,  -999.00,9,   -999.0,9,   -999.0,9,-999.0000,9,   -999.0,  9,  -999.00,9,   -999.0,  -999.00,9,  -999.00,9,  -999.00,9,  -999.00,9,   -999.0,-999.0000, -999,9,  899,   5.7542,  26.9648,   -999.0,9
       SH00-04,  NONE,SH-5928,  1,      3,1-133-84,2,20000508,2330, 31.4995, 135.2438, 3400,   1008.9,   4.9032,  34.2978,2,   -999.0,9,  34.3021,2,     76.3,2,  -999.00,9,  -999.00,9,    36.90,2,     0.00,2,     2.59,2, -999.000,9, -999.000,9,  -999.00,9,   -999.0,9,   -999.0,9,-999.0000,9,   -999.0,  9,  -999.00,9,   -999.0,  -999.00,9,  -999.00,9,  -999.00,9,  -999.00,9,   -999.0,-999.0000, -999,9,  999,   4.8202,  27.1390,   -999.0,9
       SH00-04,  NONE,SH-5928,  1,      2, S-1-1-7,2,20000508,2327, 31.4995, 135.2438, 3400,   1212.4,   3.6040,  34.3866,2,   -999.0,9,  34.3889,2,     63.1,2,  -999.00,9,  -999.00,9,    39.71,2,     0.00,2,     2.77,2, -999.000,9, -999.000,9,  -999.00,9,   -999.0,9,   -999.0,9,-999.0000,9,   -999.0,  9,  -999.00,9,   -999.0,  -999.00,9,  -999.00,9,  -999.00,9,  -999.00,9,   -999.0,-999.0000, -999,9, 1201,   3.5142,  27.3470,   -999.0,9
       SH00-04,  NONE,SH-5928,  1,      1, 1-133-1,2,20000508,2323, 31.4995, 135.2438, 3400,   1519.9,   2.7916,  34.4883,2,   -999.0,9,  34.4935,2,     70.8,2,  -999.00,9,  -999.00,9,    40.00,2,     0.00,2,     2.79,2, -999.000,9, -999.000,9,  -999.00,9,   -999.0,9,   -999.0,9,-999.0000,9,   -999.0,  9,  -999.00,9,   -999.0,  -999.00,9,  -999.00,9,  -999.00,9,  -999.00,9,   -999.0,-999.0000, -999,9, 1504,   2.6847,  27.5048,   -999.0,9
       SH00-04,  NONE,SH-5929,  2,     -9,      -9,5,20000509,0700, 31.0180, 135.2330, 4250,      0.0,  21.7523,  34.7355,2,   -999.0,9,-999.0000,9,    245.2,2,  -999.00,9,  -999.00,9,     0.49,2,     0.06,2,     0.58,2, -999.000,9, -999.000,9,  -999.00,9,   -999.0,9,   -999.0,9,-999.0000,9,   -999.0,  9,  -999.00,9,   -999.0,  -999.00,9,  -999.00,9,     0.06,2,     0.02,2,   -999.0,-999.0000, -999,9,    0,  21.7523,  24.0859,   -999.0,9
       SH00-04,  NONE,SH-5929,  2,      2, S-1-1-7,2,20000509,0659, 31.0180, 135.2330, 4250,     11.6,  21.1183,  34.7275,2,   -999.0,9,-999.0000,9,    227.6,2,  -999.00,9,  -999.00,9,     0.20,2,     0.00,2,     0.03,2, -999.000,9, -999.000,9,  -999.00,9,   -999.0,9,   -999.0,9,-999.0000,9,   -999.0,  9,  -999.00,9,   -999.0,  -999.00,9,  -999.00,9,     0.07,2,     0.03,2,   -999.0,-999.0000, -999,9,   12,  21.1161,  24.2549,   -999.0,9
       SH00-04,  NONE,SH-5929,  2,      1, 1-133-1,2,20000509,0658, 31.0180, 135.2330, 4250,     26.2,  21.0214,  34.8089,2,   -999.0,9,-999.0000,9,    227.8,2,  -999.00,9,  -999.00,9,     0.20,2,     0.00,2,     0.01,2, -999.000,9, -999.000,9,  -999.00,9,   -999.0,9,   -999.0,9,-999.0000,9,   -999.0,  9,  -999.00,9,   -999.0,  -999.00,9,  -999.00,9,     0.08,2,     0.04,2,   -999.0,-999.0000, -999,9,   26,  21.0164,  24.3440,   -999.0,9
       SH00-04,  NONE,SH-5929,  2,     12, 1-133-7,2,20000509,0657, 31.0180, 135.2330, 4250,     52.2,  20.2697,  34.7581,2,   -999.0,9,-999.0000,9,    229.2,2,  -999.00,9,  -999.00,9,     0.20,2,     0.00,2,     0.02,2, -999.000,9, -999.000,9,  -999.00,9,   -999.0,9,   -999.0,9,-999.0000,9,   -999.0,  9,  -999.00,9,   -999.0,  -999.00,9,  -999.00,9,     0.15,2,     0.08,2,   -999.0,-999.0000, -999,9,   52,  20.2600,  24.5085,   -999.0,9
       SH00-04,  NONE,SH-5929,  2,     11,S-1-1-10,2,20000509,0656, 31.0180, 135.2330, 4250,     75.5,  19.9104,  34.7977,2,   -999.0,9,-999.0000,9,    228.3,2,  -999.00,9,  -999.00,9,     0.00,2,     0.00,2,     0.02,2, -999.000,9, -999.000,9,  -999.00,9,   -999.0,9,   -999.0,9,-999.0000,9,   -999.0,  9,  -999.00,9,   -999.0,  -999.00,9,  -999.00,9,     0.26,2,     0.39,2,   -999.0,-999.0000, -999,9,   75,  19.8965,  24.6346,   -999.0,9
       SH00-04,  NONE,SH-5929,  2,     10,1-133-94,2,20000509,0655, 31.0180, 135.2330, 4250,    101.8,  19.4004,  34.7887,2,   -999.0,9,-999.0000,9,    221.7,2,  -999.00,9,  -999.00,9,     1.07,2,     0.15,2,     0.09,2, -999.000,9, -999.000,9,  -999.00,9,   -999.0,9,   -999.0,9,-999.0000,9,   -999.0,  9,  -999.00,9,   -999.0,  -999.00,9,  -999.00,9,     0.27,2,     0.39,2,   -999.0,-999.0000, -999,9,  101,  19.3820,  24.7617,   -999.0,9
       SH00-04,  NONE,SH-5929,  2,      9, S-1-1-5,2,20000509,0654, 31.0180, 135.2330, 4250,    126.4,  19.1958,  34.7960,2,   -999.0,9,-999.0000,9,    220.0,2,  -999.00,9,  -999.00,9,     1.46,2,     0.07,2,     0.11,2, -999.000,9, -999.000,9,  -999.00,9,   -999.0,9,   -999.0,9,-999.0000,9,   -999.0,  9,  -999.00,9,   -999.0,  -999.00,9,  -999.00,9,     0.10,2,     0.09,2,   -999.0,-999.0000, -999,9,  126,  19.1732,  24.8210,   -999.0,9
       SH00-04,  NONE,SH-5929,  2,      8,1-133-95,2,20000509,0653, 31.0180, 135.2330, 4250,    152.8,  19.0655,  34.7985,2,   -999.0,9,-999.0000,9,    220.9,2,  -999.00,9,  -999.00,9,     1.46,2,     0.04,2,     0.12,2, -999.000,9, -999.000,9,  -999.00,9,   -999.0,9,   -999.0,9,-999.0000,9,   -999.0,  9,  -999.00,9,   -999.0,  -999.00,9,  -999.00,9,     0.05,2,     0.06,2,   -999.0,-999.0000, -999,9,  152,  19.0382,  24.8574,   -999.0,9
       SH00-04,  NONE,SH-5929,  2,      7, S-1-1-4,2,20000509,0651, 31.0180, 135.2330, 4250,    203.8,  18.8711,  34.8060,2,   -999.0,9,-999.0000,9,    219.9,2,  -999.00,9,  -999.00,9,     1.66,2,     0.02,2,     0.13,2, -999.000,9, -999.000,9,  -999.00,9,   -999.0,9,   -999.0,9,-999.0000,9,   -999.0,  9,  -999.00,9,   -999.0,  -999.00,9,  -999.00,9,     0.01,2,     0.02,2,   -999.0,-999.0000, -999,9,  202,  18.8350,  24.9148,   -999.0,9
       SH00-04,  NONE,SH-5929,  2,      6,1-133-93,2,20000509,0650, 31.0180, 135.2330, 4250,    253.9,  18.7482,  34.8051,2,   -999.0,9,-999.0000,9,    221.5,2,  -999.00,9,  -999.00,9,     1.85,2,     0.01,2,     0.13,2, -999.000,9, -999.000,9,  -999.00,9,   -999.0,9,   -999.0,9,-999.0000,9,   -999.0,  9,  -999.00,9,   -999.0,  -999.00,9,  -999.00,9,     0.00,2,     0.02,2,   -999.0,-999.0000, -999,9,  252,  18.7033,  24.9474,   -999.0,9
       SH00-04,  NONE,SH-5929,  2,      5,S-1-1-11,2,20000509,0649, 31.0180, 135.2330, 4250,    305.7,  18.5942,  34.8069,2,   -999.0,9,-999.0000,9,    221.8,2,  -999.00,9,  -999.00,9,     1.85,2,     0.01,2,     0.13,2, -999.000,9, -999.000,9,  -999.00,9,   -999.0,9,   -999.0,9,-999.0000,9,   -999.0,  9,  -999.00,9,   -999.0,  -999.00,9,  -999.00,9,     0.00,2,     0.02,2,   -999.0,-999.0000, -999,9,  303,  18.5404,  24.9898,   -999.0,9
       SH00-04,  NONE,SH-5929,  1,      4,S-1-1-12,2,20000509,0539, 31.0042, 135.2463, 4230,    403.1,  17.1902,  34.7714,2,   -999.0,9,-999.0000,9,    190.4,2,  -999.00,9,  -999.00,9,     6.83,2,     0.01,2,     0.45,2, -999.000,9, -999.000,9,  -999.00,9,   -999.0,9,   -999.0,9,-999.0000,9,   -999.0,  9,  -999.00,9,   -999.0,  -999.00,9,  -999.00,9,  -999.00,9,  -999.00,9,   -999.0,-999.0000, -999,9,  400,  17.1229,  25.3095,   -999.0,9
       SH00-04,  NONE,SH-5929,  1,      3,1-133-84,2,20000509,0537, 31.0042, 135.2463, 4230,    503.7,  14.8849,  34.6182,2,   -999.0,9,-999.0000,9,    182.1,2,  -999.00,9,  -999.00,9,    11.02,2,     0.01,2,     0.73,2, -999.000,9, -999.000,9,  -999.00,9,   -999.0,9,   -999.0,9,-999.0000,9,   -999.0,  9,  -999.00,9,   -999.0,  -999.00,9,  -999.00,9,  -999.00,9,  -999.00,9,   -999.0,-999.0000, -999,9,  500,  14.8085,  25.7194,   -999.0,9
       SH00-04,  NONE,SH-5929,  1,      2, S-1-1-7,2,20000509,0535, 31.0042, 135.2463, 4230,    604.8,  12.3808,  34.4328,2,   -999.0,9,-999.0000,9,    171.8,2,  -999.00,9,  -999.00,9,    15.89,2,     0.01,2,     1.09,2, -999.000,9, -999.000,9,  -999.00,9,   -999.0,9,   -999.0,9,-999.0000,9,   -999.0,  9,  -999.00,9,   -999.0,  -999.00,9,  -999.00,9,  -999.00,9,  -999.00,9,   -999.0,-999.0000, -999,9,  600,  12.2994,  26.0911,   -999.0,9
       SH00-04,  NONE,SH-5929,  1,      1, 1-133-1,2,20000509,0533, 31.0042, 135.2463, 4230,    705.8,   9.9230,  34.3055,2,   -999.0,9,-999.0000,9,    151.0,2,  -999.00,9,  -999.00,9,    22.02,2,     0.00,2,     1.52,2, -999.000,9, -999.000,9,  -999.00,9,   -999.0,9,   -999.0,9,-999.0000,9,   -999.0,  9,  -999.00,9,   -999.0,  -999.00,9,  -999.00,9,  -999.00,9,  -999.00,9,   -999.0,-999.0000, -999,9,  700,   9.8400,  26.4367,   -999.0,9
       SH00-04,  NONE,SH-5929,  1,     12, 1-133-7,2,20000509,0532, 31.0042, 135.2463, 4230,    807.4,   7.7979,  34.2388,2,   -999.0,9,-999.0000,9,    124.5,2,  -999.00,9,  -999.00,9,    28.05,2,     0.00,2,     1.97,2, -999.000,9, -999.000,9,  -999.00,9,   -999.0,9,   -999.0,9,-999.0000,9,   -999.0,  9,  -999.00,9,   -999.0,  -999.00,9,  -999.00,9,  -999.00,9,  -999.00,9,   -999.0,-999.0000, -999,9,  800,   7.7152,  26.7179,   -999.0,9
       SH00-04,  NONE,SH-5929,  1,     11,S-1-1-10,2,20000509,0530, 31.0042, 135.2463, 4230,    907.7,   6.1769,  34.2503,2,   -999.0,9,-999.0000,9,     97.1,2,  -999.00,9,  -999.00,9,    33.30,2,     0.00,2,     2.34,2, -999.000,9, -999.000,9,  -999.00,9,   -999.0,9,   -999.0,9,-999.0000,9,   -999.0,  9,  -999.00,9,   -999.0,  -999.00,9,  -999.00,9,  -999.00,9,  -999.00,9,   -999.0,-999.0000, -999,9,  899,   6.0941,  26.9483,   -999.0,9
       SH00-04,  NONE,SH-5929,  1,     10,1-133-94,2,20000509,0528, 31.0042, 135.2463, 4230,   1009.4,   4.7717,  34.2949,2,   -999.0,9,-999.0000,9,     74.1,2,  -999.00,9,  -999.00,9,    37.48,2,     0.00,2,     2.62,2, -999.000,9, -999.000,9,  -999.00,9,   -999.0,9,   -999.0,9,-999.0000,9,   -999.0,  9,  -999.00,9,   -999.0,  -999.00,9,  -999.00,9,  -999.00,9,  -999.00,9,   -999.0,-999.0000, -999,9, 1000,   4.6896,  27.1513,   -999.0,9
       SH00-04,  NONE,SH-5929,  1,      9, S-1-1-5,2,20000509,0524, 31.0042, 135.2463, 4230,   1212.5,   3.7277,  34.3915,2,   -999.0,9,-999.0000,9,     64.4,2,  -999.00,9,  -999.00,9,    39.71,2,     0.00,2,     2.76,2, -999.000,9, -999.000,9,  -999.00,9,   -999.0,9,   -999.0,9,-999.0000,9,   -999.0,  9,  -999.00,9,   -999.0,  -999.00,9,  -999.00,9,  -999.00,9,  -999.00,9,   -999.0,-999.0000, -999,9, 1201,   3.6368,  27.3388,   -999.0,9
       SH00-04,  NONE,SH-5929,  1,      8,1-133-95,2,20000509,0520, 31.0042, 135.2463, 4230,   1517.8,   2.8310,  34.4912,2,   -999.0,9,-999.0000,9,     73.0,2,  -999.00,9,  -999.00,9,    40.19,2,     0.00,2,     2.78,2, -999.000,9, -999.000,9,  -999.00,9,   -999.0,9,   -999.0,9,-999.0000,9,   -999.0,  9,  -999.00,9,   -999.0,  -999.00,9,  -999.00,9,  -999.00,9,  -999.00,9,   -999.0,-999.0000, -999,9, 1502,   2.7238,  27.5037,   -999.0,9