BOTTLE,20130510GEMDJMAYT
EXPOCODE,SECT_ID,STNNBR,CASTNO,SAMPNO,BTLNBR,BTLNBR_FLAG_W,DATE,TIME,LATITUDE,LONGITUDE,DEPTH,CTDPRS,CTDTMP,CTDSAL,CTDSAL_FLAG_W,CTDOXY,CTDOXY_FLAG_W,SALNTY,SALNTY_FLAG_W,OXYGEN,OXYGEN_FLAG_W,SILCAT,SILCAT_FLAG_W,NITRAT,NITRAT_FLAG_W,NO2+NO3,NO2+NO3_FLAG_W,NITRIT,NITRIT_FLAG_W,PHSPHT,PHSPHT_FLAG_W,CFC-11,CFC-11_FLAG_W,CFC-12,CFC-12_FLAG_W,DELC13,DELC13_FLAG_W,TCARBN,TCARBN_FLAG_W,ALKALI,ALKALI_FLAG_W,PH,PH_FLAG_W,PH_TMP,PH_SCALE,PH_NBS,PH_NBS_FLAG_W,C13ERR,TOTALP,TOTALP_FLAG_W,AMMONI,AMMONI_FLAG_W,CHLORA,CHLORA_FLAG_W,PPHYTN,PPHYTN_FLAG_W,REVPRS,REVTMP,DEPTH_,DEPTH_FLAG,CTDDEP,THETA,SIGTHT,DOC,DOC_FLAG_W
,,,,,,,GMT,GMT,,,METER,DBAR,ITS-90,PSS-78,,UMOL/KG,,PSS-78,,UMOL/KG,,UMOL/KG,,UMOL/KG,,UMOL/KG,,UMOL/KG,,UMOL/KG,,PMOL/KG,,PMOL/KG,,/MILLE,,UMOL/KG,,UMOL/KG,,25_DEG_C,,DEG_C,,,,/MILLE,UMOL/KG,,UMOL/KG,,UG/L,,UG/L,,DBAR,ITS-90,METERS,,METERS,DEG_C,,UMOL/L,
       SH00-04,  NONE,SH-5950,  1,      5,S-1-1-11,2,20000521,0448, 30.9992, 134.4588, 4360,     51.4,  20.7581,  34.7624,2,   -999.0,9,  34.7632,2,   -999.0,9,  -999.00,9,  -999.00,9,  -999.00,9,  -999.00,9,  -999.00,9, -999.000,9, -999.000,9,  -999.00,9,   -999.0,9,   -999.0,9,-999.0000,9,   -999.0,  9,  -999.00,9,   -999.0,  -999.00,9,  -999.00,9,  -999.00,9,  -999.00,9,   -999.0,-999.0000, -999,9,   51,  20.7483,  24.3811,   -999.0,9
       SH00-04,  NONE,SH-5950,  1,      4,S-1-1-12,2,20000521,0447, 30.9992, 134.4588, 4360,    101.2,  19.5706,  34.7878,2,   -999.0,9,  34.7857,2,   -999.0,9,  -999.00,9,  -999.00,9,  -999.00,9,  -999.00,9,  -999.00,9, -999.000,9, -999.000,9,  -999.00,9,   -999.0,9,   -999.0,9,-999.0000,9,   -999.0,  9,  -999.00,9,   -999.0,  -999.00,9,  -999.00,9,  -999.00,9,  -999.00,9,   -999.0,-999.0000, -999,9,  101,  19.5523,  24.7169,   -999.0,9
       SH00-04,  NONE,SH-5950,  1,      3,1-133-84,2,20000521,0445, 30.9992, 134.4588, 4360,    202.0,  18.9739,  34.8075,2,   -999.0,9,  34.8066,2,   -999.0,9,  -999.00,9,  -999.00,9,  -999.00,9,  -999.00,9,  -999.00,9, -999.000,9, -999.000,9,  -999.00,9,   -999.0,9,   -999.0,9,-999.0000,9,   -999.0,  9,  -999.00,9,   -999.0,  -999.00,9,  -999.00,9,  -999.00,9,  -999.00,9,   -999.0,-999.0000, -999,9,  201,  18.9379,  24.8899,   -999.0,9
       SH00-04,  NONE,SH-5950,  1,      2, S-1-1-7,2,20000521,0443, 30.9992, 134.4588, 4360,    303.7,  18.5311,  34.8025,2,   -999.0,9,  34.8016,2,   -999.0,9,  -999.00,9,  -999.00,9,  -999.00,9,  -999.00,9,  -999.00,9, -999.000,9, -999.000,9,  -999.00,9,   -999.0,9,   -999.0,9,-999.0000,9,   -999.0,  9,  -999.00,9,   -999.0,  -999.00,9,  -999.00,9,  -999.00,9,  -999.00,9,   -999.0,-999.0000, -999,9,  301,  18.4778,  25.0022,   -999.0,9
       SH00-04,  NONE,SH-5950,  1,      1, 1-133-1,2,20000521,0441, 30.9992, 134.4588, 4360,    404.0,  16.8973,  34.7523,2,   -999.0,9,  34.7528,2,   -999.0,9,  -999.00,9,  -999.00,9,  -999.00,9,  -999.00,9,  -999.00,9, -999.000,9, -999.000,9,  -999.00,9,   -999.0,9,   -999.0,9,-999.0000,9,   -999.0,  9,  -999.00,9,   -999.0,  -999.00,9,  -999.00,9,  -999.00,9,  -999.00,9,   -999.0,-999.0000, -999,9,  401,  16.8307,  25.3642,   -999.0,9
       SH00-04,  NONE,SH-5950,  1,     12, 1-133-7,2,20000521,0439, 30.9992, 134.4588, 4360,    504.5,  14.7554,  34.6090,2,   -999.0,9,  34.6078,2,   -999.0,9,  -999.00,9,  -999.00,9,  -999.00,9,  -999.00,9,  -999.00,9, -999.000,9, -999.000,9,  -999.00,9,   -999.0,9,   -999.0,9,-999.0000,9,   -999.0,  9,  -999.00,9,   -999.0,  -999.00,9,  -999.00,9,  -999.00,9,  -999.00,9,   -999.0,-999.0000, -999,9,  500,  14.6794,  25.7402,   -999.0,9
       SH00-04,  NONE,SH-5950,  1,     11,S-1-1-10,2,20000521,0436, 30.9992, 134.4588, 4360,    606.3,  12.1030,  34.4224,2,   -999.0,9,  34.4229,2,   -999.0,9,  -999.00,9,  -999.00,9,  -999.00,9,  -999.00,9,  -999.00,9, -999.000,9, -999.000,9,  -999.00,9,   -999.0,9,   -999.0,9,-999.0000,9,   -999.0,  9,  -999.00,9,   -999.0,  -999.00,9,  -999.00,9,  -999.00,9,  -999.00,9,   -999.0,-999.0000, -999,9,  601,  12.0226,  26.1361,   -999.0,9
       SH00-04,  NONE,SH-5950,  1,     10,1-133-94,2,20000521,0435, 30.9992, 134.4588, 4360,    707.4,   9.5158,  34.2588,2,   -999.0,9,  34.2728,4,   -999.0,9,  -999.00,9,  -999.00,9,  -999.00,9,  -999.00,9,  -999.00,9, -999.000,9, -999.000,9,  -999.00,9,   -999.0,9,   -999.0,9,-999.0000,9,   -999.0,  9,  -999.00,9,   -999.0,  -999.00,9,  -999.00,9,  -999.00,9,  -999.00,9,   -999.0,-999.0000, -999,9,  701,   9.4348,  26.4674,   -999.0,9
       SH00-04,  NONE,SH-5950,  1,      9, S-1-1-5,2,20000521,0433, 30.9992, 134.4588, 4360,    809.0,   7.3411,  34.1625,2,   -999.0,9,  34.2371,4,   -999.0,9,  -999.00,9,  -999.00,9,  -999.00,9,  -999.00,9,  -999.00,9, -999.000,9, -999.000,9,  -999.00,9,   -999.0,9,   -999.0,9,-999.0000,9,   -999.0,  9,  -999.00,9,   -999.0,  -999.00,9,  -999.00,9,  -999.00,9,  -999.00,9,   -999.0,-999.0000, -999,9,  802,   7.2610,  26.7228,   -999.0,9
       SH00-04,  NONE,SH-5950,  1,      8,1-133-95,2,20000521,0431, 30.9992, 134.4588, 4360,    910.0,   5.7718,  34.2089,2,   -999.0,9,  34.2153,4,   -999.0,9,  -999.00,9,  -999.00,9,  -999.00,9,  -999.00,9,  -999.00,9, -999.000,9, -999.000,9,  -999.00,9,   -999.0,9,   -999.0,9,-999.0000,9,   -999.0,  9,  -999.00,9,   -999.0,  -999.00,9,  -999.00,9,  -999.00,9,  -999.00,9,   -999.0,-999.0000, -999,9,  902,   5.6917,  26.9659,   -999.0,9
       SH00-04,  NONE,SH-5950,  1,      7, S-1-1-4,2,20000521,0428, 30.9992, 134.4588, 4360,   1011.3,   4.8334,  34.2912,2,   -999.0,9,  34.2921,2,   -999.0,9,  -999.00,9,  -999.00,9,  -999.00,9,  -999.00,9,  -999.00,9, -999.000,9, -999.000,9,  -999.00,9,   -999.0,9,   -999.0,9,-999.0000,9,   -999.0,  9,  -999.00,9,   -999.0,  -999.00,9,  -999.00,9,  -999.00,9,  -999.00,9,   -999.0,-999.0000, -999,9, 1002,   4.7507,  27.1415,   -999.0,9
       SH00-04,  NONE,SH-5951,  1,      4,S-1-1-12,2,20000521,0801, 31.0017, 134.9042, 4280,     50.6,  20.2541,  34.7649,2,   -999.0,9,  34.7626,2,   -999.0,9,  -999.00,9,  -999.00,9,  -999.00,9,  -999.00,9,  -999.00,9, -999.000,9, -999.000,9,  -999.00,9,   -999.0,9,   -999.0,9,-999.0000,9,   -999.0,  9,  -999.00,9,   -999.0,  -999.00,9,  -999.00,9,  -999.00,9,  -999.00,9,   -999.0,-999.0000, -999,9,   50,  20.2447,  24.5177,   -999.0,9
       SH00-04,  NONE,SH-5951,  1,      3,1-133-84,2,20000521,0800, 31.0017, 134.9042, 4280,    100.9,  19.4321,  34.7850,2,   -999.0,9,  34.7841,2,   -999.0,9,  -999.00,9,  -999.00,9,  -999.00,9,  -999.00,9,  -999.00,9, -999.000,9, -999.000,9,  -999.00,9,   -999.0,9,   -999.0,9,-999.0000,9,   -999.0,  9,  -999.00,9,   -999.0,  -999.00,9,  -999.00,9,  -999.00,9,  -999.00,9,   -999.0,-999.0000, -999,9,  100,  19.4139,  24.7506,   -999.0,9
       SH00-04,  NONE,SH-5951,  1,      2, S-1-1-7,2,20000521,0758, 31.0017, 134.9042, 4280,    200.8,  18.9066,  34.8090,2,   -999.0,9,  34.8069,2,   -999.0,9,  -999.00,9,  -999.00,9,  -999.00,9,  -999.00,9,  -999.00,9, -999.000,9, -999.000,9,  -999.00,9,   -999.0,9,   -999.0,9,-999.0000,9,   -999.0,  9,  -999.00,9,   -999.0,  -999.00,9,  -999.00,9,  -999.00,9,  -999.00,9,   -999.0,-999.0000, -999,9,  199,  18.8709,  24.9080,   -999.0,9
       SH00-04,  NONE,SH-5951,  1,      1, 1-133-1,2,20000521,0756, 31.0017, 134.9042, 4280,    301.4,  18.6478,  34.8046,2,   -999.0,9,  34.8040,2,   -999.0,9,  -999.00,9,  -999.00,9,  -999.00,9,  -999.00,9,  -999.00,9, -999.000,9, -999.000,9,  -999.00,9,   -999.0,9,   -999.0,9,-999.0000,9,   -999.0,  9,  -999.00,9,   -999.0,  -999.00,9,  -999.00,9,  -999.00,9,  -999.00,9,   -999.0,-999.0000, -999,9,  299,  18.5947,  24.9744,   -999.0,9
       SH00-04,  NONE,SH-5951,  1,     12, 1-133-7,2,20000521,0754, 31.0017, 134.9042, 4280,    402.1,  17.5822,  34.7928,2,   -999.0,9,  34.7906,2,   -999.0,9,  -999.00,9,  -999.00,9,  -999.00,9,  -999.00,9,  -999.00,9, -999.000,9, -999.000,9,  -999.00,9,   -999.0,9,   -999.0,9,-999.0000,9,   -999.0,  9,  -999.00,9,   -999.0,  -999.00,9,  -999.00,9,  -999.00,9,  -999.00,9,   -999.0,-999.0000, -999,9,  399,  17.5140,  25.2320,   -999.0,9
       SH00-04,  NONE,SH-5951,  1,     11,S-1-1-10,2,20000521,0752, 31.0017, 134.9042, 4280,    503.8,  15.4658,  34.6625,2,   -999.0,9,  34.6619,2,   -999.0,9,  -999.00,9,  -999.00,9,  -999.00,9,  -999.00,9,  -999.00,9, -999.000,9, -999.000,9,  -999.00,9,   -999.0,9,   -999.0,9,-999.0000,9,   -999.0,  9,  -999.00,9,   -999.0,  -999.00,9,  -999.00,9,  -999.00,9,  -999.00,9,   -999.0,-999.0000, -999,9,  500,  15.3875,  25.6261,   -999.0,9
       SH00-04,  NONE,SH-5951,  1,     10,1-133-94,2,20000521,0750, 31.0017, 134.9042, 4280,    604.8,  13.0996,  34.4875,2,   -999.0,9,  34.4904,2,   -999.0,9,  -999.00,9,  -999.00,9,  -999.00,9,  -999.00,9,  -999.00,9, -999.000,9, -999.000,9,  -999.00,9,   -999.0,9,   -999.0,9,-999.0000,9,   -999.0,  9,  -999.00,9,   -999.0,  -999.00,9,  -999.00,9,  -999.00,9,  -999.00,9,   -999.0,-999.0000, -999,9,  600,  13.0151,  25.9928,   -999.0,9
       SH00-04,  NONE,SH-5951,  1,      9, S-1-1-5,2,20000521,0748, 31.0017, 134.9042, 4280,    705.3,  10.2800,  34.2786,2,   -999.0,9,  34.3054,4,   -999.0,9,  -999.00,9,  -999.00,9,  -999.00,9,  -999.00,9,  -999.00,9, -999.000,9, -999.000,9,  -999.00,9,   -999.0,9,   -999.0,9,-999.0000,9,   -999.0,  9,  -999.00,9,   -999.0,  -999.00,9,  -999.00,9,  -999.00,9,  -999.00,9,   -999.0,-999.0000, -999,9,  699,  10.1954,  26.3553,   -999.0,9
       SH00-04,  NONE,SH-5951,  1,      8,1-133-95,2,20000521,0746, 31.0017, 134.9042, 4280,    806.3,   7.5388,  34.1678,2,   -999.0,9,  34.1683,2,   -999.0,9,  -999.00,9,  -999.00,9,  -999.00,9,  -999.00,9,  -999.00,9, -999.000,9, -999.000,9,  -999.00,9,   -999.0,9,   -999.0,9,-999.0000,9,   -999.0,  9,  -999.00,9,   -999.0,  -999.00,9,  -999.00,9,  -999.00,9,  -999.00,9,   -999.0,-999.0000, -999,9,  799,   7.4578,  26.6991,   -999.0,9
       SH00-04,  NONE,SH-5951,  1,      7, S-1-1-4,2,20000521,0743, 31.0017, 134.9042, 4280,   1008.0,   5.1546,  34.2261,2,   -999.0,9,  34.2259,2,   -999.0,9,  -999.00,9,  -999.00,9,  -999.00,9,  -999.00,9,  -999.00,9, -999.000,9, -999.000,9,  -999.00,9,   -999.0,9,   -999.0,9,-999.0000,9,   -999.0,  9,  -999.00,9,   -999.0,  -999.00,9,  -999.00,9,  -999.00,9,  -999.00,9,   -999.0,-999.0000, -999,9,  999,   5.0699,  27.0536,   -999.0,9
       SH00-04,  NONE,SH-5951,  1,      6,1-133-93,2,20000521,0739, 31.0017, 134.9042, 4280,   1210.2,   3.7959,  34.3902,2,   -999.0,9,  34.3909,2,   -999.0,9,  -999.00,9,  -999.00,9,  -999.00,9,  -999.00,9,  -999.00,9, -999.000,9, -999.000,9,  -999.00,9,   -999.0,9,   -999.0,9,-999.0000,9,   -999.0,  9,  -999.00,9,   -999.0,  -999.00,9,  -999.00,9,  -999.00,9,  -999.00,9,   -999.0,-999.0000, -999,9, 1198,   3.7046,  27.3311,   -999.0,9
       SH00-04,  NONE,SH-5952,  1,      3,1-133-84,2,20000521,1052, 31.0000, 135.3245, 4200,     51.5,  20.5769,  34.7701,2,   -999.0,9,  34.7687,2,   -999.0,9,  -999.00,9,  -999.00,9,  -999.00,9,  -999.00,9,  -999.00,9, -999.000,9, -999.000,9,  -999.00,9,   -999.0,9,   -999.0,9,-999.0000,9,   -999.0,  9,  -999.00,9,   -999.0,  -999.00,9,  -999.00,9,  -999.00,9,  -999.00,9,   -999.0,-999.0000, -999,9,   51,  20.5672,  24.4357,   -999.0,9
       SH00-04,  NONE,SH-5952,  1,      2, S-1-1-7,2,20000521,1051, 31.0000, 135.3245, 4200,    101.3,  19.5302,  34.7741,2,   -999.0,9,  34.7758,2,   -999.0,9,  -999.00,9,  -999.00,9,  -999.00,9,  -999.00,9,  -999.00,9, -999.000,9, -999.000,9,  -999.00,9,   -999.0,9,   -999.0,9,-999.0000,9,   -999.0,  9,  -999.00,9,   -999.0,  -999.00,9,  -999.00,9,  -999.00,9,  -999.00,9,   -999.0,-999.0000, -999,9,  101,  19.5118,  24.7170,   -999.0,9
       SH00-04,  NONE,SH-5952,  1,      1, 1-133-1,2,20000521,1049, 31.0000, 135.3245, 4200,    201.7,  18.9826,  34.8068,2,   -999.0,9,  34.8071,2,   -999.0,9,  -999.00,9,  -999.00,9,  -999.00,9,  -999.00,9,  -999.00,9, -999.000,9, -999.000,9,  -999.00,9,   -999.0,9,   -999.0,9,-999.0000,9,   -999.0,  9,  -999.00,9,   -999.0,  -999.00,9,  -999.00,9,  -999.00,9,  -999.00,9,   -999.0,-999.0000, -999,9,  200,  18.9467,  24.8871,   -999.0,9
       SH00-04,  NONE,SH-5952,  1,     12, 1-133-7,2,20000521,1047, 31.0000, 135.3245, 4200,    302.4,  18.7146,  34.8060,2,   -999.0,9,  34.8038,2,   -999.0,9,  -999.00,9,  -999.00,9,  -999.00,9,  -999.00,9,  -999.00,9, -999.000,9, -999.000,9,  -999.00,9,   -999.0,9,   -999.0,9,-999.0000,9,   -999.0,  9,  -999.00,9,   -999.0,  -999.00,9,  -999.00,9,  -999.00,9,  -999.00,9,   -999.0,-999.0000, -999,9,  300,  18.6612,  24.9588,   -999.0,9
       SH00-04,  NONE,SH-5952,  1,     11,S-1-1-10,2,20000521,1045, 31.0000, 135.3245, 4200,    403.4,  17.5793,  34.7839,2,   -999.0,9,  34.7843,2,   -999.0,9,  -999.00,9,  -999.00,9,  -999.00,9,  -999.00,9,  -999.00,9, -999.000,9, -999.000,9,  -999.00,9,   -999.0,9,   -999.0,9,-999.0000,9,   -999.0,  9,  -999.00,9,   -999.0,  -999.00,9,  -999.00,9,  -999.00,9,  -999.00,9,   -999.0,-999.0000, -999,9,  400,  17.5109,  25.2259,   -999.0,9
       SH00-04,  NONE,SH-5952,  1,     10,1-133-94,2,20000521,1043, 31.0000, 135.3245, 4200,    503.6,  15.8541,  34.6862,2,   -999.0,9,  34.6898,4,   -999.0,9,  -999.00,9,  -999.00,9,  -999.00,9,  -999.00,9,  -999.00,9, -999.000,9, -999.000,9,  -999.00,9,   -999.0,9,   -999.0,9,-999.0000,9,   -999.0,  9,  -999.00,9,   -999.0,  -999.00,9,  -999.00,9,  -999.00,9,  -999.00,9,   -999.0,-999.0000, -999,9,  500,  15.7744,  25.5575,   -999.0,9
       SH00-04,  NONE,SH-5952,  1,      9, S-1-1-5,2,20000521,1041, 31.0000, 135.3245, 4200,    604.8,  13.3216,  34.5058,2,   -999.0,9,  34.5027,2,   -999.0,9,  -999.00,9,  -999.00,9,  -999.00,9,  -999.00,9,  -999.00,9, -999.000,9, -999.000,9,  -999.00,9,   -999.0,9,   -999.0,9,-999.0000,9,   -999.0,  9,  -999.00,9,   -999.0,  -999.00,9,  -999.00,9,  -999.00,9,  -999.00,9,   -999.0,-999.0000, -999,9,  600,  13.2362,  25.9625,   -999.0,9
       SH00-04,  NONE,SH-5952,  1,      8,1-133-95,2,20000521,1039, 31.0000, 135.3245, 4200,    705.3,  10.4422,  34.3318,2,   -999.0,9,  34.3314,2,   -999.0,9,  -999.00,9,  -999.00,9,  -999.00,9,  -999.00,9,  -999.00,9, -999.000,9, -999.000,9,  -999.00,9,   -999.0,9,   -999.0,9,-999.0000,9,   -999.0,  9,  -999.00,9,   -999.0,  -999.00,9,  -999.00,9,  -999.00,9,  -999.00,9,   -999.0,-999.0000, -999,9,  699,  10.3567,  26.3689,   -999.0,9
       SH00-04,  NONE,SH-5952,  1,      7, S-1-1-4,2,20000521,1037, 31.0000, 135.3245, 4200,    806.7,   7.8081,  34.1698,2,   -999.0,9,  34.1766,4,   -999.0,9,  -999.00,9,  -999.00,9,  -999.00,9,  -999.00,9,  -999.00,9, -999.000,9, -999.000,9,  -999.00,9,   -999.0,9,   -999.0,9,-999.0000,9,   -999.0,  9,  -999.00,9,   -999.0,  -999.00,9,  -999.00,9,  -999.00,9,  -999.00,9,   -999.0,-999.0000, -999,9,  800,   7.7254,  26.6622,   -999.0,9
       SH00-04,  NONE,SH-5952,  1,      6,1-133-93,2,20000521,1034, 31.0000, 135.3245, 4200,   1008.3,   5.3649,  34.2675,2,   -999.0,9,  34.2714,4,   -999.0,9,  -999.00,9,  -999.00,9,  -999.00,9,  -999.00,9,  -999.00,9, -999.000,9, -999.000,9,  -999.00,9,   -999.0,9,   -999.0,9,-999.0000,9,   -999.0,  9,  -999.00,9,   -999.0,  -999.00,9,  -999.00,9,  -999.00,9,  -999.00,9,   -999.0,-999.0000, -999,9,  999,   5.2784,  27.0621,   -999.0,9
       SH00-04,  NONE,SH-5952,  1,      5,S-1-1-11,2,20000521,1027, 31.0000, 135.3245, 4200,   1517.4,   2.9053,  34.4865,2,   -999.0,9,  34.4831,2,   -999.0,9,  -999.00,9,  -999.00,9,  -999.00,9,  -999.00,9,  -999.00,9, -999.000,9, -999.000,9,  -999.00,9,   -999.0,9,   -999.0,9,-999.0000,9,   -999.0,  9,  -999.00,9,   -999.0,  -999.00,9,  -999.00,9,  -999.00,9,  -999.00,9,   -999.0,-999.0000, -999,9, 1502,   2.7974,  27.4935,   -999.0,9