BOTTLE,20130510GEMDJMAYT
EXPOCODE,SECT_ID,STNNBR,CASTNO,SAMPNO,BTLNBR,BTLNBR_FLAG_W,DATE,TIME,LATITUDE,LONGITUDE,DEPTH,CTDPRS,CTDTMP,CTDSAL,CTDSAL_FLAG_W,CTDOXY,CTDOXY_FLAG_W,SALNTY,SALNTY_FLAG_W,OXYGEN,OXYGEN_FLAG_W,SILCAT,SILCAT_FLAG_W,NITRAT,NITRAT_FLAG_W,NO2+NO3,NO2+NO3_FLAG_W,NITRIT,NITRIT_FLAG_W,PHSPHT,PHSPHT_FLAG_W,CFC-11,CFC-11_FLAG_W,CFC-12,CFC-12_FLAG_W,DELC13,DELC13_FLAG_W,TCARBN,TCARBN_FLAG_W,ALKALI,ALKALI_FLAG_W,PH,PH_FLAG_W,PH_TMP,PH_SCALE,PH_NBS,PH_NBS_FLAG_W,C13ERR,TOTALP,TOTALP_FLAG_W,AMMONI,AMMONI_FLAG_W,CHLORA,CHLORA_FLAG_W,PPHYTN,PPHYTN_FLAG_W,REVPRS,REVTMP,DEPTH_,DEPTH_FLAG,CTDDEP,THETA,SIGTHT,DOC,DOC_FLAG_W
,,,,,,,GMT,GMT,,,METER,DBAR,ITS-90,PSS-78,,UMOL/KG,,PSS-78,,UMOL/KG,,UMOL/KG,,UMOL/KG,,UMOL/KG,,UMOL/KG,,UMOL/KG,,PMOL/KG,,PMOL/KG,,/MILLE,,UMOL/KG,,UMOL/KG,,25_DEG_C,,DEG_C,,,,/MILLE,UMOL/KG,,UMOL/KG,,UG/L,,UG/L,,DBAR,ITS-90,METERS,,METERS,DEG_C,,UMOL/L,
       SH00-06,  NONE,SH-6001,  1,     -9,      -9,5,20000712,2207, 30.4953, 135.0555, 4450,      0.0,  25.8979,  34.2573,2,   -999.0,9,-999.0000,9,    208.1,2,  -999.00,9,  -999.00,9,     0.00,2,     0.00,2,     0.00,2, -999.000,9, -999.000,9,  -999.00,9,   -999.0,9,   -999.0,9,-999.0000,9,   -999.0,  9,  -999.00,9,   -999.0,  -999.00,9,  -999.00,9,  -999.00,9,  -999.00,9,   -999.0,-999.0000, -999,9,    0,  25.8979,  22.5048,   -999.0,9
       SH00-06,  NONE,SH-6001,  1,     12, 1-133-7,2,20000712,2205, 30.4953, 135.0555, 4450,     53.3,  23.8254,  34.5457,2,   -999.0,9,  34.5389,2,    218.5,2,  -999.00,9,  -999.00,9,     0.00,2,     0.00,2,     0.00,2, -999.000,9, -999.000,9,  -999.00,9,   -999.0,9,   -999.0,9,-999.0000,9,   -999.0,  9,  -999.00,9,   -999.0,  -999.00,9,  -999.00,9,  -999.00,9,  -999.00,9,   -999.0,-999.0000, -999,9,   53,  23.8143,  23.3522,   -999.0,9
       SH00-06,  NONE,SH-6001,  1,     11,S-1-1-10,2,20000712,2203, 30.4953, 135.0555, 4450,    102.1,  20.1631,  34.7872,2,   -999.0,9,  34.7851,2,    210.6,2,  -999.00,9,  -999.00,9,     1.66,2,     0.12,2,     0.11,2, -999.000,9, -999.000,9,  -999.00,9,   -999.0,9,   -999.0,9,-999.0000,9,   -999.0,  9,  -999.00,9,   -999.0,  -999.00,9,  -999.00,9,  -999.00,9,  -999.00,9,   -999.0,-999.0000, -999,9,  101,  20.1442,  24.5614,   -999.0,9
       SH00-06,  NONE,SH-6001,  1,     10,1-133-94,2,20000712,2202, 30.4953, 135.0555, 4450,    151.4,  19.4781,  34.7924,2,   -999.0,9,  34.7900,2,    212.4,2,  -999.00,9,  -999.00,9,     1.85,2,     0.03,2,     0.13,2, -999.000,9, -999.000,9,  -999.00,9,   -999.0,9,   -999.0,9,-999.0000,9,   -999.0,  9,  -999.00,9,   -999.0,  -999.00,9,  -999.00,9,  -999.00,9,  -999.00,9,   -999.0,-999.0000, -999,9,  150,  19.4506,  24.7468,   -999.0,9
       SH00-06,  NONE,SH-6001,  1,      9, S-1-1-5,2,20000712,2158, 30.4953, 135.0555, 4450,    303.5,  18.5848,  34.8009,2,   -999.0,9,  34.8018,2,    209.3,2,  -999.00,9,  -999.00,9,     3.12,2,     0.01,2,     0.20,2, -999.000,9, -999.000,9,  -999.00,9,   -999.0,9,   -999.0,9,-999.0000,9,   -999.0,  9,  -999.00,9,   -999.0,  -999.00,9,  -999.00,9,  -999.00,9,  -999.00,9,   -999.0,-999.0000, -999,9,  301,  18.5314,  24.9875,   -999.0,9
       SH00-06,  NONE,SH-6001,  1,      8,1-133-95,2,20000712,2156, 30.4953, 135.0555, 4450,    403.5,  17.1663,  34.7877,2,   -999.0,9,  34.7680,4,    191.3,2,  -999.00,9,  -999.00,9,     6.83,2,     0.00,2,     0.42,2, -999.000,9, -999.000,9,  -999.00,9,   -999.0,9,   -999.0,9,-999.0000,9,   -999.0,  9,  -999.00,9,   -999.0,  -999.00,9,  -999.00,9,  -999.00,9,  -999.00,9,   -999.0,-999.0000, -999,9,  400,  17.0990,  25.3277,   -999.0,9
       SH00-06,  NONE,SH-6001,  1,      7, S-1-1-4,2,20000712,2154, 30.4953, 135.0555, 4450,    503.9,  15.1126,  34.6368,2,   -999.0,9,  34.6355,2,    186.0,2,  -999.00,9,  -999.00,9,    10.63,2,     0.01,2,     0.67,2, -999.000,9, -999.000,9,  -999.00,9,   -999.0,9,   -999.0,9,-999.0000,9,   -999.0,  9,  -999.00,9,   -999.0,  -999.00,9,  -999.00,9,  -999.00,9,  -999.00,9,   -999.0,-999.0000, -999,9,  500,  15.0354,  25.6842,   -999.0,9
       SH00-06,  NONE,SH-6001,  1,      6,1-133-93,2,20000712,2152, 30.4953, 135.0555, 4450,    605.2,  12.3784,  34.4416,2,   -999.0,9,  34.4418,2,    165.2,2,  -999.00,9,  -999.00,9,    16.67,2,     0.00,2,     1.09,2, -999.000,9, -999.000,9,  -999.00,9,   -999.0,9,   -999.0,9,-999.0000,9,   -999.0,  9,  -999.00,9,   -999.0,  -999.00,9,  -999.00,9,  -999.00,9,  -999.00,9,   -999.0,-999.0000, -999,9,  600,  12.2970,  26.0984,   -999.0,9
       SH00-06,  NONE,SH-6001,  1,      5,S-1-1-11,2,20000712,2149, 30.4953, 135.0555, 4450,    806.7,   7.2380,  34.1836,2,   -999.0,9,  34.1740,2,    128.1,2,  -999.00,9,  -999.00,9,    29.22,2,     0.00,2,     2.03,2, -999.000,9, -999.000,9,  -999.00,9,   -999.0,9,   -999.0,9,-999.0000,9,   -999.0,  9,  -999.00,9,   -999.0,  -999.00,9,  -999.00,9,  -999.00,9,  -999.00,9,   -999.0,-999.0000, -999,9,  800,   7.1587,  26.7537,   -999.0,9
       SH00-06,  NONE,SH-6001,  1,      4,S-1-1-12,2,20000712,2145, 30.4953, 135.0555, 4450,   1010.2,   4.8427,  34.2637,2,   -999.0,9,  34.2648,2,     76.6,2,  -999.00,9,  -999.00,9,    37.39,2,     0.00,2,     2.62,2, -999.000,9, -999.000,9,  -999.00,9,   -999.0,9,   -999.0,9,-999.0000,9,   -999.0,  9,  -999.00,9,   -999.0,  -999.00,9,  -999.00,9,  -999.00,9,  -999.00,9,   -999.0,-999.0000, -999,9, 1001,   4.7601,  27.1187,   -999.0,9
       SH00-06,  NONE,SH-6001,  1,      3,1-133-84,2,20000712,2141, 30.4953, 135.0555, 4450,   1213.5,   3.7567,  34.3988,2,   -999.0,9,  34.4001,2,     67.5,2,  -999.00,9,  -999.00,9,    39.71,2,     0.00,2,     2.77,2, -999.000,9, -999.000,9,  -999.00,9,   -999.0,9,   -999.0,9,-999.0000,9,   -999.0,  9,  -999.00,9,   -999.0,  -999.00,9,  -999.00,9,  -999.00,9,  -999.00,9,   -999.0,-999.0000, -999,9, 1202,   3.6654,  27.3418,   -999.0,9
       SH00-06,  NONE,SH-6001,  1,      2, S-1-1-7,2,20000712,2135, 30.4953, 135.0555, 4450,   1519.2,   2.8933,  34.4868,2,   -999.0,9,  34.4868,2,     74.3,2,  -999.00,9,  -999.00,9,    40.29,2,     0.00,2,     2.78,2, -999.000,9, -999.000,9,  -999.00,9,   -999.0,9,   -999.0,9,-999.0000,9,   -999.0,  9,  -999.00,9,   -999.0,  -999.00,9,  -999.00,9,  -999.00,9,  -999.00,9,   -999.0,-999.0000, -999,9, 1503,   2.7853,  27.4947,   -999.0,9
       SH00-06,  NONE,SH-6003,  1,     -9,      -9,5,20000713,0326, 30.9958, 135.3223, 4210,      0.0,  26.8837,  34.2242,2,   -999.0,9,-999.0000,9,    204.8,2,  -999.00,9,  -999.00,9,     0.00,2,     0.00,2,     0.00,2, -999.000,9, -999.000,9,  -999.00,9,   -999.0,9,   -999.0,9,-999.0000,9,   -999.0,  9,  -999.00,9,   -999.0,  -999.00,9,  -999.00,9,  -999.00,9,  -999.00,9,   -999.0,-999.0000, -999,9,    0,  26.8837,  22.1705,   -999.0,9
       SH00-06,  NONE,SH-6003,  1,     11,S-1-1-10,2,20000713,0325, 30.9958, 135.3223, 4210,     52.1,  24.1399,  34.5842,2,   -999.0,9,-999.0000,9,    215.1,2,  -999.00,9,  -999.00,9,     0.20,2,     0.00,2,     0.01,2, -999.000,9, -999.000,9,  -999.00,9,   -999.0,9,   -999.0,9,-999.0000,9,   -999.0,  9,  -999.00,9,   -999.0,  -999.00,9,  -999.00,9,  -999.00,9,  -999.00,9,   -999.0,-999.0000, -999,9,   52,  24.1289,  23.2885,   -999.0,9
       SH00-06,  NONE,SH-6003,  1,     10,1-133-94,2,20000713,0324, 30.9958, 135.3223, 4210,    102.3,  20.8566,  34.7717,2,   -999.0,9,-999.0000,9,    208.9,2,  -999.00,9,  -999.00,9,     0.98,2,     0.20,2,     0.10,2, -999.000,9, -999.000,9,  -999.00,9,   -999.0,9,   -999.0,9,-999.0000,9,   -999.0,  9,  -999.00,9,   -999.0,  -999.00,9,  -999.00,9,  -999.00,9,  -999.00,9,   -999.0,-999.0000, -999,9,  102,  20.8371,  24.3643,   -999.0,9
       SH00-06,  NONE,SH-6003,  1,      9, S-1-1-5,2,20000713,0322, 30.9958, 135.3223, 4210,    152.7,  20.1794,  34.7897,2,   -999.0,9,-999.0000,9,    210.7,2,  -999.00,9,  -999.00,9,     1.27,2,     0.04,2,     0.11,2, -999.000,9, -999.000,9,  -999.00,9,   -999.0,9,   -999.0,9,-999.0000,9,   -999.0,  9,  -999.00,9,   -999.0,  -999.00,9,  -999.00,9,  -999.00,9,  -999.00,9,   -999.0,-999.0000, -999,9,  152,  20.1511,  24.5614,   -999.0,9
       SH00-06,  NONE,SH-6003,  1,      8,1-133-95,2,20000713,0319, 30.9958, 135.3223, 4210,    301.9,  18.7116,  34.8091,2,   -999.0,9,-999.0000,9,    214.2,2,  -999.00,9,  -999.00,9,     2.15,2,     0.01,2,     0.17,2, -999.000,9, -999.000,9,  -999.00,9,   -999.0,9,   -999.0,9,-999.0000,9,   -999.0,  9,  -999.00,9,   -999.0,  -999.00,9,  -999.00,9,  -999.00,9,  -999.00,9,   -999.0,-999.0000, -999,9,  300,  18.6583,  24.9618,   -999.0,9
       SH00-06,  NONE,SH-6003,  1,      7, S-1-1-4,2,20000713,0317, 30.9958, 135.3223, 4210,    402.9,  17.1351,  34.7656,2,   -999.0,9,-999.0000,9,    190.9,2,  -999.00,9,  -999.00,9,     6.63,2,     0.01,2,     0.44,2, -999.000,9, -999.000,9,  -999.00,9,   -999.0,9,   -999.0,9,-999.0000,9,   -999.0,  9,  -999.00,9,   -999.0,  -999.00,9,  -999.00,9,  -999.00,9,  -999.00,9,   -999.0,-999.0000, -999,9,  400,  17.0680,  25.3182,   -999.0,9
       SH00-06,  NONE,SH-6003,  1,      6,1-133-93,2,20000713,0315, 30.9958, 135.3223, 4210,    503.5,  15.2158,  34.6415,2,   -999.0,9,-999.0000,9,    186.9,2,  -999.00,9,  -999.00,9,     9.94,2,     0.00,2,     0.65,2, -999.000,9, -999.000,9,  -999.00,9,   -999.0,9,   -999.0,9,-999.0000,9,   -999.0,  9,  -999.00,9,   -999.0,  -999.00,9,  -999.00,9,  -999.00,9,  -999.00,9,   -999.0,-999.0000, -999,9,  499,  15.1383,  25.6652,   -999.0,9
       SH00-06,  NONE,SH-6003,  1,      5,S-1-1-11,2,20000713,0314, 30.9958, 135.3223, 4210,    603.1,  13.2879,  34.4890,2,   -999.0,9,-999.0000,9,    179.7,2,  -999.00,9,  -999.00,9,    13.74,2,     0.01,2,     0.93,2, -999.000,9, -999.000,9,  -999.00,9,   -999.0,9,   -999.0,9,-999.0000,9,   -999.0,  9,  -999.00,9,   -999.0,  -999.00,9,  -999.00,9,  -999.00,9,  -999.00,9,   -999.0,-999.0000, -999,9,  598,  13.2029,  25.9562,   -999.0,9
       SH00-06,  NONE,SH-6003,  1,      4,S-1-1-12,2,20000713,0311, 30.9958, 135.3223, 4210,    805.8,   8.4943,  34.2091,2,   -999.0,9,-999.0000,9,    144.4,2,  -999.00,9,  -999.00,9,    25.42,2,     0.00,2,     1.76,2, -999.000,9, -999.000,9,  -999.00,9,   -999.0,9,   -999.0,9,-999.0000,9,   -999.0,  9,  -999.00,9,   -999.0,  -999.00,9,  -999.00,9,  -999.00,9,  -999.00,9,   -999.0,-999.0000, -999,9,  799,   8.4076,  26.5913,   -999.0,9
       SH00-06,  NONE,SH-6003,  1,      3,1-133-84,2,20000713,0308, 30.9958, 135.3223, 4210,   1009.2,   5.1495,  34.2168,2,   -999.0,9,-999.0000,9,     83.6,2,  -999.00,9,  -999.00,9,    36.22,2,     0.00,2,     2.54,2, -999.000,9, -999.000,9,  -999.00,9,   -999.0,9,   -999.0,9,-999.0000,9,   -999.0,  9,  -999.00,9,   -999.0,  -999.00,9,  -999.00,9,  -999.00,9,  -999.00,9,   -999.0,-999.0000, -999,9, 1000,   5.0647,  27.0469,   -999.0,9
       SH00-06,  NONE,SH-6003,  1,      2, S-1-1-7,2,20000713,0305, 30.9958, 135.3223, 4210,   1212.7,   3.9748,  34.3649,2,   -999.0,9,-999.0000,9,     67.8,2,  -999.00,9,  -999.00,9,    40.20,2,     0.00,2,     2.81,2, -999.000,9, -999.000,9,  -999.00,9,   -999.0,9,   -999.0,9,-999.0000,9,   -999.0,  9,  -999.00,9,   -999.0,  -999.00,9,  -999.00,9,  -999.00,9,  -999.00,9,   -999.0,-999.0000, -999,9, 1201,   3.8816,  27.2931,   -999.0,9
       SH00-06,  NONE,SH-6003,  1,      1, 1-133-1,2,20000713,0300, 30.9958, 135.3223, 4210,   1518.6,   2.9839,  34.4745,2,   -999.0,9,-999.0000,9,     71.5,2,  -999.00,9,  -999.00,9,    38.74,2,     0.00,2,     2.72,2, -999.000,9, -999.000,9,  -999.00,9,   -999.0,9,   -999.0,9,-999.0000,9,   -999.0,  9,  -999.00,9,   -999.0,  -999.00,9,  -999.00,9,  -999.00,9,  -999.00,9,   -999.0,-999.0000, -999,9, 1503,   2.8750,  27.4769,   -999.0,9
       SH00-06,  NONE,SH-6005,  1,     -9,      -9,5,20000713,0903, 31.4880, 135.5923, 3050,      0.0,  27.0266,  34.2602,2,   -999.0,9,-999.0000,9,    204.3,2,  -999.00,9,  -999.00,9,     0.00,2,     0.00,2,     0.00,2, -999.000,9, -999.000,9,  -999.00,9,   -999.0,9,   -999.0,9,-999.0000,9,   -999.0,  9,  -999.00,9,   -999.0,  -999.00,9,  -999.00,9,  -999.00,9,  -999.00,9,   -999.0,-999.0000, -999,9,    0,  27.0266,  22.1522,   -999.0,9
       SH00-06,  NONE,SH-6005,  1,     10,1-133-94,2,20000713,0901, 31.4880, 135.5923, 3050,     50.5,  22.5592,  34.7522,2,   -999.0,9,  34.7300,4,    224.9,2,  -999.00,9,  -999.00,9,     0.10,2,     0.00,2,     0.01,2, -999.000,9, -999.000,9,  -999.00,9,   -999.0,9,   -999.0,9,-999.0000,9,   -999.0,  9,  -999.00,9,   -999.0,  -999.00,9,  -999.00,9,  -999.00,9,  -999.00,9,   -999.0,-999.0000, -999,9,   50,  22.5491,  23.8747,   -999.0,9
       SH00-06,  NONE,SH-6005,  1,      9, S-1-1-5,2,20000713,0900, 31.4880, 135.5923, 3050,    100.6,  19.7313,  34.7847,2,   -999.0,9,  34.7843,2,    218.0,2,  -999.00,9,  -999.00,9,     1.07,2,     0.13,2,     0.09,2, -999.000,9, -999.000,9,  -999.00,9,   -999.0,9,   -999.0,9,-999.0000,9,   -999.0,  9,  -999.00,9,   -999.0,  -999.00,9,  -999.00,9,  -999.00,9,  -999.00,9,   -999.0,-999.0000, -999,9,  100,  19.7129,  24.6728,   -999.0,9
       SH00-06,  NONE,SH-6005,  1,      8,1-133-95,2,20000713,0858, 31.4880, 135.5923, 3050,    152.1,  19.1735,  34.8001,2,   -999.0,9,  34.7987,2,    215.9,2,  -999.00,9,  -999.00,9,     1.66,2,     0.02,2,     0.13,2, -999.000,9, -999.000,9,  -999.00,9,   -999.0,9,   -999.0,9,-999.0000,9,   -999.0,  9,  -999.00,9,   -999.0,  -999.00,9,  -999.00,9,  -999.00,9,  -999.00,9,   -999.0,-999.0000, -999,9,  151,  19.1463,  24.8310,   -999.0,9
       SH00-06,  NONE,SH-6005,  1,      7, S-1-1-4,2,20000713,0856, 31.4880, 135.5923, 3050,    302.8,  18.7276,  34.8057,2,   -999.0,9,  34.8048,2,    216.3,2,  -999.00,9,  -999.00,9,     2.15,2,     0.01,2,     0.15,2, -999.000,9, -999.000,9,  -999.00,9,   -999.0,9,   -999.0,9,-999.0000,9,   -999.0,  9,  -999.00,9,   -999.0,  -999.00,9,  -999.00,9,  -999.00,9,  -999.00,9,   -999.0,-999.0000, -999,9,  300,  18.6741,  24.9552,   -999.0,9
       SH00-06,  NONE,SH-6005,  1,      6,1-133-93,2,20000713,0853, 31.4880, 135.5923, 3050,    401.4,  18.0564,  34.8050,2,   -999.0,9,  34.7973,2,    197.0,2,  -999.00,9,  -999.00,9,     5.07,2,     0.00,2,     0.32,2, -999.000,9, -999.000,9,  -999.00,9,   -999.0,9,   -999.0,9,-999.0000,9,   -999.0,  9,  -999.00,9,   -999.0,  -999.00,9,  -999.00,9,  -999.00,9,  -999.00,9,   -999.0,-999.0000, -999,9,  398,  17.9871,  25.1259,   -999.0,9
       SH00-06,  NONE,SH-6005,  1,      5,S-1-1-11,2,20000713,0851, 31.4880, 135.5923, 3050,    503.6,  16.1625,  34.7083,2,   -999.0,9,  34.7087,2,    189.6,2,  -999.00,9,  -999.00,9,     8.58,2,     0.00,2,     0.55,2, -999.000,9, -999.000,9,  -999.00,9,   -999.0,9,   -999.0,9,-999.0000,9,   -999.0,  9,  -999.00,9,   -999.0,  -999.00,9,  -999.00,9,  -999.00,9,  -999.00,9,   -999.0,-999.0000, -999,9,  500,  16.0818,  25.5045,   -999.0,9
       SH00-06,  NONE,SH-6005,  1,      4,S-1-1-12,2,20000713,0849, 31.4880, 135.5923, 3050,    604.5,  13.4372,  34.5130,2,   -999.0,9,  34.5116,2,    177.6,2,  -999.00,9,  -999.00,9,    14.13,2,     0.01,2,     0.93,2, -999.000,9, -999.000,9,  -999.00,9,   -999.0,9,   -999.0,9,-999.0000,9,   -999.0,  9,  -999.00,9,   -999.0,  -999.00,9,  -999.00,9,  -999.00,9,  -999.00,9,   -999.0,-999.0000, -999,9,  599,  13.3514,  25.9447,   -999.0,9
       SH00-06,  NONE,SH-6005,  1,      3,1-133-84,2,20000713,0845, 31.4880, 135.5923, 3050,    805.9,   8.3983,  34.2435,2,   -999.0,9,  34.2333,2,    131.1,2,  -999.00,9,  -999.00,9,    27.08,2,     0.00,2,     1.86,2, -999.000,9, -999.000,9,  -999.00,9,   -999.0,9,   -999.0,9,-999.0000,9,   -999.0,  9,  -999.00,9,   -999.0,  -999.00,9,  -999.00,9,  -999.00,9,  -999.00,9,   -999.0,-999.0000, -999,9,  799,   8.3121,  26.6328,   -999.0,9
       SH00-06,  NONE,SH-6005,  1,      2, S-1-1-7,2,20000713,0841, 31.4880, 135.5923, 3050,   1009.1,   5.4410,  34.3241,2,   -999.0,9,  34.3166,2,     85.0,2,  -999.00,9,  -999.00,9,    35.63,2,     0.00,2,     2.51,2, -999.000,9, -999.000,9,  -999.00,9,   -999.0,9,   -999.0,9,-999.0000,9,   -999.0,  9,  -999.00,9,   -999.0,  -999.00,9,  -999.00,9,  -999.00,9,  -999.00,9,   -999.0,-999.0000, -999,9, 1000,   5.3538,  27.0979,   -999.0,9
       SH00-06,  NONE,SH-6005,  1,      1, 1-133-1,2,20000713,0837, 31.4880, 135.5923, 3050,   1212.4,   3.8173,  34.3802,2,   -999.0,9,  34.3791,2,     66.1,2,  -999.00,9,  -999.00,9,    39.81,2,     0.00,2,     2.77,2, -999.000,9, -999.000,9,  -999.00,9,   -999.0,9,   -999.0,9,-999.0000,9,   -999.0,  9,  -999.00,9,   -999.0,  -999.00,9,  -999.00,9,  -999.00,9,  -999.00,9,   -999.0,-999.0000, -999,9, 1201,   3.7256,  27.3210,   -999.0,9
       SH00-06,  NONE,SH-6005,  1,     12, 1-133-7,2,20000713,0832, 31.4880, 135.5923, 3050,   1516.4,   2.9385,  34.4788,2,   -999.0,9,  34.4780,2,     70.3,2,  -999.00,9,  -999.00,9,    40.49,2,     0.00,2,     2.80,2, -999.000,9, -999.000,9,  -999.00,9,   -999.0,9,   -999.0,9,-999.0000,9,   -999.0,  9,  -999.00,9,   -999.0,  -999.00,9,  -999.00,9,  -999.00,9,  -999.00,9,   -999.0,-999.0000, -999,9, 1500,   2.8302,  27.4844,   -999.0,9