BOTTLE,20130510GEMDJMAYT
EXPOCODE,SECT_ID,STNNBR,CASTNO,SAMPNO,BTLNBR,BTLNBR_FLAG_W,DATE,TIME,LATITUDE,LONGITUDE,DEPTH,CTDPRS,CTDTMP,CTDSAL,CTDSAL_FLAG_W,CTDOXY,CTDOXY_FLAG_W,SALNTY,SALNTY_FLAG_W,OXYGEN,OXYGEN_FLAG_W,SILCAT,SILCAT_FLAG_W,NITRAT,NITRAT_FLAG_W,NO2+NO3,NO2+NO3_FLAG_W,NITRIT,NITRIT_FLAG_W,PHSPHT,PHSPHT_FLAG_W,CFC-11,CFC-11_FLAG_W,CFC-12,CFC-12_FLAG_W,DELC13,DELC13_FLAG_W,TCARBN,TCARBN_FLAG_W,ALKALI,ALKALI_FLAG_W,PH,PH_FLAG_W,PH_TMP,PH_SCALE,PH_NBS,PH_NBS_FLAG_W,C13ERR,TOTALP,TOTALP_FLAG_W,AMMONI,AMMONI_FLAG_W,CHLORA,CHLORA_FLAG_W,PPHYTN,PPHYTN_FLAG_W,REVPRS,REVTMP,DEPTH_,DEPTH_FLAG,CTDDEP,THETA,SIGTHT,DOC,DOC_FLAG_W
,,,,,,,GMT,GMT,,,METER,DBAR,ITS-90,PSS-78,,UMOL/KG,,PSS-78,,UMOL/KG,,UMOL/KG,,UMOL/KG,,UMOL/KG,,UMOL/KG,,UMOL/KG,,PMOL/KG,,PMOL/KG,,/MILLE,,UMOL/KG,,UMOL/KG,,25_DEG_C,,DEG_C,,,,/MILLE,UMOL/KG,,UMOL/KG,,UG/L,,UG/L,,DBAR,ITS-90,METERS,,METERS,DEG_C,,UMOL/L,
       SH00-06,  NONE,SH-5971,  2,     -9,      -9,5,20000630,0747, 30.4948, 135.2540, 4310,      0.0,  27.1310,  34.1406,2,   -999.0,9,  34.1460,2,    206.5,2,  -999.00,9,  -999.00,9,     0.00,2,     0.01,2,     0.00,2, -999.000,9, -999.000,9,  -999.00,9,   1915.0,6,   -999.0,9,-999.0000,9,   -999.0,  9,     8.26,2,   -999.0,  -999.00,9,  -999.00,9,     0.04,2,     0.02,2,   -999.0,-999.0000, -999,9,    0,  27.1310,  22.0288,   -999.0,9
       SH00-06,  NONE,SH-5971,  2,      6, S-1-1-8,2,20000630,0746, 30.4948, 135.2540, 4310,     10.9,  26.3275,  34.1469,2,   -999.0,9,-999.0000,9,    207.4,2,  -999.00,9,  -999.00,9,     0.00,2,     0.00,2,     0.00,2, -999.000,9, -999.000,9,  -999.00,9,   -999.0,9,   -999.0,9,-999.0000,9,   -999.0,  9,  -999.00,9,   -999.0,  -999.00,9,  -999.00,9,     0.07,2,     0.03,2,   -999.0,-999.0000, -999,9,   11,  26.3250,  22.2885,   -999.0,9
       SH00-06,  NONE,SH-5971,  2,      5,S-1-1-11,2,20000630,0745, 30.4948, 135.2540, 4310,     25.9,  24.0079,  34.5423,2,   -999.0,9,-999.0000,9,    219.2,2,  -999.00,9,  -999.00,9,     0.00,2,     0.00,2,     0.01,2, -999.000,9, -999.000,9,  -999.00,9,   -999.0,9,   -999.0,9,-999.0000,9,   -999.0,  9,  -999.00,9,   -999.0,  -999.00,9,  -999.00,9,     0.09,2,     0.05,2,   -999.0,-999.0000, -999,9,   26,  24.0025,  23.2941,   -999.0,9
       SH00-06,  NONE,SH-5971,  2,      4,S-1-1-12,2,20000630,0744, 30.4948, 135.2540, 4310,     51.6,  21.6940,  34.7370,2,   -999.0,9,-999.0000,9,    221.4,2,  -999.00,9,  -999.00,9,     0.00,2,     0.01,2,     0.04,2, -999.000,9, -999.000,9,  -999.00,9,   -999.0,9,   -999.0,9,-999.0000,9,   -999.0,  9,  -999.00,9,   -999.0,  -999.00,9,  -999.00,9,     0.20,2,     0.20,2,   -999.0,-999.0000, -999,9,   51,  21.6839,  24.1060,   -999.0,9
       SH00-06,  NONE,SH-5971,  2,      3,1-133-84,2,20000630,0743, 30.4948, 135.2540, 4310,     75.9,  20.6319,  34.7749,2,   -999.0,9,-999.0000,9,    212.5,2,  -999.00,9,  -999.00,9,     1.37,2,     0.18,2,     0.12,2, -999.000,9, -999.000,9,  -999.00,9,   -999.0,9,   -999.0,9,-999.0000,9,   -999.0,  9,  -999.00,9,   -999.0,  -999.00,9,  -999.00,9,     0.26,2,     0.47,2,   -999.0,-999.0000, -999,9,   75,  20.6176,  24.4259,   -999.0,9
       SH00-06,  NONE,SH-5971,  2,      2, S-1-1-7,2,20000630,0741, 30.4948, 135.2540, 4310,    101.3,  20.0108,  34.8012,2,   -999.0,9,-999.0000,9,    218.5,2,  -999.00,9,  -999.00,9,     0.88,2,     0.18,2,     0.10,2, -999.000,9, -999.000,9,  -999.00,9,   -999.0,9,   -999.0,9,-999.0000,9,   -999.0,  9,  -999.00,9,   -999.0,  -999.00,9,  -999.00,9,     0.11,2,     0.24,2,   -999.0,-999.0000, -999,9,  101,  19.9922,  24.6122,   -999.0,9
       SH00-06,  NONE,SH-5971,  2,      1, 1-133-1,2,20000630,0740, 30.4948, 135.2540, 4310,    126.8,  19.5221,  34.7801,2,   -999.0,9,-999.0000,9,    217.8,2,  -999.00,9,  -999.00,9,     1.37,2,     0.03,2,     0.12,2, -999.000,9, -999.000,9,  -999.00,9,   -999.0,9,   -999.0,9,-999.0000,9,   -999.0,  9,  -999.00,9,   -999.0,  -999.00,9,  -999.00,9,     0.05,2,     0.12,2,   -999.0,-999.0000, -999,9,  126,  19.4991,  24.7249,   -999.0,9
       SH00-06,  NONE,SH-5971,  2,     12, 1-133-7,2,20000630,0739, 30.4948, 135.2540, 4310,    151.8,  19.3069,  34.7928,2,   -999.0,9,-999.0000,9,    215.6,2,  -999.00,9,  -999.00,9,     1.76,2,     0.03,2,     0.15,2, -999.000,9, -999.000,9,  -999.00,9,   -999.0,9,   -999.0,9,-999.0000,9,   -999.0,  9,  -999.00,9,   -999.0,  -999.00,9,  -999.00,9,     0.02,2,     0.04,2,   -999.0,-999.0000, -999,9,  151,  19.2796,  24.7912,   -999.0,9
       SH00-06,  NONE,SH-5971,  2,     11,S-1-1-10,2,20000630,0738, 30.4948, 135.2540, 4310,    203.3,  19.0053,  34.8039,2,   -999.0,9,-999.0000,9,    216.3,2,  -999.00,9,  -999.00,9,     1.85,2,     0.02,2,     0.15,2, -999.000,9, -999.000,9,  -999.00,9,   -999.0,9,   -999.0,9,-999.0000,9,   -999.0,  9,  -999.00,9,   -999.0,  -999.00,9,  -999.00,9,     0.00,2,     0.02,2,   -999.0,-999.0000, -999,9,  202,  18.9691,  24.8791,   -999.0,9
       SH00-06,  NONE,SH-5971,  2,     10,1-133-94,2,20000630,0737, 30.4948, 135.2540, 4310,    252.5,  18.8428,  34.8036,2,   -999.0,9,-999.0000,9,    217.9,2,  -999.00,9,  -999.00,9,     1.95,2,     0.02,2,     0.15,2, -999.000,9, -999.000,9,  -999.00,9,   -999.0,9,   -999.0,9,-999.0000,9,   -999.0,  9,  -999.00,9,   -999.0,  -999.00,9,  -999.00,9,     0.00,2,     0.01,2,   -999.0,-999.0000, -999,9,  251,  18.7980,  24.9223,   -999.0,9
       SH00-06,  NONE,SH-5971,  2,      9, S-1-1-5,2,20000630,0735, 30.4948, 135.2540, 4310,    305.8,  18.6355,  34.8018,2,   -999.0,9,-999.0000,9,    212.8,2,  -999.00,9,  -999.00,9,     2.63,2,     0.02,2,     0.20,2, -999.000,9, -999.000,9,  -999.00,9,   -999.0,9,   -999.0,9,-999.0000,9,   -999.0,  9,  -999.00,9,   -999.0,  -999.00,9,  -999.00,9,     0.00,2,     0.01,2,   -999.0,-999.0000, -999,9,  304,  18.5817,  24.9755,   -999.0,9
       SH00-06,  NONE,SH-5971,  1,      8,1-133-95,2,20000630,0711, 30.4985, 135.2525, 4310,    401.5,  17.1282,  34.7670,2,   -999.0,9,-999.0000,9,    191.2,2,  -999.00,9,  -999.00,9,     6.83,2,     0.01,2,     0.46,2, -999.000,9, -999.000,9,  -999.00,9,   -999.0,9,   -999.0,9,-999.0000,9,   -999.0,  9,  -999.00,9,   -999.0,  -999.00,9,  -999.00,9,  -999.00,9,  -999.00,9,   -999.0,-999.0000, -999,9,  398,  17.0613,  25.3208,   -999.0,9
       SH00-06,  NONE,SH-5971,  1,      7, S-1-1-4,2,20000630,0710, 30.4985, 135.2525, 4310,    502.1,  15.1341,  34.6389,2,   -999.0,9,-999.0000,9,    186.5,2,  -999.00,9,  -999.00,9,    10.33,2,     0.00,2,     0.68,2, -999.000,9, -999.000,9,  -999.00,9,   -999.0,9,   -999.0,9,-999.0000,9,   -999.0,  9,  -999.00,9,   -999.0,  -999.00,9,  -999.00,9,  -999.00,9,  -999.00,9,   -999.0,-999.0000, -999,9,  498,  15.0571,  25.6810,   -999.0,9
       SH00-06,  NONE,SH-5971,  1,      6, S-1-1-8,2,20000630,0708, 30.4985, 135.2525, 4310,    603.4,  12.1135,  34.4208,2,   -999.0,9,-999.0000,9,    171.3,2,  -999.00,9,  -999.00,9,    16.76,2,     0.01,2,     1.14,2, -999.000,9, -999.000,9,  -999.00,9,   -999.0,9,   -999.0,9,-999.0000,9,   -999.0,  9,  -999.00,9,   -999.0,  -999.00,9,  -999.00,9,  -999.00,9,  -999.00,9,   -999.0,-999.0000, -999,9,  598,  12.0334,  26.1328,   -999.0,9
       SH00-06,  NONE,SH-5971,  1,      5,S-1-1-11,2,20000630,0706, 30.4985, 135.2525, 4310,    704.1,   9.4510,  34.2669,2,   -999.0,9,-999.0000,9,    150.5,2,  -999.00,9,  -999.00,9,    23.28,2,     0.00,2,     1.62,2, -999.000,9, -999.000,9,  -999.00,9,   -999.0,9,   -999.0,9,-999.0000,9,   -999.0,  9,  -999.00,9,   -999.0,  -999.00,9,  -999.00,9,  -999.00,9,  -999.00,9,   -999.0,-999.0000, -999,9,  698,   9.3707,  26.4843,   -999.0,9
       SH00-06,  NONE,SH-5971,  1,      4,S-1-1-12,2,20000630,0705, 30.4985, 135.2525, 4310,    805.3,   7.0917,  34.2125,2,   -999.0,9,-999.0000,9,    118.2,2,  -999.00,9,  -999.00,9,    30.09,2,     0.00,2,     2.10,2, -999.000,9, -999.000,9,  -999.00,9,   -999.0,9,   -999.0,9,-999.0000,9,   -999.0,  9,  -999.00,9,   -999.0,  -999.00,9,  -999.00,9,  -999.00,9,  -999.00,9,   -999.0,-999.0000, -999,9,  798,   7.0134,  26.7966,   -999.0,9
       SH00-06,  NONE,SH-5971,  1,      3,1-133-84,2,20000630,0703, 30.4985, 135.2525, 4310,    907.2,   5.6102,  34.2233,2,   -999.0,9,-999.0000,9,     90.8,2,  -999.00,9,  -999.00,9,    34.66,2,     0.00,2,     2.45,2, -999.000,9, -999.000,9,  -999.00,9,   -999.0,9,   -999.0,9,-999.0000,9,   -999.0,  9,  -999.00,9,   -999.0,  -999.00,9,  -999.00,9,  -999.00,9,  -999.00,9,   -999.0,-999.0000, -999,9,  899,   5.5315,  26.9969,   -999.0,9
       SH00-06,  NONE,SH-5971,  1,      2, S-1-1-7,2,20000630,0701, 30.4985, 135.2525, 4310,   1007.9,   4.7491,  34.3053,2,   -999.0,9,-999.0000,9,     75.5,2,  -999.00,9,  -999.00,9,    37.38,2,     0.00,2,     2.62,2, -999.000,9, -999.000,9,  -999.00,9,   -999.0,9,   -999.0,9,-999.0000,9,   -999.0,  9,  -999.00,9,   -999.0,  -999.00,9,  -999.00,9,  -999.00,9,  -999.00,9,   -999.0,-999.0000, -999,9,  999,   4.6673,  27.1621,   -999.0,9
       SH00-06,  NONE,SH-5971,  1,      1, 1-133-1,2,20000630,0659, 30.4985, 135.2525, 4310,   1212.1,   3.6262,  34.4140,2,   -999.0,9,-999.0000,9,     66.6,2,  -999.00,9,  -999.00,9,    39.42,2,     0.00,2,     2.77,2, -999.000,9, -999.000,9,  -999.00,9,   -999.0,9,   -999.0,9,-999.0000,9,   -999.0,  9,  -999.00,9,   -999.0,  -999.00,9,  -999.00,9,  -999.00,9,  -999.00,9,   -999.0,-999.0000, -999,9, 1200,   3.5362,  27.3667,   -999.0,9
       SH00-06,  NONE,SH-5971,  1,     12, 1-133-7,2,20000630,0655, 30.4985, 135.2525, 4310,   1517.5,   2.9091,  34.4877,2,   -999.0,9,-999.0000,9,     75.2,2,  -999.00,9,  -999.00,9,    39.71,2,     0.00,2,     2.78,2, -999.000,9, -999.000,9,  -999.00,9,   -999.0,9,   -999.0,9,-999.0000,9,   -999.0,  9,  -999.00,9,   -999.0,  -999.00,9,  -999.00,9,  -999.00,9,  -999.00,9,   -999.0,-999.0000, -999,9, 1502,   2.8010,  27.4941,   -999.0,9
       SH00-06,  NONE,SH-5972,  2,     -9,      -9,5,20000630,1246, 29.9987, 135.2435, 4270,      0.0,  26.8883,  34.4299,2,   -999.0,9,  34.4284,2,    208.2,2,  -999.00,9,  -999.00,9,     0.00,2,     0.00,2,     0.00,2, -999.000,9, -999.000,9,  -999.00,9,   1930.4,2,   -999.0,9,-999.0000,9,   -999.0,  9,     8.25,2,   -999.0,  -999.00,9,  -999.00,9,     0.05,2,     0.02,2,   -999.0,-999.0000, -999,9,    0,  26.8883,  22.3240,   -999.0,9
       SH00-06,  NONE,SH-5972,  2,      1, 1-133-1,2,20000630,1245, 29.9987, 135.2435, 4270,     11.3,  26.0052,  34.4233,2,   -999.0,9,  34.4269,2,    209.1,2,  -999.00,9,  -999.00,9,     0.00,2,     0.00,2,     0.00,2, -999.000,9, -999.000,9,  -999.00,9,   -999.0,9,   -999.0,9,-999.0000,9,   -999.0,  9,  -999.00,9,   -999.0,  -999.00,9,  -999.00,9,     0.07,2,     0.03,2,   -999.0,-999.0000, -999,9,   11,  26.0027,  22.5974,   -999.0,9
       SH00-06,  NONE,SH-5972,  2,     12, 1-133-7,2,20000630,1245, 29.9987, 135.2435, 4270,     25.9,  25.2456,  34.3466,2,   -999.0,9,  34.3536,2,    212.8,2,  -999.00,9,  -999.00,9,     0.00,2,     0.00,2,     0.00,2, -999.000,9, -999.000,9,  -999.00,9,   -999.0,9,   -999.0,9,-999.0000,9,   -999.0,  9,  -999.00,9,   -999.0,  -999.00,9,  -999.00,9,     0.13,2,     0.05,2,   -999.0,-999.0000, -999,9,   26,  25.2400,  22.7745,   -999.0,9
       SH00-06,  NONE,SH-5972,  2,     11,S-1-1-10,2,20000630,1244, 29.9987, 135.2435, 4270,     51.1,  23.7664,  34.5810,2,   -999.0,9,  34.5667,4,    214.5,2,  -999.00,9,  -999.00,9,     0.00,2,     0.00,2,     0.02,2, -999.000,9, -999.000,9,  -999.00,9,   -999.0,9,   -999.0,9,-999.0000,9,   -999.0,  9,  -999.00,9,   -999.0,  -999.00,9,  -999.00,9,     0.12,2,     0.09,2,   -999.0,-999.0000, -999,9,   51,  23.7558,  23.3962,   -999.0,9
       SH00-06,  NONE,SH-5972,  2,     10,1-133-94,2,20000630,1242, 29.9987, 135.2435, 4270,     75.5,  22.7483,  34.6866,2,   -999.0,9,  34.6888,2,    213.4,2,  -999.00,9,  -999.00,9,     0.10,2,     0.05,2,     0.04,2, -999.000,9, -999.000,9,  -999.00,9,   -999.0,9,   -999.0,9,-999.0000,9,   -999.0,  9,  -999.00,9,   -999.0,  -999.00,9,  -999.00,9,     0.33,2,     0.65,2,   -999.0,-999.0000, -999,9,   75,  22.7331,  23.7724,   -999.0,9
       SH00-06,  NONE,SH-5972,  2,      9, S-1-1-5,2,20000630,1241, 29.9987, 135.2435, 4270,    101.6,  21.6667,  34.7465,2,   -999.0,9,  34.7434,2,    205.9,2,  -999.00,9,  -999.00,9,     1.37,2,     0.10,2,     0.12,2, -999.000,9, -999.000,9,  -999.00,9,   -999.0,9,   -999.0,9,-999.0000,9,   -999.0,  9,  -999.00,9,   -999.0,  -999.00,9,  -999.00,9,     0.12,2,     0.30,2,   -999.0,-999.0000, -999,9,  101,  21.6469,  24.1235,   -999.0,9
       SH00-06,  NONE,SH-5972,  2,      8,1-133-95,2,20000630,1240, 29.9987, 135.2435, 4270,    127.0,  21.0864,  34.7589,2,   -999.0,9,  34.7605,2,    208.2,2,  -999.00,9,  -999.00,9,     1.56,2,     0.08,2,     0.12,2, -999.000,9, -999.000,9,  -999.00,9,   -999.0,9,   -999.0,9,-999.0000,9,   -999.0,  9,  -999.00,9,   -999.0,  -999.00,9,  -999.00,9,     0.05,2,     0.14,2,   -999.0,-999.0000, -999,9,  126,  21.0620,  24.2935,   -999.0,9
       SH00-06,  NONE,SH-5972,  2,      7, S-1-1-4,2,20000630,1239, 29.9987, 135.2435, 4270,    151.5,  20.3229,  34.7795,2,   -999.0,9,  34.7786,2,    209.5,2,  -999.00,9,  -999.00,9,     1.85,2,     0.07,2,     0.14,2, -999.000,9, -999.000,9,  -999.00,9,   -999.0,9,   -999.0,9,-999.0000,9,   -999.0,  9,  -999.00,9,   -999.0,  -999.00,9,  -999.00,9,     0.03,2,     0.07,2,   -999.0,-999.0000, -999,9,  150,  20.2946,  24.5156,   -999.0,9
       SH00-06,  NONE,SH-5972,  2,      6, S-1-1-8,2,20000630,1238, 29.9987, 135.2435, 4270,    203.6,  19.4698,  34.7973,2,   -999.0,9,  34.7987,2,    213.3,2,  -999.00,9,  -999.00,9,     1.76,2,     0.02,2,     0.14,2, -999.000,9, -999.000,9,  -999.00,9,   -999.0,9,   -999.0,9,-999.0000,9,   -999.0,  9,  -999.00,9,   -999.0,  -999.00,9,  -999.00,9,     0.01,2,     0.05,2,   -999.0,-999.0000, -999,9,  202,  19.4329,  24.7551,   -999.0,9
       SH00-06,  NONE,SH-5972,  2,      5,S-1-1-11,2,20000630,1237, 29.9987, 135.2435, 4270,    253.0,  18.9751,  34.8077,2,   -999.0,9,  34.8034,2,    209.5,2,  -999.00,9,  -999.00,9,     2.54,2,     0.02,2,     0.18,2, -999.000,9, -999.000,9,  -999.00,9,   -999.0,9,   -999.0,9,-999.0000,9,   -999.0,  9,  -999.00,9,   -999.0,  -999.00,9,  -999.00,9,     0.01,2,     0.02,2,   -999.0,-999.0000, -999,9,  251,  18.9301,  24.8920,   -999.0,9
       SH00-06,  NONE,SH-5972,  2,      4,S-1-1-12,2,20000630,1235, 29.9987, 135.2435, 4270,    303.9,  18.4950,  34.8021,2,   -999.0,9,  34.8003,2,    208.8,2,  -999.00,9,  -999.00,9,     3.22,2,     0.01,2,     0.22,2, -999.000,9, -999.000,9,  -999.00,9,   -999.0,9,   -999.0,9,-999.0000,9,   -999.0,  9,  -999.00,9,   -999.0,  -999.00,9,  -999.00,9,     0.00,2,     0.01,2,   -999.0,-999.0000, -999,9,  302,  18.4418,  25.0108,   -999.0,9
       SH00-06,  NONE,SH-5972,  1,      3,1-133-84,2,20000630,1212, 29.9990, 135.2483, 4110,    402.7,  16.8167,  34.7470,2,   -999.0,9,  34.7510,2,    190.8,2,  -999.00,9,  -999.00,9,     7.31,2,     0.01,2,     0.48,2, -999.000,9, -999.000,9,  -999.00,9,   -999.0,9,   -999.0,9,-999.0000,9,   -999.0,  9,  -999.00,9,   -999.0,  -999.00,9,  -999.00,9,  -999.00,9,  -999.00,9,   -999.0,-999.0000, -999,9,  400,  16.7505,  25.3790,   -999.0,9
       SH00-06,  NONE,SH-5972,  1,      2, S-1-1-7,2,20000630,1210, 29.9990, 135.2483, 4110,    503.3,  14.4522,  34.5970,2,   -999.0,9,  34.5869,2,    184.6,2,  -999.00,9,  -999.00,9,    11.70,2,     0.01,2,     0.77,2, -999.000,9, -999.000,9,  -999.00,9,   -999.0,9,   -999.0,9,-999.0000,9,   -999.0,  9,  -999.00,9,   -999.0,  -999.00,9,  -999.00,9,  -999.00,9,  -999.00,9,   -999.0,-999.0000, -999,9,  499,  14.3774,  25.7958,   -999.0,9
       SH00-06,  NONE,SH-5972,  1,      1, 1-133-1,2,20000630,1208, 29.9990, 135.2483, 4110,    603.2,  11.5379,  34.3882,2,   -999.0,9,  34.3868,2,    169.1,2,  -999.00,9,  -999.00,9,    18.03,2,     0.00,2,     1.22,2, -999.000,9, -999.000,9,  -999.00,9,   -999.0,9,   -999.0,9,-999.0000,9,   -999.0,  9,  -999.00,9,   -999.0,  -999.00,9,  -999.00,9,  -999.00,9,  -999.00,9,   -999.0,-999.0000, -999,9,  598,  11.4604,  26.2151,   -999.0,9
       SH00-06,  NONE,SH-5972,  1,     12, 1-133-7,2,20000630,1206, 29.9990, 135.2483, 4110,    705.2,   8.7594,  34.2155,2,   -999.0,9,  34.2082,2,    156.3,2,  -999.00,9,  -999.00,9,    23.87,2,     0.01,2,     1.64,2, -999.000,9, -999.000,9,  -999.00,9,   -999.0,9,   -999.0,9,-999.0000,9,   -999.0,  9,  -999.00,9,   -999.0,  -999.00,9,  -999.00,9,  -999.00,9,  -999.00,9,   -999.0,-999.0000, -999,9,  699,   8.6826,  26.5538,   -999.0,9
       SH00-06,  NONE,SH-5972,  1,     11,S-1-1-10,2,20000630,1204, 29.9990, 135.2483, 4110,    806.2,   6.8879,  34.2058,2,   -999.0,9,  34.2076,2,    113.4,2,  -999.00,9,  -999.00,9,    31.07,2,     0.00,2,     2.16,2, -999.000,9, -999.000,9,  -999.00,9,   -999.0,9,   -999.0,9,-999.0000,9,   -999.0,  9,  -999.00,9,   -999.0,  -999.00,9,  -999.00,9,  -999.00,9,  -999.00,9,   -999.0,-999.0000, -999,9,  799,   6.8107,  26.8189,   -999.0,9
       SH00-06,  NONE,SH-5972,  1,     10,1-133-94,2,20000630,1202, 29.9990, 135.2483, 4110,    907.9,   5.7400,  34.2549,2,   -999.0,9,  34.2551,2,     90.4,2,  -999.00,9,  -999.00,9,    34.76,2,     0.00,2,     2.43,2, -999.000,9, -999.000,9,  -999.00,9,   -999.0,9,   -999.0,9,-999.0000,9,   -999.0,  9,  -999.00,9,   -999.0,  -999.00,9,  -999.00,9,  -999.00,9,  -999.00,9,   -999.0,-999.0000, -999,9,  900,   5.6602,  27.0061,   -999.0,9
       SH00-06,  NONE,SH-5972,  1,      9, S-1-1-5,2,20000630,1200, 29.9990, 135.2483, 4110,   1009.5,   4.7039,  34.3207,2,   -999.0,9,  34.3198,2,     75.8,2,  -999.00,9,  -999.00,9,    37.58,2,     0.00,2,     2.62,2, -999.000,9, -999.000,9,  -999.00,9,   -999.0,9,   -999.0,9,-999.0000,9,   -999.0,  9,  -999.00,9,   -999.0,  -999.00,9,  -999.00,9,  -999.00,9,  -999.00,9,   -999.0,-999.0000, -999,9, 1000,   4.6224,  27.1793,   -999.0,9
       SH00-06,  NONE,SH-5972,  1,      8,1-133-95,2,20000630,1157, 29.9990, 135.2483, 4110,   1211.7,   3.5616,  34.4114,2,   -999.0,9,  34.4153,2,     66.2,2,  -999.00,9,  -999.00,9,    39.81,2,     0.00,2,     2.79,2, -999.000,9, -999.000,9,  -999.00,9,   -999.0,9,   -999.0,9,-999.0000,9,   -999.0,  9,  -999.00,9,   -999.0,  -999.00,9,  -999.00,9,  -999.00,9,  -999.00,9,   -999.0,-999.0000, -999,9, 1200,   3.4723,  27.3708,   -999.0,9
       SH00-06,  NONE,SH-5972,  1,      7, S-1-1-4,2,20000630,1153, 29.9990, 135.2483, 4110,   1517.3,   2.7630,  34.4985,2,   -999.0,9,  34.4992,2,     76.1,2,  -999.00,9,  -999.00,9,    40.00,2,     0.01,2,     2.80,2, -999.000,9, -999.000,9,  -999.00,9,   -999.0,9,   -999.0,9,-999.0000,9,   -999.0,  9,  -999.00,9,   -999.0,  -999.00,9,  -999.00,9,  -999.00,9,  -999.00,9,   -999.0,-999.0000, -999,9, 1502,   2.6567,  27.5154,   -999.0,9