BOTTLE,20130510GEMDJMAYT
EXPOCODE,SECT_ID,STNNBR,CASTNO,SAMPNO,BTLNBR,BTLNBR_FLAG_W,DATE,TIME,LATITUDE,LONGITUDE,DEPTH,CTDPRS,CTDTMP,CTDSAL,CTDSAL_FLAG_W,CTDOXY,CTDOXY_FLAG_W,SALNTY,SALNTY_FLAG_W,OXYGEN,OXYGEN_FLAG_W,SILCAT,SILCAT_FLAG_W,NITRAT,NITRAT_FLAG_W,NO2+NO3,NO2+NO3_FLAG_W,NITRIT,NITRIT_FLAG_W,PHSPHT,PHSPHT_FLAG_W,CFC-11,CFC-11_FLAG_W,CFC-12,CFC-12_FLAG_W,DELC13,DELC13_FLAG_W,TCARBN,TCARBN_FLAG_W,ALKALI,ALKALI_FLAG_W,PH,PH_FLAG_W,PH_TMP,PH_SCALE,PH_NBS,PH_NBS_FLAG_W,C13ERR,TOTALP,TOTALP_FLAG_W,AMMONI,AMMONI_FLAG_W,CHLORA,CHLORA_FLAG_W,PPHYTN,PPHYTN_FLAG_W,REVPRS,REVTMP,DEPTH_,DEPTH_FLAG,CTDDEP,THETA,SIGTHT,DOC,DOC_FLAG_W
,,,,,,,GMT,GMT,,,METER,DBAR,ITS-90,PSS-78,,UMOL/KG,,PSS-78,,UMOL/KG,,UMOL/KG,,UMOL/KG,,UMOL/KG,,UMOL/KG,,UMOL/KG,,PMOL/KG,,PMOL/KG,,/MILLE,,UMOL/KG,,UMOL/KG,,25_DEG_C,,DEG_C,,,,/MILLE,UMOL/KG,,UMOL/KG,,UG/L,,UG/L,,DBAR,ITS-90,METERS,,METERS,DEG_C,,UMOL/L,
       SH00-06,  NONE,SH-5981,  1,      6, S-1-1-8,2,20000702,2127, 30.9968, 131.7145, 1460,    402.7,   8.3225,  34.3211,2,   -999.0,9,-999.0000,9,    119.4,2,  -999.00,9,  -999.00,9,    27.86,2,     0.01,2,     1.93,2, -999.000,9, -999.000,9,  -999.00,9,   -999.0,9,   -999.0,9,-999.0000,9,   -999.0,  9,  -999.00,9,   -999.0,  -999.00,9,  -999.00,9,  -999.00,9,  -999.00,9,   -999.0,-999.0000, -999,9,  400,   8.2806,  26.6985,   -999.0,9
       SH00-06,  NONE,SH-5981,  1,      5,S-1-1-11,2,20000702,2125, 30.9968, 131.7145, 1460,    504.3,   6.5628,  34.2691,2,   -999.0,9,-999.0000,9,    101.8,2,  -999.00,9,  -999.00,9,    32.43,2,     0.01,2,     2.26,2, -999.000,9, -999.000,9,  -999.00,9,   -999.0,9,   -999.0,9,-999.0000,9,   -999.0,  9,  -999.00,9,   -999.0,  -999.00,9,  -999.00,9,  -999.00,9,  -999.00,9,   -999.0,-999.0000, -999,9,  500,   6.5167,  26.9082,   -999.0,9
       SH00-06,  NONE,SH-5981,  1,      4,S-1-1-12,2,20000702,2123, 30.9968, 131.7145, 1460,    604.3,   5.5446,  34.2767,2,   -999.0,9,-999.0000,9,     86.5,2,  -999.00,9,  -999.00,9,    35.44,2,     0.00,2,     2.48,2, -999.000,9, -999.000,9,  -999.00,9,   -999.0,9,   -999.0,9,-999.0000,9,   -999.0,  9,  -999.00,9,   -999.0,  -999.00,9,  -999.00,9,  -999.00,9,  -999.00,9,   -999.0,-999.0000, -999,9,  599,   5.4937,  27.0436,   -999.0,9
       SH00-06,  NONE,SH-5981,  1,      3,1-133-84,2,20000702,2121, 30.9968, 131.7145, 1460,    705.4,   4.8148,  34.3310,2,   -999.0,9,-999.0000,9,     75.8,2,  -999.00,9,  -999.00,9,    37.38,2,     0.00,2,     2.62,2, -999.000,9, -999.000,9,  -999.00,9,   -999.0,9,   -999.0,9,-999.0000,9,   -999.0,  9,  -999.00,9,   -999.0,  -999.00,9,  -999.00,9,  -999.00,9,  -999.00,9,   -999.0,-999.0000, -999,9,  699,   4.7587,  27.1722,   -999.0,9
       SH00-06,  NONE,SH-5981,  1,      2, S-1-1-7,2,20000702,2119, 30.9968, 131.7145, 1460,    806.8,   4.1048,  34.3649,2,   -999.0,9,-999.0000,9,     68.4,2,  -999.00,9,  -999.00,9,    38.84,2,     0.00,2,     2.73,2, -999.000,9, -999.000,9,  -999.00,9,   -999.0,9,   -999.0,9,-999.0000,9,   -999.0,  9,  -999.00,9,   -999.0,  -999.00,9,  -999.00,9,  -999.00,9,  -999.00,9,   -999.0,-999.0000, -999,9,  800,   4.0444,  27.2763,   -999.0,9
       SH00-06,  NONE,SH-5981,  1,      1, 1-133-1,2,20000702,2116, 30.9968, 131.7145, 1460,    908.3,   3.7827,  34.3980,2,   -999.0,9,-999.0000,9,     66.3,2,  -999.00,9,  -999.00,9,    39.42,2,     0.00,2,     2.76,2, -999.000,9, -999.000,9,  -999.00,9,   -999.0,9,   -999.0,9,-999.0000,9,   -999.0,  9,  -999.00,9,   -999.0,  -999.00,9,  -999.00,9,  -999.00,9,  -999.00,9,   -999.0,-999.0000, -999,9,  900,   3.7163,  27.3361,   -999.0,9
       SH00-06,  NONE,SH-5981,  1,     12, 1-133-7,2,20000702,2114, 30.9968, 131.7145, 1460,   1010.9,   3.5587,  34.4174,2,   -999.0,9,-999.0000,9,     67.0,2,  -999.00,9,  -999.00,9,    39.62,2,     0.00,2,     2.77,2, -999.000,9, -999.000,9,  -999.00,9,   -999.0,9,   -999.0,9,-999.0000,9,   -999.0,  9,  -999.00,9,   -999.0,  -999.00,9,  -999.00,9,  -999.00,9,  -999.00,9,   -999.0,-999.0000, -999,9, 1002,   3.4857,  27.3743,   -999.0,9
       SH00-06,  NONE,SH-5981,  1,     11,S-1-1-10,2,20000702,2110, 30.9968, 131.7145, 1460,   1213.8,   2.9743,  34.4779,2,   -999.0,9,-999.0000,9,     71.5,2,  -999.00,9,  -999.00,9,    40.10,2,     0.00,2,     2.80,2, -999.000,9, -999.000,9,  -999.00,9,   -999.0,9,   -999.0,9,-999.0000,9,   -999.0,  9,  -999.00,9,   -999.0,  -999.00,9,  -999.00,9,  -999.00,9,  -999.00,9,   -999.0,-999.0000, -999,9, 1202,   2.8901,  27.4783,   -999.0,9
       SH00-06,  NONE,SH-5981,  1,     10,1-133-94,2,20000702,2107, 30.9968, 131.7145, 1460,   1321.6,   2.8321,  34.4914,2,   -999.0,9,-999.0000,9,     73.9,2,  -999.00,9,  -999.00,9,    40.10,2,     0.00,2,     2.75,2, -999.000,9, -999.000,9,  -999.00,9,   -999.0,9,   -999.0,9,-999.0000,9,   -999.0,  9,  -999.00,9,   -999.0,  -999.00,9,  -999.00,9,  -999.00,9,  -999.00,9,   -999.0,-999.0000, -999,9, 1308,   2.7408,  27.5023,   -999.0,9
       SH00-06,  NONE,SH-5982,  1,     -9,      -9,5,20000703,0016, 31.1635, 131.5052,  275,      0.0,  24.3792,  33.9872,2,   -999.0,9,-999.0000,9,    234.3,2,  -999.00,9,  -999.00,9,     0.00,2,     0.00,2,     0.00,2, -999.000,9, -999.000,9,  -999.00,9,   -999.0,9,   -999.0,9,-999.0000,9,   -999.0,  9,     8.27,2,   -999.0,  -999.00,9,  -999.00,9,     0.08,2,     0.06,2,   -999.0,-999.0000, -999,9,    0,  24.3792,  22.7624,   -999.0,9
       SH00-06,  NONE,SH-5982,  1,      1, 1-133-1,2,20000703,0015, 31.1635, 131.5052,  275,     13.4,  21.8808,  34.2062,2,   -999.0,9,-999.0000,9,    239.3,2,  -999.00,9,  -999.00,9,     0.00,2,     0.00,2,     0.00,2, -999.000,9, -999.000,9,  -999.00,9,   -999.0,9,   -999.0,9,-999.0000,9,   -999.0,  9,     8.27,2,   -999.0,  -999.00,9,  -999.00,9,     2.33,2,     0.93,2,   -999.0,-999.0000, -999,9,   13,  21.8782,  23.6487,   -999.0,9
       SH00-06,  NONE,SH-5982,  1,     12, 1-133-7,2,20000703,0014, 31.1635, 131.5052,  275,     27.0,  18.0925,  34.4854,2,   -999.0,9,-999.0000,9,    190.7,2,  -999.00,9,  -999.00,9,     6.64,2,     0.11,2,     0.43,2, -999.000,9, -999.000,9,  -999.00,9,   -999.0,9,   -999.0,9,-999.0000,9,   -999.0,  9,     8.13,2,   -999.0,  -999.00,9,  -999.00,9,     0.78,2,     0.56,2,   -999.0,-999.0000, -999,9,   27,  18.0878,  24.8563,   -999.0,9
       SH00-06,  NONE,SH-5982,  1,     11,S-1-1-10,2,20000703,0013, 31.1635, 131.5052,  275,     51.1,  16.5241,  34.5591,2,   -999.0,9,-999.0000,9,    182.3,2,  -999.00,9,  -999.00,9,     9.17,2,     0.06,2,     0.62,2, -999.000,9, -999.000,9,  -999.00,9,   -999.0,9,   -999.0,9,-999.0000,9,   -999.0,  9,     8.08,2,   -999.0,  -999.00,9,  -999.00,9,     0.17,2,     0.18,2,   -999.0,-999.0000, -999,9,   51,  16.5159,  25.2895,   -999.0,9
       SH00-06,  NONE,SH-5982,  1,     10,1-133-94,2,20000703,0012, 31.1635, 131.5052,  275,     77.5,  16.0379,  34.5696,2,   -999.0,9,-999.0000,9,    179.5,2,  -999.00,9,  -999.00,9,    10.04,2,     0.04,2,     0.68,2, -999.000,9, -999.000,9,  -999.00,9,   -999.0,9,   -999.0,9,-999.0000,9,   -999.0,  9,     8.07,2,   -999.0,  -999.00,9,  -999.00,9,     0.06,2,     0.11,2,   -999.0,-999.0000, -999,9,   77,  16.0257,  25.4107,   -999.0,9
       SH00-06,  NONE,SH-5982,  1,      9, S-1-1-5,2,20000703,0010, 31.1635, 131.5052,  275,    102.5,  15.4535,  34.5597,2,   -999.0,9,-999.0000,9,    176.4,2,  -999.00,9,  -999.00,9,    11.31,2,     0.03,2,     0.77,2, -999.000,9, -999.000,9,  -999.00,9,   -999.0,9,   -999.0,9,-999.0000,9,   -999.0,  9,     8.05,2,   -999.0,  -999.00,9,  -999.00,9,     0.05,2,     0.11,2,   -999.0,-999.0000, -999,9,  102,  15.4377,  25.5357,   -999.0,9
       SH00-06,  NONE,SH-5982,  1,      8,1-133-95,2,20000703,0009, 31.1635, 131.5052,  275,    127.4,  14.9063,  34.5655,2,   -999.0,9,-999.0000,9,    172.9,2,  -999.00,9,  -999.00,9,    12.38,2,     0.02,2,     0.85,2, -999.000,9, -999.000,9,  -999.00,9,   -999.0,9,   -999.0,9,-999.0000,9,   -999.0,  9,     8.03,2,   -999.0,  -999.00,9,  -999.00,9,     0.02,2,     0.07,2,   -999.0,-999.0000, -999,9,  126,  14.8872,  25.6616,   -999.0,9
       SH00-06,  NONE,SH-5982,  1,      7, S-1-1-4,2,20000703,0007, 31.1635, 131.5052,  275,    152.8,  14.2678,  34.5467,2,   -999.0,9,-999.0000,9,    168.4,2,  -999.00,9,  -999.00,9,    13.84,2,     0.02,2,     0.94,2, -999.000,9, -999.000,9,  -999.00,9,   -999.0,9,   -999.0,9,-999.0000,9,   -999.0,  9,     8.01,2,   -999.0,  -999.00,9,  -999.00,9,     0.02,2,     0.07,2,   -999.0,-999.0000, -999,9,  152,  14.2455,  25.7850,   -999.0,9
       SH00-06,  NONE,SH-5982,  1,      6, S-1-1-8,2,20000703,0006, 31.1635, 131.5052,  275,    202.7,  12.6914,  34.5008,2,   -999.0,9,-999.0000,9,    157.2,2,  -999.00,9,  -999.00,9,    16.96,2,     0.02,2,     1.16,2, -999.000,9, -999.000,9,  -999.00,9,   -999.0,9,   -999.0,9,-999.0000,9,   -999.0,  9,     7.96,2,   -999.0,  -999.00,9,  -999.00,9,     0.00,2,     0.05,2,   -999.0,-999.0000, -999,9,  201,  12.6641,  26.0727,   -999.0,9
       SH00-06,  NONE,SH-5982,  1,      5,S-1-1-11,2,20000703,0004, 31.1635, 131.5052,  275,    255.9,  11.6347,  34.4383,2,   -999.0,9,-999.0000,9,    149.8,2,  -999.00,9,  -999.00,9,    19.59,2,     0.01,2,     1.34,2, -999.000,9, -999.000,9,  -999.00,9,   -999.0,9,   -999.0,9,-999.0000,9,   -999.0,  9,     7.91,2,   -999.0,  -999.00,9,  -999.00,9,     0.00,2,     0.04,2,   -999.0,-999.0000, -999,9,  254,  11.6021,  26.2277,   -999.0,9
       SH00-06,  NONE,SH-5985,  1,     -9,      -9,5,20000710,1740, 32.5132, 133.2030,  750,      0.0,  27.0673,  34.1514,2,   -999.0,9,-999.0000,9,    208.2,2,  -999.00,9,  -999.00,9,     0.00,2,     0.00,2,     0.00,2, -999.000,9, -999.000,9,  -999.00,9,   -999.0,9,   -999.0,9,-999.0000,9,   -999.0,  9,  -999.00,9,   -999.0,  -999.00,9,  -999.00,9,  -999.00,9,  -999.00,9,   -999.0,-999.0000, -999,9,    0,  27.0673,  22.0573,   -999.0,9
       SH00-06,  NONE,SH-5985,  1,     10,1-133-94,2,20000710,1738, 32.5132, 133.2030,  750,     45.6,  24.2896,  34.4231,2,   -999.0,9,-999.0000,9,    201.1,2,  -999.00,9,  -999.00,9,     1.08,2,     0.11,2,     0.10,2, -999.000,9, -999.000,9,  -999.00,9,   -999.0,9,   -999.0,9,-999.0000,9,   -999.0,  9,  -999.00,9,   -999.0,  -999.00,9,  -999.00,9,  -999.00,9,  -999.00,9,   -999.0,-999.0000, -999,9,   45,  24.2799,  23.1217,   -999.0,9
       SH00-06,  NONE,SH-5985,  1,      9, S-1-1-5,2,20000710,1736, 32.5132, 133.2030,  750,    101.5,  19.7868,  34.6727,2,   -999.0,9,-999.0000,9,    182.0,2,  -999.00,9,  -999.00,9,     5.95,2,     0.05,2,     0.43,2, -999.000,9, -999.000,9,  -999.00,9,   -999.0,9,   -999.0,9,-999.0000,9,   -999.0,  9,  -999.00,9,   -999.0,  -999.00,9,  -999.00,9,  -999.00,9,  -999.00,9,   -999.0,-999.0000, -999,9,  101,  19.7682,  24.5728,   -999.0,9
       SH00-06,  NONE,SH-5985,  1,      8,1-133-95,2,20000710,1734, 32.5132, 133.2030,  750,    153.5,  15.7883,  34.5499,2,   -999.0,9,-999.0000,9,    177.5,2,  -999.00,9,  -999.00,9,    11.02,2,     0.02,2,     0.77,2, -999.000,9, -999.000,9,  -999.00,9,   -999.0,9,   -999.0,9,-999.0000,9,   -999.0,  9,  -999.00,9,   -999.0,  -999.00,9,  -999.00,9,  -999.00,9,  -999.00,9,   -999.0,-999.0000, -999,9,  152,  15.7643,  25.4548,   -999.0,9
       SH00-06,  NONE,SH-5985,  1,      7, S-1-1-4,2,20000710,1730, 32.5132, 133.2030,  750,    305.9,   9.7204,  34.3562,2,   -999.0,9,-999.0000,9,    131.3,2,  -999.00,9,  -999.00,9,    24.74,2,     0.01,2,     1.75,2, -999.000,9, -999.000,9,  -999.00,9,   -999.0,9,   -999.0,9,-999.0000,9,   -999.0,  9,  -999.00,9,   -999.0,  -999.00,9,  -999.00,9,  -999.00,9,  -999.00,9,   -999.0,-999.0000, -999,9,  304,   9.6856,  26.5021,   -999.0,9
       SH00-06,  NONE,SH-5985,  1,      6,1-133-93,2,20000710,1725, 32.5132, 133.2030,  750,    408.0,   7.7749,  34.3004,2,   -999.0,9,-999.0000,9,    118.0,2,  -999.00,9,  -999.00,9,    28.83,2,     0.00,2,     2.06,2, -999.000,9, -999.000,9,  -999.00,9,   -999.0,9,   -999.0,9,-999.0000,9,   -999.0,  9,  -999.00,9,   -999.0,  -999.00,9,  -999.00,9,  -999.00,9,  -999.00,9,   -999.0,-999.0000, -999,9,  405,   7.7341,  26.7636,   -999.0,9
       SH00-06,  NONE,SH-5985,  1,      5,S-1-1-11,2,20000710,1721, 32.5132, 133.2030,  750,    506.3,   6.1389,  34.2671,2,   -999.0,9,-999.0000,9,     95.5,2,  -999.00,9,  -999.00,9,    33.50,2,     0.01,2,     2.46,2, -999.000,9, -999.000,9,  -999.00,9,   -999.0,9,   -999.0,9,-999.0000,9,   -999.0,  9,  -999.00,9,   -999.0,  -999.00,9,  -999.00,9,  -999.00,9,  -999.00,9,   -999.0,-999.0000, -999,9,  502,   6.0943,  26.9615,   -999.0,9
       SH00-06,  NONE,SH-5985,  1,      4,S-1-1-12,2,20000710,1719, 32.5132, 133.2030,  750,    600.2,   5.5061,  34.2726,2,   -999.0,9,-999.0000,9,     86.5,2,  -999.00,9,  -999.00,9,    35.34,2,     0.00,2,     2.60,2, -999.000,9, -999.000,9,  -999.00,9,   -999.0,9,   -999.0,9,-999.0000,9,   -999.0,  9,  -999.00,9,   -999.0,  -999.00,9,  -999.00,9,  -999.00,9,  -999.00,9,   -999.0,-999.0000, -999,9,  595,   5.4558,  27.0450,   -999.0,9
       SH00-06,  NONE,SH-5987,  1,     -9,      -9,5,20000710,2333, 32.0103, 133.4778, 2320,      0.0,  27.5015,  34.1220,2,   -999.0,9,-999.0000,9,    202.2,2,  -999.00,9,  -999.00,9,     0.00,2,     0.00,2,     0.00,2, -999.000,9, -999.000,9,  -999.00,9,   -999.0,9,   -999.0,9,-999.0000,9,   -999.0,  9,  -999.00,9,   -999.0,  -999.00,9,  -999.00,9,  -999.00,9,  -999.00,9,   -999.0,-999.0000, -999,9,    0,  27.5015,  21.8960,   -999.0,9
       SH00-06,  NONE,SH-5987,  1,      9, S-1-1-5,2,20000710,2332, 32.0103, 133.4778, 2320,     50.1,  23.1329,  34.7571,2,   -999.0,9,  34.7235,4,    226.2,2,  -999.00,9,  -999.00,9,     0.00,2,     0.00,2,     0.01,2, -999.000,9, -999.000,9,  -999.00,9,   -999.0,9,   -999.0,9,-999.0000,9,   -999.0,  9,  -999.00,9,   -999.0,  -999.00,9,  -999.00,9,  -999.00,9,  -999.00,9,   -999.0,-999.0000, -999,9,   50,  23.1227,  23.7140,   -999.0,9
       SH00-06,  NONE,SH-5987,  1,      8,1-133-95,2,20000710,2330, 32.0103, 133.4778, 2320,     99.4,  20.6512,  34.7782,2,   -999.0,9,  34.7878,2,    222.0,2,  -999.00,9,  -999.00,9,     0.00,2,     0.00,2,     0.03,2, -999.000,9, -999.000,9,  -999.00,9,   -999.0,9,   -999.0,9,-999.0000,9,   -999.0,  9,  -999.00,9,   -999.0,  -999.00,9,  -999.00,9,  -999.00,9,  -999.00,9,   -999.0,-999.0000, -999,9,   99,  20.6324,  24.4243,   -999.0,9
       SH00-06,  NONE,SH-5987,  1,      7, S-1-1-4,2,20000710,2329, 32.0103, 133.4778, 2320,    149.5,  19.4589,  34.8127,2,   -999.0,9,  34.8069,2,    212.9,2,  -999.00,9,  -999.00,9,     1.46,2,     0.05,2,     0.12,2, -999.000,9, -999.000,9,  -999.00,9,   -999.0,9,   -999.0,9,-999.0000,9,   -999.0,  9,  -999.00,9,   -999.0,  -999.00,9,  -999.00,9,  -999.00,9,  -999.00,9,   -999.0,-999.0000, -999,9,  148,  19.4318,  24.7671,   -999.0,9
       SH00-06,  NONE,SH-5987,  1,      6,1-133-93,2,20000710,2326, 32.0103, 133.4778, 2320,    301.1,  17.6343,  34.7939,2,   -999.0,9,  34.7941,2,    198.8,2,  -999.00,9,  -999.00,9,     4.97,2,     0.01,2,     0.33,2, -999.000,9, -999.000,9,  -999.00,9,   -999.0,9,   -999.0,9,-999.0000,9,   -999.0,  9,  -999.00,9,   -999.0,  -999.00,9,  -999.00,9,  -999.00,9,  -999.00,9,   -999.0,-999.0000, -999,9,  299,  17.5833,  25.2160,   -999.0,9
       SH00-06,  NONE,SH-5987,  1,      5,S-1-1-11,2,20000710,2324, 32.0103, 133.4778, 2320,    402.3,  15.4645,  34.6604,2,   -999.0,9,  34.6627,2,    188.2,2,  -999.00,9,  -999.00,9,     9.65,2,     0.00,2,     0.63,2, -999.000,9, -999.000,9,  -999.00,9,   -999.0,9,   -999.0,9,-999.0000,9,   -999.0,  9,  -999.00,9,   -999.0,  -999.00,9,  -999.00,9,  -999.00,9,  -999.00,9,   -999.0,-999.0000, -999,9,  399,  15.4021,  25.6213,   -999.0,9
       SH00-06,  NONE,SH-5987,  1,      4,S-1-1-12,2,20000710,2321, 32.0103, 133.4778, 2320,    503.5,  12.7318,  34.4668,2,   -999.0,9,  34.4615,2,    175.9,2,  -999.00,9,  -999.00,9,    15.40,2,     0.00,2,     1.03,2, -999.000,9, -999.000,9,  -999.00,9,   -999.0,9,   -999.0,9,-999.0000,9,   -999.0,  9,  -999.00,9,   -999.0,  -999.00,9,  -999.00,9,  -999.00,9,  -999.00,9,   -999.0,-999.0000, -999,9,  499,  12.6631,  26.0466,   -999.0,9
       SH00-06,  NONE,SH-5987,  1,      3,1-133-84,2,20000710,2319, 32.0103, 133.4778, 2320,    606.5,  10.2065,  34.3985,2,   -999.0,9,  34.4096,2,    133.1,2,  -999.00,9,  -999.00,9,    23.67,2,     0.00,2,     1.65,2, -999.000,9, -999.000,9,  -999.00,9,   -999.0,9,   -999.0,9,-999.0000,9,   -999.0,  9,  -999.00,9,   -999.0,  -999.00,9,  -999.00,9,  -999.00,9,  -999.00,9,   -999.0,-999.0000, -999,9,  601,  10.1343,  26.4593,   -999.0,9
       SH00-06,  NONE,SH-5987,  1,      2, S-1-1-7,2,20000710,2314, 32.0103, 133.4778, 2320,    807.3,   5.5497,  34.3124,2,   -999.0,9,  34.3294,4,     86.2,2,  -999.00,9,  -999.00,9,    35.05,2,     0.00,2,     2.47,2, -999.000,9, -999.000,9,  -999.00,9,   -999.0,9,   -999.0,9,-999.0000,9,   -999.0,  9,  -999.00,9,   -999.0,  -999.00,9,  -999.00,9,  -999.00,9,  -999.00,9,   -999.0,-999.0000, -999,9,  800,   5.4804,  27.0735,   -999.0,9
       SH00-06,  NONE,SH-5987,  1,      1, 1-133-1,2,20000710,2311, 32.0103, 133.4778, 2320,   1009.7,   3.8939,  34.4066,2,   -999.0,9,  34.4090,2,     70.5,2,  -999.00,9,  -999.00,9,    39.03,2,     0.00,2,     2.75,2, -999.000,9, -999.000,9,  -999.00,9,   -999.0,9,   -999.0,9,-999.0000,9,   -999.0,  9,  -999.00,9,   -999.0,  -999.00,9,  -999.00,9,  -999.00,9,  -999.00,9,   -999.0,-999.0000, -999,9, 1000,   3.8184,  27.3327,   -999.0,9
       SH00-06,  NONE,SH-5987,  1,     12, 1-133-7,2,20000710,2307, 32.0103, 133.4778, 2320,   1211.9,   3.1675,  34.4614,2,   -999.0,9,  34.4644,2,     70.5,2,  -999.00,9,  -999.00,9,    39.81,2,     0.00,2,     2.81,2, -999.000,9, -999.000,9,  -999.00,9,   -999.0,9,   -999.0,9,-999.0000,9,   -999.0,  9,  -999.00,9,   -999.0,  -999.00,9,  -999.00,9,  -999.00,9,  -999.00,9,   -999.0,-999.0000, -999,9, 1200,   3.0817,  27.4476,   -999.0,9
       SH00-06,  NONE,SH-5987,  1,     11,S-1-1-10,2,20000710,2302, 32.0103, 133.4778, 2320,   1516.0,   2.5981,  34.5172,2,   -999.0,9,  34.5147,2,     80.0,2,  -999.00,9,  -999.00,9,    39.61,2,     0.00,2,     2.75,2, -999.000,9, -999.000,9,  -999.00,9,   -999.0,9,   -999.0,9,-999.0000,9,   -999.0,  9,  -999.00,9,   -999.0,  -999.00,9,  -999.00,9,  -999.00,9,  -999.00,9,   -999.0,-999.0000, -999,9, 1500,   2.4938,  27.5444,   -999.0,9