BOTTLE,20130510GEMDJMAYT
EXPOCODE,SECT_ID,STNNBR,CASTNO,SAMPNO,BTLNBR,BTLNBR_FLAG_W,DATE,TIME,LATITUDE,LONGITUDE,DEPTH,CTDPRS,CTDTMP,CTDSAL,CTDSAL_FLAG_W,CTDOXY,CTDOXY_FLAG_W,SALNTY,SALNTY_FLAG_W,OXYGEN,OXYGEN_FLAG_W,SILCAT,SILCAT_FLAG_W,NITRAT,NITRAT_FLAG_W,NO2+NO3,NO2+NO3_FLAG_W,NITRIT,NITRIT_FLAG_W,PHSPHT,PHSPHT_FLAG_W,CFC-11,CFC-11_FLAG_W,CFC-12,CFC-12_FLAG_W,DELC13,DELC13_FLAG_W,TCARBN,TCARBN_FLAG_W,ALKALI,ALKALI_FLAG_W,PH,PH_FLAG_W,PH_TMP,PH_SCALE,PH_NBS,PH_NBS_FLAG_W,C13ERR,TOTALP,TOTALP_FLAG_W,AMMONI,AMMONI_FLAG_W,CHLORA,CHLORA_FLAG_W,PPHYTN,PPHYTN_FLAG_W,REVPRS,REVTMP,DEPTH_,DEPTH_FLAG,CTDDEP,THETA,SIGTHT,DOC,DOC_FLAG_W
,,,,,,,GMT,GMT,,,METER,DBAR,ITS-90,PSS-78,,UMOL/KG,,PSS-78,,UMOL/KG,,UMOL/KG,,UMOL/KG,,UMOL/KG,,UMOL/KG,,UMOL/KG,,PMOL/KG,,PMOL/KG,,/MILLE,,UMOL/KG,,UMOL/KG,,25_DEG_C,,DEG_C,,,,/MILLE,UMOL/KG,,UMOL/KG,,UG/L,,UG/L,,DBAR,ITS-90,METERS,,METERS,DEG_C,,UMOL/L,
       SH00-06,  NONE,SH-5979,  1,      3,1-133-84,2,20000702,1039, 30.3162, 132.5373, 3900,    502.8,  14.7696,  34.6091,2,   -999.0,9,  34.6082,2,    183.4,2,  -999.00,9,  -999.00,9,    11.21,2,     0.02,2,     0.74,2, -999.000,9, -999.000,9,  -999.00,9,   -999.0,9,   -999.0,9,-999.0000,9,   -999.0,  9,  -999.00,9,   -999.0,  -999.00,9,  -999.00,9,  -999.00,9,  -999.00,9,   -999.0,-999.0000, -999,9,  499,  14.6938,  25.7372,   -999.0,9
       SH00-06,  NONE,SH-5979,  1,      2, S-1-1-7,2,20000702,1036, 30.3162, 132.5373, 3900,    602.9,  11.8651,  34.4064,2,   -999.0,9,  34.4037,2,    170.4,2,  -999.00,9,  -999.00,9,    17.44,2,     0.01,2,     1.16,2, -999.000,9, -999.000,9,  -999.00,9,   -999.0,9,   -999.0,9,-999.0000,9,   -999.0,  9,  -999.00,9,   -999.0,  -999.00,9,  -999.00,9,  -999.00,9,  -999.00,9,   -999.0,-999.0000, -999,9,  598,  11.7862,  26.1685,   -999.0,9
       SH00-06,  NONE,SH-5979,  1,      1, 1-133-1,2,20000702,1034, 30.3162, 132.5373, 3900,    704.4,   9.1285,  34.2651,2,   -999.0,9,  34.2648,2,    141.5,2,  -999.00,9,  -999.00,9,    24.84,2,     0.01,2,     1.70,2, -999.000,9, -999.000,9,  -999.00,9,   -999.0,9,   -999.0,9,-999.0000,9,   -999.0,  9,  -999.00,9,   -999.0,  -999.00,9,  -999.00,9,  -999.00,9,  -999.00,9,   -999.0,-999.0000, -999,9,  698,   9.0498,  26.5347,   -999.0,9
       SH00-06,  NONE,SH-5979,  1,     12, 1-133-7,2,20000702,1032, 30.3162, 132.5373, 3900,    805.3,   6.8546,  34.1864,2,   -999.0,9,  34.1844,2,    115.5,2,  -999.00,9,  -999.00,9,    31.07,2,     0.01,2,     2.16,2, -999.000,9, -999.000,9,  -999.00,9,   -999.0,9,   -999.0,9,-999.0000,9,   -999.0,  9,  -999.00,9,   -999.0,  -999.00,9,  -999.00,9,  -999.00,9,  -999.00,9,   -999.0,-999.0000, -999,9,  798,   6.7778,  26.8081,   -999.0,9
       SH00-06,  NONE,SH-5979,  1,     11,S-1-1-10,2,20000702,1029, 30.3162, 132.5373, 3900,    906.3,   5.7297,  34.2165,2,   -999.0,9,  34.2184,2,     93.5,2,  -999.00,9,  -999.00,9,    34.66,2,     0.00,2,     2.41,2, -999.000,9, -999.000,9,  -999.00,9,   -999.0,9,   -999.0,9,-999.0000,9,   -999.0,  9,  -999.00,9,   -999.0,  -999.00,9,  -999.00,9,  -999.00,9,  -999.00,9,   -999.0,-999.0000, -999,9,  898,   5.6502,  26.9770,   -999.0,9
       SH00-06,  NONE,SH-5979,  1,     10,1-133-94,2,20000702,1027, 30.3162, 132.5373, 3900,   1007.7,   4.9035,  34.2893,2,   -999.0,9,  34.2883,2,     78.1,2,  -999.00,9,  -999.00,9,    37.29,2,     0.00,2,     2.61,2, -999.000,9, -999.000,9,  -999.00,9,   -999.0,9,   -999.0,9,-999.0000,9,   -999.0,  9,  -999.00,9,   -999.0,  -999.00,9,  -999.00,9,  -999.00,9,  -999.00,9,   -999.0,-999.0000, -999,9,  998,   4.8206,  27.1322,   -999.0,9
       SH00-06,  NONE,SH-5979,  1,      9, S-1-1-5,2,20000702,1023, 30.3162, 132.5373, 3900,   1209.0,   3.6016,  34.4281,2,   -999.0,9,  34.4200,2,     67.1,2,  -999.00,9,  -999.00,9,    39.81,2,     0.01,2,     2.77,2, -999.000,9, -999.000,9,  -999.00,9,   -999.0,9,   -999.0,9,-999.0000,9,   -999.0,  9,  -999.00,9,   -999.0,  -999.00,9,  -999.00,9,  -999.00,9,  -999.00,9,   -999.0,-999.0000, -999,9, 1197,   3.5121,  27.3802,   -999.0,9
       SH00-06,  NONE,SH-5979,  1,      8,1-133-95,2,20000702,1017, 30.3162, 132.5373, 3900,   1513.6,   2.7826,  34.5051,2,   -999.0,9,  34.5018,2,     76.1,2,  -999.00,9,  -999.00,9,    40.19,2,     0.01,2,     2.78,2, -999.000,9, -999.000,9,  -999.00,9,   -999.0,9,   -999.0,9,-999.0000,9,   -999.0,  9,  -999.00,9,   -999.0,  -999.00,9,  -999.00,9,  -999.00,9,  -999.00,9,   -999.0,-999.0000, -999,9, 1498,   2.6764,  27.5189,   -999.0,9
       SH00-06,  NONE,SH-5979,  1,      7, S-1-1-4,2,20000702,1008, 30.3162, 132.5373, 3900,   2022.5,   2.1041,  34.5974,2,   -999.0,9,  34.5914,2,   -999.0,9,  -999.00,9,  -999.00,9,  -999.00,9,  -999.00,9,  -999.00,9, -999.000,9, -999.000,9,  -999.00,9,   -999.0,9,   -999.0,9,-999.0000,9,   -999.0,  9,  -999.00,9,   -999.0,  -999.00,9,  -999.00,9,  -999.00,9,  -999.00,9,   -999.0,-999.0000, -999,9, 1999,   1.9642,  27.6519,   -999.0,9
       SH00-06,  NONE,SH-5979,  1,      6, S-1-1-8,4,20000702,0958, 30.3162, 132.5373, 3900,   2531.9,   1.7874,  34.6465,2,   -999.0,9,  34.2636,4,   -999.0,9,  -999.00,9,  -999.00,9,  -999.00,9,  -999.00,9,  -999.00,9, -999.000,9, -999.000,9,  -999.00,9,   -999.0,9,   -999.0,9,-999.0000,9,   -999.0,  9,  -999.00,9,   -999.0,  -999.00,9,  -999.00,9,  -999.00,9,  -999.00,9,   -999.0,-999.0000, -999,9, 2500,   1.6082,  27.7186,   -999.0,9
       SH00-06,  NONE,SH-5979,  1,      5,S-1-1-11,2,20000702,0947, 30.3162, 132.5373, 3900,   3043.5,   1.6063,  34.6741,2,   -999.0,9,  34.6640,2,   -999.0,9,  -999.00,9,  -999.00,9,  -999.00,9,  -999.00,9,  -999.00,9, -999.000,9, -999.000,9,  -999.00,9,   -999.0,9,   -999.0,9,-999.0000,9,   -999.0,  9,  -999.00,9,   -999.0,  -999.00,9,  -999.00,9,  -999.00,9,  -999.00,9,   -999.0,-999.0000, -999,9, 3001,   1.3830,  27.7571,   -999.0,9
       SH00-06,  NONE,SH-5979,  1,      4,S-1-1-12,2,20000702,0937, 30.3162, 132.5373, 3900,   3558.0,   1.5524,  34.6854,2,   -999.0,9,  34.6873,2,   -999.0,9,  -999.00,9,  -999.00,9,  -999.00,9,  -999.00,9,  -999.00,9, -999.000,9, -999.000,9,  -999.00,9,   -999.0,9,   -999.0,9,-999.0000,9,   -999.0,  9,  -999.00,9,   -999.0,  -999.00,9,  -999.00,9,  -999.00,9,  -999.00,9,   -999.0,-999.0000, -999,9, 3504,   1.2790,  27.7735,   -999.0,9
       SH00-06,  NONE,SH-5980,  2,     -9,      -9,5,20000702,1701, 30.6708, 132.1655, 2480,      0.0,  27.9164,  34.1846,2,   -999.0,9,-999.0000,9,    202.2,2,  -999.00,9,  -999.00,9,     0.00,2,     0.00,2,     0.00,2, -999.000,9, -999.000,9,  -999.00,9,   -999.0,9,   -999.0,9,-999.0000,9,   -999.0,  9,     8.27,2,   -999.0,  -999.00,9,  -999.00,9,     0.04,2,     0.02,2,   -999.0,-999.0000, -999,9,    0,  27.9164,  21.8088,   -999.0,9
       SH00-06,  NONE,SH-5980,  2,      9, S-1-1-5,2,20000702,1700, 30.6708, 132.1655, 2480,     12.2,  27.9235,  34.1858,2,   -999.0,9,-999.0000,9,    201.0,2,  -999.00,9,  -999.00,9,     0.00,2,     0.00,2,     0.00,2, -999.000,9, -999.000,9,  -999.00,9,   -999.0,9,   -999.0,9,-999.0000,9,   -999.0,  9,     8.28,2,   -999.0,  -999.00,9,  -999.00,9,     0.06,2,     0.02,2,   -999.0,-999.0000, -999,9,   12,  27.9206,  21.8084,   -999.0,9
       SH00-06,  NONE,SH-5980,  2,      8,1-133-95,2,20000702,1659, 30.6708, 132.1655, 2480,     26.7,  26.3373,  34.5234,2,   -999.0,9,-999.0000,9,    209.3,2,  -999.00,9,  -999.00,9,     0.00,2,     0.00,2,     0.00,2, -999.000,9, -999.000,9,  -999.00,9,   -999.0,9,   -999.0,9,-999.0000,9,   -999.0,  9,     8.26,2,   -999.0,  -999.00,9,  -999.00,9,     0.06,2,     0.02,2,   -999.0,-999.0000, -999,9,   26,  26.3313,  22.5703,   -999.0,9
       SH00-06,  NONE,SH-5980,  2,      7, S-1-1-4,2,20000702,1658, 30.6708, 132.1655, 2480,     52.3,  23.5847,  34.7336,2,   -999.0,9,-999.0000,9,    223.6,2,  -999.00,9,  -999.00,9,     0.00,2,     0.00,2,     0.01,2, -999.000,9, -999.000,9,  -999.00,9,   -999.0,9,   -999.0,9,-999.0000,9,   -999.0,  9,     8.26,2,   -999.0,  -999.00,9,  -999.00,9,     0.06,2,     0.03,2,   -999.0,-999.0000, -999,9,   52,  23.5738,  23.5650,   -999.0,9
       SH00-06,  NONE,SH-5980,  2,      6, S-1-1-8,2,20000702,1657, 30.6708, 132.1655, 2480,     76.7,  22.0023,  34.8021,2,   -999.0,9,-999.0000,9,    226.1,2,  -999.00,9,  -999.00,9,     0.00,2,     0.00,2,     0.01,2, -999.000,9, -999.000,9,  -999.00,9,   -999.0,9,   -999.0,9,-999.0000,9,   -999.0,  9,     8.25,2,   -999.0,  -999.00,9,  -999.00,9,     0.11,2,     0.07,2,   -999.0,-999.0000, -999,9,   76,  21.9871,  24.0710,   -999.0,9
       SH00-06,  NONE,SH-5980,  2,      5,S-1-1-11,2,20000702,1656, 30.6708, 132.1655, 2480,    102.6,  20.6427,  34.8055,2,   -999.0,9,-999.0000,9,    213.3,2,  -999.00,9,  -999.00,9,     0.20,2,     0.05,2,     0.05,2, -999.000,9, -999.000,9,  -999.00,9,   -999.0,9,   -999.0,9,-999.0000,9,   -999.0,  9,     8.22,2,   -999.0,  -999.00,9,  -999.00,9,     0.38,2,     0.76,2,   -999.0,-999.0000, -999,9,  102,  20.6234,  24.4476,   -999.0,9
       SH00-06,  NONE,SH-5980,  2,      4,S-1-1-12,2,20000702,1654, 30.6708, 132.1655, 2480,    128.2,  20.1254,  34.8067,2,   -999.0,9,-999.0000,9,    211.7,2,  -999.00,9,  -999.00,9,     0.98,2,     0.09,2,     0.08,2, -999.000,9, -999.000,9,  -999.00,9,   -999.0,9,   -999.0,9,-999.0000,9,   -999.0,  9,     8.21,2,   -999.0,  -999.00,9,  -999.00,9,     0.07,2,     0.17,2,   -999.0,-999.0000, -999,9,  127,  20.1016,  24.5875,   -999.0,9
       SH00-06,  NONE,SH-5980,  2,      3,1-133-84,2,20000702,1653, 30.6708, 132.1655, 2480,    153.5,  19.5846,  34.8104,2,   -999.0,9,-999.0000,9,    211.2,2,  -999.00,9,  -999.00,9,     1.37,2,     0.09,2,     0.11,2, -999.000,9, -999.000,9,  -999.00,9,   -999.0,9,   -999.0,9,-999.0000,9,   -999.0,  9,     8.20,2,   -999.0,  -999.00,9,  -999.00,9,     0.09,2,     0.25,2,   -999.0,-999.0000, -999,9,  152,  19.5567,  24.7330,   -999.0,9
       SH00-06,  NONE,SH-5980,  2,      2, S-1-1-7,2,20000702,1652, 30.6708, 132.1655, 2480,    203.8,  18.9817,  34.8106,2,   -999.0,9,-999.0000,9,    207.5,2,  -999.00,9,  -999.00,9,     2.63,2,     0.02,2,     0.19,2, -999.000,9, -999.000,9,  -999.00,9,   -999.0,9,   -999.0,9,-999.0000,9,   -999.0,  9,     8.19,2,   -999.0,  -999.00,9,  -999.00,9,     0.02,2,     0.06,2,   -999.0,-999.0000, -999,9,  202,  18.9454,  24.8903,   -999.0,9
       SH00-06,  NONE,SH-5980,  2,      1, 1-133-1,2,20000702,1651, 30.6708, 132.1655, 2480,    254.0,  18.5639,  34.8052,2,   -999.0,9,-999.0000,9,    202.4,2,  -999.00,9,  -999.00,9,     3.61,2,     0.01,2,     0.24,2, -999.000,9, -999.000,9,  -999.00,9,   -999.0,9,   -999.0,9,-999.0000,9,   -999.0,  9,     8.17,2,   -999.0,  -999.00,9,  -999.00,9,     0.00,2,     0.03,2,   -999.0,-999.0000, -999,9,  252,  18.5194,  24.9938,   -999.0,9
       SH00-06,  NONE,SH-5980,  2,     12, 1-133-7,2,20000702,1649, 30.6708, 132.1655, 2480,    305.1,  17.2058,  34.7630,2,   -999.0,9,-999.0000,9,    191.1,2,  -999.00,9,  -999.00,9,     6.73,2,     0.01,2,     0.44,2, -999.000,9, -999.000,9,  -999.00,9,   -999.0,9,   -999.0,9,-999.0000,9,   -999.0,  9,     8.12,2,   -999.0,  -999.00,9,  -999.00,9,     0.00,2,     0.01,2,   -999.0,-999.0000, -999,9,  303,  17.1550,  25.2954,   -999.0,9
       SH00-06,  NONE,SH-5980,  1,     11,S-1-1-10,2,20000702,1618, 30.6398, 132.1508, 2430,    402.5,  14.3961,  34.5813,2,   -999.0,9,-999.0000,9,    180.1,2,  -999.00,9,  -999.00,9,    11.99,2,     0.01,2,     0.79,2, -999.000,9, -999.000,9,  -999.00,9,   -999.0,9,   -999.0,9,-999.0000,9,   -999.0,  9,     8.04,2,   -999.0,  -999.00,9,  -999.00,9,  -999.00,9,  -999.00,9,   -999.0,-999.0000, -999,9,  399,  14.3366,  25.7924,   -999.0,9
       SH00-06,  NONE,SH-5980,  1,     10,1-133-94,2,20000702,1616, 30.6398, 132.1508, 2430,    503.7,  11.3681,  34.3710,2,   -999.0,9,-999.0000,9,    167.8,2,  -999.00,9,  -999.00,9,    18.51,2,     0.01,2,     1.25,2, -999.000,9, -999.000,9,  -999.00,9,   -999.0,9,   -999.0,9,-999.0000,9,   -999.0,  9,     7.94,2,   -999.0,  -999.00,9,  -999.00,9,  -999.00,9,  -999.00,9,   -999.0,-999.0000, -999,9,  500,  11.3043,  26.2304,   -999.0,9
       SH00-06,  NONE,SH-5980,  1,      9, S-1-1-5,2,20000702,1614, 30.6398, 132.1508, 2430,    604.0,   9.2350,  34.3132,2,   -999.0,9,-999.0000,9,    133.9,2,  -999.00,9,  -999.00,9,    25.23,2,     0.01,2,     1.73,2, -999.000,9, -999.000,9,  -999.00,9,   -999.0,9,   -999.0,9,-999.0000,9,   -999.0,  9,     7.83,2,   -999.0,  -999.00,9,  -999.00,9,  -999.00,9,  -999.00,9,   -999.0,-999.0000, -999,9,  599,   9.1674,  26.5535,   -999.0,9
       SH00-06,  NONE,SH-5980,  1,      8,1-133-95,2,20000702,1611, 30.6398, 132.1508, 2430,    705.0,   6.8416,  34.2204,2,   -999.0,9,-999.0000,9,    103.4,2,  -999.00,9,  -999.00,9,    32.04,2,     0.01,2,     2.23,2, -999.000,9, -999.000,9,  -999.00,9,   -999.0,9,   -999.0,9,-999.0000,9,   -999.0,  9,     7.70,2,   -999.0,  -999.00,9,  -999.00,9,  -999.00,9,  -999.00,9,   -999.0,-999.0000, -999,9,  699,   6.7748,  26.8353,   -999.0,9
       SH00-06,  NONE,SH-5980,  1,      7, S-1-1-4,2,20000702,1609, 30.6398, 132.1508, 2430,    807.0,   6.0167,  34.3574,2,   -999.0,9,-999.0000,9,     91.5,2,  -999.00,9,  -999.00,9,    34.27,2,     0.01,2,     2.39,2, -999.000,9, -999.000,9,  -999.00,9,   -999.0,9,   -999.0,9,-999.0000,9,   -999.0,  9,     7.68,2,   -999.0,  -999.00,9,  -999.00,9,  -999.00,9,  -999.00,9,   -999.0,-999.0000, -999,9,  800,   5.9445,  27.0519,   -999.0,9
       SH00-06,  NONE,SH-5980,  1,      6, S-1-1-8,2,20000702,1606, 30.6398, 132.1508, 2430,    907.4,   4.4445,  34.3579,2,   -999.0,9,-999.0000,9,     74.3,2,  -999.00,9,  -999.00,9,    38.36,2,     0.01,2,     2.68,2, -999.000,9, -999.000,9,  -999.00,9,   -999.0,9,   -999.0,9,-999.0000,9,   -999.0,  9,     7.62,2,   -999.0,  -999.00,9,  -999.00,9,  -999.00,9,  -999.00,9,   -999.0,-999.0000, -999,9,  899,   4.3736,  27.2359,   -999.0,9
       SH00-06,  NONE,SH-5980,  1,      5,S-1-1-11,2,20000702,1603, 30.6398, 132.1508, 2430,   1009.5,   3.6917,  34.3988,2,   -999.0,9,-999.0000,9,     66.1,2,  -999.00,9,  -999.00,9,    39.81,2,     0.01,2,     2.79,2, -999.000,9, -999.000,9,  -999.00,9,   -999.0,9,   -999.0,9,-999.0000,9,   -999.0,  9,     7.59,2,   -999.0,  -999.00,9,  -999.00,9,  -999.00,9,  -999.00,9,   -999.0,-999.0000, -999,9, 1000,   3.6178,  27.3465,   -999.0,9
       SH00-06,  NONE,SH-5980,  1,      4,S-1-1-12,2,20000702,1559, 30.6398, 132.1508, 2430,   1213.9,   3.0667,  34.4644,2,   -999.0,9,-999.0000,9,     69.7,2,  -999.00,9,  -999.00,9,    40.39,2,     0.01,2,     2.82,2, -999.000,9, -999.000,9,  -999.00,9,   -999.0,9,   -999.0,9,-999.0000,9,   -999.0,  9,     7.59,2,   -999.0,  -999.00,9,  -999.00,9,  -999.00,9,  -999.00,9,   -999.0,-999.0000, -999,9, 1202,   2.9817,  27.4592,   -999.0,9
       SH00-06,  NONE,SH-5980,  1,      3,1-133-84,2,20000702,1553, 30.6398, 132.1508, 2430,   1514.8,   2.5917,  34.5237,2,   -999.0,9,-999.0000,9,     79.7,2,  -999.00,9,  -999.00,9,    40.10,2,     0.01,2,     2.75,2, -999.000,9, -999.000,9,  -999.00,9,   -999.0,9,   -999.0,9,-999.0000,9,   -999.0,  9,     7.61,2,   -999.0,  -999.00,9,  -999.00,9,  -999.00,9,  -999.00,9,   -999.0,-999.0000, -999,9, 1499,   2.4875,  27.5501,   -999.0,9
       SH00-06,  NONE,SH-5981,  2,     -9,      -9,5,20000702,2209, 30.9995, 131.7167, 1470,      0.0,  26.7610,  34.1268,2,   -999.0,9,-999.0000,9,    208.6,2,  -999.00,9,  -999.00,9,     0.00,2,     0.00,2,     0.01,2, -999.000,9, -999.000,9,  -999.00,9,   -999.0,9,   -999.0,9,-999.0000,9,   -999.0,  9,  -999.00,9,   -999.0,  -999.00,9,  -999.00,9,     0.10,2,     0.05,2,   -999.0,-999.0000, -999,9,    0,  26.7610,  22.1361,   -999.0,9
       SH00-06,  NONE,SH-5981,  2,      4,S-1-1-12,2,20000702,2208, 30.9995, 131.7167, 1470,     11.4,  26.3471,  34.1084,2,   -999.0,9,-999.0000,9,    208.8,2,  -999.00,9,  -999.00,9,     0.00,2,     0.00,2,     0.00,2, -999.000,9, -999.000,9,  -999.00,9,   -999.0,9,   -999.0,9,-999.0000,9,   -999.0,  9,  -999.00,9,   -999.0,  -999.00,9,  -999.00,9,     0.18,2,     0.08,2,   -999.0,-999.0000, -999,9,   11,  26.3445,  22.2533,   -999.0,9
       SH00-06,  NONE,SH-5981,  2,      3,1-133-84,2,20000702,2207, 30.9995, 131.7167, 1470,     25.2,  24.8360,  34.2381,2,   -999.0,9,-999.0000,9,    209.7,2,  -999.00,9,  -999.00,9,     0.10,2,     0.02,2,     0.02,2, -999.000,9, -999.000,9,  -999.00,9,   -999.0,9,   -999.0,9,-999.0000,9,   -999.0,  9,  -999.00,9,   -999.0,  -999.00,9,  -999.00,9,     0.37,2,     0.28,2,   -999.0,-999.0000, -999,9,   25,  24.8306,  22.8167,   -999.0,9
       SH00-06,  NONE,SH-5981,  2,      2, S-1-1-7,2,20000702,2206, 30.9995, 131.7167, 1470,     51.6,  21.9804,  34.3976,2,   -999.0,9,-999.0000,9,    197.4,2,  -999.00,9,  -999.00,9,     2.64,2,     0.20,2,     0.18,2, -999.000,9, -999.000,9,  -999.00,9,   -999.0,9,   -999.0,9,-999.0000,9,   -999.0,  9,  -999.00,9,   -999.0,  -999.00,9,  -999.00,9,     0.27,2,     0.32,2,   -999.0,-999.0000, -999,9,   51,  21.9703,  23.7685,   -999.0,9
       SH00-06,  NONE,SH-5981,  2,      1, 1-133-1,2,20000702,2205, 30.9995, 131.7167, 1470,     77.0,  20.4931,  34.5366,2,   -999.0,9,-999.0000,9,    188.0,2,  -999.00,9,  -999.00,9,     4.78,2,     0.11,2,     0.32,2, -999.000,9, -999.000,9,  -999.00,9,   -999.0,9,   -999.0,9,-999.0000,9,   -999.0,  9,  -999.00,9,   -999.0,  -999.00,9,  -999.00,9,     0.10,2,     0.20,2,   -999.0,-999.0000, -999,9,   76,  20.4787,  24.2814,   -999.0,9
       SH00-06,  NONE,SH-5981,  2,     12, 1-133-7,2,20000702,2203, 30.9995, 131.7167, 1470,    102.6,  18.5591,  34.5517,2,   -999.0,9,-999.0000,9,    182.6,2,  -999.00,9,  -999.00,9,     7.22,2,     0.06,2,     0.49,2, -999.000,9, -999.000,9,  -999.00,9,   -999.0,9,   -999.0,9,-999.0000,9,   -999.0,  9,  -999.00,9,   -999.0,  -999.00,9,  -999.00,9,     0.05,2,     0.14,2,   -999.0,-999.0000, -999,9,  102,  18.5412,  24.7944,   -999.0,9
       SH00-06,  NONE,SH-5981,  2,     11,S-1-1-10,2,20000702,2202, 30.9995, 131.7167, 1470,    127.6,  17.6061,  34.6364,2,   -999.0,9,-999.0000,9,    180.5,2,  -999.00,9,  -999.00,9,     8.19,2,     0.03,2,     0.55,2, -999.000,9, -999.000,9,  -999.00,9,   -999.0,9,   -999.0,9,-999.0000,9,   -999.0,  9,  -999.00,9,   -999.0,  -999.00,9,  -999.00,9,     0.02,2,     0.07,2,   -999.0,-999.0000, -999,9,  127,  17.5846,  25.0950,   -999.0,9
       SH00-06,  NONE,SH-5981,  2,     10,1-133-94,2,20000702,2201, 30.9995, 131.7167, 1470,    152.4,  16.5505,  34.6136,2,   -999.0,9,-999.0000,9,    179.0,2,  -999.00,9,  -999.00,9,     9.66,2,     0.02,2,     0.65,2, -999.000,9, -999.000,9,  -999.00,9,   -999.0,9,   -999.0,9,-999.0000,9,   -999.0,  9,  -999.00,9,   -999.0,  -999.00,9,  -999.00,9,     0.01,2,     0.05,2,   -999.0,-999.0000, -999,9,  151,  16.5259,  25.3291,   -999.0,9
       SH00-06,  NONE,SH-5981,  2,      9, S-1-1-5,2,20000702,2200, 30.9995, 131.7167, 1470,    203.3,  13.2603,  34.5126,2,   -999.0,9,-999.0000,9,    160.7,2,  -999.00,9,  -999.00,9,    16.18,2,     0.01,2,     1.11,2, -999.000,9, -999.000,9,  -999.00,9,   -999.0,9,   -999.0,9,-999.0000,9,   -999.0,  9,  -999.00,9,   -999.0,  -999.00,9,  -999.00,9,     0.00,2,     0.04,2,   -999.0,-999.0000, -999,9,  202,  13.2321,  25.9685,   -999.0,9
       SH00-06,  NONE,SH-5981,  2,      8,1-133-95,2,20000702,2158, 30.9995, 131.7167, 1470,    253.3,  10.9711,  34.4320,2,   -999.0,9,-999.0000,9,    142.7,2,  -999.00,9,  -999.00,9,    21.44,2,     0.01,2,     1.47,2, -999.000,9, -999.000,9,  -999.00,9,   -999.0,9,   -999.0,9,-999.0000,9,   -999.0,  9,  -999.00,9,   -999.0,  -999.00,9,  -999.00,9,     0.00,2,     0.04,2,   -999.0,-999.0000, -999,9,  251,  10.9400,  26.3440,   -999.0,9
       SH00-06,  NONE,SH-5981,  2,      7, S-1-1-4,2,20000702,2156, 30.9995, 131.7167, 1470,    304.5,   9.7956,  34.3587,2,   -999.0,9,-999.0000,9,    135.4,2,  -999.00,9,  -999.00,9,    24.16,2,     0.01,2,     1.67,2, -999.000,9, -999.000,9,  -999.00,9,   -999.0,9,   -999.0,9,-999.0000,9,   -999.0,  9,  -999.00,9,   -999.0,  -999.00,9,  -999.00,9,     0.00,2,     0.03,2,   -999.0,-999.0000, -999,9,  302,   9.7608,  26.4915,   -999.0,9