BOTTLE,20130510GEMDJMAYT
EXPOCODE,SECT_ID,STNNBR,CASTNO,SAMPNO,BTLNBR,BTLNBR_FLAG_W,DATE,TIME,LATITUDE,LONGITUDE,DEPTH,CTDPRS,CTDTMP,CTDSAL,CTDSAL_FLAG_W,CTDOXY,CTDOXY_FLAG_W,SALNTY,SALNTY_FLAG_W,OXYGEN,OXYGEN_FLAG_W,SILCAT,SILCAT_FLAG_W,NITRAT,NITRAT_FLAG_W,NO2+NO3,NO2+NO3_FLAG_W,NITRIT,NITRIT_FLAG_W,PHSPHT,PHSPHT_FLAG_W,CFC-11,CFC-11_FLAG_W,CFC-12,CFC-12_FLAG_W,DELC13,DELC13_FLAG_W,TCARBN,TCARBN_FLAG_W,ALKALI,ALKALI_FLAG_W,PH,PH_FLAG_W,PH_TMP,PH_SCALE,PH_NBS,PH_NBS_FLAG_W,C13ERR,TOTALP,TOTALP_FLAG_W,AMMONI,AMMONI_FLAG_W,CHLORA,CHLORA_FLAG_W,PPHYTN,PPHYTN_FLAG_W,REVPRS,REVTMP,DEPTH_,DEPTH_FLAG,CTDDEP,THETA,SIGTHT,DOC,DOC_FLAG_W
,,,,,,,GMT,GMT,,,METER,DBAR,ITS-90,PSS-78,,UMOL/KG,,PSS-78,,UMOL/KG,,UMOL/KG,,UMOL/KG,,UMOL/KG,,UMOL/KG,,UMOL/KG,,PMOL/KG,,PMOL/KG,,/MILLE,,UMOL/KG,,UMOL/KG,,25_DEG_C,,DEG_C,,,,/MILLE,UMOL/KG,,UMOL/KG,,UG/L,,UG/L,,DBAR,ITS-90,METERS,,METERS,DEG_C,,UMOL/L,
       SH00-06,  137E,SH-6013,  1,     -9,      -9,5,20000714,0815, 33.5062, 136.7120, 2030,      0.0,  25.0814,  33.7493,2,   -999.0,9,-999.0000,9,    216.8,2,  -999.00,9,  -999.00,9,     0.00,2,     0.00,2,     0.00,2, -999.000,9, -999.000,9,  -999.00,9,   -999.0,9,   -999.0,9,-999.0000,9,   -999.0,  9,  -999.00,9,   -999.0,  -999.00,9,  -999.00,9,  -999.00,9,  -999.00,9,   -999.0,-999.0000, -999,9,    0,  25.0814,  22.3717,   -999.0,9
       SH00-06,  137E,SH-6013,  1,      6,1-133-93,2,20000714,0813, 33.5062, 136.7120, 2030,     51.5,  19.4422,  34.4670,2,   -999.0,9,  34.4538,2,    214.4,2,  -999.00,9,  -999.00,9,     2.15,2,     0.30,2,     0.19,2, -999.000,9, -999.000,9,  -999.00,9,   -999.0,9,   -999.0,9,-999.0000,9,   -999.0,  9,  -999.00,9,   -999.0,  -999.00,9,  -999.00,9,  -999.00,9,  -999.00,9,   -999.0,-999.0000, -999,9,   51,  19.4329,  24.5029,   -999.0,9
       SH00-06,  137E,SH-6013,  1,      5,S-1-1-11,2,20000714,0812, 33.5062, 136.7120, 2030,    101.6,  15.7486,  34.6101,2,   -999.0,9,  34.6084,2,    177.1,2,  -999.00,9,  -999.00,9,    10.24,2,     0.02,2,     0.69,2, -999.000,9, -999.000,9,  -999.00,9,   -999.0,9,   -999.0,9,-999.0000,9,   -999.0,  9,  -999.00,9,   -999.0,  -999.00,9,  -999.00,9,  -999.00,9,  -999.00,9,   -999.0,-999.0000, -999,9,  101,  15.7328,  25.5083,   -999.0,9
       SH00-06,  137E,SH-6013,  1,      4,S-1-1-12,2,20000714,0811, 33.5062, 136.7120, 2030,    151.7,  13.4107,  34.5223,2,   -999.0,9,  34.5248,2,    167.8,2,  -999.00,9,  -999.00,9,    15.21,2,     0.02,2,     1.02,2, -999.000,9, -999.000,9,  -999.00,9,   -999.0,9,   -999.0,9,-999.0000,9,   -999.0,  9,  -999.00,9,   -999.0,  -999.00,9,  -999.00,9,  -999.00,9,  -999.00,9,   -999.0,-999.0000, -999,9,  151,  13.3896,  25.9441,   -999.0,9
       SH00-06,  137E,SH-6013,  1,      3,1-133-84,2,20000714,0808, 33.5062, 136.7120, 2030,    302.4,   8.6615,  34.2823,2,   -999.0,9,  34.3005,4,    128.3,2,  -999.00,9,  -999.00,9,    26.69,2,     0.01,2,     1.84,2, -999.000,9, -999.000,9,  -999.00,9,   -999.0,9,   -999.0,9,-999.0000,9,   -999.0,  9,  -999.00,9,   -999.0,  -999.00,9,  -999.00,9,  -999.00,9,  -999.00,9,   -999.0,-999.0000, -999,9,  300,   8.6295,  26.6144,   -999.0,9
       SH00-06,  137E,SH-6013,  1,      2, S-1-1-7,2,20000714,0806, 33.5062, 136.7120, 2030,    402.0,   6.9873,  34.2695,2,   -999.0,9,  34.2699,2,    106.6,2,  -999.00,9,  -999.00,9,    31.16,2,     0.00,2,     2.19,2, -999.000,9, -999.000,9,  -999.00,9,   -999.0,9,   -999.0,9,-999.0000,9,   -999.0,  9,  -999.00,9,   -999.0,  -999.00,9,  -999.00,9,  -999.00,9,  -999.00,9,   -999.0,-999.0000, -999,9,  399,   6.9496,  26.8502,   -999.0,9
       SH00-06,  137E,SH-6013,  1,      1, 1-133-1,2,20000714,0804, 33.5062, 136.7120, 2030,    503.8,   5.9757,  34.2707,2,   -999.0,9,  34.2724,2,     93.4,2,  -999.00,9,  -999.00,9,    34.08,2,     0.00,2,     2.41,2, -999.000,9, -999.000,9,  -999.00,9,   -999.0,9,   -999.0,9,-999.0000,9,   -999.0,  9,  -999.00,9,   -999.0,  -999.00,9,  -999.00,9,  -999.00,9,  -999.00,9,   -999.0,-999.0000, -999,9,  500,   5.9319,  26.9850,   -999.0,9
       SH00-06,  137E,SH-6013,  1,     12, 1-133-7,2,20000714,0801, 33.5062, 136.7120, 2030,    605.4,   5.0722,  34.2987,2,   -999.0,9,  34.3017,2,     80.3,2,  -999.00,9,  -999.00,9,    36.51,2,     0.00,2,     2.57,2, -999.000,9, -999.000,9,  -999.00,9,   -999.0,9,   -999.0,9,-999.0000,9,   -999.0,  9,  -999.00,9,   -999.0,  -999.00,9,  -999.00,9,  -999.00,9,  -999.00,9,   -999.0,-999.0000, -999,9,  600,   5.0234,  27.1165,   -999.0,9
       SH00-06,  137E,SH-6013,  1,     11,S-1-1-10,2,20000714,0758, 33.5062, 136.7120, 2030,    806.3,   3.8160,  34.3852,2,   -999.0,9,  34.3860,2,     69.0,2,  -999.00,9,  -999.00,9,    39.33,2,     0.00,2,     2.78,2, -999.000,9, -999.000,9,  -999.00,9,   -999.0,9,   -999.0,9,-999.0000,9,   -999.0,  9,  -999.00,9,   -999.0,  -999.00,9,  -999.00,9,  -999.00,9,  -999.00,9,   -999.0,-999.0000, -999,9,  799,   3.7575,  27.3217,   -999.0,9
       SH00-06,  137E,SH-6013,  1,     10,1-133-94,2,20000714,0754, 33.5062, 136.7120, 2030,   1009.2,   3.1569,  34.4482,2,   -999.0,9,  34.4485,2,     68.2,2,  -999.00,9,  -999.00,9,    40.10,2,     0.00,2,     2.83,2, -999.000,9, -999.000,9,  -999.00,9,   -999.0,9,   -999.0,9,-999.0000,9,   -999.0,  9,  -999.00,9,   -999.0,  -999.00,9,  -999.00,9,  -999.00,9,  -999.00,9,   -999.0,-999.0000, -999,9, 1000,   3.0872,  27.4366,   -999.0,9
       SH00-06,  137E,SH-6013,  1,      9, S-1-1-5,2,20000714,0750, 33.5062, 136.7120, 2030,   1212.4,   2.7391,  34.4991,2,   -999.0,9,  34.5006,2,     75.8,2,  -999.00,9,  -999.00,9,    40.10,2,     0.00,2,     2.78,2, -999.000,9, -999.000,9,  -999.00,9,   -999.0,9,   -999.0,9,-999.0000,9,   -999.0,  9,  -999.00,9,   -999.0,  -999.00,9,  -999.00,9,  -999.00,9,  -999.00,9,   -999.0,-999.0000, -999,9, 1200,   2.6573,  27.5158,   -999.0,9
       SH00-06,  137E,SH-6013,  1,      8,1-133-95,2,20000714,0745, 33.5062, 136.7120, 2030,   1518.3,   2.3388,  34.5529,2,   -999.0,9,  34.5545,2,     89.2,2,  -999.00,9,  -999.00,9,    39.61,2,     0.00,2,     2.72,2, -999.000,9, -999.000,9,  -999.00,9,   -999.0,9,   -999.0,9,-999.0000,9,   -999.0,  9,  -999.00,9,   -999.0,  -999.00,9,  -999.00,9,  -999.00,9,  -999.00,9,   -999.0,-999.0000, -999,9, 1502,   2.2372,  27.5944,   -999.0,9
       SH00-06,  137E,SH-6015,  1,     -9,      -9,5,20000714,1325, 33.9958, 136.9985, 1060,      0.0,  24.5527,  33.5813,2,   -999.0,9,-999.0000,9,    219.8,2,  -999.00,9,  -999.00,9,     0.00,2,     0.00,2,     0.00,2, -999.000,9, -999.000,9,  -999.00,9,   -999.0,9,   -999.0,9,-999.0000,9,   -999.0,  9,  -999.00,9,   -999.0,  -999.00,9,  -999.00,9,  -999.00,9,  -999.00,9,   -999.0,-999.0000, -999,9,    0,  24.5527,  22.4039,   -999.0,9
       SH00-06,  137E,SH-6015,  1,      4,S-1-1-12,2,20000714,1323, 33.9958, 136.9985, 1060,     50.5,  19.3326,  34.5086,2,   -999.0,9,-999.0000,9,    204.4,2,  -999.00,9,  -999.00,9,     3.42,2,     0.40,2,     0.26,2, -999.000,9, -999.000,9,  -999.00,9,   -999.0,9,   -999.0,9,-999.0000,9,   -999.0,  9,  -999.00,9,   -999.0,  -999.00,9,  -999.00,9,  -999.00,9,  -999.00,9,   -999.0,-999.0000, -999,9,   50,  19.3236,  24.5628,   -999.0,9
       SH00-06,  137E,SH-6015,  1,      3,1-133-84,2,20000714,1321, 33.9958, 136.9985, 1060,    101.0,  16.1292,  34.6230,2,   -999.0,9,-999.0000,9,    187.5,2,  -999.00,9,  -999.00,9,     9.07,2,     0.03,2,     0.62,2, -999.000,9, -999.000,9,  -999.00,9,   -999.0,9,   -999.0,9,-999.0000,9,   -999.0,  9,  -999.00,9,   -999.0,  -999.00,9,  -999.00,9,  -999.00,9,  -999.00,9,   -999.0,-999.0000, -999,9,  100,  16.1132,  25.4317,   -999.0,9
       SH00-06,  137E,SH-6015,  1,      2, S-1-1-7,2,20000714,1320, 33.9958, 136.9985, 1060,    150.0,  13.8969,  34.5419,2,   -999.0,9,-999.0000,9,    216.2,2,  -999.00,9,  -999.00,9,    13.84,2,     0.01,2,     0.95,2, -999.000,9, -999.000,9,  -999.00,9,   -999.0,9,   -999.0,9,-999.0000,9,   -999.0,  9,  -999.00,9,   -999.0,  -999.00,9,  -999.00,9,  -999.00,9,  -999.00,9,   -999.0,-999.0000, -999,9,  149,  13.8754,  25.8591,   -999.0,9
       SH00-06,  137E,SH-6015,  1,      1, 1-133-1,2,20000714,1317, 33.9958, 136.9985, 1060,    301.7,   9.1659,  34.3142,2,   -999.0,9,-999.0000,9,    133.6,2,  -999.00,9,  -999.00,9,    25.13,2,     0.01,2,     1.73,2, -999.000,9, -999.000,9,  -999.00,9,   -999.0,9,   -999.0,9,-999.0000,9,   -999.0,  9,  -999.00,9,   -999.0,  -999.00,9,  -999.00,9,  -999.00,9,  -999.00,9,   -999.0,-999.0000, -999,9,  299,   9.1329,  26.5598,   -999.0,9
       SH00-06,  137E,SH-6015,  1,     12, 1-133-7,2,20000714,1315, 33.9958, 136.9985, 1060,    401.8,   7.3953,  34.2676,2,   -999.0,9,-999.0000,9,    114.5,2,  -999.00,9,  -999.00,9,    29.80,2,     0.01,2,     2.07,2, -999.000,9, -999.000,9,  -999.00,9,   -999.0,9,   -999.0,9,-999.0000,9,   -999.0,  9,  -999.00,9,   -999.0,  -999.00,9,  -999.00,9,  -999.00,9,  -999.00,9,   -999.0,-999.0000, -999,9,  399,   7.3564,  26.7921,   -999.0,9
       SH00-06,  137E,SH-6015,  1,     11,S-1-1-10,2,20000714,1313, 33.9958, 136.9985, 1060,    503.1,   6.4883,  34.2594,2,   -999.0,9,-999.0000,9,    102.2,2,  -999.00,9,  -999.00,9,    32.43,2,     0.01,2,     2.28,2, -999.000,9, -999.000,9,  -999.00,9,   -999.0,9,   -999.0,9,-999.0000,9,   -999.0,  9,  -999.00,9,   -999.0,  -999.00,9,  -999.00,9,  -999.00,9,  -999.00,9,   -999.0,-999.0000, -999,9,  499,   6.4427,  26.9103,   -999.0,9
       SH00-06,  137E,SH-6015,  1,     10,1-133-94,2,20000714,1311, 33.9958, 136.9985, 1060,    603.8,   5.4460,  34.2781,2,   -999.0,9,-999.0000,9,     86.1,2,  -999.00,9,  -999.00,9,    35.34,2,     0.00,2,     2.49,2, -999.000,9, -999.000,9,  -999.00,9,   -999.0,9,   -999.0,9,-999.0000,9,   -999.0,  9,  -999.00,9,   -999.0,  -999.00,9,  -999.00,9,  -999.00,9,  -999.00,9,   -999.0,-999.0000, -999,9,  599,   5.3956,  27.0565,   -999.0,9
       SH00-06,  137E,SH-6015,  1,      9, S-1-1-5,2,20000714,1307, 33.9958, 136.9985, 1060,    806.4,   4.1336,  34.3568,2,   -999.0,9,-999.0000,9,     68.1,2,  -999.00,9,  -999.00,9,    38.65,2,     0.00,2,     2.74,2, -999.000,9, -999.000,9,  -999.00,9,   -999.0,9,   -999.0,9,-999.0000,9,   -999.0,  9,  -999.00,9,   -999.0,  -999.00,9,  -999.00,9,  -999.00,9,  -999.00,9,   -999.0,-999.0000, -999,9,  799,   4.0731,  27.2669,   -999.0,9
       SH00-06,  137E,SH-6015,  1,      8,1-133-95,2,20000714,1304, 33.9958, 136.9985, 1060,   1010.4,   3.2624,  34.4346,2,   -999.0,9,-999.0000,9,     66.9,2,  -999.00,9,  -999.00,9,    39.91,2,     0.00,2,     2.81,2, -999.000,9, -999.000,9,  -999.00,9,   -999.0,9,   -999.0,9,-999.0000,9,   -999.0,  9,  -999.00,9,   -999.0,  -999.00,9,  -999.00,9,  -999.00,9,  -999.00,9,   -999.0,-999.0000, -999,9, 1001,   3.1918,  27.4160,   -999.0,9