BOTTLE,20130510GEMDJMAYT
EXPOCODE,SECT_ID,STNNBR,CASTNO,SAMPNO,BTLNBR,BTLNBR_FLAG_W,DATE,TIME,LATITUDE,LONGITUDE,DEPTH,CTDPRS,CTDTMP,CTDSAL,CTDSAL_FLAG_W,CTDOXY,CTDOXY_FLAG_W,SALNTY,SALNTY_FLAG_W,OXYGEN,OXYGEN_FLAG_W,SILCAT,SILCAT_FLAG_W,NITRAT,NITRAT_FLAG_W,NO2+NO3,NO2+NO3_FLAG_W,NITRIT,NITRIT_FLAG_W,PHSPHT,PHSPHT_FLAG_W,CFC-11,CFC-11_FLAG_W,CFC-12,CFC-12_FLAG_W,DELC13,DELC13_FLAG_W,TCARBN,TCARBN_FLAG_W,ALKALI,ALKALI_FLAG_W,PH,PH_FLAG_W,PH_TMP,PH_SCALE,PH_NBS,PH_NBS_FLAG_W,C13ERR,TOTALP,TOTALP_FLAG_W,AMMONI,AMMONI_FLAG_W,CHLORA,CHLORA_FLAG_W,PPHYTN,PPHYTN_FLAG_W,REVPRS,REVTMP,DEPTH_,DEPTH_FLAG,CTDDEP,THETA,SIGTHT,DOC,DOC_FLAG_W
,,,,,,,GMT,GMT,,,METER,DBAR,ITS-90,PSS-78,,UMOL/KG,,PSS-78,,UMOL/KG,,UMOL/KG,,UMOL/KG,,UMOL/KG,,UMOL/KG,,UMOL/KG,,PMOL/KG,,PMOL/KG,,/MILLE,,UMOL/KG,,UMOL/KG,,25_DEG_C,,DEG_C,,,,/MILLE,UMOL/KG,,UMOL/KG,,UG/L,,UG/L,,DBAR,ITS-90,METERS,,METERS,DEG_C,,UMOL/L,
       SH00-06,  NONE,SH-6007,  1,     -9,      -9,5,20000713,1456, 31.9953, 135.8898, 4150,      0.0,  27.3622,  34.4668,2,   -999.0,9,-999.0000,9,    202.6,2,  -999.00,9,  -999.00,9,     0.00,2,     0.00,2,     0.00,2, -999.000,9, -999.000,9,  -999.00,9,   -999.0,9,   -999.0,9,-999.0000,9,   -999.0,  9,  -999.00,9,   -999.0,  -999.00,9,  -999.00,9,  -999.00,9,  -999.00,9,   -999.0,-999.0000, -999,9,    0,  27.3622,  22.2003,   -999.0,9
       SH00-06,  NONE,SH-6007,  1,      9, S-1-1-5,2,20000713,1455, 31.9953, 135.8898, 4150,     51.6,  22.6758,  34.7509,2,   -999.0,9,  34.7455,2,    225.8,2,  -999.00,9,  -999.00,9,     0.00,2,     0.00,2,     0.00,2, -999.000,9, -999.000,9,  -999.00,9,   -999.0,9,   -999.0,9,-999.0000,9,   -999.0,  9,  -999.00,9,   -999.0,  -999.00,9,  -999.00,9,  -999.00,9,  -999.00,9,   -999.0,-999.0000, -999,9,   51,  22.6654,  23.8406,   -999.0,9
       SH00-06,  NONE,SH-6007,  1,      8,1-133-95,2,20000713,1453, 31.9953, 135.8898, 4150,    101.7,  20.3768,  34.7820,2,   -999.0,9,  34.7808,2,    219.3,2,  -999.00,9,  -999.00,9,     0.39,2,     0.14,2,     0.06,2, -999.000,9, -999.000,9,  -999.00,9,   -999.0,9,   -999.0,9,-999.0000,9,   -999.0,  9,  -999.00,9,   -999.0,  -999.00,9,  -999.00,9,  -999.00,9,  -999.00,9,   -999.0,-999.0000, -999,9,  101,  20.3578,  24.5007,   -999.0,9
       SH00-06,  NONE,SH-6007,  1,      7, S-1-1-4,2,20000713,1452, 31.9953, 135.8898, 4150,    152.6,  19.2394,  34.8033,2,   -999.0,9,  34.8020,2,    213.8,2,  -999.00,9,  -999.00,9,     1.56,2,     0.02,2,     0.13,2, -999.000,9, -999.000,9,  -999.00,9,   -999.0,9,   -999.0,9,-999.0000,9,   -999.0,  9,  -999.00,9,   -999.0,  -999.00,9,  -999.00,9,  -999.00,9,  -999.00,9,   -999.0,-999.0000, -999,9,  152,  19.2120,  24.8166,   -999.0,9
       SH00-06,  NONE,SH-6007,  1,      6,1-133-93,2,20000713,1449, 31.9953, 135.8898, 4150,    302.9,  18.3157,  34.8015,2,   -999.0,9,  34.7977,2,    202.3,2,  -999.00,9,  -999.00,9,     3.80,2,     0.01,2,     0.26,2, -999.000,9, -999.000,9,  -999.00,9,   -999.0,9,   -999.0,9,-999.0000,9,   -999.0,  9,  -999.00,9,   -999.0,  -999.00,9,  -999.00,9,  -999.00,9,  -999.00,9,   -999.0,-999.0000, -999,9,  301,  18.2630,  25.0550,   -999.0,9
       SH00-06,  NONE,SH-6007,  1,      5,S-1-1-11,2,20000713,1447, 31.9953, 135.8898, 4150,    404.7,  16.4796,  34.7302,2,   -999.0,9,  34.7272,2,    189.1,2,  -999.00,9,  -999.00,9,     7.90,2,     0.01,2,     0.52,2, -999.000,9, -999.000,9,  -999.00,9,   -999.0,9,   -999.0,9,-999.0000,9,   -999.0,  9,  -999.00,9,   -999.0,  -999.00,9,  -999.00,9,  -999.00,9,  -999.00,9,   -999.0,-999.0000, -999,9,  401,  16.4140,  25.4447,   -999.0,9
       SH00-06,  NONE,SH-6007,  1,      4,S-1-1-12,2,20000713,1445, 31.9953, 135.8898, 4150,    505.2,  14.0180,  34.5558,2,   -999.0,9,  34.5543,2,    182.1,2,  -999.00,9,  -999.00,9,    12.48,2,     0.01,2,     0.84,2, -999.000,9, -999.000,9,  -999.00,9,   -999.0,9,   -999.0,9,-999.0000,9,   -999.0,  9,  -999.00,9,   -999.0,  -999.00,9,  -999.00,9,  -999.00,9,  -999.00,9,   -999.0,-999.0000, -999,9,  501,  13.9444,  25.8555,   -999.0,9
       SH00-06,  NONE,SH-6007,  1,      3,1-133-84,2,20000713,1442, 31.9953, 135.8898, 4150,    605.5,  11.0699,  34.3470,2,   -999.0,9,  34.3488,2,    166.9,2,  -999.00,9,  -999.00,9,    19.00,2,     0.00,2,     1.28,2, -999.000,9, -999.000,9,  -999.00,9,   -999.0,9,   -999.0,9,-999.0000,9,   -999.0,  9,  -999.00,9,   -999.0,  -999.00,9,  -999.00,9,  -999.00,9,  -999.00,9,   -999.0,-999.0000, -999,9,  600,  10.9941,  26.2680,   -999.0,9
       SH00-06,  NONE,SH-6007,  1,      2, S-1-1-7,2,20000713,1438, 31.9953, 135.8898, 4150,    809.8,   6.6443,  34.1967,2,   -999.0,9,  34.2102,2,    112.2,2,  -999.00,9,  -999.00,9,    30.87,2,     0.00,2,     2.15,2, -999.000,9, -999.000,9,  -999.00,9,   -999.0,9,   -999.0,9,-999.0000,9,   -999.0,  9,  -999.00,9,   -999.0,  -999.00,9,  -999.00,9,  -999.00,9,  -999.00,9,   -999.0,-999.0000, -999,9,  803,   6.5682,  26.8443,   -999.0,9
       SH00-06,  NONE,SH-6007,  1,      1, 1-133-1,2,20000713,1434, 31.9953, 135.8898, 4150,   1009.7,   4.6919,  34.3224,2,   -999.0,9,  34.3241,2,     74.4,2,  -999.00,9,  -999.00,9,    37.58,2,     0.00,2,     2.64,2, -999.000,9, -999.000,9,  -999.00,9,   -999.0,9,   -999.0,9,-999.0000,9,   -999.0,  9,  -999.00,9,   -999.0,  -999.00,9,  -999.00,9,  -999.00,9,  -999.00,9,   -999.0,-999.0000, -999,9, 1000,   4.6104,  27.1820,   -999.0,9
       SH00-06,  NONE,SH-6007,  1,     12, 1-133-7,2,20000713,1431, 31.9953, 135.8898, 4150,   1212.9,   3.5681,  34.4158,2,   -999.0,9,  34.4180,2,     66.1,2,  -999.00,9,  -999.00,9,    39.62,2,     0.00,2,     2.78,2, -999.000,9, -999.000,9,  -999.00,9,   -999.0,9,   -999.0,9,-999.0000,9,   -999.0,  9,  -999.00,9,   -999.0,  -999.00,9,  -999.00,9,  -999.00,9,  -999.00,9,   -999.0,-999.0000, -999,9, 1201,   3.4786,  27.3737,   -999.0,9
       SH00-06,  NONE,SH-6007,  1,     11,S-1-1-10,2,20000713,1426, 31.9953, 135.8898, 4150,   1514.7,   2.7266,  34.5039,2,   -999.0,9,  34.5045,2,     76.9,2,  -999.00,9,  -999.00,9,    39.80,2,     0.00,2,     2.74,2, -999.000,9, -999.000,9,  -999.00,9,   -999.0,9,   -999.0,9,-999.0000,9,   -999.0,  9,  -999.00,9,   -999.0,  -999.00,9,  -999.00,9,  -999.00,9,  -999.00,9,   -999.0,-999.0000, -999,9, 1499,   2.6209,  27.5228,   -999.0,9
       SH00-06,  137E,SH-6009,  1,     -9,      -9,5,20000713,2032, 32.4883, 136.1800, 4470,      0.0,  28.0639,  34.2419,2,   -999.0,9,-999.0000,9,    201.4,2,  -999.00,9,  -999.00,9,     0.00,2,     0.00,2,     0.00,2, -999.000,9, -999.000,9,  -999.00,9,   -999.0,9,   -999.0,9,-999.0000,9,   -999.0,  9,  -999.00,9,   -999.0,  -999.00,9,  -999.00,9,  -999.00,9,  -999.00,9,   -999.0,-999.0000, -999,9,    0,  28.0639,  21.8038,   -999.0,9
       SH00-06,  137E,SH-6009,  1,      8,1-133-95,2,20000713,2030, 32.4883, 136.1800, 4470,     51.4,  25.3782,  34.5918,2,   -999.0,9,-999.0000,9,    206.0,2,  -999.00,9,  -999.00,9,     0.20,2,     0.00,2,     0.02,2, -999.000,9, -999.000,9,  -999.00,9,   -999.0,9,   -999.0,9,-999.0000,9,   -999.0,  9,  -999.00,9,   -999.0,  -999.00,9,  -999.00,9,  -999.00,9,  -999.00,9,   -999.0,-999.0000, -999,9,   51,  25.3670,  22.9209,   -999.0,9
       SH00-06,  137E,SH-6009,  1,      7, S-1-1-4,2,20000713,2029, 32.4883, 136.1800, 4470,    100.2,  21.8952,  34.7776,2,   -999.0,9,-999.0000,9,    191.6,2,  -999.00,9,  -999.00,9,     2.44,2,     0.05,2,     0.18,2, -999.000,9, -999.000,9,  -999.00,9,   -999.0,9,   -999.0,9,-999.0000,9,   -999.0,  9,  -999.00,9,   -999.0,  -999.00,9,  -999.00,9,  -999.00,9,  -999.00,9,   -999.0,-999.0000, -999,9,   99,  21.8755,  24.0837,   -999.0,9
       SH00-06,  137E,SH-6009,  1,      6,1-133-93,2,20000713,2027, 32.4883, 136.1800, 4470,    151.6,  20.1295,  34.7959,2,   -999.0,9,-999.0000,9,    188.1,2,  -999.00,9,  -999.00,9,     4.20,2,     0.03,2,     0.29,2, -999.000,9, -999.000,9,  -999.00,9,   -999.0,9,   -999.0,9,-999.0000,9,   -999.0,  9,  -999.00,9,   -999.0,  -999.00,9,  -999.00,9,  -999.00,9,  -999.00,9,   -999.0,-999.0000, -999,9,  150,  20.1014,  24.5793,   -999.0,9
       SH00-06,  137E,SH-6009,  1,      5,S-1-1-11,2,20000713,2024, 32.4883, 136.1800, 4470,    301.7,  16.2099,  34.6877,2,   -999.0,9,-999.0000,9,    179.5,2,  -999.00,9,  -999.00,9,     9.85,2,     0.01,2,     0.65,2, -999.000,9, -999.000,9,  -999.00,9,   -999.0,9,   -999.0,9,-999.0000,9,   -999.0,  9,  -999.00,9,   -999.0,  -999.00,9,  -999.00,9,  -999.00,9,  -999.00,9,   -999.0,-999.0000, -999,9,  299,  16.1617,  25.4703,   -999.0,9
       SH00-06,  137E,SH-6009,  1,      4,S-1-1-12,2,20000713,2021, 32.4883, 136.1800, 4470,    404.6,  12.9812,  34.5040,2,   -999.0,9,-999.0000,9,    158.4,2,  -999.00,9,  -999.00,9,    16.76,2,     0.01,2,     1.15,2, -999.000,9, -999.000,9,  -999.00,9,   -999.0,9,   -999.0,9,-999.0000,9,   -999.0,  9,  -999.00,9,   -999.0,  -999.00,9,  -999.00,9,  -999.00,9,  -999.00,9,   -999.0,-999.0000, -999,9,  401,  12.9254,  26.0235,   -999.0,9
       SH00-06,  137E,SH-6009,  1,      3,1-133-84,2,20000713,2018, 32.4883, 136.1800, 4470,    504.8,   9.4294,  34.3650,2,   -999.0,9,-999.0000,9,    126.7,2,  -999.00,9,  -999.00,9,    25.62,2,     0.01,2,     1.77,2, -999.000,9, -999.000,9,  -999.00,9,   -999.0,9,   -999.0,9,-999.0000,9,   -999.0,  9,  -999.00,9,   -999.0,  -999.00,9,  -999.00,9,  -999.00,9,  -999.00,9,   -999.0,-999.0000, -999,9,  501,   9.3724,  26.5607,   -999.0,9
       SH00-06,  137E,SH-6009,  1,      2, S-1-1-7,2,20000713,2014, 32.4883, 136.1800, 4470,    605.8,   7.0321,  34.1827,2,   -999.0,9,-999.0000,9,    116.9,2,  -999.00,9,  -999.00,9,    30.39,2,     0.01,2,     2.12,2, -999.000,9, -999.000,9,  -999.00,9,   -999.0,9,   -999.0,9,-999.0000,9,   -999.0,  9,  -999.00,9,   -999.0,  -999.00,9,  -999.00,9,  -999.00,9,  -999.00,9,   -999.0,-999.0000, -999,9,  601,   6.9743,  26.7785,   -999.0,9
       SH00-06,  137E,SH-6009,  1,      1, 1-133-1,2,20000713,2009, 32.4883, 136.1800, 4470,    808.2,   5.0915,  34.2887,2,   -999.0,9,-999.0000,9,     79.2,2,  -999.00,9,  -999.00,9,    36.80,2,     0.01,2,     2.57,2, -999.000,9, -999.000,9,  -999.00,9,   -999.0,9,   -999.0,9,-999.0000,9,   -999.0,  9,  -999.00,9,   -999.0,  -999.00,9,  -999.00,9,  -999.00,9,  -999.00,9,   -999.0,-999.0000, -999,9,  801,   5.0250,  27.1085,   -999.0,9
       SH00-06,  137E,SH-6009,  1,     12, 1-133-7,2,20000713,2004, 32.4883, 136.1800, 4470,   1010.3,   3.9473,  34.3745,2,   -999.0,9,-999.0000,9,     68.6,2,  -999.00,9,  -999.00,9,    39.13,2,     0.01,2,     2.75,2, -999.000,9, -999.000,9,  -999.00,9,   -999.0,9,   -999.0,9,-999.0000,9,   -999.0,  9,  -999.00,9,   -999.0,  -999.00,9,  -999.00,9,  -999.00,9,  -999.00,9,   -999.0,-999.0000, -999,9, 1001,   3.8714,  27.3018,   -999.0,9
       SH00-06,  137E,SH-6009,  1,     11,S-1-1-10,2,20000713,1959, 32.4883, 136.1800, 4470,   1214.4,   3.1778,  34.4514,2,   -999.0,9,-999.0000,9,     71.8,2,  -999.00,9,  -999.00,9,    39.61,2,     0.01,2,     2.77,2, -999.000,9, -999.000,9,  -999.00,9,   -999.0,9,   -999.0,9,-999.0000,9,   -999.0,  9,  -999.00,9,   -999.0,  -999.00,9,  -999.00,9,  -999.00,9,  -999.00,9,   -999.0,-999.0000, -999,9, 1202,   3.0918,  27.4387,   -999.0,9
       SH00-06,  137E,SH-6009,  1,     10,1-133-94,2,20000713,1954, 32.4883, 136.1800, 4470,   1515.6,   2.5728,  34.5215,2,   -999.0,9,-999.0000,9,     78.1,2,  -999.00,9,  -999.00,9,    40.00,2,     0.01,2,     2.80,2, -999.000,9, -999.000,9,  -999.00,9,   -999.0,9,   -999.0,9,-999.0000,9,   -999.0,  9,  -999.00,9,   -999.0,  -999.00,9,  -999.00,9,  -999.00,9,  -999.00,9,   -999.0,-999.0000, -999,9, 1500,   2.4688,  27.5499,   -999.0,9
       SH00-06,  137E,SH-6011,  1,     -9,      -9,5,20000714,0308, 32.9933, 136.4572, 3840,      0.0,  25.8448,  33.1678,2,   -999.0,9,-999.0000,9,    220.3,2,  -999.00,9,  -999.00,9,     0.00,2,     0.00,2,     0.00,2, -999.000,9, -999.000,9,  -999.00,9,   -999.0,9,   -999.0,9,-999.0000,9,   -999.0,  9,  -999.00,9,   -999.0,  -999.00,9,  -999.00,9,  -999.00,9,  -999.00,9,   -999.0,-999.0000, -999,9,    0,  25.8448,  21.6996,   -999.0,9
       SH00-06,  137E,SH-6011,  1,      7, S-1-1-4,2,20000714,0306, 32.9933, 136.4572, 3840,     50.5,  21.2400,  34.4047,2,   -999.0,9,  34.3789,4,    195.8,2,  -999.00,9,  -999.00,9,     2.83,2,     0.40,2,     0.23,2, -999.000,9, -999.000,9,  -999.00,9,   -999.0,9,   -999.0,9,-999.0000,9,   -999.0,  9,  -999.00,9,   -999.0,  -999.00,9,  -999.00,9,  -999.00,9,  -999.00,9,   -999.0,-999.0000, -999,9,   50,  21.2303,  23.9781,   -999.0,9
       SH00-06,  137E,SH-6011,  1,      6,1-133-93,2,20000714,0304, 32.9933, 136.4572, 3840,    101.5,  18.1386,  34.6142,2,   -999.0,9,  34.6103,2,    181.1,2,  -999.00,9,  -999.00,9,     7.81,2,     0.06,2,     0.53,2, -999.000,9, -999.000,9,  -999.00,9,   -999.0,9,   -999.0,9,-999.0000,9,   -999.0,  9,  -999.00,9,   -999.0,  -999.00,9,  -999.00,9,  -999.00,9,  -999.00,9,   -999.0,-999.0000, -999,9,  101,  18.1211,  24.9467,   -999.0,9
       SH00-06,  137E,SH-6011,  1,      5,S-1-1-11,2,20000714,0303, 32.9933, 136.4572, 3840,    152.4,  15.4239,  34.6169,2,   -999.0,9,  34.6170,2,    174.4,2,  -999.00,9,  -999.00,9,    11.51,2,     0.02,2,     0.79,2, -999.000,9, -999.000,9,  -999.00,9,   -999.0,9,   -999.0,9,-999.0000,9,   -999.0,  9,  -999.00,9,   -999.0,  -999.00,9,  -999.00,9,  -999.00,9,  -999.00,9,   -999.0,-999.0000, -999,9,  151,  15.4005,  25.5881,   -999.0,9
       SH00-06,  137E,SH-6011,  1,      4,S-1-1-12,2,20000714,0300, 32.9933, 136.4572, 3840,    303.3,  10.1892,  34.3142,2,   -999.0,9,  34.3211,2,    149.3,2,  -999.00,9,  -999.00,9,    21.92,2,     0.01,2,     1.52,2, -999.000,9, -999.000,9,  -999.00,9,   -999.0,9,   -999.0,9,-999.0000,9,   -999.0,  9,  -999.00,9,   -999.0,  -999.00,9,  -999.00,9,  -999.00,9,  -999.00,9,   -999.0,-999.0000, -999,9,  301,  10.1537,  26.3902,   -999.0,9
       SH00-06,  137E,SH-6011,  1,      3,1-133-84,2,20000714,0257, 32.9933, 136.4572, 3840,    404.8,   7.9253,  34.2337,2,   -999.0,9,  34.2255,2,    122.8,2,  -999.00,9,  -999.00,9,    28.54,2,     0.00,2,     1.98,2, -999.000,9, -999.000,9,  -999.00,9,   -999.0,9,   -999.0,9,-999.0000,9,   -999.0,  9,  -999.00,9,   -999.0,  -999.00,9,  -999.00,9,  -999.00,9,  -999.00,9,   -999.0,-999.0000, -999,9,  402,   7.8845,  26.6891,   -999.0,9
       SH00-06,  137E,SH-6011,  1,      2, S-1-1-7,2,20000714,0255, 32.9933, 136.4572, 3840,    504.4,   6.6231,  34.2815,2,   -999.0,9,  34.2885,2,    103.4,2,  -999.00,9,  -999.00,9,    31.84,2,     0.00,2,     2.24,2, -999.000,9, -999.000,9,  -999.00,9,   -999.0,9,   -999.0,9,-999.0000,9,   -999.0,  9,  -999.00,9,   -999.0,  -999.00,9,  -999.00,9,  -999.00,9,  -999.00,9,   -999.0,-999.0000, -999,9,  500,   6.5768,  26.9101,   -999.0,9
       SH00-06,  137E,SH-6011,  1,      1, 1-133-1,2,20000714,0253, 32.9933, 136.4572, 3840,    605.8,   5.3021,  34.2819,2,   -999.0,9,  34.2801,2,     82.6,2,  -999.00,9,  -999.00,9,    36.02,2,     0.00,2,     2.51,2, -999.000,9, -999.000,9,  -999.00,9,   -999.0,9,   -999.0,9,-999.0000,9,   -999.0,  9,  -999.00,9,   -999.0,  -999.00,9,  -999.00,9,  -999.00,9,  -999.00,9,   -999.0,-999.0000, -999,9,  601,   5.2521,  27.0766,   -999.0,9
       SH00-06,  137E,SH-6011,  1,     12, 1-133-7,2,20000714,0249, 32.9933, 136.4572, 3840,    806.9,   3.9541,  34.3701,2,   -999.0,9,  34.3707,2,     66.0,2,  -999.00,9,  -999.00,9,    38.94,2,     0.00,2,     2.75,2, -999.000,9, -999.000,9,  -999.00,9,   -999.0,9,   -999.0,9,-999.0000,9,   -999.0,  9,  -999.00,9,   -999.0,  -999.00,9,  -999.00,9,  -999.00,9,  -999.00,9,   -999.0,-999.0000, -999,9,  800,   3.8947,  27.2959,   -999.0,9
       SH00-06,  137E,SH-6011,  1,     11,S-1-1-10,2,20000714,0245, 32.9933, 136.4572, 3840,   1009.8,   3.2398,  34.4403,2,   -999.0,9,  34.4385,2,     66.0,2,  -999.00,9,  -999.00,9,    39.81,2,     0.00,2,     2.82,2, -999.000,9, -999.000,9,  -999.00,9,   -999.0,9,   -999.0,9,-999.0000,9,   -999.0,  9,  -999.00,9,   -999.0,  -999.00,9,  -999.00,9,  -999.00,9,  -999.00,9,   -999.0,-999.0000, -999,9, 1000,   3.1693,  27.4226,   -999.0,9
       SH00-06,  137E,SH-6011,  1,     10,1-133-94,2,20000714,0242, 32.9933, 136.4572, 3840,   1211.6,   2.8674,  34.4856,2,   -999.0,9,  34.4835,2,     72.2,2,  -999.00,9,  -999.00,9,    39.90,2,     0.00,2,     2.77,2, -999.000,9, -999.000,9,  -999.00,9,   -999.0,9,   -999.0,9,-999.0000,9,   -999.0,  9,  -999.00,9,   -999.0,  -999.00,9,  -999.00,9,  -999.00,9,  -999.00,9,   -999.0,-999.0000, -999,9, 1200,   2.7844,  27.4939,   -999.0,9
       SH00-06,  137E,SH-6011,  1,      9, S-1-1-5,2,20000714,0238, 32.9933, 136.4572, 3840,   1516.6,   2.4581,  34.5378,2,   -999.0,9,  34.5244,2,     83.9,2,  -999.00,9,  -999.00,9,    39.61,2,     0.00,2,     2.74,2, -999.000,9, -999.000,9,  -999.00,9,   -999.0,9,   -999.0,9,-999.0000,9,   -999.0,  9,  -999.00,9,   -999.0,  -999.00,9,  -999.00,9,  -999.00,9,  -999.00,9,   -999.0,-999.0000, -999,9, 1500,   2.3553,  27.5726,   -999.0,9