BOTTLE,20130510GEMDJMAYT
EXPOCODE,SECT_ID,STNNBR,CASTNO,SAMPNO,BTLNBR,BTLNBR_FLAG_W,DATE,TIME,LATITUDE,LONGITUDE,DEPTH,CTDPRS,CTDTMP,CTDSAL,CTDSAL_FLAG_W,CTDOXY,CTDOXY_FLAG_W,SALNTY,SALNTY_FLAG_W,OXYGEN,OXYGEN_FLAG_W,SILCAT,SILCAT_FLAG_W,NITRAT,NITRAT_FLAG_W,NO2+NO3,NO2+NO3_FLAG_W,NITRIT,NITRIT_FLAG_W,PHSPHT,PHSPHT_FLAG_W,CFC-11,CFC-11_FLAG_W,CFC-12,CFC-12_FLAG_W,DELC13,DELC13_FLAG_W,TCARBN,TCARBN_FLAG_W,ALKALI,ALKALI_FLAG_W,PH,PH_FLAG_W,PH_TMP,PH_SCALE,PH_NBS,PH_NBS_FLAG_W,C13ERR,TOTALP,TOTALP_FLAG_W,AMMONI,AMMONI_FLAG_W,CHLORA,CHLORA_FLAG_W,PPHYTN,PPHYTN_FLAG_W,REVPRS,REVTMP,DEPTH_,DEPTH_FLAG,CTDDEP,THETA,SIGTHT,DOC,DOC_FLAG_W
,,,,,,,GMT,GMT,,,METER,DBAR,ITS-90,PSS-78,,UMOL/KG,,PSS-78,,UMOL/KG,,UMOL/KG,,UMOL/KG,,UMOL/KG,,UMOL/KG,,UMOL/KG,,PMOL/KG,,PMOL/KG,,/MILLE,,UMOL/KG,,UMOL/KG,,25_DEG_C,,DEG_C,,,,/MILLE,UMOL/KG,,UMOL/KG,,UG/L,,UG/L,,DBAR,ITS-90,METERS,,METERS,DEG_C,,UMOL/L,
       SH00-06,  NONE,SH-5973,  2,     -9,      -9,5,20000630,1747, 29.5107, 135.2100, 4560,      0.0,  26.9638,  34.3636,2,   -999.0,9,-999.0000,9,    206.9,2,  -999.00,9,  -999.00,9,     0.00,2,     0.01,2,     0.00,2, -999.000,9, -999.000,9,  -999.00,9,   -999.0,9,   -999.0,9,-999.0000,9,   -999.0,  9,     8.25,2,   -999.0,     0.22,2,  -999.00,9,     0.02,2,     0.01,2,   -999.0,-999.0000, -999,9,    0,  26.9638,  22.2500,   -999.0,9
       SH00-06,  NONE,SH-5973,  2,      9, S-1-1-5,2,20000630,1746, 29.5107, 135.2100, 4560,     11.2,  26.1158,  34.3569,2,   -999.0,9,-999.0000,9,    209.1,2,  -999.00,9,  -999.00,9,     0.00,2,     0.00,2,     0.00,2, -999.000,9, -999.000,9,  -999.00,9,   -999.0,9,   -999.0,9,-999.0000,9,   -999.0,  9,     8.25,2,   -999.0,     0.22,2,  -999.00,9,     0.06,2,     0.03,2,   -999.0,-999.0000, -999,9,   11,  26.1133,  22.5130,   -999.0,9
       SH00-06,  NONE,SH-5973,  2,      8,1-133-95,2,20000630,1745, 29.5107, 135.2100, 4560,     25.8,  24.6199,  34.3666,2,   -999.0,9,-999.0000,9,    215.7,2,  -999.00,9,  -999.00,9,     0.00,2,     0.00,2,     0.00,2, -999.000,9, -999.000,9,  -999.00,9,   -999.0,9,   -999.0,9,-999.0000,9,   -999.0,  9,     8.25,2,   -999.0,     0.21,2,  -999.00,9,     0.08,4,     0.04,4,   -999.0,-999.0000, -999,9,   26,  24.6144,  22.9789,   -999.0,9
       SH00-06,  NONE,SH-5973,  2,      7, S-1-1-4,2,20000630,1744, 29.5107, 135.2100, 4560,     51.3,  23.2739,  34.6934,2,   -999.0,9,-999.0000,9,    215.3,2,  -999.00,9,  -999.00,9,     0.00,2,     0.00,2,     0.02,2, -999.000,9, -999.000,9,  -999.00,9,   -999.0,9,   -999.0,9,-999.0000,9,   -999.0,  9,     8.24,2,   -999.0,     0.23,2,  -999.00,9,     0.13,2,     0.10,2,   -999.0,-999.0000, -999,9,   51,  23.2634,  23.6250,   -999.0,9
       SH00-06,  NONE,SH-5973,  2,      6, S-1-1-8,2,20000630,1743, 29.5107, 135.2100, 4560,     76.1,  22.3295,  34.7262,2,   -999.0,9,-999.0000,9,    212.1,2,  -999.00,9,  -999.00,9,     0.20,2,     0.09,2,     0.05,2, -999.000,9, -999.000,9,  -999.00,9,   -999.0,9,   -999.0,9,-999.0000,9,   -999.0,  9,     8.22,2,   -999.0,     0.24,2,  -999.00,9,     0.34,2,     0.65,2,   -999.0,-999.0000, -999,9,   76,  22.3144,  23.9214,   -999.0,9
       SH00-06,  NONE,SH-5973,  2,      5,S-1-1-11,2,20000630,1742, 29.5107, 135.2100, 4560,    101.6,  21.3932,  34.7502,2,   -999.0,9,-999.0000,9,    204.6,2,  -999.00,9,  -999.00,9,     1.66,2,     0.06,2,     0.13,2, -999.000,9, -999.000,9,  -999.00,9,   -999.0,9,   -999.0,9,-999.0000,9,   -999.0,  9,     8.20,2,   -999.0,     0.28,2,  -999.00,9,     0.04,2,     0.09,2,   -999.0,-999.0000, -999,9,  101,  21.3736,  24.2017,   -999.0,9
       SH00-06,  NONE,SH-5973,  2,      4,S-1-1-12,2,20000630,1741, 29.5107, 135.2100, 4560,    127.0,  20.7505,  34.7730,2,   -999.0,9,-999.0000,9,    203.3,2,  -999.00,9,  -999.00,9,     2.15,2,     0.03,2,     0.16,2, -999.000,9, -999.000,9,  -999.00,9,   -999.0,9,   -999.0,9,-999.0000,9,   -999.0,  9,     8.19,2,   -999.0,     0.28,2,  -999.00,9,     0.04,2,     0.09,2,   -999.0,-999.0000, -999,9,  126,  20.7265,  24.3951,   -999.0,9
       SH00-06,  NONE,SH-5973,  2,      3,1-133-84,2,20000630,1740, 29.5107, 135.2100, 4560,    152.0,  20.2102,  34.7915,2,   -999.0,9,-999.0000,9,    202.4,2,  -999.00,9,  -999.00,9,     2.44,2,     0.03,2,     0.17,2, -999.000,9, -999.000,9,  -999.00,9,   -999.0,9,   -999.0,9,-999.0000,9,   -999.0,  9,     8.18,2,   -999.0,     0.30,2,  -999.00,9,     0.00,2,     0.00,2,   -999.0,-999.0000, -999,9,  151,  20.1820,  24.5546,   -999.0,9
       SH00-06,  NONE,SH-5973,  2,      2, S-1-1-7,2,20000630,1738, 29.5107, 135.2100, 4560,    202.4,  19.3702,  34.8079,2,   -999.0,9,-999.0000,9,    210.7,2,  -999.00,9,  -999.00,9,     2.05,2,     0.02,2,     0.15,2, -999.000,9, -999.000,9,  -999.00,9,   -999.0,9,   -999.0,9,-999.0000,9,   -999.0,  9,     8.18,2,   -999.0,     0.30,2,  -999.00,9,     0.01,2,     0.06,2,   -999.0,-999.0000, -999,9,  201,  19.3336,  24.7888,   -999.0,9
       SH00-06,  NONE,SH-5973,  2,      1, 1-133-1,2,20000630,1737, 29.5107, 135.2100, 4560,    251.9,  18.7366,  34.8093,2,   -999.0,9,-999.0000,9,    199.8,2,  -999.00,9,  -999.00,9,     3.90,2,     0.01,2,     0.26,2, -999.000,9, -999.000,9,  -999.00,9,   -999.0,9,   -999.0,9,-999.0000,9,   -999.0,  9,     8.15,2,   -999.0,     0.36,2,  -999.00,9,     0.00,2,     0.01,2,   -999.0,-999.0000, -999,9,  250,  18.6921,  24.9534,   -999.0,9
       SH00-06,  NONE,SH-5973,  2,     12, 1-133-7,2,20000630,1735, 29.5107, 135.2100, 4560,    305.4,  17.9985,  34.7808,2,   -999.0,9,-999.0000,9,    192.5,2,  -999.00,9,  -999.00,9,     5.76,2,     0.01,2,     0.38,2, -999.000,9, -999.000,9,  -999.00,9,   -999.0,9,   -999.0,9,-999.0000,9,   -999.0,  9,     8.12,2,   -999.0,     0.48,2,  -999.00,9,     0.00,4,     0.01,4,   -999.0,-999.0000, -999,9,  303,  17.9460,  25.1175,   -999.0,9
       SH00-06,  NONE,SH-5973,  1,     11,S-1-1-10,2,20000630,1705, 29.5070, 135.2330, 4520,    402.8,  16.0704,  34.7011,2,   -999.0,9,-999.0000,9,    188.1,2,  -999.00,9,  -999.00,9,     8.87,2,     0.00,2,     0.58,2, -999.000,9, -999.000,9,  -999.00,9,   -999.0,9,   -999.0,9,-999.0000,9,   -999.0,  9,     8.07,2,   -999.0,     0.70,2,  -999.00,9,  -999.00,9,  -999.00,9,   -999.0,-999.0000, -999,9,  400,  16.0062,  25.5163,   -999.0,9
       SH00-06,  NONE,SH-5973,  1,     10,1-133-94,2,20000630,1702, 29.5070, 135.2330, 4520,    505.4,  13.4373,  34.5121,2,   -999.0,9,-999.0000,9,    179.8,2,  -999.00,9,  -999.00,9,    13.94,2,     0.01,2,     0.93,2, -999.000,9, -999.000,9,  -999.00,9,   -999.0,9,   -999.0,9,-999.0000,9,   -999.0,  9,     7.99,2,   -999.0,     0.98,2,  -999.00,9,  -999.00,9,  -999.00,9,   -999.0,-999.0000, -999,9,  501,  13.3658,  25.9410,   -999.0,9
       SH00-06,  NONE,SH-5973,  1,      9, S-1-1-5,2,20000630,1700, 29.5070, 135.2330, 4520,    604.5,  10.6284,  34.3488,2,   -999.0,9,-999.0000,9,    155.3,3,  -999.00,9,  -999.00,9,    21.05,2,     0.00,2,     1.44,2, -999.000,9, -999.000,9,  -999.00,9,   -999.0,9,   -999.0,9,-999.0000,9,   -999.0,  9,     7.88,2,   -999.0,     1.49,2,  -999.00,9,  -999.00,9,  -999.00,9,   -999.0,-999.0000, -999,9,  600,  10.5546,  26.3476,   -999.0,9
       SH00-06,  NONE,SH-5973,  1,      8,1-133-95,2,20000630,1658, 29.5070, 135.2330, 4520,    705.1,   8.2969,  34.2658,2,   -999.0,9,-999.0000,9,    127.4,2,  -999.00,9,  -999.00,9,    27.18,2,     0.00,2,     1.89,2, -999.000,9, -999.000,9,  -999.00,9,   -999.0,9,   -999.0,9,-999.0000,9,   -999.0,  9,     7.77,2,   -999.0,     1.97,2,  -999.00,9,  -999.00,9,  -999.00,9,   -999.0,-999.0000, -999,9,  699,   8.2225,  26.6639,   -999.0,9
       SH00-06,  NONE,SH-5973,  1,      7, S-1-1-4,2,20000630,1656, 29.5070, 135.2330, 4520,    806.7,   6.1964,  34.2170,2,   -999.0,9,-999.0000,9,    101.3,2,  -999.00,9,  -999.00,9,    33.21,2,     0.00,2,     2.33,2, -999.000,9, -999.000,9,  -999.00,9,   -999.0,9,   -999.0,9,-999.0000,9,   -999.0,  9,     7.69,2,   -999.0,     2.38,4,  -999.00,9,  -999.00,9,  -999.00,9,   -999.0,-999.0000, -999,9,  800,   6.1233,  26.9182,   -999.0,9
       SH00-06,  NONE,SH-5973,  1,      6, S-1-1-8,2,20000630,1654, 29.5070, 135.2330, 4520,    908.1,   5.3146,  34.2786,2,   -999.0,9,-999.0000,9,     84.1,2,  -999.00,9,  -999.00,9,    36.02,2,     0.00,2,     2.52,2, -999.000,9, -999.000,9,  -999.00,9,   -999.0,9,   -999.0,9,-999.0000,9,   -999.0,  9,     7.62,2,   -999.0,     2.56,4,  -999.00,9,  -999.00,9,  -999.00,9,   -999.0,-999.0000, -999,9,  900,   5.2377,  27.0756,   -999.0,9
       SH00-06,  NONE,SH-5973,  1,      5,S-1-1-11,2,20000630,1652, 29.5070, 135.2330, 4520,   1009.5,   4.3974,  34.3446,2,   -999.0,9,-999.0000,9,   -999.0,9,  -999.00,9,  -999.00,9,  -999.00,9,  -999.00,9,  -999.00,9, -999.000,9, -999.000,9,  -999.00,9,   -999.0,9,   -999.0,9,-999.0000,9,   -999.0,  9,  -999.00,9,   -999.0,  -999.00,9,  -999.00,9,  -999.00,9,  -999.00,9,   -999.0,-999.0000, -999,9, 1000,   4.3182,  27.2313,   -999.0,9
       SH00-06,  NONE,SH-5973,  1,      4,S-1-1-12,2,20000630,1651, 29.5070, 135.2330, 4520,   1009.5,   4.4005,  34.3448,2,   -999.0,9,-999.0000,9,     71.8,2,  -999.00,9,  -999.00,9,    38.16,2,     0.00,2,     2.68,2, -999.000,9, -999.000,9,  -999.00,9,   -999.0,9,   -999.0,9,-999.0000,9,   -999.0,  9,     7.60,2,   -999.0,     2.73,4,  -999.00,9,  -999.00,9,  -999.00,9,   -999.0,-999.0000, -999,9, 1000,   4.3212,  27.2312,   -999.0,9
       SH00-06,  NONE,SH-5973,  1,      3,1-133-84,2,20000630,1648, 29.5070, 135.2330, 4520,   1211.9,   3.3416,  34.4320,2,   -999.0,9,-999.0000,9,     66.6,2,  -999.00,9,  -999.00,9,    39.91,2,     0.00,2,     2.80,2, -999.000,9, -999.000,9,  -999.00,9,   -999.0,9,   -999.0,9,-999.0000,9,   -999.0,  9,     7.58,2,   -999.0,     2.86,4,  -999.00,9,  -999.00,9,  -999.00,9,   -999.0,-999.0000, -999,9, 1200,   3.2543,  27.4081,   -999.0,9
       SH00-06,  NONE,SH-5973,  1,      2, S-1-1-7,2,20000630,1644, 29.5070, 135.2330, 4520,   1517.6,   2.6615,  34.5102,2,   -999.0,9,-999.0000,9,     78.8,2,  -999.00,9,  -999.00,9,    39.71,2,     0.00,2,     2.74,2, -999.000,9, -999.000,9,  -999.00,9,   -999.0,9,   -999.0,9,-999.0000,9,   -999.0,  9,     7.60,2,   -999.0,     2.82,4,  -999.00,9,  -999.00,9,  -999.00,9,   -999.0,-999.0000, -999,9, 1502,   2.5563,  27.5334,   -999.0,9
       SH00-06,  NONE,SH-5975,  2,     -9,      -9,5,20000701,1058, 28.6742, 134.3902, 3500,      0.0,  27.8280,  34.4554,2,   -999.0,9,-999.0000,9,    204.3,2,  -999.00,9,  -999.00,9,     0.10,2,     0.00,2,     0.00,2, -999.000,9, -999.000,9,  -999.00,9,   -999.0,9,   -999.0,9,-999.0000,9,   -999.0,  9,     8.22,2,   -999.0,  -999.00,9,  -999.00,9,     0.04,2,     0.01,2,   -999.0,-999.0000, -999,9,    0,  27.8280,  22.0412,   -999.0,9
       SH00-06,  NONE,SH-5975,  2,      5,S-1-1-11,2,20000701,1057, 28.6742, 134.3902, 3500,     11.5,  26.9378,  34.4875,2,   -999.0,9,  34.4815,2,    207.0,2,  -999.00,9,  -999.00,9,     0.00,2,     0.00,2,     0.00,2, -999.000,9, -999.000,9,  -999.00,9,   -999.0,9,   -999.0,9,-999.0000,9,   -999.0,  9,     8.23,2,   -999.0,  -999.00,9,  -999.00,9,     0.04,2,     0.02,2,   -999.0,-999.0000, -999,9,   11,  26.9352,  22.3525,   -999.0,9
       SH00-06,  NONE,SH-5975,  2,      4,S-1-1-12,2,20000701,1056, 28.6742, 134.3902, 3500,     26.9,  24.1089,  34.6581,2,   -999.0,9,  34.6587,2,    220.8,2,  -999.00,9,  -999.00,9,     0.00,2,     0.00,2,     0.00,2, -999.000,9, -999.000,9,  -999.00,9,   -999.0,9,   -999.0,9,-999.0000,9,   -999.0,  9,     8.23,2,   -999.0,  -999.00,9,  -999.00,9,     0.05,2,     0.02,2,   -999.0,-999.0000, -999,9,   27,  24.1032,  23.3520,   -999.0,9
       SH00-06,  NONE,SH-5975,  2,      3,1-133-84,2,20000701,1055, 28.6742, 134.3902, 3500,     51.6,  21.5177,  34.7883,2,   -999.0,9,  34.7904,2,    233.9,2,  -999.00,9,  -999.00,9,     0.00,2,     0.00,2,     0.00,2, -999.000,9, -999.000,9,  -999.00,9,   -999.0,9,   -999.0,9,-999.0000,9,   -999.0,  9,     8.23,2,   -999.0,  -999.00,9,  -999.00,9,     0.08,2,     0.04,2,   -999.0,-999.0000, -999,9,   51,  21.5077,  24.1938,   -999.0,9
       SH00-06,  NONE,SH-5975,  2,      2, S-1-1-7,2,20000701,1053, 28.6742, 134.3902, 3500,     77.2,  20.4605,  34.8008,2,   -999.0,9,  34.8046,2,    232.1,2,  -999.00,9,  -999.00,9,     0.00,2,     0.00,2,     0.01,2, -999.000,9, -999.000,9,  -999.00,9,   -999.0,9,   -999.0,9,-999.0000,9,   -999.0,  9,     8.26,2,   -999.0,  -999.00,9,  -999.00,9,     0.16,2,     0.10,2,   -999.0,-999.0000, -999,9,   77,  20.4460,  24.4915,   -999.0,9
       SH00-06,  NONE,SH-5975,  2,      1, 1-133-1,2,20000701,1052, 28.6742, 134.3902, 3500,    102.7,  19.6196,  34.8059,2,   -999.0,9,  34.8087,2,    223.8,2,  -999.00,9,  -999.00,9,     0.10,2,     0.01,2,     0.04,2, -999.000,9, -999.000,9,  -999.00,9,   -999.0,9,   -999.0,9,-999.0000,9,   -999.0,  9,     8.20,2,   -999.0,  -999.00,9,  -999.00,9,     0.25,2,     0.66,2,   -999.0,-999.0000, -999,9,  102,  19.6009,  24.7181,   -999.0,9
       SH00-06,  NONE,SH-5975,  2,     12, 1-133-7,2,20000701,1051, 28.6742, 134.3902, 3500,    127.1,  19.1322,  34.8075,2,   -999.0,9,  34.8095,2,    211.6,2,  -999.00,9,  -999.00,9,     2.15,2,     0.05,2,     0.15,2, -999.000,9, -999.000,9,  -999.00,9,   -999.0,9,   -999.0,9,-999.0000,9,   -999.0,  9,     8.18,2,   -999.0,  -999.00,9,  -999.00,9,     0.11,2,     0.33,2,   -999.0,-999.0000, -999,9,  126,  19.1095,  24.8461,   -999.0,9
       SH00-06,  NONE,SH-5975,  2,     11,S-1-1-10,2,20000701,1049, 28.6742, 134.3902, 3500,    152.0,  18.8636,  34.8064,2,   -999.0,9,  34.8073,2,    212.4,2,  -999.00,9,  -999.00,9,     2.34,2,     0.02,2,     0.17,2, -999.000,9, -999.000,9,  -999.00,9,   -999.0,9,   -999.0,9,-999.0000,9,   -999.0,  9,     8.17,2,   -999.0,  -999.00,9,  -999.00,9,     0.03,2,     0.06,2,   -999.0,-999.0000, -999,9,  151,  18.8367,  24.9147,   -999.0,9
       SH00-06,  NONE,SH-5975,  2,     10,1-133-94,2,20000701,1048, 28.6742, 134.3902, 3500,    203.3,  18.1285,  34.7929,2,   -999.0,9,  34.7934,2,    199.6,2,  -999.00,9,  -999.00,9,     4.58,2,     0.01,2,     0.30,2, -999.000,9, -999.000,9,  -999.00,9,   -999.0,9,   -999.0,9,-999.0000,9,   -999.0,  9,     8.13,2,   -999.0,  -999.00,9,  -999.00,9,     0.00,2,     0.01,2,   -999.0,-999.0000, -999,9,  202,  18.0934,  25.0904,   -999.0,9
       SH00-06,  NONE,SH-5975,  2,      9, S-1-1-5,2,20000701,1046, 28.6742, 134.3902, 3500,    254.1,  17.4121,  34.7758,2,   -999.0,9,  34.7776,2,    195.8,2,  -999.00,9,  -999.00,9,     5.85,2,     0.01,2,     0.38,2, -999.000,9, -999.000,9,  -999.00,9,   -999.0,9,   -999.0,9,-999.0000,9,   -999.0,  9,     8.11,2,   -999.0,  -999.00,9,  -999.00,9,     0.00,2,     0.01,2,   -999.0,-999.0000, -999,9,  252,  17.3695,  25.2539,   -999.0,9
       SH00-06,  NONE,SH-5975,  2,      8,1-133-95,2,20000701,1044, 28.6742, 134.3902, 3500,    303.4,  16.5920,  34.7339,2,   -999.0,9,  34.7343,2,    190.7,2,  -999.00,9,  -999.00,9,     7.70,2,     0.01,2,     0.49,2, -999.000,9, -999.000,9,  -999.00,9,   -999.0,9,   -999.0,9,-999.0000,9,   -999.0,  9,     8.09,2,   -999.0,  -999.00,9,  -999.00,9,     0.00,2,     0.01,2,   -999.0,-999.0000, -999,9,  301,  16.5427,  25.4176,   -999.0,9
       SH00-06,  NONE,SH-5975,  2,      7, S-1-1-4,2,20000701,1042, 28.6742, 134.3902, 3500,    404.6,  14.5507,  34.5894,2,   -999.0,9,  34.5950,2,    183.6,2,  -999.00,9,  -999.00,9,    11.70,2,     0.00,2,     0.76,2, -999.000,9, -999.000,9,  -999.00,9,   -999.0,9,   -999.0,9,-999.0000,9,   -999.0,  9,     8.03,2,   -999.0,  -999.00,9,  -999.00,9,  -999.00,9,  -999.00,9,   -999.0,-999.0000, -999,9,  402,  14.4905,  25.7657,   -999.0,9