BOTTLE,20130510GEMDJMAYT
EXPOCODE,SECT_ID,STNNBR,CASTNO,SAMPNO,BTLNBR,BTLNBR_FLAG_W,DATE,TIME,LATITUDE,LONGITUDE,DEPTH,CTDPRS,CTDTMP,CTDSAL,CTDSAL_FLAG_W,CTDOXY,CTDOXY_FLAG_W,SALNTY,SALNTY_FLAG_W,OXYGEN,OXYGEN_FLAG_W,SILCAT,SILCAT_FLAG_W,NITRAT,NITRAT_FLAG_W,NO2+NO3,NO2+NO3_FLAG_W,NITRIT,NITRIT_FLAG_W,PHSPHT,PHSPHT_FLAG_W,CFC-11,CFC-11_FLAG_W,CFC-12,CFC-12_FLAG_W,DELC13,DELC13_FLAG_W,TCARBN,TCARBN_FLAG_W,ALKALI,ALKALI_FLAG_W,PH,PH_FLAG_W,PH_TMP,PH_SCALE,PH_NBS,PH_NBS_FLAG_W,C13ERR,TOTALP,TOTALP_FLAG_W,AMMONI,AMMONI_FLAG_W,CHLORA,CHLORA_FLAG_W,PPHYTN,PPHYTN_FLAG_W,REVPRS,REVTMP,DEPTH_,DEPTH_FLAG,CTDDEP,THETA,SIGTHT,DOC,DOC_FLAG_W
,,,,,,,GMT,GMT,,,METER,DBAR,ITS-90,PSS-78,,UMOL/KG,,PSS-78,,UMOL/KG,,UMOL/KG,,UMOL/KG,,UMOL/KG,,UMOL/KG,,UMOL/KG,,PMOL/KG,,PMOL/KG,,/MILLE,,UMOL/KG,,UMOL/KG,,25_DEG_C,,DEG_C,,,,/MILLE,UMOL/KG,,UMOL/KG,,UG/L,,UG/L,,DBAR,ITS-90,METERS,,METERS,DEG_C,,UMOL/L,
       SH00-06,  NONE,SH-5969,  2,     -9,      -9,5,20000629,2109, 31.5277, 135.2823, 4110,      0.0,  25.6502,  34.2849,2,   -999.0,9,-999.0000,9,    209.4,2,  -999.00,9,  -999.00,9,     0.10,2,     0.01,2,     0.03,2, -999.000,9, -999.000,9,  -999.00,9,   -999.0,9,   -999.0,9,-999.0000,9,   -999.0,  9,  -999.00,9,   -999.0,  -999.00,9,  -999.00,9,     0.09,2,     0.04,2,   -999.0,-999.0000, -999,9,    0,  25.6502,  22.6022,   -999.0,9
       SH00-06,  NONE,SH-5969,  2,      4,S-1-1-12,2,20000629,2108, 31.5277, 135.2823, 4110,      9.3,  25.6515,  34.3062,2,   -999.0,9,  34.3131,2,    209.6,2,  -999.00,9,  -999.00,9,     0.00,2,     0.01,2,     0.01,2, -999.000,9, -999.000,9,  -999.00,9,   -999.0,9,   -999.0,9,-999.0000,9,   -999.0,  9,  -999.00,9,   -999.0,  -999.00,9,  -999.00,9,     0.10,2,     0.04,2,   -999.0,-999.0000, -999,9,    9,  25.6495,  22.6185,   -999.0,9
       SH00-06,  NONE,SH-5969,  2,      3,1-133-84,2,20000629,2107, 31.5277, 135.2823, 4110,     25.9,  24.8945,  34.4445,2,   -999.0,9,  34.4060,4,    214.0,2,  -999.00,9,  -999.00,9,     0.00,2,     0.00,2,     0.00,2, -999.000,9, -999.000,9,  -999.00,9,   -999.0,9,   -999.0,9,-999.0000,9,   -999.0,  9,  -999.00,9,   -999.0,  -999.00,9,  -999.00,9,     0.11,2,     0.05,2,   -999.0,-999.0000, -999,9,   26,  24.8889,  22.9551,   -999.0,9
       SH00-06,  NONE,SH-5969,  2,      2, S-1-1-7,2,20000629,2106, 31.5277, 135.2823, 4110,     52.0,  22.5163,  34.7522,2,   -999.0,9,  34.7461,2,    221.4,2,  -999.00,9,  -999.00,9,     0.10,2,     0.01,2,     0.01,2, -999.000,9, -999.000,9,  -999.00,9,   -999.0,9,   -999.0,9,-999.0000,9,   -999.0,  9,  -999.00,9,   -999.0,  -999.00,9,  -999.00,9,     0.17,2,     0.11,2,   -999.0,-999.0000, -999,9,   52,  22.5059,  23.8870,   -999.0,9
       SH00-06,  NONE,SH-5969,  2,      1, 1-133-1,2,20000629,2105, 31.5277, 135.2823, 4110,     76.6,  21.4566,  34.7791,2,   -999.0,9,  34.7079,4,    216.0,2,  -999.00,9,  -999.00,9,     0.00,2,     0.01,2,     0.03,2, -999.000,9, -999.000,9,  -999.00,9,   -999.0,9,   -999.0,9,-999.0000,9,   -999.0,  9,  -999.00,9,   -999.0,  -999.00,9,  -999.00,9,     0.22,2,     0.45,2,   -999.0,-999.0000, -999,9,   76,  21.4418,  24.2049,   -999.0,9
       SH00-06,  NONE,SH-5969,  2,     12, 1-133-7,2,20000629,2104, 31.5277, 135.2823, 4110,    102.2,  20.9002,  34.7833,2,   -999.0,9,-999.0000,9,    210.3,2,  -999.00,9,  -999.00,9,     0.98,2,     0.12,2,     0.07,2, -999.000,9, -999.000,9,  -999.00,9,   -999.0,9,   -999.0,9,-999.0000,9,   -999.0,  9,  -999.00,9,   -999.0,  -999.00,9,  -999.00,9,     0.16,2,     0.47,2,   -999.0,-999.0000, -999,9,  101,  20.8807,  24.3613,   -999.0,9
       SH00-06,  NONE,SH-5969,  2,     11,S-1-1-10,2,20000629,2103, 31.5277, 135.2823, 4110,    127.3,  20.4825,  34.8129,2,   -999.0,9,  34.8127,2,    207.3,2,  -999.00,9,  -999.00,9,     1.37,2,     0.04,2,     0.11,2, -999.000,9, -999.000,9,  -999.00,9,   -999.0,9,   -999.0,9,-999.0000,9,   -999.0,  9,  -999.00,9,   -999.0,  -999.00,9,  -999.00,9,     0.07,2,     0.21,2,   -999.0,-999.0000, -999,9,  126,  20.4586,  24.4973,   -999.0,9
       SH00-06,  NONE,SH-5969,  2,     10,1-133-94,2,20000629,2102, 31.5277, 135.2823, 4110,    152.7,  20.1015,  34.8226,2,   -999.0,9,  34.8262,2,    205.4,2,  -999.00,9,  -999.00,9,     1.76,2,     0.03,2,     0.13,2, -999.000,9, -999.000,9,  -999.00,9,   -999.0,9,   -999.0,9,-999.0000,9,   -999.0,  9,  -999.00,9,   -999.0,  -999.00,9,  -999.00,9,     0.04,2,     0.09,2,   -999.0,-999.0000, -999,9,  152,  20.0732,  24.6071,   -999.0,9
       SH00-06,  NONE,SH-5969,  2,      9, S-1-1-5,2,20000629,2100, 31.5277, 135.2823, 4110,    203.2,  19.3846,  34.8141,2,   -999.0,9,  34.8152,2,    205.8,2,  -999.00,9,  -999.00,9,     2.44,2,     0.02,2,     0.17,2, -999.000,9, -999.000,9,  -999.00,9,   -999.0,9,   -999.0,9,-999.0000,9,   -999.0,  9,  -999.00,9,   -999.0,  -999.00,9,  -999.00,9,     0.01,2,     0.02,2,   -999.0,-999.0000, -999,9,  202,  19.3479,  24.7899,   -999.0,9
       SH00-06,  NONE,SH-5969,  2,      8,1-133-95,2,20000629,2059, 31.5277, 135.2823, 4110,    252.3,  18.9432,  34.8153,2,   -999.0,9,  34.8152,2,    216.1,2,  -999.00,9,  -999.00,9,     1.85,2,     0.02,2,     0.13,2, -999.000,9, -999.000,9,  -999.00,9,   -999.0,9,   -999.0,9,-999.0000,9,   -999.0,  9,  -999.00,9,   -999.0,  -999.00,9,  -999.00,9,     0.00,2,     0.02,2,   -999.0,-999.0000, -999,9,  250,  18.8983,  24.9058,   -999.0,9
       SH00-06,  NONE,SH-5969,  2,      7, S-1-1-4,2,20000629,2058, 31.5277, 135.2823, 4110,    300.5,  18.3816,  34.8116,2,   -999.0,9,  34.8109,2,    196.0,2,  -999.00,9,  -999.00,9,     4.59,2,     0.01,2,     0.30,2, -999.000,9, -999.000,9,  -999.00,9,   -999.0,9,   -999.0,9,-999.0000,9,   -999.0,  9,  -999.00,9,   -999.0,  -999.00,9,  -999.00,9,     0.00,2,     0.01,2,   -999.0,-999.0000, -999,9,  298,  18.3291,  25.0463,   -999.0,9
       SH00-06,  NONE,SH-5969,  1,      6, S-1-1-8,2,20000629,2004, 31.5087, 135.2568, 3440,    404.8,  17.0198,  34.7624,2,   -999.0,9,  34.7445,4,    203.2,2,  -999.00,9,  -999.00,9,     7.41,2,     0.01,2,     0.48,2, -999.000,9, -999.000,9,  -999.00,9,   -999.0,9,   -999.0,9,-999.0000,9,   -999.0,  9,  -999.00,9,   -999.0,  -999.00,9,  -999.00,9,  -999.00,9,  -999.00,9,   -999.0,-999.0000, -999,9,  402,  16.9527,  25.3431,   -999.0,9
       SH00-06,  NONE,SH-5969,  1,      5,S-1-1-11,2,20000629,2002, 31.5087, 135.2568, 3440,    504.5,  14.8176,  34.6227,2,   -999.0,9,  34.5942,4,    197.1,4,  -999.00,9,  -999.00,9,    10.82,2,     0.01,2,     0.71,2, -999.000,9, -999.000,9,  -999.00,9,   -999.0,9,   -999.0,9,-999.0000,9,   -999.0,  9,  -999.00,9,   -999.0,  -999.00,9,  -999.00,9,  -999.00,9,  -999.00,9,   -999.0,-999.0000, -999,9,  500,  14.7413,  25.7374,   -999.0,9
       SH00-06,  NONE,SH-5969,  1,      4,S-1-1-12,4,20000629,2000, 31.5087, 135.2568, 3440,    605.5,  12.1593,  34.4302,2,   -999.0,9,  34.4206,2,    193.1,4,  -999.00,9,  -999.00,9,    16.66,2,     0.00,2,     1.13,2, -999.000,9, -999.000,9,  -999.00,9,   -999.0,9,   -999.0,9,-999.0000,9,   -999.0,  9,  -999.00,9,   -999.0,  -999.00,9,  -999.00,9,  -999.00,9,  -999.00,9,   -999.0,-999.0000, -999,9,  600,  12.0787,  26.1315,   -999.0,9
       SH00-06,  NONE,SH-5969,  1,      3,1-133-84,2,20000629,2000, 31.5087, 135.2568, 3440,    605.5,  12.1593,  34.4302,2,   -999.0,9,  34.3962,4,    168.3,4,  -999.00,9,  -999.00,9,    16.76,2,     0.00,2,     1.12,2, -999.000,9, -999.000,9,  -999.00,9,   -999.0,9,   -999.0,9,-999.0000,9,   -999.0,  9,  -999.00,9,   -999.0,  -999.00,9,  -999.00,9,  -999.00,9,  -999.00,9,   -999.0,-999.0000, -999,9,  600,  12.0787,  26.1315,   -999.0,9
       SH00-06,  NONE,SH-5969,  1,      2, S-1-1-7,2,20000629,1959, 31.5087, 135.2568, 3440,    706.4,   9.4540,  34.2504,2,   -999.0,9,  34.2414,4,    129.8,2,  -999.00,9,  -999.00,9,    22.60,2,     0.00,2,     1.54,2, -999.000,9, -999.000,9,  -999.00,9,   -999.0,9,   -999.0,9,-999.0000,9,   -999.0,  9,  -999.00,9,   -999.0,  -999.00,9,  -999.00,9,  -999.00,9,  -999.00,9,   -999.0,-999.0000, -999,9,  700,   9.3734,  26.4709,   -999.0,9
       SH00-06,  NONE,SH-5969,  1,     -1,      -9,4,20000629,1957, 31.5087, 135.2568, 3440,    806.4,   7.3700,  34.2146,2,   -999.0,9,-999.0000,9,   -999.0,9,  -999.00,9,  -999.00,9,  -999.00,9,  -999.00,9,  -999.00,9, -999.000,9, -999.000,9,  -999.00,9,   -999.0,9,   -999.0,9,-999.0000,9,   -999.0,  9,  -999.00,9,   -999.0,  -999.00,9,  -999.00,9,  -999.00,9,  -999.00,9,   -999.0,-999.0000, -999,9,  799,   7.2899,  26.7597,   -999.0,9
       SH00-06,  NONE,SH-5969,  1,      1, 1-133-1,3,20000629,1955, 31.5087, 135.2568, 3440,    907.9,   5.9431,  34.2028,2,   -999.0,9,-999.0000,9,   -999.0,9,  -999.00,9,  -999.00,9,  -999.00,9,  -999.00,9,  -999.00,9, -999.000,9, -999.000,9,  -999.00,9,   -999.0,9,   -999.0,9,-999.0000,9,   -999.0,  9,  -999.00,9,   -999.0,  -999.00,9,  -999.00,9,  -999.00,9,  -999.00,9,   -999.0,-999.0000, -999,9,  900,   5.8621,  26.9400,   -999.0,9
       SH00-06,  NONE,SH-5969,  1,     12, 1-133-7,2,20000629,1953, 31.5087, 135.2568, 3440,   1010.0,   4.8946,  34.2647,2,   -999.0,9,  34.2799,4,     77.2,2,  -999.00,9,  -999.00,9,    37.09,2,     0.00,2,     2.58,2, -999.000,9, -999.000,9,  -999.00,9,   -999.0,9,   -999.0,9,-999.0000,9,   -999.0,  9,  -999.00,9,   -999.0,  -999.00,9,  -999.00,9,  -999.00,9,  -999.00,9,   -999.0,-999.0000, -999,9, 1001,   4.8116,  27.1137,   -999.0,9
       SH00-06,  NONE,SH-5969,  1,     11,S-1-1-10,2,20000629,1950, 31.5087, 135.2568, 3440,   1212.4,   3.7039,  34.3767,2,   -999.0,9,  34.3781,2,     67.1,2,  -999.00,9,  -999.00,9,    38.94,2,     0.00,2,     2.72,2, -999.000,9, -999.000,9,  -999.00,9,   -999.0,9,   -999.0,9,-999.0000,9,   -999.0,  9,  -999.00,9,   -999.0,  -999.00,9,  -999.00,9,  -999.00,9,  -999.00,9,   -999.0,-999.0000, -999,9, 1201,   3.6133,  27.3293,   -999.0,9
       SH00-06,  NONE,SH-5969,  1,     10,1-133-94,2,20000629,1945, 31.5087, 135.2568, 3440,   1528.1,   2.8540,  34.4883,2,   -999.0,9,  34.4786,2,     77.5,2,  -999.00,9,  -999.00,9,    39.12,2,     0.00,2,     2.73,2, -999.000,9, -999.000,9,  -999.00,9,   -999.0,9,   -999.0,9,-999.0000,9,   -999.0,  9,  -999.00,9,   -999.0,  -999.00,9,  -999.00,9,  -999.00,9,  -999.00,9,   -999.0,-999.0000, -999,9, 1512,   2.7458,  27.4995,   -999.0,9
       SH00-06,  NONE,SH-5970,  2,     -9,      -9,5,20000630,0256, 31.0058, 135.2757, 4280,      0.0,  26.6246,  34.1537,2,   -999.0,9,-999.0000,9,    206.9,2,  -999.00,9,  -999.00,9,     0.10,2,     0.00,2,     0.00,2, -999.000,9, -999.000,9,  -999.00,9,   -999.0,9,   -999.0,9,-999.0000,9,   -999.0,  9,  -999.00,9,   -999.0,  -999.00,9,  -999.00,9,     0.08,2,     0.04,2,   -999.0,-999.0000, -999,9,    0,  26.6246,  22.1994,   -999.0,9
       SH00-06,  NONE,SH-5970,  2,     11,S-1-1-10,2,20000630,0255, 31.0058, 135.2757, 4280,     10.9,  26.3225,  34.1543,2,   -999.0,9,-999.0000,9,    206.1,2,  -999.00,9,  -999.00,9,     0.00,2,     0.00,2,     0.01,2, -999.000,9, -999.000,9,  -999.00,9,   -999.0,9,   -999.0,9,-999.0000,9,   -999.0,  9,  -999.00,9,   -999.0,  -999.00,9,  -999.00,9,     0.09,2,     0.05,2,   -999.0,-999.0000, -999,9,   11,  26.3200,  22.2956,   -999.0,9
       SH00-06,  NONE,SH-5970,  2,     10,1-133-94,2,20000630,0254, 31.0058, 135.2757, 4280,     26.4,  24.1740,  34.3805,2,   -999.0,9,-999.0000,9,    215.7,2,  -999.00,9,  -999.00,9,     0.00,2,     0.00,2,     0.00,2, -999.000,9, -999.000,9,  -999.00,9,   -999.0,9,   -999.0,9,-999.0000,9,   -999.0,  9,  -999.00,9,   -999.0,  -999.00,9,  -999.00,9,     0.10,2,     0.05,2,   -999.0,-999.0000, -999,9,   26,  24.1685,  23.1225,   -999.0,9
       SH00-06,  NONE,SH-5970,  2,      9, S-1-1-5,2,20000630,0253, 31.0058, 135.2757, 4280,     51.7,  22.0983,  34.7287,2,   -999.0,9,-999.0000,9,    220.9,2,  -999.00,9,  -999.00,9,     0.10,2,     0.00,2,     0.02,2, -999.000,9, -999.000,9,  -999.00,9,   -999.0,9,   -999.0,9,-999.0000,9,   -999.0,  9,  -999.00,9,   -999.0,  -999.00,9,  -999.00,9,     0.16,2,     0.12,2,   -999.0,-999.0000, -999,9,   51,  22.0881,  23.9870,   -999.0,9
       SH00-06,  NONE,SH-5970,  2,      8,1-133-95,2,20000630,0252, 31.0058, 135.2757, 4280,     76.8,  20.7116,  34.7725,2,   -999.0,9,-999.0000,9,    206.8,2,  -999.00,9,  -999.00,9,     0.88,2,     0.15,2,     0.10,2, -999.000,9, -999.000,9,  -999.00,9,   -999.0,9,   -999.0,9,-999.0000,9,   -999.0,  9,  -999.00,9,   -999.0,  -999.00,9,  -999.00,9,     0.26,2,     0.53,2,   -999.0,-999.0000, -999,9,   76,  20.6971,  24.4026,   -999.0,9
       SH00-06,  NONE,SH-5970,  2,      7, S-1-1-4,2,20000630,0251, 31.0058, 135.2757, 4280,    102.9,  20.1196,  34.7858,2,   -999.0,9,-999.0000,9,    213.7,2,  -999.00,9,  -999.00,9,     1.27,2,     0.16,2,     0.11,2, -999.000,9, -999.000,9,  -999.00,9,   -999.0,9,   -999.0,9,-999.0000,9,   -999.0,  9,  -999.00,9,   -999.0,  -999.00,9,  -999.00,9,     0.13,2,     0.26,2,   -999.0,-999.0000, -999,9,  102,  20.1005,  24.5718,   -999.0,9
       SH00-06,  NONE,SH-5970,  2,      6, S-1-1-8,2,20000630,0250, 31.0058, 135.2757, 4280,    127.2,  19.6928,  34.7969,2,   -999.0,9,-999.0000,9,    209.9,2,  -999.00,9,  -999.00,9,     1.85,2,     0.05,2,     0.14,2, -999.000,9, -999.000,9,  -999.00,9,   -999.0,9,   -999.0,9,-999.0000,9,   -999.0,  9,  -999.00,9,   -999.0,  -999.00,9,  -999.00,9,     0.03,4,     0.06,4,   -999.0,-999.0000, -999,9,  126,  19.6696,  24.6933,   -999.0,9
       SH00-06,  NONE,SH-5970,  2,      5,S-1-1-11,2,20000630,0249, 31.0058, 135.2757, 4280,    152.5,  19.2719,  34.7966,2,   -999.0,9,-999.0000,9,    214.2,2,  -999.00,9,  -999.00,9,     1.85,2,     0.02,2,     0.14,2, -999.000,9, -999.000,9,  -999.00,9,   -999.0,9,   -999.0,9,-999.0000,9,   -999.0,  9,  -999.00,9,   -999.0,  -999.00,9,  -999.00,9,     0.03,2,     0.07,2,   -999.0,-999.0000, -999,9,  151,  19.2444,  24.8032,   -999.0,9
       SH00-06,  NONE,SH-5970,  2,      4,S-1-1-12,2,20000630,0247, 31.0058, 135.2757, 4280,    203.9,  18.9452,  34.8043,2,   -999.0,9,-999.0000,9,    218.9,2,  -999.00,9,  -999.00,9,     1.76,2,     0.02,2,     0.14,2, -999.000,9, -999.000,9,  -999.00,9,   -999.0,9,   -999.0,9,-999.0000,9,   -999.0,  9,  -999.00,9,   -999.0,  -999.00,9,  -999.00,9,     0.00,2,     0.02,2,   -999.0,-999.0000, -999,9,  202,  18.9089,  24.8947,   -999.0,9
       SH00-06,  NONE,SH-5970,  2,      3,1-133-84,2,20000630,0246, 31.0058, 135.2757, 4280,    254.2,  18.7998,  34.8038,2,   -999.0,9,-999.0000,9,    217.0,2,  -999.00,9,  -999.00,9,     1.95,2,     0.02,2,     0.14,2, -999.000,9, -999.000,9,  -999.00,9,   -999.0,9,   -999.0,9,-999.0000,9,   -999.0,  9,  -999.00,9,   -999.0,  -999.00,9,  -999.00,9,     0.00,2,     0.02,2,   -999.0,-999.0000, -999,9,  252,  18.7547,  24.9335,   -999.0,9
       SH00-06,  NONE,SH-5970,  2,      2, S-1-1-7,2,20000630,0245, 31.0058, 135.2757, 4280,    304.0,  18.5598,  34.8023,2,   -999.0,9,-999.0000,9,    214.1,2,  -999.00,9,  -999.00,9,     2.54,2,     0.01,2,     0.18,2, -999.000,9, -999.000,9,  -999.00,9,   -999.0,9,   -999.0,9,-999.0000,9,   -999.0,  9,  -999.00,9,   -999.0,  -999.00,9,  -999.00,9,     0.00,2,     0.01,2,   -999.0,-999.0000, -999,9,  302,  18.5064,  24.9948,   -999.0,9
       SH00-06,  NONE,SH-5970,  1,      1, 1-133-1,2,20000630,0212, 31.0018, 135.2588, 4260,    400.6,  17.0967,  34.7671,2,   -999.0,9,-999.0000,9,    189.4,2,  -999.00,9,  -999.00,9,     7.02,2,     0.01,2,     0.45,2, -999.000,9, -999.000,9,  -999.00,9,   -999.0,9,   -999.0,9,-999.0000,9,   -999.0,  9,  -999.00,9,   -999.0,  -999.00,9,  -999.00,9,  -999.00,9,  -999.00,9,   -999.0,-999.0000, -999,9,  397,  17.0301,  25.3283,   -999.0,9
       SH00-06,  NONE,SH-5970,  1,     12, 1-133-7,2,20000630,0210, 31.0018, 135.2588, 4260,    503.0,  15.2045,  34.6431,2,   -999.0,9,-999.0000,9,    186.0,2,  -999.00,9,  -999.00,9,    10.43,2,     0.00,2,     0.67,2, -999.000,9, -999.000,9,  -999.00,9,   -999.0,9,   -999.0,9,-999.0000,9,   -999.0,  9,  -999.00,9,   -999.0,  -999.00,9,  -999.00,9,  -999.00,9,  -999.00,9,   -999.0,-999.0000, -999,9,  499,  15.1271,  25.6688,   -999.0,9
       SH00-06,  NONE,SH-5970,  1,     11,S-1-1-10,2,20000630,0208, 31.0018, 135.2588, 4260,    602.7,  12.5816,  34.4534,2,   -999.0,9,-999.0000,9,    173.5,2,  -999.00,9,  -999.00,9,    16.08,2,     0.00,2,     1.07,2, -999.000,9, -999.000,9,  -999.00,9,   -999.0,9,   -999.0,9,-999.0000,9,   -999.0,  9,  -999.00,9,   -999.0,  -999.00,9,  -999.00,9,  -999.00,9,  -999.00,9,   -999.0,-999.0000, -999,9,  598,  12.4997,  26.0682,   -999.0,9
       SH00-06,  NONE,SH-5970,  1,     10,1-133-94,2,20000630,0206, 31.0018, 135.2588, 4260,    703.5,   9.9156,  34.2724,2,   -999.0,9,-999.0000,9,    161.1,2,  -999.00,9,  -999.00,9,    21.73,2,     0.00,2,     1.47,2, -999.000,9, -999.000,9,  -999.00,9,   -999.0,9,   -999.0,9,-999.0000,9,   -999.0,  9,  -999.00,9,   -999.0,  -999.00,9,  -999.00,9,  -999.00,9,  -999.00,9,   -999.0,-999.0000, -999,9,  698,   9.8330,  26.4120,   -999.0,9
       SH00-06,  NONE,SH-5970,  1,      9, S-1-1-5,2,20000630,0204, 31.0018, 135.2588, 4260,    806.0,   7.6113,  34.1825,2,   -999.0,9,-999.0000,9,    132.9,2,  -999.00,9,  -999.00,9,    28.25,2,     0.00,2,     1.94,2, -999.000,9, -999.000,9,  -999.00,9,   -999.0,9,   -999.0,9,-999.0000,9,   -999.0,  9,  -999.00,9,   -999.0,  -999.00,9,  -999.00,9,  -999.00,9,  -999.00,9,   -999.0,-999.0000, -999,9,  799,   7.5299,  26.7004,   -999.0,9
       SH00-06,  NONE,SH-5970,  1,      8,1-133-95,2,20000630,0202, 31.0018, 135.2588, 4260,    906.2,   6.1669,  34.2351,2,   -999.0,9,-999.0000,9,     98.0,2,  -999.00,9,  -999.00,9,    33.60,2,     0.00,2,     2.34,2, -999.000,9, -999.000,9,  -999.00,9,   -999.0,9,   -999.0,9,-999.0000,9,   -999.0,  9,  -999.00,9,   -999.0,  -999.00,9,  -999.00,9,  -999.00,9,  -999.00,9,   -999.0,-999.0000, -999,9,  898,   6.0844,  26.9375,   -999.0,9
       SH00-06,  NONE,SH-5970,  1,      7, S-1-1-4,2,20000630,0200, 31.0018, 135.2588, 4260,   1007.9,   5.0914,  34.2771,2,   -999.0,9,-999.0000,9,     78.6,2,  -999.00,9,  -999.00,9,    36.71,2,     0.00,2,     2.57,2, -999.000,9, -999.000,9,  -999.00,9,   -999.0,9,   -999.0,9,-999.0000,9,   -999.0,  9,  -999.00,9,   -999.0,  -999.00,9,  -999.00,9,  -999.00,9,  -999.00,9,   -999.0,-999.0000, -999,9,  998,   5.0071,  27.1013,   -999.0,9
       SH00-06,  NONE,SH-5970,  1,      6, S-1-1-8,2,20000630,0156, 31.0018, 135.2588, 4260,   1210.4,   3.7062,  34.4013,2,   -999.0,9,-999.0000,9,     64.0,2,  -999.00,9,  -999.00,9,    39.52,2,     0.00,2,     2.74,2, -999.000,9, -999.000,9,  -999.00,9,   -999.0,9,   -999.0,9,-999.0000,9,   -999.0,  9,  -999.00,9,   -999.0,  -999.00,9,  -999.00,9,  -999.00,9,  -999.00,9,   -999.0,-999.0000, -999,9, 1199,   3.6156,  27.3487,   -999.0,9
       SH00-06,  NONE,SH-5970,  1,      5,S-1-1-11,2,20000630,0152, 31.0018, 135.2588, 4260,   1516.4,   2.8375,  34.4928,2,   -999.0,9,-999.0000,9,     74.4,2,  -999.00,9,  -999.00,9,    40.19,2,     0.00,2,     2.78,2, -999.000,9, -999.000,9,  -999.00,9,   -999.0,9,   -999.0,9,-999.0000,9,   -999.0,  9,  -999.00,9,   -999.0,  -999.00,9,  -999.00,9,  -999.00,9,  -999.00,9,   -999.0,-999.0000, -999,9, 1501,   2.7304,  27.5044,   -999.0,9