BOTTLE,20130510GEMDJMAYT
EXPOCODE,SECT_ID,STNNBR,CASTNO,SAMPNO,BTLNBR,BTLNBR_FLAG_W,DATE,TIME,LATITUDE,LONGITUDE,DEPTH,CTDPRS,CTDTMP,CTDSAL,CTDSAL_FLAG_W,CTDOXY,CTDOXY_FLAG_W,SALNTY,SALNTY_FLAG_W,OXYGEN,OXYGEN_FLAG_W,SILCAT,SILCAT_FLAG_W,NITRAT,NITRAT_FLAG_W,NO2+NO3,NO2+NO3_FLAG_W,NITRIT,NITRIT_FLAG_W,PHSPHT,PHSPHT_FLAG_W,CFC-11,CFC-11_FLAG_W,CFC-12,CFC-12_FLAG_W,DELC13,DELC13_FLAG_W,TCARBN,TCARBN_FLAG_W,ALKALI,ALKALI_FLAG_W,PH,PH_FLAG_W,PH_TMP,PH_SCALE,PH_NBS,PH_NBS_FLAG_W,C13ERR,TOTALP,TOTALP_FLAG_W,AMMONI,AMMONI_FLAG_W,CHLORA,CHLORA_FLAG_W,PPHYTN,PPHYTN_FLAG_W,REVPRS,REVTMP,DEPTH_,DEPTH_FLAG,CTDDEP,THETA,SIGTHT,DOC,DOC_FLAG_W
,,,,,,,GMT,GMT,,,METER,DBAR,ITS-90,PSS-78,,UMOL/KG,,PSS-78,,UMOL/KG,,UMOL/KG,,UMOL/KG,,UMOL/KG,,UMOL/KG,,UMOL/KG,,PMOL/KG,,PMOL/KG,,/MILLE,,UMOL/KG,,UMOL/KG,,25_DEG_C,,DEG_C,,,,/MILLE,UMOL/KG,,UMOL/KG,,UG/L,,UG/L,,DBAR,ITS-90,METERS,,METERS,DEG_C,,UMOL/L,
       SH00-06,  NONE,SH-5975,  1,      6, S-1-1-8,2,20000701,1004, 28.6688, 134.4368, 3570,    505.2,  12.2054,  34.4136,2,   -999.0,9,  34.4265,4,    174.1,2,  -999.00,9,  -999.00,9,    16.57,2,     0.01,2,     1.11,2, -999.000,9, -999.000,9,  -999.00,9,   -999.0,9,   -999.0,9,-999.0000,9,   -999.0,  9,     7.95,2,   -999.0,  -999.00,9,  -999.00,9,  -999.00,9,  -999.00,9,   -999.0,-999.0000, -999,9,  501,  12.1383,  26.1072,   -999.0,9
       SH00-06,  NONE,SH-5975,  1,      5,S-1-1-11,2,20000701,1000, 28.6688, 134.4368, 3570,    604.6,   9.2816,  34.2764,2,   -999.0,9,  34.2720,2,    142.4,2,  -999.00,9,  -999.00,9,    24.74,2,     0.00,2,     1.69,2, -999.000,9, -999.000,9,  -999.00,9,   -999.0,9,   -999.0,9,-999.0000,9,   -999.0,  9,     7.82,2,   -999.0,  -999.00,9,  -999.00,9,  -999.00,9,  -999.00,9,   -999.0,-999.0000, -999,9,  600,   9.2138,  26.5172,   -999.0,9
       SH00-06,  NONE,SH-5975,  1,      4,S-1-1-12,2,20000701,0956, 28.6688, 134.4368, 3570,    707.3,   7.0543,  34.2088,2,   -999.0,9,  34.2135,2,    116.3,2,  -999.00,9,  -999.00,9,    30.58,2,     0.00,2,     2.12,2, -999.000,9, -999.000,9,  -999.00,9,   -999.0,9,   -999.0,9,-999.0000,9,   -999.0,  9,     7.75,2,   -999.0,  -999.00,9,  -999.00,9,  -999.00,9,  -999.00,9,   -999.0,-999.0000, -999,9,  701,   6.9862,  26.7974,   -999.0,9
       SH00-06,  NONE,SH-5975,  1,      3,1-133-84,2,20000701,0953, 28.6688, 134.4368, 3570,    807.2,   5.8390,  34.2520,2,   -999.0,9,  34.2526,2,     92.9,2,  -999.00,9,  -999.00,9,    34.57,2,     0.01,2,     2.41,2, -999.000,9, -999.000,9,  -999.00,9,   -999.0,9,   -999.0,9,-999.0000,9,   -999.0,  9,     7.67,2,   -999.0,  -999.00,9,  -999.00,9,  -999.00,9,  -999.00,9,   -999.0,-999.0000, -999,9,  800,   5.7680,  26.9906,   -999.0,9
       SH00-06,  NONE,SH-5975,  1,      2, S-1-1-7,4,20000701,0950, 28.6688, 134.4368, 3570,    907.3,   4.7919,  34.2977,2,   -999.0,9,  34.2756,4,     95.7,4,  -999.00,9,  -999.00,9,    33.30,4,     0.00,4,     2.32,4, -999.000,9, -999.000,9,  -999.00,9,   -999.0,9,   -999.0,9,-999.0000,9,   -999.0,  9,     7.68,4,   -999.0,  -999.00,9,  -999.00,9,  -999.00,9,  -999.00,9,   -999.0,-999.0000, -999,9,  899,   4.7186,  27.1503,   -999.0,9
       SH00-06,  NONE,SH-5975,  1,      1, 1-133-1,2,20000701,0947, 28.6688, 134.4368, 3570,   1008.7,   4.0001,  34.3558,2,   -999.0,9,  34.3549,2,     65.6,2,  -999.00,9,  -999.00,9,    39.42,2,     0.00,2,     2.75,2, -999.000,9, -999.000,9,  -999.00,9,   -999.0,9,   -999.0,9,-999.0000,9,   -999.0,  9,     7.60,2,   -999.0,  -999.00,9,  -999.00,9,  -999.00,9,  -999.00,9,   -999.0,-999.0000, -999,9,  999,   3.9239,  27.2815,   -999.0,9
       SH00-06,  NONE,SH-5975,  1,     12, 1-133-7,2,20000701,0942, 28.6688, 134.4368, 3570,   1210.7,   3.0647,  34.4386,2,   -999.0,9,  34.4383,2,     59.0,2,  -999.00,9,  -999.00,9,    40.98,2,     0.00,2,     2.86,2, -999.000,9, -999.000,9,  -999.00,9,   -999.0,9,   -999.0,9,-999.0000,9,   -999.0,  9,     7.57,2,   -999.0,  -999.00,9,  -999.00,9,  -999.00,9,  -999.00,9,   -999.0,-999.0000, -999,9, 1199,   2.9800,  27.4387,   -999.0,9
       SH00-06,  NONE,SH-5975,  1,     11,S-1-1-10,2,20000701,0935, 28.6688, 134.4368, 3570,   1513.1,   2.5092,  34.5294,2,   -999.0,9,  34.5244,2,     79.3,2,  -999.00,9,  -999.00,9,    40.00,2,     0.00,2,     2.73,2, -999.000,9, -999.000,9,  -999.00,9,   -999.0,9,   -999.0,9,-999.0000,9,   -999.0,  9,     7.61,2,   -999.0,  -999.00,9,  -999.00,9,  -999.00,9,  -999.00,9,   -999.0,-999.0000, -999,9, 1497,   2.4061,  27.5616,   -999.0,9
       SH00-06,  NONE,SH-5975,  1,     10,1-133-94,2,20000701,0926, 28.6688, 134.4368, 3570,   2021.6,   1.9753,  34.6138,2,   -999.0,9,  34.5924,4,   -999.0,9,  -999.00,9,  -999.00,9,  -999.00,9,  -999.00,9,  -999.00,9, -999.000,9, -999.000,9,  -999.00,9,   -999.0,9,   -999.0,9,-999.0000,9,   -999.0,  9,  -999.00,9,   -999.0,  -999.00,9,  -999.00,9,  -999.00,9,  -999.00,9,   -999.0,-999.0000, -999,9, 1998,   1.8375,  27.6749,   -999.0,9
       SH00-06,  NONE,SH-5975,  1,      9, S-1-1-5,2,20000701,0918, 28.6688, 134.4368, 3570,   2531.0,   1.7089,  34.6545,2,   -999.0,9,  34.6461,2,   -999.0,9,  -999.00,9,  -999.00,9,  -999.00,9,  -999.00,9,  -999.00,9, -999.000,9, -999.000,9,  -999.00,9,   -999.0,9,   -999.0,9,-999.0000,9,   -999.0,  9,  -999.00,9,   -999.0,  -999.00,9,  -999.00,9,  -999.00,9,  -999.00,9,   -999.0,-999.0000, -999,9, 2499,   1.5312,  27.7306,   -999.0,9
       SH00-06,  NONE,SH-5975,  1,      8,1-133-95,2,20000701,0909, 28.6688, 134.4368, 3570,   3041.7,   1.5390,  34.6806,2,   -999.0,9,  34.6694,2,   -999.0,9,  -999.00,9,  -999.00,9,  -999.00,9,  -999.00,9,  -999.00,9, -999.000,9, -999.000,9,  -999.00,9,   -999.0,9,   -999.0,9,-999.0000,9,   -999.0,  9,  -999.00,9,   -999.0,  -999.00,9,  -999.00,9,  -999.00,9,  -999.00,9,   -999.0,-999.0000, -999,9, 3000,   1.3173,  27.7670,   -999.0,9
       SH00-06,  NONE,SH-5975,  1,      7, S-1-1-4,2,20000701,0902, 28.6688, 134.4368, 3570,   3450.0,   1.5080,  34.6897,2,   -999.0,9,  34.6808,2,   -999.0,9,  -999.00,9,  -999.00,9,  -999.00,9,  -999.00,9,  -999.00,9, -999.000,9, -999.000,9,  -999.00,9,   -999.0,9,   -999.0,9,-999.0000,9,   -999.0,  9,  -999.00,9,   -999.0,  -999.00,9,  -999.00,9,  -999.00,9,  -999.00,9,   -999.0,-999.0000, -999,9, 3399,   1.2467,  27.7792,   -999.0,9
       SH00-06,  NONE,SH-5976,  2,     -9,      -9,5,20000701,1656, 29.1075, 133.9035, 2400,      0.0,  27.2580,  34.3545,2,   -999.0,9,-999.0000,9,    204.3,2,  -999.00,9,  -999.00,9,     0.10,2,     0.00,2,     0.00,2, -999.000,9, -999.000,9,  -999.00,9,   -999.0,9,   -999.0,9,-999.0000,9,   -999.0,  9,  -999.00,9,   -999.0,  -999.00,9,  -999.00,9,     0.06,2,     0.03,2,   -999.0,-999.0000, -999,9,    0,  27.2580,  22.1492,   -999.0,9
       SH00-06,  NONE,SH-5976,  2,     12, 1-133-7,2,20000701,1654, 29.1075, 133.9035, 2400,     11.6,  26.6583,  34.3363,2,   -999.0,9,-999.0000,9,    207.0,2,  -999.00,9,  -999.00,9,     0.00,2,     0.00,2,     0.00,2, -999.000,9, -999.000,9,  -999.00,9,   -999.0,9,   -999.0,9,-999.0000,9,   -999.0,  9,  -999.00,9,   -999.0,  -999.00,9,  -999.00,9,     0.05,2,     0.02,2,   -999.0,-999.0000, -999,9,   11,  26.6557,  22.3272,   -999.0,9
       SH00-06,  NONE,SH-5976,  2,     11,S-1-1-10,2,20000701,1654, 29.1075, 133.9035, 2400,     25.9,  25.3743,  34.3848,2,   -999.0,9,-999.0000,9,    213.1,2,  -999.00,9,  -999.00,9,     0.10,2,     0.00,2,     0.00,2, -999.000,9, -999.000,9,  -999.00,9,   -999.0,9,   -999.0,9,-999.0000,9,   -999.0,  9,  -999.00,9,   -999.0,  -999.00,9,  -999.00,9,     0.05,2,     0.03,2,   -999.0,-999.0000, -999,9,   26,  25.3686,  22.7641,   -999.0,9
       SH00-06,  NONE,SH-5976,  2,     10,1-133-94,2,20000701,1652, 29.1075, 133.9035, 2400,     51.9,  23.6541,  34.6989,2,   -999.0,9,-999.0000,9,    218.9,2,  -999.00,9,  -999.00,9,     0.00,2,     0.00,2,     0.01,2, -999.000,9, -999.000,9,  -999.00,9,   -999.0,9,   -999.0,9,-999.0000,9,   -999.0,  9,  -999.00,9,   -999.0,  -999.00,9,  -999.00,9,     0.07,2,     0.04,2,   -999.0,-999.0000, -999,9,   52,  23.6433,  23.5184,   -999.0,9
       SH00-06,  NONE,SH-5976,  2,      9, S-1-1-5,2,20000701,1651, 29.1075, 133.9035, 2400,     77.7,  21.9949,  34.7716,2,   -999.0,9,-999.0000,9,    221.3,2,  -999.00,9,  -999.00,9,     0.00,2,     0.00,2,     0.01,2, -999.000,9, -999.000,9,  -999.00,9,   -999.0,9,   -999.0,9,-999.0000,9,   -999.0,  9,  -999.00,9,   -999.0,  -999.00,9,  -999.00,9,     0.12,2,     0.14,2,   -999.0,-999.0000, -999,9,   77,  21.9796,  24.0500,   -999.0,9
       SH00-06,  NONE,SH-5976,  2,      8,1-133-95,2,20000701,1650, 29.1075, 133.9035, 2400,    102.7,  20.7365,  34.8191,2,   -999.0,9,-999.0000,9,    226.1,2,  -999.00,9,  -999.00,9,     0.00,2,     0.00,2,     0.02,2, -999.000,9, -999.000,9,  -999.00,9,   -999.0,9,   -999.0,9,-999.0000,9,   -999.0,  9,  -999.00,9,   -999.0,  -999.00,9,  -999.00,9,     0.24,2,     0.29,2,   -999.0,-999.0000, -999,9,  102,  20.7170,  24.4328,   -999.0,9
       SH00-06,  NONE,SH-5976,  2,      7, S-1-1-4,2,20000701,1649, 29.1075, 133.9035, 2400,    127.8,  19.8820,  34.8191,2,   -999.0,9,-999.0000,9,    216.1,2,  -999.00,9,  -999.00,9,     0.78,2,     0.12,2,     0.07,2, -999.000,9, -999.000,9,  -999.00,9,   -999.0,9,   -999.0,9,-999.0000,9,   -999.0,  9,  -999.00,9,   -999.0,  -999.00,9,  -999.00,9,     0.15,2,     0.45,2,   -999.0,-999.0000, -999,9,  127,  19.8586,  24.6609,   -999.0,9
       SH00-06,  NONE,SH-5976,  2,      6, S-1-1-8,2,20000701,1648, 29.1075, 133.9035, 2400,    152.9,  19.3552,  34.8112,2,   -999.0,9,-999.0000,9,    212.9,2,  -999.00,9,  -999.00,9,     1.76,2,     0.05,2,     0.12,2, -999.000,9, -999.000,9,  -999.00,9,   -999.0,9,   -999.0,9,-999.0000,9,   -999.0,  9,  -999.00,9,   -999.0,  -999.00,9,  -999.00,9,     0.06,2,     0.23,2,   -999.0,-999.0000, -999,9,  152,  19.3276,  24.7929,   -999.0,9
       SH00-06,  NONE,SH-5976,  2,      5,S-1-1-11,2,20000701,1647, 29.1075, 133.9035, 2400,    204.2,  18.8031,  34.8066,2,   -999.0,9,-999.0000,9,    215.9,2,  -999.00,9,  -999.00,9,     2.24,2,     0.02,2,     0.15,2, -999.000,9, -999.000,9,  -999.00,9,   -999.0,9,   -999.0,9,-999.0000,9,   -999.0,  9,  -999.00,9,   -999.0,  -999.00,9,  -999.00,9,     0.00,2,     0.02,2,   -999.0,-999.0000, -999,9,  203,  18.7670,  24.9325,   -999.0,9
       SH00-06,  NONE,SH-5976,  2,      4,S-1-1-12,2,20000701,1645, 29.1075, 133.9035, 2400,    252.6,  18.4274,  34.7981,2,   -999.0,9,-999.0000,9,    206.8,2,  -999.00,9,  -999.00,9,     3.51,2,     0.01,2,     0.23,2, -999.000,9, -999.000,9,  -999.00,9,   -999.0,9,   -999.0,9,-999.0000,9,   -999.0,  9,  -999.00,9,   -999.0,  -999.00,9,  -999.00,9,     0.00,2,     0.01,2,   -999.0,-999.0000, -999,9,  251,  18.3833,  25.0224,   -999.0,9
       SH00-06,  NONE,SH-5976,  2,      3,1-133-84,2,20000701,1644, 29.1075, 133.9035, 2400,    303.4,  17.6281,  34.7768,2,   -999.0,9,-999.0000,9,    195.1,2,  -999.00,9,  -999.00,9,     5.75,2,     0.01,2,     0.37,2, -999.000,9, -999.000,9,  -999.00,9,   -999.0,9,   -999.0,9,-999.0000,9,   -999.0,  9,  -999.00,9,   -999.0,  -999.00,9,  -999.00,9,     0.00,2,     0.01,2,   -999.0,-999.0000, -999,9,  301,  17.5766,  25.2045,   -999.0,9
       SH00-06,  NONE,SH-5976,  1,      2, S-1-1-7,2,20000701,1545, 29.0893, 133.9532, 2540,    403.2,  15.8939,  34.6874,2,   -999.0,9,-999.0000,9,    193.4,2,  -999.00,9,  -999.00,9,     8.29,2,     0.01,2,     0.54,2, -999.000,9, -999.000,9,  -999.00,9,   -999.0,9,   -999.0,9,-999.0000,9,   -999.0,  9,  -999.00,9,   -999.0,  -999.00,9,  -999.00,9,  -999.00,9,  -999.00,9,   -999.0,-999.0000, -999,9,  400,  15.8302,  25.5458,   -999.0,9
       SH00-06,  NONE,SH-5976,  1,      1, 1-133-1,2,20000701,1542, 29.0893, 133.9532, 2540,    503.8,  13.6871,  34.5325,2,   -999.0,9,-999.0000,9,    178.0,2,  -999.00,9,  -999.00,9,    13.55,2,     0.01,2,     0.92,2, -999.000,9, -999.000,9,  -999.00,9,   -999.0,9,   -999.0,9,-999.0000,9,   -999.0,  9,  -999.00,9,   -999.0,  -999.00,9,  -999.00,9,  -999.00,9,  -999.00,9,   -999.0,-999.0000, -999,9,  500,  13.6150,  25.9058,   -999.0,9
       SH00-06,  NONE,SH-5976,  1,     12, 1-133-7,2,20000701,1539, 29.0893, 133.9532, 2540,    604.2,  10.0678,  34.3002,2,   -999.0,9,-999.0000,9,    153.5,2,  -999.00,9,  -999.00,9,    22.02,2,     0.00,2,     1.49,2, -999.000,9, -999.000,9,  -999.00,9,   -999.0,9,   -999.0,9,-999.0000,9,   -999.0,  9,  -999.00,9,   -999.0,  -999.00,9,  -999.00,9,  -999.00,9,  -999.00,9,   -999.0,-999.0000, -999,9,  599,   9.9966,  26.4061,   -999.0,9
       SH00-06,  NONE,SH-5976,  1,     11,S-1-1-10,2,20000701,1537, 29.0893, 133.9532, 2540,    705.0,   7.7065,  34.2219,2,   -999.0,9,-999.0000,9,    123.8,2,  -999.00,9,  -999.00,9,    28.63,2,     0.01,2,     1.98,2, -999.000,9, -999.000,9,  -999.00,9,   -999.0,9,   -999.0,9,-999.0000,9,   -999.0,  9,  -999.00,9,   -999.0,  -999.00,9,  -999.00,9,  -999.00,9,  -999.00,9,   -999.0,-999.0000, -999,9,  699,   7.6352,  26.7162,   -999.0,9
       SH00-06,  NONE,SH-5976,  1,     10,1-133-94,2,20000701,1534, 29.0893, 133.9532, 2540,    806.0,   6.0412,  34.2158,2,   -999.0,9,-999.0000,9,     98.2,2,  -999.00,9,  -999.00,9,    33.30,2,     0.00,2,     2.33,2, -999.000,9, -999.000,9,  -999.00,9,   -999.0,9,   -999.0,9,-999.0000,9,   -999.0,  9,  -999.00,9,   -999.0,  -999.00,9,  -999.00,9,  -999.00,9,  -999.00,9,   -999.0,-999.0000, -999,9,  799,   5.9692,  26.9369,   -999.0,9
       SH00-06,  NONE,SH-5976,  1,      9, S-1-1-5,2,20000701,1532, 29.0893, 133.9532, 2540,    906.7,   5.0253,  34.2807,2,   -999.0,9,-999.0000,9,     78.4,2,  -999.00,9,  -999.00,9,    36.90,2,     0.00,2,     2.58,2, -999.000,9, -999.000,9,  -999.00,9,   -999.0,9,   -999.0,9,-999.0000,9,   -999.0,  9,  -999.00,9,   -999.0,  -999.00,9,  -999.00,9,  -999.00,9,  -999.00,9,   -999.0,-999.0000, -999,9,  899,   4.9505,  27.1106,   -999.0,9
       SH00-06,  NONE,SH-5976,  1,      8,1-133-95,2,20000701,1529, 29.0893, 133.9532, 2540,   1010.6,   4.1609,  34.3611,2,   -999.0,9,-999.0000,9,     70.5,2,  -999.00,9,  -999.00,9,    38.94,2,     0.00,2,     2.73,2, -999.000,9, -999.000,9,  -999.00,9,   -999.0,9,   -999.0,9,-999.0000,9,   -999.0,  9,  -999.00,9,   -999.0,  -999.00,9,  -999.00,9,  -999.00,9,  -999.00,9,   -999.0,-999.0000, -999,9, 1001,   4.0834,  27.2692,   -999.0,9
       SH00-06,  NONE,SH-5976,  1,      7, S-1-1-4,2,20000701,1525, 29.0893, 133.9532, 2540,   1210.5,   3.5286,  34.4148,2,   -999.0,9,-999.0000,9,     64.3,2,  -999.00,9,  -999.00,9,    40.00,2,     0.00,2,     2.80,2, -999.000,9, -999.000,9,  -999.00,9,   -999.0,9,   -999.0,9,-999.0000,9,   -999.0,  9,  -999.00,9,   -999.0,  -999.00,9,  -999.00,9,  -999.00,9,  -999.00,9,   -999.0,-999.0000, -999,9, 1199,   3.4397,  27.3767,   -999.0,9
       SH00-06,  NONE,SH-5976,  1,      6, S-1-1-8,2,20000701,1520, 29.0893, 133.9532, 2540,   1515.2,   2.6110,  34.5139,2,   -999.0,9,-999.0000,9,     73.9,2,  -999.00,9,  -999.00,9,    40.19,2,     0.01,2,     2.74,2, -999.000,9, -999.000,9,  -999.00,9,   -999.0,9,   -999.0,9,-999.0000,9,   -999.0,  9,  -999.00,9,   -999.0,  -999.00,9,  -999.00,9,  -999.00,9,  -999.00,9,   -999.0,-999.0000, -999,9, 1500,   2.5066,  27.5407,   -999.0,9
       SH00-06,  NONE,SH-5977,  2,     -9,      -9,5,20000701,2228, 29.5313, 133.4522, 2600,      0.0,  27.0913,  34.3224,2,   -999.0,9,-999.0000,9,    205.2,2,  -999.00,9,  -999.00,9,     0.00,2,     0.00,2,     0.00,2, -999.000,9, -999.000,9,  -999.00,9,   -999.0,9,   -999.0,9,-999.0000,9,   -999.0,  9,     8.26,2,   -999.0,  -999.00,9,  -999.00,9,     0.04,2,     0.02,2,   -999.0,-999.0000, -999,9,    0,  27.0913,  22.1784,   -999.0,9
       SH00-06,  NONE,SH-5977,  2,      9, S-1-1-5,2,20000701,2227, 29.5313, 133.4522, 2600,     10.6,  25.9950,  34.2900,2,   -999.0,9,  34.2968,2,    209.1,2,  -999.00,9,  -999.00,9,     0.00,2,     0.00,2,     0.00,2, -999.000,9, -999.000,9,  -999.00,9,   -999.0,9,   -999.0,9,-999.0000,9,   -999.0,  9,     8.26,2,   -999.0,  -999.00,9,  -999.00,9,     0.06,2,     0.03,2,   -999.0,-999.0000, -999,9,   10,  25.9926,  22.5001,   -999.0,9
       SH00-06,  NONE,SH-5977,  2,      8,1-133-95,2,20000701,2226, 29.5313, 133.4522, 2600,     25.5,  24.2723,  34.4596,2,   -999.0,9,  34.4567,2,    215.7,2,  -999.00,9,  -999.00,9,     0.00,2,     0.00,2,     0.00,2, -999.000,9, -999.000,9,  -999.00,9,   -999.0,9,   -999.0,9,-999.0000,9,   -999.0,  9,     8.26,2,   -999.0,  -999.00,9,  -999.00,9,     0.08,2,     0.03,2,   -999.0,-999.0000, -999,9,   25,  24.2669,  23.1532,   -999.0,9
       SH00-06,  NONE,SH-5977,  2,      7, S-1-1-4,2,20000701,2225, 29.5313, 133.4522, 2600,     51.4,  23.5334,  34.6050,2,   -999.0,9,  34.5981,2,    215.3,2,  -999.00,9,  -999.00,9,     0.00,2,     0.00,2,     0.01,2, -999.000,9, -999.000,9,  -999.00,9,   -999.0,9,   -999.0,9,-999.0000,9,   -999.0,  9,     8.25,2,   -999.0,  -999.00,9,  -999.00,9,     0.12,2,     0.10,2,   -999.0,-999.0000, -999,9,   51,  23.5227,  23.4826,   -999.0,9
       SH00-06,  NONE,SH-5977,  2,      6, S-1-1-8,2,20000701,2224, 29.5313, 133.4522, 2600,     76.1,  22.3219,  34.7212,2,   -999.0,9,  34.6987,4,    210.8,2,  -999.00,9,  -999.00,9,     0.29,2,     0.10,2,     0.05,2, -999.000,9, -999.000,9,  -999.00,9,   -999.0,9,   -999.0,9,-999.0000,9,   -999.0,  9,     8.23,2,   -999.0,  -999.00,9,  -999.00,9,     0.45,2,     0.78,2,   -999.0,-999.0000, -999,9,   76,  22.3067,  23.9198,   -999.0,9
       SH00-06,  NONE,SH-5977,  2,      5,S-1-1-11,2,20000701,2223, 29.5313, 133.4522, 2600,    101.5,  21.1357,  34.7599,2,   -999.0,9,  34.7628,2,    206.4,2,  -999.00,9,  -999.00,9,     1.46,2,     0.07,2,     0.11,2, -999.000,9, -999.000,9,  -999.00,9,   -999.0,9,   -999.0,9,-999.0000,9,   -999.0,  9,     8.21,2,   -999.0,  -999.00,9,  -999.00,9,     0.18,2,     0.38,2,   -999.0,-999.0000, -999,9,  101,  21.1162,  24.2795,   -999.0,9
       SH00-06,  NONE,SH-5977,  2,      4,S-1-1-12,2,20000701,2222, 29.5313, 133.4522, 2600,    127.2,  20.4632,  34.7737,2,   -999.0,9,  34.7739,2,    207.3,2,  -999.00,9,  -999.00,9,     1.85,2,     0.05,2,     0.15,2, -999.000,9, -999.000,9,  -999.00,9,   -999.0,9,   -999.0,9,-999.0000,9,   -999.0,  9,     8.20,2,   -999.0,  -999.00,9,  -999.00,9,     0.06,2,     0.12,2,   -999.0,-999.0000, -999,9,  126,  20.4393,  24.4726,   -999.0,9
       SH00-06,  NONE,SH-5977,  2,      3,1-133-84,2,20000701,2221, 29.5313, 133.4522, 2600,    151.8,  20.0042,  34.7947,2,   -999.0,9,  34.7938,2,    209.8,2,  -999.00,9,  -999.00,9,     1.95,2,     0.04,2,     0.14,2, -999.000,9, -999.000,9,  -999.00,9,   -999.0,9,   -999.0,9,-999.0000,9,   -999.0,  9,     8.20,2,   -999.0,  -999.00,9,  -999.00,9,     0.05,2,     0.09,2,   -999.0,-999.0000, -999,9,  151,  19.9762,  24.6114,   -999.0,9
       SH00-06,  NONE,SH-5977,  2,      2, S-1-1-7,2,20000701,2219, 29.5313, 133.4522, 2600,    203.0,  19.0695,  34.7980,2,   -999.0,9,  34.8006,2,    216.3,2,  -999.00,9,  -999.00,9,     1.85,2,     0.02,2,     0.13,2, -999.000,9, -999.000,9,  -999.00,9,   -999.0,9,   -999.0,9,-999.0000,9,   -999.0,  9,     8.19,2,   -999.0,  -999.00,9,  -999.00,9,     0.01,2,     0.02,2,   -999.0,-999.0000, -999,9,  202,  19.0332,  24.8583,   -999.0,9
       SH00-06,  NONE,SH-5977,  2,      1, 1-133-1,2,20000701,2217, 29.5313, 133.4522, 2600,    254.5,  18.8656,  34.8062,2,   -999.0,9,  34.8083,2,    217.0,2,  -999.00,9,  -999.00,9,     1.95,2,     0.02,2,     0.14,2, -999.000,9, -999.000,9,  -999.00,9,   -999.0,9,   -999.0,9,-999.0000,9,   -999.0,  9,     8.19,2,   -999.0,  -999.00,9,  -999.00,9,     0.00,2,     0.01,2,   -999.0,-999.0000, -999,9,  253,  18.8205,  24.9187,   -999.0,9
       SH00-06,  NONE,SH-5977,  2,     12, 1-133-7,2,20000701,2216, 29.5313, 133.4522, 2600,    304.6,  18.5769,  34.8013,2,   -999.0,9,  34.8026,2,    210.1,2,  -999.00,9,  -999.00,9,     3.02,2,     0.02,2,     0.20,2, -999.000,9, -999.000,9,  -999.00,9,   -999.0,9,   -999.0,9,-999.0000,9,   -999.0,  9,     8.17,2,   -999.0,  -999.00,9,  -999.00,9,     0.00,2,     0.01,2,   -999.0,-999.0000, -999,9,  302,  18.5234,  24.9898,   -999.0,9