BOTTLE,20130510GEMDJMAYT
EXPOCODE,SECT_ID,STNNBR,CASTNO,SAMPNO,BTLNBR,BTLNBR_FLAG_W,DATE,TIME,LATITUDE,LONGITUDE,DEPTH,CTDPRS,CTDTMP,CTDSAL,CTDSAL_FLAG_W,CTDOXY,CTDOXY_FLAG_W,SALNTY,SALNTY_FLAG_W,OXYGEN,OXYGEN_FLAG_W,SILCAT,SILCAT_FLAG_W,NITRAT,NITRAT_FLAG_W,NO2+NO3,NO2+NO3_FLAG_W,NITRIT,NITRIT_FLAG_W,PHSPHT,PHSPHT_FLAG_W,CFC-11,CFC-11_FLAG_W,CFC-12,CFC-12_FLAG_W,DELC13,DELC13_FLAG_W,TCARBN,TCARBN_FLAG_W,ALKALI,ALKALI_FLAG_W,PH,PH_FLAG_W,PH_TMP,PH_SCALE,PH_NBS,PH_NBS_FLAG_W,C13ERR,TOTALP,TOTALP_FLAG_W,AMMONI,AMMONI_FLAG_W,CHLORA,CHLORA_FLAG_W,PPHYTN,PPHYTN_FLAG_W,REVPRS,REVTMP,DEPTH_,DEPTH_FLAG,CTDDEP,THETA,SIGTHT,DOC,DOC_FLAG_W
,,,,,,,GMT,GMT,,,METER,DBAR,ITS-90,PSS-78,,UMOL/KG,,PSS-78,,UMOL/KG,,UMOL/KG,,UMOL/KG,,UMOL/KG,,UMOL/KG,,UMOL/KG,,PMOL/KG,,PMOL/KG,,/MILLE,,UMOL/KG,,UMOL/KG,,25_DEG_C,,DEG_C,,,,/MILLE,UMOL/KG,,UMOL/KG,,UG/L,,UG/L,,DBAR,ITS-90,METERS,,METERS,DEG_C,,UMOL/L,
       SH00-06,  NONE,SH-5989,  1,     -9,      -9,5,20000711,0511, 31.5038, 133.7312, 4820,      0.0,  26.9001,  34.2974,2,   -999.0,9,-999.0000,9,    205.6,2,  -999.00,9,  -999.00,9,     0.00,2,     0.00,2,     0.00,2, -999.000,9, -999.000,9,  -999.00,9,   -999.0,9,   -999.0,9,-999.0000,9,   -999.0,  9,  -999.00,9,   -999.0,  -999.00,9,  -999.00,9,  -999.00,9,  -999.00,9,   -999.0,-999.0000, -999,9,    0,  26.9001,  22.2204,   -999.0,9
       SH00-06,  NONE,SH-5989,  1,      9, S-1-1-5,2,20000711,0509, 31.5038, 133.7312, 4820,     51.5,  19.5560,  34.7949,2,   -999.0,9,  34.7902,2,    240.6,2,  -999.00,9,  -999.00,9,     0.20,2,     0.00,2,     0.02,2, -999.000,9, -999.000,9,  -999.00,9,   -999.0,9,   -999.0,9,-999.0000,9,   -999.0,  9,  -999.00,9,   -999.0,  -999.00,9,  -999.00,9,  -999.00,9,  -999.00,9,   -999.0,-999.0000, -999,9,   51,  19.5467,  24.7238,   -999.0,9
       SH00-06,  NONE,SH-5989,  1,      8,1-133-95,2,20000711,0508, 31.5038, 133.7312, 4820,    102.4,  18.8269,  34.8043,2,   -999.0,9,  34.8032,2,    221.3,2,  -999.00,9,  -999.00,9,     1.46,2,     0.10,2,     0.11,2, -999.000,9, -999.000,9,  -999.00,9,   -999.0,9,   -999.0,9,-999.0000,9,   -999.0,  9,  -999.00,9,   -999.0,  -999.00,9,  -999.00,9,  -999.00,9,  -999.00,9,   -999.0,-999.0000, -999,9,  102,  18.8088,  24.9201,   -999.0,9
       SH00-06,  NONE,SH-5989,  1,      7, S-1-1-4,2,20000711,0507, 31.5038, 133.7312, 4820,    153.0,  18.6654,  34.8059,2,   -999.0,9,  34.8060,2,    219.2,2,  -999.00,9,  -999.00,9,     1.95,2,     0.03,2,     0.13,2, -999.000,9, -999.000,9,  -999.00,9,   -999.0,9,   -999.0,9,-999.0000,9,   -999.0,  9,  -999.00,9,   -999.0,  -999.00,9,  -999.00,9,  -999.00,9,  -999.00,9,   -999.0,-999.0000, -999,9,  152,  18.6385,  24.9644,   -999.0,9
       SH00-06,  NONE,SH-5989,  1,      6,1-133-93,2,20000711,0504, 31.5038, 133.7312, 4820,    302.4,  18.4990,  34.8106,2,   -999.0,9,  34.8032,2,    222.0,2,  -999.00,9,  -999.00,9,     2.15,2,     0.01,2,     0.14,2, -999.000,9, -999.000,9,  -999.00,9,   -999.0,9,   -999.0,9,-999.0000,9,   -999.0,  9,  -999.00,9,   -999.0,  -999.00,9,  -999.00,9,  -999.00,9,  -999.00,9,   -999.0,-999.0000, -999,9,  300,  18.4461,  25.0163,   -999.0,9
       SH00-06,  NONE,SH-5989,  1,      5,S-1-1-11,2,20000711,0502, 31.5038, 133.7312, 4820,    403.7,  18.3534,  34.8190,2,   -999.0,9,  34.8174,2,    213.6,2,  -999.00,9,  -999.00,9,     2.73,2,     0.01,2,     0.19,2, -999.000,9, -999.000,9,  -999.00,9,   -999.0,9,   -999.0,9,-999.0000,9,   -999.0,  9,  -999.00,9,   -999.0,  -999.00,9,  -999.00,9,  -999.00,9,  -999.00,9,   -999.0,-999.0000, -999,9,  401,  18.2829,  25.0634,   -999.0,9
       SH00-06,  NONE,SH-5989,  1,      4,S-1-1-12,2,20000711,0500, 31.5038, 133.7312, 4820,    504.1,  17.0064,  34.7746,2,   -999.0,9,  34.7754,2,    193.0,2,  -999.00,9,  -999.00,9,     6.92,2,     0.01,2,     0.45,2, -999.000,9, -999.000,9,  -999.00,9,   -999.0,9,   -999.0,9,-999.0000,9,   -999.0,  9,  -999.00,9,   -999.0,  -999.00,9,  -999.00,9,  -999.00,9,  -999.00,9,   -999.0,-999.0000, -999,9,  500,  16.9227,  25.3596,   -999.0,9
       SH00-06,  NONE,SH-5989,  1,      3,1-133-84,2,20000711,0458, 31.5038, 133.7312, 4820,    604.9,  14.6619,  34.6025,2,   -999.0,9,  34.6021,2,    186.0,2,  -999.00,9,  -999.00,9,    11.31,2,     0.00,2,     0.76,2, -999.000,9, -999.000,9,  -999.00,9,   -999.0,9,   -999.0,9,-999.0000,9,   -999.0,  9,  -999.00,9,   -999.0,  -999.00,9,  -999.00,9,  -999.00,9,  -999.00,9,   -999.0,-999.0000, -999,9,  600,  14.5709,  25.7586,   -999.0,9
       SH00-06,  NONE,SH-5989,  1,      2, S-1-1-7,2,20000711,0455, 31.5038, 133.7312, 4820,    807.5,   8.4691,  34.2035,2,   -999.0,9,  34.2149,2,    144.1,2,  -999.00,9,  -999.00,9,    25.62,2,     0.01,2,     1.85,2, -999.000,9, -999.000,9,  -999.00,9,   -999.0,9,   -999.0,9,-999.0000,9,   -999.0,  9,  -999.00,9,   -999.0,  -999.00,9,  -999.00,9,  -999.00,9,  -999.00,9,   -999.0,-999.0000, -999,9,  800,   8.3823,  26.5907,   -999.0,9
       SH00-06,  NONE,SH-5989,  1,      1, 1-133-1,2,20000711,0451, 31.5038, 133.7312, 4820,   1009.8,   5.2224,  34.2421,2,   -999.0,9,  34.2461,2,     84.0,2,  -999.00,9,  -999.00,9,    36.12,2,     0.00,2,     2.56,2, -999.000,9, -999.000,9,  -999.00,9,   -999.0,9,   -999.0,9,-999.0000,9,   -999.0,  9,  -999.00,9,   -999.0,  -999.00,9,  -999.00,9,  -999.00,9,  -999.00,9,   -999.0,-999.0000, -999,9, 1000,   5.1369,  27.0586,   -999.0,9
       SH00-06,  NONE,SH-5989,  1,     12, 1-133-7,2,20000711,0448, 31.5038, 133.7312, 4820,   1213.3,   3.9210,  34.3958,2,   -999.0,9,  34.3976,2,     69.1,2,  -999.00,9,  -999.00,9,    39.23,2,     0.00,2,     2.76,2, -999.000,9, -999.000,9,  -999.00,9,   -999.0,9,   -999.0,9,-999.0000,9,   -999.0,  9,  -999.00,9,   -999.0,  -999.00,9,  -999.00,9,  -999.00,9,  -999.00,9,   -999.0,-999.0000, -999,9, 1201,   3.8283,  27.3231,   -999.0,9
       SH00-06,  NONE,SH-5989,  1,     11,S-1-1-10,4,20000711,0443, 31.5038, 133.7312, 4820,   1517.5,   2.8935,  34.4918,2,   -999.0,9,  34.4951,2,     76.2,2,  -999.00,9,  -999.00,9,    39.61,2,     0.00,2,     2.80,2, -999.000,9, -999.000,9,  -999.00,9,   -999.0,9,   -999.0,9,-999.0000,9,   -999.0,  9,  -999.00,9,   -999.0,  -999.00,9,  -999.00,9,  -999.00,9,  -999.00,9,   -999.0,-999.0000, -999,9, 1501,   2.7857,  27.4987,   -999.0,9
       SH00-06,  NONE,SH-5989,  1,     10,1-133-94,2,20000711,0443, 31.5038, 133.7312, 4820,   1517.5,   2.8935,  34.4918,2,   -999.0,9,  34.4943,2,     76.4,2,  -999.00,9,  -999.00,9,    39.51,2,     0.00,2,     2.82,2, -999.000,9, -999.000,9,  -999.00,9,   -999.0,9,   -999.0,9,-999.0000,9,   -999.0,  9,  -999.00,9,   -999.0,  -999.00,9,  -999.00,9,  -999.00,9,  -999.00,9,   -999.0,-999.0000, -999,9, 1501,   2.7857,  27.4987,   -999.0,9
       SH00-06,  NONE,SH-5991,  1,     -9,      -9,5,20000711,1034, 31.0010, 133.9722, 4420,      0.0,  26.8129,  34.3774,2,   -999.0,9,-999.0000,9,    205.1,2,  -999.00,9,  -999.00,9,     0.00,2,     0.01,2,     0.00,2, -999.000,9, -999.000,9,  -999.00,9,   -999.0,9,   -999.0,9,-999.0000,9,   -999.0,  9,  -999.00,9,   -999.0,  -999.00,9,  -999.00,9,  -999.00,9,  -999.00,9,   -999.0,-999.0000, -999,9,    0,  26.8129,  22.3084,   -999.0,9
       SH00-06,  NONE,SH-5991,  1,      8,1-133-95,2,20000711,1032, 31.0010, 133.9722, 4420,     52.3,  21.8566,  34.7786,2,   -999.0,9,  34.7725,2,    226.6,2,  -999.00,9,  -999.00,9,     0.00,2,     0.00,2,     0.01,2, -999.000,9, -999.000,9,  -999.00,9,   -999.0,9,   -999.0,9,-999.0000,9,   -999.0,  9,  -999.00,9,   -999.0,  -999.00,9,  -999.00,9,  -999.00,9,  -999.00,9,   -999.0,-999.0000, -999,9,   52,  21.8463,  24.0925,   -999.0,9
       SH00-06,  NONE,SH-5991,  1,      7, S-1-1-4,2,20000711,1031, 31.0010, 133.9722, 4420,    102.5,  19.8959,  34.7858,2,   -999.0,9,  34.7837,2,    216.3,2,  -999.00,9,  -999.00,9,     1.07,2,     0.10,2,     0.10,2, -999.000,9, -999.000,9,  -999.00,9,   -999.0,9,   -999.0,9,-999.0000,9,   -999.0,  9,  -999.00,9,   -999.0,  -999.00,9,  -999.00,9,  -999.00,9,  -999.00,9,   -999.0,-999.0000, -999,9,  102,  19.8771,  24.6306,   -999.0,9
       SH00-06,  NONE,SH-5991,  1,      6,1-133-93,2,20000711,1029, 31.0010, 133.9722, 4420,    152.4,  19.2262,  34.7999,2,   -999.0,9,  34.7987,2,    212.9,2,  -999.00,9,  -999.00,9,     1.85,2,     0.02,2,     0.14,2, -999.000,9, -999.000,9,  -999.00,9,   -999.0,9,   -999.0,9,-999.0000,9,   -999.0,  9,  -999.00,9,   -999.0,  -999.00,9,  -999.00,9,  -999.00,9,  -999.00,9,   -999.0,-999.0000, -999,9,  151,  19.1988,  24.8174,   -999.0,9
       SH00-06,  NONE,SH-5991,  1,      5,S-1-1-11,2,20000711,1027, 31.0010, 133.9722, 4420,    302.7,  18.6655,  34.8056,2,   -999.0,9,-999.0000,4,    216.7,2,  -999.00,9,  -999.00,9,     2.15,2,     0.01,2,     0.15,2, -999.000,9, -999.000,9,  -999.00,9,   -999.0,9,   -999.0,9,-999.0000,9,   -999.0,  9,  -999.00,9,   -999.0,  -999.00,9,  -999.00,9,  -999.00,9,  -999.00,9,   -999.0,-999.0000, -999,9,  300,  18.6121,  24.9708,   -999.0,9
       SH00-06,  NONE,SH-5991,  1,      4,S-1-1-12,2,20000711,1025, 31.0010, 133.9722, 4420,    403.9,  17.8317,  34.7915,2,   -999.0,9,  34.7918,2,    194.4,2,  -999.00,9,  -999.00,9,     5.56,2,     0.01,2,     0.36,2, -999.000,9, -999.000,9,  -999.00,9,   -999.0,9,   -999.0,9,-999.0000,9,   -999.0,  9,  -999.00,9,   -999.0,  -999.00,9,  -999.00,9,  -999.00,9,  -999.00,9,   -999.0,-999.0000, -999,9,  401,  17.7625,  25.1706,   -999.0,9
       SH00-06,  NONE,SH-5991,  1,      3,1-133-84,2,20000711,1023, 31.0010, 133.9722, 4420,    504.6,  16.0972,  34.7098,2,   -999.0,9,-999.0000,4,    195.3,2,  -999.00,9,  -999.00,9,     8.19,2,     0.01,2,     0.52,2, -999.000,9, -999.000,9,  -999.00,9,   -999.0,9,   -999.0,9,-999.0000,9,   -999.0,  9,  -999.00,9,   -999.0,  -999.00,9,  -999.00,9,  -999.00,9,  -999.00,9,   -999.0,-999.0000, -999,9,  500,  16.0165,  25.5206,   -999.0,9
       SH00-06,  NONE,SH-5991,  1,      2, S-1-1-7,2,20000711,1021, 31.0010, 133.9722, 4420,    605.8,  13.9663,  34.5450,2,   -999.0,9,  34.5492,2,    178.5,2,  -999.00,9,  -999.00,9,    12.96,2,     0.01,2,     0.88,2, -999.000,9, -999.000,9,  -999.00,9,   -999.0,9,   -999.0,9,-999.0000,9,   -999.0,  9,  -999.00,9,   -999.0,  -999.00,9,  -999.00,9,  -999.00,9,  -999.00,9,   -999.0,-999.0000, -999,9,  601,  13.8780,  25.8609,   -999.0,9
       SH00-06,  NONE,SH-5991,  1,      1, 1-133-1,2,20000711,1018, 31.0010, 133.9722, 4420,    808.4,   8.6724,  34.2216,2,   -999.0,9,  34.2221,2,    144.4,2,  -999.00,9,  -999.00,9,    25.13,2,     0.00,2,     1.75,2, -999.000,9, -999.000,9,  -999.00,9,   -999.0,9,   -999.0,9,-999.0000,9,   -999.0,  9,  -999.00,9,   -999.0,  -999.00,9,  -999.00,9,  -999.00,9,  -999.00,9,   -999.0,-999.0000, -999,9,  801,   8.5844,  26.5738,   -999.0,9
       SH00-06,  NONE,SH-5991,  1,     12, 1-133-7,2,20000711,1014, 31.0010, 133.9722, 4420,   1010.6,   5.6871,  34.2200,2,   -999.0,9,  34.2241,2,     93.4,2,  -999.00,9,  -999.00,9,    34.86,2,     0.00,2,     2.48,2, -999.000,9, -999.000,9,  -999.00,9,   -999.0,9,   -999.0,9,-999.0000,9,   -999.0,  9,  -999.00,9,   -999.0,  -999.00,9,  -999.00,9,  -999.00,9,  -999.00,9,   -999.0,-999.0000, -999,9, 1001,   5.5980,  26.9862,   -999.0,9
       SH00-06,  NONE,SH-5991,  1,     11,S-1-1-10,2,20000711,1011, 31.0010, 133.9722, 4420,   1213.4,   4.1051,  34.3987,2,   -999.0,9,  34.3984,2,     71.8,2,  -999.00,9,  -999.00,9,    38.74,2,     0.00,2,     2.75,2, -999.000,9, -999.000,9,  -999.00,9,   -999.0,9,   -999.0,9,-999.0000,9,   -999.0,  9,  -999.00,9,   -999.0,  -999.00,9,  -999.00,9,  -999.00,9,  -999.00,9,   -999.0,-999.0000, -999,9, 1202,   4.0106,  27.3067,   -999.0,9
       SH00-06,  NONE,SH-5991,  1,     10,1-133-94,2,20000711,1007, 31.0010, 133.9722, 4420,   1516.0,   2.9465,  34.4780,2,   -999.0,9,-999.0000,4,     71.5,2,  -999.00,9,  -999.00,9,    40.20,2,     0.00,2,     2.84,2, -999.000,9, -999.000,9,  -999.00,9,   -999.0,9,   -999.0,9,-999.0000,9,   -999.0,  9,  -999.00,9,   -999.0,  -999.00,9,  -999.00,9,  -999.00,9,  -999.00,9,   -999.0,-999.0000, -999,9, 1500,   2.8382,  27.4830,   -999.0,9
       SH00-06,  NONE,SH-5993,  1,     -9,      -9,5,20000711,1634, 30.5050, 134.2510, 4480,      0.0,  26.4862,  34.2472,2,   -999.0,9,-999.0000,9,    206.4,2,  -999.00,9,  -999.00,9,     0.00,2,     0.00,2,     0.00,2, -999.000,9, -999.000,9,  -999.00,9,   -999.0,9,   -999.0,9,-999.0000,9,   -999.0,  9,  -999.00,9,   -999.0,  -999.00,9,  -999.00,9,  -999.00,9,  -999.00,9,   -999.0,-999.0000, -999,9,    0,  26.4862,  22.3135,   -999.0,9
       SH00-06,  NONE,SH-5993,  1,      8,1-133-95,2,20000711,1632, 30.5050, 134.2510, 4480,     50.2,  22.4780,  34.7454,2,   -999.0,9,  34.7260,4,    225.8,2,  -999.00,9,  -999.00,9,     0.00,2,     0.00,2,     0.01,2, -999.000,9, -999.000,9,  -999.00,9,   -999.0,9,   -999.0,9,-999.0000,9,   -999.0,  9,  -999.00,9,   -999.0,  -999.00,9,  -999.00,9,  -999.00,9,  -999.00,9,   -999.0,-999.0000, -999,9,   50,  22.4679,  23.8925,   -999.0,9
       SH00-06,  NONE,SH-5993,  1,      7, S-1-1-4,2,20000711,1631, 30.5050, 134.2510, 4480,    101.1,  20.7358,  34.7860,2,   -999.0,9,  34.7819,2,    210.7,2,  -999.00,9,  -999.00,9,     0.98,2,     0.13,2,     0.09,2, -999.000,9, -999.000,9,  -999.00,9,   -999.0,9,   -999.0,9,-999.0000,9,   -999.0,  9,  -999.00,9,   -999.0,  -999.00,9,  -999.00,9,  -999.00,9,  -999.00,9,   -999.0,-999.0000, -999,9,  100,  20.7167,  24.4077,   -999.0,9
       SH00-06,  NONE,SH-5993,  1,      6,1-133-93,2,20000711,1629, 30.5050, 134.2510, 4480,    152.3,  19.8011,  34.7992,2,   -999.0,9,  34.8054,2,    208.2,2,  -999.00,9,  -999.00,9,     1.85,2,     0.02,2,     0.14,2, -999.000,9, -999.000,9,  -999.00,9,   -999.0,9,   -999.0,9,-999.0000,9,   -999.0,  9,  -999.00,9,   -999.0,  -999.00,9,  -999.00,9,  -999.00,9,  -999.00,9,   -999.0,-999.0000, -999,9,  151,  19.7732,  24.6681,   -999.0,9
       SH00-06,  NONE,SH-5993,  1,      5,S-1-1-11,2,20000711,1627, 30.5050, 134.2510, 4480,    302.0,  18.6242,  34.8091,2,   -999.0,9,  34.8073,2,    202.3,2,  -999.00,9,  -999.00,9,     3.71,2,     0.01,2,     0.26,2, -999.000,9, -999.000,9,  -999.00,9,   -999.0,9,   -999.0,9,-999.0000,9,   -999.0,  9,  -999.00,9,   -999.0,  -999.00,9,  -999.00,9,  -999.00,9,  -999.00,9,   -999.0,-999.0000, -999,9,  300,  18.5710,  24.9838,   -999.0,9
       SH00-06,  NONE,SH-5993,  1,      4,S-1-1-12,2,20000711,1624, 30.5050, 134.2510, 4480,    402.8,  17.2330,  34.7756,2,   -999.0,9,  34.7727,2,    191.3,2,  -999.00,9,  -999.00,9,     6.53,2,     0.01,2,     0.44,2, -999.000,9, -999.000,9,  -999.00,9,   -999.0,9,   -999.0,9,-999.0000,9,   -999.0,  9,  -999.00,9,   -999.0,  -999.00,9,  -999.00,9,  -999.00,9,  -999.00,9,   -999.0,-999.0000, -999,9,  400,  17.1656,  25.3025,   -999.0,9
       SH00-06,  NONE,SH-5993,  1,      3,1-133-84,2,20000711,1622, 30.5050, 134.2510, 4480,    503.5,  15.2058,  34.6414,2,   -999.0,9,  34.6410,2,    183.0,2,  -999.00,9,  -999.00,9,    10.53,2,     0.00,2,     0.71,2, -999.000,9, -999.000,9,  -999.00,9,   -999.0,9,   -999.0,9,-999.0000,9,   -999.0,  9,  -999.00,9,   -999.0,  -999.00,9,  -999.00,9,  -999.00,9,  -999.00,9,   -999.0,-999.0000, -999,9,  499,  15.1283,  25.6672,   -999.0,9
       SH00-06,  NONE,SH-5993,  1,      2, S-1-1-7,2,20000711,1621, 30.5050, 134.2510, 4480,    605.1,  12.6230,  34.4326,2,   -999.0,9,  34.4595,4,    174.1,2,  -999.00,9,  -999.00,9,    15.59,2,     0.00,2,     1.06,2, -999.000,9, -999.000,9,  -999.00,9,   -999.0,9,   -999.0,9,-999.0000,9,   -999.0,  9,  -999.00,9,   -999.0,  -999.00,9,  -999.00,9,  -999.00,9,  -999.00,9,   -999.0,-999.0000, -999,9,  600,  12.5405,  26.0441,   -999.0,9
       SH00-06,  NONE,SH-5993,  1,      1, 1-133-1,2,20000711,1618, 30.5050, 134.2510, 4480,    805.3,   7.6866,  34.2054,2,   -999.0,9,  34.2070,2,    128.1,2,  -999.00,9,  -999.00,9,    28.34,2,     0.00,2,     1.99,2, -999.000,9, -999.000,9,  -999.00,9,   -999.0,9,   -999.0,9,-999.0000,9,   -999.0,  9,  -999.00,9,   -999.0,  -999.00,9,  -999.00,9,  -999.00,9,  -999.00,9,   -999.0,-999.0000, -999,9,  798,   7.6048,  26.7076,   -999.0,9
       SH00-06,  NONE,SH-5993,  1,     12, 1-133-7,2,20000711,1615, 30.5050, 134.2510, 4480,   1008.0,   5.0701,  34.2776,2,   -999.0,9,  34.2734,2,     80.6,2,  -999.00,9,  -999.00,9,    36.22,2,     0.00,2,     2.59,2, -999.000,9, -999.000,9,  -999.00,9,   -999.0,9,   -999.0,9,-999.0000,9,   -999.0,  9,  -999.00,9,   -999.0,  -999.00,9,  -999.00,9,  -999.00,9,  -999.00,9,   -999.0,-999.0000, -999,9,  999,   4.9859,  27.1041,   -999.0,9
       SH00-06,  NONE,SH-5993,  1,     11,S-1-1-10,2,20000711,1612, 30.5050, 134.2510, 4480,   1212.3,   3.8431,  34.3918,2,   -999.0,9,  34.3938,2,     67.8,2,  -999.00,9,  -999.00,9,    39.13,2,     0.00,2,     2.78,2, -999.000,9, -999.000,9,  -999.00,9,   -999.0,9,   -999.0,9,-999.0000,9,   -999.0,  9,  -999.00,9,   -999.0,  -999.00,9,  -999.00,9,  -999.00,9,  -999.00,9,   -999.0,-999.0000, -999,9, 1200,   3.7512,  27.3276,   -999.0,9
       SH00-06,  NONE,SH-5993,  1,     10,1-133-94,2,20000711,1607, 30.5050, 134.2510, 4480,   1517.5,   2.8775,  34.4872,2,   -999.0,9,  34.4888,2,     72.9,2,  -999.00,9,  -999.00,9,    39.90,2,     0.00,2,     2.83,2, -999.000,9, -999.000,9,  -999.00,9,   -999.0,9,   -999.0,9,-999.0000,9,   -999.0,  9,  -999.00,9,   -999.0,  -999.00,9,  -999.00,9,  -999.00,9,  -999.00,9,   -999.0,-999.0000, -999,9, 1502,   2.7699,  27.4964,   -999.0,9