BOTTLE,20130510GEMDJMAYT
EXPOCODE,SECT_ID,STNNBR,CASTNO,SAMPNO,BTLNBR,BTLNBR_FLAG_W,DATE,TIME,LATITUDE,LONGITUDE,DEPTH,CTDPRS,CTDTMP,CTDSAL,CTDSAL_FLAG_W,CTDOXY,CTDOXY_FLAG_W,SALNTY,SALNTY_FLAG_W,OXYGEN,OXYGEN_FLAG_W,SILCAT,SILCAT_FLAG_W,NITRAT,NITRAT_FLAG_W,NO2+NO3,NO2+NO3_FLAG_W,NITRIT,NITRIT_FLAG_W,PHSPHT,PHSPHT_FLAG_W,CFC-11,CFC-11_FLAG_W,CFC-12,CFC-12_FLAG_W,DELC13,DELC13_FLAG_W,TCARBN,TCARBN_FLAG_W,ALKALI,ALKALI_FLAG_W,PH,PH_FLAG_W,PH_TMP,PH_SCALE,PH_NBS,PH_NBS_FLAG_W,C13ERR,TOTALP,TOTALP_FLAG_W,AMMONI,AMMONI_FLAG_W,CHLORA,CHLORA_FLAG_W,PPHYTN,PPHYTN_FLAG_W,REVPRS,REVTMP,DEPTH_,DEPTH_FLAG,CTDDEP,THETA,SIGTHT,DOC,DOC_FLAG_W
,,,,,,,GMT,GMT,,,METER,DBAR,ITS-90,PSS-78,,UMOL/KG,,PSS-78,,UMOL/KG,,UMOL/KG,,UMOL/KG,,UMOL/KG,,UMOL/KG,,UMOL/KG,,PMOL/KG,,PMOL/KG,,/MILLE,,UMOL/KG,,UMOL/KG,,25_DEG_C,,DEG_C,,,,/MILLE,UMOL/KG,,UMOL/KG,,UG/L,,UG/L,,DBAR,ITS-90,METERS,,METERS,DEG_C,,UMOL/L,
       SH00-08,  NONE,SH-6030,  2,     -9,      -9,5,20000819,0743, 30.5125, 135.2582, 4320,      0.0,  27.4015,  34.0869,2,   -999.0,9,  34.0912,2,    203.5,2,  -999.00,9,  -999.00,9,     0.00,2,     0.00,2,     0.02,2, -999.000,9, -999.000,9,  -999.00,9,   1912.1,6,   -999.0,9,-999.0000,9,   -999.0,  9,     8.25,2,   -999.0,  -999.00,9,  -999.00,9,     0.14,2,     0.08,2,   -999.0,-999.0000, -999,9,    0,  27.4015,  21.9018,   -999.0,9
       SH00-08,  NONE,SH-6030,  2,      3,1-133-84,2,20000819,0742, 30.5125, 135.2582, 4320,     10.9,  27.4069,  34.0912,2,   -999.0,9,-999.0000,9,    203.2,2,  -999.00,9,  -999.00,9,     0.10,2,     0.00,2,     0.00,2, -999.000,9, -999.000,9,  -999.00,9,   -999.0,9,   -999.0,9,-999.0000,9,   -999.0,  9,  -999.00,9,   -999.0,  -999.00,9,  -999.00,9,     0.14,2,     0.09,2,   -999.0,-999.0000, -999,9,   11,  27.4044,  21.9041,   -999.0,9
       SH00-08,  NONE,SH-6030,  2,      2, S-1-1-7,2,20000819,0741, 30.5125, 135.2582, 4320,     26.0,  27.4414,  34.1361,2,   -999.0,9,-999.0000,9,    201.8,2,  -999.00,9,  -999.00,9,     0.10,2,     0.00,2,     0.01,2, -999.000,9, -999.000,9,  -999.00,9,   -999.0,9,   -999.0,9,-999.0000,9,   -999.0,  9,  -999.00,9,   -999.0,  -999.00,9,  -999.00,9,     0.14,2,     0.08,2,   -999.0,-999.0000, -999,9,   26,  27.4354,  21.9279,   -999.0,9
       SH00-08,  NONE,SH-6030,  2,      1, 1-133-1,2,20000819,0740, 30.5125, 135.2582, 4320,     51.8,  23.7134,  34.6543,2,   -999.0,9,-999.0000,9,    223.5,2,  -999.00,9,  -999.00,9,     0.00,2,     0.00,2,     0.02,2, -999.000,9, -999.000,9,  -999.00,9,   -999.0,9,   -999.0,9,-999.0000,9,   -999.0,  9,  -999.00,9,   -999.0,  -999.00,9,  -999.00,9,     0.21,2,     0.14,2,   -999.0,-999.0000, -999,9,   51,  23.7026,  23.4672,   -999.0,9
       SH00-08,  NONE,SH-6030,  2,     12, 1-133-7,2,20000819,0740, 30.5125, 135.2582, 4320,     77.0,  21.6428,  34.7439,2,   -999.0,9,-999.0000,9,    225.0,2,  -999.00,9,  -999.00,9,     0.10,2,     0.00,2,     0.03,2, -999.000,9, -999.000,9,  -999.00,9,   -999.0,9,   -999.0,9,-999.0000,9,   -999.0,  9,  -999.00,9,   -999.0,  -999.00,9,  -999.00,9,     0.19,2,     0.23,2,   -999.0,-999.0000, -999,9,   76,  21.6278,  24.1268,   -999.0,9
       SH00-08,  NONE,SH-6030,  2,     11,S-1-1-10,2,20000819,0739, 30.5125, 135.2582, 4320,    100.3,  20.6290,  34.7885,2,   -999.0,9,-999.0000,9,    210.7,2,  -999.00,9,  -999.00,9,     1.56,2,     0.07,2,     0.12,2, -999.000,9, -999.000,9,  -999.00,9,   -999.0,9,   -999.0,9,-999.0000,9,   -999.0,  9,  -999.00,9,   -999.0,  -999.00,9,  -999.00,9,     0.13,2,     0.32,2,   -999.0,-999.0000, -999,9,  100,  20.6101,  24.4382,   -999.0,9
       SH00-08,  NONE,SH-6030,  2,     10,1-133-94,2,20000819,0738, 30.5125, 135.2582, 4320,    127.1,  19.9823,  34.7928,2,   -999.0,9,-999.0000,9,    209.9,2,  -999.00,9,  -999.00,9,     1.76,2,     0.02,2,     0.15,2, -999.000,9, -999.000,9,  -999.00,9,   -999.0,9,   -999.0,9,-999.0000,9,   -999.0,  9,  -999.00,9,   -999.0,  -999.00,9,  -999.00,9,     0.04,2,     0.12,2,   -999.0,-999.0000, -999,9,  126,  19.9588,  24.6145,   -999.0,9
       SH00-08,  NONE,SH-6030,  2,      9, S-1-1-5,2,20000819,0737, 30.5125, 135.2582, 4320,    151.1,  19.6475,  34.7935,2,   -999.0,9,-999.0000,9,    213.3,2,  -999.00,9,  -999.00,9,     1.66,2,     0.03,2,     0.49,4, -999.000,9, -999.000,9,  -999.00,9,   -999.0,9,   -999.0,9,-999.0000,9,   -999.0,  9,  -999.00,9,   -999.0,  -999.00,9,  -999.00,9,     0.02,2,     0.06,2,   -999.0,-999.0000, -999,9,  150,  19.6199,  24.7037,   -999.0,9
       SH00-08,  NONE,SH-6030,  2,      8,1-133-95,2,20000819,0736, 30.5125, 135.2582, 4320,    202.3,  19.0777,  34.8040,2,   -999.0,9,-999.0000,9,    214.2,2,  -999.00,9,  -999.00,9,     2.15,2,     0.02,2,     0.48,4, -999.000,9, -999.000,9,  -999.00,9,   -999.0,9,   -999.0,9,-999.0000,9,   -999.0,  9,  -999.00,9,   -999.0,  -999.00,9,  -999.00,9,     0.00,2,     0.02,2,   -999.0,-999.0000, -999,9,  201,  19.0416,  24.8607,   -999.0,9
       SH00-08,  NONE,SH-6030,  2,      7, S-1-1-4,2,20000819,0734, 30.5125, 135.2582, 4320,    255.0,  18.8633,  34.8081,2,   -999.0,9,-999.0000,9,    216.1,2,  -999.00,9,  -999.00,9,     2.15,2,     0.02,2,     0.18,2, -999.000,9, -999.000,9,  -999.00,9,   -999.0,9,   -999.0,9,-999.0000,9,   -999.0,  9,  -999.00,9,   -999.0,  -999.00,9,  -999.00,9,     0.00,2,     0.01,2,   -999.0,-999.0000, -999,9,  253,  18.8180,  24.9207,   -999.0,9
       SH00-08,  NONE,SH-6030,  2,      6,1-133-93,2,20000819,0733, 30.5125, 135.2582, 4320,    303.7,  18.6447,  34.8044,2,   -999.0,9,-999.0000,9,    211.5,2,  -999.00,9,  -999.00,9,     2.93,2,     0.01,2,     0.22,2, -999.000,9, -999.000,9,  -999.00,9,   -999.0,9,   -999.0,9,-999.0000,9,   -999.0,  9,  -999.00,9,   -999.0,  -999.00,9,  -999.00,9,     0.00,2,     0.01,2,   -999.0,-999.0000, -999,9,  301,  18.5912,  24.9752,   -999.0,9
       SH00-08,  NONE,SH-6030,  1,      4,S-1-1-12,2,20000819,0706, 30.5062, 135.2530, 4320,    403.4,  17.2751,  34.7767,2,   -999.0,9,-999.0000,9,    191.2,2,  -999.00,9,  -999.00,9,     6.83,2,     0.01,2,     0.48,2, -999.000,9, -999.000,9,  -999.00,9,   -999.0,9,   -999.0,9,-999.0000,9,   -999.0,  9,  -999.00,9,   -999.0,  -999.00,9,  -999.00,9,  -999.00,9,  -999.00,9,   -999.0,-999.0000, -999,9,  400,  17.2076,  25.2934,   -999.0,9
       SH00-08,  NONE,SH-6030,  1,      3,1-133-84,2,20000819,0704, 30.5062, 135.2530, 4320,    505.1,  14.9625,  34.6254,2,   -999.0,9,-999.0000,9,    186.0,2,  -999.00,9,  -999.00,9,    11.02,2,     0.00,2,     0.76,2, -999.000,9, -999.000,9,  -999.00,9,   -999.0,9,   -999.0,9,-999.0000,9,   -999.0,  9,  -999.00,9,   -999.0,  -999.00,9,  -999.00,9,  -999.00,9,  -999.00,9,   -999.0,-999.0000, -999,9,  501,  14.8856,  25.7081,   -999.0,9
       SH00-08,  NONE,SH-6030,  1,      2, S-1-1-7,2,20000819,0702, 30.5062, 135.2530, 4320,    605.5,  12.4200,  34.4629,2,   -999.0,9,-999.0000,9,    174.2,2,  -999.00,9,  -999.00,9,    16.18,2,     0.00,2,     1.13,2, -999.000,9, -999.000,9,  -999.00,9,   -999.0,9,   -999.0,9,-999.0000,9,   -999.0,  9,  -999.00,9,   -999.0,  -999.00,9,  -999.00,9,  -999.00,9,  -999.00,9,   -999.0,-999.0000, -999,9,  601,  12.3384,  26.1070,   -999.0,9
       SH00-08,  NONE,SH-6030,  1,      1, 1-133-1,2,20000819,0700, 30.5062, 135.2530, 4320,    705.9,   9.9499,  34.2990,2,   -999.0,9,-999.0000,9,    152.4,2,  -999.00,9,  -999.00,9,    22.51,2,     0.00,2,     1.59,2, -999.000,9, -999.000,9,  -999.00,9,   -999.0,9,   -999.0,9,-999.0000,9,   -999.0,  9,  -999.00,9,   -999.0,  -999.00,9,  -999.00,9,  -999.00,9,  -999.00,9,   -999.0,-999.0000, -999,9,  700,   9.8669,  26.4271,   -999.0,9
       SH00-08,  NONE,SH-6030,  1,     12, 1-133-7,2,20000819,0658, 30.5062, 135.2530, 4320,    807.9,   7.8036,  34.2046,2,   -999.0,9,-999.0000,9,    128.6,2,  -999.00,9,  -999.00,9,    28.34,2,     0.00,2,     2.00,2, -999.000,9, -999.000,9,  -999.00,9,   -999.0,9,   -999.0,9,-999.0000,9,   -999.0,  9,  -999.00,9,   -999.0,  -999.00,9,  -999.00,9,  -999.00,9,  -999.00,9,   -999.0,-999.0000, -999,9,  801,   7.7208,  26.6902,   -999.0,9
       SH00-08,  NONE,SH-6030,  1,     11,S-1-1-10,2,20000819,0656, 30.5062, 135.2530, 4320,    910.1,   6.0608,  34.2054,2,   -999.0,9,-999.0000,9,     99.4,2,  -999.00,9,  -999.00,9,    33.69,2,     0.00,2,     2.39,2, -999.000,9, -999.000,9,  -999.00,9,   -999.0,9,   -999.0,9,-999.0000,9,   -999.0,  9,  -999.00,9,   -999.0,  -999.00,9,  -999.00,9,  -999.00,9,  -999.00,9,   -999.0,-999.0000, -999,9,  902,   5.9787,  26.9274,   -999.0,9
       SH00-08,  NONE,SH-6030,  1,     10,1-133-94,2,20000819,0654, 30.5062, 135.2530, 4320,   1009.7,   5.2250,  34.2870,2,   -999.0,9,-999.0000,9,     82.6,2,  -999.00,9,  -999.00,9,    36.41,2,     0.00,2,     2.59,2, -999.000,9, -999.000,9,  -999.00,9,   -999.0,9,   -999.0,9,-999.0000,9,   -999.0,  9,  -999.00,9,   -999.0,  -999.00,9,  -999.00,9,  -999.00,9,  -999.00,9,   -999.0,-999.0000, -999,9, 1000,   5.1395,  27.0938,   -999.0,9
       SH00-08,  NONE,SH-6030,  1,      9, S-1-1-5,2,20000819,0651, 30.5062, 135.2530, 4320,   1213.3,   3.8798,  34.3833,2,   -999.0,9,-999.0000,9,     66.9,2,  -999.00,9,  -999.00,9,    39.81,2,     0.00,2,     2.81,2, -999.000,9, -999.000,9,  -999.00,9,   -999.0,9,   -999.0,9,-999.0000,9,   -999.0,  9,  -999.00,9,   -999.0,  -999.00,9,  -999.00,9,  -999.00,9,  -999.00,9,   -999.0,-999.0000, -999,9, 1201,   3.7874,  27.3173,   -999.0,9
       SH00-08,  NONE,SH-6030,  1,      8,1-133-95,2,20000819,0645, 30.5062, 135.2530, 4320,   1520.2,   2.9515,  34.4778,2,   -999.0,9,-999.0000,9,     72.2,2,  -999.00,9,  -999.00,9,    40.49,2,     0.01,2,     2.85,2, -999.000,9, -999.000,9,  -999.00,9,   -999.0,9,   -999.0,9,-999.0000,9,   -999.0,  9,  -999.00,9,   -999.0,  -999.00,9,  -999.00,9,  -999.00,9,  -999.00,9,   -999.0,-999.0000, -999,9, 1504,   2.8427,  27.4824,   -999.0,9
       SH00-08,  NONE,SH-6031,  2,     -9,      -9,5,20000819,1402, 30.0193, 135.2378, 4360,      0.0,  27.4888,  34.4526,2,   -999.0,9,  34.4703,2,    203.5,2,  -999.00,9,  -999.00,9,     0.10,2,     0.00,2,     0.01,2, -999.000,9, -999.000,9,  -999.00,9,   1930.0,6,   -999.0,9,-999.0000,9,   -999.0,  9,     8.23,2,   -999.0,  -999.00,9,  -999.00,9,     0.06,2,     0.04,2,   -999.0,-999.0000, -999,9,    0,  27.4888,  22.1488,   -999.0,9
       SH00-08,  NONE,SH-6031,  2,      9, S-1-1-5,4,20000819,1401, 30.0193, 135.2378, 4360,     11.5,  27.4969,  34.4583,2,   -999.0,9,  34.5594,4,    207.7,2,  -999.00,9,  -999.00,9,     0.10,2,     0.00,2,     0.02,2, -999.000,9, -999.000,9,  -999.00,9,   -999.0,9,   -999.0,9,-999.0000,9,   -999.0,  9,  -999.00,9,   -999.0,  -999.00,9,  -999.00,9,     0.07,2,     0.05,2,   -999.0,-999.0000, -999,9,   11,  27.4943,  22.1513,   -999.0,9
       SH00-08,  NONE,SH-6031,  2,      8,1-133-95,2,20000819,1401, 30.0193, 135.2378, 4360,     11.5,  27.4969,  34.4583,2,   -999.0,9,  34.5464,4,    210.0,2,  -999.00,9,  -999.00,9,     0.20,2,     0.01,2,     0.02,2, -999.000,9, -999.000,9,  -999.00,9,   -999.0,9,   -999.0,9,-999.0000,9,   -999.0,  9,  -999.00,9,   -999.0,  -999.00,9,  -999.00,9,     0.08,2,     0.05,2,   -999.0,-999.0000, -999,9,   11,  27.4943,  22.1513,   -999.0,9
       SH00-08,  NONE,SH-6031,  2,      7, S-1-1-4,2,20000819,1400, 30.0193, 135.2378, 4360,     27.7,  27.4691,  34.6048,2,   -999.0,9,  34.5867,2,    203.0,2,  -999.00,9,  -999.00,9,     0.10,2,     0.00,2,     0.01,2, -999.000,9, -999.000,9,  -999.00,9,   -999.0,9,   -999.0,9,-999.0000,9,   -999.0,  9,  -999.00,9,   -999.0,  -999.00,9,  -999.00,9,     0.07,2,     0.04,2,   -999.0,-999.0000, -999,9,   27,  27.4626,  22.2718,   -999.0,9
       SH00-08,  NONE,SH-6031,  2,      6,1-133-93,2,20000819,1358, 30.0193, 135.2378, 4360,     51.3,  26.5473,  34.6637,2,   -999.0,9,  34.6625,2,    208.1,2,  -999.00,9,  -999.00,9,     0.20,2,     0.00,2,     0.00,2, -999.000,9, -999.000,9,  -999.00,9,   -999.0,9,   -999.0,9,-999.0000,9,   -999.0,  9,  -999.00,9,   -999.0,  -999.00,9,  -999.00,9,     0.10,2,     0.06,2,   -999.0,-999.0000, -999,9,   51,  26.5357,  22.6118,   -999.0,9
       SH00-08,  NONE,SH-6031,  2,      5,S-1-1-11,2,20000819,1358, 30.0193, 135.2378, 4360,     77.4,  23.4449,  34.7501,2,   -999.0,9,  34.7544,2,    220.8,2,  -999.00,9,  -999.00,9,     0.00,2,     0.00,2,     0.01,2, -999.000,9, -999.000,9,  -999.00,9,   -999.0,9,   -999.0,9,-999.0000,9,   -999.0,  9,  -999.00,9,   -999.0,  -999.00,9,  -999.00,9,     0.18,2,     0.13,2,   -999.0,-999.0000, -999,9,   77,  23.4289,  23.6199,   -999.0,9
       SH00-08,  NONE,SH-6031,  2,      4,S-1-1-12,2,20000819,1357, 30.0193, 135.2378, 4360,    102.8,  21.5797,  34.8041,2,   -999.0,9,  34.8052,2,    221.9,2,  -999.00,9,  -999.00,9,     0.10,2,     0.00,2,     0.02,2, -999.000,9, -999.000,9,  -999.00,9,   -999.0,9,   -999.0,9,-999.0000,9,   -999.0,  9,  -999.00,9,   -999.0,  -999.00,9,  -999.00,9,     0.23,2,     0.26,2,   -999.0,-999.0000, -999,9,  102,  21.5597,  24.1914,   -999.0,9
       SH00-08,  NONE,SH-6031,  2,      3,1-133-84,2,20000819,1356, 30.0193, 135.2378, 4360,    127.4,  20.6252,  34.8213,2,   -999.0,9,  34.8201,2,    220.4,2,  -999.00,9,  -999.00,9,     0.10,2,     0.04,2,     0.04,2, -999.000,9, -999.000,9,  -999.00,9,   -999.0,9,   -999.0,9,-999.0000,9,   -999.0,  9,  -999.00,9,   -999.0,  -999.00,9,  -999.00,9,     0.21,2,     0.56,2,   -999.0,-999.0000, -999,9,  127,  20.6012,  24.4656,   -999.0,9
       SH00-08,  NONE,SH-6031,  2,      2, S-1-1-7,2,20000819,1355, 30.0193, 135.2378, 4360,    153.0,  19.7313,  34.8141,2,   -999.0,9,  34.8136,2,    215.1,2,  -999.00,9,  -999.00,9,     1.17,2,     0.12,2,     0.10,2, -999.000,9, -999.000,9,  -999.00,9,   -999.0,9,   -999.0,9,-999.0000,9,   -999.0,  9,  -999.00,9,   -999.0,  -999.00,9,  -999.00,9,     0.11,2,     0.40,2,   -999.0,-999.0000, -999,9,  152,  19.7033,  24.6977,   -999.0,9
       SH00-08,  NONE,SH-6031,  2,      1, 1-133-1,2,20000819,1354, 30.0193, 135.2378, 4360,    202.5,  18.9166,  34.8015,2,   -999.0,9,  34.8040,2,    213.3,2,  -999.00,9,  -999.00,9,     2.44,2,     0.02,2,     0.17,2, -999.000,9, -999.000,9,  -999.00,9,   -999.0,9,   -999.0,9,-999.0000,9,   -999.0,  9,  -999.00,9,   -999.0,  -999.00,9,  -999.00,9,     0.01,2,     0.05,2,   -999.0,-999.0000, -999,9,  201,  18.8806,  24.8998,   -999.0,9
       SH00-08,  NONE,SH-6031,  2,     12, 1-133-7,2,20000819,1352, 30.0193, 135.2378, 4360,    254.7,  18.3414,  34.7903,2,   -999.0,9,  34.7938,2,    213.0,2,  -999.00,9,  -999.00,9,     3.12,2,     0.01,2,     0.21,2, -999.000,9, -999.000,9,  -999.00,9,   -999.0,9,   -999.0,9,-999.0000,9,   -999.0,  9,  -999.00,9,   -999.0,  -999.00,9,  -999.00,9,     0.00,2,     0.01,2,   -999.0,-999.0000, -999,9,  253,  18.2971,  25.0379,   -999.0,9
       SH00-08,  NONE,SH-6031,  2,     11,S-1-1-10,2,20000819,1351, 30.0193, 135.2378, 4360,    306.1,  17.7341,  34.7800,2,   -999.0,9,  34.7896,2,    208.0,2,  -999.00,9,  -999.00,9,     3.71,2,     0.02,2,     0.24,2, -999.000,9, -999.000,9,  -999.00,9,   -999.0,9,   -999.0,9,-999.0000,9,   -999.0,  9,  -999.00,9,   -999.0,  -999.00,9,  -999.00,9,     0.07,2,     0.07,2,   -999.0,-999.0000, -999,9,  304,  17.6820,  25.1814,   -999.0,9
       SH00-08,  NONE,SH-6031,  1,      1, 1-133-1,4,20000819,1243, 30.0040, 135.2463, 4100,    402.5,  16.4324,  34.7347,2,   -999.0,9,  34.7241,2,    202.3,2,  -999.00,9,  -999.00,9,     6.73,2,     0.01,2,     0.45,2, -999.000,9, -999.000,9,  -999.00,9,   -999.0,9,   -999.0,9,-999.0000,9,   -999.0,  9,  -999.00,9,   -999.0,  -999.00,9,  -999.00,9,  -999.00,9,  -999.00,9,   -999.0,-999.0000, -999,9,  399,  16.3673,  25.4590,   -999.0,9
       SH00-08,  NONE,SH-6031,  1,     12, 1-133-7,2,20000819,1243, 30.0040, 135.2463, 4100,    402.5,  16.4324,  34.7347,2,   -999.0,9,  34.7256,2,    202.8,2,  -999.00,9,  -999.00,9,     6.83,2,     0.01,2,     0.45,2, -999.000,9, -999.000,9,  -999.00,9,   -999.0,9,   -999.0,9,-999.0000,9,   -999.0,  9,  -999.00,9,   -999.0,  -999.00,9,  -999.00,9,  -999.00,9,  -999.00,9,   -999.0,-999.0000, -999,9,  399,  16.3673,  25.4590,   -999.0,9
       SH00-08,  NONE,SH-6031,  1,     11,S-1-1-10,2,20000819,1241, 30.0040, 135.2463, 4100,    504.5,  14.2095,  34.5704,2,   -999.0,9,  34.5629,2,    188.6,2,  -999.00,9,  -999.00,9,    11.41,2,     0.01,2,     0.76,2, -999.000,9, -999.000,9,  -999.00,9,   -999.0,9,   -999.0,9,-999.0000,9,   -999.0,  9,  -999.00,9,   -999.0,  -999.00,9,  -999.00,9,  -999.00,9,  -999.00,9,   -999.0,-999.0000, -999,9,  500,  14.1353,  25.8266,   -999.0,9
       SH00-08,  NONE,SH-6031,  1,     10,1-133-94,2,20000819,1239, 30.0040, 135.2463, 4100,    605.5,  12.0377,  34.3984,2,   -999.0,9,  34.4017,2,    181.2,2,  -999.00,9,  -999.00,9,    15.98,2,     0.00,2,     1.08,2, -999.000,9, -999.000,9,  -999.00,9,   -999.0,9,   -999.0,9,-999.0000,9,   -999.0,  9,  -999.00,9,   -999.0,  -999.00,9,  -999.00,9,  -999.00,9,  -999.00,9,   -999.0,-999.0000, -999,9,  601,  11.9577,  26.1298,   -999.0,9
       SH00-08,  NONE,SH-6031,  1,      9, S-1-1-5,2,20000819,1237, 30.0040, 135.2463, 4100,    706.3,   9.6374,  34.2703,2,   -999.0,9,  34.2728,2,    154.1,2,  -999.00,9,  -999.00,9,    22.60,2,     0.00,2,     1.55,2, -999.000,9, -999.000,9,  -999.00,9,   -999.0,9,   -999.0,9,-999.0000,9,   -999.0,  9,  -999.00,9,   -999.0,  -999.00,9,  -999.00,9,  -999.00,9,  -999.00,9,   -999.0,-999.0000, -999,9,  700,   9.5559,  26.4565,   -999.0,9
       SH00-08,  NONE,SH-6031,  1,      8,1-133-95,2,20000819,1234, 30.0040, 135.2463, 4100,    807.0,   7.1634,  34.1805,2,   -999.0,9,  34.1807,2,    124.2,2,  -999.00,9,  -999.00,9,    29.71,2,     0.00,2,     2.06,2, -999.000,9, -999.000,9,  -999.00,9,   -999.0,9,   -999.0,9,-999.0000,9,   -999.0,  9,  -999.00,9,   -999.0,  -999.00,9,  -999.00,9,  -999.00,9,  -999.00,9,   -999.0,-999.0000, -999,9,  800,   7.0845,  26.7616,   -999.0,9
       SH00-08,  NONE,SH-6031,  1,      7, S-1-1-4,2,20000819,1232, 30.0040, 135.2463, 4100,    907.5,   5.7504,  34.1917,2,   -999.0,9,  34.1962,2,    101.6,2,  -999.00,9,  -999.00,9,    34.57,2,     0.01,2,     2.38,2, -999.000,9, -999.000,9,  -999.00,9,   -999.0,9,   -999.0,9,-999.0000,9,   -999.0,  9,  -999.00,9,   -999.0,  -999.00,9,  -999.00,9,  -999.00,9,  -999.00,9,   -999.0,-999.0000, -999,9,  899,   5.6707,  26.9549,   -999.0,9
       SH00-08,  NONE,SH-6031,  1,      6,1-133-93,2,20000819,1230, 30.0040, 135.2463, 4100,   1009.5,   4.9786,  34.2887,2,   -999.0,9,  34.2899,2,     78.6,2,  -999.00,9,  -999.00,9,    37.29,2,     0.00,2,     2.58,2, -999.000,9, -999.000,9,  -999.00,9,   -999.0,9,   -999.0,9,-999.0000,9,   -999.0,  9,  -999.00,9,   -999.0,  -999.00,9,  -999.00,9,  -999.00,9,  -999.00,9,   -999.0,-999.0000, -999,9, 1000,   4.8949,  27.1233,   -999.0,9
       SH00-08,  NONE,SH-6031,  1,      5,S-1-1-11,2,20000819,1226, 30.0040, 135.2463, 4100,   1213.5,   3.6558,  34.4013,2,   -999.0,9,  34.4029,2,     69.9,2,  -999.00,9,  -999.00,9,    40.01,2,     0.00,2,     2.76,2, -999.000,9, -999.000,9,  -999.00,9,   -999.0,9,   -999.0,9,-999.0000,9,   -999.0,  9,  -999.00,9,   -999.0,  -999.00,9,  -999.00,9,  -999.00,9,  -999.00,9,   -999.0,-999.0000, -999,9, 1202,   3.5655,  27.3537,   -999.0,9
       SH00-08,  NONE,SH-6031,  1,      4,S-1-1-12,2,20000819,1221, 30.0040, 135.2463, 4100,   1518.5,   2.8383,  34.4921,2,   -999.0,9,  34.4943,2,     74.9,2,  -999.00,9,  -999.00,9,    40.29,2,     0.01,2,     2.73,2, -999.000,9, -999.000,9,  -999.00,9,   -999.0,9,   -999.0,9,-999.0000,9,   -999.0,  9,  -999.00,9,   -999.0,  -999.00,9,  -999.00,9,  -999.00,9,  -999.00,9,   -999.0,-999.0000, -999,9, 1503,   2.7310,  27.5038,   -999.0,9