BOTTLE,20130510GEMDJMAYT
EXPOCODE,SECT_ID,STNNBR,CASTNO,SAMPNO,BTLNBR,BTLNBR_FLAG_W,DATE,TIME,LATITUDE,LONGITUDE,DEPTH,CTDPRS,CTDTMP,CTDSAL,CTDSAL_FLAG_W,CTDOXY,CTDOXY_FLAG_W,SALNTY,SALNTY_FLAG_W,OXYGEN,OXYGEN_FLAG_W,SILCAT,SILCAT_FLAG_W,NITRAT,NITRAT_FLAG_W,NO2+NO3,NO2+NO3_FLAG_W,NITRIT,NITRIT_FLAG_W,PHSPHT,PHSPHT_FLAG_W,CFC-11,CFC-11_FLAG_W,CFC-12,CFC-12_FLAG_W,DELC13,DELC13_FLAG_W,TCARBN,TCARBN_FLAG_W,ALKALI,ALKALI_FLAG_W,PH,PH_FLAG_W,PH_TMP,PH_SCALE,PH_NBS,PH_NBS_FLAG_W,C13ERR,TOTALP,TOTALP_FLAG_W,AMMONI,AMMONI_FLAG_W,CHLORA,CHLORA_FLAG_W,PPHYTN,PPHYTN_FLAG_W,REVPRS,REVTMP,DEPTH_,DEPTH_FLAG,CTDDEP,THETA,SIGTHT,DOC,DOC_FLAG_W
,,,,,,,GMT,GMT,,,METER,DBAR,ITS-90,PSS-78,,UMOL/KG,,PSS-78,,UMOL/KG,,UMOL/KG,,UMOL/KG,,UMOL/KG,,UMOL/KG,,UMOL/KG,,PMOL/KG,,PMOL/KG,,/MILLE,,UMOL/KG,,UMOL/KG,,25_DEG_C,,DEG_C,,,,/MILLE,UMOL/KG,,UMOL/KG,,UG/L,,UG/L,,DBAR,ITS-90,METERS,,METERS,DEG_C,,UMOL/L,
       SH00-08,  NONE,SH-6028,  2,     -9,      -9,5,20000818,1922, 31.5085, 135.2720, 3640,      0.0,  27.6692,  34.1575,2,   -999.0,9,-999.0000,9,    201.0,2,  -999.00,9,  -999.00,9,     0.10,2,     0.01,2,     0.00,2, -999.000,9, -999.000,9,  -999.00,9,   -999.0,9,   -999.0,9,-999.0000,9,   -999.0,  9,  -999.00,9,   -999.0,  -999.00,9,  -999.00,9,     0.10,2,     0.06,2,   -999.0,-999.0000, -999,9,    0,  27.6692,  21.8686,   -999.0,9
       SH00-08,  NONE,SH-6028,  2,     11,S-1-1-10,2,20000818,1918, 31.5085, 135.2720, 3640,     12.4,  27.6766,  34.1638,2,   -999.0,9,  34.1648,2,    201.6,2,  -999.00,9,  -999.00,9,     0.10,2,     0.00,2,     0.00,2, -999.000,9, -999.000,9,  -999.00,9,   -999.0,9,   -999.0,9,-999.0000,9,   -999.0,  9,  -999.00,9,   -999.0,  -999.00,9,  -999.00,9,     0.12,2,     0.06,2,   -999.0,-999.0000, -999,9,   12,  27.6737,  21.8719,   -999.0,9
       SH00-08,  NONE,SH-6028,  2,     10,1-133-94,2,20000818,1917, 31.5085, 135.2720, 3640,     27.1,  27.5687,  34.1759,2,   -999.0,9,  34.1721,2,    201.7,2,  -999.00,9,  -999.00,9,     0.00,2,     0.00,2,     0.00,2, -999.000,9, -999.000,9,  -999.00,9,   -999.0,9,   -999.0,9,-999.0000,9,   -999.0,  9,  -999.00,9,   -999.0,  -999.00,9,  -999.00,9,     0.11,2,     0.06,2,   -999.0,-999.0000, -999,9,   27,  27.5624,  21.9169,   -999.0,9
       SH00-08,  NONE,SH-6028,  2,      9, S-1-1-5,2,20000818,1916, 31.5085, 135.2720, 3640,     52.0,  23.1811,  34.7957,2,   -999.0,9,  34.7052,4,    229.0,2,  -999.00,9,  -999.00,9,     0.10,2,     0.00,2,     0.00,2, -999.000,9, -999.000,9,  -999.00,9,   -999.0,9,   -999.0,9,-999.0000,9,   -999.0,  9,  -999.00,9,   -999.0,  -999.00,9,  -999.00,9,     0.15,2,     0.10,2,   -999.0,-999.0000, -999,9,   52,  23.1704,  23.7294,   -999.0,9
       SH00-08,  NONE,SH-6028,  2,      8,1-133-95,2,20000818,1915, 31.5085, 135.2720, 3640,     77.4,  21.2247,  34.7917,2,   -999.0,9,  34.7705,2,    226.2,2,  -999.00,9,  -999.00,9,     0.00,2,     0.00,2,     0.02,2, -999.000,9, -999.000,9,  -999.00,9,   -999.0,9,   -999.0,9,-999.0000,9,   -999.0,  9,  -999.00,9,   -999.0,  -999.00,9,  -999.00,9,     0.22,2,     0.27,2,   -999.0,-999.0000, -999,9,   77,  21.2098,  24.2781,   -999.0,9
       SH00-08,  NONE,SH-6028,  2,      7, S-1-1-4,2,20000818,1914, 31.5085, 135.2720, 3640,    102.8,  20.3960,  34.7590,2,   -999.0,9,  34.7849,2,    213.3,2,  -999.00,9,  -999.00,9,     1.07,2,     0.10,2,     0.10,2, -999.000,9, -999.000,9,  -999.00,9,   -999.0,9,   -999.0,9,-999.0000,9,   -999.0,  9,  -999.00,9,   -999.0,  -999.00,9,  -999.00,9,     0.15,2,     0.49,2,   -999.0,-999.0000, -999,9,  102,  20.3768,  24.4781,   -999.0,9
       SH00-08,  NONE,SH-6028,  2,      6,1-133-93,2,20000818,1913, 31.5085, 135.2720, 3640,    128.7,  19.8283,  34.7987,2,   -999.0,9,  34.7983,2,    215.2,2,  -999.00,9,  -999.00,9,     1.27,2,     0.04,2,     0.11,2, -999.000,9, -999.000,9,  -999.00,9,   -999.0,9,   -999.0,9,-999.0000,9,   -999.0,  9,  -999.00,9,   -999.0,  -999.00,9,  -999.00,9,     0.09,4,     0.30,4,   -999.0,-999.0000, -999,9,  128,  19.8047,  24.6594,   -999.0,9
       SH00-08,  NONE,SH-6028,  2,      5,S-1-1-11,2,20000818,1912, 31.5085, 135.2720, 3640,    152.7,  19.6026,  34.7908,2,   -999.0,9,  34.7928,2,    213.3,2,  -999.00,9,  -999.00,9,     1.56,2,     0.03,2,     0.13,2, -999.000,9, -999.000,9,  -999.00,9,   -999.0,9,   -999.0,9,-999.0000,9,   -999.0,  9,  -999.00,9,   -999.0,  -999.00,9,  -999.00,9,     0.04,2,     0.12,2,   -999.0,-999.0000, -999,9,  152,  19.5748,  24.7134,   -999.0,9
       SH00-08,  NONE,SH-6028,  2,      4,S-1-1-12,2,20000818,1911, 31.5085, 135.2720, 3640,    204.4,  19.0905,  34.8080,2,   -999.0,9,  34.8087,2,    213.7,2,  -999.00,9,  -999.00,9,     2.15,2,     0.02,2,     0.16,2, -999.000,9, -999.000,9,  -999.00,9,   -999.0,9,   -999.0,9,-999.0000,9,   -999.0,  9,  -999.00,9,   -999.0,  -999.00,9,  -999.00,9,     0.00,2,     0.02,2,   -999.0,-999.0000, -999,9,  203,  19.0540,  24.8606,   -999.0,9
       SH00-08,  NONE,SH-6028,  2,      3,1-133-84,2,20000818,1910, 31.5085, 135.2720, 3640,    254.5,  18.8492,  34.8097,2,   -999.0,9,  34.8111,2,    216.1,2,  -999.00,9,  -999.00,9,     2.15,2,     0.02,2,     0.17,2, -999.000,9, -999.000,9,  -999.00,9,   -999.0,9,   -999.0,9,-999.0000,9,   -999.0,  9,  -999.00,9,   -999.0,  -999.00,9,  -999.00,9,     0.00,2,     0.01,2,   -999.0,-999.0000, -999,9,  253,  18.8040,  24.9255,   -999.0,9
       SH00-08,  NONE,SH-6028,  2,      2, S-1-1-7,2,20000818,1909, 31.5085, 135.2720, 3640,    306.2,  18.6208,  34.8041,2,   -999.0,9,  34.8069,2,    212.4,2,  -999.00,9,  -999.00,9,     3.02,2,     0.01,2,     0.21,2, -999.000,9, -999.000,9,  -999.00,9,   -999.0,9,   -999.0,9,-999.0000,9,   -999.0,  9,  -999.00,9,   -999.0,  -999.00,9,  -999.00,9,     0.00,2,     0.01,2,   -999.0,-999.0000, -999,9,  304,  18.5669,  24.9810,   -999.0,9
       SH00-08,  NONE,SH-6028,  1,      1, 1-133-1,2,20000818,1838, 31.4983, 135.2587, 3620,    402.5,  16.7877,  34.7542,2,   -999.0,9,  34.7500,2,    189.8,2,  -999.00,9,  -999.00,9,     7.61,2,     0.01,2,     0.50,2, -999.000,9, -999.000,9,  -999.00,9,   -999.0,9,   -999.0,9,-999.0000,9,   -999.0,  9,  -999.00,9,   -999.0,  -999.00,9,  -999.00,9,  -999.00,9,  -999.00,9,   -999.0,-999.0000, -999,9,  399,  16.7216,  25.3913,   -999.0,9
       SH00-08,  NONE,SH-6028,  1,     12, 1-133-7,2,20000818,1836, 31.4983, 135.2587, 3620,    504.6,  14.4542,  34.5889,2,   -999.0,9,  34.5887,2,    182.6,2,  -999.00,9,  -999.00,9,    11.99,2,     0.01,2,     0.80,2, -999.000,9, -999.000,9,  -999.00,9,   -999.0,9,   -999.0,9,-999.0000,9,   -999.0,  9,  -999.00,9,   -999.0,  -999.00,9,  -999.00,9,  -999.00,9,  -999.00,9,   -999.0,-999.0000, -999,9,  501,  14.3792,  25.7892,   -999.0,9
       SH00-08,  NONE,SH-6028,  1,     11,S-1-1-10,2,20000818,1833, 31.4983, 135.2587, 3620,    604.4,  11.8826,  34.4121,2,   -999.0,9,  34.4078,2,    169.8,2,  -999.00,9,  -999.00,9,    17.64,2,     0.00,2,     1.21,2, -999.000,9, -999.000,9,  -999.00,9,   -999.0,9,   -999.0,9,-999.0000,9,   -999.0,  9,  -999.00,9,   -999.0,  -999.00,9,  -999.00,9,  -999.00,9,  -999.00,9,   -999.0,-999.0000, -999,9,  599,  11.8034,  26.1696,   -999.0,9
       SH00-08,  NONE,SH-6028,  1,     10,1-133-94,2,20000818,1828, 31.4983, 135.2587, 3620,    706.7,   9.3852,  34.2779,2,   -999.0,9,  34.2777,2,    145.8,2,  -999.00,9,  -999.00,9,    24.16,2,     0.00,2,     1.68,2, -999.000,9, -999.000,9,  -999.00,9,   -999.0,9,   -999.0,9,-999.0000,9,   -999.0,  9,  -999.00,9,   -999.0,  -999.00,9,  -999.00,9,  -999.00,9,  -999.00,9,   -999.0,-999.0000, -999,9,  701,   9.3050,  26.5036,   -999.0,9
       SH00-08,  NONE,SH-6028,  1,      9, S-1-1-5,2,20000818,1826, 31.4983, 135.2587, 3620,    806.9,   7.0217,  34.1922,2,   -999.0,9,  34.1994,2,    111.0,2,  -999.00,9,  -999.00,9,    31.07,2,     0.01,2,     2.17,2, -999.000,9, -999.000,9,  -999.00,9,   -999.0,9,   -999.0,9,-999.0000,9,   -999.0,  9,  -999.00,9,   -999.0,  -999.00,9,  -999.00,9,  -999.00,9,  -999.00,9,   -999.0,-999.0000, -999,9,  800,   6.9437,  26.7901,   -999.0,9
       SH00-08,  NONE,SH-6028,  1,      8,1-133-95,2,20000818,1824, 31.4983, 135.2587, 3620,    907.1,   5.7147,  34.2626,2,   -999.0,9,  34.2632,2,     90.2,2,  -999.00,9,  -999.00,9,    35.25,2,     0.01,2,     2.47,2, -999.000,9, -999.000,9,  -999.00,9,   -999.0,9,   -999.0,9,-999.0000,9,   -999.0,  9,  -999.00,9,   -999.0,  -999.00,9,  -999.00,9,  -999.00,9,  -999.00,9,   -999.0,-999.0000, -999,9,  899,   5.6352,  27.0153,   -999.0,9
       SH00-08,  NONE,SH-6028,  1,      7, S-1-1-4,2,20000818,1822, 31.4983, 135.2587, 3620,   1009.4,   4.7383,  34.3190,2,   -999.0,9,  34.3204,2,     76.4,2,  -999.00,9,  -999.00,9,    37.97,2,     0.01,2,     2.65,2, -999.000,9, -999.000,9,  -999.00,9,   -999.0,9,   -999.0,9,-999.0000,9,   -999.0,  9,  -999.00,9,   -999.0,  -999.00,9,  -999.00,9,  -999.00,9,  -999.00,9,   -999.0,-999.0000, -999,9, 1000,   4.6565,  27.1741,   -999.0,9
       SH00-08,  NONE,SH-6028,  1,      6,1-133-93,2,20000818,1819, 31.4983, 135.2587, 3620,   1213.3,   4.2326,  34.3566,2,   -999.0,9,  34.3581,2,     69.5,2,  -999.00,9,  -999.00,9,    39.23,2,     0.01,2,     2.74,2, -999.000,9, -999.000,9,  -999.00,9,   -999.0,9,   -999.0,9,-999.0000,9,   -999.0,  9,  -999.00,9,   -999.0,  -999.00,9,  -999.00,9,  -999.00,9,  -999.00,9,   -999.0,-999.0000, -999,9, 1201,   4.1370,  27.2601,   -999.0,9
       SH00-08,  NONE,SH-6028,  1,      5,S-1-1-11,2,20000818,1814, 31.4983, 135.2587, 3620,   1516.7,   3.3124,  34.4406,2,   -999.0,9,  34.4408,2,     66.6,2,  -999.00,9,  -999.00,9,    40.59,2,     0.01,2,     2.82,2, -999.000,9, -999.000,9,  -999.00,9,   -999.0,9,   -999.0,9,-999.0000,9,   -999.0,  9,  -999.00,9,   -999.0,  -999.00,9,  -999.00,9,  -999.00,9,  -999.00,9,   -999.0,-999.0000, -999,9, 1501,   3.1999,  27.4201,   -999.0,9
       SH00-08,  NONE,SH-6029,  2,     -9,      -9,5,20000819,0122, 31.0060, 135.2675, 4280,      0.0,  27.5371,  34.2438,2,   -999.0,9,-999.0000,9,    202.3,2,  -999.00,9,  -999.00,9,     0.20,2,     0.01,2,     0.02,2, -999.000,9, -999.000,9,  -999.00,9,   -999.0,9,   -999.0,9,-999.0000,9,   -999.0,  9,  -999.00,9,   -999.0,  -999.00,9,  -999.00,9,     0.07,2,     0.04,2,   -999.0,-999.0000, -999,9,    0,  27.5371,  21.9762,   -999.0,9
       SH00-08,  NONE,SH-6029,  2,      7, S-1-1-4,2,20000819,0121, 31.0060, 135.2675, 4280,     11.8,  27.5240,  34.2462,2,   -999.0,9,  34.2485,2,    201.6,2,  -999.00,9,  -999.00,9,     0.10,2,     0.00,2,     0.00,2, -999.000,9, -999.000,9,  -999.00,9,   -999.0,9,   -999.0,9,-999.0000,9,   -999.0,  9,  -999.00,9,   -999.0,  -999.00,9,  -999.00,9,     0.09,2,     0.04,2,   -999.0,-999.0000, -999,9,   12,  27.5212,  21.9831,   -999.0,9
       SH00-08,  NONE,SH-6029,  2,      6,1-133-93,2,20000819,0120, 31.0060, 135.2675, 4280,     27.3,  27.5171,  34.2505,2,   -999.0,9,  34.2500,2,    237.7,4,  -999.00,9,  -999.00,9,     0.00,2,     0.00,2,     0.03,2, -999.000,9, -999.000,9,  -999.00,9,   -999.0,9,   -999.0,9,-999.0000,9,   -999.0,  9,  -999.00,9,   -999.0,  -999.00,9,  -999.00,9,     0.09,2,     0.04,2,   -999.0,-999.0000, -999,9,   27,  27.5107,  21.9897,   -999.0,9
       SH00-08,  NONE,SH-6029,  2,      5,S-1-1-11,2,20000819,0119, 31.0060, 135.2675, 4280,     51.5,  23.9617,  34.6083,2,   -999.0,9,  34.7621,4,    222.6,2,  -999.00,9,  -999.00,9,     0.39,2,     0.10,2,     0.10,2, -999.000,9, -999.000,9,  -999.00,9,   -999.0,9,   -999.0,9,-999.0000,9,   -999.0,  9,  -999.00,9,   -999.0,  -999.00,9,  -999.00,9,     0.41,2,     0.60,2,   -999.0,-999.0000, -999,9,   51,  23.9509,  23.3593,   -999.0,9
       SH00-08,  NONE,SH-6029,  2,      4,S-1-1-12,2,20000819,0117, 31.0060, 135.2675, 4280,     77.2,  21.5347,  34.7638,2,   -999.0,9,  34.6451,4,    215.5,2,  -999.00,9,  -999.00,9,     0.39,2,     0.10,2,     0.09,2, -999.000,9, -999.000,9,  -999.00,9,   -999.0,9,   -999.0,9,-999.0000,9,   -999.0,  9,  -999.00,9,   -999.0,  -999.00,9,  -999.00,9,     0.37,2,     0.57,2,   -999.0,-999.0000, -999,9,   77,  21.5197,  24.1718,   -999.0,9
       SH00-08,  NONE,SH-6029,  2,      3,1-133-84,2,20000819,0117, 31.0060, 135.2675, 4280,    101.2,  20.6642,  34.7798,2,   -999.0,9,  34.7790,2,    219.3,2,  -999.00,9,  -999.00,9,     0.29,2,     0.20,2,     0.07,2, -999.000,9, -999.000,9,  -999.00,9,   -999.0,9,   -999.0,9,-999.0000,9,   -999.0,  9,  -999.00,9,   -999.0,  -999.00,9,  -999.00,9,     0.17,2,     0.51,2,   -999.0,-999.0000, -999,9,  101,  20.6451,  24.4222,   -999.0,9
       SH00-08,  NONE,SH-6029,  2,      2, S-1-1-7,2,20000819,0116, 31.0060, 135.2675, 4280,    127.7,  19.8404,  34.7856,2,   -999.0,9,  34.7861,2,    216.0,2,  -999.00,9,  -999.00,9,     1.27,2,     0.05,2,     0.12,2, -999.000,9, -999.000,9,  -999.00,9,   -999.0,9,   -999.0,9,-999.0000,9,   -999.0,  9,  -999.00,9,   -999.0,  -999.00,9,  -999.00,9,     0.07,2,     0.24,2,   -999.0,-999.0000, -999,9,  127,  19.8170,  24.6463,   -999.0,9
       SH00-08,  NONE,SH-6029,  2,      1, 1-133-1,2,20000819,0115, 31.0060, 135.2675, 4280,    152.1,  19.5525,  34.7845,2,   -999.0,9,  34.7967,2,    214.2,2,  -999.00,9,  -999.00,9,     1.76,2,     0.03,2,     0.15,2, -999.000,9, -999.000,9,  -999.00,9,   -999.0,9,   -999.0,9,-999.0000,9,   -999.0,  9,  -999.00,9,   -999.0,  -999.00,9,  -999.00,9,     0.03,2,     0.08,2,   -999.0,-999.0000, -999,9,  151,  19.5249,  24.7215,   -999.0,9
       SH00-08,  NONE,SH-6029,  2,     12, 1-133-7,2,20000819,0113, 31.0060, 135.2675, 4280,    204.8,  19.1011,  34.8023,2,   -999.0,9,  34.8052,2,    214.2,2,  -999.00,9,  -999.00,9,     2.05,2,     0.02,2,     0.17,2, -999.000,9, -999.000,9,  -999.00,9,   -999.0,9,   -999.0,9,-999.0000,9,   -999.0,  9,  -999.00,9,   -999.0,  -999.00,9,  -999.00,9,     0.01,2,     0.02,2,   -999.0,-999.0000, -999,9,  203,  19.0644,  24.8536,   -999.0,9
       SH00-08,  NONE,SH-6029,  2,     11,S-1-1-10,2,20000819,0112, 31.0060, 135.2675, 4280,    253.9,  18.8662,  34.8081,2,   -999.0,9,  34.8081,2,    215.2,2,  -999.00,9,  -999.00,9,     2.15,2,     0.02,2,     0.18,2, -999.000,9, -999.000,9,  -999.00,9,   -999.0,9,   -999.0,9,-999.0000,9,   -999.0,  9,  -999.00,9,   -999.0,  -999.00,9,  -999.00,9,     0.00,2,     0.01,2,   -999.0,-999.0000, -999,9,  252,  18.8211,  24.9199,   -999.0,9
       SH00-08,  NONE,SH-6029,  2,     10,1-133-94,2,20000819,0110, 31.0060, 135.2675, 4280,    304.8,  18.7108,  34.8050,2,   -999.0,9,  34.8083,2,    216.3,2,  -999.00,9,  -999.00,9,     2.54,2,     0.01,2,     0.19,2, -999.000,9, -999.000,9,  -999.00,9,   -999.0,9,   -999.0,9,-999.0000,9,   -999.0,  9,  -999.00,9,   -999.0,  -999.00,9,  -999.00,9,     0.00,2,     0.01,2,   -999.0,-999.0000, -999,9,  302,  18.6570,  24.9591,   -999.0,9
       SH00-08,  NONE,SH-6029,  1,      9, S-1-1-5,2,20000819,0031, 31.0022, 135.2552, 4270,    404.3,  17.3097,  34.7757,2,   -999.0,9,-999.0000,9,    193.3,2,  -999.00,9,  -999.00,9,     6.53,2,     0.01,2,     0.45,2, -999.000,9, -999.000,9,  -999.00,9,   -999.0,9,   -999.0,9,-999.0000,9,   -999.0,  9,  -999.00,9,   -999.0,  -999.00,9,  -999.00,9,  -999.00,9,  -999.00,9,   -999.0,-999.0000, -999,9,  401,  17.2419,  25.2844,   -999.0,9
       SH00-08,  NONE,SH-6029,  1,      8,1-133-95,2,20000819,0027, 31.0022, 135.2552, 4270,    504.9,  15.3399,  34.6496,2,   -999.0,9,-999.0000,9,    193.9,2,  -999.00,9,  -999.00,9,    10.33,2,     0.00,2,     0.72,2, -999.000,9, -999.000,9,  -999.00,9,   -999.0,9,   -999.0,9,-999.0000,9,   -999.0,  9,  -999.00,9,   -999.0,  -999.00,9,  -999.00,9,  -999.00,9,  -999.00,9,   -999.0,-999.0000, -999,9,  501,  15.2618,  25.6441,   -999.0,9
       SH00-08,  NONE,SH-6029,  1,      7, S-1-1-4,2,20000819,0025, 31.0022, 135.2552, 4270,    604.9,  13.2200,  34.4998,2,   -999.0,9,-999.0000,9,    177.7,2,  -999.00,9,  -999.00,9,    14.43,2,     0.01,2,     0.99,2, -999.000,9, -999.000,9,  -999.00,9,   -999.0,9,   -999.0,9,-999.0000,9,   -999.0,  9,  -999.00,9,   -999.0,  -999.00,9,  -999.00,9,  -999.00,9,  -999.00,9,   -999.0,-999.0000, -999,9,  600,  13.1350,  25.9782,   -999.0,9
       SH00-08,  NONE,SH-6029,  1,      6,1-133-93,2,20000819,0022, 31.0022, 135.2552, 4270,    707.7,  10.3624,  34.3128,2,   -999.0,9,-999.0000,9,    157.3,2,  -999.00,9,  -999.00,9,    21.34,2,     0.00,2,     1.47,2, -999.000,9, -999.000,9,  -999.00,9,   -999.0,9,   -999.0,9,-999.0000,9,   -999.0,  9,  -999.00,9,   -999.0,  -999.00,9,  -999.00,9,  -999.00,9,  -999.00,9,   -999.0,-999.0000, -999,9,  702,  10.2770,  26.3679,   -999.0,9
       SH00-08,  NONE,SH-6029,  1,      5,S-1-1-11,2,20000819,0020, 31.0022, 135.2552, 4270,    806.4,   8.1364,  34.2451,2,   -999.0,9,-999.0000,9,    126.8,2,  -999.00,9,  -999.00,9,    28.05,2,     0.00,2,     1.96,2, -999.000,9, -999.000,9,  -999.00,9,   -999.0,9,   -999.0,9,-999.0000,9,   -999.0,  9,  -999.00,9,   -999.0,  -999.00,9,  -999.00,9,  -999.00,9,  -999.00,9,   -999.0,-999.0000, -999,9,  799,   8.0517,  26.6732,   -999.0,9
       SH00-08,  NONE,SH-6029,  1,      4,S-1-1-12,2,20000819,0015, 31.0022, 135.2552, 4270,    907.8,   6.4223,  34.2295,2,   -999.0,9,-999.0000,9,    103.8,2,  -999.00,9,  -999.00,9,    33.11,2,     0.00,2,     2.31,2, -999.000,9, -999.000,9,  -999.00,9,   -999.0,9,   -999.0,9,-999.0000,9,   -999.0,  9,  -999.00,9,   -999.0,  -999.00,9,  -999.00,9,  -999.00,9,  -999.00,9,   -999.0,-999.0000, -999,9,  900,   6.3380,  26.9004,   -999.0,9
       SH00-08,  NONE,SH-6029,  1,      3,1-133-84,2,20000819,0013, 31.0022, 135.2552, 4270,   1009.2,   5.5022,  34.2602,2,   -999.0,9,-999.0000,9,     87.8,2,  -999.00,9,  -999.00,9,    35.54,2,     0.00,2,     2.49,2, -999.000,9, -999.000,9,  -999.00,9,   -999.0,9,   -999.0,9,-999.0000,9,   -999.0,  9,  -999.00,9,   -999.0,  -999.00,9,  -999.00,9,  -999.00,9,  -999.00,9,   -999.0,-999.0000, -999,9, 1000,   5.4147,  27.0401,   -999.0,9
       SH00-08,  NONE,SH-6029,  1,      2, S-1-1-7,2,20000819,0006, 31.0022, 135.2552, 4270,   1214.0,   3.9325,  34.3674,2,   -999.0,9,-999.0000,9,     67.3,2,  -999.00,9,  -999.00,9,    39.42,2,     0.00,2,     2.76,2, -999.000,9, -999.000,9,  -999.00,9,   -999.0,9,   -999.0,9,-999.0000,9,   -999.0,  9,  -999.00,9,   -999.0,  -999.00,9,  -999.00,9,  -999.00,9,  -999.00,9,   -999.0,-999.0000, -999,9, 1202,   3.8396,  27.2993,   -999.0,9
       SH00-08,  NONE,SH-6029,  1,      1, 1-133-1,2,20000819,0002, 31.0022, 135.2552, 4270,   1517.1,   2.9885,  34.4719,2,   -999.0,9,-999.0000,9,     71.0,2,  -999.00,9,  -999.00,9,    40.58,2,     0.00,2,     2.84,2, -999.000,9, -999.000,9,  -999.00,9,   -999.0,9,   -999.0,9,-999.0000,9,   -999.0,  9,  -999.00,9,   -999.0,  -999.00,9,  -999.00,9,  -999.00,9,  -999.00,9,   -999.0,-999.0000, -999,9, 1501,   2.8797,  27.4744,   -999.0,9