BOTTLE,20130510GEMDJMAYT
EXPOCODE,SECT_ID,STNNBR,CASTNO,SAMPNO,BTLNBR,BTLNBR_FLAG_W,DATE,TIME,LATITUDE,LONGITUDE,DEPTH,CTDPRS,CTDTMP,CTDSAL,CTDSAL_FLAG_W,CTDOXY,CTDOXY_FLAG_W,SALNTY,SALNTY_FLAG_W,OXYGEN,OXYGEN_FLAG_W,SILCAT,SILCAT_FLAG_W,NITRAT,NITRAT_FLAG_W,NO2+NO3,NO2+NO3_FLAG_W,NITRIT,NITRIT_FLAG_W,PHSPHT,PHSPHT_FLAG_W,CFC-11,CFC-11_FLAG_W,CFC-12,CFC-12_FLAG_W,DELC13,DELC13_FLAG_W,TCARBN,TCARBN_FLAG_W,ALKALI,ALKALI_FLAG_W,PH,PH_FLAG_W,PH_TMP,PH_SCALE,PH_NBS,PH_NBS_FLAG_W,C13ERR,TOTALP,TOTALP_FLAG_W,AMMONI,AMMONI_FLAG_W,CHLORA,CHLORA_FLAG_W,PPHYTN,PPHYTN_FLAG_W,REVPRS,REVTMP,DEPTH_,DEPTH_FLAG,CTDDEP,THETA,SIGTHT,DOC,DOC_FLAG_W
,,,,,,,GMT,GMT,,,METER,DBAR,ITS-90,PSS-78,,UMOL/KG,,PSS-78,,UMOL/KG,,UMOL/KG,,UMOL/KG,,UMOL/KG,,UMOL/KG,,UMOL/KG,,PMOL/KG,,PMOL/KG,,/MILLE,,UMOL/KG,,UMOL/KG,,25_DEG_C,,DEG_C,,,,/MILLE,UMOL/KG,,UMOL/KG,,UG/L,,UG/L,,DBAR,ITS-90,METERS,,METERS,DEG_C,,UMOL/L,
       SH00-08,  NONE,SH-6037,  1,     11,S-1-1-10,2,20000821,0726, 29.9542, 132.9522, 3840,    403.4,  15.6007,  34.6715,2,   -999.0,9,-999.0000,9,    187.2,2,  -999.00,9,  -999.00,9,     9.56,2,     0.01,2,     0.61,2, -999.000,9, -999.000,9,  -999.00,9,   -999.0,9,   -999.0,9,-999.0000,9,   -999.0,  9,  -999.00,9,   -999.0,  -999.00,9,  -999.00,9,  -999.00,9,  -999.00,9,   -999.0,-999.0000, -999,9,  400,  15.5377,  25.5995,   -999.0,9
       SH00-08,  NONE,SH-6037,  1,     10,1-133-94,2,20000821,0724, 29.9542, 132.9522, 3840,    504.7,  13.1947,  34.5038,2,   -999.0,9,-999.0000,9,    177.3,2,  -999.00,9,  -999.00,9,    14.33,2,     0.01,2,     0.94,2, -999.000,9, -999.000,9,  -999.00,9,   -999.0,9,   -999.0,9,-999.0000,9,   -999.0,  9,  -999.00,9,   -999.0,  -999.00,9,  -999.00,9,  -999.00,9,  -999.00,9,   -999.0,-999.0000, -999,9,  501,  13.1241,  25.9835,   -999.0,9
       SH00-08,  NONE,SH-6037,  1,      9, S-1-1-5,2,20000821,0722, 29.9542, 132.9522, 3840,    604.9,  10.5691,  34.3284,2,   -999.0,9,-999.0000,9,    161.1,2,  -999.00,9,  -999.00,9,    20.27,2,     0.01,2,     1.37,2, -999.000,9, -999.000,9,  -999.00,9,   -999.0,9,   -999.0,9,-999.0000,9,   -999.0,  9,  -999.00,9,   -999.0,  -999.00,9,  -999.00,9,  -999.00,9,  -999.00,9,   -999.0,-999.0000, -999,9,  600,  10.4956,  26.3420,   -999.0,9
       SH00-08,  NONE,SH-6037,  1,      8,1-133-95,2,20000821,0720, 29.9542, 132.9522, 3840,    705.9,   7.9726,  34.2183,2,   -999.0,9,-999.0000,9,    132.8,2,  -999.00,9,  -999.00,9,    27.37,2,     0.01,2,     1.88,2, -999.000,9, -999.000,9,  -999.00,9,   -999.0,9,   -999.0,9,-999.0000,9,   -999.0,  9,  -999.00,9,   -999.0,  -999.00,9,  -999.00,9,  -999.00,9,  -999.00,9,   -999.0,-999.0000, -999,9,  700,   7.8998,  26.6747,   -999.0,9
       SH00-08,  NONE,SH-6037,  1,      7, S-1-1-4,2,20000821,0717, 29.9542, 132.9522, 3840,    807.0,   6.2514,  34.2128,2,   -999.0,9,-999.0000,9,    104.0,2,  -999.00,9,  -999.00,9,    32.52,2,     0.01,2,     2.26,2, -999.000,9, -999.000,9,  -999.00,9,   -999.0,9,   -999.0,9,-999.0000,9,   -999.0,  9,  -999.00,9,   -999.0,  -999.00,9,  -999.00,9,  -999.00,9,  -999.00,9,   -999.0,-999.0000, -999,9,  800,   6.1780,  26.9080,   -999.0,9
       SH00-08,  NONE,SH-6037,  1,      6,1-133-93,2,20000821,0715, 29.9542, 132.9522, 3840,    908.5,   5.0275,  34.2834,2,   -999.0,9,-999.0000,9,     80.5,2,  -999.00,9,  -999.00,9,    36.70,2,     0.01,2,     2.53,2, -999.000,9, -999.000,9,  -999.00,9,   -999.0,9,   -999.0,9,-999.0000,9,   -999.0,  9,  -999.00,9,   -999.0,  -999.00,9,  -999.00,9,  -999.00,9,  -999.00,9,   -999.0,-999.0000, -999,9,  900,   4.9526,  27.1125,   -999.0,9
       SH00-08,  NONE,SH-6037,  1,      5,S-1-1-11,2,20000821,0713, 29.9542, 132.9522, 3840,   1009.7,   4.2559,  34.3470,2,   -999.0,9,-999.0000,9,     68.9,2,  -999.00,9,  -999.00,9,    38.35,2,     0.01,2,     2.66,2, -999.000,9, -999.000,9,  -999.00,9,   -999.0,9,   -999.0,9,-999.0000,9,   -999.0,  9,  -999.00,9,   -999.0,  -999.00,9,  -999.00,9,  -999.00,9,  -999.00,9,   -999.0,-999.0000, -999,9, 1000,   4.1777,  27.2482,   -999.0,9
       SH00-08,  NONE,SH-6037,  1,      4,S-1-1-12,2,20000821,0710, 29.9542, 132.9522, 3840,   1212.8,   3.3536,  34.4320,2,   -999.0,9,-999.0000,9,     66.0,2,  -999.00,9,  -999.00,9,    40.10,2,     0.01,2,     2.77,2, -999.000,9, -999.000,9,  -999.00,9,   -999.0,9,   -999.0,9,-999.0000,9,   -999.0,  9,  -999.00,9,   -999.0,  -999.00,9,  -999.00,9,  -999.00,9,  -999.00,9,   -999.0,-999.0000, -999,9, 1201,   3.2661,  27.4069,   -999.0,9
       SH00-08,  NONE,SH-6037,  1,      3,1-133-84,2,20000821,0705, 29.9542, 132.9522, 3840,   1518.6,   2.6253,  34.5128,2,   -999.0,9,-999.0000,9,     75.3,2,  -999.00,9,  -999.00,9,    40.00,2,     0.01,2,     2.71,2, -999.000,9, -999.000,9,  -999.00,9,   -999.0,9,   -999.0,9,-999.0000,9,   -999.0,  9,  -999.00,9,   -999.0,  -999.00,9,  -999.00,9,  -999.00,9,  -999.00,9,   -999.0,-999.0000, -999,9, 1503,   2.5204,  27.5386,   -999.0,9
       SH00-08,  NONE,SH-6038,  2,     -9,      -9,5,20000821,1411, 30.3245, 132.5533, 4020,      0.0,  27.9237,  34.3604,2,   -999.0,9,-999.0000,9,    201.9,2,  -999.00,9,  -999.00,9,     0.29,2,     0.01,2,     0.00,2, -999.000,9, -999.000,9,  -999.00,9,   -999.0,9,   -999.0,9,-999.0000,9,   -999.0,  9,  -999.00,9,   -999.0,  -999.00,9,  -999.00,9,     0.03,2,     0.02,2,   -999.0,-999.0000, -999,9,    0,  27.9237,  21.9386,   -999.0,9
       SH00-08,  NONE,SH-6038,  2,      9, S-1-1-5,2,20000821,1410, 30.3245, 132.5533, 4020,     11.7,  27.7601,  34.4220,2,   -999.0,9,  34.4233,2,    201.9,2,  -999.00,9,  -999.00,9,     0.20,2,     0.00,2,     0.00,2, -999.000,9, -999.000,9,  -999.00,9,   -999.0,9,   -999.0,9,-999.0000,9,   -999.0,  9,  -999.00,9,   -999.0,  -999.00,9,  -999.00,9,     0.04,2,     0.02,2,   -999.0,-999.0000, -999,9,   12,  27.7574,  22.0390,   -999.0,9
       SH00-08,  NONE,SH-6038,  2,      8,1-133-95,2,20000821,1409, 30.3245, 132.5533, 4020,     26.5,  27.2786,  34.4032,2,   -999.0,9,  34.4033,2,    204.3,2,  -999.00,9,  -999.00,9,     0.00,2,     0.00,2,     0.00,2, -999.000,9, -999.000,9,  -999.00,9,   -999.0,9,   -999.0,9,-999.0000,9,   -999.0,  9,  -999.00,9,   -999.0,  -999.00,9,  -999.00,9,     0.04,2,     0.02,2,   -999.0,-999.0000, -999,9,   26,  27.2725,  22.1812,   -999.0,9
       SH00-08,  NONE,SH-6038,  2,      7, S-1-1-4,2,20000821,1408, 30.3245, 132.5533, 4020,     51.9,  25.7851,  34.3574,2,   -999.0,9,  34.3756,2,    210.2,2,  -999.00,9,  -999.00,9,     0.20,2,     0.00,2,     0.00,2, -999.000,9, -999.000,9,  -999.00,9,   -999.0,9,   -999.0,9,-999.0000,9,   -999.0,  9,  -999.00,9,   -999.0,  -999.00,9,  -999.00,9,     0.05,2,     0.03,2,   -999.0,-999.0000, -999,9,   52,  25.7736,  22.6188,   -999.0,9
       SH00-08,  NONE,SH-6038,  2,      6,1-133-93,2,20000821,1407, 30.3245, 132.5533, 4020,     76.4,  22.5157,  34.7472,2,   -999.0,9,  34.7497,2,    225.4,2,  -999.00,9,  -999.00,9,     0.20,2,     0.01,2,     0.01,2, -999.000,9, -999.000,9,  -999.00,9,   -999.0,9,   -999.0,9,-999.0000,9,   -999.0,  9,  -999.00,9,   -999.0,  -999.00,9,  -999.00,9,     0.15,2,     0.12,2,   -999.0,-999.0000, -999,9,   76,  22.5004,  23.8847,   -999.0,9
       SH00-08,  NONE,SH-6038,  2,      5,S-1-1-11,2,20000821,1406, 30.3245, 132.5533, 4020,    102.3,  20.9743,  34.7957,2,   -999.0,9,  34.7961,2,    219.7,2,  -999.00,9,  -999.00,9,     0.39,2,     0.07,2,     0.04,2, -999.000,9, -999.000,9,  -999.00,9,   -999.0,9,   -999.0,9,-999.0000,9,   -999.0,  9,  -999.00,9,   -999.0,  -999.00,9,  -999.00,9,     0.32,2,     0.64,2,   -999.0,-999.0000, -999,9,  102,  20.9548,  24.3506,   -999.0,9
       SH00-08,  NONE,SH-6038,  2,      4,S-1-1-12,2,20000821,1406, 30.3245, 132.5533, 4020,    126.6,  20.1337,  34.8069,2,   -999.0,9,  34.8042,2,    213.5,2,  -999.00,9,  -999.00,9,     1.27,2,     0.12,2,     0.10,2, -999.000,9, -999.000,9,  -999.00,9,   -999.0,9,   -999.0,9,-999.0000,9,   -999.0,  9,  -999.00,9,   -999.0,  -999.00,9,  -999.00,9,     0.11,2,     0.36,2,   -999.0,-999.0000, -999,9,  126,  20.1102,  24.5854,   -999.0,9
       SH00-08,  NONE,SH-6038,  2,      3,1-133-84,2,20000821,1405, 30.3245, 132.5533, 4020,    153.2,  19.5373,  34.8065,2,   -999.0,9,  34.8054,2,    209.4,2,  -999.00,9,  -999.00,9,     2.05,2,     0.04,2,     0.16,2, -999.000,9, -999.000,9,  -999.00,9,   -999.0,9,   -999.0,9,-999.0000,9,   -999.0,  9,  -999.00,9,   -999.0,  -999.00,9,  -999.00,9,     0.07,2,     0.25,2,   -999.0,-999.0000, -999,9,  152,  19.5095,  24.7423,   -999.0,9
       SH00-08,  NONE,SH-6038,  2,      2, S-1-1-7,2,20000821,1404, 30.3245, 132.5533, 4020,    202.3,  18.8389,  34.8069,2,   -999.0,9,  34.7837,2,    209.8,2,  -999.00,9,  -999.00,9,     2.83,2,     0.02,2,     0.20,2, -999.000,9, -999.000,9,  -999.00,9,   -999.0,9,   -999.0,9,-999.0000,9,   -999.0,  9,  -999.00,9,   -999.0,  -999.00,9,  -999.00,9,     0.01,2,     0.04,2,   -999.0,-999.0000, -999,9,  201,  18.8030,  24.9236,   -999.0,9
       SH00-08,  NONE,SH-6038,  2,      1, 1-133-1,2,20000821,1359, 30.3245, 132.5533, 4020,    253.1,  18.1333,  34.7976,2,   -999.0,9,  34.7967,2,    197.8,2,  -999.00,9,  -999.00,9,     4.68,2,     0.02,2,     0.33,2, -999.000,9, -999.000,9,  -999.00,9,   -999.0,9,   -999.0,9,-999.0000,9,   -999.0,  9,  -999.00,9,   -999.0,  -999.00,9,  -999.00,9,     0.00,2,     0.01,2,   -999.0,-999.0000, -999,9,  251,  18.0896,  25.0949,   -999.0,9
       SH00-08,  NONE,SH-6038,  2,     12, 1-133-7,2,20000821,1357, 30.3245, 132.5533, 4020,    302.9,  17.1447,  34.7536,2,   -999.0,9,  34.6814,4,    193.7,2,  -999.00,9,  -999.00,9,     6.53,2,     0.02,2,     0.43,2, -999.000,9, -999.000,9,  -999.00,9,   -999.0,9,   -999.0,9,-999.0000,9,   -999.0,  9,  -999.00,9,   -999.0,  -999.00,9,  -999.00,9,     0.00,2,     0.01,2,   -999.0,-999.0000, -999,9,  301,  17.0944,  25.3027,   -999.0,9
       SH00-08,  NONE,SH-6038,  2,     11,S-1-1-10,2,20000821,1356, 30.3245, 132.5533, 4020,    403.7,  15.1922,  34.6389,2,   -999.0,9,  34.6489,2,    186.7,2,  -999.00,9,  -999.00,9,    10.04,2,     0.01,2,     0.66,2, -999.000,9, -999.000,9,  -999.00,9,   -999.0,9,   -999.0,9,-999.0000,9,   -999.0,  9,  -999.00,9,   -999.0,  -999.00,9,  -999.00,9,  -999.00,9,  -999.00,9,   -999.0,-999.0000, -999,9,  401,  15.1303,  25.6649,   -999.0,9
       SH00-08,  NONE,SH-6038,  2,     10,1-133-94,2,20000821,1354, 30.3245, 132.5533, 4020,    507.2,  12.5273,  34.4550,2,   -999.0,9,  34.4575,2,    172.0,2,  -999.00,9,  -999.00,9,    16.28,2,     0.01,2,     1.09,2, -999.000,9, -999.000,9,  -999.00,9,   -999.0,9,   -999.0,9,-999.0000,9,   -999.0,  9,  -999.00,9,   -999.0,  -999.00,9,  -999.00,9,  -999.00,9,  -999.00,9,   -999.0,-999.0000, -999,9,  503,  12.4588,  26.0774,   -999.0,9
       SH00-08,  NONE,SH-6038,  1,      9, S-1-1-5,2,20000821,1320, 30.2970, 132.5540, 3910,    605.1,  10.0443,  34.3650,2,   -999.0,9,  34.3614,2,    140.5,2,  -999.00,9,  -999.00,9,    23.19,2,     0.01,2,     1.58,2, -999.000,9, -999.000,9,  -999.00,9,   -999.0,9,   -999.0,9,-999.0000,9,   -999.0,  9,  -999.00,9,   -999.0,  -999.00,9,  -999.00,9,  -999.00,9,  -999.00,9,   -999.0,-999.0000, -999,9,  600,   9.9730,  26.4607,   -999.0,9
       SH00-08,  NONE,SH-6038,  1,      8,1-133-95,2,20000821,1317, 30.2970, 132.5540, 3910,    706.0,   7.2812,  34.2270,2,   -999.0,9,  34.2243,2,    117.8,2,  -999.00,9,  -999.00,9,    29.80,2,     0.01,2,     2.05,2, -999.000,9, -999.000,9,  -999.00,9,   -999.0,9,   -999.0,9,-999.0000,9,   -999.0,  9,  -999.00,9,   -999.0,  -999.00,9,  -999.00,9,  -999.00,9,  -999.00,9,   -999.0,-999.0000, -999,9,  700,   7.2120,  26.7804,   -999.0,9
       SH00-08,  NONE,SH-6038,  1,      7, S-1-1-4,2,20000821,1315, 30.2970, 132.5540, 3910,    806.6,   5.5294,  34.2411,2,   -999.0,9,  34.1793,4,     88.7,2,  -999.00,9,  -999.00,9,    35.05,2,     0.01,2,     2.43,2, -999.000,9, -999.000,9,  -999.00,9,   -999.0,9,   -999.0,9,-999.0000,9,   -999.0,  9,  -999.00,9,   -999.0,  -999.00,9,  -999.00,9,  -999.00,9,  -999.00,9,   -999.0,-999.0000, -999,9,  800,   5.4605,  27.0195,   -999.0,9
       SH00-08,  NONE,SH-6038,  1,      6,1-133-93,2,20000821,1313, 30.2970, 132.5540, 3910,    907.7,   4.7251,  34.3115,2,   -999.0,9,  34.3152,2,     74.0,2,  -999.00,9,  -999.00,9,    37.38,2,     0.01,2,     2.62,2, -999.000,9, -999.000,9,  -999.00,9,   -999.0,9,   -999.0,9,-999.0000,9,   -999.0,  9,  -999.00,9,   -999.0,  -999.00,9,  -999.00,9,  -999.00,9,  -999.00,9,   -999.0,-999.0000, -999,9,  900,   4.6523,  27.1686,   -999.0,9
       SH00-08,  NONE,SH-6038,  1,      5,S-1-1-11,2,20000821,1311, 30.2970, 132.5540, 3910,   1008.2,   3.9585,  34.3755,2,   -999.0,9,  34.3728,2,     67.7,2,  -999.00,9,  -999.00,9,    38.74,2,     0.01,2,     2.71,2, -999.000,9, -999.000,9,  -999.00,9,   -999.0,9,   -999.0,9,-999.0000,9,   -999.0,  9,  -999.00,9,   -999.0,  -999.00,9,  -999.00,9,  -999.00,9,  -999.00,9,   -999.0,-999.0000, -999,9,  999,   3.8827,  27.3014,   -999.0,9
       SH00-08,  NONE,SH-6038,  1,      4,S-1-1-12,2,20000821,1308, 30.2970, 132.5540, 3910,   1211.4,   3.1641,  34.4461,2,   -999.0,9,  34.4457,2,     64.6,2,  -999.00,9,  -999.00,9,    40.20,2,     0.01,2,     2.78,2, -999.000,9, -999.000,9,  -999.00,9,   -999.0,9,   -999.0,9,-999.0000,9,   -999.0,  9,  -999.00,9,   -999.0,  -999.00,9,  -999.00,9,  -999.00,9,  -999.00,9,   -999.0,-999.0000, -999,9, 1200,   3.0784,  27.4357,   -999.0,9
       SH00-08,  NONE,SH-6038,  1,      3,1-133-84,2,20000821,1304, 30.2970, 132.5540, 3910,   1514.3,   2.5721,  34.5250,2,   -999.0,9,  34.5242,2,     77.6,2,  -999.00,9,  -999.00,9,    40.00,2,     0.01,2,     2.71,2, -999.000,9, -999.000,9,  -999.00,9,   -999.0,9,   -999.0,9,-999.0000,9,   -999.0,  9,  -999.00,9,   -999.0,  -999.00,9,  -999.00,9,  -999.00,9,  -999.00,9,   -999.0,-999.0000, -999,9, 1498,   2.4682,  27.5528,   -999.0,9
       SH00-08,  NONE,SH-6038,  1,      2, S-1-1-7,2,20000821,1258, 30.2970, 132.5540, 3910,   2022.5,   1.9893,  34.6115,2,   -999.0,9,  34.5979,2,   -999.0,9,  -999.00,9,  -999.00,9,  -999.00,9,  -999.00,9,  -999.00,9, -999.000,9, -999.000,9,  -999.00,9,   -999.0,9,   -999.0,9,-999.0000,9,   -999.0,  9,  -999.00,9,   -999.0,  -999.00,9,  -999.00,9,  -999.00,9,  -999.00,9,   -999.0,-999.0000, -999,9, 1999,   1.8512,  27.6721,   -999.0,9
       SH00-08,  NONE,SH-6038,  1,      1, 1-133-1,2,20000821,1251, 30.2970, 132.5540, 3910,   2530.3,   1.7244,  34.6540,2,   -999.0,9,  34.6503,2,   -999.0,9,  -999.00,9,  -999.00,9,  -999.00,9,  -999.00,9,  -999.00,9, -999.000,9, -999.000,9,  -999.00,9,   -999.0,9,   -999.0,9,-999.0000,9,   -999.0,  9,  -999.00,9,   -999.0,  -999.00,9,  -999.00,9,  -999.00,9,  -999.00,9,   -999.0,-999.0000, -999,9, 2498,   1.5465,  27.7291,   -999.0,9
       SH00-08,  NONE,SH-6038,  1,     12, 1-133-7,2,20000821,1245, 30.2970, 132.5540, 3910,   3042.6,   1.5696,  34.6776,2,   -999.0,9,  34.6703,2,   -999.0,9,  -999.00,9,  -999.00,9,  -999.00,9,  -999.00,9,  -999.00,9, -999.000,9, -999.000,9,  -999.00,9,   -999.0,9,   -999.0,9,-999.0000,9,   -999.0,  9,  -999.00,9,   -999.0,  -999.00,9,  -999.00,9,  -999.00,9,  -999.00,9,   -999.0,-999.0000, -999,9, 3000,   1.3472,  27.7625,   -999.0,9
       SH00-08,  NONE,SH-6038,  1,     11,S-1-1-10,2,20000821,1238, 30.2970, 132.5540, 3910,   3553.3,   1.5270,  34.6897,2,   -999.0,9,  34.6794,2,   -999.0,9,  -999.00,9,  -999.00,9,  -999.00,9,  -999.00,9,  -999.00,9, -999.000,9, -999.000,9,  -999.00,9,   -999.0,9,   -999.0,9,-999.0000,9,   -999.0,  9,  -999.00,9,   -999.0,  -999.00,9,  -999.00,9,  -999.00,9,  -999.00,9,   -999.0,-999.0000, -999,9, 3500,   1.2547,  27.7786,   -999.0,9
       SH00-08,  NONE,SH-6038,  1,     10,1-133-94,2,20000821,1235, 30.2970, 132.5540, 3910,   3759.6,   1.5344,  34.6915,2,   -999.0,9,  34.6780,2,   -999.0,9,  -999.00,9,  -999.00,9,  -999.00,9,  -999.00,9,  -999.00,9, -999.000,9, -999.000,9,  -999.00,9,   -999.0,9,   -999.0,9,-999.0000,9,   -999.0,  9,  -999.00,9,   -999.0,  -999.00,9,  -999.00,9,  -999.00,9,  -999.00,9,   -999.0,-999.0000, -999,9, 3701,   1.2403,  27.7811,   -999.0,9