BOTTLE,20130510GEMDJMAYT
EXPOCODE,SECT_ID,STNNBR,CASTNO,SAMPNO,BTLNBR,BTLNBR_FLAG_W,DATE,TIME,LATITUDE,LONGITUDE,DEPTH,CTDPRS,CTDTMP,CTDSAL,CTDSAL_FLAG_W,CTDOXY,CTDOXY_FLAG_W,SALNTY,SALNTY_FLAG_W,OXYGEN,OXYGEN_FLAG_W,SILCAT,SILCAT_FLAG_W,NITRAT,NITRAT_FLAG_W,NO2+NO3,NO2+NO3_FLAG_W,NITRIT,NITRIT_FLAG_W,PHSPHT,PHSPHT_FLAG_W,CFC-11,CFC-11_FLAG_W,CFC-12,CFC-12_FLAG_W,DELC13,DELC13_FLAG_W,TCARBN,TCARBN_FLAG_W,ALKALI,ALKALI_FLAG_W,PH,PH_FLAG_W,PH_TMP,PH_SCALE,PH_NBS,PH_NBS_FLAG_W,C13ERR,TOTALP,TOTALP_FLAG_W,AMMONI,AMMONI_FLAG_W,CHLORA,CHLORA_FLAG_W,PPHYTN,PPHYTN_FLAG_W,REVPRS,REVTMP,DEPTH_,DEPTH_FLAG,CTDDEP,THETA,SIGTHT,DOC,DOC_FLAG_W
,,,,,,,GMT,GMT,,,METER,DBAR,ITS-90,PSS-78,,UMOL/KG,,PSS-78,,UMOL/KG,,UMOL/KG,,UMOL/KG,,UMOL/KG,,UMOL/KG,,UMOL/KG,,PMOL/KG,,PMOL/KG,,/MILLE,,UMOL/KG,,UMOL/KG,,25_DEG_C,,DEG_C,,,,/MILLE,UMOL/KG,,UMOL/KG,,UG/L,,UG/L,,DBAR,ITS-90,METERS,,METERS,DEG_C,,UMOL/L,
       SH00-08,  NONE,SH-6039,  2,     -9,      -9,5,20000821,1923, 30.6608, 132.1520, 2410,      0.0,  27.6311,  34.1348,2,   -999.0,9,-999.0000,9,    201.9,2,  -999.00,9,  -999.00,9,     0.00,2,     0.01,2,     0.00,2, -999.000,9, -999.000,9,  -999.00,9,   -999.0,9,   -999.0,9,-999.0000,9,   -999.0,  9,     8.25,2,   -999.0,  -999.00,9,  -999.00,9,     0.04,2,     0.02,2,   -999.0,-999.0000, -999,9,    0,  27.6311,  21.8638,   -999.0,9
       SH00-08,  NONE,SH-6039,  2,      6,1-133-93,2,20000821,1922, 30.6608, 132.1520, 2410,     11.6,  27.6445,  34.1444,2,   -999.0,9,-999.0000,9,    202.9,2,  -999.00,9,  -999.00,9,     0.00,2,     0.00,2,     0.00,2, -999.000,9, -999.000,9,  -999.00,9,   -999.0,9,   -999.0,9,-999.0000,9,   -999.0,  9,     8.23,2,   -999.0,  -999.00,9,  -999.00,9,     0.06,2,     0.03,2,   -999.0,-999.0000, -999,9,   11,  27.6419,  21.8676,   -999.0,9
       SH00-08,  NONE,SH-6039,  2,      5,S-1-1-11,2,20000821,1921, 30.6608, 132.1520, 2410,     26.7,  27.2311,  34.2234,2,   -999.0,9,-999.0000,9,    203.2,2,  -999.00,9,  -999.00,9,     0.10,2,     0.00,2,     0.00,2, -999.000,9, -999.000,9,  -999.00,9,   -999.0,9,   -999.0,9,-999.0000,9,   -999.0,  9,     8.25,2,   -999.0,  -999.00,9,  -999.00,9,     0.00,2,     0.00,2,   -999.0,-999.0000, -999,9,   27,  27.2249,  22.0611,   -999.0,9
       SH00-08,  NONE,SH-6039,  2,      4,S-1-1-12,4,20000821,1919, 30.6608, 132.1520, 2410,     51.7,  25.8640,  34.4925,2,   -999.0,9,-999.0000,9,    205.8,2,  -999.00,9,  -999.00,9,     0.10,2,     0.00,2,     0.02,2, -999.000,9, -999.000,9,  -999.00,9,   -999.0,9,   -999.0,9,-999.0000,9,   -999.0,  9,     8.23,2,   -999.0,  -999.00,9,  -999.00,9,     0.07,2,     0.05,2,   -999.0,-999.0000, -999,9,   51,  25.8525,  22.6963,   -999.0,9
       SH00-08,  NONE,SH-6039,  2,      3,1-133-84,2,20000821,1919, 30.6608, 132.1520, 2410,     51.7,  25.8640,  34.4925,2,   -999.0,9,-999.0000,9,    205.5,2,  -999.00,9,  -999.00,9,     0.10,2,     0.00,2,     0.02,2, -999.000,9, -999.000,9,  -999.00,9,   -999.0,9,   -999.0,9,-999.0000,9,   -999.0,  9,     8.23,2,   -999.0,  -999.00,9,  -999.00,9,     0.09,2,     0.05,2,   -999.0,-999.0000, -999,9,   51,  25.8525,  22.6963,   -999.0,9
       SH00-08,  NONE,SH-6039,  2,      2, S-1-1-7,2,20000821,1918, 30.6608, 132.1520, 2410,     76.9,  23.3433,  34.5934,2,   -999.0,9,-999.0000,9,    215.2,2,  -999.00,9,  -999.00,9,     0.10,2,     0.00,2,     0.02,2, -999.000,9, -999.000,9,  -999.00,9,   -999.0,9,   -999.0,9,-999.0000,9,   -999.0,  9,     8.22,2,   -999.0,  -999.00,9,  -999.00,9,     0.18,2,     0.18,2,   -999.0,-999.0000, -999,9,   76,  23.3275,  23.5306,   -999.0,9
       SH00-08,  NONE,SH-6039,  2,      1, 1-133-1,2,20000821,1917, 30.6608, 132.1520, 2410,    102.9,  21.4581,  34.7693,2,   -999.0,9,-999.0000,9,    206.4,2,  -999.00,9,  -999.00,9,     1.37,2,     0.21,2,     0.11,2, -999.000,9, -999.000,9,  -999.00,9,   -999.0,9,   -999.0,9,-999.0000,9,   -999.0,  9,     8.19,2,   -999.0,  -999.00,9,  -999.00,9,     0.10,2,     0.31,2,   -999.0,-999.0000, -999,9,  102,  21.4381,  24.1985,   -999.0,9
       SH00-08,  NONE,SH-6039,  2,     12, 1-133-7,2,20000821,1916, 30.6608, 132.1520, 2410,    127.9,  20.8760,  34.7913,2,   -999.0,9,-999.0000,9,    202.3,2,  -999.00,9,  -999.00,9,     1.95,2,     0.05,2,     0.17,2, -999.000,9, -999.000,9,  -999.00,9,   -999.0,9,   -999.0,9,-999.0000,9,   -999.0,  9,     8.18,2,   -999.0,  -999.00,9,  -999.00,9,     0.05,2,     0.14,2,   -999.0,-999.0000, -999,9,  127,  20.8517,  24.3753,   -999.0,9
       SH00-08,  NONE,SH-6039,  2,     11,S-1-1-10,2,20000821,1915, 30.6608, 132.1520, 2410,    152.6,  20.3390,  34.8036,2,   -999.0,9,-999.0000,9,    192.2,2,  -999.00,9,  -999.00,9,     3.22,2,     0.02,2,     0.24,2, -999.000,9, -999.000,9,  -999.00,9,   -999.0,9,   -999.0,9,-999.0000,9,   -999.0,  9,     8.15,2,   -999.0,  -999.00,9,  -999.00,9,     0.01,2,     0.03,2,   -999.0,-999.0000, -999,9,  152,  20.3105,  24.5298,   -999.0,9
       SH00-08,  NONE,SH-6039,  2,     10,1-133-94,2,20000821,1914, 30.6608, 132.1520, 2410,    201.7,  18.8250,  34.8052,2,   -999.0,9,-999.0000,9,    190.3,2,  -999.00,9,  -999.00,9,     4.78,2,     0.01,2,     0.35,2, -999.000,9, -999.000,9,  -999.00,9,   -999.0,9,   -999.0,9,-999.0000,9,   -999.0,  9,     8.12,2,   -999.0,  -999.00,9,  -999.00,9,     0.00,2,     0.02,2,   -999.0,-999.0000, -999,9,  200,  18.7893,  24.9258,   -999.0,9
       SH00-08,  NONE,SH-6039,  2,      9, S-1-1-5,2,20000821,1913, 30.6608, 132.1520, 2410,    253.7,  17.8722,  34.7674,2,   -999.0,9,-999.0000,9,    187.0,2,  -999.00,9,  -999.00,9,     6.24,2,     0.01,2,     0.46,2, -999.000,9, -999.000,9,  -999.00,9,   -999.0,9,   -999.0,9,-999.0000,9,   -999.0,  9,     8.09,2,   -999.0,  -999.00,9,  -999.00,9,     0.00,2,     0.00,2,   -999.0,-999.0000, -999,9,  252,  17.8288,  25.1359,   -999.0,9
       SH00-08,  NONE,SH-6039,  2,      8,1-133-95,2,20000821,1911, 30.6608, 132.1520, 2410,    304.6,  17.1092,  34.7251,2,   -999.0,9,-999.0000,9,    184.1,2,  -999.00,9,  -999.00,9,     7.71,2,     0.01,2,     0.54,2, -999.000,9, -999.000,9,  -999.00,9,   -999.0,9,   -999.0,9,-999.0000,9,   -999.0,  9,     8.07,2,   -999.0,  -999.00,9,  -999.00,9,     0.00,2,     0.01,2,   -999.0,-999.0000, -999,9,  302,  17.0587,  25.2893,   -999.0,9
       SH00-08,  NONE,SH-6039,  1,      6,1-133-93,2,20000821,1842, 30.6380, 132.1513, 2420,    403.4,  14.6286,  34.5988,2,   -999.0,9,-999.0000,9,    174.5,2,  -999.00,9,  -999.00,9,    12.19,2,     0.01,2,     0.84,2, -999.000,9, -999.000,9,  -999.00,9,   -999.0,9,   -999.0,9,-999.0000,9,   -999.0,  9,     8.00,2,   -999.0,  -999.00,9,  -999.00,9,  -999.00,9,  -999.00,9,   -999.0,-999.0000, -999,9,  400,  14.5684,  25.7563,   -999.0,9
       SH00-08,  NONE,SH-6039,  1,      5,S-1-1-11,2,20000821,1839, 30.6380, 132.1513, 2420,    503.5,  11.7048,  34.3788,2,   -999.0,9,-999.0000,9,    170.3,2,  -999.00,9,  -999.00,9,    17.15,2,     0.01,2,     1.19,2, -999.000,9, -999.000,9,  -999.00,9,   -999.0,9,   -999.0,9,-999.0000,9,   -999.0,  9,     7.91,2,   -999.0,  -999.00,9,  -999.00,9,  -999.00,9,  -999.00,9,   -999.0,-999.0000, -999,9,  499,  11.6398,  26.1744,   -999.0,9
       SH00-08,  NONE,SH-6039,  1,      4,S-1-1-12,2,20000821,1835, 30.6380, 132.1513, 2420,    604.8,   8.7358,  34.3522,2,   -999.0,9,-999.0000,9,    122.6,2,  -999.00,9,  -999.00,9,    26.79,2,     0.01,2,     1.87,2, -999.000,9, -999.000,9,  -999.00,9,   -999.0,9,   -999.0,9,-999.0000,9,   -999.0,  9,     7.77,2,   -999.0,  -999.00,9,  -999.00,9,  -999.00,9,  -999.00,9,   -999.0,-999.0000, -999,9,  600,   8.6703,  26.6629,   -999.0,9
       SH00-08,  NONE,SH-6039,  1,      3,1-133-84,2,20000821,1832, 30.6380, 132.1513, 2420,    705.6,   5.7935,  34.2345,2,   -999.0,9,-999.0000,9,     91.6,2,  -999.00,9,  -999.00,9,    34.28,2,     0.01,2,     2.40,2, -999.000,9, -999.000,9,  -999.00,9,   -999.0,9,   -999.0,9,-999.0000,9,   -999.0,  9,     7.63,2,   -999.0,  -999.00,9,  -999.00,9,  -999.00,9,  -999.00,9,   -999.0,-999.0000, -999,9,  700,   5.7323,  26.9811,   -999.0,9
       SH00-08,  NONE,SH-6039,  1,      2, S-1-1-7,2,20000821,1829, 30.6380, 132.1513, 2420,    805.8,   4.7632,  34.3237,2,   -999.0,9,-999.0000,9,     78.3,2,  -999.00,9,  -999.00,9,    36.70,2,     0.01,2,     2.58,2, -999.000,9, -999.000,9,  -999.00,9,   -999.0,9,   -999.0,9,-999.0000,9,   -999.0,  9,     7.60,2,   -999.0,  -999.00,9,  -999.00,9,  -999.00,9,  -999.00,9,   -999.0,-999.0000, -999,9,  799,   4.6989,  27.1731,   -999.0,9
       SH00-08,  NONE,SH-6039,  1,      1, 1-133-1,2,20000821,1827, 30.6380, 132.1513, 2420,    907.7,   3.9260,  34.3786,2,   -999.0,9,-999.0000,9,     67.0,2,  -999.00,9,  -999.00,9,    39.03,2,     0.01,2,     2.75,2, -999.000,9, -999.000,9,  -999.00,9,   -999.0,9,   -999.0,9,-999.0000,9,   -999.0,  9,     7.57,2,   -999.0,  -999.00,9,  -999.00,9,  -999.00,9,  -999.00,9,   -999.0,-999.0000, -999,9,  900,   3.8587,  27.3063,   -999.0,9
       SH00-08,  NONE,SH-6039,  1,     12, 1-133-7,2,20000821,1825, 30.6380, 132.1513, 2420,   1008.2,   3.5187,  34.4078,2,   -999.0,9,-999.0000,9,     63.2,2,  -999.00,9,  -999.00,9,    39.81,2,     0.01,2,     2.80,2, -999.000,9, -999.000,9,  -999.00,9,   -999.0,9,   -999.0,9,-999.0000,9,   -999.0,  9,     7.55,2,   -999.0,  -999.00,9,  -999.00,9,  -999.00,9,  -999.00,9,   -999.0,-999.0000, -999,9,  999,   3.4463,  27.3704,   -999.0,9
       SH00-08,  NONE,SH-6039,  1,     11,S-1-1-10,2,20000821,1821, 30.6380, 132.1513, 2420,   1210.6,   2.9516,  34.4695,2,   -999.0,9,-999.0000,9,     66.9,2,  -999.00,9,  -999.00,9,    40.10,2,     0.01,2,     2.77,2, -999.000,9, -999.000,9,  -999.00,9,   -999.0,9,   -999.0,9,-999.0000,9,   -999.0,  9,     7.55,2,   -999.0,  -999.00,9,  -999.00,9,  -999.00,9,  -999.00,9,   -999.0,-999.0000, -999,9, 1199,   2.8679,  27.4736,   -999.0,9
       SH00-08,  NONE,SH-6039,  1,     10,1-133-94,2,20000821,1816, 30.6380, 132.1513, 2420,   1515.1,   2.4529,  34.5429,2,   -999.0,9,-999.0000,9,     92.1,2,  -999.00,9,  -999.00,9,    39.22,2,     0.01,2,     2.69,2, -999.000,9, -999.000,9,  -999.00,9,   -999.0,9,   -999.0,9,-999.0000,9,   -999.0,  9,     7.59,2,   -999.0,  -999.00,9,  -999.00,9,  -999.00,9,  -999.00,9,   -999.0,-999.0000, -999,9, 1499,   2.3503,  27.5770,   -999.0,9
       SH00-08,  NONE,SH-6040,  2,     -9,      -9,5,20000822,0027, 31.0443, 131.7302, 1400,      0.0,  28.1094,  34.1913,2,   -999.0,9,-999.0000,9,    201.5,2,  -999.00,9,  -999.00,9,     0.00,2,     0.00,2,     0.01,2, -999.000,9, -999.000,9,  -999.00,9,   -999.0,9,   -999.0,9,-999.0000,9,   -999.0,  9,  -999.00,9,   -999.0,  -999.00,9,  -999.00,9,     0.06,2,     0.03,2,   -999.0,-999.0000, -999,9,    0,  28.1094,  21.7509,   -999.0,9
       SH00-08,  NONE,SH-6040,  2,      2, S-1-1-7,2,20000822,0026, 31.0443, 131.7302, 1400,     12.4,  28.0490,  34.1897,2,   -999.0,9,-999.0000,9,    201.6,2,  -999.00,9,  -999.00,9,     0.00,2,     0.00,2,     0.01,2, -999.000,9, -999.000,9,  -999.00,9,   -999.0,9,   -999.0,9,-999.0000,9,   -999.0,  9,  -999.00,9,   -999.0,  -999.00,9,  -999.00,9,     0.09,2,     0.03,2,   -999.0,-999.0000, -999,9,   12,  28.0461,  21.7704,   -999.0,9
       SH00-08,  NONE,SH-6040,  2,      1, 1-133-1,2,20000822,0025, 31.0443, 131.7302, 1400,     27.2,  27.5600,  34.1937,2,   -999.0,9,-999.0000,9,    201.3,2,  -999.00,9,  -999.00,9,     0.00,2,     0.00,2,     0.01,2, -999.000,9, -999.000,9,  -999.00,9,   -999.0,9,   -999.0,9,-999.0000,9,   -999.0,  9,  -999.00,9,   -999.0,  -999.00,9,  -999.00,9,     0.10,2,     0.04,2,   -999.0,-999.0000, -999,9,   27,  27.5536,  21.9332,   -999.0,9
       SH00-08,  NONE,SH-6040,  2,     12, 1-133-7,2,20000822,0023, 31.0443, 131.7302, 1400,     53.0,  25.4191,  34.3383,2,   -999.0,9,-999.0000,9,    210.7,2,  -999.00,9,  -999.00,9,     0.00,2,     0.00,2,     0.02,2, -999.000,9, -999.000,9,  -999.00,9,   -999.0,9,   -999.0,9,-999.0000,9,   -999.0,  9,  -999.00,9,   -999.0,  -999.00,9,  -999.00,9,     0.21,2,     0.19,2,   -999.0,-999.0000, -999,9,   53,  25.4075,  22.7170,   -999.0,9
       SH00-08,  NONE,SH-6040,  2,     11,S-1-1-10,2,20000822,0022, 31.0443, 131.7302, 1400,     77.7,  24.9934,  34.4375,2,   -999.0,9,-999.0000,9,    207.5,2,  -999.00,9,  -999.00,9,     0.29,2,     0.08,2,     0.03,2, -999.000,9, -999.000,9,  -999.00,9,   -999.0,9,   -999.0,9,-999.0000,9,   -999.0,  9,  -999.00,9,   -999.0,  -999.00,9,  -999.00,9,     0.43,2,     0.58,2,   -999.0,-999.0000, -999,9,   77,  24.9766,  22.9233,   -999.0,9
       SH00-08,  NONE,SH-6040,  2,     10,1-133-94,2,20000822,0021, 31.0443, 131.7302, 1400,    103.2,  23.5301,  34.6500,2,   -999.0,9,-999.0000,9,    205.8,2,  -999.00,9,  -999.00,9,     0.88,2,     0.19,2,     0.07,2, -999.000,9, -999.000,9,  -999.00,9,   -999.0,9,   -999.0,9,-999.0000,9,   -999.0,  9,  -999.00,9,   -999.0,  -999.00,9,  -999.00,9,     0.20,2,     0.47,2,   -999.0,-999.0000, -999,9,  102,  23.5088,  23.5207,   -999.0,9
       SH00-08,  NONE,SH-6040,  2,      9, S-1-1-5,2,20000822,0020, 31.0443, 131.7302, 1400,    128.5,  22.4197,  34.6778,2,   -999.0,9,-999.0000,9,    188.9,2,  -999.00,9,  -999.00,9,     3.03,2,     0.05,2,     0.23,2, -999.000,9, -999.000,9,  -999.00,9,   -999.0,9,   -999.0,9,-999.0000,9,   -999.0,  9,  -999.00,9,   -999.0,  -999.00,9,  -999.00,9,     0.07,2,     0.20,2,   -999.0,-999.0000, -999,9,  128,  22.3940,  23.8622,   -999.0,9
       SH00-08,  NONE,SH-6040,  2,      8,1-133-95,2,20000822,0019, 31.0443, 131.7302, 1400,    153.7,  21.3627,  34.7346,2,   -999.0,9,-999.0000,9,    187.1,2,  -999.00,9,  -999.00,9,     3.42,2,     0.03,2,     0.26,2, -999.000,9, -999.000,9,  -999.00,9,   -999.0,9,   -999.0,9,-999.0000,9,   -999.0,  9,  -999.00,9,   -999.0,  -999.00,9,  -999.00,9,     0.04,2,     0.12,2,   -999.0,-999.0000, -999,9,  153,  21.3330,  24.2009,   -999.0,9
       SH00-08,  NONE,SH-6040,  2,      7, S-1-1-4,2,20000822,0018, 31.0443, 131.7302, 1400,    204.6,  18.8434,  34.8027,2,   -999.0,9,-999.0000,9,    192.0,2,  -999.00,9,  -999.00,9,     4.39,2,     0.02,2,     0.32,2, -999.000,9, -999.000,9,  -999.00,9,   -999.0,9,   -999.0,9,-999.0000,9,   -999.0,  9,  -999.00,9,   -999.0,  -999.00,9,  -999.00,9,     0.00,2,     0.03,2,   -999.0,-999.0000, -999,9,  203,  18.8072,  24.9194,   -999.0,9
       SH00-08,  NONE,SH-6040,  2,      6,1-133-93,2,20000822,0017, 31.0443, 131.7302, 1400,    253.2,  16.9295,  34.7025,2,   -999.0,9,-999.0000,9,    181.7,2,  -999.00,9,  -999.00,9,     8.39,2,     0.01,2,     0.59,2, -999.000,9, -999.000,9,  -999.00,9,   -999.0,9,   -999.0,9,-999.0000,9,   -999.0,  9,  -999.00,9,   -999.0,  -999.00,9,  -999.00,9,     0.00,2,     0.03,2,   -999.0,-999.0000, -999,9,  251,  16.8879,  25.3124,   -999.0,9
       SH00-08,  NONE,SH-6040,  2,      5,S-1-1-11,2,20000822,0015, 31.0443, 131.7302, 1400,    306.3,  14.0772,  34.5685,2,   -999.0,9,-999.0000,9,    171.5,2,  -999.00,9,  -999.00,9,    13.16,2,     0.01,2,     0.93,2, -999.000,9, -999.000,9,  -999.00,9,   -999.0,9,   -999.0,9,-999.0000,9,   -999.0,  9,  -999.00,9,   -999.0,  -999.00,9,  -999.00,9,     0.00,2,     0.01,2,   -999.0,-999.0000, -999,9,  304,  14.0327,  25.8468,   -999.0,9
       SH00-08,  NONE,SH-6040,  1,      4,S-1-1-12,2,20000821,2340, 31.0160, 131.7227, 1430,    404.0,  10.9810,  34.4177,2,   -999.0,9,  34.4210,2,    148.3,2,  -999.00,9,  -999.00,9,    20.66,2,     0.01,2,     1.45,2, -999.000,9, -999.000,9,  -999.00,9,   -999.0,9,   -999.0,9,-999.0000,9,   -999.0,  9,  -999.00,9,   -999.0,  -999.00,9,  -999.00,9,  -999.00,9,  -999.00,9,   -999.0,-999.0000, -999,9,  401,  10.9311,  26.3344,   -999.0,9
       SH00-08,  NONE,SH-6040,  1,      3,1-133-84,4,20000821,2336, 31.0160, 131.7227, 1430,    504.6,   7.8291,  34.3013,2,   -999.0,9,  34.3286,2,    112.6,2,  -999.00,9,  -999.00,9,    28.93,2,     0.01,2,     2.05,2, -999.000,9, -999.000,9,  -999.00,9,   -999.0,9,   -999.0,9,-999.0000,9,   -999.0,  9,  -999.00,9,   -999.0,  -999.00,9,  -999.00,9,  -999.00,9,  -999.00,9,   -999.0,-999.0000, -999,9,  501,   7.7781,  26.7578,   -999.0,9
       SH00-08,  NONE,SH-6040,  1,      2, S-1-1-7,2,20000821,2336, 31.0160, 131.7227, 1430,    504.6,   7.8291,  34.3013,2,   -999.0,9,  34.3282,2,    111.9,2,  -999.00,9,  -999.00,9,    29.02,2,     0.01,2,     2.05,2, -999.000,9, -999.000,9,  -999.00,9,   -999.0,9,   -999.0,9,-999.0000,9,   -999.0,  9,  -999.00,9,   -999.0,  -999.00,9,  -999.00,9,  -999.00,9,  -999.00,9,   -999.0,-999.0000, -999,9,  501,   7.7781,  26.7578,   -999.0,9
       SH00-08,  NONE,SH-6040,  1,      1, 1-133-1,2,20000821,2333, 31.0160, 131.7227, 1430,    605.3,   5.2902,  34.3324,2,   -999.0,9,  34.3239,2,     82.9,2,  -999.00,9,  -999.00,9,    35.63,2,     0.01,2,     2.49,2, -999.000,9, -999.000,9,  -999.00,9,   -999.0,9,   -999.0,9,-999.0000,9,   -999.0,  9,  -999.00,9,   -999.0,  -999.00,9,  -999.00,9,  -999.00,9,  -999.00,9,   -999.0,-999.0000, -999,9,  600,   5.2403,  27.1180,   -999.0,9
       SH00-08,  NONE,SH-6040,  1,     12, 1-133-7,2,20000821,2331, 31.0160, 131.7227, 1430,    708.9,   4.3355,  34.3251,2,   -999.0,9,  34.3290,2,     70.7,2,  -999.00,9,  -999.00,9,    37.87,2,     0.01,2,     2.67,2, -999.000,9, -999.000,9,  -999.00,9,   -999.0,9,   -999.0,9,-999.0000,9,   -999.0,  9,  -999.00,9,   -999.0,  -999.00,9,  -999.00,9,  -999.00,9,  -999.00,9,   -999.0,-999.0000, -999,9,  703,   4.2818,  27.2197,   -999.0,9
       SH00-08,  NONE,SH-6040,  1,     11,S-1-1-10,2,20000821,2327, 31.0160, 131.7227, 1430,    808.2,   3.8982,  34.3780,2,   -999.0,9,  34.3787,2,     72.5,2,  -999.00,9,  -999.00,9,    37.48,2,     0.01,2,     2.63,2, -999.000,9, -999.000,9,  -999.00,9,   -999.0,9,   -999.0,9,-999.0000,9,   -999.0,  9,  -999.00,9,   -999.0,  -999.00,9,  -999.00,9,  -999.00,9,  -999.00,9,   -999.0,-999.0000, -999,9,  801,   3.8390,  27.3078,   -999.0,9
       SH00-08,  NONE,SH-6040,  1,     10,1-133-94,2,20000821,2323, 31.0160, 131.7227, 1430,    908.8,   3.4622,  34.4152,2,   -999.0,9,  34.4109,2,     69.6,2,  -999.00,9,  -999.00,9,    38.45,2,     0.01,2,     2.71,2, -999.000,9, -999.000,9,  -999.00,9,   -999.0,9,   -999.0,9,-999.0000,9,   -999.0,  9,  -999.00,9,   -999.0,  -999.00,9,  -999.00,9,  -999.00,9,  -999.00,9,   -999.0,-999.0000, -999,9,  901,   3.3980,  27.3810,   -999.0,9
       SH00-08,  NONE,SH-6040,  1,      9, S-1-1-5,2,20000821,2321, 31.0160, 131.7227, 1430,   1011.3,   3.2864,  34.4398,2,   -999.0,9,  34.4385,2,     64.5,2,  -999.00,9,  -999.00,9,    39.32,2,     0.01,2,     2.76,2, -999.000,9, -999.000,9,  -999.00,9,   -999.0,9,   -999.0,9,-999.0000,9,   -999.0,  9,  -999.00,9,   -999.0,  -999.00,9,  -999.00,9,  -999.00,9,  -999.00,9,   -999.0,-999.0000, -999,9, 1002,   3.2155,  27.4179,   -999.0,9
       SH00-08,  NONE,SH-6040,  1,      8,1-133-95,2,20000821,2318, 31.0160, 131.7227, 1430,   1212.5,   2.8686,  34.4875,2,   -999.0,9,  34.5094,2,     75.2,2,  -999.00,9,  -999.00,9,    39.51,2,     0.02,2,     2.72,2, -999.000,9, -999.000,9,  -999.00,9,   -999.0,9,   -999.0,9,-999.0000,9,   -999.0,  9,  -999.00,9,   -999.0,  -999.00,9,  -999.00,9,  -999.00,9,  -999.00,9,   -999.0,-999.0000, -999,9, 1201,   2.7855,  27.4953,   -999.0,9
       SH00-08,  NONE,SH-6040,  1,      7, S-1-1-4,2,20000821,2317, 31.0160, 131.7227, 1430,   1314.8,   2.7131,  34.5057,2,   -999.0,9,-999.0000,4,     81.9,2,  -999.00,9,  -999.00,9,    39.42,2,     0.02,2,     2.71,2, -999.000,9, -999.000,9,  -999.00,9,   -999.0,9,   -999.0,9,-999.0000,9,   -999.0,  9,  -999.00,9,   -999.0,  -999.00,9,  -999.00,9,  -999.00,9,  -999.00,9,   -999.0,-999.0000, -999,9, 1302,   2.6235,  27.5240,   -999.0,9