BOTTLE,20130510GEMDJMAYT
EXPOCODE,SECT_ID,STNNBR,CASTNO,SAMPNO,BTLNBR,BTLNBR_FLAG_W,DATE,TIME,LATITUDE,LONGITUDE,DEPTH,CTDPRS,CTDTMP,CTDSAL,CTDSAL_FLAG_W,CTDOXY,CTDOXY_FLAG_W,SALNTY,SALNTY_FLAG_W,OXYGEN,OXYGEN_FLAG_W,SILCAT,SILCAT_FLAG_W,NITRAT,NITRAT_FLAG_W,NO2+NO3,NO2+NO3_FLAG_W,NITRIT,NITRIT_FLAG_W,PHSPHT,PHSPHT_FLAG_W,CFC-11,CFC-11_FLAG_W,CFC-12,CFC-12_FLAG_W,DELC13,DELC13_FLAG_W,TCARBN,TCARBN_FLAG_W,ALKALI,ALKALI_FLAG_W,PH,PH_FLAG_W,PH_TMP,PH_SCALE,PH_NBS,PH_NBS_FLAG_W,C13ERR,TOTALP,TOTALP_FLAG_W,AMMONI,AMMONI_FLAG_W,CHLORA,CHLORA_FLAG_W,PPHYTN,PPHYTN_FLAG_W,REVPRS,REVTMP,DEPTH_,DEPTH_FLAG,CTDDEP,THETA,SIGTHT,DOC,DOC_FLAG_W
,,,,,,,GMT,GMT,,,METER,DBAR,ITS-90,PSS-78,,UMOL/KG,,PSS-78,,UMOL/KG,,UMOL/KG,,UMOL/KG,,UMOL/KG,,UMOL/KG,,UMOL/KG,,PMOL/KG,,PMOL/KG,,/MILLE,,UMOL/KG,,UMOL/KG,,25_DEG_C,,DEG_C,,,,/MILLE,UMOL/KG,,UMOL/KG,,UG/L,,UG/L,,DBAR,ITS-90,METERS,,METERS,DEG_C,,UMOL/L,
       SH00-08,  NONE,SH-6035,  1,      8,1-133-95,2,20000820,1901, 29.0927, 133.9817, 2810,    403.3,  16.2201,  34.7139,2,   -999.0,9,-999.0000,9,    189.8,2,  -999.00,9,  -999.00,9,     8.29,2,     0.01,2,     0.54,2, -999.000,9, -999.000,9,  -999.00,9,   -999.0,9,   -999.0,9,-999.0000,9,   -999.0,  9,  -999.00,9,   -999.0,  -999.00,9,  -999.00,9,  -999.00,9,  -999.00,9,   -999.0,-999.0000, -999,9,  400,  16.1554,  25.4919,   -999.0,9
       SH00-08,  NONE,SH-6035,  1,      7, S-1-1-4,2,20000820,1859, 29.0927, 133.9817, 2810,    504.0,  13.8322,  34.5434,2,   -999.0,9,-999.0000,9,    179.1,2,  -999.00,9,  -999.00,9,    13.06,2,     0.01,2,     0.87,2, -999.000,9, -999.000,9,  -999.00,9,   -999.0,9,   -999.0,9,-999.0000,9,   -999.0,  9,  -999.00,9,   -999.0,  -999.00,9,  -999.00,9,  -999.00,9,  -999.00,9,   -999.0,-999.0000, -999,9,  500,  13.7594,  25.8844,   -999.0,9
       SH00-08,  NONE,SH-6035,  1,      6,1-133-93,2,20000820,1857, 29.0927, 133.9817, 2810,    604.4,  10.7898,  34.3386,2,   -999.0,9,-999.0000,9,    163.7,2,  -999.00,9,  -999.00,9,    19.58,2,     0.00,2,     1.33,2, -999.000,9, -999.000,9,  -999.00,9,   -999.0,9,   -999.0,9,-999.0000,9,   -999.0,  9,  -999.00,9,   -999.0,  -999.00,9,  -999.00,9,  -999.00,9,  -999.00,9,   -999.0,-999.0000, -999,9,  599,  10.7154,  26.3113,   -999.0,9
       SH00-08,  NONE,SH-6035,  1,      5,S-1-1-11,2,20000820,1855, 29.0927, 133.9817, 2810,    705.3,   8.4070,  34.2240,2,   -999.0,9,-999.0000,9,    138.8,2,  -999.00,9,  -999.00,9,    25.72,2,     0.00,2,     1.79,2, -999.000,9, -999.000,9,  -999.00,9,   -999.0,9,   -999.0,9,-999.0000,9,   -999.0,  9,  -999.00,9,   -999.0,  -999.00,9,  -999.00,9,  -999.00,9,  -999.00,9,   -999.0,-999.0000, -999,9,  699,   8.3320,  26.6145,   -999.0,9
       SH00-08,  NONE,SH-6035,  1,      4,S-1-1-12,2,20000820,1850, 29.0927, 133.9817, 2810,    806.7,   6.5829,  34.1928,2,   -999.0,9,-999.0000,9,    110.6,2,  -999.00,9,  -999.00,9,    31.26,2,     0.00,2,     2.16,2, -999.000,9, -999.000,9,  -999.00,9,   -999.0,9,   -999.0,9,-999.0000,9,   -999.0,  9,  -999.00,9,   -999.0,  -999.00,9,  -999.00,9,  -999.00,9,  -999.00,9,   -999.0,-999.0000, -999,9,  800,   6.5076,  26.8492,   -999.0,9
       SH00-08,  NONE,SH-6035,  1,      3,1-133-84,2,20000820,1848, 29.0927, 133.9817, 2810,    907.7,   5.3050,  34.2767,2,   -999.0,9,-999.0000,9,     84.5,2,  -999.00,9,  -999.00,9,    35.64,2,     0.00,2,     2.49,2, -999.000,9, -999.000,9,  -999.00,9,   -999.0,9,   -999.0,9,-999.0000,9,   -999.0,  9,  -999.00,9,   -999.0,  -999.00,9,  -999.00,9,  -999.00,9,  -999.00,9,   -999.0,-999.0000, -999,9,  900,   5.2282,  27.0753,   -999.0,9
       SH00-08,  NONE,SH-6035,  1,      2, S-1-1-7,2,20000820,1846, 29.0927, 133.9817, 2810,   1008.2,   4.3597,  34.3247,2,   -999.0,9,-999.0000,9,     71.2,2,  -999.00,9,  -999.00,9,    37.48,2,     0.01,2,     2.63,2, -999.000,9, -999.000,9,  -999.00,9,   -999.0,9,   -999.0,9,-999.0000,9,   -999.0,  9,  -999.00,9,   -999.0,  -999.00,9,  -999.00,9,  -999.00,9,  -999.00,9,   -999.0,-999.0000, -999,9,  999,   4.2809,  27.2195,   -999.0,9
       SH00-08,  NONE,SH-6035,  1,      1, 1-133-1,2,20000820,1842, 29.0927, 133.9817, 2810,   1211.6,   3.3867,  34.4218,2,   -999.0,9,-999.0000,9,     63.8,2,  -999.00,9,  -999.00,9,    39.71,2,     0.01,2,     2.77,2, -999.000,9, -999.000,9,  -999.00,9,   -999.0,9,   -999.0,9,-999.0000,9,   -999.0,  9,  -999.00,9,   -999.0,  -999.00,9,  -999.00,9,  -999.00,9,  -999.00,9,   -999.0,-999.0000, -999,9, 1200,   3.2989,  27.3957,   -999.0,9
       SH00-08,  NONE,SH-6035,  1,     12, 1-133-7,2,20000820,1838, 29.0927, 133.9817, 2810,   1518.0,   2.5486,  34.5226,2,   -999.0,9,-999.0000,9,     77.1,2,  -999.00,9,  -999.00,9,    39.71,2,     0.01,2,     2.70,2, -999.000,9, -999.000,9,  -999.00,9,   -999.0,9,   -999.0,9,-999.0000,9,   -999.0,  9,  -999.00,9,   -999.0,  -999.00,9,  -999.00,9,  -999.00,9,  -999.00,9,   -999.0,-999.0000, -999,9, 1502,   2.4447,  27.5528,   -999.0,9
       SH00-08,  NONE,SH-6036,  2,     -9,      -9,5,20000821,0149, 29.5225, 133.5202, 2690,      0.0,  27.9118,  34.4299,2,   -999.0,9,-999.0000,9,    202.3,2,  -999.00,9,  -999.00,9,     0.20,2,     0.00,2,     0.01,2, -999.000,9, -999.000,9,  -999.00,9,   -999.0,9,   -999.0,9,-999.0000,9,   -999.0,  9,     8.22,2,   -999.0,  -999.00,9,  -999.00,9,     0.04,2,     0.02,2,   -999.0,-999.0000, -999,9,    0,  27.9118,  21.9947,   -999.0,9
       SH00-08,  NONE,SH-6036,  2,      2, S-1-1-7,2,20000821,0148, 29.5225, 133.5202, 2690,     11.9,  27.6905,  34.4279,2,   -999.0,9,  34.4278,2,    202.8,2,  -999.00,9,  -999.00,9,     0.00,2,     0.00,2,     0.01,2, -999.000,9, -999.000,9,  -999.00,9,   -999.0,9,   -999.0,9,-999.0000,9,   -999.0,  9,     8.23,2,   -999.0,  -999.00,9,  -999.00,9,     0.04,2,     0.02,2,   -999.0,-999.0000, -999,9,   12,  27.6877,  22.0660,   -999.0,9
       SH00-08,  NONE,SH-6036,  2,      1, 1-133-1,2,20000821,0147, 29.5225, 133.5202, 2690,     26.8,  27.4795,  34.4251,2,   -999.0,9,  34.4217,2,    203.4,2,  -999.00,9,  -999.00,9,     0.10,2,     0.00,2,     0.00,2, -999.000,9, -999.000,9,  -999.00,9,   -999.0,9,   -999.0,9,-999.0000,9,   -999.0,  9,     8.23,2,   -999.0,  -999.00,9,  -999.00,9,     0.04,2,     0.02,2,   -999.0,-999.0000, -999,9,   27,  27.4733,  22.1332,   -999.0,9
       SH00-08,  NONE,SH-6036,  2,     12, 1-133-7,2,20000821,0146, 29.5225, 133.5202, 2690,     51.7,  24.8884,  34.6448,2,   -999.0,9,  34.6371,2,    219.6,2,  -999.00,9,  -999.00,9,     0.10,2,     0.00,2,     0.00,2, -999.000,9, -999.000,9,  -999.00,9,   -999.0,9,   -999.0,9,-999.0000,9,   -999.0,  9,     8.23,2,   -999.0,  -999.00,9,  -999.00,9,     0.09,2,     0.06,2,   -999.0,-999.0000, -999,9,   51,  24.8773,  23.1100,   -999.0,9
       SH00-08,  NONE,SH-6036,  2,     11,S-1-1-10,2,20000821,0146, 29.5225, 133.5202, 2690,     77.7,  22.0315,  34.7782,2,   -999.0,9,  34.7810,2,    229.3,2,  -999.00,9,  -999.00,9,     0.00,2,     0.00,2,     0.01,2, -999.000,9, -999.000,9,  -999.00,9,   -999.0,9,   -999.0,9,-999.0000,9,   -999.0,  9,     8.21,2,   -999.0,  -999.00,9,  -999.00,9,     0.10,4,     0.08,4,   -999.0,-999.0000, -999,9,   77,  22.0162,  24.0447,   -999.0,9
       SH00-08,  NONE,SH-6036,  2,     10,1-133-94,2,20000821,0145, 29.5225, 133.5202, 2690,    102.3,  20.7481,  34.8168,2,   -999.0,9,  34.8152,2,    221.5,2,  -999.00,9,  -999.00,9,     0.10,2,     0.01,2,     0.03,2, -999.000,9, -999.000,9,  -999.00,9,   -999.0,9,   -999.0,9,-999.0000,9,   -999.0,  9,     8.20,2,   -999.0,  -999.00,9,  -999.00,9,     0.27,2,     0.54,2,   -999.0,-999.0000, -999,9,  102,  20.7287,  24.4279,   -999.0,9
       SH00-08,  NONE,SH-6036,  2,      9, S-1-1-5,2,20000821,0144, 29.5225, 133.5202, 2690,    128.0,  20.0352,  34.8103,2,   -999.0,9,  34.8119,2,    217.4,2,  -999.00,9,  -999.00,9,     0.68,2,     0.15,2,     0.07,2, -999.000,9, -999.000,9,  -999.00,9,   -999.0,9,   -999.0,9,-999.0000,9,   -999.0,  9,     8.18,2,   -999.0,  -999.00,9,  -999.00,9,     0.15,2,     0.48,2,   -999.0,-999.0000, -999,9,  127,  20.0116,  24.6140,   -999.0,9
       SH00-08,  NONE,SH-6036,  2,      8,1-133-95,2,20000821,0143, 29.5225, 133.5202, 2690,    152.7,  19.4831,  34.8107,2,   -999.0,9,  34.8115,2,    212.5,2,  -999.00,9,  -999.00,9,     1.66,2,     0.03,2,     0.13,2, -999.000,9, -999.000,9,  -999.00,9,   -999.0,9,   -999.0,9,-999.0000,9,   -999.0,  9,     8.17,2,   -999.0,  -999.00,9,  -999.00,9,     0.07,2,     0.26,2,   -999.0,-999.0000, -999,9,  152,  19.4554,  24.7595,   -999.0,9
       SH00-08,  NONE,SH-6036,  2,      7, S-1-1-4,2,20000821,0141, 29.5225, 133.5202, 2690,    204.7,  18.9197,  34.8095,2,   -999.0,9,  34.8103,2,    215.0,2,  -999.00,9,  -999.00,9,     2.15,2,     0.02,2,     0.16,2, -999.000,9, -999.000,9,  -999.00,9,   -999.0,9,   -999.0,9,-999.0000,9,   -999.0,  9,     8.13,2,   -999.0,  -999.00,9,  -999.00,9,     0.01,2,     0.02,2,   -999.0,-999.0000, -999,9,  203,  18.8833,  24.9052,   -999.0,9
       SH00-08,  NONE,SH-6036,  2,      6,1-133-93,2,20000821,0140, 29.5225, 133.5202, 2690,    253.8,  18.4301,  34.8007,2,   -999.0,9,  34.8003,2,    204.4,2,  -999.00,9,  -999.00,9,     3.80,2,     0.01,2,     0.25,2, -999.000,9, -999.000,9,  -999.00,9,   -999.0,9,   -999.0,9,-999.0000,9,   -999.0,  9,     8.14,2,   -999.0,  -999.00,9,  -999.00,9,     0.00,2,     0.01,2,   -999.0,-999.0000, -999,9,  252,  18.3858,  25.0238,   -999.0,9
       SH00-08,  NONE,SH-6036,  2,      5,S-1-1-11,2,20000821,0139, 29.5225, 133.5202, 2690,    305.2,  17.7545,  34.7845,2,   -999.0,9,  34.7847,2,    196.3,2,  -999.00,9,  -999.00,9,     5.56,2,     0.01,2,     0.36,2, -999.000,9, -999.000,9,  -999.00,9,   -999.0,9,   -999.0,9,-999.0000,9,   -999.0,  9,     8.10,2,   -999.0,  -999.00,9,  -999.00,9,     0.00,2,     0.01,2,   -999.0,-999.0000, -999,9,  303,  17.7025,  25.1798,   -999.0,9
       SH00-08,  NONE,SH-6036,  1,      4,S-1-1-12,2,20000821,0103, 29.5092, 133.5100, 2720,    402.6,  15.8440,  34.6905,2,   -999.0,9,  34.6859,2,    188.0,2,  -999.00,9,  -999.00,9,     9.07,2,     0.00,2,     0.59,2, -999.000,9, -999.000,9,  -999.00,9,   -999.0,9,   -999.0,9,-999.0000,9,   -999.0,  9,     8.04,2,   -999.0,  -999.00,9,  -999.00,9,  -999.00,9,  -999.00,9,   -999.0,-999.0000, -999,9,  400,  15.7805,  25.5594,   -999.0,9
       SH00-08,  NONE,SH-6036,  1,      3,1-133-84,2,20000821,0101, 29.5092, 133.5100, 2720,    503.1,  13.2339,  34.5034,2,   -999.0,9,  34.5010,2,    179.0,2,  -999.00,9,  -999.00,9,    14.33,2,     0.00,2,     0.95,2, -999.000,9, -999.000,9,  -999.00,9,   -999.0,9,   -999.0,9,-999.0000,9,   -999.0,  9,     7.96,2,   -999.0,  -999.00,9,  -999.00,9,  -999.00,9,  -999.00,9,   -999.0,-999.0000, -999,9,  499,  13.1635,  25.9753,   -999.0,9
       SH00-08,  NONE,SH-6036,  1,      2, S-1-1-7,2,20000821,0100, 29.5092, 133.5100, 2720,    604.2,  10.5863,  34.3287,2,   -999.0,9,  34.3296,2,    161.1,2,  -999.00,9,  -999.00,9,    20.27,2,     0.01,2,     1.37,2, -999.000,9, -999.000,9,  -999.00,9,   -999.0,9,   -999.0,9,-999.0000,9,   -999.0,  9,     7.87,2,   -999.0,  -999.00,9,  -999.00,9,  -999.00,9,  -999.00,9,   -999.0,-999.0000, -999,9,  599,  10.5128,  26.3393,   -999.0,9
       SH00-08,  NONE,SH-6036,  1,      1, 1-133-1,2,20000821,0058, 29.5092, 133.5100, 2720,    704.6,   8.0626,  34.2303,2,   -999.0,9,  34.2292,2,    132.3,2,  -999.00,9,  -999.00,9,    27.27,2,     0.00,2,     1.88,2, -999.000,9, -999.000,9,  -999.00,9,   -999.0,9,   -999.0,9,-999.0000,9,   -999.0,  9,     7.75,2,   -999.0,  -999.00,9,  -999.00,9,  -999.00,9,  -999.00,9,   -999.0,-999.0000, -999,9,  699,   7.9894,  26.6709,   -999.0,9
       SH00-08,  NONE,SH-6036,  1,     12, 1-133-7,2,20000821,0056, 29.5092, 133.5100, 2720,    804.8,   6.4722,  34.2151,2,   -999.0,9,  34.2104,2,    108.9,2,  -999.00,9,  -999.00,9,    31.84,2,     0.00,2,     2.20,2, -999.000,9, -999.000,9,  -999.00,9,   -999.0,9,   -999.0,9,-999.0000,9,   -999.0,  9,     7.68,2,   -999.0,  -999.00,9,  -999.00,9,  -999.00,9,  -999.00,9,   -999.0,-999.0000, -999,9,  798,   6.3976,  26.8813,   -999.0,9
       SH00-08,  NONE,SH-6036,  1,     11,S-1-1-10,2,20000821,0055, 29.5092, 133.5100, 2720,    906.6,   5.0856,  34.2762,2,   -999.0,9,  34.2740,2,     80.1,2,  -999.00,9,  -999.00,9,    36.41,2,     0.01,2,     2.54,2, -999.000,9, -999.000,9,  -999.00,9,   -999.0,9,   -999.0,9,-999.0000,9,   -999.0,  9,     7.61,2,   -999.0,  -999.00,9,  -999.00,9,  -999.00,9,  -999.00,9,   -999.0,-999.0000, -999,9,  899,   5.0105,  27.1002,   -999.0,9
       SH00-08,  NONE,SH-6036,  1,     10,1-133-94,2,20000821,0053, 29.5092, 133.5100, 2720,   1008.0,   4.3281,  34.3108,2,   -999.0,9,  34.3113,2,     68.9,2,  -999.00,9,  -999.00,9,    38.16,2,     0.00,2,     2.66,2, -999.000,9, -999.000,9,  -999.00,9,   -999.0,9,   -999.0,9,-999.0000,9,   -999.0,  9,     7.57,2,   -999.0,  -999.00,9,  -999.00,9,  -999.00,9,  -999.00,9,   -999.0,-999.0000, -999,9,  999,   4.2495,  27.2118,   -999.0,9
       SH00-08,  NONE,SH-6036,  1,      9, S-1-1-5,2,20000821,0050, 29.5092, 133.5100, 2720,   1210.5,   3.4054,  34.4068,2,   -999.0,9,  34.4070,2,     60.7,2,  -999.00,9,  -999.00,9,    40.39,2,     0.00,2,     2.79,2, -999.000,9, -999.000,9,  -999.00,9,   -999.0,9,   -999.0,9,-999.0000,9,   -999.0,  9,     7.56,2,   -999.0,  -999.00,9,  -999.00,9,  -999.00,9,  -999.00,9,   -999.0,-999.0000, -999,9, 1199,   3.3176,  27.3820,   -999.0,9
       SH00-08,  NONE,SH-6036,  1,      8,1-133-95,2,20000821,0046, 29.5092, 133.5100, 2720,   1515.4,   2.6094,  34.5177,2,   -999.0,9,  34.5163,2,     77.1,2,  -999.00,9,  -999.00,9,    39.71,2,     0.00,2,     2.72,2, -999.000,9, -999.000,9,  -999.00,9,   -999.0,9,   -999.0,9,-999.0000,9,   -999.0,  9,     7.58,2,   -999.0,  -999.00,9,  -999.00,9,  -999.00,9,  -999.00,9,   -999.0,-999.0000, -999,9, 1500,   2.5050,  27.5438,   -999.0,9
       SH00-08,  NONE,SH-6036,  1,      7, S-1-1-4,2,20000821,0040, 29.5092, 133.5100, 2720,   2024.0,   2.0282,  34.6050,2,   -999.0,9,  34.6044,2,   -999.0,9,  -999.00,9,  -999.00,9,  -999.00,9,  -999.00,9,  -999.00,9, -999.000,9, -999.000,9,  -999.00,9,   -999.0,9,   -999.0,9,-999.0000,9,   -999.0,  9,  -999.00,9,   -999.0,  -999.00,9,  -999.00,9,  -999.00,9,  -999.00,9,   -999.0,-999.0000, -999,9, 2001,   1.8894,  27.6639,   -999.0,9
       SH00-08,  NONE,SH-6036,  1,      6,1-133-93,2,20000821,0033, 29.5092, 133.5100, 2720,   2532.5,   1.7030,  34.6540,2,   -999.0,9,  34.6497,2,   -999.0,9,  -999.00,9,  -999.00,9,  -999.00,9,  -999.00,9,  -999.00,9, -999.000,9, -999.000,9,  -999.00,9,   -999.0,9,   -999.0,9,-999.0000,9,   -999.0,  9,  -999.00,9,   -999.0,  -999.00,9,  -999.00,9,  -999.00,9,  -999.00,9,   -999.0,-999.0000, -999,9, 2500,   1.5253,  27.7306,   -999.0,9
       SH00-08,  NONE,SH-6037,  2,     -9,      -9,5,20000821,0804, 29.9625, 132.9573, 3790,      0.0,  28.1374,  34.4024,2,   -999.0,9,-999.0000,9,    201.5,2,  -999.00,9,  -999.00,9,     0.29,2,     0.00,2,     0.01,2, -999.000,9, -999.000,9,  -999.00,9,   -999.0,9,   -999.0,9,-999.0000,9,   -999.0,  9,  -999.00,9,   -999.0,  -999.00,9,  -999.00,9,     0.02,2,     0.01,2,   -999.0,-999.0000, -999,9,    0,  28.1374,  21.9004,   -999.0,9
       SH00-08,  NONE,SH-6037,  2,      9, S-1-1-5,2,20000821,0803, 29.9625, 132.9573, 3790,     11.4,  28.0685,  34.4030,2,   -999.0,9,-999.0000,9,    201.1,2,  -999.00,9,  -999.00,9,     0.10,2,     0.00,2,     0.00,2, -999.000,9, -999.000,9,  -999.00,9,   -999.0,9,   -999.0,9,-999.0000,9,   -999.0,  9,  -999.00,9,   -999.0,  -999.00,9,  -999.00,9,     0.04,2,     0.02,2,   -999.0,-999.0000, -999,9,   11,  28.0658,  21.9242,   -999.0,9
       SH00-08,  NONE,SH-6037,  2,      8,1-133-95,2,20000821,0802, 29.9625, 132.9573, 3790,     25.8,  27.6901,  34.3809,2,   -999.0,9,-999.0000,9,    202.5,2,  -999.00,9,  -999.00,9,     0.00,2,     0.00,2,     0.00,2, -999.000,9, -999.000,9,  -999.00,9,   -999.0,9,   -999.0,9,-999.0000,9,   -999.0,  9,  -999.00,9,   -999.0,  -999.00,9,  -999.00,9,     0.04,2,     0.02,2,   -999.0,-999.0000, -999,9,   26,  27.6840,  22.0318,   -999.0,9
       SH00-08,  NONE,SH-6037,  2,      7, S-1-1-4,2,20000821,0801, 29.9625, 132.9573, 3790,     51.2,  25.2606,  34.5639,2,   -999.0,9,-999.0000,9,    211.5,2,  -999.00,9,  -999.00,9,     0.29,2,     0.00,2,     0.00,2, -999.000,9, -999.000,9,  -999.00,9,   -999.0,9,   -999.0,9,-999.0000,9,   -999.0,  9,  -999.00,9,   -999.0,  -999.00,9,  -999.00,9,     0.06,2,     0.04,2,   -999.0,-999.0000, -999,9,   51,  25.2494,  22.9358,   -999.0,9
       SH00-08,  NONE,SH-6037,  2,      6,1-133-93,2,20000821,0800, 29.9625, 132.9573, 3790,     75.6,  21.9636,  34.7278,2,   -999.0,9,-999.0000,9,    218.9,2,  -999.00,9,  -999.00,9,     0.20,2,     0.00,2,     0.03,2, -999.000,9, -999.000,9,  -999.00,9,   -999.0,9,   -999.0,9,-999.0000,9,   -999.0,  9,  -999.00,9,   -999.0,  -999.00,9,  -999.00,9,     0.14,2,     0.19,2,   -999.0,-999.0000, -999,9,   75,  21.9487,  24.0254,   -999.0,9
       SH00-08,  NONE,SH-6037,  2,      5,S-1-1-11,2,20000821,0759, 29.9625, 132.9573, 3790,    101.4,  20.9336,  34.7696,2,   -999.0,9,-999.0000,9,    212.0,2,  -999.00,9,  -999.00,9,     1.07,2,     0.12,2,     0.09,2, -999.000,9, -999.000,9,  -999.00,9,   -999.0,9,   -999.0,9,-999.0000,9,   -999.0,  9,  -999.00,9,   -999.0,  -999.00,9,  -999.00,9,     0.22,2,     0.49,2,   -999.0,-999.0000, -999,9,  101,  20.9143,  24.3418,   -999.0,9
       SH00-08,  NONE,SH-6037,  2,      4,S-1-1-12,2,20000821,0758, 29.9625, 132.9573, 3790,    126.0,  20.0562,  34.7917,2,   -999.0,9,-999.0000,9,    207.8,2,  -999.00,9,  -999.00,9,     2.05,2,     0.04,2,     0.15,2, -999.000,9, -999.000,9,  -999.00,9,   -999.0,9,   -999.0,9,-999.0000,9,   -999.0,  9,  -999.00,9,   -999.0,  -999.00,9,  -999.00,9,     0.06,2,     0.24,2,   -999.0,-999.0000, -999,9,  125,  20.0329,  24.5942,   -999.0,9
       SH00-08,  NONE,SH-6037,  2,      3,1-133-84,2,20000821,0757, 29.9625, 132.9573, 3790,    152.1,  19.4769,  34.8081,2,   -999.0,9,-999.0000,9,    206.9,2,  -999.00,9,  -999.00,9,     2.05,2,     0.03,2,     0.15,2, -999.000,9, -999.000,9,  -999.00,9,   -999.0,9,   -999.0,9,-999.0000,9,   -999.0,  9,  -999.00,9,   -999.0,  -999.00,9,  -999.00,9,     0.01,2,     0.04,2,   -999.0,-999.0000, -999,9,  151,  19.4494,  24.7591,   -999.0,9
       SH00-08,  NONE,SH-6037,  2,      2, S-1-1-7,2,20000821,0756, 29.9625, 132.9573, 3790,    202.4,  18.9974,  34.8089,2,   -999.0,9,-999.0000,9,    211.1,2,  -999.00,9,  -999.00,9,     2.34,2,     0.02,2,     0.17,2, -999.000,9, -999.000,9,  -999.00,9,   -999.0,9,   -999.0,9,-999.0000,9,   -999.0,  9,  -999.00,9,   -999.0,  -999.00,9,  -999.00,9,     0.00,2,     0.03,2,   -999.0,-999.0000, -999,9,  201,  18.9613,  24.8850,   -999.0,9
       SH00-08,  NONE,SH-6037,  2,      1, 1-133-1,2,20000821,0754, 29.9625, 132.9573, 3790,    253.7,  18.4747,  34.8003,2,   -999.0,9,-999.0000,9,    203.0,2,  -999.00,9,  -999.00,9,     3.90,2,     0.02,2,     0.26,2, -999.000,9, -999.000,9,  -999.00,9,   -999.0,9,   -999.0,9,-999.0000,9,   -999.0,  9,  -999.00,9,   -999.0,  -999.00,9,  -999.00,9,     0.00,2,     0.01,2,   -999.0,-999.0000, -999,9,  252,  18.4304,  25.0123,   -999.0,9
       SH00-08,  NONE,SH-6037,  2,     12, 1-133-7,2,20000821,0753, 29.9625, 132.9573, 3790,    304.2,  17.5626,  34.7781,2,   -999.0,9,-999.0000,9,    193.2,2,  -999.00,9,  -999.00,9,     6.05,2,     0.01,2,     0.39,2, -999.000,9, -999.000,9,  -999.00,9,   -999.0,9,   -999.0,9,-999.0000,9,   -999.0,  9,  -999.00,9,   -999.0,  -999.00,9,  -999.00,9,     0.00,2,     0.01,2,   -999.0,-999.0000, -999,9,  302,  17.5112,  25.2214,   -999.0,9