BOTTLE,20130510GEMDJMAYT
EXPOCODE,SECT_ID,STNNBR,CASTNO,SAMPNO,BTLNBR,BTLNBR_FLAG_W,DATE,TIME,LATITUDE,LONGITUDE,DEPTH,CTDPRS,CTDTMP,CTDSAL,CTDSAL_FLAG_W,CTDOXY,CTDOXY_FLAG_W,SALNTY,SALNTY_FLAG_W,OXYGEN,OXYGEN_FLAG_W,SILCAT,SILCAT_FLAG_W,NITRAT,NITRAT_FLAG_W,NO2+NO3,NO2+NO3_FLAG_W,NITRIT,NITRIT_FLAG_W,PHSPHT,PHSPHT_FLAG_W,CFC-11,CFC-11_FLAG_W,CFC-12,CFC-12_FLAG_W,DELC13,DELC13_FLAG_W,TCARBN,TCARBN_FLAG_W,ALKALI,ALKALI_FLAG_W,PH,PH_FLAG_W,PH_TMP,PH_SCALE,PH_NBS,PH_NBS_FLAG_W,C13ERR,TOTALP,TOTALP_FLAG_W,AMMONI,AMMONI_FLAG_W,CHLORA,CHLORA_FLAG_W,PPHYTN,PPHYTN_FLAG_W,REVPRS,REVTMP,DEPTH_,DEPTH_FLAG,CTDDEP,THETA,SIGTHT,DOC,DOC_FLAG_W
,,,,,,,GMT,GMT,,,METER,DBAR,ITS-90,PSS-78,,UMOL/KG,,PSS-78,,UMOL/KG,,UMOL/KG,,UMOL/KG,,UMOL/KG,,UMOL/KG,,UMOL/KG,,PMOL/KG,,PMOL/KG,,/MILLE,,UMOL/KG,,UMOL/KG,,25_DEG_C,,DEG_C,,,,/MILLE,UMOL/KG,,UMOL/KG,,UG/L,,UG/L,,DBAR,ITS-90,METERS,,METERS,DEG_C,,UMOL/L,
       SH00-08,  NONE,SH-6033,  2,     -9,      -9,5,20000820,1313, 28.6695, 134.4722, 3810,      0.0,  27.9129,  34.4097,2,   -999.0,9,-999.0000,9,    202.7,2,  -999.00,9,  -999.00,9,     0.10,2,     0.00,2,     0.01,2, -999.000,9, -999.000,9,  -999.00,9,   -999.0,9,   -999.0,9,-999.0000,9,   -999.0,  9,     8.24,2,   -999.0,  -999.00,9,  -999.00,9,     0.03,2,     0.02,2,   -999.0,-999.0000, -999,9,    0,  27.9129,  21.9792,   -999.0,9
       SH00-08,  NONE,SH-6033,  2,     -1,      -9,4,20000820,1312, 28.6695, 134.4722, 3810,     11.4,  27.2732,  34.5580,2,   -999.0,9,-999.0000,9,   -999.0,9,  -999.00,9,  -999.00,9,  -999.00,9,  -999.00,9,  -999.00,9, -999.000,9, -999.000,9,  -999.00,9,   -999.0,9,   -999.0,9,-999.0000,9,   -999.0,  9,  -999.00,9,   -999.0,  -999.00,9,  -999.00,9,  -999.00,9,  -999.00,9,   -999.0,-999.0000, -999,9,   11,  27.2706,  22.2984,   -999.0,9
       SH00-08,  NONE,SH-6033,  2,     11,S-1-1-10,2,20000820,1312, 28.6695, 134.4722, 3810,     26.3,  26.2165,  34.6073,2,   -999.0,9,  34.6076,2,    210.1,2,  -999.00,9,  -999.00,9,     0.10,2,     0.00,2,     0.00,2, -999.000,9, -999.000,9,  -999.00,9,   -999.0,9,   -999.0,9,-999.0000,9,   -999.0,  9,     8.21,2,   -999.0,  -999.00,9,  -999.00,9,     0.06,2,     0.03,2,   -999.0,-999.0000, -999,9,   26,  26.2107,  22.6713,   -999.0,9
       SH00-08,  NONE,SH-6033,  2,     10,1-133-94,2,20000820,1311, 28.6695, 134.4722, 3810,     51.6,  25.9943,  34.6235,2,   -999.0,9,  34.6208,2,    211.1,2,  -999.00,9,  -999.00,9,     0.10,2,     0.00,2,     0.00,2, -999.000,9, -999.000,9,  -999.00,9,   -999.0,9,   -999.0,9,-999.0000,9,   -999.0,  9,     8.22,2,   -999.0,  -999.00,9,  -999.00,9,     0.07,2,     0.04,2,   -999.0,-999.0000, -999,9,   51,  25.9829,  22.7546,   -999.0,9
       SH00-08,  NONE,SH-6033,  2,      9, S-1-1-5,2,20000820,1310, 28.6695, 134.4722, 3810,     77.1,  25.3993,  34.7252,2,   -999.0,9,  34.7142,2,    213.6,2,  -999.00,9,  -999.00,9,     0.00,2,     0.00,2,     0.01,2, -999.000,9, -999.000,9,  -999.00,9,   -999.0,9,   -999.0,9,-999.0000,9,   -999.0,  9,     8.23,2,   -999.0,  -999.00,9,  -999.00,9,     0.12,2,     0.10,2,   -999.0,-999.0000, -999,9,   77,  25.3825,  23.0168,   -999.0,9
       SH00-08,  NONE,SH-6033,  2,      8,1-133-95,2,20000820,1309, 28.6695, 134.4722, 3810,    100.9,  24.0125,  34.7754,2,   -999.0,9,  34.7170,4,    216.0,2,  -999.00,9,  -999.00,9,     0.00,2,     0.00,2,     0.01,2, -999.000,9, -999.000,9,  -999.00,9,   -999.0,9,   -999.0,9,-999.0000,9,   -999.0,  9,     8.22,2,   -999.0,  -999.00,9,  -999.00,9,     0.21,2,     0.22,2,   -999.0,-999.0000, -999,9,  100,  23.9912,  23.4739,   -999.0,9
       SH00-08,  NONE,SH-6033,  2,      7, S-1-1-4,2,20000820,1308, 28.6695, 134.4722, 3810,    126.2,  21.0794,  34.7668,2,   -999.0,9,  34.7534,2,    211.8,2,  -999.00,9,  -999.00,9,     1.07,2,     0.20,2,     0.10,2, -999.000,9, -999.000,9,  -999.00,9,   -999.0,9,   -999.0,9,-999.0000,9,   -999.0,  9,     8.18,2,   -999.0,  -999.00,9,  -999.00,9,     0.26,2,     0.61,2,   -999.0,-999.0000, -999,9,  125,  21.0553,  24.3014,   -999.0,9
       SH00-08,  NONE,SH-6033,  2,      6,1-133-93,2,20000820,1307, 28.6695, 134.4722, 3810,    151.9,  19.9616,  34.7962,2,   -999.0,9,  34.7940,2,    209.9,2,  -999.00,9,  -999.00,9,     1.76,2,     0.07,2,     0.14,2, -999.000,9, -999.000,9,  -999.00,9,   -999.0,9,   -999.0,9,-999.0000,9,   -999.0,  9,     8.17,2,   -999.0,  -999.00,9,  -999.00,9,     0.15,2,     0.40,2,   -999.0,-999.0000, -999,9,  151,  19.9337,  24.6238,   -999.0,9
       SH00-08,  NONE,SH-6033,  2,      5,S-1-1-11,2,20000820,1306, 28.6695, 134.4722, 3810,    201.6,  19.0733,  34.8147,2,   -999.0,9,  34.8111,2,    211.5,2,  -999.00,9,  -999.00,9,     2.34,2,     0.02,2,     0.17,2, -999.000,9, -999.000,9,  -999.00,9,   -999.0,9,   -999.0,9,-999.0000,9,   -999.0,  9,     8.16,2,   -999.0,  -999.00,9,  -999.00,9,     0.02,2,     0.05,2,   -999.0,-999.0000, -999,9,  200,  19.0372,  24.8700,   -999.0,9
       SH00-08,  NONE,SH-6033,  2,      4,S-1-1-12,2,20000820,1305, 28.6695, 134.4722, 3810,    252.6,  18.6390,  34.7998,2,   -999.0,9,  34.8054,2,    210.4,2,  -999.00,9,  -999.00,9,     2.83,2,     0.02,2,     0.20,2, -999.000,9, -999.000,9,  -999.00,9,   -999.0,9,   -999.0,9,-999.0000,9,   -999.0,  9,     8.15,2,   -999.0,  -999.00,9,  -999.00,9,     0.00,2,     0.02,2,   -999.0,-999.0000, -999,9,  251,  18.5945,  24.9708,   -999.0,9
       SH00-08,  NONE,SH-6033,  2,      3,1-133-84,2,20000820,1304, 28.6695, 134.4722, 3810,    303.0,  17.6602,  34.7833,2,   -999.0,9,  34.7969,2,    204.5,2,  -999.00,9,  -999.00,9,     4.68,2,     0.01,2,     0.32,2, -999.000,9, -999.000,9,  -999.00,9,   -999.0,9,   -999.0,9,-999.0000,9,   -999.0,  9,     8.10,2,   -999.0,  -999.00,9,  -999.00,9,     0.00,2,     0.01,2,   -999.0,-999.0000, -999,9,  301,  17.6088,  25.2017,   -999.0,9
       SH00-08,  NONE,SH-6033,  2,      2, S-1-1-7,2,20000820,1302, 28.6695, 134.4722, 3810,    403.8,  15.8590,  34.6901,2,   -999.0,9,  34.6884,2,    198.5,2,  -999.00,9,  -999.00,9,     8.48,2,     0.01,2,     0.57,2, -999.000,9, -999.000,9,  -999.00,9,   -999.0,9,   -999.0,9,-999.0000,9,   -999.0,  9,     8.06,2,   -999.0,  -999.00,9,  -999.00,9,  -999.00,9,  -999.00,9,   -999.0,-999.0000, -999,9,  401,  15.7952,  25.5558,   -999.0,9
       SH00-08,  NONE,SH-6033,  2,      1, 1-133-1,2,20000820,1300, 28.6695, 134.4722, 3810,    507.6,  13.5569,  34.5202,2,   -999.0,9,  34.5222,2,    203.4,4,  -999.00,9,  -999.00,9,    13.45,2,     0.01,2,     0.92,2, -999.000,9, -999.000,9,  -999.00,9,   -999.0,9,   -999.0,9,-999.0000,9,   -999.0,  9,     7.97,2,   -999.0,  -999.00,9,  -999.00,9,  -999.00,9,  -999.00,9,   -999.0,-999.0000, -999,9,  504,  13.4846,  25.9231,   -999.0,9
       SH00-08,  NONE,SH-6033,  1,     12, 1-133-7,2,20000820,1223, 28.6670, 134.4710, 3760,    604.7,  11.1720,  34.3650,2,   -999.0,9,  34.3651,2,    166.3,2,  -999.00,9,  -999.00,9,    18.51,2,     0.01,2,     1.27,2, -999.000,9, -999.000,9,  -999.00,9,   -999.0,9,   -999.0,9,-999.0000,9,   -999.0,  9,     7.89,2,   -999.0,  -999.00,9,  -999.00,9,  -999.00,9,  -999.00,9,   -999.0,-999.0000, -999,9,  600,  11.0959,  26.2637,   -999.0,9
       SH00-08,  NONE,SH-6033,  1,     11,S-1-1-10,2,20000820,1221, 28.6670, 134.4710, 3760,    704.2,   8.4760,  34.2235,2,   -999.0,9,  34.2102,2,    147.2,2,  -999.00,9,  -999.00,9,    24.94,2,     0.01,2,     1.72,2, -999.000,9, -999.000,9,  -999.00,9,   -999.0,9,   -999.0,9,-999.0000,9,   -999.0,  9,     7.78,2,   -999.0,  -999.00,9,  -999.00,9,  -999.00,9,  -999.00,9,   -999.0,-999.0000, -999,9,  698,   8.4008,  26.6036,   -999.0,9
       SH00-08,  NONE,SH-6033,  1,     10,1-133-94,2,20000820,1219, 28.6670, 134.4710, 3760,    805.8,   6.4025,  34.1793,2,   -999.0,9,  34.1833,2,    112.8,2,  -999.00,9,  -999.00,9,    31.36,2,     0.01,2,     2.18,2, -999.000,9, -999.000,9,  -999.00,9,   -999.0,9,   -999.0,9,-999.0000,9,   -999.0,  9,     7.68,2,   -999.0,  -999.00,9,  -999.00,9,  -999.00,9,  -999.00,9,   -999.0,-999.0000, -999,9,  799,   6.3283,  26.8620,   -999.0,9
       SH00-08,  NONE,SH-6033,  1,      9, S-1-1-5,2,20000820,1218, 28.6670, 134.4710, 3760,    907.3,   5.3625,  34.2263,2,   -999.0,9,  34.2272,2,     89.3,2,  -999.00,9,  -999.00,9,    35.44,2,     0.01,2,     2.46,2, -999.000,9, -999.000,9,  -999.00,9,   -999.0,9,   -999.0,9,-999.0000,9,   -999.0,  9,     7.62,2,   -999.0,  -999.00,9,  -999.00,9,  -999.00,9,  -999.00,9,   -999.0,-999.0000, -999,9,  899,   5.2854,  27.0286,   -999.0,9
       SH00-08,  NONE,SH-6033,  1,      8,1-133-95,2,20000820,1216, 28.6670, 134.4710, 3760,   1007.6,   4.5559,  34.2765,2,   -999.0,9,  34.2744,2,     72.0,2,  -999.00,9,  -999.00,9,    37.58,2,     0.01,2,     2.62,2, -999.000,9, -999.000,9,  -999.00,9,   -999.0,9,   -999.0,9,-999.0000,9,   -999.0,  9,     7.57,2,   -999.0,  -999.00,9,  -999.00,9,  -999.00,9,  -999.00,9,   -999.0,-999.0000, -999,9,  998,   4.4757,  27.1603,   -999.0,9
       SH00-08,  NONE,SH-6033,  1,      7, S-1-1-4,2,20000820,1213, 28.6670, 134.4710, 3760,   1210.2,   3.5553,  34.3874,2,   -999.0,9,  34.3868,2,     63.8,2,  -999.00,9,  -999.00,9,    39.91,2,     0.01,2,     2.77,2, -999.000,9, -999.000,9,  -999.00,9,   -999.0,9,   -999.0,9,-999.0000,9,   -999.0,  9,     7.54,2,   -999.0,  -999.00,9,  -999.00,9,  -999.00,9,  -999.00,9,   -999.0,-999.0000, -999,9, 1199,   3.4662,  27.3523,   -999.0,9
       SH00-08,  NONE,SH-6033,  1,      6,1-133-93,2,20000820,1209, 28.6670, 134.4710, 3760,   1513.5,   2.7140,  34.5067,2,   -999.0,9,  34.5033,2,     75.3,2,  -999.00,9,  -999.00,9,    40.00,2,     0.01,2,     2.71,2, -999.000,9, -999.000,9,  -999.00,9,   -999.0,9,   -999.0,9,-999.0000,9,   -999.0,  9,     7.57,2,   -999.0,  -999.00,9,  -999.00,9,  -999.00,9,  -999.00,9,   -999.0,-999.0000, -999,9, 1498,   2.6085,  27.5261,   -999.0,9
       SH00-08,  NONE,SH-6033,  1,      5,S-1-1-11,2,20000820,1203, 28.6670, 134.4710, 3760,   2022.2,   2.0086,  34.6095,2,   -999.0,9,  34.6030,2,   -999.0,9,  -999.00,9,  -999.00,9,  -999.00,9,  -999.00,9,  -999.00,9, -999.000,9, -999.000,9,  -999.00,9,   -999.0,9,   -999.0,9,-999.0000,9,   -999.0,  9,  -999.00,9,   -999.0,  -999.00,9,  -999.00,9,  -999.00,9,  -999.00,9,   -999.0,-999.0000, -999,9, 1999,   1.8703,  27.6690,   -999.0,9
       SH00-08,  NONE,SH-6033,  1,      4,S-1-1-12,2,20000820,1157, 28.6670, 134.4710, 3760,   2532.2,   1.7538,  34.6500,2,   -999.0,9,  34.6446,2,   -999.0,9,  -999.00,9,  -999.00,9,  -999.00,9,  -999.00,9,  -999.00,9, -999.000,9, -999.000,9,  -999.00,9,   -999.0,9,   -999.0,9,-999.0000,9,   -999.0,  9,  -999.00,9,   -999.0,  -999.00,9,  -999.00,9,  -999.00,9,  -999.00,9,   -999.0,-999.0000, -999,9, 2500,   1.5753,  27.7237,   -999.0,9
       SH00-08,  NONE,SH-6033,  1,      3,1-133-84,2,20000820,1150, 28.6670, 134.4710, 3760,   3042.7,   1.5917,  34.6749,2,   -999.0,9,  34.6690,2,   -999.0,9,  -999.00,9,  -999.00,9,  -999.00,9,  -999.00,9,  -999.00,9, -999.000,9, -999.000,9,  -999.00,9,   -999.0,9,   -999.0,9,-999.0000,9,   -999.0,  9,  -999.00,9,   -999.0,  -999.00,9,  -999.00,9,  -999.00,9,  -999.00,9,   -999.0,-999.0000, -999,9, 3001,   1.3688,  27.7588,   -999.0,9
       SH00-08,  NONE,SH-6033,  1,      2, S-1-1-7,2,20000820,1143, 28.6670, 134.4710, 3760,   3554.5,   1.5193,  34.6900,2,   -999.0,9,  34.6794,2,   -999.0,9,  -999.00,9,  -999.00,9,  -999.00,9,  -999.00,9,  -999.00,9, -999.000,9, -999.000,9,  -999.00,9,   -999.0,9,   -999.0,9,-999.0000,9,   -999.0,  9,  -999.00,9,   -999.0,  -999.00,9,  -999.00,9,  -999.00,9,  -999.00,9,   -999.0,-999.0000, -999,9, 3501,   1.2470,  27.7795,   -999.0,9
       SH00-08,  NONE,SH-6035,  2,     -9,      -9,5,20000820,1939, 29.1052, 133.9862, 2940,      0.0,  27.7312,  34.3994,2,   -999.0,9,-999.0000,9,    201.9,2,  -999.00,9,  -999.00,9,     0.10,2,     0.00,2,     0.01,2, -999.000,9, -999.000,9,  -999.00,9,   -999.0,9,   -999.0,9,-999.0000,9,   -999.0,  9,  -999.00,9,   -999.0,  -999.00,9,  -999.00,9,     0.01,2,     0.01,2,   -999.0,-999.0000, -999,9,    0,  27.7312,  22.0305,   -999.0,9
       SH00-08,  NONE,SH-6035,  2,     -1,      -9,4,20000820,1938, 29.1052, 133.9862, 2940,     10.4,  27.7019,  34.4024,2,   -999.0,9,-999.0000,9,   -999.0,9,  -999.00,9,  -999.00,9,  -999.00,9,  -999.00,9,  -999.00,9, -999.000,9, -999.000,9,  -999.00,9,   -999.0,9,   -999.0,9,-999.0000,9,   -999.0,  9,  -999.00,9,   -999.0,  -999.00,9,  -999.00,9,  -999.00,9,  -999.00,9,   -999.0,-999.0000, -999,9,   10,  27.6995,  22.0430,   -999.0,9
       SH00-08,  NONE,SH-6035,  2,      5,S-1-1-11,2,20000820,1938, 29.1052, 133.9862, 2940,     25.0,  27.6111,  34.4004,2,   -999.0,9,  34.4009,2,    202.5,2,  -999.00,9,  -999.00,9,     0.10,2,     0.00,2,     0.00,2, -999.000,9, -999.000,9,  -999.00,9,   -999.0,9,   -999.0,9,-999.0000,9,   -999.0,  9,  -999.00,9,   -999.0,  -999.00,9,  -999.00,9,     0.03,4,     0.03,4,   -999.0,-999.0000, -999,9,   25,  27.6053,  22.0720,   -999.0,9
       SH00-08,  NONE,SH-6035,  2,      4,S-1-1-12,2,20000820,1936, 29.1052, 133.9862, 2940,     50.8,  25.3282,  34.6020,2,   -999.0,9,  34.5582,4,    213.2,2,  -999.00,9,  -999.00,9,     0.00,2,     0.00,2,     0.00,2, -999.000,9, -999.000,9,  -999.00,9,   -999.0,9,   -999.0,9,-999.0000,9,   -999.0,  9,  -999.00,9,   -999.0,  -999.00,9,  -999.00,9,     0.07,2,     0.04,2,   -999.0,-999.0000, -999,9,   50,  25.3171,  22.9439,   -999.0,9
       SH00-08,  NONE,SH-6035,  2,      3,1-133-84,2,20000820,1936, 29.1052, 133.9862, 2940,     75.0,  22.1728,  34.7672,2,   -999.0,9,  34.7672,2,    221.1,2,  -999.00,9,  -999.00,9,     0.00,2,     0.00,2,     0.01,2, -999.000,9, -999.000,9,  -999.00,9,   -999.0,9,   -999.0,9,-999.0000,9,   -999.0,  9,  -999.00,9,   -999.0,  -999.00,9,  -999.00,9,     0.15,2,     0.12,2,   -999.0,-999.0000, -999,9,   74,  22.1580,  23.9967,   -999.0,9
       SH00-08,  NONE,SH-6035,  2,      2, S-1-1-7,2,20000820,1935, 29.1052, 133.9862, 2940,    101.3,  21.1625,  34.7952,2,   -999.0,9,  34.7965,2,    219.0,2,  -999.00,9,  -999.00,9,     0.10,2,     0.04,2,     0.03,2, -999.000,9, -999.000,9,  -999.00,9,   -999.0,9,   -999.0,9,-999.0000,9,   -999.0,  9,  -999.00,9,   -999.0,  -999.00,9,  -999.00,9,     0.06,2,     0.19,2,   -999.0,-999.0000, -999,9,  101,  21.1430,  24.2991,   -999.0,9
       SH00-08,  NONE,SH-6035,  2,      1, 1-133-1,2,20000820,1934, 29.1052, 133.9862, 2940,    126.5,  20.4863,  34.8001,2,   -999.0,9,  34.7995,2,    212.6,2,  -999.00,9,  -999.00,9,     0.98,2,     0.14,2,     0.07,2, -999.000,9, -999.000,9,  -999.00,9,   -999.0,9,   -999.0,9,-999.0000,9,   -999.0,  9,  -999.00,9,   -999.0,  -999.00,9,  -999.00,9,     0.11,2,     0.41,2,   -999.0,-999.0000, -999,9,  126,  20.4626,  24.4865,   -999.0,9
       SH00-08,  NONE,SH-6035,  2,     12, 1-133-7,2,20000820,1933, 29.1052, 133.9862, 2940,    151.5,  19.7973,  34.8035,2,   -999.0,9,  34.8040,2,    209.9,2,  -999.00,9,  -999.00,9,     1.66,2,     0.03,2,     0.13,2, -999.000,9, -999.000,9,  -999.00,9,   -999.0,9,   -999.0,9,-999.0000,9,   -999.0,  9,  -999.00,9,   -999.0,  -999.00,9,  -999.00,9,     0.04,2,     0.16,2,   -999.0,-999.0000, -999,9,  150,  19.7696,  24.6723,   -999.0,9
       SH00-08,  NONE,SH-6035,  2,     11,S-1-1-10,2,20000820,1931, 29.1052, 133.9862, 2940,    202.2,  19.1138,  34.8089,2,   -999.0,9,  34.8101,2,    209.4,2,  -999.00,9,  -999.00,9,     2.44,2,     0.02,2,     0.17,2, -999.000,9, -999.000,9,  -999.00,9,   -999.0,9,   -999.0,9,-999.0000,9,   -999.0,  9,  -999.00,9,   -999.0,  -999.00,9,  -999.00,9,     0.02,2,     0.05,2,   -999.0,-999.0000, -999,9,  201,  19.0776,  24.8553,   -999.0,9
       SH00-08,  NONE,SH-6035,  2,     10,1-133-94,2,20000820,1930, 29.1052, 133.9862, 2940,    253.2,  18.6114,  34.8027,2,   -999.0,9,  34.8040,2,    208.7,2,  -999.00,9,  -999.00,9,     3.12,2,     0.01,2,     0.20,2, -999.000,9, -999.000,9,  -999.00,9,   -999.0,9,   -999.0,9,-999.0000,9,   -999.0,  9,  -999.00,9,   -999.0,  -999.00,9,  -999.00,9,     0.00,2,     0.01,2,   -999.0,-999.0000, -999,9,  251,  18.5669,  24.9799,   -999.0,9
       SH00-08,  NONE,SH-6035,  2,      9, S-1-1-5,2,20000820,1928, 29.1052, 133.9862, 2940,    304.1,  17.8434,  34.7874,2,   -999.0,9,  34.7869,2,    197.6,2,  -999.00,9,  -999.00,9,     5.46,2,     0.01,2,     0.36,2, -999.000,9, -999.000,9,  -999.00,9,   -999.0,9,   -999.0,9,-999.0000,9,   -999.0,  9,  -999.00,9,   -999.0,  -999.00,9,  -999.00,9,     0.00,4,     0.01,4,   -999.0,-999.0000, -999,9,  302,  17.7914,  25.1604,   -999.0,9