BOTTLE,20130510GEMDJMAYT
EXPOCODE,SECT_ID,STNNBR,CASTNO,SAMPNO,BTLNBR,BTLNBR_FLAG_W,DATE,TIME,LATITUDE,LONGITUDE,DEPTH,CTDPRS,CTDTMP,CTDSAL,CTDSAL_FLAG_W,CTDOXY,CTDOXY_FLAG_W,SALNTY,SALNTY_FLAG_W,OXYGEN,OXYGEN_FLAG_W,SILCAT,SILCAT_FLAG_W,NITRAT,NITRAT_FLAG_W,NO2+NO3,NO2+NO3_FLAG_W,NITRIT,NITRIT_FLAG_W,PHSPHT,PHSPHT_FLAG_W,CFC-11,CFC-11_FLAG_W,CFC-12,CFC-12_FLAG_W,DELC13,DELC13_FLAG_W,TCARBN,TCARBN_FLAG_W,ALKALI,ALKALI_FLAG_W,PH,PH_FLAG_W,PH_TMP,PH_SCALE,PH_NBS,PH_NBS_FLAG_W,C13ERR,TOTALP,TOTALP_FLAG_W,AMMONI,AMMONI_FLAG_W,CHLORA,CHLORA_FLAG_W,PPHYTN,PPHYTN_FLAG_W,REVPRS,REVTMP,DEPTH_,DEPTH_FLAG,CTDDEP,THETA,SIGTHT,DOC,DOC_FLAG_W
,,,,,,,GMT,GMT,,,METER,DBAR,ITS-90,PSS-78,,UMOL/KG,,PSS-78,,UMOL/KG,,UMOL/KG,,UMOL/KG,,UMOL/KG,,UMOL/KG,,UMOL/KG,,PMOL/KG,,PMOL/KG,,/MILLE,,UMOL/KG,,UMOL/KG,,25_DEG_C,,DEG_C,,,,/MILLE,UMOL/KG,,UMOL/KG,,UG/L,,UG/L,,DBAR,ITS-90,METERS,,METERS,DEG_C,,UMOL/L,
       SH00-09,  NONE,SH-6053,  2,     -9,      -9,5,20001014,0928, 29.0738, 133.9693, 2480,      0.0,  26.8823,  34.5665,2,   -999.0,9,-999.0000,9,    205.5,2,  -999.00,9,  -999.00,9,     0.20,2,     0.00,2,     0.00,2, -999.000,9, -999.000,9,  -999.00,9,   -999.0,9,   -999.0,9,-999.0000,9,   -999.0,  9,  -999.00,9,   -999.0,  -999.00,9,  -999.00,9,     0.02,2,     0.02,2,   -999.0,-999.0000, -999,9,    0,  26.8823,  22.4288,   -999.0,9
       SH00-09,  NONE,SH-6053,  2,     11,S-1-1-10,2,20001014,0927, 29.0738, 133.9693, 2480,     10.9,  26.8875,  34.5659,2,   -999.0,9,-999.0000,9,    205.7,2,  -999.00,9,  -999.00,9,     0.10,2,     0.00,2,     0.00,2, -999.000,9, -999.000,9,  -999.00,9,   -999.0,9,   -999.0,9,-999.0000,9,   -999.0,  9,  -999.00,9,   -999.0,  -999.00,9,  -999.00,9,     0.04,2,     0.03,2,   -999.0,-999.0000, -999,9,   11,  26.8851,  22.4274,   -999.0,9
       SH00-09,  NONE,SH-6053,  2,     10,1-133-94,2,20001014,0927, 29.0738, 133.9693, 2480,     25.8,  26.8611,  34.5638,2,   -999.0,9,-999.0000,9,    205.4,2,  -999.00,9,  -999.00,9,     0.00,2,     0.00,2,     0.00,2, -999.000,9, -999.000,9,  -999.00,9,   -999.0,9,   -999.0,9,-999.0000,9,   -999.0,  9,  -999.00,9,   -999.0,  -999.00,9,  -999.00,9,     0.04,2,     0.03,2,   -999.0,-999.0000, -999,9,   26,  26.8552,  22.4353,   -999.0,9
       SH00-09,  NONE,SH-6053,  2,      9, 1-133-2,2,20001014,0925, 29.0738, 133.9693, 2480,     50.3,  26.4314,  34.6088,2,   -999.0,9,-999.0000,9,    207.6,2,  -999.00,9,  -999.00,9,     0.00,2,     0.00,2,     0.00,2, -999.000,9, -999.000,9,  -999.00,9,   -999.0,9,   -999.0,9,-999.0000,9,   -999.0,  9,  -999.00,9,   -999.0,  -999.00,9,  -999.00,9,     0.06,2,     0.05,2,   -999.0,-999.0000, -999,9,   50,  26.4200,  22.6068,   -999.0,9
       SH00-09,  NONE,SH-6053,  2,      8,1-133-95,2,20001014,0924, 29.0738, 133.9693, 2480,     75.8,  23.0508,  34.7325,2,   -999.0,9,-999.0000,9,    226.3,2,  -999.00,9,  -999.00,9,     0.10,2,     0.00,2,     0.01,2, -999.000,9, -999.000,9,  -999.00,9,   -999.0,9,   -999.0,9,-999.0000,9,   -999.0,  9,  -999.00,9,   -999.0,  -999.00,9,  -999.00,9,     0.15,2,     0.13,2,   -999.0,-999.0000, -999,9,   75,  23.0353,  23.7205,   -999.0,9
       SH00-09,  NONE,SH-6053,  2,      7, S-1-1-4,2,20001014,0923, 29.0738, 133.9693, 2480,    101.5,  20.9510,  34.7973,2,   -999.0,9,-999.0000,9,    224.5,2,  -999.00,9,  -999.00,9,     0.20,2,     0.01,2,     0.02,2, -999.000,9, -999.000,9,  -999.00,9,   -999.0,9,   -999.0,9,-999.0000,9,   -999.0,  9,  -999.00,9,   -999.0,  -999.00,9,  -999.00,9,     0.20,2,     0.42,2,   -999.0,-999.0000, -999,9,  101,  20.9317,  24.3581,   -999.0,9
       SH00-09,  NONE,SH-6053,  2,      6,1-133-93,2,20001014,0922, 29.0738, 133.9693, 2480,    125.9,  19.6400,  34.8268,2,   -999.0,9,-999.0000,9,    217.2,2,  -999.00,9,  -999.00,9,     0.88,2,     0.09,2,     0.08,2, -999.000,9, -999.000,9,  -999.00,9,   -999.0,9,   -999.0,9,-999.0000,9,   -999.0,  9,  -999.00,9,   -999.0,  -999.00,9,  -999.00,9,     0.08,2,     0.33,2,   -999.0,-999.0000, -999,9,  125,  19.6170,  24.7299,   -999.0,9
       SH00-09,  NONE,SH-6053,  2,      5,S-1-1-11,2,20001014,0921, 29.0738, 133.9693, 2480,    153.9,  19.0605,  34.8212,2,   -999.0,9,-999.0000,9,    213.7,2,  -999.00,9,  -999.00,9,     1.76,2,     0.03,2,     0.14,2, -999.000,9, -999.000,9,  -999.00,9,   -999.0,9,   -999.0,9,-999.0000,9,   -999.0,  9,  -999.00,9,   -999.0,  -999.00,9,  -999.00,9,     0.04,2,     0.21,2,   -999.0,-999.0000, -999,9,  153,  19.0331,  24.8761,   -999.0,9
       SH00-09,  NONE,SH-6053,  2,      4,S-1-1-12,2,20001014,0919, 29.0738, 133.9693, 2480,    161.5,  18.9551,  34.8190,2,   -999.0,9,-999.0000,9,   -999.0,9,  -999.00,9,  -999.00,9,  -999.00,9,  -999.00,9,  -999.00,9, -999.000,9, -999.000,9,  -999.00,9,   -999.0,9,   -999.0,9,-999.0000,9,   -999.0,  9,  -999.00,9,   -999.0,  -999.00,9,  -999.00,9,  -999.00,9,  -999.00,9,   -999.0,-999.0000, -999,9,  160,  18.9264,  24.9015,   -999.0,9
       SH00-09,  NONE,SH-6053,  2,      3,1-133-84,2,20001014,0918, 29.0738, 133.9693, 2480,    201.5,  18.4573,  34.7985,2,   -999.0,9,-999.0000,9,    215.3,2,  -999.00,9,  -999.00,9,     2.34,2,     0.02,2,     0.19,2, -999.000,9, -999.000,9,  -999.00,9,   -999.0,9,   -999.0,9,-999.0000,9,   -999.0,  9,  -999.00,9,   -999.0,  -999.00,9,  -999.00,9,     0.00,2,     0.02,2,   -999.0,-999.0000, -999,9,  200,  18.4221,  25.0130,   -999.0,9
       SH00-09,  NONE,SH-6053,  2,      2, S-1-1-7,2,20001014,0917, 29.0738, 133.9693, 2480,    251.0,  18.1556,  34.7895,2,   -999.0,9,-999.0000,9,    216.5,2,  -999.00,9,  -999.00,9,     2.63,2,     0.01,2,     0.22,2, -999.000,9, -999.000,9,  -999.00,9,   -999.0,9,   -999.0,9,-999.0000,9,   -999.0,  9,  -999.00,9,   -999.0,  -999.00,9,  -999.00,9,     0.00,2,     0.01,2,   -999.0,-999.0000, -999,9,  249,  18.1122,  25.0832,   -999.0,9
       SH00-09,  NONE,SH-6053,  2,      1, 1-133-1,2,20001014,0915, 29.0738, 133.9693, 2480,    304.5,  17.8654,  34.7854,2,   -999.0,9,-999.0000,9,    217.9,2,  -999.00,9,  -999.00,9,     2.93,2,     0.02,2,     0.23,2, -999.000,9, -999.000,9,  -999.00,9,   -999.0,9,   -999.0,9,-999.0000,9,   -999.0,  9,  -999.00,9,   -999.0,  -999.00,9,  -999.00,9,     0.00,2,     0.01,2,   -999.0,-999.0000, -999,9,  302,  17.8134,  25.1535,   -999.0,9
       SH00-09,  NONE,SH-6053,  1,     12, 1-133-7,2,20001014,0848, 29.0815, 133.9782, 2490,    403.2,  17.3425,  34.7769,2,   -999.0,9,-999.0000,9,    215.9,2,  -999.00,9,  -999.00,9,     3.71,2,     0.01,2,     0.28,2, -999.000,9, -999.000,9,  -999.00,9,   -999.0,9,   -999.0,9,-999.0000,9,   -999.0,  9,  -999.00,9,   -999.0,  -999.00,9,  -999.00,9,  -999.00,9,  -999.00,9,   -999.0,-999.0000, -999,9,  400,  17.2748,  25.2774,   -999.0,9
       SH00-09,  NONE,SH-6053,  1,     11,S-1-1-10,2,20001014,0846, 29.0815, 133.9782, 2490,    503.5,  16.2580,  34.7168,2,   -999.0,9,-999.0000,9,    201.7,2,  -999.00,9,  -999.00,9,     6.14,2,     0.01,2,     0.48,2, -999.000,9, -999.000,9,  -999.00,9,   -999.0,9,   -999.0,9,-999.0000,9,   -999.0,  9,  -999.00,9,   -999.0,  -999.00,9,  -999.00,9,  -999.00,9,  -999.00,9,   -999.0,-999.0000, -999,9,  499,  16.1770,  25.4892,   -999.0,9
       SH00-09,  NONE,SH-6053,  1,     10,1-133-94,2,20001014,0844, 29.0815, 133.9782, 2490,    604.9,  13.4370,  34.5084,2,   -999.0,9,-999.0000,9,    187.6,2,  -999.00,9,  -999.00,9,    11.11,2,     0.01,2,     0.88,2, -999.000,9, -999.000,9,  -999.00,9,   -999.0,9,   -999.0,9,-999.0000,9,   -999.0,  9,  -999.00,9,   -999.0,  -999.00,9,  -999.00,9,  -999.00,9,  -999.00,9,   -999.0,-999.0000, -999,9,  600,  13.3511,  25.9412,   -999.0,9
       SH00-09,  NONE,SH-6053,  1,      9, 1-133-2,2,20001014,0842, 29.0815, 133.9782, 2490,    705.2,  10.9453,  34.3249,2,   -999.0,9,-999.0000,9,    169.7,2,  -999.00,9,  -999.00,9,    15.98,2,     0.00,2,     1.30,2, -999.000,9, -999.000,9,  -999.00,9,   -999.0,9,   -999.0,9,-999.0000,9,   -999.0,  9,  -999.00,9,   -999.0,  -999.00,9,  -999.00,9,  -999.00,9,  -999.00,9,   -999.0,-999.0000, -999,9,  699,  10.8573,  26.2753,   -999.0,9
       SH00-09,  NONE,SH-6053,  1,      8,1-133-95,2,20001014,0840, 29.0815, 133.9782, 2490,    807.3,   8.1601,  34.1825,2,   -999.0,9,-999.0000,9,    141.0,2,  -999.00,9,  -999.00,9,    22.79,2,     0.00,2,     1.83,2, -999.000,9, -999.000,9,  -999.00,9,   -999.0,9,   -999.0,9,-999.0000,9,   -999.0,  9,  -999.00,9,   -999.0,  -999.00,9,  -999.00,9,  -999.00,9,  -999.00,9,   -999.0,-999.0000, -999,9,  800,   8.0753,  26.6206,   -999.0,9
       SH00-09,  NONE,SH-6053,  1,      7, S-1-1-4,2,20001014,0838, 29.0815, 133.9782, 2490,    908.8,   6.4647,  34.1558,2,   -999.0,9,-999.0000,9,    114.5,2,  -999.00,9,  -999.00,9,    27.46,2,     0.02,2,     2.20,2, -999.000,9, -999.000,9,  -999.00,9,   -999.0,9,   -999.0,9,-999.0000,9,   -999.0,  9,  -999.00,9,   -999.0,  -999.00,9,  -999.00,9,  -999.00,9,  -999.00,9,   -999.0,-999.0000, -999,9,  901,   6.3800,  26.8368,   -999.0,9
       SH00-09,  NONE,SH-6053,  1,      6,1-133-93,2,20001014,0836, 29.0815, 133.9782, 2490,   1009.1,   5.3208,  34.2034,2,   -999.0,9,-999.0000,9,     88.4,2,  -999.00,9,  -999.00,9,    31.35,2,     0.00,2,     2.51,2, -999.000,9, -999.000,9,  -999.00,9,   -999.0,9,   -999.0,9,-999.0000,9,   -999.0,  9,  -999.00,9,   -999.0,  -999.00,9,  -999.00,9,  -999.00,9,  -999.00,9,   -999.0,-999.0000, -999,9, 1000,   5.2347,  27.0165,   -999.0,9
       SH00-09,  NONE,SH-6053,  1,      5,S-1-1-11,2,20001014,0832, 29.0815, 133.9782, 2490,   1211.8,   3.9652,  34.3585,2,   -999.0,9,-999.0000,9,     67.0,2,  -999.00,9,  -999.00,9,    34.56,2,     0.00,2,     2.79,2, -999.000,9, -999.000,9,  -999.00,9,   -999.0,9,   -999.0,9,-999.0000,9,   -999.0,  9,  -999.00,9,   -999.0,  -999.00,9,  -999.00,9,  -999.00,9,  -999.00,9,   -999.0,-999.0000, -999,9, 1200,   3.8723,  27.2889,   -999.0,9
       SH00-09,  NONE,SH-6053,  1,      4,S-1-1-12,2,20001014,0828, 29.0815, 133.9782, 2490,   1517.7,   2.8505,  34.4896,2,   -999.0,9,-999.0000,9,     74.5,2,  -999.00,9,  -999.00,9,    35.43,2,     0.01,2,     2.83,2, -999.000,9, -999.000,9,  -999.00,9,   -999.0,9,   -999.0,9,-999.0000,9,   -999.0,  9,  -999.00,9,   -999.0,  -999.00,9,  -999.00,9,  -999.00,9,  -999.00,9,   -999.0,-999.0000, -999,9, 1502,   2.7432,  27.5007,   -999.0,9
       SH00-09,  NONE,SH-6054,  2,     -9,      -9,5,20001014,1529, 29.4902, 133.5000, 2780,      0.0,  27.0952,  34.5473,2,   -999.0,9,-999.0000,9,    206.4,2,  -999.00,9,  -999.00,9,  -999.00,4,     0.00,2,     0.04,2, -999.000,9, -999.000,9,  -999.00,9,   -999.0,9,   -999.0,9,-999.0000,9,   -999.0,  9,     8.22,2,   -999.0,  -999.00,9,  -999.00,9,     0.03,2,     0.02,2,   -999.0,-999.0000, -999,9,    0,  27.0952,  22.3464,   -999.0,9
       SH00-09,  NONE,SH-6054,  2,      9, S-1-1-2,2,20001014,1528, 29.4902, 133.5000, 2780,     12.0,  27.1012,  34.5467,2,   -999.0,9,  34.5480,4,    205.2,2,  -999.00,9,  -999.00,9,  -999.00,4,     0.00,2,     0.01,2, -999.000,9, -999.000,9,  -999.00,9,   -999.0,9,   -999.0,9,-999.0000,9,   -999.0,  9,     8.23,2,   -999.0,  -999.00,9,  -999.00,9,     0.04,2,     0.02,2,   -999.0,-999.0000, -999,9,   12,  27.0985,  22.3449,   -999.0,9
       SH00-09,  NONE,SH-6054,  2,      8,1-133-95,2,20001014,1527, 29.4902, 133.5000, 2780,     26.9,  27.1045,  34.5476,2,   -999.0,9,  34.5480,2,    205.9,2,  -999.00,9,  -999.00,9,  -999.00,4,     0.00,2,     0.00,2, -999.000,9, -999.000,9,  -999.00,9,   -999.0,9,   -999.0,9,-999.0000,9,   -999.0,  9,     8.22,2,   -999.0,  -999.00,9,  -999.00,9,     0.04,2,     0.02,2,   -999.0,-999.0000, -999,9,   27,  27.0983,  22.3456,   -999.0,9
       SH00-09,  NONE,SH-6054,  2,      7, S-1-1-4,2,20001014,1526, 29.4902, 133.5000, 2780,     51.7,  25.3954,  34.6587,2,   -999.0,9,  34.6335,4,    218.8,2,  -999.00,9,  -999.00,9,  -999.00,4,     0.00,2,     0.00,2, -999.000,9, -999.000,9,  -999.00,9,   -999.0,9,   -999.0,9,-999.0000,9,   -999.0,  9,     8.21,2,   -999.0,  -999.00,9,  -999.00,9,     0.08,2,     0.05,2,   -999.0,-999.0000, -999,9,   51,  25.3841,  22.9661,   -999.0,9
       SH00-09,  NONE,SH-6054,  2,      6,1-133-93,2,20001014,1525, 29.4902, 133.5000, 2780,     75.9,  23.2106,  34.7535,2,   -999.0,9,  34.7365,4,    224.2,2,  -999.00,9,  -999.00,9,  -999.00,4,     0.00,2,     0.00,2, -999.000,9, -999.000,9,  -999.00,9,   -999.0,9,   -999.0,9,-999.0000,9,   -999.0,  9,  -999.00,9,   -999.0,  -999.00,9,  -999.00,9,     0.09,2,     0.09,2,   -999.0,-999.0000, -999,9,   75,  23.1950,  23.6904,   -999.0,9
       SH00-09,  NONE,SH-6054,  2,      5,S-1-1-11,2,20001014,1524, 29.4902, 133.5000, 2780,    101.7,  21.1822,  34.7847,2,   -999.0,9,  34.7873,2,    217.1,2,  -999.00,9,  -999.00,9,  -999.00,4,     0.05,2,     0.03,2, -999.000,9, -999.000,9,  -999.00,9,   -999.0,9,   -999.0,9,-999.0000,9,   -999.0,  9,  -999.00,9,   -999.0,  -999.00,9,  -999.00,9,     0.21,2,     0.55,2,   -999.0,-999.0000, -999,9,  101,  21.1627,  24.2857,   -999.0,9
       SH00-09,  NONE,SH-6054,  2,      4,S-1-1-12,2,20001014,1523, 29.4902, 133.5000, 2780,    127.8,  19.9954,  34.8071,2,   -999.0,9,  34.8160,4,    218.6,2,  -999.00,9,  -999.00,9,  -999.00,4,     0.12,2,     0.05,2, -999.000,9, -999.000,9,  -999.00,9,   -999.0,9,   -999.0,9,-999.0000,9,   -999.0,  9,  -999.00,9,   -999.0,  -999.00,9,  -999.00,9,     0.09,2,     0.43,2,   -999.0,-999.0000, -999,9,  127,  19.9718,  24.6220,   -999.0,9
       SH00-09,  NONE,SH-6054,  2,      3,1-133-84,2,20001014,1523, 29.4902, 133.5000, 2780,    153.6,  19.1920,  34.8139,2,   -999.0,9,  34.8166,2,    213.3,2,  -999.00,9,  -999.00,9,  -999.00,4,     0.03,2,     0.13,2, -999.000,9, -999.000,9,  -999.00,9,   -999.0,9,   -999.0,9,-999.0000,9,   -999.0,  9,     8.14,2,   -999.0,  -999.00,9,  -999.00,9,     0.02,2,     0.15,2,   -999.0,-999.0000, -999,9,  153,  19.1645,  24.8369,   -999.0,9
       SH00-09,  NONE,SH-6054,  2,      2, S-1-1-7,2,20001014,1521, 29.4902, 133.5000, 2780,    204.6,  18.6422,  34.8011,2,   -999.0,9,  34.8030,2,    214.5,2,  -999.00,9,  -999.00,9,  -999.00,4,     0.01,2,     0.18,2, -999.000,9, -999.000,9,  -999.00,9,   -999.0,9,   -999.0,9,-999.0000,9,   -999.0,  9,     8.13,2,   -999.0,  -999.00,9,  -999.00,9,     0.01,2,     0.02,2,   -999.0,-999.0000, -999,9,  203,  18.6062,  24.9688,   -999.0,9
       SH00-09,  NONE,SH-6054,  2,      1, 1-133-1,2,20001014,1520, 29.4902, 133.5000, 2780,    252.7,  18.2923,  34.7929,2,   -999.0,9,  34.7945,2,    216.0,2,  -999.00,9,  -999.00,9,  -999.00,4,     0.01,2,     0.20,2, -999.000,9, -999.000,9,  -999.00,9,   -999.0,9,   -999.0,9,-999.0000,9,   -999.0,  9,     8.13,2,   -999.0,  -999.00,9,  -999.00,9,     0.00,2,     0.01,2,   -999.0,-999.0000, -999,9,  251,  18.2484,  25.0520,   -999.0,9
       SH00-09,  NONE,SH-6054,  2,     12, 1-133-7,2,20001014,1519, 29.4902, 133.5000, 2780,    304.6,  17.9249,  34.7869,2,   -999.0,9,  34.7900,2,    218.4,2,  -999.00,9,  -999.00,9,  -999.00,4,     0.01,2,     0.22,2, -999.000,9, -999.000,9,  -999.00,9,   -999.0,9,   -999.0,9,-999.0000,9,   -999.0,  9,     8.12,2,   -999.0,  -999.00,9,  -999.00,9,     0.00,2,     0.00,2,   -999.0,-999.0000, -999,9,  302,  17.8727,  25.1401,   -999.0,9