BOTTLE,20130510GEMDJMAYT
EXPOCODE,SECT_ID,STNNBR,CASTNO,SAMPNO,BTLNBR,BTLNBR_FLAG_W,DATE,TIME,LATITUDE,LONGITUDE,DEPTH,CTDPRS,CTDTMP,CTDSAL,CTDSAL_FLAG_W,CTDOXY,CTDOXY_FLAG_W,SALNTY,SALNTY_FLAG_W,OXYGEN,OXYGEN_FLAG_W,SILCAT,SILCAT_FLAG_W,NITRAT,NITRAT_FLAG_W,NO2+NO3,NO2+NO3_FLAG_W,NITRIT,NITRIT_FLAG_W,PHSPHT,PHSPHT_FLAG_W,CFC-11,CFC-11_FLAG_W,CFC-12,CFC-12_FLAG_W,DELC13,DELC13_FLAG_W,TCARBN,TCARBN_FLAG_W,ALKALI,ALKALI_FLAG_W,PH,PH_FLAG_W,PH_TMP,PH_SCALE,PH_NBS,PH_NBS_FLAG_W,C13ERR,TOTALP,TOTALP_FLAG_W,AMMONI,AMMONI_FLAG_W,CHLORA,CHLORA_FLAG_W,PPHYTN,PPHYTN_FLAG_W,REVPRS,REVTMP,DEPTH_,DEPTH_FLAG,CTDDEP,THETA,SIGTHT,DOC,DOC_FLAG_W
,,,,,,,GMT,GMT,,,METER,DBAR,ITS-90,PSS-78,,UMOL/KG,,PSS-78,,UMOL/KG,,UMOL/KG,,UMOL/KG,,UMOL/KG,,UMOL/KG,,UMOL/KG,,PMOL/KG,,PMOL/KG,,/MILLE,,UMOL/KG,,UMOL/KG,,25_DEG_C,,DEG_C,,,,/MILLE,UMOL/KG,,UMOL/KG,,UG/L,,UG/L,,DBAR,ITS-90,METERS,,METERS,DEG_C,,UMOL/L,
       SH00-09,  NONE,SH-6054,  1,     11,S-1-1-10,2,20001014,1449, 29.4950, 133.4998, 2770,    402.1,  17.4642,  34.7840,2,   -999.0,9,  34.7812,2,    217.2,2,  -999.00,9,  -999.00,9,  -999.00,4,     0.01,2,     0.26,2, -999.000,9, -999.000,9,  -999.00,9,   -999.0,9,   -999.0,9,-999.0000,9,   -999.0,  9,     8.11,2,   -999.0,  -999.00,9,  -999.00,9,  -999.00,9,  -999.00,9,   -999.0,-999.0000, -999,9,  399,  17.3963,  25.2537,   -999.0,9
       SH00-09,  NONE,SH-6054,  1,     10,1-133-94,4,20001014,1447, 29.4950, 133.4998, 2770,    501.9,  16.0389,  34.7051,2,   -999.0,9,  34.7001,2,    197.4,2,  -999.00,9,  -999.00,9,  -999.00,4,     0.00,2,     0.51,2, -999.000,9, -999.000,9,  -999.00,9,   -999.0,9,   -999.0,9,-999.0000,9,   -999.0,  9,     8.04,2,   -999.0,  -999.00,9,  -999.00,9,  -999.00,9,  -999.00,9,   -999.0,-999.0000, -999,9,  498,  15.9588,  25.5301,   -999.0,9
       SH00-09,  NONE,SH-6054,  1,     -1,      -9,4,20001014,1445, 29.4950, 133.4998, 2770,    503.6,  16.0423,  34.6987,2,   -999.0,9,-999.0000,9,   -999.0,9,  -999.00,9,  -999.00,9,  -999.00,9,  -999.00,9,  -999.00,9, -999.000,9, -999.000,9,  -999.00,9,   -999.0,9,   -999.0,9,-999.0000,9,   -999.0,  9,  -999.00,9,   -999.0,  -999.00,9,  -999.00,9,  -999.00,9,  -999.00,9,   -999.0,-999.0000, -999,9,  500,  15.9620,  25.5245,   -999.0,9
       SH00-09,  NONE,SH-6054,  1,      9, S-1-1-2,2,20001014,1443, 29.4950, 133.4998, 2770,    604.4,  13.7311,  34.5328,2,   -999.0,9,  34.5311,2,    185.0,2,  -999.00,9,  -999.00,9,  -999.00,4,     0.00,2,     0.87,2, -999.000,9, -999.000,9,  -999.00,9,   -999.0,9,   -999.0,9,-999.0000,9,   -999.0,  9,     7.96,2,   -999.0,  -999.00,9,  -999.00,9,  -999.00,9,  -999.00,9,   -999.0,-999.0000, -999,9,  599,  13.6440,  25.9000,   -999.0,9
       SH00-09,  NONE,SH-6054,  1,      8,1-133-95,2,20001014,1441, 29.4950, 133.4998, 2770,    703.8,  11.0655,  34.3463,2,   -999.0,9,  34.3461,2,    171.5,2,  -999.00,9,  -999.00,9,  -999.00,4,     0.00,2,     1.27,2, -999.000,9, -999.000,9,  -999.00,9,   -999.0,9,   -999.0,9,-999.0000,9,   -999.0,  9,     7.87,2,   -999.0,  -999.00,9,  -999.00,9,  -999.00,9,  -999.00,9,   -999.0,-999.0000, -999,9,  698,  10.9771,  26.2706,   -999.0,9
       SH00-09,  NONE,SH-6054,  1,      7, S-1-1-4,2,20001014,1439, 29.4950, 133.4998, 2770,    806.0,   8.3399,  34.1899,2,   -999.0,9,  34.1909,2,    144.1,2,  -999.00,9,  -999.00,9,  -999.00,4,     0.02,2,     1.77,2, -999.000,9, -999.000,9,  -999.00,9,   -999.0,9,   -999.0,9,-999.0000,9,   -999.0,  9,     7.76,2,   -999.0,  -999.00,9,  -999.00,9,  -999.00,9,  -999.00,9,   -999.0,-999.0000, -999,9,  799,   8.2542,  26.5995,   -999.0,9
       SH00-09,  NONE,SH-6054,  1,      6,1-133-93,2,20001014,1437, 29.4950, 133.4998, 2770,    907.0,   6.6155,  34.1568,2,   -999.0,9,  34.1575,2,    114.0,2,  -999.00,9,  -999.00,9,  -999.00,4,     0.00,2,     2.20,2, -999.000,9, -999.000,9,  -999.00,9,   -999.0,9,   -999.0,9,-999.0000,9,   -999.0,  9,     7.64,2,   -999.0,  -999.00,9,  -999.00,9,  -999.00,9,  -999.00,9,   -999.0,-999.0000, -999,9,  899,   6.5300,  26.8178,   -999.0,9
       SH00-09,  NONE,SH-6054,  1,      5,S-1-1-11,2,20001014,1435, 29.4950, 133.4998, 2770,   1007.8,   5.5671,  34.1822,2,   -999.0,9,  34.1807,2,     93.7,2,  -999.00,9,  -999.00,9,  -999.00,4,     0.00,2,     2.45,2, -999.000,9, -999.000,9,  -999.00,9,   -999.0,9,   -999.0,9,-999.0000,9,   -999.0,  9,     7.59,2,   -999.0,  -999.00,9,  -999.00,9,  -999.00,9,  -999.00,9,   -999.0,-999.0000, -999,9,  999,   5.4793,  26.9706,   -999.0,9
       SH00-09,  NONE,SH-6054,  1,      4,S-1-1-12,2,20001014,1432, 29.4950, 133.4998, 2770,   1209.8,   4.1200,  34.3612,2,   -999.0,9,  34.3602,2,     67.8,2,  -999.00,9,  -999.00,9,  -999.00,4,     0.00,2,     2.73,2, -999.000,9, -999.000,9,  -999.00,9,   -999.0,9,   -999.0,9,-999.0000,9,   -999.0,  9,     7.55,2,   -999.0,  -999.00,9,  -999.00,9,  -999.00,9,  -999.00,9,   -999.0,-999.0000, -999,9, 1198,   4.0257,  27.2753,   -999.0,9
       SH00-09,  NONE,SH-6054,  1,      3,1-133-84,2,20001014,1427, 29.4950, 133.4998, 2770,   1513.4,   2.9324,  34.4801,2,   -999.0,9,  34.4803,2,     70.2,2,  -999.00,9,  -999.00,9,  -999.00,4,     0.00,2,     2.81,2, -999.000,9, -999.000,9,  -999.00,9,   -999.0,9,   -999.0,9,-999.0000,9,   -999.0,  9,     7.53,2,   -999.0,  -999.00,9,  -999.00,9,  -999.00,9,  -999.00,9,   -999.0,-999.0000, -999,9, 1498,   2.8245,  27.4859,   -999.0,9
       SH00-09,  NONE,SH-6054,  1,      2, S-1-1-7,2,20001014,1426, 29.4950, 133.4998, 2770,   1514.5,   2.9332,  34.4799,2,   -999.0,9,  34.4791,2,     71.1,2,  -999.00,9,  -999.00,9,  -999.00,4,     0.00,2,     2.82,2, -999.000,9, -999.000,9,  -999.00,9,   -999.0,9,   -999.0,9,-999.0000,9,   -999.0,  9,     7.55,2,   -999.0,  -999.00,9,  -999.00,9,  -999.00,9,  -999.00,9,   -999.0,-999.0000, -999,9, 1499,   2.8252,  27.4857,   -999.0,9
       SH00-09,  NONE,SH-6054,  1,      1, 1-133-1,2,20001014,1419, 29.4950, 133.4998, 2770,   2022.8,   2.1371,  34.5905,2,   -999.0,9,  34.5887,2,   -999.0,9,  -999.00,9,  -999.00,9,  -999.00,9,  -999.00,9,  -999.00,9, -999.000,9, -999.000,9,  -999.00,9,   -999.0,9,   -999.0,9,-999.0000,9,   -999.0,  9,  -999.00,9,   -999.0,  -999.00,9,  -999.00,9,  -999.00,9,  -999.00,9,   -999.0,-999.0000, -999,9, 1999,   1.9968,  27.6438,   -999.0,9
       SH00-09,  NONE,SH-6054,  1,     12, 1-133-7,2,20001014,1411, 29.4950, 133.4998, 2770,   2549.3,   1.7890,  34.6430,2,   -999.0,9,  34.6392,2,   -999.0,9,  -999.00,9,  -999.00,9,  -999.00,9,  -999.00,9,  -999.00,9, -999.000,9, -999.000,9,  -999.00,9,   -999.0,9,   -999.0,9,-999.0000,9,   -999.0,  9,  -999.00,9,   -999.0,  -999.00,9,  -999.00,9,  -999.00,9,  -999.00,9,   -999.0,-999.0000, -999,9, 2517,   1.6082,  27.7157,   -999.0,9
       SH00-09,  NONE,SH-6055,  2,     -9,      -9,5,20001014,2124, 29.9582, 132.9490, 3840,      0.0,  26.9650,  34.4824,2,   -999.0,9,-999.0000,9,    205.1,2,  -999.00,9,  -999.00,9,  -999.00,4,     0.00,2,     0.00,2, -999.000,9, -999.000,9,  -999.00,9,   -999.0,9,   -999.0,9,-999.0000,9,   -999.0,  9,  -999.00,9,   -999.0,  -999.00,9,  -999.00,9,     0.02,2,     0.01,2,   -999.0,-999.0000, -999,9,    0,  26.9650,  22.3391,   -999.0,9
       SH00-09,  NONE,SH-6055,  2,      4,S-1-1-12,2,20001014,2123, 29.9582, 132.9490, 3840,     11.7,  26.9800,  34.4798,2,   -999.0,9,-999.0000,9,    205.7,2,  -999.00,9,  -999.00,9,  -999.00,4,     0.00,2,     0.00,2, -999.000,9, -999.000,9,  -999.00,9,   -999.0,9,   -999.0,9,-999.0000,9,   -999.0,  9,  -999.00,9,   -999.0,  -999.00,9,  -999.00,9,     0.04,2,     0.02,2,   -999.0,-999.0000, -999,9,   12,  26.9774,  22.3332,   -999.0,9
       SH00-09,  NONE,SH-6055,  2,      3,1-133-84,2,20001014,2122, 29.9582, 132.9490, 3840,     26.2,  26.9671,  34.4919,2,   -999.0,9,-999.0000,9,    205.4,2,  -999.00,9,  -999.00,9,  -999.00,4,     0.00,2,     0.00,2, -999.000,9, -999.000,9,  -999.00,9,   -999.0,9,   -999.0,9,-999.0000,9,   -999.0,  9,  -999.00,9,   -999.0,  -999.00,9,  -999.00,9,     0.05,2,     0.02,2,   -999.0,-999.0000, -999,9,   26,  26.9611,  22.3475,   -999.0,9
       SH00-09,  NONE,SH-6055,  2,      2, S-1-1-7,2,20001014,2121, 29.9582, 132.9490, 3840,     51.5,  26.2162,  34.5652,2,   -999.0,9,-999.0000,9,    214.9,2,  -999.00,9,  -999.00,9,  -999.00,4,     0.00,2,     0.00,2, -999.000,9, -999.000,9,  -999.00,9,   -999.0,9,   -999.0,9,-999.0000,9,   -999.0,  9,  -999.00,9,   -999.0,  -999.00,9,  -999.00,9,     0.08,2,     0.04,2,   -999.0,-999.0000, -999,9,   51,  26.2047,  22.6415,   -999.0,9
       SH00-09,  NONE,SH-6055,  2,      1, 1-133-1,2,20001014,2120, 29.9582, 132.9490, 3840,     76.7,  23.8304,  34.7337,2,   -999.0,9,-999.0000,9,    219.4,2,  -999.00,9,  -999.00,9,  -999.00,4,     0.00,2,     0.01,2, -999.000,9, -999.000,9,  -999.00,9,   -999.0,9,   -999.0,9,-999.0000,9,   -999.0,  9,  -999.00,9,   -999.0,  -999.00,9,  -999.00,9,     0.17,2,     0.15,2,   -999.0,-999.0000, -999,9,   76,  23.8143,  23.4945,   -999.0,9
       SH00-09,  NONE,SH-6055,  2,     12, 1-133-7,2,20001014,2119, 29.9582, 132.9490, 3840,    102.4,  21.5236,  34.7755,2,   -999.0,9,-999.0000,9,    216.4,2,  -999.00,9,  -999.00,9,  -999.00,4,     0.08,2,     0.04,2, -999.000,9, -999.000,9,  -999.00,9,   -999.0,9,   -999.0,9,-999.0000,9,   -999.0,  9,  -999.00,9,   -999.0,  -999.00,9,  -999.00,9,     0.14,2,     0.47,2,   -999.0,-999.0000, -999,9,  102,  21.5037,  24.1851,   -999.0,9
       SH00-09,  NONE,SH-6055,  2,     11,S-1-1-10,2,20001014,2118, 29.9582, 132.9490, 3840,    127.4,  20.5118,  34.7954,2,   -999.0,9,-999.0000,9,    208.6,2,  -999.00,9,  -999.00,9,  -999.00,4,     0.08,2,     0.11,2, -999.000,9, -999.000,9,  -999.00,9,   -999.0,9,   -999.0,9,-999.0000,9,   -999.0,  9,  -999.00,9,   -999.0,  -999.00,9,  -999.00,9,     0.09,2,     0.37,2,   -999.0,-999.0000, -999,9,  127,  20.4879,  24.4762,   -999.0,9
       SH00-09,  NONE,SH-6055,  2,     10,1-133-94,2,20001014,2117, 29.9582, 132.9490, 3840,    153.1,  19.7962,  34.8083,2,   -999.0,9,-999.0000,9,    206.8,2,  -999.00,9,  -999.00,9,  -999.00,4,     0.03,2,     0.16,2, -999.000,9, -999.000,9,  -999.00,9,   -999.0,9,   -999.0,9,-999.0000,9,   -999.0,  9,  -999.00,9,   -999.0,  -999.00,9,  -999.00,9,     0.04,2,     0.14,2,   -999.0,-999.0000, -999,9,  152,  19.7682,  24.6763,   -999.0,9
       SH00-09,  NONE,SH-6055,  2,      9, 1-133-2,2,20001014,2115, 29.9582, 132.9490, 3840,    203.2,  19.1321,  34.8068,2,   -999.0,9,-999.0000,9,    211.1,2,  -999.00,9,  -999.00,9,  -999.00,4,     0.02,2,     0.17,2, -999.000,9, -999.000,9,  -999.00,9,   -999.0,9,   -999.0,9,-999.0000,9,   -999.0,  9,  -999.00,9,   -999.0,  -999.00,9,  -999.00,9,     0.00,2,     0.02,2,   -999.0,-999.0000, -999,9,  202,  19.0957,  24.8491,   -999.0,9
       SH00-09,  NONE,SH-6055,  2,      8,1-133-95,2,20001014,2114, 29.9582, 132.9490, 3840,    253.3,  18.6756,  34.8042,2,   -999.0,9,-999.0000,9,    211.2,2,  -999.00,9,  -999.00,9,  -999.00,4,     0.01,2,     0.20,2, -999.000,9, -999.000,9,  -999.00,9,   -999.0,9,   -999.0,9,-999.0000,9,   -999.0,  9,  -999.00,9,   -999.0,  -999.00,9,  -999.00,9,     0.00,2,     0.01,2,   -999.0,-999.0000, -999,9,  251,  18.6310,  24.9650,   -999.0,9
       SH00-09,  NONE,SH-6055,  2,      7, S-1-1-4,2,20001014,2112, 29.9582, 132.9490, 3840,    305.9,  18.1606,  34.7937,2,   -999.0,9,-999.0000,9,    200.6,2,  -999.00,9,  -999.00,9,  -999.00,4,     0.02,2,     0.31,2, -999.000,9, -999.000,9,  -999.00,9,   -999.0,9,   -999.0,9,-999.0000,9,   -999.0,  9,  -999.00,9,   -999.0,  -999.00,9,  -999.00,9,     0.00,2,     0.01,2,   -999.0,-999.0000, -999,9,  304,  18.1077,  25.0875,   -999.0,9
       SH00-09,  NONE,SH-6055,  1,      6,1-133-93,2,20001014,2040, 29.9575, 132.9488, 3840,    402.5,  16.7720,  34.7466,2,   -999.0,9,-999.0000,9,    202.4,2,  -999.00,9,  -999.00,9,  -999.00,4,     0.01,2,     0.42,2, -999.000,9, -999.000,9,  -999.00,9,   -999.0,9,   -999.0,9,-999.0000,9,   -999.0,  9,  -999.00,9,   -999.0,  -999.00,9,  -999.00,9,  -999.00,9,  -999.00,9,   -999.0,-999.0000, -999,9,  399,  16.7059,  25.3892,   -999.0,9
       SH00-09,  NONE,SH-6055,  1,      5,S-1-1-11,2,20001014,2038, 29.9575, 132.9488, 3840,    502.9,  14.4591,  34.5862,2,   -999.0,9,-999.0000,9,    185.5,2,  -999.00,9,  -999.00,9,  -999.00,4,     0.00,2,     0.77,2, -999.000,9, -999.000,9,  -999.00,9,   -999.0,9,   -999.0,9,-999.0000,9,   -999.0,  9,  -999.00,9,   -999.0,  -999.00,9,  -999.00,9,  -999.00,9,  -999.00,9,   -999.0,-999.0000, -999,9,  499,  14.3843,  25.7860,   -999.0,9
       SH00-09,  NONE,SH-6055,  1,      4,S-1-1-12,2,20001014,2036, 29.9575, 132.9488, 3840,    604.4,  11.6407,  34.4029,2,   -999.0,9,-999.0000,9,    167.0,2,  -999.00,9,  -999.00,9,  -999.00,4,     0.01,2,     1.23,2, -999.000,9, -999.000,9,  -999.00,9,   -999.0,9,   -999.0,9,-999.0000,9,   -999.0,  9,  -999.00,9,   -999.0,  -999.00,9,  -999.00,9,  -999.00,9,  -999.00,9,   -999.0,-999.0000, -999,9,  599,  11.5626,  26.2075,   -999.0,9
       SH00-09,  NONE,SH-6055,  1,      3,1-133-84,2,20001014,2034, 29.9575, 132.9488, 3840,    705.6,   9.3626,  34.2553,2,   -999.0,9,-999.0000,9,    151.8,2,  -999.00,9,  -999.00,9,  -999.00,4,     0.00,2,     1.60,2, -999.000,9, -999.000,9,  -999.00,9,   -999.0,9,   -999.0,9,-999.0000,9,   -999.0,  9,  -999.00,9,   -999.0,  -999.00,9,  -999.00,9,  -999.00,9,  -999.00,9,   -999.0,-999.0000, -999,9,  700,   9.2826,  26.4895,   -999.0,9
       SH00-09,  NONE,SH-6055,  1,      2, S-1-1-7,2,20001014,2032, 29.9575, 132.9488, 3840,    806.5,   7.4454,  34.2055,2,   -999.0,9,-999.0000,9,    124.9,2,  -999.00,9,  -999.00,9,  -999.00,4,     0.00,2,     2.01,2, -999.000,9, -999.000,9,  -999.00,9,   -999.0,9,   -999.0,9,-999.0000,9,   -999.0,  9,  -999.00,9,   -999.0,  -999.00,9,  -999.00,9,  -999.00,9,  -999.00,9,   -999.0,-999.0000, -999,9,  799,   7.3648,  26.7420,   -999.0,9
       SH00-09,  NONE,SH-6055,  1,      1, 1-133-1,2,20001014,2030, 29.9575, 132.9488, 3840,    908.1,   5.8590,  34.1927,2,   -999.0,9,-999.0000,9,    100.9,2,  -999.00,9,  -999.00,9,  -999.00,4,     0.00,2,     2.37,2, -999.000,9, -999.000,9,  -999.00,9,   -999.0,9,   -999.0,9,-999.0000,9,   -999.0,  9,  -999.00,9,   -999.0,  -999.00,9,  -999.00,9,  -999.00,9,  -999.00,9,   -999.0,-999.0000, -999,9,  900,   5.7785,  26.9424,   -999.0,9
       SH00-09,  NONE,SH-6055,  1,     12, 1-133-7,2,20001014,2028, 29.9575, 132.9488, 3840,   1008.9,   4.8591,  34.2424,2,   -999.0,9,-999.0000,9,     77.4,2,  -999.00,9,  -999.00,9,  -999.00,4,     0.00,2,     2.59,2, -999.000,9, -999.000,9,  -999.00,9,   -999.0,9,   -999.0,9,-999.0000,9,   -999.0,  9,  -999.00,9,   -999.0,  -999.00,9,  -999.00,9,  -999.00,9,  -999.00,9,   -999.0,-999.0000, -999,9, 1000,   4.7765,  27.1000,   -999.0,9
       SH00-09,  NONE,SH-6055,  1,     11,S-1-1-10,2,20001014,2024, 29.9575, 132.9488, 3840,   1211.5,   3.8490,  34.3824,2,   -999.0,9,-999.0000,9,     66.1,2,  -999.00,9,  -999.00,9,  -999.00,4,     0.00,2,     2.75,2, -999.000,9, -999.000,9,  -999.00,9,   -999.0,9,   -999.0,9,-999.0000,9,   -999.0,  9,  -999.00,9,   -999.0,  -999.00,9,  -999.00,9,  -999.00,9,  -999.00,9,   -999.0,-999.0000, -999,9, 1200,   3.7571,  27.3196,   -999.0,9
       SH00-09,  NONE,SH-6055,  1,     10,1-133-94,2,20001014,2020, 29.9575, 132.9488, 3840,   1518.5,   2.9342,  34.4928,2,   -999.0,9,-999.0000,9,     75.9,2,  -999.00,9,  -999.00,9,  -999.00,4,     0.00,2,     2.75,2, -999.000,9, -999.000,9,  -999.00,9,   -999.0,9,   -999.0,9,-999.0000,9,   -999.0,  9,  -999.00,9,   -999.0,  -999.00,9,  -999.00,9,  -999.00,9,  -999.00,9,   -999.0,-999.0000, -999,9, 1503,   2.8258,  27.4959,   -999.0,9