BOTTLE,20130510GEMDJMAYT
EXPOCODE,SECT_ID,STNNBR,CASTNO,SAMPNO,BTLNBR,BTLNBR_FLAG_W,DATE,TIME,LATITUDE,LONGITUDE,DEPTH,CTDPRS,CTDTMP,CTDSAL,CTDSAL_FLAG_W,CTDOXY,CTDOXY_FLAG_W,SALNTY,SALNTY_FLAG_W,OXYGEN,OXYGEN_FLAG_W,SILCAT,SILCAT_FLAG_W,NITRAT,NITRAT_FLAG_W,NO2+NO3,NO2+NO3_FLAG_W,NITRIT,NITRIT_FLAG_W,PHSPHT,PHSPHT_FLAG_W,CFC-11,CFC-11_FLAG_W,CFC-12,CFC-12_FLAG_W,DELC13,DELC13_FLAG_W,TCARBN,TCARBN_FLAG_W,ALKALI,ALKALI_FLAG_W,PH,PH_FLAG_W,PH_TMP,PH_SCALE,PH_NBS,PH_NBS_FLAG_W,C13ERR,TOTALP,TOTALP_FLAG_W,AMMONI,AMMONI_FLAG_W,CHLORA,CHLORA_FLAG_W,PPHYTN,PPHYTN_FLAG_W,REVPRS,REVTMP,DEPTH_,DEPTH_FLAG,CTDDEP,THETA,SIGTHT,DOC,DOC_FLAG_W
,,,,,,,GMT,GMT,,,METER,DBAR,ITS-90,PSS-78,,UMOL/KG,,PSS-78,,UMOL/KG,,UMOL/KG,,UMOL/KG,,UMOL/KG,,UMOL/KG,,UMOL/KG,,PMOL/KG,,PMOL/KG,,/MILLE,,UMOL/KG,,UMOL/KG,,25_DEG_C,,DEG_C,,,,/MILLE,UMOL/KG,,UMOL/KG,,UG/L,,UG/L,,DBAR,ITS-90,METERS,,METERS,DEG_C,,UMOL/L,
       SH00-09,  NONE,SH-6050,  1,      7, S-1-1-4,2,20001013,0842, 29.5002, 135.2433, 4500,    402.8,  16.4325,  34.7245,2,   -999.0,9,-999.0000,9,    194.9,2,  -999.00,9,  -999.00,9,     6.34,2,     0.00,2,     0.49,2, -999.000,9, -999.000,9,  -999.00,9,   -999.0,9,   -999.0,9,-999.0000,9,   -999.0,  9,  -999.00,4,   -999.0,  -999.00,9,  -999.00,9,  -999.00,9,  -999.00,9,   -999.0,-999.0000, -999,9,  400,  16.3674,  25.4512,   -999.0,9
       SH00-09,  NONE,SH-6050,  1,      6,1-133-93,2,20001013,0840, 29.5002, 135.2433, 4500,    503.8,  14.2215,  34.5684,2,   -999.0,9,-999.0000,9,    190.8,2,  -999.00,9,  -999.00,9,     9.46,2,     0.00,2,     0.76,2, -999.000,9, -999.000,9,  -999.00,9,   -999.0,9,   -999.0,9,-999.0000,9,   -999.0,  9,  -999.00,4,   -999.0,  -999.00,9,  -999.00,9,  -999.00,9,  -999.00,9,   -999.0,-999.0000, -999,9,  500,  14.1475,  25.8225,   -999.0,9
       SH00-09,  NONE,SH-6050,  1,      5,S-1-1-11,2,20001013,0838, 29.5002, 135.2433, 4500,    605.5,  11.7466,  34.3834,2,   -999.0,9,-999.0000,9,    176.7,2,  -999.00,9,  -999.00,9,    14.13,2,     0.00,2,     1.14,2, -999.000,9, -999.000,9,  -999.00,9,   -999.0,9,   -999.0,9,-999.0000,9,   -999.0,  9,  -999.00,4,   -999.0,  -999.00,9,  -999.00,9,  -999.00,9,  -999.00,9,   -999.0,-999.0000, -999,9,  601,  11.6678,  26.1728,   -999.0,9
       SH00-09,  NONE,SH-6050,  1,      4,S-1-1-12,2,20001013,0835, 29.5002, 135.2433, 4500,    705.3,   9.4546,  34.2699,2,   -999.0,9,-999.0000,9,    150.0,2,  -999.00,9,  -999.00,9,    20.07,2,     0.00,2,     1.60,2, -999.000,9, -999.000,9,  -999.00,9,   -999.0,9,   -999.0,9,-999.0000,9,   -999.0,  9,  -999.00,4,   -999.0,  -999.00,9,  -999.00,9,  -999.00,9,  -999.00,9,   -999.0,-999.0000, -999,9,  699,   9.3742,  26.4861,   -999.0,9
       SH00-09,  NONE,SH-6050,  1,      3,1-133-84,2,20001013,0833, 29.5002, 135.2433, 4500,    806.5,   7.4967,  34.2151,2,   -999.0,9,-999.0000,9,    122.6,2,  -999.00,9,  -999.00,9,    25.13,2,     0.00,2,     2.03,2, -999.000,9, -999.000,9,  -999.00,9,   -999.0,9,   -999.0,9,-999.0000,9,   -999.0,  9,  -999.00,4,   -999.0,  -999.00,9,  -999.00,9,  -999.00,9,  -999.00,9,   -999.0,-999.0000, -999,9,  799,   7.4158,  26.7423,   -999.0,9
       SH00-09,  NONE,SH-6050,  1,      2, S-1-1-7,2,20001013,0831, 29.5002, 135.2433, 4500,    907.0,   6.1569,  34.2430,2,   -999.0,9,-999.0000,9,     97.4,2,  -999.00,9,  -999.00,9,    29.02,2,     0.00,2,     2.34,2, -999.000,9, -999.000,9,  -999.00,9,   -999.0,9,   -999.0,9,-999.0000,9,   -999.0,  9,  -999.00,4,   -999.0,  -999.00,9,  -999.00,9,  -999.00,9,  -999.00,9,   -999.0,-999.0000, -999,9,  899,   6.0744,  26.9450,   -999.0,9
       SH00-09,  NONE,SH-6050,  1,      1, 1-133-1,2,20001013,0829, 29.5002, 135.2433, 4500,   1009.0,   4.9738,  34.3115,2,   -999.0,9,-999.0000,9,   -999.0,9,  -999.00,9,  -999.00,9,  -999.00,9,  -999.00,9,  -999.00,9, -999.000,9, -999.000,9,  -999.00,9,   -999.0,9,   -999.0,9,-999.0000,9,   -999.0,  9,  -999.00,9,   -999.0,  -999.00,9,  -999.00,9,  -999.00,9,  -999.00,9,   -999.0,-999.0000, -999,9, 1000,   4.8902,  27.1419,   -999.0,9
       SH00-09,  NONE,SH-6050,  1,     12, 1-133-7,2,20001013,0829, 29.5002, 135.2433, 4500,   1009.6,   4.9724,  34.3085,2,   -999.0,9,-999.0000,9,     77.9,2,  -999.00,9,  -999.00,9,    32.13,2,     0.00,2,     2.57,2, -999.000,9, -999.000,9,  -999.00,9,   -999.0,9,   -999.0,9,-999.0000,9,   -999.0,  9,  -999.00,4,   -999.0,  -999.00,9,  -999.00,9,  -999.00,9,  -999.00,9,   -999.0,-999.0000, -999,9, 1000,   4.8888,  27.1397,   -999.0,9
       SH00-09,  NONE,SH-6050,  1,     11,S-1-1-10,2,20001013,0825, 29.5002, 135.2433, 4500,   1212.6,   3.5444,  34.4258,2,   -999.0,9,-999.0000,9,     71.8,3,  -999.00,9,  -999.00,9,    34.94,2,     0.00,2,     2.75,2, -999.000,9, -999.000,9,  -999.00,9,   -999.0,9,   -999.0,9,-999.0000,9,   -999.0,  9,  -999.00,4,   -999.0,  -999.00,9,  -999.00,9,  -999.00,9,  -999.00,9,   -999.0,-999.0000, -999,9, 1201,   3.4552,  27.3840,   -999.0,9
       SH00-09,  NONE,SH-6050,  1,     10,1-133-94,2,20001013,0821, 29.5002, 135.2433, 4500,   1516.7,   2.7146,  34.5068,2,   -999.0,9,-999.0000,9,     75.9,2,  -999.00,9,  -999.00,9,    35.13,2,     0.00,2,     2.76,2, -999.000,9, -999.000,9,  -999.00,9,   -999.0,9,   -999.0,9,-999.0000,9,   -999.0,  9,  -999.00,4,   -999.0,  -999.00,9,  -999.00,9,  -999.00,9,  -999.00,9,   -999.0,-999.0000, -999,9, 1501,   2.6088,  27.5262,   -999.0,9
       SH00-09,  NONE,SH-6051,  2,     -9,      -9,5,20001013,2030, 28.6260, 134.4385, 3590,      0.0,  26.9594,  34.5638,2,   -999.0,9,-999.0000,9,    205.1,2,  -999.00,9,  -999.00,9,     0.49,2,     0.00,2,     0.01,2, -999.000,9, -999.000,9,  -999.00,9,   -999.0,9,   -999.0,9,-999.0000,9,   -999.0,  9,  -999.00,4,   -999.0,  -999.00,9,  -999.00,9,     0.03,2,     0.02,2,   -999.0,-999.0000, -999,9,    0,  26.9594,  22.4022,   -999.0,9
       SH00-09,  NONE,SH-6051,  2,      3,1-133-84,2,20001013,2029, 28.6260, 134.4385, 3590,     12.0,  26.9602,  34.5651,2,   -999.0,9,  34.5639,2,    205.2,2,  -999.00,9,  -999.00,9,     0.59,2,     0.00,2,     0.00,2, -999.000,9, -999.000,9,  -999.00,9,   -999.0,9,   -999.0,9,-999.0000,9,   -999.0,  9,  -999.00,4,   -999.0,  -999.00,9,  -999.00,9,     0.04,2,     0.02,2,   -999.0,-999.0000, -999,9,   12,  26.9574,  22.4038,   -999.0,9
       SH00-09,  NONE,SH-6051,  2,      2, S-1-1-7,2,20001013,2026, 28.6260, 134.4385, 3590,     26.0,  26.9739,  34.5646,2,   -999.0,9,  34.5639,2,    205.4,2,  -999.00,9,  -999.00,9,     0.00,2,     0.00,2,     0.01,2, -999.000,9, -999.000,9,  -999.00,9,   -999.0,9,   -999.0,9,-999.0000,9,   -999.0,  9,  -999.00,4,   -999.0,  -999.00,9,  -999.00,9,     0.05,2,     0.02,2,   -999.0,-999.0000, -999,9,   26,  26.9680,  22.4001,   -999.0,9
       SH00-09,  NONE,SH-6051,  2,      1, 1-133-1,2,20001013,2025, 28.6260, 134.4385, 3590,     51.0,  26.9729,  34.5659,2,   -999.0,9,  34.5633,2,    204.6,2,  -999.00,9,  -999.00,9,     0.59,2,     0.00,2,     0.01,2, -999.000,9, -999.000,9,  -999.00,9,   -999.0,9,   -999.0,9,-999.0000,9,   -999.0,  9,  -999.00,4,   -999.0,  -999.00,9,  -999.00,9,     0.05,2,     0.02,2,   -999.0,-999.0000, -999,9,   51,  26.9613,  22.4031,   -999.0,9
       SH00-09,  NONE,SH-6051,  2,     12, 1-133-7,2,20001013,2025, 28.6260, 134.4385, 3590,     76.2,  23.2004,  34.7246,2,   -999.0,9,  34.7268,2,    220.8,2,  -999.00,9,  -999.00,9,     0.59,2,     0.00,2,     0.01,2, -999.000,9, -999.000,9,  -999.00,9,   -999.0,9,   -999.0,9,-999.0000,9,   -999.0,  9,  -999.00,4,   -999.0,  -999.00,9,  -999.00,9,     0.15,2,     0.17,2,   -999.0,-999.0000, -999,9,   76,  23.1848,  23.6714,   -999.0,9
       SH00-09,  NONE,SH-6051,  2,     11,S-1-1-10,2,20001013,2024, 28.6260, 134.4385, 3590,    101.1,  21.1397,  34.7825,2,   -999.0,9,  34.7831,2,    208.1,2,  -999.00,9,  -999.00,9,     1.56,2,     0.10,2,     0.10,2, -999.000,9, -999.000,9,  -999.00,9,   -999.0,9,   -999.0,9,-999.0000,9,   -999.0,  9,  -999.00,4,   -999.0,  -999.00,9,  -999.00,9,     0.14,2,     0.43,2,   -999.0,-999.0000, -999,9,  100,  21.1203,  24.2956,   -999.0,9
       SH00-09,  NONE,SH-6051,  2,     10,1-133-94,2,20001013,2023, 28.6260, 134.4385, 3590,    127.1,  20.3700,  34.8056,2,   -999.0,9,  34.8044,2,    211.2,2,  -999.00,9,  -999.00,9,     1.66,2,     0.05,2,     0.11,2, -999.000,9, -999.000,9,  -999.00,9,   -999.0,9,   -999.0,9,-999.0000,9,   -999.0,  9,  -999.00,4,   -999.0,  -999.00,9,  -999.00,9,     0.05,2,     0.24,2,   -999.0,-999.0000, -999,9,  126,  20.3462,  24.5218,   -999.0,9
       SH00-09,  NONE,SH-6051,  2,      9, 1-133-2,2,20001013,2022, 28.6260, 134.4385, 3590,    151.3,  19.6154,  34.8106,2,   -999.0,9,  34.8089,2,    210.3,2,  -999.00,9,  -999.00,9,     2.05,2,     0.03,2,     0.14,2, -999.000,9, -999.000,9,  -999.00,9,   -999.0,9,   -999.0,9,-999.0000,9,   -999.0,  9,  -999.00,4,   -999.0,  -999.00,9,  -999.00,9,     0.03,2,     0.11,2,   -999.0,-999.0000, -999,9,  150,  19.5878,  24.7251,   -999.0,9
       SH00-09,  NONE,SH-6051,  2,      8,1-133-95,2,20001013,2020, 28.6260, 134.4385, 3590,    202.3,  18.9247,  34.8097,2,   -999.0,9,  34.8079,2,    211.9,2,  -999.00,9,  -999.00,9,     2.15,2,     0.01,2,     0.18,2, -999.000,9, -999.000,9,  -999.00,9,   -999.0,9,   -999.0,9,-999.0000,9,   -999.0,  9,  -999.00,4,   -999.0,  -999.00,9,  -999.00,9,     0.00,2,     0.01,2,   -999.0,-999.0000, -999,9,  201,  18.8888,  24.9040,   -999.0,9
       SH00-09,  NONE,SH-6051,  2,      7, S-1-1-4,2,20001013,2019, 28.6260, 134.4385, 3590,    252.3,  18.5243,  34.8022,2,   -999.0,9,  34.8014,2,    211.7,2,  -999.00,9,  -999.00,9,     2.63,2,     0.02,2,     0.22,2, -999.000,9, -999.000,9,  -999.00,9,   -999.0,9,   -999.0,9,-999.0000,9,   -999.0,  9,  -999.00,4,   -999.0,  -999.00,9,  -999.00,9,     0.00,2,     0.01,2,   -999.0,-999.0000, -999,9,  250,  18.4801,  25.0013,   -999.0,9
       SH00-09,  NONE,SH-6051,  2,      6,1-133-93,2,20001013,2017, 28.6260, 134.4385, 3590,    303.7,  17.9561,  34.7875,2,   -999.0,9,  34.7882,2,    211.4,2,  -999.00,9,  -999.00,9,     3.32,2,     0.01,2,     0.27,2, -999.000,9, -999.000,9,  -999.00,9,   -999.0,9,   -999.0,9,-999.0000,9,   -999.0,  9,  -999.00,4,   -999.0,  -999.00,9,  -999.00,9,     0.00,4,     0.00,4,   -999.0,-999.0000, -999,9,  301,  17.9040,  25.1329,   -999.0,9
       SH00-09,  NONE,SH-6051,  2,      5,S-1-1-11,2,20001013,2015, 28.6260, 134.4385, 3590,    404.7,  16.5739,  34.7327,2,   -999.0,9,  34.7363,2,    201.0,2,  -999.00,9,  -999.00,9,     5.75,2,     0.01,2,     0.47,2, -999.000,9, -999.000,9,  -999.00,9,   -999.0,9,   -999.0,9,-999.0000,9,   -999.0,  9,  -999.00,4,   -999.0,  -999.00,9,  -999.00,9,  -999.00,9,  -999.00,9,   -999.0,-999.0000, -999,9,  402,  16.5080,  25.4248,   -999.0,9
       SH00-09,  NONE,SH-6051,  2,      4,S-1-1-12,2,20001013,2014, 28.6260, 134.4385, 3590,    505.3,  14.5082,  34.5811,2,   -999.0,9,  34.5881,2,    187.3,2,  -999.00,9,  -999.00,9,     9.75,2,     0.01,2,     0.77,2, -999.000,9, -999.000,9,  -999.00,9,   -999.0,9,   -999.0,9,-999.0000,9,   -999.0,  9,  -999.00,4,   -999.0,  -999.00,9,  -999.00,9,  -999.00,9,  -999.00,9,   -999.0,-999.0000, -999,9,  501,  14.4329,  25.7717,   -999.0,9
       SH00-09,  NONE,SH-6051,  1,      3,1-133-84,2,20001013,1934, 28.6477, 134.4548, 3590,    603.4,  12.8305,  34.4688,2,   -999.0,9,  34.4644,2,    181.5,2,  -999.00,9,  -999.00,9,    12.09,2,     0.00,2,     0.98,2, -999.000,9, -999.000,9,  -999.00,9,   -999.0,9,   -999.0,9,-999.0000,9,   -999.0,  9,  -999.00,4,   -999.0,  -999.00,9,  -999.00,9,  -999.00,9,  -999.00,9,   -999.0,-999.0000, -999,9,  598,  12.7474,  26.0315,   -999.0,9
       SH00-09,  NONE,SH-6051,  1,      2, S-1-1-7,2,20001013,1932, 28.6477, 134.4548, 3590,    705.0,   9.8336,  34.2880,2,   -999.0,9,  34.2881,2,    154.4,2,  -999.00,9,  -999.00,9,    18.90,2,     0.00,2,     1.55,2, -999.000,9, -999.000,9,  -999.00,9,   -999.0,9,   -999.0,9,-999.0000,9,   -999.0,  9,  -999.00,4,   -999.0,  -999.00,9,  -999.00,9,  -999.00,9,  -999.00,9,   -999.0,-999.0000, -999,9,  699,   9.7512,  26.4379,   -999.0,9
       SH00-09,  NONE,SH-6051,  1,      1, 1-133-1,2,20001013,1930, 28.6477, 134.4548, 3590,    805.1,   7.3233,  34.2027,2,   -999.0,9,  34.1964,2,    124.4,2,  -999.00,9,  -999.00,9,    25.13,2,     0.00,2,     2.06,2, -999.000,9, -999.000,9,  -999.00,9,   -999.0,9,   -999.0,9,-999.0000,9,   -999.0,  9,  -999.00,4,   -999.0,  -999.00,9,  -999.00,9,  -999.00,9,  -999.00,9,   -999.0,-999.0000, -999,9,  798,   7.2437,  26.7568,   -999.0,9
       SH00-09,  NONE,SH-6051,  1,     12, 1-133-7,2,20001013,1928, 28.6477, 134.4548, 3590,    906.2,   6.1103,  34.2283,2,   -999.0,9,  34.2294,2,     98.3,2,  -999.00,9,  -999.00,9,    29.02,2,     0.00,2,     2.36,2, -999.000,9, -999.000,9,  -999.00,9,   -999.0,9,   -999.0,9,-999.0000,9,   -999.0,  9,  -999.00,4,   -999.0,  -999.00,9,  -999.00,9,  -999.00,9,  -999.00,9,   -999.0,-999.0000, -999,9,  898,   6.0282,  26.9393,   -999.0,9
       SH00-09,  NONE,SH-6051,  1,     11,S-1-1-10,2,20001013,1926, 28.6477, 134.4548, 3590,   1007.4,   5.0814,  34.2988,2,   -999.0,9,  34.2962,2,     80.5,2,  -999.00,9,  -999.00,9,    31.93,2,     0.00,2,     2.60,2, -999.000,9, -999.000,9,  -999.00,9,   -999.0,9,   -999.0,9,-999.0000,9,   -999.0,  9,  -999.00,4,   -999.0,  -999.00,9,  -999.00,9,  -999.00,9,  -999.00,9,   -999.0,-999.0000, -999,9,  998,   4.9972,  27.1196,   -999.0,9
       SH00-09,  NONE,SH-6051,  1,     10,1-133-94,2,20001013,1923, 28.6477, 134.4548, 3590,   1209.2,   3.6524,  34.4084,2,   -999.0,9,  34.4062,2,     67.5,2,  -999.00,9,  -999.00,9,    34.55,2,     0.00,2,     2.78,2, -999.000,9, -999.000,9,  -999.00,9,   -999.0,9,   -999.0,9,-999.0000,9,   -999.0,  9,  -999.00,4,   -999.0,  -999.00,9,  -999.00,9,  -999.00,9,  -999.00,9,   -999.0,-999.0000, -999,9, 1198,   3.5624,  27.3596,   -999.0,9
       SH00-09,  NONE,SH-6051,  1,      9, 1-133-2,2,20001013,1919, 28.6477, 134.4548, 3590,   1514.1,   2.7995,  34.4970,2,   -999.0,9,  34.4941,2,     73.7,2,  -999.00,9,  -999.00,9,    35.52,2,     0.00,2,     2.83,2, -999.000,9, -999.000,9,  -999.00,9,   -999.0,9,   -999.0,9,-999.0000,9,   -999.0,  9,  -999.00,4,   -999.0,  -999.00,9,  -999.00,9,  -999.00,9,  -999.00,9,   -999.0,-999.0000, -999,9, 1499,   2.6930,  27.5110,   -999.0,9
       SH00-09,  NONE,SH-6051,  1,      8,1-133-95,2,20001013,1912, 28.6477, 134.4548, 3590,   2020.6,   2.1011,  34.5983,2,   -999.0,9,  34.5838,4,   -999.0,9,  -999.00,9,  -999.00,9,  -999.00,9,  -999.00,9,  -999.00,9, -999.000,9, -999.000,9,  -999.00,9,   -999.0,9,   -999.0,9,-999.0000,9,   -999.0,  9,  -999.00,9,   -999.0,  -999.00,9,  -999.00,9,  -999.00,9,  -999.00,9,   -999.0,-999.0000, -999,9, 1997,   1.9615,  27.6529,   -999.0,9
       SH00-09,  NONE,SH-6051,  1,      7, S-1-1-4,2,20001013,1905, 28.6477, 134.4548, 3590,   2531.0,   1.7474,  34.6530,2,   -999.0,9,  34.6453,2,   -999.0,9,  -999.00,9,  -999.00,9,  -999.00,9,  -999.00,9,  -999.00,9, -999.000,9, -999.000,9,  -999.00,9,   -999.0,9,   -999.0,9,-999.0000,9,   -999.0,  9,  -999.00,9,   -999.0,  -999.00,9,  -999.00,9,  -999.00,9,  -999.00,9,   -999.0,-999.0000, -999,9, 2499,   1.5690,  27.7267,   -999.0,9
       SH00-09,  NONE,SH-6051,  1,      6,1-133-93,2,20001013,1857, 28.6477, 134.4548, 3590,   3042.6,   1.5527,  34.6826,2,   -999.0,9,  34.6715,4,   -999.0,9,  -999.00,9,  -999.00,9,  -999.00,9,  -999.00,9,  -999.00,9, -999.000,9, -999.000,9,  -999.00,9,   -999.0,9,   -999.0,9,-999.0000,9,   -999.0,  9,  -999.00,9,   -999.0,  -999.00,9,  -999.00,9,  -999.00,9,  -999.00,9,   -999.0,-999.0000, -999,9, 3001,   1.3306,  27.7676,   -999.0,9
       SH00-09,  NONE,SH-6051,  1,      5,S-1-1-11,2,20001013,1847, 28.6477, 134.4548, 3590,   3566.6,   1.5246,  34.6931,2,   -999.0,9,-999.0000,9,   -999.0,9,  -999.00,9,  -999.00,9,  -999.00,9,  -999.00,9,  -999.00,9, -999.000,9, -999.000,9,  -999.00,9,   -999.0,9,   -999.0,9,-999.0000,9,   -999.0,  9,  -999.00,9,   -999.0,  -999.00,9,  -999.00,9,  -999.00,9,  -999.00,9,   -999.0,-999.0000, -999,9, 3513,   1.2509,  27.7816,   -999.0,9
       SH00-09,  NONE,SH-6051,  1,      4,S-1-1-12,2,20001013,1847, 28.6477, 134.4548, 3590,   3566.9,   1.5245,  34.6930,2,   -999.0,9,  34.6823,4,   -999.0,9,  -999.00,9,  -999.00,9,  -999.00,9,  -999.00,9,  -999.00,9, -999.000,9, -999.000,9,  -999.00,9,   -999.0,9,   -999.0,9,-999.0000,9,   -999.0,  9,  -999.00,9,   -999.0,  -999.00,9,  -999.00,9,  -999.00,9,  -999.00,9,   -999.0,-999.0000, -999,9, 3513,   1.2508,  27.7816,   -999.0,9