BOTTLE,20130510GEMDJMAYT
EXPOCODE,SECT_ID,STNNBR,CASTNO,SAMPNO,BTLNBR,BTLNBR_FLAG_W,DATE,TIME,LATITUDE,LONGITUDE,DEPTH,CTDPRS,CTDTMP,CTDSAL,CTDSAL_FLAG_W,CTDOXY,CTDOXY_FLAG_W,SALNTY,SALNTY_FLAG_W,OXYGEN,OXYGEN_FLAG_W,SILCAT,SILCAT_FLAG_W,NITRAT,NITRAT_FLAG_W,NO2+NO3,NO2+NO3_FLAG_W,NITRIT,NITRIT_FLAG_W,PHSPHT,PHSPHT_FLAG_W,CFC-11,CFC-11_FLAG_W,CFC-12,CFC-12_FLAG_W,DELC13,DELC13_FLAG_W,TCARBN,TCARBN_FLAG_W,ALKALI,ALKALI_FLAG_W,PH,PH_FLAG_W,PH_TMP,PH_SCALE,PH_NBS,PH_NBS_FLAG_W,C13ERR,TOTALP,TOTALP_FLAG_W,AMMONI,AMMONI_FLAG_W,CHLORA,CHLORA_FLAG_W,PPHYTN,PPHYTN_FLAG_W,REVPRS,REVTMP,DEPTH_,DEPTH_FLAG,CTDDEP,THETA,SIGTHT,DOC,DOC_FLAG_W
,,,,,,,GMT,GMT,,,METER,DBAR,ITS-90,PSS-78,,UMOL/KG,,PSS-78,,UMOL/KG,,UMOL/KG,,UMOL/KG,,UMOL/KG,,UMOL/KG,,UMOL/KG,,PMOL/KG,,PMOL/KG,,/MILLE,,UMOL/KG,,UMOL/KG,,25_DEG_C,,DEG_C,,,,/MILLE,UMOL/KG,,UMOL/KG,,UG/L,,UG/L,,DBAR,ITS-90,METERS,,METERS,DEG_C,,UMOL/L,
       SH00-09,  NONE,SH-6050,  5,     -9,      -9,5,20001013,1149, 29.4813, 135.2182, 4570,      0.0,  26.7078,  34.3538,2,   -999.0,9,  34.3457,2,   -999.0,9,  -999.00,9,  -999.00,9,  -999.00,9,  -999.00,9,  -999.00,9, -999.000,9, -999.000,9,  -999.00,9,   1925.0,6,   -999.0,9,-999.0000,9,   -999.0,  9,  -999.00,4,   -999.0,  -999.00,9,  -999.00,9,  -999.00,9,  -999.00,9,   -999.0,-999.0000, -999,9,    0,  26.7078,  22.3239,   -999.0,9
       SH00-09,  NONE,SH-6050,  5,      3,1-133-84,2,20001013,1148, 29.4813, 135.2182, 4570,     10.7,  26.7067,  34.3512,2,   -999.0,9,-999.0000,9,   -999.0,9,  -999.00,9,  -999.00,9,  -999.00,9,  -999.00,9,  -999.00,9, -999.000,9, -999.000,9,  -999.00,9,   1931.1,2,   -999.0,9,-999.0000,9,   -999.0,  9,  -999.00,4,   -999.0,  -999.00,9,  -999.00,9,  -999.00,9,  -999.00,9,   -999.0,-999.0000, -999,9,   11,  26.7042,  22.3231,   -999.0,9
       SH00-09,  NONE,SH-6050,  5,      2, S-1-1-7,2,20001013,1143, 29.4813, 135.2182, 4570,     26.3,  26.8043,  34.4564,2,   -999.0,9,-999.0000,9,   -999.0,9,  -999.00,9,  -999.00,9,  -999.00,9,  -999.00,9,  -999.00,9, -999.000,9, -999.000,9,  -999.00,9,   1930.3,2,   -999.0,9,-999.0000,9,   -999.0,  9,  -999.00,4,   -999.0,  -999.00,9,  -999.00,9,  -999.00,9,  -999.00,9,   -999.0,-999.0000, -999,9,   26,  26.7984,  22.3725,   -999.0,9
       SH00-09,  NONE,SH-6050,  5,      1, 1-133-1,2,20001013,1143, 29.4813, 135.2182, 4570,     51.1,  25.6161,  34.6799,2,   -999.0,9,-999.0000,9,   -999.0,9,  -999.00,9,  -999.00,9,  -999.00,9,  -999.00,9,  -999.00,9, -999.000,9, -999.000,9,  -999.00,9,   1942.4,2,   -999.0,9,-999.0000,9,   -999.0,  9,  -999.00,4,   -999.0,  -999.00,9,  -999.00,9,  -999.00,9,  -999.00,9,   -999.0,-999.0000, -999,9,   51,  25.6048,  22.9143,   -999.0,9
       SH00-09,  NONE,SH-6050,  5,     12, 1-133-7,2,20001013,1141, 29.4813, 135.2182, 4570,     75.9,  21.9867,  34.7830,2,   -999.0,9,-999.0000,9,   -999.0,9,  -999.00,9,  -999.00,9,  -999.00,9,  -999.00,9,  -999.00,9, -999.000,9, -999.000,9,  -999.00,9,   1974.8,2,   -999.0,9,-999.0000,9,   -999.0,  9,  -999.00,4,   -999.0,  -999.00,9,  -999.00,9,  -999.00,9,  -999.00,9,   -999.0,-999.0000, -999,9,   75,  21.9717,  24.0609,   -999.0,9
       SH00-09,  NONE,SH-6050,  5,     11,S-1-1-10,2,20001013,1140, 29.4813, 135.2182, 4570,    101.4,  21.1403,  34.7807,2,   -999.0,9,-999.0000,9,   -999.0,9,  -999.00,9,  -999.00,9,  -999.00,9,  -999.00,9,  -999.00,9, -999.000,9, -999.000,9,  -999.00,9,   1992.0,3,   -999.0,9,-999.0000,9,   -999.0,  9,  -999.00,4,   -999.0,  -999.00,9,  -999.00,9,  -999.00,9,  -999.00,9,   -999.0,-999.0000, -999,9,  101,  21.1208,  24.2941,   -999.0,9
       SH00-09,  NONE,SH-6050,  5,     10,1-133-94,2,20001013,1140, 29.4813, 135.2182, 4570,    102.0,  21.1031,  34.7884,2,   -999.0,9,-999.0000,9,   -999.0,9,  -999.00,9,  -999.00,9,  -999.00,9,  -999.00,9,  -999.00,9, -999.000,9, -999.000,9,  -999.00,9,   1985.9,2,   -999.0,9,-999.0000,9,   -999.0,  9,  -999.00,4,   -999.0,  -999.00,9,  -999.00,9,  -999.00,9,  -999.00,9,   -999.0,-999.0000, -999,9,  101,  21.0836,  24.3101,   -999.0,9
       SH00-09,  NONE,SH-6050,  5,      9, 1-133-2,2,20001013,1139, 29.4813, 135.2182, 4570,    127.1,  20.2954,  34.8048,2,   -999.0,9,-999.0000,9,   -999.0,9,  -999.00,9,  -999.00,9,  -999.00,9,  -999.00,9,  -999.00,9, -999.000,9, -999.000,9,  -999.00,9,   1993.2,2,   -999.0,9,-999.0000,9,   -999.0,  9,  -999.00,4,   -999.0,  -999.00,9,  -999.00,9,  -999.00,9,  -999.00,9,   -999.0,-999.0000, -999,9,  126,  20.2717,  24.5410,   -999.0,9
       SH00-09,  NONE,SH-6050,  5,      8,1-133-95,2,20001013,1138, 29.4813, 135.2182, 4570,    152.2,  19.7013,  34.7979,2,   -999.0,9,-999.0000,9,   -999.0,9,  -999.00,9,  -999.00,9,  -999.00,9,  -999.00,9,  -999.00,9, -999.000,9, -999.000,9,  -999.00,9,   2001.1,3,   -999.0,9,-999.0000,9,   -999.0,  9,  -999.00,4,   -999.0,  -999.00,9,  -999.00,9,  -999.00,9,  -999.00,9,   -999.0,-999.0000, -999,9,  151,  19.6735,  24.6931,   -999.0,9
       SH00-09,  NONE,SH-6050,  5,      7, S-1-1-4,2,20001013,1137, 29.4813, 135.2182, 4570,    202.5,  19.0256,  34.8086,2,   -999.0,9,-999.0000,9,   -999.0,9,  -999.00,9,  -999.00,9,  -999.00,9,  -999.00,9,  -999.00,9, -999.000,9, -999.000,9,  -999.00,9,   1997.3,2,   -999.0,9,-999.0000,9,   -999.0,  9,  -999.00,4,   -999.0,  -999.00,9,  -999.00,9,  -999.00,9,  -999.00,9,   -999.0,-999.0000, -999,9,  201,  18.9895,  24.8775,   -999.0,9
       SH00-09,  NONE,SH-6050,  5,      6,1-133-93,2,20001013,1135, 29.4813, 135.2182, 4570,    253.3,  18.6843,  34.8068,2,   -999.0,9,-999.0000,9,   -999.0,9,  -999.00,9,  -999.00,9,  -999.00,9,  -999.00,9,  -999.00,9, -999.000,9, -999.000,9,  -999.00,9,   2003.0,2,   -999.0,9,-999.0000,9,   -999.0,  9,  -999.00,4,   -999.0,  -999.00,9,  -999.00,9,  -999.00,9,  -999.00,9,   -999.0,-999.0000, -999,9,  251,  18.6397,  24.9648,   -999.0,9
       SH00-09,  NONE,SH-6050,  5,      5,S-1-1-11,2,20001013,1134, 29.4813, 135.2182, 4570,    304.0,  18.1634,  34.7946,2,   -999.0,9,-999.0000,9,   -999.0,9,  -999.00,9,  -999.00,9,  -999.00,9,  -999.00,9,  -999.00,9, -999.000,9, -999.000,9,  -999.00,9,   2019.9,2,   -999.0,9,-999.0000,9,   -999.0,  9,  -999.00,4,   -999.0,  -999.00,9,  -999.00,9,  -999.00,9,  -999.00,9,   -999.0,-999.0000, -999,9,  302,  18.1108,  25.0874,   -999.0,9
       SH00-09,  NONE,SH-6050,  4,      5,S-1-1-11,2,20001013,1107, 29.4827, 135.2218, 4570,    404.3,  16.3067,  34.7152,2,   -999.0,9,-999.0000,9,   -999.0,9,  -999.00,9,  -999.00,9,  -999.00,9,  -999.00,9,  -999.00,9, -999.000,9, -999.000,9,  -999.00,9,   -999.0,9,   -999.0,9,-999.0000,9,   -999.0,  9,  -999.00,4,   -999.0,  -999.00,9,  -999.00,9,  -999.00,9,  -999.00,9,   -999.0,-999.0000, -999,9,  401,  16.2416,  25.4731,   -999.0,9
       SH00-09,  NONE,SH-6050,  3,      4,S-1-1-12,2,20001013,1016, 29.4877, 135.2327, 4580,    402.6,  16.5226,  34.7346,2,   -999.0,9,  34.7792,4,   -999.0,9,  -999.00,9,  -999.00,9,  -999.00,9,  -999.00,9,  -999.00,9, -999.000,9, -999.000,9,  -999.00,9,   2069.5,3,   -999.0,9,-999.0000,9,   -999.0,  9,  -999.00,4,   -999.0,  -999.00,9,  -999.00,9,  -999.00,9,  -999.00,9,   -999.0,-999.0000, -999,9,  399,  16.4572,  25.4380,   -999.0,9
       SH00-09,  NONE,SH-6050,  3,      3,1-133-84,4,20001013,1014, 29.4877, 135.2327, 4580,    502.9,  14.4034,  34.5832,2,   -999.0,9,  34.5824,2,   -999.0,9,  -999.00,9,  -999.00,9,  -999.00,9,  -999.00,9,  -999.00,9, -999.000,9, -999.000,9,  -999.00,9,   2070.1,2,   -999.0,9,-999.0000,9,   -999.0,  9,  -999.00,4,   -999.0,  -999.00,9,  -999.00,9,  -999.00,9,  -999.00,9,   -999.0,-999.0000, -999,9,  499,  14.3288,  25.7955,   -999.0,9
       SH00-09,  NONE,SH-6050,  3,      2, S-1-1-7,2,20001013,1014, 29.4877, 135.2327, 4580,    502.9,  14.4034,  34.5832,2,   -999.0,9,  34.5787,2,   -999.0,9,  -999.00,9,  -999.00,9,  -999.00,9,  -999.00,9,  -999.00,9, -999.000,9, -999.000,9,  -999.00,9,   -999.0,9,   -999.0,9,-999.0000,9,   -999.0,  9,  -999.00,4,   -999.0,  -999.00,9,  -999.00,9,  -999.00,9,  -999.00,9,   -999.0,-999.0000, -999,9,  499,  14.3288,  25.7955,   -999.0,9
       SH00-09,  NONE,SH-6050,  3,      1, 1-133-1,2,20001013,1012, 29.4877, 135.2327, 4580,    604.5,  11.7445,  34.3844,2,   -999.0,9,  34.3864,2,   -999.0,9,  -999.00,9,  -999.00,9,  -999.00,9,  -999.00,9,  -999.00,9, -999.000,9, -999.000,9,  -999.00,9,   2115.1,2,   -999.0,9,-999.0000,9,   -999.0,  9,  -999.00,4,   -999.0,  -999.00,9,  -999.00,9,  -999.00,9,  -999.00,9,   -999.0,-999.0000, -999,9,  600,  11.6659,  26.1739,   -999.0,9
       SH00-09,  NONE,SH-6050,  3,     12, 1-133-7,2,20001013,1010, 29.4877, 135.2327, 4580,    704.8,   9.3590,  34.2662,2,   -999.0,9,  34.2708,2,   -999.0,9,  -999.00,9,  -999.00,9,  -999.00,9,  -999.00,9,  -999.00,9, -999.000,9, -999.000,9,  -999.00,9,   2164.9,2,   -999.0,9,-999.0000,9,   -999.0,  9,  -999.00,4,   -999.0,  -999.00,9,  -999.00,9,  -999.00,9,  -999.00,9,   -999.0,-999.0000, -999,9,  699,   9.2791,  26.4986,   -999.0,9
       SH00-09,  NONE,SH-6050,  3,     11,S-1-1-10,2,20001013,1008, 29.4877, 135.2327, 4580,    806.4,   7.2334,  34.2107,2,   -999.0,9,  34.2166,2,   -999.0,9,  -999.00,9,  -999.00,9,  -999.00,9,  -999.00,9,  -999.00,9, -999.000,9, -999.000,9,  -999.00,9,   2217.8,2,   -999.0,9,-999.0000,9,   -999.0,  9,  -999.00,4,   -999.0,  -999.00,9,  -999.00,9,  -999.00,9,  -999.00,9,   -999.0,-999.0000, -999,9,  799,   7.1541,  26.7756,   -999.0,9
       SH00-09,  NONE,SH-6050,  3,     10,1-133-94,2,20001013,1006, 29.4877, 135.2327, 4580,    907.2,   6.0504,  34.2562,2,   -999.0,9,  34.2571,2,   -999.0,9,  -999.00,9,  -999.00,9,  -999.00,9,  -999.00,9,  -999.00,9, -999.000,9, -999.000,9,  -999.00,9,   2265.9,2,   -999.0,9,-999.0000,9,   -999.0,  9,  -999.00,4,   -999.0,  -999.00,9,  -999.00,9,  -999.00,9,  -999.00,9,   -999.0,-999.0000, -999,9,  899,   5.9686,  26.9688,   -999.0,9
       SH00-09,  NONE,SH-6050,  3,      9, 1-133-2,2,20001013,1004, 29.4877, 135.2327, 4580,   1009.1,   4.9139,  34.3163,2,   -999.0,9,  34.3205,2,   -999.0,9,  -999.00,9,  -999.00,9,  -999.00,9,  -999.00,9,  -999.00,9, -999.000,9, -999.000,9,  -999.00,9,   2295.5,3,   -999.0,9,-999.0000,9,   -999.0,  9,  -999.00,4,   -999.0,  -999.00,9,  -999.00,9,  -999.00,9,  -999.00,9,   -999.0,-999.0000, -999,9, 1000,   4.8307,  27.1525,   -999.0,9
       SH00-09,  NONE,SH-6050,  3,      8,1-133-95,2,20001013,1003, 29.4877, 135.2327, 4580,   1009.6,   4.9088,  34.3169,2,   -999.0,9,  34.3202,2,   -999.0,9,  -999.00,9,  -999.00,9,  -999.00,9,  -999.00,9,  -999.00,9, -999.000,9, -999.000,9,  -999.00,9,   2296.2,2,   -999.0,9,-999.0000,9,   -999.0,  9,  -999.00,4,   -999.0,  -999.00,9,  -999.00,9,  -999.00,9,  -999.00,9,   -999.0,-999.0000, -999,9, 1000,   4.8256,  27.1536,   -999.0,9
       SH00-09,  NONE,SH-6050,  3,      7, S-1-1-4,2,20001013,1000, 29.4877, 135.2327, 4580,   1212.3,   3.6877,  34.4182,2,   -999.0,9,  34.4196,2,   -999.0,9,  -999.00,9,  -999.00,9,  -999.00,9,  -999.00,9,  -999.00,9, -999.000,9, -999.000,9,  -999.00,9,   2333.1,2,   -999.0,9,-999.0000,9,   -999.0,  9,  -999.00,4,   -999.0,  -999.00,9,  -999.00,9,  -999.00,9,  -999.00,9,   -999.0,-999.0000, -999,9, 1201,   3.5972,  27.3640,   -999.0,9
       SH00-09,  NONE,SH-6050,  3,      6,1-133-93,2,20001013,0956, 29.4877, 135.2327, 4580,   1516.8,   2.7389,  34.5040,2,   -999.0,9,  34.5051,2,   -999.0,9,  -999.00,9,  -999.00,9,  -999.00,9,  -999.00,9,  -999.00,9, -999.000,9, -999.000,9,  -999.00,9,   2350.0,2,   -999.0,9,-999.0000,9,   -999.0,  9,  -999.00,4,   -999.0,  -999.00,9,  -999.00,9,  -999.00,9,  -999.00,9,   -999.0,-999.0000, -999,9, 1501,   2.6329,  27.5219,   -999.0,9
       SH00-09,  NONE,SH-6050,  2,     -9,      -9,5,20001013,0919, 29.4933, 135.2388, 4560,      0.0,  26.5922,  34.3445,2,   -999.0,9,-999.0000,9,    206.8,2,  -999.00,9,  -999.00,9,     0.00,2,     0.00,2,     0.00,2, -999.000,9, -999.000,9,  -999.00,9,   -999.0,9,   -999.0,9,-999.0000,9,   -999.0,  9,  -999.00,4,   -999.0,  -999.00,9,  -999.00,9,     0.02,2,     0.02,2,   -999.0,-999.0000, -999,9,    0,  26.5922,  22.3534,   -999.0,9
       SH00-09,  NONE,SH-6050,  2,      5,S-1-1-11,2,20001013,0918, 29.4933, 135.2388, 4560,     10.4,  26.5973,  34.3446,2,   -999.0,9,-999.0000,9,    206.6,2,  -999.00,9,  -999.00,9,     0.20,2,     0.00,2,     0.00,2, -999.000,9, -999.000,9,  -999.00,9,   -999.0,9,   -999.0,9,-999.0000,9,   -999.0,  9,  -999.00,4,   -999.0,  -999.00,9,  -999.00,9,     0.04,2,     0.02,2,   -999.0,-999.0000, -999,9,   10,  26.5949,  22.3526,   -999.0,9
       SH00-09,  NONE,SH-6050,  2,      4,S-1-1-12,2,20001013,0917, 29.4933, 135.2388, 4560,     25.9,  26.7546,  34.4194,2,   -999.0,9,-999.0000,9,    206.3,2,  -999.00,9,  -999.00,9,     0.20,2,     0.00,2,     0.00,2, -999.000,9, -999.000,9,  -999.00,9,   -999.0,9,   -999.0,9,-999.0000,9,   -999.0,  9,  -999.00,4,   -999.0,  -999.00,9,  -999.00,9,     0.04,2,     0.02,2,   -999.0,-999.0000, -999,9,   26,  26.7487,  22.3603,   -999.0,9
       SH00-09,  NONE,SH-6050,  2,      3,1-133-84,2,20001013,0916, 29.4933, 135.2388, 4560,     51.5,  26.3657,  34.5235,2,   -999.0,9,-999.0000,9,    211.1,2,  -999.00,9,  -999.00,9,     0.20,2,     0.00,2,     0.00,2, -999.000,9, -999.000,9,  -999.00,9,   -999.0,9,   -999.0,9,-999.0000,9,   -999.0,  9,  -999.00,4,   -999.0,  -999.00,9,  -999.00,9,     0.07,2,     0.05,2,   -999.0,-999.0000, -999,9,   51,  26.3541,  22.5632,   -999.0,9
       SH00-09,  NONE,SH-6050,  2,      2, S-1-1-7,2,20001013,0915, 29.4933, 135.2388, 4560,     75.5,  22.4011,  34.7812,2,   -999.0,9,-999.0000,9,    214.7,2,  -999.00,9,  -999.00,9,     0.29,2,     0.02,2,     0.03,2, -999.000,9, -999.000,9,  -999.00,9,   -999.0,9,   -999.0,9,-999.0000,9,   -999.0,  9,  -999.00,4,   -999.0,  -999.00,9,  -999.00,9,     0.20,2,     0.49,2,   -999.0,-999.0000, -999,9,   75,  22.3860,  23.9430,   -999.0,9
       SH00-09,  NONE,SH-6050,  2,      1, 1-133-1,2,20001013,0914, 29.4933, 135.2388, 4560,    101.5,  21.1349,  34.7831,2,   -999.0,9,-999.0000,9,    201.2,3,  -999.00,9,  -999.00,9,     1.95,2,     0.05,2,     0.16,2, -999.000,9, -999.000,9,  -999.00,9,   -999.0,9,   -999.0,9,-999.0000,9,   -999.0,  9,  -999.00,4,   -999.0,  -999.00,9,  -999.00,9,     0.08,2,     0.37,2,   -999.0,-999.0000, -999,9,  101,  21.1154,  24.2974,   -999.0,9
       SH00-09,  NONE,SH-6050,  2,     12, 1-133-7,2,20001013,0913, 29.4933, 135.2388, 4560,    126.5,  20.1653,  34.7922,2,   -999.0,9,-999.0000,9,    206.9,2,  -999.00,9,  -999.00,9,     1.85,2,     0.02,2,     0.15,2, -999.000,9, -999.000,9,  -999.00,9,   -999.0,9,   -999.0,9,-999.0000,9,   -999.0,  9,  -999.00,4,   -999.0,  -999.00,9,  -999.00,9,     0.03,2,     0.15,2,   -999.0,-999.0000, -999,9,  126,  20.1418,  24.5658,   -999.0,9
       SH00-09,  NONE,SH-6050,  2,     11,S-1-1-10,2,20001013,0911, 29.4933, 135.2388, 4560,    151.3,  19.6008,  34.7979,2,   -999.0,9,-999.0000,9,    208.5,2,  -999.00,9,  -999.00,9,     1.85,2,     0.02,2,     0.16,2, -999.000,9, -999.000,9,  -999.00,9,   -999.0,9,   -999.0,9,-999.0000,9,   -999.0,  9,  -999.00,4,   -999.0,  -999.00,9,  -999.00,9,     0.01,2,     0.04,2,   -999.0,-999.0000, -999,9,  150,  19.5733,  24.7192,   -999.0,9
       SH00-09,  NONE,SH-6050,  2,     10,1-133-94,2,20001013,0910, 29.4933, 135.2388, 4560,    201.5,  19.1220,  34.8026,2,   -999.0,9,-999.0000,9,    211.1,2,  -999.00,9,  -999.00,9,     2.15,2,     0.01,2,     0.17,2, -999.000,9, -999.000,9,  -999.00,9,   -999.0,9,   -999.0,9,-999.0000,9,   -999.0,  9,  -999.00,4,   -999.0,  -999.00,9,  -999.00,9,     0.00,2,     0.01,2,   -999.0,-999.0000, -999,9,  200,  19.0860,  24.8483,   -999.0,9
       SH00-09,  NONE,SH-6050,  2,      9, 1-133-2,2,20001013,0909, 29.4933, 135.2388, 4560,    252.6,  18.8014,  34.8086,2,   -999.0,9,-999.0000,9,    213.4,2,  -999.00,9,  -999.00,9,     2.34,2,     0.01,2,     0.18,2, -999.000,9, -999.000,9,  -999.00,9,   -999.0,9,   -999.0,9,-999.0000,9,   -999.0,  9,  -999.00,4,   -999.0,  -999.00,9,  -999.00,9,     0.00,2,     0.01,2,   -999.0,-999.0000, -999,9,  251,  18.7566,  24.9367,   -999.0,9
       SH00-09,  NONE,SH-6050,  2,      8,1-133-95,2,20001013,0907, 29.4933, 135.2388, 4560,    305.8,  18.1634,  34.7933,2,   -999.0,9,-999.0000,9,    201.4,2,  -999.00,9,  -999.00,9,     3.80,2,     0.01,2,     0.30,2, -999.000,9, -999.000,9,  -999.00,9,   -999.0,9,   -999.0,9,-999.0000,9,   -999.0,  9,  -999.00,4,   -999.0,  -999.00,9,  -999.00,9,     0.00,2,     0.00,2,   -999.0,-999.0000, -999,9,  304,  18.1105,  25.0865,   -999.0,9