BOTTLE,20130510GEMDJMAYT
EXPOCODE,SECT_ID,STNNBR,CASTNO,SAMPNO,BTLNBR,BTLNBR_FLAG_W,DATE,TIME,LATITUDE,LONGITUDE,DEPTH,CTDPRS,CTDTMP,CTDSAL,CTDSAL_FLAG_W,CTDOXY,CTDOXY_FLAG_W,SALNTY,SALNTY_FLAG_W,OXYGEN,OXYGEN_FLAG_W,SILCAT,SILCAT_FLAG_W,NITRAT,NITRAT_FLAG_W,NO2+NO3,NO2+NO3_FLAG_W,NITRIT,NITRIT_FLAG_W,PHSPHT,PHSPHT_FLAG_W,CFC-11,CFC-11_FLAG_W,CFC-12,CFC-12_FLAG_W,DELC13,DELC13_FLAG_W,TCARBN,TCARBN_FLAG_W,ALKALI,ALKALI_FLAG_W,PH,PH_FLAG_W,PH_TMP,PH_SCALE,PH_NBS,PH_NBS_FLAG_W,C13ERR,TOTALP,TOTALP_FLAG_W,AMMONI,AMMONI_FLAG_W,CHLORA,CHLORA_FLAG_W,PPHYTN,PPHYTN_FLAG_W,REVPRS,REVTMP,DEPTH_,DEPTH_FLAG,CTDDEP,THETA,SIGTHT,DOC,DOC_FLAG_W
,,,,,,,GMT,GMT,,,METER,DBAR,ITS-90,PSS-78,,UMOL/KG,,PSS-78,,UMOL/KG,,UMOL/KG,,UMOL/KG,,UMOL/KG,,UMOL/KG,,UMOL/KG,,PMOL/KG,,PMOL/KG,,/MILLE,,UMOL/KG,,UMOL/KG,,25_DEG_C,,DEG_C,,,,/MILLE,UMOL/KG,,UMOL/KG,,UG/L,,UG/L,,DBAR,ITS-90,METERS,,METERS,DEG_C,,UMOL/L,
       SH00-09,  NONE,SH-6048,  2,     -9,      -9,5,20001012,2320, 30.4822, 135.2523, 4300,      0.0,  26.7136,  34.5431,2,   -999.0,9,  34.5448,2,    205.1,2,  -999.00,9,  -999.00,9,     0.10,2,     0.01,2,     0.01,2, -999.000,9, -999.000,9,  -999.00,9,   1933.6,6,   -999.0,9,-999.0000,9,   -999.0,  9,     8.22,2,   -999.0,  -999.00,9,  -999.00,9,     0.04,2,     0.02,2,   -999.0,-999.0000, -999,9,    0,  26.7136,  22.4647,   -999.0,9
       SH00-09,  NONE,SH-6048,  2,      6,1-133-93,2,20001012,2319, 30.4822, 135.2523, 4300,     10.9,  26.7016,  34.5427,2,   -999.0,9,-999.0000,9,    205.3,2,  -999.00,9,  -999.00,9,     0.20,2,     0.01,2,     0.01,2, -999.000,9, -999.000,9,  -999.00,9,   -999.0,9,   -999.0,9,-999.0000,9,   -999.0,  9,  -999.00,9,   -999.0,  -999.00,9,  -999.00,9,     0.07,2,     0.04,2,   -999.0,-999.0000, -999,9,   11,  26.6991,  22.4689,   -999.0,9
       SH00-09,  NONE,SH-6048,  2,      5,S-1-1-11,2,20001012,2318, 30.4822, 135.2523, 4300,     26.5,  26.7013,  34.5430,2,   -999.0,9,-999.0000,9,    205.4,2,  -999.00,9,  -999.00,9,     0.10,2,     0.00,2,     0.00,2, -999.000,9, -999.000,9,  -999.00,9,   -999.0,9,   -999.0,9,-999.0000,9,   -999.0,  9,  -999.00,9,   -999.0,  -999.00,9,  -999.00,9,     0.09,2,     0.04,2,   -999.0,-999.0000, -999,9,   26,  26.6953,  22.4703,   -999.0,9
       SH00-09,  NONE,SH-6048,  2,      4,S-1-1-12,2,20001012,2317, 30.4822, 135.2523, 4300,     51.2,  26.6944,  34.5458,2,   -999.0,9,-999.0000,9,    207.6,2,  -999.00,9,  -999.00,9,     0.10,2,     0.00,2,     0.00,2, -999.000,9, -999.000,9,  -999.00,9,   -999.0,9,   -999.0,9,-999.0000,9,   -999.0,  9,  -999.00,9,   -999.0,  -999.00,9,  -999.00,9,     0.09,2,     0.05,2,   -999.0,-999.0000, -999,9,   51,  26.6828,  22.4764,   -999.0,9
       SH00-09,  NONE,SH-6048,  2,      3,1-133-84,2,20001012,2316, 30.4822, 135.2523, 4300,     76.7,  23.1810,  34.7187,2,   -999.0,9,-999.0000,9,    222.0,2,  -999.00,9,  -999.00,9,     0.20,2,     0.00,2,     0.00,2, -999.000,9, -999.000,9,  -999.00,9,   -999.0,9,   -999.0,9,-999.0000,9,   -999.0,  9,  -999.00,9,   -999.0,  -999.00,9,  -999.00,9,     0.24,2,     0.27,2,   -999.0,-999.0000, -999,9,   76,  23.1653,  23.6726,   -999.0,9
       SH00-09,  NONE,SH-6048,  2,      2, S-1-1-7,2,20001012,2315, 30.4822, 135.2523, 4300,    101.9,  21.2156,  34.7760,2,   -999.0,9,-999.0000,9,    210.3,2,  -999.00,9,  -999.00,9,     1.07,2,     0.13,2,     0.07,2, -999.000,9, -999.000,9,  -999.00,9,   -999.0,9,   -999.0,9,-999.0000,9,   -999.0,  9,  -999.00,9,   -999.0,  -999.00,9,  -999.00,9,     0.13,2,     0.47,2,   -999.0,-999.0000, -999,9,  101,  21.1960,  24.2700,   -999.0,9
       SH00-09,  NONE,SH-6048,  2,      1, 1-133-1,2,20001012,2314, 30.4822, 135.2523, 4300,    127.5,  20.4208,  34.7958,2,   -999.0,9,-999.0000,9,    207.3,2,  -999.00,9,  -999.00,9,     1.56,2,     0.03,2,     0.12,2, -999.000,9, -999.000,9,  -999.00,9,   -999.0,9,   -999.0,9,-999.0000,9,   -999.0,  9,  -999.00,9,   -999.0,  -999.00,9,  -999.00,9,     0.05,2,     0.26,2,   -999.0,-999.0000, -999,9,  127,  20.3969,  24.5008,   -999.0,9
       SH00-09,  NONE,SH-6048,  2,     12, 1-133-7,2,20001012,2313, 30.4822, 135.2523, 4300,    152.3,  20.0552,  34.8006,2,   -999.0,9,-999.0000,9,    208.2,2,  -999.00,9,  -999.00,9,     1.66,2,     0.03,2,     0.13,2, -999.000,9, -999.000,9,  -999.00,9,   -999.0,9,   -999.0,9,-999.0000,9,   -999.0,  9,  -999.00,9,   -999.0,  -999.00,9,  -999.00,9,     0.03,2,     0.16,2,   -999.0,-999.0000, -999,9,  151,  20.0270,  24.6026,   -999.0,9
       SH00-09,  NONE,SH-6048,  2,     11,S-1-1-10,2,20001012,2312, 30.4822, 135.2523, 4300,    202.5,  19.1897,  34.8083,2,   -999.0,9,-999.0000,9,    211.1,2,  -999.00,9,  -999.00,9,     2.15,2,     0.02,2,     0.16,2, -999.000,9, -999.000,9,  -999.00,9,   -999.0,9,   -999.0,9,-999.0000,9,   -999.0,  9,  -999.00,9,   -999.0,  -999.00,9,  -999.00,9,     0.01,2,     0.03,2,   -999.0,-999.0000, -999,9,  201,  19.1534,  24.8354,   -999.0,9
       SH00-09,  NONE,SH-6048,  2,     10,1-133-94,2,20001012,2311, 30.4822, 135.2523, 4300,    253.6,  18.8643,  34.8087,2,   -999.0,9,-999.0000,9,    213.0,2,  -999.00,9,  -999.00,9,     2.24,2,     0.01,2,     0.17,2, -999.000,9, -999.000,9,  -999.00,9,   -999.0,9,   -999.0,9,-999.0000,9,   -999.0,  9,  -999.00,9,   -999.0,  -999.00,9,  -999.00,9,     0.00,2,     0.01,2,   -999.0,-999.0000, -999,9,  252,  18.8193,  24.9208,   -999.0,9
       SH00-09,  NONE,SH-6048,  2,      9, 1-133-2,2,20001012,2309, 30.4822, 135.2523, 4300,    304.0,  18.4114,  34.8010,2,   -999.0,9,-999.0000,9,    205.0,2,  -999.00,9,  -999.00,9,     3.51,2,     0.01,2,     0.25,2, -999.000,9, -999.000,9,  -999.00,9,   -999.0,9,   -999.0,9,-999.0000,9,   -999.0,  9,  -999.00,9,   -999.0,  -999.00,9,  -999.00,9,     0.00,2,     0.01,2,   -999.0,-999.0000, -999,9,  302,  18.3583,  25.0308,   -999.0,9
       SH00-09,  NONE,SH-6048,  1,      8,1-133-95,2,20001012,2212, 30.4945, 135.2487, 4320,    403.2,  16.6936,  34.7424,2,   -999.0,9,-999.0000,9,    200.2,2,  -999.00,9,  -999.00,9,     6.14,2,     0.01,2,     0.45,2, -999.000,9, -999.000,9,  -999.00,9,   -999.0,9,   -999.0,9,-999.0000,9,   -999.0,  9,  -999.00,9,   -999.0,  -999.00,9,  -999.00,9,  -999.00,9,  -999.00,9,   -999.0,-999.0000, -999,9,  400,  16.6277,  25.4043,   -999.0,9
       SH00-09,  NONE,SH-6048,  1,      7, S-1-1-4,2,20001012,2210, 30.4945, 135.2487, 4320,    505.1,  14.6167,  34.5993,2,   -999.0,9,-999.0000,9,    191.7,2,  -999.00,9,  -999.00,9,     9.55,2,     0.01,2,     0.71,2, -999.000,9, -999.000,9,  -999.00,9,   -999.0,9,   -999.0,9,-999.0000,9,   -999.0,  9,  -999.00,9,   -999.0,  -999.00,9,  -999.00,9,  -999.00,9,  -999.00,9,   -999.0,-999.0000, -999,9,  501,  14.5411,  25.7626,   -999.0,9
       SH00-09,  NONE,SH-6048,  1,      6,1-133-93,2,20001012,2209, 30.4945, 135.2487, 4320,    603.9,  11.9622,  34.4001,2,   -999.0,9,-999.0000,9,    177.1,2,  -999.00,9,  -999.00,9,    14.42,2,     0.00,2,     1.10,2, -999.000,9, -999.000,9,  -999.00,9,   -999.0,9,   -999.0,9,-999.0000,9,   -999.0,  9,  -999.00,9,   -999.0,  -999.00,9,  -999.00,9,  -999.00,9,  -999.00,9,   -999.0,-999.0000, -999,9,  599,  11.8828,  26.1454,   -999.0,9
       SH00-09,  NONE,SH-6048,  1,      5,S-1-1-11,2,20001012,2207, 30.4945, 135.2487, 4320,    704.1,   9.2696,  34.2379,2,   -999.0,9,-999.0000,9,    156.7,2,  -999.00,9,  -999.00,9,    20.07,2,     0.00,2,     1.56,2, -999.000,9, -999.000,9,  -999.00,9,   -999.0,9,   -999.0,9,-999.0000,9,   -999.0,  9,  -999.00,9,   -999.0,  -999.00,9,  -999.00,9,  -999.00,9,  -999.00,9,   -999.0,-999.0000, -999,9,  698,   9.1903,  26.4908,   -999.0,9
       SH00-09,  NONE,SH-6048,  1,      4,S-1-1-12,2,20001012,2206, 30.4945, 135.2487, 4320,    806.6,   7.0942,  34.2032,2,   -999.0,9,-999.0000,9,    119.1,2,  -999.00,9,  -999.00,9,    26.20,2,     0.00,2,     2.06,2, -999.000,9, -999.000,9,  -999.00,9,   -999.0,9,   -999.0,9,-999.0000,9,   -999.0,  9,  -999.00,9,   -999.0,  -999.00,9,  -999.00,9,  -999.00,9,  -999.00,9,   -999.0,-999.0000, -999,9,  799,   7.0158,  26.7889,   -999.0,9
       SH00-09,  NONE,SH-6048,  1,      3,1-133-84,2,20001012,2204, 30.4945, 135.2487, 4320,    907.4,   5.5929,  34.2075,2,   -999.0,9,-999.0000,9,     93.5,2,  -999.00,9,  -999.00,9,    30.57,2,     0.00,2,     2.40,2, -999.000,9, -999.000,9,  -999.00,9,   -999.0,9,   -999.0,9,-999.0000,9,   -999.0,  9,  -999.00,9,   -999.0,  -999.00,9,  -999.00,9,  -999.00,9,  -999.00,9,   -999.0,-999.0000, -999,9,  899,   5.5142,  26.9864,   -999.0,9
       SH00-09,  NONE,SH-6048,  1,      2, S-1-1-7,2,20001012,2202, 30.4945, 135.2487, 4320,   1009.0,   4.7923,  34.2548,2,   -999.0,9,-999.0000,9,     76.1,2,  -999.00,9,  -999.00,9,    33.00,2,     0.00,2,     2.58,2, -999.000,9, -999.000,9,  -999.00,9,   -999.0,9,   -999.0,9,-999.0000,9,   -999.0,  9,  -999.00,9,   -999.0,  -999.00,9,  -999.00,9,  -999.00,9,  -999.00,9,   -999.0,-999.0000, -999,9, 1000,   4.7102,  27.1173,   -999.0,9
       SH00-09,  NONE,SH-6048,  1,      1, 1-133-1,2,20001012,2159, 30.4945, 135.2487, 4320,   1211.8,   3.7311,  34.3880,2,   -999.0,9,-999.0000,9,     66.5,2,  -999.00,9,  -999.00,9,    35.14,2,     0.00,2,     2.74,2, -999.000,9, -999.000,9,  -999.00,9,   -999.0,9,   -999.0,9,-999.0000,9,   -999.0,  9,  -999.00,9,   -999.0,  -999.00,9,  -999.00,9,  -999.00,9,  -999.00,9,   -999.0,-999.0000, -999,9, 1200,   3.6402,  27.3357,   -999.0,9
       SH00-09,  NONE,SH-6048,  1,     12, 1-133-7,2,20001012,2154, 30.4945, 135.2487, 4320,   1518.1,   2.8620,  34.4811,2,   -999.0,9,-999.0000,9,     70.7,2,  -999.00,9,  -999.00,9,    35.72,2,     0.00,2,     2.78,2, -999.000,9, -999.000,9,  -999.00,9,   -999.0,9,   -999.0,9,-999.0000,9,   -999.0,  9,  -999.00,9,   -999.0,  -999.00,9,  -999.00,9,  -999.00,9,  -999.00,9,   -999.0,-999.0000, -999,9, 1502,   2.7545,  27.4929,   -999.0,9
       SH00-09,  NONE,SH-6049,  2,     -9,      -9,5,20001013,0416, 29.9793, 135.2392, 4420,      0.0,  27.1087,  34.3863,2,   -999.0,9,  34.3744,2,    207.7,2,  -999.00,9,  -999.00,9,     0.39,2,     0.00,2,     0.01,2, -999.000,9, -999.000,9,  -999.00,9,   1923.9,6,   -999.0,9,-999.0000,9,   -999.0,  9,     8.23,2,   -999.0,  -999.00,9,  -999.00,9,     0.00,2,     0.00,2,   -999.0,-999.0000, -999,9,    0,  27.1087,  22.2209,   -999.0,9
       SH00-09,  NONE,SH-6049,  2,      9, 1-133-2,2,20001013,0415, 29.9793, 135.2392, 4420,     11.3,  26.6938,  34.3601,2,   -999.0,9,  34.3583,2,    206.1,2,  -999.00,9,  -999.00,9,     0.29,2,     0.00,2,     0.01,2, -999.000,9, -999.000,9,  -999.00,9,   -999.0,9,   -999.0,9,-999.0000,9,   -999.0,  9,  -999.00,9,   -999.0,  -999.00,9,  -999.00,9,     0.05,2,     0.05,2,   -999.0,-999.0000, -999,9,   11,  26.6912,  22.3339,   -999.0,9
       SH00-09,  NONE,SH-6049,  2,      8,1-133-95,2,20001013,0414, 29.9793, 135.2392, 4420,     26.8,  26.8862,  34.4611,2,   -999.0,9,  34.4436,4,    206.3,2,  -999.00,9,  -999.00,9,     0.29,2,     0.00,2,     0.01,2, -999.000,9, -999.000,9,  -999.00,9,   -999.0,9,   -999.0,9,-999.0000,9,   -999.0,  9,  -999.00,9,   -999.0,  -999.00,9,  -999.00,9,     0.05,2,     0.03,2,   -999.0,-999.0000, -999,9,   27,  26.8801,  22.3501,   -999.0,9
       SH00-09,  NONE,SH-6049,  2,      7, S-1-1-4,2,20001013,0413, 29.9793, 135.2392, 4420,     50.9,  26.8604,  34.5306,2,   -999.0,9,  34.5236,2,    206.0,2,  -999.00,9,  -999.00,9,     0.29,2,     0.00,2,     0.00,2, -999.000,9, -999.000,9,  -999.00,9,   -999.0,9,   -999.0,9,-999.0000,9,   -999.0,  9,  -999.00,9,   -999.0,  -999.00,9,  -999.00,9,     0.01,4,     0.01,4,   -999.0,-999.0000, -999,9,   51,  26.8488,  22.4124,   -999.0,9
       SH00-09,  NONE,SH-6049,  2,      6,1-133-93,2,20001013,0412, 29.9793, 135.2392, 4420,     77.1,  23.5392,  34.7015,2,   -999.0,9,  34.6995,2,    219.0,2,  -999.00,9,  -999.00,9,     0.00,2,     0.00,2,     0.01,2, -999.000,9, -999.000,9,  -999.00,9,   -999.0,9,   -999.0,9,-999.0000,9,   -999.0,  9,  -999.00,9,   -999.0,  -999.00,9,  -999.00,9,     0.17,2,     0.22,2,   -999.0,-999.0000, -999,9,   77,  23.5232,  23.5555,   -999.0,9
       SH00-09,  NONE,SH-6049,  2,      5,S-1-1-11,2,20001013,0411, 29.9793, 135.2392, 4420,    101.9,  21.3561,  34.7815,2,   -999.0,9,  34.7821,2,    209.4,2,  -999.00,9,  -999.00,9,     0.88,2,     0.10,2,     0.08,2, -999.000,9, -999.000,9,  -999.00,9,   -999.0,9,   -999.0,9,-999.0000,9,   -999.0,  9,  -999.00,9,   -999.0,  -999.00,9,  -999.00,9,     0.12,2,     0.43,2,   -999.0,-999.0000, -999,9,  101,  21.3364,  24.2357,   -999.0,9
       SH00-09,  NONE,SH-6049,  2,      4,S-1-1-12,2,20001013,0410, 29.9793, 135.2392, 4420,    126.6,  20.3741,  34.7937,2,   -999.0,9,  34.7971,2,    206.9,2,  -999.00,9,  -999.00,9,     1.76,2,     0.04,2,     0.14,2, -999.000,9, -999.000,9,  -999.00,9,   -999.0,9,   -999.0,9,-999.0000,9,   -999.0,  9,  -999.00,9,   -999.0,  -999.00,9,  -999.00,9,     0.04,2,     0.21,2,   -999.0,-999.0000, -999,9,  126,  20.3504,  24.5116,   -999.0,9
       SH00-09,  NONE,SH-6049,  2,      3,1-133-84,2,20001013,0409, 29.9793, 135.2392, 4420,    152.0,  19.6545,  34.7971,2,   -999.0,9,  34.7999,2,    208.2,2,  -999.00,9,  -999.00,9,     2.05,2,     0.02,2,     0.16,2, -999.000,9, -999.000,9,  -999.00,9,   -999.0,9,   -999.0,9,-999.0000,9,   -999.0,  9,  -999.00,9,   -999.0,  -999.00,9,  -999.00,9,     0.01,2,     0.03,2,   -999.0,-999.0000, -999,9,  151,  19.6268,  24.7047,   -999.0,9
       SH00-09,  NONE,SH-6049,  2,      2, S-1-1-7,2,20001013,0408, 29.9793, 135.2392, 4420,    202.2,  19.0559,  34.8067,2,   -999.0,9,  34.8089,2,    212.8,2,  -999.00,9,  -999.00,9,     2.15,2,     0.01,2,     0.16,2, -999.000,9, -999.000,9,  -999.00,9,   -999.0,9,   -999.0,9,-999.0000,9,   -999.0,  9,  -999.00,9,   -999.0,  -999.00,9,  -999.00,9,     0.00,2,     0.01,2,   -999.0,-999.0000, -999,9,  201,  19.0198,  24.8684,   -999.0,9
       SH00-09,  NONE,SH-6049,  2,      1, 1-133-1,2,20001013,0407, 29.9793, 135.2392, 4420,    253.6,  18.7643,  34.8072,2,   -999.0,9,  34.8073,2,    213.0,2,  -999.00,9,  -999.00,9,     2.34,2,     0.01,2,     0.18,2, -999.000,9, -999.000,9,  -999.00,9,   -999.0,9,   -999.0,9,-999.0000,9,   -999.0,  9,  -999.00,9,   -999.0,  -999.00,9,  -999.00,9,     0.00,2,     0.01,2,   -999.0,-999.0000, -999,9,  252,  18.7194,  24.9450,   -999.0,9
       SH00-09,  NONE,SH-6049,  2,     12, 1-133-7,2,20001013,0406, 29.9793, 135.2392, 4420,    305.4,  18.2609,  34.7952,2,   -999.0,9,  34.7985,2,    202.3,2,  -999.00,9,  -999.00,9,     3.90,2,     0.01,2,     0.28,2, -999.000,9, -999.000,9,  -999.00,9,   -999.0,9,   -999.0,9,-999.0000,9,   -999.0,  9,  -999.00,9,   -999.0,  -999.00,9,  -999.00,9,     0.00,2,     0.01,2,   -999.0,-999.0000, -999,9,  303,  18.2078,  25.0638,   -999.0,9
       SH00-09,  NONE,SH-6049,  1,      2, S-1-1-7,4,20001013,0312, 29.9930, 135.2467, 4350,    400.7,  16.6822,  34.7459,2,   -999.0,9,  34.7402,2,    202.7,4,  -999.00,9,  -999.00,9,     5.66,2,     0.01,2,     0.43,2, -999.000,9, -999.000,9,  -999.00,9,   -999.0,9,   -999.0,9,-999.0000,9,   -999.0,  9,  -999.00,9,   -999.0,  -999.00,9,  -999.00,9,  -999.00,9,  -999.00,9,   -999.0,-999.0000, -999,9,  398,  16.6167,  25.4095,   -999.0,9
       SH00-09,  NONE,SH-6049,  1,     -1,      -9,4,20001013,0310, 29.9930, 135.2467, 4350,    501.9,  14.5147,  34.5913,2,   -999.0,9,-999.0000,9,   -999.0,9,  -999.00,9,  -999.00,9,  -999.00,9,  -999.00,9,  -999.00,9, -999.000,9, -999.000,9,  -999.00,9,   -999.0,9,   -999.0,9,-999.0000,9,   -999.0,  9,  -999.00,9,   -999.0,  -999.00,9,  -999.00,9,  -999.00,9,  -999.00,9,   -999.0,-999.0000, -999,9,  498,  14.4399,  25.7781,   -999.0,9
       SH00-09,  NONE,SH-6049,  1,      1, 1-133-1,2,20001013,0309, 29.9930, 135.2467, 4350,    602.8,  12.1844,  34.4191,2,   -999.0,9,  34.4186,2,    179.3,2,  -999.00,9,  -999.00,9,    13.45,2,     0.00,2,     1.06,2, -999.000,9, -999.000,9,  -999.00,9,   -999.0,9,   -999.0,9,-999.0000,9,   -999.0,  9,  -999.00,9,   -999.0,  -999.00,9,  -999.00,9,  -999.00,9,  -999.00,9,   -999.0,-999.0000, -999,9,  598,  12.1041,  26.1181,   -999.0,9
       SH00-09,  NONE,SH-6049,  1,     12, 1-133-7,2,20001013,0307, 29.9930, 135.2467, 4350,    704.1,   9.6710,  34.2779,2,   -999.0,9,  34.2803,2,    153.9,2,  -999.00,9,  -999.00,9,    19.39,2,     0.00,2,     1.54,2, -999.000,9, -999.000,9,  -999.00,9,   -999.0,9,   -999.0,9,-999.0000,9,   -999.0,  9,  -999.00,9,   -999.0,  -999.00,9,  -999.00,9,  -999.00,9,  -999.00,9,   -999.0,-999.0000, -999,9,  698,   9.5896,  26.4569,   -999.0,9
       SH00-09,  NONE,SH-6049,  1,     11,S-1-1-10,2,20001013,0306, 29.9930, 135.2467, 4350,    805.6,   7.3474,  34.1766,2,   -999.0,9,  34.1829,2,    129.4,2,  -999.00,9,  -999.00,9,    24.84,2,     0.00,2,     1.99,2, -999.000,9, -999.000,9,  -999.00,9,   -999.0,9,   -999.0,9,-999.0000,9,   -999.0,  9,  -999.00,9,   -999.0,  -999.00,9,  -999.00,9,  -999.00,9,  -999.00,9,   -999.0,-999.0000, -999,9,  799,   7.2676,  26.7330,   -999.0,9
       SH00-09,  NONE,SH-6049,  1,     10,1-133-94,2,20001013,0304, 29.9930, 135.2467, 4350,    907.1,   5.8152,  34.1930,2,   -999.0,9,  34.1947,2,     99.4,2,  -999.00,9,  -999.00,9,    29.80,2,     0.00,2,     2.35,2, -999.000,9, -999.000,9,  -999.00,9,   -999.0,9,   -999.0,9,-999.0000,9,   -999.0,  9,  -999.00,9,   -999.0,  -999.00,9,  -999.00,9,  -999.00,9,  -999.00,9,   -999.0,-999.0000, -999,9,  899,   5.7351,  26.9480,   -999.0,9
       SH00-09,  NONE,SH-6049,  1,      9, 1-133-2,2,20001013,0302, 29.9930, 135.2467, 4350,   1008.0,   4.9925,  34.2796,2,   -999.0,9,  34.2807,2,     79.8,2,  -999.00,9,  -999.00,9,    32.42,2,     0.00,2,     2.56,2, -999.000,9, -999.000,9,  -999.00,9,   -999.0,9,   -999.0,9,-999.0000,9,   -999.0,  9,  -999.00,9,   -999.0,  -999.00,9,  -999.00,9,  -999.00,9,  -999.00,9,   -999.0,-999.0000, -999,9,  999,   4.9089,  27.1145,   -999.0,9
       SH00-09,  NONE,SH-6049,  1,      8,1-133-95,2,20001013,0300, 29.9930, 135.2467, 4350,   1211.4,   3.7894,  34.3935,2,   -999.0,9,  34.3931,2,     67.3,2,  -999.00,9,  -999.00,9,    34.94,2,     0.00,2,     2.74,2, -999.000,9, -999.000,9,  -999.00,9,   -999.0,9,   -999.0,9,-999.0000,9,   -999.0,  9,  -999.00,9,   -999.0,  -999.00,9,  -999.00,9,  -999.00,9,  -999.00,9,   -999.0,-999.0000, -999,9, 1200,   3.6980,  27.3344,   -999.0,9
       SH00-09,  NONE,SH-6049,  1,      7, S-1-1-4,2,20001013,0256, 29.9930, 135.2467, 4350,   1515.9,   2.8475,  34.4913,2,   -999.0,9,  34.4937,2,     73.6,2,  -999.00,9,  -999.00,9,    35.62,2,     0.01,2,     2.76,2, -999.000,9, -999.000,9,  -999.00,9,   -999.0,9,   -999.0,9,-999.0000,9,   -999.0,  9,  -999.00,9,   -999.0,  -999.00,9,  -999.00,9,  -999.00,9,  -999.00,9,   -999.0,-999.0000, -999,9, 1500,   2.7403,  27.5023,   -999.0,9