BOTTLE,20130510GEMDJMAYT
EXPOCODE,SECT_ID,STNNBR,CASTNO,SAMPNO,BTLNBR,BTLNBR_FLAG_W,DATE,TIME,LATITUDE,LONGITUDE,DEPTH,CTDPRS,CTDTMP,CTDSAL,CTDSAL_FLAG_W,CTDOXY,CTDOXY_FLAG_W,SALNTY,SALNTY_FLAG_W,OXYGEN,OXYGEN_FLAG_W,SILCAT,SILCAT_FLAG_W,NITRAT,NITRAT_FLAG_W,NO2+NO3,NO2+NO3_FLAG_W,NITRIT,NITRIT_FLAG_W,PHSPHT,PHSPHT_FLAG_W,CFC-11,CFC-11_FLAG_W,CFC-12,CFC-12_FLAG_W,DELC13,DELC13_FLAG_W,TCARBN,TCARBN_FLAG_W,ALKALI,ALKALI_FLAG_W,PH,PH_FLAG_W,PH_TMP,PH_SCALE,PH_NBS,PH_NBS_FLAG_W,C13ERR,TOTALP,TOTALP_FLAG_W,AMMONI,AMMONI_FLAG_W,CHLORA,CHLORA_FLAG_W,PPHYTN,PPHYTN_FLAG_W,REVPRS,REVTMP,DEPTH_,DEPTH_FLAG,CTDDEP,THETA,SIGTHT,DOC,DOC_FLAG_W
,,,,,,,GMT,GMT,,,METER,DBAR,ITS-90,PSS-78,,UMOL/KG,,PSS-78,,UMOL/KG,,UMOL/KG,,UMOL/KG,,UMOL/KG,,UMOL/KG,,UMOL/KG,,PMOL/KG,,PMOL/KG,,/MILLE,,UMOL/KG,,UMOL/KG,,25_DEG_C,,DEG_C,,,,/MILLE,UMOL/KG,,UMOL/KG,,UG/L,,UG/L,,DBAR,ITS-90,METERS,,METERS,DEG_C,,UMOL/L,
       SH00-09,  NONE,SH-6056,  2,     -9,      -9,5,20001015,0308, 30.3053, 132.5712, 4020,      0.0,  27.0350,  33.9614,2,   -999.0,9,-999.0000,9,    206.1,2,  -999.00,9,  -999.00,9,  -999.00,4,     0.00,2,     0.01,2, -999.000,9, -999.000,9,  -999.00,9,   -999.0,9,   -999.0,9,-999.0000,9,   -999.0,  9,  -999.00,9,   -999.0,  -999.00,9,  -999.00,9,     0.08,2,     0.05,2,   -999.0,-999.0000, -999,9,    0,  27.0350,  21.9246,   -999.0,9
       SH00-09,  NONE,SH-6056,  2,      4,S-1-1-12,2,20001015,0307, 30.3053, 132.5712, 4020,     11.3,  26.9507,  33.9781,2,   -999.0,9,  33.9786,2,    205.3,2,  -999.00,9,  -999.00,9,  -999.00,4,     0.00,2,     0.01,2, -999.000,9, -999.000,9,  -999.00,9,   -999.0,9,   -999.0,9,-999.0000,9,   -999.0,  9,  -999.00,9,   -999.0,  -999.00,9,  -999.00,9,     0.14,2,     0.08,2,   -999.0,-999.0000, -999,9,   11,  26.9481,  21.9648,   -999.0,9
       SH00-09,  NONE,SH-6056,  2,      3,1-133-84,2,20001015,0305, 30.3053, 132.5712, 4020,     26.3,  26.9882,  34.0106,2,   -999.0,9,  34.0127,2,    205.1,2,  -999.00,9,  -999.00,9,  -999.00,4,     0.00,2,     0.00,2, -999.000,9, -999.000,9,  -999.00,9,   -999.0,9,   -999.0,9,-999.0000,9,   -999.0,  9,  -999.00,9,   -999.0,  -999.00,9,  -999.00,9,     0.15,2,     0.10,2,   -999.0,-999.0000, -999,9,   26,  26.9821,  21.9784,   -999.0,9
       SH00-09,  NONE,SH-6056,  2,      2, S-1-1-7,2,20001015,0304, 30.3053, 132.5712, 4020,     50.6,  26.7752,  34.3207,2,   -999.0,9,  34.3188,2,    197.4,2,  -999.00,9,  -999.00,9,  -999.00,4,     0.21,2,     0.04,2, -999.000,9, -999.000,9,  -999.00,9,   -999.0,9,   -999.0,9,-999.0000,9,   -999.0,  9,  -999.00,9,   -999.0,  -999.00,9,  -999.00,9,     0.31,2,     0.38,2,   -999.0,-999.0000, -999,9,   50,  26.7637,  22.2812,   -999.0,9
       SH00-09,  NONE,SH-6056,  2,      1, 1-133-1,2,20001015,0303, 30.3053, 132.5712, 4020,     76.1,  25.4618,  34.4185,2,   -999.0,9,  34.4121,2,    193.7,2,  -999.00,9,  -999.00,9,  -999.00,4,     0.20,2,     0.11,2, -999.000,9, -999.000,9,  -999.00,9,   -999.0,9,   -999.0,9,-999.0000,9,   -999.0,  9,  -999.00,9,   -999.0,  -999.00,9,  -999.00,9,     0.17,2,     0.31,2,   -999.0,-999.0000, -999,9,   76,  25.4451,  22.7661,   -999.0,9
       SH00-09,  NONE,SH-6056,  2,     12, 1-133-7,2,20001015,0302, 30.3053, 132.5712, 4020,     99.5,  23.9981,  34.7512,2,   -999.0,9,  34.7538,2,    217.3,2,  -999.00,9,  -999.00,9,  -999.00,4,     0.01,2,     0.00,2, -999.000,9, -999.000,9,  -999.00,9,   -999.0,9,   -999.0,9,-999.0000,9,   -999.0,  9,  -999.00,9,   -999.0,  -999.00,9,  -999.00,9,     0.06,2,     0.09,2,   -999.0,-999.0000, -999,9,   99,  23.9772,  23.4598,   -999.0,9
       SH00-09,  NONE,SH-6056,  2,     11,S-1-1-10,2,20001015,0301, 30.3053, 132.5712, 4020,    125.3,  22.2194,  34.8531,2,   -999.0,9,  34.8491,2,    212.2,2,  -999.00,9,  -999.00,9,  -999.00,4,     0.09,2,     0.02,2, -999.000,9, -999.000,9,  -999.00,9,   -999.0,9,   -999.0,9,-999.0000,9,   -999.0,  9,  -999.00,9,   -999.0,  -999.00,9,  -999.00,9,     0.12,2,     0.29,2,   -999.0,-999.0000, -999,9,  124,  22.1945,  24.0516,   -999.0,9
       SH00-09,  NONE,SH-6056,  2,     10,1-133-94,2,20001015,0300, 30.3053, 132.5712, 4020,    151.5,  21.0219,  34.8518,2,   -999.0,9,  34.8520,2,    207.3,2,  -999.00,9,  -999.00,9,  -999.00,4,     0.12,2,     0.05,2, -999.000,9, -999.000,9,  -999.00,9,   -999.0,9,   -999.0,9,-999.0000,9,   -999.0,  9,  -999.00,9,   -999.0,  -999.00,9,  -999.00,9,     0.07,2,     0.25,2,   -999.0,-999.0000, -999,9,  150,  20.9929,  24.3830,   -999.0,9
       SH00-09,  NONE,SH-6056,  2,      9, 1-133-2,2,20001015,0259, 30.3053, 132.5712, 4020,    202.8,  19.4840,  34.8346,2,   -999.0,9,  34.8357,2,    200.6,2,  -999.00,9,  -999.00,9,  -999.00,4,     0.02,2,     0.17,2, -999.000,9, -999.000,9,  -999.00,9,   -999.0,9,   -999.0,9,-999.0000,9,   -999.0,  9,  -999.00,9,   -999.0,  -999.00,9,  -999.00,9,     0.02,2,     0.08,2,   -999.0,-999.0000, -999,9,  201,  19.4472,  24.7799,   -999.0,9
       SH00-09,  NONE,SH-6056,  2,      8,1-133-95,2,20001015,0258, 30.3053, 132.5712, 4020,    252.7,  18.4650,  34.8034,2,   -999.0,9,  34.8024,2,    201.3,2,  -999.00,9,  -999.00,9,  -999.00,4,     0.01,2,     0.26,2, -999.000,9, -999.000,9,  -999.00,9,   -999.0,9,   -999.0,9,-999.0000,9,   -999.0,  9,  -999.00,9,   -999.0,  -999.00,9,  -999.00,9,     0.01,2,     0.02,2,   -999.0,-999.0000, -999,9,  251,  18.4209,  25.0171,   -999.0,9
       SH00-09,  NONE,SH-6056,  2,      7, S-1-1-4,2,20001015,0257, 30.3053, 132.5712, 4020,    302.9,  17.6805,  34.7941,2,   -999.0,9,  34.7894,2,    194.9,2,  -999.00,9,  -999.00,9,  -999.00,4,     0.02,2,     0.36,2, -999.000,9, -999.000,9,  -999.00,9,   -999.0,9,   -999.0,9,-999.0000,9,   -999.0,  9,  -999.00,9,   -999.0,  -999.00,9,  -999.00,9,     0.00,2,     0.01,2,   -999.0,-999.0000, -999,9,  301,  17.6290,  25.2051,   -999.0,9
       SH00-09,  NONE,SH-6056,  2,      6,1-133-93,2,20001015,0255, 30.3053, 132.5712, 4020,    403.8,  15.6357,  34.6739,2,   -999.0,9,  34.6735,2,    188.8,2,  -999.00,9,  -999.00,9,  -999.00,4,     0.01,2,     0.60,2, -999.000,9, -999.000,9,  -999.00,9,   -999.0,9,   -999.0,9,-999.0000,9,   -999.0,  9,  -999.00,9,   -999.0,  -999.00,9,  -999.00,9,  -999.00,9,  -999.00,9,   -999.0,-999.0000, -999,9,  401,  15.5725,  25.5935,   -999.0,9
       SH00-09,  NONE,SH-6056,  2,      5,S-1-1-11,2,20001015,0253, 30.3053, 132.5712, 4020,    506.3,  12.9084,  34.5056,2,   -999.0,9,  34.5077,2,    164.0,2,  -999.00,9,  -999.00,9,  -999.00,4,     0.01,2,     1.11,2, -999.000,9, -999.000,9,  -999.00,9,   -999.0,9,   -999.0,9,-999.0000,9,   -999.0,  9,  -999.00,9,   -999.0,  -999.00,9,  -999.00,9,  -999.00,9,  -999.00,9,   -999.0,-999.0000, -999,9,  502,  12.8387,  26.0420,   -999.0,9
       SH00-09,  NONE,SH-6056,  1,      3,1-133-84,2,20001015,0219, 30.2918, 132.5618, 3940,    603.9,  11.0066,  34.4258,2,   -999.0,9,  34.4216,2,    145.2,2,  -999.00,9,  -999.00,9,  -999.00,4,     0.01,2,     1.45,2, -999.000,9, -999.000,9,  -999.00,9,   -999.0,9,   -999.0,9,-999.0000,9,   -999.0,  9,  -999.00,9,   -999.0,  -999.00,9,  -999.00,9,  -999.00,9,  -999.00,9,   -999.0,-999.0000, -999,9,  599,  10.9312,  26.3407,   -999.0,9
       SH00-09,  NONE,SH-6056,  1,      2, S-1-1-7,2,20001015,0217, 30.2918, 132.5618, 3940,    704.4,   8.4485,  34.2938,2,   -999.0,9,  34.2885,2,    127.3,2,  -999.00,9,  -999.00,9,  -999.00,4,     0.00,2,     1.88,2, -999.000,9, -999.000,9,  -999.00,9,   -999.0,9,   -999.0,9,-999.0000,9,   -999.0,  9,  -999.00,9,   -999.0,  -999.00,9,  -999.00,9,  -999.00,9,  -999.00,9,   -999.0,-999.0000, -999,9,  698,   8.3733,  26.6630,   -999.0,9
       SH00-09,  NONE,SH-6056,  1,      1, 1-133-1,2,20001015,0215, 30.2918, 132.5618, 3940,    804.9,   6.9565,  34.3750,2,   -999.0,9,  34.3594,4,    102.9,2,  -999.00,9,  -999.00,9,  -999.00,4,     0.01,2,     2.19,2, -999.000,9, -999.000,9,  -999.00,9,   -999.0,9,   -999.0,9,-999.0000,9,   -999.0,  9,  -999.00,9,   -999.0,  -999.00,9,  -999.00,9,  -999.00,9,  -999.00,9,   -999.0,-999.0000, -999,9,  798,   6.8788,  26.9430,   -999.0,9
       SH00-09,  NONE,SH-6056,  1,     12, 1-133-7,2,20001015,0213, 30.2918, 132.5618, 3940,    906.5,   5.1071,  34.2985,2,   -999.0,9,  34.2985,2,     79.8,2,  -999.00,9,  -999.00,9,  -999.00,4,     0.01,2,     2.56,2, -999.000,9, -999.000,9,  -999.00,9,   -999.0,9,   -999.0,9,-999.0000,9,   -999.0,  9,  -999.00,9,   -999.0,  -999.00,9,  -999.00,9,  -999.00,9,  -999.00,9,   -999.0,-999.0000, -999,9,  898,   5.0317,  27.1154,   -999.0,9
       SH00-09,  NONE,SH-6056,  1,     11,S-1-1-10,2,20001015,0211, 30.2918, 132.5618, 3940,   1007.4,   4.2329,  34.3782,2,   -999.0,9,  34.3710,2,     72.5,2,  -999.00,9,  -999.00,9,  -999.00,4,     0.00,2,     2.69,2, -999.000,9, -999.000,9,  -999.00,9,   -999.0,9,   -999.0,9,-999.0000,9,   -999.0,  9,  -999.00,9,   -999.0,  -999.00,9,  -999.00,9,  -999.00,9,  -999.00,9,   -999.0,-999.0000, -999,9,  998,   4.1551,  27.2754,   -999.0,9
       SH00-09,  NONE,SH-6056,  1,     10,1-133-94,2,20001015,0208, 30.2918, 132.5618, 3940,   1210.0,   3.3850,  34.4556,2,   -999.0,9,  34.4538,2,     73.1,2,  -999.00,9,  -999.00,9,  -999.00,4,     0.01,2,     2.74,2, -999.000,9, -999.000,9,  -999.00,9,   -999.0,9,   -999.0,9,-999.0000,9,   -999.0,  9,  -999.00,9,   -999.0,  -999.00,9,  -999.00,9,  -999.00,9,  -999.00,9,   -999.0,-999.0000, -999,9, 1198,   3.2974,  27.4228,   -999.0,9
       SH00-09,  NONE,SH-6056,  1,      9, 1-133-2,2,20001015,0203, 30.2918, 132.5618, 3940,   1513.5,   2.6176,  34.5177,2,   -999.0,9,  34.5149,2,     79.9,4,  -999.00,9,  -999.00,9,  -999.00,4,     0.00,2,     2.78,2, -999.000,9, -999.000,9,  -999.00,9,   -999.0,9,   -999.0,9,-999.0000,9,   -999.0,  9,  -999.00,9,   -999.0,  -999.00,9,  -999.00,9,  -999.00,9,  -999.00,9,   -999.0,-999.0000, -999,9, 1498,   2.5132,  27.5431,   -999.0,9
       SH00-09,  NONE,SH-6056,  1,      8,1-133-95,2,20001015,0156, 30.2918, 132.5618, 3940,   2022.5,   2.0825,  34.6007,2,   -999.0,9,  34.5938,2,   -999.0,9,  -999.00,9,  -999.00,9,  -999.00,9,  -999.00,9,  -999.00,9, -999.000,9, -999.000,9,  -999.00,9,   -999.0,9,   -999.0,9,-999.0000,9,   -999.0,  9,  -999.00,9,   -999.0,  -999.00,9,  -999.00,9,  -999.00,9,  -999.00,9,   -999.0,-999.0000, -999,9, 1999,   1.9430,  27.6562,   -999.0,9
       SH00-09,  NONE,SH-6056,  1,      7, S-1-1-4,2,20001015,0149, 30.2918, 132.5618, 3940,   2531.0,   1.7864,  34.6471,2,   -999.0,9,  34.6408,2,   -999.0,9,  -999.00,9,  -999.00,9,  -999.00,9,  -999.00,9,  -999.00,9, -999.000,9, -999.000,9,  -999.00,9,   -999.0,9,   -999.0,9,-999.0000,9,   -999.0,  9,  -999.00,9,   -999.0,  -999.00,9,  -999.00,9,  -999.00,9,  -999.00,9,   -999.0,-999.0000, -999,9, 2499,   1.6073,  27.7190,   -999.0,9
       SH00-09,  NONE,SH-6056,  1,      6,1-133-93,2,20001015,0141, 30.2918, 132.5618, 3940,   3042.2,   1.6054,  34.6746,2,   -999.0,9,  34.6662,2,   -999.0,9,  -999.00,9,  -999.00,9,  -999.00,9,  -999.00,9,  -999.00,9, -999.000,9, -999.000,9,  -999.00,9,   -999.0,9,   -999.0,9,-999.0000,9,   -999.0,  9,  -999.00,9,   -999.0,  -999.00,9,  -999.00,9,  -999.00,9,  -999.00,9,   -999.0,-999.0000, -999,9, 3000,   1.3823,  27.7575,   -999.0,9
       SH00-09,  NONE,SH-6056,  1,      5,S-1-1-11,2,20001015,0132, 30.2918, 132.5618, 3940,   3646.9,   1.5535,  34.6878,2,   -999.0,9,  34.6784,2,   -999.0,9,  -999.00,9,  -999.00,9,  -999.00,9,  -999.00,9,  -999.00,9, -999.000,9, -999.000,9,  -999.00,9,   -999.0,9,   -999.0,9,-999.0000,9,   -999.0,  9,  -999.00,9,   -999.0,  -999.00,9,  -999.00,9,  -999.00,9,  -999.00,9,   -999.0,-999.0000, -999,9, 3591,   1.2708,  27.7760,   -999.0,9
       SH00-09,  NONE,SH-6057,  2,     -9,      -9,5,20001015,0856, 30.6587, 132.1767, 2490,      0.0,  27.1835,  34.1070,2,   -999.0,9,-999.0000,9,    206.5,2,  -999.00,9,  -999.00,9,  -999.00,4,     0.01,2,     0.01,2, -999.000,9, -999.000,9,  -999.00,9,   -999.0,9,   -999.0,9,-999.0000,9,   -999.0,  9,     8.23,2,   -999.0,  -999.00,9,  -999.00,9,     0.08,2,     0.06,2,   -999.0,-999.0000, -999,9,    0,  27.1835,  21.9868,   -999.0,9
       SH00-09,  NONE,SH-6057,  2,     12, 1-133-7,2,20001015,0855, 30.6587, 132.1767, 2490,     11.7,  27.1958,  34.1063,2,   -999.0,9,-999.0000,9,    205.3,2,  -999.00,9,  -999.00,9,  -999.00,4,     0.00,2,     0.01,2, -999.000,9, -999.000,9,  -999.00,9,   -999.0,9,   -999.0,9,-999.0000,9,   -999.0,  9,     8.25,2,   -999.0,  -999.00,9,  -999.00,9,     0.17,2,     0.12,2,   -999.0,-999.0000, -999,9,   12,  27.1931,  21.9832,   -999.0,9
       SH00-09,  NONE,SH-6057,  2,     11,S-1-1-10,2,20001015,0854, 30.6587, 132.1767, 2490,     25.6,  27.1940,  34.1070,2,   -999.0,9,-999.0000,9,    202.5,2,  -999.00,9,  -999.00,9,  -999.00,4,     0.00,2,     0.00,2, -999.000,9, -999.000,9,  -999.00,9,   -999.0,9,   -999.0,9,-999.0000,9,   -999.0,  9,     8.21,2,   -999.0,  -999.00,9,  -999.00,9,     0.18,2,     0.09,2,   -999.0,-999.0000, -999,9,   25,  27.1881,  21.9853,   -999.0,9
       SH00-09,  NONE,SH-6057,  2,     10,1-133-94,2,20001015,0853, 30.6587, 132.1767, 2490,     50.1,  27.1875,  34.1017,2,   -999.0,9,-999.0000,9,    204.3,2,  -999.00,9,  -999.00,9,  -999.00,4,     0.01,2,     0.00,2, -999.000,9, -999.000,9,  -999.00,9,   -999.0,9,   -999.0,9,-999.0000,9,   -999.0,  9,     8.21,2,   -999.0,  -999.00,9,  -999.00,9,     0.21,2,     0.11,2,   -999.0,-999.0000, -999,9,   50,  27.1760,  21.9852,   -999.0,9
       SH00-09,  NONE,SH-6057,  2,      9, 1-133-2,2,20001015,0852, 30.6587, 132.1767, 2490,     76.3,  26.5660,  34.1489,2,   -999.0,9,-999.0000,9,    200.3,2,  -999.00,9,  -999.00,9,  -999.00,4,     0.14,2,     0.04,2, -999.000,9, -999.000,9,  -999.00,9,   -999.0,9,   -999.0,9,-999.0000,9,   -999.0,  9,     8.23,2,   -999.0,  -999.00,9,  -999.00,9,     0.26,2,     0.32,2,   -999.0,-999.0000, -999,9,   76,  26.5488,  22.2197,   -999.0,9
       SH00-09,  NONE,SH-6057,  2,      8,1-133-95,2,20001015,0850, 30.6587, 132.1767, 2490,    101.3,  25.7879,  34.6800,2,   -999.0,9,-999.0000,9,    193.3,2,  -999.00,9,  -999.00,9,  -999.00,4,     0.25,2,     0.06,2, -999.000,9, -999.000,9,  -999.00,9,   -999.0,9,   -999.0,9,-999.0000,9,   -999.0,  9,     8.22,2,   -999.0,  -999.00,9,  -999.00,9,     0.08,2,     0.23,2,   -999.0,-999.0000, -999,9,  101,  25.7655,  22.8647,   -999.0,9
       SH00-09,  NONE,SH-6057,  2,      7, S-1-1-4,2,20001015,0849, 30.6587, 132.1767, 2490,    127.4,  24.9637,  34.6934,2,   -999.0,9,-999.0000,9,    193.7,2,  -999.00,9,  -999.00,9,  -999.00,4,     0.13,2,     0.16,2, -999.000,9, -999.000,9,  -999.00,9,   -999.0,9,   -999.0,9,-999.0000,9,   -999.0,  9,     8.20,2,   -999.0,  -999.00,9,  -999.00,9,     0.04,2,     0.16,2,   -999.0,-999.0000, -999,9,  126,  24.9361,  23.1289,   -999.0,9
       SH00-09,  NONE,SH-6057,  2,      6,1-133-93,2,20001015,0848, 30.6587, 132.1767, 2490,    152.1,  23.2712,  34.7214,2,   -999.0,9,-999.0000,9,    189.6,2,  -999.00,9,  -999.00,9,  -999.00,4,     0.04,2,     0.24,2, -999.000,9, -999.000,9,  -999.00,9,   -999.0,9,   -999.0,9,-999.0000,9,   -999.0,  9,     8.18,2,   -999.0,  -999.00,9,  -999.00,9,     0.02,2,     0.08,2,   -999.0,-999.0000, -999,9,  151,  23.2399,  23.6531,   -999.0,9
       SH00-09,  NONE,SH-6057,  2,      5,S-1-1-11,2,20001015,0846, 30.6587, 132.1767, 2490,    202.1,  19.3246,  34.7900,2,   -999.0,9,-999.0000,9,    188.0,2,  -999.00,9,  -999.00,9,  -999.00,4,     0.01,2,     0.39,2, -999.000,9, -999.000,9,  -999.00,9,   -999.0,9,   -999.0,9,-999.0000,9,   -999.0,  9,     8.12,2,   -999.0,  -999.00,9,  -999.00,9,     0.01,2,     0.03,2,   -999.0,-999.0000, -999,9,  201,  19.2881,  24.7869,   -999.0,9
       SH00-09,  NONE,SH-6057,  2,      4,S-1-1-12,2,20001015,0845, 30.6587, 132.1767, 2490,    252.9,  16.7663,  34.7101,2,   -999.0,9,-999.0000,9,    186.0,2,  -999.00,9,  -999.00,9,  -999.00,4,     0.01,2,     0.59,2, -999.000,9, -999.000,9,  -999.00,9,   -999.0,9,   -999.0,9,-999.0000,9,   -999.0,  9,     8.06,2,   -999.0,  -999.00,9,  -999.00,9,     0.00,2,     0.01,2,   -999.0,-999.0000, -999,9,  251,  16.7250,  25.3567,   -999.0,9
       SH00-09,  NONE,SH-6057,  2,      3,1-133-84,2,20001015,0843, 30.6587, 132.1767, 2490,    305.5,  15.9290,  34.6558,2,   -999.0,9,-999.0000,9,    183.5,2,  -999.00,9,  -999.00,9,  -999.00,4,     0.01,2,     0.68,2, -999.000,9, -999.000,9,  -999.00,9,   -999.0,9,   -999.0,9,-999.0000,9,   -999.0,  9,     8.04,2,   -999.0,  -999.00,9,  -999.00,9,     0.00,2,     0.01,2,   -999.0,-999.0000, -999,9,  303,  15.8808,  25.5100,   -999.0,9