BOTTLE,20130510GEMDJMAYT
EXPOCODE,SECT_ID,STNNBR,CASTNO,SAMPNO,BTLNBR,BTLNBR_FLAG_W,DATE,TIME,LATITUDE,LONGITUDE,DEPTH,CTDPRS,CTDTMP,CTDSAL,CTDSAL_FLAG_W,CTDOXY,CTDOXY_FLAG_W,SALNTY,SALNTY_FLAG_W,OXYGEN,OXYGEN_FLAG_W,SILCAT,SILCAT_FLAG_W,NITRAT,NITRAT_FLAG_W,NO2+NO3,NO2+NO3_FLAG_W,NITRIT,NITRIT_FLAG_W,PHSPHT,PHSPHT_FLAG_W,CFC-11,CFC-11_FLAG_W,CFC-12,CFC-12_FLAG_W,DELC13,DELC13_FLAG_W,TCARBN,TCARBN_FLAG_W,ALKALI,ALKALI_FLAG_W,PH,PH_FLAG_W,PH_TMP,PH_SCALE,PH_NBS,PH_NBS_FLAG_W,C13ERR,TOTALP,TOTALP_FLAG_W,AMMONI,AMMONI_FLAG_W,CHLORA,CHLORA_FLAG_W,PPHYTN,PPHYTN_FLAG_W,REVPRS,REVTMP,DEPTH_,DEPTH_FLAG,CTDDEP,THETA,SIGTHT,DOC,DOC_FLAG_W
,,,,,,,GMT,GMT,,,METER,DBAR,ITS-90,PSS-78,,UMOL/KG,,PSS-78,,UMOL/KG,,UMOL/KG,,UMOL/KG,,UMOL/KG,,UMOL/KG,,UMOL/KG,,PMOL/KG,,PMOL/KG,,/MILLE,,UMOL/KG,,UMOL/KG,,25_DEG_C,,DEG_C,,,,/MILLE,UMOL/KG,,UMOL/KG,,UG/L,,UG/L,,DBAR,ITS-90,METERS,,METERS,DEG_C,,UMOL/L,
       KS01-05,  137E,KS-0112,  1,     24,02-16030,2,20010525,1238, 20.0122, 137.0028, 4670,      4.4,  30.1556,  34.6719,2,   -999.0,9,-999.0000,9,    194.0,3,  -999.00,9,  -999.00,9,     0.00,2,     0.00,2,     0.00,2, -999.000,9, -999.000,9,  -999.00,9,   1914.3,3,   -999.0,9,-999.0000,9,   -999.0,  9,     8.24,2,   -999.0,  -999.00,9,  -999.00,9,     0.04,2,     0.02,2,   -999.0,-999.0000, -999,9,    4,  30.1545,  21.4274,   -999.0,9
       KS01-05,  137E,KS-0112,  1,     23,02-16029,2,20010525,1237, 20.0122, 137.0028, 4670,      9.8,  30.0734,  34.7257,2,   -999.0,9,  34.7113,4,    194.0,3,  -999.00,9,  -999.00,9,     0.00,2,     0.00,2,     0.00,2, -999.000,9, -999.000,9,  -999.00,9,   1920.0,3,   -999.0,9,-999.0000,9,   -999.0,  9,     8.24,2,   -999.0,  -999.00,9,  -999.00,9,     0.04,2,     0.03,2,   -999.0,-999.0000, -999,9,   10,  30.0710,  21.4963,   -999.0,9
       KS01-05,  137E,KS-0112,  1,     22,02-16028,2,20010525,1236, 20.0122, 137.0028, 4670,     24.8,  28.9908,  34.6444,2,   -999.0,9,  34.6506,4,    202.0,3,  -999.00,9,  -999.00,9,     0.00,2,     0.00,2,     0.00,2, -999.000,9, -999.000,9,  -999.00,9,   1916.7,3,   -999.0,9,-999.0000,9,   -999.0,  9,     8.24,2,   -999.0,  -999.00,9,  -999.00,9,     0.04,2,     0.03,2,   -999.0,-999.0000, -999,9,   25,  28.9848,  21.8022,   -999.0,9
       KS01-05,  137E,KS-0112,  1,     21,02-16027,2,20010525,1231, 20.0122, 137.0028, 4670,     50.1,  28.0560,  34.6821,2,   -999.0,9,  34.6958,4,    204.0,3,  -999.00,9,  -999.00,9,     0.00,2,     0.01,2,     0.00,2, -999.000,9, -999.000,9,  -999.00,9,   1922.7,3,   -999.0,9,-999.0000,9,   -999.0,  9,     8.23,2,   -999.0,  -999.00,9,  -999.00,9,     0.06,2,     0.04,2,   -999.0,-999.0000, -999,9,   50,  28.0442,  22.1412,   -999.0,9
       KS01-05,  137E,KS-0112,  1,     20,02-16026,2,20010525,1230, 20.0122, 137.0028, 4670,     75.2,  27.7488,  34.9287,2,   -999.0,9,  34.9337,2,    198.0,3,  -999.00,9,  -999.00,9,     0.00,2,     0.00,2,     0.05,2, -999.000,9, -999.000,9,  -999.00,9,   1945.4,3,   -999.0,9,-999.0000,9,   -999.0,  9,     8.22,2,   -999.0,  -999.00,9,  -999.00,9,     0.11,2,     0.09,2,   -999.0,-999.0000, -999,9,   75,  27.7312,  22.4286,   -999.0,9
       KS01-05,  137E,KS-0112,  1,     19,02-16025,2,20010525,1229, 20.0122, 137.0028, 4670,     99.9,  26.5192,  34.9314,2,   -999.0,9,  34.9494,4,    193.0,3,  -999.00,9,  -999.00,9,     0.00,2,     0.01,2,     0.03,2, -999.000,9, -999.000,9,  -999.00,9,   1957.2,3,   -999.0,9,-999.0000,9,   -999.0,  9,     8.20,2,   -999.0,  -999.00,9,  -999.00,9,     0.14,2,     0.41,2,   -999.0,-999.0000, -999,9,   99,  26.4966,  22.8259,   -999.0,9
       KS01-05,  137E,KS-0112,  1,     18,02-16024,2,20010525,1228, 20.0122, 137.0028, 4670,    124.2,  24.9042,  35.0277,2,   -999.0,9,  35.0461,4,    180.0,3,  -999.00,9,  -999.00,9,     0.59,2,     0.11,2,     0.10,2, -999.000,9, -999.000,9,  -999.00,9,   1991.6,3,   -999.0,9,-999.0000,9,   -999.0,  9,     8.15,2,   -999.0,  -999.00,9,  -999.00,9,     0.06,2,     0.39,2,   -999.0,-999.0000, -999,9,  123,  24.8773,  23.3994,   -999.0,9
       KS01-05,  137E,KS-0112,  1,     17,02-16023,2,20010525,1227, 20.0122, 137.0028, 4670,    150.5,  23.5476,  35.0264,2,   -999.0,9,  35.0281,2,    181.0,3,  -999.00,9,  -999.00,9,     1.07,2,     0.06,2,     0.11,2, -999.000,9, -999.000,9,  -999.00,9,   1998.1,3,   -999.0,9,-999.0000,9,   -999.0,  9,     8.13,2,   -999.0,  -999.00,9,  -999.00,9,     0.04,2,     0.21,2,   -999.0,-999.0000, -999,9,  150,  23.5163,  23.8037,   -999.0,9
       KS01-05,  137E,KS-0112,  1,     16,02-16022,2,20010525,1225, 20.0122, 137.0028, 4670,    201.2,  21.1221,  34.9317,2,   -999.0,9,  34.9327,2,    185.0,3,  -999.00,9,  -999.00,9,     2.15,2,     0.02,2,     0.16,2, -999.000,9, -999.000,9,  -999.00,9,   2011.4,3,   -999.0,9,-999.0000,9,   -999.0,  9,     8.11,2,   -999.0,  -999.00,9,  -999.00,9,     0.01,2,     0.04,2,   -999.0,-999.0000, -999,9,  200,  21.0834,  24.4192,   -999.0,9
       KS01-05,  137E,KS-0112,  1,     15,02-16021,2,20010525,1223, 20.0122, 137.0028, 4670,    254.2,  19.0648,  34.8403,2,   -999.0,9,  34.8422,2,    192.0,3,  -999.00,9,  -999.00,9,     3.32,2,     0.02,2,     0.21,2, -999.000,9, -999.000,9,  -999.00,9,   2016.1,3,   -999.0,9,-999.0000,9,   -999.0,  9,     8.09,2,   -999.0,  -999.00,9,  -999.00,9,     0.00,2,     0.01,2,   -999.0,-999.0000, -999,9,  253,  19.0193,  24.8942,   -999.0,9
       KS01-05,  137E,KS-0112,  1,     14,02-16020,2,20010525,1222, 20.0122, 137.0028, 4670,    301.6,  17.5211,  34.7778,2,   -999.0,9,  34.7777,2,    191.0,3,  -999.00,9,  -999.00,9,     5.85,2,     0.00,2,     0.36,2, -999.000,9, -999.000,9,  -999.00,9,   -999.0,9,   -999.0,9,-999.0000,9,   -999.0,  9,  -999.00,9,   -999.0,  -999.00,9,  -999.00,9,     0.00,2,     0.00,2,   -999.0,-999.0000, -999,9,  300,  17.4702,  25.2311,   -999.0,9
       KS01-05,  137E,KS-0112,  1,     13,02-16019,2,20010525,1219, 20.0122, 137.0028, 4670,    401.9,  14.2098,  34.5385,2,   -999.0,9,  34.5339,2,    182.0,3,  -999.00,9,  -999.00,9,    12.09,2,     0.00,2,     0.77,2, -999.000,9, -999.000,9,  -999.00,9,   -999.0,9,   -999.0,9,-999.0000,9,   -999.0,  9,  -999.00,9,   -999.0,  -999.00,9,  -999.00,9,  -999.00,9,  -999.00,9,   -999.0,-999.0000, -999,9,  399,  14.1510,  25.7987,   -999.0,9
       KS01-05,  137E,KS-0112,  1,     12,02-16018,2,20010525,1216, 20.0122, 137.0028, 4670,    502.9,  11.0531,  34.3031,2,   -999.0,9,  34.3054,2,    172.0,3,  -999.00,9,  -999.00,9,    18.71,2,     0.01,2,     1.21,2, -999.000,9, -999.000,9,  -999.00,9,   -999.0,9,   -999.0,9,-999.0000,9,   -999.0,  9,  -999.00,9,   -999.0,  -999.00,9,  -999.00,9,  -999.00,9,  -999.00,9,   -999.0,-999.0000, -999,9,  499,  10.9905,  26.2345,   -999.0,9
       KS01-05,  137E,KS-0112,  1,     11,02-16017,2,20010525,1214, 20.0122, 137.0028, 4670,    605.1,   7.7888,  34.1618,2,   -999.0,9,  34.1619,2,    116.0,3,  -999.00,9,  -999.00,9,    30.20,2,     0.00,2,     2.03,2, -999.000,9, -999.000,9,  -999.00,9,   -999.0,9,   -999.0,9,-999.0000,9,   -999.0,  9,  -999.00,9,   -999.0,  -999.00,9,  -999.00,9,  -999.00,9,  -999.00,9,   -999.0,-999.0000, -999,9,  601,   7.7277,  26.6555,   -999.0,9
       KS01-05,  137E,KS-0112,  1,     10,02-16016,2,20010525,1211, 20.0122, 137.0028, 4670,    708.4,   6.1617,  34.2141,2,   -999.0,9,  34.2144,2,     76.0,3,  -999.00,9,  -999.00,9,    36.81,2,     0.01,2,     2.50,2, -999.000,9, -999.000,9,  -999.00,9,   -999.0,9,   -999.0,9,-999.0000,9,   -999.0,  9,  -999.00,9,   -999.0,  -999.00,9,  -999.00,9,  -999.00,9,  -999.00,9,   -999.0,-999.0000, -999,9,  703,   6.0982,  26.9192,   -999.0,9
       KS01-05,  137E,KS-0112,  1,      9,02-16015,2,20010525,1208, 20.0122, 137.0028, 4670,    803.4,   5.1997,  34.3029,2,   -999.0,9,  34.3025,2,     61.0,3,  -999.00,9,  -999.00,9,    39.53,2,     0.04,2,     2.71,2, -999.000,9, -999.000,9,  -999.00,9,   -999.0,9,   -999.0,9,-999.0000,9,   -999.0,  9,  -999.00,9,   -999.0,  -999.00,9,  -999.00,9,  -999.00,9,  -999.00,9,   -999.0,-999.0000, -999,9,  797,   5.1329,  27.1072,   -999.0,9
       KS01-05,  137E,KS-0112,  1,      8,02-16014,2,20010525,1206, 20.0122, 137.0028, 4670,    907.8,   4.7702,  34.3843,2,   -999.0,9,  34.3841,2,     61.0,3,  -999.00,9,  -999.00,9,    40.50,2,     0.01,2,     2.76,2, -999.000,9, -999.000,9,  -999.00,9,   -999.0,9,   -999.0,9,-999.0000,9,   -999.0,  9,  -999.00,9,   -999.0,  -999.00,9,  -999.00,9,  -999.00,9,  -999.00,9,   -999.0,-999.0000, -999,9,  900,   4.6969,  27.2215,   -999.0,9
       KS01-05,  137E,KS-0112,  1,      7,02-16013,2,20010525,1203, 20.0122, 137.0028, 4670,   1007.8,   4.2427,  34.4490,2,   -999.0,9,  34.4483,2,     68.0,3,  -999.00,9,  -999.00,9,    40.59,2,     0.00,2,     2.78,2, -999.000,9, -999.000,9,  -999.00,9,   -999.0,9,   -999.0,9,-999.0000,9,   -999.0,  9,  -999.00,9,   -999.0,  -999.00,9,  -999.00,9,  -999.00,9,  -999.00,9,   -999.0,-999.0000, -999,9,  999,   4.1646,  27.3306,   -999.0,9
       KS01-05,  137E,KS-0112,  1,      6,02-16012,2,20010525,1158, 20.0122, 137.0028, 4670,   1261.0,   3.3225,  34.5200,2,   -999.0,9,  34.5195,2,     80.0,3,  -999.00,9,  -999.00,9,    40.49,2,     0.01,2,     2.74,2, -999.000,9, -999.000,9,  -999.00,9,   -999.0,9,   -999.0,9,-999.0000,9,   -999.0,  9,  -999.00,9,   -999.0,  -999.00,9,  -999.00,9,  -999.00,9,  -999.00,9,   -999.0,-999.0000, -999,9, 1250,   3.2311,  27.4805,   -999.0,9
       KS01-05,  137E,KS-0112,  1,      5,02-16011,2,20010525,1153, 20.0122, 137.0028, 4670,   1514.2,   2.7236,  34.5647,2,   -999.0,9,  34.5641,2,     91.0,3,  -999.00,9,  -999.00,9,    40.39,2,     0.01,2,     2.72,2, -999.000,9, -999.000,9,  -999.00,9,   -999.0,9,   -999.0,9,-999.0000,9,   -999.0,  9,  -999.00,9,   -999.0,  -999.00,9,  -999.00,9,  -999.00,9,  -999.00,9,   -999.0,-999.0000, -999,9, 1500,   2.6178,  27.5717,   -999.0,9
       KS01-05,  137E,KS-0112,  1,      4,02-16010,9,20010525,1144, 20.0122, 137.0028, 4670,   2021.5,   2.1130,  34.6212,2,   -999.0,9,-999.0000,9,   -999.0,9,  -999.00,9,  -999.00,9,  -999.00,9,  -999.00,9,  -999.00,9, -999.000,9, -999.000,9,  -999.00,9,   -999.0,9,   -999.0,9,-999.0000,9,   -999.0,  9,  -999.00,9,   -999.0,  -999.00,9,  -999.00,9,  -999.00,9,  -999.00,9,   -999.0,-999.0000, -999,9, 1999,   1.9731,  27.6704,   -999.0,9
       KS01-05,  137E,KS-0112,  1,      3,02-16009,9,20010525,1144, 20.0122, 137.0028, 4670,   2021.8,   2.1130,  34.6212,2,   -999.0,9,-999.0000,9,   -999.0,9,  -999.00,9,  -999.00,9,  -999.00,9,  -999.00,9,  -999.00,9, -999.000,9, -999.000,9,  -999.00,9,   -999.0,9,   -999.0,9,-999.0000,9,   -999.0,  9,  -999.00,9,   -999.0,  -999.00,9,  -999.00,9,  -999.00,9,  -999.00,9,   -999.0,-999.0000, -999,9, 2000,   1.9730,  27.6704,   -999.0,9
       KS01-05,  137E,KS-0112,  1,      2,02-16008,9,20010525,1144, 20.0122, 137.0028, 4670,   2021.8,   2.1130,  34.6212,2,   -999.0,9,-999.0000,9,   -999.0,9,  -999.00,9,  -999.00,9,  -999.00,9,  -999.00,9,  -999.00,9, -999.000,9, -999.000,9,  -999.00,9,   -999.0,9,   -999.0,9,-999.0000,9,   -999.0,  9,  -999.00,9,   -999.0,  -999.00,9,  -999.00,9,  -999.00,9,  -999.00,9,   -999.0,-999.0000, -999,9, 2000,   1.9730,  27.6703,   -999.0,9
       KS01-05,  137E,KS-0112,  1,      1,02-16007,2,20010525,1144, 20.0122, 137.0028, 4670,   2021.3,   2.1131,  34.6213,2,   -999.0,9,  34.6203,2,    111.0,3,  -999.00,9,  -999.00,9,    39.51,2,     0.00,2,     2.65,2, -999.000,9, -999.000,9,  -999.00,9,   -999.0,9,   -999.0,9,-999.0000,9,   -999.0,  9,  -999.00,9,   -999.0,  -999.00,9,  -999.00,9,  -999.00,9,  -999.00,9,   -999.0,-999.0000, -999,9, 1999,   1.9732,  27.6704,   -999.0,9