BOTTLE,20130510GEMDJMAYT
EXPOCODE,SECT_ID,STNNBR,CASTNO,SAMPNO,BTLNBR,BTLNBR_FLAG_W,DATE,TIME,LATITUDE,LONGITUDE,DEPTH,CTDPRS,CTDTMP,CTDSAL,CTDSAL_FLAG_W,CTDOXY,CTDOXY_FLAG_W,SALNTY,SALNTY_FLAG_W,OXYGEN,OXYGEN_FLAG_W,SILCAT,SILCAT_FLAG_W,NITRAT,NITRAT_FLAG_W,NO2+NO3,NO2+NO3_FLAG_W,NITRIT,NITRIT_FLAG_W,PHSPHT,PHSPHT_FLAG_W,CFC-11,CFC-11_FLAG_W,CFC-12,CFC-12_FLAG_W,DELC13,DELC13_FLAG_W,TCARBN,TCARBN_FLAG_W,ALKALI,ALKALI_FLAG_W,PH,PH_FLAG_W,PH_TMP,PH_SCALE,PH_NBS,PH_NBS_FLAG_W,C13ERR,TOTALP,TOTALP_FLAG_W,AMMONI,AMMONI_FLAG_W,CHLORA,CHLORA_FLAG_W,PPHYTN,PPHYTN_FLAG_W,REVPRS,REVTMP,DEPTH_,DEPTH_FLAG,CTDDEP,THETA,SIGTHT,DOC,DOC_FLAG_W
,,,,,,,GMT,GMT,,,METER,DBAR,ITS-90,PSS-78,,UMOL/KG,,PSS-78,,UMOL/KG,,UMOL/KG,,UMOL/KG,,UMOL/KG,,UMOL/KG,,UMOL/KG,,PMOL/KG,,PMOL/KG,,/MILLE,,UMOL/KG,,UMOL/KG,,25_DEG_C,,DEG_C,,,,/MILLE,UMOL/KG,,UMOL/KG,,UG/L,,UG/L,,DBAR,ITS-90,METERS,,METERS,DEG_C,,UMOL/L,
       KS01-05,  NONE,KS-0154,  1,     24,02-16030,2,20010615,0731, 32.0090, 133.4413, 2235,      5.2,  25.0354,  34.3572,2,   -999.0,9,-999.0000,9,    209.0,2,  -999.00,9,  -999.00,9,     0.00,2,     0.00,2,     0.00,2, -999.000,9, -999.000,9,  -999.00,9,   1927.8,2,   -999.0,9,-999.0000,9,   -999.0,  9,     8.21,2,   -999.0,  -999.00,9,  -999.00,9,     0.08,2,     0.04,2,   -999.0,-999.0000, -999,9,    5,  25.0343,  22.8451,   -999.0,9
       KS01-05,  NONE,KS-0154,  1,     23,02-16029,2,20010615,0730, 32.0090, 133.4413, 2235,     10.3,  24.7981,  34.3672,2,   -999.0,9,  34.3760,4,    209.0,2,  -999.00,9,  -999.00,9,     0.00,2,     0.00,2,     0.00,2, -999.000,9, -999.000,9,  -999.00,9,   1931.0,2,   -999.0,9,-999.0000,9,   -999.0,  9,     8.21,2,   -999.0,  -999.00,9,  -999.00,9,     0.07,2,     0.05,2,   -999.0,-999.0000, -999,9,   10,  24.7959,  22.9248,   -999.0,9
       KS01-05,  NONE,KS-0154,  1,     22,02-16028,2,20010615,0728, 32.0090, 133.4413, 2235,     25.3,  22.6167,  34.4746,2,   -999.0,9,  34.5779,4,    215.0,2,  -999.00,9,  -999.00,9,     0.10,2,     0.04,2,     0.00,2, -999.000,9, -999.000,9,  -999.00,9,   1950.4,2,   -999.0,9,-999.0000,9,   -999.0,  9,     8.18,2,   -999.0,  -999.00,9,  -999.00,9,     0.26,2,     0.22,2,   -999.0,-999.0000, -999,9,   25,  22.6116,  23.6462,   -999.0,9
       KS01-05,  NONE,KS-0154,  1,     21,02-16027,2,20010615,0725, 32.0090, 133.4413, 2235,     50.0,  21.2937,  34.7374,2,   -999.0,9,  34.7217,4,    212.0,2,  -999.00,9,  -999.00,9,     0.49,2,     0.20,2,     0.03,2, -999.000,9, -999.000,9,  -999.00,9,   1968.1,2,   -999.0,9,-999.0000,9,   -999.0,  9,     8.17,2,   -999.0,  -999.00,9,  -999.00,9,     0.30,2,     0.39,2,   -999.0,-999.0000, -999,9,   50,  21.2841,  24.2165,   -999.0,9
       KS01-05,  NONE,KS-0154,  1,     20,02-16026,2,20010615,0724, 32.0090, 133.4413, 2235,     75.4,  20.4247,  34.7795,2,   -999.0,9,  34.7809,2,    204.0,2,  -999.00,9,  -999.00,9,     1.66,2,     0.12,2,     0.09,2, -999.000,9, -999.000,9,  -999.00,9,   1985.5,2,   -999.0,9,-999.0000,9,   -999.0,  9,     8.15,2,   -999.0,  -999.00,9,  -999.00,9,     0.12,2,     0.27,2,   -999.0,-999.0000, -999,9,   75,  20.4106,  24.4847,   -999.0,9
       KS01-05,  NONE,KS-0154,  1,     19,02-16025,2,20010615,0724, 32.0090, 133.4413, 2235,    100.1,  20.2708,  34.7821,2,   -999.0,9,  34.7830,2,    203.0,2,  -999.00,9,  -999.00,9,     1.95,2,     0.08,2,     0.11,2, -999.000,9, -999.000,9,  -999.00,9,   1986.7,2,   -999.0,9,-999.0000,9,   -999.0,  9,     8.14,2,   -999.0,  -999.00,9,  -999.00,9,     0.06,2,     0.18,2,   -999.0,-999.0000, -999,9,   99,  20.2522,  24.5289,   -999.0,9
       KS01-05,  NONE,KS-0154,  1,     18,02-16024,2,20010615,0723, 32.0090, 133.4413, 2235,    125.5,  19.8386,  34.7874,2,   -999.0,9,  34.7870,2,    201.0,2,  -999.00,9,  -999.00,9,     2.64,2,     0.06,2,     0.15,2, -999.000,9, -999.000,9,  -999.00,9,   1995.5,2,   -999.0,9,-999.0000,9,   -999.0,  9,     8.13,2,   -999.0,  -999.00,9,  -999.00,9,     0.03,2,     0.08,2,   -999.0,-999.0000, -999,9,  125,  19.8156,  24.6480,   -999.0,9
       KS01-05,  NONE,KS-0154,  1,     17,02-16023,2,20010615,0722, 32.0090, 133.4413, 2235,    150.7,  19.4067,  34.7984,2,   -999.0,9,  34.7970,2,    203.0,2,  -999.00,9,  -999.00,9,     2.63,2,     0.03,2,     0.16,2, -999.000,9, -999.000,9,  -999.00,9,   1996.2,2,   -999.0,9,-999.0000,9,   -999.0,  9,     8.13,2,   -999.0,  -999.00,9,  -999.00,9,     0.01,2,     0.03,2,   -999.0,-999.0000, -999,9,  150,  19.3795,  24.7698,   -999.0,9
       KS01-05,  NONE,KS-0154,  1,     16,02-16022,2,20010615,0721, 32.0090, 133.4413, 2235,    199.5,  18.9025,  34.7956,2,   -999.0,9,  34.7972,2,    201.0,2,  -999.00,9,  -999.00,9,     3.41,2,     0.05,2,     0.20,2, -999.000,9, -999.000,9,  -999.00,9,   2003.8,2,   -999.0,9,-999.0000,9,   -999.0,  9,     8.11,2,   -999.0,  -999.00,9,  -999.00,9,     0.00,2,     0.01,2,   -999.0,-999.0000, -999,9,  198,  18.8671,  24.8987,   -999.0,9
       KS01-05,  NONE,KS-0154,  1,     15,02-16021,2,20010615,0720, 32.0090, 133.4413, 2235,    249.1,  17.8560,  34.7823,2,   -999.0,9,  34.7840,2,    192.0,2,  -999.00,9,  -999.00,9,     5.85,2,     0.00,2,     0.32,2, -999.000,9, -999.000,9,  -999.00,9,   2026.0,2,   -999.0,9,-999.0000,9,   -999.0,  9,     8.08,2,   -999.0,  -999.00,9,  -999.00,9,     0.00,2,     0.01,2,   -999.0,-999.0000, -999,9,  247,  17.8135,  25.1511,   -999.0,9
       KS01-05,  NONE,KS-0154,  1,     14,02-16020,2,20010615,0718, 32.0090, 133.4413, 2235,    305.1,  17.0306,  34.7503,2,   -999.0,9,  34.7500,2,    190.0,2,  -999.00,9,  -999.00,9,     7.51,2,     0.01,2,     0.42,2, -999.000,9, -999.000,9,  -999.00,9,   -999.0,9,   -999.0,9,-999.0000,9,   -999.0,  9,     8.05,2,   -999.0,  -999.00,9,  -999.00,9,     0.00,2,     0.01,2,   -999.0,-999.0000, -999,9,  303,  16.9801,  25.3273,   -999.0,9
       KS01-05,  NONE,KS-0154,  1,     13,02-16019,2,20010615,0716, 32.0090, 133.4413, 2235,    404.1,  14.5700,  34.5862,2,   -999.0,9,  34.5877,2,    184.0,2,  -999.00,9,  -999.00,9,    12.28,2,     0.01,2,     0.71,2, -999.000,9, -999.000,9,  -999.00,9,   -999.0,9,   -999.0,9,-999.0000,9,   -999.0,  9,     7.98,2,   -999.0,  -999.00,9,  -999.00,9,  -999.00,9,  -999.00,9,   -999.0,-999.0000, -999,9,  401,  14.5098,  25.7592,   -999.0,9
       KS01-05,  NONE,KS-0154,  1,     12,02-16018,2,20010615,0715, 32.0090, 133.4413, 2235,    505.1,  11.9468,  34.4011,2,   -999.0,9,  34.4088,4,    168.0,2,  -999.00,9,  -999.00,9,    18.71,2,     0.01,2,     1.14,2, -999.000,9, -999.000,9,  -999.00,9,   -999.0,9,   -999.0,9,-999.0000,9,   -999.0,  9,     7.89,2,   -999.0,  -999.00,9,  -999.00,9,  -999.00,9,  -999.00,9,   -999.0,-999.0000, -999,9,  501,  11.8807,  26.1465,   -999.0,9
       KS01-05,  NONE,KS-0154,  1,     11,02-16017,2,20010615,0713, 32.0090, 133.4413, 2235,    605.8,   9.0101,  34.2302,2,   -999.0,9,  34.2324,2,    143.0,2,  -999.00,9,  -999.00,9,    26.20,2,     0.01,2,     1.68,2, -999.000,9, -999.000,9,  -999.00,9,   -999.0,9,   -999.0,9,-999.0000,9,   -999.0,  9,     7.77,2,   -999.0,  -999.00,9,  -999.00,9,  -999.00,9,  -999.00,9,   -999.0,-999.0000, -999,9,  601,   8.9434,  26.5244,   -999.0,9
       KS01-05,  NONE,KS-0154,  1,     10,02-16016,2,20010615,0711, 32.0090, 133.4413, 2235,    706.8,   7.0024,  34.1942,2,   -999.0,9,  34.1946,2,    115.0,2,  -999.00,9,  -999.00,9,    32.24,2,     0.00,2,     2.11,2, -999.000,9, -999.000,9,  -999.00,9,   -999.0,9,   -999.0,9,-999.0000,9,   -999.0,  9,     7.66,2,   -999.0,  -999.00,9,  -999.00,9,  -999.00,9,  -999.00,9,   -999.0,-999.0000, -999,9,  701,   6.9346,  26.7929,   -999.0,9
       KS01-05,  NONE,KS-0154,  1,      9,02-16015,2,20010615,0709, 32.0090, 133.4413, 2235,    808.9,   6.0430,  34.3212,2,   -999.0,9,  34.3176,2,     91.0,2,  -999.00,9,  -999.00,9,    35.73,2,     0.00,2,     2.39,2, -999.000,9, -999.000,9,  -999.00,9,   -999.0,9,   -999.0,9,-999.0000,9,   -999.0,  9,     7.61,2,   -999.0,  -999.00,9,  -999.00,9,  -999.00,9,  -999.00,9,   -999.0,-999.0000, -999,9,  802,   5.9706,  27.0200,   -999.0,9
       KS01-05,  NONE,KS-0154,  1,      8,02-16014,2,20010615,0707, 32.0090, 133.4413, 2235,    908.1,   4.7045,  34.3059,2,   -999.0,9,  34.3050,2,     72.0,2,  -999.00,9,  -999.00,9,    38.84,2,     0.00,2,     2.64,2, -999.000,9, -999.000,9,  -999.00,9,   -999.0,9,   -999.0,9,-999.0000,9,   -999.0,  9,     7.55,2,   -999.0,  -999.00,9,  -999.00,9,  -999.00,9,  -999.00,9,   -999.0,-999.0000, -999,9,  900,   4.6318,  27.1665,   -999.0,9
       KS01-05,  NONE,KS-0154,  1,      7,02-16013,2,20010615,0705, 32.0090, 133.4413, 2235,   1009.2,   4.1330,  34.3987,2,   -999.0,9,  34.3980,2,     71.0,2,  -999.00,9,  -999.00,9,    39.81,2,     0.00,2,     2.72,2, -999.000,9, -999.000,9,  -999.00,9,   -999.0,9,   -999.0,9,-999.0000,9,   -999.0,  9,     7.55,2,   -999.0,  -999.00,9,  -999.00,9,  -999.00,9,  -999.00,9,   -999.0,-999.0000, -999,9, 1000,   4.0557,  27.3021,   -999.0,9
       KS01-05,  NONE,KS-0154,  1,      6,02-16012,2,20010615,0700, 32.0090, 133.4413, 2235,   1261.4,   3.0690,  34.4606,2,   -999.0,9,  34.3986,4,     71.0,2,  -999.00,9,  -999.00,9,    39.71,2,     0.00,2,     2.72,2, -999.000,9, -999.000,9,  -999.00,9,   -999.0,9,   -999.0,9,-999.0000,9,   -999.0,  9,     7.55,2,   -999.0,  -999.00,9,  -999.00,9,  -999.00,9,  -999.00,9,   -999.0,-999.0000, -999,9, 1249,   2.9802,  27.4563,   -999.0,9
       KS01-05,  NONE,KS-0154,  1,      5,02-16011,2,20010615,0656, 32.0090, 133.4413, 2235,   1514.3,   2.5503,  34.5331,2,   -999.0,9,  34.5319,2,     83.0,2,  -999.00,9,  -999.00,9,    40.68,2,     0.00,2,     2.77,2, -999.000,9, -999.000,9,  -999.00,9,   -999.0,9,   -999.0,9,-999.0000,9,   -999.0,  9,     7.56,2,   -999.0,  -999.00,9,  -999.00,9,  -999.00,9,  -999.00,9,   -999.0,-999.0000, -999,9, 1498,   2.4466,  27.5611,   -999.0,9
       KS01-05,  NONE,KS-0154,  1,      4,02-16010,9,20010615,0648, 32.0090, 133.4413, 2235,   2022.3,   1.9985,  34.6062,2,   -999.0,9,-999.0000,9,   -999.0,9,  -999.00,9,  -999.00,9,  -999.00,9,  -999.00,9,  -999.00,9, -999.000,9, -999.000,9,  -999.00,9,   -999.0,9,   -999.0,9,-999.0000,9,   -999.0,  9,  -999.00,9,   -999.0,  -999.00,9,  -999.00,9,  -999.00,9,  -999.00,9,   -999.0,-999.0000, -999,9, 1999,   1.8603,  27.6671,   -999.0,9
       KS01-05,  NONE,KS-0154,  1,      3,02-16009,9,20010615,0647, 32.0090, 133.4413, 2235,   2022.7,   1.9987,  34.6061,2,   -999.0,9,-999.0000,9,   -999.0,9,  -999.00,9,  -999.00,9,  -999.00,9,  -999.00,9,  -999.00,9, -999.000,9, -999.000,9,  -999.00,9,   -999.0,9,   -999.0,9,-999.0000,9,   -999.0,  9,  -999.00,9,   -999.0,  -999.00,9,  -999.00,9,  -999.00,9,  -999.00,9,   -999.0,-999.0000, -999,9, 1999,   1.8605,  27.6670,   -999.0,9
       KS01-05,  NONE,KS-0154,  1,      2,02-16008,9,20010615,0647, 32.0090, 133.4413, 2235,   2022.8,   1.9989,  34.6061,2,   -999.0,9,-999.0000,9,   -999.0,9,  -999.00,9,  -999.00,9,  -999.00,9,  -999.00,9,  -999.00,9, -999.000,9, -999.000,9,  -999.00,9,   -999.0,9,   -999.0,9,-999.0000,9,   -999.0,  9,  -999.00,9,   -999.0,  -999.00,9,  -999.00,9,  -999.00,9,  -999.00,9,   -999.0,-999.0000, -999,9, 1999,   1.8607,  27.6670,   -999.0,9
       KS01-05,  NONE,KS-0154,  1,      1,02-16007,2,20010615,0647, 32.0090, 133.4413, 2235,   2023.2,   1.9991,  34.6060,2,   -999.0,9,  34.6050,2,    105.0,2,  -999.00,9,  -999.00,9,    39.60,2,     0.01,2,     2.64,2, -999.000,9, -999.000,9,  -999.00,9,   -999.0,9,   -999.0,9,-999.0000,9,   -999.0,  9,     7.61,2,   -999.0,  -999.00,9,  -999.00,9,  -999.00,9,  -999.00,9,   -999.0,-999.0000, -999,9, 1999,   1.8608,  27.6669,   -999.0,9