BOTTLE,20130510GEMDJMAYT
EXPOCODE,SECT_ID,STNNBR,CASTNO,SAMPNO,BTLNBR,BTLNBR_FLAG_W,DATE,TIME,LATITUDE,LONGITUDE,DEPTH,CTDPRS,CTDTMP,CTDSAL,CTDSAL_FLAG_W,CTDOXY,CTDOXY_FLAG_W,SALNTY,SALNTY_FLAG_W,OXYGEN,OXYGEN_FLAG_W,SILCAT,SILCAT_FLAG_W,NITRAT,NITRAT_FLAG_W,NO2+NO3,NO2+NO3_FLAG_W,NITRIT,NITRIT_FLAG_W,PHSPHT,PHSPHT_FLAG_W,CFC-11,CFC-11_FLAG_W,CFC-12,CFC-12_FLAG_W,DELC13,DELC13_FLAG_W,TCARBN,TCARBN_FLAG_W,ALKALI,ALKALI_FLAG_W,PH,PH_FLAG_W,PH_TMP,PH_SCALE,PH_NBS,PH_NBS_FLAG_W,C13ERR,TOTALP,TOTALP_FLAG_W,AMMONI,AMMONI_FLAG_W,CHLORA,CHLORA_FLAG_W,PPHYTN,PPHYTN_FLAG_W,REVPRS,REVTMP,DEPTH_,DEPTH_FLAG,CTDDEP,THETA,SIGTHT,DOC,DOC_FLAG_W
,,,,,,,GMT,GMT,,,METER,DBAR,ITS-90,PSS-78,,UMOL/KG,,PSS-78,,UMOL/KG,,UMOL/KG,,UMOL/KG,,UMOL/KG,,UMOL/KG,,UMOL/KG,,PMOL/KG,,PMOL/KG,,/MILLE,,UMOL/KG,,UMOL/KG,,25_DEG_C,,DEG_C,,,,/MILLE,UMOL/KG,,UMOL/KG,,UG/L,,UG/L,,DBAR,ITS-90,METERS,,METERS,DEG_C,,UMOL/L,
       KS01-05,  NONE,KS-0130,  1,     24,02-16030,2,20010601,0805, 12.5008, 133.1142, 5415,      5.5,  29.8499,  34.0327,2,   -999.0,9,-999.0000,9,    193.0,2,  -999.00,9,  -999.00,9,  -999.00,9,  -999.00,9,  -999.00,9, -999.000,9, -999.000,9,  -999.00,9,   -999.0,9,   -999.0,9,-999.0000,9,   -999.0,  9,  -999.00,9,   -999.0,  -999.00,9,  -999.00,9,  -999.00,9,  -999.00,9,   -999.0,-999.0000, -999,9,    5,  29.8486,  21.0526,   -999.0,9
       KS01-05,  NONE,KS-0130,  1,     23,02-16029,2,20010601,0804, 12.5008, 133.1142, 5415,     10.4,  29.8296,  34.0353,2,   -999.0,9,  34.0333,2,    193.0,2,  -999.00,9,  -999.00,9,  -999.00,9,  -999.00,9,  -999.00,9, -999.000,9, -999.000,9,  -999.00,9,   -999.0,9,   -999.0,9,-999.0000,9,   -999.0,  9,  -999.00,9,   -999.0,  -999.00,9,  -999.00,9,  -999.00,9,  -999.00,9,   -999.0,-999.0000, -999,9,   10,  29.8271,  21.0619,   -999.0,9
       KS01-05,  NONE,KS-0130,  1,     22,02-16028,2,20010601,0803, 12.5008, 133.1142, 5415,     25.3,  29.9438,  34.3601,2,   -999.0,9,  34.2797,4,    194.0,2,  -999.00,9,  -999.00,9,  -999.00,9,  -999.00,9,  -999.00,9, -999.000,9, -999.000,9,  -999.00,9,   -999.0,9,   -999.0,9,-999.0000,9,   -999.0,  9,  -999.00,9,   -999.0,  -999.00,9,  -999.00,9,  -999.00,9,  -999.00,9,   -999.0,-999.0000, -999,9,   25,  29.9376,  21.2678,   -999.0,9
       KS01-05,  NONE,KS-0130,  1,     21,02-16027,2,20010601,0759, 12.5008, 133.1142, 5415,     48.9,  29.5531,  34.5300,2,   -999.0,9,  34.4799,4,    199.0,2,  -999.00,9,  -999.00,9,  -999.00,9,  -999.00,9,  -999.00,9, -999.000,9, -999.000,9,  -999.00,9,   -999.0,9,   -999.0,9,-999.0000,9,   -999.0,  9,  -999.00,9,   -999.0,  -999.00,9,  -999.00,9,  -999.00,9,  -999.00,9,   -999.0,-999.0000, -999,9,   49,  29.5411,  21.5296,   -999.0,9
       KS01-05,  NONE,KS-0130,  1,     20,02-16026,2,20010601,0758, 12.5008, 133.1142, 5415,     76.2,  28.7199,  34.6403,2,   -999.0,9,  34.6384,2,    205.0,2,  -999.00,9,  -999.00,9,  -999.00,9,  -999.00,9,  -999.00,9, -999.000,9, -999.000,9,  -999.00,9,   -999.0,9,   -999.0,9,-999.0000,9,   -999.0,  9,  -999.00,9,   -999.0,  -999.00,9,  -999.00,9,  -999.00,9,  -999.00,9,   -999.0,-999.0000, -999,9,   76,  28.7016,  21.8933,   -999.0,9
       KS01-05,  NONE,KS-0130,  1,     19,02-16025,2,20010601,0756, 12.5008, 133.1142, 5415,     97.6,  28.1879,  34.7236,2,   -999.0,9,  34.7298,2,    202.0,2,  -999.00,9,  -999.00,9,  -999.00,9,  -999.00,9,  -999.00,9, -999.000,9, -999.000,9,  -999.00,9,   -999.0,9,   -999.0,9,-999.0000,9,   -999.0,  9,  -999.00,9,   -999.0,  -999.00,9,  -999.00,9,  -999.00,9,  -999.00,9,   -999.0,-999.0000, -999,9,   97,  28.1648,  22.1329,   -999.0,9
       KS01-05,  NONE,KS-0130,  1,     18,02-16024,2,20010601,0755, 12.5008, 133.1142, 5415,    124.9,  27.7020,  34.8733,2,   -999.0,9,  34.8802,4,    197.0,2,  -999.00,9,  -999.00,9,  -999.00,9,  -999.00,9,  -999.00,9, -999.000,9, -999.000,9,  -999.00,9,   -999.0,9,   -999.0,9,-999.0000,9,   -999.0,  9,  -999.00,9,   -999.0,  -999.00,9,  -999.00,9,  -999.00,9,  -999.00,9,   -999.0,-999.0000, -999,9,  124,  27.6728,  22.4058,   -999.0,9
       KS01-05,  NONE,KS-0130,  1,     17,02-16023,2,20010601,0753, 12.5008, 133.1142, 5415,    149.5,  26.1351,  35.0648,2,   -999.0,9,  35.0653,2,    190.0,2,  -999.00,9,  -999.00,9,  -999.00,9,  -999.00,9,  -999.00,9, -999.000,9, -999.000,9,  -999.00,9,   -999.0,9,   -999.0,9,-999.0000,9,   -999.0,  9,  -999.00,9,   -999.0,  -999.00,9,  -999.00,9,  -999.00,9,  -999.00,9,   -999.0,-999.0000, -999,9,  149,  26.1016,  23.0505,   -999.0,9
       KS01-05,  NONE,KS-0130,  1,     16,02-16022,2,20010601,0751, 12.5008, 133.1142, 5415,    204.1,  20.7168,  34.9667,2,   -999.0,9,  34.9839,4,    173.0,2,  -999.00,9,  -999.00,9,  -999.00,9,  -999.00,9,  -999.00,9, -999.000,9, -999.000,9,  -999.00,9,   -999.0,9,   -999.0,9,-999.0000,9,   -999.0,  9,  -999.00,9,   -999.0,  -999.00,9,  -999.00,9,  -999.00,9,  -999.00,9,   -999.0,-999.0000, -999,9,  203,  20.6781,  24.5557,   -999.0,9
       KS01-05,  NONE,KS-0130,  1,     15,02-16021,2,20010601,0749, 12.5008, 133.1142, 5415,    251.2,  15.7085,  34.6320,2,   -999.0,9,  34.6352,2,    136.0,2,  -999.00,9,  -999.00,9,  -999.00,9,  -999.00,9,  -999.00,9, -999.000,9, -999.000,9,  -999.00,9,   -999.0,9,   -999.0,9,-999.0000,9,   -999.0,  9,  -999.00,9,   -999.0,  -999.00,9,  -999.00,9,  -999.00,9,  -999.00,9,   -999.0,-999.0000, -999,9,  250,  15.6693,  25.5395,   -999.0,9
       KS01-05,  NONE,KS-0130,  1,     14,02-16020,2,20010601,0747, 12.5008, 133.1142, 5415,    302.1,  12.5895,  34.4225,2,   -999.0,9,  34.4231,2,    124.0,2,  -999.00,9,  -999.00,9,  -999.00,9,  -999.00,9,  -999.00,9, -999.000,9, -999.000,9,  -999.00,9,   -999.0,9,   -999.0,9,-999.0000,9,   -999.0,  9,  -999.00,9,   -999.0,  -999.00,9,  -999.00,9,  -999.00,9,  -999.00,9,   -999.0,-999.0000, -999,9,  300,  12.5489,  26.0346,   -999.0,9
       KS01-05,  NONE,KS-0130,  1,     13,02-16019,2,20010601,0745, 12.5008, 133.1142, 5415,    403.2,   9.0845,  34.3409,2,   -999.0,9,  34.3405,2,     93.0,2,  -999.00,9,  -999.00,9,  -999.00,9,  -999.00,9,  -999.00,9, -999.000,9, -999.000,9,  -999.00,9,   -999.0,9,   -999.0,9,-999.0000,9,   -999.0,  9,  -999.00,9,   -999.0,  -999.00,9,  -999.00,9,  -999.00,9,  -999.00,9,   -999.0,-999.0000, -999,9,  400,   9.0403,  26.5956,   -999.0,9
       KS01-05,  NONE,KS-0130,  1,     12,02-16018,2,20010601,0742, 12.5008, 133.1142, 5415,    504.7,   7.1773,  34.3813,2,   -999.0,9,  34.3802,2,     69.0,2,  -999.00,9,  -999.00,9,  -999.00,9,  -999.00,9,  -999.00,9, -999.000,9, -999.000,9,  -999.00,9,   -999.0,9,   -999.0,9,-999.0000,9,   -999.0,  9,  -999.00,9,   -999.0,  -999.00,9,  -999.00,9,  -999.00,9,  -999.00,9,   -999.0,-999.0000, -999,9,  501,   7.1288,  26.9135,   -999.0,9
       KS01-05,  NONE,KS-0130,  1,     11,02-16017,2,20010601,0739, 12.5008, 133.1142, 5415,    604.3,   6.2197,  34.4359,2,   -999.0,9,  34.4351,2,     72.0,2,  -999.00,9,  -999.00,9,  -999.00,9,  -999.00,9,  -999.00,9, -999.000,9, -999.000,9,  -999.00,9,   -999.0,9,   -999.0,9,-999.0000,9,   -999.0,  9,  -999.00,9,   -999.0,  -999.00,9,  -999.00,9,  -999.00,9,  -999.00,9,   -999.0,-999.0000, -999,9,  600,   6.1655,  27.0858,   -999.0,9
       KS01-05,  NONE,KS-0130,  1,     10,02-16016,2,20010601,0737, 12.5008, 133.1142, 5415,    704.9,   5.5025,  34.4802,2,   -999.0,9,  34.4789,2,     76.0,2,  -999.00,9,  -999.00,9,  -999.00,9,  -999.00,9,  -999.00,9, -999.000,9, -999.000,9,  -999.00,9,   -999.0,9,   -999.0,9,-999.0000,9,   -999.0,  9,  -999.00,9,   -999.0,  -999.00,9,  -999.00,9,  -999.00,9,  -999.00,9,   -999.0,-999.0000, -999,9,  700,   5.4426,  27.2109,   -999.0,9
       KS01-05,  NONE,KS-0130,  1,      9,02-16015,3,20010601,0734, 12.5008, 133.1142, 5415,    806.3,   5.0855,  34.5112,2,   -999.0,9,  34.5103,2,     82.0,2,  -999.00,9,  -999.00,9,  -999.00,9,  -999.00,9,  -999.00,9, -999.000,9, -999.000,9,  -999.00,9,   -999.0,9,   -999.0,9,-999.0000,9,   -999.0,  9,  -999.00,9,   -999.0,  -999.00,9,  -999.00,9,  -999.00,9,  -999.00,9,   -999.0,-999.0000, -999,9,  800,   5.0189,  27.2855,   -999.0,9
       KS01-05,  NONE,KS-0130,  1,      8,02-16014,2,20010601,0732, 12.5008, 133.1142, 5415,    906.1,   4.6362,  34.5329,2,   -999.0,9,  34.5321,2,     85.0,2,  -999.00,9,  -999.00,9,  -999.00,9,  -999.00,9,  -999.00,9, -999.000,9, -999.000,9,  -999.00,9,   -999.0,9,   -999.0,9,-999.0000,9,   -999.0,  9,  -999.00,9,   -999.0,  -999.00,9,  -999.00,9,  -999.00,9,  -999.00,9,   -999.0,-999.0000, -999,9,  899,   4.5638,  27.3542,   -999.0,9
       KS01-05,  NONE,KS-0130,  1,      7,02-16013,2,20010601,0729, 12.5008, 133.1142, 5415,   1007.7,   4.2209,  34.5475,2,   -999.0,9,  34.5457,2,     86.0,2,  -999.00,9,  -999.00,9,  -999.00,9,  -999.00,9,  -999.00,9, -999.000,9, -999.000,9,  -999.00,9,   -999.0,9,   -999.0,9,-999.0000,9,   -999.0,  9,  -999.00,9,   -999.0,  -999.00,9,  -999.00,9,  -999.00,9,  -999.00,9,   -999.0,-999.0000, -999,9,  999,   4.1428,  27.4113,   -999.0,9
       KS01-05,  NONE,KS-0130,  1,      6,02-16012,2,20010601,0724, 12.5008, 133.1142, 5415,   1260.8,   3.4623,  34.5737,2,   -999.0,9,  34.5726,2,     90.0,2,  -999.00,9,  -999.00,9,  -999.00,9,  -999.00,9,  -999.00,9, -999.000,9, -999.000,9,  -999.00,9,   -999.0,9,   -999.0,9,-999.0000,9,   -999.0,  9,  -999.00,9,   -999.0,  -999.00,9,  -999.00,9,  -999.00,9,  -999.00,9,   -999.0,-999.0000, -999,9, 1250,   3.3695,  27.5101,   -999.0,9
       KS01-05,  NONE,KS-0130,  1,      5,02-16011,2,20010601,0719, 12.5008, 133.1142, 5415,   1514.3,   2.9120,  34.5872,2,   -999.0,9,  34.5859,2,     98.0,2,  -999.00,9,  -999.00,9,  -999.00,9,  -999.00,9,  -999.00,9, -999.000,9, -999.000,9,  -999.00,9,   -999.0,9,   -999.0,9,-999.0000,9,   -999.0,  9,  -999.00,9,   -999.0,  -999.00,9,  -999.00,9,  -999.00,9,  -999.00,9,   -999.0,-999.0000, -999,9, 1500,   2.8040,  27.5733,   -999.0,9
       KS01-05,  NONE,KS-0130,  1,      4,02-16010,9,20010601,0711, 12.5008, 133.1142, 5415,   2021.2,   2.1593,  34.6313,2,   -999.0,9,-999.0000,9,   -999.0,9,  -999.00,9,  -999.00,9,  -999.00,9,  -999.00,9,  -999.00,9, -999.000,9, -999.000,9,  -999.00,9,   -999.0,9,   -999.0,9,-999.0000,9,   -999.0,  9,  -999.00,9,   -999.0,  -999.00,9,  -999.00,9,  -999.00,9,  -999.00,9,   -999.0,-999.0000, -999,9, 2000,   2.0186,  27.6748,   -999.0,9
       KS01-05,  NONE,KS-0130,  1,      3,02-16009,9,20010601,0711, 12.5008, 133.1142, 5415,   2020.6,   2.1596,  34.6313,2,   -999.0,9,-999.0000,9,   -999.0,9,  -999.00,9,  -999.00,9,  -999.00,9,  -999.00,9,  -999.00,9, -999.000,9, -999.000,9,  -999.00,9,   -999.0,9,   -999.0,9,-999.0000,9,   -999.0,  9,  -999.00,9,   -999.0,  -999.00,9,  -999.00,9,  -999.00,9,  -999.00,9,   -999.0,-999.0000, -999,9, 1999,   2.0190,  27.6748,   -999.0,9
       KS01-05,  NONE,KS-0130,  1,      2,02-16008,9,20010601,0711, 12.5008, 133.1142, 5415,   2020.7,   2.1591,  34.6312,2,   -999.0,9,-999.0000,9,   -999.0,9,  -999.00,9,  -999.00,9,  -999.00,9,  -999.00,9,  -999.00,9, -999.000,9, -999.000,9,  -999.00,9,   -999.0,9,   -999.0,9,-999.0000,9,   -999.0,  9,  -999.00,9,   -999.0,  -999.00,9,  -999.00,9,  -999.00,9,  -999.00,9,   -999.0,-999.0000, -999,9, 1999,   2.0185,  27.6747,   -999.0,9
       KS01-05,  NONE,KS-0130,  1,      1,02-16007,2,20010601,0711, 12.5008, 133.1142, 5415,   2020.8,   2.1595,  34.6313,2,   -999.0,9,  34.6297,2,    113.0,2,  -999.00,9,  -999.00,9,  -999.00,9,  -999.00,9,  -999.00,9, -999.000,9, -999.000,9,  -999.00,9,   -999.0,9,   -999.0,9,-999.0000,9,   -999.0,  9,  -999.00,9,   -999.0,  -999.00,9,  -999.00,9,  -999.00,9,  -999.00,9,   -999.0,-999.0000, -999,9, 2000,   2.0189,  27.6748,   -999.0,9