BOTTLE,20130510GEMDJMAYT
EXPOCODE,SECT_ID,STNNBR,CASTNO,SAMPNO,BTLNBR,BTLNBR_FLAG_W,DATE,TIME,LATITUDE,LONGITUDE,DEPTH,CTDPRS,CTDTMP,CTDSAL,CTDSAL_FLAG_W,CTDOXY,CTDOXY_FLAG_W,SALNTY,SALNTY_FLAG_W,OXYGEN,OXYGEN_FLAG_W,SILCAT,SILCAT_FLAG_W,NITRAT,NITRAT_FLAG_W,NO2+NO3,NO2+NO3_FLAG_W,NITRIT,NITRIT_FLAG_W,PHSPHT,PHSPHT_FLAG_W,CFC-11,CFC-11_FLAG_W,CFC-12,CFC-12_FLAG_W,DELC13,DELC13_FLAG_W,TCARBN,TCARBN_FLAG_W,ALKALI,ALKALI_FLAG_W,PH,PH_FLAG_W,PH_TMP,PH_SCALE,PH_NBS,PH_NBS_FLAG_W,C13ERR,TOTALP,TOTALP_FLAG_W,AMMONI,AMMONI_FLAG_W,CHLORA,CHLORA_FLAG_W,PPHYTN,PPHYTN_FLAG_W,REVPRS,REVTMP,DEPTH_,DEPTH_FLAG,CTDDEP,THETA,SIGTHT,DOC,DOC_FLAG_W
,,,,,,,GMT,GMT,,,METER,DBAR,ITS-90,PSS-78,,UMOL/KG,,PSS-78,,UMOL/KG,,UMOL/KG,,UMOL/KG,,UMOL/KG,,UMOL/KG,,UMOL/KG,,PMOL/KG,,PMOL/KG,,/MILLE,,UMOL/KG,,UMOL/KG,,25_DEG_C,,DEG_C,,,,/MILLE,UMOL/KG,,UMOL/KG,,UG/L,,UG/L,,DBAR,ITS-90,METERS,,METERS,DEG_C,,UMOL/L,
       KS01-05,  137E,KS-0102,  1,     24,02-16030,2,20010522,0428, 30.0110, 136.9838, 4527,      5.7,  22.3258,  34.5676,2,   -999.0,9,-999.0000,9,    216.0,3,  -999.00,9,  -999.00,9,     0.00,2,     0.01,2,     0.03,2, -999.000,9, -999.000,9,  -999.00,9,   1949.4,2,   -999.0,9,-999.0000,9,   -999.0,  9,     8.10,2,   -999.0,  -999.00,9,  -999.00,9,     0.25,2,     0.18,2,   -999.0,-999.0000, -999,9,    6,  22.3247,  23.7981,   -999.0,9
       KS01-05,  137E,KS-0102,  1,     23,02-16029,2,20010522,0423, 30.0110, 136.9838, 4527,     10.0,  22.3229,  34.5704,2,   -999.0,9,  34.5700,2,    215.0,3,  -999.00,9,  -999.00,9,     0.00,2,     0.01,2,     0.03,2, -999.000,9, -999.000,9,  -999.00,9,   1954.9,2,   -999.0,9,-999.0000,9,   -999.0,  9,     8.20,2,   -999.0,  -999.00,9,  -999.00,9,     0.22,2,     0.16,2,   -999.0,-999.0000, -999,9,   10,  22.3209,  23.8013,   -999.0,9
       KS01-05,  137E,KS-0102,  1,     22,02-16028,2,20010522,0422, 30.0110, 136.9838, 4527,     25.8,  22.2501,  34.5784,2,   -999.0,9,  34.6176,4,    213.0,3,  -999.00,9,  -999.00,9,     0.20,2,     0.09,2,     0.05,2, -999.000,9, -999.000,9,  -999.00,9,   1956.4,2,   -999.0,9,-999.0000,9,   -999.0,  9,     8.19,2,   -999.0,  -999.00,9,  -999.00,9,     0.31,2,     0.33,2,   -999.0,-999.0000, -999,9,   26,  22.2450,  23.8288,   -999.0,9
       KS01-05,  137E,KS-0102,  1,     21,02-16027,2,20010522,0419, 30.0110, 136.9838, 4527,     49.8,  21.6953,  34.7060,2,   -999.0,9,  34.7081,2,    204.0,3,  -999.00,9,  -999.00,9,     1.17,2,     0.39,2,     0.10,2, -999.000,9, -999.000,9,  -999.00,9,   1970.6,2,   -999.0,9,-999.0000,9,   -999.0,  9,     8.18,2,   -999.0,  -999.00,9,  -999.00,9,     0.27,2,     0.28,2,   -999.0,-999.0000, -999,9,   49,  21.6856,  24.0820,   -999.0,9
       KS01-05,  137E,KS-0102,  1,     20,02-16026,2,20010522,0418, 30.0110, 136.9838, 4527,     72.4,  20.9911,  34.7025,2,   -999.0,9,  34.7050,2,    216.0,3,  -999.00,9,  -999.00,9,     0.20,2,     0.15,2,     0.04,2, -999.000,9, -999.000,9,  -999.00,9,   1965.9,2,   -999.0,9,-999.0000,9,   -999.0,  9,     8.18,2,   -999.0,  -999.00,9,  -999.00,9,     0.16,2,     0.18,2,   -999.0,-999.0000, -999,9,   72,  20.9773,  24.2736,   -999.0,9
       KS01-05,  137E,KS-0102,  1,     19,02-16025,2,20010522,0417, 30.0110, 136.9838, 4527,     99.4,  20.5692,  34.7621,2,   -999.0,9,  34.7640,2,    206.0,3,  -999.00,9,  -999.00,9,     1.46,2,     0.06,2,     0.11,2, -999.000,9, -999.000,9,  -999.00,9,   1980.9,2,   -999.0,9,-999.0000,9,   -999.0,  9,     8.17,2,   -999.0,  -999.00,9,  -999.00,9,     0.03,2,     0.05,2,   -999.0,-999.0000, -999,9,   99,  20.5505,  24.4341,   -999.0,9
       KS01-05,  137E,KS-0102,  1,     18,02-16024,2,20010522,0416, 30.0110, 136.9838, 4527,    125.2,  20.1568,  34.7814,2,   -999.0,9,  34.7830,2,    196.0,3,  -999.00,9,  -999.00,9,     2.83,2,     0.03,2,     0.19,2, -999.000,9, -999.000,9,  -999.00,9,   1996.4,2,   -999.0,9,-999.0000,9,   -999.0,  9,     8.14,2,   -999.0,  -999.00,9,  -999.00,9,     0.01,2,     0.02,2,   -999.0,-999.0000, -999,9,  124,  20.1336,  24.5598,   -999.0,9
       KS01-05,  137E,KS-0102,  1,     17,02-16023,2,20010522,0415, 30.0110, 136.9838, 4527,    151.6,  19.9742,  34.7668,2,   -999.0,9,  34.7685,2,    209.0,3,  -999.00,9,  -999.00,9,     1.56,2,     0.21,2,     0.12,2, -999.000,9, -999.000,9,  -999.00,9,   1983.9,2,   -999.0,9,-999.0000,9,   -999.0,  9,     8.16,2,   -999.0,  -999.00,9,  -999.00,9,     0.02,2,     0.05,2,   -999.0,-999.0000, -999,9,  151,  19.9462,  24.5980,   -999.0,9
       KS01-05,  137E,KS-0102,  1,     16,02-16022,2,20010522,0414, 30.0110, 136.9838, 4527,    200.8,  19.3633,  34.7899,2,   -999.0,9,  34.7909,2,    191.0,3,  -999.00,9,  -999.00,9,     4.00,2,     0.02,2,     0.26,2, -999.000,9, -999.000,9,  -999.00,9,   2011.5,2,   -999.0,9,-999.0000,9,   -999.0,  9,     8.11,2,   -999.0,  -999.00,9,  -999.00,9,     0.00,2,     0.02,2,   -999.0,-999.0000, -999,9,  199,  19.3270,  24.7768,   -999.0,9
       KS01-05,  137E,KS-0102,  1,     15,02-16021,2,20010522,0413, 30.0110, 136.9838, 4527,    251.6,  18.7886,  34.7952,2,   -999.0,9,  34.7966,2,    201.0,3,  -999.00,9,  -999.00,9,     3.41,2,     0.02,2,     0.21,2, -999.000,9, -999.000,9,  -999.00,9,   2005.2,2,   -999.0,9,-999.0000,9,   -999.0,  9,     8.12,2,   -999.0,  -999.00,9,  -999.00,9,     0.00,2,     0.01,2,   -999.0,-999.0000, -999,9,  250,  18.7441,  24.9295,   -999.0,9
       KS01-05,  137E,KS-0102,  1,     14,02-16020,2,20010522,0411, 30.0110, 136.9838, 4527,    302.8,  18.0910,  34.7904,2,   -999.0,9,  34.7919,2,    196.0,3,  -999.00,9,  -999.00,9,     5.07,2,     0.01,2,     0.31,2, -999.000,9, -999.000,9,  -999.00,9,   -999.0,9,   -999.0,9,-999.0000,9,   -999.0,  9,     8.09,2,   -999.0,  -999.00,9,  -999.00,9,     0.00,2,     0.01,2,   -999.0,-999.0000, -999,9,  301,  18.0388,  25.1020,   -999.0,9
       KS01-05,  137E,KS-0102,  1,     13,02-16019,2,20010522,0409, 30.0110, 136.9838, 4527,    403.7,  16.3003,  34.7079,2,   -999.0,9,  34.7087,2,    187.0,3,  -999.00,9,  -999.00,9,     8.48,2,     0.00,2,     0.52,2, -999.000,9, -999.000,9,  -999.00,9,   -999.0,9,   -999.0,9,-999.0000,9,   -999.0,  9,     8.04,2,   -999.0,  -999.00,9,  -999.00,9,  -999.00,9,  -999.00,9,   -999.0,-999.0000, -999,9,  401,  16.2354,  25.4689,   -999.0,9
       KS01-05,  137E,KS-0102,  1,     12,02-16018,2,20010522,0407, 30.0110, 136.9838, 4527,    502.6,  14.4464,  34.5786,2,   -999.0,9,  34.5798,2,    180.0,3,  -999.00,9,  -999.00,9,    12.28,2,     0.00,2,     0.77,2, -999.000,9, -999.000,9,  -999.00,9,   -999.0,9,   -999.0,9,-999.0000,9,   -999.0,  9,     7.98,2,   -999.0,  -999.00,9,  -999.00,9,  -999.00,9,  -999.00,9,   -999.0,-999.0000, -999,9,  499,  14.3717,  25.7828,   -999.0,9
       KS01-05,  137E,KS-0102,  1,     11,02-16017,2,20010522,0404, 30.0110, 136.9838, 4527,    606.6,  12.0752,  34.4094,2,   -999.0,9,  34.4122,2,    170.0,3,  -999.00,9,  -999.00,9,    17.35,2,     0.00,2,     1.11,2, -999.000,9, -999.000,9,  -999.00,9,   -999.0,9,   -999.0,9,-999.0000,9,   -999.0,  9,     7.90,2,   -999.0,  -999.00,9,  -999.00,9,  -999.00,9,  -999.00,9,   -999.0,-999.0000, -999,9,  602,  11.9949,  26.1313,   -999.0,9
       KS01-05,  137E,KS-0102,  1,     10,02-16016,2,20010522,0402, 30.0110, 136.9838, 4527,    707.2,   9.2867,  34.2682,2,   -999.0,9,  34.2697,2,    129.0,3,  -999.00,9,  -999.00,9,    25.13,2,     0.00,2,     1.65,2, -999.000,9, -999.000,9,  -999.00,9,   -999.0,9,   -999.0,9,-999.0000,9,   -999.0,  9,     7.78,2,   -999.0,  -999.00,9,  -999.00,9,  -999.00,9,  -999.00,9,   -999.0,-999.0000, -999,9,  701,   9.2069,  26.5119,   -999.0,9
       KS01-05,  137E,KS-0102,  1,      9,02-16015,2,20010522,0359, 30.0110, 136.9838, 4527,    807.3,   7.7644,  34.2587,2,   -999.0,9,  34.2591,2,    117.0,2,  -999.00,9,  -999.00,9,    30.19,2,     0.00,2,     2.00,2, -999.000,9, -999.000,9,  -999.00,9,   -999.0,9,   -999.0,9,-999.0000,9,   -999.0,  9,     7.69,2,   -999.0,  -999.00,9,  -999.00,9,  -999.00,9,  -999.00,9,   -999.0,-999.0000, -999,9,  800,   7.6818,  26.7384,   -999.0,9
       KS01-05,  137E,KS-0102,  1,      8,02-16014,2,20010522,0357, 30.0110, 136.9838, 4527,    908.2,   6.1875,  34.2494,2,   -999.0,9,  34.2487,2,     95.0,2,  -999.00,9,  -999.00,9,    34.76,2,     0.00,2,     2.33,2, -999.000,9, -999.000,9,  -999.00,9,   -999.0,9,   -999.0,9,-999.0000,9,   -999.0,  9,     7.61,2,   -999.0,  -999.00,9,  -999.00,9,  -999.00,9,  -999.00,9,   -999.0,-999.0000, -999,9,  900,   6.1046,  26.9462,   -999.0,9
       KS01-05,  137E,KS-0102,  1,      7,02-16013,2,20010522,0354, 30.0110, 136.9838, 4527,   1008.4,   5.0006,  34.3002,2,   -999.0,9,  34.3029,2,     77.0,2,  -999.00,9,  -999.00,9,    37.97,2,     0.00,2,     2.57,2, -999.000,9, -999.000,9,  -999.00,9,   -999.0,9,   -999.0,9,-999.0000,9,   -999.0,  9,     7.56,2,   -999.0,  -999.00,9,  -999.00,9,  -999.00,9,  -999.00,9,   -999.0,-999.0000, -999,9,  999,   4.9169,  27.1299,   -999.0,9
       KS01-05,  137E,KS-0102,  1,      6,02-16012,2,20010522,0350, 30.0110, 136.9838, 4527,   1261.0,   3.5656,  34.4120,2,   -999.0,9,  34.3882,4,     66.0,2,  -999.00,9,  -999.00,9,    40.69,2,     0.00,2,     2.74,2, -999.000,9, -999.000,9,  -999.00,9,   -999.0,9,   -999.0,9,-999.0000,9,   -999.0,  9,     7.53,2,   -999.0,  -999.00,9,  -999.00,9,  -999.00,9,  -999.00,9,   -999.0,-999.0000, -999,9, 1249,   3.4721,  27.3713,   -999.0,9
       KS01-05,  137E,KS-0102,  1,      5,02-16011,2,20010522,0345, 30.0110, 136.9838, 4527,   1514.3,   2.8235,  34.4945,2,   -999.0,9,  34.4946,2,     72.0,2,  -999.00,9,  -999.00,9,    41.26,2,     0.00,2,     2.79,2, -999.000,9, -999.000,9,  -999.00,9,   -999.0,9,   -999.0,9,-999.0000,9,   -999.0,  9,     7.54,2,   -999.0,  -999.00,9,  -999.00,9,  -999.00,9,  -999.00,9,   -999.0,-999.0000, -999,9, 1499,   2.7167,  27.5070,   -999.0,9
       KS01-05,  137E,KS-0102,  1,      4,02-16010,9,20010522,0336, 30.0110, 136.9838, 4527,   2022.5,   2.0093,  34.6016,2,   -999.0,9,-999.0000,9,   -999.0,9,  -999.00,9,  -999.00,9,  -999.00,9,  -999.00,9,  -999.00,9, -999.000,9, -999.000,9,  -999.00,9,   -999.0,9,   -999.0,9,-999.0000,9,   -999.0,  9,  -999.00,9,   -999.0,  -999.00,9,  -999.00,9,  -999.00,9,  -999.00,9,   -999.0,-999.0000, -999,9, 1999,   1.8709,  27.6626,   -999.0,9
       KS01-05,  137E,KS-0102,  1,      3,02-16009,9,20010522,0336, 30.0110, 136.9838, 4527,   2022.2,   2.0091,  34.6017,2,   -999.0,9,-999.0000,9,   -999.0,9,  -999.00,9,  -999.00,9,  -999.00,9,  -999.00,9,  -999.00,9, -999.000,9, -999.000,9,  -999.00,9,   -999.0,9,   -999.0,9,-999.0000,9,   -999.0,  9,  -999.00,9,   -999.0,  -999.00,9,  -999.00,9,  -999.00,9,  -999.00,9,   -999.0,-999.0000, -999,9, 1999,   1.8708,  27.6627,   -999.0,9
       KS01-05,  137E,KS-0102,  1,      2,02-16008,9,20010522,0335, 30.0110, 136.9838, 4527,   2022.4,   2.0071,  34.6020,2,   -999.0,9,-999.0000,9,   -999.0,9,  -999.00,9,  -999.00,9,  -999.00,9,  -999.00,9,  -999.00,9, -999.000,9, -999.000,9,  -999.00,9,   -999.0,9,   -999.0,9,-999.0000,9,   -999.0,  9,  -999.00,9,   -999.0,  -999.00,9,  -999.00,9,  -999.00,9,  -999.00,9,   -999.0,-999.0000, -999,9, 1999,   1.8688,  27.6631,   -999.0,9
       KS01-05,  137E,KS-0102,  1,      1,02-16007,2,20010522,0335, 30.0110, 136.9838, 4527,   2022.6,   2.0076,  34.6019,2,   -999.0,9,  34.6022,2,    105.0,2,  -999.00,9,  -999.00,9,    39.70,2,     0.00,2,     2.62,2, -999.000,9, -999.000,9,  -999.00,9,   -999.0,9,   -999.0,9,-999.0000,9,   -999.0,  9,     7.61,2,   -999.0,  -999.00,9,  -999.00,9,  -999.00,9,  -999.00,9,   -999.0,-999.0000, -999,9, 1999,   1.8692,  27.6630,   -999.0,9