BOTTLE,20130510GEMDJMAYT
EXPOCODE,SECT_ID,STNNBR,CASTNO,SAMPNO,BTLNBR,BTLNBR_FLAG_W,DATE,TIME,LATITUDE,LONGITUDE,DEPTH,CTDPRS,CTDTMP,CTDSAL,CTDSAL_FLAG_W,CTDOXY,CTDOXY_FLAG_W,SALNTY,SALNTY_FLAG_W,OXYGEN,OXYGEN_FLAG_W,SILCAT,SILCAT_FLAG_W,NITRAT,NITRAT_FLAG_W,NO2+NO3,NO2+NO3_FLAG_W,NITRIT,NITRIT_FLAG_W,PHSPHT,PHSPHT_FLAG_W,CFC-11,CFC-11_FLAG_W,CFC-12,CFC-12_FLAG_W,DELC13,DELC13_FLAG_W,TCARBN,TCARBN_FLAG_W,ALKALI,ALKALI_FLAG_W,PH,PH_FLAG_W,PH_TMP,PH_SCALE,PH_NBS,PH_NBS_FLAG_W,C13ERR,TOTALP,TOTALP_FLAG_W,AMMONI,AMMONI_FLAG_W,CHLORA,CHLORA_FLAG_W,PPHYTN,PPHYTN_FLAG_W,REVPRS,REVTMP,DEPTH_,DEPTH_FLAG,CTDDEP,THETA,SIGTHT,DOC,DOC_FLAG_W
,,,,,,,GMT,GMT,,,METER,DBAR,ITS-90,PSS-78,,UMOL/KG,,PSS-78,,UMOL/KG,,UMOL/KG,,UMOL/KG,,UMOL/KG,,UMOL/KG,,UMOL/KG,,PMOL/KG,,PMOL/KG,,/MILLE,,UMOL/KG,,UMOL/KG,,25_DEG_C,,DEG_C,,,,/MILLE,UMOL/KG,,UMOL/KG,,UG/L,,UG/L,,DBAR,ITS-90,METERS,,METERS,DEG_C,,UMOL/L,
       KS01-05,  NONE,KS-0151,  1,     24,02-16030,2,20010614,2117, 31.0177, 133.9817, 4461,      5.4,  23.0599,  34.4726,2,   -999.0,9,-999.0000,9,    215.0,2,  -999.00,9,  -999.00,9,     0.10,2,     0.00,2,     0.00,2, -999.000,9, -999.000,9,  -999.00,9,   1950.3,3,   -999.0,9,-999.0000,9,   -999.0,  9,     8.18,2,   -999.0,  -999.00,9,  -999.00,9,     0.08,2,     0.04,2,   -999.0,-999.0000, -999,9,    5,  23.0588,  23.5167,   -999.0,9
       KS01-05,  NONE,KS-0151,  1,     23,02-16029,2,20010614,2116, 31.0177, 133.9817, 4461,      9.3,  23.0558,  34.4744,2,   -999.0,9,  34.4813,4,    215.0,2,  -999.00,9,  -999.00,9,     0.00,2,     0.00,2,     0.00,2, -999.000,9, -999.000,9,  -999.00,9,   -999.0,9,   -999.0,9,-999.0000,9,   -999.0,  9,  -999.00,9,   -999.0,  -999.00,9,  -999.00,9,     0.08,2,     0.03,2,   -999.0,-999.0000, -999,9,    9,  23.0539,  23.5195,   -999.0,9
       KS01-05,  NONE,KS-0151,  1,     22,02-16028,2,20010614,2115, 31.0177, 133.9817, 4461,     24.7,  22.4669,  34.5670,2,   -999.0,9,  34.5747,4,    220.0,2,  -999.00,9,  -999.00,9,     0.00,2,     0.01,2,     0.00,2, -999.000,9, -999.000,9,  -999.00,9,   -999.0,9,   -999.0,9,-999.0000,9,   -999.0,  9,  -999.00,9,   -999.0,  -999.00,9,  -999.00,9,     0.08,2,     0.05,2,   -999.0,-999.0000, -999,9,   24,  22.4620,  23.7588,   -999.0,9
       KS01-05,  NONE,KS-0151,  1,     21,02-16027,2,20010614,2112, 31.0177, 133.9817, 4461,     49.9,  21.0287,  34.7136,2,   -999.0,9,  34.7146,2,    225.0,2,  -999.00,9,  -999.00,9,     0.00,2,     0.00,2,     0.01,2, -999.000,9, -999.000,9,  -999.00,9,   -999.0,9,   -999.0,9,-999.0000,9,   -999.0,  9,  -999.00,9,   -999.0,  -999.00,9,  -999.00,9,     0.12,2,     0.08,2,   -999.0,-999.0000, -999,9,   50,  21.0192,  24.2707,   -999.0,9
       KS01-05,  NONE,KS-0151,  1,     20,02-16026,2,20010614,2111, 31.0177, 133.9817, 4461,     75.5,  20.4709,  34.7427,2,   -999.0,9,  34.7431,2,    222.0,2,  -999.00,9,  -999.00,9,     0.00,2,     0.02,2,     0.02,2, -999.000,9, -999.000,9,  -999.00,9,   -999.0,9,   -999.0,9,-999.0000,9,   -999.0,  9,  -999.00,9,   -999.0,  -999.00,9,  -999.00,9,     0.21,2,     0.36,2,   -999.0,-999.0000, -999,9,   75,  20.4568,  24.4443,   -999.0,9
       KS01-05,  NONE,KS-0151,  1,     19,02-16025,2,20010614,2109, 31.0177, 133.9817, 4461,    100.7,  20.0284,  34.7598,2,   -999.0,9,  34.7604,2,    215.0,2,  -999.00,9,  -999.00,9,     0.88,2,     0.31,2,     0.07,2, -999.000,9, -999.000,9,  -999.00,9,   -999.0,9,   -999.0,9,-999.0000,9,   -999.0,  9,  -999.00,9,   -999.0,  -999.00,9,  -999.00,9,     0.16,2,     0.28,2,   -999.0,-999.0000, -999,9,  100,  20.0098,  24.5760,   -999.0,9
       KS01-05,  NONE,KS-0151,  1,     18,02-16024,2,20010614,2108, 31.0177, 133.9817, 4461,    125.6,  19.8437,  34.7705,2,   -999.0,9,  34.7703,2,    212.0,2,  -999.00,9,  -999.00,9,     1.46,2,     0.10,2,     0.10,2, -999.000,9, -999.000,9,  -999.00,9,   -999.0,9,   -999.0,9,-999.0000,9,   -999.0,  9,  -999.00,9,   -999.0,  -999.00,9,  -999.00,9,     0.10,2,     0.21,2,   -999.0,-999.0000, -999,9,  125,  19.8207,  24.6338,   -999.0,9
       KS01-05,  NONE,KS-0151,  1,     17,02-16023,2,20010614,2107, 31.0177, 133.9817, 4461,    149.4,  19.6247,  34.7762,2,   -999.0,9,  34.7756,2,    211.0,2,  -999.00,9,  -999.00,9,     1.76,2,     0.05,2,     0.11,2, -999.000,9, -999.000,9,  -999.00,9,   -999.0,9,   -999.0,9,-999.0000,9,   -999.0,  9,  -999.00,9,   -999.0,  -999.00,9,  -999.00,9,     0.04,2,     0.05,2,   -999.0,-999.0000, -999,9,  148,  19.5975,  24.6963,   -999.0,9
       KS01-05,  NONE,KS-0151,  1,     16,02-16022,2,20010614,2106, 31.0177, 133.9817, 4461,    200.7,  19.3124,  34.7828,2,   -999.0,9,  34.7826,2,    212.0,2,  -999.00,9,  -999.00,9,     1.85,2,     0.03,2,     0.12,2, -999.000,9, -999.000,9,  -999.00,9,   -999.0,9,   -999.0,9,-999.0000,9,   -999.0,  9,  -999.00,9,   -999.0,  -999.00,9,  -999.00,9,     0.00,2,     0.02,2,   -999.0,-999.0000, -999,9,  199,  19.2762,  24.7844,   -999.0,9
       KS01-05,  NONE,KS-0151,  1,     15,02-16021,2,20010614,2104, 31.0177, 133.9817, 4461,    250.9,  18.9767,  34.7899,2,   -999.0,9,  34.7907,2,    207.0,2,  -999.00,9,  -999.00,9,     2.83,2,     0.03,2,     0.18,2, -999.000,9, -999.000,9,  -999.00,9,   -999.0,9,   -999.0,9,-999.0000,9,   -999.0,  9,  -999.00,9,   -999.0,  -999.00,9,  -999.00,9,     0.00,2,     0.01,2,   -999.0,-999.0000, -999,9,  249,  18.9320,  24.8779,   -999.0,9
       KS01-05,  NONE,KS-0151,  1,     14,02-16020,2,20010614,2103, 31.0177, 133.9817, 4461,    300.7,  18.4545,  34.7949,2,   -999.0,9,  34.7956,2,    198.0,2,  -999.00,9,  -999.00,9,     4.59,2,     0.02,2,     0.26,2, -999.000,9, -999.000,9,  -999.00,9,   -999.0,9,   -999.0,9,-999.0000,9,   -999.0,  9,  -999.00,9,   -999.0,  -999.00,9,  -999.00,9,     0.00,2,     0.01,2,   -999.0,-999.0000, -999,9,  298,  18.4019,  25.0153,   -999.0,9
       KS01-05,  NONE,KS-0151,  1,     13,02-16019,2,20010614,2101, 31.0177, 133.9817, 4461,    403.6,  16.9656,  34.7442,2,   -999.0,9,  34.7427,2,    189.0,2,  -999.00,9,  -999.00,9,     8.00,2,     0.01,2,     0.46,2, -999.000,9, -999.000,9,  -999.00,9,   -999.0,9,   -999.0,9,-999.0000,9,   -999.0,  9,  -999.00,9,   -999.0,  -999.00,9,  -999.00,9,  -999.00,9,  -999.00,9,   -999.0,-999.0000, -999,9,  400,  16.8989,  25.3419,   -999.0,9
       KS01-05,  NONE,KS-0151,  1,     12,02-16018,2,20010614,2059, 31.0177, 133.9817, 4461,    503.1,  14.8609,  34.6084,2,   -999.0,9,  34.6095,2,    182.0,2,  -999.00,9,  -999.00,9,    12.19,2,     0.01,2,     0.72,2, -999.000,9, -999.000,9,  -999.00,9,   -999.0,9,   -999.0,9,-999.0000,9,   -999.0,  9,  -999.00,9,   -999.0,  -999.00,9,  -999.00,9,  -999.00,9,  -999.00,9,   -999.0,-999.0000, -999,9,  499,  14.7847,  25.7170,   -999.0,9
       KS01-05,  NONE,KS-0151,  1,     11,02-16017,2,20010614,2056, 31.0177, 133.9817, 4461,    603.5,  12.1683,  34.4205,2,   -999.0,9,  34.4235,2,    169.0,2,  -999.00,9,  -999.00,9,    18.32,2,     0.01,2,     1.12,2, -999.000,9, -999.000,9,  -999.00,9,   -999.0,9,   -999.0,9,-999.0000,9,   -999.0,  9,  -999.00,9,   -999.0,  -999.00,9,  -999.00,9,  -999.00,9,  -999.00,9,   -999.0,-999.0000, -999,9,  598,  12.0880,  26.1222,   -999.0,9
       KS01-05,  NONE,KS-0151,  1,     10,02-16016,2,20010614,2054, 31.0177, 133.9817, 4461,    705.0,   9.6515,  34.2784,2,   -999.0,9,  34.2803,2,    147.0,2,  -999.00,9,  -999.00,9,    24.84,2,     0.00,2,     1.58,2, -999.000,9, -999.000,9,  -999.00,9,   -999.0,9,   -999.0,9,-999.0000,9,   -999.0,  9,  -999.00,9,   -999.0,  -999.00,9,  -999.00,9,  -999.00,9,  -999.00,9,   -999.0,-999.0000, -999,9,  699,   9.5701,  26.4605,   -999.0,9
       KS01-05,  NONE,KS-0151,  1,      9,02-16015,2,20010614,2052, 31.0177, 133.9817, 4461,    807.5,   7.6000,  34.2112,2,   -999.0,9,  34.2119,2,    122.0,2,  -999.00,9,  -999.00,9,    30.78,2,     0.00,2,     2.01,2, -999.000,9, -999.000,9,  -999.00,9,   -999.0,9,   -999.0,9,-999.0000,9,   -999.0,  9,  -999.00,9,   -999.0,  -999.00,9,  -999.00,9,  -999.00,9,  -999.00,9,   -999.0,-999.0000, -999,9,  800,   7.5184,  26.7246,   -999.0,9
       KS01-05,  NONE,KS-0151,  1,      8,02-16014,2,20010614,2049, 31.0177, 133.9817, 4461,    906.2,   6.1082,  34.2396,2,   -999.0,9,  34.2399,2,     95.0,2,  -999.00,9,  -999.00,9,    35.25,2,     0.00,2,     2.36,2, -999.000,9, -999.000,9,  -999.00,9,   -999.0,9,   -999.0,9,-999.0000,9,   -999.0,  9,  -999.00,9,   -999.0,  -999.00,9,  -999.00,9,  -999.00,9,  -999.00,9,   -999.0,-999.0000, -999,9,  898,   6.0261,  26.9485,   -999.0,9
       KS01-05,  NONE,KS-0151,  1,      7,02-16013,2,20010614,2047, 31.0177, 133.9817, 4461,   1007.6,   5.0983,  34.2873,2,   -999.0,9,  34.2868,2,     78.0,2,  -999.00,9,  -999.00,9,    38.07,2,     0.00,2,     2.59,2, -999.000,9, -999.000,9,  -999.00,9,   -999.0,9,   -999.0,9,-999.0000,9,   -999.0,  9,  -999.00,9,   -999.0,  -999.00,9,  -999.00,9,  -999.00,9,  -999.00,9,   -999.0,-999.0000, -999,9,  998,   5.0139,  27.1086,   -999.0,9
       KS01-05,  NONE,KS-0151,  1,      6,02-16012,2,20010614,2043, 31.0177, 133.9817, 4461,   1261.7,   3.5539,  34.4177,2,   -999.0,9,  34.4165,2,     65.0,2,  -999.00,9,  -999.00,9,    40.78,2,     0.01,2,     2.81,2, -999.000,9, -999.000,9,  -999.00,9,   -999.0,9,   -999.0,9,-999.0000,9,   -999.0,  9,  -999.00,9,   -999.0,  -999.00,9,  -999.00,9,  -999.00,9,  -999.00,9,   -999.0,-999.0000, -999,9, 1249,   3.4605,  27.3770,   -999.0,9
       KS01-05,  NONE,KS-0151,  1,      5,02-16011,2,20010614,2038, 31.0177, 133.9817, 4461,   1514.9,   2.9649,  34.4810,2,   -999.0,9,  34.4797,2,     70.0,2,  -999.00,9,  -999.00,9,    40.97,2,     0.00,2,     2.83,2, -999.000,9, -999.000,9,  -999.00,9,   -999.0,9,   -999.0,9,-999.0000,9,   -999.0,  9,  -999.00,9,   -999.0,  -999.00,9,  -999.00,9,  -999.00,9,  -999.00,9,   -999.0,-999.0000, -999,9, 1499,   2.8565,  27.4838,   -999.0,9
       KS01-05,  NONE,KS-0151,  1,      4,02-16010,9,20010614,2030, 31.0177, 133.9817, 4461,   2019.0,   2.1850,  34.5804,2,   -999.0,9,-999.0000,9,   -999.0,9,  -999.00,9,  -999.00,9,  -999.00,9,  -999.00,9,  -999.00,9, -999.000,9, -999.000,9,  -999.00,9,   -999.0,9,   -999.0,9,-999.0000,9,   -999.0,  9,  -999.00,9,   -999.0,  -999.00,9,  -999.00,9,  -999.00,9,  -999.00,9,   -999.0,-999.0000, -999,9, 1995,   2.0443,  27.6320,   -999.0,9
       KS01-05,  NONE,KS-0151,  1,      3,02-16009,9,20010614,2030, 31.0177, 133.9817, 4461,   2019.7,   2.1839,  34.5804,2,   -999.0,9,-999.0000,9,   -999.0,9,  -999.00,9,  -999.00,9,  -999.00,9,  -999.00,9,  -999.00,9, -999.000,9, -999.000,9,  -999.00,9,   -999.0,9,   -999.0,9,-999.0000,9,   -999.0,  9,  -999.00,9,   -999.0,  -999.00,9,  -999.00,9,  -999.00,9,  -999.00,9,   -999.0,-999.0000, -999,9, 1996,   2.0432,  27.6320,   -999.0,9
       KS01-05,  NONE,KS-0151,  1,      2,02-16008,9,20010614,2030, 31.0177, 133.9817, 4461,   2019.9,   2.1834,  34.5805,2,   -999.0,9,-999.0000,9,   -999.0,9,  -999.00,9,  -999.00,9,  -999.00,9,  -999.00,9,  -999.00,9, -999.000,9, -999.000,9,  -999.00,9,   -999.0,9,   -999.0,9,-999.0000,9,   -999.0,  9,  -999.00,9,   -999.0,  -999.00,9,  -999.00,9,  -999.00,9,  -999.00,9,   -999.0,-999.0000, -999,9, 1996,   2.0427,  27.6322,   -999.0,9
       KS01-05,  NONE,KS-0151,  1,      1,02-16007,2,20010614,2029, 31.0177, 133.9817, 4461,   2020.1,   2.1825,  34.5806,2,   -999.0,9,  34.5794,2,     98.0,2,  -999.00,9,  -999.00,9,    40.19,2,     0.00,2,     2.71,2, -999.000,9, -999.000,9,  -999.00,9,   -999.0,9,   -999.0,9,-999.0000,9,   -999.0,  9,  -999.00,9,   -999.0,  -999.00,9,  -999.00,9,  -999.00,9,  -999.00,9,   -999.0,-999.0000, -999,9, 1997,   2.0417,  27.6324,   -999.0,9