BOTTLE,20130510GEMDJMAYT
EXPOCODE,SECT_ID,STNNBR,CASTNO,SAMPNO,BTLNBR,BTLNBR_FLAG_W,DATE,TIME,LATITUDE,LONGITUDE,DEPTH,CTDPRS,CTDTMP,CTDSAL,CTDSAL_FLAG_W,CTDOXY,CTDOXY_FLAG_W,SALNTY,SALNTY_FLAG_W,OXYGEN,OXYGEN_FLAG_W,SILCAT,SILCAT_FLAG_W,NITRAT,NITRAT_FLAG_W,NO2+NO3,NO2+NO3_FLAG_W,NITRIT,NITRIT_FLAG_W,PHSPHT,PHSPHT_FLAG_W,CFC-11,CFC-11_FLAG_W,CFC-12,CFC-12_FLAG_W,DELC13,DELC13_FLAG_W,TCARBN,TCARBN_FLAG_W,ALKALI,ALKALI_FLAG_W,PH,PH_FLAG_W,PH_TMP,PH_SCALE,PH_NBS,PH_NBS_FLAG_W,C13ERR,TOTALP,TOTALP_FLAG_W,AMMONI,AMMONI_FLAG_W,CHLORA,CHLORA_FLAG_W,PPHYTN,PPHYTN_FLAG_W,REVPRS,REVTMP,DEPTH_,DEPTH_FLAG,CTDDEP,THETA,SIGTHT,DOC,DOC_FLAG_W
,,,,,,,GMT,GMT,,,METER,DBAR,ITS-90,PSS-78,,UMOL/KG,,PSS-78,,UMOL/KG,,UMOL/KG,,UMOL/KG,,UMOL/KG,,UMOL/KG,,UMOL/KG,,PMOL/KG,,PMOL/KG,,/MILLE,,UMOL/KG,,UMOL/KG,,25_DEG_C,,DEG_C,,,,/MILLE,UMOL/KG,,UMOL/KG,,UG/L,,UG/L,,DBAR,ITS-90,METERS,,METERS,DEG_C,,UMOL/L,
       KS01-05,  137E,KS-0107,  1,     24,02-16030,2,20010523,1148, 25.0003, 136.9960, 5024,      4.7,  24.7536,  34.6242,2,   -999.0,9,-999.0000,9,    210.0,3,  -999.00,9,  -999.00,9,     0.00,2,     0.00,2,     0.00,2, -999.000,9, -999.000,9,  -999.00,9,   1940.1,3,   -999.0,9,-999.0000,9,   -999.0,  9,     8.20,2,   -999.0,  -999.00,9,  -999.00,9,     0.04,2,     0.02,2,   -999.0,-999.0000, -999,9,    5,  24.7526,  23.1321,   -999.0,9
       KS01-05,  137E,KS-0107,  1,     23,02-16029,2,20010523,1147, 25.0003, 136.9960, 5024,      9.4,  24.7478,  34.6226,2,   -999.0,9,  34.6254,2,    210.0,3,  -999.00,9,  -999.00,9,     0.00,2,     0.00,2,     0.00,2, -999.000,9, -999.000,9,  -999.00,9,   1941.3,3,   -999.0,9,-999.0000,9,   -999.0,  9,     8.20,2,   -999.0,  -999.00,9,  -999.00,9,     0.04,2,     0.03,2,   -999.0,-999.0000, -999,9,    9,  24.7458,  23.1330,   -999.0,9
       KS01-05,  137E,KS-0107,  1,     22,02-16028,2,20010523,1146, 25.0003, 136.9960, 5024,     25.1,  23.5646,  34.6423,2,   -999.0,9,  34.6449,2,    213.0,3,  -999.00,9,  -999.00,9,     0.00,2,     0.00,2,     0.00,2, -999.000,9, -999.000,9,  -999.00,9,   1944.1,3,   -999.0,9,-999.0000,9,   -999.0,  9,     8.20,2,   -999.0,  -999.00,9,  -999.00,9,     0.04,2,     0.03,2,   -999.0,-999.0000, -999,9,   25,  23.5594,  23.5001,   -999.0,9
       KS01-05,  137E,KS-0107,  1,     21,02-16027,2,20010523,1142, 25.0003, 136.9960, 5024,     49.6,  22.2604,  34.7593,2,   -999.0,9,  34.7626,2,    219.0,3,  -999.00,9,  -999.00,9,     0.00,2,     0.00,2,     0.00,2, -999.000,9, -999.000,9,  -999.00,9,   1952.3,3,   -999.0,9,-999.0000,9,   -999.0,  9,     8.19,2,   -999.0,  -999.00,9,  -999.00,9,     0.06,2,     0.04,2,   -999.0,-999.0000, -999,9,   49,  22.2505,  23.9646,   -999.0,9
       KS01-05,  137E,KS-0107,  1,     20,02-16026,2,20010523,1141, 25.0003, 136.9960, 5024,     75.1,  21.4696,  34.7703,2,   -999.0,9,  34.7760,2,    219.0,3,  -999.00,9,  -999.00,9,     0.00,2,     0.00,2,     0.00,2, -999.000,9, -999.000,9,  -999.00,9,   1959.8,3,   -999.0,9,-999.0000,9,   -999.0,  9,     8.18,2,   -999.0,  -999.00,9,  -999.00,9,     0.11,2,     0.09,2,   -999.0,-999.0000, -999,9,   75,  21.4550,  24.1946,   -999.0,9
       KS01-05,  137E,KS-0107,  1,     19,02-16025,2,20010523,1140, 25.0003, 136.9960, 5024,    100.6,  20.9501,  34.7969,2,   -999.0,9,  34.7982,2,    215.0,3,  -999.00,9,  -999.00,9,     0.10,2,     0.01,2,     0.04,2, -999.000,9, -999.000,9,  -999.00,9,   1969.6,3,   -999.0,9,-999.0000,9,   -999.0,  9,     8.17,2,   -999.0,  -999.00,9,  -999.00,9,     0.14,2,     0.41,2,   -999.0,-999.0000, -999,9,  100,  20.9309,  24.3581,   -999.0,9
       KS01-05,  137E,KS-0107,  1,     18,02-16024,2,20010523,1139, 25.0003, 136.9960, 5024,    124.0,  20.2912,  34.7762,2,   -999.0,9,  34.7740,2,    221.0,3,  -999.00,9,  -999.00,9,     0.29,2,     0.27,2,     0.03,2, -999.000,9, -999.000,9,  -999.00,9,   1971.9,3,   -999.0,9,-999.0000,9,   -999.0,  9,     8.17,2,   -999.0,  -999.00,9,  -999.00,9,     0.06,2,     0.39,2,   -999.0,-999.0000, -999,9,  123,  20.2681,  24.5201,   -999.0,9
       KS01-05,  137E,KS-0107,  1,     17,02-16023,2,20010523,1138, 25.0003, 136.9960, 5024,    153.6,  19.8513,  34.7873,2,   -999.0,9,  34.7952,4,    209.0,3,  -999.00,9,  -999.00,9,     1.46,2,     0.06,2,     0.10,2, -999.000,9, -999.000,9,  -999.00,9,   1985.1,3,   -999.0,9,-999.0000,9,   -999.0,  9,     8.15,2,   -999.0,  -999.00,9,  -999.00,9,     0.04,2,     0.21,2,   -999.0,-999.0000, -999,9,  153,  19.8231,  24.6460,   -999.0,9
       KS01-05,  137E,KS-0107,  1,     16,02-16022,2,20010523,1136, 25.0003, 136.9960, 5024,    201.6,  19.2967,  34.7842,2,   -999.0,9,  34.7854,2,    205.0,3,  -999.00,9,  -999.00,9,     2.24,2,     0.02,2,     0.15,2, -999.000,9, -999.000,9,  -999.00,9,   2000.9,3,   -999.0,9,-999.0000,9,   -999.0,  9,     8.13,2,   -999.0,  -999.00,9,  -999.00,9,     0.01,2,     0.04,2,   -999.0,-999.0000, -999,9,  200,  19.2604,  24.7896,   -999.0,9
       KS01-05,  137E,KS-0107,  1,     15,02-16021,2,20010523,1134, 25.0003, 136.9960, 5024,    252.2,  18.6085,  34.7936,2,   -999.0,9,  34.7948,2,    200.0,3,  -999.00,9,  -999.00,9,     3.71,2,     0.01,2,     0.23,2, -999.000,9, -999.000,9,  -999.00,9,   2009.9,2,   -999.0,9,-999.0000,9,   -999.0,  9,     8.10,2,   -999.0,  -999.00,9,  -999.00,9,     0.00,2,     0.01,2,   -999.0,-999.0000, -999,9,  250,  18.5642,  24.9737,   -999.0,9
       KS01-05,  137E,KS-0107,  1,     14,02-16020,2,20010523,1133, 25.0003, 136.9960, 5024,    301.7,  17.8458,  34.7740,2,   -999.0,9,  34.7758,2,    196.0,3,  -999.00,9,  -999.00,9,     5.17,2,     0.00,2,     0.31,2, -999.000,9, -999.000,9,  -999.00,9,   -999.0,9,   -999.0,9,-999.0000,9,   -999.0,  9,  -999.00,9,   -999.0,  -999.00,9,  -999.00,9,     0.00,2,     0.00,2,   -999.0,-999.0000, -999,9,  300,  17.7942,  25.1494,   -999.0,9
       KS01-05,  137E,KS-0107,  1,     13,02-16019,2,20010523,1130, 25.0003, 136.9960, 5024,    402.0,  15.6308,  34.6623,2,   -999.0,9,  34.6622,2,    190.0,3,  -999.00,9,  -999.00,9,     9.36,2,     0.00,2,     0.57,2, -999.000,9, -999.000,9,  -999.00,9,   -999.0,9,   -999.0,9,-999.0000,9,   -999.0,  9,  -999.00,9,   -999.0,  -999.00,9,  -999.00,9,  -999.00,9,  -999.00,9,   -999.0,-999.0000, -999,9,  399,  15.5680,  25.5856,   -999.0,9
       KS01-05,  137E,KS-0107,  1,     12,02-16018,2,20010523,1128, 25.0003, 136.9960, 5024,    504.3,  12.6232,  34.4356,2,   -999.0,9,  34.4363,2,    182.0,3,  -999.00,9,  -999.00,9,    15.30,2,     0.00,2,     0.96,2, -999.000,9, -999.000,9,  -999.00,9,   -999.0,9,   -999.0,9,-999.0000,9,   -999.0,  9,  -999.00,9,   -999.0,  -999.00,9,  -999.00,9,  -999.00,9,  -999.00,9,   -999.0,-999.0000, -999,9,  500,  12.5548,  26.0436,   -999.0,9
       KS01-05,  137E,KS-0107,  1,     11,02-16017,2,20010523,1125, 25.0003, 136.9960, 5024,    603.4,   9.7654,  34.2475,2,   -999.0,9,  34.2503,2,    161.0,3,  -999.00,9,  -999.00,9,    22.41,2,     0.00,2,     1.46,2, -999.000,9, -999.000,9,  -999.00,9,   -999.0,9,   -999.0,9,-999.0000,9,   -999.0,  9,  -999.00,9,   -999.0,  -999.00,9,  -999.00,9,  -999.00,9,  -999.00,9,   -999.0,-999.0000, -999,9,  599,   9.6956,  26.4155,   -999.0,9
       KS01-05,  137E,KS-0107,  1,     10,02-16016,2,20010523,1122, 25.0003, 136.9960, 5024,    705.9,   7.3783,  34.1544,2,   -999.0,9,  34.1540,2,    127.0,3,  -999.00,9,  -999.00,9,    29.80,2,     0.00,2,     1.99,2, -999.000,9, -999.000,9,  -999.00,9,   -999.0,9,   -999.0,9,-999.0000,9,   -999.0,  9,  -999.00,9,   -999.0,  -999.00,9,  -999.00,9,  -999.00,9,  -999.00,9,   -999.0,-999.0000, -999,9,  700,   7.3087,  26.7097,   -999.0,9
       KS01-05,  137E,KS-0107,  1,      9,02-16015,2,20010523,1120, 25.0003, 136.9960, 5024,    805.7,   5.7525,  34.1738,2,   -999.0,9,  34.1715,2,     96.0,3,  -999.00,9,  -999.00,9,    35.25,2,     0.00,2,     2.37,2, -999.000,9, -999.000,9,  -999.00,9,   -999.0,9,   -999.0,9,-999.0000,9,   -999.0,  9,  -999.00,9,   -999.0,  -999.00,9,  -999.00,9,  -999.00,9,  -999.00,9,   -999.0,-999.0000, -999,9,  799,   5.6823,  26.9393,   -999.0,9
       KS01-05,  137E,KS-0107,  1,      8,02-16014,2,20010523,1117, 25.0003, 136.9960, 5024,    907.9,   4.8073,  34.2331,2,   -999.0,9,  34.2297,2,     75.0,3,  -999.00,9,  -999.00,9,    38.26,2,     0.00,2,     2.61,2, -999.000,9, -999.000,9,  -999.00,9,   -999.0,9,   -999.0,9,-999.0000,9,   -999.0,  9,  -999.00,9,   -999.0,  -999.00,9,  -999.00,9,  -999.00,9,  -999.00,9,   -999.0,-999.0000, -999,9,  900,   4.7340,  27.0973,   -999.0,9
       KS01-05,  137E,KS-0107,  1,      7,02-16013,2,20010523,1114, 25.0003, 136.9960, 5024,   1009.0,   3.9886,  34.3101,2,   -999.0,9,  34.3084,2,     60.0,3,  -999.00,9,  -999.00,9,    40.59,2,     0.00,2,     2.78,2, -999.000,9, -999.000,9,  -999.00,9,   -999.0,9,   -999.0,9,-999.0000,9,   -999.0,  9,  -999.00,9,   -999.0,  -999.00,9,  -999.00,9,  -999.00,9,  -999.00,9,   -999.0,-999.0000, -999,9, 1000,   3.9126,  27.2463,   -999.0,9
       KS01-05,  137E,KS-0107,  1,      6,02-16012,4,20010523,1109, 25.0003, 136.9960, 5024,   1263.0,   3.1456,  34.4301,2,   -999.0,9,  34.4442,4,    182.0,4,  -999.00,9,  -999.00,9,    14.89,4,     0.00,4,     0.95,4, -999.000,9, -999.000,9,  -999.00,9,   -999.0,9,   -999.0,9,-999.0000,9,   -999.0,  9,  -999.00,9,   -999.0,  -999.00,9,  -999.00,9,  -999.00,9,  -999.00,9,   -999.0,-999.0000, -999,9, 1251,   3.0560,  27.4250,   -999.0,9
       KS01-05,  137E,KS-0107,  1,      5,02-16011,2,20010523,1104, 25.0003, 136.9960, 5024,   1514.9,   2.5082,  34.5346,2,   -999.0,9,  34.5317,2,     79.0,3,  -999.00,9,  -999.00,9,    41.07,2,     0.00,2,     2.79,2, -999.000,9, -999.000,9,  -999.00,9,   -999.0,9,   -999.0,9,-999.0000,9,   -999.0,  9,  -999.00,9,   -999.0,  -999.00,9,  -999.00,9,  -999.00,9,  -999.00,9,   -999.0,-999.0000, -999,9, 1500,   2.4049,  27.5658,   -999.0,9
       KS01-05,  137E,KS-0107,  1,      4,02-16010,9,20010523,1055, 25.0003, 136.9960, 5024,   2023.0,   1.9918,  34.6160,2,   -999.0,9,-999.0000,9,   -999.0,9,  -999.00,9,  -999.00,9,  -999.00,9,  -999.00,9,  -999.00,9, -999.000,9, -999.000,9,  -999.00,9,   -999.0,9,   -999.0,9,-999.0000,9,   -999.0,  9,  -999.00,9,   -999.0,  -999.00,9,  -999.00,9,  -999.00,9,  -999.00,9,   -999.0,-999.0000, -999,9, 2000,   1.8536,  27.6755,   -999.0,9
       KS01-05,  137E,KS-0107,  1,      3,02-16009,9,20010523,1055, 25.0003, 136.9960, 5024,   2022.9,   1.9916,  34.6160,2,   -999.0,9,-999.0000,9,   -999.0,9,  -999.00,9,  -999.00,9,  -999.00,9,  -999.00,9,  -999.00,9, -999.000,9, -999.000,9,  -999.00,9,   -999.0,9,   -999.0,9,-999.0000,9,   -999.0,  9,  -999.00,9,   -999.0,  -999.00,9,  -999.00,9,  -999.00,9,  -999.00,9,   -999.0,-999.0000, -999,9, 2000,   1.8534,  27.6755,   -999.0,9
       KS01-05,  137E,KS-0107,  1,      2,02-16008,9,20010523,1055, 25.0003, 136.9960, 5024,   2022.3,   1.9913,  34.6161,2,   -999.0,9,-999.0000,9,   -999.0,9,  -999.00,9,  -999.00,9,  -999.00,9,  -999.00,9,  -999.00,9, -999.000,9, -999.000,9,  -999.00,9,   -999.0,9,   -999.0,9,-999.0000,9,   -999.0,  9,  -999.00,9,   -999.0,  -999.00,9,  -999.00,9,  -999.00,9,  -999.00,9,   -999.0,-999.0000, -999,9, 2000,   1.8532,  27.6756,   -999.0,9
       KS01-05,  137E,KS-0107,  1,      1,02-16007,2,20010523,1055, 25.0003, 136.9960, 5024,   2023.2,   1.9908,  34.6162,2,   -999.0,9,  34.6156,2,    114.0,2,  -999.00,9,  -999.00,9,    39.31,2,     0.00,2,     2.59,2, -999.000,9, -999.000,9,  -999.00,9,   -999.0,9,   -999.0,9,-999.0000,9,   -999.0,  9,  -999.00,9,   -999.0,  -999.00,9,  -999.00,9,  -999.00,9,  -999.00,9,   -999.0,-999.0000, -999,9, 2001,   1.8526,  27.6757,   -999.0,9