BOTTLE,20130510GEMDJMAYT
EXPOCODE,SECT_ID,STNNBR,CASTNO,SAMPNO,BTLNBR,BTLNBR_FLAG_W,DATE,TIME,LATITUDE,LONGITUDE,DEPTH,CTDPRS,CTDTMP,CTDSAL,CTDSAL_FLAG_W,CTDOXY,CTDOXY_FLAG_W,SALNTY,SALNTY_FLAG_W,OXYGEN,OXYGEN_FLAG_W,SILCAT,SILCAT_FLAG_W,NITRAT,NITRAT_FLAG_W,NO2+NO3,NO2+NO3_FLAG_W,NITRIT,NITRIT_FLAG_W,PHSPHT,PHSPHT_FLAG_W,CFC-11,CFC-11_FLAG_W,CFC-12,CFC-12_FLAG_W,DELC13,DELC13_FLAG_W,TCARBN,TCARBN_FLAG_W,ALKALI,ALKALI_FLAG_W,PH,PH_FLAG_W,PH_TMP,PH_SCALE,PH_NBS,PH_NBS_FLAG_W,C13ERR,TOTALP,TOTALP_FLAG_W,AMMONI,AMMONI_FLAG_W,CHLORA,CHLORA_FLAG_W,PPHYTN,PPHYTN_FLAG_W,REVPRS,REVTMP,DEPTH_,DEPTH_FLAG,CTDDEP,THETA,SIGTHT,DOC,DOC_FLAG_W
,,,,,,,GMT,GMT,,,METER,DBAR,ITS-90,PSS-78,,UMOL/KG,,PSS-78,,UMOL/KG,,UMOL/KG,,UMOL/KG,,UMOL/KG,,UMOL/KG,,UMOL/KG,,PMOL/KG,,PMOL/KG,,/MILLE,,UMOL/KG,,UMOL/KG,,25_DEG_C,,DEG_C,,,,/MILLE,UMOL/KG,,UMOL/KG,,UG/L,,UG/L,,DBAR,ITS-90,METERS,,METERS,DEG_C,,UMOL/L,
       KS01-05,  137E,KS-0117,  1,     24,02-16030,2,20010527,0616, 15.0188, 136.9582, 5491,      5.1,  30.1038,  34.6619,2,   -999.0,9,-999.0000,9,    194.0,2,  -999.00,9,  -999.00,9,     0.00,2,     0.03,2,     0.00,2, -999.000,9, -999.000,9,  -999.00,9,   -999.0,9,   -999.0,9,-999.0000,9,   -999.0,  9,  -999.00,9,   -999.0,  -999.00,9,  -999.00,9,     0.05,2,     0.02,2,   -999.0,-999.0000, -999,9,    5,  30.1025,  21.4377,   -999.0,9
       KS01-05,  137E,KS-0117,  1,     23,02-16029,2,20010527,0615, 15.0188, 136.9582, 5491,      9.7,  30.0110,  34.6606,2,   -999.0,9,  34.6620,2,    196.0,2,  -999.00,9,  -999.00,9,     0.00,2,     0.02,2,     0.00,2, -999.000,9, -999.000,9,  -999.00,9,   -999.0,9,   -999.0,9,-999.0000,9,   -999.0,  9,  -999.00,9,   -999.0,  -999.00,9,  -999.00,9,     0.05,2,     0.03,2,   -999.0,-999.0000, -999,9,   10,  30.0086,  21.4688,   -999.0,9
       KS01-05,  137E,KS-0117,  1,     22,02-16028,2,20010527,0613, 15.0188, 136.9582, 5491,     24.3,  29.8789,  34.6715,2,   -999.0,9,  34.6775,2,    196.0,2,  -999.00,9,  -999.00,9,     0.00,2,     0.00,2,     0.00,2, -999.000,9, -999.000,9,  -999.00,9,   -999.0,9,   -999.0,9,-999.0000,9,   -999.0,  9,  -999.00,9,   -999.0,  -999.00,9,  -999.00,9,     0.06,2,     0.03,2,   -999.0,-999.0000, -999,9,   24,  29.8729,  21.5233,   -999.0,9
       KS01-05,  137E,KS-0117,  1,     21,02-16027,2,20010527,0610, 15.0188, 136.9582, 5491,     49.3,  29.1684,  34.7602,2,   -999.0,9,  34.7754,4,    203.0,2,  -999.00,9,  -999.00,9,     0.00,2,     0.00,2,     0.00,2, -999.000,9, -999.000,9,  -999.00,9,   -999.0,9,   -999.0,9,-999.0000,9,   -999.0,  9,  -999.00,9,   -999.0,  -999.00,9,  -999.00,9,     0.07,2,     0.04,2,   -999.0,-999.0000, -999,9,   49,  29.1564,  21.8317,   -999.0,9
       KS01-05,  137E,KS-0117,  1,     20,02-16026,2,20010527,0609, 15.0188, 136.9582, 5491,     74.8,  28.4897,  34.8510,2,   -999.0,9,  34.8420,4,    205.0,2,  -999.00,9,  -999.00,9,     0.10,2,     0.02,2,     0.01,2, -999.000,9, -999.000,9,  -999.00,9,   -999.0,9,   -999.0,9,-999.0000,9,   -999.0,  9,  -999.00,9,   -999.0,  -999.00,9,  -999.00,9,     0.15,2,     0.11,2,   -999.0,-999.0000, -999,9,   74,  28.4719,  22.1276,   -999.0,9
       KS01-05,  137E,KS-0117,  1,     19,02-16025,2,20010527,0608, 15.0188, 136.9582, 5491,     99.7,  28.1816,  34.8782,2,   -999.0,9,  34.8886,4,    205.0,2,  -999.00,9,  -999.00,9,     0.10,2,     0.01,2,     0.02,2, -999.000,9, -999.000,9,  -999.00,9,   -999.0,9,   -999.0,9,-999.0000,9,   -999.0,  9,  -999.00,9,   -999.0,  -999.00,9,  -999.00,9,     0.20,2,     0.19,2,   -999.0,-999.0000, -999,9,   99,  28.1580,  22.2513,   -999.0,9
       KS01-05,  137E,KS-0117,  1,     18,02-16024,2,20010527,0607, 15.0188, 136.9582, 5491,    124.8,  27.8705,  34.9430,2,   -999.0,9,  34.9486,2,    200.0,2,  -999.00,9,  -999.00,9,     0.10,2,     0.00,2,     0.03,2, -999.000,9, -999.000,9,  -999.00,9,   -999.0,9,   -999.0,9,-999.0000,9,   -999.0,  9,  -999.00,9,   -999.0,  -999.00,9,  -999.00,9,     0.24,2,     0.25,2,   -999.0,-999.0000, -999,9,  124,  27.8412,  22.4036,   -999.0,9
       KS01-05,  137E,KS-0117,  1,     17,02-16023,2,20010527,0606, 15.0188, 136.9582, 5491,    150.5,  27.4654,  34.9730,2,   -999.0,9,  34.9957,4,    193.0,2,  -999.00,9,  -999.00,9,     0.10,2,     0.02,2,     0.05,2, -999.000,9, -999.000,9,  -999.00,9,   -999.0,9,   -999.0,9,-999.0000,9,   -999.0,  9,  -999.00,9,   -999.0,  -999.00,9,  -999.00,9,     0.17,2,     0.29,2,   -999.0,-999.0000, -999,9,  150,  27.4304,  22.5593,   -999.0,9
       KS01-05,  137E,KS-0117,  1,     16,02-16022,2,20010527,0604, 15.0188, 136.9582, 5491,    200.8,  22.9948,  35.0537,2,   -999.0,9,  35.0563,2,    177.0,2,  -999.00,9,  -999.00,9,     1.86,2,     0.03,2,     0.13,2, -999.000,9, -999.000,9,  -999.00,9,   -999.0,9,   -999.0,9,-999.0000,9,   -999.0,  9,  -999.00,9,   -999.0,  -999.00,9,  -999.00,9,     0.02,2,     0.09,2,   -999.0,-999.0000, -999,9,  199,  22.9538,  23.9877,   -999.0,9
       KS01-05,  137E,KS-0117,  1,     15,02-16021,2,20010527,0603, 15.0188, 136.9582, 5491,    251.0,  19.0854,  34.8826,2,   -999.0,9,  34.8843,2,    178.0,2,  -999.00,9,  -999.00,9,     5.27,2,     0.03,2,     0.31,2, -999.000,9, -999.000,9,  -999.00,9,   -999.0,9,   -999.0,9,-999.0000,9,   -999.0,  9,  -999.00,9,   -999.0,  -999.00,9,  -999.00,9,     0.00,2,     0.02,2,   -999.0,-999.0000, -999,9,  249,  19.0405,  24.9211,   -999.0,9
       KS01-05,  137E,KS-0117,  1,     14,02-16020,2,20010527,0601, 15.0188, 136.9582, 5491,    300.9,  15.8193,  34.6519,2,   -999.0,9,  34.6525,2,    181.0,2,  -999.00,9,  -999.00,9,     9.65,2,     0.04,2,     0.57,2, -999.000,9, -999.000,9,  -999.00,9,   -999.0,9,   -999.0,9,-999.0000,9,   -999.0,  9,  -999.00,9,   -999.0,  -999.00,9,  -999.00,9,     0.00,2,     0.01,2,   -999.0,-999.0000, -999,9,  299,  15.7720,  25.5317,   -999.0,9
       KS01-05,  137E,KS-0117,  1,     13,02-16019,2,20010527,0559, 15.0188, 136.9582, 5491,    402.3,   9.9806,  34.2557,2,   -999.0,9,  34.2560,2,    143.0,2,  -999.00,9,  -999.00,9,    24.16,2,     0.02,2,     1.54,2, -999.000,9, -999.000,9,  -999.00,9,   -999.0,9,   -999.0,9,-999.0000,9,   -999.0,  9,  -999.00,9,   -999.0,  -999.00,9,  -999.00,9,  -999.00,9,  -999.00,9,   -999.0,-999.0000, -999,9,  400,   9.9339,  26.3819,   -999.0,9
       KS01-05,  137E,KS-0117,  1,     12,02-16018,2,20010527,0557, 15.0188, 136.9582, 5491,    503.7,   7.9710,  34.3546,2,   -999.0,9,  34.3541,2,     77.0,2,  -999.00,9,  -999.00,9,    34.18,2,     0.02,2,     2.32,2, -999.000,9, -999.000,9,  -999.00,9,   -999.0,9,   -999.0,9,-999.0000,9,   -999.0,  9,  -999.00,9,   -999.0,  -999.00,9,  -999.00,9,  -999.00,9,  -999.00,9,   -999.0,-999.0000, -999,9,  500,   7.9196,  26.7789,   -999.0,9
       KS01-05,  137E,KS-0117,  1,     11,02-16017,2,20010527,0553, 15.0188, 136.9582, 5491,    605.1,   6.5421,  34.4052,2,   -999.0,9,  34.4043,2,     66.0,2,  -999.00,9,  -999.00,9,    37.68,2,     0.02,2,     2.57,2, -999.000,9, -999.000,9,  -999.00,9,   -999.0,9,   -999.0,9,-999.0000,9,   -999.0,  9,  -999.00,9,   -999.0,  -999.00,9,  -999.00,9,  -999.00,9,  -999.00,9,   -999.0,-999.0000, -999,9,  601,   6.4864,  27.0196,   -999.0,9
       KS01-05,  137E,KS-0117,  1,     10,02-16016,2,20010527,0551, 15.0188, 136.9582, 5491,    705.5,   5.8461,  34.4509,2,   -999.0,9,  34.4496,2,     73.0,2,  -999.00,9,  -999.00,9,    38.36,2,     0.01,2,     2.63,2, -999.000,9, -999.000,9,  -999.00,9,   -999.0,9,   -999.0,9,-999.0000,9,   -999.0,  9,  -999.00,9,   -999.0,  -999.00,9,  -999.00,9,  -999.00,9,  -999.00,9,   -999.0,-999.0000, -999,9,  700,   5.7843,  27.1459,   -999.0,9
       KS01-05,  137E,KS-0117,  1,      9,02-16015,2,20010527,0549, 15.0188, 136.9582, 5491,    806.5,   5.3517,  34.4801,2,   -999.0,9,  34.4785,2,     78.0,2,  -999.00,9,  -999.00,9,    38.94,2,     0.02,2,     2.65,2, -999.000,9, -999.000,9,  -999.00,9,   -999.0,9,   -999.0,9,-999.0000,9,   -999.0,  9,  -999.00,9,   -999.0,  -999.00,9,  -999.00,9,  -999.00,9,  -999.00,9,   -999.0,-999.0000, -999,9,  800,   5.2835,  27.2299,   -999.0,9
       KS01-05,  137E,KS-0117,  1,      8,02-16014,2,20010527,0546, 15.0188, 136.9582, 5491,    907.6,   4.8613,  34.5049,2,   -999.0,9,  34.5038,2,     83.0,2,  -999.00,9,  -999.00,9,    39.33,2,     0.01,2,     2.70,2, -999.000,9, -999.000,9,  -999.00,9,   -999.0,9,   -999.0,9,-999.0000,9,   -999.0,  9,  -999.00,9,   -999.0,  -999.00,9,  -999.00,9,  -999.00,9,  -999.00,9,   -999.0,-999.0000, -999,9,  900,   4.7873,  27.3071,   -999.0,9
       KS01-05,  137E,KS-0117,  1,      7,02-16013,3,20010527,0544, 15.0188, 136.9582, 5491,   1006.4,   4.4360,  34.5178,2,   -999.0,9,  34.5180,2,     85.0,2,  -999.00,9,  -999.00,9,    39.52,2,     0.02,2,     2.72,2, -999.000,9, -999.000,9,  -999.00,9,   -999.0,9,   -999.0,9,-999.0000,9,   -999.0,  9,  -999.00,9,   -999.0,  -999.00,9,  -999.00,9,  -999.00,9,  -999.00,9,   -999.0,-999.0000, -999,9,  998,   4.3564,  27.3649,   -999.0,9
       KS01-05,  137E,KS-0117,  1,      6,02-16012,2,20010527,0539, 15.0188, 136.9582, 5491,   1264.0,   3.4640,  34.5559,2,   -999.0,9,  34.5551,2,     92.0,2,  -999.00,9,  -999.00,9,    39.81,2,     0.00,2,     2.75,2, -999.000,9, -999.000,9,  -999.00,9,   -999.0,9,   -999.0,9,-999.0000,9,   -999.0,  9,  -999.00,9,   -999.0,  -999.00,9,  -999.00,9,  -999.00,9,  -999.00,9,   -999.0,-999.0000, -999,9, 1253,   3.3709,  27.4958,   -999.0,9
       KS01-05,  137E,KS-0117,  1,      5,02-16011,2,20010527,0533, 15.0188, 136.9582, 5491,   1512.3,   2.8158,  34.5832,2,   -999.0,9,  34.5832,2,     98.0,2,  -999.00,9,  -999.00,9,    39.90,2,     0.01,2,     2.72,2, -999.000,9, -999.000,9,  -999.00,9,   -999.0,9,   -999.0,9,-999.0000,9,   -999.0,  9,  -999.00,9,   -999.0,  -999.00,9,  -999.00,9,  -999.00,9,  -999.00,9,   -999.0,-999.0000, -999,9, 1498,   2.7091,  27.5785,   -999.0,9
       KS01-05,  137E,KS-0117,  1,      4,02-16010,9,20010527,0525, 15.0188, 136.9582, 5491,   2016.4,   2.1156,  34.6238,2,   -999.0,9,-999.0000,9,   -999.0,9,  -999.00,9,  -999.00,9,  -999.00,9,  -999.00,9,  -999.00,9, -999.000,9, -999.000,9,  -999.00,9,   -999.0,9,   -999.0,9,-999.0000,9,   -999.0,  9,  -999.00,9,   -999.0,  -999.00,9,  -999.00,9,  -999.00,9,  -999.00,9,   -999.0,-999.0000, -999,9, 1995,   1.9760,  27.6722,   -999.0,9
       KS01-05,  137E,KS-0117,  1,      3,02-16009,9,20010527,0524, 15.0188, 136.9582, 5491,   2016.4,   2.1151,  34.6240,2,   -999.0,9,-999.0000,9,   -999.0,9,  -999.00,9,  -999.00,9,  -999.00,9,  -999.00,9,  -999.00,9, -999.000,9, -999.000,9,  -999.00,9,   -999.0,9,   -999.0,9,-999.0000,9,   -999.0,  9,  -999.00,9,   -999.0,  -999.00,9,  -999.00,9,  -999.00,9,  -999.00,9,   -999.0,-999.0000, -999,9, 1995,   1.9755,  27.6724,   -999.0,9
       KS01-05,  137E,KS-0117,  1,      2,02-16008,9,20010527,0524, 15.0188, 136.9582, 5491,   2017.1,   2.1142,  34.6241,2,   -999.0,9,-999.0000,9,   -999.0,9,  -999.00,9,  -999.00,9,  -999.00,9,  -999.00,9,  -999.00,9, -999.000,9, -999.000,9,  -999.00,9,   -999.0,9,   -999.0,9,-999.0000,9,   -999.0,  9,  -999.00,9,   -999.0,  -999.00,9,  -999.00,9,  -999.00,9,  -999.00,9,   -999.0,-999.0000, -999,9, 1996,   1.9746,  27.6725,   -999.0,9
       KS01-05,  137E,KS-0117,  1,      1,02-16007,2,20010527,0524, 15.0188, 136.9582, 5491,   2018.5,   2.1129,  34.6244,2,   -999.0,9,  34.6238,2,    112.0,2,  -999.00,9,  -999.00,9,    39.60,2,     0.02,2,     2.66,2, -999.000,9, -999.000,9,  -999.00,9,   -999.0,9,   -999.0,9,-999.0000,9,   -999.0,  9,  -999.00,9,   -999.0,  -999.00,9,  -999.00,9,  -999.00,9,  -999.00,9,   -999.0,-999.0000, -999,9, 1997,   1.9732,  27.6729,   -999.0,9