BOTTLE,20130510GEMDJMAYT
EXPOCODE,SECT_ID,STNNBR,CASTNO,SAMPNO,BTLNBR,BTLNBR_FLAG_W,DATE,TIME,LATITUDE,LONGITUDE,DEPTH,CTDPRS,CTDTMP,CTDSAL,CTDSAL_FLAG_W,CTDOXY,CTDOXY_FLAG_W,SALNTY,SALNTY_FLAG_W,OXYGEN,OXYGEN_FLAG_W,SILCAT,SILCAT_FLAG_W,NITRAT,NITRAT_FLAG_W,NO2+NO3,NO2+NO3_FLAG_W,NITRIT,NITRIT_FLAG_W,PHSPHT,PHSPHT_FLAG_W,CFC-11,CFC-11_FLAG_W,CFC-12,CFC-12_FLAG_W,DELC13,DELC13_FLAG_W,TCARBN,TCARBN_FLAG_W,ALKALI,ALKALI_FLAG_W,PH,PH_FLAG_W,PH_TMP,PH_SCALE,PH_NBS,PH_NBS_FLAG_W,C13ERR,TOTALP,TOTALP_FLAG_W,AMMONI,AMMONI_FLAG_W,CHLORA,CHLORA_FLAG_W,PPHYTN,PPHYTN_FLAG_W,REVPRS,REVTMP,DEPTH_,DEPTH_FLAG,CTDDEP,THETA,SIGTHT,DOC,DOC_FLAG_W
,,,,,,,GMT,GMT,,,METER,DBAR,ITS-90,PSS-78,,UMOL/KG,,PSS-78,,UMOL/KG,,UMOL/KG,,UMOL/KG,,UMOL/KG,,UMOL/KG,,UMOL/KG,,PMOL/KG,,PMOL/KG,,/MILLE,,UMOL/KG,,UMOL/KG,,25_DEG_C,,DEG_C,,,,/MILLE,UMOL/KG,,UMOL/KG,,UG/L,,UG/L,,DBAR,ITS-90,METERS,,METERS,DEG_C,,UMOL/L,
       KS01-05,  NONE,KS-0086,  1,     24,02-16030,2,20010510,0826, 31.4998, 135.2912, 3823,      5.0,  21.4809,  34.6672,2,   -999.0,9,-999.0000,9,    222.0,2,  -999.00,9,  -999.00,9,     0.00,2,     0.00,2,     0.03,2, -999.000,9, -999.000,9,  -999.00,9,   1956.6,3,   -999.0,9,-999.0000,9,   -999.0,  9,     8.18,2,   -999.0,  -999.00,9,  -999.00,9,     0.10,2,     0.05,2,   -999.0,-999.0000, -999,9,    5,  21.4799,  24.1093,   -999.0,9
       KS01-05,  NONE,KS-0086,  1,     23,02-16029,2,20010510,0825, 31.4998, 135.2912, 3823,      9.3,  21.4924,  34.6670,2,   -999.0,9,  34.6665,2,    223.0,2,  -999.00,9,  -999.00,9,     0.00,2,     0.00,2,     0.03,2, -999.000,9, -999.000,9,  -999.00,9,   -999.0,9,   -999.0,9,-999.0000,9,   -999.0,  9,  -999.00,9,   -999.0,  -999.00,9,  -999.00,9,     0.10,2,     0.05,2,   -999.0,-999.0000, -999,9,    9,  21.4906,  24.1062,   -999.0,9
       KS01-05,  NONE,KS-0086,  1,     22,02-16028,2,20010510,0824, 31.4998, 135.2912, 3823,     24.8,  21.3794,  34.6667,2,   -999.0,9,  34.6684,2,    221.0,2,  -999.00,9,  -999.00,9,     0.00,2,     0.00,2,     0.03,2, -999.000,9, -999.000,9,  -999.00,9,   -999.0,9,   -999.0,9,-999.0000,9,   -999.0,  9,  -999.00,9,   -999.0,  -999.00,9,  -999.00,9,     0.11,2,     0.06,2,   -999.0,-999.0000, -999,9,   25,  21.3746,  24.1379,   -999.0,9
       KS01-05,  NONE,KS-0086,  1,     21,02-16027,2,20010510,0818, 31.4998, 135.2912, 3823,     50.3,  20.5210,  34.7107,2,   -999.0,9,  34.7097,2,    212.0,2,  -999.00,9,  -999.00,9,     0.00,2,     0.00,2,     0.03,2, -999.000,9, -999.000,9,  -999.00,9,   -999.0,9,   -999.0,9,-999.0000,9,   -999.0,  9,  -999.00,9,   -999.0,  -999.00,9,  -999.00,9,     0.17,2,     0.12,2,   -999.0,-999.0000, -999,9,   50,  20.5116,  24.4053,   -999.0,9
       KS01-05,  NONE,KS-0086,  1,     20,02-16026,2,20010510,0817, 31.4998, 135.2912, 3823,     75.7,  20.2292,  34.7321,2,   -999.0,9,  34.7315,2,    220.0,2,  -999.00,9,  -999.00,9,     0.20,2,     0.14,2,     0.04,2, -999.000,9, -999.000,9,  -999.00,9,   -999.0,9,   -999.0,9,-999.0000,9,   -999.0,  9,  -999.00,9,   -999.0,  -999.00,9,  -999.00,9,     0.32,2,     0.37,2,   -999.0,-999.0000, -999,9,   75,  20.2151,  24.5006,   -999.0,9
       KS01-05,  NONE,KS-0086,  1,     19,02-16025,2,20010510,0815, 31.4998, 135.2912, 3823,    100.6,  20.0124,  34.7504,2,   -999.0,9,  34.7510,2,    213.0,2,  -999.00,9,  -999.00,9,     0.59,2,     0.37,2,     0.07,2, -999.000,9, -999.000,9,  -999.00,9,   -999.0,9,   -999.0,9,-999.0000,9,   -999.0,  9,  -999.00,9,   -999.0,  -999.00,9,  -999.00,9,     0.15,2,     0.16,2,   -999.0,-999.0000, -999,9,  100,  19.9938,  24.5730,   -999.0,9
       KS01-05,  NONE,KS-0086,  1,     18,02-16024,2,20010510,0814, 31.4998, 135.2912, 3823,    125.7,  19.7866,  34.7701,2,   -999.0,9,  34.7708,2,    220.0,2,  -999.00,9,  -999.00,9,     0.98,2,     0.32,2,     0.09,2, -999.000,9, -999.000,9,  -999.00,9,   -999.0,9,   -999.0,9,-999.0000,9,   -999.0,  9,  -999.00,9,   -999.0,  -999.00,9,  -999.00,9,     0.06,2,     0.07,2,   -999.0,-999.0000, -999,9,  125,  19.7636,  24.6484,   -999.0,9
       KS01-05,  NONE,KS-0086,  1,     17,02-16023,9,20010510,0812, 31.4998, 135.2912, 3823,    151.0,  19.6045,  34.7814,2,   -999.0,9,-999.0000,9,   -999.0,9,  -999.00,9,  -999.00,9,  -999.00,9,  -999.00,9,  -999.00,9, -999.000,9, -999.000,9,  -999.00,9,   -999.0,9,   -999.0,9,-999.0000,9,   -999.0,  9,  -999.00,9,   -999.0,  -999.00,9,  -999.00,9,  -999.00,9,  -999.00,9,   -999.0,-999.0000, -999,9,  150,  19.5770,  24.7056,   -999.0,9
       KS01-05,  NONE,KS-0086,  1,     16,02-16022,2,20010510,0812, 31.4998, 135.2912, 3823,    151.7,  19.6036,  34.7831,2,   -999.0,9,  34.7832,2,    218.0,2,  -999.00,9,  -999.00,9,     1.07,2,     0.05,2,     0.09,2, -999.000,9, -999.000,9,  -999.00,9,   -999.0,9,   -999.0,9,-999.0000,9,   -999.0,  9,  -999.00,9,   -999.0,  -999.00,9,  -999.00,9,     0.02,2,     0.03,2,   -999.0,-999.0000, -999,9,  151,  19.5760,  24.7072,   -999.0,9
       KS01-05,  NONE,KS-0086,  1,     15,02-16021,2,20010510,0810, 31.4998, 135.2912, 3823,    201.5,  19.2989,  34.7866,2,   -999.0,9,  34.7858,2,    219.0,2,  -999.00,9,  -999.00,9,     1.17,2,     0.02,2,     0.09,2, -999.000,9, -999.000,9,  -999.00,9,   -999.0,9,   -999.0,9,-999.0000,9,   -999.0,  9,  -999.00,9,   -999.0,  -999.00,9,  -999.00,9,     0.01,2,     0.01,2,   -999.0,-999.0000, -999,9,  200,  19.2626,  24.7909,   -999.0,9
       KS01-05,  NONE,KS-0086,  1,     14,02-16020,2,20010510,0808, 31.4998, 135.2912, 3823,    251.4,  19.0990,  34.7882,2,   -999.0,9,  34.7876,2,    216.0,2,  -999.00,9,  -999.00,9,     1.76,2,     0.01,2,     0.13,2, -999.000,9, -999.000,9,  -999.00,9,   -999.0,9,   -999.0,9,-999.0000,9,   -999.0,  9,  -999.00,9,   -999.0,  -999.00,9,  -999.00,9,     0.00,2,     0.01,2,   -999.0,-999.0000, -999,9,  250,  19.0540,  24.8455,   -999.0,9
       KS01-05,  NONE,KS-0086,  1,     13,02-16019,2,20010510,0807, 31.4998, 135.2912, 3823,    300.0,  18.7890,  34.7979,2,   -999.0,9,  34.7974,2,    207.0,2,  -999.00,9,  -999.00,9,     3.22,2,     0.01,2,     0.20,2, -999.000,9, -999.000,9,  -999.00,9,   -999.0,9,   -999.0,9,-999.0000,9,   -999.0,  9,  -999.00,9,   -999.0,  -999.00,9,  -999.00,9,     0.00,2,     0.01,2,   -999.0,-999.0000, -999,9,  298,  18.7359,  24.9337,   -999.0,9
       KS01-05,  NONE,KS-0086,  1,     12,02-16018,2,20010510,0803, 31.4998, 135.2912, 3823,    402.8,  17.6659,  34.7799,2,   -999.0,9,  34.7789,2,    195.0,2,  -999.00,9,  -999.00,9,     5.85,2,     0.00,2,     0.36,2, -999.000,9, -999.000,9,  -999.00,9,   -999.0,9,   -999.0,9,-999.0000,9,   -999.0,  9,  -999.00,9,   -999.0,  -999.00,9,  -999.00,9,  -999.00,9,  -999.00,9,   -999.0,-999.0000, -999,9,  400,  17.5974,  25.2019,   -999.0,9
       KS01-05,  NONE,KS-0086,  1,     11,02-16017,2,20010510,0800, 31.4998, 135.2912, 3823,    504.1,  16.1109,  34.6968,2,   -999.0,9,  34.6977,2,    189.0,2,  -999.00,9,  -999.00,9,     8.87,2,     0.00,2,     0.55,2, -999.000,9, -999.000,9,  -999.00,9,   -999.0,9,   -999.0,9,-999.0000,9,   -999.0,  9,  -999.00,9,   -999.0,  -999.00,9,  -999.00,9,  -999.00,9,  -999.00,9,   -999.0,-999.0000, -999,9,  500,  16.0302,  25.5075,   -999.0,9
       KS01-05,  NONE,KS-0086,  1,     10,02-16016,2,20010510,0756, 31.4998, 135.2912, 3823,    604.9,  14.0359,  34.5507,2,   -999.0,9,  34.5516,2,    182.0,2,  -999.00,9,  -999.00,9,    13.35,2,     0.00,2,     0.86,2, -999.000,9, -999.000,9,  -999.00,9,   -999.0,9,   -999.0,9,-999.0000,9,   -999.0,  9,  -999.00,9,   -999.0,  -999.00,9,  -999.00,9,  -999.00,9,  -999.00,9,   -999.0,-999.0000, -999,9,  600,  13.9475,  25.8509,   -999.0,9
       KS01-05,  NONE,KS-0086,  1,      9,02-16015,2,20010510,0753, 31.4998, 135.2912, 3823,    706.0,  11.4746,  34.3770,2,   -999.0,9,  34.3790,2,    165.0,2,  -999.00,9,  -999.00,9,    19.20,2,     0.00,2,     1.24,2, -999.000,9, -999.000,9,  -999.00,9,   -999.0,9,   -999.0,9,-999.0000,9,   -999.0,  9,  -999.00,9,   -999.0,  -999.00,9,  -999.00,9,  -999.00,9,  -999.00,9,   -999.0,-999.0000, -999,9,  700,  11.3838,  26.2205,   -999.0,9
       KS01-05,  NONE,KS-0086,  1,      8,02-16014,2,20010510,0749, 31.4998, 135.2912, 3823,    807.9,   9.1444,  34.2660,2,   -999.0,9,  34.2670,2,    140.0,2,  -999.00,9,  -999.00,9,    25.72,2,     0.00,2,     1.70,2, -999.000,9, -999.000,9,  -999.00,9,   -999.0,9,   -999.0,9,-999.0000,9,   -999.0,  9,  -999.00,9,   -999.0,  -999.00,9,  -999.00,9,  -999.00,9,  -999.00,9,   -999.0,-999.0000, -999,9,  801,   9.0536,  26.5348,   -999.0,9
       KS01-05,  NONE,KS-0086,  1,      7,02-16013,2,20010510,0745, 31.4998, 135.2912, 3823,    908.6,   7.0927,  34.2214,2,   -999.0,9,  34.2221,2,    114.0,2,  -999.00,9,  -999.00,9,    31.94,2,     0.00,2,     2.12,2, -999.000,9, -999.000,9,  -999.00,9,   -999.0,9,   -999.0,9,-999.0000,9,   -999.0,  9,  -999.00,9,   -999.0,  -999.00,9,  -999.00,9,  -999.00,9,  -999.00,9,   -999.0,-999.0000, -999,9,  900,   7.0037,  26.8049,   -999.0,9
       KS01-05,  NONE,KS-0086,  1,      6,02-16012,4,20010510,0742, 31.4998, 135.2912, 3823,   1010.8,   5.8360,  34.2508,2,   -999.0,9,  34.2246,4,    111.0,4,  -999.00,9,  -999.00,9,    32.42,4,     0.00,4,     2.17,4, -999.000,9, -999.000,9,  -999.00,9,   -999.0,9,   -999.0,9,-999.0000,9,   -999.0,  9,  -999.00,9,   -999.0,  -999.00,9,  -999.00,9,  -999.00,9,  -999.00,9,   -999.0,-999.0000, -999,9, 1001,   5.7457,  26.9924,   -999.0,9
       KS01-05,  NONE,KS-0086,  1,      5,02-16011,2,20010510,0736, 31.4998, 135.2912, 3823,   1262.4,   3.7984,  34.3945,2,   -999.0,9,  34.3937,2,     66.0,2,  -999.00,9,  -999.00,9,    40.79,2,     0.00,2,     2.77,2, -999.000,9, -999.000,9,  -999.00,9,   -999.0,9,   -999.0,9,-999.0000,9,   -999.0,  9,  -999.00,9,   -999.0,  -999.00,9,  -999.00,9,  -999.00,9,  -999.00,9,   -999.0,-999.0000, -999,9, 1250,   3.7026,  27.3347,   -999.0,9
       KS01-05,  NONE,KS-0086,  1,      4,02-16010,2,20010510,0730, 31.4998, 135.2912, 3823,   1515.2,   3.0379,  34.4708,2,   -999.0,9,  34.4732,2,     70.0,2,  -999.00,9,  -999.00,9,    41.46,2,     0.00,2,     2.82,2, -999.000,9, -999.000,9,  -999.00,9,   -999.0,9,   -999.0,9,-999.0000,9,   -999.0,  9,  -999.00,9,   -999.0,  -999.00,9,  -999.00,9,  -999.00,9,  -999.00,9,   -999.0,-999.0000, -999,9, 1499,   2.9286,  27.4691,   -999.0,9
       KS01-05,  NONE,KS-0086,  1,      3,02-16009,2,20010510,0720, 31.4998, 135.2912, 3823,   2023.9,   2.2095,  34.5767,2,   -999.0,9,  34.5761,2,     96.0,2,  -999.00,9,  -999.00,9,    40.38,2,     0.00,2,     2.69,2, -999.000,9, -999.000,9,  -999.00,9,   -999.0,9,   -999.0,9,-999.0000,9,   -999.0,  9,  -999.00,9,   -999.0,  -999.00,9,  -999.00,9,  -999.00,9,  -999.00,9,   -999.0,-999.0000, -999,9, 2000,   2.0680,  27.6271,   -999.0,9
       KS01-05,  NONE,KS-0086,  1,      2,02-16008,9,20010510,0719, 31.4998, 135.2912, 3823,   2040.8,   2.1980,  34.5786,2,   -999.0,9,-999.0000,9,   -999.0,9,  -999.00,9,  -999.00,9,  -999.00,9,  -999.00,9,  -999.00,9, -999.000,9, -999.000,9,  -999.00,9,   -999.0,9,   -999.0,9,-999.0000,9,   -999.0,  9,  -999.00,9,   -999.0,  -999.00,9,  -999.00,9,  -999.00,9,  -999.00,9,   -999.0,-999.0000, -999,9, 2017,   2.0553,  27.6296,   -999.0,9
       KS01-05,  NONE,KS-0086,  1,      1,02-16007,9,20010510,0718, 31.4998, 135.2912, 3823,   2042.8,   2.1968,  34.5789,2,   -999.0,9,-999.0000,9,   -999.0,9,  -999.00,9,  -999.00,9,  -999.00,9,  -999.00,9,  -999.00,9, -999.000,9, -999.000,9,  -999.00,9,   -999.0,9,   -999.0,9,-999.0000,9,   -999.0,  9,  -999.00,9,   -999.0,  -999.00,9,  -999.00,9,  -999.00,9,  -999.00,9,   -999.0,-999.0000, -999,9, 2019,   2.0539,  27.6300,   -999.0,9