BOTTLE,20130510GEMDJMAYT
EXPOCODE,SECT_ID,STNNBR,CASTNO,SAMPNO,BTLNBR,BTLNBR_FLAG_W,DATE,TIME,LATITUDE,LONGITUDE,DEPTH,CTDPRS,CTDTMP,CTDSAL,CTDSAL_FLAG_W,CTDOXY,CTDOXY_FLAG_W,SALNTY,SALNTY_FLAG_W,OXYGEN,OXYGEN_FLAG_W,SILCAT,SILCAT_FLAG_W,NITRAT,NITRAT_FLAG_W,NO2+NO3,NO2+NO3_FLAG_W,NITRIT,NITRIT_FLAG_W,PHSPHT,PHSPHT_FLAG_W,CFC-11,CFC-11_FLAG_W,CFC-12,CFC-12_FLAG_W,DELC13,DELC13_FLAG_W,TCARBN,TCARBN_FLAG_W,ALKALI,ALKALI_FLAG_W,PH,PH_FLAG_W,PH_TMP,PH_SCALE,PH_NBS,PH_NBS_FLAG_W,C13ERR,TOTALP,TOTALP_FLAG_W,AMMONI,AMMONI_FLAG_W,CHLORA,CHLORA_FLAG_W,PPHYTN,PPHYTN_FLAG_W,REVPRS,REVTMP,DEPTH_,DEPTH_FLAG,CTDDEP,THETA,SIGTHT,DOC,DOC_FLAG_W
,,,,,,,GMT,GMT,,,METER,DBAR,ITS-90,PSS-78,,UMOL/KG,,PSS-78,,UMOL/KG,,UMOL/KG,,UMOL/KG,,UMOL/KG,,UMOL/KG,,UMOL/KG,,PMOL/KG,,PMOL/KG,,/MILLE,,UMOL/KG,,UMOL/KG,,25_DEG_C,,DEG_C,,,,/MILLE,UMOL/KG,,UMOL/KG,,UG/L,,UG/L,,DBAR,ITS-90,METERS,,METERS,DEG_C,,UMOL/L,
       KS01-05,  137E,KS-0127,  1,     24,02-16030,2,20010530,0010,  5.0030, 137.0100, 5164,      5.0,  29.8703,  34.0326,2,   -999.0,9,-999.0000,9,    195.0,2,  -999.00,9,  -999.00,9,     0.00,2,     0.00,2,     0.00,2, -999.000,9, -999.000,9,  -999.00,9,   -999.0,9,   -999.0,9,-999.0000,9,   -999.0,  9,  -999.00,9,   -999.0,  -999.00,9,  -999.00,9,     0.07,2,     0.04,2,   -999.0,-999.0000, -999,9,    5,  29.8691,  21.0456,   -999.0,9
       KS01-05,  137E,KS-0127,  1,     23,02-16029,2,20010530,0009,  5.0030, 137.0100, 5164,     10.0,  29.8523,  34.0307,2,   -999.0,9,  34.0388,2,    195.0,2,  -999.00,9,  -999.00,9,     0.00,2,     0.00,2,     0.02,2, -999.000,9, -999.000,9,  -999.00,9,   -999.0,9,   -999.0,9,-999.0000,9,   -999.0,  9,  -999.00,9,   -999.0,  -999.00,9,  -999.00,9,     0.09,2,     0.04,2,   -999.0,-999.0000, -999,9,   10,  29.8498,  21.0508,   -999.0,9
       KS01-05,  137E,KS-0127,  1,     22,02-16028,2,20010530,0007,  5.0030, 137.0100, 5164,     24.7,  29.8976,  34.2155,2,   -999.0,9,  34.3594,4,    196.0,2,  -999.00,9,  -999.00,9,     0.00,2,     0.00,2,     0.07,2, -999.000,9, -999.000,9,  -999.00,9,   -999.0,9,   -999.0,9,-999.0000,9,   -999.0,  9,  -999.00,9,   -999.0,  -999.00,9,  -999.00,9,     0.07,2,     0.04,2,   -999.0,-999.0000, -999,9,   25,  29.8915,  21.1750,   -999.0,9
       KS01-05,  137E,KS-0127,  1,     21,02-16027,2,20010530,0003,  5.0030, 137.0100, 5164,     50.3,  28.8901,  34.7117,2,   -999.0,9,  34.7164,2,    192.0,2,  -999.00,9,  -999.00,9,     0.00,2,     0.01,2,     0.14,2, -999.000,9, -999.000,9,  -999.00,9,   -999.0,9,   -999.0,9,-999.0000,9,   -999.0,  9,  -999.00,9,   -999.0,  -999.00,9,  -999.00,9,     0.14,2,     0.12,2,   -999.0,-999.0000, -999,9,   50,  28.8780,  21.8883,   -999.0,9
       KS01-05,  137E,KS-0127,  1,     20,02-16026,2,20010530,0002,  5.0030, 137.0100, 5164,     75.4,  27.1806,  34.8315,2,   -999.0,9,  34.8351,2,    152.0,2,  -999.00,9,  -999.00,9,     5.97,2,     0.61,2,     0.41,2, -999.000,9, -999.000,9,  -999.00,9,   -999.0,9,   -999.0,9,-999.0000,9,   -999.0,  9,  -999.00,9,   -999.0,  -999.00,9,  -999.00,9,     0.25,2,     0.71,2,   -999.0,-999.0000, -999,9,   75,  27.1632,  22.5387,   -999.0,9
       KS01-05,  137E,KS-0127,  1,     19,02-16025,2,20010530,0000,  5.0030, 137.0100, 5164,    100.3,  26.9326,  34.9579,2,   -999.0,9,  34.9795,4,    149.0,2,  -999.00,9,  -999.00,9,     6.75,2,     0.06,2,     0.47,2, -999.000,9, -999.000,9,  -999.00,9,   -999.0,9,   -999.0,9,-999.0000,9,   -999.0,  9,  -999.00,9,   -999.0,  -999.00,9,  -999.00,9,     0.10,2,     0.42,2,   -999.0,-999.0000, -999,9,  100,  26.9096,  22.7149,   -999.0,9
       KS01-05,  137E,KS-0127,  1,     18,02-16024,2,20010529,2359,  5.0030, 137.0100, 5164,    125.5,  26.6784,  35.0074,2,   -999.0,9,  35.0636,4,    147.0,2,  -999.00,9,  -999.00,9,     7.33,2,     0.08,2,     0.51,2, -999.000,9, -999.000,9,  -999.00,9,   -999.0,9,   -999.0,9,-999.0000,9,   -999.0,  9,  -999.00,9,   -999.0,  -999.00,9,  -999.00,9,     0.04,2,     0.24,2,   -999.0,-999.0000, -999,9,  125,  26.6499,  22.8347,   -999.0,9
       KS01-05,  137E,KS-0127,  1,     17,02-16023,2,20010529,2358,  5.0030, 137.0100, 5164,    150.7,  25.7756,  35.2070,2,   -999.0,9,  35.1995,4,    143.0,2,  -999.00,9,  -999.00,9,     8.60,2,     0.06,2,     0.60,2, -999.000,9, -999.000,9,  -999.00,9,   -999.0,9,   -999.0,9,-999.0000,9,   -999.0,  9,  -999.00,9,   -999.0,  -999.00,9,  -999.00,9,     0.02,2,     0.09,2,   -999.0,-999.0000, -999,9,  150,  25.7421,  23.2698,   -999.0,9
       KS01-05,  137E,KS-0127,  1,     16,02-16022,2,20010529,2356,  5.0030, 137.0100, 5164,    200.7,  23.1482,  35.0551,2,   -999.0,9,  34.9890,4,    145.0,2,  -999.00,9,  -999.00,9,     9.86,2,     0.03,2,     0.64,2, -999.000,9, -999.000,9,  -999.00,9,   -999.0,9,   -999.0,9,-999.0000,9,   -999.0,  9,  -999.00,9,   -999.0,  -999.00,9,  -999.00,9,     0.00,2,     0.03,2,   -999.0,-999.0000, -999,9,  200,  23.1070,  23.9445,   -999.0,9
       KS01-05,  137E,KS-0127,  1,     15,02-16021,2,20010529,2354,  5.0030, 137.0100, 5164,    251.3,  12.0428,  34.5463,2,   -999.0,9,  34.5512,2,     89.0,2,  -999.00,9,  -999.00,9,    27.58,2,     0.00,2,     1.74,2, -999.000,9, -999.000,9,  -999.00,9,   -999.0,9,   -999.0,9,-999.0000,9,   -999.0,  9,  -999.00,9,   -999.0,  -999.00,9,  -999.00,9,     0.00,2,     0.02,2,   -999.0,-999.0000, -999,9,  250,  12.0100,  26.2348,   -999.0,9
       KS01-05,  137E,KS-0127,  1,     14,02-16020,2,20010529,2352,  5.0030, 137.0100, 5164,    302.6,   9.2459,  34.4778,2,   -999.0,9,  34.4797,2,     86.0,2,  -999.00,9,  -999.00,9,    31.85,2,     0.00,2,     2.05,2, -999.000,9, -999.000,9,  -999.00,9,   -999.0,9,   -999.0,9,-999.0000,9,   -999.0,  9,  -999.00,9,   -999.0,  -999.00,9,  -999.00,9,     0.00,2,     0.02,2,   -999.0,-999.0000, -999,9,  301,   9.2125,  26.6750,   -999.0,9
       KS01-05,  137E,KS-0127,  1,     13,02-16019,2,20010529,2350,  5.0030, 137.0100, 5164,    402.5,   8.2428,  34.5936,2,   -999.0,9,  34.5916,2,     91.0,2,  -999.00,9,  -999.00,9,    34.18,2,     0.00,2,     2.16,2, -999.000,9, -999.000,9,  -999.00,9,   -999.0,9,   -999.0,9,-999.0000,9,   -999.0,  9,  -999.00,9,   -999.0,  -999.00,9,  -999.00,9,  -999.00,9,  -999.00,9,   -999.0,-999.0000, -999,9,  400,   8.2010,  26.9244,   -999.0,9
       KS01-05,  137E,KS-0127,  1,     12,02-16018,2,20010529,2347,  5.0030, 137.0100, 5164,    503.6,   7.5765,  34.5667,2,   -999.0,9,  34.5637,2,     91.0,2,  -999.00,9,  -999.00,9,    35.35,2,     0.00,2,     2.27,2, -999.000,9, -999.000,9,  -999.00,9,   -999.0,9,   -999.0,9,-999.0000,9,   -999.0,  9,  -999.00,9,   -999.0,  -999.00,9,  -999.00,9,  -999.00,9,  -999.00,9,   -999.0,-999.0000, -999,9,  500,   7.5264,  27.0031,   -999.0,9
       KS01-05,  137E,KS-0127,  1,     11,02-16017,2,20010529,2344,  5.0030, 137.0100, 5164,    604.8,   6.8821,  34.5470,2,   -999.0,9,  34.5459,2,     90.0,2,  -999.00,9,  -999.00,9,    36.61,2,     0.00,2,     2.38,2, -999.000,9, -999.000,9,  -999.00,9,   -999.0,9,   -999.0,9,-999.0000,9,   -999.0,  9,  -999.00,9,   -999.0,  -999.00,9,  -999.00,9,  -999.00,9,  -999.00,9,   -999.0,-999.0000, -999,9,  601,   6.8247,  27.0860,   -999.0,9
       KS01-05,  137E,KS-0127,  1,     10,02-16016,2,20010529,2341,  5.0030, 137.0100, 5164,    704.9,   6.2354,  34.5385,2,   -999.0,9,  34.5355,2,     90.0,2,  -999.00,9,  -999.00,9,    37.68,2,     0.00,2,     2.49,2, -999.000,9, -999.000,9,  -999.00,9,   -999.0,9,   -999.0,9,-999.0000,9,   -999.0,  9,  -999.00,9,   -999.0,  -999.00,9,  -999.00,9,  -999.00,9,  -999.00,9,   -999.0,-999.0000, -999,9,  700,   6.1715,  27.1660,   -999.0,9
       KS01-05,  137E,KS-0127,  1,      9,02-16015,2,20010529,2339,  5.0030, 137.0100, 5164,    806.1,   5.6860,  34.5381,2,   -999.0,9,  34.5368,2,     86.0,2,  -999.00,9,  -999.00,9,    38.74,2,     0.00,2,     2.56,2, -999.000,9, -999.000,9,  -999.00,9,   -999.0,9,   -999.0,9,-999.0000,9,   -999.0,  9,  -999.00,9,   -999.0,  -999.00,9,  -999.00,9,  -999.00,9,  -999.00,9,   -999.0,-999.0000, -999,9,  800,   5.6157,  27.2357,   -999.0,9
       KS01-05,  137E,KS-0127,  1,      8,02-16014,3,20010529,2336,  5.0030, 137.0100, 5164,    906.9,   5.0875,  34.5417,2,   -999.0,9,  34.5400,2,     91.0,4,  -999.00,9,  -999.00,9,    38.74,4,     0.00,4,     2.59,4, -999.000,9, -999.000,9,  -999.00,9,   -999.0,9,   -999.0,9,-999.0000,9,   -999.0,  9,  -999.00,9,   -999.0,  -999.00,9,  -999.00,9,  -999.00,9,  -999.00,9,   -999.0,-999.0000, -999,9,  900,   5.0119,  27.3105,   -999.0,9
       KS01-05,  137E,KS-0127,  1,      7,02-16013,9,20010529,2333,  5.0030, 137.0100, 5164,   1008.3,   4.5031,  34.5521,2,   -999.0,9,-999.0000,9,   -999.0,9,  -999.00,9,  -999.00,9,  -999.00,9,  -999.00,9,  -999.00,9, -999.000,9, -999.000,9,  -999.00,9,   -999.0,9,   -999.0,9,-999.0000,9,   -999.0,  9,  -999.00,9,   -999.0,  -999.00,9,  -999.00,9,  -999.00,9,  -999.00,9,   -999.0,-999.0000, -999,9, 1000,   4.4228,  27.3849,   -999.0,9
       KS01-05,  137E,KS-0127,  1,      6,02-16012,2,20010529,2333,  5.0030, 137.0100, 5164,   1008.3,   4.5034,  34.5519,2,   -999.0,9,  34.5508,2,     91.0,2,  -999.00,9,  -999.00,9,    39.32,2,     0.00,2,     2.64,2, -999.000,9, -999.000,9,  -999.00,9,   -999.0,9,   -999.0,9,-999.0000,9,   -999.0,  9,  -999.00,9,   -999.0,  -999.00,9,  -999.00,9,  -999.00,9,  -999.00,9,   -999.0,-999.0000, -999,9, 1000,   4.4231,  27.3848,   -999.0,9
       KS01-05,  137E,KS-0127,  1,      5,02-16011,2,20010529,2328,  5.0030, 137.0100, 5164,   1260.3,   3.4871,  34.5803,2,   -999.0,9,  34.5791,2,     96.0,2,  -999.00,9,  -999.00,9,    39.71,2,     0.00,2,     2.65,2, -999.000,9, -999.000,9,  -999.00,9,   -999.0,9,   -999.0,9,-999.0000,9,   -999.0,  9,  -999.00,9,   -999.0,  -999.00,9,  -999.00,9,  -999.00,9,  -999.00,9,   -999.0,-999.0000, -999,9, 1249,   3.3941,  27.5130,   -999.0,9
       KS01-05,  137E,KS-0127,  1,      4,02-16010,2,20010529,2323,  5.0030, 137.0100, 5164,   1513.2,   2.8401,  34.6064,2,   -999.0,9,  34.6054,2,    103.0,2,  -999.00,9,  -999.00,9,    39.70,2,     0.00,2,     2.66,2, -999.000,9, -999.000,9,  -999.00,9,   -999.0,9,   -999.0,9,-999.0000,9,   -999.0,  9,  -999.00,9,   -999.0,  -999.00,9,  -999.00,9,  -999.00,9,  -999.00,9,   -999.0,-999.0000, -999,9, 1499,   2.7329,  27.5950,   -999.0,9
       KS01-05,  137E,KS-0127,  1,      3,02-16009,9,20010529,2315,  5.0030, 137.0100, 5164,   2019.9,   2.1992,  34.6371,2,   -999.0,9,-999.0000,9,   -999.0,9,  -999.00,9,  -999.00,9,  -999.00,9,  -999.00,9,  -999.00,9, -999.000,9, -999.000,9,  -999.00,9,   -999.0,9,   -999.0,9,-999.0000,9,   -999.0,  9,  -999.00,9,   -999.0,  -999.00,9,  -999.00,9,  -999.00,9,  -999.00,9,   -999.0,-999.0000, -999,9, 1999,   2.0580,  27.6763,   -999.0,9
       KS01-05,  137E,KS-0127,  1,      2,02-16008,9,20010529,2314,  5.0030, 137.0100, 5164,   2020.0,   2.1991,  34.6372,2,   -999.0,9,-999.0000,9,   -999.0,9,  -999.00,9,  -999.00,9,  -999.00,9,  -999.00,9,  -999.00,9, -999.000,9, -999.000,9,  -999.00,9,   -999.0,9,   -999.0,9,-999.0000,9,   -999.0,  9,  -999.00,9,   -999.0,  -999.00,9,  -999.00,9,  -999.00,9,  -999.00,9,   -999.0,-999.0000, -999,9, 1999,   2.0579,  27.6764,   -999.0,9
       KS01-05,  137E,KS-0127,  1,      1,02-16007,2,20010529,2314,  5.0030, 137.0100, 5164,   2020.4,   2.1991,  34.6372,2,   -999.0,9,  34.6348,2,    114.0,2,  -999.00,9,  -999.00,9,    39.51,2,     0.00,2,     2.60,2, -999.000,9, -999.000,9,  -999.00,9,   -999.0,9,   -999.0,9,-999.0000,9,   -999.0,  9,  -999.00,9,   -999.0,  -999.00,9,  -999.00,9,  -999.00,9,  -999.00,9,   -999.0,-999.0000, -999,9, 2000,   2.0579,  27.6764,   -999.0,9