BOTTLE,20130510GEMDJMAYT
EXPOCODE,SECT_ID,STNNBR,CASTNO,SAMPNO,BTLNBR,BTLNBR_FLAG_W,DATE,TIME,LATITUDE,LONGITUDE,DEPTH,CTDPRS,CTDTMP,CTDSAL,CTDSAL_FLAG_W,CTDOXY,CTDOXY_FLAG_W,SALNTY,SALNTY_FLAG_W,OXYGEN,OXYGEN_FLAG_W,SILCAT,SILCAT_FLAG_W,NITRAT,NITRAT_FLAG_W,NO2+NO3,NO2+NO3_FLAG_W,NITRIT,NITRIT_FLAG_W,PHSPHT,PHSPHT_FLAG_W,CFC-11,CFC-11_FLAG_W,CFC-12,CFC-12_FLAG_W,DELC13,DELC13_FLAG_W,TCARBN,TCARBN_FLAG_W,ALKALI,ALKALI_FLAG_W,PH,PH_FLAG_W,PH_TMP,PH_SCALE,PH_NBS,PH_NBS_FLAG_W,C13ERR,TOTALP,TOTALP_FLAG_W,AMMONI,AMMONI_FLAG_W,CHLORA,CHLORA_FLAG_W,PPHYTN,PPHYTN_FLAG_W,REVPRS,REVTMP,DEPTH_,DEPTH_FLAG,CTDDEP,THETA,SIGTHT,DOC,DOC_FLAG_W
,,,,,,,GMT,GMT,,,METER,DBAR,ITS-90,PSS-78,,UMOL/KG,,PSS-78,,UMOL/KG,,UMOL/KG,,UMOL/KG,,UMOL/KG,,UMOL/KG,,UMOL/KG,,PMOL/KG,,PMOL/KG,,/MILLE,,UMOL/KG,,UMOL/KG,,25_DEG_C,,DEG_C,,,,/MILLE,UMOL/KG,,UMOL/KG,,UG/L,,UG/L,,DBAR,ITS-90,METERS,,METERS,DEG_C,,UMOL/L,
       KS01-05,  137E,KS-0097,  1,     24,02-16030,2,20010521,0856, 31.9865, 137.0063, 4241,      4.4,  22.1119,  34.7255,2,   -999.0,9,-999.0000,9,    218.0,2,  -999.00,9,  -999.00,9,     0.00,2,     0.00,2,     0.00,2, -999.000,9, -999.000,9,  -999.00,9,   1956.6,3,   -999.0,9,-999.0000,9,   -999.0,  9,     8.18,2,   -999.0,  -999.00,9,  -999.00,9,     0.08,2,     0.04,2,   -999.0,-999.0000, -999,9,    4,  22.1110,  23.9782,   -999.0,9
       KS01-05,  137E,KS-0097,  1,     23,02-16029,2,20010521,0855, 31.9865, 137.0063, 4241,     10.9,  22.1098,  34.7253,2,   -999.0,9,  34.7262,2,    219.0,2,  -999.00,9,  -999.00,9,     0.00,2,     0.00,2,     0.00,2, -999.000,9, -999.000,9,  -999.00,9,   1956.8,3,   -999.0,9,-999.0000,9,   -999.0,  9,     8.19,2,   -999.0,  -999.00,9,  -999.00,9,     0.08,2,     0.03,2,   -999.0,-999.0000, -999,9,   11,  22.1076,  23.9790,   -999.0,9
       KS01-05,  137E,KS-0097,  1,     22,02-16028,2,20010521,0854, 31.9865, 137.0063, 4241,     25.0,  22.0655,  34.7230,2,   -999.0,9,  34.7237,2,    220.0,2,  -999.00,9,  -999.00,9,     0.00,2,     0.00,2,     0.00,2, -999.000,9, -999.000,9,  -999.00,9,   1957.8,3,   -999.0,9,-999.0000,9,   -999.0,  9,     8.19,2,   -999.0,  -999.00,9,  -999.00,9,     0.09,2,     0.04,2,   -999.0,-999.0000, -999,9,   25,  22.0606,  23.9904,   -999.0,9
       KS01-05,  137E,KS-0097,  1,     21,02-16027,2,20010521,0851, 31.9865, 137.0063, 4241,     49.9,  21.0472,  34.7327,2,   -999.0,9,  34.7343,2,    222.0,2,  -999.00,9,  -999.00,9,     0.00,2,     0.00,2,     0.01,2, -999.000,9, -999.000,9,  -999.00,9,   1962.3,3,   -999.0,9,-999.0000,9,   -999.0,  9,     8.18,2,   -999.0,  -999.00,9,  -999.00,9,     0.15,2,     0.09,2,   -999.0,-999.0000, -999,9,   50,  21.0377,  24.2802,   -999.0,9
       KS01-05,  137E,KS-0097,  1,     20,02-16026,2,20010521,0850, 31.9865, 137.0063, 4241,     75.6,  20.4849,  34.7477,2,   -999.0,9,  34.7516,2,    224.0,2,  -999.00,9,  -999.00,9,     0.00,2,     0.00,2,     0.02,2, -999.000,9, -999.000,9,  -999.00,9,   1972.1,3,   -999.0,9,-999.0000,9,   -999.0,  9,     8.18,2,   -999.0,  -999.00,9,  -999.00,9,     0.08,2,     0.07,2,   -999.0,-999.0000, -999,9,   75,  20.4707,  24.4444,   -999.0,9
       KS01-05,  137E,KS-0097,  1,     19,02-16025,2,20010521,0849, 31.9865, 137.0063, 4241,    100.1,  20.0018,  34.7559,2,   -999.0,9,  34.7569,2,    224.0,2,  -999.00,9,  -999.00,9,     0.10,2,     0.08,2,     0.03,2, -999.000,9, -999.000,9,  -999.00,9,   1970.7,3,   -999.0,9,-999.0000,9,   -999.0,  9,     8.17,2,   -999.0,  -999.00,9,  -999.00,9,     0.28,2,     0.46,2,   -999.0,-999.0000, -999,9,   99,  19.9834,  24.5799,   -999.0,9
       KS01-05,  137E,KS-0097,  1,     18,02-16024,2,20010521,0847, 31.9865, 137.0063, 4241,    124.5,  19.7835,  34.7757,2,   -999.0,9,  34.7765,2,    219.0,2,  -999.00,9,  -999.00,9,     0.49,2,     0.38,2,     0.05,2, -999.000,9, -999.000,9,  -999.00,9,   1974.3,3,   -999.0,9,-999.0000,9,   -999.0,  9,     8.16,2,   -999.0,  -999.00,9,  -999.00,9,     0.14,2,     0.25,2,   -999.0,-999.0000, -999,9,  124,  19.7607,  24.6534,   -999.0,9
       KS01-05,  137E,KS-0097,  1,     17,02-16023,2,20010521,0846, 31.9865, 137.0063, 4241,    151.1,  19.5671,  34.7897,2,   -999.0,9,  34.7885,2,    212.0,2,  -999.00,9,  -999.00,9,     1.46,2,     0.05,2,     0.10,2, -999.000,9, -999.000,9,  -999.00,9,   1978.5,3,   -999.0,9,-999.0000,9,   -999.0,  9,     8.15,2,   -999.0,  -999.00,9,  -999.00,9,     0.06,2,     0.09,2,   -999.0,-999.0000, -999,9,  150,  19.5396,  24.7217,   -999.0,9
       KS01-05,  137E,KS-0097,  1,     16,02-16022,2,20010521,0844, 31.9865, 137.0063, 4241,    200.1,  19.1793,  34.7871,2,   -999.0,9,  34.7870,2,    211.0,2,  -999.00,9,  -999.00,9,     1.95,2,     0.02,2,     0.13,2, -999.000,9, -999.000,9,  -999.00,9,   1984.4,3,   -999.0,9,-999.0000,9,   -999.0,  9,     8.14,2,   -999.0,  -999.00,9,  -999.00,9,     0.00,2,     0.02,2,   -999.0,-999.0000, -999,9,  199,  19.1434,  24.8218,   -999.0,9
       KS01-05,  137E,KS-0097,  1,     15,02-16021,2,20010521,0842, 31.9865, 137.0063, 4241,    252.6,  18.4256,  34.7918,2,   -999.0,9,  34.7917,2,    194.0,2,  -999.00,9,  -999.00,9,     4.68,2,     0.00,2,     0.28,2, -999.000,9, -999.000,9,  -999.00,9,   2013.8,3,   -999.0,9,-999.0000,9,   -999.0,  9,     8.10,2,   -999.0,  -999.00,9,  -999.00,9,     0.00,2,     0.01,2,   -999.0,-999.0000, -999,9,  251,  18.3815,  25.0180,   -999.0,9
       KS01-05,  137E,KS-0097,  1,     14,02-16020,2,20010521,0840, 31.9865, 137.0063, 4241,    301.7,  17.6288,  34.7686,2,   -999.0,9,  34.7689,2,    192.0,2,  -999.00,9,  -999.00,9,     6.05,2,     0.00,2,     0.37,2, -999.000,9, -999.000,9,  -999.00,9,   -999.0,9,   -999.0,9,-999.0000,9,   -999.0,  9,  -999.00,9,   -999.0,  -999.00,9,  -999.00,9,     0.00,2,     0.01,2,   -999.0,-999.0000, -999,9,  299,  17.5777,  25.1980,   -999.0,9
       KS01-05,  137E,KS-0097,  1,     13,02-16019,2,20010521,0838, 31.9865, 137.0063, 4241,    401.9,  15.7913,  34.6765,2,   -999.0,9,  34.6773,2,    185.0,2,  -999.00,9,  -999.00,9,     9.46,2,     0.00,2,     0.59,2, -999.000,9, -999.000,9,  -999.00,9,   -999.0,9,   -999.0,9,-999.0000,9,   -999.0,  9,  -999.00,9,   -999.0,  -999.00,9,  -999.00,9,  -999.00,9,  -999.00,9,   -999.0,-999.0000, -999,9,  399,  15.7280,  25.5605,   -999.0,9
       KS01-05,  137E,KS-0097,  1,     12,02-16018,2,20010521,0835, 31.9865, 137.0063, 4241,    503.2,  13.2106,  34.4921,2,   -999.0,9,  34.4923,2,    172.0,2,  -999.00,9,  -999.00,9,    15.11,2,     0.00,2,     0.95,2, -999.000,9, -999.000,9,  -999.00,9,   -999.0,9,   -999.0,9,-999.0000,9,   -999.0,  9,  -999.00,9,   -999.0,  -999.00,9,  -999.00,9,  -999.00,9,  -999.00,9,   -999.0,-999.0000, -999,9,  499,  13.1402,  25.9712,   -999.0,9
       KS01-05,  137E,KS-0097,  1,     11,02-16017,2,20010521,0832, 31.9865, 137.0063, 4241,    603.0,  10.0391,  34.2811,2,   -999.0,9,  34.2829,2,    155.0,2,  -999.00,9,  -999.00,9,    22.70,2,     0.00,2,     1.47,2, -999.000,9, -999.000,9,  -999.00,9,   -999.0,9,   -999.0,9,-999.0000,9,   -999.0,  9,  -999.00,9,   -999.0,  -999.00,9,  -999.00,9,  -999.00,9,  -999.00,9,   -999.0,-999.0000, -999,9,  598,   9.9681,  26.3960,   -999.0,9
       KS01-05,  137E,KS-0097,  1,     10,02-16016,2,20010521,0830, 31.9865, 137.0063, 4241,    705.8,   7.5066,  34.1888,2,   -999.0,9,  34.1889,2,    121.0,2,  -999.00,9,  -999.00,9,    30.29,2,     0.00,2,     2.01,2, -999.000,9, -999.000,9,  -999.00,9,   -999.0,9,   -999.0,9,-999.0000,9,   -999.0,  9,  -999.00,9,   -999.0,  -999.00,9,  -999.00,9,  -999.00,9,  -999.00,9,   -999.0,-999.0000, -999,9,  700,   7.4363,  26.7187,   -999.0,9
       KS01-05,  137E,KS-0097,  1,      9,02-16015,2,20010521,0827, 31.9865, 137.0063, 4241,    806.6,   6.1477,  34.2352,2,   -999.0,9,  34.2346,2,    113.0,4,  -999.00,9,  -999.00,9,    34.67,2,     0.00,2,     2.33,2, -999.000,9, -999.000,9,  -999.00,9,   -999.0,9,   -999.0,9,-999.0000,9,   -999.0,  9,  -999.00,9,   -999.0,  -999.00,9,  -999.00,9,  -999.00,9,  -999.00,9,   -999.0,-999.0000, -999,9,  799,   6.0749,  26.9388,   -999.0,9
       KS01-05,  137E,KS-0097,  1,      8,02-16014,2,20010521,0825, 31.9865, 137.0063, 4241,    909.1,   5.1318,  34.2978,2,   -999.0,9,  34.2985,2,     79.0,2,  -999.00,9,  -999.00,9,    37.87,2,     0.00,2,     2.56,2, -999.000,9, -999.000,9,  -999.00,9,   -999.0,9,   -999.0,9,-999.0000,9,   -999.0,  9,  -999.00,9,   -999.0,  -999.00,9,  -999.00,9,  -999.00,9,  -999.00,9,   -999.0,-999.0000, -999,9,  901,   5.0561,  27.1121,   -999.0,9
       KS01-05,  137E,KS-0097,  1,      7,02-16013,2,20010521,0822, 31.9865, 137.0063, 4241,   1008.7,   4.4320,  34.3771,2,   -999.0,9,  34.3751,2,     72.0,2,  -999.00,9,  -999.00,9,    39.33,2,     0.00,2,     2.66,2, -999.000,9, -999.000,9,  -999.00,9,   -999.0,9,   -999.0,9,-999.0000,9,   -999.0,  9,  -999.00,9,   -999.0,  -999.00,9,  -999.00,9,  -999.00,9,  -999.00,9,   -999.0,-999.0000, -999,9,  999,   4.3525,  27.2535,   -999.0,9
       KS01-05,  137E,KS-0097,  1,      6,02-16012,2,20010521,0817, 31.9865, 137.0063, 4241,   1259.8,   3.1784,  34.4560,2,   -999.0,9,  34.4551,2,     66.0,2,  -999.00,9,  -999.00,9,    41.17,2,     0.00,2,     2.79,2, -999.000,9, -999.000,9,  -999.00,9,   -999.0,9,   -999.0,9,-999.0000,9,   -999.0,  9,  -999.00,9,   -999.0,  -999.00,9,  -999.00,9,  -999.00,9,  -999.00,9,   -999.0,-999.0000, -999,9, 1247,   3.0887,  27.4427,   -999.0,9
       KS01-05,  137E,KS-0097,  1,      5,02-16011,2,20010521,0812, 31.9865, 137.0063, 4241,   1515.4,   2.6267,  34.5209,2,   -999.0,9,  34.5199,2,     78.0,2,  -999.00,9,  -999.00,9,    41.07,2,     0.00,2,     2.73,2, -999.000,9, -999.000,9,  -999.00,9,   -999.0,9,   -999.0,9,-999.0000,9,   -999.0,  9,  -999.00,9,   -999.0,  -999.00,9,  -999.00,9,  -999.00,9,  -999.00,9,   -999.0,-999.0000, -999,9, 1499,   2.5221,  27.5450,   -999.0,9
       KS01-05,  137E,KS-0097,  1,      4,02-16010,2,20010521,0804, 31.9865, 137.0063, 4241,   2022.6,   2.0245,  34.6023,2,   -999.0,9,  34.6011,2,    106.0,2,  -999.00,9,  -999.00,9,    39.70,2,     0.00,2,     2.61,2, -999.000,9, -999.000,9,  -999.00,9,   -999.0,9,   -999.0,9,-999.0000,9,   -999.0,  9,  -999.00,9,   -999.0,  -999.00,9,  -999.00,9,  -999.00,9,  -999.00,9,   -999.0,-999.0000, -999,9, 1999,   1.8859,  27.6620,   -999.0,9
       KS01-05,  137E,KS-0097,  1,      3,02-16009,9,20010521,0802, 31.9865, 137.0063, 4241,   2035.9,   2.0179,  34.6033,2,   -999.0,9,-999.0000,9,   -999.0,9,  -999.00,9,  -999.00,9,  -999.00,9,  -999.00,9,  -999.00,9, -999.000,9, -999.000,9,  -999.00,9,   -999.0,9,   -999.0,9,-999.0000,9,   -999.0,  9,  -999.00,9,   -999.0,  -999.00,9,  -999.00,9,  -999.00,9,  -999.00,9,   -999.0,-999.0000, -999,9, 2012,   1.8783,  27.6634,   -999.0,9
       KS01-05,  137E,KS-0097,  1,      2,02-16008,9,20010521,0802, 31.9865, 137.0063, 4241,   2036.0,   2.0182,  34.6033,2,   -999.0,9,-999.0000,9,   -999.0,9,  -999.00,9,  -999.00,9,  -999.00,9,  -999.00,9,  -999.00,9, -999.000,9, -999.000,9,  -999.00,9,   -999.0,9,   -999.0,9,-999.0000,9,   -999.0,  9,  -999.00,9,   -999.0,  -999.00,9,  -999.00,9,  -999.00,9,  -999.00,9,   -999.0,-999.0000, -999,9, 2012,   1.8785,  27.6634,   -999.0,9
       KS01-05,  137E,KS-0097,  1,      1,02-16007,9,20010521,0802, 31.9865, 137.0063, 4241,   2036.9,   2.0196,  34.6031,2,   -999.0,9,-999.0000,9,   -999.0,9,  -999.00,9,  -999.00,9,  -999.00,9,  -999.00,9,  -999.00,9, -999.000,9, -999.000,9,  -999.00,9,   -999.0,9,   -999.0,9,-999.0000,9,   -999.0,  9,  -999.00,9,   -999.0,  -999.00,9,  -999.00,9,  -999.00,9,  -999.00,9,   -999.0,-999.0000, -999,9, 2013,   1.8799,  27.6631,   -999.0,9