BOTTLE,20130510GEMDJMAYT
EXPOCODE,SECT_ID,STNNBR,CASTNO,SAMPNO,BTLNBR,BTLNBR_FLAG_W,DATE,TIME,LATITUDE,LONGITUDE,DEPTH,CTDPRS,CTDTMP,CTDSAL,CTDSAL_FLAG_W,CTDOXY,CTDOXY_FLAG_W,SALNTY,SALNTY_FLAG_W,OXYGEN,OXYGEN_FLAG_W,SILCAT,SILCAT_FLAG_W,NITRAT,NITRAT_FLAG_W,NO2+NO3,NO2+NO3_FLAG_W,NITRIT,NITRIT_FLAG_W,PHSPHT,PHSPHT_FLAG_W,CFC-11,CFC-11_FLAG_W,CFC-12,CFC-12_FLAG_W,DELC13,DELC13_FLAG_W,TCARBN,TCARBN_FLAG_W,ALKALI,ALKALI_FLAG_W,PH,PH_FLAG_W,PH_TMP,PH_SCALE,PH_NBS,PH_NBS_FLAG_W,C13ERR,TOTALP,TOTALP_FLAG_W,AMMONI,AMMONI_FLAG_W,CHLORA,CHLORA_FLAG_W,PPHYTN,PPHYTN_FLAG_W,REVPRS,REVTMP,DEPTH_,DEPTH_FLAG,CTDDEP,THETA,SIGTHT,DOC,DOC_FLAG_W
,,,,,,,GMT,GMT,,,METER,DBAR,ITS-90,PSS-78,,UMOL/KG,,PSS-78,,UMOL/KG,,UMOL/KG,,UMOL/KG,,UMOL/KG,,UMOL/KG,,UMOL/KG,,PMOL/KG,,PMOL/KG,,/MILLE,,UMOL/KG,,UMOL/KG,,25_DEG_C,,DEG_C,,,,/MILLE,UMOL/KG,,UMOL/KG,,UG/L,,UG/L,,DBAR,ITS-90,METERS,,METERS,DEG_C,,UMOL/L,
       KS01-05,  NONE,KS-0090,  1,     24,02-16030,2,20010511,0323, 29.4960, 135.2528, 4455,      4.4,  21.5928,  34.5926,2,   -999.0,9,  34.5918,2,    219.0,3,  -999.00,9,  -999.00,9,     0.00,2,     0.00,2,     0.02,2, -999.000,9, -999.000,9,  -999.00,9,   1951.8,3,   -999.0,9,-999.0000,9,   -999.0,  9,     8.17,2,   -999.0,  -999.00,9,  -999.00,9,     0.10,2,     0.05,2,   -999.0,-999.0000, -999,9,    4,  21.5919,  24.0217,   -999.0,9
       KS01-05,  NONE,KS-0090,  1,     23,02-16029,2,20010511,0322, 29.4960, 135.2528, 4455,      9.4,  21.5799,  34.5912,2,   -999.0,9,  34.5912,2,    221.0,3,  -999.00,9,  -999.00,9,     0.00,2,     0.00,2,     0.03,2, -999.000,9, -999.000,9,  -999.00,9,   1952.4,3,   -999.0,9,-999.0000,9,   -999.0,  9,     8.17,2,   -999.0,  -999.00,9,  -999.00,9,     0.12,2,     0.05,2,   -999.0,-999.0000, -999,9,    9,  21.5781,  24.0244,   -999.0,9
       KS01-05,  NONE,KS-0090,  1,     22,02-16028,2,20010511,0320, 29.4960, 135.2528, 4455,     24.4,  20.8810,  34.6529,2,   -999.0,9,  34.6625,4,    225.0,3,  -999.00,9,  -999.00,9,     0.00,2,     0.00,2,     0.02,2, -999.000,9, -999.000,9,  -999.00,9,   1962.4,3,   -999.0,9,-999.0000,9,   -999.0,  9,     8.17,2,   -999.0,  -999.00,9,  -999.00,9,     0.14,2,     0.09,2,   -999.0,-999.0000, -999,9,   24,  20.8764,  24.2632,   -999.0,9
       KS01-05,  NONE,KS-0090,  1,     21,02-16027,2,20010511,0316, 29.4960, 135.2528, 4455,     50.4,  20.5713,  34.7108,2,   -999.0,9,  34.7158,4,    225.0,3,  -999.00,9,  -999.00,9,     0.00,2,     0.00,2,     0.01,2, -999.000,9, -999.000,9,  -999.00,9,   1965.4,3,   -999.0,9,-999.0000,9,   -999.0,  9,     8.16,2,   -999.0,  -999.00,9,  -999.00,9,     0.31,2,     0.24,2,   -999.0,-999.0000, -999,9,   50,  20.5618,  24.3920,   -999.0,9
       KS01-05,  NONE,KS-0090,  1,     20,02-16026,2,20010511,0315, 29.4960, 135.2528, 4455,     75.7,  20.1027,  34.7474,2,   -999.0,9,  34.7467,2,    225.0,3,  -999.00,9,  -999.00,9,     0.00,2,     0.03,2,     0.03,2, -999.000,9, -999.000,9,  -999.00,9,   1969.3,3,   -999.0,9,-999.0000,9,   -999.0,  9,     8.15,2,   -999.0,  -999.00,9,  -999.00,9,     0.24,2,     0.27,2,   -999.0,-999.0000, -999,9,   75,  20.0887,  24.5457,   -999.0,9
       KS01-05,  NONE,KS-0090,  1,     19,02-16025,2,20010511,0313, 29.4960, 135.2528, 4455,     99.6,  19.8533,  34.7730,2,   -999.0,9,  34.7724,2,    217.0,3,  -999.00,9,  -999.00,9,     0.78,2,     0.34,2,     0.08,2, -999.000,9, -999.000,9,  -999.00,9,   1978.0,3,   -999.0,9,-999.0000,9,   -999.0,  9,     8.15,2,   -999.0,  -999.00,9,  -999.00,9,     0.02,2,     0.04,2,   -999.0,-999.0000, -999,9,   99,  19.8350,  24.6319,   -999.0,9
       KS01-05,  NONE,KS-0090,  1,     18,02-16024,2,20010511,0312, 29.4960, 135.2528, 4455,    124.9,  19.5907,  34.7784,2,   -999.0,9,  34.7773,2,    217.0,3,  -999.00,9,  -999.00,9,     1.07,2,     0.03,2,     0.08,2, -999.000,9, -999.000,9,  -999.00,9,   1984.0,3,   -999.0,9,-999.0000,9,   -999.0,  9,     8.15,2,   -999.0,  -999.00,9,  -999.00,9,     0.04,2,     0.06,2,   -999.0,-999.0000, -999,9,  124,  19.5680,  24.7057,   -999.0,9
       KS01-05,  NONE,KS-0090,  1,     17,02-16023,9,20010511,0311, 29.4960, 135.2528, 4455,    145.7,  19.4573,  34.7806,2,   -999.0,9,-999.0000,9,   -999.0,9,  -999.00,9,  -999.00,9,  -999.00,9,  -999.00,9,  -999.00,9, -999.000,9, -999.000,9,  -999.00,9,   -999.0,9,   -999.0,9,-999.0000,9,   -999.0,  9,  -999.00,9,   -999.0,  -999.00,9,  -999.00,9,  -999.00,9,  -999.00,9,   -999.0,-999.0000, -999,9,  145,  19.4309,  24.7428,   -999.0,9
       KS01-05,  NONE,KS-0090,  1,     16,02-16022,2,20010511,0310, 29.4960, 135.2528, 4455,    147.1,  19.4307,  34.7831,2,   -999.0,9,  34.7826,2,    214.0,3,  -999.00,9,  -999.00,9,     1.37,2,     0.01,2,     0.11,2, -999.000,9, -999.000,9,  -999.00,9,   1984.0,3,   -999.0,9,-999.0000,9,   -999.0,  9,     8.14,2,   -999.0,  -999.00,9,  -999.00,9,     0.02,2,     0.03,2,   -999.0,-999.0000, -999,9,  146,  19.4041,  24.7517,   -999.0,9
       KS01-05,  NONE,KS-0090,  1,     15,02-16021,2,20010511,0309, 29.4960, 135.2528, 4455,    199.0,  19.1417,  34.7842,2,   -999.0,9,  34.7844,2,    212.0,3,  -999.00,9,  -999.00,9,     1.95,2,     0.00,2,     0.14,2, -999.000,9, -999.000,9,  -999.00,9,   1987.3,3,   -999.0,9,-999.0000,9,   -999.0,  9,     8.13,2,   -999.0,  -999.00,9,  -999.00,9,     0.00,2,     0.02,2,   -999.0,-999.0000, -999,9,  198,  19.1061,  24.8291,   -999.0,9
       KS01-05,  NONE,KS-0090,  1,     14,02-16020,2,20010511,0306, 29.4960, 135.2528, 4455,    252.3,  18.6268,  34.7786,2,   -999.0,9,  34.7787,2,    201.0,3,  -999.00,9,  -999.00,9,     3.61,2,     0.00,2,     0.23,2, -999.000,9, -999.000,9,  -999.00,9,   2007.7,6,   -999.0,9,-999.0000,9,   -999.0,  9,     8.10,2,   -999.0,  -999.00,9,  -999.00,9,     0.00,2,     0.01,2,   -999.0,-999.0000, -999,9,  250,  18.5824,  24.9576,   -999.0,9
       KS01-05,  NONE,KS-0090,  1,     13,02-16019,2,20010511,0305, 29.4960, 135.2528, 4455,    300.7,  17.8579,  34.7673,2,   -999.0,9,  34.7667,2,    194.0,3,  -999.00,9,  -999.00,9,     5.46,2,     0.00,2,     0.34,2, -999.000,9, -999.000,9,  -999.00,9,   -999.0,9,   -999.0,9,-999.0000,9,   -999.0,  9,     8.07,2,   -999.0,  -999.00,9,  -999.00,9,     0.00,2,     0.01,2,   -999.0,-999.0000, -999,9,  298,  17.8065,  25.1413,   -999.0,9
       KS01-05,  NONE,KS-0090,  1,     12,02-16018,2,20010511,0302, 29.4960, 135.2528, 4455,    403.5,  16.2186,  34.7038,2,   -999.0,9,  34.6995,2,    185.0,3,  -999.00,9,  -999.00,9,     8.87,2,     0.00,2,     0.56,2, -999.000,9, -999.000,9,  -999.00,9,   -999.0,9,   -999.0,9,-999.0000,9,   -999.0,  9,     8.02,2,   -999.0,  -999.00,9,  -999.00,9,  -999.00,9,  -999.00,9,   -999.0,-999.0000, -999,9,  400,  16.1539,  25.4845,   -999.0,9
       KS01-05,  NONE,KS-0090,  1,     11,02-16017,2,20010511,0300, 29.4960, 135.2528, 4455,    503.5,  13.7700,  34.5321,2,   -999.0,9,  34.5317,2,    177.0,3,  -999.00,9,  -999.00,9,    13.84,2,     0.00,2,     0.89,2, -999.000,9, -999.000,9,  -999.00,9,   -999.0,9,   -999.0,9,-999.0000,9,   -999.0,  9,     7.95,2,   -999.0,  -999.00,9,  -999.00,9,  -999.00,9,  -999.00,9,   -999.0,-999.0000, -999,9,  499,  13.6976,  25.8884,   -999.0,9
       KS01-05,  NONE,KS-0090,  1,     10,02-16016,2,20010511,0257, 29.4960, 135.2528, 4455,    602.2,  11.2481,  34.3809,2,   -999.0,9,  34.3872,4,    157.0,3,  -999.00,9,  -999.00,9,    20.17,2,     0.00,2,     1.33,2, -999.000,9, -999.000,9,  -999.00,9,   -999.0,9,   -999.0,9,-999.0000,9,   -999.0,  9,     7.86,2,   -999.0,  -999.00,9,  -999.00,9,  -999.00,9,  -999.00,9,   -999.0,-999.0000, -999,9,  597,  11.1719,  26.2622,   -999.0,9
       KS01-05,  NONE,KS-0090,  1,      9,02-16015,2,20010511,0254, 29.4960, 135.2528, 4455,    706.0,   8.4902,  34.2688,2,   -999.0,9,  34.2709,2,    128.0,3,  -999.00,9,  -999.00,9,    27.96,2,     0.00,2,     1.87,2, -999.000,9, -999.000,9,  -999.00,9,   -999.0,9,   -999.0,9,-999.0000,9,   -999.0,  9,     7.73,2,   -999.0,  -999.00,9,  -999.00,9,  -999.00,9,  -999.00,9,   -999.0,-999.0000, -999,9,  700,   8.4147,  26.6370,   -999.0,9
       KS01-05,  NONE,KS-0090,  1,      8,02-16014,2,20010511,0251, 29.4960, 135.2528, 4455,    804.6,   6.4952,  34.2407,2,   -999.0,9,  34.2379,2,    101.0,3,  -999.00,9,  -999.00,9,    33.79,2,     0.00,2,     2.28,2, -999.000,9, -999.000,9,  -999.00,9,   -999.0,9,   -999.0,9,-999.0000,9,   -999.0,  9,     7.63,2,   -999.0,  -999.00,9,  -999.00,9,  -999.00,9,  -999.00,9,   -999.0,-999.0000, -999,9,  798,   6.4205,  26.8985,   -999.0,9
       KS01-05,  NONE,KS-0090,  1,      7,02-16013,2,20010511,0248, 29.4960, 135.2528, 4455,    908.8,   5.4275,  34.2827,2,   -999.0,9,  34.2819,2,     83.0,2,  -999.00,9,  -999.00,9,    37.19,2,     0.00,2,     2.52,2, -999.000,9, -999.000,9,  -999.00,9,   -999.0,9,   -999.0,9,-999.0000,9,   -999.0,  9,     7.58,2,   -999.0,  -999.00,9,  -999.00,9,  -999.00,9,  -999.00,9,   -999.0,-999.0000, -999,9,  901,   5.3498,  27.0656,   -999.0,9
       KS01-05,  NONE,KS-0090,  1,      6,02-16012,2,20010511,0246, 29.4960, 135.2528, 4455,   1005.5,   4.6511,  34.3317,2,   -999.0,9,  34.3337,2,     73.0,2,  -999.00,9,  -999.00,9,    39.04,2,     0.00,2,     2.66,2, -999.000,9, -999.000,9,  -999.00,9,   -999.0,9,   -999.0,9,-999.0000,9,   -999.0,  9,     7.55,2,   -999.0,  -999.00,9,  -999.00,9,  -999.00,9,  -999.00,9,   -999.0,-999.0000, -999,9,  996,   4.5702,  27.1938,   -999.0,9
       KS01-05,  NONE,KS-0090,  1,      5,02-16011,2,20010511,0238, 29.4960, 135.2528, 4455,   1263.4,   3.3287,  34.4428,2,   -999.0,9,  34.4410,2,     66.0,2,  -999.00,9,  -999.00,9,    41.17,2,     0.00,2,     2.81,2, -999.000,9, -999.000,9,  -999.00,9,   -999.0,9,   -999.0,9,-999.0000,9,   -999.0,  9,     7.53,2,   -999.0,  -999.00,9,  -999.00,9,  -999.00,9,  -999.00,9,   -999.0,-999.0000, -999,9, 1251,   3.2372,  27.4183,   -999.0,9
       KS01-05,  NONE,KS-0090,  1,      4,02-16010,2,20010511,0232, 29.4960, 135.2528, 4455,   1514.3,   2.7459,  34.5044,2,   -999.0,9,  34.5036,2,     75.0,2,  -999.00,9,  -999.00,9,    41.36,2,     0.00,2,     2.78,2, -999.000,9, -999.000,9,  -999.00,9,   -999.0,9,   -999.0,9,-999.0000,9,   -999.0,  9,     7.54,2,   -999.0,  -999.00,9,  -999.00,9,  -999.00,9,  -999.00,9,   -999.0,-999.0000, -999,9, 1499,   2.6400,  27.5216,   -999.0,9
       KS01-05,  NONE,KS-0090,  1,      3,02-16009,2,20010511,0223, 29.4960, 135.2528, 4455,   2022.8,   2.0870,  34.5922,2,   -999.0,9,  34.5908,2,    102.0,2,  -999.00,9,  -999.00,9,    40.09,2,     0.00,2,     2.67,2, -999.000,9, -999.000,9,  -999.00,9,   -999.0,9,   -999.0,9,-999.0000,9,   -999.0,  9,     7.60,2,   -999.0,  -999.00,9,  -999.00,9,  -999.00,9,  -999.00,9,   -999.0,-999.0000, -999,9, 1999,   1.9474,  27.6491,   -999.0,9
       KS01-05,  NONE,KS-0090,  1,      2,02-16008,9,20010511,0223, 29.4960, 135.2528, 4455,   2022.6,   2.0873,  34.5922,2,   -999.0,9,-999.0000,9,   -999.0,9,  -999.00,9,  -999.00,9,  -999.00,9,  -999.00,9,  -999.00,9, -999.000,9, -999.000,9,  -999.00,9,   -999.0,9,   -999.0,9,-999.0000,9,   -999.0,  9,  -999.00,9,   -999.0,  -999.00,9,  -999.00,9,  -999.00,9,  -999.00,9,   -999.0,-999.0000, -999,9, 1999,   1.9478,  27.6491,   -999.0,9
       KS01-05,  NONE,KS-0090,  1,      1,02-16007,9,20010511,0223, 29.4960, 135.2528, 4455,   2022.6,   2.0871,  34.5923,2,   -999.0,9,-999.0000,9,   -999.0,9,  -999.00,9,  -999.00,9,  -999.00,9,  -999.00,9,  -999.00,9, -999.000,9, -999.000,9,  -999.00,9,   -999.0,9,   -999.0,9,-999.0000,9,   -999.0,  9,  -999.00,9,   -999.0,  -999.00,9,  -999.00,9,  -999.00,9,  -999.00,9,   -999.0,-999.0000, -999,9, 1999,   1.9476,  27.6491,   -999.0,9