BOTTLE,20130510GEMDJMAYT
EXPOCODE,SECT_ID,STNNBR,CASTNO,SAMPNO,BTLNBR,BTLNBR_FLAG_W,DATE,TIME,LATITUDE,LONGITUDE,DEPTH,CTDPRS,CTDTMP,CTDSAL,CTDSAL_FLAG_W,CTDOXY,CTDOXY_FLAG_W,SALNTY,SALNTY_FLAG_W,OXYGEN,OXYGEN_FLAG_W,SILCAT,SILCAT_FLAG_W,NITRAT,NITRAT_FLAG_W,NO2+NO3,NO2+NO3_FLAG_W,NITRIT,NITRIT_FLAG_W,PHSPHT,PHSPHT_FLAG_W,CFC-11,CFC-11_FLAG_W,CFC-12,CFC-12_FLAG_W,DELC13,DELC13_FLAG_W,TCARBN,TCARBN_FLAG_W,ALKALI,ALKALI_FLAG_W,PH,PH_FLAG_W,PH_TMP,PH_SCALE,PH_NBS,PH_NBS_FLAG_W,C13ERR,TOTALP,TOTALP_FLAG_W,AMMONI,AMMONI_FLAG_W,CHLORA,CHLORA_FLAG_W,PPHYTN,PPHYTN_FLAG_W,REVPRS,REVTMP,DEPTH_,DEPTH_FLAG,CTDDEP,THETA,SIGTHT,DOC,DOC_FLAG_W
,,,,,,,GMT,GMT,,,METER,DBAR,ITS-90,PSS-78,,UMOL/KG,,PSS-78,,UMOL/KG,,UMOL/KG,,UMOL/KG,,UMOL/KG,,UMOL/KG,,UMOL/KG,,PMOL/KG,,PMOL/KG,,/MILLE,,UMOL/KG,,UMOL/KG,,25_DEG_C,,DEG_C,,,,/MILLE,UMOL/KG,,UMOL/KG,,UG/L,,UG/L,,DBAR,ITS-90,METERS,,METERS,DEG_C,,UMOL/L,
       KS01-05,  NONE,KS-0139,  1,     24,02-16030,2,20010612,0936, 26.0105, 133.0090, 3277,     11.1,  27.7496,  34.7475,2,   -999.0,9,  34.7500,2,   -999.0,9,  -999.00,9,  -999.00,9,  -999.00,9,  -999.00,9,  -999.00,9, -999.000,9, -999.000,9,  -999.00,9,   -999.0,9,   -999.0,9,-999.0000,9,   -999.0,  9,  -999.00,9,   -999.0,  -999.00,9,  -999.00,9,  -999.00,9,  -999.00,9,   -999.0,-999.0000, -999,9,   11,  27.7470,  22.2871,   -999.0,9
       KS01-05,  NONE,KS-0139,  1,     23,02-16029,4,20010612,0936, 26.0105, 133.0090, 3277,     10.8,  27.7436,  34.7477,2,   -999.0,9,-999.0000,9,   -999.0,9,  -999.00,9,  -999.00,9,  -999.00,9,  -999.00,9,  -999.00,9, -999.000,9, -999.000,9,  -999.00,9,   -999.0,9,   -999.0,9,-999.0000,9,   -999.0,  9,  -999.00,9,   -999.0,  -999.00,9,  -999.00,9,  -999.00,9,  -999.00,9,   -999.0,-999.0000, -999,9,   11,  27.7411,  22.2892,   -999.0,9
       KS01-05,  NONE,KS-0139,  1,     22,02-16028,4,20010612,0935, 26.0105, 133.0090, 3277,     24.8,  27.4909,  34.7455,2,   -999.0,9,-999.0000,9,   -999.0,9,  -999.00,9,  -999.00,9,  -999.00,9,  -999.00,9,  -999.00,9, -999.000,9, -999.000,9,  -999.00,9,   -999.0,9,   -999.0,9,-999.0000,9,   -999.0,  9,  -999.00,9,   -999.0,  -999.00,9,  -999.00,9,  -999.00,9,  -999.00,9,   -999.0,-999.0000, -999,9,   25,  27.4851,  22.3704,   -999.0,9
       KS01-05,  NONE,KS-0139,  1,     21,02-16027,2,20010612,0931, 26.0105, 133.0090, 3277,     49.7,  23.6517,  34.7716,2,   -999.0,9,  34.7834,4,   -999.0,9,  -999.00,9,  -999.00,9,  -999.00,9,  -999.00,9,  -999.00,9, -999.000,9, -999.000,9,  -999.00,9,   -999.0,9,   -999.0,9,-999.0000,9,   -999.0,  9,  -999.00,9,   -999.0,  -999.00,9,  -999.00,9,  -999.00,9,  -999.00,9,   -999.0,-999.0000, -999,9,   49,  23.6414,  23.5740,   -999.0,9
       KS01-05,  NONE,KS-0139,  1,     20,02-16026,2,20010612,0930, 26.0105, 133.0090, 3277,     75.2,  21.9014,  34.7960,2,   -999.0,9,  34.8013,4,   -999.0,9,  -999.00,9,  -999.00,9,  -999.00,9,  -999.00,9,  -999.00,9, -999.000,9, -999.000,9,  -999.00,9,   -999.0,9,   -999.0,9,-999.0000,9,   -999.0,  9,  -999.00,9,   -999.0,  -999.00,9,  -999.00,9,  -999.00,9,  -999.00,9,   -999.0,-999.0000, -999,9,   75,  21.8866,  24.0945,   -999.0,9
       KS01-05,  NONE,KS-0139,  1,     19,02-16025,2,20010612,0929, 26.0105, 133.0090, 3277,    100.8,  20.9570,  34.8172,2,   -999.0,9,  34.8198,2,   -999.0,9,  -999.00,9,  -999.00,9,  -999.00,9,  -999.00,9,  -999.00,9, -999.000,9, -999.000,9,  -999.00,9,   -999.0,9,   -999.0,9,-999.0000,9,   -999.0,  9,  -999.00,9,   -999.0,  -999.00,9,  -999.00,9,  -999.00,9,  -999.00,9,   -999.0,-999.0000, -999,9,  100,  20.9378,  24.3716,   -999.0,9
       KS01-05,  NONE,KS-0139,  1,     18,02-16024,2,20010612,0928, 26.0105, 133.0090, 3277,    126.2,  20.4624,  34.8234,2,   -999.0,9,  34.8233,2,   -999.0,9,  -999.00,9,  -999.00,9,  -999.00,9,  -999.00,9,  -999.00,9, -999.000,9, -999.000,9,  -999.00,9,   -999.0,9,   -999.0,9,-999.0000,9,   -999.0,  9,  -999.00,9,   -999.0,  -999.00,9,  -999.00,9,  -999.00,9,  -999.00,9,   -999.0,-999.0000, -999,9,  125,  20.4387,  24.5106,   -999.0,9
       KS01-05,  NONE,KS-0139,  1,     17,02-16023,2,20010612,0926, 26.0105, 133.0090, 3277,    150.2,  19.7346,  34.8145,2,   -999.0,9,  34.8172,2,   -999.0,9,  -999.00,9,  -999.00,9,  -999.00,9,  -999.00,9,  -999.00,9, -999.000,9, -999.000,9,  -999.00,9,   -999.0,9,   -999.0,9,-999.0000,9,   -999.0,  9,  -999.00,9,   -999.0,  -999.00,9,  -999.00,9,  -999.00,9,  -999.00,9,   -999.0,-999.0000, -999,9,  149,  19.7071,  24.6970,   -999.0,9
       KS01-05,  NONE,KS-0139,  1,     16,02-16022,2,20010612,0925, 26.0105, 133.0090, 3277,    201.4,  18.6349,  34.8057,2,   -999.0,9,  34.8054,2,   -999.0,9,  -999.00,9,  -999.00,9,  -999.00,9,  -999.00,9,  -999.00,9, -999.000,9, -999.000,9,  -999.00,9,   -999.0,9,   -999.0,9,-999.0000,9,   -999.0,  9,  -999.00,9,   -999.0,  -999.00,9,  -999.00,9,  -999.00,9,  -999.00,9,   -999.0,-999.0000, -999,9,  200,  18.5995,  24.9740,   -999.0,9
       KS01-05,  NONE,KS-0139,  1,     15,02-16021,2,20010612,0923, 26.0105, 133.0090, 3277,    251.8,  17.9732,  34.7882,2,   -999.0,9,  34.7889,2,   -999.0,9,  -999.00,9,  -999.00,9,  -999.00,9,  -999.00,9,  -999.00,9, -999.000,9, -999.000,9,  -999.00,9,   -999.0,9,   -999.0,9,-999.0000,9,   -999.0,  9,  -999.00,9,   -999.0,  -999.00,9,  -999.00,9,  -999.00,9,  -999.00,9,   -999.0,-999.0000, -999,9,  250,  17.9300,  25.1270,   -999.0,9
       KS01-05,  NONE,KS-0139,  1,     14,02-16020,2,20010612,0922, 26.0105, 133.0090, 3277,    302.4,  16.8813,  34.7432,2,   -999.0,9,  34.7441,2,   -999.0,9,  -999.00,9,  -999.00,9,  -999.00,9,  -999.00,9,  -999.00,9, -999.000,9, -999.000,9,  -999.00,9,   -999.0,9,   -999.0,9,-999.0000,9,   -999.0,  9,  -999.00,9,   -999.0,  -999.00,9,  -999.00,9,  -999.00,9,  -999.00,9,   -999.0,-999.0000, -999,9,  300,  16.8316,  25.3570,   -999.0,9
       KS01-05,  NONE,KS-0139,  1,     13,02-16019,2,20010612,0919, 26.0105, 133.0090, 3277,    402.7,  14.2508,  34.5613,2,   -999.0,9,  34.5598,2,   -999.0,9,  -999.00,9,  -999.00,9,  -999.00,9,  -999.00,9,  -999.00,9, -999.000,9, -999.000,9,  -999.00,9,   -999.0,9,   -999.0,9,-999.0000,9,   -999.0,  9,  -999.00,9,   -999.0,  -999.00,9,  -999.00,9,  -999.00,9,  -999.00,9,   -999.0,-999.0000, -999,9,  400,  14.1917,  25.8077,   -999.0,9
       KS01-05,  NONE,KS-0139,  1,     12,02-16018,2,20010612,0916, 26.0105, 133.0090, 3277,    503.5,  10.7219,  34.3072,2,   -999.0,9,  34.3068,2,   -999.0,9,  -999.00,9,  -999.00,9,  -999.00,9,  -999.00,9,  -999.00,9, -999.000,9, -999.000,9,  -999.00,9,   -999.0,9,   -999.0,9,-999.0000,9,   -999.0,  9,  -999.00,9,   -999.0,  -999.00,9,  -999.00,9,  -999.00,9,  -999.00,9,   -999.0,-999.0000, -999,9,  500,  10.6604,  26.2965,   -999.0,9
       KS01-05,  NONE,KS-0139,  1,     11,02-16017,2,20010612,0914, 26.0105, 133.0090, 3277,    605.1,   8.6405,  34.2120,2,   -999.0,9,  34.2128,2,   -999.0,9,  -999.00,9,  -999.00,9,  -999.00,9,  -999.00,9,  -999.00,9, -999.000,9, -999.000,9,  -999.00,9,   -999.0,9,   -999.0,9,-999.0000,9,   -999.0,  9,  -999.00,9,   -999.0,  -999.00,9,  -999.00,9,  -999.00,9,  -999.00,9,   -999.0,-999.0000, -999,9,  600,   8.5755,  26.5677,   -999.0,9
       KS01-05,  NONE,KS-0139,  1,     10,02-16016,2,20010612,0911, 26.0105, 133.0090, 3277,    705.2,   6.5028,  34.1618,2,   -999.0,9,  34.1621,2,   -999.0,9,  -999.00,9,  -999.00,9,  -999.00,9,  -999.00,9,  -999.00,9, -999.000,9, -999.000,9,  -999.00,9,   -999.0,9,   -999.0,9,-999.0000,9,   -999.0,  9,  -999.00,9,   -999.0,  -999.00,9,  -999.00,9,  -999.00,9,  -999.00,9,   -999.0,-999.0000, -999,9,  699,   6.4379,  26.8339,   -999.0,9
       KS01-05,  NONE,KS-0139,  1,      9,02-16015,2,20010612,0909, 26.0105, 133.0090, 3277,    806.2,   5.1860,  34.2073,2,   -999.0,9,  34.2079,2,   -999.0,9,  -999.00,9,  -999.00,9,  -999.00,9,  -999.00,9,  -999.00,9, -999.000,9, -999.000,9,  -999.00,9,   -999.0,9,   -999.0,9,-999.0000,9,   -999.0,  9,  -999.00,9,   -999.0,  -999.00,9,  -999.00,9,  -999.00,9,  -999.00,9,   -999.0,-999.0000, -999,9,  799,   5.1192,  27.0330,   -999.0,9
       KS01-05,  NONE,KS-0139,  1,      8,02-16014,2,20010612,0907, 26.0105, 133.0090, 3277,    908.0,   4.3549,  34.2853,2,   -999.0,9,  34.2864,2,   -999.0,9,  -999.00,9,  -999.00,9,  -999.00,9,  -999.00,9,  -999.00,9, -999.000,9, -999.000,9,  -999.00,9,   -999.0,9,   -999.0,9,-999.0000,9,   -999.0,  9,  -999.00,9,   -999.0,  -999.00,9,  -999.00,9,  -999.00,9,  -999.00,9,   -999.0,-999.0000, -999,9,  900,   4.2847,  27.1878,   -999.0,9
       KS01-05,  NONE,KS-0139,  1,      7,02-16013,2,20010612,0904, 26.0105, 133.0090, 3277,   1009.6,   3.8813,  34.3426,2,   -999.0,9,  34.3427,2,   -999.0,9,  -999.00,9,  -999.00,9,  -999.00,9,  -999.00,9,  -999.00,9, -999.000,9, -999.000,9,  -999.00,9,   -999.0,9,   -999.0,9,-999.0000,9,   -999.0,  9,  -999.00,9,   -999.0,  -999.00,9,  -999.00,9,  -999.00,9,  -999.00,9,   -999.0,-999.0000, -999,9, 1001,   3.8060,  27.2830,   -999.0,9
       KS01-05,  NONE,KS-0139,  1,      6,02-16012,2,20010612,0859, 26.0105, 133.0090, 3277,   1244.1,   3.0929,  34.4559,2,   -999.0,9,  34.2993,4,   -999.0,9,  -999.00,9,  -999.00,9,  -999.00,9,  -999.00,9,  -999.00,9, -999.000,9, -999.000,9,  -999.00,9,   -999.0,9,   -999.0,9,-999.0000,9,   -999.0,  9,  -999.00,9,   -999.0,  -999.00,9,  -999.00,9,  -999.00,9,  -999.00,9,   -999.0,-999.0000, -999,9, 1232,   3.0053,  27.4503,   -999.0,9
       KS01-05,  NONE,KS-0139,  1,      5,02-16011,2,20010612,0854, 26.0105, 133.0090, 3277,   1514.9,   2.5211,  34.5354,2,   -999.0,9,  34.5343,2,   -999.0,9,  -999.00,9,  -999.00,9,  -999.00,9,  -999.00,9,  -999.00,9, -999.000,9, -999.000,9,  -999.00,9,   -999.0,9,   -999.0,9,-999.0000,9,   -999.0,  9,  -999.00,9,   -999.0,  -999.00,9,  -999.00,9,  -999.00,9,  -999.00,9,   -999.0,-999.0000, -999,9, 1500,   2.4177,  27.5654,   -999.0,9
       KS01-05,  NONE,KS-0139,  1,      4,02-16010,9,20010612,0845, 26.0105, 133.0090, 3277,   2021.2,   2.0218,  34.6072,2,   -999.0,9,-999.0000,9,   -999.0,9,  -999.00,9,  -999.00,9,  -999.00,9,  -999.00,9,  -999.00,9, -999.000,9, -999.000,9,  -999.00,9,   -999.0,9,   -999.0,9,-999.0000,9,   -999.0,  9,  -999.00,9,   -999.0,  -999.00,9,  -999.00,9,  -999.00,9,  -999.00,9,   -999.0,-999.0000, -999,9, 1998,   1.8833,  27.6661,   -999.0,9
       KS01-05,  NONE,KS-0139,  1,      3,02-16009,9,20010612,0845, 26.0105, 133.0090, 3277,   2021.6,   2.0217,  34.6072,2,   -999.0,9,-999.0000,9,   -999.0,9,  -999.00,9,  -999.00,9,  -999.00,9,  -999.00,9,  -999.00,9, -999.000,9, -999.000,9,  -999.00,9,   -999.0,9,   -999.0,9,-999.0000,9,   -999.0,  9,  -999.00,9,   -999.0,  -999.00,9,  -999.00,9,  -999.00,9,  -999.00,9,   -999.0,-999.0000, -999,9, 1999,   1.8832,  27.6661,   -999.0,9
       KS01-05,  NONE,KS-0139,  1,      2,02-16008,9,20010612,0845, 26.0105, 133.0090, 3277,   2021.6,   2.0207,  34.6074,2,   -999.0,9,-999.0000,9,   -999.0,9,  -999.00,9,  -999.00,9,  -999.00,9,  -999.00,9,  -999.00,9, -999.000,9, -999.000,9,  -999.00,9,   -999.0,9,   -999.0,9,-999.0000,9,   -999.0,  9,  -999.00,9,   -999.0,  -999.00,9,  -999.00,9,  -999.00,9,  -999.00,9,   -999.0,-999.0000, -999,9, 1999,   1.8822,  27.6664,   -999.0,9
       KS01-05,  NONE,KS-0139,  1,      1,02-16007,2,20010612,0845, 26.0105, 133.0090, 3277,   2022.1,   2.0203,  34.6075,2,   -999.0,9,  34.6073,2,   -999.0,9,  -999.00,9,  -999.00,9,  -999.00,9,  -999.00,9,  -999.00,9, -999.000,9, -999.000,9,  -999.00,9,   -999.0,9,   -999.0,9,-999.0000,9,   -999.0,  9,  -999.00,9,   -999.0,  -999.00,9,  -999.00,9,  -999.00,9,  -999.00,9,   -999.0,-999.0000, -999,9, 1999,   1.8818,  27.6665,   -999.0,9