BOTTLE,20130510GEMDJMAYT
EXPOCODE,SECT_ID,STNNBR,CASTNO,SAMPNO,BTLNBR,BTLNBR_FLAG_W,DATE,TIME,LATITUDE,LONGITUDE,DEPTH,CTDPRS,CTDTMP,CTDSAL,CTDSAL_FLAG_W,CTDOXY,CTDOXY_FLAG_W,SALNTY,SALNTY_FLAG_W,OXYGEN,OXYGEN_FLAG_W,SILCAT,SILCAT_FLAG_W,NITRAT,NITRAT_FLAG_W,NO2+NO3,NO2+NO3_FLAG_W,NITRIT,NITRIT_FLAG_W,PHSPHT,PHSPHT_FLAG_W,CFC-11,CFC-11_FLAG_W,CFC-12,CFC-12_FLAG_W,DELC13,DELC13_FLAG_W,TCARBN,TCARBN_FLAG_W,ALKALI,ALKALI_FLAG_W,PH,PH_FLAG_W,PH_TMP,PH_SCALE,PH_NBS,PH_NBS_FLAG_W,C13ERR,TOTALP,TOTALP_FLAG_W,AMMONI,AMMONI_FLAG_W,CHLORA,CHLORA_FLAG_W,PPHYTN,PPHYTN_FLAG_W,REVPRS,REVTMP,DEPTH_,DEPTH_FLAG,CTDDEP,THETA,SIGTHT,DOC,DOC_FLAG_W
,,,,,,,GMT,GMT,,,METER,DBAR,ITS-90,PSS-78,,UMOL/KG,,PSS-78,,UMOL/KG,,UMOL/KG,,UMOL/KG,,UMOL/KG,,UMOL/KG,,UMOL/KG,,PMOL/KG,,PMOL/KG,,/MILLE,,UMOL/KG,,UMOL/KG,,25_DEG_C,,DEG_C,,,,/MILLE,UMOL/KG,,UMOL/KG,,UG/L,,UG/L,,DBAR,ITS-90,METERS,,METERS,DEG_C,,UMOL/L,
       KS01-05,  137E,KS-0143,  1,     24,02-16030,2,20010613,0858, 27.0060, 136.0875, 4532,      4.6,  25.9547,  34.3491,2,   -999.0,9,-999.0000,9,    208.0,2,  -999.00,9,  -999.00,9,     0.00,2,  -999.00,4,     0.00,2, -999.000,9, -999.000,9,  -999.00,9,   1936.8,3,   -999.0,9,-999.0000,9,   -999.0,  9,     8.18,2,   -999.0,  -999.00,9,  -999.00,9,  -999.00,9,  -999.00,9,   -999.0,-999.0000, -999,9,    5,  25.9537,  22.5568,   -999.0,9
       KS01-05,  137E,KS-0143,  1,     23,02-16029,2,20010613,0858, 27.0060, 136.0875, 4532,     10.2,  25.2158,  34.3600,2,   -999.0,9,  34.3660,4,    212.0,2,  -999.00,9,  -999.00,9,     0.00,2,  -999.00,4,     0.00,2, -999.000,9, -999.000,9,  -999.00,9,   -999.0,9,   -999.0,9,-999.0000,9,   -999.0,  9,  -999.00,9,   -999.0,  -999.00,9,  -999.00,9,  -999.00,9,  -999.00,9,   -999.0,-999.0000, -999,9,   10,  25.2136,  22.7927,   -999.0,9
       KS01-05,  137E,KS-0143,  1,     22,02-16028,2,20010613,0856, 27.0060, 136.0875, 4532,     24.7,  23.2012,  34.4919,2,   -999.0,9,  34.4924,2,    219.0,2,  -999.00,9,  -999.00,9,     0.00,2,  -999.00,4,     0.00,2, -999.000,9, -999.000,9,  -999.00,9,   -999.0,9,   -999.0,9,-999.0000,9,   -999.0,  9,  -999.00,9,   -999.0,  -999.00,9,  -999.00,9,  -999.00,9,  -999.00,9,   -999.0,-999.0000, -999,9,   25,  23.1961,  23.4918,   -999.0,9
       KS01-05,  137E,KS-0143,  1,     21,02-16027,2,20010613,0853, 27.0060, 136.0875, 4532,     50.2,  21.0174,  34.7306,2,   -999.0,9,  34.7337,2,    226.0,2,  -999.00,9,  -999.00,9,     0.00,2,  -999.00,4,     0.00,2, -999.000,9, -999.000,9,  -999.00,9,   -999.0,9,   -999.0,9,-999.0000,9,   -999.0,  9,  -999.00,9,   -999.0,  -999.00,9,  -999.00,9,  -999.00,9,  -999.00,9,   -999.0,-999.0000, -999,9,   50,  21.0078,  24.2867,   -999.0,9
       KS01-05,  137E,KS-0143,  1,     20,02-16026,2,20010613,0852, 27.0060, 136.0875, 4532,     75.0,  20.3634,  34.7572,2,   -999.0,9,  34.7579,2,    223.0,2,  -999.00,9,  -999.00,9,     0.00,2,  -999.00,4,     0.02,2, -999.000,9, -999.000,9,  -999.00,9,   -999.0,9,   -999.0,9,-999.0000,9,   -999.0,  9,  -999.00,9,   -999.0,  -999.00,9,  -999.00,9,  -999.00,9,  -999.00,9,   -999.0,-999.0000, -999,9,   75,  20.3494,  24.4841,   -999.0,9
       KS01-05,  137E,KS-0143,  1,     19,02-16025,2,20010613,0851, 27.0060, 136.0875, 4532,    100.5,  19.8906,  34.7716,2,   -999.0,9,  34.7714,2,    217.0,2,  -999.00,9,  -999.00,9,     0.59,2,  -999.00,4,     0.06,2, -999.000,9, -999.000,9,  -999.00,9,   -999.0,9,   -999.0,9,-999.0000,9,   -999.0,  9,  -999.00,9,   -999.0,  -999.00,9,  -999.00,9,  -999.00,9,  -999.00,9,   -999.0,-999.0000, -999,9,  100,  19.8721,  24.6211,   -999.0,9
       KS01-05,  137E,KS-0143,  1,     18,02-16024,2,20010613,0850, 27.0060, 136.0875, 4532,    125.0,  19.5355,  34.7690,2,   -999.0,9,  34.7695,2,    213.0,2,  -999.00,9,  -999.00,9,     1.66,2,  -999.00,4,     0.10,2, -999.000,9, -999.000,9,  -999.00,9,   -999.0,9,   -999.0,9,-999.0000,9,   -999.0,  9,  -999.00,9,   -999.0,  -999.00,9,  -999.00,9,  -999.00,9,  -999.00,9,   -999.0,-999.0000, -999,9,  124,  19.5128,  24.7128,   -999.0,9
       KS01-05,  137E,KS-0143,  1,     17,02-16023,2,20010613,0849, 27.0060, 136.0875, 4532,    151.5,  19.2685,  34.7837,2,   -999.0,9,  34.7846,2,    211.0,2,  -999.00,9,  -999.00,9,     2.15,2,  -999.00,4,     0.13,2, -999.000,9, -999.000,9,  -999.00,9,   -999.0,9,   -999.0,9,-999.0000,9,   -999.0,  9,  -999.00,9,   -999.0,  -999.00,9,  -999.00,9,  -999.00,9,  -999.00,9,   -999.0,-999.0000, -999,9,  150,  19.2413,  24.7941,   -999.0,9
       KS01-05,  137E,KS-0143,  1,     16,02-16022,2,20010613,0847, 27.0060, 136.0875, 4532,    202.9,  18.7217,  34.7878,2,   -999.0,9,  34.7872,2,    199.0,2,  -999.00,9,  -999.00,9,     4.00,2,  -999.00,4,     0.21,2, -999.000,9, -999.000,9,  -999.00,9,   -999.0,9,   -999.0,9,-999.0000,9,   -999.0,  9,  -999.00,9,   -999.0,  -999.00,9,  -999.00,9,  -999.00,9,  -999.00,9,   -999.0,-999.0000, -999,9,  201,  18.6859,  24.9386,   -999.0,9
       KS01-05,  137E,KS-0143,  1,     15,02-16021,2,20010613,0846, 27.0060, 136.0875, 4532,    252.1,  17.9162,  34.7737,2,   -999.0,9,  34.7773,2,    196.0,2,  -999.00,9,  -999.00,9,     5.66,2,  -999.00,4,     0.30,2, -999.000,9, -999.000,9,  -999.00,9,   -999.0,9,   -999.0,9,-999.0000,9,   -999.0,  9,  -999.00,9,   -999.0,  -999.00,9,  -999.00,9,  -999.00,9,  -999.00,9,   -999.0,-999.0000, -999,9,  250,  17.8730,  25.1299,   -999.0,9
       KS01-05,  137E,KS-0143,  1,     14,02-16020,2,20010613,0844, 27.0060, 136.0875, 4532,    302.5,  17.1232,  34.7479,2,   -999.0,9,  34.7478,2,    191.0,2,  -999.00,9,  -999.00,9,     7.41,2,  -999.00,4,     0.41,2, -999.000,9, -999.000,9,  -999.00,9,   -999.0,9,   -999.0,9,-999.0000,9,   -999.0,  9,  -999.00,9,   -999.0,  -999.00,9,  -999.00,9,  -999.00,9,  -999.00,9,   -999.0,-999.0000, -999,9,  300,  17.0730,  25.3034,   -999.0,9
       KS01-05,  137E,KS-0143,  1,     13,02-16019,2,20010613,0841, 27.0060, 136.0875, 4532,    403.4,  14.9530,  34.6159,2,   -999.0,9,  34.6172,2,    183.0,2,  -999.00,9,  -999.00,9,    11.99,2,  -999.00,4,     0.68,2, -999.000,9, -999.000,9,  -999.00,9,   -999.0,9,   -999.0,9,-999.0000,9,   -999.0,  9,  -999.00,9,   -999.0,  -999.00,9,  -999.00,9,  -999.00,9,  -999.00,9,   -999.0,-999.0000, -999,9,  400,  14.8918,  25.6994,   -999.0,9
       KS01-05,  137E,KS-0143,  1,     12,02-16018,2,20010613,0839, 27.0060, 136.0875, 4532,    504.7,  11.9227,  34.4083,2,   -999.0,9,  34.4112,2,    170.0,2,  -999.00,9,  -999.00,9,    19.00,2,  -999.00,4,     1.14,2, -999.000,9, -999.000,9,  -999.00,9,   -999.0,9,   -999.0,9,-999.0000,9,   -999.0,  9,  -999.00,9,   -999.0,  -999.00,9,  -999.00,9,  -999.00,9,  -999.00,9,   -999.0,-999.0000, -999,9,  501,  11.8567,  26.1567,   -999.0,9
       KS01-05,  137E,KS-0143,  1,     11,02-16017,2,20010613,0836, 27.0060, 136.0875, 4532,    604.1,   9.0322,  34.2584,2,   -999.0,9,  34.2589,2,    140.0,2,  -999.00,9,  -999.00,9,    26.89,2,  -999.00,4,     1.69,2, -999.000,9, -999.000,9,  -999.00,9,   -999.0,9,   -999.0,9,-999.0000,9,   -999.0,  9,  -999.00,9,   -999.0,  -999.00,9,  -999.00,9,  -999.00,9,  -999.00,9,   -999.0,-999.0000, -999,9,  599,   8.9655,  26.5429,   -999.0,9
       KS01-05,  137E,KS-0143,  1,     10,02-16016,2,20010613,0833, 27.0060, 136.0875, 4532,    707.3,   6.7147,  34.2113,2,   -999.0,9,  34.2109,2,    109.0,2,  -999.00,9,  -999.00,9,    33.31,2,  -999.00,4,     2.18,2, -999.000,9, -999.000,9,  -999.00,9,   -999.0,9,   -999.0,9,-999.0000,9,   -999.0,  9,  -999.00,9,   -999.0,  -999.00,9,  -999.00,9,  -999.00,9,  -999.00,9,   -999.0,-999.0000, -999,9,  701,   6.6484,  26.8451,   -999.0,9
       KS01-05,  137E,KS-0143,  1,      9,02-16015,2,20010613,0830, 27.0060, 136.0875, 4532,    808.3,   5.3127,  34.2388,2,   -999.0,9,  34.2385,2,     84.0,2,  -999.00,9,  -999.00,9,    37.29,2,  -999.00,4,     2.50,2, -999.000,9, -999.000,9,  -999.00,9,   -999.0,9,   -999.0,9,-999.0000,9,   -999.0,  9,  -999.00,9,   -999.0,  -999.00,9,  -999.00,9,  -999.00,9,  -999.00,9,   -999.0,-999.0000, -999,9,  801,   5.2449,  27.0433,   -999.0,9
       KS01-05,  137E,KS-0143,  1,      8,02-16014,2,20010613,0828, 27.0060, 136.0875, 4532,    909.1,   4.4969,  34.3079,2,   -999.0,9,  34.3068,2,     72.0,2,  -999.00,9,  -999.00,9,    39.14,2,  -999.00,4,     2.67,2, -999.000,9, -999.000,9,  -999.00,9,   -999.0,9,   -999.0,9,-999.0000,9,   -999.0,  9,  -999.00,9,   -999.0,  -999.00,9,  -999.00,9,  -999.00,9,  -999.00,9,   -999.0,-999.0000, -999,9,  901,   4.4255,  27.1907,   -999.0,9
       KS01-05,  137E,KS-0143,  1,      7,02-16013,2,20010613,0825, 27.0060, 136.0875, 4532,   1009.9,   3.8411,  34.3633,2,   -999.0,9,  34.3617,2,     64.0,2,  -999.00,9,  -999.00,9,    40.49,2,  -999.00,4,     2.77,2, -999.000,9, -999.000,9,  -999.00,9,   -999.0,9,   -999.0,9,-999.0000,9,   -999.0,  9,  -999.00,9,   -999.0,  -999.00,9,  -999.00,9,  -999.00,9,  -999.00,9,   -999.0,-999.0000, -999,9, 1001,   3.7661,  27.3035,   -999.0,9
       KS01-05,  137E,KS-0143,  1,      6,02-16012,2,20010613,0820, 27.0060, 136.0875, 4532,   1262.7,   3.0216,  34.4623,2,   -999.0,9,  34.3945,4,     61.0,2,  -999.00,9,  -999.00,9,    40.88,2,  -999.00,4,     2.81,2, -999.000,9, -999.000,9,  -999.00,9,   -999.0,9,   -999.0,9,-999.0000,9,   -999.0,  9,  -999.00,9,   -999.0,  -999.00,9,  -999.00,9,  -999.00,9,  -999.00,9,   -999.0,-999.0000, -999,9, 1251,   2.9332,  27.4620,   -999.0,9
       KS01-05,  137E,KS-0143,  1,      5,02-16011,2,20010613,0815, 27.0060, 136.0875, 4532,   1514.5,   2.5175,  34.5297,2,   -999.0,9,  34.5284,2,     80.0,2,  -999.00,9,  -999.00,9,    40.78,2,  -999.00,4,     2.76,2, -999.000,9, -999.000,9,  -999.00,9,   -999.0,9,   -999.0,9,-999.0000,9,   -999.0,  9,  -999.00,9,   -999.0,  -999.00,9,  -999.00,9,  -999.00,9,  -999.00,9,   -999.0,-999.0000, -999,9, 1499,   2.4142,  27.5611,   -999.0,9
       KS01-05,  137E,KS-0143,  1,      4,02-16010,9,20010613,0806, 27.0060, 136.0875, 4532,   2015.8,   1.9271,  34.6171,2,   -999.0,9,-999.0000,9,   -999.0,9,  -999.00,9,  -999.00,9,  -999.00,9,  -999.00,9,  -999.00,9, -999.000,9, -999.000,9,  -999.00,9,   -999.0,9,   -999.0,9,-999.0000,9,   -999.0,  9,  -999.00,9,   -999.0,  -999.00,9,  -999.00,9,  -999.00,9,  -999.00,9,   -999.0,-999.0000, -999,9, 1993,   1.7905,  27.6812,   -999.0,9
       KS01-05,  137E,KS-0143,  1,      3,02-16009,9,20010613,0806, 27.0060, 136.0875, 4532,   2016.3,   1.9243,  34.6175,2,   -999.0,9,-999.0000,9,   -999.0,9,  -999.00,9,  -999.00,9,  -999.00,9,  -999.00,9,  -999.00,9, -999.000,9, -999.000,9,  -999.00,9,   -999.0,9,   -999.0,9,-999.0000,9,   -999.0,  9,  -999.00,9,   -999.0,  -999.00,9,  -999.00,9,  -999.00,9,  -999.00,9,   -999.0,-999.0000, -999,9, 1993,   1.7877,  27.6818,   -999.0,9
       KS01-05,  137E,KS-0143,  1,      2,02-16008,9,20010613,0806, 27.0060, 136.0875, 4532,   2017.3,   1.9241,  34.6176,2,   -999.0,9,-999.0000,9,   -999.0,9,  -999.00,9,  -999.00,9,  -999.00,9,  -999.00,9,  -999.00,9, -999.000,9, -999.000,9,  -999.00,9,   -999.0,9,   -999.0,9,-999.0000,9,   -999.0,  9,  -999.00,9,   -999.0,  -999.00,9,  -999.00,9,  -999.00,9,  -999.00,9,   -999.0,-999.0000, -999,9, 1994,   1.7874,  27.6818,   -999.0,9
       KS01-05,  137E,KS-0143,  1,      1,02-16007,2,20010613,0806, 27.0060, 136.0875, 4532,   2018.6,   1.9242,  34.6176,2,   -999.0,9,  34.6160,2,    117.0,2,  -999.00,9,  -999.00,9,    39.21,2,  -999.00,4,     2.65,2, -999.000,9, -999.000,9,  -999.00,9,   -999.0,9,   -999.0,9,-999.0000,9,   -999.0,  9,  -999.00,9,   -999.0,  -999.00,9,  -999.00,9,  -999.00,9,  -999.00,9,   -999.0,-999.0000, -999,9, 1996,   1.7874,  27.6818,   -999.0,9