BOTTLE,20130510GEMDJMAYT
EXPOCODE,SECT_ID,STNNBR,CASTNO,SAMPNO,BTLNBR,BTLNBR_FLAG_W,DATE,TIME,LATITUDE,LONGITUDE,DEPTH,CTDPRS,CTDTMP,CTDSAL,CTDSAL_FLAG_W,CTDOXY,CTDOXY_FLAG_W,SALNTY,SALNTY_FLAG_W,OXYGEN,OXYGEN_FLAG_W,SILCAT,SILCAT_FLAG_W,NITRAT,NITRAT_FLAG_W,NO2+NO3,NO2+NO3_FLAG_W,NITRIT,NITRIT_FLAG_W,PHSPHT,PHSPHT_FLAG_W,CFC-11,CFC-11_FLAG_W,CFC-12,CFC-12_FLAG_W,DELC13,DELC13_FLAG_W,TCARBN,TCARBN_FLAG_W,ALKALI,ALKALI_FLAG_W,PH,PH_FLAG_W,PH_TMP,PH_SCALE,PH_NBS,PH_NBS_FLAG_W,C13ERR,TOTALP,TOTALP_FLAG_W,AMMONI,AMMONI_FLAG_W,CHLORA,CHLORA_FLAG_W,PPHYTN,PPHYTN_FLAG_W,REVPRS,REVTMP,DEPTH_,DEPTH_FLAG,CTDDEP,THETA,SIGTHT,DOC,DOC_FLAG_W
,,,,,,,GMT,GMT,,,METER,DBAR,ITS-90,PSS-78,,UMOL/KG,,PSS-78,,UMOL/KG,,UMOL/KG,,UMOL/KG,,UMOL/KG,,UMOL/KG,,UMOL/KG,,PMOL/KG,,PMOL/KG,,/MILLE,,UMOL/KG,,UMOL/KG,,25_DEG_C,,DEG_C,,,,/MILLE,UMOL/KG,,UMOL/KG,,UG/L,,UG/L,,DBAR,ITS-90,METERS,,METERS,DEG_C,,UMOL/L,
       KS01-05,  137E,KS-0122,  1,     24,02-16030,2,20010528,1602, 10.0003, 136.9927, 4874,      5.4,  29.6177,  34.0812,2,   -999.0,9,-999.0000,9,    195.0,2,  -999.00,9,  -999.00,9,     0.00,2,     0.00,2,     0.00,2, -999.000,9, -999.000,9,  -999.00,9,   -999.0,9,   -999.0,9,-999.0000,9,   -999.0,  9,  -999.00,9,   -999.0,  -999.00,9,  -999.00,9,     0.04,2,     0.02,2,   -999.0,-999.0000, -999,9,    5,  29.6164,  21.1676,   -999.0,9
       KS01-05,  137E,KS-0122,  1,     23,02-16029,2,20010528,1601, 10.0003, 136.9927, 4874,     10.7,  29.6370,  34.0807,2,   -999.0,9,  34.0825,2,    194.0,2,  -999.00,9,  -999.00,9,     0.00,2,     0.00,2,     0.02,2, -999.000,9, -999.000,9,  -999.00,9,   -999.0,9,   -999.0,9,-999.0000,9,   -999.0,  9,  -999.00,9,   -999.0,  -999.00,9,  -999.00,9,     0.03,2,     0.02,2,   -999.0,-999.0000, -999,9,   11,  29.6344,  21.1612,   -999.0,9
       KS01-05,  137E,KS-0122,  1,     22,02-16028,2,20010528,1559, 10.0003, 136.9927, 4874,     25.1,  29.5171,  34.1406,2,   -999.0,9,  34.1383,2,    195.0,2,  -999.00,9,  -999.00,9,     0.00,2,     0.00,2,     0.04,2, -999.000,9, -999.000,9,  -999.00,9,   -999.0,9,   -999.0,9,-999.0000,9,   -999.0,  9,  -999.00,9,   -999.0,  -999.00,9,  -999.00,9,     0.03,2,     0.02,2,   -999.0,-999.0000, -999,9,   25,  29.5110,  21.2477,   -999.0,9
       KS01-05,  137E,KS-0122,  1,     21,02-16027,2,20010528,1556, 10.0003, 136.9927, 4874,     50.5,  29.2361,  34.2076,2,   -999.0,9,  34.2126,2,    196.0,2,  -999.00,9,  -999.00,9,     0.00,2,     0.00,2,     0.04,2, -999.000,9, -999.000,9,  -999.00,9,   -999.0,9,   -999.0,9,-999.0000,9,   -999.0,  9,  -999.00,9,   -999.0,  -999.00,9,  -999.00,9,     0.04,2,     0.03,2,   -999.0,-999.0000, -999,9,   50,  29.2238,  21.3945,   -999.0,9
       KS01-05,  137E,KS-0122,  1,     20,02-16026,2,20010528,1555, 10.0003, 136.9927, 4874,     74.6,  28.3127,  34.3309,2,   -999.0,9,  34.3354,2,    197.0,2,  -999.00,9,  -999.00,9,     0.00,2,     0.00,2,     0.04,2, -999.000,9, -999.000,9,  -999.00,9,   -999.0,9,   -999.0,9,-999.0000,9,   -999.0,  9,  -999.00,9,   -999.0,  -999.00,9,  -999.00,9,     0.08,2,     0.09,2,   -999.0,-999.0000, -999,9,   74,  28.2950,  21.7951,   -999.0,9
       KS01-05,  137E,KS-0122,  1,     19,02-16025,2,20010528,1554, 10.0003, 136.9927, 4874,     99.4,  27.0909,  34.5572,2,   -999.0,9,  34.5775,4,    192.0,2,  -999.00,9,  -999.00,9,     0.10,2,     0.01,2,     0.09,2, -999.000,9, -999.000,9,  -999.00,9,   -999.0,9,   -999.0,9,-999.0000,9,   -999.0,  9,  -999.00,9,   -999.0,  -999.00,9,  -999.00,9,     0.19,2,     0.43,2,   -999.0,-999.0000, -999,9,   99,  27.0681,  22.3626,   -999.0,9
       KS01-05,  137E,KS-0122,  1,     18,02-16024,2,20010528,1552, 10.0003, 136.9927, 4874,    122.3,  24.4161,  34.7961,2,   -999.0,9,  34.8058,4,    174.0,2,  -999.00,9,  -999.00,9,     2.05,2,     0.44,2,     0.25,2, -999.000,9, -999.000,9,  -999.00,9,   -999.0,9,   -999.0,9,-999.0000,9,   -999.0,  9,  -999.00,9,   -999.0,  -999.00,9,  -999.00,9,     0.12,2,     0.51,2,   -999.0,-999.0000, -999,9,  122,  24.3900,  23.3710,   -999.0,9
       KS01-05,  137E,KS-0122,  1,     17,02-16023,2,20010528,1551, 10.0003, 136.9927, 4874,    150.9,  21.4279,  34.8079,2,   -999.0,9,  34.8115,2,    150.0,2,  -999.00,9,  -999.00,9,     7.42,2,     0.07,2,     0.56,2, -999.000,9, -999.000,9,  -999.00,9,   -999.0,9,   -999.0,9,-999.0000,9,   -999.0,  9,  -999.00,9,   -999.0,  -999.00,9,  -999.00,9,     0.04,2,     0.34,2,   -999.0,-999.0000, -999,9,  150,  21.3986,  24.2387,   -999.0,9
       KS01-05,  137E,KS-0122,  1,     16,02-16022,2,20010528,1546, 10.0003, 136.9927, 4874,    204.6,  16.0793,  34.6560,2,   -999.0,9,  34.6625,4,    131.0,2,  -999.00,9,  -999.00,9,    16.09,2,     0.02,2,     1.05,2, -999.000,9, -999.000,9,  -999.00,9,   -999.0,9,   -999.0,9,-999.0000,9,   -999.0,  9,  -999.00,9,   -999.0,  -999.00,9,  -999.00,9,     0.01,2,     0.07,2,   -999.0,-999.0000, -999,9,  203,  16.0469,  25.4722,   -999.0,9
       KS01-05,  137E,KS-0122,  1,     15,02-16021,9,20010528,1549, 10.0003, 136.9927, 4874,    209.9,  15.6500,  34.6386,2,   -999.0,9,  34.6394,4,   -999.0,9,  -999.00,9,  -999.00,9,  -999.00,9,  -999.00,9,  -999.00,9, -999.000,9, -999.000,9,  -999.00,9,   -999.0,9,   -999.0,9,-999.0000,9,   -999.0,  9,  -999.00,9,   -999.0,  -999.00,9,  -999.00,9,  -999.00,9,  -999.00,9,   -999.0,-999.0000, -999,9,  209,  15.6174,  25.5563,   -999.0,9
       KS01-05,  137E,KS-0122,  1,     14,02-16020,2,20010528,1542, 10.0003, 136.9927, 4874,    303.6,   9.9476,  34.4964,2,   -999.0,9,  34.4877,4,     83.0,2,  -999.00,9,  -999.00,9,    30.78,2,     0.01,2,     2.02,2, -999.000,9, -999.000,9,  -999.00,9,   -999.0,9,   -999.0,9,-999.0000,9,   -999.0,  9,  -999.00,9,   -999.0,  -999.00,9,  -999.00,9,     0.00,2,     0.01,2,   -999.0,-999.0000, -999,9,  302,   9.9125,  26.5735,   -999.0,9
       KS01-05,  137E,KS-0122,  1,     13,02-16019,2,20010528,1539, 10.0003, 136.9927, 4874,    403.8,   8.7047,  34.5596,2,   -999.0,9,  34.5578,2,     94.0,2,  -999.00,9,  -999.00,9,    32.53,2,     0.01,2,     2.11,2, -999.000,9, -999.000,9,  -999.00,9,   -999.0,9,   -999.0,9,-999.0000,9,   -999.0,  9,  -999.00,9,   -999.0,  -999.00,9,  -999.00,9,  -999.00,9,  -999.00,9,   -999.0,-999.0000, -999,9,  401,   8.6614,  26.8268,   -999.0,9
       KS01-05,  137E,KS-0122,  1,     12,02-16018,2,20010528,1536, 10.0003, 136.9927, 4874,    503.7,   7.7853,  34.5394,2,   -999.0,9,  34.5376,2,     90.0,2,  -999.00,9,  -999.00,9,    34.57,2,     0.01,2,     2.27,2, -999.000,9, -999.000,9,  -999.00,9,   -999.0,9,   -999.0,9,-999.0000,9,   -999.0,  9,  -999.00,9,   -999.0,  -999.00,9,  -999.00,9,  -999.00,9,  -999.00,9,   -999.0,-999.0000, -999,9,  500,   7.7345,  26.9513,   -999.0,9
       KS01-05,  137E,KS-0122,  1,     11,02-16017,2,20010528,1534, 10.0003, 136.9927, 4874,    603.6,   6.9787,  34.4975,2,   -999.0,9,  34.4972,2,     89.0,2,  -999.00,9,  -999.00,9,    35.83,2,     0.00,2,     2.38,2, -999.000,9, -999.000,9,  -999.00,9,   -999.0,9,   -999.0,9,-999.0000,9,   -999.0,  9,  -999.00,9,   -999.0,  -999.00,9,  -999.00,9,  -999.00,9,  -999.00,9,   -999.0,-999.0000, -999,9,  599,   6.9211,  27.0338,   -999.0,9
       KS01-05,  137E,KS-0122,  1,     10,02-16016,2,20010528,1531, 10.0003, 136.9927, 4874,    705.4,   6.2527,  34.5028,2,   -999.0,9,  34.5021,2,     82.0,2,  -999.00,9,  -999.00,9,    37.48,2,     0.00,2,     2.51,2, -999.000,9, -999.000,9,  -999.00,9,   -999.0,9,   -999.0,9,-999.0000,9,   -999.0,  9,  -999.00,9,   -999.0,  -999.00,9,  -999.00,9,  -999.00,9,  -999.00,9,   -999.0,-999.0000, -999,9,  700,   6.1887,  27.1356,   -999.0,9
       KS01-05,  137E,KS-0122,  1,      9,02-16015,2,20010528,1529, 10.0003, 136.9927, 4874,    806.3,   5.7786,  34.5153,2,   -999.0,9,  34.5150,2,     78.0,2,  -999.00,9,  -999.00,9,    38.75,2,     0.01,2,     2.61,2, -999.000,9, -999.000,9,  -999.00,9,   -999.0,9,   -999.0,9,-999.0000,9,   -999.0,  9,  -999.00,9,   -999.0,  -999.00,9,  -999.00,9,  -999.00,9,  -999.00,9,   -999.0,-999.0000, -999,9,  800,   5.7078,  27.2063,   -999.0,9
       KS01-05,  137E,KS-0122,  1,      8,02-16014,2,20010528,1526, 10.0003, 136.9927, 4874,    907.4,   5.2015,  34.5287,2,   -999.0,9,  34.5278,2,     82.0,2,  -999.00,9,  -999.00,9,    39.03,2,     0.00,2,     2.64,2, -999.000,9, -999.000,9,  -999.00,9,   -999.0,9,   -999.0,9,-999.0000,9,   -999.0,  9,  -999.00,9,   -999.0,  -999.00,9,  -999.00,9,  -999.00,9,  -999.00,9,   -999.0,-999.0000, -999,9,  900,   5.1251,  27.2870,   -999.0,9
       KS01-05,  137E,KS-0122,  1,      7,02-16013,2,20010528,1524, 10.0003, 136.9927, 4874,   1008.7,   4.6449,  34.5447,2,   -999.0,9,  34.5443,2,     88.0,2,  -999.00,9,  -999.00,9,    39.32,2,     0.01,2,     2.67,2, -999.000,9, -999.000,9,  -999.00,9,   -999.0,9,   -999.0,9,-999.0000,9,   -999.0,  9,  -999.00,9,   -999.0,  -999.00,9,  -999.00,9,  -999.00,9,  -999.00,9,   -999.0,-999.0000, -999,9, 1001,   4.5635,  27.3637,   -999.0,9
       KS01-05,  137E,KS-0122,  1,      6,02-16012,2,20010528,1518, 10.0003, 136.9927, 4874,   1260.8,   3.6355,  34.5702,2,   -999.0,9,  34.5686,2,     91.0,2,  -999.00,9,  -999.00,9,    40.00,2,     0.01,2,     2.72,2, -999.000,9, -999.000,9,  -999.00,9,   -999.0,9,   -999.0,9,-999.0000,9,   -999.0,  9,  -999.00,9,   -999.0,  -999.00,9,  -999.00,9,  -999.00,9,  -999.00,9,   -999.0,-999.0000, -999,9, 1250,   3.5410,  27.4906,   -999.0,9
       KS01-05,  137E,KS-0122,  1,      5,02-16011,2,20010528,1513, 10.0003, 136.9927, 4874,   1513.1,   2.8652,  34.5975,2,   -999.0,9,  34.5965,2,     98.0,2,  -999.00,9,  -999.00,9,    40.00,2,     0.01,2,     2.68,2, -999.000,9, -999.000,9,  -999.00,9,   -999.0,9,   -999.0,9,-999.0000,9,   -999.0,  9,  -999.00,9,   -999.0,  -999.00,9,  -999.00,9,  -999.00,9,  -999.00,9,   -999.0,-999.0000, -999,9, 1499,   2.7578,  27.5857,   -999.0,9
       KS01-05,  137E,KS-0122,  1,      4,02-16010,9,20010528,1504, 10.0003, 136.9927, 4874,   2020.1,   2.1733,  34.6342,2,   -999.0,9,-999.0000,9,   -999.0,9,  -999.00,9,  -999.00,9,  -999.00,9,  -999.00,9,  -999.00,9, -999.000,9, -999.000,9,  -999.00,9,   -999.0,9,   -999.0,9,-999.0000,9,   -999.0,  9,  -999.00,9,   -999.0,  -999.00,9,  -999.00,9,  -999.00,9,  -999.00,9,   -999.0,-999.0000, -999,9, 1999,   2.0325,  27.6760,   -999.0,9
       KS01-05,  137E,KS-0122,  1,      3,02-16009,9,20010528,1504, 10.0003, 136.9927, 4874,   2020.2,   2.1700,  34.6343,2,   -999.0,9,-999.0000,9,   -999.0,9,  -999.00,9,  -999.00,9,  -999.00,9,  -999.00,9,  -999.00,9, -999.000,9, -999.000,9,  -999.00,9,   -999.0,9,   -999.0,9,-999.0000,9,   -999.0,  9,  -999.00,9,   -999.0,  -999.00,9,  -999.00,9,  -999.00,9,  -999.00,9,   -999.0,-999.0000, -999,9, 1999,   2.0292,  27.6764,   -999.0,9
       KS01-05,  137E,KS-0122,  1,      2,02-16008,9,20010528,1504, 10.0003, 136.9927, 4874,   2020.1,   2.1702,  34.6344,2,   -999.0,9,-999.0000,9,   -999.0,9,  -999.00,9,  -999.00,9,  -999.00,9,  -999.00,9,  -999.00,9, -999.000,9, -999.000,9,  -999.00,9,   -999.0,9,   -999.0,9,-999.0000,9,   -999.0,  9,  -999.00,9,   -999.0,  -999.00,9,  -999.00,9,  -999.00,9,  -999.00,9,   -999.0,-999.0000, -999,9, 1999,   2.0295,  27.6764,   -999.0,9
       KS01-05,  137E,KS-0122,  1,      1,02-16007,2,20010528,1504, 10.0003, 136.9927, 4874,   2020.4,   2.1664,  34.6346,2,   -999.0,9,  34.6339,2,    116.0,2,  -999.00,9,  -999.00,9,    39.41,2,     0.00,2,     2.60,2, -999.000,9, -999.000,9,  -999.00,9,   -999.0,9,   -999.0,9,-999.0000,9,   -999.0,  9,  -999.00,9,   -999.0,  -999.00,9,  -999.00,9,  -999.00,9,  -999.00,9,   -999.0,-999.0000, -999,9, 1999,   2.0257,  27.6769,   -999.0,9