BOTTLE,20130510GEMDJMAYT
EXPOCODE,SECT_ID,STNNBR,CASTNO,SAMPNO,BTLNBR,BTLNBR_FLAG_W,DATE,TIME,LATITUDE,LONGITUDE,DEPTH,CTDPRS,CTDTMP,CTDSAL,CTDSAL_FLAG_W,CTDOXY,CTDOXY_FLAG_W,SALNTY,SALNTY_FLAG_W,OXYGEN,OXYGEN_FLAG_W,SILCAT,SILCAT_FLAG_W,NITRAT,NITRAT_FLAG_W,NO2+NO3,NO2+NO3_FLAG_W,NITRIT,NITRIT_FLAG_W,PHSPHT,PHSPHT_FLAG_W,CFC-11,CFC-11_FLAG_W,CFC-12,CFC-12_FLAG_W,DELC13,DELC13_FLAG_W,TCARBN,TCARBN_FLAG_W,ALKALI,ALKALI_FLAG_W,PH,PH_FLAG_W,PH_TMP,PH_SCALE,PH_NBS,PH_NBS_FLAG_W,C13ERR,TOTALP,TOTALP_FLAG_W,AMMONI,AMMONI_FLAG_W,CHLORA,CHLORA_FLAG_W,PPHYTN,PPHYTN_FLAG_W,REVPRS,REVTMP,DEPTH_,DEPTH_FLAG,CTDDEP,THETA,SIGTHT,DOC,DOC_FLAG_W
,,,,,,,GMT,GMT,,,METER,DBAR,ITS-90,PSS-78,,UMOL/KG,,PSS-78,,UMOL/KG,,UMOL/KG,,UMOL/KG,,UMOL/KG,,UMOL/KG,,UMOL/KG,,PMOL/KG,,PMOL/KG,,/MILLE,,UMOL/KG,,UMOL/KG,,25_DEG_C,,DEG_C,,,,/MILLE,UMOL/KG,,UMOL/KG,,UG/L,,UG/L,,DBAR,ITS-90,METERS,,METERS,DEG_C,,UMOL/L,
       KS01-05,  NONE,KS-0147,  1,     24,02-16030,2,20010614,0302, 29.0237, 135.0480, 4782,      4.9,  25.1866,  34.3225,2,   -999.0,9,-999.0000,9,    208.0,2,  -999.00,9,  -999.00,9,     0.00,2,     0.00,2,     0.00,2, -999.000,9, -999.000,9,  -999.00,9,   1928.6,3,   -999.0,9,-999.0000,9,   -999.0,  9,     8.21,2,   -999.0,  -999.00,9,  -999.00,9,     0.06,2,     0.03,2,   -999.0,-999.0000, -999,9,    5,  25.1855,  22.7729,   -999.0,9
       KS01-05,  NONE,KS-0147,  1,     23,02-16029,2,20010614,0301, 29.0237, 135.0480, 4782,     10.4,  25.1275,  34.3228,2,   -999.0,9,  34.3246,2,    209.0,2,  -999.00,9,  -999.00,9,     0.00,2,     0.01,2,     0.00,2, -999.000,9, -999.000,9,  -999.00,9,   1925.9,3,   -999.0,9,-999.0000,9,   -999.0,  9,     8.21,2,   -999.0,  -999.00,9,  -999.00,9,     0.05,2,     0.02,2,   -999.0,-999.0000, -999,9,   10,  25.1252,  22.7915,   -999.0,9
       KS01-05,  NONE,KS-0147,  1,     22,02-16028,2,20010614,0300, 29.0237, 135.0480, 4782,     25.4,  24.6454,  34.3454,2,   -999.0,9,  34.3509,4,    212.0,2,  -999.00,9,  -999.00,9,     0.00,2,     0.01,2,     0.00,2, -999.000,9, -999.000,9,  -999.00,9,   1927.6,3,   -999.0,9,-999.0000,9,   -999.0,  9,     8.21,2,   -999.0,  -999.00,9,  -999.00,9,     0.06,2,     0.03,2,   -999.0,-999.0000, -999,9,   25,  24.6400,  22.9552,   -999.0,9
       KS01-05,  NONE,KS-0147,  1,     21,02-16027,2,20010614,0257, 29.0237, 135.0480, 4782,     51.0,  23.7350,  34.5146,2,   -999.0,9,  34.5139,2,    213.0,2,  -999.00,9,  -999.00,9,     0.00,2,     0.01,2,     0.01,2, -999.000,9, -999.000,9,  -999.00,9,   1943.7,3,   -999.0,9,-999.0000,9,   -999.0,  9,     8.20,2,   -999.0,  -999.00,9,  -999.00,9,     0.10,2,     0.08,2,   -999.0,-999.0000, -999,9,   51,  23.7244,  23.3551,   -999.0,9
       KS01-05,  NONE,KS-0147,  1,     20,02-16026,2,20010614,0256, 29.0237, 135.0480, 4782,     76.3,  22.3822,  34.6436,2,   -999.0,9,  34.6445,2,    209.0,2,  -999.00,9,  -999.00,9,     0.29,2,     0.35,2,     0.03,2, -999.000,9, -999.000,9,  -999.00,9,   1957.2,3,   -999.0,9,-999.0000,9,   -999.0,  9,     8.18,2,   -999.0,  -999.00,9,  -999.00,9,     0.31,2,     0.46,2,   -999.0,-999.0000, -999,9,   76,  22.3670,  23.8438,   -999.0,9
       KS01-05,  NONE,KS-0147,  1,     19,02-16025,2,20010614,0255, 29.0237, 135.0480, 4782,    100.9,  21.7863,  34.7204,2,   -999.0,9,  34.7190,2,    197.0,4,  -999.00,9,  -999.00,9,     1.86,4,     0.19,4,     0.11,4, -999.000,9, -999.000,9,  -999.00,9,   1974.6,3,   -999.0,9,-999.0000,9,   -999.0,  9,     8.16,4,   -999.0,  -999.00,9,  -999.00,9,     0.13,2,     0.31,2,   -999.0,-999.0000, -999,9,  100,  21.7665,  24.0705,   -999.0,9
       KS01-05,  NONE,KS-0147,  1,     18,02-16024,2,20010614,0253, 29.0237, 135.0480, 4782,    125.1,  21.0995,  34.7142,2,   -999.0,9,  34.7150,2,    208.0,2,  -999.00,9,  -999.00,9,     1.07,2,     0.30,2,     0.07,2, -999.000,9, -999.000,9,  -999.00,9,   1970.4,3,   -999.0,9,-999.0000,9,   -999.0,  9,     8.17,2,   -999.0,  -999.00,9,  -999.00,9,     0.05,2,     0.09,2,   -999.0,-999.0000, -999,9,  124,  21.0755,  24.2558,   -999.0,9
       KS01-05,  NONE,KS-0147,  1,     17,02-16023,2,20010614,0252, 29.0237, 135.0480, 4782,    151.1,  20.6037,  34.7574,2,   -999.0,9,  34.7567,2,    199.0,4,  -999.00,9,  -999.00,9,     2.44,4,     0.08,4,     0.14,4, -999.000,9, -999.000,9,  -999.00,9,   1982.8,3,   -999.0,9,-999.0000,9,   -999.0,  9,     8.14,4,   -999.0,  -999.00,9,  -999.00,9,     0.01,2,     0.03,2,   -999.0,-999.0000, -999,9,  150,  20.5752,  24.4238,   -999.0,9
       KS01-05,  NONE,KS-0147,  1,     16,02-16022,2,20010614,0250, 29.0237, 135.0480, 4782,    202.7,  19.8110,  34.7732,2,   -999.0,9,  34.7722,2,    214.0,2,  -999.00,9,  -999.00,9,     1.07,2,     0.06,2,     0.06,2, -999.000,9, -999.000,9,  -999.00,9,   1979.0,3,   -999.0,9,-999.0000,9,   -999.0,  9,     8.16,2,   -999.0,  -999.00,9,  -999.00,9,     0.01,2,     0.03,2,   -999.0,-999.0000, -999,9,  201,  19.7738,  24.6480,   -999.0,9
       KS01-05,  NONE,KS-0147,  1,     15,02-16021,2,20010614,0249, 29.0237, 135.0480, 4782,    252.5,  19.4553,  34.7843,2,   -999.0,9,  34.7842,2,    211.0,2,  -999.00,9,  -999.00,9,     1.85,2,     0.05,2,     0.10,2, -999.000,9, -999.000,9,  -999.00,9,   1984.3,3,   -999.0,9,-999.0000,9,   -999.0,  9,     8.15,2,   -999.0,  -999.00,9,  -999.00,9,     0.00,2,     0.02,2,   -999.0,-999.0000, -999,9,  251,  19.4095,  24.7512,   -999.0,9
       KS01-05,  NONE,KS-0147,  1,     14,02-16020,2,20010614,0247, 29.0237, 135.0480, 4782,    304.7,  19.0112,  34.7911,2,   -999.0,9,  34.7915,2,    210.0,2,  -999.00,9,  -999.00,9,     2.24,2,     0.04,2,     0.13,2, -999.000,9, -999.000,9,  -999.00,9,   -999.0,9,   -999.0,9,-999.0000,9,   -999.0,  9,     8.14,2,   -999.0,  -999.00,9,  -999.00,9,     0.00,2,     0.01,2,   -999.0,-999.0000, -999,9,  302,  18.9568,  24.8725,   -999.0,9
       KS01-05,  NONE,KS-0147,  1,     13,02-16019,2,20010614,0244, 29.0237, 135.0480, 4782,    405.7,  17.2466,  34.7569,2,   -999.0,9,  34.7577,2,    190.0,2,  -999.00,9,  -999.00,9,     7.22,2,     0.02,2,     0.39,2, -999.000,9, -999.000,9,  -999.00,9,   -999.0,9,   -999.0,9,-999.0000,9,   -999.0,  9,     8.06,2,   -999.0,  -999.00,9,  -999.00,9,  -999.00,9,  -999.00,9,   -999.0,-999.0000, -999,9,  403,  17.1787,  25.2851,   -999.0,9
       KS01-05,  NONE,KS-0147,  1,     12,02-16018,2,20010614,0242, 29.0237, 135.0480, 4782,    506.5,  15.3785,  34.6394,2,   -999.0,9,  34.6433,2,    180.0,2,  -999.00,9,  -999.00,9,    11.31,2,     0.02,2,     0.65,2, -999.000,9, -999.000,9,  -999.00,9,   -999.0,9,   -999.0,9,-999.0000,9,   -999.0,  9,     8.00,2,   -999.0,  -999.00,9,  -999.00,9,  -999.00,9,  -999.00,9,   -999.0,-999.0000, -999,9,  502,  15.3000,  25.6277,   -999.0,9
       KS01-05,  NONE,KS-0147,  1,     11,02-16017,2,20010614,0239, 29.0237, 135.0480, 4782,    606.8,  12.1492,  34.4226,2,   -999.0,9,  34.4281,4,    169.0,2,  -999.00,9,  -999.00,9,    18.13,2,     0.02,2,     1.09,2, -999.000,9, -999.000,9,  -999.00,9,   -999.0,9,   -999.0,9,-999.0000,9,   -999.0,  9,     7.91,2,   -999.0,  -999.00,9,  -999.00,9,  -999.00,9,  -999.00,9,   -999.0,-999.0000, -999,9,  602,  12.0685,  26.1275,   -999.0,9
       KS01-05,  NONE,KS-0147,  1,     10,02-16016,2,20010614,0237, 29.0237, 135.0480, 4782,    708.6,   8.9737,  34.2784,2,   -999.0,9,  34.2819,2,    135.0,2,  -999.00,9,  -999.00,9,    27.08,2,     0.01,2,     1.71,2, -999.000,9, -999.000,9,  -999.00,9,   -999.0,9,   -999.0,9,-999.0000,9,   -999.0,  9,     7.78,2,   -999.0,  -999.00,9,  -999.00,9,  -999.00,9,  -999.00,9,   -999.0,-999.0000, -999,9,  703,   8.8953,  26.5697,   -999.0,9
       KS01-05,  NONE,KS-0147,  1,      9,02-16015,2,20010614,0234, 29.0237, 135.0480, 4782,    808.8,   6.7469,  34.2626,2,   -999.0,9,  34.2625,2,    102.0,2,  -999.00,9,  -999.00,9,    33.60,2,     0.01,2,     2.20,2, -999.000,9, -999.000,9,  -999.00,9,   -999.0,9,   -999.0,9,-999.0000,9,   -999.0,  9,     7.66,2,   -999.0,  -999.00,9,  -999.00,9,  -999.00,9,  -999.00,9,   -999.0,-999.0000, -999,9,  802,   6.6703,  26.8827,   -999.0,9
       KS01-05,  NONE,KS-0147,  1,      8,02-16014,2,20010614,0232, 29.0237, 135.0480, 4782,    908.3,   5.3508,  34.2745,2,   -999.0,9,  34.2740,2,     82.0,2,  -999.00,9,  -999.00,9,    37.19,2,     0.00,2,     2.49,2, -999.000,9, -999.000,9,  -999.00,9,   -999.0,9,   -999.0,9,-999.0000,9,   -999.0,  9,     7.59,2,   -999.0,  -999.00,9,  -999.00,9,  -999.00,9,  -999.00,9,   -999.0,-999.0000, -999,9,  900,   5.2736,  27.0682,   -999.0,9
       KS01-05,  NONE,KS-0147,  1,      7,02-16013,2,20010614,0229, 29.0237, 135.0480, 4782,   1012.1,   4.5301,  34.3349,2,   -999.0,9,-999.0000,9,   -999.0,9,  -999.00,9,  -999.00,9,  -999.00,9,  -999.00,9,  -999.00,9, -999.000,9, -999.000,9,  -999.00,9,   -999.0,9,   -999.0,9,-999.0000,9,   -999.0,  9,  -999.00,9,   -999.0,  -999.00,9,  -999.00,9,  -999.00,9,  -999.00,9,   -999.0,-999.0000, -999,9, 1003,   4.4496,  27.2095,   -999.0,9
       KS01-05,  NONE,KS-0147,  1,      6,02-16012,2,20010614,0229, 29.0237, 135.0480, 4782,   1010.8,   4.5349,  34.3337,2,   -999.0,9,  34.3313,2,     70.0,2,  -999.00,9,  -999.00,9,    39.23,2,     0.00,2,     2.65,2, -999.000,9, -999.000,9,  -999.00,9,   -999.0,9,   -999.0,9,-999.0000,9,   -999.0,  9,     7.56,2,   -999.0,  -999.00,9,  -999.00,9,  -999.00,9,  -999.00,9,   -999.0,-999.0000, -999,9, 1002,   4.4545,  27.2080,   -999.0,9
       KS01-05,  NONE,KS-0147,  1,      5,02-16011,2,20010614,0224, 29.0237, 135.0480, 4782,   1260.4,   3.2985,  34.4448,2,   -999.0,9,  34.4442,2,     66.0,2,  -999.00,9,  -999.00,9,    40.88,2,     0.00,2,     2.78,2, -999.000,9, -999.000,9,  -999.00,9,   -999.0,9,   -999.0,9,-999.0000,9,   -999.0,  9,     7.56,2,   -999.0,  -999.00,9,  -999.00,9,  -999.00,9,  -999.00,9,   -999.0,-999.0000, -999,9, 1248,   3.2076,  27.4226,   -999.0,9
       KS01-05,  NONE,KS-0147,  1,      4,02-16010,2,20010614,0219, 29.0237, 135.0480, 4782,   1513.1,   2.6965,  34.5088,2,   -999.0,9,  34.5074,2,     74.0,2,  -999.00,9,  -999.00,9,    40.97,2,     0.00,2,     2.75,2, -999.000,9, -999.000,9,  -999.00,9,   -999.0,9,   -999.0,9,-999.0000,9,   -999.0,  9,     7.57,2,   -999.0,  -999.00,9,  -999.00,9,  -999.00,9,  -999.00,9,   -999.0,-999.0000, -999,9, 1497,   2.5913,  27.5293,   -999.0,9
       KS01-05,  NONE,KS-0147,  1,      3,02-16009,9,20010614,0212, 29.0237, 135.0480, 4782,   2016.8,   2.0382,  34.5992,2,   -999.0,9,-999.0000,9,   -999.0,9,  -999.00,9,  -999.00,9,  -999.00,9,  -999.00,9,  -999.00,9, -999.000,9, -999.000,9,  -999.00,9,   -999.0,9,   -999.0,9,-999.0000,9,   -999.0,  9,  -999.00,9,   -999.0,  -999.00,9,  -999.00,9,  -999.00,9,  -999.00,9,   -999.0,-999.0000, -999,9, 1994,   1.8999,  27.6585,   -999.0,9
       KS01-05,  NONE,KS-0147,  1,      2,02-16008,9,20010614,0212, 29.0237, 135.0480, 4782,   2018.2,   2.0381,  34.5993,2,   -999.0,9,-999.0000,9,   -999.0,9,  -999.00,9,  -999.00,9,  -999.00,9,  -999.00,9,  -999.00,9, -999.000,9, -999.000,9,  -999.00,9,   -999.0,9,   -999.0,9,-999.0000,9,   -999.0,  9,  -999.00,9,   -999.0,  -999.00,9,  -999.00,9,  -999.00,9,  -999.00,9,   -999.0,-999.0000, -999,9, 1995,   1.8997,  27.6585,   -999.0,9
       KS01-05,  NONE,KS-0147,  1,      1,02-16007,2,20010614,0212, 29.0237, 135.0480, 4782,   2019.8,   2.0379,  34.5992,2,   -999.0,9,  34.5967,2,    105.0,2,  -999.00,9,  -999.00,9,    39.80,2,     0.00,2,     2.63,2, -999.000,9, -999.000,9,  -999.00,9,   -999.0,9,   -999.0,9,-999.0000,9,   -999.0,  9,     7.62,2,   -999.0,  -999.00,9,  -999.00,9,  -999.00,9,  -999.00,9,   -999.0,-999.0000, -999,9, 1997,   1.8993,  27.6585,   -999.0,9