BOTTLE,20130510GEMDJMAYT
EXPOCODE,SECT_ID,STNNBR,CASTNO,SAMPNO,BTLNBR,BTLNBR_FLAG_W,DATE,TIME,LATITUDE,LONGITUDE,DEPTH,CTDPRS,CTDTMP,CTDSAL,CTDSAL_FLAG_W,CTDOXY,CTDOXY_FLAG_W,SALNTY,SALNTY_FLAG_W,OXYGEN,OXYGEN_FLAG_W,SILCAT,SILCAT_FLAG_W,NITRAT,NITRAT_FLAG_W,NO2+NO3,NO2+NO3_FLAG_W,NITRIT,NITRIT_FLAG_W,PHSPHT,PHSPHT_FLAG_W,CFC-11,CFC-11_FLAG_W,CFC-12,CFC-12_FLAG_W,DELC13,DELC13_FLAG_W,TCARBN,TCARBN_FLAG_W,ALKALI,ALKALI_FLAG_W,PH,PH_FLAG_W,PH_TMP,PH_SCALE,PH_NBS,PH_NBS_FLAG_W,C13ERR,TOTALP,TOTALP_FLAG_W,AMMONI,AMMONI_FLAG_W,CHLORA,CHLORA_FLAG_W,PPHYTN,PPHYTN_FLAG_W,REVPRS,REVTMP,DEPTH_,DEPTH_FLAG,CTDDEP,THETA,SIGTHT,DOC,DOC_FLAG_W
,,,,,,,GMT,GMT,,,METER,DBAR,ITS-90,PSS-78,,UMOL/KG,,PSS-78,,UMOL/KG,,UMOL/KG,,UMOL/KG,,UMOL/KG,,UMOL/KG,,UMOL/KG,,PMOL/KG,,PMOL/KG,,/MILLE,,UMOL/KG,,UMOL/KG,,25_DEG_C,,DEG_C,,,,/MILLE,UMOL/KG,,UMOL/KG,,UG/L,,UG/L,,DBAR,ITS-90,METERS,,METERS,DEG_C,,UMOL/L,
       KS01-07,  137E,KS-0175,  1,     24,02-16030,2,20010715,1949, 25.0028, 136.9995, 5001,      5.1,  30.9712,  34.9115,2,   -999.0,9,-999.0000,9,    192.0,2,  -999.00,9,  -999.00,9,     0.00,2,     0.00,2,     0.00,2, -999.000,9, -999.000,9,  -999.00,9,   1944.7,2,   -999.0,9,-999.0000,9,   -999.0,  9,     8.28,2,   -999.0,  -999.00,9,  -999.00,9,     0.03,2,     0.01,2,   -999.0,-999.0000, -999,9,    5,  30.9699,  21.3253,   -999.0,9
       KS01-07,  137E,KS-0175,  1,     23,02-16029,2,20010715,1948, 25.0028, 136.9995, 5001,      9.9,  30.9600,  34.9091,2,   -999.0,9,-999.0000,9,    193.0,2,  -999.00,9,  -999.00,9,     0.00,2,     0.00,2,     0.00,2, -999.000,9, -999.000,9,  -999.00,9,   1943.1,2,   -999.0,9,-999.0000,9,   -999.0,  9,     8.28,2,   -999.0,  -999.00,9,  -999.00,9,     0.03,2,     0.01,2,   -999.0,-999.0000, -999,9,   10,  30.9575,  21.3279,   -999.0,9
       KS01-07,  137E,KS-0175,  1,     22,02-16028,2,20010715,1947, 25.0028, 136.9995, 5001,     25.2,  28.5733,  34.8110,2,   -999.0,9,-999.0000,9,    213.0,2,  -999.00,9,  -999.00,9,     0.00,2,     0.00,2,     0.00,2, -999.000,9, -999.000,9,  -999.00,9,   1947.1,2,   -999.0,9,-999.0000,9,   -999.0,  9,     8.27,2,   -999.0,  -999.00,9,  -999.00,9,     0.05,2,     0.02,2,   -999.0,-999.0000, -999,9,   25,  28.5673,  22.0661,   -999.0,9
       KS01-07,  137E,KS-0175,  1,     21,02-16027,2,20010715,1942, 25.0028, 136.9995, 5001,     49.4,  23.6823,  34.8250,2,   -999.0,9,  34.8365,4,    228.0,2,  -999.00,9,  -999.00,9,     0.00,2,     0.00,2,     0.00,2, -999.000,9, -999.000,9,  -999.00,9,   1959.2,2,   -999.0,9,-999.0000,9,   -999.0,  9,     8.25,2,   -999.0,  -999.00,9,  -999.00,9,     0.06,2,     0.03,2,   -999.0,-999.0000, -999,9,   49,  23.6720,  23.6056,   -999.0,9
       KS01-07,  137E,KS-0175,  1,     20,02-16026,2,20010715,1941, 25.0028, 136.9995, 5001,     75.3,  21.1771,  34.8341,2,   -999.0,9,-999.0000,9,    224.0,2,  -999.00,9,  -999.00,9,     0.00,2,     0.00,2,     0.00,2, -999.000,9, -999.000,9,  -999.00,9,   1976.8,2,   -999.0,9,-999.0000,9,   -999.0,  9,     8.23,2,   -999.0,  -999.00,9,  -999.00,9,     0.13,2,     0.22,2,   -999.0,-999.0000, -999,9,   75,  21.1626,  24.3233,   -999.0,9
       KS01-07,  137E,KS-0175,  1,     19,02-16025,2,20010715,1940, 25.0028, 136.9995, 5001,    100.1,  20.1087,  34.7942,2,   -999.0,9,  34.7952,2,    223.0,2,  -999.00,9,  -999.00,9,     0.00,2,     0.00,2,     0.02,2, -999.000,9, -999.000,9,  -999.00,9,   1981.8,2,   -999.0,9,-999.0000,9,   -999.0,  9,     8.21,2,   -999.0,  -999.00,9,  -999.00,9,     0.19,2,     0.35,2,   -999.0,-999.0000, -999,9,   99,  20.0902,  24.5810,   -999.0,9
       KS01-07,  137E,KS-0175,  1,     18,02-16024,2,20010715,1939, 25.0028, 136.9995, 5001,    124.7,  19.3824,  34.7945,2,   -999.0,9,-999.0000,9,    210.0,2,  -999.00,9,  -999.00,9,     1.76,2,     0.14,2,     0.12,2, -999.000,9, -999.000,9,  -999.00,9,   1998.4,2,   -999.0,9,-999.0000,9,   -999.0,  9,     8.18,2,   -999.0,  -999.00,9,  -999.00,9,     0.10,2,     0.30,2,   -999.0,-999.0000, -999,9,  124,  19.3599,  24.7718,   -999.0,9
       KS01-07,  137E,KS-0175,  1,     17,02-16023,2,20010715,1938, 25.0028, 136.9995, 5001,    149.8,  18.8516,  34.7937,2,   -999.0,9,-999.0000,9,    203.0,2,  -999.00,9,  -999.00,9,     3.12,2,     0.01,2,     0.20,2, -999.000,9, -999.000,9,  -999.00,9,   2009.9,2,   -999.0,9,-999.0000,9,   -999.0,  9,     8.17,2,   -999.0,  -999.00,9,  -999.00,9,     0.02,2,     0.07,2,   -999.0,-999.0000, -999,9,  149,  18.8251,  24.9080,   -999.0,9
       KS01-07,  137E,KS-0175,  1,     16,02-16022,2,20010715,1937, 25.0028, 136.9995, 5001,    200.6,  18.1051,  34.7678,2,   -999.0,9,  34.7703,2,    205.0,2,  -999.00,9,  -999.00,9,     4.00,2,     0.01,2,     0.25,2, -999.000,9, -999.000,9,  -999.00,9,   2013.0,2,   -999.0,9,-999.0000,9,   -999.0,  9,     8.16,2,   -999.0,  -999.00,9,  -999.00,9,     0.00,2,     0.02,2,   -999.0,-999.0000, -999,9,  199,  18.0706,  25.0768,   -999.0,9
       KS01-07,  137E,KS-0175,  1,     15,02-16021,2,20010715,1936, 25.0028, 136.9995, 5001,    251.5,  17.1638,  34.7432,2,   -999.0,9,-999.0000,9,    200.0,2,  -999.00,9,  -999.00,9,     5.95,2,     0.00,2,     0.38,2, -999.000,9, -999.000,9,  -999.00,9,   2026.7,2,   -999.0,9,-999.0000,9,   -999.0,  9,     8.13,2,   -999.0,  -999.00,9,  -999.00,9,     0.00,2,     0.01,2,   -999.0,-999.0000, -999,9,  250,  17.1220,  25.2881,   -999.0,9
       KS01-07,  137E,KS-0175,  1,     14,02-16020,2,20010715,1934, 25.0028, 136.9995, 5001,    301.8,  16.2078,  34.6942,2,   -999.0,9,  34.6952,2,    195.0,2,  -999.00,9,  -999.00,9,     8.00,2,     0.00,2,     0.50,2, -999.000,9, -999.000,9,  -999.00,9,   -999.0,9,   -999.0,9,-999.0000,9,   -999.0,  9,  -999.00,9,   -999.0,  -999.00,9,  -999.00,9,     0.00,2,     0.01,2,   -999.0,-999.0000, -999,9,  300,  16.1596,  25.4758,   -999.0,9
       KS01-07,  137E,KS-0175,  1,     13,02-16019,2,20010715,1932, 25.0028, 136.9995, 5001,    402.7,  13.5197,  34.5075,2,   -999.0,9,  34.5087,2,    181.0,2,  -999.00,9,  -999.00,9,    13.84,2,     0.00,2,     0.91,2, -999.000,9, -999.000,9,  -999.00,9,   -999.0,9,   -999.0,9,-999.0000,9,   -999.0,  9,  -999.00,9,   -999.0,  -999.00,9,  -999.00,9,  -999.00,9,  -999.00,9,   -999.0,-999.0000, -999,9,  400,  13.4627,  25.9177,   -999.0,9
       KS01-07,  137E,KS-0175,  1,     12,02-16018,2,20010715,1930, 25.0028, 136.9995, 5001,    503.1,  10.3346,  34.3003,2,   -999.0,9,  34.3036,2,    159.0,2,  -999.00,9,  -999.00,9,    21.73,2,     0.00,2,     1.47,2, -999.000,9, -999.000,9,  -999.00,9,   -999.0,9,   -999.0,9,-999.0000,9,   -999.0,  9,  -999.00,9,   -999.0,  -999.00,9,  -999.00,9,  -999.00,9,  -999.00,9,   -999.0,-999.0000, -999,9,  499,  10.2746,  26.3585,   -999.0,9
       KS01-07,  137E,KS-0175,  1,     11,02-16017,2,20010715,1928, 25.0028, 136.9995, 5001,    603.3,   7.8639,  34.1606,2,   -999.0,9,  34.1630,2,    139.0,2,  -999.00,9,  -999.00,9,    27.96,2,     0.00,2,     1.94,2, -999.000,9, -999.000,9,  -999.00,9,   -999.0,9,   -999.0,9,-999.0000,9,   -999.0,  9,  -999.00,9,   -999.0,  -999.00,9,  -999.00,9,  -999.00,9,  -999.00,9,   -999.0,-999.0000, -999,9,  599,   7.8026,  26.6437,   -999.0,9
       KS01-07,  137E,KS-0175,  1,     10,02-16016,2,20010715,1926, 25.0028, 136.9995, 5001,    705.0,   6.0522,  34.1606,2,   -999.0,9,-999.0000,9,    103.0,2,  -999.00,9,  -999.00,9,    33.99,2,     0.00,2,     2.39,2, -999.000,9, -999.000,9,  -999.00,9,   -999.0,9,   -999.0,9,-999.0000,9,   -999.0,  9,  -999.00,9,   -999.0,  -999.00,9,  -999.00,9,  -999.00,9,  -999.00,9,   -999.0,-999.0000, -999,9,  699,   5.9897,  26.8907,   -999.0,9
       KS01-07,  137E,KS-0175,  1,      9,02-16015,2,20010715,1924, 25.0028, 136.9995, 5001,    806.0,   4.9995,  34.2151,2,   -999.0,9,  34.2172,2,     79.0,2,  -999.00,9,  -999.00,9,    37.78,2,     0.00,2,     2.67,2, -999.000,9, -999.000,9,  -999.00,9,   -999.0,9,   -999.0,9,-999.0000,9,   -999.0,  9,  -999.00,9,   -999.0,  -999.00,9,  -999.00,9,  -999.00,9,  -999.00,9,   -999.0,-999.0000, -999,9,  799,   4.9339,  27.0605,   -999.0,9
       KS01-07,  137E,KS-0175,  1,      8,02-16014,2,20010715,1921, 25.0028, 136.9995, 5001,    907.0,   4.1684,  34.2885,2,   -999.0,9,-999.0000,9,     62.0,2,  -999.00,9,  -999.00,9,    40.11,2,     0.00,2,     2.85,2, -999.000,9, -999.000,9,  -999.00,9,   -999.0,9,   -999.0,9,-999.0000,9,   -999.0,  9,  -999.00,9,   -999.0,  -999.00,9,  -999.00,9,  -999.00,9,  -999.00,9,   -999.0,-999.0000, -999,9,  899,   4.0996,  27.2098,   -999.0,9
       KS01-07,  137E,KS-0175,  1,      7,02-16013,2,20010715,1919, 25.0028, 136.9995, 5001,   1008.9,   3.7352,  34.3436,2,   -999.0,9,  34.3433,2,     57.0,2,  -999.00,9,  -999.00,9,    40.98,2,     0.00,2,     2.92,2, -999.000,9, -999.000,9,  -999.00,9,   -999.0,9,   -999.0,9,-999.0000,9,   -999.0,  9,  -999.00,9,   -999.0,  -999.00,9,  -999.00,9,  -999.00,9,  -999.00,9,   -999.0,-999.0000, -999,9, 1000,   3.6611,  27.2983,   -999.0,9
       KS01-07,  137E,KS-0175,  1,      6,02-16012,2,20010715,1915, 25.0028, 136.9995, 5001,   1262.4,   2.9695,  34.4662,2,   -999.0,9,  34.4657,2,     64.0,2,  -999.00,9,  -999.00,9,    41.36,2,     0.00,2,     2.90,2, -999.000,9, -999.000,9,  -999.00,9,   -999.0,9,   -999.0,9,-999.0000,9,   -999.0,  9,  -999.00,9,   -999.0,  -999.00,9,  -999.00,9,  -999.00,9,  -999.00,9,   -999.0,-999.0000, -999,9, 1251,   2.8816,  27.4697,   -999.0,9
       KS01-07,  137E,KS-0175,  1,      5,02-16011,2,20010715,1911, 25.0028, 136.9995, 5001,   1514.7,   2.4236,  34.5512,2,   -999.0,9,  34.5502,2,     86.0,2,  -999.00,9,  -999.00,9,    40.39,2,     0.00,2,     2.81,2, -999.000,9, -999.000,9,  -999.00,9,   -999.0,9,   -999.0,9,-999.0000,9,   -999.0,  9,  -999.00,9,   -999.0,  -999.00,9,  -999.00,9,  -999.00,9,  -999.00,9,   -999.0,-999.0000, -999,9, 1500,   2.3213,  27.5861,   -999.0,9
       KS01-07,  137E,KS-0175,  1,      4,02-16010,2,20010715,1902, 25.0028, 136.9995, 5001,   2020.8,   1.9733,  34.6191,2,   -999.0,9,  34.6174,2,    116.0,2,  -999.00,9,  -999.00,9,    38.92,2,     0.00,2,     2.67,2, -999.000,9, -999.000,9,  -999.00,9,   -999.0,9,   -999.0,9,-999.0000,9,   -999.0,  9,  -999.00,9,   -999.0,  -999.00,9,  -999.00,9,  -999.00,9,  -999.00,9,   -999.0,-999.0000, -999,9, 1998,   1.8356,  27.6793,   -999.0,9
       KS01-07,  137E,KS-0175,  1,      3,02-16009,2,20010715,1846, 25.0028, 136.9995, 5001,   3041.1,   1.6207,  34.6648,2,   -999.0,9,  34.6616,2,    141.0,2,  -999.00,9,  -999.00,9,    37.56,2,     0.00,2,     2.55,2, -999.000,9, -999.000,9,  -999.00,9,   -999.0,9,   -999.0,9,-999.0000,9,   -999.0,  9,  -999.00,9,   -999.0,  -999.00,9,  -999.00,9,  -999.00,9,  -999.00,9,   -999.0,-999.0000, -999,9, 3000,   1.3973,  27.7485,   -999.0,9
       KS01-07,  137E,KS-0175,  1,      2,02-16008,2,20010715,1829, 25.0028, 136.9995, 5001,   4064.8,   1.5256,  34.6785,2,   -999.0,9,  34.6810,4,    155.0,2,  -999.00,9,  -999.00,9,    36.68,2,     0.00,2,     2.46,2, -999.000,9, -999.000,9,  -999.00,9,   -999.0,9,   -999.0,9,-999.0000,9,   -999.0,  9,  -999.00,9,   -999.0,  -999.00,9,  -999.00,9,  -999.00,9,  -999.00,9,   -999.0,-999.0000, -999,9, 4000,   1.1989,  27.7736,   -999.0,9
       KS01-07,  137E,KS-0175,  1,      1,02-16007,2,20010715,1813, 25.0028, 136.9995, 5001,   5000.1,   1.6232,  34.6928,2,   -999.0,9,  34.6822,4,    159.0,2,  -999.00,9,  -999.00,9,    36.58,2,     0.00,2,     2.44,2, -999.000,9, -999.000,9,  -999.00,9,   -999.0,9,   -999.0,9,-999.0000,9,   -999.0,  9,  -999.00,9,   -999.0,  -999.00,9,  -999.00,9,  -999.00,9,  -999.00,9,   -999.0,-999.0000, -999,9, 4911,   1.1848,  27.7860,   -999.0,9