BOTTLE,20130510GEMDJMAYT
EXPOCODE,SECT_ID,STNNBR,CASTNO,SAMPNO,BTLNBR,BTLNBR_FLAG_W,DATE,TIME,LATITUDE,LONGITUDE,DEPTH,CTDPRS,CTDTMP,CTDSAL,CTDSAL_FLAG_W,CTDOXY,CTDOXY_FLAG_W,SALNTY,SALNTY_FLAG_W,OXYGEN,OXYGEN_FLAG_W,SILCAT,SILCAT_FLAG_W,NITRAT,NITRAT_FLAG_W,NO2+NO3,NO2+NO3_FLAG_W,NITRIT,NITRIT_FLAG_W,PHSPHT,PHSPHT_FLAG_W,CFC-11,CFC-11_FLAG_W,CFC-12,CFC-12_FLAG_W,DELC13,DELC13_FLAG_W,TCARBN,TCARBN_FLAG_W,ALKALI,ALKALI_FLAG_W,PH,PH_FLAG_W,PH_TMP,PH_SCALE,PH_NBS,PH_NBS_FLAG_W,C13ERR,TOTALP,TOTALP_FLAG_W,AMMONI,AMMONI_FLAG_W,CHLORA,CHLORA_FLAG_W,PPHYTN,PPHYTN_FLAG_W,REVPRS,REVTMP,DEPTH_,DEPTH_FLAG,CTDDEP,THETA,SIGTHT,DOC,DOC_FLAG_W
,,,,,,,GMT,GMT,,,METER,DBAR,ITS-90,PSS-78,,UMOL/KG,,PSS-78,,UMOL/KG,,UMOL/KG,,UMOL/KG,,UMOL/KG,,UMOL/KG,,UMOL/KG,,PMOL/KG,,PMOL/KG,,/MILLE,,UMOL/KG,,UMOL/KG,,25_DEG_C,,DEG_C,,,,/MILLE,UMOL/KG,,UMOL/KG,,UG/L,,UG/L,,DBAR,ITS-90,METERS,,METERS,DEG_C,,UMOL/L,
       KS01-07,  NONE,KS-0198,  1,     24,02-16030,2,20010726,1125, 25.9895, 133.6483, 5190,     10.0,  29.0433,  34.3930,2,   -999.0,9,  34.3747,2,   -999.0,9,  -999.00,9,  -999.00,9,  -999.00,9,  -999.00,9,  -999.00,9, -999.000,9, -999.000,9,  -999.00,9,   -999.0,9,   -999.0,9,-999.0000,9,   -999.0,  9,  -999.00,9,   -999.0,  -999.00,9,  -999.00,9,  -999.00,9,  -999.00,9,   -999.0,-999.0000, -999,9,   10,  29.0409,  21.5947,   -999.0,9
       KS01-07,  NONE,KS-0198,  1,     23,02-16029,2,20010726,1121, 25.9895, 133.6483, 5190,     50.7,  22.7172,  34.6505,2,   -999.0,9,  34.6704,2,   -999.0,9,  -999.00,9,  -999.00,9,  -999.00,9,  -999.00,9,  -999.00,9, -999.000,9, -999.000,9,  -999.00,9,   -999.0,9,   -999.0,9,-999.0000,9,   -999.0,  9,  -999.00,9,   -999.0,  -999.00,9,  -999.00,9,  -999.00,9,  -999.00,9,   -999.0,-999.0000, -999,9,   50,  22.7070,  23.7525,   -999.0,9
       KS01-07,  NONE,KS-0198,  1,     22,02-16028,2,20010726,1119, 25.9895, 133.6483, 5190,    100.6,  20.3992,  34.7552,2,   -999.0,9,  34.7587,2,   -999.0,9,  -999.00,9,  -999.00,9,  -999.00,9,  -999.00,9,  -999.00,9, -999.000,9, -999.000,9,  -999.00,9,   -999.0,9,   -999.0,9,-999.0000,9,   -999.0,  9,  -999.00,9,   -999.0,  -999.00,9,  -999.00,9,  -999.00,9,  -999.00,9,   -999.0,-999.0000, -999,9,  100,  20.3804,  24.4743,   -999.0,9
       KS01-07,  NONE,KS-0198,  1,     21,02-16027,3,20010726,1118, 25.9895, 133.6483, 5190,    151.2,  19.5078,  34.7756,2,   -999.0,9,  34.7490,2,   -999.0,9,  -999.00,9,  -999.00,9,  -999.00,9,  -999.00,9,  -999.00,9, -999.000,9, -999.000,9,  -999.00,9,   -999.0,9,   -999.0,9,-999.0000,9,   -999.0,  9,  -999.00,9,   -999.0,  -999.00,9,  -999.00,9,  -999.00,9,  -999.00,9,   -999.0,-999.0000, -999,9,  150,  19.4804,  24.7263,   -999.0,9
       KS01-07,  NONE,KS-0198,  1,     20,02-16026,2,20010726,1116, 25.9895, 133.6483, 5190,    202.1,  18.6870,  34.7893,2,   -999.0,9,  34.7915,2,   -999.0,9,  -999.00,9,  -999.00,9,  -999.00,9,  -999.00,9,  -999.00,9, -999.000,9, -999.000,9,  -999.00,9,   -999.0,9,   -999.0,9,-999.0000,9,   -999.0,  9,  -999.00,9,   -999.0,  -999.00,9,  -999.00,9,  -999.00,9,  -999.00,9,   -999.0,-999.0000, -999,9,  201,  18.6514,  24.9484,   -999.0,9
       KS01-07,  NONE,KS-0198,  1,     19,02-16025,2,20010726,1115, 25.9895, 133.6483, 5190,    253.3,  17.7191,  34.7691,2,   -999.0,9,  34.7712,2,   -999.0,9,  -999.00,9,  -999.00,9,  -999.00,9,  -999.00,9,  -999.00,9, -999.000,9, -999.000,9,  -999.00,9,   -999.0,9,   -999.0,9,-999.0000,9,   -999.0,  9,  -999.00,9,   -999.0,  -999.00,9,  -999.00,9,  -999.00,9,  -999.00,9,   -999.0,-999.0000, -999,9,  252,  17.6761,  25.1745,   -999.0,9
       KS01-07,  NONE,KS-0198,  1,     18,02-16024,2,20010726,1113, 25.9895, 133.6483, 5190,    302.1,  16.7003,  34.7269,2,   -999.0,9,  34.7304,2,   -999.0,9,  -999.00,9,  -999.00,9,  -999.00,9,  -999.00,9,  -999.00,9, -999.000,9, -999.000,9,  -999.00,9,   -999.0,9,   -999.0,9,-999.0000,9,   -999.0,  9,  -999.00,9,   -999.0,  -999.00,9,  -999.00,9,  -999.00,9,  -999.00,9,   -999.0,-999.0000, -999,9,  300,  16.6510,  25.3869,   -999.0,9
       KS01-07,  NONE,KS-0198,  1,     17,02-16023,2,20010726,1112, 25.9895, 133.6483, 5190,    352.3,  15.4694,  34.6514,2,   -999.0,9,  34.6553,2,   -999.0,9,  -999.00,9,  -999.00,9,  -999.00,9,  -999.00,9,  -999.00,9, -999.000,9, -999.000,9,  -999.00,9,   -999.0,9,   -999.0,9,-999.0000,9,   -999.0,  9,  -999.00,9,   -999.0,  -999.00,9,  -999.00,9,  -999.00,9,  -999.00,9,   -999.0,-999.0000, -999,9,  350,  15.4148,  25.6115,   -999.0,9
       KS01-07,  NONE,KS-0198,  1,     16,02-16022,2,20010726,1111, 25.9895, 133.6483, 5190,    405.2,  14.0077,  34.5474,2,   -999.0,9,  34.5516,2,   -999.0,9,  -999.00,9,  -999.00,9,  -999.00,9,  -999.00,9,  -999.00,9, -999.000,9, -999.000,9,  -999.00,9,   -999.0,9,   -999.0,9,-999.0000,9,   -999.0,  9,  -999.00,9,   -999.0,  -999.00,9,  -999.00,9,  -999.00,9,  -999.00,9,   -999.0,-999.0000, -999,9,  402,  13.9489,  25.8480,   -999.0,9
       KS01-07,  NONE,KS-0198,  1,     15,02-16021,2,20010726,1109, 25.9895, 133.6483, 5190,    453.8,  12.7971,  34.4552,2,   -999.0,9,  34.4485,2,   -999.0,9,  -999.00,9,  -999.00,9,  -999.00,9,  -999.00,9,  -999.00,9, -999.000,9, -999.000,9,  -999.00,9,   -999.0,9,   -999.0,9,-999.0000,9,   -999.0,  9,  -999.00,9,   -999.0,  -999.00,9,  -999.00,9,  -999.00,9,  -999.00,9,   -999.0,-999.0000, -999,9,  450,  12.7351,  26.0234,   -999.0,9
       KS01-07,  NONE,KS-0198,  1,     14,02-16020,2,20010726,1108, 25.9895, 133.6483, 5190,    503.0,  10.8364,  34.3211,2,   -999.0,9,  34.3203,2,   -999.0,9,  -999.00,9,  -999.00,9,  -999.00,9,  -999.00,9,  -999.00,9, -999.000,9, -999.000,9,  -999.00,9,   -999.0,9,   -999.0,9,-999.0000,9,   -999.0,  9,  -999.00,9,   -999.0,  -999.00,9,  -999.00,9,  -999.00,9,  -999.00,9,   -999.0,-999.0000, -999,9,  499,  10.7746,  26.2872,   -999.0,9
       KS01-07,  NONE,KS-0198,  1,     13,02-16019,2,20010726,1105, 25.9895, 133.6483, 5190,    604.0,   8.6652,  34.1980,2,   -999.0,9,  34.1983,2,   -999.0,9,  -999.00,9,  -999.00,9,  -999.00,9,  -999.00,9,  -999.00,9, -999.000,9, -999.000,9,  -999.00,9,   -999.0,9,   -999.0,9,-999.0000,9,   -999.0,  9,  -999.00,9,   -999.0,  -999.00,9,  -999.00,9,  -999.00,9,  -999.00,9,   -999.0,-999.0000, -999,9,  599,   8.6002,  26.5529,   -999.0,9
       KS01-07,  NONE,KS-0198,  1,     12,02-16018,2,20010726,1103, 25.9895, 133.6483, 5190,    705.5,   6.5046,  34.1570,2,   -999.0,9,  34.1615,2,   -999.0,9,  -999.00,9,  -999.00,9,  -999.00,9,  -999.00,9,  -999.00,9, -999.000,9, -999.000,9,  -999.00,9,   -999.0,9,   -999.0,9,-999.0000,9,   -999.0,  9,  -999.00,9,   -999.0,  -999.00,9,  -999.00,9,  -999.00,9,  -999.00,9,   -999.0,-999.0000, -999,9,  700,   6.4396,  26.8299,   -999.0,9
       KS01-07,  NONE,KS-0198,  1,     11,02-16017,2,20010726,1101, 25.9895, 133.6483, 5190,    805.4,   5.3997,  34.1899,2,   -999.0,9,  34.1907,2,   -999.0,9,  -999.00,9,  -999.00,9,  -999.00,9,  -999.00,9,  -999.00,9, -999.000,9, -999.000,9,  -999.00,9,   -999.0,9,   -999.0,9,-999.0000,9,   -999.0,  9,  -999.00,9,   -999.0,  -999.00,9,  -999.00,9,  -999.00,9,  -999.00,9,   -999.0,-999.0000, -999,9,  799,   5.3317,  26.9943,   -999.0,9
       KS01-07,  NONE,KS-0198,  1,     10,02-16016,2,20010726,1058, 25.9895, 133.6483, 5190,    908.3,   4.5498,  34.2586,2,   -999.0,9,  34.2613,2,   -999.0,9,  -999.00,9,  -999.00,9,  -999.00,9,  -999.00,9,  -999.00,9, -999.000,9, -999.000,9,  -999.00,9,   -999.0,9,   -999.0,9,-999.0000,9,   -999.0,  9,  -999.00,9,   -999.0,  -999.00,9,  -999.00,9,  -999.00,9,  -999.00,9,   -999.0,-999.0000, -999,9,  900,   4.4782,  27.1458,   -999.0,9
       KS01-07,  NONE,KS-0198,  1,      9,02-16015,9,20010726,1056, 25.9895, 133.6483, 5190,   1008.0,   3.9049,  34.3318,2,   -999.0,9,-999.0000,9,   -999.0,9,  -999.00,9,  -999.00,9,  -999.00,9,  -999.00,9,  -999.00,9, -999.000,9, -999.000,9,  -999.00,9,   -999.0,9,   -999.0,9,-999.0000,9,   -999.0,  9,  -999.00,9,   -999.0,  -999.00,9,  -999.00,9,  -999.00,9,  -999.00,9,   -999.0,-999.0000, -999,9,  999,   3.8296,  27.2720,   -999.0,9
       KS01-07,  NONE,KS-0198,  1,      8,02-16014,2,20010726,1056, 25.9895, 133.6483, 5190,   1009.3,   3.9022,  34.3318,2,   -999.0,9,  34.3315,2,   -999.0,9,  -999.00,9,  -999.00,9,  -999.00,9,  -999.00,9,  -999.00,9, -999.000,9, -999.000,9,  -999.00,9,   -999.0,9,   -999.0,9,-999.0000,9,   -999.0,  9,  -999.00,9,   -999.0,  -999.00,9,  -999.00,9,  -999.00,9,  -999.00,9,   -999.0,-999.0000, -999,9, 1000,   3.8268,  27.2723,   -999.0,9
       KS01-07,  NONE,KS-0198,  1,      7,02-16013,2,20010726,1054, 25.9895, 133.6483, 5190,   1109.6,   3.4895,  34.3912,2,   -999.0,9,  34.3902,2,   -999.0,9,  -999.00,9,  -999.00,9,  -999.00,9,  -999.00,9,  -999.00,9, -999.000,9, -999.000,9,  -999.00,9,   -999.0,9,   -999.0,9,-999.0000,9,   -999.0,  9,  -999.00,9,   -999.0,  -999.00,9,  -999.00,9,  -999.00,9,  -999.00,9,   -999.0,-999.0000, -999,9, 1099,   3.4092,  27.3608,   -999.0,9
       KS01-07,  NONE,KS-0198,  1,      6,02-16012,2,20010726,1052, 25.9895, 133.6483, 5190,   1211.0,   3.1806,  34.4350,2,   -999.0,9,  34.4341,2,   -999.0,9,  -999.00,9,  -999.00,9,  -999.00,9,  -999.00,9,  -999.00,9, -999.000,9, -999.000,9,  -999.00,9,   -999.0,9,   -999.0,9,-999.0000,9,   -999.0,  9,  -999.00,9,   -999.0,  -999.00,9,  -999.00,9,  -999.00,9,  -999.00,9,   -999.0,-999.0000, -999,9, 1200,   3.0948,  27.4253,   -999.0,9
       KS01-07,  NONE,KS-0198,  1,      5,02-16011,2,20010726,1049, 25.9895, 133.6483, 5190,   1311.8,   2.8868,  34.4784,2,   -999.0,9,  34.4771,2,   -999.0,9,  -999.00,9,  -999.00,9,  -999.00,9,  -999.00,9,  -999.00,9, -999.000,9, -999.000,9,  -999.00,9,   -999.0,9,   -999.0,9,-999.0000,9,   -999.0,  9,  -999.00,9,   -999.0,  -999.00,9,  -999.00,9,  -999.00,9,  -999.00,9,   -999.0,-999.0000, -999,9, 1299,   2.7958,  27.4871,   -999.0,9
       KS01-07,  NONE,KS-0198,  1,      4,02-16010,2,20010726,1047, 25.9895, 133.6483, 5190,   1413.5,   2.6818,  34.5112,2,   -999.0,9,  34.5101,2,   -999.0,9,  -999.00,9,  -999.00,9,  -999.00,9,  -999.00,9,  -999.00,9, -999.000,9, -999.000,9,  -999.00,9,   -999.0,9,   -999.0,9,-999.0000,9,   -999.0,  9,  -999.00,9,   -999.0,  -999.00,9,  -999.00,9,  -999.00,9,  -999.00,9,   -999.0,-999.0000, -999,9, 1400,   2.5847,  27.5318,   -999.0,9
       KS01-07,  NONE,KS-0198,  1,      3,02-16009,2,20010726,1046, 25.9895, 133.6483, 5190,   1413.3,   2.6795,  34.5115,2,   -999.0,9,  34.5105,2,   -999.0,9,  -999.00,9,  -999.00,9,  -999.00,9,  -999.00,9,  -999.00,9, -999.000,9, -999.000,9,  -999.00,9,   -999.0,9,   -999.0,9,-999.0000,9,   -999.0,  9,  -999.00,9,   -999.0,  -999.00,9,  -999.00,9,  -999.00,9,  -999.00,9,   -999.0,-999.0000, -999,9, 1399,   2.5825,  27.5322,   -999.0,9
       KS01-07,  NONE,KS-0198,  1,      2,02-16008,2,20010726,1044, 25.9895, 133.6483, 5190,   1518.8,   2.5089,  34.5358,2,   -999.0,9,  34.5356,2,   -999.0,9,  -999.00,9,  -999.00,9,  -999.00,9,  -999.00,9,  -999.00,9, -999.000,9, -999.000,9,  -999.00,9,   -999.0,9,   -999.0,9,-999.0000,9,   -999.0,  9,  -999.00,9,   -999.0,  -999.00,9,  -999.00,9,  -999.00,9,  -999.00,9,   -999.0,-999.0000, -999,9, 1503,   2.4053,  27.5667,   -999.0,9
       KS01-07,  NONE,KS-0198,  1,      1,02-16007,2,20010726,1044, 25.9895, 133.6483, 5190,   1519.2,   2.5093,  34.5356,2,   -999.0,9,  34.5360,2,   -999.0,9,  -999.00,9,  -999.00,9,  -999.00,9,  -999.00,9,  -999.00,9, -999.000,9, -999.000,9,  -999.00,9,   -999.0,9,   -999.0,9,-999.0000,9,   -999.0,  9,  -999.00,9,   -999.0,  -999.00,9,  -999.00,9,  -999.00,9,  -999.00,9,   -999.0,-999.0000, -999,9, 1504,   2.4057,  27.5665,   -999.0,9