BOTTLE,20130510GEMDJMAYT
EXPOCODE,SECT_ID,STNNBR,CASTNO,SAMPNO,BTLNBR,BTLNBR_FLAG_W,DATE,TIME,LATITUDE,LONGITUDE,DEPTH,CTDPRS,CTDTMP,CTDSAL,CTDSAL_FLAG_W,CTDOXY,CTDOXY_FLAG_W,SALNTY,SALNTY_FLAG_W,OXYGEN,OXYGEN_FLAG_W,SILCAT,SILCAT_FLAG_W,NITRAT,NITRAT_FLAG_W,NO2+NO3,NO2+NO3_FLAG_W,NITRIT,NITRIT_FLAG_W,PHSPHT,PHSPHT_FLAG_W,CFC-11,CFC-11_FLAG_W,CFC-12,CFC-12_FLAG_W,DELC13,DELC13_FLAG_W,TCARBN,TCARBN_FLAG_W,ALKALI,ALKALI_FLAG_W,PH,PH_FLAG_W,PH_TMP,PH_SCALE,PH_NBS,PH_NBS_FLAG_W,C13ERR,TOTALP,TOTALP_FLAG_W,AMMONI,AMMONI_FLAG_W,CHLORA,CHLORA_FLAG_W,PPHYTN,PPHYTN_FLAG_W,REVPRS,REVTMP,DEPTH_,DEPTH_FLAG,CTDDEP,THETA,SIGTHT,DOC,DOC_FLAG_W
,,,,,,,GMT,GMT,,,METER,DBAR,ITS-90,PSS-78,,UMOL/KG,,PSS-78,,UMOL/KG,,UMOL/KG,,UMOL/KG,,UMOL/KG,,UMOL/KG,,UMOL/KG,,PMOL/KG,,PMOL/KG,,/MILLE,,UMOL/KG,,UMOL/KG,,25_DEG_C,,DEG_C,,,,/MILLE,UMOL/KG,,UMOL/KG,,UG/L,,UG/L,,DBAR,ITS-90,METERS,,METERS,DEG_C,,UMOL/L,
       KS01-07,  NONE,KS-0213,  1,     24,02-16030,2,20010806,2128, 27.9857, 135.5482, 5049,      4.9,  29.6487,  34.6293,2,   -999.0,9,-999.0000,9,    197.0,2,  -999.00,9,  -999.00,9,     0.00,2,     0.00,2,     0.01,2, -999.000,9, -999.000,9,  -999.00,9,   1934.0,2,   -999.0,9,-999.0000,9,   -999.0,  9,     8.23,2,   -999.0,  -999.00,9,  -999.00,9,  -999.00,9,  -999.00,9,   -999.0,-999.0000, -999,9,    5,  29.6475,  21.5681,   -999.0,9
       KS01-07,  NONE,KS-0213,  1,     23,02-16029,2,20010806,2127, 27.9857, 135.5482, 5049,     10.3,  29.6572,  34.6253,2,   -999.0,9,-999.0000,9,    197.0,2,  -999.00,9,  -999.00,9,     0.00,2,     0.00,2,     0.00,2, -999.000,9, -999.000,9,  -999.00,9,   -999.0,9,   -999.0,9,-999.0000,9,   -999.0,  9,  -999.00,9,   -999.0,  -999.00,9,  -999.00,9,  -999.00,9,  -999.00,9,   -999.0,-999.0000, -999,9,   10,  29.6547,  21.5627,   -999.0,9
       KS01-07,  NONE,KS-0213,  1,     22,02-16028,2,20010806,2126, 27.9857, 135.5482, 5049,     24.3,  25.5576,  34.6512,2,   -999.0,9,-999.0000,9,    224.0,2,  -999.00,9,  -999.00,9,     0.00,2,     0.00,2,     0.00,2, -999.000,9, -999.000,9,  -999.00,9,   -999.0,9,   -999.0,9,-999.0000,9,   -999.0,  9,  -999.00,9,   -999.0,  -999.00,9,  -999.00,9,  -999.00,9,  -999.00,9,   -999.0,-999.0000, -999,9,   24,  25.5523,  22.9088,   -999.0,9
       KS01-07,  NONE,KS-0213,  1,     21,02-16027,2,20010806,2123, 27.9857, 135.5482, 5049,     50.2,  22.8610,  34.7927,2,   -999.0,9,  34.7972,4,    228.0,2,  -999.00,9,  -999.00,9,     0.00,2,     0.00,2,     0.00,2, -999.000,9, -999.000,9,  -999.00,9,   -999.0,9,   -999.0,9,-999.0000,9,   -999.0,  9,  -999.00,9,   -999.0,  -999.00,9,  -999.00,9,  -999.00,9,  -999.00,9,   -999.0,-999.0000, -999,9,   50,  22.8508,  23.8193,   -999.0,9
       KS01-07,  NONE,KS-0213,  1,     20,02-16026,2,20010806,2122, 27.9857, 135.5482, 5049,     74.5,  21.1972,  34.7963,2,   -999.0,9,-999.0000,9,    225.0,2,  -999.00,9,  -999.00,9,     0.00,2,     0.00,2,     0.00,2, -999.000,9, -999.000,9,  -999.00,9,   -999.0,9,   -999.0,9,-999.0000,9,   -999.0,  9,  -999.00,9,   -999.0,  -999.00,9,  -999.00,9,  -999.00,9,  -999.00,9,   -999.0,-999.0000, -999,9,   74,  21.1829,  24.2890,   -999.0,9
       KS01-07,  NONE,KS-0213,  1,     19,02-16025,2,20010806,2121, 27.9857, 135.5482, 5049,    100.6,  20.3061,  34.7977,2,   -999.0,9,  34.7988,2,    217.0,2,  -999.00,9,  -999.00,9,     0.10,2,     0.04,2,     0.02,2, -999.000,9, -999.000,9,  -999.00,9,   -999.0,9,   -999.0,9,-999.0000,9,   -999.0,  9,  -999.00,9,   -999.0,  -999.00,9,  -999.00,9,  -999.00,9,  -999.00,9,   -999.0,-999.0000, -999,9,  100,  20.2874,  24.5314,   -999.0,9
       KS01-07,  NONE,KS-0213,  1,     18,02-16024,2,20010806,2120, 27.9857, 135.5482, 5049,    126.1,  19.6715,  34.7773,2,   -999.0,9,-999.0000,9,    212.0,2,  -999.00,9,  -999.00,9,     1.37,2,     0.06,2,     0.08,2, -999.000,9, -999.000,9,  -999.00,9,   -999.0,9,   -999.0,9,-999.0000,9,   -999.0,  9,  -999.00,9,   -999.0,  -999.00,9,  -999.00,9,  -999.00,9,  -999.00,9,   -999.0,-999.0000, -999,9,  125,  19.6485,  24.6839,   -999.0,9
       KS01-07,  NONE,KS-0213,  1,     17,02-16023,2,20010806,2119, 27.9857, 135.5482, 5049,    151.0,  19.4108,  34.7813,2,   -999.0,9,-999.0000,9,    210.0,2,  -999.00,9,  -999.00,9,     2.05,2,     0.02,2,     0.12,2, -999.000,9, -999.000,9,  -999.00,9,   -999.0,9,   -999.0,9,-999.0000,9,   -999.0,  9,  -999.00,9,   -999.0,  -999.00,9,  -999.00,9,  -999.00,9,  -999.00,9,   -999.0,-999.0000, -999,9,  150,  19.3835,  24.7556,   -999.0,9
       KS01-07,  NONE,KS-0213,  1,     16,02-16022,2,20010806,2117, 27.9857, 135.5482, 5049,    202.2,  18.7179,  34.7813,2,   -999.0,9,  34.7811,2,    208.0,2,  -999.00,9,  -999.00,9,     3.02,2,     0.01,2,     0.18,2, -999.000,9, -999.000,9,  -999.00,9,   -999.0,9,   -999.0,9,-999.0000,9,   -999.0,  9,  -999.00,9,   -999.0,  -999.00,9,  -999.00,9,  -999.00,9,  -999.00,9,   -999.0,-999.0000, -999,9,  201,  18.6823,  24.9345,   -999.0,9
       KS01-07,  NONE,KS-0213,  1,     15,02-16021,2,20010806,2116, 27.9857, 135.5482, 5049,    251.4,  18.1975,  34.7752,2,   -999.0,9,-999.0000,9,    205.0,2,  -999.00,9,  -999.00,9,     4.00,2,     0.00,2,     0.24,2, -999.000,9, -999.000,9,  -999.00,9,   -999.0,9,   -999.0,9,-999.0000,9,   -999.0,  9,  -999.00,9,   -999.0,  -999.00,9,  -999.00,9,  -999.00,9,  -999.00,9,   -999.0,-999.0000, -999,9,  250,  18.1540,  25.0618,   -999.0,9
       KS01-07,  NONE,KS-0213,  1,     14,02-16020,2,20010806,2114, 27.9857, 135.5482, 5049,    302.8,  17.4524,  34.7573,2,   -999.0,9,  34.7583,2,    199.0,2,  -999.00,9,  -999.00,9,     5.56,2,     0.00,2,     0.34,2, -999.000,9, -999.000,9,  -999.00,9,   -999.0,9,   -999.0,9,-999.0000,9,   -999.0,  9,  -999.00,9,   -999.0,  -999.00,9,  -999.00,9,  -999.00,9,  -999.00,9,   -999.0,-999.0000, -999,9,  301,  17.4015,  25.2320,   -999.0,9
       KS01-07,  NONE,KS-0213,  1,     13,02-16019,2,20010806,2112, 27.9857, 135.5482, 5049,    401.7,  15.2935,  34.6402,2,   -999.0,9,  34.6378,4,    191.0,2,  -999.00,9,  -999.00,9,     9.85,2,     0.00,2,     0.61,2, -999.000,9, -999.000,9,  -999.00,9,   -999.0,9,   -999.0,9,-999.0000,9,   -999.0,  9,  -999.00,9,   -999.0,  -999.00,9,  -999.00,9,  -999.00,9,  -999.00,9,   -999.0,-999.0000, -999,9,  399,  15.2317,  25.6435,   -999.0,9
       KS01-07,  NONE,KS-0213,  1,     12,02-16018,2,20010806,2109, 27.9857, 135.5482, 5049,    504.3,  12.3243,  34.4196,2,   -999.0,9,  34.4202,2,    180.0,2,  -999.00,9,  -999.00,9,    15.89,2,     0.00,2,     1.04,2, -999.000,9, -999.000,9,  -999.00,9,   -999.0,9,   -999.0,9,-999.0000,9,   -999.0,  9,  -999.00,9,   -999.0,  -999.00,9,  -999.00,9,  -999.00,9,  -999.00,9,   -999.0,-999.0000, -999,9,  500,  12.2569,  26.0891,   -999.0,9
       KS01-07,  NONE,KS-0213,  1,     11,02-16017,2,20010806,2107, 27.9857, 135.5482, 5049,    604.8,   9.6724,  34.2483,2,   -999.0,9,  34.2503,2,    160.0,2,  -999.00,9,  -999.00,9,    22.41,2,     0.00,2,     1.52,2, -999.000,9, -999.000,9,  -999.00,9,   -999.0,9,   -999.0,9,-999.0000,9,   -999.0,  9,  -999.00,9,   -999.0,  -999.00,9,  -999.00,9,  -999.00,9,  -999.00,9,   -999.0,-999.0000, -999,9,  600,   9.6029,  26.4315,   -999.0,9
       KS01-07,  NONE,KS-0213,  1,     10,02-16016,2,20010806,2104, 27.9857, 135.5482, 5049,    706.2,   7.3839,  34.1798,2,   -999.0,9,  34.1795,2,    127.0,2,  -999.00,9,  -999.00,9,    29.61,2,     0.00,2,     2.05,2, -999.000,9, -999.000,9,  -999.00,9,   -999.0,9,   -999.0,9,-999.0000,9,   -999.0,  9,  -999.00,9,   -999.0,  -999.00,9,  -999.00,9,  -999.00,9,  -999.00,9,   -999.0,-999.0000, -999,9,  700,   7.3142,  26.7289,   -999.0,9
       KS01-07,  NONE,KS-0213,  1,      9,02-16015,2,20010806,2101, 27.9857, 135.5482, 5049,    806.7,   5.9196,  34.1948,2,   -999.0,9,  34.1948,2,    121.0,2,  -999.00,9,  -999.00,9,    34.37,2,     0.00,2,     2.41,2, -999.000,9, -999.000,9,  -999.00,9,   -999.0,9,   -999.0,9,-999.0000,9,   -999.0,  9,  -999.00,9,   -999.0,  -999.00,9,  -999.00,9,  -999.00,9,  -999.00,9,   -999.0,-999.0000, -999,9,  800,   5.8483,  26.9354,   -999.0,9
       KS01-07,  NONE,KS-0213,  1,      8,02-16014,2,20010806,2059, 27.9857, 135.5482, 5049,    907.1,   4.8689,  34.2738,2,   -999.0,9,  34.2728,2,     77.0,2,  -999.00,9,  -999.00,9,    37.68,2,     0.00,2,     2.67,2, -999.000,9, -999.000,9,  -999.00,9,   -999.0,9,   -999.0,9,-999.0000,9,   -999.0,  9,  -999.00,9,   -999.0,  -999.00,9,  -999.00,9,  -999.00,9,  -999.00,9,   -999.0,-999.0000, -999,9,  899,   4.7952,  27.1228,   -999.0,9
       KS01-07,  NONE,KS-0213,  1,      7,02-16013,2,20010806,2056, 27.9857, 135.5482, 5049,   1007.5,   4.2276,  34.3225,2,   -999.0,9,  34.3211,2,     68.0,2,  -999.00,9,  -999.00,9,    39.33,2,     0.00,2,     2.81,2, -999.000,9, -999.000,9,  -999.00,9,   -999.0,9,   -999.0,9,-999.0000,9,   -999.0,  9,  -999.00,9,   -999.0,  -999.00,9,  -999.00,9,  -999.00,9,  -999.00,9,   -999.0,-999.0000, -999,9,  998,   4.1499,  27.2317,   -999.0,9
       KS01-07,  NONE,KS-0213,  1,      6,02-16012,2,20010806,2051, 27.9857, 135.5482, 5049,   1261.9,   3.0911,  34.4550,2,   -999.0,9,  34.4536,2,     66.0,2,  -999.00,9,  -999.00,9,    40.78,2,     0.00,2,     2.91,2, -999.000,9, -999.000,9,  -999.00,9,   -999.0,9,   -999.0,9,-999.0000,9,   -999.0,  9,  -999.00,9,   -999.0,  -999.00,9,  -999.00,9,  -999.00,9,  -999.00,9,   -999.0,-999.0000, -999,9, 1250,   3.0021,  27.4498,   -999.0,9
       KS01-07,  NONE,KS-0213,  1,      5,02-16011,2,20010806,2046, 27.9857, 135.5482, 5049,   1515.7,   2.5571,  34.5266,2,   -999.0,9,  34.5248,2,     79.0,2,  -999.00,9,  -999.00,9,    40.48,2,     0.00,2,     2.84,2, -999.000,9, -999.000,9,  -999.00,9,   -999.0,9,   -999.0,9,-999.0000,9,   -999.0,  9,  -999.00,9,   -999.0,  -999.00,9,  -999.00,9,  -999.00,9,  -999.00,9,   -999.0,-999.0000, -999,9, 1500,   2.4532,  27.5553,   -999.0,9
       KS01-07,  NONE,KS-0213,  1,      4,02-16010,9,20010806,2037, 27.9857, 135.5482, 5049,   2033.9,   1.9879,  34.6124,2,   -999.0,9,-999.0000,9,   -999.0,9,  -999.00,9,  -999.00,9,  -999.00,9,  -999.00,9,  -999.00,9, -999.000,9, -999.000,9,  -999.00,9,   -999.0,9,   -999.0,9,-999.0000,9,   -999.0,  9,  -999.00,9,   -999.0,  -999.00,9,  -999.00,9,  -999.00,9,  -999.00,9,   -999.0,-999.0000, -999,9, 2011,   1.8489,  27.6730,   -999.0,9
       KS01-07,  NONE,KS-0213,  1,      3,02-16009,9,20010806,2037, 27.9857, 135.5482, 5049,   2034.0,   1.9878,  34.6125,2,   -999.0,9,-999.0000,9,   -999.0,9,  -999.00,9,  -999.00,9,  -999.00,9,  -999.00,9,  -999.00,9, -999.000,9, -999.000,9,  -999.00,9,   -999.0,9,   -999.0,9,-999.0000,9,   -999.0,  9,  -999.00,9,   -999.0,  -999.00,9,  -999.00,9,  -999.00,9,  -999.00,9,   -999.0,-999.0000, -999,9, 2011,   1.8488,  27.6730,   -999.0,9
       KS01-07,  NONE,KS-0213,  1,      2,02-16008,9,20010806,2037, 27.9857, 135.5482, 5049,   2034.6,   1.9873,  34.6124,2,   -999.0,9,-999.0000,9,   -999.0,9,  -999.00,9,  -999.00,9,  -999.00,9,  -999.00,9,  -999.00,9, -999.000,9, -999.000,9,  -999.00,9,   -999.0,9,   -999.0,9,-999.0000,9,   -999.0,  9,  -999.00,9,   -999.0,  -999.00,9,  -999.00,9,  -999.00,9,  -999.00,9,   -999.0,-999.0000, -999,9, 2011,   1.8482,  27.6730,   -999.0,9
       KS01-07,  NONE,KS-0213,  1,      1,02-16007,2,20010806,2037, 27.9857, 135.5482, 5049,   2034.2,   1.9875,  34.6124,2,   -999.0,9,  34.6113,2,    112.0,2,  -999.00,9,  -999.00,9,    39.02,2,     0.00,2,     2.71,2, -999.000,9, -999.000,9,  -999.00,9,   -999.0,9,   -999.0,9,-999.0000,9,   -999.0,  9,  -999.00,9,   -999.0,  -999.00,9,  -999.00,9,  -999.00,9,  -999.00,9,   -999.0,-999.0000, -999,9, 2011,   1.8484,  27.6730,   -999.0,9