BOTTLE,20130510GEMDJMAYT
EXPOCODE,SECT_ID,STNNBR,CASTNO,SAMPNO,BTLNBR,BTLNBR_FLAG_W,DATE,TIME,LATITUDE,LONGITUDE,DEPTH,CTDPRS,CTDTMP,CTDSAL,CTDSAL_FLAG_W,CTDOXY,CTDOXY_FLAG_W,SALNTY,SALNTY_FLAG_W,OXYGEN,OXYGEN_FLAG_W,SILCAT,SILCAT_FLAG_W,NITRAT,NITRAT_FLAG_W,NO2+NO3,NO2+NO3_FLAG_W,NITRIT,NITRIT_FLAG_W,PHSPHT,PHSPHT_FLAG_W,CFC-11,CFC-11_FLAG_W,CFC-12,CFC-12_FLAG_W,DELC13,DELC13_FLAG_W,TCARBN,TCARBN_FLAG_W,ALKALI,ALKALI_FLAG_W,PH,PH_FLAG_W,PH_TMP,PH_SCALE,PH_NBS,PH_NBS_FLAG_W,C13ERR,TOTALP,TOTALP_FLAG_W,AMMONI,AMMONI_FLAG_W,CHLORA,CHLORA_FLAG_W,PPHYTN,PPHYTN_FLAG_W,REVPRS,REVTMP,DEPTH_,DEPTH_FLAG,CTDDEP,THETA,SIGTHT,DOC,DOC_FLAG_W
,,,,,,,GMT,GMT,,,METER,DBAR,ITS-90,PSS-78,,UMOL/KG,,PSS-78,,UMOL/KG,,UMOL/KG,,UMOL/KG,,UMOL/KG,,UMOL/KG,,UMOL/KG,,PMOL/KG,,PMOL/KG,,/MILLE,,UMOL/KG,,UMOL/KG,,25_DEG_C,,DEG_C,,,,/MILLE,UMOL/KG,,UMOL/KG,,UG/L,,UG/L,,DBAR,ITS-90,METERS,,METERS,DEG_C,,UMOL/L,
       KS01-07,  NONE,KS-0199,  1,     24,02-16030,2,20010727,0855, 26.7087, 133.2987, 5127,     10.1,  30.0972,  34.2113,2,   -999.0,9,  34.2299,2,   -999.0,9,  -999.00,9,  -999.00,9,  -999.00,9,  -999.00,9,  -999.00,9, -999.000,9, -999.000,9,  -999.00,9,   -999.0,9,   -999.0,9,-999.0000,9,   -999.0,  9,  -999.00,9,   -999.0,  -999.00,9,  -999.00,9,  -999.00,9,  -999.00,9,   -999.0,-999.0000, -999,9,   10,  30.0947,  21.1027,   -999.0,9
       KS01-07,  NONE,KS-0199,  1,     23,02-16029,2,20010727,0851, 26.7087, 133.2987, 5127,     51.0,  21.6244,  34.6798,2,   -999.0,9,  34.6848,2,   -999.0,9,  -999.00,9,  -999.00,9,  -999.00,9,  -999.00,9,  -999.00,9, -999.000,9, -999.000,9,  -999.00,9,   -999.0,9,   -999.0,9,-999.0000,9,   -999.0,  9,  -999.00,9,   -999.0,  -999.00,9,  -999.00,9,  -999.00,9,  -999.00,9,   -999.0,-999.0000, -999,9,   51,  21.6145,  24.0817,   -999.0,9
       KS01-07,  NONE,KS-0199,  1,     22,02-16028,2,20010727,0849, 26.7087, 133.2987, 5127,    100.1,  19.8502,  34.7747,2,   -999.0,9,  34.7799,2,   -999.0,9,  -999.00,9,  -999.00,9,  -999.00,9,  -999.00,9,  -999.00,9, -999.000,9, -999.000,9,  -999.00,9,   -999.0,9,   -999.0,9,-999.0000,9,   -999.0,  9,  -999.00,9,   -999.0,  -999.00,9,  -999.00,9,  -999.00,9,  -999.00,9,   -999.0,-999.0000, -999,9,   99,  19.8318,  24.6341,   -999.0,9
       KS01-07,  NONE,KS-0199,  1,     21,02-16027,2,20010727,0848, 26.7087, 133.2987, 5127,    149.2,  19.0955,  34.7874,2,   -999.0,9,  34.7889,2,   -999.0,9,  -999.00,9,  -999.00,9,  -999.00,9,  -999.00,9,  -999.00,9, -999.000,9, -999.000,9,  -999.00,9,   -999.0,9,   -999.0,9,-999.0000,9,   -999.0,  9,  -999.00,9,   -999.0,  -999.00,9,  -999.00,9,  -999.00,9,  -999.00,9,   -999.0,-999.0000, -999,9,  148,  19.0689,  24.8411,   -999.0,9
       KS01-07,  NONE,KS-0199,  1,     20,02-16026,2,20010727,0847, 26.7087, 133.2987, 5127,    201.8,  18.5610,  34.7918,2,   -999.0,9,  34.7944,2,   -999.0,9,  -999.00,9,  -999.00,9,  -999.00,9,  -999.00,9,  -999.00,9, -999.000,9, -999.000,9,  -999.00,9,   -999.0,9,   -999.0,9,-999.0000,9,   -999.0,  9,  -999.00,9,   -999.0,  -999.00,9,  -999.00,9,  -999.00,9,  -999.00,9,   -999.0,-999.0000, -999,9,  200,  18.5256,  24.9819,   -999.0,9
       KS01-07,  NONE,KS-0199,  1,     19,02-16025,2,20010727,0846, 26.7087, 133.2987, 5127,    250.9,  17.7715,  34.7633,2,   -999.0,9,  34.7655,2,   -999.0,9,  -999.00,9,  -999.00,9,  -999.00,9,  -999.00,9,  -999.00,9, -999.000,9, -999.000,9,  -999.00,9,   -999.0,9,   -999.0,9,-999.0000,9,   -999.0,  9,  -999.00,9,   -999.0,  -999.00,9,  -999.00,9,  -999.00,9,  -999.00,9,   -999.0,-999.0000, -999,9,  249,  17.7288,  25.1572,   -999.0,9
       KS01-07,  NONE,KS-0199,  1,     18,02-16024,2,20010727,0845, 26.7087, 133.2987, 5127,    301.1,  16.9033,  34.7396,2,   -999.0,9,  34.7386,2,   -999.0,9,  -999.00,9,  -999.00,9,  -999.00,9,  -999.00,9,  -999.00,9, -999.000,9, -999.000,9,  -999.00,9,   -999.0,9,   -999.0,9,-999.0000,9,   -999.0,  9,  -999.00,9,   -999.0,  -999.00,9,  -999.00,9,  -999.00,9,  -999.00,9,   -999.0,-999.0000, -999,9,  299,  16.8538,  25.3490,   -999.0,9
       KS01-07,  NONE,KS-0199,  1,     17,02-16023,2,20010727,0844, 26.7087, 133.2987, 5127,    351.7,  15.8476,  34.6760,2,   -999.0,9,  34.6781,2,   -999.0,9,  -999.00,9,  -999.00,9,  -999.00,9,  -999.00,9,  -999.00,9, -999.000,9, -999.000,9,  -999.00,9,   -999.0,9,   -999.0,9,-999.0000,9,   -999.0,  9,  -999.00,9,   -999.0,  -999.00,9,  -999.00,9,  -999.00,9,  -999.00,9,   -999.0,-999.0000, -999,9,  349,  15.7922,  25.5456,   -999.0,9
       KS01-07,  NONE,KS-0199,  1,     16,02-16022,2,20010727,0842, 26.7087, 133.2987, 5127,    402.5,  14.7099,  34.5959,2,   -999.0,9,  34.5993,2,   -999.0,9,  -999.00,9,  -999.00,9,  -999.00,9,  -999.00,9,  -999.00,9, -999.000,9, -999.000,9,  -999.00,9,   -999.0,9,   -999.0,9,-999.0000,9,   -999.0,  9,  -999.00,9,   -999.0,  -999.00,9,  -999.00,9,  -999.00,9,  -999.00,9,   -999.0,-999.0000, -999,9,  399,  14.6496,  25.7365,   -999.0,9
       KS01-07,  NONE,KS-0199,  1,     15,02-16021,2,20010727,0841, 26.7087, 133.2987, 5127,    452.1,  13.1099,  34.4827,2,   -999.0,9,  34.4813,2,   -999.0,9,  -999.00,9,  -999.00,9,  -999.00,9,  -999.00,9,  -999.00,9, -999.000,9, -999.000,9,  -999.00,9,   -999.0,9,   -999.0,9,-999.0000,9,   -999.0,  9,  -999.00,9,   -999.0,  -999.00,9,  -999.00,9,  -999.00,9,  -999.00,9,   -999.0,-999.0000, -999,9,  449,  13.0471,  25.9827,   -999.0,9
       KS01-07,  NONE,KS-0199,  1,     14,02-16020,2,20010727,0840, 26.7087, 133.2987, 5127,    503.8,  11.4764,  34.3814,2,   -999.0,9,  34.3841,2,   -999.0,9,  -999.00,9,  -999.00,9,  -999.00,9,  -999.00,9,  -999.00,9, -999.000,9, -999.000,9,  -999.00,9,   -999.0,9,   -999.0,9,-999.0000,9,   -999.0,  9,  -999.00,9,   -999.0,  -999.00,9,  -999.00,9,  -999.00,9,  -999.00,9,   -999.0,-999.0000, -999,9,  500,  11.4121,  26.2186,   -999.0,9
       KS01-07,  NONE,KS-0199,  1,     13,02-16019,2,20010727,0838, 26.7087, 133.2987, 5127,    603.0,   9.0677,  34.2736,2,   -999.0,9,  34.2766,2,   -999.0,9,  -999.00,9,  -999.00,9,  -999.00,9,  -999.00,9,  -999.00,9, -999.000,9, -999.000,9,  -999.00,9,   -999.0,9,   -999.0,9,-999.0000,9,   -999.0,  9,  -999.00,9,   -999.0,  -999.00,9,  -999.00,9,  -999.00,9,  -999.00,9,   -999.0,-999.0000, -999,9,  598,   9.0010,  26.5491,   -999.0,9
       KS01-07,  NONE,KS-0199,  1,     12,02-16018,2,20010727,0836, 26.7087, 133.2987, 5127,    705.8,   6.6626,  34.2233,2,   -999.0,9,  34.2258,2,   -999.0,9,  -999.00,9,  -999.00,9,  -999.00,9,  -999.00,9,  -999.00,9, -999.000,9, -999.000,9,  -999.00,9,   -999.0,9,   -999.0,9,-999.0000,9,   -999.0,  9,  -999.00,9,   -999.0,  -999.00,9,  -999.00,9,  -999.00,9,  -999.00,9,   -999.0,-999.0000, -999,9,  700,   6.5967,  26.8615,   -999.0,9
       KS01-07,  NONE,KS-0199,  1,     11,02-16017,2,20010727,0834, 26.7087, 133.2987, 5127,    805.2,   4.9751,  34.2661,2,   -999.0,9,  34.2656,2,   -999.0,9,  -999.00,9,  -999.00,9,  -999.00,9,  -999.00,9,  -999.00,9, -999.000,9, -999.000,9,  -999.00,9,   -999.0,9,   -999.0,9,-999.0000,9,   -999.0,  9,  -999.00,9,   -999.0,  -999.00,9,  -999.00,9,  -999.00,9,  -999.00,9,   -999.0,-999.0000, -999,9,  798,   4.9096,  27.1037,   -999.0,9
       KS01-07,  NONE,KS-0199,  1,     10,02-16016,2,20010727,0832, 26.7087, 133.2987, 5127,    908.2,   4.5136,  34.3193,2,   -999.0,9,  34.3191,2,   -999.0,9,  -999.00,9,  -999.00,9,  -999.00,9,  -999.00,9,  -999.00,9, -999.000,9, -999.000,9,  -999.00,9,   -999.0,9,   -999.0,9,-999.0000,9,   -999.0,  9,  -999.00,9,   -999.0,  -999.00,9,  -999.00,9,  -999.00,9,  -999.00,9,   -999.0,-999.0000, -999,9,  900,   4.4422,  27.1979,   -999.0,9
       KS01-07,  NONE,KS-0199,  1,      9,02-16015,9,20010727,0830, 26.7087, 133.2987, 5127,   1008.6,   3.8223,  34.3905,2,   -999.0,9,-999.0000,9,   -999.0,9,  -999.00,9,  -999.00,9,  -999.00,9,  -999.00,9,  -999.00,9, -999.000,9, -999.000,9,  -999.00,9,   -999.0,9,   -999.0,9,-999.0000,9,   -999.0,  9,  -999.00,9,   -999.0,  -999.00,9,  -999.00,9,  -999.00,9,  -999.00,9,   -999.0,-999.0000, -999,9, 1000,   3.7475,  27.3270,   -999.0,9
       KS01-07,  NONE,KS-0199,  1,      8,02-16014,2,20010727,0829, 26.7087, 133.2987, 5127,   1007.7,   3.8216,  34.3902,2,   -999.0,9,  34.3902,2,   -999.0,9,  -999.00,9,  -999.00,9,  -999.00,9,  -999.00,9,  -999.00,9, -999.000,9, -999.000,9,  -999.00,9,   -999.0,9,   -999.0,9,-999.0000,9,   -999.0,  9,  -999.00,9,   -999.0,  -999.00,9,  -999.00,9,  -999.00,9,  -999.00,9,   -999.0,-999.0000, -999,9,  999,   3.7469,  27.3268,   -999.0,9
       KS01-07,  NONE,KS-0199,  1,      7,02-16013,2,20010727,0827, 26.7087, 133.2987, 5127,   1109.8,   3.4112,  34.4483,2,   -999.0,9,  34.4516,2,   -999.0,9,  -999.00,9,  -999.00,9,  -999.00,9,  -999.00,9,  -999.00,9, -999.000,9, -999.000,9,  -999.00,9,   -999.0,9,   -999.0,9,-999.0000,9,   -999.0,  9,  -999.00,9,   -999.0,  -999.00,9,  -999.00,9,  -999.00,9,  -999.00,9,   -999.0,-999.0000, -999,9, 1100,   3.3315,  27.4137,   -999.0,9
       KS01-07,  NONE,KS-0199,  1,      6,02-16012,2,20010727,0825, 26.7087, 133.2987, 5127,   1211.1,   3.0318,  34.4738,2,   -999.0,9,  34.4742,2,   -999.0,9,  -999.00,9,  -999.00,9,  -999.00,9,  -999.00,9,  -999.00,9, -999.000,9, -999.000,9,  -999.00,9,   -999.0,9,   -999.0,9,-999.0000,9,   -999.0,  9,  -999.00,9,   -999.0,  -999.00,9,  -999.00,9,  -999.00,9,  -999.00,9,   -999.0,-999.0000, -999,9, 1200,   2.9473,  27.4698,   -999.0,9
       KS01-07,  NONE,KS-0199,  1,      5,02-16011,2,20010727,0823, 26.7087, 133.2987, 5127,   1311.8,   2.7745,  34.4972,2,   -999.0,9,  34.4972,2,   -999.0,9,  -999.00,9,  -999.00,9,  -999.00,9,  -999.00,9,  -999.00,9, -999.000,9, -999.000,9,  -999.00,9,   -999.0,9,   -999.0,9,-999.0000,9,   -999.0,  9,  -999.00,9,   -999.0,  -999.00,9,  -999.00,9,  -999.00,9,  -999.00,9,   -999.0,-999.0000, -999,9, 1299,   2.6846,  27.5119,   -999.0,9
       KS01-07,  NONE,KS-0199,  1,      4,02-16010,2,20010727,0821, 26.7087, 133.2987, 5127,   1412.1,   2.5697,  34.5258,2,   -999.0,9,  34.5252,2,   -999.0,9,  -999.00,9,  -999.00,9,  -999.00,9,  -999.00,9,  -999.00,9, -999.000,9, -999.000,9,  -999.00,9,   -999.0,9,   -999.0,9,-999.0000,9,   -999.0,  9,  -999.00,9,   -999.0,  -999.00,9,  -999.00,9,  -999.00,9,  -999.00,9,   -999.0,-999.0000, -999,9, 1398,   2.4739,  27.5529,   -999.0,9
       KS01-07,  NONE,KS-0199,  1,      3,02-16009,2,20010727,0821, 26.7087, 133.2987, 5127,   1411.5,   2.5690,  34.5259,2,   -999.0,9,  34.5254,2,   -999.0,9,  -999.00,9,  -999.00,9,  -999.00,9,  -999.00,9,  -999.00,9, -999.000,9, -999.000,9,  -999.00,9,   -999.0,9,   -999.0,9,-999.0000,9,   -999.0,  9,  -999.00,9,   -999.0,  -999.00,9,  -999.00,9,  -999.00,9,  -999.00,9,   -999.0,-999.0000, -999,9, 1398,   2.4733,  27.5531,   -999.0,9
       KS01-07,  NONE,KS-0199,  1,      2,02-16008,2,20010727,0818, 26.7087, 133.2987, 5127,   1531.2,   2.3969,  34.5500,2,   -999.0,9,  34.5496,2,   -999.0,9,  -999.00,9,  -999.00,9,  -999.00,9,  -999.00,9,  -999.00,9, -999.000,9, -999.000,9,  -999.00,9,   -999.0,9,   -999.0,9,-999.0000,9,   -999.0,  9,  -999.00,9,   -999.0,  -999.00,9,  -999.00,9,  -999.00,9,  -999.00,9,   -999.0,-999.0000, -999,9, 1516,   2.2936,  27.5874,   -999.0,9
       KS01-07,  NONE,KS-0199,  1,      1,02-16007,2,20010727,0818, 26.7087, 133.2987, 5127,   1531.7,   2.3960,  34.5500,2,   -999.0,9,  34.5494,2,   -999.0,9,  -999.00,9,  -999.00,9,  -999.00,9,  -999.00,9,  -999.00,9, -999.000,9, -999.000,9,  -999.00,9,   -999.0,9,   -999.0,9,-999.0000,9,   -999.0,  9,  -999.00,9,   -999.0,  -999.00,9,  -999.00,9,  -999.00,9,  -999.00,9,   -999.0,-999.0000, -999,9, 1516,   2.2927,  27.5875,   -999.0,9