BOTTLE,20130510GEMDJMAYT
EXPOCODE,SECT_ID,STNNBR,CASTNO,SAMPNO,BTLNBR,BTLNBR_FLAG_W,DATE,TIME,LATITUDE,LONGITUDE,DEPTH,CTDPRS,CTDTMP,CTDSAL,CTDSAL_FLAG_W,CTDOXY,CTDOXY_FLAG_W,SALNTY,SALNTY_FLAG_W,OXYGEN,OXYGEN_FLAG_W,SILCAT,SILCAT_FLAG_W,NITRAT,NITRAT_FLAG_W,NO2+NO3,NO2+NO3_FLAG_W,NITRIT,NITRIT_FLAG_W,PHSPHT,PHSPHT_FLAG_W,CFC-11,CFC-11_FLAG_W,CFC-12,CFC-12_FLAG_W,DELC13,DELC13_FLAG_W,TCARBN,TCARBN_FLAG_W,ALKALI,ALKALI_FLAG_W,PH,PH_FLAG_W,PH_TMP,PH_SCALE,PH_NBS,PH_NBS_FLAG_W,C13ERR,TOTALP,TOTALP_FLAG_W,AMMONI,AMMONI_FLAG_W,CHLORA,CHLORA_FLAG_W,PPHYTN,PPHYTN_FLAG_W,REVPRS,REVTMP,DEPTH_,DEPTH_FLAG,CTDDEP,THETA,SIGTHT,DOC,DOC_FLAG_W
,,,,,,,GMT,GMT,,,METER,DBAR,ITS-90,PSS-78,,UMOL/KG,,PSS-78,,UMOL/KG,,UMOL/KG,,UMOL/KG,,UMOL/KG,,UMOL/KG,,UMOL/KG,,PMOL/KG,,PMOL/KG,,/MILLE,,UMOL/KG,,UMOL/KG,,25_DEG_C,,DEG_C,,,,/MILLE,UMOL/KG,,UMOL/KG,,UG/L,,UG/L,,DBAR,ITS-90,METERS,,METERS,DEG_C,,UMOL/L,
       KS01-07,  137E,KS-0164,  1,     24,02-16030,2,20010713,1032, 32.3267, 137.0233, 4034,      4.4,  29.3843,  33.9225,2,   -999.0,9,-999.0000,9,    198.0,2,  -999.00,9,  -999.00,9,     0.00,2,     0.00,2,     0.00,2, -999.000,9, -999.000,9,  -999.00,9,   1894.2,2,   -999.0,9,-999.0000,9,   -999.0,  9,     8.27,2,   -999.0,  -999.00,9,  -999.00,9,     0.08,2,     0.03,2,   -999.0,-999.0000, -999,9,    4,  29.3832,  21.1272,   -999.0,9
       KS01-07,  137E,KS-0164,  1,     23,02-16029,2,20010713,1031, 32.3267, 137.0233, 4034,     10.1,  29.0891,  33.8892,2,   -999.0,9,-999.0000,9,    198.0,2,  -999.00,9,  -999.00,9,     0.00,2,     0.00,2,     0.00,2, -999.000,9, -999.000,9,  -999.00,9,   -999.0,9,   -999.0,9,-999.0000,9,   -999.0,  9,     8.27,2,   -999.0,  -999.00,9,  -999.00,9,     0.08,2,     0.04,2,   -999.0,-999.0000, -999,9,   10,  29.0867,  21.2014,   -999.0,9
       KS01-07,  137E,KS-0164,  1,     22,02-16028,2,20010713,1030, 32.3267, 137.0233, 4034,     24.9,  27.7876,  34.1258,2,   -999.0,9,-999.0000,9,    205.0,2,  -999.00,9,  -999.00,9,     0.00,2,     0.00,2,     0.01,2, -999.000,9, -999.000,9,  -999.00,9,   -999.0,9,   -999.0,9,-999.0000,9,   -999.0,  9,     8.25,2,   -999.0,  -999.00,9,  -999.00,9,     0.09,2,     0.05,2,   -999.0,-999.0000, -999,9,   25,  27.7818,  21.8083,   -999.0,9
       KS01-07,  137E,KS-0164,  1,     21,02-16027,2,20010713,1025, 32.3267, 137.0233, 4034,     49.5,  25.0708,  34.4368,2,   -999.0,9,  34.4540,4,    205.0,2,  -999.00,9,  -999.00,9,     0.00,2,     0.00,2,     0.03,2, -999.000,9, -999.000,9,  -999.00,9,   -999.0,9,   -999.0,9,-999.0000,9,   -999.0,  9,     8.23,2,   -999.0,  -999.00,9,  -999.00,9,     0.19,2,     0.21,2,   -999.0,-999.0000, -999,9,   49,  25.0601,  22.8974,   -999.0,9
       KS01-07,  137E,KS-0164,  1,     20,02-16026,2,20010713,1024, 32.3267, 137.0233, 4034,     74.7,  23.7631,  34.6263,2,   -999.0,9,-999.0000,9,    189.0,2,  -999.00,9,  -999.00,9,     1.95,2,     0.09,2,     0.16,2, -999.000,9, -999.000,9,  -999.00,9,   -999.0,9,   -999.0,9,-999.0000,9,   -999.0,  9,     8.19,2,   -999.0,  -999.00,9,  -999.00,9,     0.36,2,     0.75,2,   -999.0,-999.0000, -999,9,   74,  23.7475,  23.4329,   -999.0,9
       KS01-07,  137E,KS-0164,  1,     19,02-16025,2,20010713,1023, 32.3267, 137.0233, 4034,    100.4,  22.2452,  34.7092,2,   -999.0,9,  34.7178,2,    201.0,2,  -999.00,9,  -999.00,9,     1.37,2,     0.07,2,     0.11,2, -999.000,9, -999.000,9,  -999.00,9,   -999.0,9,   -999.0,9,-999.0000,9,   -999.0,  9,     8.20,2,   -999.0,  -999.00,9,  -999.00,9,     0.13,2,     0.35,2,   -999.0,-999.0000, -999,9,  100,  22.2252,  23.9337,   -999.0,9
       KS01-07,  137E,KS-0164,  1,     18,02-16024,2,20010713,1022, 32.3267, 137.0233, 4034,    124.0,  21.3875,  34.7619,2,   -999.0,9,-999.0000,9,    210.0,2,  -999.00,9,  -999.00,9,     0.29,2,     0.05,2,     0.04,2, -999.000,9, -999.000,9,  -999.00,9,   -999.0,9,   -999.0,9,-999.0000,9,   -999.0,  9,     8.20,2,   -999.0,  -999.00,9,  -999.00,9,     0.07,2,     0.19,2,   -999.0,-999.0000, -999,9,  123,  21.3635,  24.2134,   -999.0,9
       KS01-07,  137E,KS-0164,  1,     17,02-16023,2,20010713,1021, 32.3267, 137.0233, 4034,    151.3,  20.4684,  34.8125,2,   -999.0,9,-999.0000,9,    194.0,2,  -999.00,9,  -999.00,9,     2.54,2,     0.02,2,     0.17,2, -999.000,9, -999.000,9,  -999.00,9,   -999.0,9,   -999.0,9,-999.0000,9,   -999.0,  9,     8.17,2,   -999.0,  -999.00,9,  -999.00,9,     0.01,2,     0.05,2,   -999.0,-999.0000, -999,9,  150,  20.4400,  24.5020,   -999.0,9
       KS01-07,  137E,KS-0164,  1,     16,02-16022,2,20010713,1020, 32.3267, 137.0233, 4034,    202.5,  19.2693,  34.8072,2,   -999.0,9,  34.8092,2,    192.0,2,  -999.00,9,  -999.00,9,     3.81,2,     0.00,2,     0.24,2, -999.000,9, -999.000,9,  -999.00,9,   -999.0,9,   -999.0,9,-999.0000,9,   -999.0,  9,     8.14,2,   -999.0,  -999.00,9,  -999.00,9,     0.00,2,     0.02,2,   -999.0,-999.0000, -999,9,  201,  19.2329,  24.8142,   -999.0,9
       KS01-07,  137E,KS-0164,  1,     15,02-16021,2,20010713,1018, 32.3267, 137.0233, 4034,    251.3,  18.2240,  34.7938,2,   -999.0,9,-999.0000,9,    192.0,2,  -999.00,9,  -999.00,9,     5.17,2,     0.00,2,     0.33,2, -999.000,9, -999.000,9,  -999.00,9,   -999.0,9,   -999.0,9,-999.0000,9,   -999.0,  9,     8.12,2,   -999.0,  -999.00,9,  -999.00,9,     0.00,2,     0.01,2,   -999.0,-999.0000, -999,9,  249,  18.1805,  25.0695,   -999.0,9
       KS01-07,  137E,KS-0164,  1,     14,02-16020,2,20010713,1017, 32.3267, 137.0233, 4034,    300.2,  17.3089,  34.7570,2,   -999.0,9,  34.7624,2,    190.0,2,  -999.00,9,  -999.00,9,     6.63,2,     0.00,2,     0.43,2, -999.000,9, -999.000,9,  -999.00,9,   -999.0,9,   -999.0,9,-999.0000,9,   -999.0,  9,     8.10,2,   -999.0,  -999.00,9,  -999.00,9,     0.00,2,     0.01,2,   -999.0,-999.0000, -999,9,  298,  17.2587,  25.2660,   -999.0,9
       KS01-07,  137E,KS-0164,  1,     13,02-16019,2,20010713,1015, 32.3267, 137.0233, 4034,    401.9,  14.9436,  34.6118,2,   -999.0,9,  34.6138,2,    185.0,2,  -999.00,9,  -999.00,9,    10.82,2,     0.00,2,     0.69,2, -999.000,9, -999.000,9,  -999.00,9,   -999.0,9,   -999.0,9,-999.0000,9,   -999.0,  9,     8.03,2,   -999.0,  -999.00,9,  -999.00,9,  -999.00,9,  -999.00,9,   -999.0,-999.0000, -999,9,  399,  14.8827,  25.6983,   -999.0,9
       KS01-07,  137E,KS-0164,  1,     12,02-16018,2,20010713,1013, 32.3267, 137.0233, 4034,    503.4,  12.3360,  34.4320,2,   -999.0,9,  34.4326,2,    169.0,2,  -999.00,9,  -999.00,9,    16.86,2,     0.00,2,     1.11,2, -999.000,9, -999.000,9,  -999.00,9,   -999.0,9,   -999.0,9,-999.0000,9,   -999.0,  9,     7.94,2,   -999.0,  -999.00,9,  -999.00,9,  -999.00,9,  -999.00,9,   -999.0,-999.0000, -999,9,  499,  12.2687,  26.0964,   -999.0,9
       KS01-07,  137E,KS-0164,  1,     11,02-16017,2,20010713,1011, 32.3267, 137.0233, 4034,    604.4,   9.5903,  34.2518,2,   -999.0,9,  34.2525,2,    151.0,2,  -999.00,9,  -999.00,9,    23.28,2,     0.00,2,     1.58,2, -999.000,9, -999.000,9,  -999.00,9,   -999.0,9,   -999.0,9,-999.0000,9,   -999.0,  9,     7.83,2,   -999.0,  -999.00,9,  -999.00,9,  -999.00,9,  -999.00,9,   -999.0,-999.0000, -999,9,  599,   9.5212,  26.4478,   -999.0,9
       KS01-07,  137E,KS-0164,  1,     10,02-16016,2,20010713,1009, 32.3267, 137.0233, 4034,    705.5,   8.2395,  34.3210,2,   -999.0,9,-999.0000,9,    117.0,2,  -999.00,9,  -999.00,9,    28.63,2,     0.00,2,     1.98,2, -999.000,9, -999.000,9,  -999.00,9,   -999.0,9,   -999.0,9,-999.0000,9,   -999.0,  9,     7.77,2,   -999.0,  -999.00,9,  -999.00,9,  -999.00,9,  -999.00,9,   -999.0,-999.0000, -999,9,  699,   8.1652,  26.7158,   -999.0,9
       KS01-07,  137E,KS-0164,  1,      9,02-16015,2,20010713,1007, 32.3267, 137.0233, 4034,    806.0,   6.1621,  34.2215,2,   -999.0,9,  34.2221,2,     98.0,2,  -999.00,9,  -999.00,9,    33.79,2,     0.00,2,     2.36,2, -999.000,9, -999.000,9,  -999.00,9,   -999.0,9,   -999.0,9,-999.0000,9,   -999.0,  9,     7.65,2,   -999.0,  -999.00,9,  -999.00,9,  -999.00,9,  -999.00,9,   -999.0,-999.0000, -999,9,  799,   6.0893,  26.9261,   -999.0,9
       KS01-07,  137E,KS-0164,  1,      8,02-16014,2,20010713,1004, 32.3267, 137.0233, 4034,    907.7,   5.3621,  34.2998,2,   -999.0,9,-999.0000,9,     83.0,2,  -999.00,9,  -999.00,9,    36.51,2,     0.00,2,     2.55,2, -999.000,9, -999.000,9,  -999.00,9,   -999.0,9,   -999.0,9,-999.0000,9,   -999.0,  9,     7.62,2,   -999.0,  -999.00,9,  -999.00,9,  -999.00,9,  -999.00,9,   -999.0,-999.0000, -999,9,  899,   5.2849,  27.0869,   -999.0,9
       KS01-07,  137E,KS-0164,  1,      7,02-16013,2,20010713,1002, 32.3267, 137.0233, 4034,   1008.8,   4.5900,  34.3540,2,   -999.0,9,  34.3545,2,     73.0,2,  -999.00,9,  -999.00,9,    38.26,2,     0.00,2,     2.68,2, -999.000,9, -999.000,9,  -999.00,9,   -999.0,9,   -999.0,9,-999.0000,9,   -999.0,  9,     7.58,2,   -999.0,  -999.00,9,  -999.00,9,  -999.00,9,  -999.00,9,   -999.0,-999.0000, -999,9,  999,   4.5093,  27.2182,   -999.0,9
       KS01-07,  137E,KS-0164,  1,      6,02-16012,2,20010713,0957, 32.3267, 137.0233, 4034,   1262.7,   3.3263,  34.4352,2,   -999.0,9,  34.4337,2,     64.0,2,  -999.00,9,  -999.00,9,    40.39,2,     0.01,2,     2.83,2, -999.000,9, -999.000,9,  -999.00,9,   -999.0,9,   -999.0,9,-999.0000,9,   -999.0,  9,     7.56,2,   -999.0,  -999.00,9,  -999.00,9,  -999.00,9,  -999.00,9,   -999.0,-999.0000, -999,9, 1250,   3.2349,  27.4124,   -999.0,9
       KS01-07,  137E,KS-0164,  1,      5,02-16011,2,20010713,0952, 32.3267, 137.0233, 4034,   1516.3,   2.5398,  34.5267,2,   -999.0,9,  34.5290,2,     80.0,2,  -999.00,9,  -999.00,9,    40.29,2,     0.01,2,     2.76,2, -999.000,9, -999.000,9,  -999.00,9,   -999.0,9,   -999.0,9,-999.0000,9,   -999.0,  9,     7.59,2,   -999.0,  -999.00,9,  -999.00,9,  -999.00,9,  -999.00,9,   -999.0,-999.0000, -999,9, 1500,   2.4361,  27.5569,   -999.0,9
       KS01-07,  137E,KS-0164,  1,      4,02-16010,9,20010713,0944, 32.3267, 137.0233, 4034,   2021.9,   1.9639,  34.6078,2,   -999.0,9,-999.0000,9,   -999.0,9,  -999.00,9,  -999.00,9,  -999.00,9,  -999.00,9,  -999.00,9, -999.000,9, -999.000,9,  -999.00,9,   -999.0,9,   -999.0,9,-999.0000,9,   -999.0,  9,  -999.00,9,   -999.0,  -999.00,9,  -999.00,9,  -999.00,9,  -999.00,9,   -999.0,-999.0000, -999,9, 1998,   1.8263,  27.6710,   -999.0,9
       KS01-07,  137E,KS-0164,  1,      3,02-16009,9,20010713,0944, 32.3267, 137.0233, 4034,   2022.5,   1.9638,  34.6077,2,   -999.0,9,-999.0000,9,   -999.0,9,  -999.00,9,  -999.00,9,  -999.00,9,  -999.00,9,  -999.00,9, -999.000,9, -999.000,9,  -999.00,9,   -999.0,9,   -999.0,9,-999.0000,9,   -999.0,  9,  -999.00,9,   -999.0,  -999.00,9,  -999.00,9,  -999.00,9,  -999.00,9,   -999.0,-999.0000, -999,9, 1999,   1.8261,  27.6710,   -999.0,9
       KS01-07,  137E,KS-0164,  1,      2,02-16008,9,20010713,0943, 32.3267, 137.0233, 4034,   2022.2,   1.9635,  34.6077,2,   -999.0,9,-999.0000,9,   -999.0,9,  -999.00,9,  -999.00,9,  -999.00,9,  -999.00,9,  -999.00,9, -999.000,9, -999.000,9,  -999.00,9,   -999.0,9,   -999.0,9,-999.0000,9,   -999.0,  9,  -999.00,9,   -999.0,  -999.00,9,  -999.00,9,  -999.00,9,  -999.00,9,   -999.0,-999.0000, -999,9, 1998,   1.8258,  27.6710,   -999.0,9
       KS01-07,  137E,KS-0164,  1,      1,02-16007,2,20010713,0943, 32.3267, 137.0233, 4034,   2022.9,   1.9636,  34.6078,2,   -999.0,9,  34.6089,2,    110.0,2,  -999.00,9,  -999.00,9,    38.83,2,     0.00,2,     2.64,2, -999.000,9, -999.000,9,  -999.00,9,   -999.0,9,   -999.0,9,-999.0000,9,   -999.0,  9,     7.65,2,   -999.0,  -999.00,9,  -999.00,9,  -999.00,9,  -999.00,9,   -999.0,-999.0000, -999,9, 1999,   1.8259,  27.6710,   -999.0,9