BOTTLE,20130510GEMDJMAYT
EXPOCODE,SECT_ID,STNNBR,CASTNO,SAMPNO,BTLNBR,BTLNBR_FLAG_W,DATE,TIME,LATITUDE,LONGITUDE,DEPTH,CTDPRS,CTDTMP,CTDSAL,CTDSAL_FLAG_W,CTDOXY,CTDOXY_FLAG_W,SALNTY,SALNTY_FLAG_W,OXYGEN,OXYGEN_FLAG_W,SILCAT,SILCAT_FLAG_W,NITRAT,NITRAT_FLAG_W,NO2+NO3,NO2+NO3_FLAG_W,NITRIT,NITRIT_FLAG_W,PHSPHT,PHSPHT_FLAG_W,CFC-11,CFC-11_FLAG_W,CFC-12,CFC-12_FLAG_W,DELC13,DELC13_FLAG_W,TCARBN,TCARBN_FLAG_W,ALKALI,ALKALI_FLAG_W,PH,PH_FLAG_W,PH_TMP,PH_SCALE,PH_NBS,PH_NBS_FLAG_W,C13ERR,TOTALP,TOTALP_FLAG_W,AMMONI,AMMONI_FLAG_W,CHLORA,CHLORA_FLAG_W,PPHYTN,PPHYTN_FLAG_W,REVPRS,REVTMP,DEPTH_,DEPTH_FLAG,CTDDEP,THETA,SIGTHT,DOC,DOC_FLAG_W
,,,,,,,GMT,GMT,,,METER,DBAR,ITS-90,PSS-78,,UMOL/KG,,PSS-78,,UMOL/KG,,UMOL/KG,,UMOL/KG,,UMOL/KG,,UMOL/KG,,UMOL/KG,,PMOL/KG,,PMOL/KG,,/MILLE,,UMOL/KG,,UMOL/KG,,25_DEG_C,,DEG_C,,,,/MILLE,UMOL/KG,,UMOL/KG,,UG/L,,UG/L,,DBAR,ITS-90,METERS,,METERS,DEG_C,,UMOL/L,
       KS01-07,  137E,KS-0170,  1,     24,02-16030,2,20010714,0957, 29.9997, 136.9713, 4374,      4.7,  29.4760,  33.9246,2,   -999.0,9,-999.0000,9,    204.0,2,  -999.00,9,  -999.00,9,     0.00,2,     0.00,2,     0.00,2, -999.000,9, -999.000,9,  -999.00,9,   1899.0,2,   -999.0,9,-999.0000,9,   -999.0,  9,     8.22,2,   -999.0,  -999.00,9,  -999.00,9,     0.03,2,     0.01,2,   -999.0,-999.0000, -999,9,    5,  29.4749,  21.0979,   -999.0,9
       KS01-07,  137E,KS-0170,  1,     23,02-16029,2,20010714,0956, 29.9997, 136.9713, 4374,     10.5,  29.1101,  33.9465,2,   -999.0,9,-999.0000,9,    198.0,2,  -999.00,9,  -999.00,9,     0.00,2,     0.00,2,     0.00,2, -999.000,9, -999.000,9,  -999.00,9,   1900.8,2,   -999.0,9,-999.0000,9,   -999.0,  9,     8.23,2,   -999.0,  -999.00,9,  -999.00,9,     0.07,2,     0.02,2,   -999.0,-999.0000, -999,9,   10,  29.1076,  21.2375,   -999.0,9
       KS01-07,  137E,KS-0170,  1,     22,02-16028,2,20010714,0954, 29.9997, 136.9713, 4374,     24.1,  27.6652,  33.9727,2,   -999.0,9,-999.0000,9,    207.0,2,  -999.00,9,  -999.00,9,     0.00,2,     0.00,2,     0.00,2, -999.000,9, -999.000,9,  -999.00,9,   1902.8,2,   -999.0,9,-999.0000,9,   -999.0,  9,     8.23,2,   -999.0,  -999.00,9,  -999.00,9,     0.10,2,     0.03,2,   -999.0,-999.0000, -999,9,   24,  27.6596,  21.7327,   -999.0,9
       KS01-07,  137E,KS-0170,  1,     21,02-16027,2,20010714,0949, 29.9997, 136.9713, 4374,     49.0,  23.4759,  34.5813,2,   -999.0,9,  34.5957,4,    219.0,2,  -999.00,9,  -999.00,9,     0.00,2,     0.00,2,     0.00,2, -999.000,9, -999.000,9,  -999.00,9,   1943.5,2,   -999.0,9,-999.0000,9,   -999.0,  9,     8.21,2,   -999.0,  -999.00,9,  -999.00,9,     0.10,2,     0.05,2,   -999.0,-999.0000, -999,9,   49,  23.4658,  23.4812,   -999.0,9
       KS01-07,  137E,KS-0170,  1,     20,02-16026,2,20010714,0948, 29.9997, 136.9713, 4374,     74.1,  22.2552,  34.7240,2,   -999.0,9,-999.0000,9,    216.0,2,  -999.00,9,  -999.00,9,     0.00,2,     0.00,2,     0.01,2, -999.000,9, -999.000,9,  -999.00,9,   1960.1,2,   -999.0,9,-999.0000,9,   -999.0,  9,     8.20,2,   -999.0,  -999.00,9,  -999.00,9,     0.15,2,     0.12,2,   -999.0,-999.0000, -999,9,   74,  22.2405,  23.9406,   -999.0,9
       KS01-07,  137E,KS-0170,  1,     19,02-16025,2,20010714,0947, 29.9997, 136.9713, 4374,     99.5,  21.4680,  34.7581,2,   -999.0,9,  34.7659,2,    204.0,2,  -999.00,9,  -999.00,9,     0.68,2,     0.09,2,     0.06,2, -999.000,9, -999.000,9,  -999.00,9,   1976.3,2,   -999.0,9,-999.0000,9,   -999.0,  9,     8.18,2,   -999.0,  -999.00,9,  -999.00,9,     0.26,2,     0.69,2,   -999.0,-999.0000, -999,9,   99,  21.4487,  24.1870,   -999.0,9
       KS01-07,  137E,KS-0170,  1,     18,02-16024,2,20010714,0946, 29.9997, 136.9713, 4374,    124.5,  20.9443,  34.8106,2,   -999.0,9,-999.0000,9,    199.0,2,  -999.00,9,  -999.00,9,     1.46,2,     0.06,2,     0.10,2, -999.000,9, -999.000,9,  -999.00,9,   1987.1,2,   -999.0,9,-999.0000,9,   -999.0,  9,     8.16,2,   -999.0,  -999.00,9,  -999.00,9,     0.14,2,     0.36,2,   -999.0,-999.0000, -999,9,  124,  20.9206,  24.3713,   -999.0,9
       KS01-07,  137E,KS-0170,  1,     17,02-16023,2,20010714,0945, 29.9997, 136.9713, 4374,    150.7,  20.0826,  34.7960,2,   -999.0,9,-999.0000,9,    204.0,2,  -999.00,9,  -999.00,9,     1.76,2,     0.02,2,     0.12,2, -999.000,9, -999.000,9,  -999.00,9,   1991.2,2,   -999.0,9,-999.0000,9,   -999.0,  9,     8.16,2,   -999.0,  -999.00,9,  -999.00,9,     0.04,2,     0.09,2,   -999.0,-999.0000, -999,9,  150,  20.0547,  24.5918,   -999.0,9
       KS01-07,  137E,KS-0170,  1,     16,02-16022,3,20010714,0944, 29.9997, 136.9713, 4374,    200.2,  19.3137,  34.8062,2,   -999.0,9,  34.8104,2,    199.0,2,  -999.00,9,  -999.00,9,     3.02,2,     0.01,2,     0.20,2, -999.000,9, -999.000,9,  -999.00,9,   2003.3,2,   -999.0,9,-999.0000,9,   -999.0,  9,     8.13,2,   -999.0,  -999.00,9,  -999.00,9,     0.01,2,     0.02,2,   -999.0,-999.0000, -999,9,  199,  19.2776,  24.8020,   -999.0,9
       KS01-07,  137E,KS-0170,  1,     15,02-16021,2,20010714,0943, 29.9997, 136.9713, 4374,    250.7,  18.4832,  34.8021,2,   -999.0,9,-999.0000,9,    192.0,2,  -999.00,9,  -999.00,9,     4.59,2,     0.01,2,     0.29,2, -999.000,9, -999.000,9,  -999.00,9,   2021.4,2,   -999.0,9,-999.0000,9,   -999.0,  9,     8.11,2,   -999.0,  -999.00,9,  -999.00,9,     0.00,2,     0.01,2,   -999.0,-999.0000, -999,9,  249,  18.4393,  25.0115,   -999.0,9
       KS01-07,  137E,KS-0170,  1,     14,02-16020,2,20010714,0941, 29.9997, 136.9713, 4374,    302.3,  17.7004,  34.7767,2,   -999.0,9,  34.7791,2,    193.0,2,  -999.00,9,  -999.00,9,     5.76,2,     0.00,2,     0.37,2, -999.000,9, -999.000,9,  -999.00,9,   -999.0,9,   -999.0,9,-999.0000,9,   -999.0,  9,     8.09,2,   -999.0,  -999.00,9,  -999.00,9,     0.00,2,     0.01,2,   -999.0,-999.0000, -999,9,  300,  17.6490,  25.1869,   -999.0,9
       KS01-07,  137E,KS-0170,  1,     13,02-16019,2,20010714,0939, 29.9997, 136.9713, 4374,    402.8,  16.2915,  34.7051,2,   -999.0,9,  34.7070,2,    189.0,2,  -999.00,9,  -999.00,9,     8.29,2,     0.00,2,     0.52,2, -999.000,9, -999.000,9,  -999.00,9,   -999.0,9,   -999.0,9,-999.0000,9,   -999.0,  9,     8.05,2,   -999.0,  -999.00,9,  -999.00,9,  -999.00,9,  -999.00,9,   -999.0,-999.0000, -999,9,  400,  16.2267,  25.4687,   -999.0,9
       KS01-07,  137E,KS-0170,  1,     12,02-16018,2,20010714,0937, 29.9997, 136.9713, 4374,    502.9,  13.9545,  34.5389,2,   -999.0,9,  34.5408,2,    183.0,2,  -999.00,9,  -999.00,9,    12.77,2,     0.00,2,     0.83,2, -999.000,9, -999.000,9,  -999.00,9,   -999.0,9,   -999.0,9,-999.0000,9,   -999.0,  9,     7.99,2,   -999.0,  -999.00,9,  -999.00,9,  -999.00,9,  -999.00,9,   -999.0,-999.0000, -999,9,  499,  13.8815,  25.8555,   -999.0,9
       KS01-07,  137E,KS-0170,  1,     11,02-16017,2,20010714,0934, 29.9997, 136.9713, 4374,    604.7,  11.2823,  34.3738,2,   -999.0,9,  34.3790,2,    160.0,2,  -999.00,9,  -999.00,9,    19.49,2,     0.00,2,     1.31,2, -999.000,9, -999.000,9,  -999.00,9,   -999.0,9,   -999.0,9,-999.0000,9,   -999.0,  9,     7.89,2,   -999.0,  -999.00,9,  -999.00,9,  -999.00,9,  -999.00,9,   -999.0,-999.0000, -999,9,  600,  11.2057,  26.2506,   -999.0,9
       KS01-07,  137E,KS-0170,  1,     10,02-16016,2,20010714,0932, 29.9997, 136.9713, 4374,    705.9,   8.5720,  34.2661,2,   -999.0,9,-999.0000,9,    128.0,2,  -999.00,9,  -999.00,9,    27.18,2,     0.00,2,     1.85,2, -999.000,9, -999.000,9,  -999.00,9,   -999.0,9,   -999.0,9,-999.0000,9,   -999.0,  9,     7.76,2,   -999.0,  -999.00,9,  -999.00,9,  -999.00,9,  -999.00,9,   -999.0,-999.0000, -999,9,  700,   8.4960,  26.6224,   -999.0,9
       KS01-07,  137E,KS-0170,  1,      9,02-16015,2,20010714,0930, 29.9997, 136.9713, 4374,    806.4,   6.9359,  34.2731,2,   -999.0,9,  34.2754,2,    105.0,2,  -999.00,9,  -999.00,9,    32.04,2,     0.00,2,     2.21,2, -999.000,9, -999.000,9,  -999.00,9,   -999.0,9,   -999.0,9,-999.0000,9,   -999.0,  9,     7.67,2,   -999.0,  -999.00,9,  -999.00,9,  -999.00,9,  -999.00,9,   -999.0,-999.0000, -999,9,  799,   6.8583,  26.8656,   -999.0,9
       KS01-07,  137E,KS-0170,  1,      8,02-16014,2,20010714,0928, 29.9997, 136.9713, 4374,    907.5,   5.4041,  34.2919,2,   -999.0,9,-999.0000,9,     83.0,2,  -999.00,9,  -999.00,9,    36.12,2,     0.00,2,     2.55,2, -999.000,9, -999.000,9,  -999.00,9,   -999.0,9,   -999.0,9,-999.0000,9,   -999.0,  9,     7.61,2,   -999.0,  -999.00,9,  -999.00,9,  -999.00,9,  -999.00,9,   -999.0,-999.0000, -999,9,  899,   5.3266,  27.0757,   -999.0,9
       KS01-07,  137E,KS-0170,  1,      7,02-16013,2,20010714,0925, 29.9997, 136.9713, 4374,   1007.8,   4.5017,  34.3272,2,   -999.0,9,  34.3274,2,     71.0,2,  -999.00,9,  -999.00,9,    38.45,2,     0.00,2,     2.72,2, -999.000,9, -999.000,9,  -999.00,9,   -999.0,9,   -999.0,9,-999.0000,9,   -999.0,  9,     7.57,2,   -999.0,  -999.00,9,  -999.00,9,  -999.00,9,  -999.00,9,   -999.0,-999.0000, -999,9,  998,   4.4218,  27.2064,   -999.0,9
       KS01-07,  137E,KS-0170,  1,      6,02-16012,2,20010714,0920, 29.9997, 136.9713, 4374,   1260.7,   3.3031,  34.4412,2,   -999.0,9,  34.4347,4,     65.0,2,  -999.00,9,  -999.00,9,    40.30,2,     0.00,2,     2.86,2, -999.000,9, -999.000,9,  -999.00,9,   -999.0,9,   -999.0,9,-999.0000,9,   -999.0,  9,     7.55,2,   -999.0,  -999.00,9,  -999.00,9,  -999.00,9,  -999.00,9,   -999.0,-999.0000, -999,9, 1248,   3.2121,  27.4194,   -999.0,9
       KS01-07,  137E,KS-0170,  1,      5,02-16011,2,20010714,0915, 29.9997, 136.9713, 4374,   1514.9,   2.6619,  34.5128,2,   -999.0,9,  34.5103,2,     76.0,2,  -999.00,9,  -999.00,9,    40.29,2,     0.00,2,     2.82,2, -999.000,9, -999.000,9,  -999.00,9,   -999.0,9,   -999.0,9,-999.0000,9,   -999.0,  9,     7.57,2,   -999.0,  -999.00,9,  -999.00,9,  -999.00,9,  -999.00,9,   -999.0,-999.0000, -999,9, 1499,   2.5569,  27.5354,   -999.0,9
       KS01-07,  137E,KS-0170,  1,      4,02-16010,2,20010714,0906, 29.9997, 136.9713, 4374,   2023.6,   2.0244,  34.5992,2,   -999.0,9,  34.5959,2,    105.0,2,  -999.00,9,  -999.00,9,    39.02,2,     0.00,2,     2.69,2, -999.000,9, -999.000,9,  -999.00,9,   -999.0,9,   -999.0,9,-999.0000,9,   -999.0,  9,     7.63,2,   -999.0,  -999.00,9,  -999.00,9,  -999.00,9,  -999.00,9,   -999.0,-999.0000, -999,9, 2000,   1.8857,  27.6595,   -999.0,9
       KS01-07,  137E,KS-0170,  1,      3,02-16009,2,20010714,0849, 29.9997, 136.9713, 4374,   3041.4,   1.5875,  34.6652,2,   -999.0,9,  34.6653,2,    142.0,2,  -999.00,9,  -999.00,9,    37.07,2,     0.00,2,     2.53,2, -999.000,9, -999.000,9,  -999.00,9,   -999.0,9,   -999.0,9,-999.0000,9,   -999.0,  9,     7.69,2,   -999.0,  -999.00,9,  -999.00,9,  -999.00,9,  -999.00,9,   -999.0,-999.0000, -999,9, 2999,   1.3649,  27.7512,   -999.0,9
       KS01-07,  137E,KS-0170,  1,      2,02-16008,2,20010714,0833, 29.9997, 136.9713, 4374,   4064.3,   1.5442,  34.6810,2,   -999.0,9,  34.6806,2,    154.0,2,  -999.00,9,  -999.00,9,    36.39,2,     0.00,2,     2.47,2, -999.000,9, -999.000,9,  -999.00,9,   -999.0,9,   -999.0,9,-999.0000,9,   -999.0,  9,     7.71,2,   -999.0,  -999.00,9,  -999.00,9,  -999.00,9,  -999.00,9,   -999.0,-999.0000, -999,9, 3998,   1.2170,  27.7743,   -999.0,9
       KS01-07,  137E,KS-0170,  1,      1,02-16007,2,20010714,0826, 29.9997, 136.9713, 4374,   4375.2,   1.5722,  34.6815,2,   -999.0,9,  34.6822,2,    154.0,2,  -999.00,9,  -999.00,9,    36.39,2,     0.00,2,     2.48,2, -999.000,9, -999.000,9,  -999.00,9,   -999.0,9,   -999.0,9,-999.0000,9,   -999.0,  9,     7.72,2,   -999.0,  -999.00,9,  -999.00,9,  -999.00,9,  -999.00,9,   -999.0,-999.0000, -999,9, 4301,   1.2094,  27.7752,   -999.0,9