BOTTLE,20130510GEMDJMAYT
EXPOCODE,SECT_ID,STNNBR,CASTNO,SAMPNO,BTLNBR,BTLNBR_FLAG_W,DATE,TIME,LATITUDE,LONGITUDE,DEPTH,CTDPRS,CTDTMP,CTDSAL,CTDSAL_FLAG_W,CTDOXY,CTDOXY_FLAG_W,SALNTY,SALNTY_FLAG_W,OXYGEN,OXYGEN_FLAG_W,SILCAT,SILCAT_FLAG_W,NITRAT,NITRAT_FLAG_W,NO2+NO3,NO2+NO3_FLAG_W,NITRIT,NITRIT_FLAG_W,PHSPHT,PHSPHT_FLAG_W,CFC-11,CFC-11_FLAG_W,CFC-12,CFC-12_FLAG_W,DELC13,DELC13_FLAG_W,TCARBN,TCARBN_FLAG_W,ALKALI,ALKALI_FLAG_W,PH,PH_FLAG_W,PH_TMP,PH_SCALE,PH_NBS,PH_NBS_FLAG_W,C13ERR,TOTALP,TOTALP_FLAG_W,AMMONI,AMMONI_FLAG_W,CHLORA,CHLORA_FLAG_W,PPHYTN,PPHYTN_FLAG_W,REVPRS,REVTMP,DEPTH_,DEPTH_FLAG,CTDDEP,THETA,SIGTHT,DOC,DOC_FLAG_W
,,,,,,,GMT,GMT,,,METER,DBAR,ITS-90,PSS-78,,UMOL/KG,,PSS-78,,UMOL/KG,,UMOL/KG,,UMOL/KG,,UMOL/KG,,UMOL/KG,,UMOL/KG,,PMOL/KG,,PMOL/KG,,/MILLE,,UMOL/KG,,UMOL/KG,,25_DEG_C,,DEG_C,,,,/MILLE,UMOL/KG,,UMOL/KG,,UG/L,,UG/L,,DBAR,ITS-90,METERS,,METERS,DEG_C,,UMOL/L,
       KS01-07,  137E,KS-0180,  1,     24,02-16030,2,20010717,0523, 20.0025, 137.0253, 4635,      4.9,  30.8911,  34.7106,2,   -999.0,9,-999.0000,9,    193.0,2,  -999.00,9,  -999.00,9,     0.00,2,     0.00,2,     0.00,2, -999.000,9, -999.000,9,  -999.00,9,   1928.2,2,   -999.0,9,-999.0000,9,   -999.0,  9,     8.28,2,   -999.0,  -999.00,9,  -999.00,9,     0.03,2,     0.02,2,   -999.0,-999.0000, -999,9,    5,  30.8898,  21.2028,   -999.0,9
       KS01-07,  137E,KS-0180,  1,     23,02-16029,2,20010717,0522, 20.0025, 137.0253, 4635,     10.1,  30.4380,  34.7041,2,   -999.0,9,-999.0000,9,    194.0,2,  -999.00,9,  -999.00,9,     0.00,2,     0.00,2,     0.00,2, -999.000,9, -999.000,9,  -999.00,9,   1924.8,2,   -999.0,9,-999.0000,9,   -999.0,  9,     8.28,2,   -999.0,  -999.00,9,  -999.00,9,     0.04,2,     0.01,2,   -999.0,-999.0000, -999,9,   10,  30.4355,  21.3551,   -999.0,9
       KS01-07,  137E,KS-0180,  1,     22,02-16028,2,20010717,0521, 20.0025, 137.0253, 4635,     24.7,  29.9940,  34.6574,2,   -999.0,9,-999.0000,9,    197.0,2,  -999.00,9,  -999.00,9,     0.00,2,     0.00,2,     0.00,2, -999.000,9, -999.000,9,  -999.00,9,   1929.4,2,   -999.0,9,-999.0000,9,   -999.0,  9,     8.28,2,   -999.0,  -999.00,9,  -999.00,9,     0.02,2,     0.01,2,   -999.0,-999.0000, -999,9,   25,  29.9879,  21.4735,   -999.0,9
       KS01-07,  137E,KS-0180,  1,     21,02-16027,2,20010717,0517, 20.0025, 137.0253, 4635,     50.2,  25.1557,  34.6597,2,   -999.0,9,  34.6643,2,    220.0,2,  -999.00,9,  -999.00,9,     0.00,2,     0.00,2,     0.00,2, -999.000,9, -999.000,9,  -999.00,9,   1939.0,2,   -999.0,9,-999.0000,9,   -999.0,  9,     8.26,2,   -999.0,  -999.00,9,  -999.00,9,     0.06,2,     0.02,2,   -999.0,-999.0000, -999,9,   50,  25.1448,  23.0400,   -999.0,9
       KS01-07,  137E,KS-0180,  1,     20,02-16026,2,20010717,0516, 20.0025, 137.0253, 4635,     76.3,  23.6947,  34.7946,2,   -999.0,9,-999.0000,9,    219.0,2,  -999.00,9,  -999.00,9,     0.00,2,     0.00,2,     0.00,2, -999.000,9, -999.000,9,  -999.00,9,   1952.5,3,   -999.0,9,-999.0000,9,   -999.0,  9,     8.26,2,   -999.0,  -999.00,9,  -999.00,9,     0.10,2,     0.06,2,   -999.0,-999.0000, -999,9,   76,  23.6788,  23.5805,   -999.0,9
       KS01-07,  137E,KS-0180,  1,     19,02-16025,2,20010717,0515, 20.0025, 137.0253, 4635,    100.7,  22.6617,  34.8647,2,   -999.0,9,  34.8682,2,    212.0,2,  -999.00,9,  -999.00,9,     0.00,2,     0.00,2,     0.00,2, -999.000,9, -999.000,9,  -999.00,9,   1968.6,2,   -999.0,9,-999.0000,9,   -999.0,  9,     8.23,2,   -999.0,  -999.00,9,  -999.00,9,     0.15,2,     0.15,2,   -999.0,-999.0000, -999,9,  100,  22.6414,  23.9338,   -999.0,9
       KS01-07,  137E,KS-0180,  1,     18,02-16024,2,20010717,0514, 20.0025, 137.0253, 4635,    125.9,  21.0898,  34.7925,2,   -999.0,9,-999.0000,9,    215.0,2,  -999.00,9,  -999.00,9,     0.20,2,     0.06,2,     0.01,2, -999.000,9, -999.000,9,  -999.00,9,   1974.2,2,   -999.0,9,-999.0000,9,   -999.0,  9,     8.22,2,   -999.0,  -999.00,9,  -999.00,9,     0.16,2,     0.36,2,   -999.0,-999.0000, -999,9,  125,  21.0657,  24.3181,   -999.0,9
       KS01-07,  137E,KS-0180,  1,     17,02-16023,2,20010717,0513, 20.0025, 137.0253, 4635,    151.2,  20.4538,  34.8592,2,   -999.0,9,-999.0000,9,    191.0,2,  -999.00,9,  -999.00,9,     2.44,2,     0.03,2,     0.15,2, -999.000,9, -999.000,9,  -999.00,9,   2008.0,3,   -999.0,9,-999.0000,9,   -999.0,  9,     8.17,2,   -999.0,  -999.00,9,  -999.00,9,     0.06,2,     0.19,2,   -999.0,-999.0000, -999,9,  150,  20.4254,  24.5415,   -999.0,9
       KS01-07,  137E,KS-0180,  1,     16,02-16022,2,20010717,0511, 20.0025, 137.0253, 4635,    200.4,  18.4250,  34.8060,2,   -999.0,9,  34.8086,2,    195.0,2,  -999.00,9,  -999.00,9,     4.20,2,     0.00,2,     0.25,2, -999.000,9, -999.000,9,  -999.00,9,   2021.0,3,   -999.0,9,-999.0000,9,   -999.0,  9,     8.14,2,   -999.0,  -999.00,9,  -999.00,9,     0.00,2,     0.01,2,   -999.0,-999.0000, -999,9,  199,  18.3901,  25.0267,   -999.0,9
       KS01-07,  137E,KS-0180,  1,     15,02-16021,2,20010717,0509, 20.0025, 137.0253, 4635,    251.3,  17.2387,  34.7580,2,   -999.0,9,-999.0000,9,    197.0,2,  -999.00,9,  -999.00,9,     5.85,2,     0.00,2,     0.37,2, -999.000,9, -999.000,9,  -999.00,9,   2033.8,3,   -999.0,9,-999.0000,9,   -999.0,  9,     8.11,2,   -999.0,  -999.00,9,  -999.00,9,     0.00,2,     0.01,2,   -999.0,-999.0000, -999,9,  250,  17.1968,  25.2816,   -999.0,9
       KS01-07,  137E,KS-0180,  1,     14,02-16020,2,20010717,0508, 20.0025, 137.0253, 4635,    302.0,  16.2314,  34.7011,2,   -999.0,9,  34.7022,2,    194.0,2,  -999.00,9,  -999.00,9,     7.80,2,     0.00,2,     0.50,2, -999.000,9, -999.000,9,  -999.00,9,   -999.0,9,   -999.0,9,-999.0000,9,   -999.0,  9,  -999.00,9,   -999.0,  -999.00,9,  -999.00,9,     0.00,2,     0.01,2,   -999.0,-999.0000, -999,9,  300,  16.1831,  25.4757,   -999.0,9
       KS01-07,  137E,KS-0180,  1,     13,02-16019,2,20010717,0503, 20.0025, 137.0253, 4635,    503.5,   9.6255,  34.2268,2,   -999.0,9,  34.2254,2,    152.0,2,  -999.00,9,  -999.00,9,    23.58,2,     0.00,2,     1.62,2, -999.000,9, -999.000,9,  -999.00,9,   -999.0,9,   -999.0,9,-999.0000,9,   -999.0,  9,  -999.00,9,   -999.0,  -999.00,9,  -999.00,9,  -999.00,9,  -999.00,9,   -999.0,-999.0000, -999,9,  500,   9.5681,  26.4205,   -999.0,9
       KS01-07,  137E,KS-0180,  1,     12,02-16018,2,20010717,0500, 20.0025, 137.0253, 4635,    603.6,   7.0139,  34.1491,2,   -999.0,9,  34.1481,2,    106.0,2,  -999.00,9,  -999.00,9,    32.43,2,     0.00,2,     2.27,2, -999.000,9, -999.000,9,  -999.00,9,   -999.0,9,   -999.0,9,-999.0000,9,   -999.0,  9,  -999.00,9,   -999.0,  -999.00,9,  -999.00,9,  -999.00,9,  -999.00,9,   -999.0,-999.0000, -999,9,  599,   6.9564,  26.7545,   -999.0,9
       KS01-07,  137E,KS-0180,  1,     11,02-16017,2,20010717,0457, 20.0025, 137.0253, 4635,    705.2,   5.8315,  34.1623,2,   -999.0,9,  34.1611,2,     85.0,2,  -999.00,9,  -999.00,9,    36.22,2,     0.00,2,     2.56,2, -999.000,9, -999.000,9,  -999.00,9,   -999.0,9,   -999.0,9,-999.0000,9,   -999.0,  9,  -999.00,9,   -999.0,  -999.00,9,  -999.00,9,  -999.00,9,  -999.00,9,   -999.0,-999.0000, -999,9,  700,   5.7702,  26.9194,   -999.0,9
       KS01-07,  137E,KS-0180,  1,     10,02-16016,2,20010717,0455, 20.0025, 137.0253, 4635,    806.4,   4.7419,  34.2580,2,   -999.0,9,-999.0000,9,     63.0,2,  -999.00,9,  -999.00,9,    39.72,2,     0.00,2,     2.81,2, -999.000,9, -999.000,9,  -999.00,9,   -999.0,9,   -999.0,9,-999.0000,9,   -999.0,  9,  -999.00,9,   -999.0,  -999.00,9,  -999.00,9,  -999.00,9,  -999.00,9,   -999.0,-999.0000, -999,9,  800,   4.6778,  27.1233,   -999.0,9
       KS01-07,  137E,KS-0180,  1,      9,02-16015,2,20010717,0452, 20.0025, 137.0253, 4635,    908.0,   4.0410,  34.3435,2,   -999.0,9,  34.3439,2,     56.0,2,  -999.00,9,  -999.00,9,    41.08,2,     0.00,2,     2.92,2, -999.000,9, -999.000,9,  -999.00,9,   -999.0,9,   -999.0,9,-999.0000,9,   -999.0,  9,  -999.00,9,   -999.0,  -999.00,9,  -999.00,9,  -999.00,9,  -999.00,9,   -999.0,-999.0000, -999,9,  901,   3.9729,  27.2667,   -999.0,9
       KS01-07,  137E,KS-0180,  1,      8,02-16014,2,20010717,0449, 20.0025, 137.0253, 4635,   1009.9,   3.5474,  34.4123,2,   -999.0,9,-999.0000,9,     59.0,2,  -999.00,9,  -999.00,9,    41.56,2,     0.00,2,     2.95,2, -999.000,9, -999.000,9,  -999.00,9,   -999.0,9,   -999.0,9,-999.0000,9,   -999.0,  9,  -999.00,9,   -999.0,  -999.00,9,  -999.00,9,  -999.00,9,  -999.00,9,   -999.0,-999.0000, -999,9, 1001,   3.4746,  27.3713,   -999.0,9
       KS01-07,  137E,KS-0180,  1,      7,02-16013,9,20010717,0449, 20.0025, 137.0253, 4635,   1009.5,   3.5505,  34.4120,2,   -999.0,9,-999.0000,9,   -999.0,9,  -999.00,9,  -999.00,9,  -999.00,9,  -999.00,9,  -999.00,9, -999.000,9, -999.000,9,  -999.00,9,   -999.0,9,   -999.0,9,-999.0000,9,   -999.0,  9,  -999.00,9,   -999.0,  -999.00,9,  -999.00,9,  -999.00,9,  -999.00,9,   -999.0,-999.0000, -999,9, 1001,   3.4777,  27.3708,   -999.0,9
       KS01-07,  137E,KS-0180,  1,      6,02-16012,9,20010717,0449, 20.0025, 137.0253, 4635,   1009.1,   3.5515,  34.4118,2,   -999.0,9,-999.0000,9,   -999.0,9,  -999.00,9,  -999.00,9,  -999.00,9,  -999.00,9,  -999.00,9, -999.000,9, -999.000,9,  -999.00,9,   -999.0,9,   -999.0,9,-999.0000,9,   -999.0,  9,  -999.00,9,   -999.0,  -999.00,9,  -999.00,9,  -999.00,9,  -999.00,9,   -999.0,-999.0000, -999,9, 1001,   3.4787,  27.3705,   -999.0,9
       KS01-07,  137E,KS-0180,  1,      5,02-16011,2,20010717,0440, 20.0025, 137.0253, 4635,   1514.7,   2.5918,  34.5717,2,   -999.0,9,  34.5714,2,     97.0,2,  -999.00,9,  -999.00,9,    39.90,2,     0.00,2,     2.76,2, -999.000,9, -999.000,9,  -999.00,9,   -999.0,9,   -999.0,9,-999.0000,9,   -999.0,  9,  -999.00,9,   -999.0,  -999.00,9,  -999.00,9,  -999.00,9,  -999.00,9,   -999.0,-999.0000, -999,9, 1500,   2.4875,  27.5885,   -999.0,9
       KS01-07,  137E,KS-0180,  1,      4,02-16010,2,20010717,0431, 20.0025, 137.0253, 4635,   2021.8,   2.0461,  34.6243,2,   -999.0,9,  34.6242,2,    115.0,2,  -999.00,9,  -999.00,9,    39.31,2,     0.00,2,     2.70,2, -999.000,9, -999.000,9,  -999.00,9,   -999.0,9,   -999.0,9,-999.0000,9,   -999.0,  9,  -999.00,9,   -999.0,  -999.00,9,  -999.00,9,  -999.00,9,  -999.00,9,   -999.0,-999.0000, -999,9, 2000,   1.9071,  27.6780,   -999.0,9
       KS01-07,  137E,KS-0180,  1,      3,02-16009,2,20010717,0413, 20.0025, 137.0253, 4635,   3039.7,   1.6357,  34.6660,2,   -999.0,9,  34.6655,2,    141.0,2,  -999.00,9,  -999.00,9,    37.95,2,     0.00,2,     2.56,2, -999.000,9, -999.000,9,  -999.00,9,   -999.0,9,   -999.0,9,-999.0000,9,   -999.0,  9,  -999.00,9,   -999.0,  -999.00,9,  -999.00,9,  -999.00,9,  -999.00,9,   -999.0,-999.0000, -999,9, 3000,   1.4121,  27.7485,   -999.0,9
       KS01-07,  137E,KS-0180,  1,      2,02-16008,2,20010717,0356, 20.0025, 137.0253, 4635,   4058.9,   1.5071,  34.6845,2,   -999.0,9,  34.6826,2,    158.0,2,  -999.00,9,  -999.00,9,    36.97,2,     0.00,2,     2.45,2, -999.000,9, -999.000,9,  -999.00,9,   -999.0,9,   -999.0,9,-999.0000,9,   -999.0,  9,  -999.00,9,   -999.0,  -999.00,9,  -999.00,9,  -999.00,9,  -999.00,9,   -999.0,-999.0000, -999,9, 3996,   1.1816,  27.7795,   -999.0,9
       KS01-07,  137E,KS-0180,  1,      1,02-16007,2,20010717,0345, 20.0025, 137.0253, 4635,   4679.7,   1.5492,  34.6866,2,   -999.0,9,  34.6844,2,    162.0,2,  -999.00,9,  -999.00,9,    36.78,2,     0.00,2,     2.46,2, -999.000,9, -999.000,9,  -999.00,9,   -999.0,9,   -999.0,9,-999.0000,9,   -999.0,  9,  -999.00,9,   -999.0,  -999.00,9,  -999.00,9,  -999.00,9,  -999.00,9,   -999.0,-999.0000, -999,9, 4601,   1.1517,  27.7833,   -999.0,9