BOTTLE,20130510GEMDJMAYT
EXPOCODE,SECT_ID,STNNBR,CASTNO,SAMPNO,BTLNBR,BTLNBR_FLAG_W,DATE,TIME,LATITUDE,LONGITUDE,DEPTH,CTDPRS,CTDTMP,CTDSAL,CTDSAL_FLAG_W,CTDOXY,CTDOXY_FLAG_W,SALNTY,SALNTY_FLAG_W,OXYGEN,OXYGEN_FLAG_W,SILCAT,SILCAT_FLAG_W,NITRAT,NITRAT_FLAG_W,NO2+NO3,NO2+NO3_FLAG_W,NITRIT,NITRIT_FLAG_W,PHSPHT,PHSPHT_FLAG_W,CFC-11,CFC-11_FLAG_W,CFC-12,CFC-12_FLAG_W,DELC13,DELC13_FLAG_W,TCARBN,TCARBN_FLAG_W,ALKALI,ALKALI_FLAG_W,PH,PH_FLAG_W,PH_TMP,PH_SCALE,PH_NBS,PH_NBS_FLAG_W,C13ERR,TOTALP,TOTALP_FLAG_W,AMMONI,AMMONI_FLAG_W,CHLORA,CHLORA_FLAG_W,PPHYTN,PPHYTN_FLAG_W,REVPRS,REVTMP,DEPTH_,DEPTH_FLAG,CTDDEP,THETA,SIGTHT,DOC,DOC_FLAG_W
,,,,,,,GMT,GMT,,,METER,DBAR,ITS-90,PSS-78,,UMOL/KG,,PSS-78,,UMOL/KG,,UMOL/KG,,UMOL/KG,,UMOL/KG,,UMOL/KG,,UMOL/KG,,PMOL/KG,,PMOL/KG,,/MILLE,,UMOL/KG,,UMOL/KG,,25_DEG_C,,DEG_C,,,,/MILLE,UMOL/KG,,UMOL/KG,,UG/L,,UG/L,,DBAR,ITS-90,METERS,,METERS,DEG_C,,UMOL/L,
       KS01-07,  137E,KS-0194,  1,     24,02-16030,2,20010721,0259,  5.9998, 136.9948, 4162,      5.5,  29.2431,  33.6832,2,   -999.0,9,-999.0000,9,    198.0,2,  -999.00,9,  -999.00,9,     0.00,2,     0.00,2,     0.01,2, -999.000,9, -999.000,9,  -999.00,9,   -999.0,9,   -999.0,9,-999.0000,9,   -999.0,  9,  -999.00,9,   -999.0,  -999.00,9,  -999.00,9,  -999.00,9,  -999.00,9,   -999.0,-999.0000, -999,9,    5,  29.2418,  20.9951,   -999.0,9
       KS01-07,  137E,KS-0194,  1,     23,02-16029,2,20010721,0258,  5.9998, 136.9948, 4162,     10.5,  29.2372,  33.6851,2,   -999.0,9,-999.0000,9,    198.0,2,  -999.00,9,  -999.00,9,     0.00,2,     0.00,2,     0.00,2, -999.000,9, -999.000,9,  -999.00,9,   -999.0,9,   -999.0,9,-999.0000,9,   -999.0,  9,  -999.00,9,   -999.0,  -999.00,9,  -999.00,9,  -999.00,9,  -999.00,9,   -999.0,-999.0000, -999,9,   10,  29.2347,  20.9989,   -999.0,9
       KS01-07,  137E,KS-0194,  1,     22,02-16028,2,20010721,0257,  5.9998, 136.9948, 4162,     25.2,  29.1214,  33.8612,2,   -999.0,9,-999.0000,9,    199.0,2,  -999.00,9,  -999.00,9,     0.00,2,     0.00,2,     0.00,2, -999.000,9, -999.000,9,  -999.00,9,   -999.0,9,   -999.0,9,-999.0000,9,   -999.0,  9,  -999.00,9,   -999.0,  -999.00,9,  -999.00,9,  -999.00,9,  -999.00,9,   -999.0,-999.0000, -999,9,   25,  29.1153,  21.1709,   -999.0,9
       KS01-07,  137E,KS-0194,  1,     21,02-16027,2,20010721,0253,  5.9998, 136.9948, 4162,     50.3,  28.9303,  34.2092,2,   -999.0,9,-999.0000,9,    197.0,2,  -999.00,9,  -999.00,9,     0.00,2,     0.00,2,     0.04,2, -999.000,9, -999.000,9,  -999.00,9,   -999.0,9,   -999.0,9,-999.0000,9,   -999.0,  9,  -999.00,9,   -999.0,  -999.00,9,  -999.00,9,  -999.00,9,  -999.00,9,   -999.0,-999.0000, -999,9,   50,  28.9182,  21.4977,   -999.0,9
       KS01-07,  137E,KS-0194,  1,     20,02-16026,2,20010721,0252,  5.9998, 136.9948, 4162,     74.0,  27.8089,  35.0191,2,   -999.0,9,-999.0000,9,    168.0,2,  -999.00,9,  -999.00,9,     3.91,2,     0.22,2,     0.32,2, -999.000,9, -999.000,9,  -999.00,9,   -999.0,9,   -999.0,9,-999.0000,9,   -999.0,  9,  -999.00,9,   -999.0,  -999.00,9,  -999.00,9,  -999.00,9,  -999.00,9,   -999.0,-999.0000, -999,9,   74,  27.7915,  22.4770,   -999.0,9
       KS01-07,  137E,KS-0194,  1,     19,02-16025,2,20010721,0251,  5.9998, 136.9948, 4162,     99.9,  24.9272,  34.8791,2,   -999.0,9,-999.0000,9,    160.0,2,  -999.00,9,  -999.00,9,     4.98,2,     0.06,2,     0.39,2, -999.000,9, -999.000,9,  -999.00,9,   -999.0,9,   -999.0,9,-999.0000,9,   -999.0,  9,  -999.00,9,   -999.0,  -999.00,9,  -999.00,9,  -999.00,9,  -999.00,9,   -999.0,-999.0000, -999,9,   99,  24.9056,  23.2785,   -999.0,9
       KS01-07,  137E,KS-0194,  1,     18,02-16024,2,20010721,0250,  5.9998, 136.9948, 4162,    124.8,  21.4076,  34.8446,2,   -999.0,9,-999.0000,9,    148.0,2,  -999.00,9,  -999.00,9,     8.01,2,     0.03,2,     0.59,2, -999.000,9, -999.000,9,  -999.00,9,   -999.0,9,   -999.0,9,-999.0000,9,   -999.0,  9,  -999.00,9,   -999.0,  -999.00,9,  -999.00,9,  -999.00,9,  -999.00,9,   -999.0,-999.0000, -999,9,  124,  21.3834,  24.2708,   -999.0,9
       KS01-07,  137E,KS-0194,  1,     17,02-16023,2,20010721,0249,  5.9998, 136.9948, 4162,    150.3,  17.0291,  34.6784,2,   -999.0,9,-999.0000,9,    122.0,2,  -999.00,9,  -999.00,9,    16.68,2,     0.01,2,     1.14,2, -999.000,9, -999.000,9,  -999.00,9,   -999.0,9,   -999.0,9,-999.0000,9,   -999.0,  9,  -999.00,9,   -999.0,  -999.00,9,  -999.00,9,  -999.00,9,  -999.00,9,   -999.0,-999.0000, -999,9,  149,  17.0043,  25.2664,   -999.0,9
       KS01-07,  137E,KS-0194,  1,     16,02-16022,2,20010721,0248,  5.9998, 136.9948, 4162,    201.4,  12.5863,  34.5647,2,   -999.0,9,-999.0000,9,     93.0,2,  -999.00,9,  -999.00,9,    24.75,2,     0.00,2,     1.68,2, -999.000,9, -999.000,9,  -999.00,9,   -999.0,9,   -999.0,9,-999.0000,9,   -999.0,  9,  -999.00,9,   -999.0,  -999.00,9,  -999.00,9,  -999.00,9,  -999.00,9,   -999.0,-999.0000, -999,9,  200,  12.5593,  26.1429,   -999.0,9
       KS01-07,  137E,KS-0194,  1,     15,02-16021,2,20010721,0246,  5.9998, 136.9948, 4162,    252.7,  10.8954,  34.5717,2,   -999.0,9,-999.0000,9,     70.0,2,  -999.00,9,  -999.00,9,    29.81,2,     0.00,2,     2.03,2, -999.000,9, -999.000,9,  -999.00,9,   -999.0,9,   -999.0,9,-999.0000,9,   -999.0,  9,  -999.00,9,   -999.0,  -999.00,9,  -999.00,9,  -999.00,9,  -999.00,9,   -999.0,-999.0000, -999,9,  251,  10.8645,  26.4664,   -999.0,9
       KS01-07,  137E,KS-0194,  1,     14,02-16020,2,20010721,0245,  5.9998, 136.9948, 4162,    302.1,   9.6608,  34.5925,2,   -999.0,9,-999.0000,9,     57.0,2,  -999.00,9,  -999.00,9,    33.41,2,     0.00,2,     2.25,2, -999.000,9, -999.000,9,  -999.00,9,   -999.0,9,   -999.0,9,-999.0000,9,   -999.0,  9,  -999.00,9,   -999.0,  -999.00,9,  -999.00,9,  -999.00,9,  -999.00,9,   -999.0,-999.0000, -999,9,  300,   9.6265,  26.6967,   -999.0,9
       KS01-07,  137E,KS-0194,  1,     13,02-16019,2,20010721,0243,  5.9998, 136.9948, 4162,    402.8,   8.2796,  34.5778,2,   -999.0,9,-999.0000,9,     74.0,2,  -999.00,9,  -999.00,9,    34.57,2,     0.00,2,     2.33,2, -999.000,9, -999.000,9,  -999.00,9,   -999.0,9,   -999.0,9,-999.0000,9,   -999.0,  9,  -999.00,9,   -999.0,  -999.00,9,  -999.00,9,  -999.00,9,  -999.00,9,   -999.0,-999.0000, -999,9,  400,   8.2377,  26.9064,   -999.0,9
       KS01-07,  137E,KS-0194,  1,     12,02-16018,2,20010721,0241,  5.9998, 136.9948, 4162,    504.1,   7.3746,  34.5500,2,   -999.0,9,-999.0000,9,     93.0,2,  -999.00,9,  -999.00,9,    34.47,2,     0.00,2,     2.33,2, -999.000,9, -999.000,9,  -999.00,9,   -999.0,9,   -999.0,9,-999.0000,9,   -999.0,  9,  -999.00,9,   -999.0,  -999.00,9,  -999.00,9,  -999.00,9,  -999.00,9,   -999.0,-999.0000, -999,9,  501,   7.3253,  27.0187,   -999.0,9
       KS01-07,  137E,KS-0194,  1,     11,02-16017,2,20010721,0239,  5.9998, 136.9948, 4162,    604.3,   6.7166,  34.5358,2,   -999.0,9,-999.0000,9,     89.0,2,  -999.00,9,  -999.00,9,    35.93,2,     0.00,2,     2.44,2, -999.000,9, -999.000,9,  -999.00,9,   -999.0,9,   -999.0,9,-999.0000,9,   -999.0,  9,  -999.00,9,   -999.0,  -999.00,9,  -999.00,9,  -999.00,9,  -999.00,9,   -999.0,-999.0000, -999,9,  600,   6.6601,  27.0995,   -999.0,9
       KS01-07,  137E,KS-0194,  1,     10,02-16016,2,20010721,0237,  5.9998, 136.9948, 4162,    705.5,   6.3001,  34.5396,2,   -999.0,9,-999.0000,9,     81.0,2,  -999.00,9,  -999.00,9,    37.48,2,     0.00,2,     2.55,2, -999.000,9, -999.000,9,  -999.00,9,   -999.0,9,   -999.0,9,-999.0000,9,   -999.0,  9,  -999.00,9,   -999.0,  -999.00,9,  -999.00,9,  -999.00,9,  -999.00,9,   -999.0,-999.0000, -999,9,  700,   6.2358,  27.1586,   -999.0,9
       KS01-07,  137E,KS-0194,  1,      9,02-16015,2,20010721,0235,  5.9998, 136.9948, 4162,    806.3,   5.7238,  34.5305,2,   -999.0,9,-999.0000,9,     82.0,2,  -999.00,9,  -999.00,9,    37.48,2,     0.00,2,     2.55,2, -999.000,9, -999.000,9,  -999.00,9,   -999.0,9,   -999.0,9,-999.0000,9,   -999.0,  9,  -999.00,9,   -999.0,  -999.00,9,  -999.00,9,  -999.00,9,  -999.00,9,   -999.0,-999.0000, -999,9,  800,   5.6533,  27.2251,   -999.0,9
       KS01-07,  137E,KS-0194,  1,      8,02-16014,2,20010721,0233,  5.9998, 136.9948, 4162,    906.3,   5.1825,  34.5349,2,   -999.0,9,-999.0000,9,     86.0,2,  -999.00,9,  -999.00,9,    38.35,2,     0.00,2,     2.63,2, -999.000,9, -999.000,9,  -999.00,9,   -999.0,9,   -999.0,9,-999.0000,9,   -999.0,  9,  -999.00,9,   -999.0,  -999.00,9,  -999.00,9,  -999.00,9,  -999.00,9,   -999.0,-999.0000, -999,9,  899,   5.1063,  27.2941,   -999.0,9
       KS01-07,  137E,KS-0194,  1,      7,02-16013,2,20010721,0231,  5.9998, 136.9948, 4162,   1009.3,   4.7098,  34.5458,2,   -999.0,9,  34.5443,2,   -999.0,9,  -999.00,9,  -999.00,9,  -999.00,9,  -999.00,9,  -999.00,9, -999.000,9, -999.000,9,  -999.00,9,   -999.0,9,   -999.0,9,-999.0000,9,   -999.0,  9,  -999.00,9,   -999.0,  -999.00,9,  -999.00,9,  -999.00,9,  -999.00,9,   -999.0,-999.0000, -999,9, 1001,   4.6278,  27.3574,   -999.0,9
       KS01-07,  137E,KS-0194,  1,      6,02-16012,9,20010721,0231,  5.9998, 136.9948, 4162,   1009.1,   4.7097,  34.5457,2,   -999.0,9,-999.0000,9,   -999.0,9,  -999.00,9,  -999.00,9,  -999.00,9,  -999.00,9,  -999.00,9, -999.000,9, -999.000,9,  -999.00,9,   -999.0,9,   -999.0,9,-999.0000,9,   -999.0,  9,  -999.00,9,   -999.0,  -999.00,9,  -999.00,9,  -999.00,9,  -999.00,9,   -999.0,-999.0000, -999,9, 1001,   4.6277,  27.3573,   -999.0,9
       KS01-07,  137E,KS-0194,  1,      5,02-16011,2,20010721,0231,  5.9998, 136.9948, 4162,   1008.8,   4.7103,  34.5456,2,   -999.0,9,  34.5453,2,   -999.0,9,  -999.00,9,  -999.00,9,  -999.00,9,  -999.00,9,  -999.00,9, -999.000,9, -999.000,9,  -999.00,9,   -999.0,9,   -999.0,9,-999.0000,9,   -999.0,  9,  -999.00,9,   -999.0,  -999.00,9,  -999.00,9,  -999.00,9,  -999.00,9,   -999.0,-999.0000, -999,9, 1001,   4.6283,  27.3572,   -999.0,9
       KS01-07,  137E,KS-0194,  1,      4,02-16010,9,20010721,0231,  5.9998, 136.9948, 4162,   1008.4,   4.7106,  34.5455,2,   -999.0,9,-999.0000,9,   -999.0,9,  -999.00,9,  -999.00,9,  -999.00,9,  -999.00,9,  -999.00,9, -999.000,9, -999.000,9,  -999.00,9,   -999.0,9,   -999.0,9,-999.0000,9,   -999.0,  9,  -999.00,9,   -999.0,  -999.00,9,  -999.00,9,  -999.00,9,  -999.00,9,   -999.0,-999.0000, -999,9, 1000,   4.6287,  27.3570,   -999.0,9
       KS01-07,  137E,KS-0194,  1,      3,02-16009,2,20010721,0230,  5.9998, 136.9948, 4162,   1008.0,   4.7100,  34.5454,2,   -999.0,9,  34.5441,2,     89.0,2,  -999.00,9,  -999.00,9,    38.64,2,     0.00,2,     2.65,2, -999.000,9, -999.000,9,  -999.00,9,   -999.0,9,   -999.0,9,-999.0000,9,   -999.0,  9,  -999.00,9,   -999.0,  -999.00,9,  -999.00,9,  -999.00,9,  -999.00,9,   -999.0,-999.0000, -999,9, 1000,   4.6281,  27.3570,   -999.0,9
       KS01-07,  137E,KS-0194,  1,      2,02-16008,2,20010721,0223,  5.9998, 136.9948, 4162,   1513.0,   2.9466,  34.6004,2,   -999.0,9,-999.0000,9,    100.0,2,  -999.00,9,  -999.00,9,    39.41,2,     0.00,2,     2.71,2, -999.000,9, -999.000,9,  -999.00,9,   -999.0,9,   -999.0,9,-999.0000,9,   -999.0,  9,  -999.00,9,   -999.0,  -999.00,9,  -999.00,9,  -999.00,9,  -999.00,9,   -999.0,-999.0000, -999,9, 1499,   2.8382,  27.5807,   -999.0,9
       KS01-07,  137E,KS-0194,  1,      1,02-16007,2,20010721,0215,  5.9998, 136.9948, 4162,   2020.6,   2.2098,  34.6351,2,   -999.0,9,-999.0000,9,    115.0,2,  -999.00,9,  -999.00,9,    38.92,2,     0.00,2,     2.61,2, -999.000,9, -999.000,9,  -999.00,9,   -999.0,9,   -999.0,9,-999.0000,9,   -999.0,  9,  -999.00,9,   -999.0,  -999.00,9,  -999.00,9,  -999.00,9,  -999.00,9,   -999.0,-999.0000, -999,9, 2000,   2.0684,  27.6739,   -999.0,9