BOTTLE,20130510GEMDJMAYT
EXPOCODE,SECT_ID,STNNBR,CASTNO,SAMPNO,BTLNBR,BTLNBR_FLAG_W,DATE,TIME,LATITUDE,LONGITUDE,DEPTH,CTDPRS,CTDTMP,CTDSAL,CTDSAL_FLAG_W,CTDOXY,CTDOXY_FLAG_W,SALNTY,SALNTY_FLAG_W,OXYGEN,OXYGEN_FLAG_W,SILCAT,SILCAT_FLAG_W,NITRAT,NITRAT_FLAG_W,NO2+NO3,NO2+NO3_FLAG_W,NITRIT,NITRIT_FLAG_W,PHSPHT,PHSPHT_FLAG_W,CFC-11,CFC-11_FLAG_W,CFC-12,CFC-12_FLAG_W,DELC13,DELC13_FLAG_W,TCARBN,TCARBN_FLAG_W,ALKALI,ALKALI_FLAG_W,PH,PH_FLAG_W,PH_TMP,PH_SCALE,PH_NBS,PH_NBS_FLAG_W,C13ERR,TOTALP,TOTALP_FLAG_W,AMMONI,AMMONI_FLAG_W,CHLORA,CHLORA_FLAG_W,PPHYTN,PPHYTN_FLAG_W,REVPRS,REVTMP,DEPTH_,DEPTH_FLAG,CTDDEP,THETA,SIGTHT,DOC,DOC_FLAG_W
,,,,,,,GMT,GMT,,,METER,DBAR,ITS-90,PSS-78,,UMOL/KG,,PSS-78,,UMOL/KG,,UMOL/KG,,UMOL/KG,,UMOL/KG,,UMOL/KG,,UMOL/KG,,PMOL/KG,,PMOL/KG,,/MILLE,,UMOL/KG,,UMOL/KG,,25_DEG_C,,DEG_C,,,,/MILLE,UMOL/KG,,UMOL/KG,,UG/L,,UG/L,,DBAR,ITS-90,METERS,,METERS,DEG_C,,UMOL/L,
       KS01-07,  NONE,KS-0211,  1,     24,02-16030,2,20010806,1329, 28.9815, 135.0303, 4815,      4.7,  29.9620,  34.3192,2,   -999.0,9,-999.0000,9,    203.0,2,  -999.00,9,  -999.00,9,     0.00,2,     0.00,2,     0.00,2, -999.000,9, -999.000,9,  -999.00,9,   1919.9,3,   -999.0,9,-999.0000,9,   -999.0,  9,     8.25,2,   -999.0,  -999.00,9,  -999.00,9,     0.04,2,     0.01,2,   -999.0,-999.0000, -999,9,    5,  29.9608,  21.2292,   -999.0,9
       KS01-07,  NONE,KS-0211,  1,     23,02-16029,2,20010806,1328, 28.9815, 135.0303, 4815,      9.8,  29.9507,  34.3101,2,   -999.0,9,-999.0000,9,    196.0,2,  -999.00,9,  -999.00,9,     0.00,2,     0.00,2,     0.00,2, -999.000,9, -999.000,9,  -999.00,9,   1921.6,3,   -999.0,9,-999.0000,9,   -999.0,  9,     8.25,2,   -999.0,  -999.00,9,  -999.00,9,     0.04,2,     0.01,2,   -999.0,-999.0000, -999,9,   10,  29.9483,  21.2267,   -999.0,9
       KS01-07,  NONE,KS-0211,  1,     22,02-16028,2,20010806,1327, 28.9815, 135.0303, 4815,     24.1,  25.9236,  34.4616,2,   -999.0,9,-999.0000,9,    223.0,2,  -999.00,9,  -999.00,9,     0.00,2,     0.00,2,     0.00,2, -999.000,9, -999.000,9,  -999.00,9,   1936.6,2,   -999.0,9,-999.0000,9,   -999.0,  9,     8.24,2,   -999.0,  -999.00,9,  -999.00,9,     0.05,2,     0.02,2,   -999.0,-999.0000, -999,9,   24,  25.9183,  22.6526,   -999.0,9
       KS01-07,  NONE,KS-0211,  1,     21,02-16027,2,20010806,1324, 28.9815, 135.0303, 4815,     50.2,  21.6720,  34.7136,2,   -999.0,9,  34.7148,2,    234.0,2,  -999.00,9,  -999.00,9,     0.00,2,     0.00,2,     0.00,2, -999.000,9, -999.000,9,  -999.00,9,   1958.9,2,   -999.0,9,-999.0000,9,   -999.0,  9,     8.23,2,   -999.0,  -999.00,9,  -999.00,9,     0.13,2,     0.05,2,   -999.0,-999.0000, -999,9,   50,  21.6622,  24.0942,   -999.0,9
       KS01-07,  NONE,KS-0211,  1,     20,02-16026,2,20010806,1323, 28.9815, 135.0303, 4815,     74.4,  20.4495,  34.7712,2,   -999.0,9,-999.0000,9,    214.0,2,  -999.00,9,  -999.00,9,     0.68,2,     0.09,2,     0.04,2, -999.000,9, -999.000,9,  -999.00,9,   1983.9,2,   -999.0,9,-999.0000,9,   -999.0,  9,     8.20,2,   -999.0,  -999.00,9,  -999.00,9,     0.34,2,     0.55,2,   -999.0,-999.0000, -999,9,   74,  20.4356,  24.4717,   -999.0,9
       KS01-07,  NONE,KS-0211,  1,     19,02-16025,2,20010806,1321, 28.9815, 135.0303, 4815,    100.9,  19.7727,  34.7844,2,   -999.0,9,  34.7938,4,    203.0,2,  -999.00,9,  -999.00,9,     2.34,2,     0.03,2,     0.13,2, -999.000,9, -999.000,9,  -999.00,9,   1993.5,2,   -999.0,9,-999.0000,9,   -999.0,  9,     8.18,2,   -999.0,  -999.00,9,  -999.00,9,     0.08,2,     0.12,2,   -999.0,-999.0000, -999,9,  100,  19.7542,  24.6617,   -999.0,9
       KS01-07,  NONE,KS-0211,  1,     18,02-16024,2,20010806,1321, 28.9815, 135.0303, 4815,    124.0,  19.4322,  34.7945,2,   -999.0,9,-999.0000,9,    200.0,2,  -999.00,9,  -999.00,9,     3.03,2,     0.02,2,     0.17,2, -999.000,9, -999.000,9,  -999.00,9,   2002.5,2,   -999.0,9,-999.0000,9,   -999.0,  9,     8.17,2,   -999.0,  -999.00,9,  -999.00,9,     0.03,2,     0.05,2,   -999.0,-999.0000, -999,9,  123,  19.4098,  24.7589,   -999.0,9
       KS01-07,  NONE,KS-0211,  1,     17,02-16023,2,20010806,1320, 28.9815, 135.0303, 4815,    151.5,  19.0779,  34.7929,2,   -999.0,9,-999.0000,9,    201.0,2,  -999.00,9,  -999.00,9,     3.32,2,     0.02,2,     0.19,2, -999.000,9, -999.000,9,  -999.00,9,   2005.0,2,   -999.0,9,-999.0000,9,   -999.0,  9,     8.16,2,   -999.0,  -999.00,9,  -999.00,9,     0.02,2,     0.04,2,   -999.0,-999.0000, -999,9,  150,  19.0509,  24.8499,   -999.0,9
       KS01-07,  NONE,KS-0211,  1,     16,02-16022,2,20010806,1318, 28.9815, 135.0303, 4815,    201.8,  18.0943,  34.7739,2,   -999.0,9,  34.7746,2,    201.0,2,  -999.00,9,  -999.00,9,     4.58,2,     0.01,2,     0.26,2, -999.000,9, -999.000,9,  -999.00,9,   2016.5,2,   -999.0,9,-999.0000,9,   -999.0,  9,     8.14,2,   -999.0,  -999.00,9,  -999.00,9,     0.01,2,     0.01,2,   -999.0,-999.0000, -999,9,  200,  18.0596,  25.0842,   -999.0,9
       KS01-07,  NONE,KS-0211,  1,     15,02-16021,2,20010806,1317, 28.9815, 135.0303, 4815,    252.8,  17.5708,  34.7699,2,   -999.0,9,-999.0000,9,    196.0,2,  -999.00,9,  -999.00,9,     5.75,2,     0.01,2,     0.35,2, -999.000,9, -999.000,9,  -999.00,9,   2028.0,2,   -999.0,9,-999.0000,9,   -999.0,  9,     8.12,2,   -999.0,  -999.00,9,  -999.00,9,     0.00,2,     0.01,2,   -999.0,-999.0000, -999,9,  251,  17.5281,  25.2110,   -999.0,9
       KS01-07,  NONE,KS-0211,  1,     14,02-16020,2,20010806,1315, 28.9815, 135.0303, 4815,    301.2,  16.8536,  34.7405,2,   -999.0,9,  34.7408,2,    191.0,2,  -999.00,9,  -999.00,9,     7.41,2,     0.01,2,     0.44,2, -999.000,9, -999.000,9,  -999.00,9,   -999.0,9,   -999.0,9,-999.0000,9,   -999.0,  9,     8.10,2,   -999.0,  -999.00,9,  -999.00,9,     0.00,2,     0.01,2,   -999.0,-999.0000, -999,9,  299,  16.8041,  25.3614,   -999.0,9
       KS01-07,  NONE,KS-0211,  1,     13,02-16019,2,20010806,1313, 28.9815, 135.0303, 4815,    403.4,  14.4820,  34.5825,2,   -999.0,9,  34.5812,2,    182.0,2,  -999.00,9,  -999.00,9,    12.28,2,     0.00,2,     0.75,2, -999.000,9, -999.000,9,  -999.00,9,   -999.0,9,   -999.0,9,-999.0000,9,   -999.0,  9,     8.03,2,   -999.0,  -999.00,9,  -999.00,9,  -999.00,9,  -999.00,9,   -999.0,-999.0000, -999,9,  400,  14.4222,  25.7750,   -999.0,9
       KS01-07,  NONE,KS-0211,  1,     12,02-16018,2,20010806,1311, 28.9815, 135.0303, 4815,    504.3,  11.4897,  34.3824,2,   -999.0,9,  34.3821,2,    164.0,2,  -999.00,9,  -999.00,9,    19.00,2,     0.00,2,     1.26,2, -999.000,9, -999.000,9,  -999.00,9,   -999.0,9,   -999.0,9,-999.0000,9,   -999.0,  9,     7.92,2,   -999.0,  -999.00,9,  -999.00,9,  -999.00,9,  -999.00,9,   -999.0,-999.0000, -999,9,  500,  11.4253,  26.2170,   -999.0,9
       KS01-07,  NONE,KS-0211,  1,     11,02-16017,2,20010806,1309, 28.9815, 135.0303, 4815,    605.3,   9.0368,  34.2643,2,   -999.0,9,  34.2664,2,    140.0,2,  -999.00,9,  -999.00,9,    25.43,2,     0.00,2,     1.72,2, -999.000,9, -999.000,9,  -999.00,9,   -999.0,9,   -999.0,9,-999.0000,9,   -999.0,  9,     7.82,2,   -999.0,  -999.00,9,  -999.00,9,  -999.00,9,  -999.00,9,   -999.0,-999.0000, -999,9,  600,   8.9700,  26.5468,   -999.0,9
       KS01-07,  NONE,KS-0211,  1,     10,02-16016,2,20010806,1306, 28.9815, 135.0303, 4815,    707.0,   6.7931,  34.2086,2,   -999.0,9,  34.2087,2,    110.0,2,  -999.00,9,  -999.00,9,    31.94,2,     0.00,2,     2.18,2, -999.000,9, -999.000,9,  -999.00,9,   -999.0,9,   -999.0,9,-999.0000,9,   -999.0,  9,     7.70,2,   -999.0,  -999.00,9,  -999.00,9,  -999.00,9,  -999.00,9,   -999.0,-999.0000, -999,9,  701,   6.7264,  26.8326,   -999.0,9
       KS01-07,  NONE,KS-0211,  1,      9,02-16015,2,20010806,1304, 28.9815, 135.0303, 4815,    807.1,   5.3499,  34.2676,2,   -999.0,9,  34.2676,2,     91.0,2,  -999.00,9,  -999.00,9,    36.41,2,     0.00,2,     2.50,2, -999.000,9, -999.000,9,  -999.00,9,   -999.0,9,   -999.0,9,-999.0000,9,   -999.0,  9,     7.64,2,   -999.0,  -999.00,9,  -999.00,9,  -999.00,9,  -999.00,9,   -999.0,-999.0000, -999,9,  800,   5.2819,  27.0618,   -999.0,9
       KS01-07,  NONE,KS-0211,  1,      8,02-16014,2,20010806,1302, 28.9815, 135.0303, 4815,    907.7,   4.7558,  34.3249,2,   -999.0,9,  34.3246,2,     74.0,2,  -999.00,9,  -999.00,9,    38.07,2,     0.00,2,     2.63,2, -999.000,9, -999.000,9,  -999.00,9,   -999.0,9,   -999.0,9,-999.0000,9,   -999.0,  9,     7.60,2,   -999.0,  -999.00,9,  -999.00,9,  -999.00,9,  -999.00,9,   -999.0,-999.0000, -999,9,  900,   4.6827,  27.1759,   -999.0,9
       KS01-07,  NONE,KS-0211,  1,      7,02-16013,2,20010806,1300, 28.9815, 135.0303, 4815,   1009.9,   4.1198,  34.3675,2,   -999.0,9,-999.0000,9,   -999.0,9,  -999.00,9,  -999.00,9,  -999.00,9,  -999.00,9,  -999.00,9, -999.000,9, -999.000,9,  -999.00,9,   -999.0,9,   -999.0,9,-999.0000,9,   -999.0,  9,  -999.00,9,   -999.0,  -999.00,9,  -999.00,9,  -999.00,9,  -999.00,9,   -999.0,-999.0000, -999,9, 1001,   4.0426,  27.2786,   -999.0,9
       KS01-07,  NONE,KS-0211,  1,      6,02-16012,2,20010806,1300, 28.9815, 135.0303, 4815,   1009.8,   4.1148,  34.3673,2,   -999.0,9,  34.3668,2,     68.0,2,  -999.00,9,  -999.00,9,    39.33,2,     0.00,2,     2.75,2, -999.000,9, -999.000,9,  -999.00,9,   -999.0,9,   -999.0,9,-999.0000,9,   -999.0,  9,     7.58,2,   -999.0,  -999.00,9,  -999.00,9,  -999.00,9,  -999.00,9,   -999.0,-999.0000, -999,9, 1001,   4.0377,  27.2789,   -999.0,9
       KS01-07,  NONE,KS-0211,  1,      5,02-16011,2,20010806,1255, 28.9815, 135.0303, 4815,   1262.5,   3.0479,  34.4680,2,   -999.0,9,  34.4671,2,     68.0,2,  -999.00,9,  -999.00,9,    40.68,2,     0.00,2,     2.84,2, -999.000,9, -999.000,9,  -999.00,9,   -999.0,9,   -999.0,9,-999.0000,9,   -999.0,  9,     7.58,2,   -999.0,  -999.00,9,  -999.00,9,  -999.00,9,  -999.00,9,   -999.0,-999.0000, -999,9, 1250,   2.9592,  27.4641,   -999.0,9
       KS01-07,  NONE,KS-0211,  1,      4,02-16010,2,20010806,1250, 28.9815, 135.0303, 4815,   1515.3,   2.5767,  34.5251,2,   -999.0,9,  34.5239,2,     79.0,2,  -999.00,9,  -999.00,9,    40.58,2,     0.00,2,     2.78,2, -999.000,9, -999.000,9,  -999.00,9,   -999.0,9,   -999.0,9,-999.0000,9,   -999.0,  9,     7.60,2,   -999.0,  -999.00,9,  -999.00,9,  -999.00,9,  -999.00,9,   -999.0,-999.0000, -999,9, 1500,   2.4726,  27.5525,   -999.0,9
       KS01-07,  NONE,KS-0211,  1,      3,02-16009,9,20010806,1242, 28.9815, 135.0303, 4815,   2022.3,   1.9668,  34.6123,2,   -999.0,9,-999.0000,9,   -999.0,9,  -999.00,9,  -999.00,9,  -999.00,9,  -999.00,9,  -999.00,9, -999.000,9, -999.000,9,  -999.00,9,   -999.0,9,   -999.0,9,-999.0000,9,   -999.0,  9,  -999.00,9,   -999.0,  -999.00,9,  -999.00,9,  -999.00,9,  -999.00,9,   -999.0,-999.0000, -999,9, 1999,   1.8291,  27.6744,   -999.0,9
       KS01-07,  NONE,KS-0211,  1,      2,02-16008,9,20010806,1242, 28.9815, 135.0303, 4815,   2022.4,   1.9659,  34.6125,2,   -999.0,9,-999.0000,9,   -999.0,9,  -999.00,9,  -999.00,9,  -999.00,9,  -999.00,9,  -999.00,9, -999.000,9, -999.000,9,  -999.00,9,   -999.0,9,   -999.0,9,-999.0000,9,   -999.0,  9,  -999.00,9,   -999.0,  -999.00,9,  -999.00,9,  -999.00,9,  -999.00,9,   -999.0,-999.0000, -999,9, 1999,   1.8282,  27.6746,   -999.0,9
       KS01-07,  NONE,KS-0211,  1,      1,02-16007,2,20010806,1241, 28.9815, 135.0303, 4815,   2021.9,   1.9656,  34.6124,2,   -999.0,9,  34.6113,2,    113.0,2,  -999.00,9,  -999.00,9,    39.02,2,     0.00,2,     2.64,2, -999.000,9, -999.000,9,  -999.00,9,   -999.0,9,   -999.0,9,-999.0000,9,   -999.0,  9,     7.67,2,   -999.0,  -999.00,9,  -999.00,9,  -999.00,9,  -999.00,9,   -999.0,-999.0000, -999,9, 1999,   1.8279,  27.6746,   -999.0,9