BOTTLE,20130510GEMDJMAYT
EXPOCODE,SECT_ID,STNNBR,CASTNO,SAMPNO,BTLNBR,BTLNBR_FLAG_W,DATE,TIME,LATITUDE,LONGITUDE,DEPTH,CTDPRS,CTDTMP,CTDSAL,CTDSAL_FLAG_W,CTDOXY,CTDOXY_FLAG_W,SALNTY,SALNTY_FLAG_W,OXYGEN,OXYGEN_FLAG_W,SILCAT,SILCAT_FLAG_W,NITRAT,NITRAT_FLAG_W,NO2+NO3,NO2+NO3_FLAG_W,NITRIT,NITRIT_FLAG_W,PHSPHT,PHSPHT_FLAG_W,CFC-11,CFC-11_FLAG_W,CFC-12,CFC-12_FLAG_W,DELC13,DELC13_FLAG_W,TCARBN,TCARBN_FLAG_W,ALKALI,ALKALI_FLAG_W,PH,PH_FLAG_W,PH_TMP,PH_SCALE,PH_NBS,PH_NBS_FLAG_W,C13ERR,TOTALP,TOTALP_FLAG_W,AMMONI,AMMONI_FLAG_W,CHLORA,CHLORA_FLAG_W,PPHYTN,PPHYTN_FLAG_W,REVPRS,REVTMP,DEPTH_,DEPTH_FLAG,CTDDEP,THETA,SIGTHT,DOC,DOC_FLAG_W
,,,,,,,GMT,GMT,,,METER,DBAR,ITS-90,PSS-78,,UMOL/KG,,PSS-78,,UMOL/KG,,UMOL/KG,,UMOL/KG,,UMOL/KG,,UMOL/KG,,UMOL/KG,,PMOL/KG,,PMOL/KG,,/MILLE,,UMOL/KG,,UMOL/KG,,25_DEG_C,,DEG_C,,,,/MILLE,UMOL/KG,,UMOL/KG,,UG/L,,UG/L,,DBAR,ITS-90,METERS,,METERS,DEG_C,,UMOL/L,
       KS01-07,  137E,KS-0195,  1,     24,02-16030,2,20010721,1102,  5.0233, 136.9823, 4879,      5.3,  29.8710,  33.7215,2,   -999.0,9,-999.0000,9,    201.0,2,  -999.00,9,  -999.00,9,     0.00,2,     0.00,2,     0.00,2, -999.000,9, -999.000,9,  -999.00,9,   -999.0,9,   -999.0,9,-999.0000,9,   -999.0,  9,  -999.00,9,   -999.0,  -999.00,9,  -999.00,9,     0.05,2,     0.03,2,   -999.0,-999.0000, -999,9,    5,  29.8697,  20.8123,   -999.0,9
       KS01-07,  137E,KS-0195,  1,     23,02-16029,2,20010721,1101,  5.0233, 136.9823, 4879,     10.5,  29.7289,  33.7375,2,   -999.0,9,-999.0000,9,    198.0,2,  -999.00,9,  -999.00,9,     0.00,2,     0.00,2,     0.00,2, -999.000,9, -999.000,9,  -999.00,9,   -999.0,9,   -999.0,9,-999.0000,9,   -999.0,  9,  -999.00,9,   -999.0,  -999.00,9,  -999.00,9,     0.06,2,     0.03,2,   -999.0,-999.0000, -999,9,   10,  29.7263,  20.8729,   -999.0,9
       KS01-07,  137E,KS-0195,  1,     22,02-16028,2,20010721,1100,  5.0233, 136.9823, 4879,     25.2,  29.0879,  33.7323,2,   -999.0,9,-999.0000,9,    200.0,2,  -999.00,9,  -999.00,9,     0.00,2,     0.00,2,     0.00,2, -999.000,9, -999.000,9,  -999.00,9,   -999.0,9,   -999.0,9,-999.0000,9,   -999.0,  9,  -999.00,9,   -999.0,  -999.00,9,  -999.00,9,     0.05,2,     0.03,2,   -999.0,-999.0000, -999,9,   25,  29.0818,  21.0853,   -999.0,9
       KS01-07,  137E,KS-0195,  1,     21,02-16027,2,20010721,1055,  5.0233, 136.9823, 4879,     49.6,  28.9424,  33.8557,2,   -999.0,9,  33.8482,4,    199.0,2,  -999.00,9,  -999.00,9,     0.00,2,     0.00,2,     0.00,2, -999.000,9, -999.000,9,  -999.00,9,   -999.0,9,   -999.0,9,-999.0000,9,   -999.0,  9,  -999.00,9,   -999.0,  -999.00,9,  -999.00,9,     0.07,2,     0.04,2,   -999.0,-999.0000, -999,9,   49,  28.9305,  21.2283,   -999.0,9
       KS01-07,  137E,KS-0195,  1,     20,02-16026,2,20010721,1054,  5.0233, 136.9823, 4879,     75.2,  26.3836,  34.7405,2,   -999.0,9,-999.0000,9,    186.0,2,  -999.00,9,  -999.00,9,     0.98,2,     0.06,2,     0.14,2, -999.000,9, -999.000,9,  -999.00,9,   -999.0,9,   -999.0,9,-999.0000,9,   -999.0,  9,  -999.00,9,   -999.0,  -999.00,9,  -999.00,9,     0.74,2,     0.77,2,   -999.0,-999.0000, -999,9,   75,  26.3667,  22.7228,   -999.0,9
       KS01-07,  137E,KS-0195,  1,     19,02-16025,2,20010721,1053,  5.0233, 136.9823, 4879,    100.3,  24.1653,  34.8515,2,   -999.0,9,  34.8406,4,    206.0,2,  -999.00,9,  -999.00,9,     5.18,2,     0.07,2,     0.38,2, -999.000,9, -999.000,9,  -999.00,9,   -999.0,9,   -999.0,9,-999.0000,9,   -999.0,  9,  -999.00,9,   -999.0,  -999.00,9,  -999.00,9,     0.13,2,     0.46,2,   -999.0,-999.0000, -999,9,  100,  24.1441,  23.4862,   -999.0,9
       KS01-07,  137E,KS-0195,  1,     18,02-16024,2,20010721,1052,  5.0233, 136.9823, 4879,    125.2,  22.9202,  34.8209,2,   -999.0,9,-999.0000,9,    201.0,2,  -999.00,9,  -999.00,9,     6.25,2,     0.03,2,     0.44,2, -999.000,9, -999.000,9,  -999.00,9,   -999.0,9,   -999.0,9,-999.0000,9,   -999.0,  9,  -999.00,9,   -999.0,  -999.00,9,  -999.00,9,     0.05,2,     0.17,2,   -999.0,-999.0000, -999,9,  124,  22.8947,  23.8280,   -999.0,9
       KS01-07,  137E,KS-0195,  1,     17,02-16023,2,20010721,1051,  5.0233, 136.9823, 4879,    150.8,  21.1716,  34.7965,2,   -999.0,9,-999.0000,9,    153.0,2,  -999.00,9,  -999.00,9,     7.81,2,     0.02,2,     0.56,2, -999.000,9, -999.000,9,  -999.00,9,   -999.0,9,   -999.0,9,-999.0000,9,   -999.0,  9,  -999.00,9,   -999.0,  -999.00,9,  -999.00,9,     0.03,2,     0.12,2,   -999.0,-999.0000, -999,9,  150,  21.1426,  24.3002,   -999.0,9
       KS01-07,  137E,KS-0195,  1,     16,02-16022,2,20010721,1049,  5.0233, 136.9823, 4879,    200.3,  13.8552,  34.5864,2,   -999.0,9,  34.5867,2,    107.0,2,  -999.00,9,  -999.00,9,    21.54,2,     0.00,2,     1.45,2, -999.000,9, -999.000,9,  -999.00,9,   -999.0,9,   -999.0,9,-999.0000,9,   -999.0,  9,  -999.00,9,   -999.0,  -999.00,9,  -999.00,9,     0.00,2,     0.03,2,   -999.0,-999.0000, -999,9,  199,  13.8266,  25.9037,   -999.0,9
       KS01-07,  137E,KS-0195,  1,     15,02-16021,2,20010721,1048,  5.0233, 136.9823, 4879,    251.3,  11.0015,  34.5790,2,   -999.0,9,-999.0000,9,     67.0,2,  -999.00,9,  -999.00,9,    30.20,2,     0.00,2,     2.05,2, -999.000,9, -999.000,9,  -999.00,9,   -999.0,9,   -999.0,9,-999.0000,9,   -999.0,  9,  -999.00,9,   -999.0,  -999.00,9,  -999.00,9,     0.00,2,     0.02,2,   -999.0,-999.0000, -999,9,  250,  10.9706,  26.4529,   -999.0,9
       KS01-07,  137E,KS-0195,  1,     14,02-16020,2,20010721,1046,  5.0233, 136.9823, 4879,    300.2,   9.7406,  34.6191,2,   -999.0,9,  34.6223,2,     50.0,2,  -999.00,9,  -999.00,9,    34.09,2,     0.00,2,     2.32,2, -999.000,9, -999.000,9,  -999.00,9,   -999.0,9,   -999.0,9,-999.0000,9,   -999.0,  9,  -999.00,9,   -999.0,  -999.00,9,  -999.00,9,     0.00,2,     0.02,2,   -999.0,-999.0000, -999,9,  298,   9.7063,  26.7042,   -999.0,9
       KS01-07,  137E,KS-0195,  1,     13,02-16019,2,20010721,1044,  5.0233, 136.9823, 4879,    402.6,   8.3246,  34.5927,2,   -999.0,9,  34.5922,2,     70.0,2,  -999.00,9,  -999.00,9,    35.06,2,     0.00,2,     2.35,2, -999.000,9, -999.000,9,  -999.00,9,   -999.0,9,   -999.0,9,-999.0000,9,   -999.0,  9,  -999.00,9,   -999.0,  -999.00,9,  -999.00,9,  -999.00,9,  -999.00,9,   -999.0,-999.0000, -999,9,  400,   8.2826,  26.9113,   -999.0,9
       KS01-07,  137E,KS-0195,  1,     12,02-16018,2,20010721,1042,  5.0233, 136.9823, 4879,    502.5,   7.4963,  34.5613,2,   -999.0,9,  34.5580,2,     80.0,2,  -999.00,9,  -999.00,9,    35.73,2,     0.00,2,     2.42,2, -999.000,9, -999.000,9,  -999.00,9,   -999.0,9,   -999.0,9,-999.0000,9,   -999.0,  9,  -999.00,9,   -999.0,  -999.00,9,  -999.00,9,  -999.00,9,  -999.00,9,   -999.0,-999.0000, -999,9,  499,   7.4467,  27.0103,   -999.0,9
       KS01-07,  137E,KS-0195,  1,     11,02-16017,2,20010721,1041,  5.0233, 136.9823, 4879,    603.5,   6.6753,  34.5396,2,   -999.0,9,  34.5376,2,     77.0,2,  -999.00,9,  -999.00,9,    37.39,2,     0.00,2,     2.56,2, -999.000,9, -999.000,9,  -999.00,9,   -999.0,9,   -999.0,9,-999.0000,9,   -999.0,  9,  -999.00,9,   -999.0,  -999.00,9,  -999.00,9,  -999.00,9,  -999.00,9,   -999.0,-999.0000, -999,9,  599,   6.6190,  27.1080,   -999.0,9
       KS01-07,  137E,KS-0195,  1,     10,02-16016,2,20010721,1039,  5.0233, 136.9823, 4879,    704.3,   5.9490,  34.5341,2,   -999.0,9,-999.0000,9,     84.0,2,  -999.00,9,  -999.00,9,    37.97,2,     0.00,2,     2.59,2, -999.000,9, -999.000,9,  -999.00,9,   -999.0,9,   -999.0,9,-999.0000,9,   -999.0,  9,  -999.00,9,   -999.0,  -999.00,9,  -999.00,9,  -999.00,9,  -999.00,9,   -999.0,-999.0000, -999,9,  699,   5.8867,  27.1988,   -999.0,9
       KS01-07,  137E,KS-0195,  1,      9,02-16015,2,20010721,1037,  5.0233, 136.9823, 4879,    804.8,   5.4109,  34.5335,2,   -999.0,9,  34.5329,2,     93.0,2,  -999.00,9,  -999.00,9,    37.96,2,     0.00,2,     2.59,2, -999.000,9, -999.000,9,  -999.00,9,   -999.0,9,   -999.0,9,-999.0000,9,   -999.0,  9,  -999.00,9,   -999.0,  -999.00,9,  -999.00,9,  -999.00,9,  -999.00,9,   -999.0,-999.0000, -999,9,  799,   5.3424,  27.2651,   -999.0,9
       KS01-07,  137E,KS-0195,  1,      8,02-16014,2,20010721,1035,  5.0233, 136.9823, 4879,    906.3,   4.8907,  34.5446,2,   -999.0,9,-999.0000,9,     93.0,2,  -999.00,9,  -999.00,9,    38.55,2,     0.00,2,     2.65,2, -999.000,9, -999.000,9,  -999.00,9,   -999.0,9,   -999.0,9,-999.0000,9,   -999.0,  9,  -999.00,9,   -999.0,  -999.00,9,  -999.00,9,  -999.00,9,  -999.00,9,   -999.0,-999.0000, -999,9,  899,   4.8165,  27.3352,   -999.0,9
       KS01-07,  137E,KS-0195,  1,      7,02-16013,2,20010721,1033,  5.0233, 136.9823, 4879,   1008.2,   4.4432,  34.5556,2,   -999.0,9,  34.5535,2,     91.0,2,  -999.00,9,  -999.00,9,    39.23,2,     0.00,2,     2.70,2, -999.000,9, -999.000,9,  -999.00,9,   -999.0,9,   -999.0,9,-999.0000,9,   -999.0,  9,  -999.00,9,   -999.0,  -999.00,9,  -999.00,9,  -999.00,9,  -999.00,9,   -999.0,-999.0000, -999,9, 1000,   4.3633,  27.3941,   -999.0,9
       KS01-07,  137E,KS-0195,  1,      6,02-16012,2,20010721,1029,  5.0233, 136.9823, 4879,   1259.0,   3.5828,  34.5778,2,   -999.0,9,  34.5775,2,     96.0,2,  -999.00,9,  -999.00,9,    39.32,2,     0.00,2,     2.72,2, -999.000,9, -999.000,9,  -999.00,9,   -999.0,9,   -999.0,9,-999.0000,9,   -999.0,  9,  -999.00,9,   -999.0,  -999.00,9,  -999.00,9,  -999.00,9,  -999.00,9,   -999.0,-999.0000, -999,9, 1248,   3.4890,  27.5018,   -999.0,9
       KS01-07,  137E,KS-0195,  1,      5,02-16011,2,20010721,1025,  5.0233, 136.9823, 4879,   1514.0,   3.0155,  34.5970,2,   -999.0,9,  34.5954,2,    102.0,2,  -999.00,9,  -999.00,9,    39.41,2,     0.00,2,     2.68,2, -999.000,9, -999.000,9,  -999.00,9,   -999.0,9,   -999.0,9,-999.0000,9,   -999.0,  9,  -999.00,9,   -999.0,  -999.00,9,  -999.00,9,  -999.00,9,  -999.00,9,   -999.0,-999.0000, -999,9, 1500,   2.9063,  27.5720,   -999.0,9
       KS01-07,  137E,KS-0195,  1,      4,02-16010,2,20010721,1017,  5.0233, 136.9823, 4879,   2020.9,   2.2397,  34.6348,2,   -999.0,9,  34.6343,2,    113.0,2,  -999.00,9,  -999.00,9,    39.21,2,     0.00,2,     2.62,2, -999.000,9, -999.000,9,  -999.00,9,   -999.0,9,   -999.0,9,-999.0000,9,   -999.0,  9,  -999.00,9,   -999.0,  -999.00,9,  -999.00,9,  -999.00,9,  -999.00,9,   -999.0,-999.0000, -999,9, 2000,   2.0978,  27.6713,   -999.0,9
       KS01-07,  137E,KS-0195,  1,      3,02-16009,2,20010721,1001,  5.0233, 136.9823, 4879,   3037.4,   1.5779,  34.6731,2,   -999.0,9,  34.6710,2,    145.0,2,  -999.00,9,  -999.00,9,    37.46,2,     0.00,2,     2.47,2, -999.000,9, -999.000,9,  -999.00,9,   -999.0,9,   -999.0,9,-999.0000,9,   -999.0,  9,  -999.00,9,   -999.0,  -999.00,9,  -999.00,9,  -999.00,9,  -999.00,9,   -999.0,-999.0000, -999,9, 2999,   1.3558,  27.7582,   -999.0,9
       KS01-07,  137E,KS-0195,  1,      2,02-16008,2,20010721,0944,  5.0233, 136.9823, 4879,   4057.1,   1.5080,  34.6857,2,   -999.0,9,  34.6848,2,    156.0,2,  -999.00,9,  -999.00,9,    36.78,2,     0.00,2,     2.41,2, -999.000,9, -999.000,9,  -999.00,9,   -999.0,9,   -999.0,9,-999.0000,9,   -999.0,  9,  -999.00,9,   -999.0,  -999.00,9,  -999.00,9,  -999.00,9,  -999.00,9,   -999.0,-999.0000, -999,9, 3996,   1.1826,  27.7805,   -999.0,9
       KS01-07,  137E,KS-0195,  1,      1,02-16007,2,20010721,0932,  5.0233, 136.9823, 4879,   4882.7,   1.5493,  34.6885,2,   -999.0,9,  34.6875,2,    162.0,2,  -999.00,9,  -999.00,9,    36.39,2,     0.00,2,     2.36,2, -999.000,9, -999.000,9,  -999.00,9,   -999.0,9,   -999.0,9,-999.0000,9,   -999.0,  9,  -999.00,9,   -999.0,  -999.00,9,  -999.00,9,  -999.00,9,  -999.00,9,   -999.0,-999.0000, -999,9, 4801,   1.1276,  27.7865,   -999.0,9