BOTTLE,20130510GEMDJMAYT
EXPOCODE,SECT_ID,STNNBR,CASTNO,SAMPNO,BTLNBR,BTLNBR_FLAG_W,DATE,TIME,LATITUDE,LONGITUDE,DEPTH,CTDPRS,CTDTMP,CTDSAL,CTDSAL_FLAG_W,CTDOXY,CTDOXY_FLAG_W,SALNTY,SALNTY_FLAG_W,OXYGEN,OXYGEN_FLAG_W,SILCAT,SILCAT_FLAG_W,NITRAT,NITRAT_FLAG_W,NO2+NO3,NO2+NO3_FLAG_W,NITRIT,NITRIT_FLAG_W,PHSPHT,PHSPHT_FLAG_W,CFC-11,CFC-11_FLAG_W,CFC-12,CFC-12_FLAG_W,DELC13,DELC13_FLAG_W,TCARBN,TCARBN_FLAG_W,ALKALI,ALKALI_FLAG_W,PH,PH_FLAG_W,PH_TMP,PH_SCALE,PH_NBS,PH_NBS_FLAG_W,C13ERR,TOTALP,TOTALP_FLAG_W,AMMONI,AMMONI_FLAG_W,CHLORA,CHLORA_FLAG_W,PPHYTN,PPHYTN_FLAG_W,REVPRS,REVTMP,DEPTH_,DEPTH_FLAG,CTDDEP,THETA,SIGTHT,DOC,DOC_FLAG_W
,,,,,,,GMT,GMT,,,METER,DBAR,ITS-90,PSS-78,,UMOL/KG,,PSS-78,,UMOL/KG,,UMOL/KG,,UMOL/KG,,UMOL/KG,,UMOL/KG,,UMOL/KG,,PMOL/KG,,PMOL/KG,,/MILLE,,UMOL/KG,,UMOL/KG,,25_DEG_C,,DEG_C,,,,/MILLE,UMOL/KG,,UMOL/KG,,UG/L,,UG/L,,DBAR,ITS-90,METERS,,METERS,DEG_C,,UMOL/L,
       KS01-07,  137E,KS-0185,  1,     24,02-16030,2,20010718,1542, 15.0077, 137.0025, 5222,      4.1,  29.4315,  34.3811,2,   -999.0,9,-999.0000,9,    196.0,2,  -999.00,9,  -999.00,9,     0.00,2,     0.00,2,     0.00,2, -999.000,9, -999.000,9,  -999.00,9,   -999.0,9,   -999.0,9,-999.0000,9,   -999.0,  9,  -999.00,9,   -999.0,  -999.00,9,  -999.00,9,     0.06,2,     0.03,2,   -999.0,-999.0000, -999,9,    4,  29.4305,  21.4552,   -999.0,9
       KS01-07,  137E,KS-0185,  1,     23,02-16029,3,20010718,1541, 15.0077, 137.0025, 5222,      9.4,  29.3973,  34.3984,2,   -999.0,9,-999.0000,9,    197.0,2,  -999.00,9,  -999.00,9,     0.00,2,     0.00,2,     0.00,2, -999.000,9, -999.000,9,  -999.00,9,   -999.0,9,   -999.0,9,-999.0000,9,   -999.0,  9,  -999.00,9,   -999.0,  -999.00,9,  -999.00,9,     0.05,2,     0.03,2,   -999.0,-999.0000, -999,9,    9,  29.3950,  21.4801,   -999.0,9
       KS01-07,  137E,KS-0185,  1,     22,02-16028,2,20010718,1540, 15.0077, 137.0025, 5222,     24.8,  29.3951,  34.4579,2,   -999.0,9,-999.0000,9,    198.0,2,  -999.00,9,  -999.00,9,     0.00,2,     0.00,2,     0.00,2, -999.000,9, -999.000,9,  -999.00,9,   -999.0,9,   -999.0,9,-999.0000,9,   -999.0,  9,  -999.00,9,   -999.0,  -999.00,9,  -999.00,9,     0.06,2,     0.03,2,   -999.0,-999.0000, -999,9,   25,  29.3891,  21.5267,   -999.0,9
       KS01-07,  137E,KS-0185,  1,     21,02-16027,2,20010718,1534, 15.0077, 137.0025, 5222,     49.3,  29.2310,  34.5676,2,   -999.0,9,  34.6056,4,    202.0,2,  -999.00,9,  -999.00,9,     0.00,2,     0.00,2,     0.00,2, -999.000,9, -999.000,9,  -999.00,9,   -999.0,9,   -999.0,9,-999.0000,9,   -999.0,  9,  -999.00,9,   -999.0,  -999.00,9,  -999.00,9,     0.08,2,     0.05,2,   -999.0,-999.0000, -999,9,   49,  29.2190,  21.6662,   -999.0,9
       KS01-07,  137E,KS-0185,  1,     20,02-16026,2,20010718,1533, 15.0077, 137.0025, 5222,     75.6,  28.0401,  34.8671,2,   -999.0,9,-999.0000,9,    206.0,2,  -999.00,9,  -999.00,9,     0.00,2,     0.00,2,     0.02,2, -999.000,9, -999.000,9,  -999.00,9,   -999.0,9,   -999.0,9,-999.0000,9,   -999.0,  9,  -999.00,9,   -999.0,  -999.00,9,  -999.00,9,     0.12,2,     0.10,2,   -999.0,-999.0000, -999,9,   75,  28.0223,  22.2874,   -999.0,9
       KS01-07,  137E,KS-0185,  1,     19,02-16025,2,20010718,1532, 15.0077, 137.0025, 5222,    100.7,  27.3170,  34.9999,2,   -999.0,9,  35.0047,2,    202.0,2,  -999.00,9,  -999.00,9,     0.00,2,     0.00,2,     0.03,2, -999.000,9, -999.000,9,  -999.00,9,   -999.0,9,   -999.0,9,-999.0000,9,   -999.0,  9,  -999.00,9,   -999.0,  -999.00,9,  -999.00,9,     0.18,2,     0.23,2,   -999.0,-999.0000, -999,9,  100,  27.2937,  22.6236,   -999.0,9
       KS01-07,  137E,KS-0185,  1,     18,02-16024,2,20010718,1531, 15.0077, 137.0025, 5222,    125.4,  26.3386,  35.0371,2,   -999.0,9,-999.0000,9,    196.0,2,  -999.00,9,  -999.00,9,     0.00,2,     0.05,2,     0.06,2, -999.000,9, -999.000,9,  -999.00,9,   -999.0,9,   -999.0,9,-999.0000,9,   -999.0,  9,  -999.00,9,   -999.0,  -999.00,9,  -999.00,9,     0.13,2,     0.37,2,   -999.0,-999.0000, -999,9,  125,  26.3104,  22.9642,   -999.0,9
       KS01-07,  137E,KS-0185,  1,     17,02-16023,2,20010718,1529, 15.0077, 137.0025, 5222,    150.1,  24.4234,  35.0744,2,   -999.0,9,-999.0000,9,    188.0,2,  -999.00,9,  -999.00,9,     0.68,2,     0.03,2,     0.09,2, -999.000,9, -999.000,9,  -999.00,9,   -999.0,9,   -999.0,9,-999.0000,9,   -999.0,  9,  -999.00,9,   -999.0,  -999.00,9,  -999.00,9,     0.05,2,     0.17,2,   -999.0,-999.0000, -999,9,  149,  24.3914,  23.5811,   -999.0,9
       KS01-07,  137E,KS-0185,  1,     16,02-16022,2,20010718,1528, 15.0077, 137.0025, 5222,    201.9,  20.0109,  34.8381,2,   -999.0,9,  34.8414,2,    199.0,2,  -999.00,9,  -999.00,9,     2.15,2,     0.01,2,     0.14,2, -999.000,9, -999.000,9,  -999.00,9,   -999.0,9,   -999.0,9,-999.0000,9,   -999.0,  9,  -999.00,9,   -999.0,  -999.00,9,  -999.00,9,     0.00,2,     0.02,2,   -999.0,-999.0000, -999,9,  201,  19.9736,  24.6452,   -999.0,9
       KS01-07,  137E,KS-0185,  1,     15,02-16021,2,20010718,1526, 15.0077, 137.0025, 5222,    252.5,  17.7293,  34.7747,2,   -999.0,9,-999.0000,9,    199.0,2,  -999.00,9,  -999.00,9,     4.88,2,     0.00,2,     0.30,2, -999.000,9, -999.000,9,  -999.00,9,   -999.0,9,   -999.0,9,-999.0000,9,   -999.0,  9,  -999.00,9,   -999.0,  -999.00,9,  -999.00,9,     0.00,2,     0.01,2,   -999.0,-999.0000, -999,9,  251,  17.6864,  25.1763,   -999.0,9
       KS01-07,  137E,KS-0185,  1,     14,02-16020,2,20010718,1523, 15.0077, 137.0025, 5222,    303.0,  14.8523,  34.5904,2,   -999.0,9,  34.5928,2,    190.0,2,  -999.00,9,  -999.00,9,     9.94,2,     0.00,2,     0.65,2, -999.000,9, -999.000,9,  -999.00,9,   -999.0,9,   -999.0,9,-999.0000,9,   -999.0,  9,  -999.00,9,   -999.0,  -999.00,9,  -999.00,9,     0.00,2,     0.00,2,   -999.0,-999.0000, -999,9,  301,  14.8067,  25.6983,   -999.0,9
       KS01-07,  137E,KS-0185,  1,     13,02-16019,2,20010718,1519, 15.0077, 137.0025, 5222,    503.5,   7.7548,  34.3144,2,   -999.0,9,  34.3148,2,     79.0,2,  -999.00,9,  -999.00,9,    33.02,2,     0.00,2,     2.34,2, -999.000,9, -999.000,9,  -999.00,9,   -999.0,9,   -999.0,9,-999.0000,9,   -999.0,  9,  -999.00,9,   -999.0,  -999.00,9,  -999.00,9,  -999.00,9,  -999.00,9,   -999.0,-999.0000, -999,9,  500,   7.7043,  26.7789,   -999.0,9
       KS01-07,  137E,KS-0185,  1,     12,02-16018,2,20010718,1517, 15.0077, 137.0025, 5222,    603.9,   6.8250,  34.3812,2,   -999.0,9,  34.3821,2,     67.0,2,  -999.00,9,  -999.00,9,    36.03,2,     0.00,2,     2.54,2, -999.000,9, -999.000,9,  -999.00,9,   -999.0,9,   -999.0,9,-999.0000,9,   -999.0,  9,  -999.00,9,   -999.0,  -999.00,9,  -999.00,9,  -999.00,9,  -999.00,9,   -999.0,-999.0000, -999,9,  600,   6.7681,  26.9630,   -999.0,9
       KS01-07,  137E,KS-0185,  1,     11,02-16017,2,20010718,1514, 15.0077, 137.0025, 5222,    704.5,   5.9988,  34.4538,2,   -999.0,9,  34.4526,2,     69.0,2,  -999.00,9,  -999.00,9,    37.58,2,     0.00,2,     2.66,2, -999.000,9, -999.000,9,  -999.00,9,   -999.0,9,   -999.0,9,-999.0000,9,   -999.0,  9,  -999.00,9,   -999.0,  -999.00,9,  -999.00,9,  -999.00,9,  -999.00,9,   -999.0,-999.0000, -999,9,  699,   5.9363,  27.1291,   -999.0,9
       KS01-07,  137E,KS-0185,  1,     10,02-16016,2,20010718,1511, 15.0077, 137.0025, 5222,    805.8,   5.4958,  34.4804,2,   -999.0,9,-999.0000,9,     75.0,2,  -999.00,9,  -999.00,9,    37.97,2,     0.00,2,     2.68,2, -999.000,9, -999.000,9,  -999.00,9,   -999.0,9,   -999.0,9,-999.0000,9,   -999.0,  9,  -999.00,9,   -999.0,  -999.00,9,  -999.00,9,  -999.00,9,  -999.00,9,   -999.0,-999.0000, -999,9,  800,   5.4268,  27.2130,   -999.0,9
       KS01-07,  137E,KS-0185,  1,      9,02-16015,2,20010718,1509, 15.0077, 137.0025, 5222,    906.8,   4.9709,  34.5000,2,   -999.0,9,  34.4985,2,     81.0,2,  -999.00,9,  -999.00,9,    38.16,2,     0.00,2,     2.70,2, -999.000,9, -999.000,9,  -999.00,9,   -999.0,9,   -999.0,9,-999.0000,9,   -999.0,  9,  -999.00,9,   -999.0,  -999.00,9,  -999.00,9,  -999.00,9,  -999.00,9,   -999.0,-999.0000, -999,9,  900,   4.8962,  27.2907,   -999.0,9
       KS01-07,  137E,KS-0185,  1,      8,02-16014,2,20010718,1506, 15.0077, 137.0025, 5222,   1008.7,   4.4575,  34.5214,2,   -999.0,9,-999.0000,9,     83.0,2,  -999.00,9,  -999.00,9,    38.55,2,     0.00,2,     2.74,2, -999.000,9, -999.000,9,  -999.00,9,   -999.0,9,   -999.0,9,-999.0000,9,   -999.0,  9,  -999.00,9,   -999.0,  -999.00,9,  -999.00,9,  -999.00,9,  -999.00,9,   -999.0,-999.0000, -999,9, 1000,   4.3775,  27.3655,   -999.0,9
       KS01-07,  137E,KS-0185,  1,      7,02-16013,2,20010718,1501, 15.0077, 137.0025, 5222,   1260.8,   3.4964,  34.5554,2,   -999.0,9,  34.5545,2,     91.0,2,  -999.00,9,  -999.00,9,    38.83,2,     0.00,2,     2.74,2, -999.000,9, -999.000,9,  -999.00,9,   -999.0,9,   -999.0,9,-999.0000,9,   -999.0,  9,  -999.00,9,   -999.0,  -999.00,9,  -999.00,9,  -999.00,9,  -999.00,9,   -999.0,-999.0000, -999,9, 1250,   3.4033,  27.4923,   -999.0,9
       KS01-07,  137E,KS-0185,  1,      6,02-16012,2,20010718,1456, 15.0077, 137.0025, 5222,   1513.7,   2.8870,  34.5824,2,   -999.0,9,  34.5814,2,     98.0,2,  -999.00,9,  -999.00,9,    38.93,2,     0.00,2,     2.71,2, -999.000,9, -999.000,9,  -999.00,9,   -999.0,9,   -999.0,9,-999.0000,9,   -999.0,  9,  -999.00,9,   -999.0,  -999.00,9,  -999.00,9,  -999.00,9,  -999.00,9,   -999.0,-999.0000, -999,9, 1499,   2.7793,  27.5717,   -999.0,9
       KS01-07,  137E,KS-0185,  1,      5,02-16011,2,20010718,1447, 15.0077, 137.0025, 5222,   2020.8,   2.0870,  34.6309,2,   -999.0,9,  34.6293,2,    116.0,2,  -999.00,9,  -999.00,9,    38.53,2,     0.00,2,     2.66,2, -999.000,9, -999.000,9,  -999.00,9,   -999.0,9,   -999.0,9,-999.0000,9,   -999.0,  9,  -999.00,9,   -999.0,  -999.00,9,  -999.00,9,  -999.00,9,  -999.00,9,   -999.0,-999.0000, -999,9, 1999,   1.9475,  27.6801,   -999.0,9
       KS01-07,  137E,KS-0185,  1,      4,02-16010,2,20010718,1431, 15.0077, 137.0025, 5222,   3039.0,   1.6562,  34.6667,2,   -999.0,9,  34.6647,2,    137.0,2,  -999.00,9,  -999.00,9,    37.36,2,     0.00,2,     2.54,2, -999.000,9, -999.000,9,  -999.00,9,   -999.0,9,   -999.0,9,-999.0000,9,   -999.0,  9,  -999.00,9,   -999.0,  -999.00,9,  -999.00,9,  -999.00,9,  -999.00,9,   -999.0,-999.0000, -999,9, 3000,   1.4322,  27.7476,   -999.0,9
       KS01-07,  137E,KS-0185,  1,      3,02-16009,2,20010718,1415, 15.0077, 137.0025, 5222,   4062.1,   1.5253,  34.6834,2,   -999.0,9,  34.6814,2,    156.0,2,  -999.00,9,  -999.00,9,    36.29,2,     0.00,2,     2.45,2, -999.000,9, -999.000,9,  -999.00,9,   -999.0,9,   -999.0,9,-999.0000,9,   -999.0,  9,  -999.00,9,   -999.0,  -999.00,9,  -999.00,9,  -999.00,9,  -999.00,9,   -999.0,-999.0000, -999,9, 4000,   1.1989,  27.7775,   -999.0,9
       KS01-07,  137E,KS-0185,  1,      2,02-16008,2,20010718,1400, 15.0077, 137.0025, 5222,   5088.2,   1.5711,  34.6860,2,   -999.0,9,  34.6865,2,    163.0,2,  -999.00,9,  -999.00,9,    36.00,2,     0.00,2,     2.42,2, -999.000,9, -999.000,9,  -999.00,9,   -999.0,9,   -999.0,9,-999.0000,9,   -999.0,  9,  -999.00,9,   -999.0,  -999.00,9,  -999.00,9,  -999.00,9,  -999.00,9,   -999.0,-999.0000, -999,9, 4999,   1.1237,  27.7847,   -999.0,9
       KS01-07,  137E,KS-0185,  1,      1,02-16007,2,20010718,1358, 15.0077, 137.0025, 5222,   5202.9,   1.5872,  34.7002,2,   -999.0,9,  34.6867,4,    163.0,2,  -999.00,9,  -999.00,9,    35.80,2,     0.00,2,     2.41,2, -999.000,9, -999.000,9,  -999.00,9,   -999.0,9,   -999.0,9,-999.0000,9,   -999.0,  9,  -999.00,9,   -999.0,  -999.00,9,  -999.00,9,  -999.00,9,  -999.00,9,   -999.0,-999.0000, -999,9, 5110,   1.1249,  27.7960,   -999.0,9