BOTTLE,20130510GEMDJMAYT
EXPOCODE,SECT_ID,STNNBR,CASTNO,SAMPNO,BTLNBR,BTLNBR_FLAG_W,DATE,TIME,LATITUDE,LONGITUDE,DEPTH,CTDPRS,CTDTMP,CTDSAL,CTDSAL_FLAG_W,CTDOXY,CTDOXY_FLAG_W,SALNTY,SALNTY_FLAG_W,OXYGEN,OXYGEN_FLAG_W,SILCAT,SILCAT_FLAG_W,NITRAT,NITRAT_FLAG_W,NO2+NO3,NO2+NO3_FLAG_W,NITRIT,NITRIT_FLAG_W,PHSPHT,PHSPHT_FLAG_W,CFC-11,CFC-11_FLAG_W,CFC-12,CFC-12_FLAG_W,DELC13,DELC13_FLAG_W,TCARBN,TCARBN_FLAG_W,ALKALI,ALKALI_FLAG_W,PH,PH_FLAG_W,PH_TMP,PH_SCALE,PH_NBS,PH_NBS_FLAG_W,C13ERR,TOTALP,TOTALP_FLAG_W,AMMONI,AMMONI_FLAG_W,CHLORA,CHLORA_FLAG_W,PPHYTN,PPHYTN_FLAG_W,REVPRS,REVTMP,DEPTH_,DEPTH_FLAG,CTDDEP,THETA,SIGTHT,DOC,DOC_FLAG_W
,,,,,,,GMT,GMT,,,METER,DBAR,ITS-90,PSS-78,,UMOL/KG,,PSS-78,,UMOL/KG,,UMOL/KG,,UMOL/KG,,UMOL/KG,,UMOL/KG,,UMOL/KG,,PMOL/KG,,PMOL/KG,,/MILLE,,UMOL/KG,,UMOL/KG,,25_DEG_C,,DEG_C,,,,/MILLE,UMOL/KG,,UMOL/KG,,UG/L,,UG/L,,DBAR,ITS-90,METERS,,METERS,DEG_C,,UMOL/L,
       KS01-07,  137E,KS-0214,  1,     24,02-16030,2,20010807,0348, 26.9943, 136.0327, 5124,      4.8,  30.0477,  34.9049,2,   -999.0,9,-999.0000,9,    196.0,2,  -999.00,9,  -999.00,9,     0.00,2,     0.00,2,     0.00,2, -999.000,9, -999.000,9,  -999.00,9,   1948.5,2,   -999.0,9,-999.0000,9,   -999.0,  9,     8.25,2,   -999.0,  -999.00,9,  -999.00,9,  -999.00,9,  -999.00,9,   -999.0,-999.0000, -999,9,    5,  30.0465,  21.6390,   -999.0,9
       KS01-07,  137E,KS-0214,  1,     23,02-16029,2,20010807,0348, 26.9943, 136.0327, 5124,      9.5,  30.0006,  34.9003,2,   -999.0,9,-999.0000,9,    199.0,2,  -999.00,9,  -999.00,9,     0.00,2,     0.00,2,     0.00,2, -999.000,9, -999.000,9,  -999.00,9,   -999.0,9,   -999.0,9,-999.0000,9,   -999.0,  9,  -999.00,9,   -999.0,  -999.00,9,  -999.00,9,  -999.00,9,  -999.00,9,   -999.0,-999.0000, -999,9,    9,  29.9983,  21.6520,   -999.0,9
       KS01-07,  137E,KS-0214,  1,     22,02-16028,2,20010807,0347, 26.9943, 136.0327, 5124,     25.4,  29.9120,  34.8963,2,   -999.0,9,-999.0000,9,    200.0,2,  -999.00,9,  -999.00,9,     0.00,2,     0.00,2,     0.00,2, -999.000,9, -999.000,9,  -999.00,9,   -999.0,9,   -999.0,9,-999.0000,9,   -999.0,  9,  -999.00,9,   -999.0,  -999.00,9,  -999.00,9,  -999.00,9,  -999.00,9,   -999.0,-999.0000, -999,9,   25,  29.9057,  21.6806,   -999.0,9
       KS01-07,  137E,KS-0214,  1,     21,02-16027,2,20010807,0344, 26.9943, 136.0327, 5124,     48.3,  25.7475,  34.6933,2,   -999.0,9,-999.0000,9,    246.0,2,  -999.00,9,  -999.00,9,     0.00,2,     0.00,2,     0.00,2, -999.000,9, -999.000,9,  -999.00,9,   -999.0,9,   -999.0,9,-999.0000,9,   -999.0,  9,  -999.00,9,   -999.0,  -999.00,9,  -999.00,9,  -999.00,9,  -999.00,9,   -999.0,-999.0000, -999,9,   48,  25.7368,  22.8836,   -999.0,9
       KS01-07,  137E,KS-0214,  1,     20,02-16026,2,20010807,0343, 26.9943, 136.0327, 5124,     74.6,  22.5494,  34.7732,2,   -999.0,9,-999.0000,9,    241.0,2,  -999.00,9,  -999.00,9,     0.00,2,     0.00,2,     0.00,2, -999.000,9, -999.000,9,  -999.00,9,   -999.0,9,   -999.0,9,-999.0000,9,   -999.0,  9,  -999.00,9,   -999.0,  -999.00,9,  -999.00,9,  -999.00,9,  -999.00,9,   -999.0,-999.0000, -999,9,   74,  22.5344,  23.8948,   -999.0,9
       KS01-07,  137E,KS-0214,  1,     19,02-16025,2,20010807,0343, 26.9943, 136.0327, 5124,     98.7,  20.4997,  34.8089,2,   -999.0,9,  34.8088,2,    232.0,2,  -999.00,9,  -999.00,9,     0.00,2,     0.00,2,     0.00,2, -999.000,9, -999.000,9,  -999.00,9,   -999.0,9,   -999.0,9,-999.0000,9,   -999.0,  9,  -999.00,9,   -999.0,  -999.00,9,  -999.00,9,  -999.00,9,  -999.00,9,   -999.0,-999.0000, -999,9,   98,  20.4812,  24.4883,   -999.0,9
       KS01-07,  137E,KS-0214,  1,     18,02-16024,2,20010807,0342, 26.9943, 136.0327, 5124,    122.5,  19.7021,  34.7980,2,   -999.0,9,-999.0000,9,    225.0,2,  -999.00,9,  -999.00,9,     0.10,2,     0.09,2,     0.03,2, -999.000,9, -999.000,9,  -999.00,9,   -999.0,9,   -999.0,9,-999.0000,9,   -999.0,  9,  -999.00,9,   -999.0,  -999.00,9,  -999.00,9,  -999.00,9,  -999.00,9,   -999.0,-999.0000, -999,9,  122,  19.6797,  24.6916,   -999.0,9
       KS01-07,  137E,KS-0214,  1,     17,02-16023,2,20010807,0341, 26.9943, 136.0327, 5124,    152.3,  18.9986,  34.7939,2,   -999.0,9,-999.0000,9,    217.0,2,  -999.00,9,  -999.00,9,     2.24,2,     0.10,2,     0.14,2, -999.000,9, -999.000,9,  -999.00,9,   -999.0,9,   -999.0,9,-999.0000,9,   -999.0,  9,  -999.00,9,   -999.0,  -999.00,9,  -999.00,9,  -999.00,9,  -999.00,9,   -999.0,-999.0000, -999,9,  151,  18.9715,  24.8709,   -999.0,9
       KS01-07,  137E,KS-0214,  1,     16,02-16022,2,20010807,0339, 26.9943, 136.0327, 5124,    201.5,  18.2060,  34.7842,2,   -999.0,9,  34.7842,2,    211.0,2,  -999.00,9,  -999.00,9,     4.19,2,     0.01,2,     0.24,2, -999.000,9, -999.000,9,  -999.00,9,   -999.0,9,   -999.0,9,-999.0000,9,   -999.0,  9,  -999.00,9,   -999.0,  -999.00,9,  -999.00,9,  -999.00,9,  -999.00,9,   -999.0,-999.0000, -999,9,  200,  18.1712,  25.0645,   -999.0,9
       KS01-07,  137E,KS-0214,  1,     15,02-16021,2,20010807,0338, 26.9943, 136.0327, 5124,    250.1,  17.3988,  34.7593,2,   -999.0,9,-999.0000,9,    209.0,2,  -999.00,9,  -999.00,9,     5.56,2,     0.00,2,     0.34,2, -999.000,9, -999.000,9,  -999.00,9,   -999.0,9,   -999.0,9,-999.0000,9,   -999.0,  9,  -999.00,9,   -999.0,  -999.00,9,  -999.00,9,  -999.00,9,  -999.00,9,   -999.0,-999.0000, -999,9,  248,  17.3569,  25.2442,   -999.0,9
       KS01-07,  137E,KS-0214,  1,     14,02-16020,2,20010807,0337, 26.9943, 136.0327, 5124,    302.4,  16.5961,  34.7191,2,   -999.0,9,  34.7203,2,    208.0,2,  -999.00,9,  -999.00,9,     7.02,2,     0.00,2,     0.43,2, -999.000,9, -999.000,9,  -999.00,9,   -999.0,9,   -999.0,9,-999.0000,9,   -999.0,  9,  -999.00,9,   -999.0,  -999.00,9,  -999.00,9,  -999.00,9,  -999.00,9,   -999.0,-999.0000, -999,9,  300,  16.5470,  25.4053,   -999.0,9
       KS01-07,  137E,KS-0214,  1,     13,02-16019,2,20010807,0335, 26.9943, 136.0327, 5124,    403.4,  14.2831,  34.5646,2,   -999.0,9,  34.5684,4,    202.0,2,  -999.00,9,  -999.00,9,    11.31,2,     0.00,2,     0.71,2, -999.000,9, -999.000,9,  -999.00,9,   -999.0,9,   -999.0,9,-999.0000,9,   -999.0,  9,  -999.00,9,   -999.0,  -999.00,9,  -999.00,9,  -999.00,9,  -999.00,9,   -999.0,-999.0000, -999,9,  400,  14.2238,  25.8034,   -999.0,9
       KS01-07,  137E,KS-0214,  1,     12,02-16018,2,20010807,0333, 26.9943, 136.0327, 5124,    504.4,  11.4922,  34.3565,2,   -999.0,9,  34.3588,2,    191.0,2,  -999.00,9,  -999.00,9,    17.25,2,     0.00,2,     1.13,2, -999.000,9, -999.000,9,  -999.00,9,   -999.0,9,   -999.0,9,-999.0000,9,   -999.0,  9,  -999.00,9,   -999.0,  -999.00,9,  -999.00,9,  -999.00,9,  -999.00,9,   -999.0,-999.0000, -999,9,  500,  11.4278,  26.1964,   -999.0,9
       KS01-07,  137E,KS-0214,  1,     11,02-16017,2,20010807,0330, 26.9943, 136.0327, 5124,    604.9,   9.1296,  34.2260,2,   -999.0,9,  34.2268,2,    165.0,2,  -999.00,9,  -999.00,9,    23.87,2,     0.00,2,     1.62,2, -999.000,9, -999.000,9,  -999.00,9,   -999.0,9,   -999.0,9,-999.0000,9,   -999.0,  9,  -999.00,9,   -999.0,  -999.00,9,  -999.00,9,  -999.00,9,  -999.00,9,   -999.0,-999.0000, -999,9,  600,   9.0624,  26.5021,   -999.0,9
       KS01-07,  137E,KS-0214,  1,     10,02-16016,2,20010807,0328, 26.9943, 136.0327, 5124,    705.9,   6.9752,  34.1572,2,   -999.0,9,  34.1570,2,    131.0,2,  -999.00,9,  -999.00,9,    30.39,2,     0.00,2,     2.09,2, -999.000,9, -999.000,9,  -999.00,9,   -999.0,9,   -999.0,9,-999.0000,9,   -999.0,  9,  -999.00,9,   -999.0,  -999.00,9,  -999.00,9,  -999.00,9,  -999.00,9,   -999.0,-999.0000, -999,9,  700,   6.9077,  26.7675,   -999.0,9
       KS01-07,  137E,KS-0214,  1,      9,02-16015,2,20010807,0326, 26.9943, 136.0327, 5124,    807.1,   5.5336,  34.1815,2,   -999.0,9,  34.1795,2,    100.0,2,  -999.00,9,  -999.00,9,    35.25,2,     0.00,2,     2.47,2, -999.000,9, -999.000,9,  -999.00,9,   -999.0,9,   -999.0,9,-999.0000,9,   -999.0,  9,  -999.00,9,   -999.0,  -999.00,9,  -999.00,9,  -999.00,9,  -999.00,9,   -999.0,-999.0000, -999,9,  800,   5.4646,  26.9718,   -999.0,9
       KS01-07,  137E,KS-0214,  1,      8,02-16014,2,20010807,0324, 26.9943, 136.0327, 5124,    907.0,   4.6533,  34.2388,2,   -999.0,9,  34.2375,2,     79.0,2,  -999.00,9,  -999.00,9,    38.17,2,     0.00,2,     2.71,2, -999.000,9, -999.000,9,  -999.00,9,   -999.0,9,   -999.0,9,-999.0000,9,   -999.0,  9,  -999.00,9,   -999.0,  -999.00,9,  -999.00,9,  -999.00,9,  -999.00,9,   -999.0,-999.0000, -999,9,  899,   4.5811,  27.1188,   -999.0,9
       KS01-07,  137E,KS-0214,  1,      7,02-16013,2,20010807,0322, 26.9943, 136.0327, 5124,   1009.1,   3.9782,  34.3148,2,   -999.0,9,  34.3129,2,     65.0,2,  -999.00,9,  -999.00,9,    40.01,2,     0.00,2,     2.84,2, -999.000,9, -999.000,9,  -999.00,9,   -999.0,9,   -999.0,9,-999.0000,9,   -999.0,  9,  -999.00,9,   -999.0,  -999.00,9,  -999.00,9,  -999.00,9,  -999.00,9,   -999.0,-999.0000, -999,9, 1000,   3.9023,  27.2511,   -999.0,9
       KS01-07,  137E,KS-0214,  1,      6,02-16012,2,20010807,0318, 26.9943, 136.0327, 5124,   1262.3,   3.0923,  34.4408,2,   -999.0,9,  34.4389,2,     65.0,2,  -999.00,9,  -999.00,9,    41.07,2,     0.00,2,     2.92,2, -999.000,9, -999.000,9,  -999.00,9,   -999.0,9,   -999.0,9,-999.0000,9,   -999.0,  9,  -999.00,9,   -999.0,  -999.00,9,  -999.00,9,  -999.00,9,  -999.00,9,   -999.0,-999.0000, -999,9, 1250,   3.0033,  27.4384,   -999.0,9
       KS01-07,  137E,KS-0214,  1,      5,02-16011,2,20010807,0314, 26.9943, 136.0327, 5124,   1514.0,   2.5674,  34.5225,2,   -999.0,9,  34.5209,2,     81.0,2,  -999.00,9,  -999.00,9,    40.48,2,     0.00,2,     2.83,2, -999.000,9, -999.000,9,  -999.00,9,   -999.0,9,   -999.0,9,-999.0000,9,   -999.0,  9,  -999.00,9,   -999.0,  -999.00,9,  -999.00,9,  -999.00,9,  -999.00,9,   -999.0,-999.0000, -999,9, 1499,   2.4636,  27.5512,   -999.0,9
       KS01-07,  137E,KS-0214,  1,      4,02-16010,9,20010807,0306, 26.9943, 136.0327, 5124,   2021.0,   1.9657,  34.6137,2,   -999.0,9,-999.0000,9,   -999.0,9,  -999.00,9,  -999.00,9,  -999.00,9,  -999.00,9,  -999.00,9, -999.000,9, -999.000,9,  -999.00,9,   -999.0,9,   -999.0,9,-999.0000,9,   -999.0,  9,  -999.00,9,   -999.0,  -999.00,9,  -999.00,9,  -999.00,9,  -999.00,9,   -999.0,-999.0000, -999,9, 1998,   1.8281,  27.6756,   -999.0,9
       KS01-07,  137E,KS-0214,  1,      3,02-16009,9,20010807,0305, 26.9943, 136.0327, 5124,   2020.1,   1.9662,  34.6135,2,   -999.0,9,-999.0000,9,   -999.0,9,  -999.00,9,  -999.00,9,  -999.00,9,  -999.00,9,  -999.00,9, -999.000,9, -999.000,9,  -999.00,9,   -999.0,9,   -999.0,9,-999.0000,9,   -999.0,  9,  -999.00,9,   -999.0,  -999.00,9,  -999.00,9,  -999.00,9,  -999.00,9,   -999.0,-999.0000, -999,9, 1997,   1.8287,  27.6754,   -999.0,9
       KS01-07,  137E,KS-0214,  1,      2,02-16008,9,20010807,0305, 26.9943, 136.0327, 5124,   2020.8,   1.9629,  34.6140,2,   -999.0,9,-999.0000,9,   -999.0,9,  -999.00,9,  -999.00,9,  -999.00,9,  -999.00,9,  -999.00,9, -999.000,9, -999.000,9,  -999.00,9,   -999.0,9,   -999.0,9,-999.0000,9,   -999.0,  9,  -999.00,9,   -999.0,  -999.00,9,  -999.00,9,  -999.00,9,  -999.00,9,   -999.0,-999.0000, -999,9, 1998,   1.8253,  27.6760,   -999.0,9
       KS01-07,  137E,KS-0214,  1,      1,02-16007,2,20010807,0305, 26.9943, 136.0327, 5124,   2021.4,   1.9622,  34.6142,2,   -999.0,9,  34.6121,2,    122.0,2,  -999.00,9,  -999.00,9,    38.83,2,     0.00,2,     2.67,2, -999.000,9, -999.000,9,  -999.00,9,   -999.0,9,   -999.0,9,-999.0000,9,   -999.0,  9,  -999.00,9,   -999.0,  -999.00,9,  -999.00,9,  -999.00,9,  -999.00,9,   -999.0,-999.0000, -999,9, 1998,   1.8246,  27.6763,   -999.0,9