BOTTLE,20130510GEMDJMAYT
EXPOCODE,SECT_ID,STNNBR,CASTNO,SAMPNO,BTLNBR,BTLNBR_FLAG_W,DATE,TIME,LATITUDE,LONGITUDE,DEPTH,CTDPRS,CTDTMP,CTDSAL,CTDSAL_FLAG_W,CTDOXY,CTDOXY_FLAG_W,SALNTY,SALNTY_FLAG_W,OXYGEN,OXYGEN_FLAG_W,SILCAT,SILCAT_FLAG_W,NITRAT,NITRAT_FLAG_W,NO2+NO3,NO2+NO3_FLAG_W,NITRIT,NITRIT_FLAG_W,PHSPHT,PHSPHT_FLAG_W,CFC-11,CFC-11_FLAG_W,CFC-12,CFC-12_FLAG_W,DELC13,DELC13_FLAG_W,TCARBN,TCARBN_FLAG_W,ALKALI,ALKALI_FLAG_W,PH,PH_FLAG_W,PH_TMP,PH_SCALE,PH_NBS,PH_NBS_FLAG_W,C13ERR,TOTALP,TOTALP_FLAG_W,AMMONI,AMMONI_FLAG_W,CHLORA,CHLORA_FLAG_W,PPHYTN,PPHYTN_FLAG_W,REVPRS,REVTMP,DEPTH_,DEPTH_FLAG,CTDDEP,THETA,SIGTHT,DOC,DOC_FLAG_W
,,,,,,,GMT,GMT,,,METER,DBAR,ITS-90,PSS-78,,UMOL/KG,,PSS-78,,UMOL/KG,,UMOL/KG,,UMOL/KG,,UMOL/KG,,UMOL/KG,,UMOL/KG,,PMOL/KG,,PMOL/KG,,/MILLE,,UMOL/KG,,UMOL/KG,,25_DEG_C,,DEG_C,,,,/MILLE,UMOL/KG,,UMOL/KG,,UG/L,,UG/L,,DBAR,ITS-90,METERS,,METERS,DEG_C,,UMOL/L,
       KS01-07,  NONE,KS-0200,  1,     24,02-16030,2,20010804,0821, 32.7498, 133.0925,  140,      4.9,  28.7387,  33.3620,2,   -999.0,9,  33.3662,4,    215.0,2,  -999.00,9,  -999.00,9,     0.00,2,     0.00,2,     0.06,2, -999.000,9, -999.000,9,  -999.00,9,   1886.6,3,   -999.0,9,-999.0000,9,   -999.0,  9,     8.20,2,   -999.0,  -999.00,9,  -999.00,9,     0.11,2,     0.05,2,   -999.0,-999.0000, -999,9,    5,  28.7375,  20.9217,   -999.0,9
       KS01-07,  NONE,KS-0200,  1,     23,02-16029,2,20010804,0820, 32.7498, 133.0925,  140,      9.7,  27.9862,  33.4026,2,   -999.0,9,  33.4885,4,    224.0,2,  -999.00,9,  -999.00,9,     0.00,2,     0.00,2,     0.06,2, -999.000,9, -999.000,9,  -999.00,9,   -999.0,9,   -999.0,9,-999.0000,9,   -999.0,  9,     8.23,2,   -999.0,  -999.00,9,  -999.00,9,     0.16,2,     0.06,2,   -999.0,-999.0000, -999,9,   10,  27.9839,  21.1992,   -999.0,9
       KS01-07,  NONE,KS-0200,  1,     22,02-16028,2,20010804,0819, 32.7498, 133.0925,  140,     24.7,  21.4250,  34.1665,2,   -999.0,9,  34.2262,4,    235.0,2,  -999.00,9,  -999.00,9,     0.10,2,     0.01,2,     0.10,2, -999.000,9, -999.000,9,  -999.00,9,   -999.0,9,   -999.0,9,-999.0000,9,   -999.0,  9,     8.17,2,   -999.0,  -999.00,9,  -999.00,9,     0.47,2,     0.28,2,   -999.0,-999.0000, -999,9,   25,  21.4202,  23.7450,   -999.0,9
       KS01-07,  NONE,KS-0200,  1,     21,02-16027,2,20010804,0817, 32.7498, 133.0925,  140,     50.7,  16.2449,  34.5688,2,   -999.0,9,  34.5716,4,    165.0,2,  -999.00,9,  -999.00,9,    11.90,2,     0.11,2,     0.82,2, -999.000,9, -999.000,9,  -999.00,9,   -999.0,9,   -999.0,9,-999.0000,9,   -999.0,  9,     7.99,2,   -999.0,  -999.00,9,  -999.00,9,     0.40,2,     0.34,2,   -999.0,-999.0000, -999,9,   50,  16.2368,  25.3616,   -999.0,9
       KS01-07,  NONE,KS-0200,  1,     20,02-16026,2,20010804,0816, 32.7498, 133.0925,  140,     75.8,  13.1703,  34.4868,2,   -999.0,9,  34.4809,4,    152.0,2,  -999.00,9,  -999.00,9,    18.13,2,     0.04,2,     1.26,2, -999.000,9, -999.000,9,  -999.00,9,   -999.0,9,   -999.0,9,-999.0000,9,   -999.0,  9,     7.29,4,   -999.0,  -999.00,9,  -999.00,9,     0.04,2,     0.12,2,   -999.0,-999.0000, -999,9,   75,  13.1599,  25.9632,   -999.0,9
       KS01-07,  NONE,KS-0200,  1,     19,02-16025,2,20010804,0815, 32.7498, 133.0925,  140,    101.0,  12.2333,  34.4622,2,   -999.0,9,  34.4593,4,    148.0,2,  -999.00,9,  -999.00,9,    19.30,2,     0.05,2,     1.33,2, -999.000,9, -999.000,9,  -999.00,9,   -999.0,9,   -999.0,9,-999.0000,9,   -999.0,  9,     7.89,2,   -999.0,  -999.00,9,  -999.00,9,     0.02,2,     0.08,2,   -999.0,-999.0000, -999,9,  100,  12.2201,  26.1293,   -999.0,9
       KS01-07,  NONE,KS-0200,  1,     18,02-16024,2,20010804,0813, 32.7498, 133.0925,  140,    125.7,  12.0504,  34.4559,2,   -999.0,9,  34.4512,4,    147.0,2,  -999.00,9,  -999.00,9,    19.78,2,     0.05,2,     1.38,2, -999.000,9, -999.000,9,  -999.00,9,   -999.0,9,   -999.0,9,-999.0000,9,   -999.0,  9,     7.88,2,   -999.0,  -999.00,9,  -999.00,9,     0.02,2,     0.07,2,   -999.0,-999.0000, -999,9,  125,  12.0341,  26.1600,   -999.0,9
       KS01-07,  NONE,KS-0200,  1,     17,02-16023,4,20010804,0813, 32.7498, 133.0925,  140,    128.8,  11.9969,  34.4548,2,   -999.0,9,-999.0000,9,   -999.0,9,  -999.00,9,  -999.00,9,  -999.00,9,  -999.00,9,  -999.00,9, -999.000,9, -999.000,9,  -999.00,9,   -999.0,9,   -999.0,9,-999.0000,9,   -999.0,  9,  -999.00,9,   -999.0,  -999.00,9,  -999.00,9,  -999.00,9,  -999.00,9,   -999.0,-999.0000, -999,9,  128,  11.9802,  26.1694,   -999.0,9
       KS01-07,  NONE,KS-0200,  1,     16,02-16022,9,20010804,0813, 32.7498, 133.0925,  140,    128.8,  11.9986,  34.4549,2,   -999.0,9,-999.0000,9,   -999.0,9,  -999.00,9,  -999.00,9,  -999.00,9,  -999.00,9,  -999.00,9, -999.000,9, -999.000,9,  -999.00,9,   -999.0,9,   -999.0,9,-999.0000,9,   -999.0,  9,  -999.00,9,   -999.0,  -999.00,9,  -999.00,9,  -999.00,9,  -999.00,9,   -999.0,-999.0000, -999,9,  128,  11.9819,  26.1692,   -999.0,9
       KS01-07,  NONE,KS-0200,  1,     15,02-16021,9,20010804,0812, 32.7498, 133.0925,  140,    128.9,  11.9895,  34.4549,2,   -999.0,9,-999.0000,9,   -999.0,9,  -999.00,9,  -999.00,9,  -999.00,9,  -999.00,9,  -999.00,9, -999.000,9, -999.000,9,  -999.00,9,   -999.0,9,   -999.0,9,-999.0000,9,   -999.0,  9,  -999.00,9,   -999.0,  -999.00,9,  -999.00,9,  -999.00,9,  -999.00,9,   -999.0,-999.0000, -999,9,  128,  11.9728,  26.1708,   -999.0,9
       KS01-07,  NONE,KS-0200,  1,     14,02-16020,9,20010804,0812, 32.7498, 133.0925,  140,    128.8,  11.9854,  34.4546,2,   -999.0,9,-999.0000,9,   -999.0,9,  -999.00,9,  -999.00,9,  -999.00,9,  -999.00,9,  -999.00,9, -999.000,9, -999.000,9,  -999.00,9,   -999.0,9,   -999.0,9,-999.0000,9,   -999.0,  9,  -999.00,9,   -999.0,  -999.00,9,  -999.00,9,  -999.00,9,  -999.00,9,   -999.0,-999.0000, -999,9,  128,  11.9687,  26.1714,   -999.0,9
       KS01-07,  NONE,KS-0200,  1,     13,02-16019,9,20010804,0812, 32.7498, 133.0925,  140,    129.0,  11.9779,  34.4544,2,   -999.0,9,-999.0000,9,   -999.0,9,  -999.00,9,  -999.00,9,  -999.00,9,  -999.00,9,  -999.00,9, -999.000,9, -999.000,9,  -999.00,9,   -999.0,9,   -999.0,9,-999.0000,9,   -999.0,  9,  -999.00,9,   -999.0,  -999.00,9,  -999.00,9,  -999.00,9,  -999.00,9,   -999.0,-999.0000, -999,9,  128,  11.9612,  26.1727,   -999.0,9
       KS01-07,  NONE,KS-0200,  1,     12,02-16018,9,20010804,0812, 32.7498, 133.0925,  140,    128.7,  11.9615,  34.4544,2,   -999.0,9,-999.0000,9,   -999.0,9,  -999.00,9,  -999.00,9,  -999.00,9,  -999.00,9,  -999.00,9, -999.000,9, -999.000,9,  -999.00,9,   -999.0,9,   -999.0,9,-999.0000,9,   -999.0,  9,  -999.00,9,   -999.0,  -999.00,9,  -999.00,9,  -999.00,9,  -999.00,9,   -999.0,-999.0000, -999,9,  128,  11.9449,  26.1757,   -999.0,9
       KS01-07,  NONE,KS-0200,  1,     11,02-16017,9,20010804,0812, 32.7498, 133.0925,  140,    128.7,  11.9680,  34.4547,2,   -999.0,9,-999.0000,9,   -999.0,9,  -999.00,9,  -999.00,9,  -999.00,9,  -999.00,9,  -999.00,9, -999.000,9, -999.000,9,  -999.00,9,   -999.0,9,   -999.0,9,-999.0000,9,   -999.0,  9,  -999.00,9,   -999.0,  -999.00,9,  -999.00,9,  -999.00,9,  -999.00,9,   -999.0,-999.0000, -999,9,  128,  11.9514,  26.1747,   -999.0,9
       KS01-07,  NONE,KS-0200,  1,     10,02-16016,9,20010804,0812, 32.7498, 133.0925,  140,    128.7,  11.9645,  34.4546,2,   -999.0,9,-999.0000,9,   -999.0,9,  -999.00,9,  -999.00,9,  -999.00,9,  -999.00,9,  -999.00,9, -999.000,9, -999.000,9,  -999.00,9,   -999.0,9,   -999.0,9,-999.0000,9,   -999.0,  9,  -999.00,9,   -999.0,  -999.00,9,  -999.00,9,  -999.00,9,  -999.00,9,   -999.0,-999.0000, -999,9,  128,  11.9479,  26.1753,   -999.0,9
       KS01-07,  NONE,KS-0200,  1,      9,02-16015,9,20010804,0812, 32.7498, 133.0925,  140,    128.9,  11.9658,  34.4549,2,   -999.0,9,-999.0000,9,   -999.0,9,  -999.00,9,  -999.00,9,  -999.00,9,  -999.00,9,  -999.00,9, -999.000,9, -999.000,9,  -999.00,9,   -999.0,9,   -999.0,9,-999.0000,9,   -999.0,  9,  -999.00,9,   -999.0,  -999.00,9,  -999.00,9,  -999.00,9,  -999.00,9,   -999.0,-999.0000, -999,9,  128,  11.9492,  26.1753,   -999.0,9
       KS01-07,  NONE,KS-0200,  1,      8,02-16014,9,20010804,0812, 32.7498, 133.0925,  140,    128.7,  11.9736,  34.4551,2,   -999.0,9,-999.0000,9,   -999.0,9,  -999.00,9,  -999.00,9,  -999.00,9,  -999.00,9,  -999.00,9, -999.000,9, -999.000,9,  -999.00,9,   -999.0,9,   -999.0,9,-999.0000,9,   -999.0,  9,  -999.00,9,   -999.0,  -999.00,9,  -999.00,9,  -999.00,9,  -999.00,9,   -999.0,-999.0000, -999,9,  128,  11.9570,  26.1741,   -999.0,9
       KS01-07,  NONE,KS-0200,  1,      7,02-16013,9,20010804,0811, 32.7498, 133.0925,  140,    128.6,  11.9769,  34.4554,2,   -999.0,9,-999.0000,9,   -999.0,9,  -999.00,9,  -999.00,9,  -999.00,9,  -999.00,9,  -999.00,9, -999.000,9, -999.000,9,  -999.00,9,   -999.0,9,   -999.0,9,-999.0000,9,   -999.0,  9,  -999.00,9,   -999.0,  -999.00,9,  -999.00,9,  -999.00,9,  -999.00,9,   -999.0,-999.0000, -999,9,  128,  11.9603,  26.1736,   -999.0,9
       KS01-07,  NONE,KS-0200,  1,      6,02-16012,9,20010804,0811, 32.7498, 133.0925,  140,    128.8,  11.9696,  34.4554,2,   -999.0,9,-999.0000,9,   -999.0,9,  -999.00,9,  -999.00,9,  -999.00,9,  -999.00,9,  -999.00,9, -999.000,9, -999.000,9,  -999.00,9,   -999.0,9,   -999.0,9,-999.0000,9,   -999.0,  9,  -999.00,9,   -999.0,  -999.00,9,  -999.00,9,  -999.00,9,  -999.00,9,   -999.0,-999.0000, -999,9,  128,  11.9530,  26.1750,   -999.0,9
       KS01-07,  NONE,KS-0200,  1,      5,02-16011,9,20010804,0811, 32.7498, 133.0925,  140,    128.7,  11.9734,  34.4552,2,   -999.0,9,-999.0000,9,   -999.0,9,  -999.00,9,  -999.00,9,  -999.00,9,  -999.00,9,  -999.00,9, -999.000,9, -999.000,9,  -999.00,9,   -999.0,9,   -999.0,9,-999.0000,9,   -999.0,  9,  -999.00,9,   -999.0,  -999.00,9,  -999.00,9,  -999.00,9,  -999.00,9,   -999.0,-999.0000, -999,9,  128,  11.9568,  26.1741,   -999.0,9
       KS01-07,  NONE,KS-0200,  1,      4,02-16010,9,20010804,0811, 32.7498, 133.0925,  140,    128.8,  11.9618,  34.4555,2,   -999.0,9,-999.0000,9,   -999.0,9,  -999.00,9,  -999.00,9,  -999.00,9,  -999.00,9,  -999.00,9, -999.000,9, -999.000,9,  -999.00,9,   -999.0,9,   -999.0,9,-999.0000,9,   -999.0,  9,  -999.00,9,   -999.0,  -999.00,9,  -999.00,9,  -999.00,9,  -999.00,9,   -999.0,-999.0000, -999,9,  128,  11.9452,  26.1766,   -999.0,9
       KS01-07,  NONE,KS-0200,  1,      3,02-16009,9,20010804,0811, 32.7498, 133.0925,  140,    128.7,  11.9599,  34.4556,2,   -999.0,9,-999.0000,9,   -999.0,9,  -999.00,9,  -999.00,9,  -999.00,9,  -999.00,9,  -999.00,9, -999.000,9, -999.000,9,  -999.00,9,   -999.0,9,   -999.0,9,-999.0000,9,   -999.0,  9,  -999.00,9,   -999.0,  -999.00,9,  -999.00,9,  -999.00,9,  -999.00,9,   -999.0,-999.0000, -999,9,  128,  11.9433,  26.1770,   -999.0,9
       KS01-07,  NONE,KS-0200,  1,      2,02-16008,9,20010804,0811, 32.7498, 133.0925,  140,    128.7,  11.9661,  34.4560,2,   -999.0,9,-999.0000,9,   -999.0,9,  -999.00,9,  -999.00,9,  -999.00,9,  -999.00,9,  -999.00,9, -999.000,9, -999.000,9,  -999.00,9,   -999.0,9,   -999.0,9,-999.0000,9,   -999.0,  9,  -999.00,9,   -999.0,  -999.00,9,  -999.00,9,  -999.00,9,  -999.00,9,   -999.0,-999.0000, -999,9,  128,  11.9495,  26.1761,   -999.0,9
       KS01-07,  NONE,KS-0200,  1,      1,02-16007,9,20010804,0810, 32.7498, 133.0925,  140,    128.9,  11.9643,  34.4561,2,   -999.0,9,-999.0000,9,   -999.0,9,  -999.00,9,  -999.00,9,  -999.00,9,  -999.00,9,  -999.00,9, -999.000,9, -999.000,9,  -999.00,9,   -999.0,9,   -999.0,9,-999.0000,9,   -999.0,  9,  -999.00,9,   -999.0,  -999.00,9,  -999.00,9,  -999.00,9,  -999.00,9,   -999.0,-999.0000, -999,9,  128,  11.9477,  26.1766,   -999.0,9