BOTTLE,20130510GEMDJMAYT
EXPOCODE,SECT_ID,STNNBR,CASTNO,SAMPNO,BTLNBR,BTLNBR_FLAG_W,DATE,TIME,LATITUDE,LONGITUDE,DEPTH,CTDPRS,CTDTMP,CTDSAL,CTDSAL_FLAG_W,CTDOXY,CTDOXY_FLAG_W,SALNTY,SALNTY_FLAG_W,OXYGEN,OXYGEN_FLAG_W,SILCAT,SILCAT_FLAG_W,NITRAT,NITRAT_FLAG_W,NO2+NO3,NO2+NO3_FLAG_W,NITRIT,NITRIT_FLAG_W,PHSPHT,PHSPHT_FLAG_W,CFC-11,CFC-11_FLAG_W,CFC-12,CFC-12_FLAG_W,DELC13,DELC13_FLAG_W,TCARBN,TCARBN_FLAG_W,ALKALI,ALKALI_FLAG_W,PH,PH_FLAG_W,PH_TMP,PH_SCALE,PH_NBS,PH_NBS_FLAG_W,C13ERR,TOTALP,TOTALP_FLAG_W,AMMONI,AMMONI_FLAG_W,CHLORA,CHLORA_FLAG_W,PPHYTN,PPHYTN_FLAG_W,REVPRS,REVTMP,DEPTH_,DEPTH_FLAG,CTDDEP,THETA,SIGTHT,DOC,DOC_FLAG_W
,,,,,,,GMT,GMT,,,METER,DBAR,ITS-90,PSS-78,,UMOL/KG,,PSS-78,,UMOL/KG,,UMOL/KG,,UMOL/KG,,UMOL/KG,,UMOL/KG,,UMOL/KG,,PMOL/KG,,PMOL/KG,,/MILLE,,UMOL/KG,,UMOL/KG,,25_DEG_C,,DEG_C,,,,/MILLE,UMOL/KG,,UMOL/KG,,UG/L,,UG/L,,DBAR,ITS-90,METERS,,METERS,DEG_C,,UMOL/L,
       KS01-07,  NONE,KS-0207,  1,     24,02-16030,2,20010805,2009, 31.0183, 133.9670, 4469,      4.8,  29.3886,  34.3433,2,   -999.0,9,  34.3468,4,    201.0,2,  -999.00,9,  -999.00,9,     0.00,2,     0.00,2,     0.00,2, -999.000,9, -999.000,9,  -999.00,9,   1935.2,2,   -999.0,9,-999.0000,9,   -999.0,  9,     8.20,2,   -999.0,  -999.00,9,  -999.00,9,     0.04,2,     0.02,2,   -999.0,-999.0000, -999,9,    5,  29.3874,  21.4413,   -999.0,9
       KS01-07,  NONE,KS-0207,  1,     23,02-16029,2,20010805,2008, 31.0183, 133.9670, 4469,     10.0,  29.3866,  34.3380,2,   -999.0,9,  34.3456,4,    200.0,2,  -999.00,9,  -999.00,9,     0.00,2,     0.00,2,     0.00,2, -999.000,9, -999.000,9,  -999.00,9,   -999.0,9,   -999.0,9,-999.0000,9,   -999.0,  9,  -999.00,9,   -999.0,  -999.00,9,  -999.00,9,     0.04,2,     0.01,2,   -999.0,-999.0000, -999,9,   10,  29.3842,  21.4384,   -999.0,9
       KS01-07,  NONE,KS-0207,  1,     22,02-16028,2,20010805,2006, 31.0183, 133.9670, 4469,     24.2,  26.4317,  34.3794,2,   -999.0,9,  34.4135,4,    220.0,2,  -999.00,9,  -999.00,9,     0.00,2,     0.00,2,     0.00,2, -999.000,9, -999.000,9,  -999.00,9,   -999.0,9,   -999.0,9,-999.0000,9,   -999.0,  9,  -999.00,9,   -999.0,  -999.00,9,  -999.00,9,     0.04,2,     0.02,2,   -999.0,-999.0000, -999,9,   24,  26.4262,  22.4319,   -999.0,9
       KS01-07,  NONE,KS-0207,  1,     21,02-16027,2,20010805,2003, 31.0183, 133.9670, 4469,     49.7,  21.5370,  34.7267,2,   -999.0,9,  34.7276,2,    236.0,2,  -999.00,9,  -999.00,9,     0.00,2,     0.00,2,     0.00,2, -999.000,9, -999.000,9,  -999.00,9,   -999.0,9,   -999.0,9,-999.0000,9,   -999.0,  9,  -999.00,9,   -999.0,  -999.00,9,  -999.00,9,     0.07,2,     0.03,2,   -999.0,-999.0000, -999,9,   49,  21.5274,  24.1415,   -999.0,9
       KS01-07,  NONE,KS-0207,  1,     20,02-16026,2,20010805,2002, 31.0183, 133.9670, 4469,     75.0,  20.5323,  34.7497,2,   -999.0,9,  34.7506,2,    235.0,2,  -999.00,9,  -999.00,9,     0.00,2,     0.00,2,     0.00,2, -999.000,9, -999.000,9,  -999.00,9,   -999.0,9,   -999.0,9,-999.0000,9,   -999.0,  9,  -999.00,9,   -999.0,  -999.00,9,  -999.00,9,     0.12,2,     0.07,2,   -999.0,-999.0000, -999,9,   74,  20.5182,  24.4333,   -999.0,9
       KS01-07,  NONE,KS-0207,  1,     19,02-16025,2,20010805,2000, 31.0183, 133.9670, 4469,     99.6,  19.8113,  34.7717,2,   -999.0,9,  34.7720,2,    224.0,2,  -999.00,9,  -999.00,9,     0.00,2,     0.00,2,     0.02,2, -999.000,9, -999.000,9,  -999.00,9,   -999.0,9,   -999.0,9,-999.0000,9,   -999.0,  9,  -999.00,9,   -999.0,  -999.00,9,  -999.00,9,     0.18,2,     0.34,2,   -999.0,-999.0000, -999,9,   99,  19.7931,  24.6419,   -999.0,9
       KS01-07,  NONE,KS-0207,  1,     18,02-16024,2,20010805,1959, 31.0183, 133.9670, 4469,    125.3,  19.5040,  34.7764,2,   -999.0,9,  34.7771,2,    220.0,2,  -999.00,9,  -999.00,9,     0.68,2,     0.11,2,     0.06,2, -999.000,9, -999.000,9,  -999.00,9,   -999.0,9,   -999.0,9,-999.0000,9,   -999.0,  9,  -999.00,9,   -999.0,  -999.00,9,  -999.00,9,     0.14,2,     0.46,2,   -999.0,-999.0000, -999,9,  124,  19.4813,  24.7267,   -999.0,9
       KS01-07,  NONE,KS-0207,  1,     17,02-16023,2,20010805,1958, 31.0183, 133.9670, 4469,    149.9,  19.2560,  34.7847,2,   -999.0,9,  34.7844,2,    216.0,2,  -999.00,9,  -999.00,9,     1.56,2,     0.02,2,     0.10,2, -999.000,9, -999.000,9,  -999.00,9,   -999.0,9,   -999.0,9,-999.0000,9,   -999.0,  9,  -999.00,9,   -999.0,  -999.00,9,  -999.00,9,     0.01,2,     0.02,2,   -999.0,-999.0000, -999,9,  149,  19.2291,  24.7980,   -999.0,9
       KS01-07,  NONE,KS-0207,  1,     16,02-16022,2,20010805,1956, 31.0183, 133.9670, 4469,    202.0,  18.9746,  34.7909,2,   -999.0,9,  34.7909,2,    216.0,2,  -999.00,9,  -999.00,9,     1.76,2,     0.01,2,     0.11,2, -999.000,9, -999.000,9,  -999.00,9,   -999.0,9,   -999.0,9,-999.0000,9,   -999.0,  9,  -999.00,9,   -999.0,  -999.00,9,  -999.00,9,     0.01,2,     0.01,2,   -999.0,-999.0000, -999,9,  201,  18.9386,  24.8770,   -999.0,9
       KS01-07,  NONE,KS-0207,  1,     15,02-16021,2,20010805,1955, 31.0183, 133.9670, 4469,    252.6,  18.7599,  34.7971,2,   -999.0,9,  34.7968,2,    218.0,2,  -999.00,9,  -999.00,9,     1.76,2,     0.01,2,     0.12,2, -999.000,9, -999.000,9,  -999.00,9,   -999.0,9,   -999.0,9,-999.0000,9,   -999.0,  9,  -999.00,9,   -999.0,  -999.00,9,  -999.00,9,     0.00,2,     0.01,2,   -999.0,-999.0000, -999,9,  251,  18.7152,  24.9383,   -999.0,9
       KS01-07,  NONE,KS-0207,  1,     14,02-16020,2,20010805,1953, 31.0183, 133.9670, 4469,    302.7,  18.6580,  34.7998,2,   -999.0,9,  34.7999,2,    218.0,2,  -999.00,9,  -999.00,9,     1.85,2,     0.01,2,     0.12,2, -999.000,9, -999.000,9,  -999.00,9,   -999.0,9,   -999.0,9,-999.0000,9,   -999.0,  9,  -999.00,9,   -999.0,  -999.00,9,  -999.00,9,     0.00,2,     0.00,2,   -999.0,-999.0000, -999,9,  300,  18.6046,  24.9683,   -999.0,9
       KS01-07,  NONE,KS-0207,  1,     13,02-16019,2,20010805,1950, 31.0183, 133.9670, 4469,    403.7,  18.3819,  34.8058,2,   -999.0,9,  34.8062,2,    209.0,2,  -999.00,9,  -999.00,9,     3.32,2,     0.00,2,     0.20,2, -999.000,9, -999.000,9,  -999.00,9,   -999.0,9,   -999.0,9,-999.0000,9,   -999.0,  9,  -999.00,9,   -999.0,  -999.00,9,  -999.00,9,  -999.00,9,  -999.00,9,   -999.0,-999.0000, -999,9,  401,  18.3113,  25.0462,   -999.0,9
       KS01-07,  NONE,KS-0207,  1,     12,02-16018,2,20010805,1948, 31.0183, 133.9670, 4469,    504.3,  17.0673,  34.7552,2,   -999.0,9,  34.7553,2,    194.0,2,  -999.00,9,  -999.00,9,     6.83,2,     0.00,2,     0.43,2, -999.000,9, -999.000,9,  -999.00,9,   -999.0,9,   -999.0,9,-999.0000,9,   -999.0,  9,  -999.00,9,   -999.0,  -999.00,9,  -999.00,9,  -999.00,9,  -999.00,9,   -999.0,-999.0000, -999,9,  500,  16.9833,  25.3303,   -999.0,9
       KS01-07,  NONE,KS-0207,  1,     11,02-16017,2,20010805,1946, 31.0183, 133.9670, 4469,    605.4,  14.7268,  34.6018,2,   -999.0,9,  34.6046,4,    184.0,2,  -999.00,9,  -999.00,9,    11.41,2,     0.00,2,     0.73,2, -999.000,9, -999.000,9,  -999.00,9,   -999.0,9,   -999.0,9,-999.0000,9,   -999.0,  9,  -999.00,9,   -999.0,  -999.00,9,  -999.00,9,  -999.00,9,  -999.00,9,   -999.0,-999.0000, -999,9,  600,  14.6354,  25.7442,   -999.0,9
       KS01-07,  NONE,KS-0207,  1,     10,02-16016,2,20010805,1943, 31.0183, 133.9670, 4469,    705.9,  11.9560,  34.4083,2,   -999.0,9,  34.4090,2,    169.0,2,  -999.00,9,  -999.00,9,    17.64,2,     0.00,2,     1.19,2, -999.000,9, -999.000,9,  -999.00,9,   -999.0,9,   -999.0,9,-999.0000,9,   -999.0,  9,  -999.00,9,   -999.0,  -999.00,9,  -999.00,9,  -999.00,9,  -999.00,9,   -999.0,-999.0000, -999,9,  700,  11.8628,  26.1555,   -999.0,9
       KS01-07,  NONE,KS-0207,  1,      9,02-16015,2,20010805,1941, 31.0183, 133.9670, 4469,    806.4,   9.2277,  34.2612,2,   -999.0,9,  34.2630,2,    145.0,2,  -999.00,9,  -999.00,9,    24.55,2,     0.00,2,     1.70,2, -999.000,9, -999.000,9,  -999.00,9,   -999.0,9,   -999.0,9,-999.0000,9,   -999.0,  9,  -999.00,9,   -999.0,  -999.00,9,  -999.00,9,  -999.00,9,  -999.00,9,   -999.0,-999.0000, -999,9,  799,   9.1366,  26.5177,   -999.0,9
       KS01-07,  NONE,KS-0207,  1,      8,02-16014,3,20010805,1939, 31.0183, 133.9670, 4469,    908.7,   7.1018,  34.2082,2,   -999.0,9,  34.2132,4,    118.0,2,  -999.00,9,  -999.00,9,    30.39,2,     0.00,2,     2.14,2, -999.000,9, -999.000,9,  -999.00,9,   -999.0,9,   -999.0,9,-999.0000,9,   -999.0,  9,  -999.00,9,   -999.0,  -999.00,9,  -999.00,9,  -999.00,9,  -999.00,9,   -999.0,-999.0000, -999,9,  901,   7.0128,  26.7932,   -999.0,9
       KS01-07,  NONE,KS-0207,  1,      7,02-16013,2,20010805,1936, 31.0183, 133.9670, 4469,   1011.0,   5.6778,  34.2284,2,   -999.0,9,  34.2285,2,     92.0,2,  -999.00,9,  -999.00,9,    35.05,2,     0.00,2,     2.50,2, -999.000,9, -999.000,9,  -999.00,9,   -999.0,9,   -999.0,9,-999.0000,9,   -999.0,  9,  -999.00,9,   -999.0,  -999.00,9,  -999.00,9,  -999.00,9,  -999.00,9,   -999.0,-999.0000, -999,9, 1002,   5.5888,  26.9939,   -999.0,9
       KS01-07,  NONE,KS-0207,  1,      6,02-16012,2,20010805,1932, 31.0183, 133.9670, 4469,   1263.5,   3.8959,  34.3898,2,   -999.0,9,  34.3888,2,     67.0,2,  -999.00,9,  -999.00,9,    39.33,2,     0.00,2,     2.82,2, -999.000,9, -999.000,9,  -999.00,9,   -999.0,9,   -999.0,9,-999.0000,9,   -999.0,  9,  -999.00,9,   -999.0,  -999.00,9,  -999.00,9,  -999.00,9,  -999.00,9,   -999.0,-999.0000, -999,9, 1251,   3.7991,  27.3213,   -999.0,9
       KS01-07,  NONE,KS-0207,  1,      5,02-16011,2,20010805,1927, 31.0183, 133.9670, 4469,   1516.1,   3.0982,  34.4676,2,   -999.0,9,  34.4673,2,     69.0,2,  -999.00,9,  -999.00,9,    40.10,2,     0.00,2,     2.88,2, -999.000,9, -999.000,9,  -999.00,9,   -999.0,9,   -999.0,9,-999.0000,9,   -999.0,  9,  -999.00,9,   -999.0,  -999.00,9,  -999.00,9,  -999.00,9,  -999.00,9,   -999.0,-999.0000, -999,9, 1500,   2.9882,  27.4612,   -999.0,9
       KS01-07,  NONE,KS-0207,  1,      4,02-16010,9,20010805,1917, 31.0183, 133.9670, 4469,   2034.5,   2.2232,  34.5779,2,   -999.0,9,-999.0000,9,   -999.0,9,  -999.00,9,  -999.00,9,  -999.00,9,  -999.00,9,  -999.00,9, -999.000,9, -999.000,9,  -999.00,9,   -999.0,9,   -999.0,9,-999.0000,9,   -999.0,  9,  -999.00,9,   -999.0,  -999.00,9,  -999.00,9,  -999.00,9,  -999.00,9,   -999.0,-999.0000, -999,9, 2011,   2.0806,  27.6270,   -999.0,9
       KS01-07,  NONE,KS-0207,  1,      3,02-16009,9,20010805,1917, 31.0183, 133.9670, 4469,   2034.2,   2.2233,  34.5777,2,   -999.0,9,-999.0000,9,   -999.0,9,  -999.00,9,  -999.00,9,  -999.00,9,  -999.00,9,  -999.00,9, -999.000,9, -999.000,9,  -999.00,9,   -999.0,9,   -999.0,9,-999.0000,9,   -999.0,  9,  -999.00,9,   -999.0,  -999.00,9,  -999.00,9,  -999.00,9,  -999.00,9,   -999.0,-999.0000, -999,9, 2010,   2.0807,  27.6269,   -999.0,9
       KS01-07,  NONE,KS-0207,  1,      2,02-16008,9,20010805,1917, 31.0183, 133.9670, 4469,   2035.0,   2.2233,  34.5778,2,   -999.0,9,-999.0000,9,   -999.0,9,  -999.00,9,  -999.00,9,  -999.00,9,  -999.00,9,  -999.00,9, -999.000,9, -999.000,9,  -999.00,9,   -999.0,9,   -999.0,9,-999.0000,9,   -999.0,  9,  -999.00,9,   -999.0,  -999.00,9,  -999.00,9,  -999.00,9,  -999.00,9,   -999.0,-999.0000, -999,9, 2011,   2.0807,  27.6270,   -999.0,9
       KS01-07,  NONE,KS-0207,  1,      1,02-16007,2,20010805,1917, 31.0183, 133.9670, 4469,   2034.8,   2.2234,  34.5778,2,   -999.0,9,  34.5749,2,     98.0,2,  -999.00,9,  -999.00,9,    39.12,2,     0.00,2,     2.77,2, -999.000,9, -999.000,9,  -999.00,9,   -999.0,9,   -999.0,9,-999.0000,9,   -999.0,  9,  -999.00,9,   -999.0,  -999.00,9,  -999.00,9,  -999.00,9,  -999.00,9,   -999.0,-999.0000, -999,9, 2011,   2.0808,  27.6270,   -999.0,9