BOTTLE,20130510GEMDJMAYT
EXPOCODE,SECT_ID,STNNBR,CASTNO,SAMPNO,BTLNBR,BTLNBR_FLAG_W,DATE,TIME,LATITUDE,LONGITUDE,DEPTH,CTDPRS,CTDTMP,CTDSAL,CTDSAL_FLAG_W,CTDOXY,CTDOXY_FLAG_W,SALNTY,SALNTY_FLAG_W,OXYGEN,OXYGEN_FLAG_W,SILCAT,SILCAT_FLAG_W,NITRAT,NITRAT_FLAG_W,NO2+NO3,NO2+NO3_FLAG_W,NITRIT,NITRIT_FLAG_W,PHSPHT,PHSPHT_FLAG_W,CFC-11,CFC-11_FLAG_W,CFC-12,CFC-12_FLAG_W,DELC13,DELC13_FLAG_W,TCARBN,TCARBN_FLAG_W,ALKALI,ALKALI_FLAG_W,PH,PH_FLAG_W,PH_TMP,PH_SCALE,PH_NBS,PH_NBS_FLAG_W,C13ERR,TOTALP,TOTALP_FLAG_W,AMMONI,AMMONI_FLAG_W,CHLORA,CHLORA_FLAG_W,PPHYTN,PPHYTN_FLAG_W,REVPRS,REVTMP,DEPTH_,DEPTH_FLAG,CTDDEP,THETA,SIGTHT,DOC,DOC_FLAG_W
,,,,,,,GMT,GMT,,,METER,DBAR,ITS-90,PSS-78,,UMOL/KG,,PSS-78,,UMOL/KG,,UMOL/KG,,UMOL/KG,,UMOL/KG,,UMOL/KG,,UMOL/KG,,PMOL/KG,,PMOL/KG,,/MILLE,,UMOL/KG,,UMOL/KG,,25_DEG_C,,DEG_C,,,,/MILLE,UMOL/KG,,UMOL/KG,,UG/L,,UG/L,,DBAR,ITS-90,METERS,,METERS,DEG_C,,UMOL/L,
       KS02-10,  137E,KS-0603,  1,     24,02-16030,3,20021124,1219,  9.9937, 136.9950, 5044,      4.7,  28.9676,  34.1503,2,   -999.0,9,  34.1524,2,    196.0,2,  -999.00,9,  -999.00,9,     0.00,2,     0.00,2,     0.04,2, -999.000,9, -999.000,9,  -999.00,9,   -999.0,9,   -999.0,9,-999.0000,9,   -999.0,  9,  -999.00,9,   -999.0,  -999.00,9,  -999.00,9,     0.04,2,     0.02,2,   -999.0,-999.0000, -999,9,    5,  28.9665,  21.4374,   -999.0,9
       KS02-10,  137E,KS-0603,  1,     23,02-16029,2,20021124,1218,  9.9937, 136.9950, 5044,     11.0,  28.9493,  34.1504,2,   -999.0,9,-999.0000,9,    198.0,2,  -999.00,9,  -999.00,9,     0.00,2,     0.00,2,     0.04,2, -999.000,9, -999.000,9,  -999.00,9,   -999.0,9,   -999.0,9,-999.0000,9,   -999.0,  9,  -999.00,9,   -999.0,  -999.00,9,  -999.00,9,     0.04,2,     0.02,2,   -999.0,-999.0000, -999,9,   11,  28.9467,  21.4440,   -999.0,9
       KS02-10,  137E,KS-0603,  1,     22,02-16028,2,20021124,1216,  9.9937, 136.9950, 5044,     25.7,  28.9561,  34.1500,2,   -999.0,9,-999.0000,9,    196.0,2,  -999.00,9,  -999.00,9,     0.00,2,     0.00,2,     0.04,2, -999.000,9, -999.000,9,  -999.00,9,   -999.0,9,   -999.0,9,-999.0000,9,   -999.0,  9,  -999.00,9,   -999.0,  -999.00,9,  -999.00,9,     0.04,2,     0.02,2,   -999.0,-999.0000, -999,9,   26,  28.9499,  21.4427,   -999.0,9
       KS02-10,  137E,KS-0603,  1,     21,02-16027,2,20021124,1212,  9.9937, 136.9950, 5044,     51.0,  28.1865,  34.3899,2,   -999.0,9,-999.0000,9,    199.0,2,  -999.00,9,  -999.00,9,     0.00,2,     0.00,2,     0.06,2, -999.000,9, -999.000,9,  -999.00,9,   -999.0,9,   -999.0,9,-999.0000,9,   -999.0,  9,  -999.00,9,   -999.0,  -999.00,9,  -999.00,9,     0.09,2,     0.05,2,   -999.0,-999.0000, -999,9,   51,  28.1745,  21.8789,   -999.0,9
       KS02-10,  137E,KS-0603,  1,     20,02-16026,2,20021124,1211,  9.9937, 136.9950, 5044,     74.5,  24.7933,  34.9760,2,   -999.0,9,-999.0000,9,    197.0,2,  -999.00,9,  -999.00,9,     0.00,2,     0.00,2,     0.14,2, -999.000,9, -999.000,9,  -999.00,9,   -999.0,9,   -999.0,9,-999.0000,9,   -999.0,  9,  -999.00,9,   -999.0,  -999.00,9,  -999.00,9,     0.24,2,     0.27,2,   -999.0,-999.0000, -999,9,   74,  24.7773,  23.3906,   -999.0,9
       KS02-10,  137E,KS-0603,  1,     19,02-16025,9,20021124,1210,  9.9937, 136.9950, 5044,    100.4,  22.2030,  34.9218,2,   -999.0,9,-999.0000,9,   -999.0,9,  -999.00,9,  -999.00,9,  -999.00,9,  -999.00,9,  -999.00,9, -999.000,9, -999.000,9,  -999.00,9,   -999.0,9,   -999.0,9,-999.0000,9,   -999.0,  9,  -999.00,9,   -999.0,  -999.00,9,  -999.00,9,  -999.00,9,  -999.00,9,   -999.0,-999.0000, -999,9,  100,  22.1830,  24.1070,   -999.0,9
       KS02-10,  137E,KS-0603,  1,     18,02-16024,2,20021124,1210,  9.9937, 136.9950, 5044,     98.8,  22.2802,  34.9259,2,   -999.0,9,  34.9370,4,    179.0,2,  -999.00,9,  -999.00,9,     2.25,2,     0.10,2,     0.31,2, -999.000,9, -999.000,9,  -999.00,9,   -999.0,9,   -999.0,9,-999.0000,9,   -999.0,  9,  -999.00,9,   -999.0,  -999.00,9,  -999.00,9,     0.21,2,     0.46,2,   -999.0,-999.0000, -999,9,   98,  22.2605,  24.0883,   -999.0,9
       KS02-10,  137E,KS-0603,  1,     17,02-16023,2,20021124,1208,  9.9937, 136.9950, 5044,    124.5,  18.2851,  34.7578,2,   -999.0,9,-999.0000,9,    151.0,2,  -999.00,9,  -999.00,9,     9.76,2,     0.24,2,     0.74,2, -999.000,9, -999.000,9,  -999.00,9,   -999.0,9,   -999.0,9,-999.0000,9,   -999.0,  9,  -999.00,9,   -999.0,  -999.00,9,  -999.00,9,     0.12,2,     0.33,2,   -999.0,-999.0000, -999,9,  124,  18.2635,  25.0214,   -999.0,9
       KS02-10,  137E,KS-0603,  1,     16,02-16022,2,20021124,1207,  9.9937, 136.9950, 5044,    150.4,  14.8150,  34.5697,2,   -999.0,9,  34.5675,4,    145.0,2,  -999.00,9,  -999.00,9,    14.23,2,     0.01,2,     1.02,2, -999.000,9, -999.000,9,  -999.00,9,   -999.0,9,   -999.0,9,-999.0000,9,   -999.0,  9,  -999.00,9,   -999.0,  -999.00,9,  -999.00,9,     0.05,2,     0.16,2,   -999.0,-999.0000, -999,9,  150,  14.7925,  25.6854,   -999.0,9
       KS02-10,  137E,KS-0603,  1,     15,02-16021,2,20021124,1206,  9.9937, 136.9950, 5044,    202.1,  11.5250,  34.5066,2,   -999.0,9,-999.0000,9,    100.0,2,  -999.00,9,  -999.00,9,    24.55,2,     0.00,2,     1.71,2, -999.000,9, -999.000,9,  -999.00,9,   -999.0,9,   -999.0,9,-999.0000,9,   -999.0,  9,  -999.00,9,   -999.0,  -999.00,9,  -999.00,9,     0.00,2,     0.03,2,   -999.0,-999.0000, -999,9,  201,  11.4994,  26.2999,   -999.0,9
       KS02-10,  137E,KS-0603,  1,     14,02-16020,2,20021124,1204,  9.9937, 136.9950, 5044,    250.8,  10.3517,  34.4734,2,   -999.0,9,-999.0000,9,     94.0,2,  -999.00,9,  -999.00,9,    27.47,2,     0.00,2,     1.90,2, -999.000,9, -999.000,9,  -999.00,9,   -999.0,9,   -999.0,9,-999.0000,9,   -999.0,  9,  -999.00,9,   -999.0,  -999.00,9,  -999.00,9,     0.00,2,     0.02,2,   -999.0,-999.0000, -999,9,  249,  10.3221,  26.4854,   -999.0,9
       KS02-10,  137E,KS-0603,  1,     13,02-16019,2,20021124,1203,  9.9937, 136.9950, 5044,    301.8,   9.0051,  34.4800,2,   -999.0,9,  34.4803,2,     75.0,2,  -999.00,9,  -999.00,9,    31.46,2,     0.00,2,     2.17,2, -999.000,9, -999.000,9,  -999.00,9,   -999.0,9,   -999.0,9,-999.0000,9,   -999.0,  9,  -999.00,9,   -999.0,  -999.00,9,  -999.00,9,     0.00,2,     0.02,2,   -999.0,-999.0000, -999,9,  300,   8.9723,  26.7153,   -999.0,9
       KS02-10,  137E,KS-0603,  1,     12,02-16018,2,20021124,1201,  9.9937, 136.9950, 5044,    401.5,   7.6105,  34.5114,2,   -999.0,9,  34.5115,2,     70.0,2,  -999.00,9,  -999.00,9,    34.67,2,     0.00,2,     2.39,2, -999.000,9, -999.000,9,  -999.00,9,   -999.0,9,   -999.0,9,-999.0000,9,   -999.0,  9,  -999.00,9,   -999.0,  -999.00,9,  -999.00,9,  -999.00,9,  -999.00,9,   -999.0,-999.0000, -999,9,  399,   7.5708,  26.9532,   -999.0,9
       KS02-10,  137E,KS-0603,  1,     11,02-16017,2,20021124,1158,  9.9937, 136.9950, 5044,    503.0,   6.7633,  34.5115,2,   -999.0,9,  34.5113,2,     76.0,2,  -999.00,9,  -999.00,9,    35.83,2,     0.00,2,     2.46,2, -999.000,9, -999.000,9,  -999.00,9,   -999.0,9,   -999.0,9,-999.0000,9,   -999.0,  9,  -999.00,9,   -999.0,  -999.00,9,  -999.00,9,  -999.00,9,  -999.00,9,   -999.0,-999.0000, -999,9,  500,   6.7164,  27.0728,   -999.0,9
       KS02-10,  137E,KS-0603,  1,     10,02-16016,2,20021124,1156,  9.9937, 136.9950, 5044,    602.1,   6.1578,  34.5104,2,   -999.0,9,  34.5105,2,     71.0,2,  -999.00,9,  -999.00,9,    37.58,2,     0.00,2,     2.60,2, -999.000,9, -999.000,9,  -999.00,9,   -999.0,9,   -999.0,9,-999.0000,9,   -999.0,  9,  -999.00,9,   -999.0,  -999.00,9,  -999.00,9,  -999.00,9,  -999.00,9,   -999.0,-999.0000, -999,9,  598,   6.1040,  27.1525,   -999.0,9
       KS02-10,  137E,KS-0603,  1,      9,02-16015,2,20021124,1153,  9.9937, 136.9950, 5044,    703.6,   5.4718,  34.5226,2,   -999.0,9,  34.5225,2,     78.0,2,  -999.00,9,  -999.00,9,    37.77,2,     0.00,2,     2.62,2, -999.000,9, -999.000,9,  -999.00,9,   -999.0,9,   -999.0,9,-999.0000,9,   -999.0,  9,  -999.00,9,   -999.0,  -999.00,9,  -999.00,9,  -999.00,9,  -999.00,9,   -999.0,-999.0000, -999,9,  698,   5.4121,  27.2482,   -999.0,9
       KS02-10,  137E,KS-0603,  1,      8,02-16014,2,20021124,1151,  9.9937, 136.9950, 5044,    804.9,   5.0507,  34.5333,2,   -999.0,9,  34.5353,2,     83.0,2,  -999.00,9,  -999.00,9,    37.96,2,     0.00,2,     2.63,2, -999.000,9, -999.000,9,  -999.00,9,   -999.0,9,   -999.0,9,-999.0000,9,   -999.0,  9,  -999.00,9,   -999.0,  -999.00,9,  -999.00,9,  -999.00,9,  -999.00,9,   -999.0,-999.0000, -999,9,  799,   4.9844,  27.3071,   -999.0,9
       KS02-10,  137E,KS-0603,  1,      7,02-17642,2,20021124,1149,  9.9937, 136.9950, 5044,    904.4,   4.6467,  34.5439,2,   -999.0,9,  34.5431,2,     84.0,2,  -999.00,9,  -999.00,9,    38.35,2,     0.00,2,     2.66,2, -999.000,9, -999.000,9,  -999.00,9,   -999.0,9,   -999.0,9,-999.0000,9,   -999.0,  9,  -999.00,9,   -999.0,  -999.00,9,  -999.00,9,  -999.00,9,  -999.00,9,   -999.0,-999.0000, -999,9,  897,   4.5744,  27.3618,   -999.0,9
       KS02-10,  137E,KS-0603,  1,      6,02-16012,9,20021124,1146,  9.9937, 136.9950, 5044,   1006.4,   4.2849,  34.5535,2,   -999.0,9,-999.0000,9,   -999.0,9,  -999.00,9,  -999.00,9,  -999.00,9,  -999.00,9,  -999.00,9, -999.000,9, -999.000,9,  -999.00,9,   -999.0,9,   -999.0,9,-999.0000,9,   -999.0,  9,  -999.00,9,   -999.0,  -999.00,9,  -999.00,9,  -999.00,9,  -999.00,9,   -999.0,-999.0000, -999,9,  998,   4.2064,  27.4093,   -999.0,9
       KS02-10,  137E,KS-0603,  1,      5,02-16011,2,20021124,1146,  9.9937, 136.9950, 5044,   1007.0,   4.2794,  34.5533,2,   -999.0,9,  34.5531,2,     88.0,2,  -999.00,9,  -999.00,9,    38.45,2,     0.00,2,     2.66,2, -999.000,9, -999.000,9,  -999.00,9,   -999.0,9,   -999.0,9,-999.0000,9,   -999.0,  9,  -999.00,9,   -999.0,  -999.00,9,  -999.00,9,  -999.00,9,  -999.00,9,   -999.0,-999.0000, -999,9,  999,   4.2009,  27.4097,   -999.0,9
       KS02-10,  137E,KS-0603,  1,      4,02-16010,2,20021124,1141,  9.9937, 136.9950, 5044,   1260.3,   3.4347,  34.5793,2,   -999.0,9,  34.5777,2,     95.0,2,  -999.00,9,  -999.00,9,    38.73,2,     0.00,2,     2.68,2, -999.000,9, -999.000,9,  -999.00,9,   -999.0,9,   -999.0,9,-999.0000,9,   -999.0,  9,  -999.00,9,   -999.0,  -999.00,9,  -999.00,9,  -999.00,9,  -999.00,9,   -999.0,-999.0000, -999,9, 1249,   3.3422,  27.5172,   -999.0,9
       KS02-10,  137E,KS-0603,  1,      3,02-16009,2,20021124,1137,  9.9937, 136.9950, 5044,   1511.8,   2.8667,  34.6006,2,   -999.0,9,  34.5993,2,    102.0,2,  -999.00,9,  -999.00,9,    38.63,2,     0.00,2,     2.63,2, -999.000,9, -999.000,9,  -999.00,9,   -999.0,9,   -999.0,9,-999.0000,9,   -999.0,  9,  -999.00,9,   -999.0,  -999.00,9,  -999.00,9,  -999.00,9,  -999.00,9,   -999.0,-999.0000, -999,9, 1498,   2.7594,  27.5880,   -999.0,9
       KS02-10,  137E,KS-0603,  1,      2,02-16008,2,20021124,1132,  9.9937, 136.9950, 5044,   1766.0,   2.4833,  34.6197,2,   -999.0,9,  34.6185,2,    109.0,2,  -999.00,9,  -999.00,9,    38.44,2,     0.00,2,     2.61,2, -999.000,9, -999.000,9,  -999.00,9,   -999.0,9,   -999.0,9,-999.0000,9,   -999.0,  9,  -999.00,9,   -999.0,  -999.00,9,  -999.00,9,  -999.00,9,  -999.00,9,   -999.0,-999.0000, -999,9, 1749,   2.3596,  27.6377,   -999.0,9
       KS02-10,  137E,KS-0603,  1,      1,02-16007,2,20021124,1126,  9.9937, 136.9950, 5044,   2016.8,   2.1747,  34.6363,2,   -999.0,9,  34.6346,2,    117.0,2,  -999.00,9,  -999.00,9,    38.05,2,     0.00,2,     2.57,2, -999.000,9, -999.000,9,  -999.00,9,   -999.0,9,   -999.0,9,-999.0000,9,   -999.0,  9,  -999.00,9,   -999.0,  -999.00,9,  -999.00,9,  -999.00,9,  -999.00,9,   -999.0,-999.0000, -999,9, 1996,   2.0342,  27.6775,   -999.0,9