BOTTLE,20130510GEMDJMAYT
EXPOCODE,SECT_ID,STNNBR,CASTNO,SAMPNO,BTLNBR,BTLNBR_FLAG_W,DATE,TIME,LATITUDE,LONGITUDE,DEPTH,CTDPRS,CTDTMP,CTDSAL,CTDSAL_FLAG_W,CTDOXY,CTDOXY_FLAG_W,SALNTY,SALNTY_FLAG_W,OXYGEN,OXYGEN_FLAG_W,SILCAT,SILCAT_FLAG_W,NITRAT,NITRAT_FLAG_W,NO2+NO3,NO2+NO3_FLAG_W,NITRIT,NITRIT_FLAG_W,PHSPHT,PHSPHT_FLAG_W,CFC-11,CFC-11_FLAG_W,CFC-12,CFC-12_FLAG_W,DELC13,DELC13_FLAG_W,TCARBN,TCARBN_FLAG_W,ALKALI,ALKALI_FLAG_W,PH,PH_FLAG_W,PH_TMP,PH_SCALE,PH_NBS,PH_NBS_FLAG_W,C13ERR,TOTALP,TOTALP_FLAG_W,AMMONI,AMMONI_FLAG_W,CHLORA,CHLORA_FLAG_W,PPHYTN,PPHYTN_FLAG_W,REVPRS,REVTMP,DEPTH_,DEPTH_FLAG,CTDDEP,THETA,SIGTHT,DOC,DOC_FLAG_W
,,,,,,,GMT,GMT,,,METER,DBAR,ITS-90,PSS-78,,UMOL/KG,,PSS-78,,UMOL/KG,,UMOL/KG,,UMOL/KG,,UMOL/KG,,UMOL/KG,,UMOL/KG,,PMOL/KG,,PMOL/KG,,/MILLE,,UMOL/KG,,UMOL/KG,,25_DEG_C,,DEG_C,,,,/MILLE,UMOL/KG,,UMOL/KG,,UG/L,,UG/L,,DBAR,ITS-90,METERS,,METERS,DEG_C,,UMOL/L,
       KS02-10,  137E,KS-0609,  1,     24,02-16030,2,20021127,0809, 19.9640, 136.9785, 4694,      4.8,  26.7802,  34.8306,2,   -999.0,9,  34.8288,4,    199.0,2,  -999.00,9,  -999.00,9,     0.00,2,     0.00,2,     0.00,2, -999.000,9, -999.000,9,  -999.00,9,   1940.1,3,   -999.0,9,-999.0000,9,   -999.0,  9,     8.24,2,   -999.0,  -999.00,9,  -999.00,9,     0.07,2,     0.04,2,   -999.0,-999.0000, -999,9,    5,  26.7791,  22.6605,   -999.0,9
       KS02-10,  137E,KS-0609,  1,     23,02-16029,2,20021127,0808, 19.9640, 136.9785, 4694,      9.8,  26.7657,  34.8316,2,   -999.0,9,-999.0000,9,    202.0,2,  -999.00,9,  -999.00,9,     0.00,2,     0.00,2,     0.00,2, -999.000,9, -999.000,9,  -999.00,9,   1937.0,3,   -999.0,9,-999.0000,9,   -999.0,  9,     8.24,2,   -999.0,  -999.00,9,  -999.00,9,     0.08,2,     0.05,2,   -999.0,-999.0000, -999,9,   10,  26.7635,  22.6662,   -999.0,9
       KS02-10,  137E,KS-0609,  1,     22,02-16028,2,20021127,0807, 19.9640, 136.9785, 4694,     24.5,  26.7753,  34.8314,2,   -999.0,9,-999.0000,9,    202.0,2,  -999.00,9,  -999.00,9,     0.00,2,     0.00,2,     0.00,2, -999.000,9, -999.000,9,  -999.00,9,   1937.0,3,   -999.0,9,-999.0000,9,   -999.0,  9,     8.24,2,   -999.0,  -999.00,9,  -999.00,9,     0.06,2,     0.04,2,   -999.0,-999.0000, -999,9,   24,  26.7697,  22.6641,   -999.0,9
       KS02-10,  137E,KS-0609,  1,     21,02-16027,2,20021127,0759, 19.9640, 136.9785, 4694,     51.1,  26.7918,  34.8311,2,   -999.0,9,-999.0000,9,    202.0,2,  -999.00,9,  -999.00,9,     0.00,2,     0.00,2,     0.00,2, -999.000,9, -999.000,9,  -999.00,9,   1938.9,3,   -999.0,9,-999.0000,9,   -999.0,  9,     8.23,2,   -999.0,  -999.00,9,  -999.00,9,     0.07,2,     0.04,2,   -999.0,-999.0000, -999,9,   51,  26.7802,  22.6606,   -999.0,9
       KS02-10,  137E,KS-0609,  1,     20,02-16026,2,20021127,0758, 19.9640, 136.9785, 4694,     74.6,  26.5426,  34.8359,2,   -999.0,9,-999.0000,9,    202.0,2,  -999.00,9,  -999.00,9,     0.00,2,     0.00,2,     0.00,2, -999.000,9, -999.000,9,  -999.00,9,   1941.4,3,   -999.0,9,-999.0000,9,   -999.0,  9,     8.23,2,   -999.0,  -999.00,9,  -999.00,9,     0.13,2,     0.10,2,   -999.0,-999.0000, -999,9,   74,  26.5257,  22.7447,   -999.0,9
       KS02-10,  137E,KS-0609,  1,     19,02-16025,9,20021127,0756, 19.9640, 136.9785, 4694,    101.9,  24.0713,  34.9510,2,   -999.0,9,-999.0000,9,   -999.0,9,  -999.00,9,  -999.00,9,  -999.00,9,  -999.00,9,  -999.00,9, -999.000,9, -999.000,9,  -999.00,9,   -999.0,9,   -999.0,9,-999.0000,9,   -999.0,  9,  -999.00,9,   -999.0,  -999.00,9,  -999.00,9,  -999.00,9,  -999.00,9,   -999.0,-999.0000, -999,9,  101,  24.0498,  23.5895,   -999.0,9
       KS02-10,  137E,KS-0609,  1,     18,02-16024,2,20021127,0756, 19.9640, 136.9785, 4694,    101.7,  24.1267,  34.9499,2,   -999.0,9,  34.9368,4,    200.0,2,  -999.00,9,  -999.00,9,     0.20,2,     0.06,2,     0.02,2, -999.000,9, -999.000,9,  -999.00,9,   1972.1,3,   -999.0,9,-999.0000,9,   -999.0,  9,     8.19,2,   -999.0,  -999.00,9,  -999.00,9,     0.20,2,     0.37,2,   -999.0,-999.0000, -999,9,  101,  24.1052,  23.5722,   -999.0,9
       KS02-10,  137E,KS-0609,  1,     17,02-16023,2,20021127,0755, 19.9640, 136.9785, 4694,    125.6,  22.0099,  34.9077,2,   -999.0,9,-999.0000,9,    198.0,2,  -999.00,9,  -999.00,9,     0.49,2,     0.03,2,     0.05,2, -999.000,9, -999.000,9,  -999.00,9,   1993.3,2,   -999.0,9,-999.0000,9,   -999.0,  9,     8.15,2,   -999.0,  -999.00,9,  -999.00,9,     0.03,2,     0.14,2,   -999.0,-999.0000, -999,9,  125,  21.9851,  24.1518,   -999.0,9
       KS02-10,  137E,KS-0609,  1,     16,02-16022,2,20021127,0754, 19.9640, 136.9785, 4694,    150.5,  20.2203,  34.8888,2,   -999.0,9,-999.0000,9,    193.0,2,  -999.00,9,  -999.00,9,     2.15,2,     0.00,2,     0.15,2, -999.000,9, -999.000,9,  -999.00,9,   2015.3,2,   -999.0,9,-999.0000,9,   -999.0,  9,     8.11,2,   -999.0,  -999.00,9,  -999.00,9,     0.01,2,     0.01,2,   -999.0,-999.0000, -999,9,  150,  20.1923,  24.6261,   -999.0,9
       KS02-10,  137E,KS-0609,  1,     15,02-16021,2,20021127,0752, 19.9640, 136.9785, 4694,    201.8,  18.6115,  34.7998,2,   -999.0,9,  34.7997,2,    198.0,2,  -999.00,9,  -999.00,9,     3.41,2,     0.00,2,     0.23,2, -999.000,9, -999.000,9,  -999.00,9,   2022.4,2,   -999.0,9,-999.0000,9,   -999.0,  9,     8.09,2,   -999.0,  -999.00,9,  -999.00,9,     0.00,2,     0.01,2,   -999.0,-999.0000, -999,9,  200,  18.5761,  24.9754,   -999.0,9
       KS02-10,  137E,KS-0609,  1,     14,02-16020,2,20021127,0751, 19.9640, 136.9785, 4694,    251.3,  17.1815,  34.7315,2,   -999.0,9,-999.0000,9,    198.0,2,  -999.00,9,  -999.00,9,     5.36,2,     0.00,2,     0.36,2, -999.000,9, -999.000,9,  -999.00,9,   2033.5,3,   -999.0,9,-999.0000,9,   -999.0,  9,     8.06,2,   -999.0,  -999.00,9,  -999.00,9,     0.00,2,     0.00,2,   -999.0,-999.0000, -999,9,  250,  17.1397,  25.2749,   -999.0,9
       KS02-10,  137E,KS-0609,  1,     13,02-16019,2,20021127,0749, 19.9640, 136.9785, 4694,    302.3,  15.8330,  34.6519,2,   -999.0,9,  34.6586,4,    194.0,2,  -999.00,9,  -999.00,9,     7.51,2,     0.00,2,     0.50,2, -999.000,9, -999.000,9,  -999.00,9,   -999.0,9,   -999.0,9,-999.0000,9,   -999.0,  9,  -999.00,9,   -999.0,  -999.00,9,  -999.00,9,     0.00,2,     0.00,2,   -999.0,-999.0000, -999,9,  300,  15.7855,  25.5286,   -999.0,9
       KS02-10,  137E,KS-0609,  1,     12,02-16018,2,20021127,0746, 19.9640, 136.9785, 4694,    400.4,  12.4524,  34.3929,2,   -999.0,9,  34.3921,2,    184.0,2,  -999.00,9,  -999.00,9,    13.94,2,     0.00,2,     0.96,2, -999.000,9, -999.000,9,  -999.00,9,   -999.0,9,   -999.0,9,-999.0000,9,   -999.0,  9,  -999.00,9,   -999.0,  -999.00,9,  -999.00,9,  -999.00,9,  -999.00,9,   -999.0,-999.0000, -999,9,  398,  12.3988,  26.0409,   -999.0,9
       KS02-10,  137E,KS-0609,  1,     11,02-16017,2,20021127,0744, 19.9640, 136.9785, 4694,    501.2,   9.6280,  34.2272,2,   -999.0,9,  34.2275,2,    147.0,2,  -999.00,9,  -999.00,9,    22.51,2,     0.00,2,     1.57,2, -999.000,9, -999.000,9,  -999.00,9,   -999.0,9,   -999.0,9,-999.0000,9,   -999.0,  9,  -999.00,9,   -999.0,  -999.00,9,  -999.00,9,  -999.00,9,  -999.00,9,   -999.0,-999.0000, -999,9,  498,   9.5709,  26.4204,   -999.0,9
       KS02-10,  137E,KS-0609,  1,     10,02-16016,2,20021127,0741, 19.9640, 136.9785, 4694,    603.5,   7.4389,  34.1784,2,   -999.0,9,  34.1779,2,    105.0,2,  -999.00,9,  -999.00,9,    30.49,2,     0.00,2,     2.14,2, -999.000,9, -999.000,9,  -999.00,9,   -999.0,9,   -999.0,9,-999.0000,9,   -999.0,  9,  -999.00,9,   -999.0,  -999.00,9,  -999.00,9,  -999.00,9,  -999.00,9,   -999.0,-999.0000, -999,9,  599,   7.3795,  26.7186,   -999.0,9
       KS02-10,  137E,KS-0609,  1,      9,02-16015,4,20021127,0738, 19.9640, 136.9785, 4694,    707.5,   5.9606,  34.2507,2,   -999.0,9,-999.0000,9,   -999.0,9,  -999.00,9,  -999.00,9,  -999.00,9,  -999.00,9,  -999.00,9, -999.000,9, -999.000,9,  -999.00,9,   -999.0,9,   -999.0,9,-999.0000,9,   -999.0,  9,  -999.00,9,   -999.0,  -999.00,9,  -999.00,9,  -999.00,9,  -999.00,9,   -999.0,-999.0000, -999,9,  702,   5.8982,  26.9734,   -999.0,9
       KS02-10,  137E,KS-0609,  1,      8,02-16014,4,20021127,0736, 19.9640, 136.9785, 4694,    806.0,   5.2559,  34.3420,2,   -999.0,9,-999.0000,9,   -999.0,9,  -999.00,9,  -999.00,9,  -999.00,9,  -999.00,9,  -999.00,9, -999.000,9, -999.000,9,  -999.00,9,   -999.0,9,   -999.0,9,-999.0000,9,   -999.0,  9,  -999.00,9,   -999.0,  -999.00,9,  -999.00,9,  -999.00,9,  -999.00,9,   -999.0,-999.0000, -999,9,  800,   5.1885,  27.1317,   -999.0,9
       KS02-10,  137E,KS-0609,  1,      7,02-17642,2,20021127,0733, 19.9640, 136.9785, 4694,    907.3,   4.5801,  34.4205,2,   -999.0,9,  34.4159,4,     65.0,2,  -999.00,9,  -999.00,9,    39.13,2,     0.00,2,     2.75,2, -999.000,9, -999.000,9,  -999.00,9,   -999.0,9,   -999.0,9,-999.0000,9,   -999.0,  9,  -999.00,9,   -999.0,  -999.00,9,  -999.00,9,  -999.00,9,  -999.00,9,   -999.0,-999.0000, -999,9,  900,   4.5082,  27.2711,   -999.0,9
       KS02-10,  137E,KS-0609,  1,      6,02-16012,9,20021127,0731, 19.9640, 136.9785, 4694,   1009.1,   4.1656,  34.4623,2,   -999.0,9,-999.0000,9,   -999.0,9,  -999.00,9,  -999.00,9,  -999.00,9,  -999.00,9,  -999.00,9, -999.000,9, -999.000,9,  -999.00,9,   -999.0,9,   -999.0,9,-999.0000,9,   -999.0,  9,  -999.00,9,   -999.0,  -999.00,9,  -999.00,9,  -999.00,9,  -999.00,9,   -999.0,-999.0000, -999,9, 1000,   4.0880,  27.3492,   -999.0,9
       KS02-10,  137E,KS-0609,  1,      5,02-16011,2,20021127,0730, 19.9640, 136.9785, 4694,   1009.4,   4.1622,  34.4621,2,   -999.0,9,  34.4616,2,     69.0,2,  -999.00,9,  -999.00,9,    39.32,2,     0.00,2,     2.76,2, -999.000,9, -999.000,9,  -999.00,9,   -999.0,9,   -999.0,9,-999.0000,9,   -999.0,  9,  -999.00,9,   -999.0,  -999.00,9,  -999.00,9,  -999.00,9,  -999.00,9,   -999.0,-999.0000, -999,9, 1001,   4.0846,  27.3495,   -999.0,9
       KS02-10,  137E,KS-0609,  1,      4,02-16010,2,20021127,0726, 19.9640, 136.9785, 4694,   1261.0,   3.2695,  34.5247,2,   -999.0,9,  34.5239,2,     81.0,2,  -999.00,9,  -999.00,9,    39.51,2,     0.00,2,     2.78,2, -999.000,9, -999.000,9,  -999.00,9,   -999.0,9,   -999.0,9,-999.0000,9,   -999.0,  9,  -999.00,9,   -999.0,  -999.00,9,  -999.00,9,  -999.00,9,  -999.00,9,   -999.0,-999.0000, -999,9, 1249,   3.1787,  27.4891,   -999.0,9
       KS02-10,  137E,KS-0609,  1,      3,02-16009,2,20021127,0721, 19.9640, 136.9785, 4694,   1511.6,   2.6913,  34.5711,2,   -999.0,9,  34.5698,2,     94.0,2,  -999.00,9,  -999.00,9,    39.02,2,     0.00,2,     2.72,2, -999.000,9, -999.000,9,  -999.00,9,   -999.0,9,   -999.0,9,-999.0000,9,   -999.0,  9,  -999.00,9,   -999.0,  -999.00,9,  -999.00,9,  -999.00,9,  -999.00,9,   -999.0,-999.0000, -999,9, 1497,   2.5861,  27.5796,   -999.0,9
       KS02-10,  137E,KS-0609,  1,      2,02-16008,4,20021127,0716, 19.9640, 136.9785, 4694,   1765.9,   2.3543,  34.5995,2,   -999.0,9,-999.0000,9,   -999.0,9,  -999.00,9,  -999.00,9,  -999.00,9,  -999.00,9,  -999.00,9, -999.000,9, -999.000,9,  -999.00,9,   -999.0,9,   -999.0,9,-999.0000,9,   -999.0,  9,  -999.00,9,   -999.0,  -999.00,9,  -999.00,9,  -999.00,9,  -999.00,9,   -999.0,-999.0000, -999,9, 1748,   2.2324,  27.6321,   -999.0,9
       KS02-10,  137E,KS-0609,  1,      1,02-16007,2,20021127,0712, 19.9640, 136.9785, 4694,   2022.0,   2.1077,  34.6200,2,   -999.0,9,  34.6185,2,    112.0,2,  -999.00,9,  -999.00,9,    38.34,2,     0.00,2,     2.64,2, -999.000,9, -999.000,9,  -999.00,9,   -999.0,9,   -999.0,9,-999.0000,9,   -999.0,  9,  -999.00,9,   -999.0,  -999.00,9,  -999.00,9,  -999.00,9,  -999.00,9,   -999.0,-999.0000, -999,9, 2000,   1.9678,  27.6698,   -999.0,9