BOTTLE,20130510GEMDJMAYT
EXPOCODE,SECT_ID,STNNBR,CASTNO,SAMPNO,BTLNBR,BTLNBR_FLAG_W,DATE,TIME,LATITUDE,LONGITUDE,DEPTH,CTDPRS,CTDTMP,CTDSAL,CTDSAL_FLAG_W,CTDOXY,CTDOXY_FLAG_W,SALNTY,SALNTY_FLAG_W,OXYGEN,OXYGEN_FLAG_W,SILCAT,SILCAT_FLAG_W,NITRAT,NITRAT_FLAG_W,NO2+NO3,NO2+NO3_FLAG_W,NITRIT,NITRIT_FLAG_W,PHSPHT,PHSPHT_FLAG_W,CFC-11,CFC-11_FLAG_W,CFC-12,CFC-12_FLAG_W,DELC13,DELC13_FLAG_W,TCARBN,TCARBN_FLAG_W,ALKALI,ALKALI_FLAG_W,PH,PH_FLAG_W,PH_TMP,PH_SCALE,PH_NBS,PH_NBS_FLAG_W,C13ERR,TOTALP,TOTALP_FLAG_W,AMMONI,AMMONI_FLAG_W,CHLORA,CHLORA_FLAG_W,PPHYTN,PPHYTN_FLAG_W,REVPRS,REVTMP,DEPTH_,DEPTH_FLAG,CTDDEP,THETA,SIGTHT,DOC,DOC_FLAG_W
,,,,,,,GMT,GMT,,,METER,DBAR,ITS-90,PSS-78,,UMOL/KG,,PSS-78,,UMOL/KG,,UMOL/KG,,UMOL/KG,,UMOL/KG,,UMOL/KG,,UMOL/KG,,PMOL/KG,,PMOL/KG,,/MILLE,,UMOL/KG,,UMOL/KG,,25_DEG_C,,DEG_C,,,,/MILLE,UMOL/KG,,UMOL/KG,,UG/L,,UG/L,,DBAR,ITS-90,METERS,,METERS,DEG_C,,UMOL/L,
       KS02-10,  NONE,KS-0584,  1,     24,02-16030,2,20021115,1550, 24.9963, 128.4637, 6069,      4.9,  24.9750,  34.7118,2,   -999.0,9,  34.7129,2,   -999.0,9,  -999.00,9,  -999.00,9,  -999.00,9,  -999.00,9,  -999.00,9, -999.000,9, -999.000,9,  -999.00,9,   -999.0,9,   -999.0,9,-999.0000,9,   -999.0,  9,  -999.00,9,   -999.0,  -999.00,9,  -999.00,9,  -999.00,9,  -999.00,9,   -999.0,-999.0000, -999,9,    5,  24.9739,  23.1313,   -999.0,9
       KS02-10,  NONE,KS-0584,  1,     23,02-16029,9,20021115,1541, 24.9963, 128.4637, 6069,    101.3,  22.1912,  34.8603,2,   -999.0,9,-999.0000,9,   -999.0,9,  -999.00,9,  -999.00,9,  -999.00,9,  -999.00,9,  -999.00,9, -999.000,9, -999.000,9,  -999.00,9,   -999.0,9,   -999.0,9,-999.0000,9,   -999.0,  9,  -999.00,9,   -999.0,  -999.00,9,  -999.00,9,  -999.00,9,  -999.00,9,   -999.0,-999.0000, -999,9,  101,  22.1711,  24.0637,   -999.0,9
       KS02-10,  NONE,KS-0584,  1,     22,02-16028,9,20021115,1541, 24.9963, 128.4637, 6069,    101.0,  22.1338,  34.8602,2,   -999.0,9,-999.0000,9,   -999.0,9,  -999.00,9,  -999.00,9,  -999.00,9,  -999.00,9,  -999.00,9, -999.000,9, -999.000,9,  -999.00,9,   -999.0,9,   -999.0,9,-999.0000,9,   -999.0,  9,  -999.00,9,   -999.0,  -999.00,9,  -999.00,9,  -999.00,9,  -999.00,9,   -999.0,-999.0000, -999,9,  100,  22.1138,  24.0797,   -999.0,9
       KS02-10,  NONE,KS-0584,  1,     21,02-16027,9,20021115,1540, 24.9963, 128.4637, 6069,    102.5,  22.0428,  34.8503,2,   -999.0,9,-999.0000,9,   -999.0,9,  -999.00,9,  -999.00,9,  -999.00,9,  -999.00,9,  -999.00,9, -999.000,9, -999.000,9,  -999.00,9,   -999.0,9,   -999.0,9,-999.0000,9,   -999.0,  9,  -999.00,9,   -999.0,  -999.00,9,  -999.00,9,  -999.00,9,  -999.00,9,   -999.0,-999.0000, -999,9,  102,  22.0225,  24.0977,   -999.0,9
       KS02-10,  NONE,KS-0584,  1,     20,02-16026,9,20021115,1540, 24.9963, 128.4637, 6069,    102.2,  22.0854,  34.8559,2,   -999.0,9,-999.0000,9,   -999.0,9,  -999.00,9,  -999.00,9,  -999.00,9,  -999.00,9,  -999.00,9, -999.000,9, -999.000,9,  -999.00,9,   -999.0,9,   -999.0,9,-999.0000,9,   -999.0,  9,  -999.00,9,   -999.0,  -999.00,9,  -999.00,9,  -999.00,9,  -999.00,9,   -999.0,-999.0000, -999,9,  102,  22.0652,  24.0901,   -999.0,9
       KS02-10,  NONE,KS-0584,  1,     19,02-16025,2,20021115,1540, 24.9963, 128.4637, 6069,    101.0,  22.2111,  34.8600,2,   -999.0,9,  34.8583,4,   -999.0,9,  -999.00,9,  -999.00,9,  -999.00,9,  -999.00,9,  -999.00,9, -999.000,9, -999.000,9,  -999.00,9,   -999.0,9,   -999.0,9,-999.0000,9,   -999.0,  9,  -999.00,9,   -999.0,  -999.00,9,  -999.00,9,  -999.00,9,  -999.00,9,   -999.0,-999.0000, -999,9,  100,  22.1910,  24.0578,   -999.0,9
       KS02-10,  NONE,KS-0584,  1,     18,02-16024,9,20021115,1537, 24.9963, 128.4637, 6069,    202.5,  18.2971,  34.7815,2,   -999.0,9,-999.0000,9,   -999.0,9,  -999.00,9,  -999.00,9,  -999.00,9,  -999.00,9,  -999.00,9, -999.000,9, -999.000,9,  -999.00,9,   -999.0,9,   -999.0,9,-999.0000,9,   -999.0,  9,  -999.00,9,   -999.0,  -999.00,9,  -999.00,9,  -999.00,9,  -999.00,9,   -999.0,-999.0000, -999,9,  201,  18.2620,  25.0399,   -999.0,9
       KS02-10,  NONE,KS-0584,  1,     17,02-16023,9,20021115,1537, 24.9963, 128.4637, 6069,    201.6,  18.3273,  34.7818,2,   -999.0,9,-999.0000,9,   -999.0,9,  -999.00,9,  -999.00,9,  -999.00,9,  -999.00,9,  -999.00,9, -999.000,9, -999.000,9,  -999.00,9,   -999.0,9,   -999.0,9,-999.0000,9,   -999.0,  9,  -999.00,9,   -999.0,  -999.00,9,  -999.00,9,  -999.00,9,  -999.00,9,   -999.0,-999.0000, -999,9,  200,  18.2923,  25.0326,   -999.0,9
       KS02-10,  NONE,KS-0584,  1,     16,02-16022,2,20021115,1537, 24.9963, 128.4637, 6069,    201.0,  18.3342,  34.7819,2,   -999.0,9,  34.7840,2,   -999.0,9,  -999.00,9,  -999.00,9,  -999.00,9,  -999.00,9,  -999.00,9, -999.000,9, -999.000,9,  -999.00,9,   -999.0,9,   -999.0,9,-999.0000,9,   -999.0,  9,  -999.00,9,   -999.0,  -999.00,9,  -999.00,9,  -999.00,9,  -999.00,9,   -999.0,-999.0000, -999,9,  200,  18.2993,  25.0309,   -999.0,9
       KS02-10,  NONE,KS-0584,  1,     15,02-16021,9,20021115,1534, 24.9963, 128.4637, 6069,    301.1,  16.2784,  34.6905,2,   -999.0,9,-999.0000,9,   -999.0,9,  -999.00,9,  -999.00,9,  -999.00,9,  -999.00,9,  -999.00,9, -999.000,9, -999.000,9,  -999.00,9,   -999.0,9,   -999.0,9,-999.0000,9,   -999.0,  9,  -999.00,9,   -999.0,  -999.00,9,  -999.00,9,  -999.00,9,  -999.00,9,   -999.0,-999.0000, -999,9,  299,  16.2301,  25.4567,   -999.0,9
       KS02-10,  NONE,KS-0584,  1,     14,02-16020,2,20021115,1534, 24.9963, 128.4637, 6069,    301.3,  16.2711,  34.6885,2,   -999.0,9,  34.6861,4,   -999.0,9,  -999.00,9,  -999.00,9,  -999.00,9,  -999.00,9,  -999.00,9, -999.000,9, -999.000,9,  -999.00,9,   -999.0,9,   -999.0,9,-999.0000,9,   -999.0,  9,  -999.00,9,   -999.0,  -999.00,9,  -999.00,9,  -999.00,9,  -999.00,9,   -999.0,-999.0000, -999,9,  299,  16.2228,  25.4569,   -999.0,9
       KS02-10,  NONE,KS-0584,  1,     13,02-16019,4,20021115,1531, 24.9963, 128.4637, 6069,    402.6,  13.5289,  34.4954,2,   -999.0,9,-999.0000,9,   -999.0,9,  -999.00,9,  -999.00,9,  -999.00,9,  -999.00,9,  -999.00,9, -999.000,9, -999.000,9,  -999.00,9,   -999.0,9,   -999.0,9,-999.0000,9,   -999.0,  9,  -999.00,9,   -999.0,  -999.00,9,  -999.00,9,  -999.00,9,  -999.00,9,   -999.0,-999.0000, -999,9,  400,  13.4719,  25.9064,   -999.0,9
       KS02-10,  NONE,KS-0584,  1,     12,02-16018,2,20021115,1529, 24.9963, 128.4637, 6069,    502.6,  10.5268,  34.2964,2,   -999.0,9,  34.2946,2,   -999.0,9,  -999.00,9,  -999.00,9,  -999.00,9,  -999.00,9,  -999.00,9, -999.000,9, -999.000,9,  -999.00,9,   -999.0,9,   -999.0,9,-999.0000,9,   -999.0,  9,  -999.00,9,   -999.0,  -999.00,9,  -999.00,9,  -999.00,9,  -999.00,9,   -999.0,-999.0000, -999,9,  499,  10.4662,  26.3222,   -999.0,9
       KS02-10,  NONE,KS-0584,  1,     11,02-16017,2,20021115,1527, 24.9963, 128.4637, 6069,    604.3,   8.0257,  34.1767,2,   -999.0,9,  34.1758,2,   -999.0,9,  -999.00,9,  -999.00,9,  -999.00,9,  -999.00,9,  -999.00,9, -999.000,9, -999.000,9,  -999.00,9,   -999.0,9,   -999.0,9,-999.0000,9,   -999.0,  9,  -999.00,9,   -999.0,  -999.00,9,  -999.00,9,  -999.00,9,  -999.00,9,   -999.0,-999.0000, -999,9,  600,   7.9636,  26.6326,   -999.0,9
       KS02-10,  NONE,KS-0584,  1,     10,02-16016,2,20021115,1524, 24.9963, 128.4637, 6069,    703.6,   6.5796,  34.1892,2,   -999.0,9,  34.1901,2,   -999.0,9,  -999.00,9,  -999.00,9,  -999.00,9,  -999.00,9,  -999.00,9, -999.000,9, -999.000,9,  -999.00,9,   -999.0,9,   -999.0,9,-999.0000,9,   -999.0,  9,  -999.00,9,   -999.0,  -999.00,9,  -999.00,9,  -999.00,9,  -999.00,9,   -999.0,-999.0000, -999,9,  698,   6.5144,  26.8455,   -999.0,9
       KS02-10,  NONE,KS-0584,  1,      9,02-16015,4,20021115,1522, 24.9963, 128.4637, 6069,    804.3,   5.2590,  34.2383,2,   -999.0,9,-999.0000,9,   -999.0,9,  -999.00,9,  -999.00,9,  -999.00,9,  -999.00,9,  -999.00,9, -999.000,9, -999.000,9,  -999.00,9,   -999.0,9,   -999.0,9,-999.0000,9,   -999.0,  9,  -999.00,9,   -999.0,  -999.00,9,  -999.00,9,  -999.00,9,  -999.00,9,   -999.0,-999.0000, -999,9,  798,   5.1919,  27.0491,   -999.0,9
       KS02-10,  NONE,KS-0584,  1,      8,02-16014,2,20021115,1519, 24.9963, 128.4637, 6069,    905.7,   4.4597,  34.3197,2,   -999.0,9,  34.3127,4,   -999.0,9,  -999.00,9,  -999.00,9,  -999.00,9,  -999.00,9,  -999.00,9, -999.000,9, -999.000,9,  -999.00,9,   -999.0,9,   -999.0,9,-999.0000,9,   -999.0,  9,  -999.00,9,   -999.0,  -999.00,9,  -999.00,9,  -999.00,9,  -999.00,9,   -999.0,-999.0000, -999,9,  898,   4.3889,  27.2040,   -999.0,9
       KS02-10,  NONE,KS-0584,  1,      7,02-17642,2,20021115,1517, 24.9963, 128.4637, 6069,   1006.4,   3.8749,  34.3953,2,   -999.0,9,  34.3949,2,   -999.0,9,  -999.00,9,  -999.00,9,  -999.00,9,  -999.00,9,  -999.00,9, -999.000,9, -999.000,9,  -999.00,9,   -999.0,9,   -999.0,9,-999.0000,9,   -999.0,  9,  -999.00,9,   -999.0,  -999.00,9,  -999.00,9,  -999.00,9,  -999.00,9,   -999.0,-999.0000, -999,9,  998,   3.7999,  27.3255,   -999.0,9
       KS02-10,  NONE,KS-0584,  1,      6,02-16012,2,20021115,1513, 24.9963, 128.4637, 6069,   1258.6,   2.9661,  34.4975,2,   -999.0,9,  34.4972,2,   -999.0,9,  -999.00,9,  -999.00,9,  -999.00,9,  -999.00,9,  -999.00,9, -999.000,9, -999.000,9,  -999.00,9,   -999.0,9,   -999.0,9,-999.0000,9,   -999.0,  9,  -999.00,9,   -999.0,  -999.00,9,  -999.00,9,  -999.00,9,  -999.00,9,   -999.0,-999.0000, -999,9, 1247,   2.8785,  27.4950,   -999.0,9
       KS02-10,  NONE,KS-0584,  1,      5,02-16011,2,20021115,1508, 24.9963, 128.4637, 6069,   1512.4,   2.4699,  34.5541,2,   -999.0,9,  34.5541,2,   -999.0,9,  -999.00,9,  -999.00,9,  -999.00,9,  -999.00,9,  -999.00,9, -999.000,9, -999.000,9,  -999.00,9,   -999.0,9,   -999.0,9,-999.0000,9,   -999.0,  9,  -999.00,9,   -999.0,  -999.00,9,  -999.00,9,  -999.00,9,  -999.00,9,   -999.0,-999.0000, -999,9, 1497,   2.3672,  27.5846,   -999.0,9
       KS02-10,  NONE,KS-0584,  1,      4,02-16010,2,20021115,1503, 24.9963, 128.4637, 6069,   1766.9,   2.1715,  34.5896,2,   -999.0,9,  34.5887,2,   -999.0,9,  -999.00,9,  -999.00,9,  -999.00,9,  -999.00,9,  -999.00,9, -999.000,9, -999.000,9,  -999.00,9,   -999.0,9,   -999.0,9,-999.0000,9,   -999.0,  9,  -999.00,9,   -999.0,  -999.00,9,  -999.00,9,  -999.00,9,  -999.00,9,   -999.0,-999.0000, -999,9, 1748,   2.0520,  27.6388,   -999.0,9
       KS02-10,  NONE,KS-0584,  1,      3,02-16009,9,20021115,1459, 24.9963, 128.4637, 6069,   2040.9,   1.9423,  34.6241,2,   -999.0,9,-999.0000,9,   -999.0,9,  -999.00,9,  -999.00,9,  -999.00,9,  -999.00,9,  -999.00,9, -999.000,9, -999.000,9,  -999.00,9,   -999.0,9,   -999.0,9,-999.0000,9,   -999.0,  9,  -999.00,9,   -999.0,  -999.00,9,  -999.00,9,  -999.00,9,  -999.00,9,   -999.0,-999.0000, -999,9, 2018,   1.8033,  27.6858,   -999.0,9
       KS02-10,  NONE,KS-0584,  1,      2,02-16008,9,20021115,1459, 24.9963, 128.4637, 6069,   2041.3,   1.9418,  34.6241,2,   -999.0,9,-999.0000,9,   -999.0,9,  -999.00,9,  -999.00,9,  -999.00,9,  -999.00,9,  -999.00,9, -999.000,9, -999.000,9,  -999.00,9,   -999.0,9,   -999.0,9,-999.0000,9,   -999.0,  9,  -999.00,9,   -999.0,  -999.00,9,  -999.00,9,  -999.00,9,  -999.00,9,   -999.0,-999.0000, -999,9, 2018,   1.8028,  27.6859,   -999.0,9
       KS02-10,  NONE,KS-0584,  1,      1,02-16007,2,20021115,1458, 24.9963, 128.4637, 6069,   2039.6,   1.9425,  34.6241,2,   -999.0,9,  34.6233,2,   -999.0,9,  -999.00,9,  -999.00,9,  -999.00,9,  -999.00,9,  -999.00,9, -999.000,9, -999.000,9,  -999.00,9,   -999.0,9,   -999.0,9,-999.0000,9,   -999.0,  9,  -999.00,9,   -999.0,  -999.00,9,  -999.00,9,  -999.00,9,  -999.00,9,   -999.0,-999.0000, -999,9, 2017,   1.8036,  27.6858,   -999.0,9