BOTTLE,20130510GEMDJMAYT
EXPOCODE,SECT_ID,STNNBR,CASTNO,SAMPNO,BTLNBR,BTLNBR_FLAG_W,DATE,TIME,LATITUDE,LONGITUDE,DEPTH,CTDPRS,CTDTMP,CTDSAL,CTDSAL_FLAG_W,CTDOXY,CTDOXY_FLAG_W,SALNTY,SALNTY_FLAG_W,OXYGEN,OXYGEN_FLAG_W,SILCAT,SILCAT_FLAG_W,NITRAT,NITRAT_FLAG_W,NO2+NO3,NO2+NO3_FLAG_W,NITRIT,NITRIT_FLAG_W,PHSPHT,PHSPHT_FLAG_W,CFC-11,CFC-11_FLAG_W,CFC-12,CFC-12_FLAG_W,DELC13,DELC13_FLAG_W,TCARBN,TCARBN_FLAG_W,ALKALI,ALKALI_FLAG_W,PH,PH_FLAG_W,PH_TMP,PH_SCALE,PH_NBS,PH_NBS_FLAG_W,C13ERR,TOTALP,TOTALP_FLAG_W,AMMONI,AMMONI_FLAG_W,CHLORA,CHLORA_FLAG_W,PPHYTN,PPHYTN_FLAG_W,REVPRS,REVTMP,DEPTH_,DEPTH_FLAG,CTDDEP,THETA,SIGTHT,DOC,DOC_FLAG_W
,,,,,,,GMT,GMT,,,METER,DBAR,ITS-90,PSS-78,,UMOL/KG,,PSS-78,,UMOL/KG,,UMOL/KG,,UMOL/KG,,UMOL/KG,,UMOL/KG,,UMOL/KG,,PMOL/KG,,PMOL/KG,,/MILLE,,UMOL/KG,,UMOL/KG,,25_DEG_C,,DEG_C,,,,/MILLE,UMOL/KG,,UMOL/KG,,UG/L,,UG/L,,DBAR,ITS-90,METERS,,METERS,DEG_C,,UMOL/L,
       KS02-10,  137E,KS-0611,  1,     24,02-16030,2,20021128,1150, 24.9942, 136.9978, 5049,      5.3,  25.0215,  34.7167,2,   -999.0,9,  34.7178,2,    208.0,2,  -999.00,9,  -999.00,9,     0.00,2,     0.00,2,     0.00,2, -999.000,9, -999.000,9,  -999.00,9,   1952.7,2,   -999.0,9,-999.0000,9,   -999.0,  9,     8.20,2,   -999.0,  -999.00,9,  -999.00,9,     0.07,2,     0.04,2,   -999.0,-999.0000, -999,9,    5,  25.0203,  23.1210,   -999.0,9
       KS02-10,  137E,KS-0611,  1,     23,02-16029,2,20021128,1149, 24.9942, 136.9978, 5049,     10.4,  25.0247,  34.7171,2,   -999.0,9,-999.0000,9,    208.0,2,  -999.00,9,  -999.00,9,     0.00,2,     0.00,2,     0.00,2, -999.000,9, -999.000,9,  -999.00,9,   1953.0,2,   -999.0,9,-999.0000,9,   -999.0,  9,     8.20,2,   -999.0,  -999.00,9,  -999.00,9,     0.07,2,     0.05,2,   -999.0,-999.0000, -999,9,   10,  25.0224,  23.1206,   -999.0,9
       KS02-10,  137E,KS-0611,  1,     22,02-16028,2,20021128,1148, 24.9942, 136.9978, 5049,     25.4,  25.0258,  34.7174,2,   -999.0,9,-999.0000,9,    207.0,2,  -999.00,9,  -999.00,9,     0.00,2,     0.00,2,     0.00,2, -999.000,9, -999.000,9,  -999.00,9,   1950.4,2,   -999.0,9,-999.0000,9,   -999.0,  9,     8.20,2,   -999.0,  -999.00,9,  -999.00,9,     0.07,2,     0.05,2,   -999.0,-999.0000, -999,9,   25,  25.0203,  23.1215,   -999.0,9
       KS02-10,  137E,KS-0611,  1,     21,02-16027,2,20021128,1146, 24.9942, 136.9978, 5049,     50.5,  25.0378,  34.7190,2,   -999.0,9,-999.0000,9,    208.0,2,  -999.00,9,  -999.00,9,     0.00,2,     0.00,2,     0.00,2, -999.000,9, -999.000,9,  -999.00,9,   1949.1,2,   -999.0,9,-999.0000,9,   -999.0,  9,     8.20,2,   -999.0,  -999.00,9,  -999.00,9,     0.07,2,     0.06,2,   -999.0,-999.0000, -999,9,   50,  25.0269,  23.1207,   -999.0,9
       KS02-10,  137E,KS-0611,  1,     20,02-16026,2,20021128,1143, 24.9942, 136.9978, 5049,     75.1,  22.9701,  34.7721,2,   -999.0,9,-999.0000,9,    216.0,2,  -999.00,9,  -999.00,9,     0.00,2,     0.00,2,     0.00,2, -999.000,9, -999.000,9,  -999.00,9,   1973.5,2,   -999.0,9,-999.0000,9,   -999.0,  9,     8.17,2,   -999.0,  -999.00,9,  -999.00,9,     0.17,2,     0.22,2,   -999.0,-999.0000, -999,9,   75,  22.9548,  23.7737,   -999.0,9
       KS02-10,  137E,KS-0611,  1,     19,02-16025,9,20021128,1139, 24.9942, 136.9978, 5049,     99.7,  20.5675,  34.8025,2,   -999.0,9,-999.0000,9,   -999.0,9,  -999.00,9,  -999.00,9,  -999.00,9,  -999.00,9,  -999.00,9, -999.000,9, -999.000,9,  -999.00,9,   -999.0,9,   -999.0,9,-999.0000,9,   -999.0,  9,  -999.00,9,   -999.0,  -999.00,9,  -999.00,9,  -999.00,9,  -999.00,9,   -999.0,-999.0000, -999,9,   99,  20.5487,  24.4653,   -999.0,9
       KS02-10,  137E,KS-0611,  1,     18,02-16024,2,20021128,1139, 24.9942, 136.9978, 5049,     99.3,  20.5752,  34.8012,2,   -999.0,9,  34.8037,2,    210.0,2,  -999.00,9,  -999.00,9,     0.29,2,     0.08,2,     0.05,2, -999.000,9, -999.000,9,  -999.00,9,   1992.5,2,   -999.0,9,-999.0000,9,   -999.0,  9,     8.13,2,   -999.0,  -999.00,9,  -999.00,9,     0.17,2,     0.46,2,   -999.0,-999.0000, -999,9,   99,  20.5565,  24.4623,   -999.0,9
       KS02-10,  137E,KS-0611,  1,     17,02-16023,2,20021128,1137, 24.9942, 136.9978, 5049,    124.4,  18.7516,  34.7961,2,   -999.0,9,-999.0000,9,    203.0,2,  -999.00,9,  -999.00,9,     3.02,2,     0.01,2,     0.20,2, -999.000,9, -999.000,9,  -999.00,9,   2012.9,2,   -999.0,9,-999.0000,9,   -999.0,  9,     8.10,2,   -999.0,  -999.00,9,  -999.00,9,     0.04,2,     0.18,2,   -999.0,-999.0000, -999,9,  124,  18.7297,  24.9339,   -999.0,9
       KS02-10,  137E,KS-0611,  1,     16,02-16022,2,20021128,1136, 24.9942, 136.9978, 5049,    151.2,  18.4166,  34.7842,2,   -999.0,9,-999.0000,9,    202.0,2,  -999.00,9,  -999.00,9,     3.51,2,     0.00,2,     0.23,2, -999.000,9, -999.000,9,  -999.00,9,   2015.5,2,   -999.0,9,-999.0000,9,   -999.0,  9,     8.07,2,   -999.0,  -999.00,9,  -999.00,9,     0.03,2,     0.09,2,   -999.0,-999.0000, -999,9,  150,  18.3903,  25.0100,   -999.0,9
       KS02-10,  137E,KS-0611,  1,     15,02-16021,2,20021128,1135, 24.9942, 136.9978, 5049,    201.2,  17.4941,  34.7455,2,   -999.0,9,  34.7459,2,    199.0,2,  -999.00,9,  -999.00,9,     5.17,2,     0.00,2,     0.33,2, -999.000,9, -999.000,9,  -999.00,9,   2026.6,2,   -999.0,9,-999.0000,9,   -999.0,  9,     8.05,2,   -999.0,  -999.00,9,  -999.00,9,     0.00,2,     0.01,2,   -999.0,-999.0000, -999,9,  200,  17.4603,  25.2087,   -999.0,9
       KS02-10,  137E,KS-0611,  1,     14,02-16020,2,20021128,1133, 24.9942, 136.9978, 5049,    253.9,  16.7293,  34.7106,2,   -999.0,9,-999.0000,9,    194.0,2,  -999.00,9,  -999.00,9,     6.83,2,     0.00,2,     0.47,2, -999.000,9, -999.000,9,  -999.00,9,   2035.8,2,   -999.0,9,-999.0000,9,   -999.0,  9,     8.03,2,   -999.0,  -999.00,9,  -999.00,9,     0.00,2,     0.01,2,   -999.0,-999.0000, -999,9,  252,  16.6879,  25.3658,   -999.0,9
       KS02-10,  137E,KS-0611,  1,     13,02-16019,2,20021128,1131, 24.9942, 136.9978, 5049,    302.3,  15.7759,  34.6558,2,   -999.0,9,  34.6561,2,    191.0,2,  -999.00,9,  -999.00,9,     8.39,2,     0.00,2,     0.54,2, -999.000,9, -999.000,9,  -999.00,9,   -999.0,9,   -999.0,9,-999.0000,9,   -999.0,  9,  -999.00,9,   -999.0,  -999.00,9,  -999.00,9,     0.00,2,     0.01,2,   -999.0,-999.0000, -999,9,  300,  15.7285,  25.5444,   -999.0,9
       KS02-10,  137E,KS-0611,  1,     12,02-16018,2,20021128,1129, 24.9942, 136.9978, 5049,    402.2,  12.4249,  34.4334,2,   -999.0,9,  34.4347,2,    176.0,2,  -999.00,9,  -999.00,9,    15.30,2,     0.00,2,     1.02,2, -999.000,9, -999.000,9,  -999.00,9,   -999.0,9,   -999.0,9,-999.0000,9,   -999.0,  9,  -999.00,9,   -999.0,  -999.00,9,  -999.00,9,  -999.00,9,  -999.00,9,   -999.0,-999.0000, -999,9,  399,  12.3711,  26.0777,   -999.0,9
       KS02-10,  137E,KS-0611,  1,     11,02-16017,2,20021128,1126, 24.9942, 136.9978, 5049,    503.8,   9.8631,  34.2649,2,   -999.0,9,  34.2664,2,    160.0,2,  -999.00,9,  -999.00,9,    21.24,2,     0.00,2,     1.46,2, -999.000,9, -999.000,9,  -999.00,9,   -999.0,9,   -999.0,9,-999.0000,9,   -999.0,  9,  -999.00,9,   -999.0,  -999.00,9,  -999.00,9,  -999.00,9,  -999.00,9,   -999.0,-999.0000, -999,9,  500,   9.8048,  26.4109,   -999.0,9
       KS02-10,  137E,KS-0611,  1,     10,02-16016,2,20021128,1124, 24.9942, 136.9978, 5049,    604.4,   7.4488,  34.1512,2,   -999.0,9,  34.1626,4,    132.0,2,  -999.00,9,  -999.00,9,    28.05,2,     0.00,2,     1.95,2, -999.000,9, -999.000,9,  -999.00,9,   -999.0,9,   -999.0,9,-999.0000,9,   -999.0,  9,  -999.00,9,   -999.0,  -999.00,9,  -999.00,9,  -999.00,9,  -999.00,9,   -999.0,-999.0000, -999,9,  600,   7.3893,  26.6958,   -999.0,9
       KS02-10,  137E,KS-0611,  1,      9,02-16015,4,20021128,1121, 24.9942, 136.9978, 5049,    703.2,   5.6129,  34.1644,2,   -999.0,9,-999.0000,9,   -999.0,9,  -999.00,9,  -999.00,9,  -999.00,9,  -999.00,9,  -999.00,9, -999.000,9, -999.000,9,  -999.00,9,   -999.0,9,   -999.0,9,-999.0000,9,   -999.0,  9,  -999.00,9,   -999.0,  -999.00,9,  -999.00,9,  -999.00,9,  -999.00,9,   -999.0,-999.0000, -999,9,  697,   5.5529,  26.9476,   -999.0,9
       KS02-10,  137E,KS-0611,  1,      8,02-16014,2,20021128,1118, 24.9942, 136.9978, 5049,    804.9,   4.6239,  34.2303,2,   -999.0,9,  34.2321,2,     70.0,2,  -999.00,9,  -999.00,9,    38.07,2,     0.00,2,     2.67,2, -999.000,9, -999.000,9,  -999.00,9,   -999.0,9,   -999.0,9,-999.0000,9,   -999.0,  9,  -999.00,9,   -999.0,  -999.00,9,  -999.00,9,  -999.00,9,  -999.00,9,   -999.0,-999.0000, -999,9,  798,   4.5607,  27.1143,   -999.0,9
       KS02-10,  137E,KS-0611,  1,      7,02-17642,2,20021128,1116, 24.9942, 136.9978, 5049,    906.3,   3.9923,  34.3020,2,   -999.0,9,  34.3033,2,     58.0,2,  -999.00,9,  -999.00,9,    39.72,2,     0.00,2,     2.79,2, -999.000,9, -999.000,9,  -999.00,9,   -999.0,9,   -999.0,9,-999.0000,9,   -999.0,  9,  -999.00,9,   -999.0,  -999.00,9,  -999.00,9,  -999.00,9,  -999.00,9,   -999.0,-999.0000, -999,9,  898,   3.9247,  27.2386,   -999.0,9
       KS02-10,  137E,KS-0611,  1,      6,02-16012,9,20021128,1114, 24.9942, 136.9978, 5049,   1008.1,   3.5025,  34.3770,2,   -999.0,9,-999.0000,9,   -999.0,9,  -999.00,9,  -999.00,9,  -999.00,9,  -999.00,9,  -999.00,9, -999.000,9, -999.000,9,  -999.00,9,   -999.0,9,   -999.0,9,-999.0000,9,   -999.0,  9,  -999.00,9,   -999.0,  -999.00,9,  -999.00,9,  -999.00,9,  -999.00,9,   -999.0,-999.0000, -999,9,  999,   3.4303,  27.3475,   -999.0,9
       KS02-10,  137E,KS-0611,  1,      5,02-16011,2,20021128,1113, 24.9942, 136.9978, 5049,   1006.5,   3.4996,  34.3776,2,   -999.0,9,  34.3760,2,     54.0,2,  -999.00,9,  -999.00,9,    40.88,2,     0.00,2,     2.86,2, -999.000,9, -999.000,9,  -999.00,9,   -999.0,9,   -999.0,9,-999.0000,9,   -999.0,  9,  -999.00,9,   -999.0,  -999.00,9,  -999.00,9,  -999.00,9,  -999.00,9,   -999.0,-999.0000, -999,9,  998,   3.4275,  27.3482,   -999.0,9
       KS02-10,  137E,KS-0611,  1,      4,02-16010,2,20021128,1108, 24.9942, 136.9978, 5049,   1261.3,   2.8606,  34.4782,2,   -999.0,9,  34.4762,2,     64.0,2,  -999.00,9,  -999.00,9,    40.97,2,     0.00,2,     2.83,2, -999.000,9, -999.000,9,  -999.00,9,   -999.0,9,   -999.0,9,-999.0000,9,   -999.0,  9,  -999.00,9,   -999.0,  -999.00,9,  -999.00,9,  -999.00,9,  -999.00,9,   -999.0,-999.0000, -999,9, 1249,   2.7738,  27.4889,   -999.0,9
       KS02-10,  137E,KS-0611,  1,      3,02-16009,2,20021128,1103, 24.9942, 136.9978, 5049,   1511.1,   2.3467,  34.5532,2,   -999.0,9,  34.5502,2,     84.0,2,  -999.00,9,  -999.00,9,    40.00,2,     0.00,2,     2.76,2, -999.000,9, -999.000,9,  -999.00,9,   -999.0,9,   -999.0,9,-999.0000,9,   -999.0,  9,  -999.00,9,   -999.0,  -999.00,9,  -999.00,9,  -999.00,9,  -999.00,9,   -999.0,-999.0000, -999,9, 1496,   2.2456,  27.5939,   -999.0,9
       KS02-10,  137E,KS-0611,  1,      2,02-16008,2,20021128,1058, 24.9942, 136.9978, 5049,   1764.4,   2.0661,  34.5970,2,   -999.0,9,  34.5956,2,    104.0,2,  -999.00,9,  -999.00,9,    39.02,2,     0.00,2,     2.67,2, -999.000,9, -999.000,9,  -999.00,9,   -999.0,9,   -999.0,9,-999.0000,9,   -999.0,  9,  -999.00,9,   -999.0,  -999.00,9,  -999.00,9,  -999.00,9,  -999.00,9,   -999.0,-999.0000, -999,9, 1746,   1.9482,  27.6529,   -999.0,9
       KS02-10,  137E,KS-0611,  1,      1,02-16007,2,20021128,1053, 24.9942, 136.9978, 5049,   2020.5,   1.9175,  34.6236,2,   -999.0,9,  34.6207,2,    117.0,2,  -999.00,9,  -999.00,9,    38.24,2,     0.00,2,     2.60,2, -999.000,9, -999.000,9,  -999.00,9,   -999.0,9,   -999.0,9,-999.0000,9,   -999.0,  9,  -999.00,9,   -999.0,  -999.00,9,  -999.00,9,  -999.00,9,  -999.00,9,   -999.0,-999.0000, -999,9, 1998,   1.7806,  27.6872,   -999.0,9