BOTTLE,20130510GEMDJMAYT
EXPOCODE,SECT_ID,STNNBR,CASTNO,SAMPNO,BTLNBR,BTLNBR_FLAG_W,DATE,TIME,LATITUDE,LONGITUDE,DEPTH,CTDPRS,CTDTMP,CTDSAL,CTDSAL_FLAG_W,CTDOXY,CTDOXY_FLAG_W,SALNTY,SALNTY_FLAG_W,OXYGEN,OXYGEN_FLAG_W,SILCAT,SILCAT_FLAG_W,NITRAT,NITRAT_FLAG_W,NO2+NO3,NO2+NO3_FLAG_W,NITRIT,NITRIT_FLAG_W,PHSPHT,PHSPHT_FLAG_W,CFC-11,CFC-11_FLAG_W,CFC-12,CFC-12_FLAG_W,DELC13,DELC13_FLAG_W,TCARBN,TCARBN_FLAG_W,ALKALI,ALKALI_FLAG_W,PH,PH_FLAG_W,PH_TMP,PH_SCALE,PH_NBS,PH_NBS_FLAG_W,C13ERR,TOTALP,TOTALP_FLAG_W,AMMONI,AMMONI_FLAG_W,CHLORA,CHLORA_FLAG_W,PPHYTN,PPHYTN_FLAG_W,REVPRS,REVTMP,DEPTH_,DEPTH_FLAG,CTDDEP,THETA,SIGTHT,DOC,DOC_FLAG_W
,,,,,,,GMT,GMT,,,METER,DBAR,ITS-90,PSS-78,,UMOL/KG,,PSS-78,,UMOL/KG,,UMOL/KG,,UMOL/KG,,UMOL/KG,,UMOL/KG,,UMOL/KG,,PMOL/KG,,PMOL/KG,,/MILLE,,UMOL/KG,,UMOL/KG,,25_DEG_C,,DEG_C,,,,/MILLE,UMOL/KG,,UMOL/KG,,UG/L,,UG/L,,DBAR,ITS-90,METERS,,METERS,DEG_C,,UMOL/L,
       KS02-10,  137E,KS-0597,  1,     24,02-16030,2,20021121,1041,  2.9963, 137.0350, 4476,      4.6,  29.0066,  34.4304,2,   -999.0,9,  34.4320,2,    200.0,2,  -999.00,9,  -999.00,9,     0.00,2,     0.00,2,     0.03,2, -999.000,9, -999.000,9,  -999.00,9,   -999.0,9,   -999.0,9,-999.0000,9,   -999.0,  9,  -999.00,9,   -999.0,  -999.00,9,  -999.00,9,     0.10,2,     0.05,2,   -999.0,-999.0000, -999,9,    5,  29.0055,  21.6346,   -999.0,9
       KS02-10,  137E,KS-0597,  1,     23,02-16029,2,20021121,1040,  2.9963, 137.0350, 4476,     10.2,  28.9973,  34.4326,2,   -999.0,9,-999.0000,9,    203.0,2,  -999.00,9,  -999.00,9,     0.00,2,     0.00,2,     0.03,2, -999.000,9, -999.000,9,  -999.00,9,   -999.0,9,   -999.0,9,-999.0000,9,   -999.0,  9,  -999.00,9,   -999.0,  -999.00,9,  -999.00,9,     0.13,2,     0.05,2,   -999.0,-999.0000, -999,9,   10,  28.9948,  21.6398,   -999.0,9
       KS02-10,  137E,KS-0597,  1,     22,02-16028,2,20021121,1039,  2.9963, 137.0350, 4476,     24.4,  27.9146,  34.5787,2,   -999.0,9,-999.0000,9,    201.0,2,  -999.00,9,  -999.00,9,     0.00,2,     0.00,2,     0.07,2, -999.000,9, -999.000,9,  -999.00,9,   -999.0,9,   -999.0,9,-999.0000,9,   -999.0,  9,  -999.00,9,   -999.0,  -999.00,9,  -999.00,9,     0.15,2,     0.10,2,   -999.0,-999.0000, -999,9,   24,  27.9089,  22.1075,   -999.0,9
       KS02-10,  137E,KS-0597,  1,     21,02-16027,2,20021121,1034,  2.9963, 137.0350, 4476,     50.2,  25.5561,  35.0711,2,   -999.0,9,-999.0000,9,    164.0,2,  -999.00,9,  -999.00,9,     4.50,2,     0.30,2,     0.40,2, -999.000,9, -999.000,9,  -999.00,9,   -999.0,9,   -999.0,9,-999.0000,9,   -999.0,  9,  -999.00,9,   -999.0,  -999.00,9,  -999.00,9,     0.36,2,     0.70,2,   -999.0,-999.0000, -999,9,   50,  25.5450,  23.2281,   -999.0,9
       KS02-10,  137E,KS-0597,  1,     20,02-16026,2,20021121,1033,  2.9963, 137.0350, 4476,     74.8,  25.1767,  35.1133,2,   -999.0,9,-999.0000,9,    157.0,2,  -999.00,9,  -999.00,9,     5.57,2,     0.29,2,     0.48,2, -999.000,9, -999.000,9,  -999.00,9,   -999.0,9,   -999.0,9,-999.0000,9,   -999.0,  9,  -999.00,9,   -999.0,  -999.00,9,  -999.00,9,     0.19,2,     0.51,2,   -999.0,-999.0000, -999,9,   74,  25.1604,  23.3780,   -999.0,9
       KS02-10,  137E,KS-0597,  1,     19,02-16025,4,20021121,1032,  2.9963, 137.0350, 4476,     99.4,  23.7876,  35.2252,2,   -999.0,9,-999.0000,9,   -999.0,9,  -999.00,9,  -999.00,9,  -999.00,9,  -999.00,9,  -999.00,9, -999.000,9, -999.000,9,  -999.00,9,   -999.0,9,   -999.0,9,-999.0000,9,   -999.0,  9,  -999.00,9,   -999.0,  -999.00,9,  -999.00,9,  -999.00,9,  -999.00,9,   -999.0,-999.0000, -999,9,   99,  23.7668,  23.8808,   -999.0,9
       KS02-10,  137E,KS-0597,  1,     18,02-16024,2,20021121,1031,  2.9963, 137.0350, 4476,    125.3,  21.0316,  35.0760,2,   -999.0,9,-999.0000,9,    151.0,2,  -999.00,9,  -999.00,9,     8.10,2,     0.04,2,     0.63,2, -999.000,9, -999.000,9,  -999.00,9,   -999.0,9,   -999.0,9,-999.0000,9,   -999.0,  9,  -999.00,9,   -999.0,  -999.00,9,  -999.00,9,     0.05,2,     0.20,2,   -999.0,-999.0000, -999,9,  125,  21.0076,  24.5497,   -999.0,9
       KS02-10,  137E,KS-0597,  1,     17,02-16023,9,20021121,1030,  2.9963, 137.0350, 4476,    152.4,  17.3566,  34.8155,2,   -999.0,9,-999.0000,9,   -999.0,9,  -999.00,9,  -999.00,9,  -999.00,9,  -999.00,9,  -999.00,9, -999.000,9, -999.000,9,  -999.00,9,   -999.0,9,   -999.0,9,-999.0000,9,   -999.0,  9,  -999.00,9,   -999.0,  -999.00,9,  -999.00,9,  -999.00,9,  -999.00,9,   -999.0,-999.0000, -999,9,  152,  17.3311,  25.2935,   -999.0,9
       KS02-10,  137E,KS-0597,  1,     16,02-16022,2,20021121,1030,  2.9963, 137.0350, 4476,    151.7,  17.3269,  34.8125,2,   -999.0,9,  34.8247,4,    157.0,2,  -999.00,9,  -999.00,9,    10.73,2,     0.02,2,     0.78,2, -999.000,9, -999.000,9,  -999.00,9,   -999.0,9,   -999.0,9,-999.0000,9,   -999.0,  9,  -999.00,9,   -999.0,  -999.00,9,  -999.00,9,     0.02,2,     0.08,2,   -999.0,-999.0000, -999,9,  151,  17.3016,  25.2983,   -999.0,9
       KS02-10,  137E,KS-0597,  1,     15,02-16021,2,20021121,1028,  2.9963, 137.0350, 4476,    200.9,  11.5110,  34.4946,2,   -999.0,9,-999.0000,9,    122.0,2,  -999.00,9,  -999.00,9,    22.61,2,     0.00,2,     1.58,2, -999.000,9, -999.000,9,  -999.00,9,   -999.0,9,   -999.0,9,-999.0000,9,   -999.0,  9,  -999.00,9,   -999.0,  -999.00,9,  -999.00,9,     0.00,2,     0.04,2,   -999.0,-999.0000, -999,9,  200,  11.4856,  26.2932,   -999.0,9
       KS02-10,  137E,KS-0597,  1,     14,02-16020,2,20021121,1027,  2.9963, 137.0350, 4476,    250.3,  10.9043,  34.8059,2,   -999.0,9,-999.0000,9,    141.0,2,  -999.00,9,  -999.00,9,    22.79,2,     0.00,2,     1.56,2, -999.000,9, -999.000,9,  -999.00,9,   -999.0,9,   -999.0,9,-999.0000,9,   -999.0,  9,  -999.00,9,   -999.0,  -999.00,9,  -999.00,9,     0.00,2,     0.03,2,   -999.0,-999.0000, -999,9,  249,  10.8736,  26.6471,   -999.0,9
       KS02-10,  137E,KS-0597,  1,     13,02-16019,9,20021121,1025,  2.9963, 137.0350, 4476,    302.3,   9.8483,  34.7157,2,   -999.0,9,-999.0000,9,   -999.0,9,  -999.00,9,  -999.00,9,  -999.00,9,  -999.00,9,  -999.00,9, -999.000,9, -999.000,9,  -999.00,9,   -999.0,9,   -999.0,9,-999.0000,9,   -999.0,  9,  -999.00,9,   -999.0,  -999.00,9,  -999.00,9,  -999.00,9,  -999.00,9,   -999.0,-999.0000, -999,9,  300,   9.8135,  26.7616,   -999.0,9
       KS02-10,  137E,KS-0597,  1,     12,02-16018,2,20021121,1025,  2.9963, 137.0350, 4476,    301.7,   9.8524,  34.7155,2,   -999.0,9,  34.7156,2,    131.0,2,  -999.00,9,  -999.00,9,    25.61,2,     0.00,2,     1.82,2, -999.000,9, -999.000,9,  -999.00,9,   -999.0,9,   -999.0,9,-999.0000,9,   -999.0,  9,  -999.00,9,   -999.0,  -999.00,9,  -999.00,9,     0.00,2,     0.03,2,   -999.0,-999.0000, -999,9,  300,   9.8176,  26.7607,   -999.0,9
       KS02-10,  137E,KS-0597,  1,     11,02-16017,2,20021121,1023,  2.9963, 137.0350, 4476,    400.7,   8.9385,  34.6650,2,   -999.0,9,  34.6645,2,    134.0,2,  -999.00,9,  -999.00,9,    27.17,2,     0.00,2,     1.84,2, -999.000,9, -999.000,9,  -999.00,9,   -999.0,9,   -999.0,9,-999.0000,9,   -999.0,  9,  -999.00,9,   -999.0,  -999.00,9,  -999.00,9,  -999.00,9,  -999.00,9,   -999.0,-999.0000, -999,9,  398,   8.8948,  26.8726,   -999.0,9
       KS02-10,  137E,KS-0597,  1,     10,02-16016,2,20021121,1021,  2.9963, 137.0350, 4476,    503.0,   8.1225,  34.6061,2,   -999.0,9,  34.6071,2,    130.0,2,  -999.00,9,  -999.00,9,    29.12,2,     0.00,2,     1.97,2, -999.000,9, -999.000,9,  -999.00,9,   -999.0,9,   -999.0,9,-999.0000,9,   -999.0,  9,  -999.00,9,   -999.0,  -999.00,9,  -999.00,9,  -999.00,9,  -999.00,9,   -999.0,-999.0000, -999,9,  500,   8.0704,  26.9539,   -999.0,9
       KS02-10,  137E,KS-0597,  1,      9,02-16015,2,20021121,1018,  2.9963, 137.0350, 4476,    603.0,   7.1003,  34.5491,2,   -999.0,9,  34.5506,2,    128.0,2,  -999.00,9,  -999.00,9,    31.25,2,     0.00,2,     2.13,2, -999.000,9, -999.000,9,  -999.00,9,   -999.0,9,   -999.0,9,-999.0000,9,   -999.0,  9,  -999.00,9,   -999.0,  -999.00,9,  -999.00,9,  -999.00,9,  -999.00,9,   -999.0,-999.0000, -999,9,  599,   7.0421,  27.0578,   -999.0,9
       KS02-10,  137E,KS-0597,  1,      8,02-16014,2,20021121,1016,  2.9963, 137.0350, 4476,    704.6,   6.1979,  34.5321,2,   -999.0,9,  34.5333,2,     96.0,2,  -999.00,9,  -999.00,9,    35.53,2,     0.00,2,     2.51,2, -999.000,9, -999.000,9,  -999.00,9,   -999.0,9,   -999.0,9,-999.0000,9,   -999.0,  9,  -999.00,9,   -999.0,  -999.00,9,  -999.00,9,  -999.00,9,  -999.00,9,   -999.0,-999.0000, -999,9,  700,   6.1342,  27.1658,   -999.0,9
       KS02-10,  137E,KS-0597,  1,      7,02-17642,2,20021121,1014,  2.9963, 137.0350, 4476,    805.0,   5.2395,  34.5378,2,   -999.0,9,  34.5380,2,     96.0,2,  -999.00,9,  -999.00,9,    36.80,2,     0.00,2,     2.56,2, -999.000,9, -999.000,9,  -999.00,9,   -999.0,9,   -999.0,9,-999.0000,9,   -999.0,  9,  -999.00,9,   -999.0,  -999.00,9,  -999.00,9,  -999.00,9,  -999.00,9,   -999.0,-999.0000, -999,9,  799,   5.1721,  27.2887,   -999.0,9
       KS02-10,  137E,KS-0597,  1,      6,02-16012,4,20021121,1011,  2.9963, 137.0350, 4476,    904.1,   4.8888,  34.5466,2,   -999.0,9,-999.0000,9,   -999.0,9,  -999.00,9,  -999.00,9,  -999.00,9,  -999.00,9,  -999.00,9, -999.000,9, -999.000,9,  -999.00,9,   -999.0,9,   -999.0,9,-999.0000,9,   -999.0,  9,  -999.00,9,   -999.0,  -999.00,9,  -999.00,9,  -999.00,9,  -999.00,9,   -999.0,-999.0000, -999,9,  897,   4.8148,  27.3370,   -999.0,9
       KS02-10,  137E,KS-0597,  1,      5,02-16011,2,20021121,1009,  2.9963, 137.0350, 4476,   1007.0,   4.5502,  34.5540,2,   -999.0,9,  34.5535,2,     91.0,2,  -999.00,9,  -999.00,9,    38.25,2,     0.00,2,     2.72,2, -999.000,9, -999.000,9,  -999.00,9,   -999.0,9,   -999.0,9,-999.0000,9,   -999.0,  9,  -999.00,9,   -999.0,  -999.00,9,  -999.00,9,  -999.00,9,  -999.00,9,   -999.0,-999.0000, -999,9,  999,   4.4696,  27.3813,   -999.0,9
       KS02-10,  137E,KS-0597,  1,      4,02-16010,4,20021121,1004,  2.9963, 137.0350, 4476,   1259.7,   3.6729,  34.5788,2,   -999.0,9,-999.0000,9,   -999.0,9,  -999.00,9,  -999.00,9,  -999.00,9,  -999.00,9,  -999.00,9, -999.000,9, -999.000,9,  -999.00,9,   -999.0,9,   -999.0,9,-999.0000,9,   -999.0,  9,  -999.00,9,   -999.0,  -999.00,9,  -999.00,9,  -999.00,9,  -999.00,9,   -999.0,-999.0000, -999,9, 1249,   3.5781,  27.4939,   -999.0,9
       KS02-10,  137E,KS-0597,  1,      3,02-16009,2,20021121,0959,  2.9963, 137.0350, 4476,   1511.9,   2.9983,  34.6014,2,   -999.0,9,  34.6009,2,    102.0,2,  -999.00,9,  -999.00,9,    38.63,2,     0.00,2,     2.74,2, -999.000,9, -999.000,9,  -999.00,9,   -999.0,9,   -999.0,9,-999.0000,9,   -999.0,  9,  -999.00,9,   -999.0,  -999.00,9,  -999.00,9,  -999.00,9,  -999.00,9,   -999.0,-999.0000, -999,9, 1498,   2.8894,  27.5770,   -999.0,9
       KS02-10,  137E,KS-0597,  1,      2,02-16008,2,20021121,0955,  2.9963, 137.0350, 4476,   1765.9,   2.6328,  34.6175,2,   -999.0,9,  34.6181,2,    108.0,2,  -999.00,9,  -999.00,9,    38.44,2,     0.00,2,     2.68,2, -999.000,9, -999.000,9,  -999.00,9,   -999.0,9,   -999.0,9,-999.0000,9,   -999.0,  9,  -999.00,9,   -999.0,  -999.00,9,  -999.00,9,  -999.00,9,  -999.00,9,   -999.0,-999.0000, -999,9, 1749,   2.5071,  27.6235,   -999.0,9
       KS02-10,  137E,KS-0597,  1,      1,02-16007,2,20021121,0950,  2.9963, 137.0350, 4476,   2019.1,   2.3052,  34.6333,2,   -999.0,9,  34.6325,2,    112.0,2,  -999.00,9,  -999.00,9,    38.44,2,     0.00,2,     2.66,2, -999.000,9, -999.000,9,  -999.00,9,   -999.0,9,   -999.0,9,-999.0000,9,   -999.0,  9,  -999.00,9,   -999.0,  -999.00,9,  -999.00,9,  -999.00,9,  -999.00,9,   -999.0,-999.0000, -999,9, 1998,   2.1625,  27.6649,   -999.0,9