BOTTLE,20130510GEMDJMAYT
EXPOCODE,SECT_ID,STNNBR,CASTNO,SAMPNO,BTLNBR,BTLNBR_FLAG_W,DATE,TIME,LATITUDE,LONGITUDE,DEPTH,CTDPRS,CTDTMP,CTDSAL,CTDSAL_FLAG_W,CTDOXY,CTDOXY_FLAG_W,SALNTY,SALNTY_FLAG_W,OXYGEN,OXYGEN_FLAG_W,SILCAT,SILCAT_FLAG_W,NITRAT,NITRAT_FLAG_W,NO2+NO3,NO2+NO3_FLAG_W,NITRIT,NITRIT_FLAG_W,PHSPHT,PHSPHT_FLAG_W,CFC-11,CFC-11_FLAG_W,CFC-12,CFC-12_FLAG_W,DELC13,DELC13_FLAG_W,TCARBN,TCARBN_FLAG_W,ALKALI,ALKALI_FLAG_W,PH,PH_FLAG_W,PH_TMP,PH_SCALE,PH_NBS,PH_NBS_FLAG_W,C13ERR,TOTALP,TOTALP_FLAG_W,AMMONI,AMMONI_FLAG_W,CHLORA,CHLORA_FLAG_W,PPHYTN,PPHYTN_FLAG_W,REVPRS,REVTMP,DEPTH_,DEPTH_FLAG,CTDDEP,THETA,SIGTHT,DOC,DOC_FLAG_W
,,,,,,,GMT,GMT,,,METER,DBAR,ITS-90,PSS-78,,UMOL/KG,,PSS-78,,UMOL/KG,,UMOL/KG,,UMOL/KG,,UMOL/KG,,UMOL/KG,,UMOL/KG,,PMOL/KG,,PMOL/KG,,/MILLE,,UMOL/KG,,UMOL/KG,,25_DEG_C,,DEG_C,,,,/MILLE,UMOL/KG,,UMOL/KG,,UG/L,,UG/L,,DBAR,ITS-90,METERS,,METERS,DEG_C,,UMOL/L,
       KS02-10,  NONE,KS-0589,  1,     24,02-16030,2,20021117,0336, 19.9920, 130.6642, 5778,      4.8,  28.1977,  34.6729,2,   -999.0,9,  34.6745,2,   -999.0,9,  -999.00,9,  -999.00,9,  -999.00,9,  -999.00,9,  -999.00,9, -999.000,9, -999.000,9,  -999.00,9,   -999.0,9,   -999.0,9,-999.0000,9,   -999.0,  9,  -999.00,9,   -999.0,  -999.00,9,  -999.00,9,  -999.00,9,  -999.00,9,   -999.0,-999.0000, -999,9,    5,  28.1966,  22.0844,   -999.0,9
       KS02-10,  NONE,KS-0589,  1,     23,02-16029,2,20021117,0329, 19.9920, 130.6642, 5778,     99.6,  23.4267,  34.9105,2,   -999.0,9,  34.9183,4,   -999.0,9,  -999.00,9,  -999.00,9,  -999.00,9,  -999.00,9,  -999.00,9, -999.000,9, -999.000,9,  -999.00,9,   -999.0,9,   -999.0,9,-999.0000,9,   -999.0,  9,  -999.00,9,   -999.0,  -999.00,9,  -999.00,9,  -999.00,9,  -999.00,9,   -999.0,-999.0000, -999,9,   99,  23.4061,  23.7481,   -999.0,9
       KS02-10,  NONE,KS-0589,  1,     22,02-16028,2,20021117,0327, 19.9920, 130.6642, 5778,    200.1,  18.1723,  34.7859,2,   -999.0,9,  34.7852,2,   -999.0,9,  -999.00,9,  -999.00,9,  -999.00,9,  -999.00,9,  -999.00,9, -999.000,9, -999.000,9,  -999.00,9,   -999.0,9,   -999.0,9,-999.0000,9,   -999.0,  9,  -999.00,9,   -999.0,  -999.00,9,  -999.00,9,  -999.00,9,  -999.00,9,   -999.0,-999.0000, -999,9,  199,  18.1377,  25.0741,   -999.0,9
       KS02-10,  NONE,KS-0589,  1,     21,02-16027,2,20021117,0324, 19.9920, 130.6642, 5778,    301.1,  15.2093,  34.6141,2,   -999.0,9,  34.6156,2,   -999.0,9,  -999.00,9,  -999.00,9,  -999.00,9,  -999.00,9,  -999.00,9, -999.000,9, -999.000,9,  -999.00,9,   -999.0,9,   -999.0,9,-999.0000,9,   -999.0,  9,  -999.00,9,   -999.0,  -999.00,9,  -999.00,9,  -999.00,9,  -999.00,9,   -999.0,-999.0000, -999,9,  299,  15.1633,  25.6385,   -999.0,9
       KS02-10,  NONE,KS-0589,  1,     20,02-16026,2,20021117,0322, 19.9920, 130.6642, 5778,    399.9,  12.7607,  34.4328,2,   -999.0,9,  34.4330,2,   -999.0,9,  -999.00,9,  -999.00,9,  -999.00,9,  -999.00,9,  -999.00,9, -999.000,9, -999.000,9,  -999.00,9,   -999.0,9,   -999.0,9,-999.0000,9,   -999.0,  9,  -999.00,9,   -999.0,  -999.00,9,  -999.00,9,  -999.00,9,  -999.00,9,   -999.0,-999.0000, -999,9,  397,  12.7063,  26.0117,   -999.0,9
       KS02-10,  NONE,KS-0589,  1,     19,02-16025,2,20021117,0320, 19.9920, 130.6642, 5778,    501.5,   9.0816,  34.1962,2,   -999.0,9,  34.1975,2,   -999.0,9,  -999.00,9,  -999.00,9,  -999.00,9,  -999.00,9,  -999.00,9, -999.000,9, -999.000,9,  -999.00,9,   -999.0,9,   -999.0,9,-999.0000,9,   -999.0,  9,  -999.00,9,   -999.0,  -999.00,9,  -999.00,9,  -999.00,9,  -999.00,9,   -999.0,-999.0000, -999,9,  498,   9.0264,  26.4845,   -999.0,9
       KS02-10,  NONE,KS-0589,  1,     18,02-16024,9,20021117,0318, 19.9920, 130.6642, 5778,    604.2,   6.6097,  34.1429,2,   -999.0,9,-999.0000,9,   -999.0,9,  -999.00,9,  -999.00,9,  -999.00,9,  -999.00,9,  -999.00,9, -999.000,9, -999.000,9,  -999.00,9,   -999.0,9,   -999.0,9,-999.0000,9,   -999.0,  9,  -999.00,9,   -999.0,  -999.00,9,  -999.00,9,  -999.00,9,  -999.00,9,   -999.0,-999.0000, -999,9,  600,   6.5540,  26.8037,   -999.0,9
       KS02-10,  NONE,KS-0589,  1,     17,02-16023,9,20021117,0317, 19.9920, 130.6642, 5778,    603.2,   6.6111,  34.1426,2,   -999.0,9,-999.0000,9,   -999.0,9,  -999.00,9,  -999.00,9,  -999.00,9,  -999.00,9,  -999.00,9, -999.000,9, -999.000,9,  -999.00,9,   -999.0,9,   -999.0,9,-999.0000,9,   -999.0,  9,  -999.00,9,   -999.0,  -999.00,9,  -999.00,9,  -999.00,9,  -999.00,9,   -999.0,-999.0000, -999,9,  599,   6.5555,  26.8033,   -999.0,9
       KS02-10,  NONE,KS-0589,  1,     16,02-16022,2,20021117,0317, 19.9920, 130.6642, 5778,    602.3,   6.6107,  34.1420,2,   -999.0,9,  34.1430,2,   -999.0,9,  -999.00,9,  -999.00,9,  -999.00,9,  -999.00,9,  -999.00,9, -999.000,9, -999.000,9,  -999.00,9,   -999.0,9,   -999.0,9,-999.0000,9,   -999.0,  9,  -999.00,9,   -999.0,  -999.00,9,  -999.00,9,  -999.00,9,  -999.00,9,   -999.0,-999.0000, -999,9,  598,   6.5552,  26.8029,   -999.0,9
       KS02-10,  NONE,KS-0589,  1,     15,02-16021,2,20021117,0315, 19.9920, 130.6642, 5778,    705.2,   5.2315,  34.2489,2,   -999.0,9,  34.2483,2,   -999.0,9,  -999.00,9,  -999.00,9,  -999.00,9,  -999.00,9,  -999.00,9, -999.000,9, -999.000,9,  -999.00,9,   -999.0,9,   -999.0,9,-999.0000,9,   -999.0,  9,  -999.00,9,   -999.0,  -999.00,9,  -999.00,9,  -999.00,9,  -999.00,9,   -999.0,-999.0000, -999,9,  700,   5.1733,  27.0597,   -999.0,9
       KS02-10,  NONE,KS-0589,  1,     14,02-16020,2,20021117,0313, 19.9920, 130.6642, 5778,    803.8,   4.6007,  34.3694,2,   -999.0,9,  34.3690,2,   -999.0,9,  -999.00,9,  -999.00,9,  -999.00,9,  -999.00,9,  -999.00,9, -999.000,9, -999.000,9,  -999.00,9,   -999.0,9,   -999.0,9,-999.0000,9,   -999.0,  9,  -999.00,9,   -999.0,  -999.00,9,  -999.00,9,  -999.00,9,  -999.00,9,   -999.0,-999.0000, -999,9,  797,   4.5375,  27.2273,   -999.0,9
       KS02-10,  NONE,KS-0589,  1,     13,02-16019,9,20021117,0310, 19.9920, 130.6642, 5778,    906.2,   4.2660,  34.4331,2,   -999.0,9,-999.0000,9,   -999.0,9,  -999.00,9,  -999.00,9,  -999.00,9,  -999.00,9,  -999.00,9, -999.000,9, -999.000,9,  -999.00,9,   -999.0,9,   -999.0,9,-999.0000,9,   -999.0,  9,  -999.00,9,   -999.0,  -999.00,9,  -999.00,9,  -999.00,9,  -999.00,9,   -999.0,-999.0000, -999,9,  899,   4.1963,  27.3147,   -999.0,9
       KS02-10,  NONE,KS-0589,  1,     12,02-16018,2,20021117,0310, 19.9920, 130.6642, 5778,    906.8,   4.2640,  34.4331,2,   -999.0,9,  34.4332,2,   -999.0,9,  -999.00,9,  -999.00,9,  -999.00,9,  -999.00,9,  -999.00,9, -999.000,9, -999.000,9,  -999.00,9,   -999.0,9,   -999.0,9,-999.0000,9,   -999.0,  9,  -999.00,9,   -999.0,  -999.00,9,  -999.00,9,  -999.00,9,  -999.00,9,   -999.0,-999.0000, -999,9,  899,   4.1943,  27.3149,   -999.0,9
       KS02-10,  NONE,KS-0589,  1,     11,02-16017,9,20021117,0308, 19.9920, 130.6642, 5778,   1008.0,   3.8671,  34.4776,2,   -999.0,9,-999.0000,9,   -999.0,9,  -999.00,9,  -999.00,9,  -999.00,9,  -999.00,9,  -999.00,9, -999.000,9, -999.000,9,  -999.00,9,   -999.0,9,   -999.0,9,-999.0000,9,   -999.0,  9,  -999.00,9,   -999.0,  -999.00,9,  -999.00,9,  -999.00,9,  -999.00,9,   -999.0,-999.0000, -999,9,  999,   3.7919,  27.3919,   -999.0,9
       KS02-10,  NONE,KS-0589,  1,     10,02-16016,2,20021117,0308, 19.9920, 130.6642, 5778,   1007.4,   3.8660,  34.4773,2,   -999.0,9,  34.4771,2,   -999.0,9,  -999.00,9,  -999.00,9,  -999.00,9,  -999.00,9,  -999.00,9, -999.000,9, -999.000,9,  -999.00,9,   -999.0,9,   -999.0,9,-999.0000,9,   -999.0,  9,  -999.00,9,   -999.0,  -999.00,9,  -999.00,9,  -999.00,9,  -999.00,9,   -999.0,-999.0000, -999,9,  999,   3.7908,  27.3918,   -999.0,9
       KS02-10,  NONE,KS-0589,  1,      9,02-16015,9,20021117,0303, 19.9920, 130.6642, 5778,   1259.4,   3.0052,  34.5430,2,   -999.0,9,-999.0000,9,   -999.0,9,  -999.00,9,  -999.00,9,  -999.00,9,  -999.00,9,  -999.00,9, -999.000,9, -999.000,9,  -999.00,9,   -999.0,9,   -999.0,9,-999.0000,9,   -999.0,  9,  -999.00,9,   -999.0,  -999.00,9,  -999.00,9,  -999.00,9,  -999.00,9,   -999.0,-999.0000, -999,9, 1248,   2.9170,  27.5278,   -999.0,9
       KS02-10,  NONE,KS-0589,  1,      8,02-16014,9,20021117,0303, 19.9920, 130.6642, 5778,   1259.0,   3.0044,  34.5431,2,   -999.0,9,-999.0000,9,   -999.0,9,  -999.00,9,  -999.00,9,  -999.00,9,  -999.00,9,  -999.00,9, -999.000,9, -999.000,9,  -999.00,9,   -999.0,9,   -999.0,9,-999.0000,9,   -999.0,  9,  -999.00,9,   -999.0,  -999.00,9,  -999.00,9,  -999.00,9,  -999.00,9,   -999.0,-999.0000, -999,9, 1248,   2.9163,  27.5280,   -999.0,9
       KS02-10,  NONE,KS-0589,  1,      7,02-17642,2,20021117,0303, 19.9920, 130.6642, 5778,   1259.0,   3.0044,  34.5431,2,   -999.0,9,  34.5423,2,   -999.0,9,  -999.00,9,  -999.00,9,  -999.00,9,  -999.00,9,  -999.00,9, -999.000,9, -999.000,9,  -999.00,9,   -999.0,9,   -999.0,9,-999.0000,9,   -999.0,  9,  -999.00,9,   -999.0,  -999.00,9,  -999.00,9,  -999.00,9,  -999.00,9,   -999.0,-999.0000, -999,9, 1248,   2.9163,  27.5280,   -999.0,9
       KS02-10,  NONE,KS-0589,  1,      6,02-16012,9,20021117,0258, 19.9920, 130.6642, 5778,   1512.6,   2.5397,  34.5851,2,   -999.0,9,-999.0000,9,   -999.0,9,  -999.00,9,  -999.00,9,  -999.00,9,  -999.00,9,  -999.00,9, -999.000,9, -999.000,9,  -999.00,9,   -999.0,9,   -999.0,9,-999.0000,9,   -999.0,  9,  -999.00,9,   -999.0,  -999.00,9,  -999.00,9,  -999.00,9,  -999.00,9,   -999.0,-999.0000, -999,9, 1498,   2.4361,  27.6036,   -999.0,9
       KS02-10,  NONE,KS-0589,  1,      5,02-16011,2,20021117,0258, 19.9920, 130.6642, 5778,   1512.1,   2.5399,  34.5851,2,   -999.0,9,  34.5844,2,   -999.0,9,  -999.00,9,  -999.00,9,  -999.00,9,  -999.00,9,  -999.00,9, -999.000,9, -999.000,9,  -999.00,9,   -999.0,9,   -999.0,9,-999.0000,9,   -999.0,  9,  -999.00,9,   -999.0,  -999.00,9,  -999.00,9,  -999.00,9,  -999.00,9,   -999.0,-999.0000, -999,9, 1497,   2.4364,  27.6035,   -999.0,9
       KS02-10,  NONE,KS-0589,  1,      4,02-16010,9,20021117,0254, 19.9920, 130.6642, 5778,   1766.1,   2.2553,  34.6143,2,   -999.0,9,-999.0000,9,   -999.0,9,  -999.00,9,  -999.00,9,  -999.00,9,  -999.00,9,  -999.00,9, -999.000,9, -999.000,9,  -999.00,9,   -999.0,9,   -999.0,9,-999.0000,9,   -999.0,  9,  -999.00,9,   -999.0,  -999.00,9,  -999.00,9,  -999.00,9,  -999.00,9,   -999.0,-999.0000, -999,9, 1748,   2.1347,  27.6519,   -999.0,9
       KS02-10,  NONE,KS-0589,  1,      3,02-16009,2,20021117,0253, 19.9920, 130.6642, 5778,   1766.2,   2.2552,  34.6141,2,   -999.0,9,  34.6132,2,   -999.0,9,  -999.00,9,  -999.00,9,  -999.00,9,  -999.00,9,  -999.00,9, -999.000,9, -999.000,9,  -999.00,9,   -999.0,9,   -999.0,9,-999.0000,9,   -999.0,  9,  -999.00,9,   -999.0,  -999.00,9,  -999.00,9,  -999.00,9,  -999.00,9,   -999.0,-999.0000, -999,9, 1748,   2.1346,  27.6518,   -999.0,9
       KS02-10,  NONE,KS-0589,  1,      2,02-16008,9,20021117,0248, 19.9920, 130.6642, 5778,   2020.4,   2.0341,  34.6324,2,   -999.0,9,-999.0000,9,   -999.0,9,  -999.00,9,  -999.00,9,  -999.00,9,  -999.00,9,  -999.00,9, -999.000,9, -999.000,9,  -999.00,9,   -999.0,9,   -999.0,9,-999.0000,9,   -999.0,  9,  -999.00,9,   -999.0,  -999.00,9,  -999.00,9,  -999.00,9,  -999.00,9,   -999.0,-999.0000, -999,9, 1998,   1.8954,  27.6854,   -999.0,9
       KS02-10,  NONE,KS-0589,  1,      1,02-16007,2,20021117,0248, 19.9920, 130.6642, 5778,   2019.9,   2.0337,  34.6324,2,   -999.0,9,  34.6309,2,   -999.0,9,  -999.00,9,  -999.00,9,  -999.00,9,  -999.00,9,  -999.00,9, -999.000,9, -999.000,9,  -999.00,9,   -999.0,9,   -999.0,9,-999.0000,9,   -999.0,  9,  -999.00,9,   -999.0,  -999.00,9,  -999.00,9,  -999.00,9,  -999.00,9,   -999.0,-999.0000, -999,9, 1998,   1.8951,  27.6854,   -999.0,9