BOTTLE,20130510GEMDJMAYT
EXPOCODE,SECT_ID,STNNBR,CASTNO,SAMPNO,BTLNBR,BTLNBR_FLAG_W,DATE,TIME,LATITUDE,LONGITUDE,DEPTH,CTDPRS,CTDTMP,CTDSAL,CTDSAL_FLAG_W,CTDOXY,CTDOXY_FLAG_W,SALNTY,SALNTY_FLAG_W,OXYGEN,OXYGEN_FLAG_W,SILCAT,SILCAT_FLAG_W,NITRAT,NITRAT_FLAG_W,NO2+NO3,NO2+NO3_FLAG_W,NITRIT,NITRIT_FLAG_W,PHSPHT,PHSPHT_FLAG_W,CFC-11,CFC-11_FLAG_W,CFC-12,CFC-12_FLAG_W,DELC13,DELC13_FLAG_W,TCARBN,TCARBN_FLAG_W,ALKALI,ALKALI_FLAG_W,PH,PH_FLAG_W,PH_TMP,PH_SCALE,PH_NBS,PH_NBS_FLAG_W,C13ERR,TOTALP,TOTALP_FLAG_W,AMMONI,AMMONI_FLAG_W,CHLORA,CHLORA_FLAG_W,PPHYTN,PPHYTN_FLAG_W,REVPRS,REVTMP,DEPTH_,DEPTH_FLAG,CTDDEP,THETA,SIGTHT,DOC,DOC_FLAG_W
,,,,,,,GMT,GMT,,,METER,DBAR,ITS-90,PSS-78,,UMOL/KG,,PSS-78,,UMOL/KG,,UMOL/KG,,UMOL/KG,,UMOL/KG,,UMOL/KG,,UMOL/KG,,PMOL/KG,,PMOL/KG,,/MILLE,,UMOL/KG,,UMOL/KG,,25_DEG_C,,DEG_C,,,,/MILLE,UMOL/KG,,UMOL/KG,,UG/L,,UG/L,,DBAR,ITS-90,METERS,,METERS,DEG_C,,UMOL/L,
       KS02-10,  137E,KS-0627,  1,     24,02-16030,2,20021201,1746, 33.9647, 136.9878, 1186,      5.2,  17.8277,  34.5524,2,   -999.0,9,  34.5537,2,    229.0,2,  -999.00,9,  -999.00,9,     3.41,2,     0.48,2,     0.24,2, -999.000,9, -999.000,9,  -999.00,9,   1993.6,4,   -999.0,9,-999.0000,9,   -999.0,  9,     8.11,2,   -999.0,  -999.00,9,  -999.00,9,     0.35,2,     0.39,2,   -999.0,-999.0000, -999,9,    5,  17.8268,  24.9717,   -999.0,9
       KS02-10,  137E,KS-0627,  1,     23,02-16029,2,20021201,1745, 33.9647, 136.9878, 1186,     10.3,  17.8254,  34.5526,2,   -999.0,9,-999.0000,9,    224.0,2,  -999.00,9,  -999.00,9,     3.41,2,     0.48,2,     0.25,2, -999.000,9, -999.000,9,  -999.00,9,   -999.0,9,   -999.0,9,-999.0000,9,   -999.0,  9,     8.13,2,   -999.0,  -999.00,9,  -999.00,9,     0.43,2,     0.45,2,   -999.0,-999.0000, -999,9,   10,  17.8236,  24.9726,   -999.0,9
       KS02-10,  137E,KS-0627,  1,     22,02-16028,2,20021201,1744, 33.9647, 136.9878, 1186,     25.7,  17.8239,  34.5525,2,   -999.0,9,-999.0000,9,    225.0,2,  -999.00,9,  -999.00,9,     3.41,2,     0.49,2,     0.25,2, -999.000,9, -999.000,9,  -999.00,9,   -999.0,9,   -999.0,9,-999.0000,9,   -999.0,  9,     8.13,2,   -999.0,  -999.00,9,  -999.00,9,     0.44,2,     0.41,2,   -999.0,-999.0000, -999,9,   25,  17.8196,  24.9735,   -999.0,9
       KS02-10,  137E,KS-0627,  1,     21,02-16027,2,20021201,1742, 33.9647, 136.9878, 1186,     50.8,  17.2586,  34.5232,2,   -999.0,9,-999.0000,9,    218.0,2,  -999.00,9,  -999.00,9,     4.78,2,     0.65,2,     0.34,2, -999.000,9, -999.000,9,  -999.00,9,   -999.0,9,   -999.0,9,-999.0000,9,   -999.0,  9,     8.10,2,   -999.0,  -999.00,9,  -999.00,9,     0.19,2,     0.27,2,   -999.0,-999.0000, -999,9,   50,  17.2502,  25.0887,   -999.0,9
       KS02-10,  137E,KS-0627,  1,     20,02-16026,2,20021201,1740, 33.9647, 136.9878, 1186,     75.6,  16.0033,  34.5558,2,   -999.0,9,-999.0000,9,    209.0,2,  -999.00,9,  -999.00,9,     8.00,2,     0.45,2,     0.56,2, -999.000,9, -999.000,9,  -999.00,9,   -999.0,9,   -999.0,9,-999.0000,9,   -999.0,  9,     8.05,2,   -999.0,  -999.00,9,  -999.00,9,     0.16,2,     0.21,2,   -999.0,-999.0000, -999,9,   75,  15.9914,  25.4078,   -999.0,9
       KS02-10,  137E,KS-0627,  1,     19,02-16025,9,20021201,1736, 33.9647, 136.9878, 1186,    100.2,  13.6991,  34.5108,2,   -999.0,9,-999.0000,9,   -999.0,9,  -999.00,9,  -999.00,9,  -999.00,9,  -999.00,9,  -999.00,9, -999.000,9, -999.000,9,  -999.00,9,   -999.0,9,   -999.0,9,-999.0000,9,   -999.0,  9,  -999.00,9,   -999.0,  -999.00,9,  -999.00,9,  -999.00,9,  -999.00,9,   -999.0,-999.0000, -999,9,   99,  13.6849,  25.8746,   -999.0,9
       KS02-10,  137E,KS-0627,  1,     18,02-16024,4,20021201,1736, 33.9647, 136.9878, 1186,    100.3,  13.7036,  34.5090,2,   -999.0,9,-999.0000,9,   -999.0,9,  -999.00,9,  -999.00,9,  -999.00,9,  -999.00,9,  -999.00,9, -999.000,9, -999.000,9,  -999.00,9,   -999.0,9,   -999.0,9,-999.0000,9,   -999.0,  9,  -999.00,9,   -999.0,  -999.00,9,  -999.00,9,  -999.00,9,  -999.00,9,   -999.0,-999.0000, -999,9,  100,  13.6894,  25.8722,   -999.0,9
       KS02-10,  137E,KS-0627,  1,     17,02-16023,9,20021201,1735, 33.9647, 136.9878, 1186,    125.8,  12.5814,  34.4754,2,   -999.0,9,-999.0000,9,   -999.0,9,  -999.00,9,  -999.00,9,  -999.00,9,  -999.00,9,  -999.00,9, -999.000,9, -999.000,9,  -999.00,9,   -999.0,9,   -999.0,9,-999.0000,9,   -999.0,  9,  -999.00,9,   -999.0,  -999.00,9,  -999.00,9,  -999.00,9,  -999.00,9,   -999.0,-999.0000, -999,9,  125,  12.5646,  26.0726,   -999.0,9
       KS02-10,  137E,KS-0627,  1,     16,02-16022,2,20021201,1734, 33.9647, 136.9878, 1186,    125.3,  12.6159,  34.4741,2,   -999.0,9,-999.0000,9,    156.0,2,  -999.00,9,  -999.00,9,    17.35,2,     0.01,2,     1.19,2, -999.000,9, -999.000,9,  -999.00,9,   -999.0,9,   -999.0,9,-999.0000,9,   -999.0,  9,     7.89,2,   -999.0,  -999.00,9,  -999.00,9,     0.02,2,     0.08,2,   -999.0,-999.0000, -999,9,  124,  12.5991,  26.0648,   -999.0,9
       KS02-10,  137E,KS-0627,  1,     15,02-16021,2,20021201,1734, 33.9647, 136.9878, 1186,    151.5,  12.2019,  34.4578,2,   -999.0,9,-999.0000,9,    153.0,2,  -999.00,9,  -999.00,9,    18.32,2,     0.00,2,     1.25,2, -999.000,9, -999.000,9,  -999.00,9,   -999.0,9,   -999.0,9,-999.0000,9,   -999.0,  9,     7.88,2,   -999.0,  -999.00,9,  -999.00,9,     0.02,2,     0.07,2,   -999.0,-999.0000, -999,9,  150,  12.1821,  26.1331,   -999.0,9
       KS02-10,  137E,KS-0627,  1,     14,02-16020,2,20021201,1732, 33.9647, 136.9878, 1186,    201.4,  10.8359,  34.4005,2,   -999.0,9,  34.4014,2,    144.0,2,  -999.00,9,  -999.00,9,    21.34,2,     0.00,2,     1.47,2, -999.000,9, -999.000,9,  -999.00,9,   -999.0,9,   -999.0,9,-999.0000,9,   -999.0,  9,     7.83,2,   -999.0,  -999.00,9,  -999.00,9,     0.01,2,     0.05,2,   -999.0,-999.0000, -999,9,  200,  10.8115,  26.3425,   -999.0,9
       KS02-10,  137E,KS-0627,  1,     13,02-16019,2,20021201,1731, 33.9647, 136.9878, 1186,    251.3,  10.0296,  34.3666,2,   -999.0,9,-999.0000,9,    137.0,2,  -999.00,9,  -999.00,9,    23.38,2,     0.00,2,     1.62,2, -999.000,9, -999.000,9,  -999.00,9,   -999.0,9,   -999.0,9,-999.0000,9,   -999.0,  9,     7.79,2,   -999.0,  -999.00,9,  -999.00,9,     0.01,2,     0.05,2,   -999.0,-999.0000, -999,9,  249,  10.0005,  26.4572,   -999.0,9
       KS02-10,  137E,KS-0627,  1,     12,02-16018,2,20021201,1729, 33.9647, 136.9878, 1186,    301.9,   9.0556,  34.3304,2,   -999.0,9,  34.3319,2,   -999.0,9,  -999.00,9,  -999.00,9,    25.72,2,     0.00,2,     1.78,2, -999.000,9, -999.000,9,  -999.00,9,   -999.0,9,   -999.0,9,-999.0000,9,   -999.0,  9,     7.75,2,   -999.0,  -999.00,9,  -999.00,9,     0.01,2,     0.04,2,   -999.0,-999.0000, -999,9,  300,   9.0228,  26.5902,   -999.0,9
       KS02-10,  137E,KS-0627,  1,     11,02-16017,2,20021201,1727, 33.9647, 136.9878, 1186,    402.7,   7.4166,  34.2863,2,   -999.0,9,  34.2876,2,    110.0,2,  -999.00,9,  -999.00,9,    30.19,2,     0.00,2,     2.10,2, -999.000,9, -999.000,9,  -999.00,9,   -999.0,9,   -999.0,9,-999.0000,9,   -999.0,  9,     7.67,2,   -999.0,  -999.00,9,  -999.00,9,  -999.00,9,  -999.00,9,   -999.0,-999.0000, -999,9,  399,   7.3775,  26.8038,   -999.0,9
       KS02-10,  137E,KS-0627,  1,     10,02-16016,2,20021201,1725, 33.9647, 136.9878, 1186,    503.4,   6.6393,  34.2791,2,   -999.0,9,  34.2791,2,    101.0,2,  -999.00,9,  -999.00,9,    32.33,2,     0.00,2,     2.26,2, -999.000,9, -999.000,9,  -999.00,9,   -999.0,9,   -999.0,9,-999.0000,9,   -999.0,  9,     7.64,2,   -999.0,  -999.00,9,  -999.00,9,  -999.00,9,  -999.00,9,   -999.0,-999.0000, -999,9,  499,   6.5930,  26.9060,   -999.0,9
       KS02-10,  137E,KS-0627,  1,      9,02-16015,9,20021201,1723, 33.9647, 136.9878, 1186,    605.3,   5.8114,  34.2789,2,   -999.0,9,-999.0000,9,   -999.0,9,  -999.00,9,  -999.00,9,  -999.00,9,  -999.00,9,  -999.00,9, -999.000,9, -999.000,9,  -999.00,9,   -999.0,9,   -999.0,9,-999.0000,9,   -999.0,  9,  -999.00,9,   -999.0,  -999.00,9,  -999.00,9,  -999.00,9,  -999.00,9,   -999.0,-999.0000, -999,9,  600,   5.7592,  27.0130,   -999.0,9
       KS02-10,  137E,KS-0627,  1,      8,02-16014,9,20021201,1723, 33.9647, 136.9878, 1186,    604.6,   5.8377,  34.2782,2,   -999.0,9,-999.0000,9,   -999.0,9,  -999.00,9,  -999.00,9,  -999.00,9,  -999.00,9,  -999.00,9, -999.000,9, -999.000,9,  -999.00,9,   -999.0,9,   -999.0,9,-999.0000,9,   -999.0,  9,  -999.00,9,   -999.0,  -999.00,9,  -999.00,9,  -999.00,9,  -999.00,9,   -999.0,-999.0000, -999,9,  599,   5.7854,  27.0091,   -999.0,9
       KS02-10,  137E,KS-0627,  1,      7,02-16013,2,20021201,1722, 33.9647, 136.9878, 1186,    604.2,   5.8456,  34.2774,2,   -999.0,9,  34.2789,2,     90.0,2,  -999.00,9,  -999.00,9,    34.57,2,     0.00,2,     2.42,2, -999.000,9, -999.000,9,  -999.00,9,   -999.0,9,   -999.0,9,-999.0000,9,   -999.0,  9,     7.60,2,   -999.0,  -999.00,9,  -999.00,9,  -999.00,9,  -999.00,9,   -999.0,-999.0000, -999,9,  599,   5.7933,  27.0075,   -999.0,9
       KS02-10,  137E,KS-0627,  1,      6,02-16012,9,20021201,1720, 33.9647, 136.9878, 1186,    705.7,   4.8420,  34.3163,2,   -999.0,9,-999.0000,9,   -999.0,9,  -999.00,9,  -999.00,9,  -999.00,9,  -999.00,9,  -999.00,9, -999.000,9, -999.000,9,  -999.00,9,   -999.0,9,   -999.0,9,-999.0000,9,   -999.0,  9,  -999.00,9,   -999.0,  -999.00,9,  -999.00,9,  -999.00,9,  -999.00,9,   -999.0,-999.0000, -999,9,  699,   4.7858,  27.1576,   -999.0,9
       KS02-10,  137E,KS-0627,  1,      5,02-16011,2,20021201,1720, 33.9647, 136.9878, 1186,    704.8,   4.8438,  34.3156,2,   -999.0,9,  34.3168,2,     75.0,2,  -999.00,9,  -999.00,9,    37.29,2,     0.00,2,     2.62,2, -999.000,9, -999.000,9,  -999.00,9,   -999.0,9,   -999.0,9,-999.0000,9,   -999.0,  9,     7.55,2,   -999.0,  -999.00,9,  -999.00,9,  -999.00,9,  -999.00,9,   -999.0,-999.0000, -999,9,  699,   4.7877,  27.1568,   -999.0,9
       KS02-10,  137E,KS-0627,  1,      4,02-16010,2,20021201,1718, 33.9647, 136.9878, 1186,    805.9,   4.2487,  34.3599,2,   -999.0,9,  34.3605,2,     70.0,2,  -999.00,9,  -999.00,9,    38.55,2,     0.00,2,     2.73,2, -999.000,9, -999.000,9,  -999.00,9,   -999.0,9,   -999.0,9,-999.0000,9,   -999.0,  9,     7.53,2,   -999.0,  -999.00,9,  -999.00,9,  -999.00,9,  -999.00,9,   -999.0,-999.0000, -999,9,  799,   4.1875,  27.2574,   -999.0,9
       KS02-10,  137E,KS-0627,  1,      3,02-16009,2,20021201,1716, 33.9647, 136.9878, 1186,    907.2,   3.7034,  34.4086,2,   -999.0,9,  34.4094,2,   -999.0,9,  -999.00,9,  -999.00,9,    39.62,2,     0.00,2,     2.78,2, -999.000,9, -999.000,9,  -999.00,9,   -999.0,9,   -999.0,9,-999.0000,9,   -999.0,  9,     7.53,2,   -999.0,  -999.00,9,  -999.00,9,  -999.00,9,  -999.00,9,   -999.0,-999.0000, -999,9,  899,   3.6376,  27.3524,   -999.0,9
       KS02-10,  137E,KS-0627,  1,      2,02-16008,2,20021201,1713, 33.9647, 136.9878, 1186,   1089.0,   3.1924,  34.4603,2,   -999.0,9,  34.4602,2,     72.0,2,  -999.00,9,  -999.00,9,    39.90,2,     0.00,2,     2.81,2, -999.000,9, -999.000,9,  -999.00,9,   -999.0,9,   -999.0,9,-999.0000,9,   -999.0,  9,     7.53,2,   -999.0,  -999.00,9,  -999.00,9,  -999.00,9,  -999.00,9,   -999.0,-999.0000, -999,9, 1078,   3.1162,  27.4435,   -999.0,9
       KS02-10,  137E,KS-0627,  1,      1,02-16007,9,20021201,1713, 33.9647, 136.9878, 1186,   1089.3,   3.1919,  34.4604,2,   -999.0,9,-999.0000,9,   -999.0,9,  -999.00,9,  -999.00,9,  -999.00,9,  -999.00,9,  -999.00,9, -999.000,9, -999.000,9,  -999.00,9,   -999.0,9,   -999.0,9,-999.0000,9,   -999.0,  9,  -999.00,9,   -999.0,  -999.00,9,  -999.00,9,  -999.00,9,  -999.00,9,   -999.0,-999.0000, -999,9, 1079,   3.1156,  27.4437,   -999.0,9