BOTTLE,20130510GEMDJMAYT
EXPOCODE,SECT_ID,STNNBR,CASTNO,SAMPNO,BTLNBR,BTLNBR_FLAG_W,DATE,TIME,LATITUDE,LONGITUDE,DEPTH,CTDPRS,CTDTMP,CTDSAL,CTDSAL_FLAG_W,CTDOXY,CTDOXY_FLAG_W,SALNTY,SALNTY_FLAG_W,OXYGEN,OXYGEN_FLAG_W,SILCAT,SILCAT_FLAG_W,NITRAT,NITRAT_FLAG_W,NO2+NO3,NO2+NO3_FLAG_W,NITRIT,NITRIT_FLAG_W,PHSPHT,PHSPHT_FLAG_W,CFC-11,CFC-11_FLAG_W,CFC-12,CFC-12_FLAG_W,DELC13,DELC13_FLAG_W,TCARBN,TCARBN_FLAG_W,ALKALI,ALKALI_FLAG_W,PH,PH_FLAG_W,PH_TMP,PH_SCALE,PH_NBS,PH_NBS_FLAG_W,C13ERR,TOTALP,TOTALP_FLAG_W,AMMONI,AMMONI_FLAG_W,CHLORA,CHLORA_FLAG_W,PPHYTN,PPHYTN_FLAG_W,REVPRS,REVTMP,DEPTH_,DEPTH_FLAG,CTDDEP,THETA,SIGTHT,DOC,DOC_FLAG_W
,,,,,,,GMT,GMT,,,METER,DBAR,ITS-90,PSS-78,,UMOL/KG,,PSS-78,,UMOL/KG,,UMOL/KG,,UMOL/KG,,UMOL/KG,,UMOL/KG,,UMOL/KG,,PMOL/KG,,PMOL/KG,,/MILLE,,UMOL/KG,,UMOL/KG,,25_DEG_C,,DEG_C,,,,/MILLE,UMOL/KG,,UMOL/KG,,UG/L,,UG/L,,DBAR,ITS-90,METERS,,METERS,DEG_C,,UMOL/L,
       KS02-10,  137E,KS-0621,  1,     24,02-16030,2,20021130,2158, 32.0160, 136.9775, 4242,      4.4,  22.0125,  34.8461,2,   -999.0,9,  34.8460,2,    216.0,2,  -999.00,9,  -999.00,9,     0.00,2,     0.01,2,     0.00,2, -999.000,9, -999.000,9,  -999.00,9,   1966.6,4,   -999.0,9,-999.0000,9,   -999.0,  9,     8.18,2,   -999.0,  -999.00,9,  -999.00,9,     0.17,2,     0.16,2,   -999.0,-999.0000, -999,9,    4,  22.0116,  24.0976,   -999.0,9
       KS02-10,  137E,KS-0621,  1,     23,02-16029,2,20021130,2156, 32.0160, 136.9775, 4242,      9.6,  22.0246,  34.8506,2,   -999.0,9,-999.0000,9,    216.0,2,  -999.00,9,  -999.00,9,     0.00,2,     0.01,2,     0.00,2, -999.000,9, -999.000,9,  -999.00,9,   1968.4,4,   -999.0,9,-999.0000,9,   -999.0,  9,     8.20,2,   -999.0,  -999.00,9,  -999.00,9,     0.22,2,     0.19,2,   -999.0,-999.0000, -999,9,   10,  22.0227,  24.0979,   -999.0,9
       KS02-10,  137E,KS-0621,  1,     22,02-16028,2,20021130,2155, 32.0160, 136.9775, 4242,     24.6,  22.0531,  34.8644,2,   -999.0,9,-999.0000,9,    215.0,2,  -999.00,9,  -999.00,9,     0.00,2,     0.01,2,     0.00,2, -999.000,9, -999.000,9,  -999.00,9,   1967.1,4,   -999.0,9,-999.0000,9,   -999.0,  9,     8.19,2,   -999.0,  -999.00,9,  -999.00,9,     0.21,2,     0.18,2,   -999.0,-999.0000, -999,9,   24,  22.0482,  24.1012,   -999.0,9
       KS02-10,  137E,KS-0621,  1,     21,02-16027,2,20021130,2151, 32.0160, 136.9775, 4242,     50.0,  22.0720,  34.8767,2,   -999.0,9,-999.0000,9,    215.0,2,  -999.00,9,  -999.00,9,     0.00,2,     0.00,2,     0.00,2, -999.000,9, -999.000,9,  -999.00,9,   1967.0,4,   -999.0,9,-999.0000,9,   -999.0,  9,     8.19,2,   -999.0,  -999.00,9,  -999.00,9,     0.20,2,     0.18,2,   -999.0,-999.0000, -999,9,   50,  22.0621,  24.1068,   -999.0,9
       KS02-10,  137E,KS-0621,  1,     20,02-16026,2,20021130,2150, 32.0160, 136.9775, 4242,     75.1,  22.0744,  34.8824,2,   -999.0,9,-999.0000,9,    216.0,2,  -999.00,9,  -999.00,9,     0.00,2,     0.00,2,     0.00,2, -999.000,9, -999.000,9,  -999.00,9,   1968.0,4,   -999.0,9,-999.0000,9,   -999.0,  9,     8.19,2,   -999.0,  -999.00,9,  -999.00,9,     0.20,2,     0.15,2,   -999.0,-999.0000, -999,9,   75,  22.0595,  24.1118,   -999.0,9
       KS02-10,  137E,KS-0621,  1,     19,02-16025,4,20021130,2148, 32.0160, 136.9775, 4242,     99.7,  22.0494,  34.8824,2,   -999.0,9,-999.0000,9,   -999.0,9,  -999.00,9,  -999.00,9,  -999.00,9,  -999.00,9,  -999.00,9, -999.000,9, -999.000,9,  -999.00,9,   -999.0,9,   -999.0,9,-999.0000,9,   -999.0,  9,  -999.00,9,   -999.0,  -999.00,9,  -999.00,9,  -999.00,9,  -999.00,9,   -999.0,-999.0000, -999,9,   99,  22.0297,  24.1201,   -999.0,9
       KS02-10,  137E,KS-0621,  1,     18,02-16024,4,20021130,2147, 32.0160, 136.9775, 4242,    125.7,  19.8953,  34.8259,2,   -999.0,9,-999.0000,9,   -999.0,9,  -999.00,9,  -999.00,9,  -999.00,9,  -999.00,9,  -999.00,9, -999.000,9, -999.000,9,  -999.00,9,   -999.0,9,   -999.0,9,-999.0000,9,   -999.0,  9,  -999.00,9,   -999.0,  -999.00,9,  -999.00,9,  -999.00,9,  -999.00,9,   -999.0,-999.0000, -999,9,  125,  19.8722,  24.6626,   -999.0,9
       KS02-10,  137E,KS-0621,  1,     17,02-16023,4,20021130,2146, 32.0160, 136.9775, 4242,    150.6,  19.0379,  34.8072,2,   -999.0,9,-999.0000,9,   -999.0,9,  -999.00,9,  -999.00,9,  -999.00,9,  -999.00,9,  -999.00,9, -999.000,9, -999.000,9,  -999.00,9,   -999.0,9,   -999.0,9,-999.0000,9,   -999.0,  9,  -999.00,9,   -999.0,  -999.00,9,  -999.00,9,  -999.00,9,  -999.00,9,   -999.0,-999.0000, -999,9,  150,  19.0111,  24.8710,   -999.0,9
       KS02-10,  137E,KS-0621,  1,     16,02-16022,2,20021130,2144, 32.0160, 136.9775, 4242,    201.9,  18.2918,  34.7769,2,   -999.0,9,  34.7748,4,    207.0,2,  -999.00,9,  -999.00,9,     3.51,2,     0.00,2,     0.21,2, -999.000,9, -999.000,9,  -999.00,9,   2015.2,2,   -999.0,9,-999.0000,9,   -999.0,  9,     8.11,2,   -999.0,  -999.00,9,  -999.00,9,     0.00,2,     0.01,2,   -999.0,-999.0000, -999,9,  200,  18.2568,  25.0377,   -999.0,9
       KS02-10,  137E,KS-0621,  1,     15,02-16021,2,20021130,2143, 32.0160, 136.9775, 4242,    251.2,  17.7226,  34.7544,2,   -999.0,9,-999.0000,9,    201.0,2,  -999.00,9,  -999.00,9,     4.78,2,     0.00,2,     0.30,2, -999.000,9, -999.000,9,  -999.00,9,   2027.8,2,   -999.0,9,-999.0000,9,   -999.0,  9,     8.09,2,   -999.0,  -999.00,9,  -999.00,9,     0.00,2,     0.01,2,   -999.0,-999.0000, -999,9,  249,  17.6799,  25.1623,   -999.0,9
       KS02-10,  137E,KS-0621,  1,     14,02-16020,2,20021130,2141, 32.0160, 136.9775, 4242,    301.4,  16.9210,  34.7194,2,   -999.0,9,  34.7186,2,    197.0,2,  -999.00,9,  -999.00,9,     6.34,2,     0.00,2,     0.40,2, -999.000,9, -999.000,9,  -999.00,9,   -999.0,9,   -999.0,9,-999.0000,9,   -999.0,  9,  -999.00,9,   -999.0,  -999.00,9,  -999.00,9,     0.00,2,     0.01,2,   -999.0,-999.0000, -999,9,  299,  16.8714,  25.3293,   -999.0,9
       KS02-10,  137E,KS-0621,  1,     13,02-16019,2,20021130,2138, 32.0160, 136.9775, 4242,    401.8,  15.2003,  34.6229,2,   -999.0,9,  34.6207,2,    186.0,2,  -999.00,9,  -999.00,9,    10.04,2,     0.00,2,     0.64,2, -999.000,9, -999.000,9,  -999.00,9,   -999.0,9,   -999.0,9,-999.0000,9,   -999.0,  9,  -999.00,9,   -999.0,  -999.00,9,  -999.00,9,  -999.00,9,  -999.00,9,   -999.0,-999.0000, -999,9,  399,  15.1387,  25.6507,   -999.0,9
       KS02-10,  137E,KS-0621,  1,     12,02-16018,2,20021130,2136, 32.0160, 136.9775, 4242,    502.0,  12.8909,  34.4537,2,   -999.0,9,  34.4526,2,    186.0,2,  -999.00,9,  -999.00,9,    13.65,2,     0.00,2,     0.92,2, -999.000,9, -999.000,9,  -999.00,9,   -999.0,9,   -999.0,9,-999.0000,9,   -999.0,  9,  -999.00,9,   -999.0,  -999.00,9,  -999.00,9,  -999.00,9,  -999.00,9,   -999.0,-999.0000, -999,9,  498,  12.8218,  26.0051,   -999.0,9
       KS02-10,  137E,KS-0621,  1,     11,02-16017,2,20021130,2133, 32.0160, 136.9775, 4242,    603.1,  10.2645,  34.2959,2,   -999.0,9,  34.2958,2,    160.0,2,  -999.00,9,  -999.00,9,    20.56,2,     0.00,2,     1.41,2, -999.000,9, -999.000,9,  -999.00,9,   -999.0,9,   -999.0,9,-999.0000,9,   -999.0,  9,  -999.00,9,   -999.0,  -999.00,9,  -999.00,9,  -999.00,9,  -999.00,9,   -999.0,-999.0000, -999,9,  598,  10.1925,  26.3692,   -999.0,9
       KS02-10,  137E,KS-0621,  1,     10,02-16016,2,20021130,2130, 32.0160, 136.9775, 4242,    705.1,   8.0594,  34.2026,2,   -999.0,9,  34.2021,2,    135.0,2,  -999.00,9,  -999.00,9,    26.69,2,     0.00,2,     1.85,2, -999.000,9, -999.000,9,  -999.00,9,   -999.0,9,   -999.0,9,-999.0000,9,   -999.0,  9,  -999.00,9,   -999.0,  -999.00,9,  -999.00,9,  -999.00,9,  -999.00,9,   -999.0,-999.0000, -999,9,  699,   7.9863,  26.6496,   -999.0,9
       KS02-10,  137E,KS-0621,  1,      9,02-16015,9,20021130,2127, 32.0160, 136.9775, 4242,    806.7,   6.4698,  34.2049,2,   -999.0,9,-999.0000,9,   -999.0,9,  -999.00,9,  -999.00,9,  -999.00,9,  -999.00,9,  -999.00,9, -999.000,9, -999.000,9,  -999.00,9,   -999.0,9,   -999.0,9,-999.0000,9,   -999.0,  9,  -999.00,9,   -999.0,  -999.00,9,  -999.00,9,  -999.00,9,  -999.00,9,   -999.0,-999.0000, -999,9,  800,   6.3951,  26.8736,   -999.0,9
       KS02-10,  137E,KS-0621,  1,      8,02-16014,4,20021130,2127, 32.0160, 136.9775, 4242,    805.5,   6.4933,  34.2049,2,   -999.0,9,-999.0000,9,   -999.0,9,  -999.00,9,  -999.00,9,  -999.00,9,  -999.00,9,  -999.00,9, -999.000,9, -999.000,9,  -999.00,9,   -999.0,9,   -999.0,9,-999.0000,9,   -999.0,  9,  -999.00,9,   -999.0,  -999.00,9,  -999.00,9,  -999.00,9,  -999.00,9,   -999.0,-999.0000, -999,9,  798,   6.4186,  26.8705,   -999.0,9
       KS02-10,  137E,KS-0621,  1,      7,02-16013,4,20021130,2125, 32.0160, 136.9775, 4242,    906.6,   4.9896,  34.2445,2,   -999.0,9,-999.0000,9,   -999.0,9,  -999.00,9,  -999.00,9,  -999.00,9,  -999.00,9,  -999.00,9, -999.000,9, -999.000,9,  -999.00,9,   -999.0,9,   -999.0,9,-999.0000,9,   -999.0,  9,  -999.00,9,   -999.0,  -999.00,9,  -999.00,9,  -999.00,9,  -999.00,9,   -999.0,-999.0000, -999,9,  898,   4.9151,  27.0860,   -999.0,9
       KS02-10,  137E,KS-0621,  1,      6,02-16012,9,20021130,2122, 32.0160, 136.9775, 4242,   1009.2,   4.2702,  34.3257,2,   -999.0,9,-999.0000,9,   -999.0,9,  -999.00,9,  -999.00,9,  -999.00,9,  -999.00,9,  -999.00,9, -999.000,9, -999.000,9,  -999.00,9,   -999.0,9,   -999.0,9,-999.0000,9,   -999.0,  9,  -999.00,9,   -999.0,  -999.00,9,  -999.00,9,  -999.00,9,  -999.00,9,   -999.0,-999.0000, -999,9, 1000,   4.1920,  27.2297,   -999.0,9
       KS02-10,  137E,KS-0621,  1,      5,02-16011,4,20021130,2122, 32.0160, 136.9775, 4242,   1008.0,   4.2755,  34.3251,2,   -999.0,9,-999.0000,9,   -999.0,9,  -999.00,9,  -999.00,9,  -999.00,9,  -999.00,9,  -999.00,9, -999.000,9, -999.000,9,  -999.00,9,   -999.0,9,   -999.0,9,-999.0000,9,   -999.0,  9,  -999.00,9,   -999.0,  -999.00,9,  -999.00,9,  -999.00,9,  -999.00,9,   -999.0,-999.0000, -999,9,  999,   4.1973,  27.2287,   -999.0,9
       KS02-10,  137E,KS-0621,  1,      4,02-16010,2,20021130,2117, 32.0160, 136.9775, 4242,   1261.2,   3.3003,  34.4343,2,   -999.0,9,  34.4416,4,     64.0,2,  -999.00,9,  -999.00,9,    40.20,2,     0.00,2,     2.82,2, -999.000,9, -999.000,9,  -999.00,9,   -999.0,9,   -999.0,9,-999.0000,9,   -999.0,  9,  -999.00,9,   -999.0,  -999.00,9,  -999.00,9,  -999.00,9,  -999.00,9,   -999.0,-999.0000, -999,9, 1249,   3.2093,  27.4141,   -999.0,9
       KS02-10,  137E,KS-0621,  1,      3,02-16009,2,20021130,2111, 32.0160, 136.9775, 4242,   1514.9,   2.7467,  34.5082,2,   -999.0,9,  34.5060,2,     76.0,2,  -999.00,9,  -999.00,9,    39.90,2,     0.00,2,     2.75,2, -999.000,9, -999.000,9,  -999.00,9,   -999.0,9,   -999.0,9,-999.0000,9,   -999.0,  9,  -999.00,9,   -999.0,  -999.00,9,  -999.00,9,  -999.00,9,  -999.00,9,   -999.0,-999.0000, -999,9, 1499,   2.6407,  27.5245,   -999.0,9
       KS02-10,  137E,KS-0621,  1,      2,02-16008,2,20021130,2106, 32.0160, 136.9775, 4242,   1767.5,   2.3427,  34.5576,2,   -999.0,9,  34.5563,2,     90.0,2,  -999.00,9,  -999.00,9,    39.41,2,     0.00,2,     2.72,2, -999.000,9, -999.000,9,  -999.00,9,   -999.0,9,   -999.0,9,-999.0000,9,   -999.0,  9,  -999.00,9,   -999.0,  -999.00,9,  -999.00,9,  -999.00,9,  -999.00,9,   -999.0,-999.0000, -999,9, 1748,   2.2209,  27.5995,   -999.0,9
       KS02-10,  137E,KS-0621,  1,      1,02-16007,4,20021130,2101, 32.0160, 136.9775, 4242,   2025.9,   2.0492,  34.5984,2,   -999.0,9,-999.0000,9,   -999.0,9,  -999.00,9,  -999.00,9,  -999.00,9,  -999.00,9,  -999.00,9, -999.000,9, -999.000,9,  -999.00,9,   -999.0,9,   -999.0,9,-999.0000,9,   -999.0,  9,  -999.00,9,   -999.0,  -999.00,9,  -999.00,9,  -999.00,9,  -999.00,9,   -999.0,-999.0000, -999,9, 2002,   1.9099,  27.6570,   -999.0,9