BOTTLE,20130510GEMDJMAYT
EXPOCODE,SECT_ID,STNNBR,CASTNO,SAMPNO,BTLNBR,BTLNBR_FLAG_W,DATE,TIME,LATITUDE,LONGITUDE,DEPTH,CTDPRS,CTDTMP,CTDSAL,CTDSAL_FLAG_W,CTDOXY,CTDOXY_FLAG_W,SALNTY,SALNTY_FLAG_W,OXYGEN,OXYGEN_FLAG_W,SILCAT,SILCAT_FLAG_W,NITRAT,NITRAT_FLAG_W,NO2+NO3,NO2+NO3_FLAG_W,NITRIT,NITRIT_FLAG_W,PHSPHT,PHSPHT_FLAG_W,CFC-11,CFC-11_FLAG_W,CFC-12,CFC-12_FLAG_W,DELC13,DELC13_FLAG_W,TCARBN,TCARBN_FLAG_W,ALKALI,ALKALI_FLAG_W,PH,PH_FLAG_W,PH_TMP,PH_SCALE,PH_NBS,PH_NBS_FLAG_W,C13ERR,TOTALP,TOTALP_FLAG_W,AMMONI,AMMONI_FLAG_W,CHLORA,CHLORA_FLAG_W,PPHYTN,PPHYTN_FLAG_W,REVPRS,REVTMP,DEPTH_,DEPTH_FLAG,CTDDEP,THETA,SIGTHT,DOC,DOC_FLAG_W
,,,,,,,GMT,GMT,,,METER,DBAR,ITS-90,PSS-78,,UMOL/KG,,PSS-78,,UMOL/KG,,UMOL/KG,,UMOL/KG,,UMOL/KG,,UMOL/KG,,UMOL/KG,,PMOL/KG,,PMOL/KG,,/MILLE,,UMOL/KG,,UMOL/KG,,25_DEG_C,,DEG_C,,,,/MILLE,UMOL/KG,,UMOL/KG,,UG/L,,UG/L,,DBAR,ITS-90,METERS,,METERS,DEG_C,,UMOL/L,
       KS02-10,  137E,KS-0607,  1,     24,02-16030,2,20021125,2327, 14.9627, 136.9530, 5394,      4.3,  28.4269,  34.8341,2,   -999.0,9,  34.8347,2,    199.0,2,  -999.00,9,  -999.00,9,     0.00,2,     0.00,2,     0.00,2, -999.000,9, -999.000,9,  -999.00,9,   -999.0,9,   -999.0,9,-999.0000,9,   -999.0,  9,  -999.00,9,   -999.0,  -999.00,9,  -999.00,9,     0.08,2,     0.03,2,   -999.0,-999.0000, -999,9,    4,  28.4259,  22.1301,   -999.0,9
       KS02-10,  137E,KS-0607,  1,     23,02-16029,2,20021125,2326, 14.9627, 136.9530, 5394,      9.9,  28.4311,  34.8337,2,   -999.0,9,-999.0000,9,    197.0,2,  -999.00,9,  -999.00,9,     0.00,2,     0.00,2,     0.00,2, -999.000,9, -999.000,9,  -999.00,9,   -999.0,9,   -999.0,9,-999.0000,9,   -999.0,  9,  -999.00,9,   -999.0,  -999.00,9,  -999.00,9,     0.08,2,     0.04,2,   -999.0,-999.0000, -999,9,   10,  28.4287,  22.1288,   -999.0,9
       KS02-10,  137E,KS-0607,  1,     22,02-16028,2,20021125,2324, 14.9627, 136.9530, 5394,     25.4,  28.4228,  34.8335,2,   -999.0,9,-999.0000,9,    197.0,2,  -999.00,9,  -999.00,9,     0.00,2,     0.00,2,     0.00,2, -999.000,9, -999.000,9,  -999.00,9,   -999.0,9,   -999.0,9,-999.0000,9,   -999.0,  9,  -999.00,9,   -999.0,  -999.00,9,  -999.00,9,     0.08,2,     0.04,2,   -999.0,-999.0000, -999,9,   25,  28.4167,  22.1327,   -999.0,9
       KS02-10,  137E,KS-0607,  1,     21,02-16027,2,20021125,2322, 14.9627, 136.9530, 5394,     51.7,  28.4309,  34.8332,2,   -999.0,9,-999.0000,9,    197.0,2,  -999.00,9,  -999.00,9,     0.00,2,     0.00,2,     0.00,2, -999.000,9, -999.000,9,  -999.00,9,   -999.0,9,   -999.0,9,-999.0000,9,   -999.0,  9,  -999.00,9,   -999.0,  -999.00,9,  -999.00,9,     0.10,2,     0.04,2,   -999.0,-999.0000, -999,9,   51,  28.4186,  22.1319,   -999.0,9
       KS02-10,  137E,KS-0607,  1,     20,02-16026,2,20021125,2320, 14.9627, 136.9530, 5394,     75.9,  28.4120,  34.8363,2,   -999.0,9,-999.0000,9,    197.0,2,  -999.00,9,  -999.00,9,     0.00,2,     0.00,2,     0.00,2, -999.000,9, -999.000,9,  -999.00,9,   -999.0,9,   -999.0,9,-999.0000,9,   -999.0,  9,  -999.00,9,   -999.0,  -999.00,9,  -999.00,9,     0.12,2,     0.06,2,   -999.0,-999.0000, -999,9,   75,  28.3939,  22.1423,   -999.0,9
       KS02-10,  137E,KS-0607,  1,     19,02-16025,9,20021125,2314, 14.9627, 136.9530, 5394,    101.8,  25.2910,  35.0637,2,   -999.0,9,-999.0000,9,   -999.0,9,  -999.00,9,  -999.00,9,  -999.00,9,  -999.00,9,  -999.00,9, -999.000,9, -999.000,9,  -999.00,9,   -999.0,9,   -999.0,9,-999.0000,9,   -999.0,  9,  -999.00,9,   -999.0,  -999.00,9,  -999.00,9,  -999.00,9,  -999.00,9,   -999.0,-999.0000, -999,9,  101,  25.2687,  23.3073,   -999.0,9
       KS02-10,  137E,KS-0607,  1,     18,02-16024,2,20021125,2314, 14.9627, 136.9530, 5394,    100.5,  25.3223,  35.0616,2,   -999.0,9,  35.0646,2,    198.0,2,  -999.00,9,  -999.00,9,     0.00,2,     0.00,2,     0.02,2, -999.000,9, -999.000,9,  -999.00,9,   -999.0,9,   -999.0,9,-999.0000,9,   -999.0,  9,  -999.00,9,   -999.0,  -999.00,9,  -999.00,9,     0.19,2,     0.30,2,   -999.0,-999.0000, -999,9,  100,  25.3003,  23.2961,   -999.0,9
       KS02-10,  137E,KS-0607,  1,     17,02-16023,2,20021125,2313, 14.9627, 136.9530, 5394,    125.8,  22.6312,  35.0235,2,   -999.0,9,-999.0000,9,    182.0,2,  -999.00,9,  -999.00,9,     1.46,2,     0.02,2,     0.14,2, -999.000,9, -999.000,9,  -999.00,9,   -999.0,9,   -999.0,9,-999.0000,9,   -999.0,  9,  -999.00,9,   -999.0,  -999.00,9,  -999.00,9,     0.08,2,     0.34,2,   -999.0,-999.0000, -999,9,  125,  22.6058,  24.0644,   -999.0,9
       KS02-10,  137E,KS-0607,  1,     16,02-16022,2,20021125,2312, 14.9627, 136.9530, 5394,    151.2,  20.0713,  34.9048,2,   -999.0,9,-999.0000,9,    187.0,2,  -999.00,9,  -999.00,9,     2.93,2,     0.00,2,     0.21,2, -999.000,9, -999.000,9,  -999.00,9,   -999.0,9,   -999.0,9,-999.0000,9,   -999.0,  9,  -999.00,9,   -999.0,  -999.00,9,  -999.00,9,     0.02,2,     0.05,2,   -999.0,-999.0000, -999,9,  150,  20.0433,  24.6777,   -999.0,9
       KS02-10,  137E,KS-0607,  1,     15,02-16021,4,20021125,2310, 14.9627, 136.9530, 5394,    200.9,  17.3318,  34.7449,2,   -999.0,9,-999.0000,9,   -999.0,9,  -999.00,9,  -999.00,9,  -999.00,9,  -999.00,9,  -999.00,9, -999.000,9, -999.000,9,  -999.00,9,   -999.0,9,   -999.0,9,-999.0000,9,   -999.0,  9,  -999.00,9,   -999.0,  -999.00,9,  -999.00,9,  -999.00,9,  -999.00,9,   -999.0,-999.0000, -999,9,  200,  17.2983,  25.2472,   -999.0,9
       KS02-10,  137E,KS-0607,  1,     14,02-16020,2,20021125,2308, 14.9627, 136.9530, 5394,    250.4,  15.1546,  34.6040,2,   -999.0,9,-999.0000,9,    190.0,2,  -999.00,9,  -999.00,9,     9.07,2,     0.00,2,     0.60,2, -999.000,9, -999.000,9,  -999.00,9,   -999.0,9,   -999.0,9,-999.0000,9,   -999.0,  9,  -999.00,9,   -999.0,  -999.00,9,  -999.00,9,     0.00,2,     0.01,2,   -999.0,-999.0000, -999,9,  249,  15.1165,  25.6410,   -999.0,9
       KS02-10,  137E,KS-0607,  1,     13,02-16019,4,20021125,2307, 14.9627, 136.9530, 5394,    302.4,  12.7096,  34.4194,2,   -999.0,9,-999.0000,9,   -999.0,9,  -999.00,9,  -999.00,9,  -999.00,9,  -999.00,9,  -999.00,9, -999.000,9, -999.000,9,  -999.00,9,   -999.0,9,   -999.0,9,-999.0000,9,   -999.0,  9,  -999.00,9,   -999.0,  -999.00,9,  -999.00,9,  -999.00,9,  -999.00,9,   -999.0,-999.0000, -999,9,  300,  12.6687,  26.0087,   -999.0,9
       KS02-10,  137E,KS-0607,  1,     12,02-16018,2,20021125,2304, 14.9627, 136.9530, 5394,    402.5,   8.9134,  34.2449,2,   -999.0,9,  34.2499,4,    119.0,2,  -999.00,9,  -999.00,9,    26.50,2,     0.00,2,     1.87,2, -999.000,9, -999.000,9,  -999.00,9,   -999.0,9,   -999.0,9,-999.0000,9,   -999.0,  9,  -999.00,9,   -999.0,  -999.00,9,  -999.00,9,  -999.00,9,  -999.00,9,   -999.0,-999.0000, -999,9,  400,   8.8698,  26.5475,   -999.0,9
       KS02-10,  137E,KS-0607,  1,     11,02-16017,2,20021125,2301, 14.9627, 136.9530, 5394,    503.2,   7.1553,  34.3390,2,   -999.0,9,  34.3386,2,     70.0,2,  -999.00,9,  -999.00,9,    34.38,2,     0.00,2,     2.43,2, -999.000,9, -999.000,9,  -999.00,9,   -999.0,9,   -999.0,9,-999.0000,9,   -999.0,  9,  -999.00,9,   -999.0,  -999.00,9,  -999.00,9,  -999.00,9,  -999.00,9,   -999.0,-999.0000, -999,9,  500,   7.1071,  26.8833,   -999.0,9
       KS02-10,  137E,KS-0607,  1,     10,02-16016,2,20021125,2259, 14.9627, 136.9530, 5394,    603.4,   6.1706,  34.4159,2,   -999.0,9,  34.4149,2,     67.0,2,  -999.00,9,  -999.00,9,    36.71,2,     0.00,2,     2.59,2, -999.000,9, -999.000,9,  -999.00,9,   -999.0,9,   -999.0,9,-999.0000,9,   -999.0,  9,  -999.00,9,   -999.0,  -999.00,9,  -999.00,9,  -999.00,9,  -999.00,9,   -999.0,-999.0000, -999,9,  599,   6.1167,  27.0762,   -999.0,9
       KS02-10,  137E,KS-0607,  1,      9,02-16015,4,20021125,2256, 14.9627, 136.9530, 5394,    703.4,   5.4939,  34.4532,2,   -999.0,9,-999.0000,9,   -999.0,9,  -999.00,9,  -999.00,9,  -999.00,9,  -999.00,9,  -999.00,9, -999.000,9, -999.000,9,  -999.00,9,   -999.0,9,   -999.0,9,-999.0000,9,   -999.0,  9,  -999.00,9,   -999.0,  -999.00,9,  -999.00,9,  -999.00,9,  -999.00,9,   -999.0,-999.0000, -999,9,  698,   5.4342,  27.1905,   -999.0,9
       KS02-10,  137E,KS-0607,  1,      8,02-16014,2,20021125,2254, 14.9627, 136.9530, 5394,    805.4,   4.9115,  34.4962,2,   -999.0,9,  34.4995,2,     81.0,2,  -999.00,9,  -999.00,9,    38.06,2,     0.00,2,     2.67,2, -999.000,9, -999.000,9,  -999.00,9,   -999.0,9,   -999.0,9,-999.0000,9,   -999.0,  9,  -999.00,9,   -999.0,  -999.00,9,  -999.00,9,  -999.00,9,  -999.00,9,   -999.0,-999.0000, -999,9,  799,   4.8461,  27.2935,   -999.0,9
       KS02-10,  137E,KS-0607,  1,      7,02-17642,2,20021125,2251, 14.9627, 136.9530, 5394,    904.9,   4.4100,  34.5216,2,   -999.0,9,  34.5207,2,     83.0,2,  -999.00,9,  -999.00,9,    38.25,2,     0.00,2,     2.69,2, -999.000,9, -999.000,9,  -999.00,9,   -999.0,9,   -999.0,9,-999.0000,9,   -999.0,  9,  -999.00,9,   -999.0,  -999.00,9,  -999.00,9,  -999.00,9,  -999.00,9,   -999.0,-999.0000, -999,9,  898,   4.3393,  27.3698,   -999.0,9
       KS02-10,  137E,KS-0607,  1,      6,02-16012,9,20021125,2249, 14.9627, 136.9530, 5394,   1008.8,   4.0166,  34.5380,2,   -999.0,9,-999.0000,9,   -999.0,9,  -999.00,9,  -999.00,9,  -999.00,9,  -999.00,9,  -999.00,9, -999.000,9, -999.000,9,  -999.00,9,   -999.0,9,   -999.0,9,-999.0000,9,   -999.0,  9,  -999.00,9,   -999.0,  -999.00,9,  -999.00,9,  -999.00,9,  -999.00,9,   -999.0,-999.0000, -999,9, 1000,   3.9400,  27.4249,   -999.0,9
       KS02-10,  137E,KS-0607,  1,      5,02-16011,2,20021125,2249, 14.9627, 136.9530, 5394,   1008.2,   4.0136,  34.5380,2,   -999.0,9,  34.5364,2,     87.0,2,  -999.00,9,  -999.00,9,    38.45,2,     0.00,2,     2.71,2, -999.000,9, -999.000,9,  -999.00,9,   -999.0,9,   -999.0,9,-999.0000,9,   -999.0,  9,  -999.00,9,   -999.0,  -999.00,9,  -999.00,9,  -999.00,9,  -999.00,9,   -999.0,-999.0000, -999,9, 1000,   3.9371,  27.4251,   -999.0,9
       KS02-10,  137E,KS-0607,  1,      4,02-16010,4,20021125,2244, 14.9627, 136.9530, 5394,   1260.9,   3.2419,  34.5664,2,   -999.0,9,-999.0000,9,   -999.0,9,  -999.00,9,  -999.00,9,  -999.00,9,  -999.00,9,  -999.00,9, -999.000,9, -999.000,9,  -999.00,9,   -999.0,9,   -999.0,9,-999.0000,9,   -999.0,  9,  -999.00,9,   -999.0,  -999.00,9,  -999.00,9,  -999.00,9,  -999.00,9,   -999.0,-999.0000, -999,9, 1250,   3.1512,  27.5250,   -999.0,9
       KS02-10,  137E,KS-0607,  1,      3,02-16009,2,20021125,2239, 14.9627, 136.9530, 5394,   1512.6,   2.6673,  34.5925,2,   -999.0,9,  34.5916,2,    101.0,2,  -999.00,9,  -999.00,9,    38.54,2,     0.00,2,     2.72,2, -999.000,9, -999.000,9,  -999.00,9,   -999.0,9,   -999.0,9,-999.0000,9,   -999.0,  9,  -999.00,9,   -999.0,  -999.00,9,  -999.00,9,  -999.00,9,  -999.00,9,   -999.0,-999.0000, -999,9, 1498,   2.5622,  27.5988,   -999.0,9
       KS02-10,  137E,KS-0607,  1,      2,02-16008,2,20021125,2234, 14.9627, 136.9530, 5394,   1766.7,   2.3039,  34.6152,2,   -999.0,9,  34.6199,4,    108.0,2,  -999.00,9,  -999.00,9,    38.44,2,     0.00,2,     2.67,2, -999.000,9, -999.000,9,  -999.00,9,   -999.0,9,   -999.0,9,-999.0000,9,   -999.0,  9,  -999.00,9,   -999.0,  -999.00,9,  -999.00,9,  -999.00,9,  -999.00,9,   -999.0,-999.0000, -999,9, 1749,   2.1825,  27.6487,   -999.0,9
       KS02-10,  137E,KS-0607,  1,      1,02-16007,4,20021125,2228, 14.9627, 136.9530, 5394,   2021.4,   2.0422,  34.6327,2,   -999.0,9,-999.0000,9,   -999.0,9,  -999.00,9,  -999.00,9,  -999.00,9,  -999.00,9,  -999.00,9, -999.000,9, -999.000,9,  -999.00,9,   -999.0,9,   -999.0,9,-999.0000,9,   -999.0,  9,  -999.00,9,   -999.0,  -999.00,9,  -999.00,9,  -999.00,9,  -999.00,9,   -999.0,-999.0000, -999,9, 2000,   1.9033,  27.6850,   -999.0,9