BOTTLE,20130510GEMDJMAYT
EXPOCODE,SECT_ID,STNNBR,CASTNO,SAMPNO,BTLNBR,BTLNBR_FLAG_W,DATE,TIME,LATITUDE,LONGITUDE,DEPTH,CTDPRS,CTDTMP,CTDSAL,CTDSAL_FLAG_W,CTDOXY,CTDOXY_FLAG_W,SALNTY,SALNTY_FLAG_W,OXYGEN,OXYGEN_FLAG_W,SILCAT,SILCAT_FLAG_W,NITRAT,NITRAT_FLAG_W,NO2+NO3,NO2+NO3_FLAG_W,NITRIT,NITRIT_FLAG_W,PHSPHT,PHSPHT_FLAG_W,CFC-11,CFC-11_FLAG_W,CFC-12,CFC-12_FLAG_W,DELC13,DELC13_FLAG_W,TCARBN,TCARBN_FLAG_W,ALKALI,ALKALI_FLAG_W,PH,PH_FLAG_W,PH_TMP,PH_SCALE,PH_NBS,PH_NBS_FLAG_W,C13ERR,TOTALP,TOTALP_FLAG_W,AMMONI,AMMONI_FLAG_W,CHLORA,CHLORA_FLAG_W,PPHYTN,PPHYTN_FLAG_W,REVPRS,REVTMP,DEPTH_,DEPTH_FLAG,CTDDEP,THETA,SIGTHT,DOC,DOC_FLAG_W
,,,,,,,GMT,GMT,,,METER,DBAR,ITS-90,PSS-78,,UMOL/KG,,PSS-78,,UMOL/KG,,UMOL/KG,,UMOL/KG,,UMOL/KG,,UMOL/KG,,UMOL/KG,,PMOL/KG,,PMOL/KG,,/MILLE,,UMOL/KG,,UMOL/KG,,25_DEG_C,,DEG_C,,,,/MILLE,UMOL/KG,,UMOL/KG,,UG/L,,UG/L,,DBAR,ITS-90,METERS,,METERS,DEG_C,,UMOL/L,
       KS03-01,  165E,KS-0645,  2,     24,02-16030,2,20030125,1551, 14.9930, 164.9605, 5188,      3.7,  27.1662,  34.2941,2,   -999.0,9,  34.2952,2,    201.0,2,  -999.00,9,  -999.00,9,     0.00,2,     0.00,2,     0.08,2, -999.000,9, -999.000,9,  -999.00,9,   -999.0,9,   -999.0,9,-999.0000,9,   -999.0,  9,     8.22,2,   -999.0,  -999.00,9,  -999.00,9,     0.01,2,     0.01,2,   -999.0,-999.0000, -999,9,    4,  27.1653,  22.1334,   -999.0,9
       KS03-01,  165E,KS-0645,  2,     23,02-16029,2,20030125,1550, 14.9930, 164.9605, 5188,      9.2,  27.1656,  34.2938,2,   -999.0,9,-999.0000,9,    202.0,2,  -999.00,9,  -999.00,9,     0.00,2,     0.00,2,     0.08,2, -999.000,9, -999.000,9,  -999.00,9,   -999.0,9,   -999.0,9,-999.0000,9,   -999.0,  9,     8.22,2,   -999.0,  -999.00,9,  -999.00,9,     0.01,2,     0.01,2,   -999.0,-999.0000, -999,9,    9,  27.1635,  22.1338,   -999.0,9
       KS03-01,  165E,KS-0645,  2,     22,02-16028,2,20030125,1548, 14.9930, 164.9605, 5188,     24.1,  27.1696,  34.2956,2,   -999.0,9,-999.0000,9,    201.0,2,  -999.00,9,  -999.00,9,     0.00,2,     0.00,2,     0.08,2, -999.000,9, -999.000,9,  -999.00,9,   -999.0,9,   -999.0,9,-999.0000,9,   -999.0,  9,     8.22,2,   -999.0,  -999.00,9,  -999.00,9,     0.01,2,     0.01,2,   -999.0,-999.0000, -999,9,   24,  27.1641,  22.1349,   -999.0,9
       KS03-01,  165E,KS-0645,  2,     21,02-16027,2,20030125,1543, 14.9930, 164.9605, 5188,     49.1,  27.2638,  34.5169,2,   -999.0,9,-999.0000,9,    201.0,2,  -999.00,9,  -999.00,9,     0.00,2,     0.00,2,     0.09,2, -999.000,9, -999.000,9,  -999.00,9,   -999.0,9,   -999.0,9,-999.0000,9,   -999.0,  9,     8.22,2,   -999.0,  -999.00,9,  -999.00,9,     0.02,2,     0.02,2,   -999.0,-999.0000, -999,9,   49,  27.2525,  22.2732,   -999.0,9
       KS03-01,  165E,KS-0645,  2,     20,02-16013,2,20030125,1542, 14.9930, 164.9605, 5188,     73.0,  27.2101,  34.5362,2,   -999.0,9,-999.0000,9,    200.0,2,  -999.00,9,  -999.00,9,     0.00,2,     0.00,2,     0.09,2, -999.000,9, -999.000,9,  -999.00,9,   -999.0,9,   -999.0,9,-999.0000,9,   -999.0,  9,     8.21,2,   -999.0,  -999.00,9,  -999.00,9,     0.02,2,     0.02,2,   -999.0,-999.0000, -999,9,   73,  27.1933,  22.3067,   -999.0,9
       KS03-01,  165E,KS-0645,  2,     19,02-16025,9,20030125,1540, 14.9930, 164.9605, 5188,     98.5,  26.8660,  34.8392,2,   -999.0,9,-999.0000,9,   -999.0,9,  -999.00,9,  -999.00,9,  -999.00,9,  -999.00,9,  -999.00,9, -999.000,9, -999.000,9,  -999.00,9,   -999.0,9,   -999.0,9,-999.0000,9,   -999.0,  9,  -999.00,9,   -999.0,  -999.00,9,  -999.00,9,  -999.00,9,  -999.00,9,   -999.0,-999.0000, -999,9,   98,  26.8435,  22.6465,   -999.0,9
       KS03-01,  165E,KS-0645,  2,     18,02-16024,2,20030125,1540, 14.9930, 164.9605, 5188,     98.4,  26.8426,  34.9277,2,   -999.0,9,  34.9087,4,    206.0,2,  -999.00,9,  -999.00,9,     0.00,2,     0.00,2,     0.07,2, -999.000,9, -999.000,9,  -999.00,9,   -999.0,9,   -999.0,9,-999.0000,9,   -999.0,  9,     8.21,2,   -999.0,  -999.00,9,  -999.00,9,     0.06,2,     0.06,2,   -999.0,-999.0000, -999,9,   98,  26.8201,  22.7206,   -999.0,9
       KS03-01,  165E,KS-0645,  2,     17,02-16023,9,20030125,1539, 14.9930, 164.9605, 5188,    125.0,  25.6316,  35.2611,2,   -999.0,9,-999.0000,9,   -999.0,9,  -999.00,9,  -999.00,9,  -999.00,9,  -999.00,9,  -999.00,9, -999.000,9, -999.000,9,  -999.00,9,   -999.0,9,   -999.0,9,-999.0000,9,   -999.0,  9,  -999.00,9,   -999.0,  -999.00,9,  -999.00,9,  -999.00,9,  -999.00,9,   -999.0,-999.0000, -999,9,  124,  25.6040,  23.3533,   -999.0,9
       KS03-01,  165E,KS-0645,  2,     16,02-16022,2,20030125,1538, 14.9930, 164.9605, 5188,    124.8,  25.5781,  35.2625,2,   -999.0,9,-999.0000,9,    202.0,2,  -999.00,9,  -999.00,9,     0.00,2,     0.00,2,     0.04,2, -999.000,9, -999.000,9,  -999.00,9,   -999.0,9,   -999.0,9,-999.0000,9,   -999.0,  9,     8.19,2,   -999.0,  -999.00,9,  -999.00,9,     0.06,2,     0.23,2,   -999.0,-999.0000, -999,9,  124,  25.5506,  23.3709,   -999.0,9
       KS03-01,  165E,KS-0645,  2,     15,02-16021,2,20030125,1537, 14.9930, 164.9605, 5188,    148.9,  23.9739,  35.2963,2,   -999.0,9,-999.0000,9,    191.0,2,  -999.00,9,  -999.00,9,     0.29,2,     0.15,2,     0.09,2, -999.000,9, -999.000,9,  -999.00,9,   -999.0,9,   -999.0,9,-999.0000,9,   -999.0,  9,     8.15,2,   -999.0,  -999.00,9,  -999.00,9,     0.05,2,     0.23,2,   -999.0,-999.0000, -999,9,  148,  23.9425,  23.8827,   -999.0,9
       KS03-01,  165E,KS-0645,  2,     14,02-16020,2,20030125,1535, 14.9930, 164.9605, 5188,    198.4,  20.5468,  35.0443,2,   -999.0,9,  35.0502,4,    180.0,2,  -999.00,9,  -999.00,9,     2.83,2,     0.01,2,     0.25,2, -999.000,9, -999.000,9,  -999.00,9,   -999.0,9,   -999.0,9,-999.0000,9,   -999.0,  9,     8.06,2,   -999.0,  -999.00,9,  -999.00,9,     0.01,2,     0.05,2,   -999.0,-999.0000, -999,9,  197,  20.5094,  24.6601,   -999.0,9
       KS03-01,  165E,KS-0645,  2,     13,02-16019,2,20030125,1533, 14.9930, 164.9605, 5188,    250.3,  16.4049,  34.6730,2,   -999.0,9,-999.0000,9,    188.0,2,  -999.00,9,  -999.00,9,     6.92,2,     0.00,2,     0.50,2, -999.000,9, -999.000,9,  -999.00,9,   -999.0,9,   -999.0,9,-999.0000,9,   -999.0,  9,     7.99,2,   -999.0,  -999.00,9,  -999.00,9,     0.00,2,     0.01,2,   -999.0,-999.0000, -999,9,  249,  16.3646,  25.4122,   -999.0,9
       KS03-01,  165E,KS-0645,  2,     12,02-16018,2,20030125,1530, 14.9930, 164.9605, 5188,    300.0,  13.7090,  34.4524,2,   -999.0,9,  34.4522,2,    191.0,2,  -999.00,9,  -999.00,9,    10.92,2,     0.00,2,     0.77,2, -999.000,9, -999.000,9,  -999.00,9,   -999.0,9,   -999.0,9,-999.0000,9,   -999.0,  9,     7.93,2,   -999.0,  -999.00,9,  -999.00,9,     0.00,2,     0.00,2,   -999.0,-999.0000, -999,9,  298,  13.6663,  25.8332,   -999.0,9
       KS03-01,  165E,KS-0645,  2,     11,02-16017,2,20030125,1527, 14.9930, 164.9605, 5188,    400.0,   8.9298,  34.2161,2,   -999.0,9,  34.2181,2,    118.0,2,  -999.00,9,  -999.00,9,    26.89,2,     0.00,2,     1.95,2, -999.000,9, -999.000,9,  -999.00,9,   -999.0,9,   -999.0,9,-999.0000,9,   -999.0,  9,     7.67,2,   -999.0,  -999.00,9,  -999.00,9,  -999.00,9,  -999.00,9,   -999.0,-999.0000, -999,9,  397,   8.8865,  26.5223,   -999.0,9
       KS03-01,  165E,KS-0645,  2,     10,02-16026,9,20030125,1524, 14.9930, 164.9605, 5188,    501.2,   7.4745,  34.3913,2,   -999.0,9,-999.0000,9,   -999.0,9,  -999.00,9,  -999.00,9,  -999.00,9,  -999.00,9,  -999.00,9, -999.000,9, -999.000,9,  -999.00,9,   -999.0,9,   -999.0,9,-999.0000,9,   -999.0,  9,  -999.00,9,   -999.0,  -999.00,9,  -999.00,9,  -999.00,9,  -999.00,9,   -999.0,-999.0000, -999,9,  498,   7.4252,  26.8796,   -999.0,9
       KS03-01,  165E,KS-0645,  2,      9,02-16012,9,20030125,1524, 14.9930, 164.9605, 5188,    501.6,   7.4781,  34.3915,2,   -999.0,9,-999.0000,9,   -999.0,9,  -999.00,9,  -999.00,9,  -999.00,9,  -999.00,9,  -999.00,9, -999.000,9, -999.000,9,  -999.00,9,   -999.0,9,   -999.0,9,-999.0000,9,   -999.0,  9,  -999.00,9,   -999.0,  -999.00,9,  -999.00,9,  -999.00,9,  -999.00,9,   -999.0,-999.0000, -999,9,  498,   7.4288,  26.8792,   -999.0,9
       KS03-01,  165E,KS-0645,  2,      8,02-16011,9,20030125,1523, 14.9930, 164.9605, 5188,    502.5,   7.4721,  34.3914,2,   -999.0,9,-999.0000,9,   -999.0,9,  -999.00,9,  -999.00,9,  -999.00,9,  -999.00,9,  -999.00,9, -999.000,9, -999.000,9,  -999.00,9,   -999.0,9,   -999.0,9,-999.0000,9,   -999.0,  9,  -999.00,9,   -999.0,  -999.00,9,  -999.00,9,  -999.00,9,  -999.00,9,   -999.0,-999.0000, -999,9,  499,   7.4227,  26.8800,   -999.0,9
       KS03-01,  165E,KS-0645,  2,      7,02-16016,9,20030125,1523, 14.9930, 164.9605, 5188,    502.1,   7.4727,  34.3914,2,   -999.0,9,-999.0000,9,   -999.0,9,  -999.00,9,  -999.00,9,  -999.00,9,  -999.00,9,  -999.00,9, -999.000,9, -999.000,9,  -999.00,9,   -999.0,9,   -999.0,9,-999.0000,9,   -999.0,  9,  -999.00,9,   -999.0,  -999.00,9,  -999.00,9,  -999.00,9,  -999.00,9,   -999.0,-999.0000, -999,9,  499,   7.4233,  26.8799,   -999.0,9
       KS03-01,  165E,KS-0645,  2,      6,02-16009,9,20030125,1523, 14.9930, 164.9605, 5188,    502.3,   7.4726,  34.3917,2,   -999.0,9,-999.0000,9,   -999.0,9,  -999.00,9,  -999.00,9,  -999.00,9,  -999.00,9,  -999.00,9, -999.000,9, -999.000,9,  -999.00,9,   -999.0,9,   -999.0,9,-999.0000,9,   -999.0,  9,  -999.00,9,   -999.0,  -999.00,9,  -999.00,9,  -999.00,9,  -999.00,9,   -999.0,-999.0000, -999,9,  499,   7.4232,  26.8801,   -999.0,9
       KS03-01,  165E,KS-0645,  2,      5,02-16008,9,20030125,1523, 14.9930, 164.9605, 5188,    502.1,   7.4827,  34.3910,2,   -999.0,9,-999.0000,9,   -999.0,9,  -999.00,9,  -999.00,9,  -999.00,9,  -999.00,9,  -999.00,9, -999.000,9, -999.000,9,  -999.00,9,   -999.0,9,   -999.0,9,-999.0000,9,   -999.0,  9,  -999.00,9,   -999.0,  -999.00,9,  -999.00,9,  -999.00,9,  -999.00,9,   -999.0,-999.0000, -999,9,  499,   7.4333,  26.8782,   -999.0,9
       KS03-01,  165E,KS-0645,  2,      4,02-16010,9,20030125,1523, 14.9930, 164.9605, 5188,    502.1,   7.4761,  34.3915,2,   -999.0,9,-999.0000,9,   -999.0,9,  -999.00,9,  -999.00,9,  -999.00,9,  -999.00,9,  -999.00,9, -999.000,9, -999.000,9,  -999.00,9,   -999.0,9,   -999.0,9,-999.0000,9,   -999.0,  9,  -999.00,9,   -999.0,  -999.00,9,  -999.00,9,  -999.00,9,  -999.00,9,   -999.0,-999.0000, -999,9,  499,   7.4267,  26.8795,   -999.0,9
       KS03-01,  165E,KS-0645,  2,      3,02-16015,9,20030125,1522, 14.9930, 164.9605, 5188,    501.8,   7.4830,  34.3910,2,   -999.0,9,-999.0000,9,   -999.0,9,  -999.00,9,  -999.00,9,  -999.00,9,  -999.00,9,  -999.00,9, -999.000,9, -999.000,9,  -999.00,9,   -999.0,9,   -999.0,9,-999.0000,9,   -999.0,  9,  -999.00,9,   -999.0,  -999.00,9,  -999.00,9,  -999.00,9,  -999.00,9,   -999.0,-999.0000, -999,9,  498,   7.4336,  26.8781,   -999.0,9
       KS03-01,  165E,KS-0645,  2,      2,02-16014,2,20030125,1522, 14.9930, 164.9605, 5188,    501.4,   7.4861,  34.3909,2,   -999.0,9,  34.3927,2,     49.0,2,  -999.00,9,  -999.00,9,    35.93,2,     0.00,2,     2.62,2, -999.000,9, -999.000,9,  -999.00,9,   -999.0,9,   -999.0,9,-999.0000,9,   -999.0,  9,     7.52,2,   -999.0,  -999.00,9,  -999.00,9,  -999.00,9,  -999.00,9,   -999.0,-999.0000, -999,9,  498,   7.4367,  26.8777,   -999.0,9
       KS03-01,  165E,KS-0645,  2,      1,02-16007,9,20030125,1522, 14.9930, 164.9605, 5188,    502.5,   7.4791,  34.3910,2,   -999.0,9,-999.0000,9,   -999.0,9,  -999.00,9,  -999.00,9,  -999.00,9,  -999.00,9,  -999.00,9, -999.000,9, -999.000,9,  -999.00,9,   -999.0,9,   -999.0,9,-999.0000,9,   -999.0,  9,  -999.00,9,   -999.0,  -999.00,9,  -999.00,9,  -999.00,9,  -999.00,9,   -999.0,-999.0000, -999,9,  499,   7.4297,  26.8787,   -999.0,9