BOTTLE,20130510GEMDJMAYT
EXPOCODE,SECT_ID,STNNBR,CASTNO,SAMPNO,BTLNBR,BTLNBR_FLAG_W,DATE,TIME,LATITUDE,LONGITUDE,DEPTH,CTDPRS,CTDTMP,CTDSAL,CTDSAL_FLAG_W,CTDOXY,CTDOXY_FLAG_W,SALNTY,SALNTY_FLAG_W,OXYGEN,OXYGEN_FLAG_W,SILCAT,SILCAT_FLAG_W,NITRAT,NITRAT_FLAG_W,NO2+NO3,NO2+NO3_FLAG_W,NITRIT,NITRIT_FLAG_W,PHSPHT,PHSPHT_FLAG_W,CFC-11,CFC-11_FLAG_W,CFC-12,CFC-12_FLAG_W,DELC13,DELC13_FLAG_W,TCARBN,TCARBN_FLAG_W,ALKALI,ALKALI_FLAG_W,PH,PH_FLAG_W,PH_TMP,PH_SCALE,PH_NBS,PH_NBS_FLAG_W,C13ERR,TOTALP,TOTALP_FLAG_W,AMMONI,AMMONI_FLAG_W,CHLORA,CHLORA_FLAG_W,PPHYTN,PPHYTN_FLAG_W,REVPRS,REVTMP,DEPTH_,DEPTH_FLAG,CTDDEP,THETA,SIGTHT,DOC,DOC_FLAG_W
,,,,,,,GMT,GMT,,,METER,DBAR,ITS-90,PSS-78,,UMOL/KG,,PSS-78,,UMOL/KG,,UMOL/KG,,UMOL/KG,,UMOL/KG,,UMOL/KG,,UMOL/KG,,PMOL/KG,,PMOL/KG,,/MILLE,,UMOL/KG,,UMOL/KG,,25_DEG_C,,DEG_C,,,,/MILLE,UMOL/KG,,UMOL/KG,,UG/L,,UG/L,,DBAR,ITS-90,METERS,,METERS,DEG_C,,UMOL/L,
       KS03-01,  165E,KS-0640,  2,     24,02-16030,2,20030123,2346, 19.9730, 164.9618, 5329,      4.6,  26.3800,  35.1503,2,   -999.0,9,  35.1516,2,    202.0,2,  -999.00,9,  -999.00,9,     0.00,2,     0.00,2,     0.02,2, -999.000,9, -999.000,9,  -999.00,9,   -999.0,9,   -999.0,9,-999.0000,9,   -999.0,  9,     8.23,2,   -999.0,  -999.00,9,  -999.00,9,     0.04,2,     0.03,2,   -999.0,-999.0000, -999,9,    5,  26.3790,  23.0279,   -999.0,9
       KS03-01,  165E,KS-0640,  2,     23,02-16029,2,20030123,2345, 19.9730, 164.9618, 5329,     11.0,  26.3798,  35.1499,2,   -999.0,9,-999.0000,9,    202.0,2,  -999.00,9,  -999.00,9,     0.00,2,     0.00,2,     0.02,2, -999.000,9, -999.000,9,  -999.00,9,   -999.0,9,   -999.0,9,-999.0000,9,   -999.0,  9,     8.25,2,   -999.0,  -999.00,9,  -999.00,9,     0.05,2,     0.03,2,   -999.0,-999.0000, -999,9,   11,  26.3773,  23.0282,   -999.0,9
       KS03-01,  165E,KS-0640,  2,     22,02-16028,2,20030123,2343, 19.9730, 164.9618, 5329,     24.3,  26.3834,  35.1509,2,   -999.0,9,-999.0000,9,    202.0,2,  -999.00,9,  -999.00,9,     0.00,2,     0.00,2,     0.02,2, -999.000,9, -999.000,9,  -999.00,9,   -999.0,9,   -999.0,9,-999.0000,9,   -999.0,  9,     8.24,2,   -999.0,  -999.00,9,  -999.00,9,     0.04,2,     0.03,2,   -999.0,-999.0000, -999,9,   24,  26.3779,  23.0288,   -999.0,9
       KS03-01,  165E,KS-0640,  2,     21,02-16027,2,20030123,2340, 19.9730, 164.9618, 5329,     49.4,  26.3848,  35.1514,2,   -999.0,9,-999.0000,9,    202.0,2,  -999.00,9,  -999.00,9,     0.00,2,     0.00,2,     0.03,2, -999.000,9, -999.000,9,  -999.00,9,   -999.0,9,   -999.0,9,-999.0000,9,   -999.0,  9,     8.24,2,   -999.0,  -999.00,9,  -999.00,9,     0.05,2,     0.02,2,   -999.0,-999.0000, -999,9,   49,  26.3736,  23.0305,   -999.0,9
       KS03-01,  165E,KS-0640,  2,     20,02-16013,2,20030123,2339, 19.9730, 164.9618, 5329,     74.1,  26.3973,  35.1570,2,   -999.0,9,-999.0000,9,    203.0,2,  -999.00,9,  -999.00,9,     0.00,2,     0.00,2,     0.03,2, -999.000,9, -999.000,9,  -999.00,9,   -999.0,9,   -999.0,9,-999.0000,9,   -999.0,  9,     8.13,2,   -999.0,  -999.00,9,  -999.00,9,     0.05,2,     0.03,2,   -999.0,-999.0000, -999,9,   74,  26.3806,  23.0325,   -999.0,9
       KS03-01,  165E,KS-0640,  2,     19,02-16025,9,20030123,2338, 19.9730, 164.9618, 5329,     99.4,  26.3913,  35.1875,2,   -999.0,9,-999.0000,9,   -999.0,9,  -999.00,9,  -999.00,9,  -999.00,9,  -999.00,9,  -999.00,9, -999.000,9, -999.000,9,  -999.00,9,   -999.0,9,   -999.0,9,-999.0000,9,   -999.0,  9,  -999.00,9,   -999.0,  -999.00,9,  -999.00,9,  -999.00,9,  -999.00,9,   -999.0,-999.0000, -999,9,   99,  26.3689,  23.0592,   -999.0,9
       KS03-01,  165E,KS-0640,  2,     18,02-16024,2,20030123,2338, 19.9730, 164.9618, 5329,     99.8,  26.3915,  35.1874,2,   -999.0,9,  35.1886,2,    202.0,2,  -999.00,9,  -999.00,9,     0.00,2,     0.00,2,     0.02,2, -999.000,9, -999.000,9,  -999.00,9,   -999.0,9,   -999.0,9,-999.0000,9,   -999.0,  9,     8.23,2,   -999.0,  -999.00,9,  -999.00,9,     0.11,2,     0.08,2,   -999.0,-999.0000, -999,9,   99,  26.3690,  23.0591,   -999.0,9
       KS03-01,  165E,KS-0640,  2,     17,02-16023,9,20030123,2337, 19.9730, 164.9618, 5329,    124.6,  26.3837,  35.1857,2,   -999.0,9,-999.0000,9,   -999.0,9,  -999.00,9,  -999.00,9,  -999.00,9,  -999.00,9,  -999.00,9, -999.000,9, -999.000,9,  -999.00,9,   -999.0,9,   -999.0,9,-999.0000,9,   -999.0,  9,  -999.00,9,   -999.0,  -999.00,9,  -999.00,9,  -999.00,9,  -999.00,9,   -999.0,-999.0000, -999,9,  124,  26.3556,  23.0620,   -999.0,9
       KS03-01,  165E,KS-0640,  2,     16,02-16022,2,20030123,2336, 19.9730, 164.9618, 5329,    124.9,  26.3837,  35.1840,2,   -999.0,9,-999.0000,9,    201.0,2,  -999.00,9,  -999.00,9,     0.00,2,     0.00,2,     0.02,2, -999.000,9, -999.000,9,  -999.00,9,   -999.0,9,   -999.0,9,-999.0000,9,   -999.0,  9,     8.23,2,   -999.0,  -999.00,9,  -999.00,9,     0.12,2,     0.10,2,   -999.0,-999.0000, -999,9,  124,  26.3555,  23.0608,   -999.0,9
       KS03-01,  165E,KS-0640,  2,     15,02-16021,2,20030123,2335, 19.9730, 164.9618, 5329,    149.8,  23.8408,  35.2341,2,   -999.0,9,-999.0000,9,    195.0,2,  -999.00,9,  -999.00,9,     0.29,2,     0.14,2,     0.06,2, -999.000,9, -999.000,9,  -999.00,9,   -999.0,9,   -999.0,9,-999.0000,9,   -999.0,  9,     8.17,2,   -999.0,  -999.00,9,  -999.00,9,     0.08,2,     0.27,2,   -999.0,-999.0000, -999,9,  149,  23.8094,  23.8750,   -999.0,9
       KS03-01,  165E,KS-0640,  2,     14,02-16020,2,20030123,2334, 19.9730, 164.9618, 5329,    201.1,  19.6116,  34.9479,2,   -999.0,9,  34.9534,4,    185.0,2,  -999.00,9,  -999.00,9,     3.12,2,     0.01,2,     0.25,2, -999.000,9, -999.000,9,  -999.00,9,   -999.0,9,   -999.0,9,-999.0000,9,   -999.0,  9,     8.08,2,   -999.0,  -999.00,9,  -999.00,9,     0.01,2,     0.02,2,   -999.0,-999.0000, -999,9,  200,  19.5749,  24.8333,   -999.0,9
       KS03-01,  165E,KS-0640,  2,     13,02-16019,2,20030123,2333, 19.9730, 164.9618, 5329,    252.0,  16.8214,  34.7060,2,   -999.0,9,-999.0000,9,    192.0,2,  -999.00,9,  -999.00,9,     6.34,2,     0.00,2,     0.45,2, -999.000,9, -999.000,9,  -999.00,9,   -999.0,9,   -999.0,9,-999.0000,9,   -999.0,  9,     8.03,2,   -999.0,  -999.00,9,  -999.00,9,     0.00,2,     0.01,2,   -999.0,-999.0000, -999,9,  250,  16.7801,  25.3406,   -999.0,9
       KS03-01,  165E,KS-0640,  2,     12,02-16018,2,20030123,2331, 19.9730, 164.9618, 5329,    302.4,  14.9975,  34.5598,2,   -999.0,9,  34.5673,4,    193.0,2,  -999.00,9,  -999.00,9,     8.68,2,     0.00,2,     0.59,2, -999.000,9, -999.000,9,  -999.00,9,   -999.0,9,   -999.0,9,-999.0000,9,   -999.0,  9,     7.98,2,   -999.0,  -999.00,9,  -999.00,9,     0.00,2,     0.00,2,   -999.0,-999.0000, -999,9,  300,  14.9517,  25.6431,   -999.0,9
       KS03-01,  165E,KS-0640,  2,     11,02-16017,2,20030123,2330, 19.9730, 164.9618, 5329,    403.4,  10.9837,  34.2593,2,   -999.0,9,  34.2599,2,    180.0,2,  -999.00,9,  -999.00,9,    16.86,2,     0.00,2,     1.16,2, -999.000,9, -999.000,9,  -999.00,9,   -999.0,9,   -999.0,9,-999.0000,9,   -999.0,  9,     7.86,2,   -999.0,  -999.00,9,  -999.00,9,  -999.00,9,  -999.00,9,   -999.0,-999.0000, -999,9,  401,  10.9340,  26.2106,   -999.0,9
       KS03-01,  165E,KS-0640,  2,     10,02-16026,2,20030123,2327, 19.9730, 164.9618, 5329,    504.6,   8.3971,  34.1611,2,   -999.0,9,  34.1628,2,    123.0,2,  -999.00,9,  -999.00,9,    26.98,2,     0.00,2,     1.89,2, -999.000,9, -999.000,9,  -999.00,9,   -999.0,9,   -999.0,9,-999.0000,9,   -999.0,  9,     7.86,2,   -999.0,  -999.00,9,  -999.00,9,  -999.00,9,  -999.00,9,   -999.0,-999.0000, -999,9,  501,   8.3442,  26.5633,   -999.0,9
       KS03-01,  165E,KS-0640,  2,      9,02-16012,9,20030123,2319, 19.9730, 164.9618, 5329,   1005.6,   4.2351,  34.4806,2,   -999.0,9,-999.0000,9,   -999.0,9,  -999.00,9,  -999.00,9,  -999.00,9,  -999.00,9,  -999.00,9, -999.000,9, -999.000,9,  -999.00,9,   -999.0,9,   -999.0,9,-999.0000,9,   -999.0,  9,  -999.00,9,   -999.0,  -999.00,9,  -999.00,9,  -999.00,9,  -999.00,9,   -999.0,-999.0000, -999,9,  997,   4.1572,  27.3565,   -999.0,9
       KS03-01,  165E,KS-0640,  2,      8,02-16011,9,20030123,2319, 19.9730, 164.9618, 5329,   1005.1,   4.2352,  34.4805,2,   -999.0,9,-999.0000,9,   -999.0,9,  -999.00,9,  -999.00,9,  -999.00,9,  -999.00,9,  -999.00,9, -999.000,9, -999.000,9,  -999.00,9,   -999.0,9,   -999.0,9,-999.0000,9,   -999.0,  9,  -999.00,9,   -999.0,  -999.00,9,  -999.00,9,  -999.00,9,  -999.00,9,   -999.0,-999.0000, -999,9,  997,   4.1573,  27.3565,   -999.0,9
       KS03-01,  165E,KS-0640,  2,      7,02-16016,9,20030123,2319, 19.9730, 164.9618, 5329,   1005.2,   4.2334,  34.4806,2,   -999.0,9,-999.0000,9,   -999.0,9,  -999.00,9,  -999.00,9,  -999.00,9,  -999.00,9,  -999.00,9, -999.000,9, -999.000,9,  -999.00,9,   -999.0,9,   -999.0,9,-999.0000,9,   -999.0,  9,  -999.00,9,   -999.0,  -999.00,9,  -999.00,9,  -999.00,9,  -999.00,9,   -999.0,-999.0000, -999,9,  997,   4.1555,  27.3568,   -999.0,9
       KS03-01,  165E,KS-0640,  2,      6,02-16009,9,20030123,2319, 19.9730, 164.9618, 5329,   1005.8,   4.2304,  34.4810,2,   -999.0,9,-999.0000,9,   -999.0,9,  -999.00,9,  -999.00,9,  -999.00,9,  -999.00,9,  -999.00,9, -999.000,9, -999.000,9,  -999.00,9,   -999.0,9,   -999.0,9,-999.0000,9,   -999.0,  9,  -999.00,9,   -999.0,  -999.00,9,  -999.00,9,  -999.00,9,  -999.00,9,   -999.0,-999.0000, -999,9,  997,   4.1525,  27.3573,   -999.0,9
       KS03-01,  165E,KS-0640,  2,      5,02-16008,9,20030123,2318, 19.9730, 164.9618, 5329,   1005.5,   4.2312,  34.4808,2,   -999.0,9,-999.0000,9,   -999.0,9,  -999.00,9,  -999.00,9,  -999.00,9,  -999.00,9,  -999.00,9, -999.000,9, -999.000,9,  -999.00,9,   -999.0,9,   -999.0,9,-999.0000,9,   -999.0,  9,  -999.00,9,   -999.0,  -999.00,9,  -999.00,9,  -999.00,9,  -999.00,9,   -999.0,-999.0000, -999,9,  997,   4.1533,  27.3571,   -999.0,9
       KS03-01,  165E,KS-0640,  2,      4,02-16010,9,20030123,2318, 19.9730, 164.9618, 5329,   1004.6,   4.2302,  34.4809,2,   -999.0,9,-999.0000,9,   -999.0,9,  -999.00,9,  -999.00,9,  -999.00,9,  -999.00,9,  -999.00,9, -999.000,9, -999.000,9,  -999.00,9,   -999.0,9,   -999.0,9,-999.0000,9,   -999.0,  9,  -999.00,9,   -999.0,  -999.00,9,  -999.00,9,  -999.00,9,  -999.00,9,   -999.0,-999.0000, -999,9,  996,   4.1524,  27.3573,   -999.0,9
       KS03-01,  165E,KS-0640,  2,      3,02-16015,9,20030123,2318, 19.9730, 164.9618, 5329,   1005.1,   4.2288,  34.4810,2,   -999.0,9,-999.0000,9,   -999.0,9,  -999.00,9,  -999.00,9,  -999.00,9,  -999.00,9,  -999.00,9, -999.000,9, -999.000,9,  -999.00,9,   -999.0,9,   -999.0,9,-999.0000,9,   -999.0,  9,  -999.00,9,   -999.0,  -999.00,9,  -999.00,9,  -999.00,9,  -999.00,9,   -999.0,-999.0000, -999,9,  997,   4.1510,  27.3576,   -999.0,9
       KS03-01,  165E,KS-0640,  2,      2,02-16014,9,20030123,2318, 19.9730, 164.9618, 5329,   1005.4,   4.2281,  34.4811,2,   -999.0,9,-999.0000,9,   -999.0,9,  -999.00,9,  -999.00,9,  -999.00,9,  -999.00,9,  -999.00,9, -999.000,9, -999.000,9,  -999.00,9,   -999.0,9,   -999.0,9,-999.0000,9,   -999.0,  9,  -999.00,9,   -999.0,  -999.00,9,  -999.00,9,  -999.00,9,  -999.00,9,   -999.0,-999.0000, -999,9,  997,   4.1503,  27.3577,   -999.0,9
       KS03-01,  165E,KS-0640,  2,      1,02-16007,9,20030123,2318, 19.9730, 164.9618, 5329,   1005.2,   4.2283,  34.4810,2,   -999.0,9,-999.0000,9,   -999.0,9,  -999.00,9,  -999.00,9,  -999.00,9,  -999.00,9,  -999.00,9, -999.000,9, -999.000,9,  -999.00,9,   -999.0,9,   -999.0,9,-999.0000,9,   -999.0,  9,  -999.00,9,   -999.0,  -999.00,9,  -999.00,9,  -999.00,9,  -999.00,9,   -999.0,-999.0000, -999,9,  997,   4.1505,  27.3576,   -999.0,9