BOTTLE,20130510GEMDJMAYT
EXPOCODE,SECT_ID,STNNBR,CASTNO,SAMPNO,BTLNBR,BTLNBR_FLAG_W,DATE,TIME,LATITUDE,LONGITUDE,DEPTH,CTDPRS,CTDTMP,CTDSAL,CTDSAL_FLAG_W,CTDOXY,CTDOXY_FLAG_W,SALNTY,SALNTY_FLAG_W,OXYGEN,OXYGEN_FLAG_W,SILCAT,SILCAT_FLAG_W,NITRAT,NITRAT_FLAG_W,NO2+NO3,NO2+NO3_FLAG_W,NITRIT,NITRIT_FLAG_W,PHSPHT,PHSPHT_FLAG_W,CFC-11,CFC-11_FLAG_W,CFC-12,CFC-12_FLAG_W,DELC13,DELC13_FLAG_W,TCARBN,TCARBN_FLAG_W,ALKALI,ALKALI_FLAG_W,PH,PH_FLAG_W,PH_TMP,PH_SCALE,PH_NBS,PH_NBS_FLAG_W,C13ERR,TOTALP,TOTALP_FLAG_W,AMMONI,AMMONI_FLAG_W,CHLORA,CHLORA_FLAG_W,PPHYTN,PPHYTN_FLAG_W,REVPRS,REVTMP,DEPTH_,DEPTH_FLAG,CTDDEP,THETA,SIGTHT,DOC,DOC_FLAG_W
,,,,,,,GMT,GMT,,,METER,DBAR,ITS-90,PSS-78,,UMOL/KG,,PSS-78,,UMOL/KG,,UMOL/KG,,UMOL/KG,,UMOL/KG,,UMOL/KG,,UMOL/KG,,PMOL/KG,,PMOL/KG,,/MILLE,,UMOL/KG,,UMOL/KG,,25_DEG_C,,DEG_C,,,,/MILLE,UMOL/KG,,UMOL/KG,,UG/L,,UG/L,,DBAR,ITS-90,METERS,,METERS,DEG_C,,UMOL/L,
       KS03-01,  165E,KS-0650,  2,     24,02-16030,2,20030127,1027,  9.9168, 163.8910, 5066,      3.3,  27.5502,  34.2504,2,   -999.0,9,  34.2521,2,    202.0,2,  -999.00,9,  -999.00,9,     0.00,2,     0.00,2,     0.06,2, -999.000,9, -999.000,9,  -999.00,9,   -999.0,9,   -999.0,9,-999.0000,9,   -999.0,  9,     8.20,2,   -999.0,  -999.00,9,  -999.00,9,     0.02,2,     0.01,2,   -999.0,-999.0000, -999,9,    3,  27.5494,  21.9772,   -999.0,9
       KS03-01,  165E,KS-0650,  2,     23,02-16029,2,20030127,1026,  9.9168, 163.8910, 5066,      9.5,  27.5528,  34.2491,2,   -999.0,9,-999.0000,9,    199.0,2,  -999.00,9,  -999.00,9,     0.00,2,     0.00,2,     0.05,2, -999.000,9, -999.000,9,  -999.00,9,   -999.0,9,   -999.0,9,-999.0000,9,   -999.0,  9,     8.22,2,   -999.0,  -999.00,9,  -999.00,9,     0.03,2,     0.02,2,   -999.0,-999.0000, -999,9,    9,  27.5506,  21.9758,   -999.0,9
       KS03-01,  165E,KS-0650,  2,     22,02-16028,2,20030127,1024,  9.9168, 163.8910, 5066,     23.6,  27.5191,  34.2740,2,   -999.0,9,-999.0000,9,    199.0,2,  -999.00,9,  -999.00,9,     0.00,2,     0.00,2,     0.06,2, -999.000,9, -999.000,9,  -999.00,9,   -999.0,9,   -999.0,9,-999.0000,9,   -999.0,  9,     8.21,2,   -999.0,  -999.00,9,  -999.00,9,     0.04,2,     0.03,2,   -999.0,-999.0000, -999,9,   23,  27.5136,  22.0065,   -999.0,9
       KS03-01,  165E,KS-0650,  2,     21,02-16027,2,20030127,1021,  9.9168, 163.8910, 5066,     49.7,  27.5121,  34.2865,2,   -999.0,9,-999.0000,9,    200.0,2,  -999.00,9,  -999.00,9,     0.00,2,     0.00,2,     0.07,2, -999.000,9, -999.000,9,  -999.00,9,   -999.0,9,   -999.0,9,-999.0000,9,   -999.0,  9,     8.20,2,   -999.0,  -999.00,9,  -999.00,9,     0.04,2,     0.02,2,   -999.0,-999.0000, -999,9,   49,  27.5006,  22.0201,   -999.0,9
       KS03-01,  165E,KS-0650,  2,     20,02-16013,2,20030127,1020,  9.9168, 163.8910, 5066,     74.7,  27.1506,  34.3043,2,   -999.0,9,-999.0000,9,    200.0,2,  -999.00,9,  -999.00,9,     0.00,2,     0.00,2,     0.08,2, -999.000,9, -999.000,9,  -999.00,9,   -999.0,9,   -999.0,9,-999.0000,9,   -999.0,  9,     8.19,2,   -999.0,  -999.00,9,  -999.00,9,     0.08,2,     0.06,2,   -999.0,-999.0000, -999,9,   74,  27.1334,  22.1513,   -999.0,9
       KS03-01,  165E,KS-0650,  2,     19,02-16025,9,20030127,1019,  9.9168, 163.8910, 5066,    102.9,  22.5014,  34.8812,2,   -999.0,9,-999.0000,9,   -999.0,9,  -999.00,9,  -999.00,9,  -999.00,9,  -999.00,9,  -999.00,9, -999.000,9, -999.000,9,  -999.00,9,   -999.0,9,   -999.0,9,-999.0000,9,   -999.0,  9,  -999.00,9,   -999.0,  -999.00,9,  -999.00,9,  -999.00,9,  -999.00,9,   -999.0,-999.0000, -999,9,  102,  22.4807,  23.9920,   -999.0,9
       KS03-01,  165E,KS-0650,  2,     18,02-16024,2,20030127,1019,  9.9168, 163.8910, 5066,     99.4,  23.1608,  34.8257,2,   -999.0,9,  34.8359,4,    198.0,2,  -999.00,9,  -999.00,9,     0.10,2,     0.01,2,     0.21,2, -999.000,9, -999.000,9,  -999.00,9,   -999.0,9,   -999.0,9,-999.0000,9,   -999.0,  9,     8.12,2,   -999.0,  -999.00,9,  -999.00,9,     0.18,2,     0.39,2,   -999.0,-999.0000, -999,9,   99,  23.1404,  23.7608,   -999.0,9
       KS03-01,  165E,KS-0650,  2,     17,02-16023,9,20030127,1018,  9.9168, 163.8910, 5066,    124.8,  18.4437,  34.7736,2,   -999.0,9,-999.0000,9,   -999.0,9,  -999.00,9,  -999.00,9,  -999.00,9,  -999.00,9,  -999.00,9, -999.000,9, -999.000,9,  -999.00,9,   -999.0,9,   -999.0,9,-999.0000,9,   -999.0,  9,  -999.00,9,   -999.0,  -999.00,9,  -999.00,9,  -999.00,9,  -999.00,9,   -999.0,-999.0000, -999,9,  124,  18.4220,  24.9940,   -999.0,9
       KS03-01,  165E,KS-0650,  2,     16,02-16022,2,20030127,1017,  9.9168, 163.8910, 5066,    124.3,  18.5336,  34.7779,2,   -999.0,9,-999.0000,9,    158.0,2,  -999.00,9,  -999.00,9,     7.90,2,     0.43,2,     0.66,2, -999.000,9, -999.000,9,  -999.00,9,   -999.0,9,   -999.0,9,-999.0000,9,   -999.0,  9,     7.98,2,   -999.0,  -999.00,9,  -999.00,9,     0.11,2,     0.36,2,   -999.0,-999.0000, -999,9,  124,  18.5119,  24.9747,   -999.0,9
       KS03-01,  165E,KS-0650,  2,     15,02-16021,2,20030127,1016,  9.9168, 163.8910, 5066,    150.3,  15.5737,  34.6125,2,   -999.0,9,-999.0000,9,     84.0,3,  -999.00,9,  -999.00,9,    14.63,2,     0.02,2,     1.08,2, -999.000,9, -999.000,9,  -999.00,9,   -999.0,9,   -999.0,9,-999.0000,9,   -999.0,  9,     7.87,2,   -999.0,  -999.00,9,  -999.00,9,     0.06,2,     0.21,2,   -999.0,-999.0000, -999,9,  149,  15.5505,  25.5512,   -999.0,9
       KS03-01,  165E,KS-0650,  2,     14,02-16020,2,20030127,1014,  9.9168, 163.8910, 5066,    201.5,  11.8144,  34.5066,2,   -999.0,9,  34.5054,2,     79.0,2,  -999.00,9,  -999.00,9,    25.53,2,     0.00,2,     1.85,2, -999.000,9, -999.000,9,  -999.00,9,   -999.0,9,   -999.0,9,-999.0000,9,   -999.0,  9,     7.68,2,   -999.0,  -999.00,9,  -999.00,9,     0.01,2,     0.07,2,   -999.0,-999.0000, -999,9,  200,  11.7885,  26.2459,   -999.0,9
       KS03-01,  165E,KS-0650,  2,     13,02-16019,2,20030127,1013,  9.9168, 163.8910, 5066,    251.9,  10.3338,  34.6027,2,   -999.0,9,-999.0000,9,     42.0,2,  -999.00,9,  -999.00,9,    32.44,2,     0.00,2,     2.30,2, -999.000,9, -999.000,9,  -999.00,9,   -999.0,9,   -999.0,9,-999.0000,9,   -999.0,  9,     7.58,2,   -999.0,  -999.00,9,  -999.00,9,     0.00,2,     0.02,2,   -999.0,-999.0000, -999,9,  250,  10.3040,  26.5894,   -999.0,9
       KS03-01,  165E,KS-0650,  2,     12,02-16018,2,20030127,1011,  9.9168, 163.8910, 5066,    300.5,   9.3814,  34.5932,2,   -999.0,9,  34.5952,2,     50.0,2,  -999.00,9,  -999.00,9,    33.60,2,     0.00,2,     2.36,2, -999.000,9, -999.000,9,  -999.00,9,   -999.0,9,   -999.0,9,-999.0000,9,   -999.0,  9,     7.60,2,   -999.0,  -999.00,9,  -999.00,9,     0.00,2,     0.01,2,   -999.0,-999.0000, -999,9,  299,   9.3479,  26.7433,   -999.0,9
       KS03-01,  165E,KS-0650,  2,     11,02-16017,2,20030127,1008,  9.9168, 163.8910, 5066,    401.2,   8.7185,  34.5960,2,   -999.0,9,  34.5959,2,     53.0,2,  -999.00,9,  -999.00,9,    34.57,2,     0.00,2,     2.42,2, -999.000,9, -999.000,9,  -999.00,9,   -999.0,9,   -999.0,9,-999.0000,9,   -999.0,  9,     7.58,2,   -999.0,  -999.00,9,  -999.00,9,  -999.00,9,  -999.00,9,   -999.0,-999.0000, -999,9,  399,   8.6755,  26.8532,   -999.0,9
       KS03-01,  165E,KS-0650,  2,     10,02-16026,9,20030127,1006,  9.9168, 163.8910, 5066,    493.2,   7.7466,  34.5564,2,   -999.0,9,-999.0000,9,   -999.0,9,  -999.00,9,  -999.00,9,  -999.00,9,  -999.00,9,  -999.00,9, -999.000,9, -999.000,9,  -999.00,9,   -999.0,9,   -999.0,9,-999.0000,9,   -999.0,  9,  -999.00,9,   -999.0,  -999.00,9,  -999.00,9,  -999.00,9,  -999.00,9,   -999.0,-999.0000, -999,9,  490,   7.6970,  26.9702,   -999.0,9
       KS03-01,  165E,KS-0650,  2,      9,02-16012,9,20030127,1006,  9.9168, 163.8910, 5066,    493.9,   7.7480,  34.5564,2,   -999.0,9,-999.0000,9,   -999.0,9,  -999.00,9,  -999.00,9,  -999.00,9,  -999.00,9,  -999.00,9, -999.000,9, -999.000,9,  -999.00,9,   -999.0,9,   -999.0,9,-999.0000,9,   -999.0,  9,  -999.00,9,   -999.0,  -999.00,9,  -999.00,9,  -999.00,9,  -999.00,9,   -999.0,-999.0000, -999,9,  491,   7.6983,  26.9700,   -999.0,9
       KS03-01,  165E,KS-0650,  2,      8,02-16011,9,20030127,1006,  9.9168, 163.8910, 5066,    494.2,   7.7438,  34.5559,2,   -999.0,9,-999.0000,9,   -999.0,9,  -999.00,9,  -999.00,9,  -999.00,9,  -999.00,9,  -999.00,9, -999.000,9, -999.000,9,  -999.00,9,   -999.0,9,   -999.0,9,-999.0000,9,   -999.0,  9,  -999.00,9,   -999.0,  -999.00,9,  -999.00,9,  -999.00,9,  -999.00,9,   -999.0,-999.0000, -999,9,  491,   7.6941,  26.9703,   -999.0,9
       KS03-01,  165E,KS-0650,  2,      7,02-16016,9,20030127,1006,  9.9168, 163.8910, 5066,    494.4,   7.7416,  34.5556,2,   -999.0,9,-999.0000,9,   -999.0,9,  -999.00,9,  -999.00,9,  -999.00,9,  -999.00,9,  -999.00,9, -999.000,9, -999.000,9,  -999.00,9,   -999.0,9,   -999.0,9,-999.0000,9,   -999.0,  9,  -999.00,9,   -999.0,  -999.00,9,  -999.00,9,  -999.00,9,  -999.00,9,   -999.0,-999.0000, -999,9,  491,   7.6919,  26.9703,   -999.0,9
       KS03-01,  165E,KS-0650,  2,      6,02-16009,9,20030127,1005,  9.9168, 163.8910, 5066,    494.7,   7.7376,  34.5553,2,   -999.0,9,-999.0000,9,   -999.0,9,  -999.00,9,  -999.00,9,  -999.00,9,  -999.00,9,  -999.00,9, -999.000,9, -999.000,9,  -999.00,9,   -999.0,9,   -999.0,9,-999.0000,9,   -999.0,  9,  -999.00,9,   -999.0,  -999.00,9,  -999.00,9,  -999.00,9,  -999.00,9,   -999.0,-999.0000, -999,9,  491,   7.6879,  26.9706,   -999.0,9
       KS03-01,  165E,KS-0650,  2,      5,02-16008,9,20030127,1005,  9.9168, 163.8910, 5066,    495.4,   7.7360,  34.5552,2,   -999.0,9,-999.0000,9,   -999.0,9,  -999.00,9,  -999.00,9,  -999.00,9,  -999.00,9,  -999.00,9, -999.000,9, -999.000,9,  -999.00,9,   -999.0,9,   -999.0,9,-999.0000,9,   -999.0,  9,  -999.00,9,   -999.0,  -999.00,9,  -999.00,9,  -999.00,9,  -999.00,9,   -999.0,-999.0000, -999,9,  492,   7.6862,  26.9708,   -999.0,9
       KS03-01,  165E,KS-0650,  2,      4,02-16010,9,20030127,1005,  9.9168, 163.8910, 5066,    496.8,   7.7335,  34.5551,2,   -999.0,9,-999.0000,9,   -999.0,9,  -999.00,9,  -999.00,9,  -999.00,9,  -999.00,9,  -999.00,9, -999.000,9, -999.000,9,  -999.00,9,   -999.0,9,   -999.0,9,-999.0000,9,   -999.0,  9,  -999.00,9,   -999.0,  -999.00,9,  -999.00,9,  -999.00,9,  -999.00,9,   -999.0,-999.0000, -999,9,  493,   7.6836,  26.9711,   -999.0,9
       KS03-01,  165E,KS-0650,  2,      3,02-16015,9,20030127,1005,  9.9168, 163.8910, 5066,    497.6,   7.7349,  34.5551,2,   -999.0,9,-999.0000,9,   -999.0,9,  -999.00,9,  -999.00,9,  -999.00,9,  -999.00,9,  -999.00,9, -999.000,9, -999.000,9,  -999.00,9,   -999.0,9,   -999.0,9,-999.0000,9,   -999.0,  9,  -999.00,9,   -999.0,  -999.00,9,  -999.00,9,  -999.00,9,  -999.00,9,   -999.0,-999.0000, -999,9,  494,   7.6849,  26.9710,   -999.0,9
       KS03-01,  165E,KS-0650,  2,      2,02-16014,9,20030127,1005,  9.9168, 163.8910, 5066,    498.1,   7.7321,  34.5548,2,   -999.0,9,-999.0000,9,   -999.0,9,  -999.00,9,  -999.00,9,  -999.00,9,  -999.00,9,  -999.00,9, -999.000,9, -999.000,9,  -999.00,9,   -999.0,9,   -999.0,9,-999.0000,9,   -999.0,  9,  -999.00,9,   -999.0,  -999.00,9,  -999.00,9,  -999.00,9,  -999.00,9,   -999.0,-999.0000, -999,9,  495,   7.6820,  26.9711,   -999.0,9
       KS03-01,  165E,KS-0650,  2,      1,02-16007,2,20030127,1004,  9.9168, 163.8910, 5066,    498.4,   7.7285,  34.5542,2,   -999.0,9,  34.5555,2,     59.0,2,  -999.00,9,  -999.00,9,    35.83,2,     0.00,2,     2.53,2, -999.000,9, -999.000,9,  -999.00,9,   -999.0,9,   -999.0,9,-999.0000,9,   -999.0,  9,     7.56,2,   -999.0,  -999.00,9,  -999.00,9,  -999.00,9,  -999.00,9,   -999.0,-999.0000, -999,9,  495,   7.6784,  26.9712,   -999.0,9