BOTTLE,20130510GEMDJMAYT
EXPOCODE,SECT_ID,STNNBR,CASTNO,SAMPNO,BTLNBR,BTLNBR_FLAG_W,DATE,TIME,LATITUDE,LONGITUDE,DEPTH,CTDPRS,CTDTMP,CTDSAL,CTDSAL_FLAG_W,CTDOXY,CTDOXY_FLAG_W,SALNTY,SALNTY_FLAG_W,OXYGEN,OXYGEN_FLAG_W,SILCAT,SILCAT_FLAG_W,NITRAT,NITRAT_FLAG_W,NO2+NO3,NO2+NO3_FLAG_W,NITRIT,NITRIT_FLAG_W,PHSPHT,PHSPHT_FLAG_W,CFC-11,CFC-11_FLAG_W,CFC-12,CFC-12_FLAG_W,DELC13,DELC13_FLAG_W,TCARBN,TCARBN_FLAG_W,ALKALI,ALKALI_FLAG_W,PH,PH_FLAG_W,PH_TMP,PH_SCALE,PH_NBS,PH_NBS_FLAG_W,C13ERR,TOTALP,TOTALP_FLAG_W,AMMONI,AMMONI_FLAG_W,CHLORA,CHLORA_FLAG_W,PPHYTN,PPHYTN_FLAG_W,REVPRS,REVTMP,DEPTH_,DEPTH_FLAG,CTDDEP,THETA,SIGTHT,DOC,DOC_FLAG_W
,,,,,,,GMT,GMT,,,METER,DBAR,ITS-90,PSS-78,,UMOL/KG,,PSS-78,,UMOL/KG,,UMOL/KG,,UMOL/KG,,UMOL/KG,,UMOL/KG,,UMOL/KG,,PMOL/KG,,PMOL/KG,,/MILLE,,UMOL/KG,,UMOL/KG,,25_DEG_C,,DEG_C,,,,/MILLE,UMOL/KG,,UMOL/KG,,UG/L,,UG/L,,DBAR,ITS-90,METERS,,METERS,DEG_C,,UMOL/L,
       KS03-01,  137E,KS-0683,  1,     24,02-16030,2,20030228,1637, 26.9830, 136.0833, 4602,      4.7,  19.4863,  34.9086,2,   -999.0,9,  34.9095,2,    229.0,2,  -999.00,9,  -999.00,9,     0.00,2,     0.00,2,     0.01,2, -999.000,9, -999.000,9,  -999.00,9,   1985.3,2,   -999.0,9,-999.0000,9,   -999.0,  9,     8.17,2,   -999.0,  -999.00,9,  -999.00,9,  -999.00,9,  -999.00,9,   -999.0,-999.0000, -999,9,    5,  19.4854,  24.8265,   -999.0,9
       KS03-01,  137E,KS-0683,  1,     23,02-16029,2,20030228,1637, 26.9830, 136.0833, 4602,     10.8,  19.4930,  34.9084,2,   -999.0,9,-999.0000,9,    229.0,2,  -999.00,9,  -999.00,9,     0.00,2,     0.00,2,     0.01,2, -999.000,9, -999.000,9,  -999.00,9,   -999.0,9,   -999.0,9,-999.0000,9,   -999.0,  9,  -999.00,9,   -999.0,  -999.00,9,  -999.00,9,  -999.00,9,  -999.00,9,   -999.0,-999.0000, -999,9,   11,  19.4911,  24.8249,   -999.0,9
       KS03-01,  137E,KS-0683,  1,     22,02-16028,2,20030228,1635, 26.9830, 136.0833, 4602,     25.9,  19.4881,  34.9084,2,   -999.0,9,-999.0000,9,    229.0,2,  -999.00,9,  -999.00,9,     0.00,2,     0.00,2,     0.01,2, -999.000,9, -999.000,9,  -999.00,9,   -999.0,9,   -999.0,9,-999.0000,9,   -999.0,  9,  -999.00,9,   -999.0,  -999.00,9,  -999.00,9,  -999.00,9,  -999.00,9,   -999.0,-999.0000, -999,9,   26,  19.4834,  24.8268,   -999.0,9
       KS03-01,  137E,KS-0683,  1,     21,02-16027,2,20030228,1632, 26.9830, 136.0833, 4602,     49.8,  19.4258,  34.8978,2,   -999.0,9,-999.0000,9,    228.0,2,  -999.00,9,  -999.00,9,     0.10,2,     0.07,2,     0.02,2, -999.000,9, -999.000,9,  -999.00,9,   -999.0,9,   -999.0,9,-999.0000,9,   -999.0,  9,  -999.00,9,   -999.0,  -999.00,9,  -999.00,9,  -999.00,9,  -999.00,9,   -999.0,-999.0000, -999,9,   49,  19.4168,  24.8360,   -999.0,9
       KS03-01,  137E,KS-0683,  1,     20,02-16013,2,20030228,1631, 26.9830, 136.0833, 4602,     75.5,  19.3922,  34.8941,2,   -999.0,9,-999.0000,9,    226.0,2,  -999.00,9,  -999.00,9,     0.20,2,     0.10,2,     0.02,2, -999.000,9, -999.000,9,  -999.00,9,   -999.0,9,   -999.0,9,-999.0000,9,   -999.0,  9,  -999.00,9,   -999.0,  -999.00,9,  -999.00,9,  -999.00,9,  -999.00,9,   -999.0,-999.0000, -999,9,   75,  19.3786,  24.8431,   -999.0,9
       KS03-01,  137E,KS-0683,  1,     19,02-16025,2,20030228,1630, 26.9830, 136.0833, 4602,     99.8,  19.3460,  34.8903,2,   -999.0,9,  34.8912,2,    225.0,2,  -999.00,9,  -999.00,9,     0.29,2,     0.15,2,     0.03,2, -999.000,9, -999.000,9,  -999.00,9,   -999.0,9,   -999.0,9,-999.0000,9,   -999.0,  9,  -999.00,9,   -999.0,  -999.00,9,  -999.00,9,  -999.00,9,  -999.00,9,   -999.0,-999.0000, -999,9,   99,  19.3280,  24.8532,   -999.0,9
       KS03-01,  137E,KS-0683,  1,     18,02-16024,2,20030228,1629, 26.9830, 136.0833, 4602,    126.1,  19.3223,  34.8865,2,   -999.0,9,-999.0000,9,    225.0,2,  -999.00,9,  -999.00,9,     0.39,2,     0.15,2,     0.04,2, -999.000,9, -999.000,9,  -999.00,9,   -999.0,9,   -999.0,9,-999.0000,9,   -999.0,  9,  -999.00,9,   -999.0,  -999.00,9,  -999.00,9,  -999.00,9,  -999.00,9,   -999.0,-999.0000, -999,9,  125,  19.2996,  24.8576,   -999.0,9
       KS03-01,  137E,KS-0683,  1,     17,02-16023,2,20030228,1628, 26.9830, 136.0833, 4602,    151.1,  18.9891,  34.8448,2,   -999.0,9,-999.0000,9,    217.0,2,  -999.00,9,  -999.00,9,     1.66,2,     0.03,2,     0.11,2, -999.000,9, -999.000,9,  -999.00,9,   -999.0,9,   -999.0,9,-999.0000,9,   -999.0,  9,  -999.00,9,   -999.0,  -999.00,9,  -999.00,9,  -999.00,9,  -999.00,9,   -999.0,-999.0000, -999,9,  150,  18.9622,  24.9122,   -999.0,9
       KS03-01,  137E,KS-0683,  1,     16,02-16022,2,20030228,1626, 26.9830, 136.0833, 4602,    201.1,  18.5061,  34.8193,2,   -999.0,9,  34.8184,2,    214.0,2,  -999.00,9,  -999.00,9,     2.44,2,     0.01,2,     0.18,2, -999.000,9, -999.000,9,  -999.00,9,   -999.0,9,   -999.0,9,-999.0000,9,   -999.0,  9,  -999.00,9,   -999.0,  -999.00,9,  -999.00,9,  -999.00,9,  -999.00,9,   -999.0,-999.0000, -999,9,  200,  18.4709,  25.0167,   -999.0,9
       KS03-01,  137E,KS-0683,  1,     15,02-16021,4,20030228,1625, 26.9830, 136.0833, 4602,    250.6,  17.9834,  34.7625,2,   -999.0,9,-999.0000,9,   -999.0,9,  -999.00,9,  -999.00,9,  -999.00,9,  -999.00,9,  -999.00,9, -999.000,9, -999.000,9,  -999.00,9,   -999.0,9,   -999.0,9,-999.0000,9,   -999.0,  9,  -999.00,9,   -999.0,  -999.00,9,  -999.00,9,  -999.00,9,  -999.00,9,   -999.0,-999.0000, -999,9,  249,  17.9404,  25.1048,   -999.0,9
       KS03-01,  137E,KS-0683,  1,     14,02-16020,2,20030228,1624, 26.9830, 136.0833, 4602,    301.2,  17.3944,  34.7330,2,   -999.0,9,  34.7333,2,    201.0,2,  -999.00,9,  -999.00,9,     5.07,2,     0.00,2,     0.34,2, -999.000,9, -999.000,9,  -999.00,9,   -999.0,9,   -999.0,9,-999.0000,9,   -999.0,  9,  -999.00,9,   -999.0,  -999.00,9,  -999.00,9,  -999.00,9,  -999.00,9,   -999.0,-999.0000, -999,9,  299,  17.3439,  25.2272,   -999.0,9
       KS03-01,  137E,KS-0683,  1,     13,02-16019,2,20030228,1622, 26.9830, 136.0833, 4602,    402.8,  15.2404,  34.6142,2,   -999.0,9,  34.6140,2,    191.0,2,  -999.00,9,  -999.00,9,     9.36,2,     0.00,2,     0.62,2, -999.000,9, -999.000,9,  -999.00,9,   -999.0,9,   -999.0,9,-999.0000,9,   -999.0,  9,  -999.00,9,   -999.0,  -999.00,9,  -999.00,9,  -999.00,9,  -999.00,9,   -999.0,-999.0000, -999,9,  400,  15.1785,  25.6352,   -999.0,9
       KS03-01,  137E,KS-0683,  1,     12,02-16018,2,20030228,1618, 26.9830, 136.0833, 4602,    503.1,  12.5392,  34.4338,2,   -999.0,9,  34.4343,2,    179.0,2,  -999.00,9,  -999.00,9,    14.81,2,     0.00,2,     1.01,2, -999.000,9, -999.000,9,  -999.00,9,   -999.0,9,   -999.0,9,-999.0000,9,   -999.0,  9,  -999.00,9,   -999.0,  -999.00,9,  -999.00,9,  -999.00,9,  -999.00,9,   -999.0,-999.0000, -999,9,  499,  12.4712,  26.0586,   -999.0,9
       KS03-01,  137E,KS-0683,  1,     11,02-16017,2,20030228,1615, 26.9830, 136.0833, 4602,    604.3,   9.7928,  34.2528,2,   -999.0,9,  34.2536,2,    162.0,2,  -999.00,9,  -999.00,9,    21.14,2,     0.00,2,     1.48,2, -999.000,9, -999.000,9,  -999.00,9,   -999.0,9,   -999.0,9,-999.0000,9,   -999.0,  9,  -999.00,9,   -999.0,  -999.00,9,  -999.00,9,  -999.00,9,  -999.00,9,   -999.0,-999.0000, -999,9,  599,   9.7228,  26.4152,   -999.0,9
       KS03-01,  137E,KS-0683,  1,     10,02-16026,2,20030228,1613, 26.9830, 136.0833, 4602,    704.7,   6.8597,  34.1554,2,   -999.0,9,  34.1573,2,    120.0,2,  -999.00,9,  -999.00,9,    30.09,2,     0.00,2,     2.14,2, -999.000,9, -999.000,9,  -999.00,9,   -999.0,9,   -999.0,9,-999.0000,9,   -999.0,  9,  -999.00,9,   -999.0,  -999.00,9,  -999.00,9,  -999.00,9,  -999.00,9,   -999.0,-999.0000, -999,9,  699,   6.7929,  26.7817,   -999.0,9
       KS03-01,  137E,KS-0683,  1,      9,02-16012,2,20030228,1610, 26.9830, 136.0833, 4602,    805.5,   5.6332,  34.1748,2,   -999.0,9,  34.1764,2,     93.0,2,  -999.00,9,  -999.00,9,    34.47,2,     0.00,2,     2.47,2, -999.000,9, -999.000,9,  -999.00,9,   -999.0,9,   -999.0,9,-999.0000,9,   -999.0,  9,  -999.00,9,   -999.0,  -999.00,9,  -999.00,9,  -999.00,9,  -999.00,9,   -999.0,-999.0000, -999,9,  799,   5.5638,  26.9545,   -999.0,9
       KS03-01,  137E,KS-0683,  1,      8,02-16011,3,20030228,1608, 26.9830, 136.0833, 4602,    906.3,   4.6490,  34.2590,2,   -999.0,9,  34.2617,4,     72.0,2,  -999.00,9,  -999.00,9,    38.07,2,     0.00,2,     2.73,2, -999.000,9, -999.000,9,  -999.00,9,   -999.0,9,   -999.0,9,-999.0000,9,   -999.0,  9,  -999.00,9,   -999.0,  -999.00,9,  -999.00,9,  -999.00,9,  -999.00,9,   -999.0,-999.0000, -999,9,  898,   4.5769,  27.1353,   -999.0,9
       KS03-01,  137E,KS-0683,  1,      7,02-16016,3,20030228,1605, 26.9830, 136.0833, 4602,   1008.3,   3.9858,  34.3277,2,   -999.0,9,  34.3299,4,     65.0,2,  -999.00,9,  -999.00,9,    39.33,2,     0.00,2,     2.83,2, -999.000,9, -999.000,9,  -999.00,9,   -999.0,9,   -999.0,9,-999.0000,9,   -999.0,  9,  -999.00,9,   -999.0,  -999.00,9,  -999.00,9,  -999.00,9,  -999.00,9,   -999.0,-999.0000, -999,9,  999,   3.9099,  27.2606,   -999.0,9
       KS03-01,  137E,KS-0683,  1,      6,02-16009,9,20030228,1605, 26.9830, 136.0833, 4602,   1007.5,   4.0118,  34.3241,2,   -999.0,9,-999.0000,9,   -999.0,9,  -999.00,9,  -999.00,9,  -999.00,9,  -999.00,9,  -999.00,9, -999.000,9, -999.000,9,  -999.00,9,   -999.0,9,   -999.0,9,-999.0000,9,   -999.0,  9,  -999.00,9,   -999.0,  -999.00,9,  -999.00,9,  -999.00,9,  -999.00,9,   -999.0,-999.0000, -999,9,  998,   3.9357,  27.2551,   -999.0,9
       KS03-01,  137E,KS-0683,  1,      5,02-16008,2,20030228,1559, 26.9830, 136.0833, 4602,   1261.7,   2.9724,  34.4604,2,   -999.0,9,  34.4597,2,     64.0,2,  -999.00,9,  -999.00,9,    40.78,2,     0.00,2,     2.94,2, -999.000,9, -999.000,9,  -999.00,9,   -999.0,9,   -999.0,9,-999.0000,9,   -999.0,  9,  -999.00,9,   -999.0,  -999.00,9,  -999.00,9,  -999.00,9,  -999.00,9,   -999.0,-999.0000, -999,9, 1250,   2.8845,  27.4648,   -999.0,9
       KS03-01,  137E,KS-0683,  1,      4,02-16010,2,20030228,1554, 26.9830, 136.0833, 4602,   1513.7,   2.4932,  34.5353,2,   -999.0,9,  34.5355,2,     83.0,2,  -999.00,9,  -999.00,9,    40.09,2,     0.00,2,     2.85,2, -999.000,9, -999.000,9,  -999.00,9,   -999.0,9,   -999.0,9,-999.0000,9,   -999.0,  9,  -999.00,9,   -999.0,  -999.00,9,  -999.00,9,  -999.00,9,  -999.00,9,   -999.0,-999.0000, -999,9, 1498,   2.3902,  27.5676,   -999.0,9
       KS03-01,  137E,KS-0683,  1,      3,02-16015,2,20030228,1548, 26.9830, 136.0833, 4602,   1766.8,   2.1921,  34.5799,2,   -999.0,9,  34.5798,2,     99.0,2,  -999.00,9,  -999.00,9,    39.31,2,     0.00,2,     2.78,2, -999.000,9, -999.000,9,  -999.00,9,   -999.0,9,   -999.0,9,-999.0000,9,   -999.0,  9,  -999.00,9,   -999.0,  -999.00,9,  -999.00,9,  -999.00,9,  -999.00,9,   -999.0,-999.0000, -999,9, 1748,   2.0724,  27.6293,   -999.0,9
       KS03-01,  137E,KS-0683,  1,      2,02-16014,9,20030228,1543, 26.9830, 136.0833, 4602,   2019.7,   1.9790,  34.6098,2,   -999.0,9,-999.0000,9,   -999.0,9,  -999.00,9,  -999.00,9,  -999.00,9,  -999.00,9,  -999.00,9, -999.000,9, -999.000,9,  -999.00,9,   -999.0,9,   -999.0,9,-999.0000,9,   -999.0,  9,  -999.00,9,   -999.0,  -999.00,9,  -999.00,9,  -999.00,9,  -999.00,9,   -999.0,-999.0000, -999,9, 1997,   1.8413,  27.6714,   -999.0,9
       KS03-01,  137E,KS-0683,  1,      1,02-16007,2,20030228,1543, 26.9830, 136.0833, 4602,   2019.8,   1.9787,  34.6098,2,   -999.0,9,  34.6097,2,    112.0,2,  -999.00,9,  -999.00,9,    38.63,2,     0.00,2,     2.72,2, -999.000,9, -999.000,9,  -999.00,9,   -999.0,9,   -999.0,9,-999.0000,9,   -999.0,  9,  -999.00,9,   -999.0,  -999.00,9,  -999.00,9,  -999.00,9,  -999.00,9,   -999.0,-999.0000, -999,9, 1997,   1.8410,  27.6715,   -999.0,9