BOTTLE,20130510GEMDJMAYT
EXPOCODE,SECT_ID,STNNBR,CASTNO,SAMPNO,BTLNBR,BTLNBR_FLAG_W,DATE,TIME,LATITUDE,LONGITUDE,DEPTH,CTDPRS,CTDTMP,CTDSAL,CTDSAL_FLAG_W,CTDOXY,CTDOXY_FLAG_W,SALNTY,SALNTY_FLAG_W,OXYGEN,OXYGEN_FLAG_W,SILCAT,SILCAT_FLAG_W,NITRAT,NITRAT_FLAG_W,NO2+NO3,NO2+NO3_FLAG_W,NITRIT,NITRIT_FLAG_W,PHSPHT,PHSPHT_FLAG_W,CFC-11,CFC-11_FLAG_W,CFC-12,CFC-12_FLAG_W,DELC13,DELC13_FLAG_W,TCARBN,TCARBN_FLAG_W,ALKALI,ALKALI_FLAG_W,PH,PH_FLAG_W,PH_TMP,PH_SCALE,PH_NBS,PH_NBS_FLAG_W,C13ERR,TOTALP,TOTALP_FLAG_W,AMMONI,AMMONI_FLAG_W,CHLORA,CHLORA_FLAG_W,PPHYTN,PPHYTN_FLAG_W,REVPRS,REVTMP,DEPTH_,DEPTH_FLAG,CTDDEP,THETA,SIGTHT,DOC,DOC_FLAG_W
,,,,,,,GMT,GMT,,,METER,DBAR,ITS-90,PSS-78,,UMOL/KG,,PSS-78,,UMOL/KG,,UMOL/KG,,UMOL/KG,,UMOL/KG,,UMOL/KG,,UMOL/KG,,PMOL/KG,,PMOL/KG,,/MILLE,,UMOL/KG,,UMOL/KG,,25_DEG_C,,DEG_C,,,,/MILLE,UMOL/KG,,UMOL/KG,,UG/L,,UG/L,,DBAR,ITS-90,METERS,,METERS,DEG_C,,UMOL/L,
       KS03-01,  165E,KS-0645,  1,     24,02-16030,2,20030125,1411, 14.9950, 164.9795, 5201,    603.5,   6.3377,  34.4016,2,   -999.0,9,  34.4059,4,     57.0,2,  -999.00,9,  -999.00,9,    37.58,2,     0.00,2,     2.71,2, -999.000,9, -999.000,9,  -999.00,9,   -999.0,9,   -999.0,9,-999.0000,9,   -999.0,  9,     7.53,4,   -999.0,  -999.00,9,  -999.00,9,  -999.00,9,  -999.00,9,   -999.0,-999.0000, -999,9,  599,   6.2831,  27.0434,   -999.0,9
       KS03-01,  165E,KS-0645,  1,     23,02-16029,2,20030125,1409, 14.9950, 164.9795, 5201,    703.8,   5.6507,  34.4475,2,   -999.0,9,  34.4473,2,     61.0,2,  -999.00,9,  -999.00,9,    38.65,2,     0.00,2,     2.77,2, -999.000,9, -999.000,9,  -999.00,9,   -999.0,9,   -999.0,9,-999.0000,9,   -999.0,  9,     7.51,2,   -999.0,  -999.00,9,  -999.00,9,  -999.00,9,  -999.00,9,   -999.0,-999.0000, -999,9,  699,   5.5901,  27.1671,   -999.0,9
       KS03-01,  165E,KS-0645,  1,     22,02-16028,2,20030125,1407, 14.9950, 164.9795, 5201,    804.9,   5.0855,  34.4832,2,   -999.0,9,  34.4830,2,     65.0,2,  -999.00,9,  -999.00,9,    39.33,2,     0.00,2,     2.83,2, -999.000,9, -999.000,9,  -999.00,9,   -999.0,9,   -999.0,9,-999.0000,9,   -999.0,  9,     7.51,2,   -999.0,  -999.00,9,  -999.00,9,  -999.00,9,  -999.00,9,   -999.0,-999.0000, -999,9,  799,   5.0191,  27.2633,   -999.0,9
       KS03-01,  165E,KS-0645,  1,     21,02-16027,2,20030125,1405, 14.9950, 164.9795, 5201,    906.0,   4.6290,  34.5116,2,   -999.0,9,  34.5111,2,     68.0,2,  -999.00,9,  -999.00,9,    39.81,2,     0.00,2,     2.86,2, -999.000,9, -999.000,9,  -999.00,9,   -999.0,9,   -999.0,9,-999.0000,9,   -999.0,  9,     7.53,2,   -999.0,  -999.00,9,  -999.00,9,  -999.00,9,  -999.00,9,   -999.0,-999.0000, -999,9,  899,   4.5567,  27.3381,   -999.0,9
       KS03-01,  165E,KS-0645,  1,     20,02-16013,2,20030125,1403, 14.9950, 164.9795, 5201,   1008.1,   4.2485,  34.5259,2,   -999.0,9,  34.5256,2,     73.0,2,  -999.00,9,  -999.00,9,    39.81,2,     0.00,2,     2.86,2, -999.000,9, -999.000,9,  -999.00,9,   -999.0,9,   -999.0,9,-999.0000,9,   -999.0,  9,     7.54,2,   -999.0,  -999.00,9,  -999.00,9,  -999.00,9,  -999.00,9,   -999.0,-999.0000, -999,9, 1000,   4.1702,  27.3912,   -999.0,9
       KS03-01,  165E,KS-0645,  1,     19,02-16025,9,20030125,1358, 14.9950, 164.9795, 5201,   1261.1,   3.4908,  34.5592,2,   -999.0,9,-999.0000,9,   -999.0,9,  -999.00,9,  -999.00,9,  -999.00,9,  -999.00,9,  -999.00,9, -999.000,9, -999.000,9,  -999.00,9,   -999.0,9,   -999.0,9,-999.0000,9,   -999.0,  9,  -999.00,9,   -999.0,  -999.00,9,  -999.00,9,  -999.00,9,  -999.00,9,   -999.0,-999.0000, -999,9, 1250,   3.3977,  27.4958,   -999.0,9
       KS03-01,  165E,KS-0645,  1,     18,02-16024,2,20030125,1358, 14.9950, 164.9795, 5201,   1259.7,   3.4872,  34.5590,2,   -999.0,9,  34.5594,2,     75.0,2,  -999.00,9,  -999.00,9,    40.49,2,     0.00,2,     2.92,2, -999.000,9, -999.000,9,  -999.00,9,   -999.0,9,   -999.0,9,-999.0000,9,   -999.0,  9,     7.54,2,   -999.0,  -999.00,9,  -999.00,9,  -999.00,9,  -999.00,9,   -999.0,-999.0000, -999,9, 1249,   3.3943,  27.4960,   -999.0,9
       KS03-01,  165E,KS-0645,  1,     17,02-16023,9,20030125,1354, 14.9950, 164.9795, 5201,   1513.0,   2.8520,  34.5858,2,   -999.0,9,-999.0000,9,   -999.0,9,  -999.00,9,  -999.00,9,  -999.00,9,  -999.00,9,  -999.00,9, -999.000,9, -999.000,9,  -999.00,9,   -999.0,9,   -999.0,9,-999.0000,9,   -999.0,  9,  -999.00,9,   -999.0,  -999.00,9,  -999.00,9,  -999.00,9,  -999.00,9,   -999.0,-999.0000, -999,9, 1499,   2.7448,  27.5774,   -999.0,9
       KS03-01,  165E,KS-0645,  1,     16,02-16022,2,20030125,1354, 14.9950, 164.9795, 5201,   1512.3,   2.8498,  34.5859,2,   -999.0,9,  34.5855,2,     85.0,2,  -999.00,9,  -999.00,9,    40.29,2,     0.00,2,     2.84,2, -999.000,9, -999.000,9,  -999.00,9,   -999.0,9,   -999.0,9,-999.0000,9,   -999.0,  9,     7.55,2,   -999.0,  -999.00,9,  -999.00,9,  -999.00,9,  -999.00,9,   -999.0,-999.0000, -999,9, 1498,   2.7427,  27.5777,   -999.0,9
       KS03-01,  165E,KS-0645,  1,     15,02-16021,2,20030125,1349, 14.9950, 164.9795, 5201,   1766.6,   2.4501,  34.6107,2,   -999.0,9,  34.6101,2,     95.0,2,  -999.00,9,  -999.00,9,    39.90,2,     0.00,2,     2.80,2, -999.000,9, -999.000,9,  -999.00,9,   -999.0,9,   -999.0,9,-999.0000,9,   -999.0,  9,     7.56,2,   -999.0,  -999.00,9,  -999.00,9,  -999.00,9,  -999.00,9,   -999.0,-999.0000, -999,9, 1749,   2.3268,  27.6333,   -999.0,9
       KS03-01,  165E,KS-0645,  1,     14,02-16020,2,20030125,1345, 14.9950, 164.9795, 5201,   2020.8,   2.1100,  34.6321,2,   -999.0,9,  34.6317,2,    106.0,2,  -999.00,9,  -999.00,9,    39.31,2,     0.00,2,     2.80,2, -999.000,9, -999.000,9,  -999.00,9,   -999.0,9,   -999.0,9,-999.0000,9,   -999.0,  9,     7.59,2,   -999.0,  -999.00,9,  -999.00,9,  -999.00,9,  -999.00,9,   -999.0,-999.0000, -999,9, 1999,   1.9701,  27.6793,   -999.0,9
       KS03-01,  165E,KS-0645,  1,     13,02-16019,2,20030125,1336, 14.9950, 164.9795, 5201,   2530.1,   1.8012,  34.6562,2,   -999.0,9,  34.6600,4,    121.0,2,  -999.00,9,  -999.00,9,    38.63,2,     0.00,2,     2.73,2, -999.000,9, -999.000,9,  -999.00,9,   -999.0,9,   -999.0,9,-999.0000,9,   -999.0,  9,     7.62,2,   -999.0,  -999.00,9,  -999.00,9,  -999.00,9,  -999.00,9,   -999.0,-999.0000, -999,9, 2500,   1.6219,  27.7253,   -999.0,9
       KS03-01,  165E,KS-0645,  1,     12,02-16018,2,20030125,1328, 14.9950, 164.9795, 5201,   3038.5,   1.6087,  34.6710,2,   -999.0,9,  34.6690,2,    134.0,2,  -999.00,9,  -999.00,9,    37.65,2,     0.00,2,     2.65,2, -999.000,9, -999.000,9,  -999.00,9,   -999.0,9,   -999.0,9,-999.0000,9,   -999.0,  9,     7.64,2,   -999.0,  -999.00,9,  -999.00,9,  -999.00,9,  -999.00,9,   -999.0,-999.0000, -999,9, 2999,   1.3858,  27.7544,   -999.0,9
       KS03-01,  165E,KS-0645,  1,     11,02-16017,2,20030125,1320, 14.9950, 164.9795, 5201,   3549.6,   1.5123,  34.6808,2,   -999.0,9,  34.6796,2,    146.0,2,  -999.00,9,  -999.00,9,    36.97,2,     0.00,2,     2.59,2, -999.000,9, -999.000,9,  -999.00,9,   -999.0,9,   -999.0,9,-999.0000,9,   -999.0,  9,     7.65,2,   -999.0,  -999.00,9,  -999.00,9,  -999.00,9,  -999.00,9,   -999.0,-999.0000, -999,9, 3500,   1.2408,  27.7725,   -999.0,9
       KS03-01,  165E,KS-0645,  1,     10,02-16026,2,20030125,1312, 14.9950, 164.9795, 5201,   4061.3,   1.4420,  34.6895,2,   -999.0,9,  34.6887,2,    159.0,2,  -999.00,9,  -999.00,9,    36.00,2,     0.00,2,     2.50,2, -999.000,9, -999.000,9,  -999.00,9,   -999.0,9,   -999.0,9,-999.0000,9,   -999.0,  9,     7.68,2,   -999.0,  -999.00,9,  -999.00,9,  -999.00,9,  -999.00,9,   -999.0,-999.0000, -999,9, 3999,   1.1180,  27.7879,   -999.0,9
       KS03-01,  165E,KS-0645,  1,      9,02-16012,9,20030125,1303, 14.9950, 164.9795, 5201,   4571.2,   1.4069,  34.6961,2,   -999.0,9,-999.0000,9,   -999.0,9,  -999.00,9,  -999.00,9,  -999.00,9,  -999.00,9,  -999.00,9, -999.000,9, -999.000,9,  -999.00,9,   -999.0,9,   -999.0,9,-999.0000,9,   -999.0,  9,  -999.00,9,   -999.0,  -999.00,9,  -999.00,9,  -999.00,9,  -999.00,9,   -999.0,-999.0000, -999,9, 4496,   1.0266,  27.7994,   -999.0,9
       KS03-01,  165E,KS-0645,  1,      8,02-16011,9,20030125,1303, 14.9950, 164.9795, 5201,   4570.0,   1.4073,  34.6961,2,   -999.0,9,-999.0000,9,   -999.0,9,  -999.00,9,  -999.00,9,  -999.00,9,  -999.00,9,  -999.00,9, -999.000,9, -999.000,9,  -999.00,9,   -999.0,9,   -999.0,9,-999.0000,9,   -999.0,  9,  -999.00,9,   -999.0,  -999.00,9,  -999.00,9,  -999.00,9,  -999.00,9,   -999.0,-999.0000, -999,9, 4495,   1.0271,  27.7993,   -999.0,9
       KS03-01,  165E,KS-0645,  1,      7,02-16016,9,20030125,1303, 14.9950, 164.9795, 5201,   4569.8,   1.4075,  34.6960,2,   -999.0,9,-999.0000,9,   -999.0,9,  -999.00,9,  -999.00,9,  -999.00,9,  -999.00,9,  -999.00,9, -999.000,9, -999.000,9,  -999.00,9,   -999.0,9,   -999.0,9,-999.0000,9,   -999.0,  9,  -999.00,9,   -999.0,  -999.00,9,  -999.00,9,  -999.00,9,  -999.00,9,   -999.0,-999.0000, -999,9, 4495,   1.0273,  27.7993,   -999.0,9
       KS03-01,  165E,KS-0645,  1,      6,02-16009,9,20030125,1303, 14.9950, 164.9795, 5201,   4569.2,   1.4077,  34.6960,2,   -999.0,9,-999.0000,9,   -999.0,9,  -999.00,9,  -999.00,9,  -999.00,9,  -999.00,9,  -999.00,9, -999.000,9, -999.000,9,  -999.00,9,   -999.0,9,   -999.0,9,-999.0000,9,   -999.0,  9,  -999.00,9,   -999.0,  -999.00,9,  -999.00,9,  -999.00,9,  -999.00,9,   -999.0,-999.0000, -999,9, 4494,   1.0276,  27.7992,   -999.0,9
       KS03-01,  165E,KS-0645,  1,      5,02-16008,9,20030125,1303, 14.9950, 164.9795, 5201,   4568.7,   1.4079,  34.6959,2,   -999.0,9,-999.0000,9,   -999.0,9,  -999.00,9,  -999.00,9,  -999.00,9,  -999.00,9,  -999.00,9, -999.000,9, -999.000,9,  -999.00,9,   -999.0,9,   -999.0,9,-999.0000,9,   -999.0,  9,  -999.00,9,   -999.0,  -999.00,9,  -999.00,9,  -999.00,9,  -999.00,9,   -999.0,-999.0000, -999,9, 4494,   1.0278,  27.7992,   -999.0,9
       KS03-01,  165E,KS-0645,  1,      4,02-16010,2,20030125,1303, 14.9950, 164.9795, 5201,   4569.2,   1.4078,  34.6960,2,   -999.0,9,  34.6946,2,    171.0,2,  -999.00,9,  -999.00,9,    35.12,2,     0.00,2,     2.43,2, -999.000,9, -999.000,9,  -999.00,9,   -999.0,9,   -999.0,9,-999.0000,9,   -999.0,  9,     7.68,2,   -999.0,  -999.00,9,  -999.00,9,  -999.00,9,  -999.00,9,   -999.0,-999.0000, -999,9, 4494,   1.0277,  27.7992,   -999.0,9
       KS03-01,  165E,KS-0645,  1,      3,02-16015,3,20030125,1254, 14.9950, 164.9795, 5201,   5088.3,   1.3948,  34.7005,2,   -999.0,9,  34.6983,2,    179.0,2,  -999.00,9,  -999.00,9,    34.44,2,     0.00,2,     2.38,2, -999.000,9, -999.000,9,  -999.00,9,   -999.0,9,   -999.0,9,-999.0000,9,   -999.0,  9,     7.70,2,   -999.0,  -999.00,9,  -999.00,9,  -999.00,9,  -999.00,9,   -999.0,-999.0000, -999,9, 4999,   0.9533,  27.8078,   -999.0,9
       KS03-01,  165E,KS-0645,  1,      2,02-16014,2,20030125,1251, 14.9950, 164.9795, 5201,   5243.9,   1.4048,  34.7009,2,   -999.0,9,  34.6999,2,    181.0,2,  -999.00,9,  -999.00,9,    34.34,2,     0.00,2,     2.37,2, -999.000,9, -999.000,9,  -999.00,9,   -999.0,9,   -999.0,9,-999.0000,9,   -999.0,  9,     7.71,2,   -999.0,  -999.00,9,  -999.00,9,  -999.00,9,  -999.00,9,   -999.0,-999.0000, -999,9, 5150,   0.9438,  27.8088,   -999.0,9
       KS03-01,  165E,KS-0645,  1,      1,02-16007,9,20030125,1251, 14.9950, 164.9795, 5201,   5243.4,   1.4050,  34.7009,2,   -999.0,9,-999.0000,9,   -999.0,9,  -999.00,9,  -999.00,9,  -999.00,9,  -999.00,9,  -999.00,9, -999.000,9, -999.000,9,  -999.00,9,   -999.0,9,   -999.0,9,-999.0000,9,   -999.0,  9,  -999.00,9,   -999.0,  -999.00,9,  -999.00,9,  -999.00,9,  -999.00,9,   -999.0,-999.0000, -999,9, 5150,   0.9440,  27.8087,   -999.0,9