BOTTLE,20130510GEMDJMAYT
EXPOCODE,SECT_ID,STNNBR,CASTNO,SAMPNO,BTLNBR,BTLNBR_FLAG_W,DATE,TIME,LATITUDE,LONGITUDE,DEPTH,CTDPRS,CTDTMP,CTDSAL,CTDSAL_FLAG_W,CTDOXY,CTDOXY_FLAG_W,SALNTY,SALNTY_FLAG_W,OXYGEN,OXYGEN_FLAG_W,SILCAT,SILCAT_FLAG_W,NITRAT,NITRAT_FLAG_W,NO2+NO3,NO2+NO3_FLAG_W,NITRIT,NITRIT_FLAG_W,PHSPHT,PHSPHT_FLAG_W,CFC-11,CFC-11_FLAG_W,CFC-12,CFC-12_FLAG_W,DELC13,DELC13_FLAG_W,TCARBN,TCARBN_FLAG_W,ALKALI,ALKALI_FLAG_W,PH,PH_FLAG_W,PH_TMP,PH_SCALE,PH_NBS,PH_NBS_FLAG_W,C13ERR,TOTALP,TOTALP_FLAG_W,AMMONI,AMMONI_FLAG_W,CHLORA,CHLORA_FLAG_W,PPHYTN,PPHYTN_FLAG_W,REVPRS,REVTMP,DEPTH_,DEPTH_FLAG,CTDDEP,THETA,SIGTHT,DOC,DOC_FLAG_W
,,,,,,,GMT,GMT,,,METER,DBAR,ITS-90,PSS-78,,UMOL/KG,,PSS-78,,UMOL/KG,,UMOL/KG,,UMOL/KG,,UMOL/KG,,UMOL/KG,,UMOL/KG,,PMOL/KG,,PMOL/KG,,/MILLE,,UMOL/KG,,UMOL/KG,,25_DEG_C,,DEG_C,,,,/MILLE,UMOL/KG,,UMOL/KG,,UG/L,,UG/L,,DBAR,ITS-90,METERS,,METERS,DEG_C,,UMOL/L,
       KS03-01,  165E,KS-0635,  1,     24,02-16030,2,20030122,1214, 24.9960, 165.0220, 5887,      6.1,  25.0137,  35.4474,2,   -999.0,9,  35.4488,2,    205.0,2,  -999.00,9,  -999.00,9,     0.00,2,     0.00,2,     0.01,2, -999.000,9, -999.000,9,  -999.00,9,   -999.0,9,   -999.0,9,-999.0000,9,   -999.0,  9,     8.24,2,   -999.0,  -999.00,9,  -999.00,9,     0.06,2,     0.05,2,   -999.0,-999.0000, -999,9,    6,  25.0124,  23.6757,   -999.0,9
       KS03-01,  165E,KS-0635,  1,     23,02-16029,2,20030122,1213, 24.9960, 165.0220, 5887,      9.7,  25.0299,  35.4474,2,   -999.0,9,-999.0000,9,    205.0,2,  -999.00,9,  -999.00,9,     0.00,2,     0.00,2,     0.01,2, -999.000,9, -999.000,9,  -999.00,9,   -999.0,9,   -999.0,9,-999.0000,9,   -999.0,  9,     8.23,2,   -999.0,  -999.00,9,  -999.00,9,     0.08,2,     0.05,2,   -999.0,-999.0000, -999,9,   10,  25.0278,  23.6709,   -999.0,9
       KS03-01,  165E,KS-0635,  1,     22,02-16028,2,20030122,1212, 24.9960, 165.0220, 5887,     25.0,  25.0195,  35.4466,2,   -999.0,9,-999.0000,9,    206.0,2,  -999.00,9,  -999.00,9,     0.00,2,     0.00,2,     0.01,2, -999.000,9, -999.000,9,  -999.00,9,   -999.0,9,   -999.0,9,-999.0000,9,   -999.0,  9,     8.23,2,   -999.0,  -999.00,9,  -999.00,9,     0.07,2,     0.05,2,   -999.0,-999.0000, -999,9,   25,  25.0141,  23.6745,   -999.0,9
       KS03-01,  165E,KS-0635,  1,     21,02-16027,2,20030122,1209, 24.9960, 165.0220, 5887,     48.4,  25.0433,  35.4502,2,   -999.0,9,-999.0000,9,    206.0,2,  -999.00,9,  -999.00,9,     0.00,2,     0.00,2,     0.01,2, -999.000,9, -999.000,9,  -999.00,9,   -999.0,9,   -999.0,9,-999.0000,9,   -999.0,  9,     8.23,2,   -999.0,  -999.00,9,  -999.00,9,     0.07,2,     0.05,2,   -999.0,-999.0000, -999,9,   48,  25.0328,  23.6715,   -999.0,9
       KS03-01,  165E,KS-0635,  1,     20,02-16026,2,20030122,1208, 24.9960, 165.0220, 5887,     75.5,  25.0674,  35.4635,2,   -999.0,9,-999.0000,9,    206.0,2,  -999.00,9,  -999.00,9,     0.00,2,     0.00,2,     0.02,2, -999.000,9, -999.000,9,  -999.00,9,   -999.0,9,   -999.0,9,-999.0000,9,   -999.0,  9,     8.23,2,   -999.0,  -999.00,9,  -999.00,9,     0.08,2,     0.05,2,   -999.0,-999.0000, -999,9,   75,  25.0510,  23.6760,   -999.0,9
       KS03-01,  165E,KS-0635,  1,     19,02-16025,4,20030122,1207, 24.9960, 165.0220, 5887,     99.7,  23.5071,  35.0787,2,   -999.0,9,-999.0000,9,   -999.0,9,  -999.00,9,  -999.00,9,  -999.00,9,  -999.00,9,  -999.00,9, -999.000,9, -999.000,9,  -999.00,9,   -999.0,9,   -999.0,9,-999.0000,9,   -999.0,  9,  -999.00,9,   -999.0,  -999.00,9,  -999.00,9,  -999.00,9,  -999.00,9,   -999.0,-999.0000, -999,9,   99,  23.4864,  23.8521,   -999.0,9
       KS03-01,  165E,KS-0635,  1,     18,02-16024,3,20030122,1206, 24.9960, 165.0220, 5887,    126.3,  22.6661,  35.0540,2,   -999.0,9,-999.0000,9,    213.0,2,  -999.00,9,  -999.00,9,     0.00,2,     0.02,2,     0.02,2, -999.000,9, -999.000,9,  -999.00,9,   -999.0,9,   -999.0,9,-999.0000,9,   -999.0,  9,     8.19,2,   -999.0,  -999.00,9,  -999.00,9,     0.11,2,     0.21,2,   -999.0,-999.0000, -999,9,  125,  22.6406,  24.0777,   -999.0,9
       KS03-01,  165E,KS-0635,  1,     17,02-16023,4,20030122,1205, 24.9960, 165.0220, 5887,    151.2,  20.5884,  34.9670,2,   -999.0,9,-999.0000,9,   -999.0,9,  -999.00,9,  -999.00,9,  -999.00,9,  -999.00,9,  -999.00,9, -999.000,9, -999.000,9,  -999.00,9,   -999.0,9,   -999.0,9,-999.0000,9,   -999.0,  9,  -999.00,9,   -999.0,  -999.00,9,  -999.00,9,  -999.00,9,  -999.00,9,   -999.0,-999.0000, -999,9,  150,  20.5599,  24.5877,   -999.0,9
       KS03-01,  165E,KS-0635,  1,     16,02-16022,2,20030122,1203, 24.9960, 165.0220, 5887,    201.3,  17.5328,  34.7173,2,   -999.0,9,  34.7203,2,    210.0,2,  -999.00,9,  -999.00,9,     3.51,2,     0.01,2,     0.25,2, -999.000,9, -999.000,9,  -999.00,9,   -999.0,9,   -999.0,9,-999.0000,9,   -999.0,  9,     8.09,4,   -999.0,  -999.00,9,  -999.00,9,     0.02,2,     0.06,2,   -999.0,-999.0000, -999,9,  200,  17.4989,  25.1778,   -999.0,9
       KS03-01,  165E,KS-0635,  1,     15,02-16021,2,20030122,1201, 24.9960, 165.0220, 5887,    250.9,  16.8711,  34.6868,2,   -999.0,9,-999.0000,9,    215.0,2,  -999.00,9,  -999.00,9,     4.29,2,     0.01,2,     0.31,2, -999.000,9, -999.000,9,  -999.00,9,   -999.0,9,   -999.0,9,-999.0000,9,   -999.0,  9,     8.09,2,   -999.0,  -999.00,9,  -999.00,9,     0.00,2,     0.01,2,   -999.0,-999.0000, -999,9,  249,  16.8299,  25.3140,   -999.0,9
       KS03-01,  165E,KS-0635,  1,     14,02-16020,2,20030122,1159, 24.9960, 165.0220, 5887,    301.2,  16.0834,  34.6446,2,   -999.0,9,  34.6472,2,    210.0,2,  -999.00,9,  -999.00,9,     6.05,2,     0.00,2,     0.44,2, -999.000,9, -999.000,9,  -999.00,9,   -999.0,9,   -999.0,9,-999.0000,9,   -999.0,  9,     8.06,2,   -999.0,  -999.00,9,  -999.00,9,     0.00,2,     0.01,2,   -999.0,-999.0000, -999,9,  299,  16.0355,  25.4661,   -999.0,9
       KS03-01,  165E,KS-0635,  1,     13,02-16019,2,20030122,1156, 24.9960, 165.0220, 5887,    401.6,  13.4697,  34.4692,2,   -999.0,9,  34.4720,2,    203.0,2,  -999.00,9,  -999.00,9,    10.62,2,     0.00,2,     0.75,2, -999.000,9, -999.000,9,  -999.00,9,   -999.0,9,   -999.0,9,-999.0000,9,   -999.0,  9,     7.98,2,   -999.0,  -999.00,9,  -999.00,9,  -999.00,9,  -999.00,9,   -999.0,-999.0000, -999,9,  399,  13.4130,  25.8982,   -999.0,9
       KS03-01,  165E,KS-0635,  1,     12,02-16018,2,20030122,1154, 24.9960, 165.0220, 5887,    503.7,  11.2439,  34.2994,2,   -999.0,9,  34.3009,2,    197.0,2,  -999.00,9,  -999.00,9,    14.91,2,     0.00,2,     1.07,2, -999.000,9, -999.000,9,  -999.00,9,   -999.0,9,   -999.0,9,-999.0000,9,   -999.0,  9,     7.90,2,   -999.0,  -999.00,9,  -999.00,9,  -999.00,9,  -999.00,9,   -999.0,-999.0000, -999,9,  500,  11.1805,  26.1973,   -999.0,9
       KS03-01,  165E,KS-0635,  1,     11,02-16017,2,20030122,1151, 24.9960, 165.0220, 5887,    602.5,   8.2890,  34.1122,2,   -999.0,9,  34.1146,2,    152.0,2,  -999.00,9,  -999.00,9,    24.45,2,     0.00,2,     1.76,2, -999.000,9, -999.000,9,  -999.00,9,   -999.0,9,   -999.0,9,-999.0000,9,   -999.0,  9,     7.74,2,   -999.0,  -999.00,9,  -999.00,9,  -999.00,9,  -999.00,9,   -999.0,-999.0000, -999,9,  598,   8.2260,  26.5428,   -999.0,9
       KS03-01,  165E,KS-0635,  1,     10,02-17642,2,20030122,1149, 24.9960, 165.0220, 5887,    703.2,   6.2330,  34.0821,2,   -999.0,9,  34.0866,4,    104.0,2,  -999.00,9,  -999.00,9,    32.43,2,     0.00,2,     2.37,2, -999.000,9, -999.000,9,  -999.00,9,   -999.0,9,   -999.0,9,-999.0000,9,   -999.0,  9,     7.60,2,   -999.0,  -999.00,9,  -999.00,9,  -999.00,9,  -999.00,9,   -999.0,-999.0000, -999,9,  697,   6.1698,  26.8058,   -999.0,9
       KS03-01,  165E,KS-0635,  1,      9,02-16012,2,20030122,1147, 24.9960, 165.0220, 5887,    805.4,   5.0305,  34.1570,2,   -999.0,9,  34.1587,2,     67.0,2,  -999.00,9,  -999.00,9,    37.97,2,     0.00,2,     2.77,2, -999.000,9, -999.000,9,  -999.00,9,   -999.0,9,   -999.0,9,-999.0000,9,   -999.0,  9,     7.51,2,   -999.0,  -999.00,9,  -999.00,9,  -999.00,9,  -999.00,9,   -999.0,-999.0000, -999,9,  799,   4.9648,  27.0110,   -999.0,9
       KS03-01,  165E,KS-0635,  1,      8,02-16011,4,20030122,1144, 24.9960, 165.0220, 5887,    905.6,   4.2622,  34.2687,2,   -999.0,9,-999.0000,9,   -999.0,9,  -999.00,9,  -999.00,9,  -999.00,9,  -999.00,9,  -999.00,9, -999.000,9, -999.000,9,  -999.00,9,   -999.0,9,   -999.0,9,-999.0000,9,   -999.0,  9,  -999.00,9,   -999.0,  -999.00,9,  -999.00,9,  -999.00,9,  -999.00,9,   -999.0,-999.0000, -999,9,  898,   4.1928,  27.1843,   -999.0,9
       KS03-01,  165E,KS-0635,  1,      7,02-16016,9,20030122,1142, 24.9960, 165.0220, 5887,   1009.3,   3.9031,  34.3548,2,   -999.0,9,-999.0000,9,   -999.0,9,  -999.00,9,  -999.00,9,  -999.00,9,  -999.00,9,  -999.00,9, -999.000,9, -999.000,9,  -999.00,9,   -999.0,9,   -999.0,9,-999.0000,9,   -999.0,  9,  -999.00,9,   -999.0,  -999.00,9,  -999.00,9,  -999.00,9,  -999.00,9,   -999.0,-999.0000, -999,9, 1000,   3.8277,  27.2905,   -999.0,9
       KS03-01,  165E,KS-0635,  1,      6,02-16015,9,20030122,1141, 24.9960, 165.0220, 5887,   1007.9,   3.9069,  34.3541,2,   -999.0,9,-999.0000,9,   -999.0,9,  -999.00,9,  -999.00,9,  -999.00,9,  -999.00,9,  -999.00,9, -999.000,9, -999.000,9,  -999.00,9,   -999.0,9,   -999.0,9,-999.0000,9,   -999.0,  9,  -999.00,9,   -999.0,  -999.00,9,  -999.00,9,  -999.00,9,  -999.00,9,   -999.0,-999.0000, -999,9,  999,   3.8316,  27.2896,   -999.0,9
       KS03-01,  165E,KS-0635,  1,      5,02-16014,2,20030122,1141, 24.9960, 165.0220, 5887,   1008.7,   3.9036,  34.3544,2,   -999.0,9,  34.3547,2,     43.0,2,  -999.00,9,  -999.00,9,    41.47,2,     0.00,2,     3.04,2, -999.000,9, -999.000,9,  -999.00,9,   -999.0,9,   -999.0,9,-999.0000,9,   -999.0,  9,     7.47,2,   -999.0,  -999.00,9,  -999.00,9,  -999.00,9,  -999.00,9,   -999.0,-999.0000, -999,9, 1000,   3.8282,  27.2902,   -999.0,9
       KS03-01,  165E,KS-0635,  1,      4,02-16010,2,20030122,1137, 24.9960, 165.0220, 5887,   1258.4,   3.2249,  34.4825,2,   -999.0,9,  34.4836,2,     56.0,2,  -999.00,9,  -999.00,9,    41.27,2,     0.00,2,     3.01,2, -999.000,9, -999.000,9,  -999.00,9,   -999.0,9,   -999.0,9,-999.0000,9,   -999.0,  9,     7.50,2,   -999.0,  -999.00,9,  -999.00,9,  -999.00,9,  -999.00,9,   -999.0,-999.0000, -999,9, 1247,   3.1348,  27.4596,   -999.0,9
       KS03-01,  165E,KS-0635,  1,      3,02-16009,2,20030122,1132, 24.9960, 165.0220, 5887,   1512.6,   2.7253,  34.5445,2,   -999.0,9,  34.5451,2,     73.0,2,  -999.00,9,  -999.00,9,    40.68,2,     0.00,2,     2.95,2, -999.000,9, -999.000,9,  -999.00,9,   -999.0,9,   -999.0,9,-999.0000,9,   -999.0,  9,     7.54,2,   -999.0,  -999.00,9,  -999.00,9,  -999.00,9,  -999.00,9,   -999.0,-999.0000, -999,9, 1497,   2.6197,  27.5554,   -999.0,9
       KS03-01,  165E,KS-0635,  1,      2,02-16008,2,20030122,1127, 24.9960, 165.0220, 5887,   1765.8,   2.3142,  34.5805,2,   -999.0,9,  34.5802,2,     84.0,2,  -999.00,9,  -999.00,9,    40.29,2,     0.00,2,     2.90,2, -999.000,9, -999.000,9,  -999.00,9,   -999.0,9,   -999.0,9,-999.0000,9,   -999.0,  9,     7.56,2,   -999.0,  -999.00,9,  -999.00,9,  -999.00,9,  -999.00,9,   -999.0,-999.0000, -999,9, 1747,   2.1929,  27.6201,   -999.0,9
       KS03-01,  165E,KS-0635,  1,      1,02-16007,2,20030122,1123, 24.9960, 165.0220, 5887,   2020.9,   2.0121,  34.6111,2,   -999.0,9,  34.6119,2,     97.0,2,  -999.00,9,  -999.00,9,    39.70,2,     0.00,2,     2.86,2, -999.000,9, -999.000,9,  -999.00,9,   -999.0,9,   -999.0,9,-999.0000,9,   -999.0,  9,     7.58,2,   -999.0,  -999.00,9,  -999.00,9,  -999.00,9,  -999.00,9,   -999.0,-999.0000, -999,9, 1998,   1.8738,  27.6700,   -999.0,9