BOTTLE,20130510GEMDJMAYT
EXPOCODE,SECT_ID,STNNBR,CASTNO,SAMPNO,BTLNBR,BTLNBR_FLAG_W,DATE,TIME,LATITUDE,LONGITUDE,DEPTH,CTDPRS,CTDTMP,CTDSAL,CTDSAL_FLAG_W,CTDOXY,CTDOXY_FLAG_W,SALNTY,SALNTY_FLAG_W,OXYGEN,OXYGEN_FLAG_W,SILCAT,SILCAT_FLAG_W,NITRAT,NITRAT_FLAG_W,NO2+NO3,NO2+NO3_FLAG_W,NITRIT,NITRIT_FLAG_W,PHSPHT,PHSPHT_FLAG_W,CFC-11,CFC-11_FLAG_W,CFC-12,CFC-12_FLAG_W,DELC13,DELC13_FLAG_W,TCARBN,TCARBN_FLAG_W,ALKALI,ALKALI_FLAG_W,PH,PH_FLAG_W,PH_TMP,PH_SCALE,PH_NBS,PH_NBS_FLAG_W,C13ERR,TOTALP,TOTALP_FLAG_W,AMMONI,AMMONI_FLAG_W,CHLORA,CHLORA_FLAG_W,PPHYTN,PPHYTN_FLAG_W,REVPRS,REVTMP,DEPTH_,DEPTH_FLAG,CTDDEP,THETA,SIGTHT,DOC,DOC_FLAG_W
,,,,,,,GMT,GMT,,,METER,DBAR,ITS-90,PSS-78,,UMOL/KG,,PSS-78,,UMOL/KG,,UMOL/KG,,UMOL/KG,,UMOL/KG,,UMOL/KG,,UMOL/KG,,PMOL/KG,,PMOL/KG,,/MILLE,,UMOL/KG,,UMOL/KG,,25_DEG_C,,DEG_C,,,,/MILLE,UMOL/KG,,UMOL/KG,,UG/L,,UG/L,,DBAR,ITS-90,METERS,,METERS,DEG_C,,UMOL/L,
       KS03-01, EQPAC,KS-0672,  1,     24,02-16030,9,20030214,0351, -0.0203, 155.8305, 1947,    999.9,   4.6472,  34.5508,2,   -999.0,9,-999.0000,9,   -999.0,9,  -999.00,9,  -999.00,9,  -999.00,9,  -999.00,9,  -999.00,9, -999.000,9, -999.000,9,  -999.00,9,   -999.0,9,   -999.0,9,-999.0000,9,   -999.0,  9,  -999.00,9,   -999.0,  -999.00,9,  -999.00,9,  -999.00,9,  -999.00,9,   -999.0,-999.0000, -999,9,  992,   4.5665,  27.3682,   -999.0,9
       KS03-01, EQPAC,KS-0672,  1,     23,02-16029,9,20030214,0350, -0.0203, 155.8305, 1947,    999.5,   4.6477,  34.5509,2,   -999.0,9,-999.0000,9,   -999.0,9,  -999.00,9,  -999.00,9,  -999.00,9,  -999.00,9,  -999.00,9, -999.000,9, -999.000,9,  -999.00,9,   -999.0,9,   -999.0,9,-999.0000,9,   -999.0,  9,  -999.00,9,   -999.0,  -999.00,9,  -999.00,9,  -999.00,9,  -999.00,9,   -999.0,-999.0000, -999,9,  992,   4.5670,  27.3682,   -999.0,9
       KS03-01, EQPAC,KS-0672,  1,     22,02-16028,9,20030214,0350, -0.0203, 155.8305, 1947,   1000.4,   4.6460,  34.5509,2,   -999.0,9,-999.0000,9,   -999.0,9,  -999.00,9,  -999.00,9,  -999.00,9,  -999.00,9,  -999.00,9, -999.000,9, -999.000,9,  -999.00,9,   -999.0,9,   -999.0,9,-999.0000,9,   -999.0,  9,  -999.00,9,   -999.0,  -999.00,9,  -999.00,9,  -999.00,9,  -999.00,9,   -999.0,-999.0000, -999,9,  993,   4.5653,  27.3683,   -999.0,9
       KS03-01, EQPAC,KS-0672,  1,     21,02-16027,9,20030214,0350, -0.0203, 155.8305, 1947,    999.3,   4.6476,  34.5509,2,   -999.0,9,-999.0000,9,   -999.0,9,  -999.00,9,  -999.00,9,  -999.00,9,  -999.00,9,  -999.00,9, -999.000,9, -999.000,9,  -999.00,9,   -999.0,9,   -999.0,9,-999.0000,9,   -999.0,  9,  -999.00,9,   -999.0,  -999.00,9,  -999.00,9,  -999.00,9,  -999.00,9,   -999.0,-999.0000, -999,9,  991,   4.5670,  27.3682,   -999.0,9
       KS03-01, EQPAC,KS-0672,  1,     20,02-16013,9,20030214,0350, -0.0203, 155.8305, 1947,    999.9,   4.6468,  34.5508,2,   -999.0,9,-999.0000,9,   -999.0,9,  -999.00,9,  -999.00,9,  -999.00,9,  -999.00,9,  -999.00,9, -999.000,9, -999.000,9,  -999.00,9,   -999.0,9,   -999.0,9,-999.0000,9,   -999.0,  9,  -999.00,9,   -999.0,  -999.00,9,  -999.00,9,  -999.00,9,  -999.00,9,   -999.0,-999.0000, -999,9,  992,   4.5661,  27.3682,   -999.0,9
       KS03-01, EQPAC,KS-0672,  1,     19,02-16025,9,20030214,0350, -0.0203, 155.8305, 1947,    999.5,   4.6474,  34.5509,2,   -999.0,9,-999.0000,9,   -999.0,9,  -999.00,9,  -999.00,9,  -999.00,9,  -999.00,9,  -999.00,9, -999.000,9, -999.000,9,  -999.00,9,   -999.0,9,   -999.0,9,-999.0000,9,   -999.0,  9,  -999.00,9,   -999.0,  -999.00,9,  -999.00,9,  -999.00,9,  -999.00,9,   -999.0,-999.0000, -999,9,  992,   4.5667,  27.3682,   -999.0,9
       KS03-01, EQPAC,KS-0672,  1,     18,02-16024,9,20030214,0350, -0.0203, 155.8305, 1947,   1000.3,   4.6459,  34.5507,2,   -999.0,9,-999.0000,9,   -999.0,9,  -999.00,9,  -999.00,9,  -999.00,9,  -999.00,9,  -999.00,9, -999.000,9, -999.000,9,  -999.00,9,   -999.0,9,   -999.0,9,-999.0000,9,   -999.0,  9,  -999.00,9,   -999.0,  -999.00,9,  -999.00,9,  -999.00,9,  -999.00,9,   -999.0,-999.0000, -999,9,  992,   4.5652,  27.3682,   -999.0,9
       KS03-01, EQPAC,KS-0672,  1,     17,02-16023,9,20030214,0349, -0.0203, 155.8305, 1947,   1000.1,   4.6458,  34.5508,2,   -999.0,9,-999.0000,9,   -999.0,9,  -999.00,9,  -999.00,9,  -999.00,9,  -999.00,9,  -999.00,9, -999.000,9, -999.000,9,  -999.00,9,   -999.0,9,   -999.0,9,-999.0000,9,   -999.0,  9,  -999.00,9,   -999.0,  -999.00,9,  -999.00,9,  -999.00,9,  -999.00,9,   -999.0,-999.0000, -999,9,  992,   4.5651,  27.3683,   -999.0,9
       KS03-01, EQPAC,KS-0672,  1,     16,02-16022,9,20030214,0349, -0.0203, 155.8305, 1947,   1000.8,   4.6445,  34.5507,2,   -999.0,9,-999.0000,9,   -999.0,9,  -999.00,9,  -999.00,9,  -999.00,9,  -999.00,9,  -999.00,9, -999.000,9, -999.000,9,  -999.00,9,   -999.0,9,   -999.0,9,-999.0000,9,   -999.0,  9,  -999.00,9,   -999.0,  -999.00,9,  -999.00,9,  -999.00,9,  -999.00,9,   -999.0,-999.0000, -999,9,  993,   4.5637,  27.3684,   -999.0,9
       KS03-01, EQPAC,KS-0672,  1,     15,02-16021,9,20030214,0349, -0.0203, 155.8305, 1947,   1001.1,   4.6431,  34.5506,2,   -999.0,9,-999.0000,9,   -999.0,9,  -999.00,9,  -999.00,9,  -999.00,9,  -999.00,9,  -999.00,9, -999.000,9, -999.000,9,  -999.00,9,   -999.0,9,   -999.0,9,-999.0000,9,   -999.0,  9,  -999.00,9,   -999.0,  -999.00,9,  -999.00,9,  -999.00,9,  -999.00,9,   -999.0,-999.0000, -999,9,  993,   4.5623,  27.3685,   -999.0,9
       KS03-01, EQPAC,KS-0672,  1,     14,02-16020,9,20030214,0349, -0.0203, 155.8305, 1947,   1001.9,   4.6415,  34.5506,2,   -999.0,9,-999.0000,9,   -999.0,9,  -999.00,9,  -999.00,9,  -999.00,9,  -999.00,9,  -999.00,9, -999.000,9, -999.000,9,  -999.00,9,   -999.0,9,   -999.0,9,-999.0000,9,   -999.0,  9,  -999.00,9,   -999.0,  -999.00,9,  -999.00,9,  -999.00,9,  -999.00,9,   -999.0,-999.0000, -999,9,  994,   4.5607,  27.3686,   -999.0,9
       KS03-01, EQPAC,KS-0672,  1,     13,02-16019,9,20030214,0348, -0.0203, 155.8305, 1947,   1002.5,   4.6403,  34.5506,2,   -999.0,9,-999.0000,9,   -999.0,9,  -999.00,9,  -999.00,9,  -999.00,9,  -999.00,9,  -999.00,9, -999.000,9, -999.000,9,  -999.00,9,   -999.0,9,   -999.0,9,-999.0000,9,   -999.0,  9,  -999.00,9,   -999.0,  -999.00,9,  -999.00,9,  -999.00,9,  -999.00,9,   -999.0,-999.0000, -999,9,  995,   4.5594,  27.3688,   -999.0,9
       KS03-01, EQPAC,KS-0672,  1,     12,02-16018,9,20030214,0348, -0.0203, 155.8305, 1947,   1003.1,   4.6396,  34.5505,2,   -999.0,9,-999.0000,9,   -999.0,9,  -999.00,9,  -999.00,9,  -999.00,9,  -999.00,9,  -999.00,9, -999.000,9, -999.000,9,  -999.00,9,   -999.0,9,   -999.0,9,-999.0000,9,   -999.0,  9,  -999.00,9,   -999.0,  -999.00,9,  -999.00,9,  -999.00,9,  -999.00,9,   -999.0,-999.0000, -999,9,  995,   4.5587,  27.3688,   -999.0,9
       KS03-01, EQPAC,KS-0672,  1,     11,02-16017,9,20030214,0348, -0.0203, 155.8305, 1947,   1003.9,   4.6390,  34.5505,2,   -999.0,9,-999.0000,9,   -999.0,9,  -999.00,9,  -999.00,9,  -999.00,9,  -999.00,9,  -999.00,9, -999.000,9, -999.000,9,  -999.00,9,   -999.0,9,   -999.0,9,-999.0000,9,   -999.0,  9,  -999.00,9,   -999.0,  -999.00,9,  -999.00,9,  -999.00,9,  -999.00,9,   -999.0,-999.0000, -999,9,  996,   4.5580,  27.3688,   -999.0,9
       KS03-01, EQPAC,KS-0672,  1,     10,02-16026,2,20030214,0348, -0.0203, 155.8305, 1947,   1004.3,   4.6383,  34.5504,2,   -999.0,9,  34.5500,2,   -999.0,9,  -999.00,9,  -999.00,9,  -999.00,9,  -999.00,9,  -999.00,9, -999.000,9, -999.000,9,  -999.00,9,   -999.0,9,   -999.0,9,-999.0000,9,   -999.0,  9,  -999.00,9,   -999.0,  -999.00,9,  -999.00,9,  -999.00,9,  -999.00,9,   -999.0,-999.0000, -999,9,  996,   4.5573,  27.3689,   -999.0,9
       KS03-01, EQPAC,KS-0672,  1,      9,02-16012,2,20030214,0348, -0.0203, 155.8305, 1947,   1004.7,   4.6381,  34.5504,2,   -999.0,9,  34.5502,2,   -999.0,9,  -999.00,9,  -999.00,9,  -999.00,9,  -999.00,9,  -999.00,9, -999.000,9, -999.000,9,  -999.00,9,   -999.0,9,   -999.0,9,-999.0000,9,   -999.0,  9,  -999.00,9,   -999.0,  -999.00,9,  -999.00,9,  -999.00,9,  -999.00,9,   -999.0,-999.0000, -999,9,  997,   4.5571,  27.3688,   -999.0,9
       KS03-01, EQPAC,KS-0672,  1,      8,02-16011,2,20030214,0348, -0.0203, 155.8305, 1947,   1005.1,   4.6378,  34.5505,2,   -999.0,9,  34.5502,2,   -999.0,9,  -999.00,9,  -999.00,9,  -999.00,9,  -999.00,9,  -999.00,9, -999.000,9, -999.000,9,  -999.00,9,   -999.0,9,   -999.0,9,-999.0000,9,   -999.0,  9,  -999.00,9,   -999.0,  -999.00,9,  -999.00,9,  -999.00,9,  -999.00,9,   -999.0,-999.0000, -999,9,  997,   4.5567,  27.3690,   -999.0,9
       KS03-01, EQPAC,KS-0672,  1,      7,02-16016,3,20030214,0347, -0.0203, 155.8305, 1947,   1006.2,   4.6363,  34.5504,2,   -999.0,9,  34.5510,2,   -999.0,9,  -999.00,9,  -999.00,9,  -999.00,9,  -999.00,9,  -999.00,9, -999.000,9, -999.000,9,  -999.00,9,   -999.0,9,   -999.0,9,-999.0000,9,   -999.0,  9,  -999.00,9,   -999.0,  -999.00,9,  -999.00,9,  -999.00,9,  -999.00,9,   -999.0,-999.0000, -999,9,  998,   4.5551,  27.3691,   -999.0,9
       KS03-01, EQPAC,KS-0672,  1,      6,02-16009,2,20030214,0347, -0.0203, 155.8305, 1947,   1005.7,   4.6372,  34.5505,2,   -999.0,9,  34.5506,2,   -999.0,9,  -999.00,9,  -999.00,9,  -999.00,9,  -999.00,9,  -999.00,9, -999.000,9, -999.000,9,  -999.00,9,   -999.0,9,   -999.0,9,-999.0000,9,   -999.0,  9,  -999.00,9,   -999.0,  -999.00,9,  -999.00,9,  -999.00,9,  -999.00,9,   -999.0,-999.0000, -999,9,  998,   4.5561,  27.3690,   -999.0,9
       KS03-01, EQPAC,KS-0672,  1,      5,02-16008,2,20030214,0347, -0.0203, 155.8305, 1947,   1006.6,   4.6363,  34.5504,2,   -999.0,9,  34.5504,2,   -999.0,9,  -999.00,9,  -999.00,9,  -999.00,9,  -999.00,9,  -999.00,9, -999.000,9, -999.000,9,  -999.00,9,   -999.0,9,   -999.0,9,-999.0000,9,   -999.0,  9,  -999.00,9,   -999.0,  -999.00,9,  -999.00,9,  -999.00,9,  -999.00,9,   -999.0,-999.0000, -999,9,  999,   4.5551,  27.3691,   -999.0,9
       KS03-01, EQPAC,KS-0672,  1,      4,02-16010,2,20030214,0347, -0.0203, 155.8305, 1947,   1006.3,   4.6364,  34.5504,2,   -999.0,9,  34.5504,2,   -999.0,9,  -999.00,9,  -999.00,9,  -999.00,9,  -999.00,9,  -999.00,9, -999.000,9, -999.000,9,  -999.00,9,   -999.0,9,   -999.0,9,-999.0000,9,   -999.0,  9,  -999.00,9,   -999.0,  -999.00,9,  -999.00,9,  -999.00,9,  -999.00,9,   -999.0,-999.0000, -999,9,  998,   4.5552,  27.3691,   -999.0,9
       KS03-01, EQPAC,KS-0672,  1,      3,02-16015,2,20030214,0346, -0.0203, 155.8305, 1947,   1006.7,   4.6363,  34.5502,2,   -999.0,9,  34.5508,2,   -999.0,9,  -999.00,9,  -999.00,9,  -999.00,9,  -999.00,9,  -999.00,9, -999.000,9, -999.000,9,  -999.00,9,   -999.0,9,   -999.0,9,-999.0000,9,   -999.0,  9,  -999.00,9,   -999.0,  -999.00,9,  -999.00,9,  -999.00,9,  -999.00,9,   -999.0,-999.0000, -999,9,  999,   4.5551,  27.3689,   -999.0,9
       KS03-01, EQPAC,KS-0672,  1,      2,02-16014,2,20030214,0346, -0.0203, 155.8305, 1947,   1007.0,   4.6356,  34.5502,2,   -999.0,9,  34.5496,2,   -999.0,9,  -999.00,9,  -999.00,9,  -999.00,9,  -999.00,9,  -999.00,9, -999.000,9, -999.000,9,  -999.00,9,   -999.0,9,   -999.0,9,-999.0000,9,   -999.0,  9,  -999.00,9,   -999.0,  -999.00,9,  -999.00,9,  -999.00,9,  -999.00,9,   -999.0,-999.0000, -999,9,  999,   4.5544,  27.3690,   -999.0,9
       KS03-01, EQPAC,KS-0672,  1,      1,02-16007,2,20030214,0346, -0.0203, 155.8305, 1947,   1006.8,   4.6344,  34.5501,2,   -999.0,9,  34.5506,2,   -999.0,9,  -999.00,9,  -999.00,9,  -999.00,9,  -999.00,9,  -999.00,9, -999.000,9, -999.000,9,  -999.00,9,   -999.0,9,   -999.0,9,-999.0000,9,   -999.0,  9,  -999.00,9,   -999.0,  -999.00,9,  -999.00,9,  -999.00,9,  -999.00,9,   -999.0,-999.0000, -999,9,  999,   4.5532,  27.3691,   -999.0,9