BOTTLE,20130510GEMDJMAYT
EXPOCODE,SECT_ID,STNNBR,CASTNO,SAMPNO,BTLNBR,BTLNBR_FLAG_W,DATE,TIME,LATITUDE,LONGITUDE,DEPTH,CTDPRS,CTDTMP,CTDSAL,CTDSAL_FLAG_W,CTDOXY,CTDOXY_FLAG_W,SALNTY,SALNTY_FLAG_W,OXYGEN,OXYGEN_FLAG_W,SILCAT,SILCAT_FLAG_W,NITRAT,NITRAT_FLAG_W,NO2+NO3,NO2+NO3_FLAG_W,NITRIT,NITRIT_FLAG_W,PHSPHT,PHSPHT_FLAG_W,CFC-11,CFC-11_FLAG_W,CFC-12,CFC-12_FLAG_W,DELC13,DELC13_FLAG_W,TCARBN,TCARBN_FLAG_W,ALKALI,ALKALI_FLAG_W,PH,PH_FLAG_W,PH_TMP,PH_SCALE,PH_NBS,PH_NBS_FLAG_W,C13ERR,TOTALP,TOTALP_FLAG_W,AMMONI,AMMONI_FLAG_W,CHLORA,CHLORA_FLAG_W,PPHYTN,PPHYTN_FLAG_W,REVPRS,REVTMP,DEPTH_,DEPTH_FLAG,CTDDEP,THETA,SIGTHT,DOC,DOC_FLAG_W
,,,,,,,GMT,GMT,,,METER,DBAR,ITS-90,PSS-78,,UMOL/KG,,PSS-78,,UMOL/KG,,UMOL/KG,,UMOL/KG,,UMOL/KG,,UMOL/KG,,UMOL/KG,,PMOL/KG,,PMOL/KG,,/MILLE,,UMOL/KG,,UMOL/KG,,25_DEG_C,,DEG_C,,,,/MILLE,UMOL/KG,,UMOL/KG,,UG/L,,UG/L,,DBAR,ITS-90,METERS,,METERS,DEG_C,,UMOL/L,
       KS03-01,  NONE,KS-0693,  1,     24,02-16030,2,20030304,1251, 30.9847, 134.0965, 4446,      5.6,  21.4996,  34.8992,2,   -999.0,9,  34.9000,2,    215.0,2,  -999.00,9,  -999.00,9,     0.49,2,     0.11,2,     0.05,2, -999.000,9, -999.000,9,  -999.00,9,   1974.8,2,   -999.0,9,-999.0000,9,   -999.0,  9,     8.17,2,   -999.0,  -999.00,9,  -999.00,9,     0.22,2,     0.22,2,   -999.0,-999.0000, -999,9,    6,  21.4985,  24.2806,   -999.0,9
       KS03-01,  NONE,KS-0693,  1,     23,02-16029,2,20030304,1250, 30.9847, 134.0965, 4446,      9.4,  21.5037,  34.8984,2,   -999.0,9,-999.0000,9,    215.0,2,  -999.00,9,  -999.00,9,     0.49,2,     0.11,2,     0.05,2, -999.000,9, -999.000,9,  -999.00,9,   -999.0,9,   -999.0,9,-999.0000,9,   -999.0,  9,  -999.00,9,   -999.0,  -999.00,9,  -999.00,9,     0.24,2,     0.24,2,   -999.0,-999.0000, -999,9,    9,  21.5019,  24.2791,   -999.0,9
       KS03-01,  NONE,KS-0693,  1,     22,02-16028,2,20030304,1249, 30.9847, 134.0965, 4446,     25.5,  21.5120,  34.8982,2,   -999.0,9,-999.0000,9,    214.0,2,  -999.00,9,  -999.00,9,     0.49,2,     0.11,2,     0.05,2, -999.000,9, -999.000,9,  -999.00,9,   -999.0,9,   -999.0,9,-999.0000,9,   -999.0,  9,  -999.00,9,   -999.0,  -999.00,9,  -999.00,9,     0.24,2,     0.24,2,   -999.0,-999.0000, -999,9,   25,  21.5070,  24.2775,   -999.0,9
       KS03-01,  NONE,KS-0693,  1,     21,02-16027,2,20030304,1246, 30.9847, 134.0965, 4446,     50.4,  21.5096,  34.8983,2,   -999.0,9,-999.0000,9,    215.0,2,  -999.00,9,  -999.00,9,     0.49,2,     0.11,2,     0.05,2, -999.000,9, -999.000,9,  -999.00,9,   -999.0,9,   -999.0,9,-999.0000,9,   -999.0,  9,  -999.00,9,   -999.0,  -999.00,9,  -999.00,9,     0.24,2,     0.25,2,   -999.0,-999.0000, -999,9,   50,  21.4998,  24.2796,   -999.0,9
       KS03-01,  NONE,KS-0693,  1,     20,02-16013,2,20030304,1245, 30.9847, 134.0965, 4446,     75.8,  21.5127,  34.8974,2,   -999.0,9,-999.0000,9,    214.0,2,  -999.00,9,  -999.00,9,     0.49,2,     0.12,2,     0.05,2, -999.000,9, -999.000,9,  -999.00,9,   -999.0,9,   -999.0,9,-999.0000,9,   -999.0,  9,  -999.00,9,   -999.0,  -999.00,9,  -999.00,9,     0.25,2,     0.25,2,   -999.0,-999.0000, -999,9,   75,  21.4980,  24.2794,   -999.0,9
       KS03-01,  NONE,KS-0693,  1,     19,02-16025,2,20030304,1244, 30.9847, 134.0965, 4446,    100.9,  21.5164,  34.8964,2,   -999.0,9,  34.8987,2,    215.0,2,  -999.00,9,  -999.00,9,     0.49,2,     0.12,2,     0.06,2, -999.000,9, -999.000,9,  -999.00,9,   -999.0,9,   -999.0,9,-999.0000,9,   -999.0,  9,  -999.00,9,   -999.0,  -999.00,9,  -999.00,9,     0.24,2,     0.27,2,   -999.0,-999.0000, -999,9,  100,  21.4968,  24.2790,   -999.0,9
       KS03-01,  NONE,KS-0693,  1,     18,02-16024,4,20030304,1243, 30.9847, 134.0965, 4446,    125.3,  19.6580,  34.7965,2,   -999.0,9,-999.0000,9,   -999.0,9,  -999.00,9,  -999.00,9,  -999.00,9,  -999.00,9,  -999.00,9, -999.000,9, -999.000,9,  -999.00,9,   -999.0,9,   -999.0,9,-999.0000,9,   -999.0,  9,  -999.00,9,   -999.0,  -999.00,9,  -999.00,9,  -999.00,9,  -999.00,9,   -999.0,-999.0000, -999,9,  124,  19.6352,  24.7020,   -999.0,9
       KS03-01,  NONE,KS-0693,  1,     17,02-16023,4,20030304,1241, 30.9847, 134.0965, 4446,    149.0,  18.6957,  34.7196,2,   -999.0,9,-999.0000,9,   -999.0,9,  -999.00,9,  -999.00,9,  -999.00,9,  -999.00,9,  -999.00,9, -999.000,9, -999.000,9,  -999.00,9,   -999.0,9,   -999.0,9,-999.0000,9,   -999.0,  9,  -999.00,9,   -999.0,  -999.00,9,  -999.00,9,  -999.00,9,  -999.00,9,   -999.0,-999.0000, -999,9,  148,  18.6695,  24.8906,   -999.0,9
       KS03-01,  NONE,KS-0693,  1,     16,02-16022,2,20030304,1240, 30.9847, 134.0965, 4446,    200.8,  18.5674,  34.7462,2,   -999.0,9,  34.7480,2,    195.0,2,  -999.00,9,  -999.00,9,     4.88,2,     0.02,2,     0.34,2, -999.000,9, -999.000,9,  -999.00,9,   -999.0,9,   -999.0,9,-999.0000,9,   -999.0,  9,  -999.00,9,   -999.0,  -999.00,9,  -999.00,9,     0.01,2,     0.04,2,   -999.0,-999.0000, -999,9,  199,  18.5322,  24.9454,   -999.0,9
       KS03-01,  NONE,KS-0693,  1,     15,02-16021,9,20030304,1239, 30.9847, 134.0965, 4446,    251.1,  17.8472,  34.6927,2,   -999.0,9,-999.0000,9,   -999.0,9,  -999.00,9,  -999.00,9,  -999.00,9,  -999.00,9,  -999.00,9, -999.000,9, -999.000,9,  -999.00,9,   -999.0,9,   -999.0,9,-999.0000,9,   -999.0,  9,  -999.00,9,   -999.0,  -999.00,9,  -999.00,9,  -999.00,9,  -999.00,9,   -999.0,-999.0000, -999,9,  249,  17.8044,  25.0847,   -999.0,9
       KS03-01,  NONE,KS-0693,  1,     14,02-16020,2,20030304,1238, 30.9847, 134.0965, 4446,    251.5,  17.8457,  34.6930,2,   -999.0,9,-999.0000,9,    196.0,2,  -999.00,9,  -999.00,9,     5.76,2,     0.02,2,     0.40,2, -999.000,9, -999.000,9,  -999.00,9,   -999.0,9,   -999.0,9,-999.0000,9,   -999.0,  9,  -999.00,9,   -999.0,  -999.00,9,  -999.00,9,     0.01,2,     0.03,2,   -999.0,-999.0000, -999,9,  250,  17.8028,  25.0853,   -999.0,9
       KS03-01,  NONE,KS-0693,  1,     13,02-16019,2,20030304,1237, 30.9847, 134.0965, 4446,    303.3,  17.1118,  34.6625,2,   -999.0,9,  34.6584,4,    195.0,2,  -999.00,9,  -999.00,9,     6.73,2,     0.02,2,     0.47,2, -999.000,9, -999.000,9,  -999.00,9,   -999.0,9,   -999.0,9,-999.0000,9,   -999.0,  9,  -999.00,9,   -999.0,  -999.00,9,  -999.00,9,     0.01,2,     0.04,2,   -999.0,-999.0000, -999,9,  301,  17.0615,  25.2406,   -999.0,9
       KS03-01,  NONE,KS-0693,  1,     12,02-16018,2,20030304,1234, 30.9847, 134.0965, 4446,    403.6,  14.1155,  34.5514,2,   -999.0,9,  34.5547,4,    173.0,2,  -999.00,9,  -999.00,9,    12.97,2,     0.00,2,     0.90,2, -999.000,9, -999.000,9,  -999.00,9,   -999.0,9,   -999.0,9,-999.0000,9,   -999.0,  9,  -999.00,9,   -999.0,  -999.00,9,  -999.00,9,  -999.00,9,  -999.00,9,   -999.0,-999.0000, -999,9,  400,  14.0567,  25.8285,   -999.0,9
       KS03-01,  NONE,KS-0693,  1,     11,02-16017,2,20030304,1227, 30.9847, 134.0965, 4446,    504.8,  10.8217,  34.3253,2,   -999.0,9,  34.3295,4,    166.0,2,  -999.00,9,  -999.00,9,    18.71,2,     0.00,2,     1.30,2, -999.000,9, -999.000,9,  -999.00,9,   -999.0,9,   -999.0,9,-999.0000,9,   -999.0,  9,  -999.00,9,   -999.0,  -999.00,9,  -999.00,9,  -999.00,9,  -999.00,9,   -999.0,-999.0000, -999,9,  501,  10.7597,  26.2931,   -999.0,9
       KS03-01,  NONE,KS-0693,  1,     10,02-16026,2,20030304,1224, 30.9847, 134.0965, 4446,    604.2,   8.0683,  34.2362,2,   -999.0,9,  34.2368,2,    128.0,2,  -999.00,9,  -999.00,9,    27.18,2,     0.00,2,     1.92,2, -999.000,9, -999.000,9,  -999.00,9,   -999.0,9,   -999.0,9,-999.0000,9,   -999.0,  9,  -999.00,9,   -999.0,  -999.00,9,  -999.00,9,  -999.00,9,  -999.00,9,   -999.0,-999.0000, -999,9,  599,   8.0059,  26.6731,   -999.0,9
       KS03-01,  NONE,KS-0693,  1,      9,02-16012,2,20030304,1222, 30.9847, 134.0965, 4446,    704.8,   6.4102,  34.2624,2,   -999.0,9,  34.2646,2,     99.0,2,  -999.00,9,  -999.00,9,    32.52,2,     0.00,2,     2.32,2, -999.000,9, -999.000,9,  -999.00,9,   -999.0,9,   -999.0,9,-999.0000,9,   -999.0,  9,  -999.00,9,   -999.0,  -999.00,9,  -999.00,9,  -999.00,9,  -999.00,9,   -999.0,-999.0000, -999,9,  699,   6.3457,  26.9254,   -999.0,9
       KS03-01,  NONE,KS-0693,  1,      8,02-16011,2,20030304,1219, 30.9847, 134.0965, 4446,    806.5,   4.6380,  34.3137,2,   -999.0,9,  34.3142,2,     73.0,2,  -999.00,9,  -999.00,9,    37.77,2,     0.00,2,     2.69,2, -999.000,9, -999.000,9,  -999.00,9,   -999.0,9,   -999.0,9,-999.0000,9,   -999.0,  9,  -999.00,9,   -999.0,  -999.00,9,  -999.00,9,  -999.00,9,  -999.00,9,   -999.0,-999.0000, -999,9,  799,   4.5744,  27.1790,   -999.0,9
       KS03-01,  NONE,KS-0693,  1,      7,02-16016,3,20030304,1214, 30.9847, 134.0965, 4446,    907.6,   3.8773,  34.3640,2,   -999.0,9,  34.3637,2,     65.0,2,  -999.00,9,  -999.00,9,    39.52,2,     0.00,2,     2.82,2, -999.000,9, -999.000,9,  -999.00,9,   -999.0,9,   -999.0,9,-999.0000,9,   -999.0,  9,  -999.00,9,   -999.0,  -999.00,9,  -999.00,9,  -999.00,9,  -999.00,9,   -999.0,-999.0000, -999,9,  899,   3.8103,  27.2996,   -999.0,9
       KS03-01,  NONE,KS-0693,  1,      6,02-16009,9,20030304,1210, 30.9847, 134.0965, 4446,   1010.2,   3.5869,  34.4078,2,   -999.0,9,-999.0000,9,   -999.0,9,  -999.00,9,  -999.00,9,  -999.00,9,  -999.00,9,  -999.00,9, -999.000,9, -999.000,9,  -999.00,9,   -999.0,9,   -999.0,9,-999.0000,9,   -999.0,  9,  -999.00,9,   -999.0,  -999.00,9,  -999.00,9,  -999.00,9,  -999.00,9,   -999.0,-999.0000, -999,9, 1001,   3.5138,  27.3639,   -999.0,9
       KS03-01,  NONE,KS-0693,  1,      5,02-16008,2,20030304,1210, 30.9847, 134.0965, 4446,   1008.2,   3.5904,  34.4073,2,   -999.0,9,  34.4065,2,     66.0,2,  -999.00,9,  -999.00,9,    39.91,2,     0.00,2,     2.84,2, -999.000,9, -999.000,9,  -999.00,9,   -999.0,9,   -999.0,9,-999.0000,9,   -999.0,  9,  -999.00,9,   -999.0,  -999.00,9,  -999.00,9,  -999.00,9,  -999.00,9,   -999.0,-999.0000, -999,9,  999,   3.5174,  27.3631,   -999.0,9
       KS03-01,  NONE,KS-0693,  1,      4,02-16010,3,20030304,1205, 30.9847, 134.0965, 4446,   1258.8,   2.8956,  34.4917,2,   -999.0,9,  34.4911,2,     75.0,2,  -999.00,9,  -999.00,9,    40.10,2,     0.00,2,     2.85,2, -999.000,9, -999.000,9,  -999.00,9,   -999.0,9,   -999.0,9,-999.0000,9,   -999.0,  9,  -999.00,9,   -999.0,  -999.00,9,  -999.00,9,  -999.00,9,  -999.00,9,   -999.0,-999.0000, -999,9, 1246,   2.8086,  27.4966,   -999.0,9
       KS03-01,  NONE,KS-0693,  1,      3,02-16015,2,20030304,1157, 30.9847, 134.0965, 4446,   1514.8,   2.5048,  34.5378,2,   -999.0,9,  34.5366,2,     85.0,2,  -999.00,9,  -999.00,9,    39.80,2,     0.00,2,     2.80,2, -999.000,9, -999.000,9,  -999.00,9,   -999.0,9,   -999.0,9,-999.0000,9,   -999.0,  9,  -999.00,9,   -999.0,  -999.00,9,  -999.00,9,  -999.00,9,  -999.00,9,   -999.0,-999.0000, -999,9, 1499,   2.4016,  27.5686,   -999.0,9
       KS03-01,  NONE,KS-0693,  1,      2,02-16014,2,20030304,1153, 30.9847, 134.0965, 4446,   1767.2,   2.2051,  34.5759,2,   -999.0,9,  34.5747,2,     98.0,2,  -999.00,9,  -999.00,9,    39.12,2,     0.00,2,     2.75,2, -999.000,9, -999.000,9,  -999.00,9,   -999.0,9,   -999.0,9,-999.0000,9,   -999.0,  9,  -999.00,9,   -999.0,  -999.00,9,  -999.00,9,  -999.00,9,  -999.00,9,   -999.0,-999.0000, -999,9, 1748,   2.0852,  27.6251,   -999.0,9
       KS03-01,  NONE,KS-0693,  1,      1,02-16007,2,20030304,1148, 30.9847, 134.0965, 4446,   2021.5,   2.0239,  34.6026,2,   -999.0,9,  34.6018,2,    109.0,2,  -999.00,9,  -999.00,9,    38.53,2,     0.00,2,     2.71,2, -999.000,9, -999.000,9,  -999.00,9,   -999.0,9,   -999.0,9,-999.0000,9,   -999.0,  9,  -999.00,9,   -999.0,  -999.00,9,  -999.00,9,  -999.00,9,  -999.00,9,   -999.0,-999.0000, -999,9, 1998,   1.8854,  27.6623,   -999.0,9