BOTTLE,20130510GEMDJMAYT
EXPOCODE,SECT_ID,STNNBR,CASTNO,SAMPNO,BTLNBR,BTLNBR_FLAG_W,DATE,TIME,LATITUDE,LONGITUDE,DEPTH,CTDPRS,CTDTMP,CTDSAL,CTDSAL_FLAG_W,CTDOXY,CTDOXY_FLAG_W,SALNTY,SALNTY_FLAG_W,OXYGEN,OXYGEN_FLAG_W,SILCAT,SILCAT_FLAG_W,NITRAT,NITRAT_FLAG_W,NO2+NO3,NO2+NO3_FLAG_W,NITRIT,NITRIT_FLAG_W,PHSPHT,PHSPHT_FLAG_W,CFC-11,CFC-11_FLAG_W,CFC-12,CFC-12_FLAG_W,DELC13,DELC13_FLAG_W,TCARBN,TCARBN_FLAG_W,ALKALI,ALKALI_FLAG_W,PH,PH_FLAG_W,PH_TMP,PH_SCALE,PH_NBS,PH_NBS_FLAG_W,C13ERR,TOTALP,TOTALP_FLAG_W,AMMONI,AMMONI_FLAG_W,CHLORA,CHLORA_FLAG_W,PPHYTN,PPHYTN_FLAG_W,REVPRS,REVTMP,DEPTH_,DEPTH_FLAG,CTDDEP,THETA,SIGTHT,DOC,DOC_FLAG_W
,,,,,,,GMT,GMT,,,METER,DBAR,ITS-90,PSS-78,,UMOL/KG,,PSS-78,,UMOL/KG,,UMOL/KG,,UMOL/KG,,UMOL/KG,,UMOL/KG,,UMOL/KG,,PMOL/KG,,PMOL/KG,,/MILLE,,UMOL/KG,,UMOL/KG,,25_DEG_C,,DEG_C,,,,/MILLE,UMOL/KG,,UMOL/KG,,UG/L,,UG/L,,DBAR,ITS-90,METERS,,METERS,DEG_C,,UMOL/L,
       KS03-01,  NONE,KS-0688,  1,     24,02-16030,2,20030302,1148, 28.9752, 135.1147, 4784,      4.6,  20.0533,  34.8807,2,   -999.0,9,  34.8821,2,    224.0,2,  -999.00,9,  -999.00,9,     0.49,2,     0.20,2,     0.05,2, -999.000,9, -999.000,9,  -999.00,9,   1982.0,2,   -999.0,9,-999.0000,9,   -999.0,  9,     8.17,2,   -999.0,  -999.00,9,  -999.00,9,     0.24,2,     0.23,2,   -999.0,-999.0000, -999,9,    5,  20.0525,  24.6569,   -999.0,9
       KS03-01,  NONE,KS-0688,  1,     23,02-16029,2,20030302,1147, 28.9752, 135.1147, 4784,     10.4,  20.0339,  34.8815,2,   -999.0,9,-999.0000,9,    223.0,2,  -999.00,9,  -999.00,9,     0.59,2,     0.20,2,     0.05,2, -999.000,9, -999.000,9,  -999.00,9,   1982.8,2,   -999.0,9,-999.0000,9,   -999.0,  9,     8.16,2,   -999.0,  -999.00,9,  -999.00,9,     0.27,2,     0.28,2,   -999.0,-999.0000, -999,9,   10,  20.0320,  24.6629,   -999.0,9
       KS03-01,  NONE,KS-0688,  1,     22,02-16028,2,20030302,1146, 28.9752, 135.1147, 4784,     25.1,  20.0638,  34.8791,2,   -999.0,9,-999.0000,9,    223.0,2,  -999.00,9,  -999.00,9,     0.59,2,     0.20,2,     0.05,2, -999.000,9, -999.000,9,  -999.00,9,   -999.0,9,   -999.0,9,-999.0000,9,   -999.0,  9,     8.15,2,   -999.0,  -999.00,9,  -999.00,9,     0.28,2,     0.30,2,   -999.0,-999.0000, -999,9,   25,  20.0592,  24.6539,   -999.0,9
       KS03-01,  NONE,KS-0688,  1,     21,02-16027,2,20030302,1142, 28.9752, 135.1147, 4784,     50.0,  20.0550,  34.8786,2,   -999.0,9,-999.0000,9,    221.0,2,  -999.00,9,  -999.00,9,     0.59,2,     0.21,2,     0.05,2, -999.000,9, -999.000,9,  -999.00,9,   1981.4,2,   -999.0,9,-999.0000,9,   -999.0,  9,     8.16,2,   -999.0,  -999.00,9,  -999.00,9,     0.30,2,     0.29,2,   -999.0,-999.0000, -999,9,   50,  20.0458,  24.6571,   -999.0,9
       KS03-01,  NONE,KS-0688,  1,     20,02-16013,2,20030302,1142, 28.9752, 135.1147, 4784,     75.3,  20.0369,  34.8767,2,   -999.0,9,-999.0000,9,    221.0,2,  -999.00,9,  -999.00,9,     0.68,2,     0.23,2,     0.05,2, -999.000,9, -999.000,9,  -999.00,9,   1982.1,2,   -999.0,9,-999.0000,9,   -999.0,  9,     8.16,2,   -999.0,  -999.00,9,  -999.00,9,     0.25,2,     0.23,2,   -999.0,-999.0000, -999,9,   75,  20.0230,  24.6617,   -999.0,9
       KS03-01,  NONE,KS-0688,  1,     19,02-16025,2,20030302,1140, 28.9752, 135.1147, 4784,    100.9,  19.7244,  34.8641,2,   -999.0,9,  34.8625,4,    217.0,2,  -999.00,9,  -999.00,9,     1.17,2,     0.19,2,     0.08,2, -999.000,9, -999.000,9,  -999.00,9,   1989.6,2,   -999.0,9,-999.0000,9,   -999.0,  9,     8.15,2,   -999.0,  -999.00,9,  -999.00,9,     0.10,2,     0.13,2,   -999.0,-999.0000, -999,9,  100,  19.7060,  24.7352,   -999.0,9
       KS03-01,  NONE,KS-0688,  1,     18,02-16024,2,20030302,1139, 28.9752, 135.1147, 4784,    126.3,  19.4763,  34.8668,2,   -999.0,9,-999.0000,9,    222.0,2,  -999.00,9,  -999.00,9,     0.78,2,     0.28,2,     0.06,2, -999.000,9, -999.000,9,  -999.00,9,   1987.5,2,   -999.0,9,-999.0000,9,   -999.0,  9,     8.15,2,   -999.0,  -999.00,9,  -999.00,9,     0.10,2,     0.14,2,   -999.0,-999.0000, -999,9,  125,  19.4534,  24.8029,   -999.0,9
       KS03-01,  NONE,KS-0688,  1,     17,02-16023,2,20030302,1138, 28.9752, 135.1147, 4784,    151.4,  19.2888,  34.8585,2,   -999.0,9,-999.0000,9,    220.0,2,  -999.00,9,  -999.00,9,     1.17,2,     0.18,2,     0.08,2, -999.000,9, -999.000,9,  -999.00,9,   1990.7,2,   -999.0,9,-999.0000,9,   -999.0,  9,     8.14,2,   -999.0,  -999.00,9,  -999.00,9,     0.06,2,     0.08,2,   -999.0,-999.0000, -999,9,  150,  19.2615,  24.8460,   -999.0,9
       KS03-01,  NONE,KS-0688,  1,     16,02-16022,2,20030302,1137, 28.9752, 135.1147, 4784,    200.9,  18.9060,  34.8354,2,   -999.0,9,  34.8365,2,    215.0,2,  -999.00,9,  -999.00,9,     1.95,2,     0.04,2,     0.13,2, -999.000,9, -999.000,9,  -999.00,9,   1998.5,2,   -999.0,9,-999.0000,9,   -999.0,  9,     8.12,2,   -999.0,  -999.00,9,  -999.00,9,     0.01,2,     0.04,2,   -999.0,-999.0000, -999,9,  199,  18.8703,  24.9283,   -999.0,9
       KS03-01,  NONE,KS-0688,  1,     15,02-16021,9,20030302,1135, 28.9752, 135.1147, 4784,    251.7,  18.0829,  34.7738,2,   -999.0,9,-999.0000,9,   -999.0,9,  -999.00,9,  -999.00,9,  -999.00,9,  -999.00,9,  -999.00,9, -999.000,9, -999.000,9,  -999.00,9,   2019.7,2,   -999.0,9,-999.0000,9,   -999.0,  9,  -999.00,9,   -999.0,  -999.00,9,  -999.00,9,  -999.00,9,  -999.00,9,   -999.0,-999.0000, -999,9,  250,  18.0395,  25.0890,   -999.0,9
       KS03-01,  NONE,KS-0688,  1,     14,02-16020,2,20030302,1135, 28.9752, 135.1147, 4784,    250.1,  18.0623,  34.7720,2,   -999.0,9,-999.0000,9,    203.0,2,  -999.00,9,  -999.00,9,     4.10,2,     0.01,2,     0.27,2, -999.000,9, -999.000,9,  -999.00,9,   2020.8,2,   -999.0,9,-999.0000,9,   -999.0,  9,     8.09,2,   -999.0,  -999.00,9,  -999.00,9,     0.00,2,     0.02,2,   -999.0,-999.0000, -999,9,  248,  18.0193,  25.0927,   -999.0,9
       KS03-01,  NONE,KS-0688,  1,     13,02-16019,2,20030302,1133, 28.9752, 135.1147, 4784,    301.7,  17.3018,  34.7320,2,   -999.0,9,  34.7335,2,    196.0,2,  -999.00,9,  -999.00,9,     5.75,2,     0.00,2,     0.38,2, -999.000,9, -999.000,9,  -999.00,9,   -999.0,9,   -999.0,9,-999.0000,9,   -999.0,  9,     8.06,2,   -999.0,  -999.00,9,  -999.00,9,     0.00,2,     0.01,2,   -999.0,-999.0000, -999,9,  299,  17.2514,  25.2486,   -999.0,9
       KS03-01,  NONE,KS-0688,  1,     12,02-16018,2,20030302,1131, 28.9752, 135.1147, 4784,    402.0,  15.2435,  34.6200,2,   -999.0,9,  34.6227,2,    187.0,2,  -999.00,9,  -999.00,9,     9.56,2,     0.00,2,     0.63,2, -999.000,9, -999.000,9,  -999.00,9,   -999.0,9,   -999.0,9,-999.0000,9,   -999.0,  9,     7.99,2,   -999.0,  -999.00,9,  -999.00,9,  -999.00,9,  -999.00,9,   -999.0,-999.0000, -999,9,  399,  15.1818,  25.6390,   -999.0,9
       KS03-01,  NONE,KS-0688,  1,     11,02-16017,2,20030302,1128, 28.9752, 135.1147, 4784,    502.5,  12.6473,  34.4435,2,   -999.0,9,  34.4447,2,    178.0,2,  -999.00,9,  -999.00,9,    14.72,2,     0.00,2,     1.00,2, -999.000,9, -999.000,9,  -999.00,9,   -999.0,9,   -999.0,9,-999.0000,9,   -999.0,  9,     7.90,2,   -999.0,  -999.00,9,  -999.00,9,  -999.00,9,  -999.00,9,   -999.0,-999.0000, -999,9,  498,  12.5790,  26.0451,   -999.0,9
       KS03-01,  NONE,KS-0688,  1,     10,02-16026,2,20030302,1124, 28.9752, 135.1147, 4784,    603.3,  10.0107,  34.3019,2,   -999.0,9,  34.3038,2,    150.0,2,  -999.00,9,  -999.00,9,    21.92,2,     0.00,2,     1.54,2, -999.000,9, -999.000,9,  -999.00,9,   -999.0,9,   -999.0,9,-999.0000,9,   -999.0,  9,     7.81,2,   -999.0,  -999.00,9,  -999.00,9,  -999.00,9,  -999.00,9,   -999.0,-999.0000, -999,9,  598,   9.9398,  26.4170,   -999.0,9
       KS03-01,  NONE,KS-0688,  1,      9,02-16012,2,20030302,1122, 28.9752, 135.1147, 4784,    704.0,   7.4100,  34.1516,2,   -999.0,9,  34.1524,2,    131.0,2,  -999.00,9,  -999.00,9,    28.15,2,     0.00,2,     2.00,2, -999.000,9, -999.000,9,  -999.00,9,   -999.0,9,   -999.0,9,-999.0000,9,   -999.0,  9,     7.70,2,   -999.0,  -999.00,9,  -999.00,9,  -999.00,9,  -999.00,9,   -999.0,-999.0000, -999,9,  698,   7.3404,  26.7030,   -999.0,9
       KS03-01,  NONE,KS-0688,  1,      8,02-16011,2,20030302,1119, 28.9752, 135.1147, 4784,    805.2,   5.8902,  34.1699,2,   -999.0,9,  34.1699,2,     99.0,2,  -999.00,9,  -999.00,9,    33.60,2,     0.00,2,     2.40,2, -999.000,9, -999.000,9,  -999.00,9,   -999.0,9,   -999.0,9,-999.0000,9,   -999.0,  9,     7.58,2,   -999.0,  -999.00,9,  -999.00,9,  -999.00,9,  -999.00,9,   -999.0,-999.0000, -999,9,  798,   5.8192,  26.9194,   -999.0,9
       KS03-01,  NONE,KS-0688,  1,      7,02-16016,3,20030302,1116, 28.9752, 135.1147, 4784,   1008.5,   4.0896,  34.3109,2,   -999.0,9,  34.3103,2,     62.0,2,  -999.00,9,  -999.00,9,    39.72,2,     0.00,2,     2.84,2, -999.000,9, -999.000,9,  -999.00,9,   -999.0,9,   -999.0,9,-999.0000,9,   -999.0,  9,     7.52,2,   -999.0,  -999.00,9,  -999.00,9,  -999.00,9,  -999.00,9,   -999.0,-999.0000, -999,9,  999,   4.0129,  27.2367,   -999.0,9
       KS03-01,  NONE,KS-0688,  1,      6,02-16009,9,20030302,1115, 28.9752, 135.1147, 4784,   1008.2,   4.0923,  34.3100,2,   -999.0,9,-999.0000,9,   -999.0,9,  -999.00,9,  -999.00,9,  -999.00,9,  -999.00,9,  -999.00,9, -999.000,9, -999.000,9,  -999.00,9,   -999.0,9,   -999.0,9,-999.0000,9,   -999.0,  9,  -999.00,9,   -999.0,  -999.00,9,  -999.00,9,  -999.00,9,  -999.00,9,   -999.0,-999.0000, -999,9,  999,   4.0156,  27.2357,   -999.0,9
       KS03-01,  NONE,KS-0688,  1,      5,02-16008,2,20030302,1103, 28.9752, 135.1147, 4784,   1513.9,   2.6082,  34.5160,2,   -999.0,9,  34.5152,2,     76.0,2,  -999.00,9,  -999.00,9,    40.19,2,     0.00,2,     2.89,2, -999.000,9, -999.000,9,  -999.00,9,   -999.0,9,   -999.0,9,-999.0000,9,   -999.0,  9,     7.51,2,   -999.0,  -999.00,9,  -999.00,9,  -999.00,9,  -999.00,9,   -999.0,-999.0000, -999,9, 1498,   2.5039,  27.5426,   -999.0,9
       KS03-01,  NONE,KS-0688,  1,      4,02-16010,2,20030302,1052, 28.9752, 135.1147, 4784,   2021.4,   2.0080,  34.6047,2,   -999.0,9,  34.6040,2,    109.0,2,  -999.00,9,  -999.00,9,    38.73,2,     0.00,2,     2.73,2, -999.000,9, -999.000,9,  -999.00,9,   -999.0,9,   -999.0,9,-999.0000,9,   -999.0,  9,     7.61,2,   -999.0,  -999.00,9,  -999.00,9,  -999.00,9,  -999.00,9,   -999.0,-999.0000, -999,9, 1998,   1.8697,  27.6652,   -999.0,9
       KS03-01,  NONE,KS-0688,  1,      3,02-16015,2,20030302,1029, 28.9752, 135.1147, 4784,   3039.8,   1.6050,  34.6659,2,   -999.0,9,  34.6639,2,    142.0,2,  -999.00,9,  -999.00,9,    36.78,2,     0.00,2,     2.56,2, -999.000,9, -999.000,9,  -999.00,9,   -999.0,9,   -999.0,9,-999.0000,9,   -999.0,  9,     7.67,2,   -999.0,  -999.00,9,  -999.00,9,  -999.00,9,  -999.00,9,   -999.0,-999.0000, -999,9, 2998,   1.3821,  27.7506,   -999.0,9
       KS03-01,  NONE,KS-0688,  1,      2,02-16014,2,20030302,1006, 28.9752, 135.1147, 4784,   4064.9,   1.5534,  34.6828,2,   -999.0,9,  34.6767,4,    154.0,2,  -999.00,9,  -999.00,9,    36.00,2,     0.00,2,     2.50,2, -999.000,9, -999.000,9,  -999.00,9,   -999.0,9,   -999.0,9,-999.0000,9,   -999.0,  9,     7.69,2,   -999.0,  -999.00,9,  -999.00,9,  -999.00,9,  -999.00,9,   -999.0,-999.0000, -999,9, 3999,   1.2259,  27.7751,   -999.0,9
       KS03-01,  NONE,KS-0688,  1,      1,02-16007,2,20030302,0951, 28.9752, 135.1147, 4784,   4792.5,   1.6107,  34.6854,2,   -999.0,9,  34.6828,2,    158.0,2,  -999.00,9,  -999.00,9,    36.00,2,     0.00,2,     2.49,2, -999.000,9, -999.000,9,  -999.00,9,   -999.0,9,   -999.0,9,-999.0000,9,   -999.0,  9,     7.70,2,   -999.0,  -999.00,9,  -999.00,9,  -999.00,9,  -999.00,9,   -999.0,-999.0000, -999,9, 4707,   1.1978,  27.7792,   -999.0,9