BOTTLE,20130510GEMDJMAYT
EXPOCODE,SECT_ID,STNNBR,CASTNO,SAMPNO,BTLNBR,BTLNBR_FLAG_W,DATE,TIME,LATITUDE,LONGITUDE,DEPTH,CTDPRS,CTDTMP,CTDSAL,CTDSAL_FLAG_W,CTDOXY,CTDOXY_FLAG_W,SALNTY,SALNTY_FLAG_W,OXYGEN,OXYGEN_FLAG_W,SILCAT,SILCAT_FLAG_W,NITRAT,NITRAT_FLAG_W,NO2+NO3,NO2+NO3_FLAG_W,NITRIT,NITRIT_FLAG_W,PHSPHT,PHSPHT_FLAG_W,CFC-11,CFC-11_FLAG_W,CFC-12,CFC-12_FLAG_W,DELC13,DELC13_FLAG_W,TCARBN,TCARBN_FLAG_W,ALKALI,ALKALI_FLAG_W,PH,PH_FLAG_W,PH_TMP,PH_SCALE,PH_NBS,PH_NBS_FLAG_W,C13ERR,TOTALP,TOTALP_FLAG_W,AMMONI,AMMONI_FLAG_W,CHLORA,CHLORA_FLAG_W,PPHYTN,PPHYTN_FLAG_W,REVPRS,REVTMP,DEPTH_,DEPTH_FLAG,CTDDEP,THETA,SIGTHT,DOC,DOC_FLAG_W
,,,,,,,GMT,GMT,,,METER,DBAR,ITS-90,PSS-78,,UMOL/KG,,PSS-78,,UMOL/KG,,UMOL/KG,,UMOL/KG,,UMOL/KG,,UMOL/KG,,UMOL/KG,,PMOL/KG,,PMOL/KG,,/MILLE,,UMOL/KG,,UMOL/KG,,25_DEG_C,,DEG_C,,,,/MILLE,UMOL/KG,,UMOL/KG,,UG/L,,UG/L,,DBAR,ITS-90,METERS,,METERS,DEG_C,,UMOL/L,
       KS03-01,  165E,KS-0660,  1,     24,02-16030,2,20030209,0622,  0.0640, 164.9748, 4399,      5.5,  29.3450,  34.2092,2,   -999.0,9,  34.2119,2,    194.0,2,  -999.00,9,  -999.00,9,     0.00,2,     0.00,2,     0.09,2, -999.000,9, -999.000,9,  -999.00,9,   -999.0,9,   -999.0,9,-999.0000,9,   -999.0,  9,     8.25,2,   -999.0,  -999.00,9,  -999.00,9,     0.05,2,     0.04,2,   -999.0,-999.0000, -999,9,    6,  29.3436,  21.3555,   -999.0,9
       KS03-01,  165E,KS-0660,  1,     23,02-16029,2,20030209,0621,  0.0640, 164.9748, 4399,     11.0,  29.3515,  34.2074,2,   -999.0,9,-999.0000,9,    194.0,2,  -999.00,9,  -999.00,9,     0.00,2,     0.00,2,     0.10,2, -999.000,9, -999.000,9,  -999.00,9,   -999.0,9,   -999.0,9,-999.0000,9,   -999.0,  9,     8.25,2,   -999.0,  -999.00,9,  -999.00,9,     0.04,2,     0.04,2,   -999.0,-999.0000, -999,9,   11,  29.3488,  21.3524,   -999.0,9
       KS03-01,  165E,KS-0660,  1,     22,02-16028,2,20030209,0619,  0.0640, 164.9748, 4399,     25.7,  29.3454,  34.2061,2,   -999.0,9,-999.0000,9,    194.0,2,  -999.00,9,  -999.00,9,     0.00,2,     0.00,2,     0.09,2, -999.000,9, -999.000,9,  -999.00,9,   -999.0,9,   -999.0,9,-999.0000,9,   -999.0,  9,     8.25,2,   -999.0,  -999.00,9,  -999.00,9,     0.04,2,     0.04,2,   -999.0,-999.0000, -999,9,   26,  29.3391,  21.3546,   -999.0,9
       KS03-01,  165E,KS-0660,  1,     21,02-16027,2,20030209,0615,  0.0640, 164.9748, 4399,     48.2,  29.3074,  34.2029,2,   -999.0,9,-999.0000,9,    194.0,2,  -999.00,9,  -999.00,9,     0.00,2,     0.00,2,     0.10,2, -999.000,9, -999.000,9,  -999.00,9,   -999.0,9,   -999.0,9,-999.0000,9,   -999.0,  9,     8.26,2,   -999.0,  -999.00,9,  -999.00,9,     0.06,2,     0.05,2,   -999.0,-999.0000, -999,9,   48,  29.2957,  21.3668,   -999.0,9
       KS03-01,  165E,KS-0660,  1,     20,02-16013,2,20030209,0614,  0.0640, 164.9748, 4399,     73.9,  29.2602,  34.3232,2,   -999.0,9,-999.0000,9,    193.0,2,  -999.00,9,  -999.00,9,     0.00,2,     0.00,2,     0.11,2, -999.000,9, -999.000,9,  -999.00,9,   -999.0,9,   -999.0,9,-999.0000,9,   -999.0,  9,     8.25,2,   -999.0,  -999.00,9,  -999.00,9,     0.18,2,     0.12,2,   -999.0,-999.0000, -999,9,   73,  29.2423,  21.4750,   -999.0,9
       KS03-01,  165E,KS-0660,  1,     19,02-16025,2,20030209,0612,  0.0640, 164.9748, 4399,    101.8,  23.0663,  35.2634,2,   -999.0,9,  35.2351,4,    137.0,2,  -999.00,9,  -999.00,9,     9.18,2,     0.12,2,     0.71,2, -999.000,9, -999.000,9,  -999.00,9,   -999.0,9,   -999.0,9,-999.0000,9,   -999.0,  9,     8.07,2,   -999.0,  -999.00,9,  -999.00,9,     0.11,2,     0.65,2,   -999.0,-999.0000, -999,9,  101,  23.0455,  24.1203,   -999.0,9
       KS03-01,  165E,KS-0660,  1,     18,02-16024,2,20030209,0611,  0.0640, 164.9748, 4399,    126.2,  21.5013,  35.3034,2,   -999.0,9,-999.0000,9,    133.0,2,  -999.00,9,  -999.00,9,    10.25,2,     0.04,2,     0.80,2, -999.000,9, -999.000,9,  -999.00,9,   -999.0,9,   -999.0,9,-999.0000,9,   -999.0,  9,     8.03,2,   -999.0,  -999.00,9,  -999.00,9,     0.04,2,     0.27,2,   -999.0,-999.0000, -999,9,  125,  21.4767,  24.5941,   -999.0,9
       KS03-01,  165E,KS-0660,  1,     17,02-16023,2,20030209,0610,  0.0640, 164.9748, 4399,    151.4,  20.1742,  35.3642,2,   -999.0,9,-999.0000,9,    132.0,2,  -999.00,9,  -999.00,9,    11.02,2,     0.01,2,     0.85,2, -999.000,9, -999.000,9,  -999.00,9,   -999.0,9,   -999.0,9,-999.0000,9,   -999.0,  9,     8.01,2,   -999.0,  -999.00,9,  -999.00,9,     0.02,2,     0.07,2,   -999.0,-999.0000, -999,9,  151,  20.1460,  25.0010,   -999.0,9
       KS03-01,  165E,KS-0660,  1,     16,02-16022,2,20030209,0608,  0.0640, 164.9748, 4399,    199.6,  15.9850,  35.2072,2,   -999.0,9,  35.2140,4,    139.0,2,  -999.00,9,  -999.00,9,    14.62,2,     0.00,2,     1.09,2, -999.000,9, -999.000,9,  -999.00,9,   -999.0,9,   -999.0,9,-999.0000,9,   -999.0,  9,     7.94,2,   -999.0,  -999.00,9,  -999.00,9,     0.00,2,     0.01,2,   -999.0,-999.0000, -999,9,  198,  15.9534,  25.9177,   -999.0,9
       KS03-01,  165E,KS-0660,  1,     15,02-16021,9,20030209,0608,  0.0640, 164.9748, 4399,    198.6,  16.0600,  35.2146,2,   -999.0,9,-999.0000,9,   -999.0,9,  -999.00,9,  -999.00,9,  -999.00,9,  -999.00,9,  -999.00,9, -999.000,9, -999.000,9,  -999.00,9,   -999.0,9,   -999.0,9,-999.0000,9,   -999.0,  9,  -999.00,9,   -999.0,  -999.00,9,  -999.00,9,  -999.00,9,  -999.00,9,   -999.0,-999.0000, -999,9,  197,  16.0284,  25.9062,   -999.0,9
       KS03-01,  165E,KS-0660,  1,     14,02-16020,2,20030209,0606,  0.0640, 164.9748, 4399,    250.0,  13.9860,  35.0411,2,   -999.0,9,-999.0000,9,    138.0,2,  -999.00,9,  -999.00,9,    17.64,2,     0.00,2,     1.28,2, -999.000,9, -999.000,9,  -999.00,9,   -999.0,9,   -999.0,9,-999.0000,9,   -999.0,  9,     7.89,2,   -999.0,  -999.00,9,  -999.00,9,     0.00,2,     0.01,2,   -999.0,-999.0000, -999,9,  249,  13.9498,  26.2295,   -999.0,9
       KS03-01,  165E,KS-0660,  1,     13,02-16019,2,20030209,0604,  0.0640, 164.9748, 4399,    301.4,  11.6868,  34.8387,2,   -999.0,9,  34.8432,4,    105.0,2,  -999.00,9,  -999.00,9,    24.55,2,     0.00,2,     1.70,2, -999.000,9, -999.000,9,  -999.00,9,   -999.0,9,   -999.0,9,-999.0000,9,   -999.0,  9,     7.78,2,   -999.0,  -999.00,9,  -999.00,9,     0.00,2,     0.01,2,   -999.0,-999.0000, -999,9,  300,  11.6480,  26.5304,   -999.0,9
       KS03-01,  165E,KS-0660,  1,     12,02-16018,2,20030209,0601,  0.0640, 164.9748, 4399,    400.2,  10.0144,  34.7339,2,   -999.0,9,  34.7343,2,     86.0,2,  -999.00,9,  -999.00,9,    29.90,2,     0.00,2,     2.04,2, -999.000,9, -999.000,9,  -999.00,9,   -999.0,9,   -999.0,9,-999.0000,9,   -999.0,  9,     7.69,2,   -999.0,  -999.00,9,  -999.00,9,  -999.00,9,  -999.00,9,   -999.0,-999.0000, -999,9,  398,   9.9676,  26.7497,   -999.0,9
       KS03-01,  165E,KS-0660,  1,     11,02-16017,2,20030209,0558,  0.0640, 164.9748, 4399,    505.3,   8.4736,  34.6331,2,   -999.0,9,  34.6356,2,     80.0,2,  -999.00,9,  -999.00,9,    33.40,2,     0.00,2,     2.27,2, -999.000,9, -999.000,9,  -999.00,9,   -999.0,9,   -999.0,9,-999.0000,9,   -999.0,  9,     7.65,2,   -999.0,  -999.00,9,  -999.00,9,  -999.00,9,  -999.00,9,   -999.0,-999.0000, -999,9,  502,   8.4199,  26.9220,   -999.0,9
       KS03-01,  165E,KS-0660,  1,     10,02-16026,9,20030209,0558,  0.0640, 164.9748, 4399,    502.8,   8.5118,  34.6349,2,   -999.0,9,-999.0000,9,   -999.0,9,  -999.00,9,  -999.00,9,  -999.00,9,  -999.00,9,  -999.00,9, -999.000,9, -999.000,9,  -999.00,9,   -999.0,9,   -999.0,9,-999.0000,9,   -999.0,  9,  -999.00,9,   -999.0,  -999.00,9,  -999.00,9,  -999.00,9,  -999.00,9,   -999.0,-999.0000, -999,9,  499,   8.4583,  26.9175,   -999.0,9
       KS03-01,  165E,KS-0660,  1,      9,02-16012,2,20030209,0555,  0.0640, 164.9748, 4399,    604.1,   7.4379,  34.5827,2,   -999.0,9,  34.5849,2,     83.0,2,  -999.00,9,  -999.00,9,    34.95,2,     0.00,2,     2.40,2, -999.000,9, -999.000,9,  -999.00,9,   -999.0,9,   -999.0,9,-999.0000,9,   -999.0,  9,     7.63,2,   -999.0,  -999.00,9,  -999.00,9,  -999.00,9,  -999.00,9,   -999.0,-999.0000, -999,9,  600,   7.3781,  27.0369,   -999.0,9
       KS03-01,  165E,KS-0660,  1,      8,02-16011,2,20030209,0551,  0.0640, 164.9748, 4399,    703.8,   6.4173,  34.5522,2,   -999.0,9,  34.5531,2,     87.0,2,  -999.00,9,  -999.00,9,    36.70,2,     0.00,2,     2.53,2, -999.000,9, -999.000,9,  -999.00,9,   -999.0,9,   -999.0,9,-999.0000,9,   -999.0,  9,     7.62,2,   -999.0,  -999.00,9,  -999.00,9,  -999.00,9,  -999.00,9,   -999.0,-999.0000, -999,9,  699,   6.3525,  27.1533,   -999.0,9
       KS03-01,  165E,KS-0660,  1,      7,02-16016,3,20030209,0548,  0.0640, 164.9748, 4399,    805.6,   5.6271,  34.5422,2,   -999.0,9,  34.5476,4,     91.0,2,  -999.00,9,  -999.00,9,    37.38,2,     0.00,2,     2.60,2, -999.000,9, -999.000,9,  -999.00,9,   -999.0,9,   -999.0,9,-999.0000,9,   -999.0,  9,     7.61,2,   -999.0,  -999.00,9,  -999.00,9,  -999.00,9,  -999.00,9,   -999.0,-999.0000, -999,9,  800,   5.5572,  27.2461,   -999.0,9
       KS03-01,  165E,KS-0660,  1,      6,02-16009,3,20030209,0545,  0.0640, 164.9748, 4399,    907.5,   4.9233,  34.5459,2,   -999.0,9,  34.5484,2,     94.0,2,  -999.00,9,  -999.00,9,    38.16,2,     0.00,2,     2.67,2, -999.000,9, -999.000,9,  -999.00,9,   -999.0,9,   -999.0,9,-999.0000,9,   -999.0,  9,     7.61,2,   -999.0,  -999.00,9,  -999.00,9,  -999.00,9,  -999.00,9,   -999.0,-999.0000, -999,9,  901,   4.8488,  27.3326,   -999.0,9
       KS03-01,  165E,KS-0660,  1,      5,02-16008,9,20030209,0543,  0.0640, 164.9748, 4399,   1009.1,   4.6623,  34.5514,2,   -999.0,9,-999.0000,9,   -999.0,9,  -999.00,9,  -999.00,9,  -999.00,9,  -999.00,9,  -999.00,9, -999.000,9, -999.000,9,  -999.00,9,   -999.0,9,   -999.0,9,-999.0000,9,   -999.0,  9,  -999.00,9,   -999.0,  -999.00,9,  -999.00,9,  -999.00,9,  -999.00,9,   -999.0,-999.0000, -999,9, 1001,   4.5807,  27.3670,   -999.0,9
       KS03-01,  165E,KS-0660,  1,      4,02-16010,2,20030209,0542,  0.0640, 164.9748, 4399,   1007.3,   4.6733,  34.5512,2,   -999.0,9,  34.5508,2,     91.0,2,  -999.00,9,  -999.00,9,    38.55,2,     0.00,2,     2.71,2, -999.000,9, -999.000,9,  -999.00,9,   -999.0,9,   -999.0,9,-999.0000,9,   -999.0,  9,     7.60,2,   -999.0,  -999.00,9,  -999.00,9,  -999.00,9,  -999.00,9,   -999.0,-999.0000, -999,9,  999,   4.5918,  27.3656,   -999.0,9
       KS03-01,  165E,KS-0660,  1,      3,02-16015,2,20030209,0536,  0.0640, 164.9748, 4399,   1259.8,   3.6060,  34.5774,2,   -999.0,9,  34.5773,2,    103.0,2,  -999.00,9,  -999.00,9,    38.44,2,     0.00,2,     2.71,2, -999.000,9, -999.000,9,  -999.00,9,   -999.0,9,   -999.0,9,-999.0000,9,   -999.0,  9,     7.61,2,   -999.0,  -999.00,9,  -999.00,9,  -999.00,9,  -999.00,9,   -999.0,-999.0000, -999,9, 1249,   3.5119,  27.4993,   -999.0,9
       KS03-01,  165E,KS-0660,  1,      2,02-16014,3,20030209,0531,  0.0640, 164.9748, 4399,   1510.3,   2.9939,  34.6033,2,   -999.0,9,  34.6111,4,    101.0,4,  -999.00,9,  -999.00,9,    38.44,2,     0.00,2,     2.72,2, -999.000,9, -999.000,9,  -999.00,9,   -999.0,9,   -999.0,9,-999.0000,9,   -999.0,  9,     7.62,2,   -999.0,  -999.00,9,  -999.00,9,  -999.00,9,  -999.00,9,   -999.0,-999.0000, -999,9, 1497,   2.8852,  27.5789,   -999.0,9
       KS03-01,  165E,KS-0660,  1,      1,02-16007,2,20030209,0523,  0.0640, 164.9748, 4399,   2017.2,   2.2111,  34.6402,2,   -999.0,9,  34.6403,2,    117.0,2,  -999.00,9,  -999.00,9,    38.24,2,     0.00,2,     2.65,2, -999.000,9, -999.000,9,  -999.00,9,   -999.0,9,   -999.0,9,-999.0000,9,   -999.0,  9,     7.63,2,   -999.0,  -999.00,9,  -999.00,9,  -999.00,9,  -999.00,9,   -999.0,-999.0000, -999,9, 1997,   2.0700,  27.6778,   -999.0,9