BOTTLE,20130510GEMDJMAYT
EXPOCODE,SECT_ID,STNNBR,CASTNO,SAMPNO,BTLNBR,BTLNBR_FLAG_W,DATE,TIME,LATITUDE,LONGITUDE,DEPTH,CTDPRS,CTDTMP,CTDSAL,CTDSAL_FLAG_W,CTDOXY,CTDOXY_FLAG_W,SALNTY,SALNTY_FLAG_W,OXYGEN,OXYGEN_FLAG_W,SILCAT,SILCAT_FLAG_W,NITRAT,NITRAT_FLAG_W,NO2+NO3,NO2+NO3_FLAG_W,NITRIT,NITRIT_FLAG_W,PHSPHT,PHSPHT_FLAG_W,CFC-11,CFC-11_FLAG_W,CFC-12,CFC-12_FLAG_W,DELC13,DELC13_FLAG_W,TCARBN,TCARBN_FLAG_W,ALKALI,ALKALI_FLAG_W,PH,PH_FLAG_W,PH_TMP,PH_SCALE,PH_NBS,PH_NBS_FLAG_W,C13ERR,TOTALP,TOTALP_FLAG_W,AMMONI,AMMONI_FLAG_W,CHLORA,CHLORA_FLAG_W,PPHYTN,PPHYTN_FLAG_W,REVPRS,REVTMP,DEPTH_,DEPTH_FLAG,CTDDEP,THETA,SIGTHT,DOC,DOC_FLAG_W
,,,,,,,GMT,GMT,,,METER,DBAR,ITS-90,PSS-78,,UMOL/KG,,PSS-78,,UMOL/KG,,UMOL/KG,,UMOL/KG,,UMOL/KG,,UMOL/KG,,UMOL/KG,,PMOL/KG,,PMOL/KG,,/MILLE,,UMOL/KG,,UMOL/KG,,25_DEG_C,,DEG_C,,,,/MILLE,UMOL/KG,,UMOL/KG,,UG/L,,UG/L,,DBAR,ITS-90,METERS,,METERS,DEG_C,,UMOL/L,
       KS03-01,  165E,KS-0650,  1,     24,02-16030,2,20030127,0850,  9.9612, 163.9512, 5073,    604.1,   6.8780,  34.5343,2,   -999.0,9,  34.5341,2,     56.0,2,  -999.00,9,  -999.00,9,    37.49,2,     0.00,2,     2.67,2, -999.000,9, -999.000,9,  -999.00,9,   -999.0,9,   -999.0,9,-999.0000,9,   -999.0,  9,     7.55,2,   -999.0,  -999.00,9,  -999.00,9,  -999.00,9,  -999.00,9,   -999.0,-999.0000, -999,9,  600,   6.8207,  27.0766,   -999.0,9
       KS03-01,  165E,KS-0650,  1,     23,02-16029,2,20030127,0846,  9.9612, 163.9512, 5073,    705.6,   6.0861,  34.5297,2,   -999.0,9,  34.5292,2,     56.0,2,  -999.00,9,  -999.00,9,    39.04,2,     0.00,2,     2.78,2, -999.000,9, -999.000,9,  -999.00,9,   -999.0,9,   -999.0,9,-999.0000,9,   -999.0,  9,     7.49,2,   -999.0,  -999.00,9,  -999.00,9,  -999.00,9,  -999.00,9,   -999.0,-999.0000, -999,9,  700,   6.0229,  27.1781,   -999.0,9
       KS03-01,  165E,KS-0650,  1,     22,02-16028,2,20030127,0842,  9.9612, 163.9512, 5073,    806.7,   5.5692,  34.5332,2,   -999.0,9,  34.5319,2,     58.0,2,  -999.00,9,  -999.00,9,    39.72,2,     0.00,2,     2.83,2, -999.000,9, -999.000,9,  -999.00,9,   -999.0,9,   -999.0,9,-999.0000,9,   -999.0,  9,     7.49,2,   -999.0,  -999.00,9,  -999.00,9,  -999.00,9,  -999.00,9,   -999.0,-999.0000, -999,9,  801,   5.4996,  27.2460,   -999.0,9
       KS03-01,  165E,KS-0650,  1,     21,02-16027,2,20030127,0839,  9.9612, 163.9512, 5073,    907.4,   4.9346,  34.5406,2,   -999.0,9,  34.5390,2,     61.0,2,  -999.00,9,  -999.00,9,    40.40,2,     0.00,2,     2.89,2, -999.000,9, -999.000,9,  -999.00,9,   -999.0,9,   -999.0,9,-999.0000,9,   -999.0,  9,     7.51,2,   -999.0,  -999.00,9,  -999.00,9,  -999.00,9,  -999.00,9,   -999.0,-999.0000, -999,9,  900,   4.8600,  27.3271,   -999.0,9
       KS03-01,  165E,KS-0650,  1,     20,02-16013,9,20030127,0835,  9.9612, 163.9512, 5073,   1020.5,   4.5311,  34.5498,2,   -999.0,9,-999.0000,9,   -999.0,9,  -999.00,9,  -999.00,9,  -999.00,9,  -999.00,9,  -999.00,9, -999.000,9, -999.000,9,  -999.00,9,   -999.0,9,   -999.0,9,-999.0000,9,   -999.0,  9,  -999.00,9,   -999.0,  -999.00,9,  -999.00,9,  -999.00,9,  -999.00,9,   -999.0,-999.0000, -999,9, 1012,   4.4495,  27.3802,   -999.0,9
       KS03-01,  165E,KS-0650,  1,     19,02-16025,9,20030127,0834,  9.9612, 163.9512, 5073,   1017.3,   4.5400,  34.5494,2,   -999.0,9,-999.0000,9,   -999.0,9,  -999.00,9,  -999.00,9,  -999.00,9,  -999.00,9,  -999.00,9, -999.000,9, -999.000,9,  -999.00,9,   -999.0,9,   -999.0,9,-999.0000,9,   -999.0,  9,  -999.00,9,   -999.0,  -999.00,9,  -999.00,9,  -999.00,9,  -999.00,9,   -999.0,-999.0000, -999,9, 1009,   4.4586,  27.3789,   -999.0,9
       KS03-01,  165E,KS-0650,  1,     18,02-16024,9,20030127,0834,  9.9612, 163.9512, 5073,   1014.4,   4.5471,  34.5492,2,   -999.0,9,-999.0000,9,   -999.0,9,  -999.00,9,  -999.00,9,  -999.00,9,  -999.00,9,  -999.00,9, -999.000,9, -999.000,9,  -999.00,9,   -999.0,9,   -999.0,9,-999.0000,9,   -999.0,  9,  -999.00,9,   -999.0,  -999.00,9,  -999.00,9,  -999.00,9,  -999.00,9,   -999.0,-999.0000, -999,9, 1006,   4.4659,  27.3779,   -999.0,9
       KS03-01,  165E,KS-0650,  1,     17,02-16023,9,20030127,0834,  9.9612, 163.9512, 5073,   1012.5,   4.5487,  34.5491,2,   -999.0,9,-999.0000,9,   -999.0,9,  -999.00,9,  -999.00,9,  -999.00,9,  -999.00,9,  -999.00,9, -999.000,9, -999.000,9,  -999.00,9,   -999.0,9,   -999.0,9,-999.0000,9,   -999.0,  9,  -999.00,9,   -999.0,  -999.00,9,  -999.00,9,  -999.00,9,  -999.00,9,   -999.0,-999.0000, -999,9, 1004,   4.4677,  27.3777,   -999.0,9
       KS03-01,  165E,KS-0650,  1,     16,02-16022,9,20030127,0834,  9.9612, 163.9512, 5073,   1009.9,   4.5554,  34.5490,2,   -999.0,9,-999.0000,9,   -999.0,9,  -999.00,9,  -999.00,9,  -999.00,9,  -999.00,9,  -999.00,9, -999.000,9, -999.000,9,  -999.00,9,   -999.0,9,   -999.0,9,-999.0000,9,   -999.0,  9,  -999.00,9,   -999.0,  -999.00,9,  -999.00,9,  -999.00,9,  -999.00,9,   -999.0,-999.0000, -999,9, 1002,   4.4745,  27.3768,   -999.0,9
       KS03-01,  165E,KS-0650,  1,     15,02-16021,2,20030127,0834,  9.9612, 163.9512, 5073,   1009.0,   4.5588,  34.5490,2,   -999.0,9,  34.5474,2,     64.0,2,  -999.00,9,  -999.00,9,    40.49,2,     0.00,2,     2.91,2, -999.000,9, -999.000,9,  -999.00,9,   -999.0,9,   -999.0,9,-999.0000,9,   -999.0,  9,     7.52,2,   -999.0,  -999.00,9,  -999.00,9,  -999.00,9,  -999.00,9,   -999.0,-999.0000, -999,9, 1001,   4.4780,  27.3764,   -999.0,9
       KS03-01,  165E,KS-0650,  1,     14,02-16020,2,20030127,0826,  9.9612, 163.9512, 5073,   1263.4,   3.5425,  34.5782,2,   -999.0,9,  34.5767,2,     83.0,2,  -999.00,9,  -999.00,9,    39.71,2,     0.00,2,     2.83,2, -999.000,9, -999.000,9,  -999.00,9,   -999.0,9,   -999.0,9,-999.0000,9,   -999.0,  9,     7.55,2,   -999.0,  -999.00,9,  -999.00,9,  -999.00,9,  -999.00,9,   -999.0,-999.0000, -999,9, 1252,   3.4487,  27.5061,   -999.0,9
       KS03-01,  165E,KS-0650,  1,     13,02-16019,2,20030127,0818,  9.9612, 163.9512, 5073,   1515.0,   2.9741,  34.5992,2,   -999.0,9,  34.5987,2,     91.0,2,  -999.00,9,  -999.00,9,    39.61,2,     0.00,2,     2.83,2, -999.000,9, -999.000,9,  -999.00,9,   -999.0,9,   -999.0,9,-999.0000,9,   -999.0,  9,     7.56,2,   -999.0,  -999.00,9,  -999.00,9,  -999.00,9,  -999.00,9,   -999.0,-999.0000, -999,9, 1501,   2.8652,  27.5774,   -999.0,9
       KS03-01,  165E,KS-0650,  1,     12,02-16018,2,20030127,0811,  9.9612, 163.9512, 5073,   1766.4,   2.5438,  34.6159,2,   -999.0,9,  34.6154,2,     95.0,2,  -999.00,9,  -999.00,9,    39.41,2,     0.00,2,     2.82,2, -999.000,9, -999.000,9,  -999.00,9,   -999.0,9,   -999.0,9,-999.0000,9,   -999.0,  9,     7.56,4,   -999.0,  -999.00,9,  -999.00,9,  -999.00,9,  -999.00,9,   -999.0,-999.0000, -999,9, 1749,   2.4192,  27.6296,   -999.0,9
       KS03-01,  165E,KS-0650,  1,     11,02-16017,2,20030127,0804,  9.9612, 163.9512, 5073,   2019.7,   2.2130,  34.6357,2,   -999.0,9,  34.6352,2,    106.0,2,  -999.00,9,  -999.00,9,    38.92,2,     0.00,2,     2.77,2, -999.000,9, -999.000,9,  -999.00,9,   -999.0,9,   -999.0,9,-999.0000,9,   -999.0,  9,     7.60,2,   -999.0,  -999.00,9,  -999.00,9,  -999.00,9,  -999.00,9,   -999.0,-999.0000, -999,9, 1999,   2.0716,  27.6741,   -999.0,9
       KS03-01,  165E,KS-0650,  1,     10,02-16026,9,20030127,0753,  9.9612, 163.9512, 5073,   2531.5,   1.8441,  34.6587,2,   -999.0,9,-999.0000,9,   -999.0,9,  -999.00,9,  -999.00,9,  -999.00,9,  -999.00,9,  -999.00,9, -999.000,9, -999.000,9,  -999.00,9,   -999.0,9,   -999.0,9,-999.0000,9,   -999.0,  9,  -999.00,9,   -999.0,  -999.00,9,  -999.00,9,  -999.00,9,  -999.00,9,   -999.0,-999.0000, -999,9, 2502,   1.6639,  27.7242,   -999.0,9
       KS03-01,  165E,KS-0650,  1,      9,02-16012,9,20030127,0752,  9.9612, 163.9512, 5073,   2529.5,   1.8442,  34.6587,2,   -999.0,9,-999.0000,9,   -999.0,9,  -999.00,9,  -999.00,9,  -999.00,9,  -999.00,9,  -999.00,9, -999.000,9, -999.000,9,  -999.00,9,   -999.0,9,   -999.0,9,-999.0000,9,   -999.0,  9,  -999.00,9,   -999.0,  -999.00,9,  -999.00,9,  -999.00,9,  -999.00,9,   -999.0,-999.0000, -999,9, 2500,   1.6641,  27.7241,   -999.0,9
       KS03-01,  165E,KS-0650,  1,      8,02-16011,2,20030127,0752,  9.9612, 163.9512, 5073,   2528.0,   1.8442,  34.6587,2,   -999.0,9,  34.6578,2,    120.0,2,  -999.00,9,  -999.00,9,    38.24,2,     0.00,2,     2.71,2, -999.000,9, -999.000,9,  -999.00,9,   -999.0,9,   -999.0,9,-999.0000,9,   -999.0,  9,     7.62,2,   -999.0,  -999.00,9,  -999.00,9,  -999.00,9,  -999.00,9,   -999.0,-999.0000, -999,9, 2499,   1.6643,  27.7242,   -999.0,9
       KS03-01,  165E,KS-0650,  1,      7,02-16016,9,20030127,0741,  9.9612, 163.9512, 5073,   3042.2,   1.6346,  34.6730,2,   -999.0,9,-999.0000,9,   -999.0,9,  -999.00,9,  -999.00,9,  -999.00,9,  -999.00,9,  -999.00,9, -999.000,9, -999.000,9,  -999.00,9,   -999.0,9,   -999.0,9,-999.0000,9,   -999.0,  9,  -999.00,9,   -999.0,  -999.00,9,  -999.00,9,  -999.00,9,  -999.00,9,   -999.0,-999.0000, -999,9, 3003,   1.4108,  27.7542,   -999.0,9
       KS03-01,  165E,KS-0650,  1,      6,02-16009,9,20030127,0741,  9.9612, 163.9512, 5073,   3039.9,   1.6348,  34.6729,2,   -999.0,9,-999.0000,9,   -999.0,9,  -999.00,9,  -999.00,9,  -999.00,9,  -999.00,9,  -999.00,9, -999.000,9, -999.000,9,  -999.00,9,   -999.0,9,   -999.0,9,-999.0000,9,   -999.0,  9,  -999.00,9,   -999.0,  -999.00,9,  -999.00,9,  -999.00,9,  -999.00,9,   -999.0,-999.0000, -999,9, 3001,   1.4112,  27.7541,   -999.0,9
       KS03-01,  165E,KS-0650,  1,      5,02-16008,2,20030127,0741,  9.9612, 163.9512, 5073,   3038.8,   1.6350,  34.6729,2,   -999.0,9,  34.6704,2,    133.0,2,  -999.00,9,  -999.00,9,    37.27,2,     0.00,2,     2.63,2, -999.000,9, -999.000,9,  -999.00,9,   -999.0,9,   -999.0,9,-999.0000,9,   -999.0,  9,     7.64,2,   -999.0,  -999.00,9,  -999.00,9,  -999.00,9,  -999.00,9,   -999.0,-999.0000, -999,9, 3000,   1.4115,  27.7541,   -999.0,9
       KS03-01,  165E,KS-0650,  1,      4,02-16010,2,20030127,0731,  9.9612, 163.9512, 5073,   3547.3,   1.5072,  34.6830,2,   -999.0,9,  34.6806,2,    148.0,2,  -999.00,9,  -999.00,9,    36.19,2,     0.00,2,     2.55,2, -999.000,9, -999.000,9,  -999.00,9,   -999.0,9,   -999.0,9,-999.0000,9,   -999.0,  9,     7.66,2,   -999.0,  -999.00,9,  -999.00,9,  -999.00,9,  -999.00,9,   -999.0,-999.0000, -999,9, 3498,   1.2360,  27.7746,   -999.0,9
       KS03-01,  165E,KS-0650,  1,      3,02-16015,2,20030127,0722,  9.9612, 163.9512, 5073,   4058.9,   1.4324,  34.6917,2,   -999.0,9,  34.6899,2,    163.0,2,  -999.00,9,  -999.00,9,    35.22,2,     0.00,2,     2.45,2, -999.000,9, -999.000,9,  -999.00,9,   -999.0,9,   -999.0,9,-999.0000,9,   -999.0,  9,     7.68,2,   -999.0,  -999.00,9,  -999.00,9,  -999.00,9,  -999.00,9,   -999.0,-999.0000, -999,9, 3998,   1.1089,  27.7903,   -999.0,9
       KS03-01,  165E,KS-0650,  1,      2,02-16014,2,20030127,0713,  9.9612, 163.9512, 5073,   4569.8,   1.4065,  34.6977,2,   -999.0,9,  34.6423,4,    173.0,2,  -999.00,9,  -999.00,9,    34.44,2,     0.00,2,     2.39,2, -999.000,9, -999.000,9,  -999.00,9,   -999.0,9,   -999.0,9,-999.0000,9,   -999.0,  9,     7.68,2,   -999.0,  -999.00,9,  -999.00,9,  -999.00,9,  -999.00,9,   -999.0,-999.0000, -999,9, 4496,   1.0263,  27.8007,   -999.0,9
       KS03-01,  165E,KS-0650,  1,      1,02-16007,2,20030127,0704,  9.9612, 163.9512, 5073,   4979.6,   1.3958,  34.7013,2,   -999.0,9,  34.6991,2,    180.0,2,  -999.00,9,  -999.00,9,    33.96,2,     0.00,2,     2.34,2, -999.000,9, -999.000,9,  -999.00,9,   -999.0,9,   -999.0,9,-999.0000,9,   -999.0,  9,     7.70,2,   -999.0,  -999.00,9,  -999.00,9,  -999.00,9,  -999.00,9,   -999.0,-999.0000, -999,9, 4894,   0.9675,  27.8075,   -999.0,9