BOTTLE,20130510GEMDJMAYT
EXPOCODE,SECT_ID,STNNBR,CASTNO,SAMPNO,BTLNBR,BTLNBR_FLAG_W,DATE,TIME,LATITUDE,LONGITUDE,DEPTH,CTDPRS,CTDTMP,CTDSAL,CTDSAL_FLAG_W,CTDOXY,CTDOXY_FLAG_W,SALNTY,SALNTY_FLAG_W,OXYGEN,OXYGEN_FLAG_W,SILCAT,SILCAT_FLAG_W,NITRAT,NITRAT_FLAG_W,NO2+NO3,NO2+NO3_FLAG_W,NITRIT,NITRIT_FLAG_W,PHSPHT,PHSPHT_FLAG_W,CFC-11,CFC-11_FLAG_W,CFC-12,CFC-12_FLAG_W,DELC13,DELC13_FLAG_W,TCARBN,TCARBN_FLAG_W,ALKALI,ALKALI_FLAG_W,PH,PH_FLAG_W,PH_TMP,PH_SCALE,PH_NBS,PH_NBS_FLAG_W,C13ERR,TOTALP,TOTALP_FLAG_W,AMMONI,AMMONI_FLAG_W,CHLORA,CHLORA_FLAG_W,PPHYTN,PPHYTN_FLAG_W,REVPRS,REVTMP,DEPTH_,DEPTH_FLAG,CTDDEP,THETA,SIGTHT,DOC,DOC_FLAG_W
,,,,,,,GMT,GMT,,,METER,DBAR,ITS-90,PSS-78,,UMOL/KG,,PSS-78,,UMOL/KG,,UMOL/KG,,UMOL/KG,,UMOL/KG,,UMOL/KG,,UMOL/KG,,PMOL/KG,,PMOL/KG,,/MILLE,,UMOL/KG,,UMOL/KG,,25_DEG_C,,DEG_C,,,,/MILLE,UMOL/KG,,UMOL/KG,,UG/L,,UG/L,,DBAR,ITS-90,METERS,,METERS,DEG_C,,UMOL/L,
       KS03-01,  NONE,KS-0694,  1,     24,02-16030,2,20030304,2110, 32.0783, 133.4702, 2116,      5.4,  17.2875,  34.7445,2,   -999.0,9,  34.7461,2,    228.0,2,  -999.00,9,  -999.00,9,     3.41,2,     0.41,2,     0.26,2, -999.000,9, -999.000,9,  -999.00,9,   2004.4,4,   -999.0,9,-999.0000,9,   -999.0,  9,     8.12,2,   -999.0,  -999.00,9,  -999.00,9,     0.16,2,     0.18,2,   -999.0,-999.0000, -999,9,    5,  17.2866,  25.2498,   -999.0,9
       KS03-01,  NONE,KS-0694,  1,     23,02-16029,2,20030304,2109, 32.0783, 133.4702, 2116,     10.3,  17.2895,  34.7443,2,   -999.0,9,-999.0000,9,    228.0,2,  -999.00,9,  -999.00,9,     3.41,2,     0.41,2,     0.25,2, -999.000,9, -999.000,9,  -999.00,9,   2006.9,3,   -999.0,9,-999.0000,9,   -999.0,  9,     8.12,2,   -999.0,  -999.00,9,  -999.00,9,     0.20,2,     0.25,2,   -999.0,-999.0000, -999,9,   10,  17.2878,  25.2493,   -999.0,9
       KS03-01,  NONE,KS-0694,  1,     22,02-16028,2,20030304,2108, 32.0783, 133.4702, 2116,     25.0,  17.2924,  34.7443,2,   -999.0,9,-999.0000,9,    228.0,2,  -999.00,9,  -999.00,9,     3.41,2,     0.41,2,     0.25,2, -999.000,9, -999.000,9,  -999.00,9,   2007.2,3,   -999.0,9,-999.0000,9,   -999.0,  9,     8.11,2,   -999.0,  -999.00,9,  -999.00,9,     0.18,2,     0.19,2,   -999.0,-999.0000, -999,9,   25,  17.2883,  25.2492,   -999.0,9
       KS03-01,  NONE,KS-0694,  1,     21,02-16027,2,20030304,2054, 32.0783, 133.4702, 2116,     50.2,  17.2962,  34.7471,2,   -999.0,9,-999.0000,9,    227.0,2,  -999.00,9,  -999.00,9,     3.32,2,     0.43,2,     0.25,2, -999.000,9, -999.000,9,  -999.00,9,   2006.9,3,   -999.0,9,-999.0000,9,   -999.0,  9,     8.12,2,   -999.0,  -999.00,9,  -999.00,9,     0.18,2,     0.20,2,   -999.0,-999.0000, -999,9,   50,  17.2879,  25.2514,   -999.0,9
       KS03-01,  NONE,KS-0694,  1,     20,02-16013,3,20030304,2053, 32.0783, 133.4702, 2116,     75.5,  17.3056,  34.7480,2,   -999.0,9,-999.0000,9,    229.0,2,  -999.00,9,  -999.00,9,     3.32,2,     0.43,2,     0.25,2, -999.000,9, -999.000,9,  -999.00,9,   2005.5,3,   -999.0,9,-999.0000,9,   -999.0,  9,     8.11,2,   -999.0,  -999.00,9,  -999.00,9,     0.19,2,     0.21,2,   -999.0,-999.0000, -999,9,   75,  17.2931,  25.2509,   -999.0,9
       KS03-01,  NONE,KS-0694,  1,     19,02-16025,2,20030304,2052, 32.0783, 133.4702, 2116,    100.6,  17.3072,  34.7487,2,   -999.0,9,  34.7500,2,    228.0,2,  -999.00,9,  -999.00,9,     3.32,2,     0.44,2,     0.24,2, -999.000,9, -999.000,9,  -999.00,9,   2007.2,3,   -999.0,9,-999.0000,9,   -999.0,  9,     8.12,2,   -999.0,  -999.00,9,  -999.00,9,     0.18,2,     0.20,2,   -999.0,-999.0000, -999,9,  100,  17.2905,  25.2521,   -999.0,9
       KS03-01,  NONE,KS-0694,  1,     18,02-16024,4,20030304,2051, 32.0783, 133.4702, 2116,    124.7,  17.2979,  34.7480,2,   -999.0,9,-999.0000,9,   -999.0,9,  -999.00,9,  -999.00,9,  -999.00,9,  -999.00,9,  -999.00,9, -999.000,9, -999.000,9,  -999.00,9,   -999.0,9,   -999.0,9,-999.0000,9,   -999.0,  9,  -999.00,9,   -999.0,  -999.00,9,  -999.00,9,  -999.00,9,  -999.00,9,   -999.0,-999.0000, -999,9,  124,  17.2771,  25.2547,   -999.0,9
       KS03-01,  NONE,KS-0694,  1,     17,02-16023,2,20030304,2050, 32.0783, 133.4702, 2116,    149.9,  16.6772,  34.6672,2,   -999.0,9,-999.0000,9,    201.0,2,  -999.00,9,  -999.00,9,     6.73,2,     0.03,2,     0.49,2, -999.000,9, -999.000,9,  -999.00,9,   2035.2,2,   -999.0,9,-999.0000,9,   -999.0,  9,     8.06,2,   -999.0,  -999.00,9,  -999.00,9,     0.03,2,     0.09,2,   -999.0,-999.0000, -999,9,  149,  16.6529,  25.3407,   -999.0,9
       KS03-01,  NONE,KS-0694,  1,     16,02-16022,2,20030304,2049, 32.0783, 133.4702, 2116,    201.2,  15.0247,  34.5839,2,   -999.0,9,  34.5832,2,    175.0,2,  -999.00,9,  -999.00,9,    11.70,2,     0.01,2,     0.82,2, -999.000,9, -999.000,9,  -999.00,9,   2076.7,3,   -999.0,9,-999.0000,9,   -999.0,  9,     7.98,2,   -999.0,  -999.00,9,  -999.00,9,     0.01,2,     0.04,2,   -999.0,-999.0000, -999,9,  200,  14.9943,  25.6523,   -999.0,9
       KS03-01,  NONE,KS-0694,  1,     15,02-16021,9,20030304,2047, 32.0783, 133.4702, 2116,    251.1,  13.2251,  34.5057,2,   -999.0,9,-999.0000,9,   -999.0,9,  -999.00,9,  -999.00,9,  -999.00,9,  -999.00,9,  -999.00,9, -999.000,9, -999.000,9,  -999.00,9,   -999.0,9,   -999.0,9,-999.0000,9,   -999.0,  9,  -999.00,9,   -999.0,  -999.00,9,  -999.00,9,  -999.00,9,  -999.00,9,   -999.0,-999.0000, -999,9,  249,  13.1903,  25.9717,   -999.0,9
       KS03-01,  NONE,KS-0694,  1,     14,02-16020,2,20030304,2047, 32.0783, 133.4702, 2116,    250.2,  13.2141,  34.5049,2,   -999.0,9,-999.0000,9,    160.0,2,  -999.00,9,  -999.00,9,    15.69,2,     0.00,2,     1.10,2, -999.000,9, -999.000,9,  -999.00,9,   2112.9,6,   -999.0,9,-999.0000,9,   -999.0,  9,     7.90,2,   -999.0,  -999.00,9,  -999.00,9,     0.00,2,     0.04,2,   -999.0,-999.0000, -999,9,  248,  13.1794,  25.9733,   -999.0,9
       KS03-01,  NONE,KS-0694,  1,     13,02-16019,2,20030304,2046, 32.0783, 133.4702, 2116,    302.1,  11.3753,  34.4242,2,   -999.0,9,  34.4249,2,    148.0,2,  -999.00,9,  -999.00,9,    19.68,2,     0.00,2,     1.38,2, -999.000,9, -999.000,9,  -999.00,9,   -999.0,9,   -999.0,9,-999.0000,9,   -999.0,  9,     7.84,2,   -999.0,  -999.00,9,  -999.00,9,     0.00,2,     0.05,2,   -999.0,-999.0000, -999,9,  300,  11.3373,  26.2657,   -999.0,9
       KS03-01,  NONE,KS-0694,  1,     12,02-16018,2,20030304,2043, 32.0783, 133.4702, 2116,    402.8,   8.1676,  34.3210,2,   -999.0,9,  34.3239,4,    118.0,2,  -999.00,9,  -999.00,9,    27.76,2,     0.00,2,     1.97,2, -999.000,9, -999.000,9,  -999.00,9,   -999.0,9,   -999.0,9,-999.0000,9,   -999.0,  9,     7.72,2,   -999.0,  -999.00,9,  -999.00,9,  -999.00,9,  -999.00,9,   -999.0,-999.0000, -999,9,  400,   8.1262,  26.7217,   -999.0,9
       KS03-01,  NONE,KS-0694,  1,     11,02-16017,2,20030304,2041, 32.0783, 133.4702, 2116,    502.4,   6.0209,  34.2836,2,   -999.0,9,  34.2838,2,     91.0,2,  -999.00,9,  -999.00,9,    33.79,2,     0.00,2,     2.41,2, -999.000,9, -999.000,9,  -999.00,9,   -999.0,9,   -999.0,9,-999.0000,9,   -999.0,  9,     7.61,2,   -999.0,  -999.00,9,  -999.00,9,  -999.00,9,  -999.00,9,   -999.0,-999.0000, -999,9,  498,   5.9771,  26.9895,   -999.0,9
       KS03-01,  NONE,KS-0694,  1,     10,02-16026,4,20030304,2038, 32.0783, 133.4702, 2116,    604.1,   4.8461,  34.2814,2,   -999.0,9,-999.0000,9,   -999.0,9,  -999.00,9,  -999.00,9,  -999.00,9,  -999.00,9,  -999.00,9, -999.000,9, -999.000,9,  -999.00,9,   -999.0,9,   -999.0,9,-999.0000,9,   -999.0,  9,  -999.00,9,   -999.0,  -999.00,9,  -999.00,9,  -999.00,9,  -999.00,9,   -999.0,-999.0000, -999,9,  599,   4.7984,  27.1284,   -999.0,9
       KS03-01,  NONE,KS-0694,  1,      9,02-16012,2,20030304,2036, 32.0783, 133.4702, 2116,    705.5,   4.1023,  34.3513,2,   -999.0,9,  34.3503,2,     66.0,2,  -999.00,9,  -999.00,9,    39.04,2,     0.00,2,     2.78,2, -999.000,9, -999.000,9,  -999.00,9,   -999.0,9,   -999.0,9,-999.0000,9,   -999.0,  9,     7.53,2,   -999.0,  -999.00,9,  -999.00,9,  -999.00,9,  -999.00,9,   -999.0,-999.0000, -999,9,  699,   4.0501,  27.2649,   -999.0,9
       KS03-01,  NONE,KS-0694,  1,      8,02-16011,2,20030304,2034, 32.0783, 133.4702, 2116,    804.5,   3.6734,  34.4000,2,   -999.0,9,  34.3988,2,     66.0,2,  -999.00,9,  -999.00,9,    39.71,2,     0.00,2,     2.83,2, -999.000,9, -999.000,9,  -999.00,9,   -999.0,9,   -999.0,9,-999.0000,9,   -999.0,  9,     7.52,2,   -999.0,  -999.00,9,  -999.00,9,  -999.00,9,  -999.00,9,   -999.0,-999.0000, -999,9,  797,   3.6159,  27.3476,   -999.0,9
       KS03-01,  NONE,KS-0694,  1,      7,02-16016,2,20030304,2032, 32.0783, 133.4702, 2116,    906.8,   3.3569,  34.4406,2,   -999.0,9,  34.4400,2,     67.0,2,  -999.00,9,  -999.00,9,    39.81,2,     0.00,2,     2.84,2, -999.000,9, -999.000,9,  -999.00,9,   -999.0,9,   -999.0,9,-999.0000,9,   -999.0,  9,     7.53,2,   -999.0,  -999.00,9,  -999.00,9,  -999.00,9,  -999.00,9,   -999.0,-999.0000, -999,9,  899,   3.2936,  27.4112,   -999.0,9
       KS03-01,  NONE,KS-0694,  1,      6,02-16009,9,20030304,2030, 32.0783, 133.4702, 2116,   1007.4,   3.1405,  34.4634,2,   -999.0,9,-999.0000,9,   -999.0,9,  -999.00,9,  -999.00,9,  -999.00,9,  -999.00,9,  -999.00,9, -999.000,9, -999.000,9,  -999.00,9,   -999.0,9,   -999.0,9,-999.0000,9,   -999.0,  9,  -999.00,9,   -999.0,  -999.00,9,  -999.00,9,  -999.00,9,  -999.00,9,   -999.0,-999.0000, -999,9,  998,   3.0710,  27.4503,   -999.0,9
       KS03-01,  NONE,KS-0694,  1,      5,02-16008,3,20030304,2029, 32.0783, 133.4702, 2116,   1007.3,   3.1400,  34.4634,2,   -999.0,9,  34.4636,2,     73.0,2,  -999.00,9,  -999.00,9,    40.00,2,     0.00,2,     2.86,2, -999.000,9, -999.000,9,  -999.00,9,   -999.0,9,   -999.0,9,-999.0000,9,   -999.0,  9,     7.52,2,   -999.0,  -999.00,9,  -999.00,9,  -999.00,9,  -999.00,9,   -999.0,-999.0000, -999,9,  998,   3.0705,  27.4503,   -999.0,9
       KS03-01,  NONE,KS-0694,  1,      4,02-16010,2,20030304,2024, 32.0783, 133.4702, 2116,   1259.8,   2.7992,  34.5001,2,   -999.0,9,  34.4999,2,     75.0,2,  -999.00,9,  -999.00,9,    40.19,2,     0.00,2,     2.83,2, -999.000,9, -999.000,9,  -999.00,9,   -999.0,9,   -999.0,9,-999.0000,9,   -999.0,  9,     7.54,2,   -999.0,  -999.00,9,  -999.00,9,  -999.00,9,  -999.00,9,   -999.0,-999.0000, -999,9, 1247,   2.7131,  27.5118,   -999.0,9
       KS03-01,  NONE,KS-0694,  1,      3,02-16015,2,20030304,2019, 32.0783, 133.4702, 2116,   1513.4,   2.4358,  34.5444,2,   -999.0,9,  34.5447,2,     87.0,2,  -999.00,9,  -999.00,9,    39.61,2,     0.00,2,     2.79,2, -999.000,9, -999.000,9,  -999.00,9,   -999.0,9,   -999.0,9,-999.0000,9,   -999.0,  9,     7.56,2,   -999.0,  -999.00,9,  -999.00,9,  -999.00,9,  -999.00,9,   -999.0,-999.0000, -999,9, 1497,   2.3335,  27.5796,   -999.0,9
       KS03-01,  NONE,KS-0694,  1,      2,02-16014,3,20030304,2014, 32.0783, 133.4702, 2116,   1767.9,   2.2223,  34.5736,2,   -999.0,9,  34.5726,2,     98.0,2,  -999.00,9,  -999.00,9,    39.22,2,     0.00,2,     2.75,2, -999.000,9, -999.000,9,  -999.00,9,   -999.0,9,   -999.0,9,-999.0000,9,   -999.0,  9,     7.58,2,   -999.0,  -999.00,9,  -999.00,9,  -999.00,9,  -999.00,9,   -999.0,-999.0000, -999,9, 1748,   2.1021,  27.6219,   -999.0,9
       KS03-01,  NONE,KS-0694,  1,      1,02-16007,2,20030304,2009, 32.0783, 133.4702, 2116,   2022.2,   1.9911,  34.6064,2,   -999.0,9,  34.6058,2,    110.0,2,  -999.00,9,  -999.00,9,    38.44,2,     0.00,2,     2.70,2, -999.000,9, -999.000,9,  -999.00,9,   -999.0,9,   -999.0,9,-999.0000,9,   -999.0,  9,     7.61,2,   -999.0,  -999.00,9,  -999.00,9,  -999.00,9,  -999.00,9,   -999.0,-999.0000, -999,9, 1998,   1.8530,  27.6679,   -999.0,9