BOTTLE,20130510GEMDJMAYT
EXPOCODE,SECT_ID,STNNBR,CASTNO,SAMPNO,BTLNBR,BTLNBR_FLAG_W,DATE,TIME,LATITUDE,LONGITUDE,DEPTH,CTDPRS,CTDTMP,CTDSAL,CTDSAL_FLAG_W,CTDOXY,CTDOXY_FLAG_W,SALNTY,SALNTY_FLAG_W,OXYGEN,OXYGEN_FLAG_W,SILCAT,SILCAT_FLAG_W,NITRAT,NITRAT_FLAG_W,NO2+NO3,NO2+NO3_FLAG_W,NITRIT,NITRIT_FLAG_W,PHSPHT,PHSPHT_FLAG_W,CFC-11,CFC-11_FLAG_W,CFC-12,CFC-12_FLAG_W,DELC13,DELC13_FLAG_W,TCARBN,TCARBN_FLAG_W,ALKALI,ALKALI_FLAG_W,PH,PH_FLAG_W,PH_TMP,PH_SCALE,PH_NBS,PH_NBS_FLAG_W,C13ERR,TOTALP,TOTALP_FLAG_W,AMMONI,AMMONI_FLAG_W,CHLORA,CHLORA_FLAG_W,PPHYTN,PPHYTN_FLAG_W,REVPRS,REVTMP,DEPTH_,DEPTH_FLAG,CTDDEP,THETA,SIGTHT,DOC,DOC_FLAG_W
,,,,,,,GMT,GMT,,,METER,DBAR,ITS-90,PSS-78,,UMOL/KG,,PSS-78,,UMOL/KG,,UMOL/KG,,UMOL/KG,,UMOL/KG,,UMOL/KG,,UMOL/KG,,PMOL/KG,,PMOL/KG,,/MILLE,,UMOL/KG,,UMOL/KG,,25_DEG_C,,DEG_C,,,,/MILLE,UMOL/KG,,UMOL/KG,,UG/L,,UG/L,,DBAR,ITS-90,METERS,,METERS,DEG_C,,UMOL/L,
       KS03-01, EQPAC,KS-0676,  1,     24,02-16030,2,20030216,1123, -0.0102, 148.9708, 5369,      5.0,  29.2265,  34.4381,2,   -999.0,9,  34.4396,2,    208.0,2,  -999.00,9,  -999.00,9,     0.00,2,     0.00,2,     0.00,2, -999.000,9, -999.000,9,  -999.00,9,   -999.0,9,   -999.0,9,-999.0000,9,   -999.0,  9,  -999.00,9,   -999.0,  -999.00,9,  -999.00,9,     0.10,2,     0.06,2,   -999.0,-999.0000, -999,9,    5,  29.2253,  21.5669,   -999.0,9
       KS03-01, EQPAC,KS-0676,  1,     23,02-16029,2,20030216,1122, -0.0102, 148.9708, 5369,     10.0,  29.2261,  34.4372,2,   -999.0,9,-999.0000,9,    199.0,2,  -999.00,9,  -999.00,9,     0.00,2,     0.00,2,     0.00,2, -999.000,9, -999.000,9,  -999.00,9,   -999.0,9,   -999.0,9,-999.0000,9,   -999.0,  9,     8.26,2,   -999.0,  -999.00,9,  -999.00,9,     0.10,2,     0.05,2,   -999.0,-999.0000, -999,9,   10,  29.2237,  21.5668,   -999.0,9
       KS03-01, EQPAC,KS-0676,  1,     22,02-16028,2,20030216,1121, -0.0102, 148.9708, 5369,     25.7,  29.1220,  34.5161,2,   -999.0,9,-999.0000,9,    200.0,2,  -999.00,9,  -999.00,9,     0.00,2,     0.01,2,     0.01,2, -999.000,9, -999.000,9,  -999.00,9,   -999.0,9,   -999.0,9,-999.0000,9,   -999.0,  9,     8.26,2,   -999.0,  -999.00,9,  -999.00,9,     0.20,2,     0.11,2,   -999.0,-999.0000, -999,9,   26,  29.1158,  21.6621,   -999.0,9
       KS03-01, EQPAC,KS-0676,  1,     21,02-16027,2,20030216,1117, -0.0102, 148.9708, 5369,     47.6,  27.6561,  34.8371,2,   -999.0,9,-999.0000,9,    174.0,2,  -999.00,9,  -999.00,9,     2.74,2,     0.71,2,     0.27,2, -999.000,9, -999.000,9,  -999.00,9,   -999.0,9,   -999.0,9,-999.0000,9,   -999.0,  9,     8.19,2,   -999.0,  -999.00,9,  -999.00,9,     0.20,2,     0.42,2,   -999.0,-999.0000, -999,9,   47,  27.6450,  22.3876,   -999.0,9
       KS03-01, EQPAC,KS-0676,  1,     20,02-16013,2,20030216,1116, -0.0102, 148.9708, 5369,     77.4,  24.4454,  34.8428,2,   -999.0,9,-999.0000,9,    155.0,2,  -999.00,9,  -999.00,9,     6.25,2,     0.05,2,     0.49,2, -999.000,9, -999.000,9,  -999.00,9,   -999.0,9,   -999.0,9,-999.0000,9,   -999.0,  9,     8.11,2,   -999.0,  -999.00,9,  -999.00,9,     0.05,2,     0.23,2,   -999.0,-999.0000, -999,9,   77,  24.4289,  23.3947,   -999.0,9
       KS03-01, EQPAC,KS-0676,  1,     19,02-16025,2,20030216,1115, -0.0102, 148.9708, 5369,    101.2,  22.9213,  35.1379,2,   -999.0,9,  35.1380,2,    139.0,2,  -999.00,9,  -999.00,9,     8.20,2,     0.03,2,     0.63,2, -999.000,9, -999.000,9,  -999.00,9,   -999.0,9,   -999.0,9,-999.0000,9,   -999.0,  9,     8.06,2,   -999.0,  -999.00,9,  -999.00,9,     0.02,2,     0.13,2,   -999.0,-999.0000, -999,9,  101,  22.9007,  24.0668,   -999.0,9
       KS03-01, EQPAC,KS-0676,  1,     18,02-16024,2,20030216,1114, -0.0102, 148.9708, 5369,    126.4,  21.2713,  35.2648,2,   -999.0,9,-999.0000,9,    137.0,2,  -999.00,9,  -999.00,9,     9.95,2,     0.02,2,     0.77,2, -999.000,9, -999.000,9,  -999.00,9,   -999.0,9,   -999.0,9,-999.0000,9,   -999.0,  9,     8.03,2,   -999.0,  -999.00,9,  -999.00,9,     0.01,2,     0.05,2,   -999.0,-999.0000, -999,9,  126,  21.2469,  24.6280,   -999.0,9
       KS03-01, EQPAC,KS-0676,  1,     17,02-16023,9,20030216,1112, -0.0102, 148.9708, 5369,    153.4,  21.0575,  35.3614,2,   -999.0,9,-999.0000,9,   -999.0,9,  -999.00,9,  -999.00,9,  -999.00,9,  -999.00,9,  -999.00,9, -999.000,9, -999.000,9,  -999.00,9,   -999.0,9,   -999.0,9,-999.0000,9,   -999.0,  9,  -999.00,9,   -999.0,  -999.00,9,  -999.00,9,  -999.00,9,  -999.00,9,   -999.0,-999.0000, -999,9,  152,  21.0280,  24.7614,   -999.0,9
       KS03-01, EQPAC,KS-0676,  1,     16,02-16022,9,20030216,1112, -0.0102, 148.9708, 5369,    152.5,  21.0509,  35.3580,2,   -999.0,9,-999.0000,9,   -999.0,9,  -999.00,9,  -999.00,9,  -999.00,9,  -999.00,9,  -999.00,9, -999.000,9, -999.000,9,  -999.00,9,   -999.0,9,   -999.0,9,-999.0000,9,   -999.0,  9,  -999.00,9,   -999.0,  -999.00,9,  -999.00,9,  -999.00,9,  -999.00,9,   -999.0,-999.0000, -999,9,  152,  21.0216,  24.7606,   -999.0,9
       KS03-01, EQPAC,KS-0676,  1,     15,02-16021,2,20030216,1112, -0.0102, 148.9708, 5369,    152.1,  21.0496,  35.3573,2,   -999.0,9,-999.0000,9,    136.0,2,  -999.00,9,  -999.00,9,    10.15,2,     0.01,2,     0.79,2, -999.000,9, -999.000,9,  -999.00,9,   -999.0,9,   -999.0,9,-999.0000,9,   -999.0,  9,     8.03,2,   -999.0,  -999.00,9,  -999.00,9,     0.00,2,     0.02,2,   -999.0,-999.0000, -999,9,  151,  21.0204,  24.7604,   -999.0,9
       KS03-01, EQPAC,KS-0676,  1,     14,02-16020,2,20030216,1110, -0.0102, 148.9708, 5369,    201.9,  16.8694,  35.2638,2,   -999.0,9,  35.2509,4,    140.0,2,  -999.00,9,  -999.00,9,    13.36,2,     0.01,2,     1.00,2, -999.000,9, -999.000,9,  -999.00,9,   -999.0,9,   -999.0,9,-999.0000,9,   -999.0,  9,     7.96,2,   -999.0,  -999.00,9,  -999.00,9,     0.00,2,     0.02,2,   -999.0,-999.0000, -999,9,  201,  16.8362,  25.7557,   -999.0,9
       KS03-01, EQPAC,KS-0676,  1,     13,02-16019,2,20030216,1108, -0.0102, 148.9708, 5369,    249.5,  12.8830,  34.8099,2,   -999.0,9,-999.0000,9,    134.0,2,  -999.00,9,  -999.00,9,    19.78,2,     0.00,2,     1.41,2, -999.000,9, -999.000,9,  -999.00,9,   -999.0,9,   -999.0,9,-999.0000,9,   -999.0,  9,     7.86,2,   -999.0,  -999.00,9,  -999.00,9,     0.00,2,     0.02,2,   -999.0,-999.0000, -999,9,  248,  12.8489,  26.2758,   -999.0,9
       KS03-01, EQPAC,KS-0676,  1,     12,02-16018,2,20030216,1107, -0.0102, 148.9708, 5369,    302.3,  11.4096,  34.8292,2,   -999.0,9,  34.8288,2,    112.0,2,  -999.00,9,  -999.00,9,    24.55,2,     0.00,2,     1.70,2, -999.000,9, -999.000,9,  -999.00,9,   -999.0,9,   -999.0,9,-999.0000,9,   -999.0,  9,     7.78,2,   -999.0,  -999.00,9,  -999.00,9,     0.00,2,     0.02,2,   -999.0,-999.0000, -999,9,  300,  11.3713,  26.5746,   -999.0,9
       KS03-01, EQPAC,KS-0676,  1,     11,02-16017,4,20030216,1104, -0.0102, 148.9708, 5369,    404.2,   9.2755,  34.6789,2,   -999.0,9,-999.0000,9,   -999.0,9,  -999.00,9,  -999.00,9,  -999.00,9,  -999.00,9,  -999.00,9, -999.000,9, -999.000,9,  -999.00,9,   -999.0,9,   -999.0,9,-999.0000,9,   -999.0,  9,  -999.00,9,   -999.0,  -999.00,9,  -999.00,9,  -999.00,9,  -999.00,9,   -999.0,-999.0000, -999,9,  402,   9.2304,  26.8295,   -999.0,9
       KS03-01, EQPAC,KS-0676,  1,     10,02-16026,4,20030216,1059, -0.0102, 148.9708, 5369,    502.2,   8.3876,  34.6262,2,   -999.0,9,-999.0000,9,   -999.0,9,  -999.00,9,  -999.00,9,  -999.00,9,  -999.00,9,  -999.00,9, -999.000,9, -999.000,9,  -999.00,9,   -999.0,9,   -999.0,9,-999.0000,9,   -999.0,  9,  -999.00,9,   -999.0,  -999.00,9,  -999.00,9,  -999.00,9,  -999.00,9,   -999.0,-999.0000, -999,9,  499,   8.3346,  26.9296,   -999.0,9
       KS03-01, EQPAC,KS-0676,  1,      9,02-16012,2,20030216,1056, -0.0102, 148.9708, 5369,    602.7,   7.2364,  34.5755,2,   -999.0,9,  34.5751,2,     87.0,2,  -999.00,9,  -999.00,9,    35.25,2,     0.00,2,     2.42,2, -999.000,9, -999.000,9,  -999.00,9,   -999.0,9,   -999.0,9,-999.0000,9,   -999.0,  9,  -999.00,9,   -999.0,  -999.00,9,  -999.00,9,  -999.00,9,  -999.00,9,   -999.0,-999.0000, -999,9,  599,   7.1776,  27.0596,   -999.0,9
       KS03-01, EQPAC,KS-0676,  1,      8,02-16011,2,20030216,1053, -0.0102, 148.9708, 5369,    704.4,   6.3732,  34.5454,2,   -999.0,9,  34.5461,2,     99.0,2,  -999.00,9,  -999.00,9,    35.63,2,     0.00,2,     2.47,2, -999.000,9, -999.000,9,  -999.00,9,   -999.0,9,   -999.0,9,-999.0000,9,   -999.0,  9,  -999.00,9,   -999.0,  -999.00,9,  -999.00,9,  -999.00,9,  -999.00,9,   -999.0,-999.0000, -999,9,  699,   6.3086,  27.1537,   -999.0,9
       KS03-01, EQPAC,KS-0676,  1,      7,02-16016,2,20030216,1050, -0.0102, 148.9708, 5369,    804.2,   5.5281,  34.5365,2,   -999.0,9,  34.5366,2,    101.0,2,  -999.00,9,  -999.00,9,    36.70,2,     0.00,2,     2.57,2, -999.000,9, -999.000,9,  -999.00,9,   -999.0,9,   -999.0,9,-999.0000,9,   -999.0,  9,  -999.00,9,   -999.0,  -999.00,9,  -999.00,9,  -999.00,9,  -999.00,9,   -999.0,-999.0000, -999,9,  798,   5.4590,  27.2535,   -999.0,9
       KS03-01, EQPAC,KS-0676,  1,      6,02-16009,4,20030216,1047, -0.0102, 148.9708, 5369,    905.3,   4.9675,  34.5360,2,   -999.0,9,-999.0000,9,   -999.0,9,  -999.00,9,  -999.00,9,  -999.00,9,  -999.00,9,  -999.00,9, -999.000,9, -999.000,9,  -999.00,9,   -999.0,9,   -999.0,9,-999.0000,9,   -999.0,  9,  -999.00,9,   -999.0,  -999.00,9,  -999.00,9,  -999.00,9,  -999.00,9,   -999.0,-999.0000, -999,9,  898,   4.8929,  27.3197,   -999.0,9
       KS03-01, EQPAC,KS-0676,  1,      5,02-16008,2,20030216,1042, -0.0102, 148.9708, 5369,   1007.3,   4.6302,  34.5486,2,   -999.0,9,  34.5494,2,     98.0,2,  -999.00,9,  -999.00,9,    37.96,2,     0.00,2,     2.69,2, -999.000,9, -999.000,9,  -999.00,9,   -999.0,9,   -999.0,9,-999.0000,9,   -999.0,  9,  -999.00,9,   -999.0,  -999.00,9,  -999.00,9,  -999.00,9,  -999.00,9,   -999.0,-999.0000, -999,9,  999,   4.5490,  27.3683,   -999.0,9
       KS03-01, EQPAC,KS-0676,  1,      4,02-16010,2,20030216,1034, -0.0102, 148.9708, 5369,   1260.6,   3.8178,  34.5704,2,   -999.0,9,  34.5706,2,    102.0,2,  -999.00,9,  -999.00,9,    38.25,2,     0.00,2,     2.73,2, -999.000,9, -999.000,9,  -999.00,9,   -999.0,9,   -999.0,9,-999.0000,9,   -999.0,  9,  -999.00,9,   -999.0,  -999.00,9,  -999.00,9,  -999.00,9,  -999.00,9,   -999.0,-999.0000, -999,9, 1250,   3.7216,  27.4728,   -999.0,9
       KS03-01, EQPAC,KS-0676,  1,      3,02-16015,2,20030216,1026, -0.0102, 148.9708, 5369,   1511.8,   2.9956,  34.6009,2,   -999.0,9,  34.5997,2,    109.0,2,  -999.00,9,  -999.00,9,    38.34,2,     0.00,2,     2.75,2, -999.000,9, -999.000,9,  -999.00,9,   -999.0,9,   -999.0,9,-999.0000,9,   -999.0,  9,  -999.00,9,   -999.0,  -999.00,9,  -999.00,9,  -999.00,9,  -999.00,9,   -999.0,-999.0000, -999,9, 1498,   2.8868,  27.5768,   -999.0,9
       KS03-01, EQPAC,KS-0676,  1,      2,02-16014,2,20030216,1021, -0.0102, 148.9708, 5369,   1765.7,   2.5062,  34.6230,2,   -999.0,9,  34.6203,2,    113.0,2,  -999.00,9,  -999.00,9,    38.24,2,     0.00,2,     2.71,2, -999.000,9, -999.000,9,  -999.00,9,   -999.0,9,   -999.0,9,-999.0000,9,   -999.0,  9,  -999.00,9,   -999.0,  -999.00,9,  -999.00,9,  -999.00,9,  -999.00,9,   -999.0,-999.0000, -999,9, 1749,   2.3822,  27.6385,   -999.0,9
       KS03-01, EQPAC,KS-0676,  1,      1,02-16007,2,20030216,1013, -0.0102, 148.9708, 5369,   2017.4,   2.1907,  34.6390,2,   -999.0,9,  34.6356,2,    118.0,2,  -999.00,9,  -999.00,9,    37.95,2,     0.00,2,     2.70,2, -999.000,9, -999.000,9,  -999.00,9,   -999.0,9,   -999.0,9,-999.0000,9,   -999.0,  9,  -999.00,9,   -999.0,  -999.00,9,  -999.00,9,  -999.00,9,  -999.00,9,   -999.0,-999.0000, -999,9, 1997,   2.0499,  27.6785,   -999.0,9