BOTTLE,20130510GEMDJMAYT
EXPOCODE,SECT_ID,STNNBR,CASTNO,SAMPNO,BTLNBR,BTLNBR_FLAG_W,DATE,TIME,LATITUDE,LONGITUDE,DEPTH,CTDPRS,CTDTMP,CTDSAL,CTDSAL_FLAG_W,CTDOXY,CTDOXY_FLAG_W,SALNTY,SALNTY_FLAG_W,OXYGEN,OXYGEN_FLAG_W,SILCAT,SILCAT_FLAG_W,NITRAT,NITRAT_FLAG_W,NO2+NO3,NO2+NO3_FLAG_W,NITRIT,NITRIT_FLAG_W,PHSPHT,PHSPHT_FLAG_W,CFC-11,CFC-11_FLAG_W,CFC-12,CFC-12_FLAG_W,DELC13,DELC13_FLAG_W,TCARBN,TCARBN_FLAG_W,ALKALI,ALKALI_FLAG_W,PH,PH_FLAG_W,PH_TMP,PH_SCALE,PH_NBS,PH_NBS_FLAG_W,C13ERR,TOTALP,TOTALP_FLAG_W,AMMONI,AMMONI_FLAG_W,CHLORA,CHLORA_FLAG_W,PPHYTN,PPHYTN_FLAG_W,REVPRS,REVTMP,DEPTH_,DEPTH_FLAG,CTDDEP,THETA,SIGTHT,DOC,DOC_FLAG_W
,,,,,,,GMT,GMT,,,METER,DBAR,ITS-90,PSS-78,,UMOL/KG,,PSS-78,,UMOL/KG,,UMOL/KG,,UMOL/KG,,UMOL/KG,,UMOL/KG,,UMOL/KG,,PMOL/KG,,PMOL/KG,,/MILLE,,UMOL/KG,,UMOL/KG,,25_DEG_C,,DEG_C,,,,/MILLE,UMOL/KG,,UMOL/KG,,UG/L,,UG/L,,DBAR,ITS-90,METERS,,METERS,DEG_C,,UMOL/L,
       KS03-01,  165E,KS-0655,  2,     20,02-16013,2,20030207,2016,  5.0850, 164.9565, 4782,    602.1,   6.7801,  34.5539,2,   -999.0,9,  34.5531,2,     68.0,2,  -999.00,9,  -999.00,9,    37.78,2,     0.00,2,     2.61,2, -999.000,9, -999.000,9,  -999.00,9,   -999.0,9,   -999.0,9,-999.0000,9,   -999.0,  9,     7.60,2,   -999.0,  -999.00,9,  -999.00,9,  -999.00,9,  -999.00,9,   -999.0,-999.0000, -999,9,  598,   6.7235,  27.1052,   -999.0,9
       KS03-01,  165E,KS-0655,  2,     19,02-16025,9,20030207,2014,  5.0850, 164.9565, 4782,    702.8,   6.0210,  34.5433,2,   -999.0,9,-999.0000,9,   -999.0,9,  -999.00,9,  -999.00,9,  -999.00,9,  -999.00,9,  -999.00,9, -999.000,9, -999.000,9,  -999.00,9,   -999.0,9,   -999.0,9,-999.0000,9,   -999.0,  9,  -999.00,9,   -999.0,  -999.00,9,  -999.00,9,  -999.00,9,  -999.00,9,   -999.0,-999.0000, -999,9,  698,   5.9584,  27.1971,   -999.0,9
       KS03-01,  165E,KS-0655,  2,     18,02-16024,2,20030207,2014,  5.0850, 164.9565, 4782,    701.8,   6.0174,  34.5429,2,   -999.0,9,  34.5431,2,     67.0,2,  -999.00,9,  -999.00,9,    39.14,2,     0.00,2,     2.71,2, -999.000,9, -999.000,9,  -999.00,9,   -999.0,9,   -999.0,9,-999.0000,9,   -999.0,  9,     7.59,2,   -999.0,  -999.00,9,  -999.00,9,  -999.00,9,  -999.00,9,   -999.0,-999.0000, -999,9,  697,   5.9550,  27.1972,   -999.0,9
       KS03-01,  165E,KS-0655,  1,      9,02-16012,4,20030207,1709,  5.0843, 164.9862, 4785,    703.4,   6.0971,  34.5430,2,   -999.0,9,-999.0000,9,   -999.0,9,  -999.00,9,  -999.00,9,  -999.00,9,  -999.00,9,  -999.00,9, -999.000,9, -999.000,9,  -999.00,9,   -999.0,9,   -999.0,9,-999.0000,9,   -999.0,  9,  -999.00,9,   -999.0,  -999.00,9,  -999.00,9,  -999.00,9,  -999.00,9,   -999.0,-999.0000, -999,9,  698,   6.0341,  27.1872,   -999.0,9
       KS03-01,  165E,KS-0655,  2,     17,02-16023,2,20030207,2012,  5.0850, 164.9565, 4782,    804.0,   5.4195,  34.5433,2,   -999.0,9,  34.5433,2,     72.0,2,  -999.00,9,  -999.00,9,    39.72,2,     0.00,2,     2.76,2, -999.000,9, -999.000,9,  -999.00,9,   -999.0,9,   -999.0,9,-999.0000,9,   -999.0,  9,     7.58,2,   -999.0,  -999.00,9,  -999.00,9,  -999.00,9,  -999.00,9,   -999.0,-999.0000, -999,9,  798,   5.3510,  27.2719,   -999.0,9
       KS03-01,  165E,KS-0655,  1,      8,02-16011,4,20030207,1707,  5.0843, 164.9862, 4785,    805.7,   5.4676,  34.5431,2,   -999.0,9,-999.0000,9,   -999.0,9,  -999.00,9,  -999.00,9,  -999.00,9,  -999.00,9,  -999.00,9, -999.000,9, -999.000,9,  -999.00,9,   -999.0,9,   -999.0,9,-999.0000,9,   -999.0,  9,  -999.00,9,   -999.0,  -999.00,9,  -999.00,9,  -999.00,9,  -999.00,9,   -999.0,-999.0000, -999,9,  800,   5.3987,  27.2660,   -999.0,9
       KS03-01,  165E,KS-0655,  1,      7,02-16016,4,20030207,1704,  5.0843, 164.9862, 4785,    906.4,   5.0316,  34.5469,2,   -999.0,9,-999.0000,9,   -999.0,9,  -999.00,9,  -999.00,9,  -999.00,9,  -999.00,9,  -999.00,9, -999.000,9, -999.000,9,  -999.00,9,   -999.0,9,   -999.0,9,-999.0000,9,   -999.0,  9,  -999.00,9,   -999.0,  -999.00,9,  -999.00,9,  -999.00,9,  -999.00,9,   -999.0,-999.0000, -999,9,  899,   4.9564,  27.3211,   -999.0,9
       KS03-01,  165E,KS-0655,  2,     16,02-16022,2,20030207,2008,  5.0850, 164.9565, 4782,   1006.3,   4.6015,  34.5553,2,   -999.0,9,  34.5557,2,     77.0,2,  -999.00,9,  -999.00,9,    40.00,2,     0.00,2,     2.79,2, -999.000,9, -999.000,9,  -999.00,9,   -999.0,9,   -999.0,9,-999.0000,9,   -999.0,  9,     7.58,2,   -999.0,  -999.00,9,  -999.00,9,  -999.00,9,  -999.00,9,   -999.0,-999.0000, -999,9,  998,   4.5206,  27.3768,   -999.0,9
       KS03-01,  165E,KS-0655,  1,      6,02-16009,9,20030207,1702,  5.0843, 164.9862, 4785,   1008.3,   4.6348,  34.5545,2,   -999.0,9,-999.0000,9,   -999.0,9,  -999.00,9,  -999.00,9,  -999.00,9,  -999.00,9,  -999.00,9, -999.000,9, -999.000,9,  -999.00,9,   -999.0,9,   -999.0,9,-999.0000,9,   -999.0,  9,  -999.00,9,   -999.0,  -999.00,9,  -999.00,9,  -999.00,9,  -999.00,9,   -999.0,-999.0000, -999,9, 1000,   4.5535,  27.3725,   -999.0,9
       KS03-01,  165E,KS-0655,  1,      5,02-16008,4,20030207,1702,  5.0843, 164.9862, 4785,   1007.1,   4.6384,  34.5540,2,   -999.0,9,-999.0000,9,   -999.0,9,  -999.00,9,  -999.00,9,  -999.00,9,  -999.00,9,  -999.00,9, -999.000,9, -999.000,9,  -999.00,9,   -999.0,9,   -999.0,9,-999.0000,9,   -999.0,  9,  -999.00,9,   -999.0,  -999.00,9,  -999.00,9,  -999.00,9,  -999.00,9,   -999.0,-999.0000, -999,9,  999,   4.5571,  27.3717,   -999.0,9
       KS03-01,  165E,KS-0655,  2,     15,02-16021,9,20030207,2004,  5.0850, 164.9565, 4782,   1257.9,   3.7187,  34.5783,2,   -999.0,9,-999.0000,9,   -999.0,9,  -999.00,9,  -999.00,9,  -999.00,9,  -999.00,9,  -999.00,9, -999.000,9, -999.000,9,  -999.00,9,   -999.0,9,   -999.0,9,-999.0000,9,   -999.0,  9,  -999.00,9,   -999.0,  -999.00,9,  -999.00,9,  -999.00,9,  -999.00,9,   -999.0,-999.0000, -999,9, 1247,   3.6237,  27.4889,   -999.0,9
       KS03-01,  165E,KS-0655,  2,     14,02-16020,2,20030207,2003,  5.0850, 164.9565, 4782,   1256.5,   3.7172,  34.5780,2,   -999.0,9,  34.5781,2,     84.0,2,  -999.00,9,  -999.00,9,    40.10,2,     0.00,2,     2.82,2, -999.000,9, -999.000,9,  -999.00,9,   -999.0,9,   -999.0,9,-999.0000,9,   -999.0,  9,     7.59,2,   -999.0,  -999.00,9,  -999.00,9,  -999.00,9,  -999.00,9,   -999.0,-999.0000, -999,9, 1246,   3.6223,  27.4888,   -999.0,9
       KS03-01,  165E,KS-0655,  1,      4,02-16010,4,20030207,1657,  5.0843, 164.9862, 4785,   1259.1,   3.6547,  34.5796,2,   -999.0,9,-999.0000,9,   -999.0,9,  -999.00,9,  -999.00,9,  -999.00,9,  -999.00,9,  -999.00,9, -999.000,9, -999.000,9,  -999.00,9,   -999.0,9,   -999.0,9,-999.0000,9,   -999.0,  9,  -999.00,9,   -999.0,  -999.00,9,  -999.00,9,  -999.00,9,  -999.00,9,   -999.0,-999.0000, -999,9, 1248,   3.5602,  27.4963,   -999.0,9
       KS03-01,  165E,KS-0655,  1,      3,02-16015,3,20030207,1653,  5.0843, 164.9862, 4785,   1511.4,   2.9792,  34.6035,2,   -999.0,9,-999.0000,9,   -999.0,9,  -999.00,9,  -999.00,9,  -999.00,9,  -999.00,9,  -999.00,9, -999.000,9, -999.000,9,  -999.00,9,   -999.0,9,   -999.0,9,-999.0000,9,   -999.0,  9,  -999.00,9,   -999.0,  -999.00,9,  -999.00,9,  -999.00,9,  -999.00,9,   -999.0,-999.0000, -999,9, 1498,   2.8706,  27.5803,   -999.0,9
       KS03-01,  165E,KS-0655,  2,     13,02-16019,9,20030207,1959,  5.0850, 164.9565, 4782,   1513.1,   3.0402,  34.6014,2,   -999.0,9,-999.0000,9,   -999.0,9,  -999.00,9,  -999.00,9,  -999.00,9,  -999.00,9,  -999.00,9, -999.000,9, -999.000,9,  -999.00,9,   -999.0,9,   -999.0,9,-999.0000,9,   -999.0,  9,  -999.00,9,   -999.0,  -999.00,9,  -999.00,9,  -999.00,9,  -999.00,9,   -999.0,-999.0000, -999,9, 1499,   2.9307,  27.5732,   -999.0,9
       KS03-01,  165E,KS-0655,  2,     12,02-16018,2,20030207,1958,  5.0850, 164.9565, 4782,   1512.3,   3.0406,  34.6012,2,   -999.0,9,  34.6014,2,     91.0,2,  -999.00,9,  -999.00,9,    40.00,2,     0.00,2,     2.78,2, -999.000,9, -999.000,9,  -999.00,9,   -999.0,9,   -999.0,9,-999.0000,9,   -999.0,  9,     7.60,2,   -999.0,  -999.00,9,  -999.00,9,  -999.00,9,  -999.00,9,   -999.0,-999.0000, -999,9, 1499,   2.9312,  27.5730,   -999.0,9
       KS03-01,  165E,KS-0655,  1,      2,02-16014,4,20030207,1648,  5.0843, 164.9862, 4785,   1765.4,   2.5665,  34.6215,2,   -999.0,9,-999.0000,9,   -999.0,9,  -999.00,9,  -999.00,9,  -999.00,9,  -999.00,9,  -999.00,9, -999.000,9, -999.000,9,  -999.00,9,   -999.0,9,   -999.0,9,-999.0000,9,   -999.0,  9,  -999.00,9,   -999.0,  -999.00,9,  -999.00,9,  -999.00,9,  -999.00,9,   -999.0,-999.0000, -999,9, 1748,   2.4417,  27.6322,   -999.0,9
       KS03-01,  165E,KS-0655,  2,     11,02-16017,2,20030207,1954,  5.0850, 164.9565, 4782,   1765.8,   2.6000,  34.6201,2,   -999.0,9,  34.6217,2,    102.0,2,  -999.00,9,  -999.00,9,    39.31,2,     0.00,2,     2.72,2, -999.000,9, -999.000,9,  -999.00,9,   -999.0,9,   -999.0,9,-999.0000,9,   -999.0,  9,     7.62,2,   -999.0,  -999.00,9,  -999.00,9,  -999.00,9,  -999.00,9,   -999.0,-999.0000, -999,9, 1749,   2.4747,  27.6283,   -999.0,9
       KS03-01,  165E,KS-0655,  2,     10,02-16026,9,20030207,1954,  5.0850, 164.9565, 4782,   1765.2,   2.6000,  34.6202,2,   -999.0,9,-999.0000,9,   -999.0,9,  -999.00,9,  -999.00,9,  -999.00,9,  -999.00,9,  -999.00,9, -999.000,9, -999.000,9,  -999.00,9,   -999.0,9,   -999.0,9,-999.0000,9,   -999.0,  9,  -999.00,9,   -999.0,  -999.00,9,  -999.00,9,  -999.00,9,  -999.00,9,   -999.0,-999.0000, -999,9, 1748,   2.4748,  27.6283,   -999.0,9
       KS03-01,  165E,KS-0655,  2,      9,02-16012,9,20030207,1954,  5.0850, 164.9565, 4782,   1764.4,   2.6003,  34.6200,2,   -999.0,9,-999.0000,9,   -999.0,9,  -999.00,9,  -999.00,9,  -999.00,9,  -999.00,9,  -999.00,9, -999.000,9, -999.000,9,  -999.00,9,   -999.0,9,   -999.0,9,-999.0000,9,   -999.0,  9,  -999.00,9,   -999.0,  -999.00,9,  -999.00,9,  -999.00,9,  -999.00,9,   -999.0,-999.0000, -999,9, 1747,   2.4751,  27.6282,   -999.0,9
       KS03-01,  165E,KS-0655,  1,      1,02-16007,4,20030207,1644,  5.0843, 164.9862, 4785,   2018.8,   2.1800,  34.6413,2,   -999.0,9,-999.0000,9,   -999.0,9,  -999.00,9,  -999.00,9,  -999.00,9,  -999.00,9,  -999.00,9, -999.000,9, -999.000,9,  -999.00,9,   -999.0,9,   -999.0,9,-999.0000,9,   -999.0,  9,  -999.00,9,   -999.0,  -999.00,9,  -999.00,9,  -999.00,9,  -999.00,9,   -999.0,-999.0000, -999,9, 1998,   2.0392,  27.6812,   -999.0,9
       KS03-01,  165E,KS-0655,  2,      8,02-16011,9,20030207,1949,  5.0850, 164.9565, 4782,   2019.6,   2.2252,  34.6388,2,   -999.0,9,-999.0000,9,   -999.0,9,  -999.00,9,  -999.00,9,  -999.00,9,  -999.00,9,  -999.00,9, -999.000,9, -999.000,9,  -999.00,9,   -999.0,9,   -999.0,9,-999.0000,9,   -999.0,  9,  -999.00,9,   -999.0,  -999.00,9,  -999.00,9,  -999.00,9,  -999.00,9,   -999.0,-999.0000, -999,9, 1999,   2.0836,  27.6756,   -999.0,9
       KS03-01,  165E,KS-0655,  2,      7,02-16016,9,20030207,1949,  5.0850, 164.9565, 4782,   2018.9,   2.2258,  34.6388,2,   -999.0,9,-999.0000,9,   -999.0,9,  -999.00,9,  -999.00,9,  -999.00,9,  -999.00,9,  -999.00,9, -999.000,9, -999.000,9,  -999.00,9,   -999.0,9,   -999.0,9,-999.0000,9,   -999.0,  9,  -999.00,9,   -999.0,  -999.00,9,  -999.00,9,  -999.00,9,  -999.00,9,   -999.0,-999.0000, -999,9, 1998,   2.0843,  27.6755,   -999.0,9
       KS03-01,  165E,KS-0655,  2,      6,02-16009,9,20030207,1948,  5.0850, 164.9565, 4782,   2019.2,   2.2253,  34.6387,2,   -999.0,9,-999.0000,9,   -999.0,9,  -999.00,9,  -999.00,9,  -999.00,9,  -999.00,9,  -999.00,9, -999.000,9, -999.000,9,  -999.00,9,   -999.0,9,   -999.0,9,-999.0000,9,   -999.0,  9,  -999.00,9,   -999.0,  -999.00,9,  -999.00,9,  -999.00,9,  -999.00,9,   -999.0,-999.0000, -999,9, 1998,   2.0838,  27.6756,   -999.0,9
       KS03-01,  165E,KS-0655,  2,      5,02-16008,9,20030207,1948,  5.0850, 164.9565, 4782,   2019.3,   2.2260,  34.6388,2,   -999.0,9,-999.0000,9,   -999.0,9,  -999.00,9,  -999.00,9,  -999.00,9,  -999.00,9,  -999.00,9, -999.000,9, -999.000,9,  -999.00,9,   -999.0,9,   -999.0,9,-999.0000,9,   -999.0,  9,  -999.00,9,   -999.0,  -999.00,9,  -999.00,9,  -999.00,9,  -999.00,9,   -999.0,-999.0000, -999,9, 1999,   2.0845,  27.6755,   -999.0,9
       KS03-01,  165E,KS-0655,  2,      4,02-16010,9,20030207,1948,  5.0850, 164.9565, 4782,   2019.7,   2.2246,  34.6388,2,   -999.0,9,-999.0000,9,   -999.0,9,  -999.00,9,  -999.00,9,  -999.00,9,  -999.00,9,  -999.00,9, -999.000,9, -999.000,9,  -999.00,9,   -999.0,9,   -999.0,9,-999.0000,9,   -999.0,  9,  -999.00,9,   -999.0,  -999.00,9,  -999.00,9,  -999.00,9,  -999.00,9,   -999.0,-999.0000, -999,9, 1999,   2.0830,  27.6757,   -999.0,9
       KS03-01,  165E,KS-0655,  2,      3,02-16015,9,20030207,1948,  5.0850, 164.9565, 4782,   2019.8,   2.2246,  34.6388,2,   -999.0,9,-999.0000,9,   -999.0,9,  -999.00,9,  -999.00,9,  -999.00,9,  -999.00,9,  -999.00,9, -999.000,9, -999.000,9,  -999.00,9,   -999.0,9,   -999.0,9,-999.0000,9,   -999.0,  9,  -999.00,9,   -999.0,  -999.00,9,  -999.00,9,  -999.00,9,  -999.00,9,   -999.0,-999.0000, -999,9, 1999,   2.0830,  27.6757,   -999.0,9
       KS03-01,  165E,KS-0655,  2,      2,02-16014,2,20030207,1948,  5.0850, 164.9565, 4782,   2019.2,   2.2252,  34.6387,2,   -999.0,9,  34.6401,2,    108.0,2,  -999.00,9,  -999.00,9,    39.12,2,     0.00,2,     2.74,2, -999.000,9, -999.000,9,  -999.00,9,   -999.0,9,   -999.0,9,-999.0000,9,   -999.0,  9,     7.62,2,   -999.0,  -999.00,9,  -999.00,9,  -999.00,9,  -999.00,9,   -999.0,-999.0000, -999,9, 1998,   2.0837,  27.6755,   -999.0,9
       KS03-01,  165E,KS-0655,  2,      1,02-16007,9,20030207,1948,  5.0850, 164.9565, 4782,   2018.6,   2.2252,  34.6387,2,   -999.0,9,-999.0000,9,   -999.0,9,  -999.00,9,  -999.00,9,  -999.00,9,  -999.00,9,  -999.00,9, -999.000,9, -999.000,9,  -999.00,9,   -999.0,9,   -999.0,9,-999.0000,9,   -999.0,  9,  -999.00,9,   -999.0,  -999.00,9,  -999.00,9,  -999.00,9,  -999.00,9,   -999.0,-999.0000, -999,9, 1998,   2.0837,  27.6756,   -999.0,9