BOTTLE,20130510GEMDJMAYT
EXPOCODE,SECT_ID,STNNBR,CASTNO,SAMPNO,BTLNBR,BTLNBR_FLAG_W,DATE,TIME,LATITUDE,LONGITUDE,DEPTH,CTDPRS,CTDTMP,CTDSAL,CTDSAL_FLAG_W,CTDOXY,CTDOXY_FLAG_W,SALNTY,SALNTY_FLAG_W,OXYGEN,OXYGEN_FLAG_W,SILCAT,SILCAT_FLAG_W,NITRAT,NITRAT_FLAG_W,NO2+NO3,NO2+NO3_FLAG_W,NITRIT,NITRIT_FLAG_W,PHSPHT,PHSPHT_FLAG_W,CFC-11,CFC-11_FLAG_W,CFC-12,CFC-12_FLAG_W,DELC13,DELC13_FLAG_W,TCARBN,TCARBN_FLAG_W,ALKALI,ALKALI_FLAG_W,PH,PH_FLAG_W,PH_TMP,PH_SCALE,PH_NBS,PH_NBS_FLAG_W,C13ERR,TOTALP,TOTALP_FLAG_W,AMMONI,AMMONI_FLAG_W,CHLORA,CHLORA_FLAG_W,PPHYTN,PPHYTN_FLAG_W,REVPRS,REVTMP,DEPTH_,DEPTH_FLAG,CTDDEP,THETA,SIGTHT,DOC,DOC_FLAG_W
,,,,,,,GMT,GMT,,,METER,DBAR,ITS-90,PSS-78,,UMOL/KG,,PSS-78,,UMOL/KG,,UMOL/KG,,UMOL/KG,,UMOL/KG,,UMOL/KG,,UMOL/KG,,PMOL/KG,,PMOL/KG,,/MILLE,,UMOL/KG,,UMOL/KG,,25_DEG_C,,DEG_C,,,,/MILLE,UMOL/KG,,UMOL/KG,,UG/L,,UG/L,,DBAR,ITS-90,METERS,,METERS,DEG_C,,UMOL/L,
       KS03-01,  137E,KS-0679,  1,     24,02-16030,2,20030227,2059, 24.9907, 137.0418, 5030,      5.0,  21.7808,  35.0023,2,   -999.0,9,  35.0033,2,    218.0,2,  -999.00,9,  -999.00,9,     0.00,2,     0.00,2,     0.01,2, -999.000,9, -999.000,9,  -999.00,9,   1975.2,3,   -999.0,9,-999.0000,9,   -999.0,  9,     8.19,2,   -999.0,  -999.00,9,  -999.00,9,  -999.00,9,  -999.00,9,   -999.0,-999.0000, -999,9,    5,  21.7798,  24.2811,   -999.0,9
       KS03-01,  137E,KS-0679,  1,     23,02-16029,2,20030227,2057, 24.9907, 137.0418, 5030,      9.6,  21.7782,  35.0024,2,   -999.0,9,-999.0000,9,    218.0,2,  -999.00,9,  -999.00,9,     0.00,2,     0.00,2,     0.01,2, -999.000,9, -999.000,9,  -999.00,9,   1977.1,2,   -999.0,9,-999.0000,9,   -999.0,  9,     8.20,2,   -999.0,  -999.00,9,  -999.00,9,  -999.00,9,  -999.00,9,   -999.0,-999.0000, -999,9,   10,  21.7763,  24.2821,   -999.0,9
       KS03-01,  137E,KS-0679,  1,     22,02-16028,2,20030227,2056, 24.9907, 137.0418, 5030,     25.4,  21.7126,  35.0043,2,   -999.0,9,-999.0000,9,    218.0,2,  -999.00,9,  -999.00,9,     0.00,2,     0.00,2,     0.01,2, -999.000,9, -999.000,9,  -999.00,9,   1974.9,3,   -999.0,9,-999.0000,9,   -999.0,  9,     8.20,2,   -999.0,  -999.00,9,  -999.00,9,  -999.00,9,  -999.00,9,   -999.0,-999.0000, -999,9,   25,  21.7076,  24.3026,   -999.0,9
       KS03-01,  137E,KS-0679,  1,     21,02-16027,2,20030227,2051, 24.9907, 137.0418, 5030,     49.7,  21.6727,  34.9983,2,   -999.0,9,-999.0000,9,    217.0,2,  -999.00,9,  -999.00,9,     0.00,2,     0.00,2,     0.02,2, -999.000,9, -999.000,9,  -999.00,9,   1977.6,2,   -999.0,9,-999.0000,9,   -999.0,  9,     8.20,2,   -999.0,  -999.00,9,  -999.00,9,  -999.00,9,  -999.00,9,   -999.0,-999.0000, -999,9,   49,  21.6630,  24.3105,   -999.0,9
       KS03-01,  137E,KS-0679,  1,     20,02-16013,2,20030227,2050, 24.9907, 137.0418, 5030,     74.8,  21.6462,  34.9938,2,   -999.0,9,-999.0000,9,    216.0,2,  -999.00,9,  -999.00,9,     0.00,2,     0.00,2,     0.01,2, -999.000,9, -999.000,9,  -999.00,9,   1976.0,2,   -999.0,9,-999.0000,9,   -999.0,  9,     8.20,2,   -999.0,  -999.00,9,  -999.00,9,  -999.00,9,  -999.00,9,   -999.0,-999.0000, -999,9,   74,  21.6316,  24.3157,   -999.0,9
       KS03-01,  137E,KS-0679,  1,     19,02-16025,2,20030227,2049, 24.9907, 137.0418, 5030,     98.9,  20.9556,  34.9060,2,   -999.0,9,  34.9071,2,    212.0,2,  -999.00,9,  -999.00,9,     0.49,2,     0.12,2,     0.05,2, -999.000,9, -999.000,9,  -999.00,9,   1987.7,2,   -999.0,9,-999.0000,9,   -999.0,  9,     8.17,2,   -999.0,  -999.00,9,  -999.00,9,  -999.00,9,  -999.00,9,   -999.0,-999.0000, -999,9,   98,  20.9367,  24.4395,   -999.0,9
       KS03-01,  137E,KS-0679,  1,     18,02-16024,2,20030227,2048, 24.9907, 137.0418, 5030,    124.5,  20.4347,  34.8699,2,   -999.0,9,-999.0000,9,    206.0,2,  -999.00,9,  -999.00,9,     1.17,2,     0.06,2,     0.10,2, -999.000,9, -999.000,9,  -999.00,9,   1997.4,2,   -999.0,9,-999.0000,9,   -999.0,  9,     8.15,2,   -999.0,  -999.00,9,  -999.00,9,  -999.00,9,  -999.00,9,   -999.0,-999.0000, -999,9,  124,  20.4114,  24.5534,   -999.0,9
       KS03-01,  137E,KS-0679,  1,     17,02-16023,2,20030227,2047, 24.9907, 137.0418, 5030,    149.9,  19.2983,  34.8154,2,   -999.0,9,-999.0000,9,    201.0,2,  -999.00,9,  -999.00,9,     2.54,2,     0.01,2,     0.19,2, -999.000,9, -999.000,9,  -999.00,9,   2010.8,2,   -999.0,9,-999.0000,9,   -999.0,  9,     8.12,2,   -999.0,  -999.00,9,  -999.00,9,  -999.00,9,  -999.00,9,   -999.0,-999.0000, -999,9,  149,  19.2713,  24.8106,   -999.0,9
       KS03-01,  137E,KS-0679,  1,     16,02-16022,4,20030227,2045, 24.9907, 137.0418, 5030,    200.4,  18.0308,  34.7681,2,   -999.0,9,  34.9947,4,    218.0,4,  -999.00,9,  -999.00,9,     0.00,4,     0.00,4,     0.02,4, -999.000,9, -999.000,9,  -999.00,9,   1975.9,4,   -999.0,9,-999.0000,9,   -999.0,  9,     8.20,4,   -999.0,  -999.00,9,  -999.00,9,  -999.00,9,  -999.00,9,   -999.0,-999.0000, -999,9,  199,  17.9964,  25.0953,   -999.0,9
       KS03-01,  137E,KS-0679,  1,     15,02-16021,4,20030227,2044, 24.9907, 137.0418, 5030,    250.2,  16.8809,  34.7142,2,   -999.0,9,-999.0000,9,   -999.0,9,  -999.00,9,  -999.00,9,  -999.00,9,  -999.00,9,  -999.00,9, -999.000,9, -999.000,9,  -999.00,9,   -999.0,9,   -999.0,9,-999.0000,9,   -999.0,  9,  -999.00,9,   -999.0,  -999.00,9,  -999.00,9,  -999.00,9,  -999.00,9,   -999.0,-999.0000, -999,9,  248,  16.8398,  25.3328,   -999.0,9
       KS03-01,  137E,KS-0679,  1,     14,02-16020,2,20030227,2042, 24.9907, 137.0418, 5030,    300.8,  15.8530,  34.6554,2,   -999.0,9,  34.6574,4,    192.0,2,  -999.00,9,  -999.00,9,     8.00,2,     0.00,2,     0.55,2, -999.000,9, -999.000,9,  -999.00,9,   -999.0,9,   -999.0,9,-999.0000,9,   -999.0,  9,  -999.00,9,   -999.0,  -999.00,9,  -999.00,9,  -999.00,9,  -999.00,9,   -999.0,-999.0000, -999,9,  299,  15.8057,  25.5267,   -999.0,9
       KS03-01,  137E,KS-0679,  1,     13,02-16019,2,20030227,2040, 24.9907, 137.0418, 5030,    402.5,  13.2704,  34.4770,2,   -999.0,9,  34.4789,2,    186.0,2,  -999.00,9,  -999.00,9,    12.77,2,     0.00,2,     0.89,2, -999.000,9, -999.000,9,  -999.00,9,   -999.0,9,   -999.0,9,-999.0000,9,   -999.0,  9,  -999.00,9,   -999.0,  -999.00,9,  -999.00,9,  -999.00,9,  -999.00,9,   -999.0,-999.0000, -999,9,  400,  13.2141,  25.9446,   -999.0,9
       KS03-01,  137E,KS-0679,  1,     12,02-16018,2,20030227,2036, 24.9907, 137.0418, 5030,    502.7,  10.3947,  34.2707,2,   -999.0,9,  34.2701,2,    173.0,2,  -999.00,9,  -999.00,9,    19.00,2,     0.00,2,     1.33,2, -999.000,9, -999.000,9,  -999.00,9,   -999.0,9,   -999.0,9,-999.0000,9,   -999.0,  9,  -999.00,9,   -999.0,  -999.00,9,  -999.00,9,  -999.00,9,  -999.00,9,   -999.0,-999.0000, -999,9,  499,  10.3346,  26.3251,   -999.0,9
       KS03-01,  137E,KS-0679,  1,     11,02-16017,3,20030227,2033, 24.9907, 137.0418, 5030,    603.2,   8.2327,  34.1559,2,   -999.0,9,  34.1595,4,    149.0,2,  -999.00,9,  -999.00,9,    24.84,2,     0.00,2,     1.78,2, -999.000,9, -999.000,9,  -999.00,9,   -999.0,9,   -999.0,9,-999.0000,9,   -999.0,  9,  -999.00,9,   -999.0,  -999.00,9,  -999.00,9,  -999.00,9,  -999.00,9,   -999.0,-999.0000, -999,9,  598,   8.1698,  26.5855,   -999.0,9
       KS03-01,  137E,KS-0679,  1,     10,02-16026,4,20030227,2031, 24.9907, 137.0418, 5030,    703.8,   6.1415,  34.1335,2,   -999.0,9,  34.9048,4,    211.0,4,  -999.00,9,  -999.00,9,     0.49,4,     0.11,4,     0.06,4, -999.000,9, -999.000,9,  -999.00,9,   -999.0,9,   -999.0,9,-999.0000,9,   -999.0,  9,  -999.00,9,   -999.0,  -999.00,9,  -999.00,9,  -999.00,9,  -999.00,9,   -999.0,-999.0000, -999,9,  698,   6.0787,  26.8580,   -999.0,9
       KS03-01,  137E,KS-0679,  1,      9,02-16012,4,20030227,2029, 24.9907, 137.0418, 5030,    805.7,   5.1730,  34.1898,2,   -999.0,9,-999.0000,9,   -999.0,9,  -999.00,9,  -999.00,9,  -999.00,9,  -999.00,9,  -999.00,9, -999.000,9, -999.000,9,  -999.00,9,   -999.0,9,   -999.0,9,-999.0000,9,   -999.0,  9,  -999.00,9,   -999.0,  -999.00,9,  -999.00,9,  -999.00,9,  -999.00,9,   -999.0,-999.0000, -999,9,  799,   5.1064,  27.0207,   -999.0,9
       KS03-01,  137E,KS-0679,  1,      8,02-16011,2,20030227,2027, 24.9907, 137.0418, 5030,    906.4,   4.4703,  34.2549,2,   -999.0,9,  34.2552,2,     66.0,2,  -999.00,9,  -999.00,9,    38.65,2,     0.00,2,     2.80,2, -999.000,9, -999.000,9,  -999.00,9,   -999.0,9,   -999.0,9,-999.0000,9,   -999.0,  9,  -999.00,9,   -999.0,  -999.00,9,  -999.00,9,  -999.00,9,  -999.00,9,   -999.0,-999.0000, -999,9,  899,   4.3995,  27.1514,   -999.0,9
       KS03-01,  137E,KS-0679,  1,      7,02-16016,2,20030227,2024, 24.9907, 137.0418, 5030,   1007.8,   4.0141,  34.3210,2,   -999.0,9,  34.3225,4,     58.0,2,  -999.00,9,  -999.00,9,    40.01,2,     0.00,2,     2.90,2, -999.000,9, -999.000,9,  -999.00,9,   -999.0,9,   -999.0,9,-999.0000,9,   -999.0,  9,  -999.00,9,   -999.0,  -999.00,9,  -999.00,9,  -999.00,9,  -999.00,9,   -999.0,-999.0000, -999,9,  999,   3.9380,  27.2524,   -999.0,9
       KS03-01,  137E,KS-0679,  1,      6,02-16009,4,20030227,2018, 24.9907, 137.0418, 5030,   1259.5,   3.1154,  34.4475,2,   -999.0,9,-999.0000,9,   -999.0,9,  -999.00,9,  -999.00,9,  -999.00,9,  -999.00,9,  -999.00,9, -999.000,9, -999.000,9,  -999.00,9,   -999.0,9,   -999.0,9,-999.0000,9,   -999.0,  9,  -999.00,9,   -999.0,  -999.00,9,  -999.00,9,  -999.00,9,  -999.00,9,   -999.0,-999.0000, -999,9, 1248,   3.0263,  27.4416,   -999.0,9
       KS03-01,  137E,KS-0679,  1,      5,02-16008,2,20030227,2013, 24.9907, 137.0418, 5030,   1512.1,   2.6269,  34.5362,2,   -999.0,9,  34.5362,2,     83.0,2,  -999.00,9,  -999.00,9,    39.80,2,     0.00,2,     2.87,2, -999.000,9, -999.000,9,  -999.00,9,   -999.0,9,   -999.0,9,-999.0000,9,   -999.0,  9,  -999.00,9,   -999.0,  -999.00,9,  -999.00,9,  -999.00,9,  -999.00,9,   -999.0,-999.0000, -999,9, 1497,   2.5225,  27.5571,   -999.0,9
       KS03-01,  137E,KS-0679,  1,      4,02-16010,4,20030227,2003, 24.9907, 137.0418, 5030,   2020.0,   2.0472,  34.6129,2,   -999.0,9,-999.0000,9,   -999.0,9,  -999.00,9,  -999.00,9,  -999.00,9,  -999.00,9,  -999.00,9, -999.000,9, -999.000,9,  -999.00,9,   -999.0,9,   -999.0,9,-999.0000,9,   -999.0,  9,  -999.00,9,   -999.0,  -999.00,9,  -999.00,9,  -999.00,9,  -999.00,9,   -999.0,-999.0000, -999,9, 1997,   1.9084,  27.6687,   -999.0,9
       KS03-01,  137E,KS-0679,  1,      3,02-16015,2,20030227,1945, 24.9907, 137.0418, 5030,   3039.3,   1.6518,  34.6630,2,   -999.0,9,  34.6612,2,    140.0,2,  -999.00,9,  -999.00,9,    36.78,2,     0.00,2,     2.62,2, -999.000,9, -999.000,9,  -999.00,9,   -999.0,9,   -999.0,9,-999.0000,9,   -999.0,  9,  -999.00,9,   -999.0,  -999.00,9,  -999.00,9,  -999.00,9,  -999.00,9,   -999.0,-999.0000, -999,9, 2998,   1.4279,  27.7449,   -999.0,9
       KS03-01,  137E,KS-0679,  1,      2,02-16014,2,20030227,1928, 24.9907, 137.0418, 5030,   4062.4,   1.5423,  34.6834,2,   -999.0,9,  34.6812,2,    155.0,2,  -999.00,9,  -999.00,9,    35.81,2,     0.00,2,     2.53,2, -999.000,9, -999.000,9,  -999.00,9,   -999.0,9,   -999.0,9,-999.0000,9,   -999.0,  9,  -999.00,9,   -999.0,  -999.00,9,  -999.00,9,  -999.00,9,  -999.00,9,   -999.0,-999.0000, -999,9, 3998,   1.2154,  27.7764,   -999.0,9
       KS03-01,  137E,KS-0679,  1,      1,02-16007,4,20030227,1911, 24.9907, 137.0418, 5030,   5048.2,   1.6281,  34.6864,2,   -999.0,9,-999.0000,9,   -999.0,9,  -999.00,9,  -999.00,9,  -999.00,9,  -999.00,9,  -999.00,9, -999.000,9, -999.000,9,  -999.00,9,   -999.0,9,   -999.0,9,-999.0000,9,   -999.0,  9,  -999.00,9,   -999.0,  -999.00,9,  -999.00,9,  -999.00,9,  -999.00,9,   -999.0,-999.0000, -999,9, 4957,   1.1836,  27.7809,   -999.0,9