BOTTLE,20130510GEMDJMAYT
EXPOCODE,SECT_ID,STNNBR,CASTNO,SAMPNO,BTLNBR,BTLNBR_FLAG_W,DATE,TIME,LATITUDE,LONGITUDE,DEPTH,CTDPRS,CTDTMP,CTDSAL,CTDSAL_FLAG_W,CTDOXY,CTDOXY_FLAG_W,SALNTY,SALNTY_FLAG_W,OXYGEN,OXYGEN_FLAG_W,SILCAT,SILCAT_FLAG_W,NITRAT,NITRAT_FLAG_W,NO2+NO3,NO2+NO3_FLAG_W,NITRIT,NITRIT_FLAG_W,PHSPHT,PHSPHT_FLAG_W,CFC-11,CFC-11_FLAG_W,CFC-12,CFC-12_FLAG_W,DELC13,DELC13_FLAG_W,TCARBN,TCARBN_FLAG_W,ALKALI,ALKALI_FLAG_W,PH,PH_FLAG_W,PH_TMP,PH_SCALE,PH_NBS,PH_NBS_FLAG_W,C13ERR,TOTALP,TOTALP_FLAG_W,AMMONI,AMMONI_FLAG_W,CHLORA,CHLORA_FLAG_W,PPHYTN,PPHYTN_FLAG_W,REVPRS,REVTMP,DEPTH_,DEPTH_FLAG,CTDDEP,THETA,SIGTHT,DOC,DOC_FLAG_W
,,,,,,,GMT,GMT,,,METER,DBAR,ITS-90,PSS-78,,UMOL/KG,,PSS-78,,UMOL/KG,,UMOL/KG,,UMOL/KG,,UMOL/KG,,UMOL/KG,,UMOL/KG,,PMOL/KG,,PMOL/KG,,/MILLE,,UMOL/KG,,UMOL/KG,,25_DEG_C,,DEG_C,,,,/MILLE,UMOL/KG,,UMOL/KG,,UG/L,,UG/L,,DBAR,ITS-90,METERS,,METERS,DEG_C,,UMOL/L,
       KS03-01,  137E,KS-0677,  1,     24,02-16030,2,20030227,1032, 23.9983, 137.5083, 4780,      5.7,  23.5058,  35.0227,2,   -999.0,9,  35.0240,2,    212.0,2,  -999.00,9,  -999.00,9,     0.00,2,     0.00,2,     0.03,2, -999.000,9, -999.000,9,  -999.00,9,   1966.0,4,   -999.0,9,-999.0000,9,   -999.0,  9,     8.21,2,   -999.0,  -999.00,9,  -999.00,9,  -999.00,9,  -999.00,9,   -999.0,-999.0000, -999,9,    6,  23.5046,  23.8043,   -999.0,9
       KS03-01,  137E,KS-0677,  1,     23,02-16029,2,20030227,1031, 23.9983, 137.5083, 4780,     25.5,  23.2733,  35.0181,2,   -999.0,9,-999.0000,9,    212.0,2,  -999.00,9,  -999.00,9,     0.00,2,     0.00,2,     0.03,2, -999.000,9, -999.000,9,  -999.00,9,   -999.0,9,   -999.0,9,-999.0000,9,   -999.0,  9,  -999.00,9,   -999.0,  -999.00,9,  -999.00,9,  -999.00,9,  -999.00,9,   -999.0,-999.0000, -999,9,   25,  23.2681,  23.8698,   -999.0,9
       KS03-01,  137E,KS-0677,  1,     22,02-16028,2,20030227,1027, 23.9983, 137.5083, 4780,     50.6,  23.2629,  35.0188,2,   -999.0,9,-999.0000,9,    212.0,2,  -999.00,9,  -999.00,9,     0.00,2,     0.00,2,     0.03,2, -999.000,9, -999.000,9,  -999.00,9,   -999.0,9,   -999.0,9,-999.0000,9,   -999.0,  9,  -999.00,9,   -999.0,  -999.00,9,  -999.00,9,  -999.00,9,  -999.00,9,   -999.0,-999.0000, -999,9,   50,  23.2525,  23.8748,   -999.0,9
       KS03-01,  137E,KS-0677,  1,     21,02-16027,2,20030227,1026, 23.9983, 137.5083, 4780,     75.3,  23.2456,  35.0245,2,   -999.0,9,-999.0000,9,    212.0,2,  -999.00,9,  -999.00,9,     0.00,2,     0.00,2,     0.06,2, -999.000,9, -999.000,9,  -999.00,9,   -999.0,9,   -999.0,9,-999.0000,9,   -999.0,  9,  -999.00,9,   -999.0,  -999.00,9,  -999.00,9,  -999.00,9,  -999.00,9,   -999.0,-999.0000, -999,9,   75,  23.2301,  23.8856,   -999.0,9
       KS03-01,  137E,KS-0677,  1,     20,02-16013,2,20030227,1025, 23.9983, 137.5083, 4780,    101.8,  23.1913,  35.0145,2,   -999.0,9,  35.0146,2,    212.0,2,  -999.00,9,  -999.00,9,     0.00,2,     0.00,2,     0.03,2, -999.000,9, -999.000,9,  -999.00,9,   -999.0,9,   -999.0,9,-999.0000,9,   -999.0,  9,  -999.00,9,   -999.0,  -999.00,9,  -999.00,9,  -999.00,9,  -999.00,9,   -999.0,-999.0000, -999,9,  101,  23.1704,  23.8954,   -999.0,9
       KS03-01,  137E,KS-0677,  1,     19,02-16025,2,20030227,1023, 23.9983, 137.5083, 4780,    150.3,  22.6464,  34.9696,2,   -999.0,9,-999.0000,9,    208.0,2,  -999.00,9,  -999.00,9,     0.20,2,     0.07,2,     0.07,2, -999.000,9, -999.000,9,  -999.00,9,   -999.0,9,   -999.0,9,-999.0000,9,   -999.0,  9,  -999.00,9,   -999.0,  -999.00,9,  -999.00,9,  -999.00,9,  -999.00,9,   -999.0,-999.0000, -999,9,  149,  22.6160,  24.0206,   -999.0,9
       KS03-01,  137E,KS-0677,  1,     18,02-16024,2,20030227,1022, 23.9983, 137.5083, 4780,    201.9,  20.3697,  34.8703,2,   -999.0,9,  34.8694,2,    198.0,2,  -999.00,9,  -999.00,9,     1.46,2,     0.02,2,     0.15,2, -999.000,9, -999.000,9,  -999.00,9,   -999.0,9,   -999.0,9,-999.0000,9,   -999.0,  9,  -999.00,9,   -999.0,  -999.00,9,  -999.00,9,  -999.00,9,  -999.00,9,   -999.0,-999.0000, -999,9,  201,  20.3319,  24.5749,   -999.0,9
       KS03-01,  137E,KS-0677,  1,     17,02-16023,2,20030227,1021, 23.9983, 137.5083, 4780,    251.5,  18.6667,  34.7935,2,   -999.0,9,-999.0000,9,    201.0,2,  -999.00,9,  -999.00,9,     3.12,2,     0.00,2,     0.23,2, -999.000,9, -999.000,9,  -999.00,9,   -999.0,9,   -999.0,9,-999.0000,9,   -999.0,  9,  -999.00,9,   -999.0,  -999.00,9,  -999.00,9,  -999.00,9,  -999.00,9,   -999.0,-999.0000, -999,9,  250,  18.6224,  24.9589,   -999.0,9
       KS03-01,  137E,KS-0677,  1,     16,02-16022,9,20030227,1020, 23.9983, 137.5083, 4780,    251.7,  18.6551,  34.7926,2,   -999.0,9,-999.0000,9,   -999.0,9,  -999.00,9,  -999.00,9,  -999.00,9,  -999.00,9,  -999.00,9, -999.000,9, -999.000,9,  -999.00,9,   -999.0,9,   -999.0,9,-999.0000,9,   -999.0,  9,  -999.00,9,   -999.0,  -999.00,9,  -999.00,9,  -999.00,9,  -999.00,9,   -999.0,-999.0000, -999,9,  250,  18.6108,  24.9612,   -999.0,9
       KS03-01,  137E,KS-0677,  1,     15,02-16021,2,20030227,1019, 23.9983, 137.5083, 4780,    299.8,  17.2505,  34.7361,2,   -999.0,9,  34.7364,2,    196.0,2,  -999.00,9,  -999.00,9,     5.56,2,     0.00,2,     0.40,2, -999.000,9, -999.000,9,  -999.00,9,   -999.0,9,   -999.0,9,-999.0000,9,   -999.0,  9,  -999.00,9,   -999.0,  -999.00,9,  -999.00,9,  -999.00,9,  -999.00,9,   -999.0,-999.0000, -999,9,  298,  17.2005,  25.2639,   -999.0,9
       KS03-01,  137E,KS-0677,  1,     14,02-16020,2,20030227,1017, 23.9983, 137.5083, 4780,    401.6,  14.7813,  34.5826,2,   -999.0,9,  34.5838,2,    189.0,2,  -999.00,9,  -999.00,9,     9.85,2,     0.00,2,     0.69,2, -999.000,9, -999.000,9,  -999.00,9,   -999.0,9,   -999.0,9,-999.0000,9,   -999.0,  9,  -999.00,9,   -999.0,  -999.00,9,  -999.00,9,  -999.00,9,  -999.00,9,   -999.0,-999.0000, -999,9,  399,  14.7209,  25.7109,   -999.0,9
       KS03-01,  137E,KS-0677,  1,     13,02-16019,2,20030227,1014, 23.9983, 137.5083, 4780,    502.4,  12.1539,  34.3956,2,   -999.0,9,  34.3957,2,    178.0,2,  -999.00,9,  -999.00,9,    15.20,2,     0.00,2,     1.11,2, -999.000,9, -999.000,9,  -999.00,9,   -999.0,9,   -999.0,9,-999.0000,9,   -999.0,  9,  -999.00,9,   -999.0,  -999.00,9,  -999.00,9,  -999.00,9,  -999.00,9,   -999.0,-999.0000, -999,9,  499,  12.0874,  26.1030,   -999.0,9
       KS03-01,  137E,KS-0677,  1,     12,02-16018,2,20030227,1011, 23.9983, 137.5083, 4780,    603.6,   8.7265,  34.1834,2,   -999.0,9,  34.1856,2,    146.0,2,  -999.00,9,  -999.00,9,    24.16,2,     0.00,2,     1.73,2, -999.000,9, -999.000,9,  -999.00,9,   -999.0,9,   -999.0,9,-999.0000,9,   -999.0,  9,  -999.00,9,   -999.0,  -999.00,9,  -999.00,9,  -999.00,9,  -999.00,9,   -999.0,-999.0000, -999,9,  599,   8.6613,  26.5320,   -999.0,9
       KS03-01,  137E,KS-0677,  1,     11,02-16017,4,20030227,1009, 23.9983, 137.5083, 4780,    704.1,   6.5608,  34.1436,2,   -999.0,9,-999.0000,9,   -999.0,9,  -999.00,9,  -999.00,9,  -999.00,9,  -999.00,9,  -999.00,9, -999.000,9, -999.000,9,  -999.00,9,   -999.0,9,   -999.0,9,-999.0000,9,   -999.0,  9,  -999.00,9,   -999.0,  -999.00,9,  -999.00,9,  -999.00,9,  -999.00,9,   -999.0,-999.0000, -999,9,  698,   6.4957,  26.8120,   -999.0,9
       KS03-01,  137E,KS-0677,  1,     10,02-16026,9,20030227,1007, 23.9983, 137.5083, 4780,    804.7,   5.4260,  34.1836,2,   -999.0,9,-999.0000,9,   -999.0,9,  -999.00,9,  -999.00,9,  -999.00,9,  -999.00,9,  -999.00,9, -999.000,9, -999.000,9,  -999.00,9,   -999.0,9,   -999.0,9,-999.0000,9,   -999.0,  9,  -999.00,9,   -999.0,  -999.00,9,  -999.00,9,  -999.00,9,  -999.00,9,   -999.0,-999.0000, -999,9,  798,   5.3579,  26.9862,   -999.0,9
       KS03-01,  137E,KS-0677,  1,      9,02-16012,2,20030227,1006, 23.9983, 137.5083, 4780,    805.5,   5.4243,  34.1831,2,   -999.0,9,  34.1836,2,     83.0,2,  -999.00,9,  -999.00,9,    35.35,2,     0.00,2,     2.59,2, -999.000,9, -999.000,9,  -999.00,9,   -999.0,9,   -999.0,9,-999.0000,9,   -999.0,  9,  -999.00,9,   -999.0,  -999.00,9,  -999.00,9,  -999.00,9,  -999.00,9,   -999.0,-999.0000, -999,9,  799,   5.3561,  26.9861,   -999.0,9
       KS03-01,  137E,KS-0677,  1,      8,02-16011,2,20030227,1004, 23.9983, 137.5083, 4780,    908.0,   4.5820,  34.2669,2,   -999.0,9,  34.2664,2,     64.0,2,  -999.00,9,  -999.00,9,    38.65,2,     0.00,2,     2.82,2, -999.000,9, -999.000,9,  -999.00,9,   -999.0,9,   -999.0,9,-999.0000,9,   -999.0,  9,  -999.00,9,   -999.0,  -999.00,9,  -999.00,9,  -999.00,9,  -999.00,9,   -999.0,-999.0000, -999,9,  900,   4.5102,  27.1489,   -999.0,9
       KS03-01,  137E,KS-0677,  1,      7,02-16016,9,20030227,1004, 23.9983, 137.5083, 4780,    906.6,   4.5880,  34.2658,2,   -999.0,9,-999.0000,9,   -999.0,9,  -999.00,9,  -999.00,9,  -999.00,9,  -999.00,9,  -999.00,9, -999.000,9, -999.000,9,  -999.00,9,   -999.0,9,   -999.0,9,-999.0000,9,   -999.0,  9,  -999.00,9,   -999.0,  -999.00,9,  -999.00,9,  -999.00,9,  -999.00,9,   -999.0,-999.0000, -999,9,  899,   4.5163,  27.1474,   -999.0,9
       KS03-01,  137E,KS-0677,  1,      6,02-16009,9,20030227,1002, 23.9983, 137.5083, 4780,   1006.6,   4.0286,  34.3405,2,   -999.0,9,-999.0000,9,   -999.0,9,  -999.00,9,  -999.00,9,  -999.00,9,  -999.00,9,  -999.00,9, -999.000,9, -999.000,9,  -999.00,9,   -999.0,9,   -999.0,9,-999.0000,9,   -999.0,  9,  -999.00,9,   -999.0,  -999.00,9,  -999.00,9,  -999.00,9,  -999.00,9,   -999.0,-999.0000, -999,9,  998,   3.9524,  27.2664,   -999.0,9
       KS03-01,  137E,KS-0677,  1,      5,02-16008,2,20030227,1002, 23.9983, 137.5083, 4780,   1006.0,   4.0250,  34.3408,2,   -999.0,9,  34.3411,2,     58.0,2,  -999.00,9,  -999.00,9,    39.81,2,     0.00,2,     2.93,2, -999.000,9, -999.000,9,  -999.00,9,   -999.0,9,   -999.0,9,-999.0000,9,   -999.0,  9,  -999.00,9,   -999.0,  -999.00,9,  -999.00,9,  -999.00,9,  -999.00,9,   -999.0,-999.0000, -999,9,  997,   3.9489,  27.2670,   -999.0,9
       KS03-01,  137E,KS-0677,  1,      4,02-16010,2,20030227,0956, 23.9983, 137.5083, 4780,   1260.2,   3.1071,  34.4551,2,   -999.0,9,  34.4544,2,     63.0,2,  -999.00,9,  -999.00,9,    40.59,2,     0.00,2,     2.98,2, -999.000,9, -999.000,9,  -999.00,9,   -999.0,9,   -999.0,9,-999.0000,9,   -999.0,  9,  -999.00,9,   -999.0,  -999.00,9,  -999.00,9,  -999.00,9,  -999.00,9,   -999.0,-999.0000, -999,9, 1248,   3.0180,  27.4484,   -999.0,9
       KS03-01,  137E,KS-0677,  1,      3,02-16015,2,20030227,0952, 23.9983, 137.5083, 4780,   1512.9,   2.5944,  34.5332,2,   -999.0,9,  34.5331,2,     82.0,2,  -999.00,9,  -999.00,9,    40.00,2,     0.00,2,     2.89,2, -999.000,9, -999.000,9,  -999.00,9,   -999.0,9,   -999.0,9,-999.0000,9,   -999.0,  9,  -999.00,9,   -999.0,  -999.00,9,  -999.00,9,  -999.00,9,  -999.00,9,   -999.0,-999.0000, -999,9, 1498,   2.4903,  27.5574,   -999.0,9
       KS03-01,  137E,KS-0677,  1,      2,02-16014,4,20030227,0946, 23.9983, 137.5083, 4780,   1767.1,   2.2439,  34.5896,2,   -999.0,9,-999.0000,9,   -999.0,9,  -999.00,9,  -999.00,9,  -999.00,9,  -999.00,9,  -999.00,9, -999.000,9, -999.000,9,  -999.00,9,   -999.0,9,   -999.0,9,-999.0000,9,   -999.0,  9,  -999.00,9,   -999.0,  -999.00,9,  -999.00,9,  -999.00,9,  -999.00,9,   -999.0,-999.0000, -999,9, 1748,   2.1234,  27.6330,   -999.0,9
       KS03-01,  137E,KS-0677,  1,      1,02-16007,2,20030227,0941, 23.9983, 137.5083, 4780,   2020.4,   2.0469,  34.6171,2,   -999.0,9,  34.6172,2,    119.0,2,  -999.00,9,  -999.00,9,    38.24,2,     0.00,2,     2.76,2, -999.000,9, -999.000,9,  -999.00,9,   -999.0,9,   -999.0,9,-999.0000,9,   -999.0,  9,  -999.00,9,   -999.0,  -999.00,9,  -999.00,9,  -999.00,9,  -999.00,9,   -999.0,-999.0000, -999,9, 1998,   1.9081,  27.6722,   -999.0,9