BOTTLE,20130510GEMDJMAYT
EXPOCODE,SECT_ID,STNNBR,CASTNO,SAMPNO,BTLNBR,BTLNBR_FLAG_W,DATE,TIME,LATITUDE,LONGITUDE,DEPTH,CTDPRS,CTDTMP,CTDSAL,CTDSAL_FLAG_W,CTDOXY,CTDOXY_FLAG_W,SALNTY,SALNTY_FLAG_W,OXYGEN,OXYGEN_FLAG_W,SILCAT,SILCAT_FLAG_W,NITRAT,NITRAT_FLAG_W,NO2+NO3,NO2+NO3_FLAG_W,NITRIT,NITRIT_FLAG_W,PHSPHT,PHSPHT_FLAG_W,CFC-11,CFC-11_FLAG_W,CFC-12,CFC-12_FLAG_W,DELC13,DELC13_FLAG_W,TCARBN,TCARBN_FLAG_W,ALKALI,ALKALI_FLAG_W,PH,PH_FLAG_W,PH_TMP,PH_SCALE,PH_NBS,PH_NBS_FLAG_W,C13ERR,TOTALP,TOTALP_FLAG_W,AMMONI,AMMONI_FLAG_W,CHLORA,CHLORA_FLAG_W,PPHYTN,PPHYTN_FLAG_W,REVPRS,REVTMP,DEPTH_,DEPTH_FLAG,CTDDEP,THETA,SIGTHT,DOC,DOC_FLAG_W
,,,,,,,GMT,GMT,,,METER,DBAR,ITS-90,PSS-78,,UMOL/KG,,PSS-78,,UMOL/KG,,UMOL/KG,,UMOL/KG,,UMOL/KG,,UMOL/KG,,UMOL/KG,,PMOL/KG,,PMOL/KG,,/MILLE,,UMOL/KG,,UMOL/KG,,25_DEG_C,,DEG_C,,,,/MILLE,UMOL/KG,,UMOL/KG,,UG/L,,UG/L,,DBAR,ITS-90,METERS,,METERS,DEG_C,,UMOL/L,
       KS03-01,  165E,KS-0663,  1,     24,02-16030,2,20030210,0356, -3.0087, 164.9988, 4135,      5.4,  29.5235,  34.3417,2,   -999.0,9,  34.3445,2,    194.0,2,  -999.00,9,  -999.00,9,     0.00,2,     0.00,2,     0.11,2, -999.000,9, -999.000,9,  -999.00,9,   -999.0,9,   -999.0,9,-999.0000,9,   -999.0,  9,     8.25,2,   -999.0,  -999.00,9,  -999.00,9,     0.03,2,     0.02,2,   -999.0,-999.0000, -999,9,    5,  29.5222,  21.3948,   -999.0,9
       KS03-01,  165E,KS-0663,  1,     23,02-16029,2,20030210,0355, -3.0087, 164.9988, 4135,     10.1,  29.4788,  34.3392,2,   -999.0,9,-999.0000,9,    194.0,2,  -999.00,9,  -999.00,9,     0.00,2,     0.00,2,     0.12,2, -999.000,9, -999.000,9,  -999.00,9,   -999.0,9,   -999.0,9,-999.0000,9,   -999.0,  9,     8.25,2,   -999.0,  -999.00,9,  -999.00,9,     0.04,2,     0.02,2,   -999.0,-999.0000, -999,9,   10,  29.4763,  21.4083,   -999.0,9
       KS03-01,  165E,KS-0663,  1,     22,02-16028,2,20030210,0354, -3.0087, 164.9988, 4135,     25.8,  29.3262,  34.3364,2,   -999.0,9,-999.0000,9,    194.0,2,  -999.00,9,  -999.00,9,     0.00,2,     0.00,2,     0.12,2, -999.000,9, -999.000,9,  -999.00,9,   -999.0,9,   -999.0,9,-999.0000,9,   -999.0,  9,     8.25,2,   -999.0,  -999.00,9,  -999.00,9,     0.04,2,     0.03,2,   -999.0,-999.0000, -999,9,   26,  29.3199,  21.4588,   -999.0,9
       KS03-01,  165E,KS-0663,  1,     21,02-16027,2,20030210,0350, -3.0087, 164.9988, 4135,     47.8,  29.3496,  34.3998,2,   -999.0,9,-999.0000,9,    195.0,2,  -999.00,9,  -999.00,9,     0.00,2,     0.00,2,     0.13,2, -999.000,9, -999.000,9,  -999.00,9,   -999.0,9,   -999.0,9,-999.0000,9,   -999.0,  9,     8.25,2,   -999.0,  -999.00,9,  -999.00,9,     0.06,2,     0.05,2,   -999.0,-999.0000, -999,9,   48,  29.3380,  21.5003,   -999.0,9
       KS03-01,  165E,KS-0663,  1,     20,02-16013,2,20030210,0349, -3.0087, 164.9988, 4135,     75.1,  29.4352,  34.6748,2,   -999.0,9,-999.0000,9,    194.0,2,  -999.00,9,  -999.00,9,     0.00,2,     0.00,2,     0.17,2, -999.000,9, -999.000,9,  -999.00,9,   -999.0,9,   -999.0,9,-999.0000,9,   -999.0,  9,     8.24,2,   -999.0,  -999.00,9,  -999.00,9,     0.15,2,     0.15,2,   -999.0,-999.0000, -999,9,   75,  29.4169,  21.6801,   -999.0,9
       KS03-01,  165E,KS-0663,  1,     19,02-16025,2,20030210,0348, -3.0087, 164.9988, 4135,     99.3,  29.1281,  34.8521,2,   -999.0,9,  34.8554,2,    186.0,2,  -999.00,9,  -999.00,9,     0.88,2,     0.12,2,     0.24,2, -999.000,9, -999.000,9,  -999.00,9,   -999.0,9,   -999.0,9,-999.0000,9,   -999.0,  9,     8.22,2,   -999.0,  -999.00,9,  -999.00,9,     0.27,2,     0.55,2,   -999.0,-999.0000, -999,9,   99,  29.1040,  21.9182,   -999.0,9
       KS03-01,  165E,KS-0663,  1,     18,02-16024,2,20030210,0347, -3.0087, 164.9988, 4135,    126.1,  26.9664,  35.5870,2,   -999.0,9,-999.0000,9,    152.0,2,  -999.00,9,  -999.00,9,     7.62,2,     0.21,2,     0.69,2, -999.000,9, -999.000,9,  -999.00,9,   -999.0,9,   -999.0,9,-999.0000,9,   -999.0,  9,     8.12,2,   -999.0,  -999.00,9,  -999.00,9,     0.13,2,     0.46,2,   -999.0,-999.0000, -999,9,  125,  26.9374,  23.1800,   -999.0,9
       KS03-01,  165E,KS-0663,  1,     17,02-16023,2,20030210,0346, -3.0087, 164.9988, 4135,    150.2,  23.0319,  35.5749,2,   -999.0,9,-999.0000,9,    123.0,2,  -999.00,9,  -999.00,9,    11.13,2,     0.02,2,     0.88,2, -999.000,9, -999.000,9,  -999.00,9,   -999.0,9,   -999.0,9,-999.0000,9,   -999.0,  9,     8.03,2,   -999.0,  -999.00,9,  -999.00,9,     0.04,2,     0.20,2,   -999.0,-999.0000, -999,9,  149,  23.0011,  24.3694,   -999.0,9
       KS03-01,  165E,KS-0663,  1,     16,02-16022,2,20030210,0344, -3.0087, 164.9988, 4135,    201.4,  15.5708,  35.2287,2,   -999.0,9,  35.3967,4,    107.0,2,  -999.00,9,  -999.00,9,    16.28,2,     0.01,2,     1.24,2, -999.000,9, -999.000,9,  -999.00,9,   -999.0,9,   -999.0,9,-999.0000,9,   -999.0,  9,     7.92,2,   -999.0,  -999.00,9,  -999.00,9,     0.02,2,     0.06,2,   -999.0,-999.0000, -999,9,  200,  15.5395,  26.0283,   -999.0,9
       KS03-01,  165E,KS-0663,  1,     15,02-16021,2,20030210,0343, -3.0087, 164.9988, 4135,    251.7,  11.7878,  34.8997,2,   -999.0,9,-999.0000,9,    136.0,2,  -999.00,9,  -999.00,9,    21.43,2,     0.00,2,     1.49,2, -999.000,9, -999.000,9,  -999.00,9,   -999.0,9,   -999.0,9,-999.0000,9,   -999.0,  9,     7.83,2,   -999.0,  -999.00,9,  -999.00,9,     0.00,2,     0.02,2,   -999.0,-999.0000, -999,9,  250,  11.7553,  26.5577,   -999.0,9
       KS03-01,  165E,KS-0663,  1,     14,02-16020,9,20030210,0343, -3.0087, 164.9988, 4135,    251.0,  11.7989,  34.9000,2,   -999.0,9,-999.0000,9,   -999.0,9,  -999.00,9,  -999.00,9,  -999.00,9,  -999.00,9,  -999.00,9, -999.000,9, -999.000,9,  -999.00,9,   -999.0,9,   -999.0,9,-999.0000,9,   -999.0,  9,  -999.00,9,   -999.0,  -999.00,9,  -999.00,9,  -999.00,9,  -999.00,9,   -999.0,-999.0000, -999,9,  249,  11.7665,  26.5558,   -999.0,9
       KS03-01,  165E,KS-0663,  1,     13,02-16019,4,20030210,0341, -3.0087, 164.9988, 4135,    301.2,  10.5928,  34.7987,2,   -999.0,9,  35.2521,4,    118.0,4,  -999.00,9,  -999.00,9,    17.53,4,     0.02,4,     1.29,4, -999.000,9, -999.000,9,  -999.00,9,   -999.0,9,   -999.0,9,-999.0000,9,   -999.0,  9,     7.92,4,   -999.0,  -999.00,9,  -999.00,9,     0.02,4,     0.09,4,   -999.0,-999.0000, -999,9,  299,  10.5564,  26.6981,   -999.0,9
       KS03-01,  165E,KS-0663,  1,     12,02-16018,2,20030210,0338, -3.0087, 164.9988, 4135,    402.2,   9.2086,  34.6875,2,   -999.0,9,  34.6877,2,    102.0,2,  -999.00,9,  -999.00,9,    29.90,2,     0.00,2,     2.03,2, -999.000,9, -999.000,9,  -999.00,9,   -999.0,9,   -999.0,9,-999.0000,9,   -999.0,  9,     7.71,2,   -999.0,  -999.00,9,  -999.00,9,  -999.00,9,  -999.00,9,   -999.0,-999.0000, -999,9,  400,   9.1639,  26.8470,   -999.0,9
       KS03-01,  165E,KS-0663,  1,     11,02-16017,2,20030210,0336, -3.0087, 164.9988, 4135,    502.9,   8.0041,  34.6147,2,   -999.0,9,  34.6174,2,     92.0,2,  -999.00,9,  -999.00,9,    33.50,2,     0.00,2,     2.25,2, -999.000,9, -999.000,9,  -999.00,9,   -999.0,9,   -999.0,9,-999.0000,9,   -999.0,  9,     7.66,2,   -999.0,  -999.00,9,  -999.00,9,  -999.00,9,  -999.00,9,   -999.0,-999.0000, -999,9,  500,   7.9525,  26.9783,   -999.0,9
       KS03-01,  165E,KS-0663,  1,     10,02-16026,2,20030210,0334, -3.0087, 164.9988, 4135,    602.5,   6.8790,  34.5601,2,   -999.0,9,  34.5600,2,     99.0,2,  -999.00,9,  -999.00,9,    35.05,2,     0.00,2,     2.38,2, -999.000,9, -999.000,9,  -999.00,9,   -999.0,9,   -999.0,9,-999.0000,9,   -999.0,  9,     7.65,2,   -999.0,  -999.00,9,  -999.00,9,  -999.00,9,  -999.00,9,   -999.0,-999.0000, -999,9,  598,   6.8219,  27.0967,   -999.0,9
       KS03-01,  165E,KS-0663,  1,      9,02-16012,2,20030210,0331, -3.0087, 164.9988, 4135,    703.2,   6.1340,  34.5371,2,   -999.0,9,  34.5368,2,    102.0,2,  -999.00,9,  -999.00,9,    36.22,2,     0.00,2,     2.46,2, -999.000,9, -999.000,9,  -999.00,9,   -999.0,9,   -999.0,9,-999.0000,9,   -999.0,  9,     7.63,2,   -999.0,  -999.00,9,  -999.00,9,  -999.00,9,  -999.00,9,   -999.0,-999.0000, -999,9,  698,   6.0708,  27.1778,   -999.0,9
       KS03-01,  165E,KS-0663,  1,      8,02-16011,2,20030210,0329, -3.0087, 164.9988, 4135,    804.5,   5.3164,  34.5330,2,   -999.0,9,  34.5343,2,    102.0,2,  -999.00,9,  -999.00,9,    37.28,2,     0.00,2,     2.55,2, -999.000,9, -999.000,9,  -999.00,9,   -999.0,9,   -999.0,9,-999.0000,9,   -999.0,  9,     7.62,2,   -999.0,  -999.00,9,  -999.00,9,  -999.00,9,  -999.00,9,   -999.0,-999.0000, -999,9,  799,   5.2485,  27.2759,   -999.0,9
       KS03-01,  165E,KS-0663,  1,      7,02-16016,2,20030210,0326, -3.0087, 164.9988, 4135,    907.1,   4.7425,  34.5449,2,   -999.0,9,  34.5453,2,     94.0,2,  -999.00,9,  -999.00,9,    38.74,2,     0.00,2,     2.68,2, -999.000,9, -999.000,9,  -999.00,9,   -999.0,9,   -999.0,9,-999.0000,9,   -999.0,  9,     7.61,2,   -999.0,  -999.00,9,  -999.00,9,  -999.00,9,  -999.00,9,   -999.0,-999.0000, -999,9,  900,   4.6693,  27.3521,   -999.0,9
       KS03-01,  165E,KS-0663,  1,      6,02-16009,9,20030210,0324, -3.0087, 164.9988, 4135,   1008.4,   4.3619,  34.5483,2,   -999.0,9,-999.0000,9,   -999.0,9,  -999.00,9,  -999.00,9,  -999.00,9,  -999.00,9,  -999.00,9, -999.000,9, -999.000,9,  -999.00,9,   -999.0,9,   -999.0,9,-999.0000,9,   -999.0,  9,  -999.00,9,   -999.0,  -999.00,9,  -999.00,9,  -999.00,9,  -999.00,9,   -999.0,-999.0000, -999,9, 1000,   4.2827,  27.3971,   -999.0,9
       KS03-01,  165E,KS-0663,  1,      5,02-16008,2,20030210,0324, -3.0087, 164.9988, 4135,   1008.1,   4.3635,  34.5482,2,   -999.0,9,  34.5478,2,    103.0,2,  -999.00,9,  -999.00,9,    38.15,2,     0.00,2,     2.64,2, -999.000,9, -999.000,9,  -999.00,9,   -999.0,9,   -999.0,9,-999.0000,9,   -999.0,  9,     7.62,2,   -999.0,  -999.00,9,  -999.00,9,  -999.00,9,  -999.00,9,   -999.0,-999.0000, -999,9, 1000,   4.2843,  27.3968,   -999.0,9
       KS03-01,  165E,KS-0663,  1,      4,02-16010,2,20030210,0319, -3.0087, 164.9988, 4135,   1259.2,   3.7032,  34.5699,2,   -999.0,9,  34.5684,2,    105.0,2,  -999.00,9,  -999.00,9,    38.44,2,     0.00,2,     2.68,2, -999.000,9, -999.000,9,  -999.00,9,   -999.0,9,   -999.0,9,-999.0000,9,   -999.0,  9,     7.62,2,   -999.0,  -999.00,9,  -999.00,9,  -999.00,9,  -999.00,9,   -999.0,-999.0000, -999,9, 1248,   3.6082,  27.4837,   -999.0,9
       KS03-01,  165E,KS-0663,  1,      3,02-16015,2,20030210,0314, -3.0087, 164.9988, 4135,   1512.5,   2.9512,  34.6020,2,   -999.0,9,  34.6018,2,    110.0,2,  -999.00,9,  -999.00,9,    38.54,2,     0.00,2,     2.70,2, -999.000,9, -999.000,9,  -999.00,9,   -999.0,9,   -999.0,9,-999.0000,9,   -999.0,  9,     7.62,2,   -999.0,  -999.00,9,  -999.00,9,  -999.00,9,  -999.00,9,   -999.0,-999.0000, -999,9, 1499,   2.8428,  27.5816,   -999.0,9
       KS03-01,  165E,KS-0663,  1,      2,02-16014,2,20030210,0310, -3.0087, 164.9988, 4135,   1764.7,   2.4486,  34.6257,2,   -999.0,9,  34.6262,2,    120.0,2,  -999.00,9,  -999.00,9,    37.95,2,     0.00,2,     2.61,2, -999.000,9, -999.000,9,  -999.00,9,   -999.0,9,   -999.0,9,-999.0000,9,   -999.0,  9,     7.64,2,   -999.0,  -999.00,9,  -999.00,9,  -999.00,9,  -999.00,9,   -999.0,-999.0000, -999,9, 1748,   2.3254,  27.6453,   -999.0,9
       KS03-01,  165E,KS-0663,  1,      1,02-16007,2,20030210,0305, -3.0087, 164.9988, 4135,   2018.2,   2.1451,  34.6434,2,   -999.0,9,  34.6433,2,    123.0,2,  -999.00,9,  -999.00,9,    38.14,2,     0.00,2,     2.62,2, -999.000,9, -999.000,9,  -999.00,9,   -999.0,9,   -999.0,9,-999.0000,9,   -999.0,  9,     7.65,2,   -999.0,  -999.00,9,  -999.00,9,  -999.00,9,  -999.00,9,   -999.0,-999.0000, -999,9, 1997,   2.0049,  27.6856,   -999.0,9