BOTTLE,20130510GEMDJMAYT
EXPOCODE,SECT_ID,STNNBR,CASTNO,SAMPNO,BTLNBR,BTLNBR_FLAG_W,DATE,TIME,LATITUDE,LONGITUDE,DEPTH,CTDPRS,CTDTMP,CTDSAL,CTDSAL_FLAG_W,CTDOXY,CTDOXY_FLAG_W,SALNTY,SALNTY_FLAG_W,OXYGEN,OXYGEN_FLAG_W,SILCAT,SILCAT_FLAG_W,NITRAT,NITRAT_FLAG_W,NO2+NO3,NO2+NO3_FLAG_W,NITRIT,NITRIT_FLAG_W,PHSPHT,PHSPHT_FLAG_W,CFC-11,CFC-11_FLAG_W,CFC-12,CFC-12_FLAG_W,DELC13,DELC13_FLAG_W,TCARBN,TCARBN_FLAG_W,ALKALI,ALKALI_FLAG_W,PH,PH_FLAG_W,PH_TMP,PH_SCALE,PH_NBS,PH_NBS_FLAG_W,C13ERR,TOTALP,TOTALP_FLAG_W,AMMONI,AMMONI_FLAG_W,CHLORA,CHLORA_FLAG_W,PPHYTN,PPHYTN_FLAG_W,REVPRS,REVTMP,DEPTH_,DEPTH_FLAG,CTDDEP,THETA,SIGTHT,DOC,DOC_FLAG_W
,,,,,,,GMT,GMT,,,METER,DBAR,ITS-90,PSS-78,,UMOL/KG,,PSS-78,,UMOL/KG,,UMOL/KG,,UMOL/KG,,UMOL/KG,,UMOL/KG,,UMOL/KG,,PMOL/KG,,PMOL/KG,,/MILLE,,UMOL/KG,,UMOL/KG,,25_DEG_C,,DEG_C,,,,/MILLE,UMOL/KG,,UMOL/KG,,UG/L,,UG/L,,DBAR,ITS-90,METERS,,METERS,DEG_C,,UMOL/L,
       KS03-01,  165E,KS-0654,  1,     24,02-16030,2,20030128,1302,  6.0018, 164.9930, 4985,      5.7,  28.5725,  34.2150,2,   -999.0,9,  34.1985,4,    202.0,2,  -999.00,9,  -999.00,9,     0.00,2,     0.00,2,     0.05,2, -999.000,9, -999.000,9,  -999.00,9,   -999.0,9,   -999.0,9,-999.0000,9,   -999.0,  9,  -999.00,9,   -999.0,  -999.00,9,  -999.00,9,  -999.00,9,  -999.00,9,   -999.0,-999.0000, -999,9,    6,  28.5711,  21.6171,   -999.0,9
       KS03-01,  165E,KS-0654,  1,     23,02-16029,2,20030128,1300,  6.0018, 164.9930, 4985,     24.5,  28.5668,  34.2145,2,   -999.0,9,-999.0000,9,    196.0,2,  -999.00,9,  -999.00,9,     0.00,2,     0.00,2,     0.04,2, -999.000,9, -999.000,9,  -999.00,9,   -999.0,9,   -999.0,9,-999.0000,9,   -999.0,  9,  -999.00,9,   -999.0,  -999.00,9,  -999.00,9,  -999.00,9,  -999.00,9,   -999.0,-999.0000, -999,9,   24,  28.5609,  21.6201,   -999.0,9
       KS03-01,  165E,KS-0654,  1,     22,02-16028,2,20030128,1257,  6.0018, 164.9930, 4985,     50.9,  28.5725,  34.2173,2,   -999.0,9,-999.0000,9,    196.0,2,  -999.00,9,  -999.00,9,     0.00,2,     0.00,2,     0.04,2, -999.000,9, -999.000,9,  -999.00,9,   -999.0,9,   -999.0,9,-999.0000,9,   -999.0,  9,  -999.00,9,   -999.0,  -999.00,9,  -999.00,9,  -999.00,9,  -999.00,9,   -999.0,-999.0000, -999,9,   51,  28.5603,  21.6224,   -999.0,9
       KS03-01,  165E,KS-0654,  1,     21,02-16027,2,20030128,1256,  6.0018, 164.9930, 4985,     76.1,  27.9927,  34.4940,2,   -999.0,9,-999.0000,9,    197.0,2,  -999.00,9,  -999.00,9,     0.00,2,     0.00,2,     0.06,2, -999.000,9, -999.000,9,  -999.00,9,   -999.0,9,   -999.0,9,-999.0000,9,   -999.0,  9,  -999.00,9,   -999.0,  -999.00,9,  -999.00,9,  -999.00,9,  -999.00,9,   -999.0,-999.0000, -999,9,   76,  27.9748,  22.0224,   -999.0,9
       KS03-01,  165E,KS-0654,  1,     20,02-16013,2,20030128,1255,  6.0018, 164.9930, 4985,    100.7,  26.5625,  34.7295,2,   -999.0,9,  34.7327,2,    189.0,2,  -999.00,9,  -999.00,9,     0.29,2,     0.08,2,     0.12,2, -999.000,9, -999.000,9,  -999.00,9,   -999.0,9,   -999.0,9,-999.0000,9,   -999.0,  9,  -999.00,9,   -999.0,  -999.00,9,  -999.00,9,  -999.00,9,  -999.00,9,   -999.0,-999.0000, -999,9,  100,  26.5397,  22.6600,   -999.0,9
       KS03-01,  165E,KS-0654,  1,     19,02-16025,9,20030128,1254,  6.0018, 164.9930, 4985,    125.9,  21.6235,  34.8265,2,   -999.0,9,-999.0000,9,   -999.0,9,  -999.00,9,  -999.00,9,  -999.00,9,  -999.00,9,  -999.00,9, -999.000,9, -999.000,9,  -999.00,9,   -999.0,9,   -999.0,9,-999.0000,9,   -999.0,  9,  -999.00,9,   -999.0,  -999.00,9,  -999.00,9,  -999.00,9,  -999.00,9,   -999.0,-999.0000, -999,9,  125,  21.5989,  24.1976,   -999.0,9
       KS03-01,  165E,KS-0654,  1,     18,02-16024,2,20030128,1254,  6.0018, 164.9930, 4985,    124.6,  21.5737,  34.8221,2,   -999.0,9,-999.0000,9,    151.0,2,  -999.00,9,  -999.00,9,     6.83,2,     0.11,2,     0.56,2, -999.000,9, -999.000,9,  -999.00,9,   -999.0,9,   -999.0,9,-999.0000,9,   -999.0,  9,  -999.00,9,   -999.0,  -999.00,9,  -999.00,9,  -999.00,9,  -999.00,9,   -999.0,-999.0000, -999,9,  124,  21.5494,  24.2079,   -999.0,9
       KS03-01,  165E,KS-0654,  1,     17,02-16023,9,20030128,1253,  6.0018, 164.9930, 4985,    150.9,  17.1810,  34.7401,2,   -999.0,9,-999.0000,9,   -999.0,9,  -999.00,9,  -999.00,9,  -999.00,9,  -999.00,9,  -999.00,9, -999.000,9, -999.000,9,  -999.00,9,   -999.0,9,   -999.0,9,-999.0000,9,   -999.0,  9,  -999.00,9,   -999.0,  -999.00,9,  -999.00,9,  -999.00,9,  -999.00,9,   -999.0,-999.0000, -999,9,  150,  17.1560,  25.2776,   -999.0,9
       KS03-01,  165E,KS-0654,  1,     16,02-16022,2,20030128,1252,  6.0018, 164.9930, 4985,    152.8,  17.1365,  34.7393,2,   -999.0,9,-999.0000,9,    130.0,2,  -999.00,9,  -999.00,9,    13.85,2,     0.01,2,     0.99,2, -999.000,9, -999.000,9,  -999.00,9,   -999.0,9,   -999.0,9,-999.0000,9,   -999.0,  9,  -999.00,9,   -999.0,  -999.00,9,  -999.00,9,  -999.00,9,  -999.00,9,   -999.0,-999.0000, -999,9,  152,  17.1112,  25.2877,   -999.0,9
       KS03-01,  165E,KS-0654,  1,     15,02-16021,9,20030128,1251,  6.0018, 164.9930, 4985,    202.9,  11.7437,  34.5315,2,   -999.0,9,-999.0000,9,   -999.0,9,  -999.00,9,  -999.00,9,  -999.00,9,  -999.00,9,  -999.00,9, -999.000,9, -999.000,9,  -999.00,9,   -999.0,9,   -999.0,9,-999.0000,9,   -999.0,  9,  -999.00,9,   -999.0,  -999.00,9,  -999.00,9,  -999.00,9,  -999.00,9,   -999.0,-999.0000, -999,9,  202,  11.7177,  26.2785,   -999.0,9
       KS03-01,  165E,KS-0654,  1,     14,02-16020,2,20030128,1251,  6.0018, 164.9930, 4985,    202.7,  11.5801,  34.5338,2,   -999.0,9,  34.5356,2,     75.0,2,  -999.00,9,  -999.00,9,    26.89,2,     0.00,2,     1.88,2, -999.000,9, -999.000,9,  -999.00,9,   -999.0,9,   -999.0,9,-999.0000,9,   -999.0,  9,  -999.00,9,   -999.0,  -999.00,9,  -999.00,9,  -999.00,9,  -999.00,9,   -999.0,-999.0000, -999,9,  201,  11.5544,  26.3109,   -999.0,9
       KS03-01,  165E,KS-0654,  1,     13,02-16019,2,20030128,1250,  6.0018, 164.9930, 4985,    253.5,  10.1777,  34.6265,2,   -999.0,9,-999.0000,9,     44.0,2,  -999.00,9,  -999.00,9,    32.92,2,     0.00,2,     2.27,2, -999.000,9, -999.000,9,  -999.00,9,   -999.0,9,   -999.0,9,-999.0000,9,   -999.0,  9,  -999.00,9,   -999.0,  -999.00,9,  -999.00,9,  -999.00,9,  -999.00,9,   -999.0,-999.0000, -999,9,  252,  10.1480,  26.6349,   -999.0,9
       KS03-01,  165E,KS-0654,  1,     12,02-16018,2,20030128,1249,  6.0018, 164.9930, 4985,    301.1,   9.5524,  34.6411,2,   -999.0,9,  34.6115,4,     44.0,2,  -999.00,9,  -999.00,9,    34.19,2,     0.00,2,     2.35,2, -999.000,9, -999.000,9,  -999.00,9,   -999.0,9,   -999.0,9,-999.0000,9,   -999.0,  9,  -999.00,9,   -999.0,  -999.00,9,  -999.00,9,  -999.00,9,  -999.00,9,   -999.0,-999.0000, -999,9,  299,   9.5184,  26.7526,   -999.0,9
       KS03-01,  165E,KS-0654,  1,     11,02-16017,2,20030128,1247,  6.0018, 164.9930, 4985,    401.6,   8.6044,  34.6037,2,   -999.0,9,  34.6036,2,     43.0,2,  -999.00,9,  -999.00,9,    35.93,2,     0.00,2,     2.48,2, -999.000,9, -999.000,9,  -999.00,9,   -999.0,9,   -999.0,9,-999.0000,9,   -999.0,  9,  -999.00,9,   -999.0,  -999.00,9,  -999.00,9,  -999.00,9,  -999.00,9,   -999.0,-999.0000, -999,9,  399,   8.5616,  26.8769,   -999.0,9
       KS03-01,  165E,KS-0654,  1,     10,02-16026,4,20030128,1245,  6.0018, 164.9930, 4985,    504.7,   7.7220,  34.5668,2,   -999.0,9,  34.3429,4,    195.0,4,  -999.00,9,  -999.00,9,     0.00,4,     0.00,4,     0.08,4, -999.000,9, -999.000,9,  -999.00,9,   -999.0,9,   -999.0,9,-999.0000,9,   -999.0,  9,  -999.00,9,   -999.0,  -999.00,9,  -999.00,9,  -999.00,9,  -999.00,9,   -999.0,-999.0000, -999,9,  501,   7.6713,  26.9821,   -999.0,9
       KS03-01,  165E,KS-0654,  1,      9,02-16012,2,20030128,1243,  6.0018, 164.9930, 4985,    604.9,   6.8484,  34.5495,2,   -999.0,9,  34.5494,2,     55.0,2,  -999.00,9,  -999.00,9,    38.36,2,     0.00,2,     2.67,2, -999.000,9, -999.000,9,  -999.00,9,   -999.0,9,   -999.0,9,-999.0000,9,   -999.0,  9,  -999.00,9,   -999.0,  -999.00,9,  -999.00,9,  -999.00,9,  -999.00,9,   -999.0,-999.0000, -999,9,  601,   6.7912,  27.0925,   -999.0,9
       KS03-01,  165E,KS-0654,  1,      8,02-16011,2,20030128,1241,  6.0018, 164.9930, 4985,    704.6,   6.0435,  34.5398,2,   -999.0,9,  34.5396,2,     60.0,2,  -999.00,9,  -999.00,9,    39.23,2,     0.00,2,     2.73,2, -999.000,9, -999.000,9,  -999.00,9,   -999.0,9,   -999.0,9,-999.0000,9,   -999.0,  9,  -999.00,9,   -999.0,  -999.00,9,  -999.00,9,  -999.00,9,  -999.00,9,   -999.0,-999.0000, -999,9,  700,   5.9807,  27.1915,   -999.0,9
       KS03-01,  165E,KS-0654,  1,      7,02-16016,4,20030128,1239,  6.0018, 164.9930, 4985,    807.8,   5.4899,  34.5417,2,   -999.0,9,  34.2177,4,    195.0,4,  -999.00,9,  -999.00,9,     0.00,4,     0.00,4,     0.05,4, -999.000,9, -999.000,9,  -999.00,9,   -999.0,9,   -999.0,9,-999.0000,9,   -999.0,  9,  -999.00,9,   -999.0,  -999.00,9,  -999.00,9,  -999.00,9,  -999.00,9,   -999.0,-999.0000, -999,9,  802,   5.4207,  27.2622,   -999.0,9
       KS03-01,  165E,KS-0654,  1,      6,02-16009,4,20030128,1237,  6.0018, 164.9930, 4985,    906.8,   4.9898,  34.5466,2,   -999.0,9,-999.0000,9,   -999.0,9,  -999.00,9,  -999.00,9,  -999.00,9,  -999.00,9,  -999.00,9, -999.000,9, -999.000,9,  -999.00,9,   -999.0,9,   -999.0,9,-999.0000,9,   -999.0,  9,  -999.00,9,   -999.0,  -999.00,9,  -999.00,9,  -999.00,9,  -999.00,9,   -999.0,-999.0000, -999,9,  900,   4.9149,  27.3256,   -999.0,9
       KS03-01,  165E,KS-0654,  1,      5,02-16008,9,20030128,1235,  6.0018, 164.9930, 4985,   1007.3,   4.5180,  34.5561,2,   -999.0,9,-999.0000,9,   -999.0,9,  -999.00,9,  -999.00,9,  -999.00,9,  -999.00,9,  -999.00,9, -999.000,9, -999.000,9,  -999.00,9,   -999.0,9,   -999.0,9,-999.0000,9,   -999.0,  9,  -999.00,9,   -999.0,  -999.00,9,  -999.00,9,  -999.00,9,  -999.00,9,   -999.0,-999.0000, -999,9,  999,   4.4376,  27.3865,   -999.0,9
       KS03-01,  165E,KS-0654,  1,      4,02-16010,2,20030128,1235,  6.0018, 164.9930, 4985,   1005.6,   4.5136,  34.5561,2,   -999.0,9,  34.5555,2,     80.0,2,  -999.00,9,  -999.00,9,    39.71,2,     0.00,2,     2.77,2, -999.000,9, -999.000,9,  -999.00,9,   -999.0,9,   -999.0,9,-999.0000,9,   -999.0,  9,  -999.00,9,   -999.0,  -999.00,9,  -999.00,9,  -999.00,9,  -999.00,9,   -999.0,-999.0000, -999,9,  998,   4.4334,  27.3870,   -999.0,9
       KS03-01,  165E,KS-0654,  1,      3,02-16015,2,20030128,1231,  6.0018, 164.9930, 4985,   1262.7,   3.7599,  34.5757,2,   -999.0,9,  34.5749,2,     90.0,2,  -999.00,9,  -999.00,9,    39.81,2,     0.00,2,     2.78,2, -999.000,9, -999.000,9,  -999.00,9,   -999.0,9,   -999.0,9,-999.0000,9,   -999.0,  9,  -999.00,9,   -999.0,  -999.00,9,  -999.00,9,  -999.00,9,  -999.00,9,   -999.0,-999.0000, -999,9, 1252,   3.6640,  27.4828,   -999.0,9
       KS03-01,  165E,KS-0654,  1,      2,02-16014,2,20030128,1226,  6.0018, 164.9930, 4985,   1513.1,   3.0786,  34.5992,2,   -999.0,9,  34.5967,2,     91.0,2,  -999.00,9,  -999.00,9,    39.90,2,     0.00,2,     2.79,2, -999.000,9, -999.000,9,  -999.00,9,   -999.0,9,   -999.0,9,-999.0000,9,   -999.0,  9,  -999.00,9,   -999.0,  -999.00,9,  -999.00,9,  -999.00,9,  -999.00,9,   -999.0,-999.0000, -999,9, 1499,   2.9687,  27.5680,   -999.0,9
       KS03-01,  165E,KS-0654,  1,      1,02-16007,4,20030128,1218,  6.0018, 164.9930, 4985,   2021.3,   2.2349,  34.6370,2,   -999.0,9,-999.0000,9,   -999.0,9,  -999.00,9,  -999.00,9,  -999.00,9,  -999.00,9,  -999.00,9, -999.000,9, -999.000,9,  -999.00,9,   -999.0,9,   -999.0,9,-999.0000,9,   -999.0,  9,  -999.00,9,   -999.0,  -999.00,9,  -999.00,9,  -999.00,9,  -999.00,9,   -999.0,-999.0000, -999,9, 2000,   2.0931,  27.6735,   -999.0,9
       KS03-01,  165E,KS-0655,  1,     24,02-16030,2,20030207,1733,  5.0843, 164.9862, 4785,      5.4,  28.8972,  34.2704,2,   -999.0,9,  34.2728,2,    195.0,2,  -999.00,9,  -999.00,9,     0.00,2,     0.00,2,     0.09,2, -999.000,9, -999.000,9,  -999.00,9,   -999.0,9,   -999.0,9,-999.0000,9,   -999.0,  9,     8.23,2,   -999.0,  -999.00,9,  -999.00,9,     0.05,2,     0.04,2,   -999.0,-999.0000, -999,9,    5,  28.8959,  21.5510,   -999.0,9
       KS03-01,  165E,KS-0655,  1,     23,02-16029,2,20030207,1732,  5.0843, 164.9862, 4785,     10.0,  28.8971,  34.2698,2,   -999.0,9,-999.0000,9,    195.0,2,  -999.00,9,  -999.00,9,     0.00,2,     0.00,2,     0.09,2, -999.000,9, -999.000,9,  -999.00,9,   -999.0,9,   -999.0,9,-999.0000,9,   -999.0,  9,     8.24,2,   -999.0,  -999.00,9,  -999.00,9,     0.06,2,     0.05,2,   -999.0,-999.0000, -999,9,   10,  28.8947,  21.5510,   -999.0,9
       KS03-01,  165E,KS-0655,  1,     22,02-16028,2,20030207,1731,  5.0843, 164.9862, 4785,     24.5,  28.8905,  34.2697,2,   -999.0,9,-999.0000,9,    194.0,2,  -999.00,9,  -999.00,9,     0.00,2,     0.00,2,     0.09,2, -999.000,9, -999.000,9,  -999.00,9,   -999.0,9,   -999.0,9,-999.0000,9,   -999.0,  9,     8.23,2,   -999.0,  -999.00,9,  -999.00,9,     0.05,2,     0.04,2,   -999.0,-999.0000, -999,9,   24,  28.8846,  21.5542,   -999.0,9
       KS03-01,  165E,KS-0655,  1,     21,02-16027,2,20030207,1727,  5.0843, 164.9862, 4785,     48.8,  28.9027,  34.2695,2,   -999.0,9,-999.0000,9,    195.0,2,  -999.00,9,  -999.00,9,     0.00,2,     0.00,2,     0.11,2, -999.000,9, -999.000,9,  -999.00,9,   -999.0,9,   -999.0,9,-999.0000,9,   -999.0,  9,     8.23,2,   -999.0,  -999.00,9,  -999.00,9,     0.06,2,     0.04,2,   -999.0,-999.0000, -999,9,   49,  28.8910,  21.5520,   -999.0,9
       KS03-01,  165E,KS-0655,  1,     20,02-16013,3,20030207,1726,  5.0843, 164.9862, 4785,     74.8,  28.9012,  34.2695,2,   -999.0,9,-999.0000,9,   -999.0,9,  -999.00,9,  -999.00,9,  -999.00,9,  -999.00,9,  -999.00,9, -999.000,9, -999.000,9,  -999.00,9,   -999.0,9,   -999.0,9,-999.0000,9,   -999.0,  9,  -999.00,9,   -999.0,  -999.00,9,  -999.00,9,  -999.00,9,  -999.00,9,   -999.0,-999.0000, -999,9,   74,  28.8832,  21.5546,   -999.0,9
       KS03-01,  165E,KS-0655,  2,     24,02-16030,2,20030207,2027,  5.0850, 164.9565, 4782,     75.1,  28.9212,  34.2796,2,   -999.0,9,-999.0000,9,    195.0,2,  -999.00,9,  -999.00,9,     0.00,2,     0.00,2,     0.12,2, -999.000,9, -999.000,9,  -999.00,9,   -999.0,9,   -999.0,9,-999.0000,9,   -999.0,  9,     8.23,2,   -999.0,  -999.00,9,  -999.00,9,     0.07,2,     0.06,2,   -999.0,-999.0000, -999,9,   75,  28.9031,  21.5556,   -999.0,9
       KS03-01,  165E,KS-0655,  1,     19,02-16025,9,20030207,1725,  5.0843, 164.9862, 4785,    101.2,  26.3547,  34.8333,2,   -999.0,9,-999.0000,9,   -999.0,9,  -999.00,9,  -999.00,9,  -999.00,9,  -999.00,9,  -999.00,9, -999.000,9, -999.000,9,  -999.00,9,   -999.0,9,   -999.0,9,-999.0000,9,   -999.0,  9,  -999.00,9,   -999.0,  -999.00,9,  -999.00,9,  -999.00,9,  -999.00,9,   -999.0,-999.0000, -999,9,  101,  26.3319,  22.8038,   -999.0,9
       KS03-01,  165E,KS-0655,  1,     18,02-16024,2,20030207,1725,  5.0843, 164.9862, 4785,    100.4,  26.5538,  34.8138,2,   -999.0,9,  34.8326,4,    167.0,2,  -999.00,9,  -999.00,9,     3.42,2,     0.40,2,     0.39,2, -999.000,9, -999.000,9,  -999.00,9,   -999.0,9,   -999.0,9,-999.0000,9,   -999.0,  9,     8.15,2,   -999.0,  -999.00,9,  -999.00,9,     0.25,2,     0.68,2,   -999.0,-999.0000, -999,9,  100,  26.5311,  22.7264,   -999.0,9
       KS03-01,  165E,KS-0655,  1,     17,02-16023,2,20030207,1724,  5.0843, 164.9862, 4785,    124.0,  25.4376,  35.0119,2,   -999.0,9,-999.0000,9,    145.0,2,  -999.00,9,  -999.00,9,     7.33,2,     0.28,2,     0.63,2, -999.000,9, -999.000,9,  -999.00,9,   -999.0,9,   -999.0,9,-999.0000,9,   -999.0,  9,     8.09,2,   -999.0,  -999.00,9,  -999.00,9,     0.09,2,     0.41,2,   -999.0,-999.0000, -999,9,  123,  25.4104,  23.2248,   -999.0,9
       KS03-01,  165E,KS-0655,  1,     16,02-16022,2,20030207,1723,  5.0843, 164.9862, 4785,    149.3,  22.6372,  35.0754,2,   -999.0,9,-999.0000,9,    131.0,2,  -999.00,9,  -999.00,9,    10.35,2,     0.03,2,     0.81,2, -999.000,9, -999.000,9,  -999.00,9,   -999.0,9,   -999.0,9,-999.0000,9,   -999.0,  9,     8.02,2,   -999.0,  -999.00,9,  -999.00,9,     0.03,2,     0.20,2,   -999.0,-999.0000, -999,9,  148,  22.6071,  24.1035,   -999.0,9
       KS03-01,  165E,KS-0655,  1,     15,02-16021,4,20030207,1721,  5.0843, 164.9862, 4785,    199.4,  15.5287,  34.6480,2,   -999.0,9,-999.0000,9,   -999.0,9,  -999.00,9,  -999.00,9,  -999.00,9,  -999.00,9,  -999.00,9, -999.000,9, -999.000,9,  -999.00,9,   -999.0,9,   -999.0,9,-999.0000,9,   -999.0,  9,  -999.00,9,   -999.0,  -999.00,9,  -999.00,9,  -999.00,9,  -999.00,9,   -999.0,-999.0000, -999,9,  198,  15.4979,  25.5903,   -999.0,9
       KS03-01,  165E,KS-0655,  2,     23,02-16029,2,20030207,2024,  5.0850, 164.9565, 4782,    199.5,  14.1387,  34.6497,2,   -999.0,9,  34.6490,2,    120.0,2,  -999.00,9,  -999.00,9,    19.30,2,     0.00,2,     1.37,2, -999.000,9, -999.000,9,  -999.00,9,   -999.0,9,   -999.0,9,-999.0000,9,   -999.0,  9,     7.85,2,   -999.0,  -999.00,9,  -999.00,9,     0.00,2,     0.02,2,   -999.0,-999.0000, -999,9,  198,  14.1098,  25.8933,   -999.0,9
       KS03-01,  165E,KS-0655,  1,     14,02-16020,2,20030207,1720,  5.0843, 164.9862, 4785,    250.2,  11.1359,  34.5643,2,   -999.0,9,-999.0000,9,     76.0,2,  -999.00,9,  -999.00,9,    28.06,2,     0.00,2,     2.01,2, -999.000,9, -999.000,9,  -999.00,9,   -999.0,9,   -999.0,9,-999.0000,9,   -999.0,  9,     7.69,2,   -999.0,  -999.00,9,  -999.00,9,     0.00,2,     0.01,2,   -999.0,-999.0000, -999,9,  249,  11.1049,  26.4173,   -999.0,9
       KS03-01,  165E,KS-0655,  1,     13,02-16019,4,20030207,1718,  5.0843, 164.9862, 4785,    300.8,   9.7677,  34.6477,2,   -999.0,9,-999.0000,9,   -999.0,9,  -999.00,9,  -999.00,9,  -999.00,9,  -999.00,9,  -999.00,9, -999.000,9, -999.000,9,  -999.00,9,   -999.0,9,   -999.0,9,-999.0000,9,   -999.0,  9,  -999.00,9,   -999.0,  -999.00,9,  -999.00,9,  -999.00,9,  -999.00,9,   -999.0,-999.0000, -999,9,  299,   9.7333,  26.7220,   -999.0,9
       KS03-01,  165E,KS-0655,  2,     22,02-16028,2,20030207,2022,  5.0850, 164.9565, 4782,    301.6,   9.6852,  34.6476,2,   -999.0,9,  34.6478,2,     36.0,2,  -999.00,9,  -999.00,9,    34.28,2,     0.00,2,     2.37,2, -999.000,9, -999.000,9,  -999.00,9,   -999.0,9,   -999.0,9,-999.0000,9,   -999.0,  9,     7.61,2,   -999.0,  -999.00,9,  -999.00,9,     0.00,2,     0.01,2,   -999.0,-999.0000, -999,9,  300,   9.6509,  26.7357,   -999.0,9
       KS03-01,  165E,KS-0655,  1,     12,02-16018,2,20030207,1716,  5.0843, 164.9862, 4785,    400.6,   8.5780,  34.6151,2,   -999.0,9,  34.6152,2,     61.0,2,  -999.00,9,  -999.00,9,    34.86,2,     0.00,2,     2.42,2, -999.000,9, -999.000,9,  -999.00,9,   -999.0,9,   -999.0,9,-999.0000,9,   -999.0,  9,     7.61,2,   -999.0,  -999.00,9,  -999.00,9,  -999.00,9,  -999.00,9,   -999.0,-999.0000, -999,9,  398,   8.5354,  26.8900,   -999.0,9
       KS03-01,  165E,KS-0655,  1,     11,02-16017,4,20030207,1714,  5.0843, 164.9862, 4785,    501.5,   7.6249,  34.5791,2,   -999.0,9,-999.0000,9,   -999.0,9,  -999.00,9,  -999.00,9,  -999.00,9,  -999.00,9,  -999.00,9, -999.000,9, -999.000,9,  -999.00,9,   -999.0,9,   -999.0,9,-999.0000,9,   -999.0,  9,  -999.00,9,   -999.0,  -999.00,9,  -999.00,9,  -999.00,9,  -999.00,9,   -999.0,-999.0000, -999,9,  498,   7.5749,  27.0058,   -999.0,9
       KS03-01,  165E,KS-0655,  2,     21,02-16027,2,20030207,2019,  5.0850, 164.9565, 4782,    502.2,   7.6438,  34.5775,2,   -999.0,9,  34.5773,2,     66.0,2,  -999.00,9,  -999.00,9,    35.64,2,     0.00,2,     2.45,2, -999.000,9, -999.000,9,  -999.00,9,   -999.0,9,   -999.0,9,-999.0000,9,   -999.0,  9,     7.62,2,   -999.0,  -999.00,9,  -999.00,9,  -999.00,9,  -999.00,9,   -999.0,-999.0000, -999,9,  499,   7.5936,  27.0018,   -999.0,9
       KS03-01,  165E,KS-0655,  1,     10,02-16026,4,20030207,1711,  5.0843, 164.9862, 4785,    602.3,   6.8456,  34.5562,2,   -999.0,9,-999.0000,9,   -999.0,9,  -999.00,9,  -999.00,9,  -999.00,9,  -999.00,9,  -999.00,9, -999.000,9, -999.000,9,  -999.00,9,   -999.0,9,   -999.0,9,-999.0000,9,   -999.0,  9,  -999.00,9,   -999.0,  -999.00,9,  -999.00,9,  -999.00,9,  -999.00,9,   -999.0,-999.0000, -999,9,  598,   6.7886,  27.0982,   -999.0,9