BOTTLE,20130510GEMDJMAYT
EXPOCODE,SECT_ID,STNNBR,CASTNO,SAMPNO,BTLNBR,BTLNBR_FLAG_W,DATE,TIME,LATITUDE,LONGITUDE,DEPTH,CTDPRS,CTDTMP,CTDSAL,CTDSAL_FLAG_W,CTDOXY,CTDOXY_FLAG_W,SALNTY,SALNTY_FLAG_W,OXYGEN,OXYGEN_FLAG_W,SILCAT,SILCAT_FLAG_W,NITRAT,NITRAT_FLAG_W,NO2+NO3,NO2+NO3_FLAG_W,NITRIT,NITRIT_FLAG_W,PHSPHT,PHSPHT_FLAG_W,CFC-11,CFC-11_FLAG_W,CFC-12,CFC-12_FLAG_W,DELC13,DELC13_FLAG_W,TCARBN,TCARBN_FLAG_W,ALKALI,ALKALI_FLAG_W,PH,PH_FLAG_W,PH_TMP,PH_SCALE,PH_NBS,PH_NBS_FLAG_W,C13ERR,TOTALP,TOTALP_FLAG_W,AMMONI,AMMONI_FLAG_W,CHLORA,CHLORA_FLAG_W,PPHYTN,PPHYTN_FLAG_W,REVPRS,REVTMP,DEPTH_,DEPTH_FLAG,CTDDEP,THETA,SIGTHT,DOC,DOC_FLAG_W
,,,,,,,GMT,GMT,,,METER,DBAR,ITS-90,PSS-78,,UMOL/KG,,PSS-78,,UMOL/KG,,UMOL/KG,,UMOL/KG,,UMOL/KG,,UMOL/KG,,UMOL/KG,,PMOL/KG,,PMOL/KG,,/MILLE,,UMOL/KG,,UMOL/KG,,25_DEG_C,,DEG_C,,,,/MILLE,UMOL/KG,,UMOL/KG,,UG/L,,UG/L,,DBAR,ITS-90,METERS,,METERS,DEG_C,,UMOL/L,
       KS03-01,  NONE,KS-0667,  1,     24,02-16030,2,20030211,0511, -3.0753, 162.0875, 3021,   1510.9,   3.1264,  34.5904,2,   -999.0,9,  34.5893,2,    116.0,4,  -999.00,9,  -999.00,9,    38.05,2,     0.00,2,     2.70,2, -999.000,9, -999.000,9,  -999.00,9,   -999.0,9,   -999.0,9,-999.0000,9,   -999.0,  9,  -999.00,9,   -999.0,  -999.00,9,  -999.00,9,  -999.00,9,  -999.00,9,   -999.0,-999.0000, -999,9, 1497,   3.0162,  27.5567,   -999.0,9
       KS03-01,  NONE,KS-0667,  1,     23,02-16029,2,20030211,0508, -3.0753, 162.0875, 3021,   1613.3,   2.9085,  34.6039,2,   -999.0,9,-999.0000,9,    111.0,2,  -999.00,9,  -999.00,9,    38.44,2,     0.00,2,     2.72,2, -999.000,9, -999.000,9,  -999.00,9,   -999.0,9,   -999.0,9,-999.0000,9,   -999.0,  9,  -999.00,9,   -999.0,  -999.00,9,  -999.00,9,  -999.00,9,  -999.00,9,   -999.0,-999.0000, -999,9, 1598,   2.7922,  27.5877,   -999.0,9
       KS03-01,  NONE,KS-0667,  1,     22,02-16028,2,20030211,0506, -3.0753, 162.0875, 3021,   1713.9,   2.7063,  34.6134,2,   -999.0,9,  34.6134,2,    113.0,2,  -999.00,9,  -999.00,9,    38.54,2,     0.00,2,     2.74,2, -999.000,9, -999.000,9,  -999.00,9,   -999.0,9,   -999.0,9,-999.0000,9,   -999.0,  9,  -999.00,9,   -999.0,  -999.00,9,  -999.00,9,  -999.00,9,  -999.00,9,   -999.0,-999.0000, -999,9, 1697,   2.5840,  27.6136,   -999.0,9
       KS03-01,  NONE,KS-0667,  1,     21,02-16027,2,20030211,0504, -3.0753, 162.0875, 3021,   1815.5,   2.4914,  34.6210,2,   -999.0,9,-999.0000,9,    126.0,2,  -999.00,9,  -999.00,9,    37.76,2,     0.00,2,     2.63,2, -999.000,9, -999.000,9,  -999.00,9,   -999.0,9,   -999.0,9,-999.0000,9,   -999.0,  9,  -999.00,9,   -999.0,  -999.00,9,  -999.00,9,  -999.00,9,  -999.00,9,   -999.0,-999.0000, -999,9, 1798,   2.3634,  27.6384,   -999.0,9
       KS03-01,  NONE,KS-0667,  1,     20,02-16013,2,20030211,0502, -3.0753, 162.0875, 3021,   1916.7,   2.2911,  34.6334,2,   -999.0,9,-999.0000,9,    127.0,2,  -999.00,9,  -999.00,9,    37.66,2,     0.00,2,     2.63,2, -999.000,9, -999.000,9,  -999.00,9,   -999.0,9,   -999.0,9,-999.0000,9,   -999.0,  9,  -999.00,9,   -999.0,  -999.00,9,  -999.00,9,  -999.00,9,  -999.00,9,   -999.0,-999.0000, -999,9, 1897,   2.1573,  27.6653,   -999.0,9
       KS03-01,  NONE,KS-0667,  1,     19,02-16025,9,20030211,0459, -3.0753, 162.0875, 3021,   2019.0,   2.1501,  34.6427,2,   -999.0,9,-999.0000,9,   -999.0,9,  -999.00,9,  -999.00,9,  -999.00,9,  -999.00,9,  -999.00,9, -999.000,9, -999.000,9,  -999.00,9,   -999.0,9,   -999.0,9,-999.0000,9,   -999.0,  9,  -999.00,9,   -999.0,  -999.00,9,  -999.00,9,  -999.00,9,  -999.00,9,   -999.0,-999.0000, -999,9, 1998,   2.0097,  27.6846,   -999.0,9
       KS03-01,  NONE,KS-0667,  1,     18,02-16024,2,20030211,0459, -3.0753, 162.0875, 3021,   2018.5,   2.1501,  34.6425,2,   -999.0,9,  34.6417,2,    124.0,2,  -999.00,9,  -999.00,9,    37.95,2,     0.00,2,     2.66,2, -999.000,9, -999.000,9,  -999.00,9,   -999.0,9,   -999.0,9,-999.0000,9,   -999.0,  9,  -999.00,9,   -999.0,  -999.00,9,  -999.00,9,  -999.00,9,  -999.00,9,   -999.0,-999.0000, -999,9, 1998,   2.0098,  27.6845,   -999.0,9
       KS03-01,  NONE,KS-0667,  1,     17,02-16023,9,20030211,0457, -3.0753, 162.0875, 3021,   2121.9,   2.0780,  34.6475,2,   -999.0,9,-999.0000,9,   -999.0,9,  -999.00,9,  -999.00,9,  -999.00,9,  -999.00,9,  -999.00,9, -999.000,9, -999.000,9,  -999.00,9,   -999.0,9,   -999.0,9,-999.0000,9,   -999.0,  9,  -999.00,9,   -999.0,  -999.00,9,  -999.00,9,  -999.00,9,  -999.00,9,   -999.0,-999.0000, -999,9, 2100,   1.9299,  27.6948,   -999.0,9
       KS03-01,  NONE,KS-0667,  1,     16,02-16022,2,20030211,0457, -3.0753, 162.0875, 3021,   2121.7,   2.0779,  34.6473,2,   -999.0,9,-999.0000,9,    123.0,2,  -999.00,9,  -999.00,9,    38.05,2,     0.00,2,     2.67,2, -999.000,9, -999.000,9,  -999.00,9,   -999.0,9,   -999.0,9,-999.0000,9,   -999.0,  9,  -999.00,9,   -999.0,  -999.00,9,  -999.00,9,  -999.00,9,  -999.00,9,   -999.0,-999.0000, -999,9, 2099,   1.9298,  27.6947,   -999.0,9
       KS03-01,  NONE,KS-0667,  1,     15,02-16021,9,20030211,0455, -3.0753, 162.0875, 3021,   2224.6,   2.0039,  34.6517,2,   -999.0,9,-999.0000,9,   -999.0,9,  -999.00,9,  -999.00,9,  -999.00,9,  -999.00,9,  -999.00,9, -999.000,9, -999.000,9,  -999.00,9,   -999.0,9,   -999.0,9,-999.0000,9,   -999.0,  9,  -999.00,9,   -999.0,  -999.00,9,  -999.00,9,  -999.00,9,  -999.00,9,   -999.0,-999.0000, -999,9, 2201,   1.8481,  27.7045,   -999.0,9
       KS03-01,  NONE,KS-0667,  1,     14,02-16020,2,20030211,0454, -3.0753, 162.0875, 3021,   2223.2,   2.0045,  34.6514,2,   -999.0,9,-999.0000,9,    126.0,2,  -999.00,9,  -999.00,9,    37.95,2,     0.00,2,     2.66,2, -999.000,9, -999.000,9,  -999.00,9,   -999.0,9,   -999.0,9,-999.0000,9,   -999.0,  9,  -999.00,9,   -999.0,  -999.00,9,  -999.00,9,  -999.00,9,  -999.00,9,   -999.0,-999.0000, -999,9, 2199,   1.8488,  27.7042,   -999.0,9
       KS03-01,  NONE,KS-0667,  1,     13,02-16019,2,20030211,0452, -3.0753, 162.0875, 3021,   2322.8,   1.9184,  34.6562,2,   -999.0,9,-999.0000,9,    128.0,2,  -999.00,9,  -999.00,9,    37.75,2,     0.00,2,     2.66,2, -999.000,9, -999.000,9,  -999.00,9,   -999.0,9,   -999.0,9,-999.0000,9,   -999.0,  9,  -999.00,9,   -999.0,  -999.00,9,  -999.00,9,  -999.00,9,  -999.00,9,   -999.0,-999.0000, -999,9, 2297,   1.7555,  27.7153,   -999.0,9
       KS03-01,  NONE,KS-0667,  1,     12,02-16018,2,20030211,0450, -3.0753, 162.0875, 3021,   2425.6,   1.8748,  34.6587,2,   -999.0,9,-999.0000,9,    128.0,2,  -999.00,9,  -999.00,9,    37.75,2,     0.00,2,     2.64,2, -999.000,9, -999.000,9,  -999.00,9,   -999.0,9,   -999.0,9,-999.0000,9,   -999.0,  9,  -999.00,9,   -999.0,  -999.00,9,  -999.00,9,  -999.00,9,  -999.00,9,   -999.0,-999.0000, -999,9, 2398,   1.7035,  27.7212,   -999.0,9
       KS03-01,  NONE,KS-0667,  1,     11,02-16017,9,20030211,0448, -3.0753, 162.0875, 3021,   2527.2,   1.7905,  34.6633,2,   -999.0,9,-999.0000,9,   -999.0,9,  -999.00,9,  -999.00,9,  -999.00,9,  -999.00,9,  -999.00,9, -999.000,9, -999.000,9,  -999.00,9,   -999.0,9,   -999.0,9,-999.0000,9,   -999.0,  9,  -999.00,9,   -999.0,  -999.00,9,  -999.00,9,  -999.00,9,  -999.00,9,   -999.0,-999.0000, -999,9, 2498,   1.6116,  27.7317,   -999.0,9
       KS03-01,  NONE,KS-0667,  1,     10,02-16026,2,20030211,0447, -3.0753, 162.0875, 3021,   2526.5,   1.7902,  34.6632,2,   -999.0,9,  34.6622,2,    131.0,2,  -999.00,9,  -999.00,9,    37.66,2,     0.00,2,     2.63,2, -999.000,9, -999.000,9,  -999.00,9,   -999.0,9,   -999.0,9,-999.0000,9,   -999.0,  9,  -999.00,9,   -999.0,  -999.00,9,  -999.00,9,  -999.00,9,  -999.00,9,   -999.0,-999.0000, -999,9, 2498,   1.6114,  27.7317,   -999.0,9
       KS03-01,  NONE,KS-0667,  1,      9,02-16012,9,20030211,0445, -3.0753, 162.0875, 3021,   2629.6,   1.7619,  34.6649,2,   -999.0,9,-999.0000,9,   -999.0,9,  -999.00,9,  -999.00,9,  -999.00,9,  -999.00,9,  -999.00,9, -999.000,9, -999.000,9,  -999.00,9,   -999.0,9,   -999.0,9,-999.0000,9,   -999.0,  9,  -999.00,9,   -999.0,  -999.00,9,  -999.00,9,  -999.00,9,  -999.00,9,   -999.0,-999.0000, -999,9, 2599,   1.5743,  27.7358,   -999.0,9
       KS03-01,  NONE,KS-0667,  1,      8,02-16011,3,20030211,0445, -3.0753, 162.0875, 3021,   2629.3,   1.7612,  34.6649,2,   -999.0,9,-999.0000,9,    132.0,2,  -999.00,9,  -999.00,9,    37.56,2,     0.00,2,     2.63,2, -999.000,9, -999.000,9,  -999.00,9,   -999.0,9,   -999.0,9,-999.0000,9,   -999.0,  9,  -999.00,9,   -999.0,  -999.00,9,  -999.00,9,  -999.00,9,  -999.00,9,   -999.0,-999.0000, -999,9, 2599,   1.5736,  27.7359,   -999.0,9
       KS03-01,  NONE,KS-0667,  1,      7,02-16016,4,20030211,0443, -3.0753, 162.0875, 3021,   2729.6,   1.7170,  34.6673,2,   -999.0,9,-999.0000,9,   -999.0,9,  -999.00,9,  -999.00,9,  -999.00,9,  -999.00,9,  -999.00,9, -999.000,9, -999.000,9,  -999.00,9,   -999.0,9,   -999.0,9,-999.0000,9,   -999.0,  9,  -999.00,9,   -999.0,  -999.00,9,  -999.00,9,  -999.00,9,  -999.00,9,   -999.0,-999.0000, -999,9, 2697,   1.5210,  27.7417,   -999.0,9
       KS03-01,  NONE,KS-0667,  1,      6,02-16009,9,20030211,0440, -3.0753, 162.0875, 3021,   2834.5,   1.6891,  34.6693,2,   -999.0,9,-999.0000,9,   -999.0,9,  -999.00,9,  -999.00,9,  -999.00,9,  -999.00,9,  -999.00,9, -999.000,9, -999.000,9,  -999.00,9,   -999.0,9,   -999.0,9,-999.0000,9,   -999.0,  9,  -999.00,9,   -999.0,  -999.00,9,  -999.00,9,  -999.00,9,  -999.00,9,   -999.0,-999.0000, -999,9, 2800,   1.4839,  27.7459,   -999.0,9
       KS03-01,  NONE,KS-0667,  1,      5,02-16008,2,20030211,0440, -3.0753, 162.0875, 3021,   2834.7,   1.6887,  34.6692,2,   -999.0,9,  34.6702,2,    136.0,2,  -999.00,9,  -999.00,9,    37.36,2,     0.00,2,     2.62,2, -999.000,9, -999.000,9,  -999.00,9,   -999.0,9,   -999.0,9,-999.0000,9,   -999.0,  9,  -999.00,9,   -999.0,  -999.00,9,  -999.00,9,  -999.00,9,  -999.00,9,   -999.0,-999.0000, -999,9, 2800,   1.4835,  27.7459,   -999.0,9
       KS03-01,  NONE,KS-0667,  1,      4,02-16010,9,20030211,0438, -3.0753, 162.0875, 3021,   2936.8,   1.6652,  34.6712,2,   -999.0,9,-999.0000,9,   -999.0,9,  -999.00,9,  -999.00,9,  -999.00,9,  -999.00,9,  -999.00,9, -999.000,9, -999.000,9,  -999.00,9,   -999.0,9,   -999.0,9,-999.0000,9,   -999.0,  9,  -999.00,9,   -999.0,  -999.00,9,  -999.00,9,  -999.00,9,  -999.00,9,   -999.0,-999.0000, -999,9, 2900,   1.4508,  27.7499,   -999.0,9
       KS03-01,  NONE,KS-0667,  1,      3,02-16015,2,20030211,0438, -3.0753, 162.0875, 3021,   2934.9,   1.6652,  34.6712,2,   -999.0,9,-999.0000,9,    138.0,2,  -999.00,9,  -999.00,9,    37.17,2,     0.00,2,     2.61,2, -999.000,9, -999.000,9,  -999.00,9,   -999.0,9,   -999.0,9,-999.0000,9,   -999.0,  9,  -999.00,9,   -999.0,  -999.00,9,  -999.00,9,  -999.00,9,  -999.00,9,   -999.0,-999.0000, -999,9, 2899,   1.4510,  27.7498,   -999.0,9
       KS03-01,  NONE,KS-0667,  1,      2,02-16014,9,20030211,0436, -3.0753, 162.0875, 3021,   3017.7,   1.6473,  34.6725,2,   -999.0,9,-999.0000,9,   -999.0,9,  -999.00,9,  -999.00,9,  -999.00,9,  -999.00,9,  -999.00,9, -999.000,9, -999.000,9,  -999.00,9,   -999.0,9,   -999.0,9,-999.0000,9,   -999.0,  9,  -999.00,9,   -999.0,  -999.00,9,  -999.00,9,  -999.00,9,  -999.00,9,   -999.0,-999.0000, -999,9, 2980,   1.4256,  27.7527,   -999.0,9
       KS03-01,  NONE,KS-0667,  1,      1,02-16007,2,20030211,0436, -3.0753, 162.0875, 3021,   3019.2,   1.6470,  34.6726,2,   -999.0,9,  34.6718,2,   -999.0,9,  -999.00,9,  -999.00,9,  -999.00,9,  -999.00,9,  -999.00,9, -999.000,9, -999.000,9,  -999.00,9,   -999.0,9,   -999.0,9,-999.0000,9,   -999.0,  9,  -999.00,9,   -999.0,  -999.00,9,  -999.00,9,  -999.00,9,  -999.00,9,   -999.0,-999.0000, -999,9, 2981,   1.4251,  27.7528,   -999.0,9