BOTTLE,20130510GEMDJMAYT
EXPOCODE,SECT_ID,STNNBR,CASTNO,SAMPNO,BTLNBR,BTLNBR_FLAG_W,DATE,TIME,LATITUDE,LONGITUDE,DEPTH,CTDPRS,CTDTMP,CTDSAL,CTDSAL_FLAG_W,CTDOXY,CTDOXY_FLAG_W,SALNTY,SALNTY_FLAG_W,OXYGEN,OXYGEN_FLAG_W,SILCAT,SILCAT_FLAG_W,NITRAT,NITRAT_FLAG_W,NO2+NO3,NO2+NO3_FLAG_W,NITRIT,NITRIT_FLAG_W,PHSPHT,PHSPHT_FLAG_W,CFC-11,CFC-11_FLAG_W,CFC-12,CFC-12_FLAG_W,DELC13,DELC13_FLAG_W,TCARBN,TCARBN_FLAG_W,ALKALI,ALKALI_FLAG_W,PH,PH_FLAG_W,PH_TMP,PH_SCALE,PH_NBS,PH_NBS_FLAG_W,C13ERR,TOTALP,TOTALP_FLAG_W,AMMONI,AMMONI_FLAG_W,CHLORA,CHLORA_FLAG_W,PPHYTN,PPHYTN_FLAG_W,REVPRS,REVTMP,DEPTH_,DEPTH_FLAG,CTDDEP,THETA,SIGTHT,DOC,DOC_FLAG_W
,,,,,,,GMT,GMT,,,METER,DBAR,ITS-90,PSS-78,,UMOL/KG,,PSS-78,,UMOL/KG,,UMOL/KG,,UMOL/KG,,UMOL/KG,,UMOL/KG,,UMOL/KG,,PMOL/KG,,PMOL/KG,,/MILLE,,UMOL/KG,,UMOL/KG,,25_DEG_C,,DEG_C,,,,/MILLE,UMOL/KG,,UMOL/KG,,UG/L,,UG/L,,DBAR,ITS-90,METERS,,METERS,DEG_C,,UMOL/L,
       KS03-01,  165E,KS-0640,  1,     24,02-16030,2,20030123,2125, 19.9857, 164.9883, 5338,    604.6,   6.6049,  34.1770,2,   -999.0,9,  34.1789,2,     78.0,2,  -999.00,9,  -999.00,9,    34.28,2,     0.00,2,     2.42,2, -999.000,9, -999.000,9,  -999.00,9,   -999.0,9,   -999.0,9,-999.0000,9,   -999.0,  9,     7.57,2,   -999.0,  -999.00,9,  -999.00,9,  -999.00,9,  -999.00,9,   -999.0,-999.0000, -999,9,  600,   6.5492,  26.8313,   -999.0,9
       KS03-01,  165E,KS-0640,  1,     23,02-16029,2,20030123,2122, 19.9857, 164.9883, 5338,    705.2,   5.5092,  34.2499,2,   -999.0,9,  34.2513,2,     54.0,2,  -999.00,9,  -999.00,9,    38.56,2,     0.00,2,     2.73,2, -999.000,9, -999.000,9,  -999.00,9,   -999.0,9,   -999.0,9,-999.0000,9,   -999.0,  9,     7.51,2,   -999.0,  -999.00,9,  -999.00,9,  -999.00,9,  -999.00,9,   -999.0,-999.0000, -999,9,  700,   5.4495,  27.0278,   -999.0,9
       KS03-01,  165E,KS-0640,  1,     22,02-16028,2,20030123,2120, 19.9857, 164.9883, 5338,    804.4,   4.8838,  34.3658,2,   -999.0,9,  34.3672,2,     50.0,2,  -999.00,9,  -999.00,9,    40.01,2,     0.00,2,     2.83,2, -999.000,9, -999.000,9,  -999.00,9,   -999.0,9,   -999.0,9,-999.0000,9,   -999.0,  9,     7.49,2,   -999.0,  -999.00,9,  -999.00,9,  -999.00,9,  -999.00,9,   -999.0,-999.0000, -999,9,  798,   4.8188,  27.1931,   -999.0,9
       KS03-01,  165E,KS-0640,  1,     21,02-16027,2,20030123,2117, 19.9857, 164.9883, 5338,    907.5,   4.4781,  34.4492,2,   -999.0,9,  34.4481,2,     57.0,2,  -999.00,9,  -999.00,9,    40.20,2,     0.00,2,     2.84,2, -999.000,9, -999.000,9,  -999.00,9,   -999.0,9,   -999.0,9,-999.0000,9,   -999.0,  9,     7.51,2,   -999.0,  -999.00,9,  -999.00,9,  -999.00,9,  -999.00,9,   -999.0,-999.0000, -999,9,  900,   4.4068,  27.3049,   -999.0,9
       KS03-01,  165E,KS-0640,  1,     20,02-16026,9,20030123,2114, 19.9857, 164.9883, 5338,   1010.5,   4.1120,  34.4938,2,   -999.0,9,-999.0000,9,   -999.0,9,  -999.00,9,  -999.00,9,  -999.00,9,  -999.00,9,  -999.00,9, -999.000,9, -999.000,9,  -999.00,9,   -999.0,9,   -999.0,9,-999.0000,9,   -999.0,  9,  -999.00,9,   -999.0,  -999.00,9,  -999.00,9,  -999.00,9,  -999.00,9,   -999.0,-999.0000, -999,9, 1002,   4.0346,  27.3799,   -999.0,9
       KS03-01,  165E,KS-0640,  1,     19,02-16025,9,20030123,2114, 19.9857, 164.9883, 5338,   1009.0,   4.1196,  34.4929,2,   -999.0,9,-999.0000,9,   -999.0,9,  -999.00,9,  -999.00,9,  -999.00,9,  -999.00,9,  -999.00,9, -999.000,9, -999.000,9,  -999.00,9,   -999.0,9,   -999.0,9,-999.0000,9,   -999.0,  9,  -999.00,9,   -999.0,  -999.00,9,  -999.00,9,  -999.00,9,  -999.00,9,   -999.0,-999.0000, -999,9, 1000,   4.0423,  27.3784,   -999.0,9
       KS03-01,  165E,KS-0640,  1,     18,02-16024,9,20030123,2114, 19.9857, 164.9883, 5338,   1008.4,   4.1226,  34.4924,2,   -999.0,9,-999.0000,9,   -999.0,9,  -999.00,9,  -999.00,9,  -999.00,9,  -999.00,9,  -999.00,9, -999.000,9, -999.000,9,  -999.00,9,   -999.0,9,   -999.0,9,-999.0000,9,   -999.0,  9,  -999.00,9,   -999.0,  -999.00,9,  -999.00,9,  -999.00,9,  -999.00,9,   -999.0,-999.0000, -999,9, 1000,   4.0453,  27.3777,   -999.0,9
       KS03-01,  165E,KS-0640,  1,     17,02-16023,9,20030123,2113, 19.9857, 164.9883, 5338,   1008.1,   4.1244,  34.4921,2,   -999.0,9,-999.0000,9,   -999.0,9,  -999.00,9,  -999.00,9,  -999.00,9,  -999.00,9,  -999.00,9, -999.000,9, -999.000,9,  -999.00,9,   -999.0,9,   -999.0,9,-999.0000,9,   -999.0,  9,  -999.00,9,   -999.0,  -999.00,9,  -999.00,9,  -999.00,9,  -999.00,9,   -999.0,-999.0000, -999,9, 1000,   4.0471,  27.3772,   -999.0,9
       KS03-01,  165E,KS-0640,  1,     16,02-16022,2,20030123,2113, 19.9857, 164.9883, 5338,   1007.8,   4.1247,  34.4918,2,   -999.0,9,  34.4911,2,     66.0,2,  -999.00,9,  -999.00,9,    39.91,2,     0.00,2,     2.79,2, -999.000,9, -999.000,9,  -999.00,9,   -999.0,9,   -999.0,9,-999.0000,9,   -999.0,  9,     7.54,2,   -999.0,  -999.00,9,  -999.00,9,  -999.00,9,  -999.00,9,   -999.0,-999.0000, -999,9,  999,   4.0474,  27.3770,   -999.0,9
       KS03-01,  165E,KS-0640,  1,     15,02-16021,2,20030123,2108, 19.9857, 164.9883, 5338,   1259.0,   3.3060,  34.5454,2,   -999.0,9,  34.5449,2,     77.0,2,  -999.00,9,  -999.00,9,    40.00,2,     0.00,2,     2.80,2, -999.000,9, -999.000,9,  -999.00,9,   -999.0,9,   -999.0,9,-999.0000,9,   -999.0,  9,     7.56,2,   -999.0,  -999.00,9,  -999.00,9,  -999.00,9,  -999.00,9,   -999.0,-999.0000, -999,9, 1248,   3.2149,  27.5022,   -999.0,9
       KS03-01,  165E,KS-0640,  1,     14,02-16020,3,20030123,2103, 19.9857, 164.9883, 5338,   1511.7,   2.7673,  34.5743,2,   -999.0,9,-999.0000,9,   -999.0,9,  -999.00,9,  -999.00,9,  -999.00,9,  -999.00,9,  -999.00,9, -999.000,9, -999.000,9,  -999.00,9,   -999.0,9,   -999.0,9,-999.0000,9,   -999.0,  9,  -999.00,9,   -999.0,  -999.00,9,  -999.00,9,  -999.00,9,  -999.00,9,   -999.0,-999.0000, -999,9, 1497,   2.6612,  27.5756,   -999.0,9
       KS03-01,  165E,KS-0640,  1,     13,02-16019,2,20030123,2057, 19.9857, 164.9883, 5338,   1764.7,   2.3437,  34.6006,2,   -999.0,9,  34.5999,2,     94.0,2,  -999.00,9,  -999.00,9,    39.51,2,     0.00,2,     2.75,2, -999.000,9, -999.000,9,  -999.00,9,   -999.0,9,   -999.0,9,-999.0000,9,   -999.0,  9,     7.58,2,   -999.0,  -999.00,9,  -999.00,9,  -999.00,9,  -999.00,9,   -999.0,-999.0000, -999,9, 1747,   2.2220,  27.6338,   -999.0,9
       KS03-01,  165E,KS-0640,  1,     12,02-16018,2,20030123,2052, 19.9857, 164.9883, 5338,   2020.8,   2.0758,  34.6210,2,   -999.0,9,  34.6211,2,    102.0,2,  -999.00,9,  -999.00,9,    39.12,2,     0.00,2,     2.71,2, -999.000,9, -999.000,9,  -999.00,9,   -999.0,9,   -999.0,9,-999.0000,9,   -999.0,  9,     7.60,2,   -999.0,  -999.00,9,  -999.00,9,  -999.00,9,  -999.00,9,   -999.0,-999.0000, -999,9, 1999,   1.9365,  27.6730,   -999.0,9
       KS03-01,  165E,KS-0640,  1,     11,02-16017,2,20030123,2042, 19.9857, 164.9883, 5338,   2530.5,   1.7297,  34.6532,2,   -999.0,9,  34.6541,2,    122.0,2,  -999.00,9,  -999.00,9,    38.14,2,     0.00,2,     2.63,2, -999.000,9, -999.000,9,  -999.00,9,   -999.0,9,   -999.0,9,-999.0000,9,   -999.0,  9,     7.64,2,   -999.0,  -999.00,9,  -999.00,9,  -999.00,9,  -999.00,9,   -999.0,-999.0000, -999,9, 2500,   1.5517,  27.7280,   -999.0,9
       KS03-01,  165E,KS-0640,  1,     10,02-17642,4,20030123,2032, 19.9857, 164.9883, 5338,   3038.5,   1.5811,  34.6694,2,   -999.0,9,  35.2548,4,    198.0,4,  -999.00,9,  -999.00,9,  -999.00,9,  -999.00,9,  -999.00,9, -999.000,9, -999.000,9,  -999.00,9,   -999.0,9,   -999.0,9,-999.0000,9,   -999.0,  9,     8.20,4,   -999.0,  -999.00,9,  -999.00,9,  -999.00,9,  -999.00,9,   -999.0,-999.0000, -999,9, 2998,   1.3589,  27.7550,   -999.0,9
       KS03-01,  165E,KS-0640,  1,      9,02-16012,2,20030123,2022, 19.9857, 164.9883, 5338,   3550.8,   1.5076,  34.6786,2,   -999.0,9,  34.6783,2,    202.0,4,  -999.00,9,  -999.00,9,    36.58,2,     0.00,2,     2.51,2, -999.000,9, -999.000,9,  -999.00,9,   -999.0,9,   -999.0,9,-999.0000,9,   -999.0,  9,     7.69,2,   -999.0,  -999.00,9,  -999.00,9,  -999.00,9,  -999.00,9,   -999.0,-999.0000, -999,9, 3500,   1.2361,  27.7710,   -999.0,9
       KS03-01,  165E,KS-0640,  1,      8,02-16011,9,20030123,2022, 19.9857, 164.9883, 5338,   3548.1,   1.5075,  34.6787,2,   -999.0,9,-999.0000,9,   -999.0,9,  -999.00,9,  -999.00,9,  -999.00,9,  -999.00,9,  -999.00,9, -999.000,9, -999.000,9,  -999.00,9,   -999.0,9,   -999.0,9,-999.0000,9,   -999.0,  9,  -999.00,9,   -999.0,  -999.00,9,  -999.00,9,  -999.00,9,  -999.00,9,   -999.0,-999.0000, -999,9, 3497,   1.2363,  27.7711,   -999.0,9
       KS03-01,  165E,KS-0640,  1,      7,02-16016,9,20030123,2012, 19.9857, 164.9883, 5338,   4061.0,   1.4641,  34.6865,2,   -999.0,9,-999.0000,9,   -999.0,9,  -999.00,9,  -999.00,9,  -999.00,9,  -999.00,9,  -999.00,9, -999.000,9, -999.000,9,  -999.00,9,   -999.0,9,   -999.0,9,-999.0000,9,   -999.0,  9,  -999.00,9,   -999.0,  -999.00,9,  -999.00,9,  -999.00,9,  -999.00,9,   -999.0,-999.0000, -999,9, 3998,   1.1395,  27.7841,   -999.0,9
       KS03-01,  165E,KS-0640,  1,      6,02-16015,9,20030123,2012, 19.9857, 164.9883, 5338,   4061.4,   1.4640,  34.6867,2,   -999.0,9,-999.0000,9,   -999.0,9,  -999.00,9,  -999.00,9,  -999.00,9,  -999.00,9,  -999.00,9, -999.000,9, -999.000,9,  -999.00,9,   -999.0,9,   -999.0,9,-999.0000,9,   -999.0,  9,  -999.00,9,   -999.0,  -999.00,9,  -999.00,9,  -999.00,9,  -999.00,9,   -999.0,-999.0000, -999,9, 3998,   1.1394,  27.7842,   -999.0,9
       KS03-01,  165E,KS-0640,  1,      5,02-16014,4,20030123,2011, 19.9857, 164.9883, 5338,   4061.4,   1.4641,  34.6866,2,   -999.0,9,-999.0000,9,   -999.0,9,  -999.00,9,  -999.00,9,  -999.00,9,  -999.00,9,  -999.00,9, -999.000,9, -999.000,9,  -999.00,9,   -999.0,9,   -999.0,9,-999.0000,9,   -999.0,  9,  -999.00,9,   -999.0,  -999.00,9,  -999.00,9,  -999.00,9,  -999.00,9,   -999.0,-999.0000, -999,9, 3998,   1.1395,  27.7841,   -999.0,9
       KS03-01,  165E,KS-0640,  1,      4,02-16010,9,20030123,2002, 19.9857, 164.9883, 5338,   4575.0,   1.4235,  34.6943,2,   -999.0,9,-999.0000,9,   -999.0,9,  -999.00,9,  -999.00,9,  -999.00,9,  -999.00,9,  -999.00,9, -999.000,9, -999.000,9,  -999.00,9,   -999.0,9,   -999.0,9,-999.0000,9,   -999.0,  9,  -999.00,9,   -999.0,  -999.00,9,  -999.00,9,  -999.00,9,  -999.00,9,   -999.0,-999.0000, -999,9, 4499,   1.0422,  27.7969,   -999.0,9
       KS03-01,  165E,KS-0640,  1,      3,02-16009,2,20030123,2001, 19.9857, 164.9883, 5338,   4573.9,   1.4233,  34.6945,2,   -999.0,9,  34.6930,2,    169.0,2,  -999.00,9,  -999.00,9,    35.12,2,     0.00,2,     2.36,2, -999.000,9, -999.000,9,  -999.00,9,   -999.0,9,   -999.0,9,-999.0000,9,   -999.0,  9,     7.71,2,   -999.0,  -999.00,9,  -999.00,9,  -999.00,9,  -999.00,9,   -999.0,-999.0000, -999,9, 4498,   1.0421,  27.7970,   -999.0,9
       KS03-01,  165E,KS-0640,  1,      2,02-16008,2,20030123,1952, 19.9857, 164.9883, 5338,   5089.1,   1.4168,  34.6991,2,   -999.0,9,  34.6983,2,    177.0,2,  -999.00,9,  -999.00,9,    34.44,2,     0.00,2,     2.32,2, -999.000,9, -999.000,9,  -999.00,9,   -999.0,9,   -999.0,9,-999.0000,9,   -999.0,  9,     7.72,2,   -999.0,  -999.00,9,  -999.00,9,  -999.00,9,  -999.00,9,   -999.0,-999.0000, -999,9, 4999,   0.9745,  27.8052,   -999.0,9
       KS03-01,  165E,KS-0640,  1,      1,02-16007,4,20030123,1946, 19.9857, 164.9883, 5338,   5367.5,   1.4372,  34.6997,2,   -999.0,9,-999.0000,9,   -999.0,9,  -999.00,9,  -999.00,9,  -999.00,9,  -999.00,9,  -999.00,9, -999.000,9, -999.000,9,  -999.00,9,   -999.0,9,   -999.0,9,-999.0000,9,   -999.0,  9,  -999.00,9,   -999.0,  -999.00,9,  -999.00,9,  -999.00,9,  -999.00,9,   -999.0,-999.0000, -999,9, 5269,   0.9596,  27.8067,   -999.0,9