BOTTLE,20130510GEMDJMAYT
EXPOCODE,SECT_ID,STNNBR,CASTNO,SAMPNO,BTLNBR,BTLNBR_FLAG_W,DATE,TIME,LATITUDE,LONGITUDE,DEPTH,CTDPRS,CTDTMP,CTDSAL,CTDSAL_FLAG_W,CTDOXY,CTDOXY_FLAG_W,SALNTY,SALNTY_FLAG_W,OXYGEN,OXYGEN_FLAG_W,SILCAT,SILCAT_FLAG_W,NITRAT,NITRAT_FLAG_W,NO2+NO3,NO2+NO3_FLAG_W,NITRIT,NITRIT_FLAG_W,PHSPHT,PHSPHT_FLAG_W,CFC-11,CFC-11_FLAG_W,CFC-12,CFC-12_FLAG_W,DELC13,DELC13_FLAG_W,TCARBN,TCARBN_FLAG_W,ALKALI,ALKALI_FLAG_W,PH,PH_FLAG_W,PH_TMP,PH_SCALE,PH_NBS,PH_NBS_FLAG_W,C13ERR,TOTALP,TOTALP_FLAG_W,AMMONI,AMMONI_FLAG_W,CHLORA,CHLORA_FLAG_W,PPHYTN,PPHYTN_FLAG_W,REVPRS,REVTMP,DEPTH_,DEPTH_FLAG,CTDDEP,THETA,SIGTHT,DOC,DOC_FLAG_W
,,,,,,,GMT,GMT,,,METER,DBAR,ITS-90,PSS-78,,UMOL/KG,,PSS-78,,UMOL/KG,,UMOL/KG,,UMOL/KG,,UMOL/KG,,UMOL/KG,,UMOL/KG,,PMOL/KG,,PMOL/KG,,/MILLE,,UMOL/KG,,UMOL/KG,,25_DEG_C,,DEG_C,,,,/MILLE,UMOL/KG,,UMOL/KG,,UG/L,,UG/L,,DBAR,ITS-90,METERS,,METERS,DEG_C,,UMOL/L,
       KS03-04,  137E,KS-0724,  1,     24,02-16030,2,20030429,0846, 15.0242, 136.9752, 5563,      5.1,  28.1632,  34.4627,2,   -999.0,9,  34.5290,4,    201.0,2,  -999.00,9,  -999.00,9,     0.00,2,     0.00,2,     0.05,2, -999.000,9, -999.000,9,  -999.00,9,   1929.2,3,   -999.0,9,   8.1139,2,     25.0, TS,  -999.00,9,   -999.0,  -999.00,9,  -999.00,9,     0.02,2,     0.01,2,   -999.0,-999.0000, -999,9,    5,  28.1620,  21.9377,   -999.0,9
       KS03-04,  137E,KS-0724,  1,     23,02-16029,2,20030429,0845, 15.0242, 136.9752, 5563,     11.0,  28.1545,  34.4631,2,   -999.0,9,-999.0000,9,    201.0,2,  -999.00,9,  -999.00,9,     0.00,2,     0.00,2,     0.05,2, -999.000,9, -999.000,9,  -999.00,9,   1929.2,3,   -999.0,9,   8.1125,2,     25.0, TS,  -999.00,9,   -999.0,  -999.00,9,  -999.00,9,     0.03,2,     0.02,2,   -999.0,-999.0000, -999,9,   11,  28.1519,  21.9413,   -999.0,9
       KS03-04,  137E,KS-0724,  1,     22,02-16028,2,20030429,0843, 15.0242, 136.9752, 5563,     24.4,  28.1548,  34.4622,2,   -999.0,9,-999.0000,9,    202.0,2,  -999.00,9,  -999.00,9,     0.00,2,     0.00,2,     0.04,2, -999.000,9, -999.000,9,  -999.00,9,   -999.0,9,   -999.0,9,   8.1144,2,     25.0, TS,  -999.00,9,   -999.0,  -999.00,9,  -999.00,9,     0.03,2,     0.01,2,   -999.0,-999.0000, -999,9,   24,  28.1490,  21.9416,   -999.0,9
       KS03-04,  137E,KS-0724,  1,     21,02-16027,2,20030429,0842, 15.0242, 136.9752, 5563,     50.4,  27.9331,  34.4709,2,   -999.0,9,-999.0000,9,    208.0,2,  -999.00,9,  -999.00,9,     0.00,2,     0.00,2,     0.04,2, -999.000,9, -999.000,9,  -999.00,9,   1926.3,2,   -999.0,9,   8.1170,2,     25.0, TS,  -999.00,9,   -999.0,  -999.00,9,  -999.00,9,     0.04,2,     0.02,2,   -999.0,-999.0000, -999,9,   50,  27.9213,  22.0225,   -999.0,9
       KS03-04,  137E,KS-0724,  1,     20,02-16013,2,20030429,0838, 15.0242, 136.9752, 5563,     75.0,  27.5222,  34.6621,2,   -999.0,9,-999.0000,9,    205.0,2,  -999.00,9,  -999.00,9,     0.00,2,     0.00,2,     0.02,2, -999.000,9, -999.000,9,  -999.00,9,   1928.2,3,   -999.0,9,   8.1207,2,     25.0, TS,  -999.00,9,   -999.0,  -999.00,9,  -999.00,9,     0.06,2,     0.03,2,   -999.0,-999.0000, -999,9,   75,  27.5048,  22.3013,   -999.0,9
       KS03-04,  137E,KS-0724,  1,     19,02-16025,9,20030429,0837, 15.0242, 136.9752, 5563,     99.3,  26.9670,  34.7666,2,   -999.0,9,-999.0000,9,   -999.0,9,  -999.00,9,  -999.00,9,  -999.00,9,  -999.00,9,  -999.00,9, -999.000,9, -999.000,9,  -999.00,9,   1934.2,3,   -999.0,9,-999.0000,9,   -999.0,  9,  -999.00,9,   -999.0,  -999.00,9,  -999.00,9,  -999.00,9,  -999.00,9,   -999.0,-999.0000, -999,9,   99,  26.9442,  22.5597,   -999.0,9
       KS03-04,  137E,KS-0724,  1,     18,02-16024,2,20030429,0836, 15.0242, 136.9752, 5563,     98.9,  26.9959,  34.7584,2,   -999.0,9,  34.7758,4,    205.0,2,  -999.00,9,  -999.00,9,     0.00,2,     0.00,2,     0.03,2, -999.000,9, -999.000,9,  -999.00,9,   -999.0,9,   -999.0,9,   8.1208,2,     25.0, TS,  -999.00,9,   -999.0,  -999.00,9,  -999.00,9,     0.10,2,     0.10,2,   -999.0,-999.0000, -999,9,   98,  26.9732,  22.5443,   -999.0,9
       KS03-04,  137E,KS-0724,  1,     17,02-16023,2,20030429,0835, 15.0242, 136.9752, 5563,    124.6,  26.3872,  34.8847,2,   -999.0,9,-999.0000,9,    201.0,2,  -999.00,9,  -999.00,9,     0.00,2,     0.00,2,     0.02,2, -999.000,9, -999.000,9,  -999.00,9,   1940.3,3,   -999.0,9,   8.1079,2,     25.0, TS,  -999.00,9,   -999.0,  -999.00,9,  -999.00,9,     0.16,2,     0.19,2,   -999.0,-999.0000, -999,9,  124,  26.3591,  22.8339,   -999.0,9
       KS03-04,  137E,KS-0724,  1,     16,02-16022,2,20030429,0834, 15.0242, 136.9752, 5563,    151.1,  24.6417,  35.0966,2,   -999.0,9,-999.0000,9,    189.0,2,  -999.00,9,  -999.00,9,     0.29,2,     0.07,2,     0.08,2, -999.000,9, -999.000,9,  -999.00,9,   1957.8,4,   -999.0,9,   8.0637,2,     25.0, TS,  -999.00,9,   -999.0,  -999.00,9,  -999.00,9,     0.11,2,     0.39,2,   -999.0,-999.0000, -999,9,  150,  24.6092,  23.5325,   -999.0,9
       KS03-04,  137E,KS-0724,  1,     15,02-16021,2,20030429,0833, 15.0242, 136.9752, 5563,    201.6,  18.9423,  34.8823,2,   -999.0,9,  34.8865,2,    179.0,2,  -999.00,9,  -999.00,9,     4.78,2,     0.00,2,     0.37,2, -999.000,9, -999.000,9,  -999.00,9,   1992.4,4,   -999.0,9,   7.9467,2,     25.0, TS,  -999.00,9,   -999.0,  -999.00,9,  -999.00,9,     0.00,2,     0.01,2,   -999.0,-999.0000, -999,9,  200,  18.9064,  24.9550,   -999.0,9
       KS03-04,  137E,KS-0724,  1,     14,02-16020,2,20030429,0831, 15.0242, 136.9752, 5563,    251.1,  15.5344,  34.6150,2,   -999.0,9,-999.0000,9,    179.0,2,  -999.00,9,  -999.00,9,     9.46,2,     0.00,2,     0.68,2, -999.000,9, -999.000,9,  -999.00,9,   2051.1,4,   -999.0,9,   7.8749,2,     25.0, TS,  -999.00,9,   -999.0,  -999.00,9,  -999.00,9,     0.00,2,     0.00,2,   -999.0,-999.0000, -999,9,  249,  15.4955,  25.5654,   -999.0,9
       KS03-04,  137E,KS-0724,  1,     13,02-16019,2,20030429,0829, 15.0242, 136.9752, 5563,    302.0,  13.2840,  34.4560,2,   -999.0,9,  34.4585,2,    154.0,2,  -999.00,9,  -999.00,9,    15.50,2,     0.00,2,     1.12,2, -999.000,9, -999.000,9,  -999.00,9,   2076.4,4,   -999.0,9,   7.7779,2,     25.0, TS,  -999.00,9,   -999.0,  -999.00,9,  -999.00,9,     0.00,2,     0.01,2,   -999.0,-999.0000, -999,9,  300,  13.2419,  25.9228,   -999.0,9
       KS03-04,  137E,KS-0724,  1,     12,02-16018,2,20030429,0826, 15.0242, 136.9752, 5563,    402.7,   9.2251,  34.2710,2,   -999.0,9,  34.2701,2,    120.0,2,  -999.00,9,  -999.00,9,    26.11,2,     0.00,2,     1.86,2, -999.000,9, -999.000,9,  -999.00,9,   2116.8,4,   -999.0,9,   7.6272,2,     25.0, TS,  -999.00,9,   -999.0,  -999.00,9,  -999.00,9,  -999.00,9,  -999.00,9,   -999.0,-999.0000, -999,9,  400,   9.1806,  26.5183,   -999.0,9
       KS03-04,  137E,KS-0724,  1,     11,02-16017,2,20030429,0821, 15.0242, 136.9752, 5563,    502.8,   7.1214,  34.2955,2,   -999.0,9,  34.2929,2,     78.0,2,  -999.00,9,  -999.00,9,    33.99,2,     0.00,2,     2.42,2, -999.000,9, -999.000,9,  -999.00,9,   2185.2,4,   -999.0,9,   7.5072,2,     25.0, TS,  -999.00,9,   -999.0,  -999.00,9,  -999.00,9,  -999.00,9,  -999.00,9,   -999.0,-999.0000, -999,9,  499,   7.0734,  26.8537,   -999.0,9
       KS03-04,  137E,KS-0724,  1,     10,02-16026,3,20030429,0818, 15.0242, 136.9752, 5563,    603.9,   6.4579,  34.4150,2,   -999.0,9,  34.4135,2,     71.0,2,  -999.00,9,  -999.00,9,    36.51,2,     0.00,2,     2.61,2, -999.000,9, -999.000,9,  -999.00,9,   2250.1,4,   -999.0,9,   7.4972,2,     25.0, TS,  -999.00,9,   -999.0,  -999.00,9,  -999.00,9,  -999.00,9,  -999.00,9,   -999.0,-999.0000, -999,9,  600,   6.4027,  27.0384,   -999.0,9
       KS03-04,  137E,KS-0724,  1,      9,02-16012,2,20030429,0815, 15.0242, 136.9752, 5563,    705.5,   5.7212,  34.4625,2,   -999.0,9,  34.4593,2,     74.0,2,  -999.00,9,  -999.00,9,    37.48,2,     0.00,2,     2.67,2, -999.000,9, -999.000,9,  -999.00,9,   2273.6,3,   -999.0,9,   7.4966,2,     25.0, TS,  -999.00,9,   -999.0,  -999.00,9,  -999.00,9,  -999.00,9,  -999.00,9,   -999.0,-999.0000, -999,9,  700,   5.6601,  27.1704,   -999.0,9
       KS03-04,  137E,KS-0724,  1,      8,02-16011,2,20030429,0811, 15.0242, 136.9752, 5563,    807.5,   5.1509,  34.4913,2,   -999.0,9,  34.4970,4,     79.0,2,  -999.00,9,  -999.00,9,    37.77,2,     0.00,2,     2.69,2, -999.000,9, -999.000,9,  -999.00,9,   2283.9,3,   -999.0,9,-999.0000,9,   -999.0,  9,  -999.00,9,   -999.0,  -999.00,9,  -999.00,9,  -999.00,9,  -999.00,9,   -999.0,-999.0000, -999,9,  801,   5.0838,  27.2622,   -999.0,9
       KS03-04,  137E,KS-0724,  1,      7,02-16016,2,20030429,0805, 15.0242, 136.9752, 5563,    907.1,   4.6817,  34.5141,2,   -999.0,9,  34.5144,2,     84.0,2,  -999.00,9,  -999.00,9,    38.16,2,     0.00,2,     2.73,2, -999.000,9, -999.000,9,  -999.00,9,   2290.5,3,   -999.0,9,   7.5165,2,     25.0, TS,  -999.00,9,   -999.0,  -999.00,9,  -999.00,9,  -999.00,9,  -999.00,9,   -999.0,-999.0000, -999,9,  900,   4.6089,  27.3343,   -999.0,9
       KS03-04,  137E,KS-0724,  1,      6,02-16009,9,20030429,0800, 15.0242, 136.9752, 5563,   1008.7,   4.2932,  34.5295,2,   -999.0,9,-999.0000,9,   -999.0,9,  -999.00,9,  -999.00,9,  -999.00,9,  -999.00,9,  -999.00,9, -999.000,9, -999.000,9,  -999.00,9,   2302.6,3,   -999.0,9,-999.0000,9,   -999.0,  9,  -999.00,9,   -999.0,  -999.00,9,  -999.00,9,  -999.00,9,  -999.00,9,   -999.0,-999.0000, -999,9, 1000,   4.2145,  27.3894,   -999.0,9
       KS03-04,  137E,KS-0724,  1,      5,02-16008,3,20030429,0800, 15.0242, 136.9752, 5563,   1007.9,   4.3081,  34.5289,2,   -999.0,9,  34.5290,2,     86.0,2,  -999.00,9,  -999.00,9,    38.45,2,     0.00,2,     2.74,2, -999.000,9, -999.000,9,  -999.00,9,   -999.0,9,   -999.0,9,   7.5171,2,     25.0, TS,  -999.00,9,   -999.0,  -999.00,9,  -999.00,9,  -999.00,9,  -999.00,9,   -999.0,-999.0000, -999,9, 1000,   4.2294,  27.3873,   -999.0,9
       KS03-04,  137E,KS-0724,  1,      4,02-16010,2,20030429,0753, 15.0242, 136.9752, 5563,   1259.0,   3.4034,  34.5603,2,   -999.0,9,  34.5598,2,     95.0,2,  -999.00,9,  -999.00,9,    38.54,2,     0.00,2,     2.77,2, -999.000,9, -999.000,9,  -999.00,9,   2312.9,3,   -999.0,9,-999.0000,9,   -999.0,  9,  -999.00,9,   -999.0,  -999.00,9,  -999.00,9,  -999.00,9,  -999.00,9,   -999.0,-999.0000, -999,9, 1248,   3.3113,  27.5050,   -999.0,9
       KS03-04,  137E,KS-0724,  1,      3,02-16015,2,20030429,0743, 15.0242, 136.9752, 5563,   1511.1,   2.8821,  34.5826,2,   -999.0,9,  34.5830,2,    100.0,2,  -999.00,9,  -999.00,9,    38.73,2,     0.00,2,     2.78,2, -999.000,9, -999.000,9,  -999.00,9,   -999.0,9,   -999.0,9,-999.0000,9,   -999.0,  9,  -999.00,9,   -999.0,  -999.00,9,  -999.00,9,  -999.00,9,  -999.00,9,   -999.0,-999.0000, -999,9, 1497,   2.7747,  27.5722,   -999.0,9
       KS03-04,  137E,KS-0724,  1,      2,02-16014,2,20030429,0738, 15.0242, 136.9752, 5563,   1764.8,   2.3807,  34.6099,2,   -999.0,9,  34.6069,2,    110.0,2,  -999.00,9,  -999.00,9,    38.34,2,     0.00,2,     2.72,2, -999.000,9, -999.000,9,  -999.00,9,   -999.0,9,   -999.0,9,-999.0000,9,   -999.0,  9,  -999.00,9,   -999.0,  -999.00,9,  -999.00,9,  -999.00,9,  -999.00,9,   -999.0,-999.0000, -999,9, 1747,   2.2585,  27.6382,   -999.0,9
       KS03-04,  137E,KS-0724,  1,      1,02-16007,2,20030429,0731, 15.0242, 136.9752, 5563,   2016.6,   2.0878,  34.6310,2,   -999.0,9,  34.6313,2,    116.0,2,  -999.00,9,  -999.00,9,    38.24,2,     0.00,2,     2.71,2, -999.000,9, -999.000,9,  -999.00,9,   -999.0,9,   -999.0,9,-999.0000,9,   -999.0,  9,  -999.00,9,   -999.0,  -999.00,9,  -999.00,9,  -999.00,9,  -999.00,9,   -999.0,-999.0000, -999,9, 1995,   1.9486,  27.6801,   -999.0,9