BOTTLE,20130510GEMDJMAYT
EXPOCODE,SECT_ID,STNNBR,CASTNO,SAMPNO,BTLNBR,BTLNBR_FLAG_W,DATE,TIME,LATITUDE,LONGITUDE,DEPTH,CTDPRS,CTDTMP,CTDSAL,CTDSAL_FLAG_W,CTDOXY,CTDOXY_FLAG_W,SALNTY,SALNTY_FLAG_W,OXYGEN,OXYGEN_FLAG_W,SILCAT,SILCAT_FLAG_W,NITRAT,NITRAT_FLAG_W,NO2+NO3,NO2+NO3_FLAG_W,NITRIT,NITRIT_FLAG_W,PHSPHT,PHSPHT_FLAG_W,CFC-11,CFC-11_FLAG_W,CFC-12,CFC-12_FLAG_W,DELC13,DELC13_FLAG_W,TCARBN,TCARBN_FLAG_W,ALKALI,ALKALI_FLAG_W,PH,PH_FLAG_W,PH_TMP,PH_SCALE,PH_NBS,PH_NBS_FLAG_W,C13ERR,TOTALP,TOTALP_FLAG_W,AMMONI,AMMONI_FLAG_W,CHLORA,CHLORA_FLAG_W,PPHYTN,PPHYTN_FLAG_W,REVPRS,REVTMP,DEPTH_,DEPTH_FLAG,CTDDEP,THETA,SIGTHT,DOC,DOC_FLAG_W
,,,,,,,GMT,GMT,,,METER,DBAR,ITS-90,PSS-78,,UMOL/KG,,PSS-78,,UMOL/KG,,UMOL/KG,,UMOL/KG,,UMOL/KG,,UMOL/KG,,UMOL/KG,,PMOL/KG,,PMOL/KG,,/MILLE,,UMOL/KG,,UMOL/KG,,25_DEG_C,,DEG_C,,,,/MILLE,UMOL/KG,,UMOL/KG,,UG/L,,UG/L,,DBAR,ITS-90,METERS,,METERS,DEG_C,,UMOL/L,
       KS03-04,  137E,KS-0704,  1,     24,02-16030,2,20030424,0307, 32.0310, 136.9755, 4225,      5.0,  22.0778,  34.9148,2,   -999.0,9,  34.9148,2,    220.0,2,  -999.00,9,  -999.00,9,     0.00,2,     0.00,2,     0.04,2, -999.000,9, -999.000,9,  -999.00,9,   1968.9,2,   -999.0,9,-999.0000,9,   -999.0,  9,     8.19,2,   -999.0,  -999.00,9,  -999.00,9,     0.27,2,     0.16,2,   -999.0,-999.0000, -999,9,    5,  22.0768,  24.1316,   -999.0,9
       KS03-04,  137E,KS-0704,  1,     23,02-16029,2,20030424,0306, 32.0310, 136.9755, 4225,     10.1,  22.0691,  34.9144,2,   -999.0,9,-999.0000,9,    220.0,2,  -999.00,9,  -999.00,9,     0.00,2,     0.00,2,     0.03,2, -999.000,9, -999.000,9,  -999.00,9,   -999.0,9,   -999.0,9,-999.0000,9,   -999.0,  9,  -999.00,9,   -999.0,  -999.00,9,  -999.00,9,     0.32,2,     0.17,2,   -999.0,-999.0000, -999,9,   10,  22.0671,  24.1340,   -999.0,9
       KS03-04,  137E,KS-0704,  1,     22,02-16028,2,20030424,0305, 32.0310, 136.9755, 4225,     25.2,  22.0465,  34.9142,2,   -999.0,9,-999.0000,9,    220.0,2,  -999.00,9,  -999.00,9,     0.00,2,     0.00,2,     0.03,2, -999.000,9, -999.000,9,  -999.00,9,   -999.0,9,   -999.0,9,-999.0000,9,   -999.0,  9,  -999.00,9,   -999.0,  -999.00,9,  -999.00,9,     0.32,2,     0.18,2,   -999.0,-999.0000, -999,9,   25,  22.0415,  24.1410,   -999.0,9
       KS03-04,  137E,KS-0704,  1,     21,02-16027,2,20030424,0300, 32.0310, 136.9755, 4225,     49.3,  22.0044,  34.9075,2,   -999.0,9,-999.0000,9,    216.0,2,  -999.00,9,  -999.00,9,     0.20,2,     0.05,2,     0.05,2, -999.000,9, -999.000,9,  -999.00,9,   -999.0,9,   -999.0,9,-999.0000,9,   -999.0,  9,  -999.00,9,   -999.0,  -999.00,9,  -999.00,9,     0.56,2,     0.28,2,   -999.0,-999.0000, -999,9,   49,  21.9947,  24.1490,   -999.0,9
       KS03-04,  137E,KS-0704,  1,     20,02-16013,2,20030424,0259, 32.0310, 136.9755, 4225,     75.0,  20.8384,  34.8897,2,   -999.0,9,-999.0000,9,    209.0,2,  -999.00,9,  -999.00,9,     1.27,2,     0.10,2,     0.10,2, -999.000,9, -999.000,9,  -999.00,9,   -999.0,9,   -999.0,9,-999.0000,9,   -999.0,  9,  -999.00,9,   -999.0,  -999.00,9,  -999.00,9,     0.09,2,     0.10,2,   -999.0,-999.0000, -999,9,   74,  20.8242,  24.4576,   -999.0,9
       KS03-04,  137E,KS-0704,  1,     19,02-16025,9,20030424,0259, 32.0310, 136.9755, 4225,     75.0,  20.8454,  34.8903,2,   -999.0,9,-999.0000,9,   -999.0,9,  -999.00,9,  -999.00,9,  -999.00,9,  -999.00,9,  -999.00,9, -999.000,9, -999.000,9,  -999.00,9,   -999.0,9,   -999.0,9,-999.0000,9,   -999.0,  9,  -999.00,9,   -999.0,  -999.00,9,  -999.00,9,  -999.00,9,  -999.00,9,   -999.0,-999.0000, -999,9,   75,  20.8311,  24.4562,   -999.0,9
       KS03-04,  137E,KS-0704,  1,     18,02-16024,2,20030424,0258, 32.0310, 136.9755, 4225,    100.4,  19.9833,  34.8795,2,   -999.0,9,  34.8784,2,    212.0,2,  -999.00,9,  -999.00,9,     1.66,2,     0.03,2,     0.13,2, -999.000,9, -999.000,9,  -999.00,9,   -999.0,9,   -999.0,9,-999.0000,9,   -999.0,  9,  -999.00,9,   -999.0,  -999.00,9,  -999.00,9,     0.00,2,     0.06,2,   -999.0,-999.0000, -999,9,  100,  19.9648,  24.6791,   -999.0,9
       KS03-04,  137E,KS-0704,  1,     17,02-16023,2,20030424,0257, 32.0310, 136.9755, 4225,    125.2,  19.4943,  34.8695,2,   -999.0,9,-999.0000,9,    216.0,2,  -999.00,9,  -999.00,9,     1.56,2,     0.02,2,     0.12,2, -999.000,9, -999.000,9,  -999.00,9,   -999.0,9,   -999.0,9,-999.0000,9,   -999.0,  9,  -999.00,9,   -999.0,  -999.00,9,  -999.00,9,     0.01,2,     0.02,2,   -999.0,-999.0000, -999,9,  124,  19.4716,  24.8002,   -999.0,9
       KS03-04,  137E,KS-0704,  1,     16,02-16022,2,20030424,0256, 32.0310, 136.9755, 4225,    150.6,  19.0744,  34.8582,2,   -999.0,9,-999.0000,9,    220.0,2,  -999.00,9,  -999.00,9,     1.46,2,     0.31,2,     0.13,2, -999.000,9, -999.000,9,  -999.00,9,   -999.0,9,   -999.0,9,-999.0000,9,   -999.0,  9,  -999.00,9,   -999.0,  -999.00,9,  -999.00,9,     0.09,4,     0.10,4,   -999.0,-999.0000, -999,9,  149,  19.0475,  24.9007,   -999.0,9
       KS03-04,  137E,KS-0704,  1,     15,02-16021,2,20030424,0254, 32.0310, 136.9755, 4225,    201.7,  18.5506,  34.8578,2,   -999.0,9,  34.8582,2,    225.0,2,  -999.00,9,  -999.00,9,     1.56,2,     0.08,2,     0.14,2, -999.000,9, -999.000,9,  -999.00,9,   -999.0,9,   -999.0,9,-999.0000,9,   -999.0,  9,  -999.00,9,   -999.0,  -999.00,9,  -999.00,9,     0.02,2,     0.05,2,   -999.0,-999.0000, -999,9,  200,  18.5152,  25.0351,   -999.0,9
       KS03-04,  137E,KS-0704,  1,     14,02-16020,2,20030424,0252, 32.0310, 136.9755, 4225,    253.2,  18.3109,  34.8459,2,   -999.0,9,-999.0000,9,    224.0,2,  -999.00,9,  -999.00,9,     2.05,2,     0.01,2,     0.15,2, -999.000,9, -999.000,9,  -999.00,9,   -999.0,9,   -999.0,9,-999.0000,9,   -999.0,  9,  -999.00,9,   -999.0,  -999.00,9,  -999.00,9,     0.01,2,     0.03,2,   -999.0,-999.0000, -999,9,  251,  18.2669,  25.0879,   -999.0,9
       KS03-04,  137E,KS-0704,  1,     13,02-16019,2,20030424,0249, 32.0310, 136.9755, 4225,    304.7,  18.1976,  34.8452,2,   -999.0,9,  34.8420,2,    226.0,2,  -999.00,9,  -999.00,9,     1.95,2,     0.00,2,     0.15,2, -999.000,9, -999.000,9,  -999.00,9,   -999.0,9,   -999.0,9,-999.0000,9,   -999.0,  9,  -999.00,9,   -999.0,  -999.00,9,  -999.00,9,     0.01,2,     0.02,2,   -999.0,-999.0000, -999,9,  302,  18.1448,  25.1177,   -999.0,9
       KS03-04,  137E,KS-0704,  1,     12,02-16018,2,20030424,0244, 32.0310, 136.9755, 4225,    404.2,  17.0952,  34.7258,2,   -999.0,9,  34.7266,2,    198.0,2,  -999.00,9,  -999.00,9,     6.05,2,     0.00,2,     0.41,2, -999.000,9, -999.000,9,  -999.00,9,   -999.0,9,   -999.0,9,-999.0000,9,   -999.0,  9,  -999.00,9,   -999.0,  -999.00,9,  -999.00,9,  -999.00,9,  -999.00,9,   -999.0,-999.0000, -999,9,  401,  17.0280,  25.2971,   -999.0,9
       KS03-04,  137E,KS-0704,  1,     11,02-16017,2,20030424,0241, 32.0310, 136.9755, 4225,    507.0,  14.7715,  34.5893,2,   -999.0,9,  34.5926,2,    186.0,2,  -999.00,9,  -999.00,9,    10.63,2,     0.00,2,     0.72,2, -999.000,9, -999.000,9,  -999.00,9,   -999.0,9,   -999.0,9,-999.0000,9,   -999.0,  9,  -999.00,9,   -999.0,  -999.00,9,  -999.00,9,  -999.00,9,  -999.00,9,   -999.0,-999.0000, -999,9,  503,  14.6950,  25.7216,   -999.0,9
       KS03-04,  137E,KS-0704,  1,     10,02-16026,9,20030424,0241, 32.0310, 136.9755, 4225,    504.7,  14.8267,  34.5920,2,   -999.0,9,-999.0000,9,   -999.0,9,  -999.00,9,  -999.00,9,  -999.00,9,  -999.00,9,  -999.00,9, -999.000,9, -999.000,9,  -999.00,9,   -999.0,9,   -999.0,9,-999.0000,9,   -999.0,  9,  -999.00,9,   -999.0,  -999.00,9,  -999.00,9,  -999.00,9,  -999.00,9,   -999.0,-999.0000, -999,9,  501,  14.7504,  25.7118,   -999.0,9
       KS03-04,  137E,KS-0704,  1,      9,02-16012,2,20030424,0238, 32.0310, 136.9755, 4225,    603.7,  12.1423,  34.4125,2,   -999.0,9,  34.4226,4,    175.0,2,  -999.00,9,  -999.00,9,    15.89,2,     0.00,2,     1.10,2, -999.000,9, -999.000,9,  -999.00,9,   -999.0,9,   -999.0,9,-999.0000,9,   -999.0,  9,  -999.00,9,   -999.0,  -999.00,9,  -999.00,9,  -999.00,9,  -999.00,9,   -999.0,-999.0000, -999,9,  599,  12.0621,  26.1209,   -999.0,9
       KS03-04,  137E,KS-0704,  1,      8,02-16011,2,20030424,0233, 32.0310, 136.9755, 4225,    705.0,   9.0880,  34.2380,2,   -999.0,9,  34.2407,2,    150.0,2,  -999.00,9,  -999.00,9,    23.57,2,     0.00,2,     1.67,2, -999.000,9, -999.000,9,  -999.00,9,   -999.0,9,   -999.0,9,-999.0000,9,   -999.0,  9,  -999.00,9,   -999.0,  -999.00,9,  -999.00,9,  -999.00,9,  -999.00,9,   -999.0,-999.0000, -999,9,  699,   9.0095,  26.5199,   -999.0,9
       KS03-04,  137E,KS-0704,  1,      7,02-16016,3,20030424,0229, 32.0310, 136.9755, 4225,    807.0,   7.1222,  34.2211,2,   -999.0,9,  34.2305,4,    120.0,2,  -999.00,9,  -999.00,9,    29.41,2,     0.00,2,     2.10,2, -999.000,9, -999.000,9,  -999.00,9,   -999.0,9,   -999.0,9,-999.0000,9,   -999.0,  9,  -999.00,9,   -999.0,  -999.00,9,  -999.00,9,  -999.00,9,  -999.00,9,   -999.0,-999.0000, -999,9,  800,   7.0435,  26.7991,   -999.0,9
       KS03-04,  137E,KS-0704,  1,      6,02-16009,3,20030424,0226, 32.0310, 136.9755, 4225,    907.8,   5.6301,  34.2351,2,   -999.0,9,  34.2468,4,     95.0,2,  -999.00,9,  -999.00,9,    33.98,2,     0.00,2,     2.44,2, -999.000,9, -999.000,9,  -999.00,9,   -999.0,9,   -999.0,9,-999.0000,9,   -999.0,  9,  -999.00,9,   -999.0,  -999.00,9,  -999.00,9,  -999.00,9,  -999.00,9,   -999.0,-999.0000, -999,9,  900,   5.5511,  27.0038,   -999.0,9
       KS03-04,  137E,KS-0704,  1,      5,02-16008,2,20030424,0223, 32.0310, 136.9755, 4225,   1009.5,   4.7258,  34.3004,2,   -999.0,9,  34.2982,2,     74.0,2,  -999.00,9,  -999.00,9,    37.68,2,     0.01,2,     2.73,2, -999.000,9, -999.000,9,  -999.00,9,   -999.0,9,   -999.0,9,-999.0000,9,   -999.0,  9,  -999.00,9,   -999.0,  -999.00,9,  -999.00,9,  -999.00,9,  -999.00,9,   -999.0,-999.0000, -999,9, 1000,   4.6441,  27.1608,   -999.0,9
       KS03-04,  137E,KS-0704,  1,      4,02-16010,2,20030424,0217, 32.0310, 136.9755, 4225,   1260.8,   3.4137,  34.4357,2,   -999.0,9,  34.4347,2,     69.0,2,  -999.00,9,  -999.00,9,    40.00,2,     0.01,2,     2.89,2, -999.000,9, -999.000,9,  -999.00,9,   -999.0,9,   -999.0,9,-999.0000,9,   -999.0,  9,  -999.00,9,   -999.0,  -999.00,9,  -999.00,9,  -999.00,9,  -999.00,9,   -999.0,-999.0000, -999,9, 1248,   3.3217,  27.4046,   -999.0,9
       KS03-04,  137E,KS-0704,  1,      3,02-16015,2,20030424,0213, 32.0310, 136.9755, 4225,   1512.9,   2.7604,  34.5078,2,   -999.0,9,  34.5072,2,     80.0,2,  -999.00,9,  -999.00,9,    40.00,2,     0.00,2,     2.87,2, -999.000,9, -999.000,9,  -999.00,9,   -999.0,9,   -999.0,9,-999.0000,9,   -999.0,  9,  -999.00,9,   -999.0,  -999.00,9,  -999.00,9,  -999.00,9,  -999.00,9,   -999.0,-999.0000, -999,9, 1497,   2.6544,  27.5230,   -999.0,9
       KS03-04,  137E,KS-0704,  1,      2,02-16014,2,20030424,0209, 32.0310, 136.9755, 4225,   1764.5,   2.3933,  34.5528,2,   -999.0,9,  34.5529,2,     92.0,2,  -999.00,9,  -999.00,9,    39.51,2,     0.00,2,     2.82,2, -999.000,9, -999.000,9,  -999.00,9,   -999.0,9,   -999.0,9,-999.0000,9,   -999.0,  9,  -999.00,9,   -999.0,  -999.00,9,  -999.00,9,  -999.00,9,  -999.00,9,   -999.0,-999.0000, -999,9, 1745,   2.2711,  27.5915,   -999.0,9
       KS03-04,  137E,KS-0704,  1,      1,02-16007,2,20030424,0205, 32.0310, 136.9755, 4225,   2018.9,   2.0453,  34.5993,2,   -999.0,9,  34.5991,2,    109.0,2,  -999.00,9,  -999.00,9,    38.63,2,     0.00,2,     2.75,2, -999.000,9, -999.000,9,  -999.00,9,   -999.0,9,   -999.0,9,-999.0000,9,   -999.0,  9,  -999.00,9,   -999.0,  -999.00,9,  -999.00,9,  -999.00,9,  -999.00,9,   -999.0,-999.0000, -999,9, 1995,   1.9067,  27.6580,   -999.0,9