BOTTLE,20130510GEMDJMAYT
EXPOCODE,SECT_ID,STNNBR,CASTNO,SAMPNO,BTLNBR,BTLNBR_FLAG_W,DATE,TIME,LATITUDE,LONGITUDE,DEPTH,CTDPRS,CTDTMP,CTDSAL,CTDSAL_FLAG_W,CTDOXY,CTDOXY_FLAG_W,SALNTY,SALNTY_FLAG_W,OXYGEN,OXYGEN_FLAG_W,SILCAT,SILCAT_FLAG_W,NITRAT,NITRAT_FLAG_W,NO2+NO3,NO2+NO3_FLAG_W,NITRIT,NITRIT_FLAG_W,PHSPHT,PHSPHT_FLAG_W,CFC-11,CFC-11_FLAG_W,CFC-12,CFC-12_FLAG_W,DELC13,DELC13_FLAG_W,TCARBN,TCARBN_FLAG_W,ALKALI,ALKALI_FLAG_W,PH,PH_FLAG_W,PH_TMP,PH_SCALE,PH_NBS,PH_NBS_FLAG_W,C13ERR,TOTALP,TOTALP_FLAG_W,AMMONI,AMMONI_FLAG_W,CHLORA,CHLORA_FLAG_W,PPHYTN,PPHYTN_FLAG_W,REVPRS,REVTMP,DEPTH_,DEPTH_FLAG,CTDDEP,THETA,SIGTHT,DOC,DOC_FLAG_W
,,,,,,,GMT,GMT,,,METER,DBAR,ITS-90,PSS-78,,UMOL/KG,,PSS-78,,UMOL/KG,,UMOL/KG,,UMOL/KG,,UMOL/KG,,UMOL/KG,,UMOL/KG,,PMOL/KG,,PMOL/KG,,/MILLE,,UMOL/KG,,UMOL/KG,,25_DEG_C,,DEG_C,,,,/MILLE,UMOL/KG,,UMOL/KG,,UG/L,,UG/L,,DBAR,ITS-90,METERS,,METERS,DEG_C,,UMOL/L,
       KS03-04,  137E,KS-0709,  1,     24,02-16030,2,20030424,2345, 30.0132, 137.0200, 4475,      5.3,  21.4486,  34.9371,2,   -999.0,9,  34.9394,2,    225.0,2,  -999.00,9,  -999.00,9,     0.00,2,     0.00,2,     0.04,2, -999.000,9, -999.000,9,  -999.00,9,   1975.2,3,   -999.0,9,   8.0701,2,     25.0, TS,     8.18,2,   -999.0,  -999.00,9,  -999.00,9,     0.10,2,     0.03,2,   -999.0,-999.0000, -999,9,    5,  21.4476,  24.3235,   -999.0,9
       KS03-04,  137E,KS-0709,  1,     23,02-16029,2,20030424,2345, 30.0132, 137.0200, 4475,      9.8,  21.4178,  34.9358,2,   -999.0,9,-999.0000,9,    226.0,2,  -999.00,9,  -999.00,9,     0.00,2,     0.00,2,     0.02,2, -999.000,9, -999.000,9,  -999.00,9,   1975.7,3,   -999.0,9,   8.0690,2,     25.0, TS,     8.19,2,   -999.0,  -999.00,9,  -999.00,9,     0.10,2,     0.04,2,   -999.0,-999.0000, -999,9,   10,  21.4159,  24.3313,   -999.0,9
       KS03-04,  137E,KS-0709,  1,     22,02-16028,2,20030424,2343, 30.0132, 137.0200, 4475,     25.3,  21.0486,  34.9138,2,   -999.0,9,-999.0000,9,    226.0,2,  -999.00,9,  -999.00,9,     0.00,2,     0.00,2,     0.02,2, -999.000,9, -999.000,9,  -999.00,9,   1975.2,3,   -999.0,9,   8.0693,2,     25.0, TS,     8.18,2,   -999.0,  -999.00,9,  -999.00,9,     0.12,2,     0.06,2,   -999.0,-999.0000, -999,9,   25,  21.0438,  24.4163,   -999.0,9
       KS03-04,  137E,KS-0709,  1,     21,02-16027,2,20030424,2339, 30.0132, 137.0200, 4475,     49.7,  19.9965,  34.8800,2,   -999.0,9,-999.0000,9,    231.0,3,  -999.00,9,  -999.00,9,     0.00,2,     0.01,2,     0.04,2, -999.000,9, -999.000,9,  -999.00,9,   1978.4,3,   -999.0,9,   8.0604,2,     25.0, TS,     8.17,2,   -999.0,  -999.00,9,  -999.00,9,     0.24,2,     0.20,2,   -999.0,-999.0000, -999,9,   49,  19.9873,  24.6735,   -999.0,9
       KS03-04,  137E,KS-0709,  1,     20,02-16013,2,20030424,2338, 30.0132, 137.0200, 4475,     74.6,  19.4572,  34.8794,2,   -999.0,9,-999.0000,9,    224.0,2,  -999.00,9,  -999.00,9,     0.88,2,     0.31,2,     0.08,2, -999.000,9, -999.000,9,  -999.00,9,   1988.6,2,   -999.0,9,   8.0438,2,     25.0, TS,     8.15,2,   -999.0,  -999.00,9,  -999.00,9,     0.24,2,     0.25,2,   -999.0,-999.0000, -999,9,   74,  19.4437,  24.8150,   -999.0,9
       KS03-04,  137E,KS-0709,  1,     19,02-16025,9,20030424,2337, 30.0132, 137.0200, 4475,    100.2,  19.1123,  34.8660,2,   -999.0,9,-999.0000,9,   -999.0,9,  -999.00,9,  -999.00,9,  -999.00,9,  -999.00,9,  -999.00,9, -999.000,9, -999.000,9,  -999.00,9,   -999.0,9,   -999.0,9,-999.0000,9,   -999.0,  9,  -999.00,9,   -999.0,  -999.00,9,  -999.00,9,  -999.00,9,  -999.00,9,   -999.0,-999.0000, -999,9,  100,  19.0944,  24.8947,   -999.0,9
       KS03-04,  137E,KS-0709,  1,     18,02-16024,2,20030424,2336, 30.0132, 137.0200, 4475,    100.7,  19.1105,  34.8660,2,   -999.0,9,  34.8664,2,    222.0,2,  -999.00,9,  -999.00,9,     1.37,2,     0.25,2,     0.12,2, -999.000,9, -999.000,9,  -999.00,9,   1994.1,2,   -999.0,9,   8.0366,2,     25.0, TS,     8.15,2,   -999.0,  -999.00,9,  -999.00,9,     0.10,2,     0.10,2,   -999.0,-999.0000, -999,9,  100,  19.0925,  24.8951,   -999.0,9
       KS03-04,  137E,KS-0709,  1,     17,02-16023,2,20030424,2335, 30.0132, 137.0200, 4475,    124.7,  18.8880,  34.8590,2,   -999.0,9,-999.0000,9,    223.0,2,  -999.00,9,  -999.00,9,     1.27,2,     0.22,2,     0.11,2, -999.000,9, -999.000,9,  -999.00,9,   1995.3,2,   -999.0,9,   8.0340,2,     25.0, TS,     8.14,2,   -999.0,  -999.00,9,  -999.00,9,     0.09,2,     0.11,2,   -999.0,-999.0000, -999,9,  124,  18.8659,  24.9475,   -999.0,9
       KS03-04,  137E,KS-0709,  1,     16,02-16022,2,20030424,2334, 30.0132, 137.0200, 4475,    150.0,  18.5214,  34.8156,2,   -999.0,9,-999.0000,9,    209.0,2,  -999.00,9,  -999.00,9,     3.12,2,     0.07,2,     0.22,2, -999.000,9, -999.000,9,  -999.00,9,   2010.3,4,   -999.0,9,   8.0056,2,     25.0, TS,     8.12,2,   -999.0,  -999.00,9,  -999.00,9,     0.02,2,     0.04,2,   -999.0,-999.0000, -999,9,  149,  18.4952,  25.0078,   -999.0,9
       KS03-04,  137E,KS-0709,  1,     15,02-16021,2,20030424,2333, 30.0132, 137.0200, 4475,    202.3,  18.3184,  34.8468,2,   -999.0,9,  34.8469,2,   -999.0,9,  -999.00,9,  -999.00,9,     1.95,2,     0.01,2,     0.15,2, -999.000,9, -999.000,9,  -999.00,9,   1998.9,3,   -999.0,9,   8.0269,2,     25.0, TS,     8.13,2,   -999.0,  -999.00,9,  -999.00,9,     0.01,2,     0.03,2,   -999.0,-999.0000, -999,9,  201,  18.2833,  25.0846,   -999.0,9
       KS03-04,  137E,KS-0709,  1,     14,02-16020,2,20030424,2331, 30.0132, 137.0200, 4475,    250.9,  18.0397,  34.8205,2,   -999.0,9,-999.0000,9,    217.0,3,  -999.00,9,  -999.00,9,     2.93,2,     0.00,2,     0.20,2, -999.000,9, -999.000,9,  -999.00,9,   2005.9,3,   -999.0,9,   8.0093,2,     25.0, TS,     8.12,2,   -999.0,  -999.00,9,  -999.00,9,     0.00,2,     0.01,2,   -999.0,-999.0000, -999,9,  249,  17.9965,  25.1354,   -999.0,9
       KS03-04,  137E,KS-0709,  1,     13,02-16019,2,20030424,2330, 30.0132, 137.0200, 4475,    301.3,  17.4387,  34.7403,2,   -999.0,9,  34.7404,2,    198.0,2,  -999.00,9,  -999.00,9,     5.56,2,     0.00,2,     0.38,2, -999.000,9, -999.000,9,  -999.00,9,   2028.8,2,   -999.0,9,   7.9636,2,     25.0, TS,     8.07,2,   -999.0,  -999.00,9,  -999.00,9,     0.00,2,     0.01,2,   -999.0,-999.0000, -999,9,  299,  17.3881,  25.2221,   -999.0,9
       KS03-04,  137E,KS-0709,  1,     12,02-16018,2,20030424,2328, 30.0132, 137.0200, 4475,    402.2,  15.0293,  34.6048,2,   -999.0,9,  34.6064,2,    187.0,2,  -999.00,9,  -999.00,9,    10.24,2,     0.00,2,     0.69,2, -999.000,9, -999.000,9,  -999.00,9,   2063.9,2,   -999.0,9,   7.8918,2,     25.0, TS,     7.99,2,   -999.0,  -999.00,9,  -999.00,9,  -999.00,9,  -999.00,9,   -999.0,-999.0000, -999,9,  399,  14.9681,  25.6742,   -999.0,9
       KS03-04,  137E,KS-0709,  1,     11,02-16017,2,20030424,2325, 30.0132, 137.0200, 4475,    503.4,  12.3269,  34.4240,2,   -999.0,9,  34.4281,2,    174.0,2,  -999.00,9,  -999.00,9,    15.59,2,     0.00,2,     1.06,2, -999.000,9, -999.000,9,  -999.00,9,   2102.7,2,   -999.0,9,-999.0000,9,   -999.0,  9,     7.91,2,   -999.0,  -999.00,9,  -999.00,9,  -999.00,9,  -999.00,9,   -999.0,-999.0000, -999,9,  499,  12.2596,  26.0920,   -999.0,9
       KS03-04,  137E,KS-0709,  1,     10,02-16026,9,20030424,2324, 30.0132, 137.0200, 4475,    502.6,  12.3742,  34.4267,2,   -999.0,9,-999.0000,9,   -999.0,9,  -999.00,9,  -999.00,9,  -999.00,9,  -999.00,9,  -999.00,9, -999.000,9, -999.000,9,  -999.00,9,   2159.1,4,   -999.0,9,   7.8089,2,     25.0, TS,  -999.00,9,   -999.0,  -999.00,9,  -999.00,9,  -999.00,9,  -999.00,9,   -999.0,-999.0000, -999,9,  499,  12.3069,  26.0850,   -999.0,9
       KS03-04,  137E,KS-0709,  1,      9,02-16012,2,20030424,2322, 30.0132, 137.0200, 4475,    602.7,   9.4510,  34.2539,2,   -999.0,9,  34.2550,2,    153.0,2,  -999.00,9,  -999.00,9,    22.80,2,     0.00,2,     1.62,2, -999.000,9, -999.000,9,  -999.00,9,   2203.0,4,   -999.0,9,   7.6954,2,     25.0, TS,     7.79,2,   -999.0,  -999.00,9,  -999.00,9,  -999.00,9,  -999.00,9,   -999.0,-999.0000, -999,9,  598,   9.3827,  26.4721,   -999.0,9
       KS03-04,  137E,KS-0709,  1,      8,02-16011,3,20030424,2320, 30.0132, 137.0200, 4475,    703.6,   7.5108,  34.1706,2,   -999.0,9,  34.1719,2,    131.0,2,  -999.00,9,  -999.00,9,    28.15,2,     0.00,2,     2.02,2, -999.000,9, -999.000,9,  -999.00,9,   2251.5,4,   -999.0,9,   7.6068,2,     25.0, TS,     7.70,2,   -999.0,  -999.00,9,  -999.00,9,  -999.00,9,  -999.00,9,   -999.0,-999.0000, -999,9,  698,   7.4407,  26.7038,   -999.0,9
       KS03-04,  137E,KS-0709,  1,      7,02-16016,2,20030424,2317, 30.0132, 137.0200, 4475,    805.3,   6.2136,  34.2383,2,   -999.0,9,  34.2362,2,    100.0,2,  -999.00,9,  -999.00,9,    33.50,2,     0.00,2,     2.40,2, -999.000,9, -999.000,9,  -999.00,9,   2293.3,4,   -999.0,9,   7.5341,2,     25.0, TS,     7.62,2,   -999.0,  -999.00,9,  -999.00,9,  -999.00,9,  -999.00,9,   -999.0,-999.0000, -999,9,  798,   6.1406,  26.9329,   -999.0,9
       KS03-04,  137E,KS-0709,  1,      6,02-16009,2,20030424,2315, 30.0132, 137.0200, 4475,    907.5,   4.9446,  34.2916,2,   -999.0,9,  34.2887,2,     77.0,2,  -999.00,9,  -999.00,9,    37.29,2,     0.00,2,     2.69,2, -999.000,9, -999.000,9,  -999.00,9,   2318.7,4,   -999.0,9,   7.4704,2,     25.0, TS,     7.56,2,   -999.0,  -999.00,9,  -999.00,9,  -999.00,9,  -999.00,9,   -999.0,-999.0000, -999,9,  899,   4.8703,  27.1285,   -999.0,9
       KS03-04,  137E,KS-0709,  1,      5,02-16008,2,20030424,2312, 30.0132, 137.0200, 4475,   1008.9,   4.1420,  34.3372,2,   -999.0,9,  34.3366,2,     66.0,2,  -999.00,9,  -999.00,9,    39.33,2,     0.00,2,     2.83,2, -999.000,9, -999.000,9,  -999.00,9,   -999.0,9,   -999.0,9,   7.4523,2,     25.0, TS,     7.53,2,   -999.0,  -999.00,9,  -999.00,9,  -999.00,9,  -999.00,9,   -999.0,-999.0000, -999,9, 1000,   4.0648,  27.2522,   -999.0,9
       KS03-04,  137E,KS-0709,  1,      4,02-16010,2,20030424,2307, 30.0132, 137.0200, 4475,   1260.9,   3.2047,  34.4466,2,   -999.0,9,  34.4483,2,     66.0,2,  -999.00,9,  -999.00,9,    40.59,2,     0.00,2,     2.93,2, -999.000,9, -999.000,9,  -999.00,9,   -999.0,9,   -999.0,9,-999.0000,9,   -999.0,  9,     7.53,2,   -999.0,  -999.00,9,  -999.00,9,  -999.00,9,  -999.00,9,   -999.0,-999.0000, -999,9, 1249,   3.1147,  27.4328,   -999.0,9
       KS03-04,  137E,KS-0709,  1,      3,02-16015,2,20030424,2302, 30.0132, 137.0200, 4475,   1512.9,   2.6807,  34.5118,2,   -999.0,9,  34.5103,2,     78.0,2,  -999.00,9,  -999.00,9,    40.39,2,     0.00,2,     2.89,2, -999.000,9, -999.000,9,  -999.00,9,   -999.0,9,   -999.0,9,-999.0000,9,   -999.0,  9,     7.55,2,   -999.0,  -999.00,9,  -999.00,9,  -999.00,9,  -999.00,9,   -999.0,-999.0000, -999,9, 1497,   2.5757,  27.5331,   -999.0,9
       KS03-04,  137E,KS-0709,  1,      2,02-16014,2,20030424,2257, 30.0132, 137.0200, 4475,   1768.2,   2.2937,  34.5628,2,   -999.0,9,  34.5618,2,     93.0,2,  -999.00,9,  -999.00,9,    39.70,2,     0.00,2,     2.84,2, -999.000,9, -999.000,9,  -999.00,9,   -999.0,9,   -999.0,9,-999.0000,9,   -999.0,  9,     7.58,2,   -999.0,  -999.00,9,  -999.00,9,  -999.00,9,  -999.00,9,   -999.0,-999.0000, -999,9, 1749,   2.1725,  27.6076,   -999.0,9
       KS03-04,  137E,KS-0709,  1,      1,02-16007,2,20030424,2253, 30.0132, 137.0200, 4475,   2020.6,   2.0380,  34.6001,2,   -999.0,9,  34.5989,2,    120.0,2,  -999.00,9,  -999.00,9,    38.92,2,     0.00,2,     2.77,2, -999.000,9, -999.000,9,  -999.00,9,   -999.0,9,   -999.0,9,-999.0000,9,   -999.0,  9,     7.61,2,   -999.0,  -999.00,9,  -999.00,9,  -999.00,9,  -999.00,9,   -999.0,-999.0000, -999,9, 1997,   1.8994,  27.6592,   -999.0,9