BOTTLE,20130510GEMDJMAYT
EXPOCODE,SECT_ID,STNNBR,CASTNO,SAMPNO,BTLNBR,BTLNBR_FLAG_W,DATE,TIME,LATITUDE,LONGITUDE,DEPTH,CTDPRS,CTDTMP,CTDSAL,CTDSAL_FLAG_W,CTDOXY,CTDOXY_FLAG_W,SALNTY,SALNTY_FLAG_W,OXYGEN,OXYGEN_FLAG_W,SILCAT,SILCAT_FLAG_W,NITRAT,NITRAT_FLAG_W,NO2+NO3,NO2+NO3_FLAG_W,NITRIT,NITRIT_FLAG_W,PHSPHT,PHSPHT_FLAG_W,CFC-11,CFC-11_FLAG_W,CFC-12,CFC-12_FLAG_W,DELC13,DELC13_FLAG_W,TCARBN,TCARBN_FLAG_W,ALKALI,ALKALI_FLAG_W,PH,PH_FLAG_W,PH_TMP,PH_SCALE,PH_NBS,PH_NBS_FLAG_W,C13ERR,TOTALP,TOTALP_FLAG_W,AMMONI,AMMONI_FLAG_W,CHLORA,CHLORA_FLAG_W,PPHYTN,PPHYTN_FLAG_W,REVPRS,REVTMP,DEPTH_,DEPTH_FLAG,CTDDEP,THETA,SIGTHT,DOC,DOC_FLAG_W
,,,,,,,GMT,GMT,,,METER,DBAR,ITS-90,PSS-78,,UMOL/KG,,PSS-78,,UMOL/KG,,UMOL/KG,,UMOL/KG,,UMOL/KG,,UMOL/KG,,UMOL/KG,,PMOL/KG,,PMOL/KG,,/MILLE,,UMOL/KG,,UMOL/KG,,25_DEG_C,,DEG_C,,,,/MILLE,UMOL/KG,,UMOL/KG,,UG/L,,UG/L,,DBAR,ITS-90,METERS,,METERS,DEG_C,,UMOL/L,
       KS03-04,  137E,KS-0737,  1,     24,02-16030,9,20030504,0731,  3.8777, 136.6593, 4785,   2030.3,   2.1547,  34.6405,2,   -999.0,9,-999.0000,9,   -999.0,9,  -999.00,9,  -999.00,9,  -999.00,9,  -999.00,9,  -999.00,9, -999.000,9, -999.000,9,  -999.00,9,   -999.0,9,   -999.0,9,-999.0000,9,   -999.0,  9,  -999.00,9,   -999.0,  -999.00,9,  -999.00,9,  -999.00,9,  -999.00,9,   -999.0,-999.0000, -999,9, 2009,   2.0133,  27.6826,   -999.0,9
       KS03-04,  137E,KS-0737,  1,     23,02-16029,9,20030504,0731,  3.8777, 136.6593, 4785,   2030.4,   2.1546,  34.6405,2,   -999.0,9,-999.0000,9,   -999.0,9,  -999.00,9,  -999.00,9,  -999.00,9,  -999.00,9,  -999.00,9, -999.000,9, -999.000,9,  -999.00,9,   -999.0,9,   -999.0,9,-999.0000,9,   -999.0,  9,  -999.00,9,   -999.0,  -999.00,9,  -999.00,9,  -999.00,9,  -999.00,9,   -999.0,-999.0000, -999,9, 2009,   2.0132,  27.6826,   -999.0,9
       KS03-04,  137E,KS-0737,  1,     22,02-16028,9,20030504,0730,  3.8777, 136.6593, 4785,   2030.7,   2.1545,  34.6405,2,   -999.0,9,-999.0000,9,   -999.0,9,  -999.00,9,  -999.00,9,  -999.00,9,  -999.00,9,  -999.00,9, -999.000,9, -999.000,9,  -999.00,9,   -999.0,9,   -999.0,9,-999.0000,9,   -999.0,  9,  -999.00,9,   -999.0,  -999.00,9,  -999.00,9,  -999.00,9,  -999.00,9,   -999.0,-999.0000, -999,9, 2010,   2.0131,  27.6826,   -999.0,9
       KS03-04,  137E,KS-0737,  1,     21,02-16027,9,20030504,0730,  3.8777, 136.6593, 4785,   2031.0,   2.1542,  34.6406,2,   -999.0,9,-999.0000,9,   -999.0,9,  -999.00,9,  -999.00,9,  -999.00,9,  -999.00,9,  -999.00,9, -999.000,9, -999.000,9,  -999.00,9,   -999.0,9,   -999.0,9,-999.0000,9,   -999.0,  9,  -999.00,9,   -999.0,  -999.00,9,  -999.00,9,  -999.00,9,  -999.00,9,   -999.0,-999.0000, -999,9, 2010,   2.0127,  27.6827,   -999.0,9
       KS03-04,  137E,KS-0737,  1,     20,02-16013,9,20030504,0730,  3.8777, 136.6593, 4785,   2030.6,   2.1545,  34.6406,2,   -999.0,9,-999.0000,9,   -999.0,9,  -999.00,9,  -999.00,9,  -999.00,9,  -999.00,9,  -999.00,9, -999.000,9, -999.000,9,  -999.00,9,   -999.0,9,   -999.0,9,-999.0000,9,   -999.0,  9,  -999.00,9,   -999.0,  -999.00,9,  -999.00,9,  -999.00,9,  -999.00,9,   -999.0,-999.0000, -999,9, 2010,   2.0131,  27.6827,   -999.0,9
       KS03-04,  137E,KS-0737,  1,     19,02-16025,9,20030504,0730,  3.8777, 136.6593, 4785,   2030.9,   2.1546,  34.6405,2,   -999.0,9,-999.0000,9,   -999.0,9,  -999.00,9,  -999.00,9,  -999.00,9,  -999.00,9,  -999.00,9, -999.000,9, -999.000,9,  -999.00,9,   -999.0,9,   -999.0,9,-999.0000,9,   -999.0,  9,  -999.00,9,   -999.0,  -999.00,9,  -999.00,9,  -999.00,9,  -999.00,9,   -999.0,-999.0000, -999,9, 2010,   2.0132,  27.6826,   -999.0,9
       KS03-04,  137E,KS-0737,  1,     18,02-16024,9,20030504,0730,  3.8777, 136.6593, 4785,   2031.2,   2.1544,  34.6406,2,   -999.0,9,-999.0000,9,   -999.0,9,  -999.00,9,  -999.00,9,  -999.00,9,  -999.00,9,  -999.00,9, -999.000,9, -999.000,9,  -999.00,9,   -999.0,9,   -999.0,9,-999.0000,9,   -999.0,  9,  -999.00,9,   -999.0,  -999.00,9,  -999.00,9,  -999.00,9,  -999.00,9,   -999.0,-999.0000, -999,9, 2010,   2.0129,  27.6827,   -999.0,9
       KS03-04,  137E,KS-0737,  1,     17,02-16023,9,20030504,0729,  3.8777, 136.6593, 4785,   2031.3,   2.1545,  34.6405,2,   -999.0,9,-999.0000,9,   -999.0,9,  -999.00,9,  -999.00,9,  -999.00,9,  -999.00,9,  -999.00,9, -999.000,9, -999.000,9,  -999.00,9,   -999.0,9,   -999.0,9,-999.0000,9,   -999.0,  9,  -999.00,9,   -999.0,  -999.00,9,  -999.00,9,  -999.00,9,  -999.00,9,   -999.0,-999.0000, -999,9, 2010,   2.0130,  27.6826,   -999.0,9
       KS03-04,  137E,KS-0737,  1,     16,02-16022,9,20030504,0729,  3.8777, 136.6593, 4785,   2031.1,   2.1547,  34.6405,2,   -999.0,9,-999.0000,9,   -999.0,9,  -999.00,9,  -999.00,9,  -999.00,9,  -999.00,9,  -999.00,9, -999.000,9, -999.000,9,  -999.00,9,   -999.0,9,   -999.0,9,-999.0000,9,   -999.0,  9,  -999.00,9,   -999.0,  -999.00,9,  -999.00,9,  -999.00,9,  -999.00,9,   -999.0,-999.0000, -999,9, 2010,   2.0132,  27.6826,   -999.0,9
       KS03-04,  137E,KS-0737,  1,     15,02-16021,9,20030504,0729,  3.8777, 136.6593, 4785,   2031.2,   2.1545,  34.6405,2,   -999.0,9,-999.0000,9,   -999.0,9,  -999.00,9,  -999.00,9,  -999.00,9,  -999.00,9,  -999.00,9, -999.000,9, -999.000,9,  -999.00,9,   -999.0,9,   -999.0,9,-999.0000,9,   -999.0,  9,  -999.00,9,   -999.0,  -999.00,9,  -999.00,9,  -999.00,9,  -999.00,9,   -999.0,-999.0000, -999,9, 2010,   2.0130,  27.6826,   -999.0,9
       KS03-04,  137E,KS-0737,  1,     14,02-16020,9,20030504,0729,  3.8777, 136.6593, 4785,   2031.0,   2.1549,  34.6404,2,   -999.0,9,-999.0000,9,   -999.0,9,  -999.00,9,  -999.00,9,  -999.00,9,  -999.00,9,  -999.00,9, -999.000,9, -999.000,9,  -999.00,9,   -999.0,9,   -999.0,9,-999.0000,9,   -999.0,  9,  -999.00,9,   -999.0,  -999.00,9,  -999.00,9,  -999.00,9,  -999.00,9,   -999.0,-999.0000, -999,9, 2010,   2.0134,  27.6825,   -999.0,9
       KS03-04,  137E,KS-0737,  1,     13,02-16019,9,20030504,0728,  3.8777, 136.6593, 4785,   2031.1,   2.1547,  34.6404,2,   -999.0,9,-999.0000,9,   -999.0,9,  -999.00,9,  -999.00,9,  -999.00,9,  -999.00,9,  -999.00,9, -999.000,9, -999.000,9,  -999.00,9,   -999.0,9,   -999.0,9,-999.0000,9,   -999.0,  9,  -999.00,9,   -999.0,  -999.00,9,  -999.00,9,  -999.00,9,  -999.00,9,   -999.0,-999.0000, -999,9, 2010,   2.0132,  27.6825,   -999.0,9
       KS03-04,  137E,KS-0737,  1,     12,02-16018,9,20030504,0728,  3.8777, 136.6593, 4785,   2031.1,   2.1548,  34.6404,2,   -999.0,9,-999.0000,9,   -999.0,9,  -999.00,9,  -999.00,9,  -999.00,9,  -999.00,9,  -999.00,9, -999.000,9, -999.000,9,  -999.00,9,   -999.0,9,   -999.0,9,-999.0000,9,   -999.0,  9,  -999.00,9,   -999.0,  -999.00,9,  -999.00,9,  -999.00,9,  -999.00,9,   -999.0,-999.0000, -999,9, 2010,   2.0133,  27.6825,   -999.0,9
       KS03-04,  137E,KS-0737,  1,     11,02-16017,9,20030504,0728,  3.8777, 136.6593, 4785,   2031.0,   2.1546,  34.6406,2,   -999.0,9,-999.0000,9,   -999.0,9,  -999.00,9,  -999.00,9,  -999.00,9,  -999.00,9,  -999.00,9, -999.000,9, -999.000,9,  -999.00,9,   -999.0,9,   -999.0,9,-999.0000,9,   -999.0,  9,  -999.00,9,   -999.0,  -999.00,9,  -999.00,9,  -999.00,9,  -999.00,9,   -999.0,-999.0000, -999,9, 2010,   2.0131,  27.6827,   -999.0,9
       KS03-04,  137E,KS-0737,  1,     10,02-16026,9,20030504,0727,  3.8777, 136.6593, 4785,   2031.1,   2.1544,  34.6404,2,   -999.0,9,-999.0000,9,   -999.0,9,  -999.00,9,  -999.00,9,  -999.00,9,  -999.00,9,  -999.00,9, -999.000,9, -999.000,9,  -999.00,9,   -999.0,9,   -999.0,9,-999.0000,9,   -999.0,  9,  -999.00,9,   -999.0,  -999.00,9,  -999.00,9,  -999.00,9,  -999.00,9,   -999.0,-999.0000, -999,9, 2010,   2.0129,  27.6826,   -999.0,9
       KS03-04,  137E,KS-0737,  1,      9,02-16012,9,20030504,0727,  3.8777, 136.6593, 4785,   2031.3,   2.1541,  34.6406,2,   -999.0,9,-999.0000,9,   -999.0,9,  -999.00,9,  -999.00,9,  -999.00,9,  -999.00,9,  -999.00,9, -999.000,9, -999.000,9,  -999.00,9,   -999.0,9,   -999.0,9,-999.0000,9,   -999.0,  9,  -999.00,9,   -999.0,  -999.00,9,  -999.00,9,  -999.00,9,  -999.00,9,   -999.0,-999.0000, -999,9, 2010,   2.0126,  27.6828,   -999.0,9
       KS03-04,  137E,KS-0737,  1,      8,02-16011,2,20030504,0727,  3.8777, 136.6593, 4785,   2031.1,   2.1540,  34.6406,2,   -999.0,9,  34.6398,2,   -999.0,9,  -999.00,9,  -999.00,9,  -999.00,9,  -999.00,9,  -999.00,9, -999.000,9, -999.000,9,  -999.00,9,   -999.0,9,   -999.0,9,-999.0000,9,   -999.0,  9,  -999.00,9,   -999.0,  -999.00,9,  -999.00,9,  -999.00,9,  -999.00,9,   -999.0,-999.0000, -999,9, 2010,   2.0125,  27.6828,   -999.0,9
       KS03-04,  137E,KS-0737,  1,      7,02-16016,9,20030504,0727,  3.8777, 136.6593, 4785,   2031.1,   2.1539,  34.6407,2,   -999.0,9,-999.0000,9,   -999.0,9,  -999.00,9,  -999.00,9,  -999.00,9,  -999.00,9,  -999.00,9, -999.000,9, -999.000,9,  -999.00,9,   -999.0,9,   -999.0,9,-999.0000,9,   -999.0,  9,  -999.00,9,   -999.0,  -999.00,9,  -999.00,9,  -999.00,9,  -999.00,9,   -999.0,-999.0000, -999,9, 2010,   2.0124,  27.6828,   -999.0,9
       KS03-04,  137E,KS-0737,  1,      6,02-16009,2,20030504,0727,  3.8777, 136.6593, 4785,   2031.0,   2.1539,  34.6406,2,   -999.0,9,  34.6419,2,   -999.0,9,  -999.00,9,  -999.00,9,  -999.00,9,  -999.00,9,  -999.00,9, -999.000,9, -999.000,9,  -999.00,9,   -999.0,9,   -999.0,9,-999.0000,9,   -999.0,  9,  -999.00,9,   -999.0,  -999.00,9,  -999.00,9,  -999.00,9,  -999.00,9,   -999.0,-999.0000, -999,9, 2010,   2.0125,  27.6828,   -999.0,9
       KS03-04,  137E,KS-0737,  1,      5,02-16008,9,20030504,0726,  3.8777, 136.6593, 4785,   2031.1,   2.1539,  34.6406,2,   -999.0,9,-999.0000,9,   -999.0,9,  -999.00,9,  -999.00,9,  -999.00,9,  -999.00,9,  -999.00,9, -999.000,9, -999.000,9,  -999.00,9,   -999.0,9,   -999.0,9,-999.0000,9,   -999.0,  9,  -999.00,9,   -999.0,  -999.00,9,  -999.00,9,  -999.00,9,  -999.00,9,   -999.0,-999.0000, -999,9, 2010,   2.0124,  27.6827,   -999.0,9
       KS03-04,  137E,KS-0737,  1,      4,02-16010,9,20030504,0726,  3.8777, 136.6593, 4785,   2031.0,   2.1540,  34.6405,2,   -999.0,9,-999.0000,9,   -999.0,9,  -999.00,9,  -999.00,9,  -999.00,9,  -999.00,9,  -999.00,9, -999.000,9, -999.000,9,  -999.00,9,   -999.0,9,   -999.0,9,-999.0000,9,   -999.0,  9,  -999.00,9,   -999.0,  -999.00,9,  -999.00,9,  -999.00,9,  -999.00,9,   -999.0,-999.0000, -999,9, 2010,   2.0126,  27.6827,   -999.0,9
       KS03-04,  137E,KS-0737,  1,      3,02-16015,2,20030504,0726,  3.8777, 136.6593, 4785,   2030.9,   2.1544,  34.6405,2,   -999.0,9,  34.6396,2,   -999.0,9,  -999.00,9,  -999.00,9,  -999.00,9,  -999.00,9,  -999.00,9, -999.000,9, -999.000,9,  -999.00,9,   -999.0,9,   -999.0,9,-999.0000,9,   -999.0,  9,  -999.00,9,   -999.0,  -999.00,9,  -999.00,9,  -999.00,9,  -999.00,9,   -999.0,-999.0000, -999,9, 2010,   2.0130,  27.6826,   -999.0,9
       KS03-04,  137E,KS-0737,  1,      2,02-16014,9,20030504,0726,  3.8777, 136.6593, 4785,   2030.2,   2.1549,  34.6404,2,   -999.0,9,-999.0000,9,   -999.0,9,  -999.00,9,  -999.00,9,  -999.00,9,  -999.00,9,  -999.00,9, -999.000,9, -999.000,9,  -999.00,9,   -999.0,9,   -999.0,9,-999.0000,9,   -999.0,  9,  -999.00,9,   -999.0,  -999.00,9,  -999.00,9,  -999.00,9,  -999.00,9,   -999.0,-999.0000, -999,9, 2009,   2.0135,  27.6825,   -999.0,9
       KS03-04,  137E,KS-0737,  1,      1,02-16007,2,20030504,0725,  3.8777, 136.6593, 4785,   2030.1,   2.1553,  34.6404,2,   -999.0,9,  34.6392,2,   -999.0,9,  -999.00,9,  -999.00,9,  -999.00,9,  -999.00,9,  -999.00,9, -999.000,9, -999.000,9,  -999.00,9,   -999.0,9,   -999.0,9,-999.0000,9,   -999.0,  9,  -999.00,9,   -999.0,  -999.00,9,  -999.00,9,  -999.00,9,  -999.00,9,   -999.0,-999.0000, -999,9, 2009,   2.0139,  27.6825,   -999.0,9