BOTTLE,20130510GEMDJMAYT
EXPOCODE,SECT_ID,STNNBR,CASTNO,SAMPNO,BTLNBR,BTLNBR_FLAG_W,DATE,TIME,LATITUDE,LONGITUDE,DEPTH,CTDPRS,CTDTMP,CTDSAL,CTDSAL_FLAG_W,CTDOXY,CTDOXY_FLAG_W,SALNTY,SALNTY_FLAG_W,OXYGEN,OXYGEN_FLAG_W,SILCAT,SILCAT_FLAG_W,NITRAT,NITRAT_FLAG_W,NO2+NO3,NO2+NO3_FLAG_W,NITRIT,NITRIT_FLAG_W,PHSPHT,PHSPHT_FLAG_W,CFC-11,CFC-11_FLAG_W,CFC-12,CFC-12_FLAG_W,DELC13,DELC13_FLAG_W,TCARBN,TCARBN_FLAG_W,ALKALI,ALKALI_FLAG_W,PH,PH_FLAG_W,PH_TMP,PH_SCALE,PH_NBS,PH_NBS_FLAG_W,C13ERR,TOTALP,TOTALP_FLAG_W,AMMONI,AMMONI_FLAG_W,CHLORA,CHLORA_FLAG_W,PPHYTN,PPHYTN_FLAG_W,REVPRS,REVTMP,DEPTH_,DEPTH_FLAG,CTDDEP,THETA,SIGTHT,DOC,DOC_FLAG_W
,,,,,,,GMT,GMT,,,METER,DBAR,ITS-90,PSS-78,,UMOL/KG,,PSS-78,,UMOL/KG,,UMOL/KG,,UMOL/KG,,UMOL/KG,,UMOL/KG,,UMOL/KG,,PMOL/KG,,PMOL/KG,,/MILLE,,UMOL/KG,,UMOL/KG,,25_DEG_C,,DEG_C,,,,/MILLE,UMOL/KG,,UMOL/KG,,UG/L,,UG/L,,DBAR,ITS-90,METERS,,METERS,DEG_C,,UMOL/L,
       KS03-04,  137E,KS-0736,  1,     24,02-16030,2,20030503,0416,  3.0228, 136.9870, 4498,      4.2,  29.7611,  34.0826,2,   -999.0,9,  34.0976,4,    198.0,2,  -999.00,9,  -999.00,9,     0.00,2,     0.00,2,     0.04,2, -999.000,9, -999.000,9,  -999.00,9,   1897.1,3,   -999.0,9,-999.0000,9,   -999.0,  9,     8.25,2,   -999.0,  -999.00,9,  -999.00,9,     0.04,2,     0.03,2,   -999.0,-999.0000, -999,9,    4,  29.7601,  21.1201,   -999.0,9
       KS03-04,  137E,KS-0736,  1,     23,02-16029,2,20030503,0415,  3.0228, 136.9870, 4498,      9.3,  29.6079,  34.1029,2,   -999.0,9,-999.0000,9,    198.0,2,  -999.00,9,  -999.00,9,     0.00,2,     0.00,2,     0.04,2, -999.000,9, -999.000,9,  -999.00,9,   -999.0,9,   -999.0,9,-999.0000,9,   -999.0,  9,  -999.00,9,   -999.0,  -999.00,9,  -999.00,9,     0.06,2,     0.02,2,   -999.0,-999.0000, -999,9,    9,  29.6056,  21.1875,   -999.0,9
       KS03-04,  137E,KS-0736,  1,     22,02-16028,2,20030503,0414,  3.0228, 136.9870, 4498,     24.3,  29.5655,  34.2287,2,   -999.0,9,-999.0000,9,    199.0,2,  -999.00,9,  -999.00,9,     0.00,2,     0.00,2,     0.04,2, -999.000,9, -999.000,9,  -999.00,9,   -999.0,9,   -999.0,9,-999.0000,9,   -999.0,  9,  -999.00,9,   -999.0,  -999.00,9,  -999.00,9,     0.06,2,     0.03,2,   -999.0,-999.0000, -999,9,   24,  29.5595,  21.2974,   -999.0,9
       KS03-04,  137E,KS-0736,  1,     21,02-16027,2,20030503,0410,  3.0228, 136.9870, 4498,     49.0,  28.5979,  34.5341,2,   -999.0,9,-999.0000,9,    198.0,2,  -999.00,9,  -999.00,9,     0.00,2,     0.00,2,     0.10,2, -999.000,9, -999.000,9,  -999.00,9,   -999.0,9,   -999.0,9,-999.0000,9,   -999.0,  9,  -999.00,9,   -999.0,  -999.00,9,  -999.00,9,     0.15,2,     0.13,2,   -999.0,-999.0000, -999,9,   49,  28.5862,  21.8517,   -999.0,9
       KS03-04,  137E,KS-0736,  1,     20,02-16013,2,20030503,0409,  3.0228, 136.9870, 4498,     73.9,  27.2007,  34.7976,2,   -999.0,9,-999.0000,9,    171.0,2,  -999.00,9,  -999.00,9,     2.84,2,     0.51,2,     0.28,2, -999.000,9, -999.000,9,  -999.00,9,   -999.0,9,   -999.0,9,-999.0000,9,   -999.0,  9,  -999.00,9,   -999.0,  -999.00,9,  -999.00,9,     0.29,2,     0.57,2,   -999.0,-999.0000, -999,9,   74,  27.1837,  22.5066,   -999.0,9
       KS03-04,  137E,KS-0736,  1,     19,02-16025,2,20030503,0408,  3.0228, 136.9870, 4498,     99.0,  25.0907,  34.6884,2,   -999.0,9,  34.6979,4,    172.0,2,  -999.00,9,  -999.00,9,     3.62,2,     0.03,2,     0.30,2, -999.000,9, -999.000,9,  -999.00,9,   -999.0,9,   -999.0,9,-999.0000,9,   -999.0,  9,  -999.00,9,   -999.0,  -999.00,9,  -999.00,9,     0.09,2,     0.19,2,   -999.0,-999.0000, -999,9,   98,  25.0692,  23.0847,   -999.0,9
       KS03-04,  137E,KS-0736,  1,     18,02-16024,2,20030503,0407,  3.0228, 136.9870, 4498,    124.4,  24.2642,  34.9876,2,   -999.0,9,-999.0000,9,    143.0,2,  -999.00,9,  -999.00,9,     7.62,2,     0.02,2,     0.58,2, -999.000,9, -999.000,9,  -999.00,9,   -999.0,9,   -999.0,9,-999.0000,9,   -999.0,  9,  -999.00,9,   -999.0,  -999.00,9,  -999.00,9,     0.03,2,     0.08,2,   -999.0,-999.0000, -999,9,  124,  24.2378,  23.5613,   -999.0,9
       KS03-04,  137E,KS-0736,  1,     17,02-16023,2,20030503,0406,  3.0228, 136.9870, 4498,    149.9,  23.6477,  35.1253,2,   -999.0,9,-999.0000,9,    133.0,2,  -999.00,9,  -999.00,9,     9.08,2,     0.03,2,     0.66,2, -999.000,9, -999.000,9,  -999.00,9,   -999.0,9,   -999.0,9,-999.0000,9,   -999.0,  9,  -999.00,9,   -999.0,  -999.00,9,  -999.00,9,     0.03,2,     0.10,2,   -999.0,-999.0000, -999,9,  149,  23.6165,  23.8493,   -999.0,9
       KS03-04,  137E,KS-0736,  1,     16,02-16022,2,20030503,0404,  3.0228, 136.9870, 4498,    200.1,  17.1506,  34.8212,2,   -999.0,9,  34.8249,2,    154.0,2,  -999.00,9,  -999.00,9,    11.41,2,     0.01,2,     0.83,2, -999.000,9, -999.000,9,  -999.00,9,   -999.0,9,   -999.0,9,-999.0000,9,   -999.0,  9,  -999.00,9,   -999.0,  -999.00,9,  -999.00,9,     0.01,2,     0.03,2,   -999.0,-999.0000, -999,9,  199,  17.1174,  25.3490,   -999.0,9
       KS03-04,  137E,KS-0736,  1,     15,02-16021,2,20030503,0402,  3.0228, 136.9870, 4498,    250.6,  11.0936,  34.4564,2,   -999.0,9,-999.0000,9,    123.0,2,  -999.00,9,  -999.00,9,    23.19,2,     0.00,2,     1.65,2, -999.000,9, -999.000,9,  -999.00,9,   -999.0,9,   -999.0,9,-999.0000,9,   -999.0,  9,  -999.00,9,   -999.0,  -999.00,9,  -999.00,9,     0.00,2,     0.02,2,   -999.0,-999.0000, -999,9,  249,  11.0626,  26.3408,   -999.0,9
       KS03-04,  137E,KS-0736,  1,     14,02-16020,2,20030503,0401,  3.0228, 136.9870, 4498,    300.8,   9.9750,  34.6948,2,   -999.0,9,  34.6936,2,    118.0,2,  -999.00,9,  -999.00,9,    26.88,2,     0.00,2,     1.85,2, -999.000,9, -999.000,9,  -999.00,9,   -999.0,9,   -999.0,9,-999.0000,9,   -999.0,  9,  -999.00,9,   -999.0,  -999.00,9,  -999.00,9,     0.00,2,     0.02,2,   -999.0,-999.0000, -999,9,  299,   9.9401,  26.7238,   -999.0,9
       KS03-04,  137E,KS-0736,  1,     13,02-16019,2,20030503,0358,  3.0228, 136.9870, 4498,    401.0,   8.8958,  34.6191,2,   -999.0,9,  34.6179,2,    112.0,2,  -999.00,9,  -999.00,9,    29.31,2,     0.00,2,     2.02,2, -999.000,9, -999.000,9,  -999.00,9,   -999.0,9,   -999.0,9,-999.0000,9,   -999.0,  9,  -999.00,9,   -999.0,  -999.00,9,  -999.00,9,  -999.00,9,  -999.00,9,   -999.0,-999.0000, -999,9,  398,   8.8522,  26.8434,   -999.0,9
       KS03-04,  137E,KS-0736,  1,     12,02-16018,2,20030503,0355,  3.0228, 136.9870, 4498,    501.8,   7.9348,  34.5693,2,   -999.0,9,  34.5692,2,    108.0,2,  -999.00,9,  -999.00,9,    31.45,2,     0.00,2,     2.17,2, -999.000,9, -999.000,9,  -999.00,9,   -999.0,9,   -999.0,9,-999.0000,9,   -999.0,  9,  -999.00,9,   -999.0,  -999.00,9,  -999.00,9,  -999.00,9,  -999.00,9,   -999.0,-999.0000, -999,9,  498,   7.8836,  26.9529,   -999.0,9
       KS03-04,  137E,KS-0736,  1,     11,02-16017,2,20030503,0353,  3.0228, 136.9870, 4498,    602.3,   6.9728,  34.5499,2,   -999.0,9,  34.5492,2,    115.0,2,  -999.00,9,  -999.00,9,    33.01,2,     0.00,2,     2.27,2, -999.000,9, -999.000,9,  -999.00,9,   -999.0,9,   -999.0,9,-999.0000,9,   -999.0,  9,  -999.00,9,   -999.0,  -999.00,9,  -999.00,9,  -999.00,9,  -999.00,9,   -999.0,-999.0000, -999,9,  598,   6.9153,  27.0759,   -999.0,9
       KS03-04,  137E,KS-0736,  1,     10,02-16026,2,20030503,0350,  3.0228, 136.9870, 4498,    702.9,   6.2596,  34.5365,2,   -999.0,9,  34.5355,2,     87.0,2,  -999.00,9,  -999.00,9,    36.61,2,     0.00,2,     2.55,2, -999.000,9, -999.000,9,  -999.00,9,   -999.0,9,   -999.0,9,-999.0000,9,   -999.0,  9,  -999.00,9,   -999.0,  -999.00,9,  -999.00,9,  -999.00,9,  -999.00,9,   -999.0,-999.0000, -999,9,  698,   6.1958,  27.1613,   -999.0,9
       KS03-04,  137E,KS-0736,  1,      9,02-16012,2,20030503,0348,  3.0228, 136.9870, 4498,    803.9,   5.4872,  34.5372,2,   -999.0,9,  34.5370,2,     93.0,2,  -999.00,9,  -999.00,9,    37.38,2,     0.00,2,     2.62,2, -999.000,9, -999.000,9,  -999.00,9,   -999.0,9,   -999.0,9,-999.0000,9,   -999.0,  9,  -999.00,9,   -999.0,  -999.00,9,  -999.00,9,  -999.00,9,  -999.00,9,   -999.0,-999.0000, -999,9,  798,   5.4183,  27.2589,   -999.0,9
       KS03-04,  137E,KS-0736,  1,      8,02-16011,9,20030503,0345,  3.0228, 136.9870, 4498,    906.6,   4.9545,  34.5443,2,   -999.0,9,-999.0000,9,   -999.0,9,  -999.00,9,  -999.00,9,  -999.00,9,  -999.00,9,  -999.00,9, -999.000,9, -999.000,9,  -999.00,9,   -999.0,9,   -999.0,9,-999.0000,9,   -999.0,  9,  -999.00,9,   -999.0,  -999.00,9,  -999.00,9,  -999.00,9,  -999.00,9,   -999.0,-999.0000, -999,9,  900,   4.8798,  27.3278,   -999.0,9
       KS03-04,  137E,KS-0736,  1,      7,02-16016,2,20030503,0345,  3.0228, 136.9870, 4498,    905.1,   4.9818,  34.5432,2,   -999.0,9,  34.5435,2,    101.0,2,  -999.00,9,  -999.00,9,    37.18,2,     0.00,2,     2.61,2, -999.000,9, -999.000,9,  -999.00,9,   -999.0,9,   -999.0,9,-999.0000,9,   -999.0,  9,  -999.00,9,   -999.0,  -999.00,9,  -999.00,9,  -999.00,9,  -999.00,9,   -999.0,-999.0000, -999,9,  898,   4.9071,  27.3238,   -999.0,9
       KS03-04,  137E,KS-0736,  1,      6,02-16009,9,20030503,0342,  3.0228, 136.9870, 4498,   1008.1,   4.4918,  34.5554,2,   -999.0,9,-999.0000,9,   -999.0,9,  -999.00,9,  -999.00,9,  -999.00,9,  -999.00,9,  -999.00,9, -999.000,9, -999.000,9,  -999.00,9,   -999.0,9,   -999.0,9,-999.0000,9,   -999.0,  9,  -999.00,9,   -999.0,  -999.00,9,  -999.00,9,  -999.00,9,  -999.00,9,   -999.0,-999.0000, -999,9, 1000,   4.4116,  27.3888,   -999.0,9
       KS03-04,  137E,KS-0736,  1,      5,02-16008,2,20030503,0342,  3.0228, 136.9870, 4498,   1006.4,   4.4945,  34.5554,2,   -999.0,9,  34.5547,2,     95.0,2,  -999.00,9,  -999.00,9,    38.15,2,     0.00,2,     2.70,2, -999.000,9, -999.000,9,  -999.00,9,   -999.0,9,   -999.0,9,-999.0000,9,   -999.0,  9,  -999.00,9,   -999.0,  -999.00,9,  -999.00,9,  -999.00,9,  -999.00,9,   -999.0,-999.0000, -999,9,  998,   4.4144,  27.3885,   -999.0,9
       KS03-04,  137E,KS-0736,  1,      4,02-16010,2,20030503,0337,  3.0228, 136.9870, 4498,   1259.2,   3.4320,  34.5852,2,   -999.0,9,  34.5846,2,     97.0,2,  -999.00,9,  -999.00,9,    38.93,2,     0.00,2,     2.76,2, -999.000,9, -999.000,9,  -999.00,9,   -999.0,9,   -999.0,9,-999.0000,9,   -999.0,  9,  -999.00,9,   -999.0,  -999.00,9,  -999.00,9,  -999.00,9,  -999.00,9,   -999.0,-999.0000, -999,9, 1248,   3.3396,  27.5221,   -999.0,9
       KS03-04,  137E,KS-0736,  1,      3,02-16015,2,20030503,0332,  3.0228, 136.9870, 4498,   1511.5,   2.8736,  34.6069,2,   -999.0,9,  34.6062,2,    105.0,2,  -999.00,9,  -999.00,9,    38.83,2,     0.00,2,     2.72,2, -999.000,9, -999.000,9,  -999.00,9,   -999.0,9,   -999.0,9,-999.0000,9,   -999.0,  9,  -999.00,9,   -999.0,  -999.00,9,  -999.00,9,  -999.00,9,  -999.00,9,   -999.0,-999.0000, -999,9, 1498,   2.7662,  27.5924,   -999.0,9
       KS03-04,  137E,KS-0736,  1,      2,02-16014,3,20030503,0327,  3.0228, 136.9870, 4498,   1764.4,   2.4838,  34.6241,2,   -999.0,9,  34.6221,2,    111.0,2,  -999.00,9,  -999.00,9,    38.44,2,     0.00,2,     2.70,2, -999.000,9, -999.000,9,  -999.00,9,   -999.0,9,   -999.0,9,-999.0000,9,   -999.0,  9,  -999.00,9,   -999.0,  -999.00,9,  -999.00,9,  -999.00,9,  -999.00,9,   -999.0,-999.0000, -999,9, 1747,   2.3602,  27.6411,   -999.0,9
       KS03-04,  137E,KS-0736,  1,      1,02-16007,2,20030503,0322,  3.0228, 136.9870, 4498,   2018.3,   2.2062,  34.6379,2,   -999.0,9,  34.6366,2,    122.0,2,  -999.00,9,  -999.00,9,    38.34,2,     0.00,2,     2.68,2, -999.000,9, -999.000,9,  -999.00,9,   -999.0,9,   -999.0,9,-999.0000,9,   -999.0,  9,  -999.00,9,   -999.0,  -999.00,9,  -999.00,9,  -999.00,9,  -999.00,9,   -999.0,-999.0000, -999,9, 1998,   2.0650,  27.6764,   -999.0,9