BOTTLE,20130510GEMDJMAYT
EXPOCODE,SECT_ID,STNNBR,CASTNO,SAMPNO,BTLNBR,BTLNBR_FLAG_W,DATE,TIME,LATITUDE,LONGITUDE,DEPTH,CTDPRS,CTDTMP,CTDSAL,CTDSAL_FLAG_W,CTDOXY,CTDOXY_FLAG_W,SALNTY,SALNTY_FLAG_W,OXYGEN,OXYGEN_FLAG_W,SILCAT,SILCAT_FLAG_W,NITRAT,NITRAT_FLAG_W,NO2+NO3,NO2+NO3_FLAG_W,NITRIT,NITRIT_FLAG_W,PHSPHT,PHSPHT_FLAG_W,CFC-11,CFC-11_FLAG_W,CFC-12,CFC-12_FLAG_W,DELC13,DELC13_FLAG_W,TCARBN,TCARBN_FLAG_W,ALKALI,ALKALI_FLAG_W,PH,PH_FLAG_W,PH_TMP,PH_SCALE,PH_NBS,PH_NBS_FLAG_W,C13ERR,TOTALP,TOTALP_FLAG_W,AMMONI,AMMONI_FLAG_W,CHLORA,CHLORA_FLAG_W,PPHYTN,PPHYTN_FLAG_W,REVPRS,REVTMP,DEPTH_,DEPTH_FLAG,CTDDEP,THETA,SIGTHT,DOC,DOC_FLAG_W
,,,,,,,GMT,GMT,,,METER,DBAR,ITS-90,PSS-78,,UMOL/KG,,PSS-78,,UMOL/KG,,UMOL/KG,,UMOL/KG,,UMOL/KG,,UMOL/KG,,UMOL/KG,,PMOL/KG,,PMOL/KG,,/MILLE,,UMOL/KG,,UMOL/KG,,25_DEG_C,,DEG_C,,,,/MILLE,UMOL/KG,,UMOL/KG,,UG/L,,UG/L,,DBAR,ITS-90,METERS,,METERS,DEG_C,,UMOL/L,
       KS03-04,  137E,KS-0729,  1,     24,02-16030,2,20030430,1801, 10.0012, 137.0073, 4802,      5.7,  29.2432,  33.9977,2,   -999.0,9,  34.1617,4,    198.0,2,  -999.00,9,  -999.00,9,     0.00,2,     0.00,2,     0.03,2, -999.000,9, -999.000,9,  -999.00,9,   1906.7,2,   -999.0,9,   8.1261,2,     25.0, TS,  -999.00,9,   -999.0,  -999.00,9,  -999.00,9,     0.07,2,     0.04,2,   -999.0,-999.0000, -999,9,    6,  29.2418,  21.2310,   -999.0,9
       KS03-04,  137E,KS-0729,  1,     23,02-16029,2,20030430,1800, 10.0012, 137.0073, 4802,     10.7,  29.5645,  34.3210,2,   -999.0,9,-999.0000,9,    199.0,2,  -999.00,9,  -999.00,9,     0.00,2,     0.00,2,     0.03,2, -999.000,9, -999.000,9,  -999.00,9,   1913.8,3,   -999.0,9,   8.1221,2,     25.0, TS,  -999.00,9,   -999.0,  -999.00,9,  -999.00,9,     0.07,2,     0.04,2,   -999.0,-999.0000, -999,9,   11,  29.5619,  21.3658,   -999.0,9
       KS03-04,  137E,KS-0729,  1,     22,02-16028,2,20030430,1759, 10.0012, 137.0073, 4802,     25.0,  29.3850,  34.3423,2,   -999.0,9,-999.0000,9,    199.0,2,  -999.00,9,  -999.00,9,     0.00,2,     0.00,2,     0.03,2, -999.000,9, -999.000,9,  -999.00,9,   1916.2,3,   -999.0,9,   8.1208,2,     25.0, TS,  -999.00,9,   -999.0,  -999.00,9,  -999.00,9,     0.11,2,     0.07,2,   -999.0,-999.0000, -999,9,   25,  29.3789,  21.4434,   -999.0,9
       KS03-04,  137E,KS-0729,  1,     21,02-16027,2,20030430,1755, 10.0012, 137.0073, 4802,     49.2,  28.0647,  34.3637,2,   -999.0,9,-999.0000,9,    205.0,2,  -999.00,9,  -999.00,9,     0.00,2,     0.00,2,     0.04,2, -999.000,9, -999.000,9,  -999.00,9,   1928.7,2,   -999.0,9,   8.1070,2,     25.0, TS,  -999.00,9,   -999.0,  -999.00,9,  -999.00,9,     0.16,2,     0.10,2,   -999.0,-999.0000, -999,9,   49,  28.0531,  21.8989,   -999.0,9
       KS03-04,  137E,KS-0729,  1,     20,02-16013,2,20030430,1754, 10.0012, 137.0073, 4802,     74.2,  27.1734,  34.4828,2,   -999.0,9,-999.0000,9,    204.0,2,  -999.00,9,  -999.00,9,     0.00,2,     0.00,2,     0.06,2, -999.000,9, -999.000,9,  -999.00,9,   1945.3,2,   -999.0,9,   8.0921,2,     25.0, TS,  -999.00,9,   -999.0,  -999.00,9,  -999.00,9,     0.27,2,     0.33,2,   -999.0,-999.0000, -999,9,   74,  27.1563,  22.2783,   -999.0,9
       KS03-04,  137E,KS-0729,  1,     19,02-16025,9,20030430,1752, 10.0012, 137.0073, 4802,    100.8,  26.2869,  34.4824,2,   -999.0,9,-999.0000,9,   -999.0,9,  -999.00,9,  -999.00,9,  -999.00,9,  -999.00,9,  -999.00,9, -999.000,9, -999.000,9,  -999.00,9,   -999.0,9,   -999.0,9,-999.0000,9,   -999.0,  9,  -999.00,9,   -999.0,  -999.00,9,  -999.00,9,  -999.00,9,  -999.00,9,   -999.0,-999.0000, -999,9,  100,  26.2643,  22.5604,   -999.0,9
       KS03-04,  137E,KS-0729,  1,     18,02-16024,2,20030430,1752, 10.0012, 137.0073, 4802,    100.5,  26.3107,  34.4815,2,   -999.0,9,  34.4873,4,    196.0,2,  -999.00,9,  -999.00,9,     0.29,2,     0.12,2,     0.17,2, -999.000,9, -999.000,9,  -999.00,9,   1965.0,2,   -999.0,9,   8.0651,2,     25.0, TS,  -999.00,9,   -999.0,  -999.00,9,  -999.00,9,     0.16,2,     0.29,2,   -999.0,-999.0000, -999,9,  100,  26.2881,  22.5523,   -999.0,9
       KS03-04,  137E,KS-0729,  1,     17,02-16023,2,20030430,1751, 10.0012, 137.0073, 4802,    124.9,  25.7666,  34.5953,2,   -999.0,9,-999.0000,9,    179.0,3,  -999.00,9,  -999.00,9,     2.64,2,     0.23,2,     0.23,2, -999.000,9, -999.000,9,  -999.00,9,   1979.4,2,   -999.0,9,   8.0429,2,     25.0, TS,  -999.00,9,   -999.0,  -999.00,9,  -999.00,9,     0.07,2,     0.16,2,   -999.0,-999.0000, -999,9,  124,  25.7390,  22.8091,   -999.0,9
       KS03-04,  137E,KS-0729,  1,     16,02-16022,2,20030430,1749, 10.0012, 137.0073, 4802,    150.3,  22.5707,  34.8198,2,   -999.0,9,-999.0000,9,    177.0,2,  -999.00,9,  -999.00,9,     2.54,2,     0.51,2,     0.34,2, -999.000,9, -999.000,9,  -999.00,9,   2028.7,2,   -999.0,9,   7.9817,2,     25.0, TS,  -999.00,9,   -999.0,  -999.00,9,  -999.00,9,     0.05,2,     0.19,2,   -999.0,-999.0000, -999,9,  149,  22.5404,  23.9285,   -999.0,9
       KS03-04,  137E,KS-0729,  1,     15,02-16021,2,20030430,1748, 10.0012, 137.0073, 4802,    200.0,  17.1982,  34.7145,2,   -999.0,9,  34.7138,2,    138.0,2,  -999.00,9,  -999.00,9,    13.07,2,     0.03,2,     0.97,2, -999.000,9, -999.000,9,  -999.00,9,   2103.8,3,   -999.0,9,   7.8294,2,     25.0, TS,  -999.00,9,   -999.0,  -999.00,9,  -999.00,9,     0.04,2,     0.14,2,   -999.0,-999.0000, -999,9,  199,  17.1650,  25.2558,   -999.0,9
       KS03-04,  137E,KS-0729,  1,     14,02-16020,2,20030430,1746, 10.0012, 137.0073, 4802,    250.8,  12.0107,  34.4920,2,   -999.0,9,-999.0000,9,    111.0,2,  -999.00,9,  -999.00,9,    23.00,2,     0.00,2,     1.63,2, -999.000,9, -999.000,9,  -999.00,9,   2166.7,3,   -999.0,9,   7.6799,2,     25.0, TS,  -999.00,9,   -999.0,  -999.00,9,  -999.00,9,     0.01,2,     0.04,2,   -999.0,-999.0000, -999,9,  249,  11.9781,  26.1987,   -999.0,9
       KS03-04,  137E,KS-0729,  1,     13,02-16019,2,20030430,1744, 10.0012, 137.0073, 4802,    300.7,   9.8937,  34.4659,2,   -999.0,9,  34.4681,2,     88.0,2,  -999.00,9,  -999.00,9,    29.13,2,     0.00,2,     2.05,2, -999.000,9, -999.000,9,  -999.00,9,   2208.3,3,   -999.0,9,   7.5874,2,     25.0, TS,  -999.00,9,   -999.0,  -999.00,9,  -999.00,9,     0.00,2,     0.02,2,   -999.0,-999.0000, -999,9,  299,   9.8591,  26.5587,   -999.0,9
       KS03-04,  137E,KS-0729,  1,     12,02-16018,2,20030430,1741, 10.0012, 137.0073, 4802,    402.7,   8.4579,  34.5396,2,   -999.0,9,  34.5392,2,     79.0,2,  -999.00,9,  -999.00,9,    33.21,2,     0.00,2,     2.31,2, -999.000,9, -999.000,9,  -999.00,9,   2236.5,3,   -999.0,9,   7.5431,2,     25.0, TS,  -999.00,9,   -999.0,  -999.00,9,  -999.00,9,  -999.00,9,  -999.00,9,   -999.0,-999.0000, -999,9,  400,   8.4155,  26.8493,   -999.0,9
       KS03-04,  137E,KS-0729,  1,     11,02-16017,2,20030430,1739, 10.0012, 137.0073, 4802,    503.1,   7.8448,  34.5478,2,   -999.0,9,  34.5474,2,     94.0,2,  -999.00,9,  -999.00,9,    33.11,2,     0.00,2,     2.30,2, -999.000,9, -999.000,9,  -999.00,9,   2233.8,3,   -999.0,9,   7.5643,2,     25.0, TS,  -999.00,9,   -999.0,  -999.00,9,  -999.00,9,  -999.00,9,  -999.00,9,   -999.0,-999.0000, -999,9,  500,   7.7938,  26.9492,   -999.0,9
       KS03-04,  137E,KS-0729,  1,     10,02-16026,2,20030430,1736, 10.0012, 137.0073, 4802,    604.2,   7.0841,  34.5223,2,   -999.0,9,  34.5235,2,    101.0,3,  -999.00,9,  -999.00,9,    33.88,2,     0.00,2,     2.36,2, -999.000,9, -999.000,9,  -999.00,9,   2240.2,3,   -999.0,9,   7.5594,2,     25.0, TS,  -999.00,9,   -999.0,  -999.00,9,  -999.00,9,  -999.00,9,  -999.00,9,   -999.0,-999.0000, -999,9,  600,   7.0259,  27.0388,   -999.0,9
       KS03-04,  137E,KS-0729,  1,      9,02-16012,2,20030430,1734, 10.0012, 137.0073, 4802,    703.4,   6.5584,  34.5031,2,   -999.0,9,  34.5017,2,     98.0,3,  -999.00,9,  -999.00,9,    35.15,2,     0.00,2,     2.44,2, -999.000,9, -999.000,9,  -999.00,9,   2249.9,3,   -999.0,9,   7.5488,2,     25.0, TS,  -999.00,9,   -999.0,  -999.00,9,  -999.00,9,  -999.00,9,  -999.00,9,   -999.0,-999.0000, -999,9,  698,   6.4930,  27.0960,   -999.0,9
       KS03-04,  137E,KS-0729,  1,      8,02-16011,2,20030430,1731, 10.0012, 137.0073, 4802,    803.2,   6.0228,  34.5156,2,   -999.0,9,  34.5180,2,     88.0,2,  -999.00,9,  -999.00,9,    36.80,2,     0.00,2,     2.58,2, -999.000,9, -999.000,9,  -999.00,9,   2268.8,3,   -999.0,9,   7.5232,2,     25.0, TS,  -999.00,9,   -999.0,  -999.00,9,  -999.00,9,  -999.00,9,  -999.00,9,   -999.0,-999.0000, -999,9,  797,   5.9508,  27.1761,   -999.0,9
       KS03-04,  137E,KS-0729,  1,      7,02-16016,2,20030430,1729, 10.0012, 137.0073, 4802,    906.7,   5.4844,  34.5227,2,   -999.0,9,  34.5229,2,     91.0,2,  -999.00,9,  -999.00,9,    37.48,2,     0.00,2,     2.63,2, -999.000,9, -999.000,9,  -999.00,9,   2278.3,3,   -999.0,9,   7.5355,2,     25.0, TS,  -999.00,9,   -999.0,  -999.00,9,  -999.00,9,  -999.00,9,  -999.00,9,   -999.0,-999.0000, -999,9,  900,   5.4061,  27.2490,   -999.0,9
       KS03-04,  137E,KS-0729,  1,      6,02-16009,9,20030430,1726, 10.0012, 137.0073, 4802,   1006.8,   4.9466,  34.5404,2,   -999.0,9,-999.0000,9,   -999.0,9,  -999.00,9,  -999.00,9,  -999.00,9,  -999.00,9,  -999.00,9, -999.000,9, -999.000,9,  -999.00,9,   -999.0,9,   -999.0,9,-999.0000,9,   -999.0,  9,  -999.00,9,   -999.0,  -999.00,9,  -999.00,9,  -999.00,9,  -999.00,9,   -999.0,-999.0000, -999,9,  999,   4.8630,  27.3266,   -999.0,9
       KS03-04,  137E,KS-0729,  1,      5,02-16008,2,20030430,1726, 10.0012, 137.0073, 4802,   1006.8,   4.9450,  34.5403,2,   -999.0,9,  34.5408,2,     92.0,2,  -999.00,9,  -999.00,9,    38.06,2,     0.00,2,     2.69,2, -999.000,9, -999.000,9,  -999.00,9,   2289.5,3,   -999.0,9,   7.5244,2,     25.0, TS,  -999.00,9,   -999.0,  -999.00,9,  -999.00,9,  -999.00,9,  -999.00,9,   -999.0,-999.0000, -999,9,  999,   4.8614,  27.3267,   -999.0,9
       KS03-04,  137E,KS-0729,  1,      4,02-16010,2,20030430,1721, 10.0012, 137.0073, 4802,   1258.9,   3.8370,  34.5651,2,   -999.0,9,  34.5606,4,     90.0,2,  -999.00,9,  -999.00,9,    39.32,2,     0.00,2,     2.79,2, -999.000,9, -999.000,9,  -999.00,9,   -999.0,9,   -999.0,9,-999.0000,9,   -999.0,  9,  -999.00,9,   -999.0,  -999.00,9,  -999.00,9,  -999.00,9,  -999.00,9,   -999.0,-999.0000, -999,9, 1248,   3.7408,  27.4667,   -999.0,9
       KS03-04,  137E,KS-0729,  1,      3,02-16015,2,20030430,1716, 10.0012, 137.0073, 4802,   1511.7,   3.1582,  34.5895,2,   -999.0,9,  34.5881,2,     99.0,2,  -999.00,9,  -999.00,9,    39.32,2,     0.00,2,     2.76,2, -999.000,9, -999.000,9,  -999.00,9,   -999.0,9,   -999.0,9,-999.0000,9,   -999.0,  9,  -999.00,9,   -999.0,  -999.00,9,  -999.00,9,  -999.00,9,  -999.00,9,   -999.0,-999.0000, -999,9, 1498,   3.0475,  27.5530,   -999.0,9
       KS03-04,  137E,KS-0729,  1,      2,02-16014,2,20030430,1711, 10.0012, 137.0073, 4802,   1765.0,   2.5614,  34.6127,2,   -999.0,9,  34.6123,2,    108.0,2,  -999.00,9,  -999.00,9,    39.22,2,     0.00,2,     2.75,2, -999.000,9, -999.000,9,  -999.00,9,   -999.0,9,   -999.0,9,-999.0000,9,   -999.0,  9,  -999.00,9,   -999.0,  -999.00,9,  -999.00,9,  -999.00,9,  -999.00,9,   -999.0,-999.0000, -999,9, 1748,   2.4367,  27.6256,   -999.0,9
       KS03-04,  137E,KS-0729,  1,      1,02-16007,2,20030430,1706, 10.0012, 137.0073, 4802,   2018.7,   2.2556,  34.6299,2,   -999.0,9,  34.6299,2,    115.0,2,  -999.00,9,  -999.00,9,    38.83,2,     0.00,2,     2.72,2, -999.000,9, -999.000,9,  -999.00,9,   -999.0,9,   -999.0,9,-999.0000,9,   -999.0,  9,  -999.00,9,   -999.0,  -999.00,9,  -999.00,9,  -999.00,9,  -999.00,9,   -999.0,-999.0000, -999,9, 1998,   2.1137,  27.6661,   -999.0,9