BOTTLE,20130510GEMDJMAYT
EXPOCODE,SECT_ID,STNNBR,CASTNO,SAMPNO,BTLNBR,BTLNBR_FLAG_W,DATE,TIME,LATITUDE,LONGITUDE,DEPTH,CTDPRS,CTDTMP,CTDSAL,CTDSAL_FLAG_W,CTDOXY,CTDOXY_FLAG_W,SALNTY,SALNTY_FLAG_W,OXYGEN,OXYGEN_FLAG_W,SILCAT,SILCAT_FLAG_W,NITRAT,NITRAT_FLAG_W,NO2+NO3,NO2+NO3_FLAG_W,NITRIT,NITRIT_FLAG_W,PHSPHT,PHSPHT_FLAG_W,CFC-11,CFC-11_FLAG_W,CFC-12,CFC-12_FLAG_W,DELC13,DELC13_FLAG_W,TCARBN,TCARBN_FLAG_W,ALKALI,ALKALI_FLAG_W,PH,PH_FLAG_W,PH_TMP,PH_SCALE,PH_NBS,PH_NBS_FLAG_W,C13ERR,TOTALP,TOTALP_FLAG_W,AMMONI,AMMONI_FLAG_W,CHLORA,CHLORA_FLAG_W,PPHYTN,PPHYTN_FLAG_W,REVPRS,REVTMP,DEPTH_,DEPTH_FLAG,CTDDEP,THETA,SIGTHT,DOC,DOC_FLAG_W
,,,,,,,GMT,GMT,,,METER,DBAR,ITS-90,PSS-78,,UMOL/KG,,PSS-78,,UMOL/KG,,UMOL/KG,,UMOL/KG,,UMOL/KG,,UMOL/KG,,UMOL/KG,,PMOL/KG,,PMOL/KG,,/MILLE,,UMOL/KG,,UMOL/KG,,25_DEG_C,,DEG_C,,,,/MILLE,UMOL/KG,,UMOL/KG,,UG/L,,UG/L,,DBAR,ITS-90,METERS,,METERS,DEG_C,,UMOL/L,
       KS03-04,  137E,KS-0720,  1,     24,02-16030,2,20030428,0111, 19.0093, 136.9790, 4696,      5.8,  27.6601,  34.6983,2,   -999.0,9,  34.7007,2,    201.0,2,  -999.00,9,  -999.00,9,     0.00,2,     0.00,2,     0.01,2, -999.000,9, -999.000,9,  -999.00,9,   1937.8,3,   -999.0,9,-999.0000,9,   -999.0,  9,     8.23,2,   -999.0,  -999.00,9,  -999.00,9,  -999.00,9,  -999.00,9,   -999.0,-999.0000, -999,9,    6,  27.6587,  22.2788,   -999.0,9
       KS03-04,  137E,KS-0720,  1,     23,02-16029,2,20030428,0111, 19.0093, 136.9790, 4696,     11.1,  27.6463,  34.6977,2,   -999.0,9,-999.0000,9,    202.0,2,  -999.00,9,  -999.00,9,     0.00,2,     0.00,2,     0.03,2, -999.000,9, -999.000,9,  -999.00,9,   -999.0,9,   -999.0,9,-999.0000,9,   -999.0,  9,  -999.00,9,   -999.0,  -999.00,9,  -999.00,9,  -999.00,9,  -999.00,9,   -999.0,-999.0000, -999,9,   11,  27.6437,  22.2832,   -999.0,9
       KS03-04,  137E,KS-0720,  1,     22,02-16028,2,20030428,0110, 19.0093, 136.9790, 4696,     25.0,  27.5487,  34.7170,2,   -999.0,9,-999.0000,9,    202.0,2,  -999.00,9,  -999.00,9,     0.00,2,     0.00,2,     0.03,2, -999.000,9, -999.000,9,  -999.00,9,   -999.0,9,   -999.0,9,-999.0000,9,   -999.0,  9,  -999.00,9,   -999.0,  -999.00,9,  -999.00,9,  -999.00,9,  -999.00,9,   -999.0,-999.0000, -999,9,   25,  27.5429,  22.3303,   -999.0,9
       KS03-04,  137E,KS-0720,  1,     21,02-16027,2,20030428,0106, 19.0093, 136.9790, 4696,     48.1,  25.8913,  34.9431,2,   -999.0,9,-999.0000,9,    212.0,2,  -999.00,9,  -999.00,9,     0.00,2,     0.00,2,     0.03,2, -999.000,9, -999.000,9,  -999.00,9,   -999.0,9,   -999.0,9,-999.0000,9,   -999.0,  9,  -999.00,9,   -999.0,  -999.00,9,  -999.00,9,  -999.00,9,  -999.00,9,   -999.0,-999.0000, -999,9,   48,  25.8806,  23.0276,   -999.0,9
       KS03-04,  137E,KS-0720,  1,     20,02-16013,2,20030428,0105, 19.0093, 136.9790, 4696,     74.1,  25.2233,  35.0548,2,   -999.0,9,-999.0000,9,    211.0,2,  -999.00,9,  -999.00,9,     0.00,2,     0.00,2,     0.00,2, -999.000,9, -999.000,9,  -999.00,9,   -999.0,9,   -999.0,9,-999.0000,9,   -999.0,  9,  -999.00,9,   -999.0,  -999.00,9,  -999.00,9,  -999.00,9,  -999.00,9,   -999.0,-999.0000, -999,9,   74,  25.2071,  23.3195,   -999.0,9
       KS03-04,  137E,KS-0720,  1,     19,02-16025,2,20030428,0104, 19.0093, 136.9790, 4696,     99.4,  24.7767,  35.0302,2,   -999.0,9,-999.0000,9,    208.0,2,  -999.00,9,  -999.00,9,     0.00,2,     0.00,2,     0.00,2, -999.000,9, -999.000,9,  -999.00,9,   -999.0,9,   -999.0,9,-999.0000,9,   -999.0,  9,  -999.00,9,   -999.0,  -999.00,9,  -999.00,9,  -999.00,9,  -999.00,9,   -999.0,-999.0000, -999,9,   99,  24.7553,  23.4382,   -999.0,9
       KS03-04,  137E,KS-0720,  1,     18,02-16024,2,20030428,0103, 19.0093, 136.9790, 4696,    122.7,  23.6849,  35.0334,2,   -999.0,9,-999.0000,9,    196.0,2,  -999.00,9,  -999.00,9,     0.29,2,     0.06,2,     0.06,2, -999.000,9, -999.000,9,  -999.00,9,   -999.0,9,   -999.0,9,-999.0000,9,   -999.0,  9,  -999.00,9,   -999.0,  -999.00,9,  -999.00,9,  -999.00,9,  -999.00,9,   -999.0,-999.0000, -999,9,  122,  23.6593,  23.7671,   -999.0,9
       KS03-04,  137E,KS-0720,  1,     17,02-16023,2,20030428,0102, 19.0093, 136.9790, 4696,    151.0,  22.6908,  34.9964,2,   -999.0,9,-999.0000,9,    200.0,2,  -999.00,9,  -999.00,9,     0.68,2,     0.07,2,     0.06,2, -999.000,9, -999.000,9,  -999.00,9,   -999.0,9,   -999.0,9,-999.0000,9,   -999.0,  9,  -999.00,9,   -999.0,  -999.00,9,  -999.00,9,  -999.00,9,  -999.00,9,   -999.0,-999.0000, -999,9,  150,  22.6603,  24.0283,   -999.0,9
       KS03-04,  137E,KS-0720,  1,     16,02-16022,2,20030428,0101, 19.0093, 136.9790, 4696,    200.2,  20.4368,  34.9149,2,   -999.0,9,-999.0000,9,    195.0,2,  -999.00,9,  -999.00,9,     2.15,2,     0.01,2,     0.17,2, -999.000,9, -999.000,9,  -999.00,9,   -999.0,9,   -999.0,9,-999.0000,9,   -999.0,  9,  -999.00,9,   -999.0,  -999.00,9,  -999.00,9,  -999.00,9,  -999.00,9,   -999.0,-999.0000, -999,9,  199,  20.3992,  24.5910,   -999.0,9
       KS03-04,  137E,KS-0720,  1,     15,02-16021,2,20030428,0059, 19.0093, 136.9790, 4696,    249.7,  18.0462,  34.7641,2,   -999.0,9,-999.0000,9,    204.0,2,  -999.00,9,  -999.00,9,     3.90,2,     0.00,2,     0.26,2, -999.000,9, -999.000,9,  -999.00,9,   -999.0,9,   -999.0,9,-999.0000,9,   -999.0,  9,  -999.00,9,   -999.0,  -999.00,9,  -999.00,9,  -999.00,9,  -999.00,9,   -999.0,-999.0000, -999,9,  248,  18.0032,  25.0906,   -999.0,9
       KS03-04,  137E,KS-0720,  1,     14,02-16020,2,20030428,0058, 19.0093, 136.9790, 4696,    301.2,  16.6145,  34.6921,2,   -999.0,9,-999.0000,9,    201.0,2,  -999.00,9,  -999.00,9,     6.14,2,     0.00,2,     0.42,2, -999.000,9, -999.000,9,  -999.00,9,   -999.0,9,   -999.0,9,-999.0000,9,   -999.0,  9,  -999.00,9,   -999.0,  -999.00,9,  -999.00,9,  -999.00,9,  -999.00,9,   -999.0,-999.0000, -999,9,  299,  16.5655,  25.3802,   -999.0,9
       KS03-04,  137E,KS-0720,  1,     13,02-16019,2,20030428,0056, 19.0093, 136.9790, 4696,    401.5,  12.2578,  34.3705,2,   -999.0,9,-999.0000,9,    170.0,2,  -999.00,9,  -999.00,9,    15.69,2,     0.00,2,     1.12,2, -999.000,9, -999.000,9,  -999.00,9,   -999.0,9,   -999.0,9,-999.0000,9,   -999.0,  9,  -999.00,9,   -999.0,  -999.00,9,  -999.00,9,  -999.00,9,  -999.00,9,   -999.0,-999.0000, -999,9,  399,  12.2046,  26.0610,   -999.0,9
       KS03-04,  137E,KS-0720,  1,     12,02-16018,2,20030428,0053, 19.0093, 136.9790, 4696,    500.9,   9.3375,  34.2014,2,   -999.0,9,-999.0000,9,    157.0,2,  -999.00,9,  -999.00,9,    22.21,2,     0.00,2,     1.57,2, -999.000,9, -999.000,9,  -999.00,9,   -999.0,9,   -999.0,9,-999.0000,9,   -999.0,  9,  -999.00,9,   -999.0,  -999.00,9,  -999.00,9,  -999.00,9,  -999.00,9,   -999.0,-999.0000, -999,9,  497,   9.2815,  26.4476,   -999.0,9
       KS03-04,  137E,KS-0720,  1,     11,02-16017,2,20030428,0050, 19.0093, 136.9790, 4696,    604.0,   6.9397,  34.1511,2,   -999.0,9,-999.0000,9,    109.0,2,  -999.00,9,  -999.00,9,    31.07,2,     0.00,2,     2.22,2, -999.000,9, -999.000,9,  -999.00,9,   -999.0,9,   -999.0,9,-999.0000,9,   -999.0,  9,  -999.00,9,   -999.0,  -999.00,9,  -999.00,9,  -999.00,9,  -999.00,9,   -999.0,-999.0000, -999,9,  599,   6.8825,  26.7661,   -999.0,9
       KS03-04,  137E,KS-0720,  1,     10,02-16026,2,20030428,0047, 19.0093, 136.9790, 4696,    705.5,   5.6296,  34.2269,2,   -999.0,9,-999.0000,9,     73.0,2,  -999.00,9,  -999.00,9,    36.42,2,     0.00,2,     2.62,2, -999.000,9, -999.000,9,  -999.00,9,   -999.0,9,   -999.0,9,-999.0000,9,   -999.0,  9,  -999.00,9,   -999.0,  -999.00,9,  -999.00,9,  -999.00,9,  -999.00,9,   -999.0,-999.0000, -999,9,  700,   5.5692,  26.9951,   -999.0,9
       KS03-04,  137E,KS-0720,  1,      9,02-16012,2,20030428,0045, 19.0093, 136.9790, 4696,    805.7,   4.9065,  34.3532,2,   -999.0,9,-999.0000,9,     61.0,2,  -999.00,9,  -999.00,9,    38.84,2,     0.00,2,     2.80,2, -999.000,9, -999.000,9,  -999.00,9,   -999.0,9,   -999.0,9,-999.0000,9,   -999.0,  9,  -999.00,9,   -999.0,  -999.00,9,  -999.00,9,  -999.00,9,  -999.00,9,   -999.0,-999.0000, -999,9,  799,   4.8413,  27.1806,   -999.0,9
       KS03-04,  137E,KS-0720,  1,      8,02-16011,2,20030428,0043, 19.0093, 136.9790, 4696,    906.5,   4.4146,  34.4196,2,   -999.0,9,-999.0000,9,     64.0,2,  -999.00,9,  -999.00,9,    39.42,2,     0.00,2,     2.84,2, -999.000,9, -999.000,9,  -999.00,9,   -999.0,9,   -999.0,9,-999.0000,9,   -999.0,  9,  -999.00,9,   -999.0,  -999.00,9,  -999.00,9,  -999.00,9,  -999.00,9,   -999.0,-999.0000, -999,9,  899,   4.3439,  27.2882,   -999.0,9
       KS03-04,  137E,KS-0720,  1,      7,02-16016,2,20030428,0040, 19.0093, 136.9790, 4696,   1008.4,   3.9128,  34.4863,2,   -999.0,9,-999.0000,9,     76.0,2,  -999.00,9,  -999.00,9,    39.13,2,     0.00,2,     2.80,2, -999.000,9, -999.000,9,  -999.00,9,   -999.0,9,   -999.0,9,-999.0000,9,   -999.0,  9,  -999.00,9,   -999.0,  -999.00,9,  -999.00,9,  -999.00,9,  -999.00,9,   -999.0,-999.0000, -999,9, 1000,   3.8372,  27.3943,   -999.0,9
       KS03-04,  137E,KS-0720,  1,      6,02-16009,2,20030428,0034, 19.0093, 136.9790, 4696,   1260.4,   3.1079,  34.5398,2,   -999.0,9,-999.0000,9,     86.0,2,  -999.00,9,  -999.00,9,    39.22,2,     0.00,2,     2.80,2, -999.000,9, -999.000,9,  -999.00,9,   -999.0,9,   -999.0,9,-999.0000,9,   -999.0,  9,  -999.00,9,   -999.0,  -999.00,9,  -999.00,9,  -999.00,9,  -999.00,9,   -999.0,-999.0000, -999,9, 1249,   3.0186,  27.5160,   -999.0,9
       KS03-04,  137E,KS-0720,  1,      5,02-16008,2,20030428,0029, 19.0093, 136.9790, 4696,   1513.1,   2.6182,  34.5771,2,   -999.0,9,-999.0000,9,     97.0,2,  -999.00,9,  -999.00,9,    38.73,2,     0.00,2,     2.77,2, -999.000,9, -999.000,9,  -999.00,9,   -999.0,9,   -999.0,9,-999.0000,9,   -999.0,  9,  -999.00,9,   -999.0,  -999.00,9,  -999.00,9,  -999.00,9,  -999.00,9,   -999.0,-999.0000, -999,9, 1499,   2.5137,  27.5906,   -999.0,9
       KS03-04,  137E,KS-0720,  1,      4,02-16010,2,20030428,0020, 19.0093, 136.9790, 4696,   1766.8,   2.3028,  34.6033,2,   -999.0,9,-999.0000,9,    106.0,2,  -999.00,9,  -999.00,9,    38.53,2,     0.00,2,     2.74,2, -999.000,9, -999.000,9,  -999.00,9,   -999.0,9,   -999.0,9,-999.0000,9,   -999.0,  9,  -999.00,9,   -999.0,  -999.00,9,  -999.00,9,  -999.00,9,  -999.00,9,   -999.0,-999.0000, -999,9, 1749,   2.1815,  27.6393,   -999.0,9
       KS03-04,  137E,KS-0720,  1,      3,02-16015,2,20030428,0015, 19.0093, 136.9790, 4696,   2019.9,   2.0578,  34.6238,2,   -999.0,9,-999.0000,9,    115.0,2,  -999.00,9,  -999.00,9,    38.14,2,     0.00,2,     2.72,2, -999.000,9, -999.000,9,  -999.00,9,   -999.0,9,   -999.0,9,-999.0000,9,   -999.0,  9,  -999.00,9,   -999.0,  -999.00,9,  -999.00,9,  -999.00,9,  -999.00,9,   -999.0,-999.0000, -999,9, 1998,   1.9188,  27.6767,   -999.0,9
       KS03-04,  137E,KS-0720,  1,      2,02-16014,2,20030427,2338, 19.0093, 136.9790, 4696,   3034.4,   1.6193,  34.6681,2,   -999.0,9,  34.6659,2,    142.0,2,  -999.00,9,  -999.00,9,    36.58,2,     0.00,2,     2.58,2, -999.000,9, -999.000,9,  -999.00,9,   -999.0,9,   -999.0,9,-999.0000,9,   -999.0,  9,  -999.00,9,   -999.0,  -999.00,9,  -999.00,9,  -999.00,9,  -999.00,9,   -999.0,-999.0000, -999,9, 2995,   1.3966,  27.7513,   -999.0,9
       KS03-04,  137E,KS-0720,  1,      1,02-16007,2,20030427,2312, 19.0093, 136.9790, 4696,   4061.4,   1.4992,  34.6869,2,   -999.0,9,  34.6848,2,    160.0,2,  -999.00,9,  -999.00,9,    35.42,2,     0.00,2,     2.51,2, -999.000,9, -999.000,9,  -999.00,9,   -999.0,9,   -999.0,9,-999.0000,9,   -999.0,  9,  -999.00,9,   -999.0,  -999.00,9,  -999.00,9,  -999.00,9,  -999.00,9,   -999.0,-999.0000, -999,9, 3999,   1.1736,  27.7821,   -999.0,9