BOTTLE,20130510GEMDJMAYT
EXPOCODE,SECT_ID,STNNBR,CASTNO,SAMPNO,BTLNBR,BTLNBR_FLAG_W,DATE,TIME,LATITUDE,LONGITUDE,DEPTH,CTDPRS,CTDTMP,CTDSAL,CTDSAL_FLAG_W,CTDOXY,CTDOXY_FLAG_W,SALNTY,SALNTY_FLAG_W,OXYGEN,OXYGEN_FLAG_W,SILCAT,SILCAT_FLAG_W,NITRAT,NITRAT_FLAG_W,NO2+NO3,NO2+NO3_FLAG_W,NITRIT,NITRIT_FLAG_W,PHSPHT,PHSPHT_FLAG_W,CFC-11,CFC-11_FLAG_W,CFC-12,CFC-12_FLAG_W,DELC13,DELC13_FLAG_W,TCARBN,TCARBN_FLAG_W,ALKALI,ALKALI_FLAG_W,PH,PH_FLAG_W,PH_TMP,PH_SCALE,PH_NBS,PH_NBS_FLAG_W,C13ERR,TOTALP,TOTALP_FLAG_W,AMMONI,AMMONI_FLAG_W,CHLORA,CHLORA_FLAG_W,PPHYTN,PPHYTN_FLAG_W,REVPRS,REVTMP,DEPTH_,DEPTH_FLAG,CTDDEP,THETA,SIGTHT,DOC,DOC_FLAG_W
,,,,,,,GMT,GMT,,,METER,DBAR,ITS-90,PSS-78,,UMOL/KG,,PSS-78,,UMOL/KG,,UMOL/KG,,UMOL/KG,,UMOL/KG,,UMOL/KG,,UMOL/KG,,PMOL/KG,,PMOL/KG,,/MILLE,,UMOL/KG,,UMOL/KG,,25_DEG_C,,DEG_C,,,,/MILLE,UMOL/KG,,UMOL/KG,,UG/L,,UG/L,,DBAR,ITS-90,METERS,,METERS,DEG_C,,UMOL/L,
       KS03-04,  137E,KS-0719,  1,     24,02-16030,2,20030427,1652, 19.9860, 136.9782, 4737,      3.3,  26.7607,  35.0068,2,   -999.0,9,  35.0081,2,    205.0,2,  -999.00,9,  -999.00,9,     0.00,2,     0.00,2,     0.01,2, -999.000,9, -999.000,9,  -999.00,9,   1955.8,2,   -999.0,9,   8.1117,2,     25.0, TS,  -999.00,9,   -999.0,  -999.00,9,  -999.00,9,     0.03,2,     0.02,2,   -999.0,-999.0000, -999,9,    3,  26.7599,  22.7994,   -999.0,9
       KS03-04,  137E,KS-0719,  1,     23,02-16029,2,20030427,1651, 19.9860, 136.9782, 4737,      9.0,  26.7631,  35.0063,2,   -999.0,9,-999.0000,9,    206.0,2,  -999.00,9,  -999.00,9,     0.00,2,     0.00,2,     0.01,2, -999.000,9, -999.000,9,  -999.00,9,   1953.3,2,   -999.0,9,   8.1125,2,     25.0, TS,  -999.00,9,   -999.0,  -999.00,9,  -999.00,9,     0.03,2,     0.01,2,   -999.0,-999.0000, -999,9,    9,  26.7610,  22.7986,   -999.0,9
       KS03-04,  137E,KS-0719,  1,     22,02-16028,2,20030427,1649, 19.9860, 136.9782, 4737,     24.2,  26.7633,  35.0060,2,   -999.0,9,-999.0000,9,    205.0,2,  -999.00,9,  -999.00,9,     0.00,2,     0.00,2,     0.01,2, -999.000,9, -999.000,9,  -999.00,9,   1956.6,2,   -999.0,9,   8.1146,2,     25.0, TS,  -999.00,9,   -999.0,  -999.00,9,  -999.00,9,     0.03,2,     0.02,2,   -999.0,-999.0000, -999,9,   24,  26.7578,  22.7994,   -999.0,9
       KS03-04,  137E,KS-0719,  1,     21,02-16027,2,20030427,1645, 19.9860, 136.9782, 4737,     48.6,  25.2710,  35.0532,2,   -999.0,9,-999.0000,9,    212.0,2,  -999.00,9,  -999.00,9,     0.00,2,     0.00,2,     0.00,2, -999.000,9, -999.000,9,  -999.00,9,   1961.6,2,   -999.0,9,   8.1090,2,     25.0, TS,  -999.00,9,   -999.0,  -999.00,9,  -999.00,9,     0.04,2,     0.02,2,   -999.0,-999.0000, -999,9,   48,  25.2604,  23.3020,   -999.0,9
       KS03-04,  137E,KS-0719,  1,     20,02-16013,2,20030427,1644, 19.9860, 136.9782, 4737,     73.0,  24.1587,  35.0558,2,   -999.0,9,-999.0000,9,    206.0,2,  -999.00,9,  -999.00,9,     0.00,2,     0.00,2,     0.01,2, -999.000,9, -999.000,9,  -999.00,9,   1974.3,2,   -999.0,9,   8.0893,2,     25.0, TS,  -999.00,9,   -999.0,  -999.00,9,  -999.00,9,     0.05,2,     0.04,2,   -999.0,-999.0000, -999,9,   73,  24.1433,  23.6411,   -999.0,9
       KS03-04,  137E,KS-0719,  1,     19,02-16025,9,20030427,1643, 19.9860, 136.9782, 4737,     73.4,  24.1700,  35.0557,2,   -999.0,9,-999.0000,9,   -999.0,9,  -999.00,9,  -999.00,9,  -999.00,9,  -999.00,9,  -999.00,9, -999.000,9, -999.000,9,  -999.00,9,   -999.0,9,   -999.0,9,-999.0000,9,   -999.0,  9,  -999.00,9,   -999.0,  -999.00,9,  -999.00,9,  -999.00,9,  -999.00,9,   -999.0,-999.0000, -999,9,   73,  24.1545,  23.6376,   -999.0,9
       KS03-04,  137E,KS-0719,  1,     18,02-16024,2,20030427,1642, 19.9860, 136.9782, 4737,     99.9,  23.2643,  35.0276,2,   -999.0,9,  35.0293,2,    209.0,2,  -999.00,9,  -999.00,9,     0.00,2,     0.00,2,     0.02,2, -999.000,9, -999.000,9,  -999.00,9,   1977.2,2,   -999.0,9,   8.0853,2,     25.0, TS,  -999.00,9,   -999.0,  -999.00,9,  -999.00,9,     0.06,2,     0.09,2,   -999.0,-999.0000, -999,9,   99,  23.2437,  23.8841,   -999.0,9
       KS03-04,  137E,KS-0719,  1,     17,02-16023,2,20030427,1641, 19.9860, 136.9782, 4737,    125.1,  22.2080,  34.9909,2,   -999.0,9,-999.0000,9,    207.0,2,  -999.00,9,  -999.00,9,     0.20,2,     0.05,2,     0.03,2, -999.000,9, -999.000,9,  -999.00,9,   1988.2,2,   -999.0,9,   8.0622,2,     25.0, TS,  -999.00,9,   -999.0,  -999.00,9,  -999.00,9,     0.18,2,     0.39,2,   -999.0,-999.0000, -999,9,  124,  22.1831,  24.1595,   -999.0,9
       KS03-04,  137E,KS-0719,  1,     16,02-16022,2,20030427,1640, 19.9860, 136.9782, 4737,    151.6,  21.0533,  34.9373,2,   -999.0,9,-999.0000,9,    205.0,2,  -999.00,9,  -999.00,9,     0.98,2,     0.04,2,     0.08,2, -999.000,9, -999.000,9,  -999.00,9,   2000.2,3,   -999.0,9,   8.0370,2,     25.0, TS,  -999.00,9,   -999.0,  -999.00,9,  -999.00,9,     0.09,2,     0.26,2,   -999.0,-999.0000, -999,9,  151,  21.0243,  24.4396,   -999.0,9
       KS03-04,  137E,KS-0719,  1,     15,02-16021,2,20030427,1638, 19.9860, 136.9782, 4737,    201.4,  18.7066,  34.8022,2,   -999.0,9,  34.8027,2,    199.0,2,  -999.00,9,  -999.00,9,     3.51,2,     0.01,2,     0.24,2, -999.000,9, -999.000,9,  -999.00,9,   2017.5,3,   -999.0,9,   7.9943,2,     25.0, TS,  -999.00,9,   -999.0,  -999.00,9,  -999.00,9,     0.00,2,     0.02,2,   -999.0,-999.0000, -999,9,  200,  18.6711,  24.9533,   -999.0,9
       KS03-04,  137E,KS-0719,  1,     14,02-16020,2,20030427,1637, 19.9860, 136.9782, 4737,    250.8,  17.4262,  34.7321,2,   -999.0,9,-999.0000,9,    205.0,2,  -999.00,9,  -999.00,9,     4.68,2,     0.00,2,     0.31,2, -999.000,9, -999.000,9,  -999.00,9,   2025.7,3,   -999.0,9,   7.9743,2,     25.0, TS,  -999.00,9,   -999.0,  -999.00,9,  -999.00,9,     0.00,2,     0.00,2,   -999.0,-999.0000, -999,9,  249,  17.3841,  25.2168,   -999.0,9
       KS03-04,  137E,KS-0719,  1,     13,02-16019,2,20030427,1635, 19.9860, 136.9782, 4737,    300.2,  16.4898,  34.6862,2,   -999.0,9,  34.6873,2,    206.0,2,  -999.00,9,  -999.00,9,     6.14,2,     0.00,2,     0.41,2, -999.000,9, -999.000,9,  -999.00,9,   2033.6,3,   -999.0,9,   7.9550,2,     25.0, TS,  -999.00,9,   -999.0,  -999.00,9,  -999.00,9,     0.00,2,     0.00,2,   -999.0,-999.0000, -999,9,  298,  16.4413,  25.4046,   -999.0,9
       KS03-04,  137E,KS-0719,  1,     12,02-16018,2,20030427,1632, 19.9860, 136.9782, 4737,    401.5,  13.8498,  34.5003,2,   -999.0,9,  34.5023,2,    195.0,2,  -999.00,9,  -999.00,9,    11.02,2,     0.00,2,     0.75,2, -999.000,9, -999.000,9,  -999.00,9,   2075.6,3,   -999.0,9,   7.8674,2,     25.0, TS,  -999.00,9,   -999.0,  -999.00,9,  -999.00,9,  -999.00,9,  -999.00,9,   -999.0,-999.0000, -999,9,  399,  13.7920,  25.8443,   -999.0,9
       KS03-04,  137E,KS-0719,  1,     11,02-16017,2,20030427,1628, 19.9860, 136.9782, 4737,    505.4,   9.7200,  34.2188,2,   -999.0,9,  34.2215,2,    160.0,2,  -999.00,9,  -999.00,9,    21.43,2,     0.00,2,     1.50,2, -999.000,9, -999.000,9,  -999.00,9,   2148.3,3,   -999.0,9,   7.7020,2,     25.0, TS,  -999.00,9,   -999.0,  -999.00,9,  -999.00,9,  -999.00,9,  -999.00,9,   -999.0,-999.0000, -999,9,  502,   9.6620,  26.3987,   -999.0,9
       KS03-04,  137E,KS-0719,  1,     10,02-16026,9,20030427,1628, 19.9860, 136.9782, 4737,    502.7,   9.8464,  34.2254,2,   -999.0,9,-999.0000,9,   -999.0,9,  -999.00,9,  -999.00,9,  -999.00,9,  -999.00,9,  -999.00,9, -999.000,9, -999.000,9,  -999.00,9,   -999.0,9,   -999.0,9,-999.0000,9,   -999.0,  9,  -999.00,9,   -999.0,  -999.00,9,  -999.00,9,  -999.00,9,  -999.00,9,   -999.0,-999.0000, -999,9,  499,   9.7883,  26.3828,   -999.0,9
       KS03-04,  137E,KS-0719,  1,      9,02-16012,2,20030427,1625, 19.9860, 136.9782, 4737,    602.9,   7.8295,  34.1482,2,   -999.0,9,  34.1495,2,    129.0,2,  -999.00,9,  -999.00,9,    27.86,2,     0.00,2,     1.97,2, -999.000,9, -999.000,9,  -999.00,9,   2198.6,3,   -999.0,9,   7.6051,2,     25.0, TS,  -999.00,9,   -999.0,  -999.00,9,  -999.00,9,  -999.00,9,  -999.00,9,   -999.0,-999.0000, -999,9,  598,   7.7684,  26.6389,   -999.0,9
       KS03-04,  137E,KS-0719,  1,      8,02-16011,2,20030427,1622, 19.9860, 136.9782, 4737,    705.4,   5.9918,  34.2026,2,   -999.0,9,  34.2052,2,     79.0,2,  -999.00,9,  -999.00,9,    35.83,2,     0.00,2,     2.55,2, -999.000,9, -999.000,9,  -999.00,9,   2266.3,3,   -999.0,9,   7.4756,2,     25.0, TS,  -999.00,9,   -999.0,  -999.00,9,  -999.00,9,  -999.00,9,  -999.00,9,   -999.0,-999.0000, -999,9,  700,   5.9295,  26.9314,   -999.0,9
       KS03-04,  137E,KS-0719,  1,      7,02-16016,2,20030427,1620, 19.9860, 136.9782, 4737,    806.5,   5.0181,  34.2943,2,   -999.0,9,  34.2938,2,     63.0,2,  -999.00,9,  -999.00,9,    38.94,2,     0.00,2,     2.77,2, -999.000,9, -999.000,9,  -999.00,9,   2299.8,3,   -999.0,9,   7.4528,2,     25.0, TS,  -999.00,9,   -999.0,  -999.00,9,  -999.00,9,  -999.00,9,  -999.00,9,   -999.0,-999.0000, -999,9,  800,   4.9522,  27.1212,   -999.0,9
       KS03-04,  137E,KS-0719,  1,      6,02-16009,3,20030427,1617, 19.9860, 136.9782, 4737,    905.8,   4.3972,  34.4021,2,   -999.0,9,  34.2252,4,     63.0,2,  -999.00,9,  -999.00,9,    40.01,2,     0.00,2,     2.86,2, -999.000,9, -999.000,9,  -999.00,9,   2319.1,3,   -999.0,9,   7.4566,2,     25.0, TS,  -999.00,9,   -999.0,  -999.00,9,  -999.00,9,  -999.00,9,  -999.00,9,   -999.0,-999.0000, -999,9,  898,   4.3267,  27.2761,   -999.0,9
       KS03-04,  137E,KS-0719,  1,      5,02-16008,2,20030427,1613, 19.9860, 136.9782, 4737,   1007.9,   3.8506,  34.4352,2,   -999.0,9,  34.4337,2,     67.0,2,  -999.00,9,  -999.00,9,    40.30,2,     0.00,2,     2.88,2, -999.000,9, -999.000,9,  -999.00,9,   2331.5,3,   -999.0,9,   7.4573,2,     25.0, TS,  -999.00,9,   -999.0,  -999.00,9,  -999.00,9,  -999.00,9,  -999.00,9,   -999.0,-999.0000, -999,9,  999,   3.7756,  27.3597,   -999.0,9
       KS03-04,  137E,KS-0719,  1,      4,02-16010,2,20030427,1608, 19.9860, 136.9782, 4737,   1260.4,   3.0175,  34.5265,2,   -999.0,9,  34.5260,2,     83.0,2,  -999.00,9,  -999.00,9,    39.90,2,     0.00,2,     2.83,2, -999.000,9, -999.000,9,  -999.00,9,   -999.0,9,   -999.0,9,-999.0000,9,   -999.0,  9,  -999.00,9,   -999.0,  -999.00,9,  -999.00,9,  -999.00,9,  -999.00,9,   -999.0,-999.0000, -999,9, 1249,   2.9291,  27.5135,   -999.0,9
       KS03-04,  137E,KS-0719,  1,      3,02-16015,2,20030427,1602, 19.9860, 136.9782, 4737,   1512.2,   2.5807,  34.5762,2,   -999.0,9,  34.5749,2,    100.0,2,  -999.00,9,  -999.00,9,    39.22,2,     0.00,2,     2.78,2, -999.000,9, -999.000,9,  -999.00,9,   -999.0,9,   -999.0,9,-999.0000,9,   -999.0,  9,  -999.00,9,   -999.0,  -999.00,9,  -999.00,9,  -999.00,9,  -999.00,9,   -999.0,-999.0000, -999,9, 1498,   2.4767,  27.5930,   -999.0,9
       KS03-04,  137E,KS-0719,  1,      2,02-16014,2,20030427,1557, 19.9860, 136.9782, 4737,   1766.2,   2.2707,  34.6061,2,   -999.0,9,  34.6060,2,    109.0,2,  -999.00,9,  -999.00,9,    38.83,2,     0.00,2,     2.74,2, -999.000,9, -999.000,9,  -999.00,9,   -999.0,9,   -999.0,9,-999.0000,9,   -999.0,  9,  -999.00,9,   -999.0,  -999.00,9,  -999.00,9,  -999.00,9,  -999.00,9,   -999.0,-999.0000, -999,9, 1748,   2.1499,  27.6441,   -999.0,9
       KS03-04,  137E,KS-0719,  1,      1,02-16007,2,20030427,1553, 19.9860, 136.9782, 4737,   2016.1,   2.0169,  34.6273,2,   -999.0,9,  34.6258,2,    118.0,2,  -999.00,9,  -999.00,9,    38.34,2,     0.00,2,     2.70,2, -999.000,9, -999.000,9,  -999.00,9,   -999.0,9,   -999.0,9,-999.0000,9,   -999.0,  9,  -999.00,9,   -999.0,  -999.00,9,  -999.00,9,  -999.00,9,  -999.00,9,   -999.0,-999.0000, -999,9, 1994,   1.8789,  27.6825,   -999.0,9