BOTTLE,20130510GEMDJMAYT
EXPOCODE,SECT_ID,STNNBR,CASTNO,SAMPNO,BTLNBR,BTLNBR_FLAG_W,DATE,TIME,LATITUDE,LONGITUDE,DEPTH,CTDPRS,CTDTMP,CTDSAL,CTDSAL_FLAG_W,CTDOXY,CTDOXY_FLAG_W,SALNTY,SALNTY_FLAG_W,OXYGEN,OXYGEN_FLAG_W,SILCAT,SILCAT_FLAG_W,NITRAT,NITRAT_FLAG_W,NO2+NO3,NO2+NO3_FLAG_W,NITRIT,NITRIT_FLAG_W,PHSPHT,PHSPHT_FLAG_W,CFC-11,CFC-11_FLAG_W,CFC-12,CFC-12_FLAG_W,DELC13,DELC13_FLAG_W,TCARBN,TCARBN_FLAG_W,ALKALI,ALKALI_FLAG_W,PH,PH_FLAG_W,PH_TMP,PH_SCALE,PH_NBS,PH_NBS_FLAG_W,C13ERR,TOTALP,TOTALP_FLAG_W,AMMONI,AMMONI_FLAG_W,CHLORA,CHLORA_FLAG_W,PPHYTN,PPHYTN_FLAG_W,REVPRS,REVTMP,DEPTH_,DEPTH_FLAG,CTDDEP,THETA,SIGTHT,DOC,DOC_FLAG_W
,,,,,,,GMT,GMT,,,METER,DBAR,ITS-90,PSS-78,,UMOL/KG,,PSS-78,,UMOL/KG,,UMOL/KG,,UMOL/KG,,UMOL/KG,,UMOL/KG,,UMOL/KG,,PMOL/KG,,PMOL/KG,,/MILLE,,UMOL/KG,,UMOL/KG,,25_DEG_C,,DEG_C,,,,/MILLE,UMOL/KG,,UMOL/KG,,UG/L,,UG/L,,DBAR,ITS-90,METERS,,METERS,DEG_C,,UMOL/L,
       KS03-04,  137E,KS-0722,  1,     24,02-16030,2,20030428,1832, 17.0023, 136.9363, 4854,      3.9,  27.9766,  34.5903,2,   -999.0,9,  34.5682,4,    207.0,2,  -999.00,9,  -999.00,9,     0.00,2,     0.00,2,     0.03,2, -999.000,9, -999.000,9,  -999.00,9,   1931.3,3,   -999.0,9,-999.0000,9,   -999.0,  9,     8.23,2,   -999.0,  -999.00,9,  -999.00,9,  -999.00,9,  -999.00,9,   -999.0,-999.0000, -999,9,    4,  27.9757,  22.0945,   -999.0,9
       KS03-04,  137E,KS-0722,  1,     23,02-16029,2,20030428,1831, 17.0023, 136.9363, 4854,      9.5,  27.9787,  34.5898,2,   -999.0,9,-999.0000,9,    201.0,2,  -999.00,9,  -999.00,9,     0.00,2,     0.00,2,     0.03,2, -999.000,9, -999.000,9,  -999.00,9,   -999.0,9,   -999.0,9,-999.0000,9,   -999.0,  9,  -999.00,9,   -999.0,  -999.00,9,  -999.00,9,  -999.00,9,  -999.00,9,   -999.0,-999.0000, -999,9,    9,  27.9765,  22.0939,   -999.0,9
       KS03-04,  137E,KS-0722,  1,     22,02-16028,2,20030428,1829, 17.0023, 136.9363, 4854,     25.3,  27.9860,  34.5927,2,   -999.0,9,-999.0000,9,    201.0,2,  -999.00,9,  -999.00,9,     0.00,2,     0.00,2,     0.03,2, -999.000,9, -999.000,9,  -999.00,9,   -999.0,9,   -999.0,9,-999.0000,9,   -999.0,  9,  -999.00,9,   -999.0,  -999.00,9,  -999.00,9,  -999.00,9,  -999.00,9,   -999.0,-999.0000, -999,9,   25,  27.9801,  22.0949,   -999.0,9
       KS03-04,  137E,KS-0722,  1,     21,02-16027,2,20030428,1824, 17.0023, 136.9363, 4854,     49.0,  27.2443,  34.7682,2,   -999.0,9,-999.0000,9,    208.0,2,  -999.00,9,  -999.00,9,     0.00,2,     0.00,2,     0.02,2, -999.000,9, -999.000,9,  -999.00,9,   -999.0,9,   -999.0,9,-999.0000,9,   -999.0,  9,  -999.00,9,   -999.0,  -999.00,9,  -999.00,9,  -999.00,9,  -999.00,9,   -999.0,-999.0000, -999,9,   49,  27.2330,  22.4686,   -999.0,9
       KS03-04,  137E,KS-0722,  1,     20,02-16013,2,20030428,1823, 17.0023, 136.9363, 4854,     75.0,  26.7705,  34.8200,2,   -999.0,9,-999.0000,9,    207.0,2,  -999.00,9,  -999.00,9,     0.00,2,     0.00,2,     0.01,2, -999.000,9, -999.000,9,  -999.00,9,   -999.0,9,   -999.0,9,-999.0000,9,   -999.0,  9,  -999.00,9,   -999.0,  -999.00,9,  -999.00,9,  -999.00,9,  -999.00,9,   -999.0,-999.0000, -999,9,   74,  26.7534,  22.6607,   -999.0,9
       KS03-04,  137E,KS-0722,  1,     19,02-16025,2,20030428,1822, 17.0023, 136.9363, 4854,     99.9,  26.1185,  34.9438,2,   -999.0,9,-999.0000,9,    204.0,2,  -999.00,9,  -999.00,9,     0.00,2,     0.00,2,     0.01,2, -999.000,9, -999.000,9,  -999.00,9,   -999.0,9,   -999.0,9,-999.0000,9,   -999.0,  9,  -999.00,9,   -999.0,  -999.00,9,  -999.00,9,  -999.00,9,  -999.00,9,   -999.0,-999.0000, -999,9,   99,  26.0961,  22.9609,   -999.0,9
       KS03-04,  137E,KS-0722,  1,     18,02-16024,2,20030428,1821, 17.0023, 136.9363, 4854,    123.7,  25.3119,  35.0502,2,   -999.0,9,-999.0000,9,    204.0,2,  -999.00,9,  -999.00,9,     0.00,2,     0.01,2,     0.01,2, -999.000,9, -999.000,9,  -999.00,9,   -999.0,9,   -999.0,9,-999.0000,9,   -999.0,  9,  -999.00,9,   -999.0,  -999.00,9,  -999.00,9,  -999.00,9,  -999.00,9,   -999.0,-999.0000, -999,9,  123,  25.2848,  23.2922,   -999.0,9
       KS03-04,  137E,KS-0722,  1,     17,02-16023,2,20030428,1819, 17.0023, 136.9363, 4854,    149.0,  24.6803,  35.0588,2,   -999.0,9,-999.0000,9,    199.0,2,  -999.00,9,  -999.00,9,     0.10,2,     0.10,2,     0.02,2, -999.000,9, -999.000,9,  -999.00,9,   -999.0,9,   -999.0,9,-999.0000,9,   -999.0,  9,  -999.00,9,   -999.0,  -999.00,9,  -999.00,9,  -999.00,9,  -999.00,9,   -999.0,-999.0000, -999,9,  148,  24.6483,  23.4922,   -999.0,9
       KS03-04,  137E,KS-0722,  1,     16,02-16022,2,20030428,1817, 17.0023, 136.9363, 4854,    200.4,  21.5589,  35.0296,2,   -999.0,9,-999.0000,9,    180.0,2,  -999.00,9,  -999.00,9,     2.34,2,     0.01,2,     0.22,2, -999.000,9, -999.000,9,  -999.00,9,   -999.0,9,   -999.0,9,-999.0000,9,   -999.0,  9,  -999.00,9,   -999.0,  -999.00,9,  -999.00,9,  -999.00,9,  -999.00,9,   -999.0,-999.0000, -999,9,  199,  21.5198,  24.3740,   -999.0,9
       KS03-04,  137E,KS-0722,  1,     15,02-16021,2,20030428,1814, 17.0023, 136.9363, 4854,    252.0,  18.2049,  34.8026,2,   -999.0,9,-999.0000,9,    187.0,2,  -999.00,9,  -999.00,9,     5.07,2,     0.00,2,     0.38,2, -999.000,9, -999.000,9,  -999.00,9,   -999.0,9,   -999.0,9,-999.0000,9,   -999.0,  9,  -999.00,9,   -999.0,  -999.00,9,  -999.00,9,  -999.00,9,  -999.00,9,   -999.0,-999.0000, -999,9,  250,  18.1613,  25.0810,   -999.0,9
       KS03-04,  137E,KS-0722,  1,     14,02-16020,2,20030428,1811, 17.0023, 136.9363, 4854,    302.5,  15.8786,  34.6395,2,   -999.0,9,-999.0000,9,    180.0,2,  -999.00,9,  -999.00,9,     8.87,2,     0.00,2,     0.63,2, -999.000,9, -999.000,9,  -999.00,9,   -999.0,9,   -999.0,9,-999.0000,9,   -999.0,  9,  -999.00,9,   -999.0,  -999.00,9,  -999.00,9,  -999.00,9,  -999.00,9,   -999.0,-999.0000, -999,9,  300,  15.8310,  25.5087,   -999.0,9
       KS03-04,  137E,KS-0722,  1,     13,02-16019,2,20030428,1806, 17.0023, 136.9363, 4854,    401.2,  11.5158,  34.3287,2,   -999.0,9,-999.0000,9,    173.0,2,  -999.00,9,  -999.00,9,    16.66,2,     0.00,2,     1.17,2, -999.000,9, -999.000,9,  -999.00,9,   -999.0,9,   -999.0,9,-999.0000,9,   -999.0,  9,  -999.00,9,   -999.0,  -999.00,9,  -999.00,9,  -999.00,9,  -999.00,9,   -999.0,-999.0000, -999,9,  398,  11.4648,  26.1680,   -999.0,9
       KS03-04,  137E,KS-0722,  1,     12,02-16018,2,20030428,1802, 17.0023, 136.9363, 4854,    500.7,   8.4062,  34.1788,2,   -999.0,9,-999.0000,9,    134.0,2,  -999.00,9,  -999.00,9,    26.20,2,     0.00,2,     1.86,2, -999.000,9, -999.000,9,  -999.00,9,   -999.0,9,   -999.0,9,-999.0000,9,   -999.0,  9,  -999.00,9,   -999.0,  -999.00,9,  -999.00,9,  -999.00,9,  -999.00,9,   -999.0,-999.0000, -999,9,  497,   8.3536,  26.5757,   -999.0,9
       KS03-04,  137E,KS-0722,  1,     11,02-16017,2,20030428,1756, 17.0023, 136.9363, 4854,    603.6,   6.5721,  34.2540,2,   -999.0,9,-999.0000,9,     76.0,2,  -999.00,9,  -999.00,9,    34.76,2,     0.00,2,     2.49,2, -999.000,9, -999.000,9,  -999.00,9,   -999.0,9,   -999.0,9,-999.0000,9,   -999.0,  9,  -999.00,9,   -999.0,  -999.00,9,  -999.00,9,  -999.00,9,  -999.00,9,   -999.0,-999.0000, -999,9,  599,   6.5165,  26.8964,   -999.0,9
       KS03-04,  137E,KS-0722,  1,     10,02-16026,2,20030428,1750, 17.0023, 136.9363, 4854,    705.1,   5.5264,  34.3617,2,   -999.0,9,-999.0000,9,     68.0,2,  -999.00,9,  -999.00,9,    37.68,2,     0.00,2,     2.71,2, -999.000,9, -999.000,9,  -999.00,9,   -999.0,9,   -999.0,9,-999.0000,9,   -999.0,  9,  -999.00,9,   -999.0,  -999.00,9,  -999.00,9,  -999.00,9,  -999.00,9,   -999.0,-999.0000, -999,9,  700,   5.4665,  27.1142,   -999.0,9
       KS03-04,  137E,KS-0722,  1,      9,02-16012,2,20030428,1745, 17.0023, 136.9363, 4854,    805.1,   5.0647,  34.4604,2,   -999.0,9,-999.0000,9,     75.0,2,  -999.00,9,  -999.00,9,    38.06,2,     0.00,2,     2.73,2, -999.000,9, -999.000,9,  -999.00,9,   -999.0,9,   -999.0,9,-999.0000,9,   -999.0,  9,  -999.00,9,   -999.0,  -999.00,9,  -999.00,9,  -999.00,9,  -999.00,9,   -999.0,-999.0000, -999,9,  799,   4.9984,  27.2476,   -999.0,9
       KS03-04,  137E,KS-0722,  1,      8,02-16011,4,20030428,1737, 17.0023, 136.9363, 4854,    907.7,   4.4523,  34.4874,2,   -999.0,9,-999.0000,9,   -999.0,9,  -999.00,9,  -999.00,9,  -999.00,9,  -999.00,9,  -999.00,9, -999.000,9, -999.000,9,  -999.00,9,   -999.0,9,   -999.0,9,-999.0000,9,   -999.0,  9,  -999.00,9,   -999.0,  -999.00,9,  -999.00,9,  -999.00,9,  -999.00,9,   -999.0,-999.0000, -999,9,  900,   4.3811,  27.3381,   -999.0,9
       KS03-04,  137E,KS-0722,  1,      7,02-16016,2,20030428,1729, 17.0023, 136.9363, 4854,   1010.6,   4.0044,  34.5275,2,   -999.0,9,-999.0000,9,     85.0,2,  -999.00,9,  -999.00,9,    38.74,2,     0.00,2,     2.77,2, -999.000,9, -999.000,9,  -999.00,9,   -999.0,9,   -999.0,9,-999.0000,9,   -999.0,  9,  -999.00,9,   -999.0,  -999.00,9,  -999.00,9,  -999.00,9,  -999.00,9,   -999.0,-999.0000, -999,9, 1002,   3.9278,  27.4178,   -999.0,9
       KS03-04,  137E,KS-0722,  1,      6,02-16009,2,20030428,1714, 17.0023, 136.9363, 4854,   1260.8,   3.2081,  34.5609,2,   -999.0,9,-999.0000,9,     93.0,2,  -999.00,9,  -999.00,9,    38.73,2,     0.00,2,     2.78,2, -999.000,9, -999.000,9,  -999.00,9,   -999.0,9,   -999.0,9,-999.0000,9,   -999.0,  9,  -999.00,9,   -999.0,  -999.00,9,  -999.00,9,  -999.00,9,  -999.00,9,   -999.0,-999.0000, -999,9, 1250,   3.1178,  27.5237,   -999.0,9
       KS03-04,  137E,KS-0722,  1,      5,02-16008,2,20030428,1657, 17.0023, 136.9363, 4854,   1512.2,   2.6809,  34.5873,2,   -999.0,9,-999.0000,9,    100.0,2,  -999.00,9,  -999.00,9,    38.73,2,     0.00,2,     2.75,2, -999.000,9, -999.000,9,  -999.00,9,   -999.0,9,   -999.0,9,-999.0000,9,   -999.0,  9,  -999.00,9,   -999.0,  -999.00,9,  -999.00,9,  -999.00,9,  -999.00,9,   -999.0,-999.0000, -999,9, 1498,   2.5757,  27.5934,   -999.0,9
       KS03-04,  137E,KS-0722,  1,      4,02-16010,2,20030428,1642, 17.0023, 136.9363, 4854,   1768.0,   2.3056,  34.6097,2,   -999.0,9,-999.0000,9,    108.0,2,  -999.00,9,  -999.00,9,    38.53,2,     0.00,2,     2.73,2, -999.000,9, -999.000,9,  -999.00,9,   -999.0,9,   -999.0,9,-999.0000,9,   -999.0,  9,  -999.00,9,   -999.0,  -999.00,9,  -999.00,9,  -999.00,9,  -999.00,9,   -999.0,-999.0000, -999,9, 1750,   2.1841,  27.6442,   -999.0,9
       KS03-04,  137E,KS-0722,  1,      3,02-16015,2,20030428,1633, 17.0023, 136.9363, 4854,   2021.2,   2.0176,  34.6295,2,   -999.0,9,-999.0000,9,    117.0,2,  -999.00,9,  -999.00,9,    38.34,2,     0.00,2,     2.71,2, -999.000,9, -999.000,9,  -999.00,9,   -999.0,9,   -999.0,9,-999.0000,9,   -999.0,  9,  -999.00,9,   -999.0,  -999.00,9,  -999.00,9,  -999.00,9,  -999.00,9,   -999.0,-999.0000, -999,9, 2000,   1.8791,  27.6843,   -999.0,9
       KS03-04,  137E,KS-0722,  1,      2,02-16014,2,20030428,1552, 17.0023, 136.9363, 4854,   3036.0,   1.6365,  34.6688,2,   -999.0,9,  34.6401,4,    131.0,2,  -999.00,9,  -999.00,9,    36.68,2,     0.00,2,     2.58,2, -999.000,9, -999.000,9,  -999.00,9,   -999.0,9,   -999.0,9,-999.0000,9,   -999.0,  9,  -999.00,9,   -999.0,  -999.00,9,  -999.00,9,  -999.00,9,  -999.00,9,   -999.0,-999.0000, -999,9, 2996,   1.4133,  27.7506,   -999.0,9
       KS03-04,  137E,KS-0722,  1,      1,02-16007,2,20030428,1524, 17.0023, 136.9363, 4854,   4057.8,   1.5022,  34.6864,2,   -999.0,9,  34.6822,2,    157.0,2,  -999.00,9,  -999.00,9,    35.61,2,     0.00,2,     2.48,2, -999.000,9, -999.000,9,  -999.00,9,   -999.0,9,   -999.0,9,-999.0000,9,   -999.0,  9,  -999.00,9,   -999.0,  -999.00,9,  -999.00,9,  -999.00,9,  -999.00,9,   -999.0,-999.0000, -999,9, 3996,   1.1769,  27.7814,   -999.0,9