BOTTLE,20130510GEMDJMAYT
EXPOCODE,SECT_ID,STNNBR,CASTNO,SAMPNO,BTLNBR,BTLNBR_FLAG_W,DATE,TIME,LATITUDE,LONGITUDE,DEPTH,CTDPRS,CTDTMP,CTDSAL,CTDSAL_FLAG_W,CTDOXY,CTDOXY_FLAG_W,SALNTY,SALNTY_FLAG_W,OXYGEN,OXYGEN_FLAG_W,SILCAT,SILCAT_FLAG_W,NITRAT,NITRAT_FLAG_W,NO2+NO3,NO2+NO3_FLAG_W,NITRIT,NITRIT_FLAG_W,PHSPHT,PHSPHT_FLAG_W,CFC-11,CFC-11_FLAG_W,CFC-12,CFC-12_FLAG_W,DELC13,DELC13_FLAG_W,TCARBN,TCARBN_FLAG_W,ALKALI,ALKALI_FLAG_W,PH,PH_FLAG_W,PH_TMP,PH_SCALE,PH_NBS,PH_NBS_FLAG_W,C13ERR,TOTALP,TOTALP_FLAG_W,AMMONI,AMMONI_FLAG_W,CHLORA,CHLORA_FLAG_W,PPHYTN,PPHYTN_FLAG_W,REVPRS,REVTMP,DEPTH_,DEPTH_FLAG,CTDDEP,THETA,SIGTHT,DOC,DOC_FLAG_W
,,,,,,,GMT,GMT,,,METER,DBAR,ITS-90,PSS-78,,UMOL/KG,,PSS-78,,UMOL/KG,,UMOL/KG,,UMOL/KG,,UMOL/KG,,UMOL/KG,,UMOL/KG,,PMOL/KG,,PMOL/KG,,/MILLE,,UMOL/KG,,UMOL/KG,,25_DEG_C,,DEG_C,,,,/MILLE,UMOL/KG,,UMOL/KG,,UG/L,,UG/L,,DBAR,ITS-90,METERS,,METERS,DEG_C,,UMOL/L,
       KS03-04,  137E,KS-0714,  1,     24,02-16030,2,20030426,0916, 25.0052, 136.9923, 5037,      4.5,  25.9728,  35.0381,2,   -999.0,9,  35.0396,2,    209.0,2,  -999.00,9,  -999.00,9,     0.00,2,     0.00,2,     0.01,2, -999.000,9, -999.000,9,  -999.00,9,   1959.0,2,   -999.0,9,   8.1064,2,     25.0, TS,  -999.00,9,   -999.0,  -999.00,9,  -999.00,9,     0.03,2,     0.02,2,   -999.0,-999.0000, -999,9,    4,  25.9718,  23.0709,   -999.0,9
       KS03-04,  137E,KS-0714,  1,     23,02-16029,2,20030426,0915, 25.0052, 136.9923, 5037,     10.0,  25.9693,  35.0386,2,   -999.0,9,-999.0000,9,    208.0,2,  -999.00,9,  -999.00,9,     0.00,2,     0.00,2,     0.01,2, -999.000,9, -999.000,9,  -999.00,9,   1959.1,3,   -999.0,9,   8.1069,2,     25.0, TS,  -999.00,9,   -999.0,  -999.00,9,  -999.00,9,     0.03,2,     0.02,2,   -999.0,-999.0000, -999,9,   10,  25.9671,  23.0727,   -999.0,9
       KS03-04,  137E,KS-0714,  1,     22,02-16028,2,20030426,0914, 25.0052, 136.9923, 5037,     24.3,  25.8069,  35.0432,2,   -999.0,9,-999.0000,9,    195.0,4,  -999.00,9,  -999.00,9,     0.00,2,     0.00,2,     0.00,2, -999.000,9, -999.000,9,  -999.00,9,   1960.2,2,   -999.0,9,   8.1062,2,     25.0, TS,  -999.00,9,   -999.0,  -999.00,9,  -999.00,9,     0.04,2,     0.02,2,   -999.0,-999.0000, -999,9,   24,  25.8015,  23.1277,   -999.0,9
       KS03-04,  137E,KS-0714,  1,     21,02-16027,2,20030426,0909, 25.0052, 136.9923, 5037,     49.9,  23.8453,  35.0212,2,   -999.0,9,-999.0000,9,    213.0,2,  -999.00,9,  -999.00,9,     0.00,2,     0.00,2,     0.00,2, -999.000,9, -999.000,9,  -999.00,9,   1965.3,2,   -999.0,9,   8.0952,2,     25.0, TS,  -999.00,9,   -999.0,  -999.00,9,  -999.00,9,     0.06,2,     0.03,2,   -999.0,-999.0000, -999,9,   50,  23.8348,  23.7062,   -999.0,9
       KS03-04,  137E,KS-0714,  1,     20,02-16013,2,20030426,0908, 25.0052, 136.9923, 5037,     74.8,  22.9540,  35.0062,2,   -999.0,9,-999.0000,9,    208.0,2,  -999.00,9,  -999.00,9,     0.00,2,     0.00,2,     0.01,2, -999.000,9, -999.000,9,  -999.00,9,   1978.4,2,   -999.0,9,   8.0762,2,     25.0, TS,  -999.00,9,   -999.0,  -999.00,9,  -999.00,9,     0.09,2,     0.12,2,   -999.0,-999.0000, -999,9,   74,  22.9388,  23.9560,   -999.0,9
       KS03-04,  137E,KS-0714,  1,     19,02-16025,9,20030426,0908, 25.0052, 136.9923, 5037,     74.4,  22.9560,  35.0056,2,   -999.0,9,-999.0000,9,   -999.0,9,  -999.00,9,  -999.00,9,  -999.00,9,  -999.00,9,  -999.00,9, -999.000,9, -999.000,9,  -999.00,9,   -999.0,9,   -999.0,9,-999.0000,9,   -999.0,  9,  -999.00,9,   -999.0,  -999.00,9,  -999.00,9,  -999.00,9,  -999.00,9,   -999.0,-999.0000, -999,9,   74,  22.9409,  23.9549,   -999.0,9
       KS03-04,  137E,KS-0714,  1,     18,02-16024,2,20030426,0907, 25.0052, 136.9923, 5037,    100.3,  22.0823,  35.0056,2,   -999.0,9,  35.0083,2,    215.0,2,  -999.00,9,  -999.00,9,     0.00,2,     0.01,2,     0.02,2, -999.000,9, -999.000,9,  -999.00,9,   1979.6,2,   -999.0,9,   8.0760,2,     25.0, TS,  -999.00,9,   -999.0,  -999.00,9,  -999.00,9,     0.09,2,     0.19,2,   -999.0,-999.0000, -999,9,  100,  22.0624,  24.2046,   -999.0,9
       KS03-04,  137E,KS-0714,  1,     17,02-16023,2,20030426,0906, 25.0052, 136.9923, 5037,    125.0,  21.5036,  34.9915,2,   -999.0,9,-999.0000,9,    213.0,2,  -999.00,9,  -999.00,9,     0.29,2,     0.12,2,     0.02,2, -999.000,9, -999.000,9,  -999.00,9,   1986.4,2,   -999.0,9,   8.0616,2,     25.0, TS,  -999.00,9,   -999.0,  -999.00,9,  -999.00,9,     0.13,2,     0.34,2,   -999.0,-999.0000, -999,9,  124,  21.4793,  24.3562,   -999.0,9
       KS03-04,  137E,KS-0714,  1,     16,02-16022,2,20030426,0905, 25.0052, 136.9923, 5037,    152.3,  20.6138,  34.9003,2,   -999.0,9,-999.0000,9,    198.0,2,  -999.00,9,  -999.00,9,     1.76,2,     0.03,2,     0.14,2, -999.000,9, -999.000,9,  -999.00,9,   2007.2,2,   -999.0,9,   8.0180,2,     25.0, TS,  -999.00,9,   -999.0,  -999.00,9,  -999.00,9,     0.05,2,     0.16,2,   -999.0,-999.0000, -999,9,  151,  20.5851,  24.5301,   -999.0,9
       KS03-04,  137E,KS-0714,  1,     15,02-16021,2,20030426,0903, 25.0052, 136.9923, 5037,    199.8,  19.4130,  34.8644,2,   -999.0,9,  34.8637,2,    214.0,2,  -999.00,9,  -999.00,9,     1.56,2,     0.04,2,     0.12,2, -999.000,9, -999.000,9,  -999.00,9,   2000.5,3,   -999.0,9,   8.0272,2,     25.0, TS,  -999.00,9,   -999.0,  -999.00,9,  -999.00,9,     0.02,2,     0.04,2,   -999.0,-999.0000, -999,9,  198,  19.3768,  24.8208,   -999.0,9
       KS03-04,  137E,KS-0714,  1,     14,02-16020,2,20030426,0901, 25.0052, 136.9923, 5037,    252.4,  18.5443,  34.8481,2,   -999.0,9,-999.0000,9,    223.0,2,  -999.00,9,  -999.00,9,     1.66,2,     0.01,2,     0.12,2, -999.000,9, -999.000,9,  -999.00,9,   2000.9,2,   -999.0,9,   8.0262,2,     25.0, TS,  -999.00,9,   -999.0,  -999.00,9,  -999.00,9,     0.00,2,     0.03,2,   -999.0,-999.0000, -999,9,  251,  18.5000,  25.0314,   -999.0,9
       KS03-04,  137E,KS-0714,  1,     13,02-16019,2,20030426,0859, 25.0052, 136.9923, 5037,    302.8,  18.1001,  34.7835,2,   -999.0,9,  34.7828,2,    207.0,2,  -999.00,9,  -999.00,9,     3.61,2,     0.00,2,     0.24,2, -999.000,9, -999.000,9,  -999.00,9,   2017.1,2,   -999.0,9,   7.9925,2,     25.0, TS,  -999.00,9,   -999.0,  -999.00,9,  -999.00,9,     0.00,2,     0.01,2,   -999.0,-999.0000, -999,9,  301,  18.0478,  25.0945,   -999.0,9
       KS03-04,  137E,KS-0714,  1,     12,02-16018,2,20030426,0857, 25.0052, 136.9923, 5037,    402.1,  16.5677,  34.7005,2,   -999.0,9,  34.6995,2,    195.0,2,  -999.00,9,  -999.00,9,     7.02,2,     0.00,2,     0.47,2, -999.000,9, -999.000,9,  -999.00,9,   2043.9,2,   -999.0,9,   7.9383,2,     25.0, TS,  -999.00,9,   -999.0,  -999.00,9,  -999.00,9,  -999.00,9,  -999.00,9,   -999.0,-999.0000, -999,9,  399,  16.5023,  25.4014,   -999.0,9
       KS03-04,  137E,KS-0714,  1,     11,02-16017,2,20030426,0854, 25.0052, 136.9923, 5037,    501.8,  14.1950,  34.5411,2,   -999.0,9,  34.5411,2,    186.0,2,  -999.00,9,  -999.00,9,    11.31,2,     0.00,2,     0.77,2, -999.000,9, -999.000,9,  -999.00,9,   2076.9,2,   -999.0,9,   7.8679,2,     25.0, TS,  -999.00,9,   -999.0,  -999.00,9,  -999.00,9,  -999.00,9,  -999.00,9,   -999.0,-999.0000, -999,9,  498,  14.1214,  25.8069,   -999.0,9
       KS03-04,  137E,KS-0714,  1,     10,02-16026,9,20030426,0854, 25.0052, 136.9923, 5037,    502.8,  14.1755,  34.5391,2,   -999.0,9,-999.0000,9,   -999.0,9,  -999.00,9,  -999.00,9,  -999.00,9,  -999.00,9,  -999.00,9, -999.000,9, -999.000,9,  -999.00,9,   -999.0,9,   -999.0,9,-999.0000,9,   -999.0,  9,  -999.00,9,   -999.0,  -999.00,9,  -999.00,9,  -999.00,9,  -999.00,9,   -999.0,-999.0000, -999,9,  499,  14.1018,  25.8095,   -999.0,9
       KS03-04,  137E,KS-0714,  1,      9,02-16012,2,20030426,0850, 25.0052, 136.9923, 5037,    605.1,  11.5460,  34.3538,2,   -999.0,9,  34.3537,2,    132.0,4,  -999.00,9,  -999.00,9,    16.86,2,     0.00,2,     1.17,2, -999.000,9, -999.000,9,  -999.00,9,   2117.4,2,   -999.0,9,   7.7818,2,     25.0, TS,  -999.00,9,   -999.0,  -999.00,9,  -999.00,9,  -999.00,9,  -999.00,9,   -999.0,-999.0000, -999,9,  600,  11.4682,  26.1868,   -999.0,9
       KS03-04,  137E,KS-0714,  1,      8,02-16011,2,20030426,0847, 25.0052, 136.9923, 5037,    704.2,   8.4714,  34.1856,2,   -999.0,9,  34.1866,2,    143.0,2,  -999.00,9,  -999.00,9,    25.33,2,     0.00,2,     1.79,2, -999.000,9, -999.000,9,  -999.00,9,   2180.8,2,   -999.0,9,   7.6494,2,     25.0, TS,  -999.00,9,   -999.0,  -999.00,9,  -999.00,9,  -999.00,9,  -999.00,9,   -999.0,-999.0000, -999,9,  698,   8.3962,  26.5745,   -999.0,9
       KS03-04,  137E,KS-0714,  1,      7,02-16016,2,20030426,0845, 25.0052, 136.9923, 5037,    805.0,   6.5908,  34.1450,2,   -999.0,9,  34.1464,2,    110.0,2,  -999.00,9,  -999.00,9,    31.75,2,     0.00,2,     2.27,2, -999.000,9, -999.000,9,  -999.00,9,   2234.5,2,   -999.0,9,   7.5536,2,     25.0, TS,  -999.00,9,   -999.0,  -999.00,9,  -999.00,9,  -999.00,9,  -999.00,9,   -999.0,-999.0000, -999,9,  798,   6.5156,  26.8105,   -999.0,9
       KS03-04,  137E,KS-0714,  1,      6,02-16009,2,20030426,0843, 25.0052, 136.9923, 5037,    906.6,   5.0715,  34.2142,2,   -999.0,9,  34.2134,2,     76.0,2,  -999.00,9,  -999.00,9,    37.29,2,     0.00,2,     2.68,2, -999.000,9, -999.000,9,  -999.00,9,   2289.6,2,   -999.0,9,   7.4717,2,     25.0, TS,  -999.00,9,   -999.0,  -999.00,9,  -999.00,9,  -999.00,9,  -999.00,9,   -999.0,-999.0000, -999,9,  899,   4.9965,  27.0526,   -999.0,9
       KS03-04,  137E,KS-0714,  1,      5,02-16008,2,20030426,0839, 25.0052, 136.9923, 5037,   1007.5,   4.4402,  34.2822,2,   -999.0,9,  34.2797,2,     63.0,2,  -999.00,9,  -999.00,9,    39.33,2,     0.00,2,     2.83,2, -999.000,9, -999.000,9,  -999.00,9,   2313.1,2,   -999.0,9,   7.4414,2,     25.0, TS,  -999.00,9,   -999.0,  -999.00,9,  -999.00,9,  -999.00,9,  -999.00,9,   -999.0,-999.0000, -999,9,  999,   4.3609,  27.1772,   -999.0,9
       KS03-04,  137E,KS-0714,  1,      4,02-16010,3,20030426,0832, 25.0052, 136.9923, 5037,   1261.1,   3.2545,  34.4364,2,   -999.0,9,  34.4347,2,     62.0,2,  -999.00,9,  -999.00,9,    40.88,2,     0.00,2,     2.96,2, -999.000,9, -999.000,9,  -999.00,9,   -999.0,9,   -999.0,9,-999.0000,9,   -999.0,  9,  -999.00,9,   -999.0,  -999.00,9,  -999.00,9,  -999.00,9,  -999.00,9,   -999.0,-999.0000, -999,9, 1249,   3.1640,  27.4200,   -999.0,9
       KS03-04,  137E,KS-0714,  1,      3,02-16015,2,20030426,0827, 25.0052, 136.9923, 5037,   1512.8,   2.7945,  34.5151,2,   -999.0,9,  34.5137,2,     77.0,2,  -999.00,9,  -999.00,9,    40.29,2,     0.00,2,     2.89,2, -999.000,9, -999.000,9,  -999.00,9,   -999.0,9,   -999.0,9,-999.0000,9,   -999.0,  9,  -999.00,9,   -999.0,  -999.00,9,  -999.00,9,  -999.00,9,  -999.00,9,   -999.0,-999.0000, -999,9, 1498,   2.6881,  27.5260,   -999.0,9
       KS03-04,  137E,KS-0714,  1,      2,02-16014,2,20030426,0820, 25.0052, 136.9923, 5037,   1767.1,   2.3745,  34.5621,2,   -999.0,9,  34.5604,2,    103.0,2,  -999.00,9,  -999.00,9,    39.31,2,     0.00,2,     2.80,2, -999.000,9, -999.000,9,  -999.00,9,   -999.0,9,   -999.0,9,-999.0000,9,   -999.0,  9,  -999.00,9,   -999.0,  -999.00,9,  -999.00,9,  -999.00,9,  -999.00,9,   -999.0,-999.0000, -999,9, 1748,   2.2523,  27.6005,   -999.0,9
       KS03-04,  137E,KS-0714,  1,      1,02-16007,2,20030426,0815, 25.0052, 136.9923, 5037,   2020.3,   2.1219,  34.6041,2,   -999.0,9,  34.6034,2,    112.0,2,  -999.00,9,  -999.00,9,    38.63,2,     0.00,2,     2.73,2, -999.000,9, -999.000,9,  -999.00,9,   -999.0,9,   -999.0,9,-999.0000,9,   -999.0,  9,  -999.00,9,   -999.0,  -999.00,9,  -999.00,9,  -999.00,9,  -999.00,9,   -999.0,-999.0000, -999,9, 1998,   1.9820,  27.6559,   -999.0,9