BOTTLE,20130510GEMDJMAYT
EXPOCODE,SECT_ID,STNNBR,CASTNO,SAMPNO,BTLNBR,BTLNBR_FLAG_W,DATE,TIME,LATITUDE,LONGITUDE,DEPTH,CTDPRS,CTDTMP,CTDSAL,CTDSAL_FLAG_W,CTDOXY,CTDOXY_FLAG_W,SALNTY,SALNTY_FLAG_W,OXYGEN,OXYGEN_FLAG_W,SILCAT,SILCAT_FLAG_W,NITRAT,NITRAT_FLAG_W,NO2+NO3,NO2+NO3_FLAG_W,NITRIT,NITRIT_FLAG_W,PHSPHT,PHSPHT_FLAG_W,CFC-11,CFC-11_FLAG_W,CFC-12,CFC-12_FLAG_W,DELC13,DELC13_FLAG_W,TCARBN,TCARBN_FLAG_W,ALKALI,ALKALI_FLAG_W,PH,PH_FLAG_W,PH_TMP,PH_SCALE,PH_NBS,PH_NBS_FLAG_W,C13ERR,TOTALP,TOTALP_FLAG_W,AMMONI,AMMONI_FLAG_W,CHLORA,CHLORA_FLAG_W,PPHYTN,PPHYTN_FLAG_W,REVPRS,REVTMP,DEPTH_,DEPTH_FLAG,CTDDEP,THETA,SIGTHT,DOC,DOC_FLAG_W
,,,,,,,GMT,GMT,,,METER,DBAR,ITS-90,PSS-78,,UMOL/KG,,PSS-78,,UMOL/KG,,UMOL/KG,,UMOL/KG,,UMOL/KG,,UMOL/KG,,UMOL/KG,,PMOL/KG,,PMOL/KG,,/MILLE,,UMOL/KG,,UMOL/KG,,25_DEG_C,,DEG_C,,,,/MILLE,UMOL/KG,,UMOL/KG,,UG/L,,UG/L,,DBAR,ITS-90,METERS,,METERS,DEG_C,,UMOL/L,
       KS03-04,  137E,KS-0734,  1,     24,02-16030,2,20030502,1503,  5.0162, 137.0037, 4878,      4.9,  30.0341,  34.2353,2,   -999.0,9,  34.2364,2,    196.0,2,  -999.00,9,  -999.00,9,     0.00,2,     0.00,2,     0.03,2, -999.000,9, -999.000,9,  -999.00,9,   1905.0,3,   -999.0,9,-999.0000,9,   -999.0,  9,     8.25,2,   -999.0,  -999.00,9,  -999.00,9,     0.03,2,     0.02,2,   -999.0,-999.0000, -999,9,    5,  30.0329,  21.1418,   -999.0,9
       KS03-04,  137E,KS-0734,  1,     23,02-16029,2,20030502,1502,  5.0162, 137.0037, 4878,      9.3,  30.0061,  34.2529,2,   -999.0,9,-999.0000,9,    197.0,2,  -999.00,9,  -999.00,9,     0.00,2,     0.00,2,     0.03,2, -999.000,9, -999.000,9,  -999.00,9,   -999.0,9,   -999.0,9,-999.0000,9,   -999.0,  9,  -999.00,9,   -999.0,  -999.00,9,  -999.00,9,     0.03,2,     0.02,2,   -999.0,-999.0000, -999,9,    9,  30.0038,  21.1649,   -999.0,9
       KS03-04,  137E,KS-0734,  1,     22,02-16028,2,20030502,1501,  5.0162, 137.0037, 4878,     24.4,  29.7559,  34.3047,2,   -999.0,9,-999.0000,9,    197.0,2,  -999.00,9,  -999.00,9,     0.00,2,     0.00,2,     0.03,2, -999.000,9, -999.000,9,  -999.00,9,   -999.0,9,   -999.0,9,-999.0000,9,   -999.0,  9,  -999.00,9,   -999.0,  -999.00,9,  -999.00,9,     0.04,2,     0.03,2,   -999.0,-999.0000, -999,9,   24,  29.7499,  21.2900,   -999.0,9
       KS03-04,  137E,KS-0734,  1,     21,02-16027,2,20030502,1458,  5.0162, 137.0037, 4878,     49.7,  29.3596,  34.4542,2,   -999.0,9,-999.0000,9,    200.0,2,  -999.00,9,  -999.00,9,     0.00,2,     0.00,2,     0.07,2, -999.000,9, -999.000,9,  -999.00,9,   -999.0,9,   -999.0,9,-999.0000,9,   -999.0,  9,  -999.00,9,   -999.0,  -999.00,9,  -999.00,9,     0.08,2,     0.06,2,   -999.0,-999.0000, -999,9,   49,  29.3475,  21.5379,   -999.0,9
       KS03-04,  137E,KS-0734,  1,     20,02-16013,2,20030502,1457,  5.0162, 137.0037, 4878,     74.5,  25.7514,  34.6465,2,   -999.0,9,-999.0000,9,    201.0,2,  -999.00,9,  -999.00,9,     0.39,2,     0.01,2,     0.14,2, -999.000,9, -999.000,9,  -999.00,9,   -999.0,9,   -999.0,9,-999.0000,9,   -999.0,  9,  -999.00,9,   -999.0,  -999.00,9,  -999.00,9,     0.30,2,     0.44,2,   -999.0,-999.0000, -999,9,   74,  25.7349,  22.8489,   -999.0,9
       KS03-04,  137E,KS-0734,  1,     19,02-16025,2,20030502,1456,  5.0162, 137.0037, 4878,    100.1,  25.3721,  34.7418,2,   -999.0,9,  34.7276,4,    179.0,2,  -999.00,9,  -999.00,9,     2.74,2,     0.12,2,     0.31,2, -999.000,9, -999.000,9,  -999.00,9,   -999.0,9,   -999.0,9,-999.0000,9,   -999.0,  9,  -999.00,9,   -999.0,  -999.00,9,  -999.00,9,     0.28,2,     0.62,2,   -999.0,-999.0000, -999,9,   99,  25.3502,  23.0393,   -999.0,9
       KS03-04,  137E,KS-0734,  1,     18,02-16024,2,20030502,1455,  5.0162, 137.0037, 4878,    124.8,  24.7278,  34.9917,2,   -999.0,9,-999.0000,9,    142.0,2,  -999.00,9,  -999.00,9,     7.72,2,     0.81,2,     0.60,2, -999.000,9, -999.000,9,  -999.00,9,   -999.0,9,   -999.0,9,-999.0000,9,   -999.0,  9,  -999.00,9,   -999.0,  -999.00,9,  -999.00,9,     0.08,2,     0.27,2,   -999.0,-999.0000, -999,9,  124,  24.7010,  23.4255,   -999.0,9
       KS03-04,  137E,KS-0734,  1,     17,02-16023,2,20030502,1454,  5.0162, 137.0037, 4878,    152.6,  23.7644,  34.9712,2,   -999.0,9,-999.0000,9,    137.0,2,  -999.00,9,  -999.00,9,     8.79,2,     0.15,2,     0.64,2, -999.000,9, -999.000,9,  -999.00,9,   -999.0,9,   -999.0,9,-999.0000,9,   -999.0,  9,  -999.00,9,   -999.0,  -999.00,9,  -999.00,9,     0.06,2,     0.20,2,   -999.0,-999.0000, -999,9,  152,  23.7325,  23.6985,   -999.0,9
       KS03-04,  137E,KS-0734,  1,     16,02-16022,2,20030502,1453,  5.0162, 137.0037, 4878,    201.4,  16.8439,  34.7026,2,   -999.0,9,  34.6859,4,    150.0,2,  -999.00,9,  -999.00,9,    12.19,2,     0.04,2,     0.90,2, -999.000,9, -999.000,9,  -999.00,9,   -999.0,9,   -999.0,9,-999.0000,9,   -999.0,  9,  -999.00,9,   -999.0,  -999.00,9,  -999.00,9,     0.02,2,     0.06,2,   -999.0,-999.0000, -999,9,  200,  16.8109,  25.3307,   -999.0,9
       KS03-04,  137E,KS-0734,  1,     15,02-16021,2,20030502,1451,  5.0162, 137.0037, 4878,    250.5,  11.3058,  34.5319,2,   -999.0,9,-999.0000,9,    125.0,2,  -999.00,9,  -999.00,9,    23.09,2,     0.00,2,     1.64,2, -999.000,9, -999.000,9,  -999.00,9,   -999.0,9,   -999.0,9,-999.0000,9,   -999.0,  9,  -999.00,9,   -999.0,  -999.00,9,  -999.00,9,     0.00,2,     0.02,2,   -999.0,-999.0000, -999,9,  249,  11.2744,  26.3611,   -999.0,9
       KS03-04,  137E,KS-0734,  1,     14,02-16020,2,20030502,1450,  5.0162, 137.0037, 4878,    300.7,  10.6439,  34.6339,2,   -999.0,9,  34.6183,4,    119.0,2,  -999.00,9,  -999.00,9,    25.52,2,     0.00,2,     1.78,2, -999.000,9, -999.000,9,  -999.00,9,   -999.0,9,   -999.0,9,-999.0000,9,   -999.0,  9,  -999.00,9,   -999.0,  -999.00,9,  -999.00,9,     0.00,2,     0.02,2,   -999.0,-999.0000, -999,9,  299,  10.6076,  26.5605,   -999.0,9
       KS03-04,  137E,KS-0734,  1,     13,02-16019,2,20030502,1447,  5.0162, 137.0037, 4878,    401.8,   8.4264,  34.5723,2,   -999.0,9,  34.5710,2,     86.0,2,  -999.00,9,  -999.00,9,    32.62,2,     0.00,2,     2.25,2, -999.000,9, -999.000,9,  -999.00,9,   -999.0,9,   -999.0,9,-999.0000,9,   -999.0,  9,  -999.00,9,   -999.0,  -999.00,9,  -999.00,9,  -999.00,9,  -999.00,9,   -999.0,-999.0000, -999,9,  399,   8.3842,  26.8797,   -999.0,9
       KS03-04,  137E,KS-0734,  1,     12,02-16018,2,20030502,1445,  5.0162, 137.0037, 4878,    502.5,   7.5663,  34.5628,2,   -999.0,9,  34.5663,2,     96.0,2,  -999.00,9,  -999.00,9,    33.40,2,     0.00,2,     2.31,2, -999.000,9, -999.000,9,  -999.00,9,   -999.0,9,   -999.0,9,-999.0000,9,   -999.0,  9,  -999.00,9,   -999.0,  -999.00,9,  -999.00,9,  -999.00,9,  -999.00,9,   -999.0,-999.0000, -999,9,  499,   7.5164,  27.0015,   -999.0,9
       KS03-04,  137E,KS-0734,  1,     11,02-16017,2,20030502,1443,  5.0162, 137.0037, 4878,    602.7,   6.6721,  34.5388,2,   -999.0,9,  34.5388,2,     92.0,2,  -999.00,9,  -999.00,9,    35.34,2,     0.00,2,     2.46,2, -999.000,9, -999.000,9,  -999.00,9,   -999.0,9,   -999.0,9,-999.0000,9,   -999.0,  9,  -999.00,9,   -999.0,  -999.00,9,  -999.00,9,  -999.00,9,  -999.00,9,   -999.0,-999.0000, -999,9,  598,   6.6159,  27.1078,   -999.0,9
       KS03-04,  137E,KS-0734,  1,     10,02-16026,2,20030502,1440,  5.0162, 137.0037, 4878,    703.1,   6.1142,  34.5344,2,   -999.0,9,  34.5347,2,     96.0,2,  -999.00,9,  -999.00,9,    36.02,2,     0.00,2,     2.50,2, -999.000,9, -999.000,9,  -999.00,9,   -999.0,9,   -999.0,9,-999.0000,9,   -999.0,  9,  -999.00,9,   -999.0,  -999.00,9,  -999.00,9,  -999.00,9,  -999.00,9,   -999.0,-999.0000, -999,9,  698,   6.0511,  27.1783,   -999.0,9
       KS03-04,  137E,KS-0734,  1,      9,02-16012,2,20030502,1438,  5.0162, 137.0037, 4878,    804.3,   5.5845,  34.5358,2,   -999.0,9,  34.5382,2,     97.0,2,  -999.00,9,  -999.00,9,    37.28,2,     0.00,2,     2.62,2, -999.000,9, -999.000,9,  -999.00,9,   -999.0,9,   -999.0,9,-999.0000,9,   -999.0,  9,  -999.00,9,   -999.0,  -999.00,9,  -999.00,9,  -999.00,9,  -999.00,9,   -999.0,-999.0000, -999,9,  798,   5.5150,  27.2462,   -999.0,9
       KS03-04,  137E,KS-0734,  1,      8,02-16011,9,20030502,1436,  5.0162, 137.0037, 4878,    906.0,   5.0348,  34.5433,2,   -999.0,9,-999.0000,9,   -999.0,9,  -999.00,9,  -999.00,9,  -999.00,9,  -999.00,9,  -999.00,9, -999.000,9, -999.000,9,  -999.00,9,   -999.0,9,   -999.0,9,-999.0000,9,   -999.0,  9,  -999.00,9,   -999.0,  -999.00,9,  -999.00,9,  -999.00,9,  -999.00,9,   -999.0,-999.0000, -999,9,  899,   4.9596,  27.3178,   -999.0,9
       KS03-04,  137E,KS-0734,  1,      7,02-16016,2,20030502,1436,  5.0162, 137.0037, 4878,    905.5,   5.0363,  34.5432,2,   -999.0,9,  34.5441,2,     89.0,2,  -999.00,9,  -999.00,9,    38.06,2,     0.00,2,     2.68,2, -999.000,9, -999.000,9,  -999.00,9,   -999.0,9,   -999.0,9,-999.0000,9,   -999.0,  9,  -999.00,9,   -999.0,  -999.00,9,  -999.00,9,  -999.00,9,  -999.00,9,   -999.0,-999.0000, -999,9,  899,   4.9612,  27.3176,   -999.0,9
       KS03-04,  137E,KS-0734,  1,      6,02-16009,9,20030502,1434,  5.0162, 137.0037, 4878,   1006.8,   4.6688,  34.5515,2,   -999.0,9,-999.0000,9,   -999.0,9,  -999.00,9,  -999.00,9,  -999.00,9,  -999.00,9,  -999.00,9, -999.000,9, -999.000,9,  -999.00,9,   -999.0,9,   -999.0,9,-999.0000,9,   -999.0,  9,  -999.00,9,   -999.0,  -999.00,9,  -999.00,9,  -999.00,9,  -999.00,9,   -999.0,-999.0000, -999,9,  999,   4.5873,  27.3664,   -999.0,9
       KS03-04,  137E,KS-0734,  1,      5,02-16008,2,20030502,1433,  5.0162, 137.0037, 4878,   1006.4,   4.6697,  34.5512,2,   -999.0,9,  34.5510,2,     91.0,2,  -999.00,9,  -999.00,9,    38.64,2,     0.00,2,     2.72,2, -999.000,9, -999.000,9,  -999.00,9,   -999.0,9,   -999.0,9,-999.0000,9,   -999.0,  9,  -999.00,9,   -999.0,  -999.00,9,  -999.00,9,  -999.00,9,  -999.00,9,   -999.0,-999.0000, -999,9,  998,   4.5883,  27.3661,   -999.0,9
       KS03-04,  137E,KS-0734,  1,      4,02-16010,2,20030502,1429,  5.0162, 137.0037, 4878,   1259.1,   3.6170,  34.5776,2,   -999.0,9,  34.5777,2,     98.0,2,  -999.00,9,  -999.00,9,    38.93,2,     0.00,2,     2.74,2, -999.000,9, -999.000,9,  -999.00,9,   -999.0,9,   -999.0,9,-999.0000,9,   -999.0,  9,  -999.00,9,   -999.0,  -999.00,9,  -999.00,9,  -999.00,9,  -999.00,9,   -999.0,-999.0000, -999,9, 1248,   3.5228,  27.4983,   -999.0,9
       KS03-04,  137E,KS-0734,  1,      3,02-16015,2,20030502,1424,  5.0162, 137.0037, 4878,   1511.7,   3.0323,  34.5983,2,   -999.0,9,  34.5977,2,    102.0,2,  -999.00,9,  -999.00,9,    38.83,2,     0.00,2,     2.75,2, -999.000,9, -999.000,9,  -999.00,9,   -999.0,9,   -999.0,9,-999.0000,9,   -999.0,  9,  -999.00,9,   -999.0,  -999.00,9,  -999.00,9,  -999.00,9,  -999.00,9,   -999.0,-999.0000, -999,9, 1498,   2.9231,  27.5715,   -999.0,9
       KS03-04,  137E,KS-0734,  1,      2,02-16014,2,20030502,1420,  5.0162, 137.0037, 4878,   1765.5,   2.5533,  34.6203,2,   -999.0,9,  34.6201,2,    107.0,2,  -999.00,9,  -999.00,9,    38.92,2,     0.00,2,     2.72,2, -999.000,9, -999.000,9,  -999.00,9,   -999.0,9,   -999.0,9,-999.0000,9,   -999.0,  9,  -999.00,9,   -999.0,  -999.00,9,  -999.00,9,  -999.00,9,  -999.00,9,   -999.0,-999.0000, -999,9, 1748,   2.4287,  27.6324,   -999.0,9
       KS03-04,  137E,KS-0734,  1,      1,02-16007,2,20030502,1415,  5.0162, 137.0037, 4878,   2019.3,   2.1802,  34.6392,2,   -999.0,9,  34.6388,2,    116.0,2,  -999.00,9,  -999.00,9,    38.63,2,     0.00,2,     2.70,2, -999.000,9, -999.000,9,  -999.00,9,   -999.0,9,   -999.0,9,-999.0000,9,   -999.0,  9,  -999.00,9,   -999.0,  -999.00,9,  -999.00,9,  -999.00,9,  -999.00,9,   -999.0,-999.0000, -999,9, 1998,   2.0394,  27.6795,   -999.0,9