BOTTLE,20130510GEMDJMAYT
EXPOCODE,SECT_ID,STNNBR,CASTNO,SAMPNO,BTLNBR,BTLNBR_FLAG_W,DATE,TIME,LATITUDE,LONGITUDE,DEPTH,CTDPRS,CTDTMP,CTDSAL,CTDSAL_FLAG_W,CTDOXY,CTDOXY_FLAG_W,SALNTY,SALNTY_FLAG_W,OXYGEN,OXYGEN_FLAG_W,SILCAT,SILCAT_FLAG_W,NITRAT,NITRAT_FLAG_W,NO2+NO3,NO2+NO3_FLAG_W,NITRIT,NITRIT_FLAG_W,PHSPHT,PHSPHT_FLAG_W,CFC-11,CFC-11_FLAG_W,CFC-12,CFC-12_FLAG_W,DELC13,DELC13_FLAG_W,TCARBN,TCARBN_FLAG_W,ALKALI,ALKALI_FLAG_W,PH,PH_FLAG_W,PH_TMP,PH_SCALE,PH_NBS,PH_NBS_FLAG_W,C13ERR,TOTALP,TOTALP_FLAG_W,AMMONI,AMMONI_FLAG_W,CHLORA,CHLORA_FLAG_W,PPHYTN,PPHYTN_FLAG_W,REVPRS,REVTMP,DEPTH_,DEPTH_FLAG,CTDDEP,THETA,SIGTHT,DOC,DOC_FLAG_W
,,,,,,,GMT,GMT,,,METER,DBAR,ITS-90,PSS-78,,UMOL/KG,,PSS-78,,UMOL/KG,,UMOL/KG,,UMOL/KG,,UMOL/KG,,UMOL/KG,,UMOL/KG,,PMOL/KG,,PMOL/KG,,/MILLE,,UMOL/KG,,UMOL/KG,,25_DEG_C,,DEG_C,,,,/MILLE,UMOL/KG,,UMOL/KG,,UG/L,,UG/L,,DBAR,ITS-90,METERS,,METERS,DEG_C,,UMOL/L,
       KS03-04,  137E,KS-0701,  1,     24,02-16030,2,20030423,1427, 33.0233, 137.0247, 4298,      4.8,  22.2540,  34.8952,2,   -999.0,9,  34.8969,2,   -999.0,9,  -999.00,9,  -999.00,9,  -999.00,9,  -999.00,9,  -999.00,9, -999.000,9, -999.000,9,  -999.00,9,   -999.0,9,   -999.0,9,-999.0000,9,   -999.0,  9,  -999.00,9,   -999.0,  -999.00,9,  -999.00,9,  -999.00,9,  -999.00,9,   -999.0,-999.0000, -999,9,    5,  22.2530,  24.0671,   -999.0,9
       KS03-04,  137E,KS-0701,  1,     23,02-16029,2,20030423,1421, 33.0233, 137.0247, 4298,     99.2,  21.0418,  34.9163,2,   -999.0,9,  34.9166,2,   -999.0,9,  -999.00,9,  -999.00,9,  -999.00,9,  -999.00,9,  -999.00,9, -999.000,9, -999.000,9,  -999.00,9,   -999.0,9,   -999.0,9,-999.0000,9,   -999.0,  9,  -999.00,9,   -999.0,  -999.00,9,  -999.00,9,  -999.00,9,  -999.00,9,   -999.0,-999.0000, -999,9,   99,  21.0228,  24.4240,   -999.0,9
       KS03-04,  137E,KS-0701,  1,     22,02-16028,2,20030423,1419, 33.0233, 137.0247, 4298,    201.2,  19.4007,  34.8687,2,   -999.0,9,  34.8696,2,   -999.0,9,  -999.00,9,  -999.00,9,  -999.00,9,  -999.00,9,  -999.00,9, -999.000,9, -999.000,9,  -999.00,9,   -999.0,9,   -999.0,9,-999.0000,9,   -999.0,  9,  -999.00,9,   -999.0,  -999.00,9,  -999.00,9,  -999.00,9,  -999.00,9,   -999.0,-999.0000, -999,9,  200,  19.3643,  24.8274,   -999.0,9
       KS03-04,  137E,KS-0701,  1,     21,02-16027,2,20030423,1416, 33.0233, 137.0247, 4298,    302.8,  17.2813,  34.7267,2,   -999.0,9,  34.7276,2,   -999.0,9,  -999.00,9,  -999.00,9,  -999.00,9,  -999.00,9,  -999.00,9, -999.000,9, -999.000,9,  -999.00,9,   -999.0,9,   -999.0,9,-999.0000,9,   -999.0,  9,  -999.00,9,   -999.0,  -999.00,9,  -999.00,9,  -999.00,9,  -999.00,9,   -999.0,-999.0000, -999,9,  300,  17.2307,  25.2495,   -999.0,9
       KS03-04,  137E,KS-0701,  1,     20,02-16013,2,20030423,1413, 33.0233, 137.0247, 4298,    405.1,  15.1418,  34.6119,2,   -999.0,9,  34.6170,4,   -999.0,9,  -999.00,9,  -999.00,9,  -999.00,9,  -999.00,9,  -999.00,9, -999.000,9, -999.000,9,  -999.00,9,   -999.0,9,   -999.0,9,-999.0000,9,   -999.0,  9,  -999.00,9,   -999.0,  -999.00,9,  -999.00,9,  -999.00,9,  -999.00,9,   -999.0,-999.0000, -999,9,  402,  15.0799,  25.6552,   -999.0,9
       KS03-04,  137E,KS-0701,  1,     19,02-16025,9,20030423,1413, 33.0233, 137.0247, 4298,    403.5,  15.2382,  34.6173,2,   -999.0,9,-999.0000,9,   -999.0,9,  -999.00,9,  -999.00,9,  -999.00,9,  -999.00,9,  -999.00,9, -999.000,9, -999.000,9,  -999.00,9,   -999.0,9,   -999.0,9,-999.0000,9,   -999.0,  9,  -999.00,9,   -999.0,  -999.00,9,  -999.00,9,  -999.00,9,  -999.00,9,   -999.0,-999.0000, -999,9,  400,  15.1762,  25.6381,   -999.0,9
       KS03-04,  137E,KS-0701,  1,     18,02-16024,2,20030423,1409, 33.0233, 137.0247, 4298,    506.2,  11.3160,  34.3577,2,   -999.0,9,  34.3592,2,   -999.0,9,  -999.00,9,  -999.00,9,  -999.00,9,  -999.00,9,  -999.00,9, -999.000,9, -999.000,9,  -999.00,9,   -999.0,9,   -999.0,9,-999.0000,9,   -999.0,  9,  -999.00,9,   -999.0,  -999.00,9,  -999.00,9,  -999.00,9,  -999.00,9,   -999.0,-999.0000, -999,9,  502,  11.2520,  26.2296,   -999.0,9
       KS03-04,  137E,KS-0701,  1,     17,02-16023,9,20030423,1405, 33.0233, 137.0247, 4298,    607.3,   8.4565,  34.2089,2,   -999.0,9,-999.0000,9,   -999.0,9,  -999.00,9,  -999.00,9,  -999.00,9,  -999.00,9,  -999.00,9, -999.000,9, -999.000,9,  -999.00,9,   -999.0,9,   -999.0,9,-999.0000,9,   -999.0,  9,  -999.00,9,   -999.0,  -999.00,9,  -999.00,9,  -999.00,9,  -999.00,9,   -999.0,-999.0000, -999,9,  602,   8.3921,  26.5935,   -999.0,9
       KS03-04,  137E,KS-0701,  1,     16,02-16022,2,20030423,1405, 33.0233, 137.0247, 4298,    605.5,   8.4825,  34.2130,2,   -999.0,9,  34.2277,4,   -999.0,9,  -999.00,9,  -999.00,9,  -999.00,9,  -999.00,9,  -999.00,9, -999.000,9, -999.000,9,  -999.00,9,   -999.0,9,   -999.0,9,-999.0000,9,   -999.0,  9,  -999.00,9,   -999.0,  -999.00,9,  -999.00,9,  -999.00,9,  -999.00,9,   -999.0,-999.0000, -999,9,  600,   8.4182,  26.5927,   -999.0,9
       KS03-04,  137E,KS-0701,  1,     15,02-16021,2,20030423,1402, 33.0233, 137.0247, 4298,    707.7,   6.1191,  34.2798,2,   -999.0,9,  34.2727,4,   -999.0,9,  -999.00,9,  -999.00,9,  -999.00,9,  -999.00,9,  -999.00,9, -999.000,9, -999.000,9,  -999.00,9,   -999.0,9,   -999.0,9,-999.0000,9,   -999.0,  9,  -999.00,9,   -999.0,  -999.00,9,  -999.00,9,  -999.00,9,  -999.00,9,   -999.0,-999.0000, -999,9,  701,   6.0559,  26.9764,   -999.0,9
       KS03-04,  137E,KS-0701,  1,     14,02-16020,2,20030423,1358, 33.0233, 137.0247, 4298,    806.8,   5.0141,  34.2990,2,   -999.0,9,  34.2982,2,   -999.0,9,  -999.00,9,  -999.00,9,  -999.00,9,  -999.00,9,  -999.00,9, -999.000,9, -999.000,9,  -999.00,9,   -999.0,9,   -999.0,9,-999.0000,9,   -999.0,  9,  -999.00,9,   -999.0,  -999.00,9,  -999.00,9,  -999.00,9,  -999.00,9,   -999.0,-999.0000, -999,9,  800,   4.9482,  27.1254,   -999.0,9
       KS03-04,  137E,KS-0701,  1,     13,02-16019,2,20030423,1355, 33.0233, 137.0247, 4298,    908.5,   4.2962,  34.3403,2,   -999.0,9,  34.3397,2,   -999.0,9,  -999.00,9,  -999.00,9,  -999.00,9,  -999.00,9,  -999.00,9, -999.000,9, -999.000,9,  -999.00,9,   -999.0,9,   -999.0,9,-999.0000,9,   -999.0,  9,  -999.00,9,   -999.0,  -999.00,9,  -999.00,9,  -999.00,9,  -999.00,9,   -999.0,-999.0000, -999,9,  900,   4.2263,  27.2377,   -999.0,9
       KS03-04,  137E,KS-0701,  1,     12,02-16018,2,20030423,1352, 33.0233, 137.0247, 4298,   1008.7,   3.8993,  34.3776,2,   -999.0,9,  34.3774,2,   -999.0,9,  -999.00,9,  -999.00,9,  -999.00,9,  -999.00,9,  -999.00,9, -999.000,9, -999.000,9,  -999.00,9,   -999.0,9,   -999.0,9,-999.0000,9,   -999.0,  9,  -999.00,9,   -999.0,  -999.00,9,  -999.00,9,  -999.00,9,  -999.00,9,   -999.0,-999.0000, -999,9,  999,   3.8239,  27.3090,   -999.0,9
       KS03-04,  137E,KS-0701,  1,     11,02-16017,2,20030423,1347, 33.0233, 137.0247, 4298,   1260.8,   3.1014,  34.4693,2,   -999.0,9,  34.4689,2,   -999.0,9,  -999.00,9,  -999.00,9,  -999.00,9,  -999.00,9,  -999.00,9, -999.000,9, -999.000,9,  -999.00,9,   -999.0,9,   -999.0,9,-999.0000,9,   -999.0,  9,  -999.00,9,   -999.0,  -999.00,9,  -999.00,9,  -999.00,9,  -999.00,9,   -999.0,-999.0000, -999,9, 1248,   3.0123,  27.4603,   -999.0,9
       KS03-04,  137E,KS-0701,  1,     10,02-16026,9,20030423,1342, 33.0233, 137.0247, 4298,   1512.1,   2.6667,  34.5186,2,   -999.0,9,-999.0000,9,   -999.0,9,  -999.00,9,  -999.00,9,  -999.00,9,  -999.00,9,  -999.00,9, -999.000,9, -999.000,9,  -999.00,9,   -999.0,9,   -999.0,9,-999.0000,9,   -999.0,  9,  -999.00,9,   -999.0,  -999.00,9,  -999.00,9,  -999.00,9,  -999.00,9,   -999.0,-999.0000, -999,9, 1496,   2.5619,  27.5396,   -999.0,9
       KS03-04,  137E,KS-0701,  1,      9,02-16012,2,20030423,1341, 33.0233, 137.0247, 4298,   1512.5,   2.6686,  34.5183,2,   -999.0,9,  34.5168,2,   -999.0,9,  -999.00,9,  -999.00,9,  -999.00,9,  -999.00,9,  -999.00,9, -999.000,9, -999.000,9,  -999.00,9,   -999.0,9,   -999.0,9,-999.0000,9,   -999.0,  9,  -999.00,9,   -999.0,  -999.00,9,  -999.00,9,  -999.00,9,  -999.00,9,   -999.0,-999.0000, -999,9, 1496,   2.5637,  27.5393,   -999.0,9
       KS03-04,  137E,KS-0701,  1,      8,02-16011,2,20030423,1337, 33.0233, 137.0247, 4298,   1765.2,   2.2879,  34.5660,2,   -999.0,9,  34.5655,2,   -999.0,9,  -999.00,9,  -999.00,9,  -999.00,9,  -999.00,9,  -999.00,9, -999.000,9, -999.000,9,  -999.00,9,   -999.0,9,   -999.0,9,-999.0000,9,   -999.0,  9,  -999.00,9,   -999.0,  -999.00,9,  -999.00,9,  -999.00,9,  -999.00,9,   -999.0,-999.0000, -999,9, 1745,   2.1670,  27.6106,   -999.0,9
       KS03-04,  137E,KS-0701,  1,      7,02-16016,2,20030423,1333, 33.0233, 137.0247, 4298,   2005.9,   2.0525,  34.5988,2,   -999.0,9,  34.5979,2,   -999.0,9,  -999.00,9,  -999.00,9,  -999.00,9,  -999.00,9,  -999.00,9, -999.000,9, -999.000,9,  -999.00,9,   -999.0,9,   -999.0,9,-999.0000,9,   -999.0,  9,  -999.00,9,   -999.0,  -999.00,9,  -999.00,9,  -999.00,9,  -999.00,9,   -999.0,-999.0000, -999,9, 1982,   1.9149,  27.6569,   -999.0,9
       KS03-04,  137E,KS-0701,  1,      6,02-16009,9,20030423,1333, 33.0233, 137.0247, 4298,   2008.6,   2.0515,  34.5990,2,   -999.0,9,-999.0000,9,   -999.0,9,  -999.00,9,  -999.00,9,  -999.00,9,  -999.00,9,  -999.00,9, -999.000,9, -999.000,9,  -999.00,9,   -999.0,9,   -999.0,9,-999.0000,9,   -999.0,  9,  -999.00,9,   -999.0,  -999.00,9,  -999.00,9,  -999.00,9,  -999.00,9,   -999.0,-999.0000, -999,9, 1985,   1.9137,  27.6572,   -999.0,9
       KS03-04,  137E,KS-0701,  1,      5,02-16008,9,20030423,1332, 33.0233, 137.0247, 4298,   2008.4,   2.0512,  34.5990,2,   -999.0,9,-999.0000,9,   -999.0,9,  -999.00,9,  -999.00,9,  -999.00,9,  -999.00,9,  -999.00,9, -999.000,9, -999.000,9,  -999.00,9,   -999.0,9,   -999.0,9,-999.0000,9,   -999.0,  9,  -999.00,9,   -999.0,  -999.00,9,  -999.00,9,  -999.00,9,  -999.00,9,   -999.0,-999.0000, -999,9, 1985,   1.9134,  27.6572,   -999.0,9
       KS03-04,  137E,KS-0701,  1,      4,02-16010,9,20030423,1332, 33.0233, 137.0247, 4298,   2010.6,   2.0506,  34.5991,2,   -999.0,9,-999.0000,9,   -999.0,9,  -999.00,9,  -999.00,9,  -999.00,9,  -999.00,9,  -999.00,9, -999.000,9, -999.000,9,  -999.00,9,   -999.0,9,   -999.0,9,-999.0000,9,   -999.0,  9,  -999.00,9,   -999.0,  -999.00,9,  -999.00,9,  -999.00,9,  -999.00,9,   -999.0,-999.0000, -999,9, 1987,   1.9126,  27.6573,   -999.0,9
       KS03-04,  137E,KS-0701,  1,      3,02-16015,9,20030423,1332, 33.0233, 137.0247, 4298,   2011.4,   2.0492,  34.5994,2,   -999.0,9,-999.0000,9,   -999.0,9,  -999.00,9,  -999.00,9,  -999.00,9,  -999.00,9,  -999.00,9, -999.000,9, -999.000,9,  -999.00,9,   -999.0,9,   -999.0,9,-999.0000,9,   -999.0,  9,  -999.00,9,   -999.0,  -999.00,9,  -999.00,9,  -999.00,9,  -999.00,9,   -999.0,-999.0000, -999,9, 1988,   1.9112,  27.6577,   -999.0,9
       KS03-04,  137E,KS-0701,  1,      2,02-16014,9,20030423,1332, 33.0233, 137.0247, 4298,   2013.8,   2.0486,  34.5995,2,   -999.0,9,-999.0000,9,   -999.0,9,  -999.00,9,  -999.00,9,  -999.00,9,  -999.00,9,  -999.00,9, -999.000,9, -999.000,9,  -999.00,9,   -999.0,9,   -999.0,9,-999.0000,9,   -999.0,  9,  -999.00,9,   -999.0,  -999.00,9,  -999.00,9,  -999.00,9,  -999.00,9,   -999.0,-999.0000, -999,9, 1990,   1.9104,  27.6579,   -999.0,9
       KS03-04,  137E,KS-0701,  1,      1,02-16007,9,20030423,1332, 33.0233, 137.0247, 4298,   2014.5,   2.0482,  34.5995,2,   -999.0,9,-999.0000,9,   -999.0,9,  -999.00,9,  -999.00,9,  -999.00,9,  -999.00,9,  -999.00,9, -999.000,9, -999.000,9,  -999.00,9,   -999.0,9,   -999.0,9,-999.0000,9,   -999.0,  9,  -999.00,9,   -999.0,  -999.00,9,  -999.00,9,  -999.00,9,  -999.00,9,   -999.0,-999.0000, -999,9, 1991,   1.9099,  27.6578,   -999.0,9