BOTTLE,20130510GEMDJMAYT
EXPOCODE,SECT_ID,STNNBR,CASTNO,SAMPNO,BTLNBR,BTLNBR_FLAG_W,DATE,TIME,LATITUDE,LONGITUDE,DEPTH,CTDPRS,CTDTMP,CTDSAL,CTDSAL_FLAG_W,CTDOXY,CTDOXY_FLAG_W,SALNTY,SALNTY_FLAG_W,OXYGEN,OXYGEN_FLAG_W,SILCAT,SILCAT_FLAG_W,NITRAT,NITRAT_FLAG_W,NO2+NO3,NO2+NO3_FLAG_W,NITRIT,NITRIT_FLAG_W,PHSPHT,PHSPHT_FLAG_W,CFC-11,CFC-11_FLAG_W,CFC-12,CFC-12_FLAG_W,DELC13,DELC13_FLAG_W,TCARBN,TCARBN_FLAG_W,ALKALI,ALKALI_FLAG_W,PH,PH_FLAG_W,PH_TMP,PH_SCALE,PH_NBS,PH_NBS_FLAG_W,C13ERR,TOTALP,TOTALP_FLAG_W,AMMONI,AMMONI_FLAG_W,CHLORA,CHLORA_FLAG_W,PPHYTN,PPHYTN_FLAG_W,REVPRS,REVTMP,DEPTH_,DEPTH_FLAG,CTDDEP,THETA,SIGTHT,DOC,DOC_FLAG_W
,,,,,,,GMT,GMT,,,METER,DBAR,ITS-90,PSS-78,,UMOL/KG,,PSS-78,,UMOL/KG,,UMOL/KG,,UMOL/KG,,UMOL/KG,,UMOL/KG,,UMOL/KG,,PMOL/KG,,PMOL/KG,,/MILLE,,UMOL/KG,,UMOL/KG,,25_DEG_C,,DEG_C,,,,/MILLE,UMOL/KG,,UMOL/KG,,UG/L,,UG/L,,DBAR,ITS-90,METERS,,METERS,DEG_C,,UMOL/L,
       KS03-06,  165E,KS-0766,  1,     24,02-16030,2,20030707,0212, 14.9932, 164.9820, 5202,      4.1,  28.9078,  34.4353,2,   -999.0,9,  34.4363,2,    201.0,2,  -999.00,9,  -999.00,9,     0.00,2,     0.00,2,     0.06,2, -999.000,9, -999.000,9,  -999.00,9,   1924.4,2,   -999.0,9,-999.0000,9,   -999.0,  9,     8.24,2,   -999.0,  -999.00,9,  -999.00,9,     0.03,2,     0.01,2,   -999.0,-999.0000, -999,9,    4,  28.9068,  21.6712,   -999.0,9
       KS03-06,  165E,KS-0766,  1,     23,02-16029,2,20030707,0211, 14.9932, 164.9820, 5202,     10.1,  28.8285,  34.4334,2,   -999.0,9,-999.0000,9,    201.0,2,  -999.00,9,  -999.00,9,     0.00,2,     0.00,2,     0.06,2, -999.000,9, -999.000,9,  -999.00,9,   1922.8,2,   -999.0,9,-999.0000,9,   -999.0,  9,     8.24,2,   -999.0,  -999.00,9,  -999.00,9,     0.03,2,     0.01,2,   -999.0,-999.0000, -999,9,   10,  28.8261,  21.6966,   -999.0,9
       KS03-06,  165E,KS-0766,  1,     22,02-16028,2,20030707,0210, 14.9932, 164.9820, 5202,     25.5,  28.6333,  34.4283,2,   -999.0,9,-999.0000,9,    201.0,2,  -999.00,9,  -999.00,9,     0.00,2,     0.00,2,     0.06,2, -999.000,9, -999.000,9,  -999.00,9,   1921.6,2,   -999.0,9,-999.0000,9,   -999.0,  9,     8.23,2,   -999.0,  -999.00,9,  -999.00,9,     0.04,2,     0.02,2,   -999.0,-999.0000, -999,9,   25,  28.6272,  21.7587,   -999.0,9
       KS03-06,  165E,KS-0766,  1,     21,02-16027,2,20030707,0207, 14.9932, 164.9820, 5202,     49.0,  28.6202,  34.4264,2,   -999.0,9,-999.0000,9,    201.0,2,  -999.00,9,  -999.00,9,     0.00,2,     0.00,2,     0.06,2, -999.000,9, -999.000,9,  -999.00,9,   1924.6,2,   -999.0,9,-999.0000,9,   -999.0,  9,     8.24,2,   -999.0,  -999.00,9,  -999.00,9,     0.02,2,     0.07,2,   -999.0,-999.0000, -999,9,   49,  28.6085,  21.7635,   -999.0,9
       KS03-06,  165E,KS-0766,  1,     20,02-16026,2,20030707,0206, 14.9932, 164.9820, 5202,     75.2,  28.0839,  34.4456,2,   -999.0,9,-999.0000,9,    206.0,2,  -999.00,9,  -999.00,9,     0.00,2,     0.00,2,     0.07,2, -999.000,9, -999.000,9,  -999.00,9,   1924.6,2,   -999.0,9,-999.0000,9,   -999.0,  9,     8.22,2,   -999.0,  -999.00,9,  -999.00,9,     0.04,2,     0.10,2,   -999.0,-999.0000, -999,9,   75,  28.0662,  21.9562,   -999.0,9
       KS03-06,  165E,KS-0766,  1,     19,02-16025,2,20030707,0205, 14.9932, 164.9820, 5202,     99.4,  27.3964,  34.4933,2,   -999.0,9,  34.5166,4,    207.0,2,  -999.00,9,  -999.00,9,     0.00,2,     0.00,2,     0.08,2, -999.000,9, -999.000,9,  -999.00,9,   1934.1,2,   -999.0,9,-999.0000,9,   -999.0,  9,     8.22,2,   -999.0,  -999.00,9,  -999.00,9,     0.04,2,     0.18,2,   -999.0,-999.0000, -999,9,   99,  27.3734,  22.2166,   -999.0,9
       KS03-06,  165E,KS-0766,  1,     18,02-16024,2,20030707,0204, 14.9932, 164.9820, 5202,    124.9,  26.6943,  34.7803,2,   -999.0,9,-999.0000,9,    206.0,2,  -999.00,9,  -999.00,9,     0.00,2,     0.00,2,     0.11,2, -999.000,9, -999.000,9,  -999.00,9,   1957.4,2,   -999.0,9,-999.0000,9,   -999.0,  9,     8.22,2,   -999.0,  -999.00,9,  -999.00,9,     0.06,2,     0.44,2,   -999.0,-999.0000, -999,9,  124,  26.6659,  22.6585,   -999.0,9
       KS03-06,  165E,KS-0766,  1,     17,02-16023,2,20030707,0203, 14.9932, 164.9820, 5202,    150.0,  25.5482,  34.8998,2,   -999.0,9,-999.0000,9,    200.0,2,  -999.00,9,  -999.00,9,     0.00,2,     0.01,2,     0.12,2, -999.000,9, -999.000,9,  -999.00,9,   1978.3,2,   -999.0,9,-999.0000,9,   -999.0,  9,     8.17,2,   -999.0,  -999.00,9,  -999.00,9,     0.17,2,     0.33,2,   -999.0,-999.0000, -999,9,  149,  25.5152,  23.1079,   -999.0,9
       KS03-06,  165E,KS-0766,  1,     16,02-16022,2,20030707,0202, 14.9932, 164.9820, 5202,    200.5,  20.2127,  34.9835,2,   -999.0,9,  35.0000,4,    220.0,3,  -999.00,9,  -999.00,9,     4.20,2,     0.01,2,     0.40,2, -999.000,9, -999.000,9,  -999.00,9,   2055.3,2,   -999.0,9,-999.0000,9,   -999.0,  9,     8.06,2,   -999.0,  -999.00,9,  -999.00,9,     0.03,2,     0.11,2,   -999.0,-999.0000, -999,9,  199,  20.1753,  24.7028,   -999.0,9
       KS03-06,  165E,KS-0766,  1,     15,02-16021,2,20030707,0200, 14.9932, 164.9820, 5202,    250.6,  15.5990,  34.5844,2,   -999.0,9,-999.0000,9,    163.0,2,  -999.00,9,  -999.00,9,    10.43,2,     0.00,2,     0.80,2, -999.000,9, -999.000,9,  -999.00,9,   2087.6,2,   -999.0,9,-999.0000,9,   -999.0,  9,     7.92,2,   -999.0,  -999.00,9,  -999.00,9,     0.01,2,     0.00,2,   -999.0,-999.0000, -999,9,  249,  15.5601,  25.5274,   -999.0,9
       KS03-06,  165E,KS-0766,  1,     14,02-16020,2,20030707,0158, 14.9932, 164.9820, 5202,    300.9,  11.7888,  34.3307,2,   -999.0,9,  34.3309,2,    144.0,2,  -999.00,9,  -999.00,9,    18.71,2,     0.00,2,     1.36,2, -999.000,9, -999.000,9,  -999.00,9,   2128.5,2,   -999.0,9,-999.0000,9,   -999.0,  9,     7.81,2,   -999.0,  -999.00,9,  -999.00,9,     0.00,2,     0.00,2,   -999.0,-999.0000, -999,9,  299,  11.7501,  26.1164,   -999.0,9
       KS03-06,  165E,KS-0766,  1,     13,02-16019,2,20030707,0156, 14.9932, 164.9820, 5202,    402.1,   8.6359,  34.2601,2,   -999.0,9,  34.2615,2,     96.0,2,  -999.00,9,  -999.00,9,    29.03,2,     0.00,2,     2.09,2, -999.000,9, -999.000,9,  -999.00,9,   2212.9,2,   -999.0,9,-999.0000,9,   -999.0,  9,     7.65,2,   -999.0,  -999.00,9,  -999.00,9,  -999.00,9,  -999.00,9,   -999.0,-999.0000, -999,9,  399,   8.5932,  26.6027,   -999.0,9
       KS03-06,  165E,KS-0766,  1,     12,02-16018,2,20030707,0150, 14.9932, 164.9820, 5202,    502.9,   7.3293,  34.3877,2,   -999.0,9,  34.3886,2,     51.0,2,  -999.00,9,  -999.00,9,    35.84,2,     0.00,2,     2.59,2, -999.000,9, -999.000,9,  -999.00,9,   -999.0,9,   -999.0,9,-999.0000,9,   -999.0,  9,     7.56,2,   -999.0,  -999.00,9,  -999.00,9,  -999.00,9,  -999.00,9,   -999.0,-999.0000, -999,9,  499,   7.2804,  26.8973,   -999.0,9
       KS03-06,  165E,KS-0766,  1,     11,02-16017,2,20030707,0148, 14.9932, 164.9820, 5202,    603.3,   6.4453,  34.4535,2,   -999.0,9,  34.4536,2,     52.0,2,  -999.00,9,  -999.00,9,    37.78,2,     0.00,2,     2.71,2, -999.000,9, -999.000,9,  -999.00,9,   2283.1,2,   -999.0,9,-999.0000,9,   -999.0,  9,     7.56,2,   -999.0,  -999.00,9,  -999.00,9,  -999.00,9,  -999.00,9,   -999.0,-999.0000, -999,9,  599,   6.3902,  27.0704,   -999.0,9
       KS03-06,  165E,KS-0766,  1,     10,02-16016,9,20030707,0145, 14.9932, 164.9820, 5202,    705.0,   5.7513,  34.4826,2,   -999.0,9,-999.0000,9,   -999.0,9,  -999.00,9,  -999.00,9,  -999.00,9,  -999.00,9,  -999.00,9, -999.000,9, -999.000,9,  -999.00,9,   -999.0,9,   -999.0,9,-999.0000,9,   -999.0,  9,  -999.00,9,   -999.0,  -999.00,9,  -999.00,9,  -999.00,9,  -999.00,9,   -999.0,-999.0000, -999,9,  700,   5.6900,  27.1826,   -999.0,9
       KS03-06,  165E,KS-0766,  1,      9,02-16015,2,20030707,0145, 14.9932, 164.9820, 5202,    704.2,   5.7597,  34.4824,2,   -999.0,9,  34.4824,2,     53.0,2,  -999.00,9,  -999.00,9,    39.14,2,     0.00,2,     2.79,2, -999.000,9, -999.000,9,  -999.00,9,   -999.0,9,   -999.0,9,-999.0000,9,   -999.0,  9,     7.54,2,   -999.0,  -999.00,9,  -999.00,9,  -999.00,9,  -999.00,9,   -999.0,-999.0000, -999,9,  699,   5.6985,  27.1814,   -999.0,9
       KS03-06,  165E,KS-0766,  1,      8,02-16014,2,20030707,0141, 14.9932, 164.9820, 5202,    805.5,   5.2222,  34.5021,2,   -999.0,9,  34.5009,2,     57.0,2,  -999.00,9,  -999.00,9,    39.81,2,     0.00,2,     2.84,2, -999.000,9, -999.000,9,  -999.00,9,   2304.8,2,   -999.0,9,-999.0000,9,   -999.0,  9,     7.55,2,   -999.0,  -999.00,9,  -999.00,9,  -999.00,9,  -999.00,9,   -999.0,-999.0000, -999,9,  799,   5.1549,  27.2625,   -999.0,9
       KS03-06,  165E,KS-0766,  1,      7,02-16013,2,20030707,0139, 14.9932, 164.9820, 5202,    905.0,   4.8596,  34.5165,2,   -999.0,9,  34.5166,2,     59.0,2,  -999.00,9,  -999.00,9,    40.20,2,     0.00,2,     2.86,2, -999.000,9, -999.000,9,  -999.00,9,   -999.0,9,   -999.0,9,-999.0000,9,   -999.0,  9,     7.55,2,   -999.0,  -999.00,9,  -999.00,9,  -999.00,9,  -999.00,9,   -999.0,-999.0000, -999,9,  898,   4.7858,  27.3164,   -999.0,9
       KS03-06,  165E,KS-0766,  1,      6,02-16012,2,20030707,0134, 14.9932, 164.9820, 5202,   1007.2,   4.3761,  34.5294,2,   -999.0,9,  34.5290,2,     67.0,2,  -999.00,9,  -999.00,9,    40.10,2,     0.00,2,     2.83,2, -999.000,9, -999.000,9,  -999.00,9,   2321.9,3,   -999.0,9,-999.0000,9,   -999.0,  9,     7.56,2,   -999.0,  -999.00,9,  -999.00,9,  -999.00,9,  -999.00,9,   -999.0,-999.0000, -999,9,  999,   4.2969,  27.3805,   -999.0,9
       KS03-06,  165E,KS-0766,  1,      5,02-16011,2,20030707,0128, 14.9932, 164.9820, 5202,   1258.1,   3.5501,  34.5596,2,   -999.0,9,  34.5588,2,     76.0,2,  -999.00,9,  -999.00,9,    40.20,2,     0.00,2,     2.84,2, -999.000,9, -999.000,9,  -999.00,9,   2336.0,2,   -999.0,9,-999.0000,9,   -999.0,  9,     7.57,2,   -999.0,  -999.00,9,  -999.00,9,  -999.00,9,  -999.00,9,   -999.0,-999.0000, -999,9, 1247,   3.4567,  27.4904,   -999.0,9
       KS03-06,  165E,KS-0766,  1,      4,02-16010,2,20030707,0120, 14.9932, 164.9820, 5202,   1513.3,   2.8648,  34.5863,2,   -999.0,9,  34.5853,2,     86.0,2,  -999.00,9,  -999.00,9,    39.90,2,     0.00,2,     2.82,2, -999.000,9, -999.000,9,  -999.00,9,   2347.4,2,   -999.0,9,-999.0000,9,   -999.0,  9,     7.59,2,   -999.0,  -999.00,9,  -999.00,9,  -999.00,9,  -999.00,9,   -999.0,-999.0000, -999,9, 1499,   2.7574,  27.5768,   -999.0,9
       KS03-06,  165E,KS-0766,  1,      3,02-16009,9,20030707,0114, 14.9932, 164.9820, 5202,   1765.3,   2.4484,  34.6086,2,   -999.0,9,-999.0000,9,   -999.0,9,  -999.00,9,  -999.00,9,  -999.00,9,  -999.00,9,  -999.00,9, -999.000,9, -999.000,9,  -999.00,9,   -999.0,9,   -999.0,9,-999.0000,9,   -999.0,  9,  -999.00,9,   -999.0,  -999.00,9,  -999.00,9,  -999.00,9,  -999.00,9,   -999.0,-999.0000, -999,9, 1748,   2.3252,  27.6317,   -999.0,9
       KS03-06,  165E,KS-0766,  1,      2,02-16008,3,20030707,0114, 14.9932, 164.9820, 5202,   1765.9,   2.4463,  34.6089,2,   -999.0,9,  34.6089,2,     96.0,2,  -999.00,9,  -999.00,9,    39.51,2,     0.00,2,     2.78,2, -999.000,9, -999.000,9,  -999.00,9,   -999.0,9,   -999.0,9,-999.0000,9,   -999.0,  9,     7.62,4,   -999.0,  -999.00,9,  -999.00,9,  -999.00,9,  -999.00,9,   -999.0,-999.0000, -999,9, 1748,   2.3231,  27.6321,   -999.0,9
       KS03-06,  165E,KS-0766,  1,      1,02-16007,2,20030707,0109, 14.9932, 164.9820, 5202,   2018.8,   2.1599,  34.6337,2,   -999.0,9,  34.6319,2,    106.0,2,  -999.00,9,  -999.00,9,    38.92,2,     0.00,2,     2.73,2, -999.000,9, -999.000,9,  -999.00,9,   2352.4,2,   -999.0,9,-999.0000,9,   -999.0,  9,     7.61,2,   -999.0,  -999.00,9,  -999.00,9,  -999.00,9,  -999.00,9,   -999.0,-999.0000, -999,9, 1997,   2.0194,  27.6766,   -999.0,9