BOTTLE,20130510GEMDJMAYT
EXPOCODE,SECT_ID,STNNBR,CASTNO,SAMPNO,BTLNBR,BTLNBR_FLAG_W,DATE,TIME,LATITUDE,LONGITUDE,DEPTH,CTDPRS,CTDTMP,CTDSAL,CTDSAL_FLAG_W,CTDOXY,CTDOXY_FLAG_W,SALNTY,SALNTY_FLAG_W,OXYGEN,OXYGEN_FLAG_W,SILCAT,SILCAT_FLAG_W,NITRAT,NITRAT_FLAG_W,NO2+NO3,NO2+NO3_FLAG_W,NITRIT,NITRIT_FLAG_W,PHSPHT,PHSPHT_FLAG_W,CFC-11,CFC-11_FLAG_W,CFC-12,CFC-12_FLAG_W,DELC13,DELC13_FLAG_W,TCARBN,TCARBN_FLAG_W,ALKALI,ALKALI_FLAG_W,PH,PH_FLAG_W,PH_TMP,PH_SCALE,PH_NBS,PH_NBS_FLAG_W,C13ERR,TOTALP,TOTALP_FLAG_W,AMMONI,AMMONI_FLAG_W,CHLORA,CHLORA_FLAG_W,PPHYTN,PPHYTN_FLAG_W,REVPRS,REVTMP,DEPTH_,DEPTH_FLAG,CTDDEP,THETA,SIGTHT,DOC,DOC_FLAG_W
,,,,,,,GMT,GMT,,,METER,DBAR,ITS-90,PSS-78,,UMOL/KG,,PSS-78,,UMOL/KG,,UMOL/KG,,UMOL/KG,,UMOL/KG,,UMOL/KG,,UMOL/KG,,PMOL/KG,,PMOL/KG,,/MILLE,,UMOL/KG,,UMOL/KG,,25_DEG_C,,DEG_C,,,,/MILLE,UMOL/KG,,UMOL/KG,,UG/L,,UG/L,,DBAR,ITS-90,METERS,,METERS,DEG_C,,UMOL/L,
       KS03-06,  NONE,KS-0748,  1,     24,02-16030,2,20030701,1054, 28.0025, 155.0105, 5774,      5.2,  25.7433,  34.6719,2,   -999.0,9,  34.6734,2,    213.0,2,  -999.00,9,  -999.00,9,     0.00,2,     0.00,2,     0.01,2, -999.000,9, -999.000,9,  -999.00,9,   -999.0,9,   -999.0,9,-999.0000,9,   -999.0,  9,  -999.00,9,   -999.0,  -999.00,9,  -999.00,9,  -999.00,9,  -999.00,9,   -999.0,-999.0000, -999,9,    5,  25.7421,  22.8659,   -999.0,9
       KS03-06,  NONE,KS-0748,  1,     23,02-16029,2,20030701,1053, 28.0025, 155.0105, 5774,      9.7,  25.7400,  34.6697,2,   -999.0,9,-999.0000,9,    213.0,2,  -999.00,9,  -999.00,9,     0.00,2,     0.00,2,     0.01,2, -999.000,9, -999.000,9,  -999.00,9,   -999.0,9,   -999.0,9,-999.0000,9,   -999.0,  9,  -999.00,9,   -999.0,  -999.00,9,  -999.00,9,  -999.00,9,  -999.00,9,   -999.0,-999.0000, -999,9,   10,  25.7379,  22.8655,   -999.0,9
       KS03-06,  NONE,KS-0748,  1,     22,02-16028,2,20030701,1052, 28.0025, 155.0105, 5774,     24.4,  22.6633,  34.7418,2,   -999.0,9,-999.0000,9,    230.0,2,  -999.00,9,  -999.00,9,     0.00,2,     0.00,2,     0.01,2, -999.000,9, -999.000,9,  -999.00,9,   -999.0,9,   -999.0,9,-999.0000,9,   -999.0,  9,  -999.00,9,   -999.0,  -999.00,9,  -999.00,9,  -999.00,9,  -999.00,9,   -999.0,-999.0000, -999,9,   24,  22.6584,  23.8357,   -999.0,9
       KS03-06,  NONE,KS-0748,  1,     21,02-16027,2,20030701,1047, 28.0025, 155.0105, 5774,     50.1,  20.4195,  34.7733,2,   -999.0,9,-999.0000,9,    240.0,2,  -999.00,9,  -999.00,9,     0.00,2,     0.00,2,     0.02,2, -999.000,9, -999.000,9,  -999.00,9,   -999.0,9,   -999.0,9,-999.0000,9,   -999.0,  9,  -999.00,9,   -999.0,  -999.00,9,  -999.00,9,  -999.00,9,  -999.00,9,   -999.0,-999.0000, -999,9,   50,  20.4101,  24.4801,   -999.0,9
       KS03-06,  NONE,KS-0748,  1,     20,02-16026,2,20030701,1046, 28.0025, 155.0105, 5774,     74.1,  17.7821,  34.7453,2,   -999.0,9,-999.0000,9,    242.0,2,  -999.00,9,  -999.00,9,     0.00,2,     0.00,2,     0.07,2, -999.000,9, -999.000,9,  -999.00,9,   -999.0,9,   -999.0,9,-999.0000,9,   -999.0,  9,  -999.00,9,   -999.0,  -999.00,9,  -999.00,9,  -999.00,9,  -999.00,9,   -999.0,-999.0000, -999,9,   74,  17.7695,  25.1335,   -999.0,9
       KS03-06,  NONE,KS-0748,  1,     19,02-16025,9,20030701,1045, 28.0025, 155.0105, 5774,     99.7,  17.3328,  34.7568,2,   -999.0,9,-999.0000,9,   -999.0,9,  -999.00,9,  -999.00,9,  -999.00,9,  -999.00,9,  -999.00,9, -999.000,9, -999.000,9,  -999.00,9,   -999.0,9,   -999.0,9,-999.0000,9,   -999.0,  9,  -999.00,9,   -999.0,  -999.00,9,  -999.00,9,  -999.00,9,  -999.00,9,   -999.0,-999.0000, -999,9,   99,  17.3162,  25.2521,   -999.0,9
       KS03-06,  NONE,KS-0748,  1,     18,02-16024,2,20030701,1045, 28.0025, 155.0105, 5774,     99.3,  17.3324,  34.7567,2,   -999.0,9,  34.7569,2,    224.0,2,  -999.00,9,  -999.00,9,     3.12,2,     0.08,2,     0.22,2, -999.000,9, -999.000,9,  -999.00,9,   -999.0,9,   -999.0,9,-999.0000,9,   -999.0,  9,  -999.00,9,   -999.0,  -999.00,9,  -999.00,9,  -999.00,9,  -999.00,9,   -999.0,-999.0000, -999,9,   99,  17.3159,  25.2521,   -999.0,9
       KS03-06,  NONE,KS-0748,  1,     17,02-16023,2,20030701,1043, 28.0025, 155.0105, 5774,    124.7,  17.0784,  34.7431,2,   -999.0,9,-999.0000,9,    220.0,2,  -999.00,9,  -999.00,9,     3.80,2,     0.03,2,     0.26,2, -999.000,9, -999.000,9,  -999.00,9,   -999.0,9,   -999.0,9,-999.0000,9,   -999.0,  9,  -999.00,9,   -999.0,  -999.00,9,  -999.00,9,  -999.00,9,  -999.00,9,   -999.0,-999.0000, -999,9,  124,  17.0578,  25.3033,   -999.0,9
       KS03-06,  NONE,KS-0748,  1,     16,02-16022,2,20030701,1042, 28.0025, 155.0105, 5774,    149.0,  16.8092,  34.7274,2,   -999.0,9,-999.0000,9,    220.0,2,  -999.00,9,  -999.00,9,     4.49,2,     0.02,2,     0.31,2, -999.000,9, -999.000,9,  -999.00,9,   -999.0,9,   -999.0,9,-999.0000,9,   -999.0,  9,  -999.00,9,   -999.0,  -999.00,9,  -999.00,9,  -999.00,9,  -999.00,9,   -999.0,-999.0000, -999,9,  148,  16.7849,  25.3559,   -999.0,9
       KS03-06,  NONE,KS-0748,  1,     15,02-16021,2,20030701,1040, 28.0025, 155.0105, 5774,    201.2,  16.3679,  34.6960,2,   -999.0,9,  34.6977,2,    212.0,2,  -999.00,9,  -999.00,9,     5.85,2,     0.01,2,     0.40,2, -999.000,9, -999.000,9,  -999.00,9,   -999.0,9,   -999.0,9,-999.0000,9,   -999.0,  9,  -999.00,9,   -999.0,  -999.00,9,  -999.00,9,  -999.00,9,  -999.00,9,   -999.0,-999.0000, -999,9,  200,  16.3356,  25.4366,   -999.0,9
       KS03-06,  NONE,KS-0748,  1,     14,02-16020,2,20030701,1037, 28.0025, 155.0105, 5774,    251.7,  15.4700,  34.6199,2,   -999.0,9,-999.0000,9,    199.0,2,  -999.00,9,  -999.00,9,     8.48,2,     0.00,2,     0.58,2, -999.000,9, -999.000,9,  -999.00,9,   -999.0,9,   -999.0,9,-999.0000,9,   -999.0,  9,  -999.00,9,   -999.0,  -999.00,9,  -999.00,9,  -999.00,9,  -999.00,9,   -999.0,-999.0000, -999,9,  250,  15.4311,  25.5835,   -999.0,9
       KS03-06,  NONE,KS-0748,  1,     13,02-16019,2,20030701,1035, 28.0025, 155.0105, 5774,    302.8,  14.4241,  34.5599,2,   -999.0,9,  34.5643,4,    198.0,2,  -999.00,9,  -999.00,9,    10.24,2,     0.00,2,     0.70,2, -999.000,9, -999.000,9,  -999.00,9,   -999.0,9,   -999.0,9,-999.0000,9,   -999.0,  9,  -999.00,9,   -999.0,  -999.00,9,  -999.00,9,  -999.00,9,  -999.00,9,   -999.0,-999.0000, -999,9,  301,  14.3795,  25.7667,   -999.0,9
       KS03-06,  NONE,KS-0748,  1,     12,02-16018,2,20030701,1032, 28.0025, 155.0105, 5774,    402.9,  11.9350,  34.3763,2,   -999.0,9,  34.3780,2,    191.0,2,  -999.00,9,  -999.00,9,    14.91,2,     0.00,2,     1.03,2, -999.000,9, -999.000,9,  -999.00,9,   -999.0,9,   -999.0,9,-999.0000,9,   -999.0,  9,  -999.00,9,   -999.0,  -999.00,9,  -999.00,9,  -999.00,9,  -999.00,9,   -999.0,-999.0000, -999,9,  400,  11.8825,  26.1269,   -999.0,9
       KS03-06,  NONE,KS-0748,  1,     11,02-16017,2,20030701,1028, 28.0025, 155.0105, 5774,    502.9,   9.0309,  34.1498,2,   -999.0,9,  34.1503,2,    185.0,2,  -999.00,9,  -999.00,9,    20.46,2,     0.00,2,     1.45,2, -999.000,9, -999.000,9,  -999.00,9,   -999.0,9,   -999.0,9,-999.0000,9,   -999.0,  9,  -999.00,9,   -999.0,  -999.00,9,  -999.00,9,  -999.00,9,  -999.00,9,   -999.0,-999.0000, -999,9,  499,   8.9758,  26.4562,   -999.0,9
       KS03-06,  NONE,KS-0748,  1,     10,02-16016,2,20030701,1024, 28.0025, 155.0105, 5774,    603.7,   6.6507,  34.0371,2,   -999.0,9,  34.0388,4,    146.0,2,  -999.00,9,  -999.00,9,    28.34,2,     0.00,2,     2.03,2, -999.000,9, -999.000,9,  -999.00,9,   -999.0,9,   -999.0,9,-999.0000,9,   -999.0,  9,  -999.00,9,   -999.0,  -999.00,9,  -999.00,9,  -999.00,9,  -999.00,9,   -999.0,-999.0000, -999,9,  599,   6.5950,  26.7149,   -999.0,9
       KS03-06,  NONE,KS-0748,  1,      9,02-16015,2,20030701,1022, 28.0025, 155.0105, 5774,    703.4,   5.2760,  34.0668,2,   -999.0,9,  34.0672,2,    107.0,2,  -999.00,9,  -999.00,9,    34.08,2,     0.00,2,     2.45,2, -999.000,9, -999.000,9,  -999.00,9,   -999.0,9,   -999.0,9,-999.0000,9,   -999.0,  9,  -999.00,9,   -999.0,  -999.00,9,  -999.00,9,  -999.00,9,  -999.00,9,   -999.0,-999.0000, -999,9,  698,   5.2179,  26.9102,   -999.0,9
       KS03-06,  NONE,KS-0748,  1,      8,02-16014,2,20030701,1017, 28.0025, 155.0105, 5774,    805.8,   4.5802,  34.1934,2,   -999.0,9,  34.1942,2,     71.0,2,  -999.00,9,  -999.00,9,    38.07,2,     0.00,2,     2.74,2, -999.000,9, -999.000,9,  -999.00,9,   -999.0,9,   -999.0,9,-999.0000,9,   -999.0,  9,  -999.00,9,   -999.0,  -999.00,9,  -999.00,9,  -999.00,9,  -999.00,9,   -999.0,-999.0000, -999,9,  799,   4.5172,  27.0898,   -999.0,9
       KS03-06,  NONE,KS-0748,  1,      7,02-16013,2,20030701,1015, 28.0025, 155.0105, 5774,    905.5,   3.9580,  34.2549,2,   -999.0,9,  34.2540,2,     54.0,2,  -999.00,9,  -999.00,9,    40.40,2,     0.00,2,     2.89,2, -999.000,9, -999.000,9,  -999.00,9,   -999.0,9,   -999.0,9,-999.0000,9,   -999.0,  9,  -999.00,9,   -999.0,  -999.00,9,  -999.00,9,  -999.00,9,  -999.00,9,   -999.0,-999.0000, -999,9,  898,   3.8908,  27.2046,   -999.0,9
       KS03-06,  NONE,KS-0748,  1,      6,02-16012,9,20030701,1012, 28.0025, 155.0105, 5774,   1005.7,   3.5643,  34.3318,2,   -999.0,9,-999.0000,9,   -999.0,9,  -999.00,9,  -999.00,9,  -999.00,9,  -999.00,9,  -999.00,9, -999.000,9, -999.000,9,  -999.00,9,   -999.0,9,   -999.0,9,-999.0000,9,   -999.0,  9,  -999.00,9,   -999.0,  -999.00,9,  -999.00,9,  -999.00,9,  -999.00,9,   -999.0,-999.0000, -999,9,  997,   3.4918,  27.3054,   -999.0,9
       KS03-06,  NONE,KS-0748,  1,      5,02-16011,2,20030701,1012, 28.0025, 155.0105, 5774,   1006.4,   3.5636,  34.3318,2,   -999.0,9,  34.3311,2,     42.0,2,  -999.00,9,  -999.00,9,    41.95,2,     0.00,2,     3.01,2, -999.000,9, -999.000,9,  -999.00,9,   -999.0,9,   -999.0,9,-999.0000,9,   -999.0,  9,  -999.00,9,   -999.0,  -999.00,9,  -999.00,9,  -999.00,9,  -999.00,9,   -999.0,-999.0000, -999,9,  997,   3.4911,  27.3055,   -999.0,9
       KS03-06,  NONE,KS-0748,  1,      4,02-16010,2,20030701,1004, 28.0025, 155.0105, 5774,   1259.8,   2.8872,  34.4520,2,   -999.0,9,  34.4508,2,     39.0,2,  -999.00,9,  -999.00,9,    42.82,2,     0.00,2,     3.08,2, -999.000,9, -999.000,9,  -999.00,9,   -999.0,9,   -999.0,9,-999.0000,9,   -999.0,  9,  -999.00,9,   -999.0,  -999.00,9,  -999.00,9,  -999.00,9,  -999.00,9,   -999.0,-999.0000, -999,9, 1248,   2.8003,  27.4656,   -999.0,9
       KS03-06,  NONE,KS-0748,  1,      3,02-16009,2,20030701,0956, 28.0025, 155.0105, 5774,   1513.1,   2.4088,  34.5271,2,   -999.0,9,  34.5252,2,     51.0,2,  -999.00,9,  -999.00,9,    42.33,2,     0.00,2,     3.02,2, -999.000,9, -999.000,9,  -999.00,9,   -999.0,9,   -999.0,9,-999.0000,9,   -999.0,  9,  -999.00,9,   -999.0,  -999.00,9,  -999.00,9,  -999.00,9,  -999.00,9,   -999.0,-999.0000, -999,9, 1498,   2.3069,  27.5679,   -999.0,9
       KS03-06,  NONE,KS-0748,  1,      2,02-16008,2,20030701,0948, 28.0025, 155.0105, 5774,   1766.3,   2.1214,  34.5744,2,   -999.0,9,  34.5728,2,     68.0,2,  -999.00,9,  -999.00,9,    41.36,2,     0.00,2,     2.95,2, -999.000,9, -999.000,9,  -999.00,9,   -999.0,9,   -999.0,9,-999.0000,9,   -999.0,  9,  -999.00,9,   -999.0,  -999.00,9,  -999.00,9,  -999.00,9,  -999.00,9,   -999.0,-999.0000, -999,9, 1747,   2.0027,  27.6305,   -999.0,9
       KS03-06,  NONE,KS-0748,  1,      1,02-16007,2,20030701,0940, 28.0025, 155.0105, 5774,   2020.1,   1.9051,  34.6103,2,   -999.0,9,  34.6079,2,     88.0,2,  -999.00,9,  -999.00,9,    40.19,2,     0.00,2,     2.84,2, -999.000,9, -999.000,9,  -999.00,9,   -999.0,9,   -999.0,9,-999.0000,9,   -999.0,  9,  -999.00,9,   -999.0,  -999.00,9,  -999.00,9,  -999.00,9,  -999.00,9,   -999.0,-999.0000, -999,9, 1997,   1.7685,  27.6775,   -999.0,9