BOTTLE,20130510GEMDJMAYT
EXPOCODE,SECT_ID,STNNBR,CASTNO,SAMPNO,BTLNBR,BTLNBR_FLAG_W,DATE,TIME,LATITUDE,LONGITUDE,DEPTH,CTDPRS,CTDTMP,CTDSAL,CTDSAL_FLAG_W,CTDOXY,CTDOXY_FLAG_W,SALNTY,SALNTY_FLAG_W,OXYGEN,OXYGEN_FLAG_W,SILCAT,SILCAT_FLAG_W,NITRAT,NITRAT_FLAG_W,NO2+NO3,NO2+NO3_FLAG_W,NITRIT,NITRIT_FLAG_W,PHSPHT,PHSPHT_FLAG_W,CFC-11,CFC-11_FLAG_W,CFC-12,CFC-12_FLAG_W,DELC13,DELC13_FLAG_W,TCARBN,TCARBN_FLAG_W,ALKALI,ALKALI_FLAG_W,PH,PH_FLAG_W,PH_TMP,PH_SCALE,PH_NBS,PH_NBS_FLAG_W,C13ERR,TOTALP,TOTALP_FLAG_W,AMMONI,AMMONI_FLAG_W,CHLORA,CHLORA_FLAG_W,PPHYTN,PPHYTN_FLAG_W,REVPRS,REVTMP,DEPTH_,DEPTH_FLAG,CTDDEP,THETA,SIGTHT,DOC,DOC_FLAG_W
,,,,,,,GMT,GMT,,,METER,DBAR,ITS-90,PSS-78,,UMOL/KG,,PSS-78,,UMOL/KG,,UMOL/KG,,UMOL/KG,,UMOL/KG,,UMOL/KG,,UMOL/KG,,PMOL/KG,,PMOL/KG,,/MILLE,,UMOL/KG,,UMOL/KG,,25_DEG_C,,DEG_C,,,,/MILLE,UMOL/KG,,UMOL/KG,,UG/L,,UG/L,,DBAR,ITS-90,METERS,,METERS,DEG_C,,UMOL/L,
       KS03-06,  NONE,KS-0808,  1,     24,02-16030,2,20030802,1547,  5.0008, 147.6122, 4403,      4.3,  28.8504,  33.9900,2,   -999.0,9,  33.9904,2,    198.0,2,  -999.00,9,  -999.00,9,     0.00,2,     0.00,2,     0.02,2, -999.000,9, -999.000,9,  -999.00,9,   -999.0,9,   -999.0,9,-999.0000,9,   -999.0,  9,  -999.00,9,   -999.0,  -999.00,9,  -999.00,9,  -999.00,9,  -999.00,9,   -999.0,-999.0000, -999,9,    4,  28.8494,  21.3561,   -999.0,9
       KS03-06,  NONE,KS-0808,  1,     23,02-16029,2,20030802,1546,  5.0008, 147.6122, 4403,     10.1,  28.8625,  33.9876,2,   -999.0,9,-999.0000,9,    199.0,2,  -999.00,9,  -999.00,9,     0.00,2,     0.00,2,     0.02,2, -999.000,9, -999.000,9,  -999.00,9,   -999.0,9,   -999.0,9,-999.0000,9,   -999.0,  9,  -999.00,9,   -999.0,  -999.00,9,  -999.00,9,  -999.00,9,  -999.00,9,   -999.0,-999.0000, -999,9,   10,  28.8601,  21.3507,   -999.0,9
       KS03-06,  NONE,KS-0808,  1,     22,02-16028,2,20030802,1545,  5.0008, 147.6122, 4403,     25.4,  28.8612,  33.9878,2,   -999.0,9,-999.0000,9,    198.0,2,  -999.00,9,  -999.00,9,     0.00,2,     0.00,2,     0.02,2, -999.000,9, -999.000,9,  -999.00,9,   -999.0,9,   -999.0,9,-999.0000,9,   -999.0,  9,  -999.00,9,   -999.0,  -999.00,9,  -999.00,9,  -999.00,9,  -999.00,9,   -999.0,-999.0000, -999,9,   25,  28.8551,  21.3525,   -999.0,9
       KS03-06,  NONE,KS-0808,  1,     21,02-16027,2,20030802,1540,  5.0008, 147.6122, 4403,     49.4,  28.8395,  34.0711,2,   -999.0,9,-999.0000,9,    198.0,2,  -999.00,9,  -999.00,9,     0.00,2,     0.00,2,     0.03,2, -999.000,9, -999.000,9,  -999.00,9,   -999.0,9,   -999.0,9,-999.0000,9,   -999.0,  9,  -999.00,9,   -999.0,  -999.00,9,  -999.00,9,  -999.00,9,  -999.00,9,   -999.0,-999.0000, -999,9,   49,  28.8276,  21.4241,   -999.0,9
       KS03-06,  NONE,KS-0808,  1,     20,02-16026,2,20030802,1539,  5.0008, 147.6122, 4403,     74.6,  27.4763,  34.5754,2,   -999.0,9,-999.0000,9,    192.0,2,  -999.00,9,  -999.00,9,     0.39,2,     0.20,2,     0.09,2, -999.000,9, -999.000,9,  -999.00,9,   -999.0,9,   -999.0,9,-999.0000,9,   -999.0,  9,  -999.00,9,   -999.0,  -999.00,9,  -999.00,9,  -999.00,9,  -999.00,9,   -999.0,-999.0000, -999,9,   74,  27.4590,  22.2509,   -999.0,9
       KS03-06,  NONE,KS-0808,  1,     19,02-16025,9,20030802,1539,  5.0008, 147.6122, 4403,     98.5,  24.9723,  34.9029,2,   -999.0,9,-999.0000,9,   -999.0,9,  -999.00,9,  -999.00,9,  -999.00,9,  -999.00,9,  -999.00,9, -999.000,9, -999.000,9,  -999.00,9,   -999.0,9,   -999.0,9,-999.0000,9,   -999.0,  9,  -999.00,9,   -999.0,  -999.00,9,  -999.00,9,  -999.00,9,  -999.00,9,   -999.0,-999.0000, -999,9,   98,  24.9510,  23.2827,   -999.0,9
       KS03-06,  NONE,KS-0808,  1,     18,02-16024,2,20030802,1538,  5.0008, 147.6122, 4403,     99.5,  24.9189,  34.9097,2,   -999.0,9,  34.9063,4,    165.0,2,  -999.00,9,  -999.00,9,     4.01,2,     0.04,2,     0.37,2, -999.000,9, -999.000,9,  -999.00,9,   -999.0,9,   -999.0,9,-999.0000,9,   -999.0,  9,  -999.00,9,   -999.0,  -999.00,9,  -999.00,9,  -999.00,9,  -999.00,9,   -999.0,-999.0000, -999,9,   99,  24.8974,  23.3041,   -999.0,9
       KS03-06,  NONE,KS-0808,  1,     17,02-16023,9,20030802,1537,  5.0008, 147.6122, 4403,    125.1,  22.2282,  34.8013,2,   -999.0,9,-999.0000,9,   -999.0,9,  -999.00,9,  -999.00,9,  -999.00,9,  -999.00,9,  -999.00,9, -999.000,9, -999.000,9,  -999.00,9,   -999.0,9,   -999.0,9,-999.0000,9,   -999.0,  9,  -999.00,9,   -999.0,  -999.00,9,  -999.00,9,  -999.00,9,  -999.00,9,   -999.0,-999.0000, -999,9,  124,  22.2033,  24.0098,   -999.0,9
       KS03-06,  NONE,KS-0808,  1,     16,02-16022,2,20030802,1537,  5.0008, 147.6122, 4403,    125.0,  22.2013,  34.7924,2,   -999.0,9,-999.0000,9,    158.0,2,  -999.00,9,  -999.00,9,     6.05,2,     0.06,2,     0.50,2, -999.000,9, -999.000,9,  -999.00,9,   -999.0,9,   -999.0,9,-999.0000,9,   -999.0,  9,  -999.00,9,   -999.0,  -999.00,9,  -999.00,9,  -999.00,9,  -999.00,9,   -999.0,-999.0000, -999,9,  124,  22.1764,  24.0106,   -999.0,9
       KS03-06,  NONE,KS-0808,  1,     15,02-16021,2,20030802,1536,  5.0008, 147.6122, 4403,    150.2,  17.0690,  34.7168,2,   -999.0,9,-999.0000,9,    146.0,2,  -999.00,9,  -999.00,9,    11.90,2,     0.00,2,     0.88,2, -999.000,9, -999.000,9,  -999.00,9,   -999.0,9,   -999.0,9,-999.0000,9,   -999.0,  9,  -999.00,9,   -999.0,  -999.00,9,  -999.00,9,  -999.00,9,  -999.00,9,   -999.0,-999.0000, -999,9,  149,  17.0442,  25.2864,   -999.0,9
       KS03-06,  NONE,KS-0808,  1,     14,02-16020,2,20030802,1535,  5.0008, 147.6122, 4403,    200.0,  11.7177,  34.5499,2,   -999.0,9,  34.5504,2,     85.0,2,  -999.00,9,  -999.00,9,    26.02,2,     0.00,2,     1.83,2, -999.000,9, -999.000,9,  -999.00,9,   -999.0,9,   -999.0,9,-999.0000,9,   -999.0,  9,  -999.00,9,   -999.0,  -999.00,9,  -999.00,9,  -999.00,9,  -999.00,9,   -999.0,-999.0000, -999,9,  199,  11.6921,  26.2976,   -999.0,9
       KS03-06,  NONE,KS-0808,  1,     13,02-16019,2,20030802,1532,  5.0008, 147.6122, 4403,    250.0,  10.1538,  34.5949,2,   -999.0,9,-999.0000,9,     60.0,2,  -999.00,9,  -999.00,9,    31.37,2,     0.00,2,     2.19,2, -999.000,9, -999.000,9,  -999.00,9,   -999.0,9,   -999.0,9,-999.0000,9,   -999.0,  9,  -999.00,9,   -999.0,  -999.00,9,  -999.00,9,  -999.00,9,  -999.00,9,   -999.0,-999.0000, -999,9,  248,  10.1246,  26.6143,   -999.0,9
       KS03-06,  NONE,KS-0808,  1,     12,02-16018,2,20030802,1531,  5.0008, 147.6122, 4403,    301.0,   9.0865,  34.6208,2,   -999.0,9,  34.6189,2,     58.0,2,  -999.00,9,  -999.00,9,    33.70,2,     0.00,2,     2.33,2, -999.000,9, -999.000,9,  -999.00,9,   -999.0,9,   -999.0,9,-999.0000,9,   -999.0,  9,  -999.00,9,   -999.0,  -999.00,9,  -999.00,9,  -999.00,9,  -999.00,9,   -999.0,-999.0000, -999,9,  299,   9.0536,  26.8126,   -999.0,9
       KS03-06,  NONE,KS-0808,  1,     11,02-16017,2,20030802,1529,  5.0008, 147.6122, 4403,    401.3,   8.2075,  34.5955,2,   -999.0,9,  34.5948,2,     66.0,2,  -999.00,9,  -999.00,9,    34.76,2,     0.00,2,     2.40,2, -999.000,9, -999.000,9,  -999.00,9,   -999.0,9,   -999.0,9,-999.0000,9,   -999.0,  9,  -999.00,9,   -999.0,  -999.00,9,  -999.00,9,  -999.00,9,  -999.00,9,   -999.0,-999.0000, -999,9,  399,   8.1660,  26.9312,   -999.0,9
       KS03-06,  NONE,KS-0808,  1,     10,02-16016,2,20030802,1526,  5.0008, 147.6122, 4403,    501.5,   7.1427,  34.5571,2,   -999.0,9,  34.5565,2,     83.0,2,  -999.00,9,  -999.00,9,    35.25,2,     0.00,2,     2.45,2, -999.000,9, -999.000,9,  -999.00,9,   -999.0,9,   -999.0,9,-999.0000,9,   -999.0,  9,  -999.00,9,   -999.0,  -999.00,9,  -999.00,9,  -999.00,9,  -999.00,9,   -999.0,-999.0000, -999,9,  498,   7.0945,  27.0568,   -999.0,9
       KS03-06,  NONE,KS-0808,  1,      9,02-16015,2,20030802,1523,  5.0008, 147.6122, 4403,    603.4,   6.5603,  34.5481,2,   -999.0,9,  34.5464,2,     69.0,2,  -999.00,9,  -999.00,9,    37.68,2,     0.00,2,     2.64,2, -999.000,9, -999.000,9,  -999.00,9,   -999.0,9,   -999.0,9,-999.0000,9,   -999.0,  9,  -999.00,9,   -999.0,  -999.00,9,  -999.00,9,  -999.00,9,  -999.00,9,   -999.0,-999.0000, -999,9,  599,   6.5045,  27.1300,   -999.0,9
       KS03-06,  NONE,KS-0808,  1,      8,02-16014,2,20030802,1521,  5.0008, 147.6122, 4403,    703.2,   5.8592,  34.5397,2,   -999.0,9,  34.5380,2,     84.0,2,  -999.00,9,  -999.00,9,    37.38,2,     0.00,2,     2.62,2, -999.000,9, -999.000,9,  -999.00,9,   -999.0,9,   -999.0,9,-999.0000,9,   -999.0,  9,  -999.00,9,   -999.0,  -999.00,9,  -999.00,9,  -999.00,9,  -999.00,9,   -999.0,-999.0000, -999,9,  698,   5.7975,  27.2145,   -999.0,9
       KS03-06,  NONE,KS-0808,  1,      7,02-16013,2,20030802,1517,  5.0008, 147.6122, 4403,    804.6,   5.3490,  34.5409,2,   -999.0,9,  34.5386,2,     85.0,2,  -999.00,9,  -999.00,9,    37.87,2,     0.00,2,     2.68,2, -999.000,9, -999.000,9,  -999.00,9,   -999.0,9,   -999.0,9,-999.0000,9,   -999.0,  9,  -999.00,9,   -999.0,  -999.00,9,  -999.00,9,  -999.00,9,  -999.00,9,   -999.0,-999.0000, -999,9,  799,   5.2809,  27.2784,   -999.0,9
       KS03-06,  NONE,KS-0808,  1,      6,02-16012,2,20030802,1515,  5.0008, 147.6122, 4403,    905.8,   4.7706,  34.5485,2,   -999.0,9,  34.5476,2,     90.0,2,  -999.00,9,  -999.00,9,    38.06,2,     0.00,2,     2.70,2, -999.000,9, -999.000,9,  -999.00,9,   -999.0,9,   -999.0,9,-999.0000,9,   -999.0,  9,  -999.00,9,   -999.0,  -999.00,9,  -999.00,9,  -999.00,9,  -999.00,9,   -999.0,-999.0000, -999,9,  899,   4.6973,  27.3517,   -999.0,9
       KS03-06,  NONE,KS-0808,  1,      5,02-16011,2,20030802,1513,  5.0008, 147.6122, 4403,   1006.4,   4.3711,  34.5576,2,   -999.0,9,  34.5574,2,     92.0,2,  -999.00,9,  -999.00,9,    38.25,2,     0.00,2,     2.73,2, -999.000,9, -999.000,9,  -999.00,9,   -999.0,9,   -999.0,9,-999.0000,9,   -999.0,  9,  -999.00,9,   -999.0,  -999.00,9,  -999.00,9,  -999.00,9,  -999.00,9,   -999.0,-999.0000, -999,9,  998,   4.2919,  27.4034,   -999.0,9
       KS03-06,  NONE,KS-0808,  1,      4,02-16010,2,20030802,1507,  5.0008, 147.6122, 4403,   1259.3,   3.6015,  34.5802,2,   -999.0,9,  34.5796,2,     92.0,2,  -999.00,9,  -999.00,9,    39.03,2,     0.00,2,     2.79,2, -999.000,9, -999.000,9,  -999.00,9,   -999.0,9,   -999.0,9,-999.0000,9,   -999.0,  9,  -999.00,9,   -999.0,  -999.00,9,  -999.00,9,  -999.00,9,  -999.00,9,   -999.0,-999.0000, -999,9, 1249,   3.5075,  27.5019,   -999.0,9
       KS03-06,  NONE,KS-0808,  1,      3,02-16009,2,20030802,1501,  5.0008, 147.6122, 4403,   1511.5,   3.0273,  34.6004,2,   -999.0,9,  34.5975,2,     96.0,2,  -999.00,9,  -999.00,9,    39.12,2,     0.00,2,     2.80,2, -999.000,9, -999.000,9,  -999.00,9,   -999.0,9,   -999.0,9,-999.0000,9,   -999.0,  9,  -999.00,9,   -999.0,  -999.00,9,  -999.00,9,  -999.00,9,  -999.00,9,   -999.0,-999.0000, -999,9, 1498,   2.9181,  27.5736,   -999.0,9
       KS03-06,  NONE,KS-0808,  1,      2,02-16008,2,20030802,1455,  5.0008, 147.6122, 4403,   1765.3,   2.5144,  34.6228,2,   -999.0,9,  34.6213,2,    107.0,2,  -999.00,9,  -999.00,9,    38.73,2,     0.00,2,     2.74,2, -999.000,9, -999.000,9,  -999.00,9,   -999.0,9,   -999.0,9,-999.0000,9,   -999.0,  9,  -999.00,9,   -999.0,  -999.00,9,  -999.00,9,  -999.00,9,  -999.00,9,   -999.0,-999.0000, -999,9, 1748,   2.3903,  27.6376,   -999.0,9
       KS03-06,  NONE,KS-0808,  1,      1,02-16007,2,20030802,1449,  5.0008, 147.6122, 4403,   2020.6,   2.1717,  34.6399,2,   -999.0,9,  34.6382,2,    114.0,2,  -999.00,9,  -999.00,9,    38.34,2,     0.00,2,     2.71,2, -999.000,9, -999.000,9,  -999.00,9,   -999.0,9,   -999.0,9,-999.0000,9,   -999.0,  9,  -999.00,9,   -999.0,  -999.00,9,  -999.00,9,  -999.00,9,  -999.00,9,   -999.0,-999.0000, -999,9, 2000,   2.0309,  27.6808,   -999.0,9