BOTTLE,20130510GEMDJMAYT
EXPOCODE,SECT_ID,STNNBR,CASTNO,SAMPNO,BTLNBR,BTLNBR_FLAG_W,DATE,TIME,LATITUDE,LONGITUDE,DEPTH,CTDPRS,CTDTMP,CTDSAL,CTDSAL_FLAG_W,CTDOXY,CTDOXY_FLAG_W,SALNTY,SALNTY_FLAG_W,OXYGEN,OXYGEN_FLAG_W,SILCAT,SILCAT_FLAG_W,NITRAT,NITRAT_FLAG_W,NO2+NO3,NO2+NO3_FLAG_W,NITRIT,NITRIT_FLAG_W,PHSPHT,PHSPHT_FLAG_W,CFC-11,CFC-11_FLAG_W,CFC-12,CFC-12_FLAG_W,DELC13,DELC13_FLAG_W,TCARBN,TCARBN_FLAG_W,ALKALI,ALKALI_FLAG_W,PH,PH_FLAG_W,PH_TMP,PH_SCALE,PH_NBS,PH_NBS_FLAG_W,C13ERR,TOTALP,TOTALP_FLAG_W,AMMONI,AMMONI_FLAG_W,CHLORA,CHLORA_FLAG_W,PPHYTN,PPHYTN_FLAG_W,REVPRS,REVTMP,DEPTH_,DEPTH_FLAG,CTDDEP,THETA,SIGTHT,DOC,DOC_FLAG_W
,,,,,,,GMT,GMT,,,METER,DBAR,ITS-90,PSS-78,,UMOL/KG,,PSS-78,,UMOL/KG,,UMOL/KG,,UMOL/KG,,UMOL/KG,,UMOL/KG,,UMOL/KG,,PMOL/KG,,PMOL/KG,,/MILLE,,UMOL/KG,,UMOL/KG,,25_DEG_C,,DEG_C,,,,/MILLE,UMOL/KG,,UMOL/KG,,UG/L,,UG/L,,DBAR,ITS-90,METERS,,METERS,DEG_C,,UMOL/L,
       KS03-06,  165E,KS-0756,  1,     24,02-16030,2,20030704,0736, 25.0040, 165.0003, 5906,      4.7,  29.2320,  35.3043,2,   -999.0,9,  35.3062,2,    200.0,2,  -999.00,9,  -999.00,9,     0.00,2,     0.00,2,     0.00,2, -999.000,9, -999.000,9,  -999.00,9,   1964.3,2,   -999.0,9,-999.0000,9,   -999.0,  9,     8.24,2,   -999.0,  -999.00,9,  -999.00,9,     0.04,2,     0.01,2,   -999.0,-999.0000, -999,9,    5,  29.2309,  22.2151,   -999.0,9
       KS03-06,  165E,KS-0756,  1,     23,02-16029,2,20030704,0735, 25.0040, 165.0003, 5906,      8.9,  29.2322,  35.3032,2,   -999.0,9,-999.0000,9,    200.0,2,  -999.00,9,  -999.00,9,     0.00,2,     0.00,2,     0.00,2, -999.000,9, -999.000,9,  -999.00,9,   1974.2,2,   -999.0,9,-999.0000,9,   -999.0,  9,     8.24,2,   -999.0,  -999.00,9,  -999.00,9,     0.05,2,     0.01,2,   -999.0,-999.0000, -999,9,    9,  29.2300,  22.2146,   -999.0,9
       KS03-06,  165E,KS-0756,  1,     22,02-16028,2,20030704,0733, 25.0040, 165.0003, 5906,     24.8,  28.3768,  35.1928,2,   -999.0,9,-999.0000,9,    204.0,2,  -999.00,9,  -999.00,9,     0.00,2,     0.00,2,     0.00,2, -999.000,9, -999.000,9,  -999.00,9,   1962.2,2,   -999.0,9,-999.0000,9,   -999.0,  9,     8.24,2,   -999.0,  -999.00,9,  -999.00,9,     0.05,2,     0.02,2,   -999.0,-999.0000, -999,9,   25,  28.3709,  22.4178,   -999.0,9
       KS03-06,  165E,KS-0756,  1,     21,02-16027,2,20030704,0728, 25.0040, 165.0003, 5906,     49.1,  25.8844,  35.2628,2,   -999.0,9,-999.0000,9,    219.0,2,  -999.00,9,  -999.00,9,     0.00,2,     0.00,2,     0.00,2, -999.000,9, -999.000,9,  -999.00,9,   1970.0,2,   -999.0,9,-999.0000,9,   -999.0,  9,     8.23,2,   -999.0,  -999.00,9,  -999.00,9,     0.01,4,     0.12,4,   -999.0,-999.0000, -999,9,   49,  25.8735,  23.2711,   -999.0,9
       KS03-06,  165E,KS-0756,  1,     20,02-16026,2,20030704,0727, 25.0040, 165.0003, 5906,     75.2,  22.2661,  35.0740,2,   -999.0,9,-999.0000,9,    225.0,2,  -999.00,9,  -999.00,9,     0.00,2,     0.00,2,     0.00,2, -999.000,9, -999.000,9,  -999.00,9,   1991.2,2,   -999.0,9,-999.0000,9,   -999.0,  9,     8.19,2,   -999.0,  -999.00,9,  -999.00,9,     0.09,2,     0.05,2,   -999.0,-999.0000, -999,9,   75,  22.2511,  24.2034,   -999.0,9
       KS03-06,  165E,KS-0756,  1,     19,02-16025,2,20030704,0726, 25.0040, 165.0003, 5906,    101.1,  20.5978,  34.9812,2,   -999.0,9,  34.9856,4,    219.0,2,  -999.00,9,  -999.00,9,     0.00,2,     0.00,2,     0.01,2, -999.000,9, -999.000,9,  -999.00,9,   2000.0,2,   -999.0,9,-999.0000,9,   -999.0,  9,     8.16,2,   -999.0,  -999.00,9,  -999.00,9,     0.14,2,     0.33,2,   -999.0,-999.0000, -999,9,  100,  20.5787,  24.5934,   -999.0,9
       KS03-06,  165E,KS-0756,  1,     18,02-16024,2,20030704,0725, 25.0040, 165.0003, 5906,    124.9,  19.7031,  34.9209,2,   -999.0,9,-999.0000,9,    204.0,2,  -999.00,9,  -999.00,9,     1.27,2,     0.08,2,     0.12,2, -999.000,9, -999.000,9,  -999.00,9,   2014.7,2,   -999.0,9,-999.0000,9,   -999.0,  9,     8.13,2,   -999.0,  -999.00,9,  -999.00,9,     0.13,2,     0.45,2,   -999.0,-999.0000, -999,9,  124,  19.6803,  24.7853,   -999.0,9
       KS03-06,  165E,KS-0756,  1,     17,02-16023,2,20030704,0724, 25.0040, 165.0003, 5906,    148.8,  18.8620,  34.8470,2,   -999.0,9,-999.0000,9,    202.0,2,  -999.00,9,  -999.00,9,     2.54,2,     0.02,2,     0.19,2, -999.000,9, -999.000,9,  -999.00,9,   2021.6,2,   -999.0,9,-999.0000,9,   -999.0,  9,     8.10,2,   -999.0,  -999.00,9,  -999.00,9,     0.08,2,     0.23,2,   -999.0,-999.0000, -999,9,  148,  18.8356,  24.9460,   -999.0,9
       KS03-06,  165E,KS-0756,  1,     16,02-16022,2,20030704,0721, 25.0040, 165.0003, 5906,    200.6,  17.8417,  34.7683,2,   -999.0,9,  34.7718,4,    213.0,2,  -999.00,9,  -999.00,9,     3.22,2,     0.01,2,     0.22,2, -999.000,9, -999.000,9,  -999.00,9,   2013.8,2,   -999.0,9,-999.0000,9,   -999.0,  9,     8.11,2,   -999.0,  -999.00,9,  -999.00,9,     0.02,2,     0.03,2,   -999.0,-999.0000, -999,9,  199,  17.8075,  25.1418,   -999.0,9
       KS03-06,  165E,KS-0756,  1,     15,02-16021,2,20030704,0718, 25.0040, 165.0003, 5906,    250.9,  16.8495,  34.6908,2,   -999.0,9,-999.0000,9,    208.0,2,  -999.00,9,  -999.00,9,     5.17,2,     0.00,2,     0.34,2, -999.000,9, -999.000,9,  -999.00,9,   2027.1,2,   -999.0,9,-999.0000,9,   -999.0,  9,     8.08,2,   -999.0,  -999.00,9,  -999.00,9,     0.00,2,     0.00,2,   -999.0,-999.0000, -999,9,  249,  16.8084,  25.3223,   -999.0,9
       KS03-06,  165E,KS-0756,  1,     14,02-16020,2,20030704,0716, 25.0040, 165.0003, 5906,    301.9,  15.5741,  34.6068,2,   -999.0,9,  34.6089,2,    202.0,2,  -999.00,9,  -999.00,9,     7.41,2,     0.00,2,     0.50,2, -999.000,9, -999.000,9,  -999.00,9,   2050.3,2,   -999.0,9,-999.0000,9,   -999.0,  9,     8.03,2,   -999.0,  -999.00,9,  -999.00,9,     0.00,2,     0.00,2,   -999.0,-999.0000, -999,9,  300,  15.5272,  25.5520,   -999.0,9
       KS03-06,  165E,KS-0756,  1,     13,02-16019,2,20030704,0713, 25.0040, 165.0003, 5906,    402.2,  12.6988,  34.3993,2,   -999.0,9,  34.3982,2,    204.0,2,  -999.00,9,  -999.00,9,    11.89,2,     0.00,2,     0.81,2, -999.000,9, -999.000,9,  -999.00,9,   2080.4,6,   -999.0,9,-999.0000,9,   -999.0,  9,     7.96,2,   -999.0,  -999.00,9,  -999.00,9,  -999.00,9,  -999.00,9,   -999.0,-999.0000, -999,9,  399,  12.6442,  25.9980,   -999.0,9
       KS03-06,  165E,KS-0756,  1,     12,02-16018,2,20030704,0709, 25.0040, 165.0003, 5906,    501.9,  10.2676,  34.2220,2,   -999.0,9,  34.2254,4,    188.0,2,  -999.00,9,  -999.00,9,    17.73,2,     0.00,2,     1.23,2, -999.000,9, -999.000,9,  -999.00,9,   -999.0,9,   -999.0,9,-999.0000,9,   -999.0,  9,     7.87,2,   -999.0,  -999.00,9,  -999.00,9,  -999.00,9,  -999.00,9,   -999.0,-999.0000, -999,9,  498,  10.2081,  26.3089,   -999.0,9
       KS03-06,  165E,KS-0756,  1,     11,02-16017,2,20030704,0705, 25.0040, 165.0003, 5906,    602.9,   7.8354,  34.0963,2,   -999.0,9,  34.0985,2,    145.0,2,  -999.00,9,  -999.00,9,    26.40,2,     0.00,2,     1.84,2, -999.000,9, -999.000,9,  -999.00,9,   2180.2,2,   -999.0,9,-999.0000,9,   -999.0,  9,     7.73,2,   -999.0,  -999.00,9,  -999.00,9,  -999.00,9,  -999.00,9,   -999.0,-999.0000, -999,9,  598,   7.7744,  26.5972,   -999.0,9
       KS03-06,  165E,KS-0756,  1,     10,02-16016,2,20030704,0703, 25.0040, 165.0003, 5906,    704.4,   6.1835,  34.0962,2,   -999.0,9,  34.0983,4,     97.0,2,  -999.00,9,  -999.00,9,    33.70,2,     0.00,2,     2.37,2, -999.000,9, -999.000,9,  -999.00,9,   -999.0,9,   -999.0,9,-999.0000,9,   -999.0,  9,     7.60,2,   -999.0,  -999.00,9,  -999.00,9,  -999.00,9,  -999.00,9,   -999.0,-999.0000, -999,9,  699,   6.1204,  26.8232,   -999.0,9
       KS03-06,  165E,KS-0756,  1,      9,02-16015,2,20030704,0700, 25.0040, 165.0003, 5906,    807.1,   5.0012,  34.2115,2,   -999.0,9,  34.2117,2,     54.0,2,  -999.00,9,  -999.00,9,    39.34,2,     0.00,2,     2.79,2, -999.000,9, -999.000,9,  -999.00,9,   2301.0,2,   -999.0,9,-999.0000,9,   -999.0,  9,     7.51,2,   -999.0,  -999.00,9,  -999.00,9,  -999.00,9,  -999.00,9,   -999.0,-999.0000, -999,9,  800,   4.9355,  27.0575,   -999.0,9
       KS03-06,  165E,KS-0756,  1,      8,02-16014,2,20030704,0656, 25.0040, 165.0003, 5906,    906.3,   4.5157,  34.2945,2,   -999.0,9,  34.2962,4,     45.0,2,  -999.00,9,  -999.00,9,    40.89,2,     0.00,2,     2.90,2, -999.000,9, -999.000,9,  -999.00,9,   -999.0,9,   -999.0,9,-999.0000,9,   -999.0,  9,     7.50,2,   -999.0,  -999.00,9,  -999.00,9,  -999.00,9,  -999.00,9,   -999.0,-999.0000, -999,9,  899,   4.4445,  27.1779,   -999.0,9
       KS03-06,  165E,KS-0756,  1,      7,02-16013,4,20030704,0653, 25.0040, 165.0003, 5906,   1007.4,   3.9946,  34.3811,2,   -999.0,9,  35.2584,4,    201.0,4,  -999.00,9,  -999.00,9,     0.00,4,     0.00,4,     0.00,4, -999.000,9, -999.000,9,  -999.00,9,   1967.5,4,   -999.0,9,-999.0000,9,   -999.0,  9,     8.22,4,   -999.0,  -999.00,9,  -999.00,9,  -999.00,9,  -999.00,9,   -999.0,-999.0000, -999,9,  999,   3.9186,  27.3022,   -999.0,9
       KS03-06,  165E,KS-0756,  1,      6,02-16012,9,20030704,0645, 25.0040, 165.0003, 5906,   1260.8,   3.2201,  34.4934,2,   -999.0,9,-999.0000,9,   -999.0,9,  -999.00,9,  -999.00,9,  -999.00,9,  -999.00,9,  -999.00,9, -999.000,9, -999.000,9,  -999.00,9,   -999.0,9,   -999.0,9,-999.0000,9,   -999.0,  9,  -999.00,9,   -999.0,  -999.00,9,  -999.00,9,  -999.00,9,  -999.00,9,   -999.0,-999.0000, -999,9, 1249,   3.1298,  27.4687,   -999.0,9
       KS03-06,  165E,KS-0756,  1,      5,02-16011,2,20030704,0645, 25.0040, 165.0003, 5906,   1260.1,   3.2140,  34.4942,2,   -999.0,9,  34.4911,4,     60.0,2,  -999.00,9,  -999.00,9,    41.27,2,     0.00,2,     2.92,2, -999.000,9, -999.000,9,  -999.00,9,   2339.9,2,   -999.0,9,-999.0000,9,   -999.0,  9,     7.53,2,   -999.0,  -999.00,9,  -999.00,9,  -999.00,9,  -999.00,9,   -999.0,-999.0000, -999,9, 1248,   3.1238,  27.4699,   -999.0,9
       KS03-06,  165E,KS-0756,  1,      4,02-16010,2,20030704,0636, 25.0040, 165.0003, 5906,   1515.5,   2.6845,  34.5436,2,   -999.0,9,  34.5427,2,     71.0,2,  -999.00,9,  -999.00,9,    40.87,2,     0.00,2,     2.86,2, -999.000,9, -999.000,9,  -999.00,9,   2345.5,2,   -999.0,9,-999.0000,9,   -999.0,  9,     7.54,2,   -999.0,  -999.00,9,  -999.00,9,  -999.00,9,  -999.00,9,   -999.0,-999.0000, -999,9, 1500,   2.5791,  27.5582,   -999.0,9
       KS03-06,  165E,KS-0756,  1,      3,02-16009,9,20030704,0627, 25.0040, 165.0003, 5906,   1767.5,   2.2680,  34.5863,2,   -999.0,9,-999.0000,9,   -999.0,9,  -999.00,9,  -999.00,9,  -999.00,9,  -999.00,9,  -999.00,9, -999.000,9, -999.000,9,  -999.00,9,   -999.0,9,   -999.0,9,-999.0000,9,   -999.0,  9,  -999.00,9,   -999.0,  -999.00,9,  -999.00,9,  -999.00,9,  -999.00,9,   -999.0,-999.0000, -999,9, 1749,   2.1471,  27.6284,   -999.0,9
       KS03-06,  165E,KS-0756,  1,      2,02-16008,2,20030704,0627, 25.0040, 165.0003, 5906,   1767.2,   2.2695,  34.5859,2,   -999.0,9,  34.5842,2,     87.0,2,  -999.00,9,  -999.00,9,    40.09,2,     0.00,2,     2.79,2, -999.000,9, -999.000,9,  -999.00,9,   -999.0,9,   -999.0,9,-999.0000,9,   -999.0,  9,     7.58,2,   -999.0,  -999.00,9,  -999.00,9,  -999.00,9,  -999.00,9,   -999.0,-999.0000, -999,9, 1748,   2.1487,  27.6280,   -999.0,9
       KS03-06,  165E,KS-0756,  1,      1,02-16007,2,20030704,0618, 25.0040, 165.0003, 5906,   2022.1,   1.9905,  34.6156,2,   -999.0,9,  34.6154,2,    100.0,2,  -999.00,9,  -999.00,9,    39.51,2,     0.00,2,     2.74,2, -999.000,9, -999.000,9,  -999.00,9,   2346.6,2,   -999.0,9,-999.0000,9,   -999.0,  9,     7.60,2,   -999.0,  -999.00,9,  -999.00,9,  -999.00,9,  -999.00,9,   -999.0,-999.0000, -999,9, 1999,   1.8524,  27.6752,   -999.0,9