BOTTLE,20130510GEMDJMAYT
EXPOCODE,SECT_ID,STNNBR,CASTNO,SAMPNO,BTLNBR,BTLNBR_FLAG_W,DATE,TIME,LATITUDE,LONGITUDE,DEPTH,CTDPRS,CTDTMP,CTDSAL,CTDSAL_FLAG_W,CTDOXY,CTDOXY_FLAG_W,SALNTY,SALNTY_FLAG_W,OXYGEN,OXYGEN_FLAG_W,SILCAT,SILCAT_FLAG_W,NITRAT,NITRAT_FLAG_W,NO2+NO3,NO2+NO3_FLAG_W,NITRIT,NITRIT_FLAG_W,PHSPHT,PHSPHT_FLAG_W,CFC-11,CFC-11_FLAG_W,CFC-12,CFC-12_FLAG_W,DELC13,DELC13_FLAG_W,TCARBN,TCARBN_FLAG_W,ALKALI,ALKALI_FLAG_W,PH,PH_FLAG_W,PH_TMP,PH_SCALE,PH_NBS,PH_NBS_FLAG_W,C13ERR,TOTALP,TOTALP_FLAG_W,AMMONI,AMMONI_FLAG_W,CHLORA,CHLORA_FLAG_W,PPHYTN,PPHYTN_FLAG_W,REVPRS,REVTMP,DEPTH_,DEPTH_FLAG,CTDDEP,THETA,SIGTHT,DOC,DOC_FLAG_W
,,,,,,,GMT,GMT,,,METER,DBAR,ITS-90,PSS-78,,UMOL/KG,,PSS-78,,UMOL/KG,,UMOL/KG,,UMOL/KG,,UMOL/KG,,UMOL/KG,,UMOL/KG,,PMOL/KG,,PMOL/KG,,/MILLE,,UMOL/KG,,UMOL/KG,,25_DEG_C,,DEG_C,,,,/MILLE,UMOL/KG,,UMOL/KG,,UG/L,,UG/L,,DBAR,ITS-90,METERS,,METERS,DEG_C,,UMOL/L,
       KS03-06,  NONE,KS-0818,  1,     24,02-16030,2,20030812,0959, 15.0035, 149.3103, 5619,      4.0,  29.7148,  34.1764,2,   -999.0,9,  34.1779,2,    198.0,2,  -999.00,9,  -999.00,9,     0.00,2,     0.00,2,     0.05,2, -999.000,9, -999.000,9,  -999.00,9,   -999.0,9,   -999.0,9,-999.0000,9,   -999.0,  9,  -999.00,9,   -999.0,  -999.00,9,  -999.00,9,  -999.00,9,  -999.00,9,   -999.0,-999.0000, -999,9,    4,  29.7138,  21.2060,   -999.0,9
       KS03-06,  NONE,KS-0818,  1,     23,02-16029,4,20030812,0958, 15.0035, 149.3103, 5619,     10.0,  29.6853,  34.1752,2,   -999.0,9,-999.0000,9,   -999.0,9,  -999.00,9,  -999.00,9,  -999.00,9,  -999.00,9,  -999.00,9, -999.000,9, -999.000,9,  -999.00,9,   -999.0,9,   -999.0,9,-999.0000,9,   -999.0,  9,  -999.00,9,   -999.0,  -999.00,9,  -999.00,9,  -999.00,9,  -999.00,9,   -999.0,-999.0000, -999,9,   10,  29.6829,  21.2156,   -999.0,9
       KS03-06,  NONE,KS-0818,  1,     22,02-16028,4,20030812,0957, 15.0035, 149.3103, 5619,     24.3,  29.5656,  34.1752,2,   -999.0,9,-999.0000,9,   -999.0,9,  -999.00,9,  -999.00,9,  -999.00,9,  -999.00,9,  -999.00,9, -999.000,9, -999.000,9,  -999.00,9,   -999.0,9,   -999.0,9,-999.0000,9,   -999.0,  9,  -999.00,9,   -999.0,  -999.00,9,  -999.00,9,  -999.00,9,  -999.00,9,   -999.0,-999.0000, -999,9,   24,  29.5597,  21.2573,   -999.0,9
       KS03-06,  NONE,KS-0818,  1,     21,02-16027,3,20030812,0953, 15.0035, 149.3103, 5619,     49.2,  29.1510,  34.5131,2,   -999.0,9,-999.0000,9,    204.0,2,  -999.00,9,  -999.00,9,     0.00,2,     0.00,2,     0.05,2, -999.000,9, -999.000,9,  -999.00,9,   -999.0,9,   -999.0,9,-999.0000,9,   -999.0,  9,  -999.00,9,   -999.0,  -999.00,9,  -999.00,9,  -999.00,9,  -999.00,9,   -999.0,-999.0000, -999,9,   49,  29.1391,  21.6521,   -999.0,9
       KS03-06,  NONE,KS-0818,  1,     20,02-16026,2,20030812,0952, 15.0035, 149.3103, 5619,     73.3,  28.5009,  34.5902,2,   -999.0,9,-999.0000,9,    209.0,2,  -999.00,9,  -999.00,9,     0.00,2,     0.00,2,     0.05,2, -999.000,9, -999.000,9,  -999.00,9,   -999.0,9,   -999.0,9,-999.0000,9,   -999.0,  9,  -999.00,9,   -999.0,  -999.00,9,  -999.00,9,  -999.00,9,  -999.00,9,   -999.0,-999.0000, -999,9,   73,  28.4834,  21.9279,   -999.0,9
       KS03-06,  NONE,KS-0818,  1,     19,02-16025,2,20030812,0951, 15.0035, 149.3103, 5619,    101.0,  27.6122,  34.6484,2,   -999.0,9,  34.6343,4,    207.0,2,  -999.00,9,  -999.00,9,     0.00,2,     0.00,2,     0.08,2, -999.000,9, -999.000,9,  -999.00,9,   -999.0,9,   -999.0,9,-999.0000,9,   -999.0,  9,  -999.00,9,   -999.0,  -999.00,9,  -999.00,9,  -999.00,9,  -999.00,9,   -999.0,-999.0000, -999,9,  100,  27.5887,  22.2639,   -999.0,9
       KS03-06,  NONE,KS-0818,  1,     18,02-16024,9,20030812,0951, 15.0035, 149.3103, 5619,    100.6,  27.6216,  34.6465,2,   -999.0,9,-999.0000,9,   -999.0,9,  -999.00,9,  -999.00,9,  -999.00,9,  -999.00,9,  -999.00,9, -999.000,9, -999.000,9,  -999.00,9,   -999.0,9,   -999.0,9,-999.0000,9,   -999.0,  9,  -999.00,9,   -999.0,  -999.00,9,  -999.00,9,  -999.00,9,  -999.00,9,   -999.0,-999.0000, -999,9,  100,  27.5981,  22.2594,   -999.0,9
       KS03-06,  NONE,KS-0818,  1,     17,02-16023,2,20030812,0950, 15.0035, 149.3103, 5619,    151.2,  25.0096,  34.9845,2,   -999.0,9,-999.0000,9,    194.0,2,  -999.00,9,  -999.00,9,     0.20,2,     0.15,2,     0.15,2, -999.000,9, -999.000,9,  -999.00,9,   -999.0,9,   -999.0,9,-999.0000,9,   -999.0,  9,  -999.00,9,   -999.0,  -999.00,9,  -999.00,9,  -999.00,9,  -999.00,9,   -999.0,-999.0000, -999,9,  150,  24.9768,  23.3366,   -999.0,9
       KS03-06,  NONE,KS-0818,  1,     16,02-16022,2,20030812,0948, 15.0035, 149.3103, 5619,    199.5,  19.1317,  34.8503,2,   -999.0,9,  34.8523,2,    166.0,2,  -999.00,9,  -999.00,9,     6.24,2,     0.01,2,     0.54,2, -999.000,9, -999.000,9,  -999.00,9,   -999.0,9,   -999.0,9,-999.0000,9,   -999.0,  9,  -999.00,9,   -999.0,  -999.00,9,  -999.00,9,  -999.00,9,  -999.00,9,   -999.0,-999.0000, -999,9,  198,  19.0960,  24.8822,   -999.0,9
       KS03-06,  NONE,KS-0818,  1,     15,02-16021,2,20030812,0945, 15.0035, 149.3103, 5619,    250.7,  16.3098,  34.6546,2,   -999.0,9,-999.0000,9,    145.0,2,  -999.00,9,  -999.00,9,    12.29,2,     0.00,2,     0.93,2, -999.000,9, -999.000,9,  -999.00,9,   -999.0,9,   -999.0,9,-999.0000,9,   -999.0,  9,  -999.00,9,   -999.0,  -999.00,9,  -999.00,9,  -999.00,9,  -999.00,9,   -999.0,-999.0000, -999,9,  249,  16.2696,  25.4200,   -999.0,9
       KS03-06,  NONE,KS-0818,  1,     14,02-16020,2,20030812,0943, 15.0035, 149.3103, 5619,    301.0,  13.1355,  34.4694,2,   -999.0,9,  34.4752,4,    128.0,2,  -999.00,9,  -999.00,9,    18.42,2,     0.00,2,     1.35,2, -999.000,9, -999.000,9,  -999.00,9,   -999.0,9,   -999.0,9,-999.0000,9,   -999.0,  9,  -999.00,9,   -999.0,  -999.00,9,  -999.00,9,  -999.00,9,  -999.00,9,   -999.0,-999.0000, -999,9,  299,  13.0939,  25.9630,   -999.0,9
       KS03-06,  NONE,KS-0818,  1,     13,02-16019,4,20030812,0941, 15.0035, 149.3103, 5619,    401.3,   9.2257,  34.2871,2,   -999.0,9,-999.0000,9,   -999.0,9,  -999.00,9,  -999.00,9,  -999.00,9,  -999.00,9,  -999.00,9, -999.000,9, -999.000,9,  -999.00,9,   -999.0,9,   -999.0,9,-999.0000,9,   -999.0,  9,  -999.00,9,   -999.0,  -999.00,9,  -999.00,9,  -999.00,9,  -999.00,9,   -999.0,-999.0000, -999,9,  399,   9.1813,  26.5308,   -999.0,9
       KS03-06,  NONE,KS-0818,  1,     12,02-16018,2,20030812,0937, 15.0035, 149.3103, 5619,    502.5,   7.4971,  34.3971,2,   -999.0,9,  34.3986,2,     52.0,2,  -999.00,9,  -999.00,9,    35.25,2,     0.00,2,     2.56,2, -999.000,9, -999.000,9,  -999.00,9,   -999.0,9,   -999.0,9,-999.0000,9,   -999.0,  9,  -999.00,9,   -999.0,  -999.00,9,  -999.00,9,  -999.00,9,  -999.00,9,   -999.0,-999.0000, -999,9,  499,   7.4476,  26.8809,   -999.0,9
       KS03-06,  NONE,KS-0818,  1,     11,02-16017,2,20030812,0933, 15.0035, 149.3103, 5619,    602.9,   6.6253,  34.4454,2,   -999.0,9,  34.4463,2,     52.0,2,  -999.00,9,  -999.00,9,    37.39,2,     0.00,2,     2.70,2, -999.000,9, -999.000,9,  -999.00,9,   -999.0,9,   -999.0,9,-999.0000,9,   -999.0,  9,  -999.00,9,   -999.0,  -999.00,9,  -999.00,9,  -999.00,9,  -999.00,9,   -999.0,-999.0000, -999,9,  598,   6.5694,  27.0403,   -999.0,9
       KS03-06,  NONE,KS-0818,  1,     10,02-16016,2,20030812,0926, 15.0035, 149.3103, 5619,    806.4,   5.4047,  34.4919,2,   -999.0,9,  34.4923,2,     64.0,2,  -999.00,9,  -999.00,9,    38.74,2,     0.00,2,     2.77,2, -999.000,9, -999.000,9,  -999.00,9,   -999.0,9,   -999.0,9,-999.0000,9,   -999.0,  9,  -999.00,9,   -999.0,  -999.00,9,  -999.00,9,  -999.00,9,  -999.00,9,   -999.0,-999.0000, -999,9,  800,   5.3362,  27.2329,   -999.0,9
       KS03-06,  NONE,KS-0818,  1,      9,02-16015,9,20030812,0926, 15.0035, 149.3103, 5619,    805.1,   5.4072,  34.4918,2,   -999.0,9,-999.0000,9,   -999.0,9,  -999.00,9,  -999.00,9,  -999.00,9,  -999.00,9,  -999.00,9, -999.000,9, -999.000,9,  -999.00,9,   -999.0,9,   -999.0,9,-999.0000,9,   -999.0,  9,  -999.00,9,   -999.0,  -999.00,9,  -999.00,9,  -999.00,9,  -999.00,9,   -999.0,-999.0000, -999,9,  799,   5.3388,  27.2325,   -999.0,9
       KS03-06,  NONE,KS-0818,  1,      8,02-16014,2,20030812,0920, 15.0035, 149.3103, 5619,   1007.1,   4.5238,  34.5266,2,   -999.0,9,  34.5266,2,     73.0,2,  -999.00,9,  -999.00,9,    39.52,2,     0.00,2,     2.83,2, -999.000,9, -999.000,9,  -999.00,9,   -999.0,9,   -999.0,9,-999.0000,9,   -999.0,  9,  -999.00,9,   -999.0,  -999.00,9,  -999.00,9,  -999.00,9,  -999.00,9,   -999.0,-999.0000, -999,9,  999,   4.4435,  27.3624,   -999.0,9
       KS03-06,  NONE,KS-0818,  1,      7,02-16013,9,20030812,0920, 15.0035, 149.3103, 5619,   1005.8,   4.5241,  34.5265,2,   -999.0,9,-999.0000,9,   -999.0,9,  -999.00,9,  -999.00,9,  -999.00,9,  -999.00,9,  -999.00,9, -999.000,9, -999.000,9,  -999.00,9,   -999.0,9,   -999.0,9,-999.0000,9,   -999.0,  9,  -999.00,9,   -999.0,  -999.00,9,  -999.00,9,  -999.00,9,  -999.00,9,   -999.0,-999.0000, -999,9,  998,   4.4439,  27.3623,   -999.0,9
       KS03-06,  NONE,KS-0818,  1,      6,02-16012,4,20030812,0913, 15.0035, 149.3103, 5619,   1258.4,   3.6135,  34.5593,2,   -999.0,9,-999.0000,9,   -999.0,9,  -999.00,9,  -999.00,9,  -999.00,9,  -999.00,9,  -999.00,9, -999.000,9, -999.000,9,  -999.00,9,   -999.0,9,   -999.0,9,-999.0000,9,   -999.0,  9,  -999.00,9,   -999.0,  -999.00,9,  -999.00,9,  -999.00,9,  -999.00,9,   -999.0,-999.0000, -999,9, 1247,   3.5195,  27.4841,   -999.0,9
       KS03-06,  NONE,KS-0818,  1,      5,02-16011,9,20030812,0906, 15.0035, 149.3103, 5619,   1511.5,   2.9788,  34.5822,2,   -999.0,9,-999.0000,9,   -999.0,9,  -999.00,9,  -999.00,9,  -999.00,9,  -999.00,9,  -999.00,9, -999.000,9, -999.000,9,  -999.00,9,   -999.0,9,   -999.0,9,-999.0000,9,   -999.0,  9,  -999.00,9,   -999.0,  -999.00,9,  -999.00,9,  -999.00,9,  -999.00,9,   -999.0,-999.0000, -999,9, 1497,   2.8702,  27.5634,   -999.0,9
       KS03-06,  NONE,KS-0818,  1,      4,02-16010,4,20030812,0906, 15.0035, 149.3103, 5619,   1511.7,   2.9782,  34.5823,2,   -999.0,9,-999.0000,9,   -999.0,9,  -999.00,9,  -999.00,9,  -999.00,9,  -999.00,9,  -999.00,9, -999.000,9, -999.000,9,  -999.00,9,   -999.0,9,   -999.0,9,-999.0000,9,   -999.0,  9,  -999.00,9,   -999.0,  -999.00,9,  -999.00,9,  -999.00,9,  -999.00,9,   -999.0,-999.0000, -999,9, 1497,   2.8696,  27.5635,   -999.0,9
       KS03-06,  NONE,KS-0818,  1,      3,02-16009,4,20030812,0858, 15.0035, 149.3103, 5619,   1765.1,   2.5237,  34.6056,2,   -999.0,9,-999.0000,9,   -999.0,9,  -999.00,9,  -999.00,9,  -999.00,9,  -999.00,9,  -999.00,9, -999.000,9, -999.000,9,  -999.00,9,   -999.0,9,   -999.0,9,-999.0000,9,   -999.0,  9,  -999.00,9,   -999.0,  -999.00,9,  -999.00,9,  -999.00,9,  -999.00,9,   -999.0,-999.0000, -999,9, 1747,   2.3995,  27.6230,   -999.0,9
       KS03-06,  NONE,KS-0818,  1,      2,02-16008,9,20030812,0850, 15.0035, 149.3103, 5619,   2017.8,   2.2198,  34.6236,2,   -999.0,9,-999.0000,9,   -999.0,9,  -999.00,9,  -999.00,9,  -999.00,9,  -999.00,9,  -999.00,9, -999.000,9, -999.000,9,  -999.00,9,   -999.0,9,   -999.0,9,-999.0000,9,   -999.0,  9,  -999.00,9,   -999.0,  -999.00,9,  -999.00,9,  -999.00,9,  -999.00,9,   -999.0,-999.0000, -999,9, 1996,   2.0785,  27.6638,   -999.0,9
       KS03-06,  NONE,KS-0818,  1,      1,02-16007,2,20030812,0849, 15.0035, 149.3103, 5619,   2018.3,   2.2181,  34.6237,2,   -999.0,9,  34.6234,2,    109.0,2,  -999.00,9,  -999.00,9,    38.73,2,     0.00,2,     2.75,2, -999.000,9, -999.000,9,  -999.00,9,   -999.0,9,   -999.0,9,-999.0000,9,   -999.0,  9,  -999.00,9,   -999.0,  -999.00,9,  -999.00,9,  -999.00,9,  -999.00,9,   -999.0,-999.0000, -999,9, 1997,   2.0768,  27.6641,   -999.0,9