BOTTLE,20130510GEMDJMAYT
EXPOCODE,SECT_ID,STNNBR,CASTNO,SAMPNO,BTLNBR,BTLNBR_FLAG_W,DATE,TIME,LATITUDE,LONGITUDE,DEPTH,CTDPRS,CTDTMP,CTDSAL,CTDSAL_FLAG_W,CTDOXY,CTDOXY_FLAG_W,SALNTY,SALNTY_FLAG_W,OXYGEN,OXYGEN_FLAG_W,SILCAT,SILCAT_FLAG_W,NITRAT,NITRAT_FLAG_W,NO2+NO3,NO2+NO3_FLAG_W,NITRIT,NITRIT_FLAG_W,PHSPHT,PHSPHT_FLAG_W,CFC-11,CFC-11_FLAG_W,CFC-12,CFC-12_FLAG_W,DELC13,DELC13_FLAG_W,TCARBN,TCARBN_FLAG_W,ALKALI,ALKALI_FLAG_W,PH,PH_FLAG_W,PH_TMP,PH_SCALE,PH_NBS,PH_NBS_FLAG_W,C13ERR,TOTALP,TOTALP_FLAG_W,AMMONI,AMMONI_FLAG_W,CHLORA,CHLORA_FLAG_W,PPHYTN,PPHYTN_FLAG_W,REVPRS,REVTMP,DEPTH_,DEPTH_FLAG,CTDDEP,THETA,SIGTHT,DOC,DOC_FLAG_W
,,,,,,,GMT,GMT,,,METER,DBAR,ITS-90,PSS-78,,UMOL/KG,,PSS-78,,UMOL/KG,,UMOL/KG,,UMOL/KG,,UMOL/KG,,UMOL/KG,,UMOL/KG,,PMOL/KG,,PMOL/KG,,/MILLE,,UMOL/KG,,UMOL/KG,,25_DEG_C,,DEG_C,,,,/MILLE,UMOL/KG,,UMOL/KG,,UG/L,,UG/L,,DBAR,ITS-90,METERS,,METERS,DEG_C,,UMOL/L,
       KS03-06,  165E,KS-0786,  1,     24,02-16030,2,20030722,0947, -4.9815, 164.9810, 2346,      5.0,  29.6192,  35.1303,2,   -999.0,9,  35.1315,2,    198.0,2,  -999.00,9,  -999.00,9,     0.00,2,     0.01,2,     0.20,2, -999.000,9, -999.000,9,  -999.00,9,   1944.8,2,   -999.0,9,-999.0000,9,   -999.0,  9,     8.27,2,   -999.0,  -999.00,9,  -999.00,9,     0.07,2,     0.25,2,   -999.0,-999.0000, -999,9,    5,  29.6180,  21.9539,   -999.0,9
       KS03-06,  165E,KS-0786,  1,     23,02-16029,2,20030722,0946, -4.9815, 164.9810, 2346,     10.4,  29.6131,  35.1301,2,   -999.0,9,-999.0000,9,    198.0,2,  -999.00,9,  -999.00,9,     0.00,2,     0.00,2,     0.19,2, -999.000,9, -999.000,9,  -999.00,9,   1941.0,2,   -999.0,9,-999.0000,9,   -999.0,  9,     8.27,2,   -999.0,  -999.00,9,  -999.00,9,     0.09,2,     0.22,2,   -999.0,-999.0000, -999,9,   10,  29.6106,  21.9563,   -999.0,9
       KS03-06,  165E,KS-0786,  1,     22,02-16028,2,20030722,0945, -4.9815, 164.9810, 2346,     26.2,  29.6159,  35.1305,2,   -999.0,9,-999.0000,9,    195.0,2,  -999.00,9,  -999.00,9,     0.00,2,     0.00,2,     0.19,2, -999.000,9, -999.000,9,  -999.00,9,   1942.5,2,   -999.0,9,-999.0000,9,   -999.0,  9,     8.26,2,   -999.0,  -999.00,9,  -999.00,9,     0.10,2,     0.21,2,   -999.0,-999.0000, -999,9,   26,  29.6095,  21.9569,   -999.0,9
       KS03-06,  165E,KS-0786,  1,     21,02-16027,2,20030722,0944, -4.9815, 164.9810, 2346,     50.8,  29.6130,  35.1400,2,   -999.0,9,-999.0000,9,    198.0,2,  -999.00,9,  -999.00,9,     0.10,2,     0.00,2,     0.21,2, -999.000,9, -999.000,9,  -999.00,9,   1945.9,2,   -999.0,9,-999.0000,9,   -999.0,  9,     8.26,2,   -999.0,  -999.00,9,  -999.00,9,     0.18,2,     0.16,2,   -999.0,-999.0000, -999,9,   51,  29.6005,  21.9671,   -999.0,9
       KS03-06,  165E,KS-0786,  1,     20,02-16026,2,20030722,0943, -4.9815, 164.9810, 2346,     75.0,  29.5927,  35.5112,2,   -999.0,9,-999.0000,9,    189.0,2,  -999.00,9,  -999.00,9,     2.35,2,     0.19,2,     0.43,2, -999.000,9, -999.000,9,  -999.00,9,   2004.9,2,   -999.0,9,-999.0000,9,   -999.0,  9,     8.20,2,   -999.0,  -999.00,9,  -999.00,9,     0.14,2,     0.70,2,   -999.0,-999.0000, -999,9,   75,  29.5743,  22.2545,   -999.0,9
       KS03-06,  165E,KS-0786,  1,     19,02-16025,9,20030722,0940, -4.9815, 164.9810, 2346,     99.4,  29.4595,  35.5205,2,   -999.0,9,-999.0000,9,   -999.0,9,  -999.00,9,  -999.00,9,  -999.00,9,  -999.00,9,  -999.00,9, -999.000,9, -999.000,9,  -999.00,9,   -999.0,9,   -999.0,9,-999.0000,9,   -999.0,  9,  -999.00,9,   -999.0,  -999.00,9,  -999.00,9,  -999.00,9,  -999.00,9,   -999.0,-999.0000, -999,9,   99,  29.4351,  22.3085,   -999.0,9
       KS03-06,  165E,KS-0786,  1,     18,02-16024,2,20030722,0940, -4.9815, 164.9810, 2346,    100.2,  29.4525,  35.5209,2,   -999.0,9,  35.5233,2,    183.0,2,  -999.00,9,  -999.00,9,     3.33,2,     1.04,2,     0.48,2, -999.000,9, -999.000,9,  -999.00,9,   2009.9,2,   -999.0,9,-999.0000,9,   -999.0,  9,     8.19,2,   -999.0,  -999.00,9,  -999.00,9,     0.15,2,     0.67,2,   -999.0,-999.0000, -999,9,  100,  29.4280,  22.3113,   -999.0,9
       KS03-06,  165E,KS-0786,  1,     17,02-16023,2,20030722,0939, -4.9815, 164.9810, 2346,    123.7,  28.9827,  35.5793,2,   -999.0,9,-999.0000,9,    174.0,2,  -999.00,9,  -999.00,9,     5.38,2,     2.23,2,     0.55,2, -999.000,9, -999.000,9,  -999.00,9,   2023.9,2,   -999.0,9,-999.0000,9,   -999.0,  9,     8.17,2,   -999.0,  -999.00,9,  -999.00,9,     0.12,2,     0.21,2,   -999.0,-999.0000, -999,9,  123,  28.9527,  22.5149,   -999.0,9
       KS03-06,  165E,KS-0786,  1,     16,02-16022,2,20030722,0938, -4.9815, 164.9810, 2346,    151.2,  26.4108,  35.9623,2,   -999.0,9,-999.0000,9,    148.0,2,  -999.00,9,  -999.00,9,     7.82,2,     0.04,2,     0.74,2, -999.000,9, -999.000,9,  -999.00,9,   2070.6,2,   -999.0,9,-999.0000,9,   -999.0,  9,     8.13,2,   -999.0,  -999.00,9,  -999.00,9,     0.04,2,     0.12,2,   -999.0,-999.0000, -999,9,  150,  26.3765,  23.6412,   -999.0,9
       KS03-06,  165E,KS-0786,  1,     15,02-16021,2,20030722,0936, -4.9815, 164.9810, 2346,    200.4,  19.5159,  35.6661,2,   -999.0,9,  35.6713,4,    124.0,2,  -999.00,9,  -999.00,9,    12.29,2,     0.00,2,     1.05,2, -999.000,9, -999.000,9,  -999.00,9,   2136.7,2,   -999.0,9,-999.0000,9,   -999.0,  9,     7.97,2,   -999.0,  -999.00,9,  -999.00,9,     0.01,2,     0.02,2,   -999.0,-999.0000, -999,9,  199,  19.4793,  25.4066,   -999.0,9
       KS03-06,  165E,KS-0786,  1,     14,02-16020,2,20030722,0933, -4.9815, 164.9810, 2346,    252.1,  13.7873,  35.0708,2,   -999.0,9,-999.0000,9,    108.0,2,  -999.00,9,  -999.00,9,    20.56,2,     0.00,2,     1.52,2, -999.000,9, -999.000,9,  -999.00,9,   2168.8,2,   -999.0,9,-999.0000,9,   -999.0,  9,     7.84,2,   -999.0,  -999.00,9,  -999.00,9,     0.00,2,     0.02,2,   -999.0,-999.0000, -999,9,  251,  13.7511,  26.2940,   -999.0,9
       KS03-06,  165E,KS-0786,  1,     13,02-16019,2,20030722,0931, -4.9815, 164.9810, 2346,    304.0,  12.0539,  34.9189,2,   -999.0,9,  34.9213,2,    100.0,2,  -999.00,9,  -999.00,9,    24.65,2,     0.00,2,     1.74,2, -999.000,9, -999.000,9,  -999.00,9,   2183.9,2,   -999.0,9,-999.0000,9,   -999.0,  9,     7.78,2,   -999.0,  -999.00,9,  -999.00,9,     0.00,2,     0.01,2,   -999.0,-999.0000, -999,9,  302,  12.0140,  26.5234,   -999.0,9
       KS03-06,  165E,KS-0786,  1,     12,02-16018,2,20030722,0928, -4.9815, 164.9810, 2346,    404.2,   9.3052,  34.6961,2,   -999.0,9,  34.6991,2,    134.0,4,  -999.00,9,  -999.00,9,    30.97,2,     0.00,2,     2.10,2, -999.000,9, -999.000,9,  -999.00,9,   2215.2,2,   -999.0,9,-999.0000,9,   -999.0,  9,     7.69,2,   -999.0,  -999.00,9,  -999.00,9,  -999.00,9,  -999.00,9,   -999.0,-999.0000, -999,9,  402,   9.2600,  26.8381,   -999.0,9
       KS03-06,  165E,KS-0786,  1,     11,02-16017,2,20030722,0922, -4.9815, 164.9810, 2346,    504.8,   7.9428,  34.6102,2,   -999.0,9,  34.6111,2,     97.0,2,  -999.00,9,  -999.00,9,    33.30,2,     0.00,2,     2.26,2, -999.000,9, -999.000,9,  -999.00,9,   -999.0,9,   -999.0,9,-999.0000,9,   -999.0,  9,     7.67,2,   -999.0,  -999.00,9,  -999.00,9,  -999.00,9,  -999.00,9,   -999.0,-999.0000, -999,9,  501,   7.8912,  26.9839,   -999.0,9
       KS03-06,  165E,KS-0786,  1,     10,02-16016,2,20030722,0919, -4.9815, 164.9810, 2346,    604.6,   7.1392,  34.5804,2,   -999.0,9,  34.5808,2,     73.0,2,  -999.00,9,  -999.00,9,    37.29,2,     0.00,2,     2.55,2, -999.000,9, -999.000,9,  -999.00,9,   2250.6,2,   -999.0,9,-999.0000,9,   -999.0,  9,     7.60,2,   -999.0,  -999.00,9,  -999.00,9,  -999.00,9,  -999.00,9,   -999.0,-999.0000, -999,9,  600,   7.0807,  27.0770,   -999.0,9
       KS03-06,  165E,KS-0786,  1,      9,02-16015,2,20030722,0912, -4.9815, 164.9810, 2346,    705.5,   6.2042,  34.5248,2,   -999.0,9,  34.5256,2,    131.0,2,  -999.00,9,  -999.00,9,    33.10,2,     0.00,2,     2.27,2, -999.000,9, -999.000,9,  -999.00,9,   -999.0,9,   -999.0,9,-999.0000,9,   -999.0,  9,     7.68,2,   -999.0,  -999.00,9,  -999.00,9,  -999.00,9,  -999.00,9,   -999.0,-999.0000, -999,9,  700,   6.1404,  27.1592,   -999.0,9
       KS03-06,  165E,KS-0786,  1,      8,02-16014,2,20030722,0909, -4.9815, 164.9810, 2346,    805.6,   5.5636,  34.5289,2,   -999.0,9,  34.5300,2,    108.0,2,  -999.00,9,  -999.00,9,    36.41,2,     0.00,2,     2.52,2, -999.000,9, -999.000,9,  -999.00,9,   2249.0,2,   -999.0,9,-999.0000,9,   -999.0,  9,     7.64,2,   -999.0,  -999.00,9,  -999.00,9,  -999.00,9,  -999.00,9,   -999.0,-999.0000, -999,9,  800,   5.4941,  27.2432,   -999.0,9
       KS03-06,  165E,KS-0786,  1,      7,02-16013,2,20030722,0902, -4.9815, 164.9810, 2346,    905.7,   5.0335,  34.5302,2,   -999.0,9,  34.5309,2,    112.0,2,  -999.00,9,  -999.00,9,    36.70,2,     0.00,2,     2.55,2, -999.000,9, -999.000,9,  -999.00,9,   -999.0,9,   -999.0,9,-999.0000,9,   -999.0,  9,     7.64,2,   -999.0,  -999.00,9,  -999.00,9,  -999.00,9,  -999.00,9,   -999.0,-999.0000, -999,9,  899,   4.9584,  27.3076,   -999.0,9
       KS03-06,  165E,KS-0786,  1,      6,02-16012,9,20030722,0859, -4.9815, 164.9810, 2346,   1007.3,   4.5622,  34.5357,2,   -999.0,9,-999.0000,9,   -999.0,9,  -999.00,9,  -999.00,9,  -999.00,9,  -999.00,9,  -999.00,9, -999.000,9, -999.000,9,  -999.00,9,   -999.0,9,   -999.0,9,-999.0000,9,   -999.0,  9,  -999.00,9,   -999.0,  -999.00,9,  -999.00,9,  -999.00,9,  -999.00,9,   -999.0,-999.0000, -999,9,  999,   4.4815,  27.3655,   -999.0,9
       KS03-06,  165E,KS-0786,  1,      5,02-16011,2,20030722,0859, -4.9815, 164.9810, 2346,   1006.5,   4.5648,  34.5355,2,   -999.0,9,  34.5384,4,    114.0,2,  -999.00,9,  -999.00,9,    36.89,2,     0.00,2,     2.58,2, -999.000,9, -999.000,9,  -999.00,9,   2270.2,6,   -999.0,9,-999.0000,9,   -999.0,  9,     7.64,2,   -999.0,  -999.00,9,  -999.00,9,  -999.00,9,  -999.00,9,   -999.0,-999.0000, -999,9,  998,   4.4842,  27.3650,   -999.0,9
       KS03-06,  165E,KS-0786,  1,      4,02-16010,2,20030722,0850, -4.9815, 164.9810, 2346,   1259.4,   3.5849,  34.5705,2,   -999.0,9,  34.5718,2,    110.0,2,  -999.00,9,  -999.00,9,    38.05,2,     0.00,2,     2.70,2, -999.000,9, -999.000,9,  -999.00,9,   2300.4,2,   -999.0,9,-999.0000,9,   -999.0,  9,     7.63,2,   -999.0,  -999.00,9,  -999.00,9,  -999.00,9,  -999.00,9,   -999.0,-999.0000, -999,9, 1249,   3.4910,  27.4958,   -999.0,9
       KS03-06,  165E,KS-0786,  1,      3,02-16009,2,20030722,0842, -4.9815, 164.9810, 2346,   1512.1,   2.8349,  34.6047,2,   -999.0,9,  34.6046,2,    116.0,2,  -999.00,9,  -999.00,9,    38.15,2,     0.00,2,     2.72,2, -999.000,9, -999.000,9,  -999.00,9,   2316.1,2,   -999.0,9,-999.0000,9,   -999.0,  9,     7.64,2,   -999.0,  -999.00,9,  -999.00,9,  -999.00,9,  -999.00,9,   -999.0,-999.0000, -999,9, 1498,   2.7279,  27.5940,   -999.0,9
       KS03-06,  165E,KS-0786,  1,      2,02-16008,2,20030722,0829, -4.9815, 164.9810, 2346,   1760.0,   2.4640,  34.6249,2,   -999.0,9,  34.6270,2,    121.0,2,  -999.00,9,  -999.00,9,    37.76,2,     0.00,2,     2.65,2, -999.000,9, -999.000,9,  -999.00,9,   -999.0,9,   -999.0,9,-999.0000,9,   -999.0,  9,     7.65,2,   -999.0,  -999.00,9,  -999.00,9,  -999.00,9,  -999.00,9,   -999.0,-999.0000, -999,9, 1743,   2.3410,  27.6434,   -999.0,9
       KS03-06,  165E,KS-0786,  1,      1,02-16007,2,20030722,0822, -4.9815, 164.9810, 2346,   2017.3,   2.1905,  34.6406,2,   -999.0,9,  34.6417,2,    126.0,2,  -999.00,9,  -999.00,9,    37.56,2,     0.00,2,     2.64,2, -999.000,9, -999.000,9,  -999.00,9,   2326.9,2,   -999.0,9,-999.0000,9,   -999.0,  9,     7.66,2,   -999.0,  -999.00,9,  -999.00,9,  -999.00,9,  -999.00,9,   -999.0,-999.0000, -999,9, 1996,   2.0497,  27.6798,   -999.0,9