BOTTLE,20130510GEMDJMAYT
EXPOCODE,SECT_ID,STNNBR,CASTNO,SAMPNO,BTLNBR,BTLNBR_FLAG_W,DATE,TIME,LATITUDE,LONGITUDE,DEPTH,CTDPRS,CTDTMP,CTDSAL,CTDSAL_FLAG_W,CTDOXY,CTDOXY_FLAG_W,SALNTY,SALNTY_FLAG_W,OXYGEN,OXYGEN_FLAG_W,SILCAT,SILCAT_FLAG_W,NITRAT,NITRAT_FLAG_W,NO2+NO3,NO2+NO3_FLAG_W,NITRIT,NITRIT_FLAG_W,PHSPHT,PHSPHT_FLAG_W,CFC-11,CFC-11_FLAG_W,CFC-12,CFC-12_FLAG_W,DELC13,DELC13_FLAG_W,TCARBN,TCARBN_FLAG_W,ALKALI,ALKALI_FLAG_W,PH,PH_FLAG_W,PH_TMP,PH_SCALE,PH_NBS,PH_NBS_FLAG_W,C13ERR,TOTALP,TOTALP_FLAG_W,AMMONI,AMMONI_FLAG_W,CHLORA,CHLORA_FLAG_W,PPHYTN,PPHYTN_FLAG_W,REVPRS,REVTMP,DEPTH_,DEPTH_FLAG,CTDDEP,THETA,SIGTHT,DOC,DOC_FLAG_W
,,,,,,,GMT,GMT,,,METER,DBAR,ITS-90,PSS-78,,UMOL/KG,,PSS-78,,UMOL/KG,,UMOL/KG,,UMOL/KG,,UMOL/KG,,UMOL/KG,,UMOL/KG,,PMOL/KG,,PMOL/KG,,/MILLE,,UMOL/KG,,UMOL/KG,,25_DEG_C,,DEG_C,,,,/MILLE,UMOL/KG,,UMOL/KG,,UG/L,,UG/L,,DBAR,ITS-90,METERS,,METERS,DEG_C,,UMOL/L,
       KS03-06, EQPAC,KS-0795,  1,     24,02-16030,2,20030728,0931,  0.0078, 159.1233, 2387,      4.8,  30.3811,  34.1604,2,   -999.0,9,  34.1644,4,    197.0,2,  -999.00,9,  -999.00,9,     0.00,2,     0.00,2,     0.11,2, -999.000,9, -999.000,9,  -999.00,9,   1888.0,2,   -999.0,9,-999.0000,9,   -999.0,  9,     8.27,2,   -999.0,  -999.00,9,  -999.00,9,     0.03,2,     0.04,2,   -999.0,-999.0000, -999,9,    5,  30.3799,  20.9670,   -999.0,9
       KS03-06, EQPAC,KS-0795,  1,     23,02-16029,2,20030728,0930,  0.0078, 159.1233, 2387,     10.0,  30.1058,  34.1475,2,   -999.0,9,-999.0000,9,    198.0,2,  -999.00,9,  -999.00,9,     0.00,2,     0.00,2,     0.11,2, -999.000,9, -999.000,9,  -999.00,9,   -999.0,9,   -999.0,9,-999.0000,9,   -999.0,  9,  -999.00,9,   -999.0,  -999.00,9,  -999.00,9,     0.04,2,     0.03,2,   -999.0,-999.0000, -999,9,   10,  30.1033,  21.0520,   -999.0,9
       KS03-06, EQPAC,KS-0795,  1,     22,02-16028,2,20030728,0929,  0.0078, 159.1233, 2387,     24.8,  30.0862,  34.1767,2,   -999.0,9,-999.0000,9,    198.0,2,  -999.00,9,  -999.00,9,     0.00,2,     0.00,2,     0.11,2, -999.000,9, -999.000,9,  -999.00,9,   -999.0,9,   -999.0,9,-999.0000,9,   -999.0,  9,  -999.00,9,   -999.0,  -999.00,9,  -999.00,9,     0.03,2,     0.06,2,   -999.0,-999.0000, -999,9,   25,  30.0800,  21.0818,   -999.0,9
       KS03-06, EQPAC,KS-0795,  1,     21,02-16027,2,20030728,0925,  0.0078, 159.1233, 2387,     49.9,  30.2096,  34.6702,2,   -999.0,9,-999.0000,9,    201.0,2,  -999.00,9,  -999.00,9,     0.00,2,     0.00,2,     0.16,2, -999.000,9, -999.000,9,  -999.00,9,   -999.0,9,   -999.0,9,-999.0000,9,   -999.0,  9,  -999.00,9,   -999.0,  -999.00,9,  -999.00,9,     0.08,2,     0.06,2,   -999.0,-999.0000, -999,9,   50,  30.1972,  21.4115,   -999.0,9
       KS03-06, EQPAC,KS-0795,  1,     20,02-16026,2,20030728,0924,  0.0078, 159.1233, 2387,     75.5,  28.4347,  35.3186,2,   -999.0,9,-999.0000,9,    181.0,2,  -999.00,9,  -999.00,9,     3.03,2,     0.36,2,     0.42,2, -999.000,9, -999.000,9,  -999.00,9,   -999.0,9,   -999.0,9,-999.0000,9,   -999.0,  9,  -999.00,9,   -999.0,  -999.00,9,  -999.00,9,     0.38,2,     0.50,2,   -999.0,-999.0000, -999,9,   75,  28.4167,  22.4972,   -999.0,9
       KS03-06, EQPAC,KS-0795,  1,     19,02-16025,2,20030728,0923,  0.0078, 159.1233, 2387,    100.4,  27.3769,  35.2188,2,   -999.0,9,  35.2282,4,    162.0,2,  -999.00,9,  -999.00,9,     4.99,2,     0.69,2,     0.50,2, -999.000,9, -999.000,9,  -999.00,9,   -999.0,9,   -999.0,9,-999.0000,9,   -999.0,  9,  -999.00,9,   -999.0,  -999.00,9,  -999.00,9,     0.24,2,     0.44,2,   -999.0,-999.0000, -999,9,  100,  27.3536,  22.7691,   -999.0,9
       KS03-06, EQPAC,KS-0795,  1,     18,02-16024,2,20030728,0922,  0.0078, 159.1233, 2387,    124.6,  25.9325,  35.4083,2,   -999.0,9,-999.0000,9,    143.0,2,  -999.00,9,  -999.00,9,     8.40,2,     0.04,2,     0.70,2, -999.000,9, -999.000,9,  -999.00,9,   -999.0,9,   -999.0,9,-999.0000,9,   -999.0,  9,  -999.00,9,   -999.0,  -999.00,9,  -999.00,9,     0.13,2,     0.20,2,   -999.0,-999.0000, -999,9,  124,  25.9047,  23.3711,   -999.0,9
       KS03-06, EQPAC,KS-0795,  1,     17,02-16023,2,20030728,0921,  0.0078, 159.1233, 2387,    151.0,  22.9792,  35.3700,2,   -999.0,9,-999.0000,9,    137.0,2,  -999.00,9,  -999.00,9,     8.88,2,     0.01,2,     0.70,2, -999.000,9, -999.000,9,  -999.00,9,   -999.0,9,   -999.0,9,-999.0000,9,   -999.0,  9,  -999.00,9,   -999.0,  -999.00,9,  -999.00,9,     0.03,2,     0.06,2,   -999.0,-999.0000, -999,9,  150,  22.9483,  24.2291,   -999.0,9
       KS03-06, EQPAC,KS-0795,  1,     16,02-16022,2,20030728,0920,  0.0078, 159.1233, 2387,    200.5,  16.4411,  35.2375,2,   -999.0,9,  35.2422,4,    145.0,2,  -999.00,9,  -999.00,9,    13.65,2,     0.00,2,     1.01,2, -999.000,9, -999.000,9,  -999.00,9,   -999.0,9,   -999.0,9,-999.0000,9,   -999.0,  9,  -999.00,9,   -999.0,  -999.00,9,  -999.00,9,     0.00,2,     0.01,2,   -999.0,-999.0000, -999,9,  199,  16.4087,  25.8359,   -999.0,9
       KS03-06, EQPAC,KS-0795,  1,     15,02-16021,2,20030728,0915,  0.0078, 159.1233, 2387,    249.8,  13.0563,  34.9777,2,   -999.0,9,-999.0000,9,    138.0,2,  -999.00,9,  -999.00,9,    19.39,2,     0.00,2,     1.37,2, -999.000,9, -999.000,9,  -999.00,9,   -999.0,9,   -999.0,9,-999.0000,9,   -999.0,  9,  -999.00,9,   -999.0,  -999.00,9,  -999.00,9,     0.00,2,     0.02,2,   -999.0,-999.0000, -999,9,  248,  13.0218,  26.3712,   -999.0,9
       KS03-06, EQPAC,KS-0795,  1,     14,02-16020,2,20030728,0913,  0.0078, 159.1233, 2387,    300.2,  11.3359,  34.8135,2,   -999.0,9,  34.8180,4,    111.0,2,  -999.00,9,  -999.00,9,    24.94,2,     0.00,2,     1.72,2, -999.000,9, -999.000,9,  -999.00,9,   -999.0,9,   -999.0,9,-999.0000,9,   -999.0,  9,  -999.00,9,   -999.0,  -999.00,9,  -999.00,9,     0.00,2,     0.01,2,   -999.0,-999.0000, -999,9,  298,  11.2981,  26.5759,   -999.0,9
       KS03-06, EQPAC,KS-0795,  1,     13,02-16019,2,20030728,0910,  0.0078, 159.1233, 2387,    400.8,   9.4891,  34.6968,2,   -999.0,9,  34.6962,2,     98.0,2,  -999.00,9,  -999.00,9,    29.80,2,     0.00,2,     2.04,2, -999.000,9, -999.000,9,  -999.00,9,   -999.0,9,   -999.0,9,-999.0000,9,   -999.0,  9,  -999.00,9,   -999.0,  -999.00,9,  -999.00,9,  -999.00,9,  -999.00,9,   -999.0,-999.0000, -999,9,  398,   9.4438,  26.8086,   -999.0,9
       KS03-06, EQPAC,KS-0795,  1,     12,02-16018,2,20030728,0908,  0.0078, 159.1233, 2387,    501.9,   8.1381,  34.6093,2,   -999.0,9,  34.6087,2,    107.0,2,  -999.00,9,  -999.00,9,    31.55,2,     0.00,2,     2.15,2, -999.000,9, -999.000,9,  -999.00,9,   -999.0,9,   -999.0,9,-999.0000,9,   -999.0,  9,  -999.00,9,   -999.0,  -999.00,9,  -999.00,9,  -999.00,9,  -999.00,9,   -999.0,-999.0000, -999,9,  499,   8.0861,  26.9541,   -999.0,9
       KS03-06, EQPAC,KS-0795,  1,     11,02-16017,2,20030728,0904,  0.0078, 159.1233, 2387,    603.2,   7.0950,  34.5631,2,   -999.0,9,  34.5624,2,    115.0,2,  -999.00,9,  -999.00,9,    33.01,2,     0.00,2,     2.26,2, -999.000,9, -999.000,9,  -999.00,9,   -999.0,9,   -999.0,9,-999.0000,9,   -999.0,  9,  -999.00,9,   -999.0,  -999.00,9,  -999.00,9,  -999.00,9,  -999.00,9,   -999.0,-999.0000, -999,9,  599,   7.0368,  27.0695,   -999.0,9
       KS03-06, EQPAC,KS-0795,  1,     10,02-16016,2,20030728,0901,  0.0078, 159.1233, 2387,    704.3,   6.1775,  34.5393,2,   -999.0,9,  34.5402,2,    105.0,2,  -999.00,9,  -999.00,9,    35.53,2,     0.00,2,     2.46,2, -999.000,9, -999.000,9,  -999.00,9,   -999.0,9,   -999.0,9,-999.0000,9,   -999.0,  9,  -999.00,9,   -999.0,  -999.00,9,  -999.00,9,  -999.00,9,  -999.00,9,   -999.0,-999.0000, -999,9,  699,   6.1140,  27.1740,   -999.0,9
       KS03-06, EQPAC,KS-0795,  1,      9,02-16015,2,20030728,0859,  0.0078, 159.1233, 2387,    804.3,   5.6937,  34.5369,2,   -999.0,9,  34.5366,2,    101.0,2,  -999.00,9,  -999.00,9,    36.60,2,     0.00,2,     2.54,2, -999.000,9, -999.000,9,  -999.00,9,   -999.0,9,   -999.0,9,-999.0000,9,   -999.0,  9,  -999.00,9,   -999.0,  -999.00,9,  -999.00,9,  -999.00,9,  -999.00,9,   -999.0,-999.0000, -999,9,  798,   5.6235,  27.2338,   -999.0,9
       KS03-06, EQPAC,KS-0795,  1,      8,02-16014,2,20030728,0854,  0.0078, 159.1233, 2387,    905.6,   4.8482,  34.5454,2,   -999.0,9,  34.5453,2,     97.0,2,  -999.00,9,  -999.00,9,    37.96,2,     0.00,2,     2.67,2, -999.000,9, -999.000,9,  -999.00,9,   -999.0,9,   -999.0,9,-999.0000,9,   -999.0,  9,  -999.00,9,   -999.0,  -999.00,9,  -999.00,9,  -999.00,9,  -999.00,9,   -999.0,-999.0000, -999,9,  899,   4.7744,  27.3406,   -999.0,9
       KS03-06, EQPAC,KS-0795,  1,      7,02-16013,2,20030728,0851,  0.0078, 159.1233, 2387,   1007.1,   4.5572,  34.5519,2,   -999.0,9,  34.5521,2,    100.0,2,  -999.00,9,  -999.00,9,    37.96,2,     0.00,2,     2.68,2, -999.000,9, -999.000,9,  -999.00,9,   -999.0,9,   -999.0,9,-999.0000,9,   -999.0,  9,  -999.00,9,   -999.0,  -999.00,9,  -999.00,9,  -999.00,9,  -999.00,9,   -999.0,-999.0000, -999,9,  999,   4.4766,  27.3789,   -999.0,9
       KS03-06, EQPAC,KS-0795,  1,      6,02-16012,9,20030728,0851,  0.0078, 159.1233, 2387,   1007.5,   4.5578,  34.5519,2,   -999.0,9,-999.0000,9,   -999.0,9,  -999.00,9,  -999.00,9,  -999.00,9,  -999.00,9,  -999.00,9, -999.000,9, -999.000,9,  -999.00,9,   -999.0,9,   -999.0,9,-999.0000,9,   -999.0,  9,  -999.00,9,   -999.0,  -999.00,9,  -999.00,9,  -999.00,9,  -999.00,9,   -999.0,-999.0000, -999,9, 1000,   4.4771,  27.3788,   -999.0,9
       KS03-06, EQPAC,KS-0795,  1,      5,02-16011,2,20030728,0844,  0.0078, 159.1233, 2387,   1259.2,   3.7055,  34.5726,2,   -999.0,9,  34.5730,2,    105.0,2,  -999.00,9,  -999.00,9,    38.15,2,     0.00,2,     2.71,2, -999.000,9, -999.000,9,  -999.00,9,   -999.0,9,   -999.0,9,-999.0000,9,   -999.0,  9,  -999.00,9,   -999.0,  -999.00,9,  -999.00,9,  -999.00,9,  -999.00,9,   -999.0,-999.0000, -999,9, 1249,   3.6105,  27.4857,   -999.0,9
       KS03-06, EQPAC,KS-0795,  1,      4,02-16010,2,20030728,0836,  0.0078, 159.1233, 2387,   1511.6,   2.9917,  34.6030,2,   -999.0,9,  34.6036,2,    103.0,2,  -999.00,9,  -999.00,9,    38.93,2,     0.00,2,     2.77,2, -999.000,9, -999.000,9,  -999.00,9,   -999.0,9,   -999.0,9,-999.0000,9,   -999.0,  9,  -999.00,9,   -999.0,  -999.00,9,  -999.00,9,  -999.00,9,  -999.00,9,   -999.0,-999.0000, -999,9, 1498,   2.8829,  27.5789,   -999.0,9
       KS03-06, EQPAC,KS-0795,  1,      3,02-16009,2,20030728,0823,  0.0078, 159.1233, 2387,   2018.5,   2.1829,  34.6416,2,   -999.0,9,  34.6417,2,    123.0,2,  -999.00,9,  -999.00,9,    38.05,2,     0.00,2,     2.68,2, -999.000,9, -999.000,9,  -999.00,9,   -999.0,9,   -999.0,9,-999.0000,9,   -999.0,  9,  -999.00,9,   -999.0,  -999.00,9,  -999.00,9,  -999.00,9,  -999.00,9,   -999.0,-999.0000, -999,9, 1998,   2.0421,  27.6812,   -999.0,9
       KS03-06, EQPAC,KS-0795,  1,      2,02-16008,2,20030728,0817,  0.0078, 159.1233, 2387,   2271.4,   1.9225,  34.6552,2,   -999.0,9,  34.6545,2,    126.0,2,  -999.00,9,  -999.00,9,    37.75,2,     0.00,2,     2.65,2, -999.000,9, -999.000,9,  -999.00,9,   -999.0,9,   -999.0,9,-999.0000,9,   -999.0,  9,  -999.00,9,   -999.0,  -999.00,9,  -999.00,9,  -999.00,9,  -999.00,9,   -999.0,-999.0000, -999,9, 2247,   1.7640,  27.7138,   -999.0,9
       KS03-06, EQPAC,KS-0795,  1,      1,02-16007,2,20030728,0815,  0.0078, 159.1233, 2387,   2354.4,   1.8937,  34.6568,2,   -999.0,9,  34.6555,2,    127.0,2,  -999.00,9,  -999.00,9,    37.56,2,     0.00,2,     2.63,2, -999.000,9, -999.000,9,  -999.00,9,   -999.0,9,   -999.0,9,-999.0000,9,   -999.0,  9,  -999.00,9,   -999.0,  -999.00,9,  -999.00,9,  -999.00,9,  -999.00,9,   -999.0,-999.0000, -999,9, 2328,   1.7284,  27.7178,   -999.0,9