BOTTLE,20130510GEMDJMAYT
EXPOCODE,SECT_ID,STNNBR,CASTNO,SAMPNO,BTLNBR,BTLNBR_FLAG_W,DATE,TIME,LATITUDE,LONGITUDE,DEPTH,CTDPRS,CTDTMP,CTDSAL,CTDSAL_FLAG_W,CTDOXY,CTDOXY_FLAG_W,SALNTY,SALNTY_FLAG_W,OXYGEN,OXYGEN_FLAG_W,SILCAT,SILCAT_FLAG_W,NITRAT,NITRAT_FLAG_W,NO2+NO3,NO2+NO3_FLAG_W,NITRIT,NITRIT_FLAG_W,PHSPHT,PHSPHT_FLAG_W,CFC-11,CFC-11_FLAG_W,CFC-12,CFC-12_FLAG_W,DELC13,DELC13_FLAG_W,TCARBN,TCARBN_FLAG_W,ALKALI,ALKALI_FLAG_W,PH,PH_FLAG_W,PH_TMP,PH_SCALE,PH_NBS,PH_NBS_FLAG_W,C13ERR,TOTALP,TOTALP_FLAG_W,AMMONI,AMMONI_FLAG_W,CHLORA,CHLORA_FLAG_W,PPHYTN,PPHYTN_FLAG_W,REVPRS,REVTMP,DEPTH_,DEPTH_FLAG,CTDDEP,THETA,SIGTHT,DOC,DOC_FLAG_W
,,,,,,,GMT,GMT,,,METER,DBAR,ITS-90,PSS-78,,UMOL/KG,,PSS-78,,UMOL/KG,,UMOL/KG,,UMOL/KG,,UMOL/KG,,UMOL/KG,,UMOL/KG,,PMOL/KG,,PMOL/KG,,/MILLE,,UMOL/KG,,UMOL/KG,,25_DEG_C,,DEG_C,,,,/MILLE,UMOL/KG,,UMOL/KG,,UG/L,,UG/L,,DBAR,ITS-90,METERS,,METERS,DEG_C,,UMOL/L,
       KS03-06, EQPAC,KS-0802,  1,     24,02-16030,2,20030731,1859, -0.0498, 147.0488, 4586,      4.9,  29.5287,  33.8071,2,   -999.0,9,  33.8083,2,    197.0,2,  -999.00,9,  -999.00,9,     0.00,2,     0.00,2,     0.07,2, -999.000,9, -999.000,9,  -999.00,9,   1878.8,2,   -999.0,9,-999.0000,9,   -999.0,  9,     8.26,2,   -999.0,  -999.00,9,  -999.00,9,     0.06,2,     0.04,2,   -999.0,-999.0000, -999,9,    5,  29.5275,  20.9921,   -999.0,9
       KS03-06, EQPAC,KS-0802,  1,     23,02-16029,2,20030731,1858, -0.0498, 147.0488, 4586,     10.0,  29.5307,  33.8046,2,   -999.0,9,-999.0000,9,    197.0,2,  -999.00,9,  -999.00,9,     0.00,2,     0.00,2,     0.07,2, -999.000,9, -999.000,9,  -999.00,9,   -999.0,9,   -999.0,9,-999.0000,9,   -999.0,  9,  -999.00,9,   -999.0,  -999.00,9,  -999.00,9,     0.06,2,     0.04,2,   -999.0,-999.0000, -999,9,   10,  29.5283,  20.9899,   -999.0,9
       KS03-06, EQPAC,KS-0802,  1,     22,02-16028,2,20030731,1854, -0.0498, 147.0488, 4586,     49.3,  29.6537,  34.0450,2,   -999.0,9,-999.0000,9,    197.0,2,  -999.00,9,  -999.00,9,     0.00,2,     0.00,2,     0.09,2, -999.000,9, -999.000,9,  -999.00,9,   -999.0,9,   -999.0,9,-999.0000,9,   -999.0,  9,  -999.00,9,   -999.0,  -999.00,9,  -999.00,9,     0.10,2,     0.07,2,   -999.0,-999.0000, -999,9,   49,  29.6416,  21.1319,   -999.0,9
       KS03-06, EQPAC,KS-0802,  1,     21,02-16027,2,20030731,1853, -0.0498, 147.0488, 4586,     73.2,  29.7164,  34.3793,2,   -999.0,9,-999.0000,9,    199.0,2,  -999.00,9,  -999.00,9,     0.00,2,     0.00,2,     0.14,2, -999.000,9, -999.000,9,  -999.00,9,   -999.0,9,   -999.0,9,-999.0000,9,   -999.0,  9,  -999.00,9,   -999.0,  -999.00,9,  -999.00,9,     0.18,2,     0.15,2,   -999.0,-999.0000, -999,9,   73,  29.6984,  21.3634,   -999.0,9
       KS03-06, EQPAC,KS-0802,  1,     20,02-16026,2,20030731,1852, -0.0498, 147.0488, 4586,    101.0,  28.2303,  35.0377,2,   -999.0,9,  35.0317,4,    178.0,2,  -999.00,9,  -999.00,9,     1.76,2,     0.50,2,     0.34,2, -999.000,9, -999.000,9,  -999.00,9,   -999.0,9,   -999.0,9,-999.0000,9,   -999.0,  9,  -999.00,9,   -999.0,  -999.00,9,  -999.00,9,     0.21,2,     0.35,2,   -999.0,-999.0000, -999,9,  100,  28.2063,  22.3554,   -999.0,9
       KS03-06, EQPAC,KS-0802,  1,     19,02-16025,2,20030731,1851, -0.0498, 147.0488, 4586,    150.7,  22.3058,  35.3383,2,   -999.0,9,-999.0000,9,    136.0,2,  -999.00,9,  -999.00,9,     9.18,2,     0.01,2,     0.72,2, -999.000,9, -999.000,9,  -999.00,9,   -999.0,9,   -999.0,9,-999.0000,9,   -999.0,  9,  -999.00,9,   -999.0,  -999.00,9,  -999.00,9,     0.01,2,     0.03,2,   -999.0,-999.0000, -999,9,  150,  22.2756,  24.3973,   -999.0,9
       KS03-06, EQPAC,KS-0802,  1,     18,02-16024,2,20030731,1849, -0.0498, 147.0488, 4586,    200.0,  17.3800,  35.3452,2,   -999.0,9,  35.3441,4,    143.0,2,  -999.00,9,  -999.00,9,    12.77,2,     0.00,2,     0.97,2, -999.000,9, -999.000,9,  -999.00,9,   -999.0,9,   -999.0,9,-999.0000,9,   -999.0,  9,  -999.00,9,   -999.0,  -999.00,9,  -999.00,9,     0.00,2,     0.02,2,   -999.0,-999.0000, -999,9,  199,  17.3464,  25.6962,   -999.0,9
       KS03-06, EQPAC,KS-0802,  1,     17,02-16023,4,20030731,1845, -0.0498, 147.0488, 4586,    301.1,  11.8137,  34.8637,2,   -999.0,9,-999.0000,9,   -999.0,9,  -999.00,9,  -999.00,9,  -999.00,9,  -999.00,9,  -999.00,9, -999.000,9, -999.000,9,  -999.00,9,   -999.0,9,   -999.0,9,-999.0000,9,   -999.0,  9,  -999.00,9,   -999.0,  -999.00,9,  -999.00,9,  -999.00,9,  -999.00,9,   -999.0,-999.0000, -999,9,  299,  11.7747,  26.5260,   -999.0,9
       KS03-06, EQPAC,KS-0802,  1,     16,02-16022,2,20030731,1842, -0.0498, 147.0488, 4586,    401.9,   9.5016,  34.7111,2,   -999.0,9,  34.7117,2,    119.0,2,  -999.00,9,  -999.00,9,    27.76,2,     0.00,2,     1.90,2, -999.000,9, -999.000,9,  -999.00,9,   -999.0,9,   -999.0,9,-999.0000,9,   -999.0,  9,  -999.00,9,   -999.0,  -999.00,9,  -999.00,9,  -999.00,9,  -999.00,9,   -999.0,-999.0000, -999,9,  399,   9.4561,  26.8177,   -999.0,9
       KS03-06, EQPAC,KS-0802,  1,     15,02-16021,2,20030731,1839, -0.0498, 147.0488, 4586,    501.6,   7.9376,  34.6051,2,   -999.0,9,  34.6058,2,    114.0,2,  -999.00,9,  -999.00,9,    31.26,2,     0.00,2,     2.14,2, -999.000,9, -999.000,9,  -999.00,9,   -999.0,9,   -999.0,9,-999.0000,9,   -999.0,  9,  -999.00,9,   -999.0,  -999.00,9,  -999.00,9,  -999.00,9,  -999.00,9,   -999.0,-999.0000, -999,9,  498,   7.8864,  26.9806,   -999.0,9
       KS03-06, EQPAC,KS-0802,  1,     14,02-16020,2,20030731,1835, -0.0498, 147.0488, 4586,    603.1,   6.9506,  34.5587,2,   -999.0,9,  34.5584,2,    109.0,2,  -999.00,9,  -999.00,9,    33.69,2,     0.00,2,     2.33,2, -999.000,9, -999.000,9,  -999.00,9,   -999.0,9,   -999.0,9,-999.0000,9,   -999.0,  9,  -999.00,9,   -999.0,  -999.00,9,  -999.00,9,  -999.00,9,  -999.00,9,   -999.0,-999.0000, -999,9,  599,   6.8931,  27.0858,   -999.0,9
       KS03-06, EQPAC,KS-0802,  1,     13,02-16019,2,20030731,1832, -0.0498, 147.0488, 4586,    703.0,   5.8343,  34.5337,2,   -999.0,9,  34.5327,2,    109.0,2,  -999.00,9,  -999.00,9,    35.44,2,     0.00,2,     2.47,2, -999.000,9, -999.000,9,  -999.00,9,   -999.0,9,   -999.0,9,-999.0000,9,   -999.0,  9,  -999.00,9,   -999.0,  -999.00,9,  -999.00,9,  -999.00,9,  -999.00,9,   -999.0,-999.0000, -999,9,  698,   5.7727,  27.2128,   -999.0,9
       KS03-06, EQPAC,KS-0802,  1,     12,02-16018,2,20030731,1828, -0.0498, 147.0488, 4586,    804.7,   5.2574,  34.5332,2,   -999.0,9,  34.5329,2,    111.0,2,  -999.00,9,  -999.00,9,    36.11,2,     0.00,2,     2.53,2, -999.000,9, -999.000,9,  -999.00,9,   -999.0,9,   -999.0,9,-999.0000,9,   -999.0,  9,  -999.00,9,   -999.0,  -999.00,9,  -999.00,9,  -999.00,9,  -999.00,9,   -999.0,-999.0000, -999,9,  799,   5.1899,  27.2830,   -999.0,9
       KS03-06, EQPAC,KS-0802,  1,     11,02-16017,2,20030731,1823, -0.0498, 147.0488, 4586,   1006.1,   4.3944,  34.5524,2,   -999.0,9,  34.5543,2,    103.0,2,  -999.00,9,  -999.00,9,    37.77,2,     0.00,2,     2.68,2, -999.000,9, -999.000,9,  -999.00,9,   -999.0,9,   -999.0,9,-999.0000,9,   -999.0,  9,  -999.00,9,   -999.0,  -999.00,9,  -999.00,9,  -999.00,9,  -999.00,9,   -999.0,-999.0000, -999,9,  998,   4.3151,  27.3968,   -999.0,9
       KS03-06, EQPAC,KS-0802,  1,     10,02-16016,2,20030731,1809, -0.0498, 147.0488, 4586,   1512.0,   2.9752,  34.6027,2,   -999.0,9,  34.6026,2,    108.0,2,  -999.00,9,  -999.00,9,    38.34,2,     0.00,2,     2.74,2, -999.000,9, -999.000,9,  -999.00,9,   -999.0,9,   -999.0,9,-999.0000,9,   -999.0,  9,  -999.00,9,   -999.0,  -999.00,9,  -999.00,9,  -999.00,9,  -999.00,9,   -999.0,-999.0000, -999,9, 1498,   2.8666,  27.5800,   -999.0,9
       KS03-06, EQPAC,KS-0802,  1,      9,02-16015,2,20030731,1754, -0.0498, 147.0488, 4586,   2018.7,   2.1714,  34.6407,2,   -999.0,9,  34.6401,2,    121.0,2,  -999.00,9,  -999.00,9,    37.75,2,     0.00,2,     2.67,2, -999.000,9, -999.000,9,  -999.00,9,   -999.0,9,   -999.0,9,-999.0000,9,   -999.0,  9,  -999.00,9,   -999.0,  -999.00,9,  -999.00,9,  -999.00,9,  -999.00,9,   -999.0,-999.0000, -999,9, 1998,   2.0307,  27.6814,   -999.0,9
       KS03-06, EQPAC,KS-0802,  1,      8,02-16014,2,20030731,1747, -0.0498, 147.0488, 4586,   2273.3,   1.9181,  34.6535,2,   -999.0,9,  34.6523,2,    129.0,2,  -999.00,9,  -999.00,9,    37.46,2,     0.00,2,     2.65,2, -999.000,9, -999.000,9,  -999.00,9,   -999.0,9,   -999.0,9,-999.0000,9,   -999.0,  9,  -999.00,9,   -999.0,  -999.00,9,  -999.00,9,  -999.00,9,  -999.00,9,   -999.0,-999.0000, -999,9, 2249,   1.7595,  27.7127,   -999.0,9
       KS03-06, EQPAC,KS-0802,  1,      7,02-16013,2,20030731,1739, -0.0498, 147.0488, 4586,   2527.7,   1.7430,  34.6630,2,   -999.0,9,  34.6614,2,    136.0,2,  -999.00,9,  -999.00,9,    36.97,2,     0.00,2,     2.61,2, -999.000,9, -999.000,9,  -999.00,9,   -999.0,9,   -999.0,9,-999.0000,9,   -999.0,  9,  -999.00,9,   -999.0,  -999.00,9,  -999.00,9,  -999.00,9,  -999.00,9,   -999.0,-999.0000, -999,9, 2499,   1.5650,  27.7350,   -999.0,9
       KS03-06, EQPAC,KS-0802,  1,      6,02-16012,2,20030731,1732, -0.0498, 147.0488, 4586,   2781.1,   1.6435,  34.6696,2,   -999.0,9,  34.6686,2,    142.0,2,  -999.00,9,  -999.00,9,    36.58,2,     0.00,2,     2.58,2, -999.000,9, -999.000,9,  -999.00,9,   -999.0,9,   -999.0,9,-999.0000,9,   -999.0,  9,  -999.00,9,   -999.0,  -999.00,9,  -999.00,9,  -999.00,9,  -999.00,9,   -999.0,-999.0000, -999,9, 2748,   1.4443,  27.7491,   -999.0,9
       KS03-06, EQPAC,KS-0802,  1,      5,02-16011,2,20030731,1726, -0.0498, 147.0488, 4586,   3036.6,   1.6131,  34.6732,2,   -999.0,9,  34.6728,2,    143.0,2,  -999.00,9,  -999.00,9,    36.49,2,     0.00,2,     2.57,2, -999.000,9, -999.000,9,  -999.00,9,   -999.0,9,   -999.0,9,-999.0000,9,   -999.0,  9,  -999.00,9,   -999.0,  -999.00,9,  -999.00,9,  -999.00,9,  -999.00,9,   -999.0,-999.0000, -999,9, 2998,   1.3903,  27.7558,   -999.0,9
       KS03-06, EQPAC,KS-0802,  1,      4,02-16010,3,20030731,1719, -0.0498, 147.0488, 4586,   3292.5,   1.5837,  34.6768,2,   -999.0,9,  34.6749,2,    146.0,2,  -999.00,9,  -999.00,9,    36.29,2,     0.00,2,     2.55,2, -999.000,9, -999.000,9,  -999.00,9,   -999.0,9,   -999.0,9,-999.0000,9,   -999.0,  9,  -999.00,9,   -999.0,  -999.00,9,  -999.00,9,  -999.00,9,  -999.00,9,   -999.0,-999.0000, -999,9, 3249,   1.3365,  27.7626,   -999.0,9
       KS03-06, EQPAC,KS-0802,  1,      3,02-16009,2,20030731,1711, -0.0498, 147.0488, 4586,   3547.1,   1.5576,  34.6806,2,   -999.0,9,  34.6789,2,    149.0,2,  -999.00,9,  -999.00,9,    36.19,2,     0.00,2,     2.56,2, -999.000,9, -999.000,9,  -999.00,9,   -999.0,9,   -999.0,9,-999.0000,9,   -999.0,  9,  -999.00,9,   -999.0,  -999.00,9,  -999.00,9,  -999.00,9,  -999.00,9,   -999.0,-999.0000, -999,9, 3498,   1.2852,  27.7692,   -999.0,9
       KS03-06, EQPAC,KS-0802,  1,      2,02-16008,3,20030731,1700, -0.0498, 147.0488, 4586,   4059.4,   1.5247,  34.6871,2,   -999.0,9,  34.6834,2,    155.0,2,  -999.00,9,  -999.00,9,    35.71,2,     0.00,2,     2.50,2, -999.000,9, -999.000,9,  -999.00,9,   -999.0,9,   -999.0,9,-999.0000,9,   -999.0,  9,  -999.00,9,   -999.0,  -999.00,9,  -999.00,9,  -999.00,9,  -999.00,9,   -999.0,-999.0000, -999,9, 3999,   1.1986,  27.7805,   -999.0,9
       KS03-06, EQPAC,KS-0802,  1,      1,02-16007,3,20030731,1648, -0.0498, 147.0488, 4586,   4612.2,   1.5523,  34.6892,2,   -999.0,9,  34.6867,2,    159.0,2,  -999.00,9,  -999.00,9,    35.42,2,     0.00,2,     2.52,2, -999.000,9, -999.000,9,  -999.00,9,   -999.0,9,   -999.0,9,-999.0000,9,   -999.0,  9,  -999.00,9,   -999.0,  -999.00,9,  -999.00,9,  -999.00,9,  -999.00,9,   -999.0,-999.0000, -999,9, 4538,   1.1626,  27.7847,   -999.0,9