BOTTLE,20130510GEMDJMAYT
EXPOCODE,SECT_ID,STNNBR,CASTNO,SAMPNO,BTLNBR,BTLNBR_FLAG_W,DATE,TIME,LATITUDE,LONGITUDE,DEPTH,CTDPRS,CTDTMP,CTDSAL,CTDSAL_FLAG_W,CTDOXY,CTDOXY_FLAG_W,SALNTY,SALNTY_FLAG_W,OXYGEN,OXYGEN_FLAG_W,SILCAT,SILCAT_FLAG_W,NITRAT,NITRAT_FLAG_W,NO2+NO3,NO2+NO3_FLAG_W,NITRIT,NITRIT_FLAG_W,PHSPHT,PHSPHT_FLAG_W,CFC-11,CFC-11_FLAG_W,CFC-12,CFC-12_FLAG_W,DELC13,DELC13_FLAG_W,TCARBN,TCARBN_FLAG_W,ALKALI,ALKALI_FLAG_W,PH,PH_FLAG_W,PH_TMP,PH_SCALE,PH_NBS,PH_NBS_FLAG_W,C13ERR,TOTALP,TOTALP_FLAG_W,AMMONI,AMMONI_FLAG_W,CHLORA,CHLORA_FLAG_W,PPHYTN,PPHYTN_FLAG_W,REVPRS,REVTMP,DEPTH_,DEPTH_FLAG,CTDDEP,THETA,SIGTHT,DOC,DOC_FLAG_W
,,,,,,,GMT,GMT,,,METER,DBAR,ITS-90,PSS-78,,UMOL/KG,,PSS-78,,UMOL/KG,,UMOL/KG,,UMOL/KG,,UMOL/KG,,UMOL/KG,,UMOL/KG,,PMOL/KG,,PMOL/KG,,/MILLE,,UMOL/KG,,UMOL/KG,,25_DEG_C,,DEG_C,,,,/MILLE,UMOL/KG,,UMOL/KG,,UG/L,,UG/L,,DBAR,ITS-90,METERS,,METERS,DEG_C,,UMOL/L,
       KS03-06,  165E,KS-0776,  1,     24,02-16030,2,20030709,2058,  5.1250, 164.9955, 4797,      4.1,  29.6596,  33.9533,2,   -999.0,9,  33.9553,2,    199.0,2,  -999.00,9,  -999.00,9,     0.00,2,     0.00,2,     0.05,2, -999.000,9, -999.000,9,  -999.00,9,   1882.3,2,   -999.0,9,-999.0000,9,   -999.0,  9,     8.26,2,   -999.0,  -999.00,9,  -999.00,9,     0.05,2,     0.03,2,   -999.0,-999.0000, -999,9,    4,  29.6586,  21.0575,   -999.0,9
       KS03-06,  165E,KS-0776,  1,     23,02-16029,2,20030709,2057,  5.1250, 164.9955, 4797,      9.5,  29.6608,  33.9543,2,   -999.0,9,-999.0000,9,    198.0,2,  -999.00,9,  -999.00,9,     0.00,2,     0.00,2,     0.05,2, -999.000,9, -999.000,9,  -999.00,9,   1882.0,2,   -999.0,9,-999.0000,9,   -999.0,  9,     8.27,2,   -999.0,  -999.00,9,  -999.00,9,     0.05,2,     0.02,2,   -999.0,-999.0000, -999,9,    9,  29.6585,  21.0582,   -999.0,9
       KS03-06,  165E,KS-0776,  1,     22,02-16028,2,20030709,2055,  5.1250, 164.9955, 4797,     25.2,  29.6631,  33.9543,2,   -999.0,9,-999.0000,9,    198.0,2,  -999.00,9,  -999.00,9,     0.00,2,     0.00,2,     0.05,2, -999.000,9, -999.000,9,  -999.00,9,   1880.3,2,   -999.0,9,-999.0000,9,   -999.0,  9,     8.27,2,   -999.0,  -999.00,9,  -999.00,9,     0.05,2,     0.02,2,   -999.0,-999.0000, -999,9,   25,  29.6569,  21.0588,   -999.0,9
       KS03-06,  165E,KS-0776,  1,     21,02-16027,2,20030709,2051,  5.1250, 164.9955, 4797,     50.3,  29.6248,  33.9785,2,   -999.0,9,-999.0000,9,    200.0,2,  -999.00,9,  -999.00,9,     0.00,2,     0.00,2,     0.06,2, -999.000,9, -999.000,9,  -999.00,9,   1881.4,2,   -999.0,9,-999.0000,9,   -999.0,  9,     8.27,2,   -999.0,  -999.00,9,  -999.00,9,     0.06,2,     0.04,2,   -999.0,-999.0000, -999,9,   50,  29.6125,  21.0919,   -999.0,9
       KS03-06,  165E,KS-0776,  1,     20,02-16026,2,20030709,2050,  5.1250, 164.9955, 4797,     74.0,  29.0249,  34.5088,2,   -999.0,9,-999.0000,9,    203.0,2,  -999.00,9,  -999.00,9,     0.00,2,     0.00,2,     0.05,2, -999.000,9, -999.000,9,  -999.00,9,   1918.7,2,   -999.0,9,-999.0000,9,   -999.0,  9,     8.25,2,   -999.0,  -999.00,9,  -999.00,9,     0.09,2,     0.06,2,   -999.0,-999.0000, -999,9,   74,  29.0070,  21.6929,   -999.0,9
       KS03-06,  165E,KS-0776,  1,     19,02-16025,2,20030709,2048,  5.1250, 164.9955, 4797,    100.0,  26.9072,  34.6693,2,   -999.0,9,  34.6769,4,    189.0,2,  -999.00,9,  -999.00,9,     0.00,2,     0.00,2,     0.11,2, -999.000,9, -999.000,9,  -999.00,9,   1965.7,2,   -999.0,9,-999.0000,9,   -999.0,  9,     8.19,2,   -999.0,  -999.00,9,  -999.00,9,     0.18,2,     0.32,2,   -999.0,-999.0000, -999,9,   99,  26.8843,  22.5056,   -999.0,9
       KS03-06,  165E,KS-0776,  1,     18,02-16024,2,20030709,2047,  5.1250, 164.9955, 4797,    124.0,  21.8259,  34.8445,2,   -999.0,9,-999.0000,9,    150.0,2,  -999.00,9,  -999.00,9,     6.83,2,     0.18,2,     0.58,2, -999.000,9, -999.000,9,  -999.00,9,   2048.3,2,   -999.0,9,-999.0000,9,   -999.0,  9,     8.05,2,   -999.0,  -999.00,9,  -999.00,9,     0.09,2,     0.45,2,   -999.0,-999.0000, -999,9,  123,  21.8015,  24.1550,   -999.0,9
       KS03-06,  165E,KS-0776,  1,     17,02-16023,2,20030709,2046,  5.1250, 164.9955, 4797,    149.3,  17.7430,  34.7346,2,   -999.0,9,-999.0000,9,    136.0,2,  -999.00,9,  -999.00,9,    11.90,2,     0.02,2,     0.89,2, -999.000,9, -999.000,9,  -999.00,9,   2092.5,2,   -999.0,9,-999.0000,9,   -999.0,  9,     7.94,2,   -999.0,  -999.00,9,  -999.00,9,     0.04,2,     0.24,2,   -999.0,-999.0000, -999,9,  148,  17.7177,  25.1379,   -999.0,9
       KS03-06,  165E,KS-0776,  1,     16,02-16022,2,20030709,2044,  5.1250, 164.9955, 4797,    199.6,  11.5501,  34.5674,2,   -999.0,9,  34.5681,2,     77.0,2,  -999.00,9,  -999.00,9,    26.89,2,     0.00,2,     1.90,2, -999.000,9, -999.000,9,  -999.00,9,   2191.5,2,   -999.0,9,-999.0000,9,   -999.0,  9,     7.71,2,   -999.0,  -999.00,9,  -999.00,9,     0.00,2,     0.01,2,   -999.0,-999.0000, -999,9,  198,  11.5248,  26.3425,   -999.0,9
       KS03-06,  165E,KS-0776,  1,     15,02-16021,2,20030709,2042,  5.1250, 164.9955, 4797,    251.1,   9.8210,  34.6149,2,   -999.0,9,-999.0000,9,     51.0,2,  -999.00,9,  -999.00,9,    32.63,2,     0.00,2,     2.26,2, -999.000,9, -999.000,9,  -999.00,9,   2234.7,2,   -999.0,9,-999.0000,9,   -999.0,  9,     7.61,2,   -999.0,  -999.00,9,  -999.00,9,     0.00,2,     0.01,2,   -999.0,-999.0000, -999,9,  250,   9.7922,  26.6865,   -999.0,9
       KS03-06,  165E,KS-0776,  1,     14,02-16020,2,20030709,2040,  5.1250, 164.9955, 4797,    299.9,   9.3536,  34.6360,2,   -999.0,9,  34.6376,2,     45.0,2,  -999.00,9,  -999.00,9,    34.18,2,     0.00,2,     2.36,2, -999.000,9, -999.000,9,  -999.00,9,   2243.4,2,   -999.0,9,-999.0000,9,   -999.0,  9,     7.59,2,   -999.0,  -999.00,9,  -999.00,9,     0.00,2,     0.01,2,   -999.0,-999.0000, -999,9,  298,   9.3202,  26.7813,   -999.0,9
       KS03-06,  165E,KS-0776,  1,     13,02-16019,2,20030709,2038,  5.1250, 164.9955, 4797,    400.7,   8.4367,  34.6071,2,   -999.0,9,  34.6099,4,     58.0,2,  -999.00,9,  -999.00,9,    34.86,2,     0.00,2,     2.42,2, -999.000,9, -999.000,9,  -999.00,9,   2245.5,2,   -999.0,9,-999.0000,9,   -999.0,  9,     7.61,2,   -999.0,  -999.00,9,  -999.00,9,  -999.00,9,  -999.00,9,   -999.0,-999.0000, -999,9,  398,   8.3945,  26.9055,   -999.0,9
       KS03-06,  165E,KS-0776,  1,     12,02-16018,2,20030709,2035,  5.1250, 164.9955, 4797,    503.5,   7.6853,  34.5813,2,   -999.0,9,  34.5814,2,     62.0,2,  -999.00,9,  -999.00,9,    36.03,2,     0.00,2,     2.50,2, -999.000,9, -999.000,9,  -999.00,9,   -999.0,9,   -999.0,9,-999.0000,9,   -999.0,  9,     7.60,2,   -999.0,  -999.00,9,  -999.00,9,  -999.00,9,  -999.00,9,   -999.0,-999.0000, -999,9,  500,   7.6348,  26.9988,   -999.0,9
       KS03-06,  165E,KS-0776,  1,     11,02-16017,2,20030709,2030,  5.1250, 164.9955, 4797,    604.2,   6.9976,  34.5618,2,   -999.0,9,  34.5628,2,     57.0,2,  -999.00,9,  -999.00,9,    37.87,2,     0.00,2,     2.65,2, -999.000,9, -999.000,9,  -999.00,9,   2264.1,2,   -999.0,9,-999.0000,9,   -999.0,  9,     7.58,2,   -999.0,  -999.00,9,  -999.00,9,  -999.00,9,  -999.00,9,   -999.0,-999.0000, -999,9,  600,   6.9398,  27.0819,   -999.0,9
       KS03-06,  165E,KS-0776,  1,     10,02-16016,9,20030709,2028,  5.1250, 164.9955, 4797,    703.7,   6.1133,  34.5442,2,   -999.0,9,-999.0000,9,   -999.0,9,  -999.00,9,  -999.00,9,  -999.00,9,  -999.00,9,  -999.00,9, -999.000,9, -999.000,9,  -999.00,9,   -999.0,9,   -999.0,9,-999.0000,9,   -999.0,  9,  -999.00,9,   -999.0,  -999.00,9,  -999.00,9,  -999.00,9,  -999.00,9,   -999.0,-999.0000, -999,9,  699,   6.0502,  27.1861,   -999.0,9
       KS03-06,  165E,KS-0776,  1,      9,02-16015,2,20030709,2028,  5.1250, 164.9955, 4797,    703.9,   6.1130,  34.5440,2,   -999.0,9,  34.5443,2,     60.0,2,  -999.00,9,  -999.00,9,    39.14,2,     0.00,2,     2.75,2, -999.000,9, -999.000,9,  -999.00,9,   -999.0,9,   -999.0,9,-999.0000,9,   -999.0,  9,     7.56,2,   -999.0,  -999.00,9,  -999.00,9,  -999.00,9,  -999.00,9,   -999.0,-999.0000, -999,9,  699,   6.0498,  27.1860,   -999.0,9
       KS03-06,  165E,KS-0776,  1,      8,02-16014,2,20030709,2026,  5.1250, 164.9955, 4797,    802.8,   5.4919,  34.5430,2,   -999.0,9,  34.5433,2,     65.0,2,  -999.00,9,  -999.00,9,    39.72,2,     0.00,2,     2.78,2, -999.000,9, -999.000,9,  -999.00,9,   2286.4,2,   -999.0,9,-999.0000,9,   -999.0,  9,     7.57,2,   -999.0,  -999.00,9,  -999.00,9,  -999.00,9,  -999.00,9,   -999.0,-999.0000, -999,9,  797,   5.4231,  27.2630,   -999.0,9
       KS03-06,  165E,KS-0776,  1,      7,02-16013,2,20030709,2023,  5.1250, 164.9955, 4797,    905.9,   4.8443,  34.5499,2,   -999.0,9,  34.5500,2,     73.0,2,  -999.00,9,  -999.00,9,    39.81,2,     0.00,2,     2.80,2, -999.000,9, -999.000,9,  -999.00,9,   -999.0,9,   -999.0,9,-999.0000,9,   -999.0,  9,     7.57,2,   -999.0,  -999.00,9,  -999.00,9,  -999.00,9,  -999.00,9,   -999.0,-999.0000, -999,9,  899,   4.7705,  27.3446,   -999.0,9
       KS03-06,  165E,KS-0776,  1,      6,02-16012,2,20030709,2020,  5.1250, 164.9955, 4797,   1006.8,   4.4234,  34.5588,2,   -999.0,9,  34.5592,2,     74.0,2,  -999.00,9,  -999.00,9,    40.10,2,     0.00,2,     2.83,2, -999.000,9, -999.000,9,  -999.00,9,   2306.7,2,   -999.0,9,-999.0000,9,   -999.0,  9,     7.57,2,   -999.0,  -999.00,9,  -999.00,9,  -999.00,9,  -999.00,9,   -999.0,-999.0000, -999,9,  999,   4.3438,  27.3988,   -999.0,9
       KS03-06,  165E,KS-0776,  1,      5,02-16011,2,20030709,2013,  5.1250, 164.9955, 4797,   1259.1,   3.5855,  34.5832,2,   -999.0,9,  34.5832,2,     82.0,2,  -999.00,9,  -999.00,9,    40.19,2,     0.00,2,     2.86,2, -999.000,9, -999.000,9,  -999.00,9,   2319.5,2,   -999.0,9,-999.0000,9,   -999.0,  9,     7.58,2,   -999.0,  -999.00,9,  -999.00,9,  -999.00,9,  -999.00,9,   -999.0,-999.0000, -999,9, 1248,   3.4916,  27.5058,   -999.0,9
       KS03-06,  165E,KS-0776,  1,      4,02-16010,2,20030709,2008,  5.1250, 164.9955, 4797,   1511.8,   3.0256,  34.6038,2,   -999.0,9,  34.6038,4,     90.0,2,  -999.00,9,  -999.00,9,    39.90,2,     0.00,2,     2.81,2, -999.000,9, -999.000,9,  -999.00,9,   2333.4,2,   -999.0,9,-999.0000,9,   -999.0,  9,     7.59,2,   -999.0,  -999.00,9,  -999.00,9,  -999.00,9,  -999.00,9,   -999.0,-999.0000, -999,9, 1498,   2.9164,  27.5764,   -999.0,9
       KS03-06,  165E,KS-0776,  1,      3,02-16009,9,20030709,2008,  5.1250, 164.9955, 4797,   1511.8,   3.0251,  34.6037,2,   -999.0,9,-999.0000,9,   -999.0,9,  -999.00,9,  -999.00,9,  -999.00,9,  -999.00,9,  -999.00,9, -999.000,9, -999.000,9,  -999.00,9,   -999.0,9,   -999.0,9,-999.0000,9,   -999.0,  9,  -999.00,9,   -999.0,  -999.00,9,  -999.00,9,  -999.00,9,  -999.00,9,   -999.0,-999.0000, -999,9, 1498,   2.9159,  27.5764,   -999.0,9
       KS03-06,  165E,KS-0776,  1,      2,02-16008,2,20030709,2001,  5.1250, 164.9955, 4797,   1766.6,   2.5734,  34.6218,2,   -999.0,9,  34.6215,2,    101.0,2,  -999.00,9,  -999.00,9,    39.22,2,     0.00,2,     2.74,2, -999.000,9, -999.000,9,  -999.00,9,   -999.0,9,   -999.0,9,-999.0000,9,   -999.0,  9,     7.61,2,   -999.0,  -999.00,9,  -999.00,9,  -999.00,9,  -999.00,9,   -999.0,-999.0000, -999,9, 1749,   2.4484,  27.6319,   -999.0,9
       KS03-06,  165E,KS-0776,  1,      1,02-16007,2,20030709,1955,  5.1250, 164.9955, 4797,   2019.9,   2.2054,  34.6403,2,   -999.0,9,  34.6401,2,    109.0,2,  -999.00,9,  -999.00,9,    38.83,2,     0.00,2,     2.71,2, -999.000,9, -999.000,9,  -999.00,9,   2337.8,6,   -999.0,9,-999.0000,9,   -999.0,  9,     7.63,2,   -999.0,  -999.00,9,  -999.00,9,  -999.00,9,  -999.00,9,   -999.0,-999.0000, -999,9, 1999,   2.0641,  27.6784,   -999.0,9