BOTTLE,20130510GEMDJMAYT
EXPOCODE,SECT_ID,STNNBR,CASTNO,SAMPNO,BTLNBR,BTLNBR_FLAG_W,DATE,TIME,LATITUDE,LONGITUDE,DEPTH,CTDPRS,CTDTMP,CTDSAL,CTDSAL_FLAG_W,CTDOXY,CTDOXY_FLAG_W,SALNTY,SALNTY_FLAG_W,OXYGEN,OXYGEN_FLAG_W,SILCAT,SILCAT_FLAG_W,NITRAT,NITRAT_FLAG_W,NO2+NO3,NO2+NO3_FLAG_W,NITRIT,NITRIT_FLAG_W,PHSPHT,PHSPHT_FLAG_W,CFC-11,CFC-11_FLAG_W,CFC-12,CFC-12_FLAG_W,DELC13,DELC13_FLAG_W,TCARBN,TCARBN_FLAG_W,ALKALI,ALKALI_FLAG_W,PH,PH_FLAG_W,PH_TMP,PH_SCALE,PH_NBS,PH_NBS_FLAG_W,C13ERR,TOTALP,TOTALP_FLAG_W,AMMONI,AMMONI_FLAG_W,CHLORA,CHLORA_FLAG_W,PPHYTN,PPHYTN_FLAG_W,REVPRS,REVTMP,DEPTH_,DEPTH_FLAG,CTDDEP,THETA,SIGTHT,DOC,DOC_FLAG_W
,,,,,,,GMT,GMT,,,METER,DBAR,ITS-90,PSS-78,,UMOL/KG,,PSS-78,,UMOL/KG,,UMOL/KG,,UMOL/KG,,UMOL/KG,,UMOL/KG,,UMOL/KG,,PMOL/KG,,PMOL/KG,,/MILLE,,UMOL/KG,,UMOL/KG,,25_DEG_C,,DEG_C,,,,/MILLE,UMOL/KG,,UMOL/KG,,UG/L,,UG/L,,DBAR,ITS-90,METERS,,METERS,DEG_C,,UMOL/L,
       KS03-06,  165E,KS-0761,  1,     24,02-16030,2,20030705,1729, 20.0002, 164.9787, 5341,      5.2,  28.5108,  34.8379,2,   -999.0,9,  34.8393,2,    201.0,2,  -999.00,9,  -999.00,9,     0.00,2,     0.00,2,     0.05,2, -999.000,9, -999.000,9,  -999.00,9,   1944.6,2,   -999.0,9,-999.0000,9,   -999.0,  9,     8.22,2,   -999.0,  -999.00,9,  -999.00,9,     0.04,2,     0.01,2,   -999.0,-999.0000, -999,9,    5,  28.5096,  22.1054,   -999.0,9
       KS03-06,  165E,KS-0761,  1,     23,02-16029,2,20030705,1728, 20.0002, 164.9787, 5341,     10.4,  28.5140,  34.8372,2,   -999.0,9,-999.0000,9,    201.0,2,  -999.00,9,  -999.00,9,     0.00,2,     0.00,2,     0.05,2, -999.000,9, -999.000,9,  -999.00,9,   1941.1,2,   -999.0,9,-999.0000,9,   -999.0,  9,     8.24,2,   -999.0,  -999.00,9,  -999.00,9,     0.04,2,     0.01,2,   -999.0,-999.0000, -999,9,   10,  28.5115,  22.1041,   -999.0,9
       KS03-06,  165E,KS-0761,  1,     22,02-16028,2,20030705,1726, 20.0002, 164.9787, 5341,     25.6,  28.5163,  34.8369,2,   -999.0,9,-999.0000,9,    200.0,2,  -999.00,9,  -999.00,9,     0.00,2,     0.00,2,     0.05,2, -999.000,9, -999.000,9,  -999.00,9,   1941.7,2,   -999.0,9,-999.0000,9,   -999.0,  9,     8.23,2,   -999.0,  -999.00,9,  -999.00,9,     0.04,2,     0.01,2,   -999.0,-999.0000, -999,9,   25,  28.5102,  22.1043,   -999.0,9
       KS03-06,  165E,KS-0761,  1,     21,02-16027,2,20030705,1721, 20.0002, 164.9787, 5341,     50.8,  27.5580,  35.0791,2,   -999.0,9,-999.0000,9,    209.0,2,  -999.00,9,  -999.00,9,     0.00,2,     0.00,2,     0.03,2, -999.000,9, -999.000,9,  -999.00,9,   1952.3,2,   -999.0,9,-999.0000,9,   -999.0,  9,     8.24,2,   -999.0,  -999.00,9,  -999.00,9,     0.06,2,     0.02,2,   -999.0,-999.0000, -999,9,   50,  27.5462,  22.6017,   -999.0,9
       KS03-06,  165E,KS-0761,  1,     20,02-16026,2,20030705,1720, 20.0002, 164.9787, 5341,     75.2,  26.5960,  35.2621,2,   -999.0,9,-999.0000,9,    213.0,2,  -999.00,9,  -999.00,9,     0.00,2,     0.00,2,     0.01,2, -999.000,9, -999.000,9,  -999.00,9,   1959.4,2,   -999.0,9,-999.0000,9,   -999.0,  9,     8.22,2,   -999.0,  -999.00,9,  -999.00,9,     0.09,2,     0.03,2,   -999.0,-999.0000, -999,9,   75,  26.5789,  23.0492,   -999.0,9
       KS03-06,  165E,KS-0761,  1,     19,02-16025,2,20030705,1719, 20.0002, 164.9787, 5341,    100.6,  25.2653,  35.3175,2,   -999.0,9,  35.3194,2,    211.0,2,  -999.00,9,  -999.00,9,     0.00,2,     0.00,2,     0.01,2, -999.000,9, -999.000,9,  -999.00,9,   1971.6,2,   -999.0,9,-999.0000,9,   -999.0,  9,     8.21,2,   -999.0,  -999.00,9,  -999.00,9,     0.09,2,     0.05,2,   -999.0,-999.0000, -999,9,  100,  25.2433,  23.5069,   -999.0,9
       KS03-06,  165E,KS-0761,  1,     18,02-16024,2,20030705,1718, 20.0002, 164.9787, 5341,    125.3,  24.6030,  35.3728,2,   -999.0,9,-999.0000,9,    209.0,2,  -999.00,9,  -999.00,9,     0.00,2,     0.00,2,     0.02,2, -999.000,9, -999.000,9,  -999.00,9,   1987.3,2,   -999.0,9,-999.0000,9,   -999.0,  9,     8.21,2,   -999.0,  -999.00,9,  -999.00,9,     0.12,2,     0.13,2,   -999.0,-999.0000, -999,9,  124,  24.5761,  23.7514,   -999.0,9
       KS03-06,  165E,KS-0761,  1,     17,02-16023,2,20030705,1717, 20.0002, 164.9787, 5341,    150.7,  23.2909,  35.2861,2,   -999.0,9,-999.0000,9,    200.0,2,  -999.00,9,  -999.00,9,     0.00,2,     0.02,2,     0.04,2, -999.000,9, -999.000,9,  -999.00,9,   1997.5,2,   -999.0,9,-999.0000,9,   -999.0,  9,     8.16,2,   -999.0,  -999.00,9,  -999.00,9,     0.10,2,     0.29,2,   -999.0,-999.0000, -999,9,  150,  23.2598,  24.0754,   -999.0,9
       KS03-06,  165E,KS-0761,  1,     16,02-16022,2,20030705,1714, 20.0002, 164.9787, 5341,    200.2,  20.5661,  35.0416,2,   -999.0,9,  35.0468,4,    192.0,2,  -999.00,9,  -999.00,9,     1.85,2,     0.01,2,     0.18,2, -999.000,9, -999.000,9,  -999.00,9,   2026.1,2,   -999.0,9,-999.0000,9,   -999.0,  9,     8.05,2,   -999.0,  -999.00,9,  -999.00,9,     0.03,2,     0.11,2,   -999.0,-999.0000, -999,9,  199,  20.5283,  24.6530,   -999.0,9
       KS03-06,  165E,KS-0761,  1,     15,02-16021,2,20030705,1709, 20.0002, 164.9787, 5341,    250.9,  17.5845,  34.7488,2,   -999.0,9,-999.0000,9,    201.0,2,  -999.00,9,  -999.00,9,     4.19,2,     0.00,2,     0.31,2, -999.000,9, -999.000,9,  -999.00,9,   2027.4,2,   -999.0,9,-999.0000,9,   -999.0,  9,     8.02,2,   -999.0,  -999.00,9,  -999.00,9,     0.00,2,     0.01,2,   -999.0,-999.0000, -999,9,  249,  17.5421,  25.1914,   -999.0,9
       KS03-06,  165E,KS-0761,  1,     14,02-16020,2,20030705,1707, 20.0002, 164.9787, 5341,    301.1,  15.6054,  34.5974,2,   -999.0,9,  34.6052,4,    198.0,2,  -999.00,9,  -999.00,9,     7.31,2,     0.00,2,     0.53,2, -999.000,9, -999.000,9,  -999.00,9,   2047.2,2,   -999.0,9,-999.0000,9,   -999.0,  9,     7.91,2,   -999.0,  -999.00,9,  -999.00,9,     0.00,2,     0.00,2,   -999.0,-999.0000, -999,9,  299,  15.5586,  25.5377,   -999.0,9
       KS03-06,  165E,KS-0761,  1,     13,02-16019,2,20030705,1705, 20.0002, 164.9787, 5341,    401.4,  11.8466,  34.3153,2,   -999.0,9,  34.3205,4,    190.0,2,  -999.00,9,  -999.00,9,    14.33,2,     0.00,2,     1.00,2, -999.000,9, -999.000,9,  -999.00,9,   2095.5,2,   -999.0,9,-999.0000,9,   -999.0,  9,     7.71,2,   -999.0,  -999.00,9,  -999.00,9,  -999.00,9,  -999.00,9,   -999.0,-999.0000, -999,9,  399,  11.7946,  26.0961,   -999.0,9
       KS03-06,  165E,KS-0761,  1,     12,02-16018,2,20030705,1659, 20.0002, 164.9787, 5341,    503.1,   8.1328,  34.1321,2,   -999.0,9,  34.1334,2,    131.0,2,  -999.00,9,  -999.00,9,    26.79,2,     0.00,2,     1.90,2, -999.000,9, -999.000,9,  -999.00,9,   -999.0,9,   -999.0,9,-999.0000,9,   -999.0,  9,     7.59,2,   -999.0,  -999.00,9,  -999.00,9,  -999.00,9,  -999.00,9,   -999.0,-999.0000, -999,9,  499,   8.0810,  26.5801,   -999.0,9
       KS03-06,  165E,KS-0761,  1,     11,02-16017,2,20030705,1655, 20.0002, 164.9787, 5341,    603.0,   6.3371,  34.1467,2,   -999.0,9,  34.1407,4,     86.0,2,  -999.00,9,  -999.00,9,    34.18,2,     0.00,2,     2.45,2, -999.000,9, -999.000,9,  -999.00,9,   2245.2,2,   -999.0,9,-999.0000,9,   -999.0,  9,     7.51,2,   -999.0,  -999.00,9,  -999.00,9,  -999.00,9,  -999.00,9,   -999.0,-999.0000, -999,9,  598,   6.2828,  26.8422,   -999.0,9
       KS03-06,  165E,KS-0761,  1,     10,02-16016,2,20030705,1653, 20.0002, 164.9787, 5341,    704.3,   5.3755,  34.2562,2,   -999.0,9,  34.2556,2,     54.0,2,  -999.00,9,  -999.00,9,    38.56,2,     0.00,2,     2.77,2, -999.000,9, -999.000,9,  -999.00,9,   -999.0,9,   -999.0,9,-999.0000,9,   -999.0,  9,     7.52,2,   -999.0,  -999.00,9,  -999.00,9,  -999.00,9,  -999.00,9,   -999.0,-999.0000, -999,9,  699,   5.3166,  27.0486,   -999.0,9
       KS03-06,  165E,KS-0761,  1,      9,02-16015,2,20030705,1645, 20.0002, 164.9787, 5341,    805.9,   4.8023,  34.3692,2,   -999.0,9,  34.3688,2,     51.0,2,  -999.00,9,  -999.00,9,    40.21,2,     0.00,2,     2.89,2, -999.000,9, -999.000,9,  -999.00,9,   2314.0,6,   -999.0,9,-999.0000,9,   -999.0,  9,     7.54,2,   -999.0,  -999.00,9,  -999.00,9,  -999.00,9,  -999.00,9,   -999.0,-999.0000, -999,9,  799,   4.7377,  27.2049,   -999.0,9
       KS03-06,  165E,KS-0761,  1,      8,02-16014,2,20030705,1643, 20.0002, 164.9787, 5341,    906.1,   4.5368,  34.4442,2,   -999.0,9,  34.4430,2,     58.0,2,  -999.00,9,  -999.00,9,    39.91,2,     0.00,2,     2.85,2, -999.000,9, -999.000,9,  -999.00,9,   -999.0,9,   -999.0,9,-999.0000,9,   -999.0,  9,     7.56,2,   -999.0,  -999.00,9,  -999.00,9,  -999.00,9,  -999.00,9,   -999.0,-999.0000, -999,9,  899,   4.4652,  27.2946,   -999.0,9
       KS03-06,  165E,KS-0761,  1,      7,02-16013,9,20030705,1639, 20.0002, 164.9787, 5341,   1007.7,   4.1347,  34.4912,2,   -999.0,9,-999.0000,9,   -999.0,9,  -999.00,9,  -999.00,9,  -999.00,9,  -999.00,9,  -999.00,9, -999.000,9, -999.000,9,  -999.00,9,   -999.0,9,   -999.0,9,-999.0000,9,   -999.0,  9,  -999.00,9,   -999.0,  -999.00,9,  -999.00,9,  -999.00,9,  -999.00,9,   -999.0,-999.0000, -999,9,  999,   4.0574,  27.3755,   -999.0,9
       KS03-06,  165E,KS-0761,  1,      6,02-16012,2,20030705,1639, 20.0002, 164.9787, 5341,   1008.1,   4.1309,  34.4915,2,   -999.0,9,  34.4899,2,     67.0,2,  -999.00,9,  -999.00,9,    40.00,2,     0.00,2,     2.84,2, -999.000,9, -999.000,9,  -999.00,9,   2320.3,2,   -999.0,9,-999.0000,9,   -999.0,  9,     7.57,2,   -999.0,  -999.00,9,  -999.00,9,  -999.00,9,  -999.00,9,   -999.0,-999.0000, -999,9, 1000,   4.0536,  27.3761,   -999.0,9
       KS03-06,  165E,KS-0761,  1,      5,02-16011,2,20030705,1630, 20.0002, 164.9787, 5341,   1260.6,   3.3544,  34.5447,2,   -999.0,9,  34.5445,2,     79.0,2,  -999.00,9,  -999.00,9,    39.81,2,     0.00,2,     2.83,2, -999.000,9, -999.000,9,  -999.00,9,   2331.3,2,   -999.0,9,-999.0000,9,   -999.0,  9,     7.58,2,   -999.0,  -999.00,9,  -999.00,9,  -999.00,9,  -999.00,9,   -999.0,-999.0000, -999,9, 1249,   3.2627,  27.4972,   -999.0,9
       KS03-06,  165E,KS-0761,  1,      4,02-16010,2,20030705,1621, 20.0002, 164.9787, 5341,   1512.6,   2.7684,  34.5771,2,   -999.0,9,  34.5763,2,     88.0,2,  -999.00,9,  -999.00,9,    39.71,2,     0.00,2,     2.82,2, -999.000,9, -999.000,9,  -999.00,9,   2337.5,2,   -999.0,9,-999.0000,9,   -999.0,  9,     7.60,2,   -999.0,  -999.00,9,  -999.00,9,  -999.00,9,  -999.00,9,   -999.0,-999.0000, -999,9, 1498,   2.6622,  27.5777,   -999.0,9
       KS03-06,  165E,KS-0761,  1,      3,02-16009,9,20030705,1621, 20.0002, 164.9787, 5341,   1512.5,   2.7680,  34.5770,2,   -999.0,9,-999.0000,9,   -999.0,9,  -999.00,9,  -999.00,9,  -999.00,9,  -999.00,9,  -999.00,9, -999.000,9, -999.000,9,  -999.00,9,   -999.0,9,   -999.0,9,-999.0000,9,   -999.0,  9,  -999.00,9,   -999.0,  -999.00,9,  -999.00,9,  -999.00,9,  -999.00,9,   -999.0,-999.0000, -999,9, 1498,   2.6618,  27.5777,   -999.0,9
       KS03-06,  165E,KS-0761,  1,      2,02-16008,2,20030705,1611, 20.0002, 164.9787, 5341,   1766.3,   2.3283,  34.6030,2,   -999.0,9,  34.6018,2,     96.0,2,  -999.00,9,  -999.00,9,    39.41,2,     0.00,2,     2.78,2, -999.000,9, -999.000,9,  -999.00,9,   -999.0,9,   -999.0,9,-999.0000,9,   -999.0,  9,     7.61,2,   -999.0,  -999.00,9,  -999.00,9,  -999.00,9,  -999.00,9,   -999.0,-999.0000, -999,9, 1748,   2.2067,  27.6370,   -999.0,9
       KS03-06,  165E,KS-0761,  1,      1,02-16007,2,20030705,1602, 20.0002, 164.9787, 5341,   2019.5,   2.0504,  34.6243,2,   -999.0,9,  34.6219,4,    106.0,2,  -999.00,9,  -999.00,9,    38.83,2,     0.00,2,     2.74,2, -999.000,9, -999.000,9,  -999.00,9,   2343.3,2,   -999.0,9,-999.0000,9,   -999.0,  9,  -999.00,9,   -999.0,  -999.00,9,  -999.00,9,  -999.00,9,  -999.00,9,   -999.0,-999.0000, -999,9, 1997,   1.9116,  27.6776,   -999.0,9