BOTTLE,20130510GEMDJMAYT
EXPOCODE,SECT_ID,STNNBR,CASTNO,SAMPNO,BTLNBR,BTLNBR_FLAG_W,DATE,TIME,LATITUDE,LONGITUDE,DEPTH,CTDPRS,CTDTMP,CTDSAL,CTDSAL_FLAG_W,CTDOXY,CTDOXY_FLAG_W,SALNTY,SALNTY_FLAG_W,OXYGEN,OXYGEN_FLAG_W,SILCAT,SILCAT_FLAG_W,NITRAT,NITRAT_FLAG_W,NO2+NO3,NO2+NO3_FLAG_W,NITRIT,NITRIT_FLAG_W,PHSPHT,PHSPHT_FLAG_W,CFC-11,CFC-11_FLAG_W,CFC-12,CFC-12_FLAG_W,DELC13,DELC13_FLAG_W,TCARBN,TCARBN_FLAG_W,ALKALI,ALKALI_FLAG_W,PH,PH_FLAG_W,PH_TMP,PH_SCALE,PH_NBS,PH_NBS_FLAG_W,C13ERR,TOTALP,TOTALP_FLAG_W,AMMONI,AMMONI_FLAG_W,CHLORA,CHLORA_FLAG_W,PPHYTN,PPHYTN_FLAG_W,REVPRS,REVTMP,DEPTH_,DEPTH_FLAG,CTDDEP,THETA,SIGTHT,DOC,DOC_FLAG_W
,,,,,,,GMT,GMT,,,METER,DBAR,ITS-90,PSS-78,,UMOL/KG,,PSS-78,,UMOL/KG,,UMOL/KG,,UMOL/KG,,UMOL/KG,,UMOL/KG,,UMOL/KG,,PMOL/KG,,PMOL/KG,,/MILLE,,UMOL/KG,,UMOL/KG,,25_DEG_C,,DEG_C,,,,/MILLE,UMOL/KG,,UMOL/KG,,UG/L,,UG/L,,DBAR,ITS-90,METERS,,METERS,DEG_C,,UMOL/L,
       KS03-06,  NONE,KS-0813,  1,     24,02-16030,2,20030804,0132, 10.0013, 149.3278, 5525,      5.3,  29.4597,  33.9631,2,   -999.0,9,  33.9632,2,    199.0,2,  -999.00,9,  -999.00,9,     0.00,2,     0.00,2,     0.04,2, -999.000,9, -999.000,9,  -999.00,9,   -999.0,9,   -999.0,9,-999.0000,9,   -999.0,  9,  -999.00,9,   -999.0,  -999.00,9,  -999.00,9,  -999.00,9,  -999.00,9,   -999.0,-999.0000, -999,9,    5,  29.4584,  21.1323,   -999.0,9
       KS03-06,  NONE,KS-0813,  1,     23,02-16029,2,20030804,0131, 10.0013, 149.3278, 5525,      9.6,  29.4244,  33.9639,2,   -999.0,9,-999.0000,9,    198.0,2,  -999.00,9,  -999.00,9,     0.00,2,     0.00,2,     0.04,2, -999.000,9, -999.000,9,  -999.00,9,   -999.0,9,   -999.0,9,-999.0000,9,   -999.0,  9,  -999.00,9,   -999.0,  -999.00,9,  -999.00,9,  -999.00,9,  -999.00,9,   -999.0,-999.0000, -999,9,   10,  29.4221,  21.1451,   -999.0,9
       KS03-06,  NONE,KS-0813,  1,     22,02-16028,4,20030804,0130, 10.0013, 149.3278, 5525,     24.4,  29.3729,  33.9920,2,   -999.0,9,-999.0000,9,   -999.0,9,  -999.00,9,  -999.00,9,  -999.00,9,  -999.00,9,  -999.00,9, -999.000,9, -999.000,9,  -999.00,9,   -999.0,9,   -999.0,9,-999.0000,9,   -999.0,  9,  -999.00,9,   -999.0,  -999.00,9,  -999.00,9,  -999.00,9,  -999.00,9,   -999.0,-999.0000, -999,9,   24,  29.3670,  21.1848,   -999.0,9
       KS03-06,  NONE,KS-0813,  1,     21,02-16027,2,20030804,0119, 10.0013, 149.3278, 5525,     49.8,  28.8591,  34.4106,2,   -999.0,9,-999.0000,9,    205.0,2,  -999.00,9,  -999.00,9,     0.00,2,     0.00,2,     0.06,2, -999.000,9, -999.000,9,  -999.00,9,   -999.0,9,   -999.0,9,-999.0000,9,   -999.0,  9,  -999.00,9,   -999.0,  -999.00,9,  -999.00,9,  -999.00,9,  -999.00,9,   -999.0,-999.0000, -999,9,   50,  28.8471,  21.6725,   -999.0,9
       KS03-06,  NONE,KS-0813,  1,     20,02-16026,2,20030804,0118, 10.0013, 149.3278, 5525,     75.2,  28.2470,  34.4665,2,   -999.0,9,-999.0000,9,    204.0,2,  -999.00,9,  -999.00,9,     0.00,2,     0.00,2,     0.07,2, -999.000,9, -999.000,9,  -999.00,9,   -999.0,9,   -999.0,9,-999.0000,9,   -999.0,  9,  -999.00,9,   -999.0,  -999.00,9,  -999.00,9,  -999.00,9,  -999.00,9,   -999.0,-999.0000, -999,9,   75,  28.2292,  21.9185,   -999.0,9
       KS03-06,  NONE,KS-0813,  1,     19,02-16025,9,20030804,0117, 10.0013, 149.3278, 5525,    100.0,  27.1392,  34.6575,2,   -999.0,9,-999.0000,9,   -999.0,9,  -999.00,9,  -999.00,9,  -999.00,9,  -999.00,9,  -999.00,9, -999.000,9, -999.000,9,  -999.00,9,   -999.0,9,   -999.0,9,-999.0000,9,   -999.0,  9,  -999.00,9,   -999.0,  -999.00,9,  -999.00,9,  -999.00,9,  -999.00,9,   -999.0,-999.0000, -999,9,   99,  27.1162,  22.4227,   -999.0,9
       KS03-06,  NONE,KS-0813,  1,     18,02-16024,2,20030804,0117, 10.0013, 149.3278, 5525,    100.3,  27.1130,  34.6530,2,   -999.0,9,  34.6457,4,    201.0,2,  -999.00,9,  -999.00,9,     0.00,2,     0.00,2,     0.11,2, -999.000,9, -999.000,9,  -999.00,9,   -999.0,9,   -999.0,9,-999.0000,9,   -999.0,  9,  -999.00,9,   -999.0,  -999.00,9,  -999.00,9,  -999.00,9,  -999.00,9,   -999.0,-999.0000, -999,9,  100,  27.0900,  22.4277,   -999.0,9
       KS03-06,  NONE,KS-0813,  1,     17,02-16023,9,20030804,0116, 10.0013, 149.3278, 5525,    124.5,  23.1772,  34.7910,2,   -999.0,9,-999.0000,9,   -999.0,9,  -999.00,9,  -999.00,9,  -999.00,9,  -999.00,9,  -999.00,9, -999.000,9, -999.000,9,  -999.00,9,   -999.0,9,   -999.0,9,-999.0000,9,   -999.0,  9,  -999.00,9,   -999.0,  -999.00,9,  -999.00,9,  -999.00,9,  -999.00,9,   -999.0,-999.0000, -999,9,  124,  23.1517,  23.7313,   -999.0,9
       KS03-06,  NONE,KS-0813,  1,     16,02-16022,2,20030804,0115, 10.0013, 149.3278, 5525,    125.0,  23.1416,  34.7918,2,   -999.0,9,-999.0000,9,    179.0,2,  -999.00,9,  -999.00,9,     2.15,2,     0.27,2,     0.34,2, -999.000,9, -999.000,9,  -999.00,9,   -999.0,9,   -999.0,9,-999.0000,9,   -999.0,  9,  -999.00,9,   -999.0,  -999.00,9,  -999.00,9,  -999.00,9,  -999.00,9,   -999.0,-999.0000, -999,9,  124,  23.1160,  23.7423,   -999.0,9
       KS03-06,  NONE,KS-0813,  1,     15,02-16021,4,20030804,0114, 10.0013, 149.3278, 5525,    150.2,  18.9078,  34.8264,2,   -999.0,9,-999.0000,9,   -999.0,9,  -999.00,9,  -999.00,9,  -999.00,9,  -999.00,9,  -999.00,9, -999.000,9, -999.000,9,  -999.00,9,   -999.0,9,   -999.0,9,-999.0000,9,   -999.0,  9,  -999.00,9,   -999.0,  -999.00,9,  -999.00,9,  -999.00,9,  -999.00,9,   -999.0,-999.0000, -999,9,  149,  18.8812,  24.9187,   -999.0,9
       KS03-06,  NONE,KS-0813,  1,     14,02-16020,4,20030804,0113, 10.0013, 149.3278, 5525,    200.0,  13.5796,  34.5372,2,   -999.0,9,-999.0000,9,   -999.0,9,  -999.00,9,  -999.00,9,  -999.00,9,  -999.00,9,  -999.00,9, -999.000,9, -999.000,9,  -999.00,9,   -999.0,9,   -999.0,9,-999.0000,9,   -999.0,  9,  -999.00,9,   -999.0,  -999.00,9,  -999.00,9,  -999.00,9,  -999.00,9,   -999.0,-999.0000, -999,9,  199,  13.5514,  25.9225,   -999.0,9
       KS03-06,  NONE,KS-0813,  1,     13,02-16019,2,20030804,0109, 10.0013, 149.3278, 5525,    251.1,  10.5720,  34.4384,2,   -999.0,9,-999.0000,9,     87.0,2,  -999.00,9,  -999.00,9,    26.99,2,     0.00,2,     1.93,2, -999.000,9, -999.000,9,  -999.00,9,   -999.0,9,   -999.0,9,-999.0000,9,   -999.0,  9,  -999.00,9,   -999.0,  -999.00,9,  -999.00,9,  -999.00,9,  -999.00,9,   -999.0,-999.0000, -999,9,  249,  10.5419,  26.4197,   -999.0,9
       KS03-06,  NONE,KS-0813,  1,     12,02-16018,2,20030804,0106, 10.0013, 149.3278, 5525,    301.2,   9.8006,  34.5320,2,   -999.0,9,  34.5245,4,     73.0,2,  -999.00,9,  -999.00,9,    30.20,2,     0.00,2,     2.12,2, -999.000,9, -999.000,9,  -999.00,9,   -999.0,9,   -999.0,9,-999.0000,9,   -999.0,  9,  -999.00,9,   -999.0,  -999.00,9,  -999.00,9,  -999.00,9,  -999.00,9,   -999.0,-999.0000, -999,9,  299,   9.7661,  26.6261,   -999.0,9
       KS03-06,  NONE,KS-0813,  1,     11,02-16017,2,20030804,0104, 10.0013, 149.3278, 5525,    401.2,   8.7170,  34.5940,2,   -999.0,9,  34.5942,2,     63.0,2,  -999.00,9,  -999.00,9,    33.79,2,     0.00,2,     2.35,2, -999.000,9, -999.000,9,  -999.00,9,   -999.0,9,   -999.0,9,-999.0000,9,   -999.0,  9,  -999.00,9,   -999.0,  -999.00,9,  -999.00,9,  -999.00,9,  -999.00,9,   -999.0,-999.0000, -999,9,  399,   8.6740,  26.8518,   -999.0,9
       KS03-06,  NONE,KS-0813,  1,     10,02-16016,2,20030804,0101, 10.0013, 149.3278, 5525,    501.6,   7.8073,  34.5349,2,   -999.0,9,  34.5329,4,     79.0,2,  -999.00,9,  -999.00,9,    33.89,2,     0.00,2,     2.37,2, -999.000,9, -999.000,9,  -999.00,9,   -999.0,9,   -999.0,9,-999.0000,9,   -999.0,  9,  -999.00,9,   -999.0,  -999.00,9,  -999.00,9,  -999.00,9,  -999.00,9,   -999.0,-999.0000, -999,9,  498,   7.7566,  26.9446,   -999.0,9
       KS03-06,  NONE,KS-0813,  1,      9,02-16015,2,20030804,0056, 10.0013, 149.3278, 5525,    603.9,   7.1194,  34.5218,2,   -999.0,9,  34.5201,2,     85.0,2,  -999.00,9,  -999.00,9,    34.66,2,     0.00,2,     2.43,2, -999.000,9, -999.000,9,  -999.00,9,   -999.0,9,   -999.0,9,-999.0000,9,   -999.0,  9,  -999.00,9,   -999.0,  -999.00,9,  -999.00,9,  -999.00,9,  -999.00,9,   -999.0,-999.0000, -999,9,  600,   7.0611,  27.0336,   -999.0,9
       KS03-06,  NONE,KS-0813,  1,      8,02-16014,2,20030804,0054, 10.0013, 149.3278, 5525,    703.5,   6.5366,  34.5277,2,   -999.0,9,  34.5239,4,     77.0,2,  -999.00,9,  -999.00,9,    36.22,2,     0.00,2,     2.56,2, -999.000,9, -999.000,9,  -999.00,9,   -999.0,9,   -999.0,9,-999.0000,9,   -999.0,  9,  -999.00,9,   -999.0,  -999.00,9,  -999.00,9,  -999.00,9,  -999.00,9,   -999.0,-999.0000, -999,9,  698,   6.4713,  27.1183,   -999.0,9
       KS03-06,  NONE,KS-0813,  1,      7,02-16013,4,20030804,0051, 10.0013, 149.3278, 5525,    804.9,   5.8647,  34.5254,2,   -999.0,9,-999.0000,9,   -999.0,9,  -999.00,9,  -999.00,9,  -999.00,9,  -999.00,9,  -999.00,9, -999.000,9, -999.000,9,  -999.00,9,   -999.0,9,   -999.0,9,-999.0000,9,   -999.0,  9,  -999.00,9,   -999.0,  -999.00,9,  -999.00,9,  -999.00,9,  -999.00,9,   -999.0,-999.0000, -999,9,  799,   5.7935,  27.2036,   -999.0,9
       KS03-06,  NONE,KS-0813,  1,      6,02-16012,2,20030804,0046, 10.0013, 149.3278, 5525,    904.9,   5.2442,  34.5354,2,   -999.0,9,  34.5335,2,     80.0,2,  -999.00,9,  -999.00,9,    37.96,2,     0.00,2,     2.71,2, -999.000,9, -999.000,9,  -999.00,9,   -999.0,9,   -999.0,9,-999.0000,9,   -999.0,  9,  -999.00,9,   -999.0,  -999.00,9,  -999.00,9,  -999.00,9,  -999.00,9,   -999.0,-999.0000, -999,9,  898,   5.1677,  27.2874,   -999.0,9
       KS03-06,  NONE,KS-0813,  1,      5,02-16011,2,20030804,0044, 10.0013, 149.3278, 5525,   1006.5,   4.8471,  34.5477,2,   -999.0,9,  34.5457,2,     81.0,2,  -999.00,9,  -999.00,9,    38.35,2,     0.00,2,     2.74,2, -999.000,9, -999.000,9,  -999.00,9,   -999.0,9,   -999.0,9,-999.0000,9,   -999.0,  9,  -999.00,9,   -999.0,  -999.00,9,  -999.00,9,  -999.00,9,  -999.00,9,   -999.0,-999.0000, -999,9,  998,   4.7643,  27.3436,   -999.0,9
       KS03-06,  NONE,KS-0813,  1,      4,02-16010,2,20030804,0038, 10.0013, 149.3278, 5525,   1259.9,   3.7295,  34.5725,2,   -999.0,9,  34.5704,2,     93.0,2,  -999.00,9,  -999.00,9,    38.74,2,     0.00,2,     2.78,2, -999.000,9, -999.000,9,  -999.00,9,   -999.0,9,   -999.0,9,-999.0000,9,   -999.0,  9,  -999.00,9,   -999.0,  -999.00,9,  -999.00,9,  -999.00,9,  -999.00,9,   -999.0,-999.0000, -999,9, 1249,   3.6342,  27.4833,   -999.0,9
       KS03-06,  NONE,KS-0813,  1,      3,02-16009,2,20030804,0032, 10.0013, 149.3278, 5525,   1510.7,   2.9074,  34.5970,2,   -999.0,9,  34.5902,4,     96.0,2,  -999.00,9,  -999.00,9,    39.12,2,     0.00,2,     2.82,2, -999.000,9, -999.000,9,  -999.00,9,   -999.0,9,   -999.0,9,-999.0000,9,   -999.0,  9,  -999.00,9,   -999.0,  -999.00,9,  -999.00,9,  -999.00,9,  -999.00,9,   -999.0,-999.0000, -999,9, 1497,   2.7997,  27.5815,   -999.0,9
       KS03-06,  NONE,KS-0813,  1,      2,02-16008,3,20030804,0026, 10.0013, 149.3278, 5525,   1765.2,   2.4086,  34.6251,2,   -999.0,9,  34.6219,2,    109.0,2,  -999.00,9,  -999.00,9,    38.53,2,     0.00,2,     2.74,2, -999.000,9, -999.000,9,  -999.00,9,   -999.0,9,   -999.0,9,-999.0000,9,   -999.0,  9,  -999.00,9,   -999.0,  -999.00,9,  -999.00,9,  -999.00,9,  -999.00,9,   -999.0,-999.0000, -999,9, 1748,   2.2859,  27.6481,   -999.0,9
       KS03-06,  NONE,KS-0813,  1,      1,02-16007,2,20030804,0020, 10.0013, 149.3278, 5525,   2020.7,   2.1317,  34.6393,2,   -999.0,9,  34.6368,2,    116.0,2,  -999.00,9,  -999.00,9,    38.14,2,     0.00,2,     2.71,2, -999.000,9, -999.000,9,  -999.00,9,   -999.0,9,   -999.0,9,-999.0000,9,   -999.0,  9,  -999.00,9,   -999.0,  -999.00,9,  -999.00,9,  -999.00,9,  -999.00,9,   -999.0,-999.0000, -999,9, 2000,   1.9915,  27.6834,   -999.0,9