BOTTLE,20130510GEMDJMAYT
EXPOCODE,SECT_ID,STNNBR,CASTNO,SAMPNO,BTLNBR,BTLNBR_FLAG_W,DATE,TIME,LATITUDE,LONGITUDE,DEPTH,CTDPRS,CTDTMP,CTDSAL,CTDSAL_FLAG_W,CTDOXY,CTDOXY_FLAG_W,SALNTY,SALNTY_FLAG_W,OXYGEN,OXYGEN_FLAG_W,SILCAT,SILCAT_FLAG_W,NITRAT,NITRAT_FLAG_W,NO2+NO3,NO2+NO3_FLAG_W,NITRIT,NITRIT_FLAG_W,PHSPHT,PHSPHT_FLAG_W,CFC-11,CFC-11_FLAG_W,CFC-12,CFC-12_FLAG_W,DELC13,DELC13_FLAG_W,TCARBN,TCARBN_FLAG_W,ALKALI,ALKALI_FLAG_W,PH,PH_FLAG_W,PH_TMP,PH_SCALE,PH_NBS,PH_NBS_FLAG_W,C13ERR,TOTALP,TOTALP_FLAG_W,AMMONI,AMMONI_FLAG_W,CHLORA,CHLORA_FLAG_W,PPHYTN,PPHYTN_FLAG_W,REVPRS,REVTMP,DEPTH_,DEPTH_FLAG,CTDDEP,THETA,SIGTHT,DOC,DOC_FLAG_W
,,,,,,,GMT,GMT,,,METER,DBAR,ITS-90,PSS-78,,UMOL/KG,,PSS-78,,UMOL/KG,,UMOL/KG,,UMOL/KG,,UMOL/KG,,UMOL/KG,,UMOL/KG,,PMOL/KG,,PMOL/KG,,/MILLE,,UMOL/KG,,UMOL/KG,,25_DEG_C,,DEG_C,,,,/MILLE,UMOL/KG,,UMOL/KG,,UG/L,,UG/L,,DBAR,ITS-90,METERS,,METERS,DEG_C,,UMOL/L,
       KS03-06,  165E,KS-0771,  1,     24,02-16030,2,20030708,1208,  9.9833, 163.9862, 4990,      4.3,  29.2543,  34.1042,2,   -999.0,9,  34.1080,4,    199.0,2,  -999.00,9,  -999.00,9,     0.00,2,     0.00,2,     0.08,2, -999.000,9, -999.000,9,  -999.00,9,   1896.9,2,   -999.0,9,-999.0000,9,   -999.0,  9,     8.25,2,   -999.0,  -999.00,9,  -999.00,9,     0.02,2,     0.01,2,   -999.0,-999.0000, -999,9,    4,  29.2533,  21.3070,   -999.0,9
       KS03-06,  165E,KS-0771,  1,     23,02-16029,2,20030708,1207,  9.9833, 163.9862, 4990,      9.8,  29.2369,  34.1014,2,   -999.0,9,-999.0000,9,    199.0,2,  -999.00,9,  -999.00,9,     0.00,2,     0.00,2,     0.08,2, -999.000,9, -999.000,9,  -999.00,9,   1896.1,2,   -999.0,9,-999.0000,9,   -999.0,  9,     8.25,2,   -999.0,  -999.00,9,  -999.00,9,     0.03,2,     0.01,2,   -999.0,-999.0000, -999,9,   10,  29.2345,  21.3112,   -999.0,9
       KS03-06,  165E,KS-0771,  1,     22,02-16028,2,20030708,1206,  9.9833, 163.9862, 4990,     24.5,  28.8752,  34.1360,2,   -999.0,9,-999.0000,9,    201.0,2,  -999.00,9,  -999.00,9,     0.00,2,     0.00,2,     0.08,2, -999.000,9, -999.000,9,  -999.00,9,   1892.9,2,   -999.0,9,-999.0000,9,   -999.0,  9,     8.24,2,   -999.0,  -999.00,9,  -999.00,9,     0.04,2,     0.02,2,   -999.0,-999.0000, -999,9,   24,  28.8693,  21.4590,   -999.0,9
       KS03-06,  165E,KS-0771,  1,     21,02-16027,2,20030708,1203,  9.9833, 163.9862, 4990,     49.2,  28.7929,  34.1838,2,   -999.0,9,-999.0000,9,    200.0,2,  -999.00,9,  -999.00,9,     0.00,2,     0.00,2,     0.08,2, -999.000,9, -999.000,9,  -999.00,9,   1900.3,2,   -999.0,9,-999.0000,9,   -999.0,  9,     8.24,2,   -999.0,  -999.00,9,  -999.00,9,     0.04,2,     0.02,2,   -999.0,-999.0000, -999,9,   49,  28.7811,  21.5242,   -999.0,9
       KS03-06,  165E,KS-0771,  1,     20,02-16026,2,20030708,1202,  9.9833, 163.9862, 4990,     74.4,  27.8782,  34.3751,2,   -999.0,9,-999.0000,9,    205.0,2,  -999.00,9,  -999.00,9,     0.00,2,     0.00,2,     0.10,2, -999.000,9, -999.000,9,  -999.00,9,   1919.0,2,   -999.0,9,-999.0000,9,   -999.0,  9,     8.22,2,   -999.0,  -999.00,9,  -999.00,9,     0.06,2,     0.04,2,   -999.0,-999.0000, -999,9,   74,  27.8608,  21.9701,   -999.0,9
       KS03-06,  165E,KS-0771,  1,     19,02-16025,2,20030708,1201,  9.9833, 163.9862, 4990,    100.3,  25.3716,  34.7900,2,   -999.0,9,  34.8147,4,    202.0,2,  -999.00,9,  -999.00,9,     0.00,2,     0.00,2,     0.13,2, -999.000,9, -999.000,9,  -999.00,9,   1973.0,2,   -999.0,9,-999.0000,9,   -999.0,  9,     8.17,2,   -999.0,  -999.00,9,  -999.00,9,     0.12,2,     0.16,2,   -999.0,-999.0000, -999,9,  100,  25.3496,  23.0759,   -999.0,9
       KS03-06,  165E,KS-0771,  1,     18,02-16024,2,20030708,1200,  9.9833, 163.9862, 4990,    125.0,  21.6671,  35.0095,2,   -999.0,9,-999.0000,9,    184.0,2,  -999.00,9,  -999.00,9,     2.05,2,     0.11,2,     0.30,2, -999.000,9, -999.000,9,  -999.00,9,   2036.9,2,   -999.0,9,-999.0000,9,   -999.0,  9,     8.09,2,   -999.0,  -999.00,9,  -999.00,9,     0.15,2,     0.49,2,   -999.0,-999.0000, -999,9,  124,  21.6427,  24.3246,   -999.0,9
       KS03-06,  165E,KS-0771,  1,     17,02-16023,2,20030708,1159,  9.9833, 163.9862, 4990,    149.9,  17.3094,  34.7193,2,   -999.0,9,-999.0000,9,    153.0,2,  -999.00,9,  -999.00,9,    10.05,2,     0.02,2,     0.79,2, -999.000,9, -999.000,9,  -999.00,9,   2089.4,2,   -999.0,9,-999.0000,9,   -999.0,  9,     7.93,2,   -999.0,  -999.00,9,  -999.00,9,     0.06,2,     0.27,2,   -999.0,-999.0000, -999,9,  149,  17.2844,  25.2309,   -999.0,9
       KS03-06,  165E,KS-0771,  1,     16,02-16022,2,20030708,1158,  9.9833, 163.9862, 4990,    200.8,  11.8806,  34.4379,2,   -999.0,9,  34.4455,4,    100.0,2,  -999.00,9,  -999.00,9,    23.49,2,     0.00,2,     1.71,2, -999.000,9, -999.000,9,  -999.00,9,   2173.0,2,   -999.0,9,-999.0000,9,   -999.0,  9,     7.74,2,   -999.0,  -999.00,9,  -999.00,9,     0.01,2,     0.02,2,   -999.0,-999.0000, -999,9,  200,  11.8547,  26.1800,   -999.0,9
       KS03-06,  165E,KS-0771,  1,     15,02-16021,2,20030708,1156,  9.9833, 163.9862, 4990,    250.2,  10.7402,  34.5527,2,   -999.0,9,-999.0000,9,     54.0,2,  -999.00,9,  -999.00,9,    30.69,2,     0.00,2,     2.17,2, -999.000,9, -999.000,9,  -999.00,9,   2218.2,2,   -999.0,9,-999.0000,9,   -999.0,  9,     7.60,2,   -999.0,  -999.00,9,  -999.00,9,     0.00,2,     0.01,2,   -999.0,-999.0000, -999,9,  249,  10.7099,  26.4792,   -999.0,9
       KS03-06,  165E,KS-0771,  1,     14,02-16020,2,20030708,1155,  9.9833, 163.9862, 4990,    301.0,   9.7898,  34.6173,2,   -999.0,9,  34.6174,2,     42.0,2,  -999.00,9,  -999.00,9,    33.80,2,     0.00,2,     2.36,2, -999.000,9, -999.000,9,  -999.00,9,   2246.5,2,   -999.0,9,-999.0000,9,   -999.0,  9,     7.58,2,   -999.0,  -999.00,9,  -999.00,9,     0.00,2,     0.01,2,   -999.0,-999.0000, -999,9,  299,   9.7553,  26.6945,   -999.0,9
       KS03-06,  165E,KS-0771,  1,     13,02-16019,2,20030708,1152,  9.9833, 163.9862, 4990,    402.3,   8.8398,  34.6016,2,   -999.0,9,  34.6020,2,     48.0,2,  -999.00,9,  -999.00,9,    35.06,2,     0.00,2,     2.44,2, -999.000,9, -999.000,9,  -999.00,9,   2247.5,2,   -999.0,9,-999.0000,9,   -999.0,  9,     7.59,2,   -999.0,  -999.00,9,  -999.00,9,  -999.00,9,  -999.00,9,   -999.0,-999.0000, -999,9,  400,   8.7963,  26.8385,   -999.0,9
       KS03-06,  165E,KS-0771,  1,     12,02-16018,2,20030708,1149,  9.9833, 163.9862, 4990,    502.3,   8.0121,  34.5727,2,   -999.0,9,  34.5736,2,     50.0,2,  -999.00,9,  -999.00,9,    36.42,2,     0.00,2,     2.55,2, -999.000,9, -999.000,9,  -999.00,9,   -999.0,9,   -999.0,9,-999.0000,9,   -999.0,  9,     7.59,2,   -999.0,  -999.00,9,  -999.00,9,  -999.00,9,  -999.00,9,   -999.0,-999.0000, -999,9,  499,   7.9605,  26.9441,   -999.0,9
       KS03-06,  165E,KS-0771,  1,     11,02-16017,2,20030708,1146,  9.9833, 163.9862, 4990,    603.0,   7.1534,  34.5471,2,   -999.0,9,  34.5484,2,     47.0,2,  -999.00,9,  -999.00,9,    38.07,2,     0.00,2,     2.71,2, -999.000,9, -999.000,9,  -999.00,9,   2273.4,2,   -999.0,9,-999.0000,9,   -999.0,  9,     7.56,2,   -999.0,  -999.00,9,  -999.00,9,  -999.00,9,  -999.00,9,   -999.0,-999.0000, -999,9,  599,   7.0950,  27.0488,   -999.0,9
       KS03-06,  165E,KS-0771,  1,     10,02-16016,2,20030708,1144,  9.9833, 163.9862, 4990,    704.2,   6.3189,  34.5336,2,   -999.0,9,  34.5345,2,     55.0,2,  -999.00,9,  -999.00,9,    39.04,2,     0.00,2,     2.76,2, -999.000,9, -999.000,9,  -999.00,9,   -999.0,9,   -999.0,9,-999.0000,9,   -999.0,  9,     7.55,2,   -999.0,  -999.00,9,  -999.00,9,  -999.00,9,  -999.00,9,   -999.0,-999.0000, -999,9,  699,   6.2546,  27.1514,   -999.0,9
       KS03-06,  165E,KS-0771,  1,      9,02-16015,2,20030708,1141,  9.9833, 163.9862, 4990,    805.1,   5.5717,  34.5313,2,   -999.0,9,  34.5317,2,     54.0,2,  -999.00,9,  -999.00,9,    40.20,2,     0.00,2,     2.86,2, -999.000,9, -999.000,9,  -999.00,9,   2296.7,2,   -999.0,9,-999.0000,9,   -999.0,  9,     7.55,2,   -999.0,  -999.00,9,  -999.00,9,  -999.00,9,  -999.00,9,   -999.0,-999.0000, -999,9,  799,   5.5022,  27.2442,   -999.0,9
       KS03-06,  165E,KS-0771,  1,      8,02-16014,2,20030708,1138,  9.9833, 163.9862, 4990,    906.6,   5.0988,  34.5410,2,   -999.0,9,  34.5410,2,     65.0,2,  -999.00,9,  -999.00,9,    40.10,2,     0.00,2,     2.84,2, -999.000,9, -999.000,9,  -999.00,9,   -999.0,9,   -999.0,9,-999.0000,9,   -999.0,  9,     7.57,2,   -999.0,  -999.00,9,  -999.00,9,  -999.00,9,  -999.00,9,   -999.0,-999.0000, -999,9,  899,   5.0231,  27.3087,   -999.0,9
       KS03-06,  165E,KS-0771,  1,      7,02-16013,9,20030708,1136,  9.9833, 163.9862, 4990,   1007.7,   4.6459,  34.5499,2,   -999.0,9,-999.0000,9,   -999.0,9,  -999.00,9,  -999.00,9,  -999.00,9,  -999.00,9,  -999.00,9, -999.000,9, -999.000,9,  -999.00,9,   -999.0,9,   -999.0,9,-999.0000,9,   -999.0,  9,  -999.00,9,   -999.0,  -999.00,9,  -999.00,9,  -999.00,9,  -999.00,9,   -999.0,-999.0000, -999,9, 1000,   4.5645,  27.3676,   -999.0,9
       KS03-06,  165E,KS-0771,  1,      6,02-16012,2,20030708,1136,  9.9833, 163.9862, 4990,   1006.9,   4.6465,  34.5497,2,   -999.0,9,  34.5502,2,     71.0,2,  -999.00,9,  -999.00,9,    40.01,2,     0.00,2,     2.84,2, -999.000,9, -999.000,9,  -999.00,9,   2309.3,2,   -999.0,9,-999.0000,9,   -999.0,  9,     7.57,2,   -999.0,  -999.00,9,  -999.00,9,  -999.00,9,  -999.00,9,   -999.0,-999.0000, -999,9,  999,   4.5652,  27.3674,   -999.0,9
       KS03-06,  165E,KS-0771,  1,      5,02-16011,2,20030708,1128,  9.9833, 163.9862, 4990,   1259.8,   3.6711,  34.5734,2,   -999.0,9,  33.5933,4,     68.0,2,  -999.00,9,  -999.00,9,    41.27,2,     0.00,2,     2.95,2, -999.000,9, -999.000,9,  -999.00,9,   2332.7,2,   -999.0,9,-999.0000,9,   -999.0,  9,     7.55,2,   -999.0,  -999.00,9,  -999.00,9,  -999.00,9,  -999.00,9,   -999.0,-999.0000, -999,9, 1249,   3.5764,  27.4897,   -999.0,9
       KS03-06,  165E,KS-0771,  1,      4,02-16010,2,20030708,1123,  9.9833, 163.9862, 4990,   1512.2,   2.9082,  34.5986,2,   -999.0,9,  34.5969,2,     86.0,2,  -999.00,9,  -999.00,9,    40.19,2,     0.00,2,     2.85,2, -999.000,9, -999.000,9,  -999.00,9,   2341.0,6,   -999.0,9,-999.0000,9,   -999.0,  9,     7.59,2,   -999.0,  -999.00,9,  -999.00,9,  -999.00,9,  -999.00,9,   -999.0,-999.0000, -999,9, 1498,   2.8004,  27.5827,   -999.0,9
       KS03-06,  165E,KS-0771,  1,      3,02-16009,9,20030708,1123,  9.9833, 163.9862, 4990,   1512.0,   2.9053,  34.5985,2,   -999.0,9,-999.0000,9,   -999.0,9,  -999.00,9,  -999.00,9,  -999.00,9,  -999.00,9,  -999.00,9, -999.000,9, -999.000,9,  -999.00,9,   -999.0,9,   -999.0,9,-999.0000,9,   -999.0,  9,  -999.00,9,   -999.0,  -999.00,9,  -999.00,9,  -999.00,9,  -999.00,9,   -999.0,-999.0000, -999,9, 1498,   2.7975,  27.5829,   -999.0,9
       KS03-06,  165E,KS-0771,  1,      2,02-16008,3,20030708,1116,  9.9833, 163.9862, 4990,   1764.7,   2.4235,  34.6211,2,   -999.0,9,  34.6199,2,     99.0,2,  -999.00,9,  -999.00,9,    39.61,2,     0.00,2,     2.79,2, -999.000,9, -999.000,9,  -999.00,9,   -999.0,9,   -999.0,9,-999.0000,9,   -999.0,  9,     7.61,2,   -999.0,  -999.00,9,  -999.00,9,  -999.00,9,  -999.00,9,   -999.0,-999.0000, -999,9, 1747,   2.3007,  27.6437,   -999.0,9
       KS03-06,  165E,KS-0771,  1,      1,02-16007,2,20030708,1110,  9.9833, 163.9862, 4990,   2020.2,   2.1358,  34.6390,2,   -999.0,9,  34.6388,4,    108.0,2,  -999.00,9,  -999.00,9,    39.02,2,     0.00,2,     2.74,2, -999.000,9, -999.000,9,  -999.00,9,   2350.7,2,   -999.0,9,-999.0000,9,   -999.0,  9,     7.63,2,   -999.0,  -999.00,9,  -999.00,9,  -999.00,9,  -999.00,9,   -999.0,-999.0000, -999,9, 1999,   1.9956,  27.6828,   -999.0,9