BOTTLE,20130510GEMDJMAYT
EXPOCODE,SECT_ID,STNNBR,CASTNO,SAMPNO,BTLNBR,BTLNBR_FLAG_W,DATE,TIME,LATITUDE,LONGITUDE,DEPTH,CTDPRS,CTDTMP,CTDSAL,CTDSAL_FLAG_W,CTDOXY,CTDOXY_FLAG_W,SALNTY,SALNTY_FLAG_W,OXYGEN,OXYGEN_FLAG_W,SILCAT,SILCAT_FLAG_W,NITRAT,NITRAT_FLAG_W,NO2+NO3,NO2+NO3_FLAG_W,NITRIT,NITRIT_FLAG_W,PHSPHT,PHSPHT_FLAG_W,CFC-11,CFC-11_FLAG_W,CFC-12,CFC-12_FLAG_W,DELC13,DELC13_FLAG_W,TCARBN,TCARBN_FLAG_W,ALKALI,ALKALI_FLAG_W,PH,PH_FLAG_W,PH_TMP,PH_SCALE,PH_NBS,PH_NBS_FLAG_W,C13ERR,TOTALP,TOTALP_FLAG_W,AMMONI,AMMONI_FLAG_W,CHLORA,CHLORA_FLAG_W,PPHYTN,PPHYTN_FLAG_W,REVPRS,REVTMP,DEPTH_,DEPTH_FLAG,CTDDEP,THETA,SIGTHT,DOC,DOC_FLAG_W
,,,,,,,GMT,GMT,,,METER,DBAR,ITS-90,PSS-78,,UMOL/KG,,PSS-78,,UMOL/KG,,UMOL/KG,,UMOL/KG,,UMOL/KG,,UMOL/KG,,UMOL/KG,,PMOL/KG,,PMOL/KG,,/MILLE,,UMOL/KG,,UMOL/KG,,25_DEG_C,,DEG_C,,,,/MILLE,UMOL/KG,,UMOL/KG,,UG/L,,UG/L,,DBAR,ITS-90,METERS,,METERS,DEG_C,,UMOL/L,
       KS03-06,  NONE,KS-0823,  1,     24,02-16030,2,20030813,1757, 20.0082, 149.3188, 4119,      5.4,  30.0576,  34.6003,2,   -999.0,9,  34.6034,2,    199.0,2,  -999.00,9,  -999.00,9,     0.00,2,     0.00,2,     0.00,2, -999.000,9, -999.000,9,  -999.00,9,   -999.0,9,   -999.0,9,-999.0000,9,   -999.0,  9,  -999.00,9,   -999.0,  -999.00,9,  -999.00,9,  -999.00,9,  -999.00,9,   -999.0,-999.0000, -999,9,    5,  30.0563,  21.4074,   -999.0,9
       KS03-06,  NONE,KS-0823,  1,     23,02-16029,9,20030813,1756, 20.0082, 149.3188, 4119,      9.4,  30.0761,  34.5994,2,   -999.0,9,-999.0000,9,   -999.0,9,  -999.00,9,  -999.00,9,  -999.00,9,  -999.00,9,  -999.00,9, -999.000,9, -999.000,9,  -999.00,9,   -999.0,9,   -999.0,9,-999.0000,9,   -999.0,  9,  -999.00,9,   -999.0,  -999.00,9,  -999.00,9,  -999.00,9,  -999.00,9,   -999.0,-999.0000, -999,9,    9,  30.0738,  21.4007,   -999.0,9
       KS03-06,  NONE,KS-0823,  1,     22,02-16028,2,20030813,1755, 20.0082, 149.3188, 4119,      9.7,  30.0595,  34.5996,2,   -999.0,9,-999.0000,9,    199.0,2,  -999.00,9,  -999.00,9,     0.00,2,     0.00,2,     0.00,2, -999.000,9, -999.000,9,  -999.00,9,   -999.0,9,   -999.0,9,-999.0000,9,   -999.0,  9,  -999.00,9,   -999.0,  -999.00,9,  -999.00,9,  -999.00,9,  -999.00,9,   -999.0,-999.0000, -999,9,   10,  30.0571,  21.4066,   -999.0,9
       KS03-06,  NONE,KS-0823,  1,     21,02-16027,2,20030813,1754, 20.0082, 149.3188, 4119,     24.1,  30.0575,  34.5988,2,   -999.0,9,-999.0000,9,    200.0,2,  -999.00,9,  -999.00,9,     0.00,2,     0.00,2,     0.00,2, -999.000,9, -999.000,9,  -999.00,9,   -999.0,9,   -999.0,9,-999.0000,9,   -999.0,  9,  -999.00,9,   -999.0,  -999.00,9,  -999.00,9,  -999.00,9,  -999.00,9,   -999.0,-999.0000, -999,9,   24,  30.0515,  21.4078,   -999.0,9
       KS03-06,  NONE,KS-0823,  1,     20,02-16026,2,20030813,1750, 20.0082, 149.3188, 4119,     49.3,  28.8093,  34.8297,2,   -999.0,9,-999.0000,9,    214.0,2,  -999.00,9,  -999.00,9,     0.00,2,     0.00,2,     0.01,2, -999.000,9, -999.000,9,  -999.00,9,   -999.0,9,   -999.0,9,-999.0000,9,   -999.0,  9,  -999.00,9,   -999.0,  -999.00,9,  -999.00,9,  -999.00,9,  -999.00,9,   -999.0,-999.0000, -999,9,   49,  28.7975,  22.0037,   -999.0,9
       KS03-06,  NONE,KS-0823,  1,     19,02-16025,2,20030813,1748, 20.0082, 149.3188, 4119,     73.6,  26.6508,  34.9814,2,   -999.0,9,-999.0000,9,    206.0,2,  -999.00,9,  -999.00,9,     0.00,2,     0.00,2,     0.03,2, -999.000,9, -999.000,9,  -999.00,9,   -999.0,9,   -999.0,9,-999.0000,9,   -999.0,  9,  -999.00,9,   -999.0,  -999.00,9,  -999.00,9,  -999.00,9,  -999.00,9,   -999.0,-999.0000, -999,9,   73,  26.6341,  22.8201,   -999.0,9
       KS03-06,  NONE,KS-0823,  1,     18,02-16024,2,20030813,1747, 20.0082, 149.3188, 4119,    100.3,  25.1685,  35.0994,2,   -999.0,9,  35.1026,2,    204.0,2,  -999.00,9,  -999.00,9,     0.29,2,     0.32,2,     0.05,2, -999.000,9, -999.000,9,  -999.00,9,   -999.0,9,   -999.0,9,-999.0000,9,   -999.0,  9,  -999.00,9,   -999.0,  -999.00,9,  -999.00,9,  -999.00,9,  -999.00,9,   -999.0,-999.0000, -999,9,  100,  25.1466,  23.3717,   -999.0,9
       KS03-06,  NONE,KS-0823,  1,     17,02-16023,2,20030813,1746, 20.0082, 149.3188, 4119,    124.4,  23.4007,  35.1149,2,   -999.0,9,-999.0000,9,    191.0,2,  -999.00,9,  -999.00,9,     0.78,2,     0.05,2,     0.12,2, -999.000,9, -999.000,9,  -999.00,9,   -999.0,9,   -999.0,9,-999.0000,9,   -999.0,  9,  -999.00,9,   -999.0,  -999.00,9,  -999.00,9,  -999.00,9,  -999.00,9,   -999.0,-999.0000, -999,9,  124,  23.3750,  23.9120,   -999.0,9
       KS03-06,  NONE,KS-0823,  1,     16,02-16022,2,20030813,1745, 20.0082, 149.3188, 4119,    149.3,  22.0079,  35.0363,2,   -999.0,9,-999.0000,9,    202.0,2,  -999.00,9,  -999.00,9,     0.49,2,     0.04,2,     0.06,2, -999.000,9, -999.000,9,  -999.00,9,   -999.0,9,   -999.0,9,-999.0000,9,   -999.0,  9,  -999.00,9,   -999.0,  -999.00,9,  -999.00,9,  -999.00,9,  -999.00,9,   -999.0,-999.0000, -999,9,  148,  21.9784,  24.2515,   -999.0,9
       KS03-06,  NONE,KS-0823,  1,     15,02-16021,2,20030813,1743, 20.0082, 149.3188, 4119,    199.8,  19.3221,  34.8808,2,   -999.0,9,  34.8851,4,    193.0,2,  -999.00,9,  -999.00,9,     3.02,2,     0.01,2,     0.23,2, -999.000,9, -999.000,9,  -999.00,9,   -999.0,9,   -999.0,9,-999.0000,9,   -999.0,  9,  -999.00,9,   -999.0,  -999.00,9,  -999.00,9,  -999.00,9,  -999.00,9,   -999.0,-999.0000, -999,9,  199,  19.2861,  24.8568,   -999.0,9
       KS03-06,  NONE,KS-0823,  1,     14,02-16020,2,20030813,1740, 20.0082, 149.3188, 4119,    250.2,  17.4474,  34.7385,2,   -999.0,9,-999.0000,9,    200.0,2,  -999.00,9,  -999.00,9,     4.88,2,     0.00,2,     0.35,2, -999.000,9, -999.000,9,  -999.00,9,   -999.0,9,   -999.0,9,-999.0000,9,   -999.0,  9,  -999.00,9,   -999.0,  -999.00,9,  -999.00,9,  -999.00,9,  -999.00,9,   -999.0,-999.0000, -999,9,  248,  17.4054,  25.2166,   -999.0,9
       KS03-06,  NONE,KS-0823,  1,     13,02-16019,2,20030813,1739, 20.0082, 149.3188, 4119,    301.1,  15.6117,  34.6263,2,   -999.0,9,  34.6274,2,    198.0,2,  -999.00,9,  -999.00,9,     8.00,2,     0.00,2,     0.54,2, -999.000,9, -999.000,9,  -999.00,9,   -999.0,9,   -999.0,9,-999.0000,9,   -999.0,  9,  -999.00,9,   -999.0,  -999.00,9,  -999.00,9,  -999.00,9,  -999.00,9,   -999.0,-999.0000, -999,9,  299,  15.5648,  25.5586,   -999.0,9
       KS03-06,  NONE,KS-0823,  1,     12,02-16018,2,20030813,1736, 20.0082, 149.3188, 4119,    401.6,  12.6818,  34.3976,2,   -999.0,9,  34.3998,2,    186.0,2,  -999.00,9,  -999.00,9,    13.35,2,     0.00,2,     0.95,2, -999.000,9, -999.000,9,  -999.00,9,   -999.0,9,   -999.0,9,-999.0000,9,   -999.0,  9,  -999.00,9,   -999.0,  -999.00,9,  -999.00,9,  -999.00,9,  -999.00,9,   -999.0,-999.0000, -999,9,  399,  12.6274,  26.0000,   -999.0,9
       KS03-06,  NONE,KS-0823,  1,     11,02-16017,2,20030813,1733, 20.0082, 149.3188, 4119,    501.3,   9.5159,  34.2225,2,   -999.0,9,  34.2230,2,    137.0,2,  -999.00,9,  -999.00,9,    23.67,2,     0.00,2,     1.70,2, -999.000,9, -999.000,9,  -999.00,9,   -999.0,9,   -999.0,9,-999.0000,9,   -999.0,  9,  -999.00,9,   -999.0,  -999.00,9,  -999.00,9,  -999.00,9,  -999.00,9,   -999.0,-999.0000, -999,9,  498,   9.4592,  26.4351,   -999.0,9
       KS03-06,  NONE,KS-0823,  1,     10,02-16016,2,20030813,1730, 20.0082, 149.3188, 4119,    602.8,   7.6308,  34.2192,2,   -999.0,9,  34.2209,2,     92.0,2,  -999.00,9,  -999.00,9,    31.17,2,     0.00,2,     2.26,2, -999.000,9, -999.000,9,  -999.00,9,   -999.0,9,   -999.0,9,-999.0000,9,   -999.0,  9,  -999.00,9,   -999.0,  -999.00,9,  -999.00,9,  -999.00,9,  -999.00,9,   -999.0,-999.0000, -999,9,  598,   7.5706,  26.7234,   -999.0,9
       KS03-06,  NONE,KS-0823,  1,      9,02-16015,9,20030813,1728, 20.0082, 149.3188, 4119,    703.8,   6.1386,  34.2023,2,   -999.0,9,-999.0000,9,   -999.0,9,  -999.00,9,  -999.00,9,  -999.00,9,  -999.00,9,  -999.00,9, -999.000,9, -999.000,9,  -999.00,9,   -999.0,9,   -999.0,9,-999.0000,9,   -999.0,  9,  -999.00,9,   -999.0,  -999.00,9,  -999.00,9,  -999.00,9,  -999.00,9,   -999.0,-999.0000, -999,9,  698,   6.0757,  26.9127,   -999.0,9
       KS03-06,  NONE,KS-0823,  1,      8,02-16014,2,20030813,1727, 20.0082, 149.3188, 4119,    703.3,   6.1407,  34.2014,2,   -999.0,9,  34.2011,2,     74.0,2,  -999.00,9,  -999.00,9,    35.35,2,     0.00,2,     2.57,2, -999.000,9, -999.000,9,  -999.00,9,   -999.0,9,   -999.0,9,-999.0000,9,   -999.0,  9,  -999.00,9,   -999.0,  -999.00,9,  -999.00,9,  -999.00,9,  -999.00,9,   -999.0,-999.0000, -999,9,  698,   6.0778,  26.9117,   -999.0,9
       KS03-06,  NONE,KS-0823,  1,      7,02-16013,4,20030813,1724, 20.0082, 149.3188, 4119,    804.1,   5.3349,  34.3102,2,   -999.0,9,-999.0000,9,   -999.0,9,  -999.00,9,  -999.00,9,  -999.00,9,  -999.00,9,  -999.00,9, -999.000,9, -999.000,9,  -999.00,9,   -999.0,9,   -999.0,9,-999.0000,9,   -999.0,  9,  -999.00,9,   -999.0,  -999.00,9,  -999.00,9,  -999.00,9,  -999.00,9,   -999.0,-999.0000, -999,9,  798,   5.2672,  27.0972,   -999.0,9
       KS03-06,  NONE,KS-0823,  1,      6,02-16012,2,20030813,1721, 20.0082, 149.3188, 4119,    905.0,   4.7929,  34.4014,2,   -999.0,9,  34.4002,2,     57.0,2,  -999.00,9,  -999.00,9,    39.62,2,     0.00,2,     2.86,2, -999.000,9, -999.000,9,  -999.00,9,   -999.0,9,   -999.0,9,-999.0000,9,   -999.0,  9,  -999.00,9,   -999.0,  -999.00,9,  -999.00,9,  -999.00,9,  -999.00,9,   -999.0,-999.0000, -999,9,  898,   4.7197,  27.2325,   -999.0,9
       KS03-06,  NONE,KS-0823,  1,      5,02-16011,2,20030813,1718, 20.0082, 149.3188, 4119,   1006.4,   4.2774,  34.4732,2,   -999.0,9,  34.4744,2,     68.0,2,  -999.00,9,  -999.00,9,    39.32,2,     0.00,2,     2.83,2, -999.000,9, -999.000,9,  -999.00,9,   -999.0,9,   -999.0,9,-999.0000,9,   -999.0,  9,  -999.00,9,   -999.0,  -999.00,9,  -999.00,9,  -999.00,9,  -999.00,9,   -999.0,-999.0000, -999,9,  998,   4.1991,  27.3463,   -999.0,9
       KS03-06,  NONE,KS-0823,  1,      4,02-16010,2,20030813,1712, 20.0082, 149.3188, 4119,   1259.5,   3.3915,  34.5385,2,   -999.0,9,  34.5384,2,     83.0,2,  -999.00,9,  -999.00,9,    39.61,2,     0.00,2,     2.82,2, -999.000,9, -999.000,9,  -999.00,9,   -999.0,9,   -999.0,9,-999.0000,9,   -999.0,  9,  -999.00,9,   -999.0,  -999.00,9,  -999.00,9,  -999.00,9,  -999.00,9,   -999.0,-999.0000, -999,9, 1248,   3.2996,  27.4887,   -999.0,9
       KS03-06,  NONE,KS-0823,  1,      3,02-16009,4,20030813,1705, 20.0082, 149.3188, 4119,   1512.7,   2.7173,  34.5774,2,   -999.0,9,-999.0000,9,   -999.0,9,  -999.00,9,  -999.00,9,  -999.00,9,  -999.00,9,  -999.00,9, -999.000,9, -999.000,9,  -999.00,9,   -999.0,9,   -999.0,9,-999.0000,9,   -999.0,  9,  -999.00,9,   -999.0,  -999.00,9,  -999.00,9,  -999.00,9,  -999.00,9,   -999.0,-999.0000, -999,9, 1498,   2.6117,  27.5824,   -999.0,9
       KS03-06,  NONE,KS-0823,  1,      2,02-16008,2,20030813,1659, 20.0082, 149.3188, 4119,   1764.6,   2.3720,  34.5960,2,   -999.0,9,  34.5956,2,     99.0,2,  -999.00,9,  -999.00,9,    39.02,2,     0.00,2,     2.81,2, -999.000,9, -999.000,9,  -999.00,9,   -999.0,9,   -999.0,9,-999.0000,9,   -999.0,  9,  -999.00,9,   -999.0,  -999.00,9,  -999.00,9,  -999.00,9,  -999.00,9,   -999.0,-999.0000, -999,9, 1746,   2.2500,  27.6278,   -999.0,9
       KS03-06,  NONE,KS-0823,  1,      1,02-16007,2,20030813,1653, 20.0082, 149.3188, 4119,   2019.3,   2.0786,  34.6157,2,   -999.0,9,  34.6146,2,    108.0,2,  -999.00,9,  -999.00,9,    38.73,2,     0.00,2,     2.76,2, -999.000,9, -999.000,9,  -999.00,9,   -999.0,9,   -999.0,9,-999.0000,9,   -999.0,  9,  -999.00,9,   -999.0,  -999.00,9,  -999.00,9,  -999.00,9,  -999.00,9,   -999.0,-999.0000, -999,9, 1997,   1.9394,  27.6686,   -999.0,9