BOTTLE,20130510GEMDJMAYT
EXPOCODE,SECT_ID,STNNBR,CASTNO,SAMPNO,BTLNBR,BTLNBR_FLAG_W,DATE,TIME,LATITUDE,LONGITUDE,DEPTH,CTDPRS,CTDTMP,CTDSAL,CTDSAL_FLAG_W,CTDOXY,CTDOXY_FLAG_W,SALNTY,SALNTY_FLAG_W,OXYGEN,OXYGEN_FLAG_W,SILCAT,SILCAT_FLAG_W,NITRAT,NITRAT_FLAG_W,NO2+NO3,NO2+NO3_FLAG_W,NITRIT,NITRIT_FLAG_W,PHSPHT,PHSPHT_FLAG_W,CFC-11,CFC-11_FLAG_W,CFC-12,CFC-12_FLAG_W,DELC13,DELC13_FLAG_W,TCARBN,TCARBN_FLAG_W,ALKALI,ALKALI_FLAG_W,PH,PH_FLAG_W,PH_TMP,PH_SCALE,PH_NBS,PH_NBS_FLAG_W,C13ERR,TOTALP,TOTALP_FLAG_W,AMMONI,AMMONI_FLAG_W,CHLORA,CHLORA_FLAG_W,PPHYTN,PPHYTN_FLAG_W,REVPRS,REVTMP,DEPTH_,DEPTH_FLAG,CTDDEP,THETA,SIGTHT,DOC,DOC_FLAG_W
,,,,,,,GMT,GMT,,,METER,DBAR,ITS-90,PSS-78,,UMOL/KG,,PSS-78,,UMOL/KG,,UMOL/KG,,UMOL/KG,,UMOL/KG,,UMOL/KG,,UMOL/KG,,PMOL/KG,,PMOL/KG,,/MILLE,,UMOL/KG,,UMOL/KG,,25_DEG_C,,DEG_C,,,,/MILLE,UMOL/KG,,UMOL/KG,,UG/L,,UG/L,,DBAR,ITS-90,METERS,,METERS,DEG_C,,UMOL/L,
       KS03-06,  165E,KS-0781,  1,     24,02-16030,2,20030720,2208, -0.0417, 164.9768, 4368,      4.6,  30.0240,  34.5093,2,   -999.0,9,  34.5101,2,    197.0,2,  -999.00,9,  -999.00,9,     0.00,2,     0.00,2,     0.14,2, -999.000,9, -999.000,9,  -999.00,9,   1906.0,2,   -999.0,9,-999.0000,9,   -999.0,  9,     8.27,2,   -999.0,  -999.00,9,  -999.00,9,     0.06,2,     0.07,2,   -999.0,-999.0000, -999,9,    5,  30.0229,  21.3506,   -999.0,9
       KS03-06,  165E,KS-0781,  1,     23,02-16029,2,20030720,2207, -0.0417, 164.9768, 4368,      9.7,  30.0193,  34.5159,2,   -999.0,9,-999.0000,9,    200.0,2,  -999.00,9,  -999.00,9,     0.00,2,     0.00,2,     0.13,2, -999.000,9, -999.000,9,  -999.00,9,   1909.0,2,   -999.0,9,-999.0000,9,   -999.0,  9,     8.27,2,   -999.0,  -999.00,9,  -999.00,9,     0.06,2,     0.08,2,   -999.0,-999.0000, -999,9,   10,  30.0169,  21.3576,   -999.0,9
       KS03-06,  165E,KS-0781,  1,     22,02-16028,2,20030720,2206, -0.0417, 164.9768, 4368,     24.4,  30.0075,  34.5173,2,   -999.0,9,-999.0000,9,    199.0,2,  -999.00,9,  -999.00,9,     0.00,2,     0.00,2,     0.13,2, -999.000,9, -999.000,9,  -999.00,9,   1907.1,2,   -999.0,9,-999.0000,9,   -999.0,  9,     8.27,2,   -999.0,  -999.00,9,  -999.00,9,     0.06,2,     0.10,2,   -999.0,-999.0000, -999,9,   24,  30.0014,  21.3638,   -999.0,9
       KS03-06,  165E,KS-0781,  1,     21,02-16027,2,20030720,2203, -0.0417, 164.9768, 4368,     48.8,  30.0221,  34.5442,2,   -999.0,9,-999.0000,9,    199.0,2,  -999.00,9,  -999.00,9,     0.00,2,     0.00,2,     0.15,2, -999.000,9, -999.000,9,  -999.00,9,   1919.5,2,   -999.0,9,-999.0000,9,   -999.0,  9,     8.27,2,   -999.0,  -999.00,9,  -999.00,9,     0.10,2,     0.15,2,   -999.0,-999.0000, -999,9,   49,  30.0100,  21.3811,   -999.0,9
       KS03-06,  165E,KS-0781,  1,     20,02-16026,2,20030720,2202, -0.0417, 164.9768, 4368,     75.5,  29.8755,  35.0821,2,   -999.0,9,-999.0000,9,    199.0,2,  -999.00,9,  -999.00,9,     0.20,2,     0.04,2,     0.26,2, -999.000,9, -999.000,9,  -999.00,9,   1961.6,2,   -999.0,9,-999.0000,9,   -999.0,  9,     8.24,2,   -999.0,  -999.00,9,  -999.00,9,     0.35,2,     0.40,2,   -999.0,-999.0000, -999,9,   75,  29.8568,  21.8366,   -999.0,9
       KS03-06,  165E,KS-0781,  1,     19,02-16025,4,20030720,2201, -0.0417, 164.9768, 4368,    100.4,  25.9772,  35.3143,2,   -999.0,9,-999.0000,9,   -999.0,9,  -999.00,9,  -999.00,9,  -999.00,9,  -999.00,9,  -999.00,9, -999.000,9, -999.000,9,  -999.00,9,   -999.0,9,   -999.0,9,-999.0000,9,   -999.0,  9,  -999.00,9,   -999.0,  -999.00,9,  -999.00,9,  -999.00,9,  -999.00,9,   -999.0,-999.0000, -999,9,  100,  25.9548,  23.2846,   -999.0,9
       KS03-06,  165E,KS-0781,  1,     18,02-16024,2,20030720,2200, -0.0417, 164.9768, 4368,    126.3,  24.5125,  35.1731,2,   -999.0,9,-999.0000,9,    140.0,2,  -999.00,9,  -999.00,9,     8.30,2,     0.04,2,     0.65,2, -999.000,9, -999.000,9,  -999.00,9,   2046.6,2,   -999.0,9,-999.0000,9,   -999.0,  9,     8.08,2,   -999.0,  -999.00,9,  -999.00,9,     0.08,2,     0.21,2,   -999.0,-999.0000, -999,9,  126,  24.4855,  23.6276,   -999.0,9
       KS03-06,  165E,KS-0781,  1,     17,02-16023,2,20030720,2159, -0.0417, 164.9768, 4368,    151.5,  21.8706,  35.3073,2,   -999.0,9,-999.0000,9,    137.0,2,  -999.00,9,  -999.00,9,     9.76,2,     0.02,2,     0.76,2, -999.000,9, -999.000,9,  -999.00,9,   2081.1,2,   -999.0,9,-999.0000,9,   -999.0,  9,     8.04,2,   -999.0,  -999.00,9,  -999.00,9,     0.03,2,     0.06,2,   -999.0,-999.0000, -999,9,  151,  21.8407,  24.4959,   -999.0,9
       KS03-06,  165E,KS-0781,  1,     16,02-16022,2,20030720,2156, -0.0417, 164.9768, 4368,    200.4,  17.5067,  35.3135,2,   -999.0,9,  35.2893,4,    142.0,2,  -999.00,9,  -999.00,9,    12.77,2,     0.00,2,     0.98,2, -999.000,9, -999.000,9,  -999.00,9,   2119.4,2,   -999.0,9,-999.0000,9,   -999.0,  9,     7.98,2,   -999.0,  -999.00,9,  -999.00,9,     0.00,2,     0.01,2,   -999.0,-999.0000, -999,9,  199,  17.4729,  25.6412,   -999.0,9
       KS03-06,  165E,KS-0781,  1,     15,02-16021,2,20030720,2154, -0.0417, 164.9768, 4368,    250.3,  14.0093,  35.0220,2,   -999.0,9,-999.0000,9,    141.0,2,  -999.00,9,  -999.00,9,    17.64,2,     0.00,2,     1.28,2, -999.000,9, -999.000,9,  -999.00,9,   2139.0,2,   -999.0,9,-999.0000,9,   -999.0,  9,     7.90,2,   -999.0,  -999.00,9,  -999.00,9,     0.00,2,     0.01,2,   -999.0,-999.0000, -999,9,  249,  13.9730,  26.2098,   -999.0,9
       KS03-06,  165E,KS-0781,  1,     14,02-16020,2,20030720,2152, -0.0417, 164.9768, 4368,    300.2,  12.2621,  34.8775,2,   -999.0,9,  34.8751,4,    125.0,2,  -999.00,9,  -999.00,9,    22.12,2,     0.00,2,     1.56,2, -999.000,9, -999.000,9,  -999.00,9,   2165.7,2,   -999.0,9,-999.0000,9,   -999.0,  9,     7.83,2,   -999.0,  -999.00,9,  -999.00,9,     0.00,2,     0.01,2,   -999.0,-999.0000, -999,9,  298,  12.2223,  26.4512,   -999.0,9
       KS03-06,  165E,KS-0781,  1,     13,02-16019,2,20030720,2150, -0.0417, 164.9768, 4368,    403.0,   9.4471,  34.6902,2,   -999.0,9,  34.6906,2,     91.0,2,  -999.00,9,  -999.00,9,    30.48,2,     0.00,2,     2.08,2, -999.000,9, -999.000,9,  -999.00,9,   2216.3,2,   -999.0,9,-999.0000,9,   -999.0,  9,     7.70,2,   -999.0,  -999.00,9,  -999.00,9,  -999.00,9,  -999.00,9,   -999.0,-999.0000, -999,9,  400,   9.4016,  26.8103,   -999.0,9
       KS03-06,  165E,KS-0781,  1,     12,02-16018,2,20030720,2145, -0.0417, 164.9768, 4368,    502.7,   8.1797,  34.6095,2,   -999.0,9,  34.6089,2,    106.0,2,  -999.00,9,  -999.00,9,    31.36,2,     0.00,2,     2.16,2, -999.000,9, -999.000,9,  -999.00,9,   -999.0,9,   -999.0,9,-999.0000,9,   -999.0,  9,     7.70,2,   -999.0,  -999.00,9,  -999.00,9,  -999.00,9,  -999.00,9,   -999.0,-999.0000, -999,9,  499,   8.1274,  26.9480,   -999.0,9
       KS03-06,  165E,KS-0781,  1,     11,02-16017,2,20030720,2142, -0.0417, 164.9768, 4368,    601.4,   7.1703,  34.5721,2,   -999.0,9,  34.5726,2,     91.0,2,  -999.00,9,  -999.00,9,    35.25,2,     0.00,2,     2.42,2, -999.000,9, -999.000,9,  -999.00,9,   2245.2,6,   -999.0,9,-999.0000,9,   -999.0,  9,     7.65,2,   -999.0,  -999.00,9,  -999.00,9,  -999.00,9,  -999.00,9,   -999.0,-999.0000, -999,9,  597,   7.1120,  27.0661,   -999.0,9
       KS03-06,  165E,KS-0781,  1,     10,02-16016,2,20030720,2140, -0.0417, 164.9768, 4368,    702.6,   6.3327,  34.5441,2,   -999.0,9,  34.5453,2,    100.0,2,  -999.00,9,  -999.00,9,    35.44,2,     0.00,2,     2.48,2, -999.000,9, -999.000,9,  -999.00,9,   -999.0,9,   -999.0,9,-999.0000,9,   -999.0,  9,     7.65,2,   -999.0,  -999.00,9,  -999.00,9,  -999.00,9,  -999.00,9,   -999.0,-999.0000, -999,9,  698,   6.2685,  27.1579,   -999.0,9
       KS03-06,  165E,KS-0781,  1,      9,02-16015,2,20030720,2135, -0.0417, 164.9768, 4368,    803.9,   5.3796,  34.5367,2,   -999.0,9,  34.5376,2,    101.0,2,  -999.00,9,  -999.00,9,    36.99,2,     0.00,2,     2.60,2, -999.000,9, -999.000,9,  -999.00,9,   2261.4,2,   -999.0,9,-999.0000,9,   -999.0,  9,     7.63,2,   -999.0,  -999.00,9,  -999.00,9,  -999.00,9,  -999.00,9,   -999.0,-999.0000, -999,9,  798,   5.3114,  27.2714,   -999.0,9
       KS03-06,  165E,KS-0781,  1,      8,02-16014,2,20030720,2133, -0.0417, 164.9768, 4368,    904.5,   4.8987,  34.5438,2,   -999.0,9,  34.5451,2,     99.0,2,  -999.00,9,  -999.00,9,    37.77,2,     0.00,2,     2.66,2, -999.000,9, -999.000,9,  -999.00,9,   -999.0,9,   -999.0,9,-999.0000,9,   -999.0,  9,     7.62,2,   -999.0,  -999.00,9,  -999.00,9,  -999.00,9,  -999.00,9,   -999.0,-999.0000, -999,9,  898,   4.8246,  27.3337,   -999.0,9
       KS03-06,  165E,KS-0781,  1,      7,02-16013,2,20030720,2131, -0.0417, 164.9768, 4368,   1004.7,   4.5180,  34.5526,2,   -999.0,9,-999.0000,9,   -999.0,9,  -999.00,9,  -999.00,9,    38.06,2,     0.00,2,     2.70,2, -999.000,9, -999.000,9,  -999.00,9,   -999.0,9,   -999.0,9,-999.0000,9,   -999.0,  9,  -999.00,9,   -999.0,  -999.00,9,  -999.00,9,  -999.00,9,  -999.00,9,   -999.0,-999.0000, -999,9,  997,   4.4379,  27.3837,   -999.0,9
       KS03-06,  165E,KS-0781,  1,      6,02-16012,4,20030720,2130, -0.0417, 164.9768, 4368,   1005.8,   4.5147,  34.5525,2,   -999.0,9,  35.2749,4,    141.0,4,  -999.00,9,  -999.00,9,    11.49,4,     0.00,4,     0.88,4, -999.000,9, -999.000,9,  -999.00,9,   2101.9,4,   -999.0,9,-999.0000,9,   -999.0,  9,     7.99,4,   -999.0,  -999.00,9,  -999.00,9,  -999.00,9,  -999.00,9,   -999.0,-999.0000, -999,9,  998,   4.4345,  27.3840,   -999.0,9
       KS03-06,  165E,KS-0781,  1,      5,02-16011,2,20030720,2123, -0.0417, 164.9768, 4368,   1257.4,   3.5735,  34.5767,2,   -999.0,9,  34.5771,2,    108.0,2,  -999.00,9,  -999.00,9,    37.96,2,     0.00,2,     2.71,2, -999.000,9, -999.000,9,  -999.00,9,   2309.7,2,   -999.0,9,-999.0000,9,   -999.0,  9,     7.64,2,   -999.0,  -999.00,9,  -999.00,9,  -999.00,9,  -999.00,9,   -999.0,-999.0000, -999,9, 1247,   3.4799,  27.5018,   -999.0,9
       KS03-06,  165E,KS-0781,  1,      4,02-16010,2,20030720,2115, -0.0417, 164.9768, 4368,   1511.9,   2.8772,  34.6079,2,   -999.0,9,  34.6095,2,    106.0,2,  -999.00,9,  -999.00,9,    38.73,2,     0.00,2,     2.77,2, -999.000,9, -999.000,9,  -999.00,9,   2329.6,2,   -999.0,9,-999.0000,9,   -999.0,  9,     7.63,2,   -999.0,  -999.00,9,  -999.00,9,  -999.00,9,  -999.00,9,   -999.0,-999.0000, -999,9, 1498,   2.7697,  27.5929,   -999.0,9
       KS03-06,  165E,KS-0781,  1,      3,02-16009,2,20030720,2057, -0.0417, 164.9768, 4368,   2019.9,   2.1947,  34.6421,2,   -999.0,9,  34.6429,2,    121.0,2,  -999.00,9,  -999.00,9,    38.05,2,     0.00,2,     2.70,2, -999.000,9, -999.000,9,  -999.00,9,   2336.1,2,   -999.0,9,-999.0000,9,   -999.0,  9,     7.65,2,   -999.0,  -999.00,9,  -999.00,9,  -999.00,9,  -999.00,9,   -999.0,-999.0000, -999,9, 1999,   2.0536,  27.6807,   -999.0,9
       KS03-06,  165E,KS-0781,  1,      2,02-16008,2,20030720,2032, -0.0417, 164.9768, 4368,   3036.5,   1.6546,  34.6725,2,   -999.0,9,  34.6722,2,    140.0,2,  -999.00,9,  -999.00,9,    36.88,2,     0.00,2,     2.58,2, -999.000,9, -999.000,9,  -999.00,9,   -999.0,9,   -999.0,9,-999.0000,9,   -999.0,  9,     7.68,2,   -999.0,  -999.00,9,  -999.00,9,  -999.00,9,  -999.00,9,   -999.0,-999.0000, -999,9, 2998,   1.4309,  27.7524,   -999.0,9
       KS03-06,  165E,KS-0781,  1,      1,02-16007,2,20030720,1956, -0.0417, 164.9768, 4368,   4345.1,   1.3426,  34.7004,2,   -999.0,9,  34.6989,2,    180.0,2,  -999.00,9,  -999.00,9,    34.05,2,     0.00,2,     2.34,2, -999.000,9, -999.000,9,  -999.00,9,   -999.0,9,   -999.0,9,-999.0000,9,   -999.0,  9,     7.73,2,   -999.0,  -999.00,9,  -999.00,9,  -999.00,9,  -999.00,9,   -999.0,-999.0000, -999,9, 4278,   0.9900,  27.8053,   -999.0,9