BOTTLE,20130510GEMDJMAYT
EXPOCODE,SECT_ID,STNNBR,CASTNO,SAMPNO,BTLNBR,BTLNBR_FLAG_W,DATE,TIME,LATITUDE,LONGITUDE,DEPTH,CTDPRS,CTDTMP,CTDSAL,CTDSAL_FLAG_W,CTDOXY,CTDOXY_FLAG_W,SALNTY,SALNTY_FLAG_W,OXYGEN,OXYGEN_FLAG_W,SILCAT,SILCAT_FLAG_W,NITRAT,NITRAT_FLAG_W,NO2+NO3,NO2+NO3_FLAG_W,NITRIT,NITRIT_FLAG_W,PHSPHT,PHSPHT_FLAG_W,CFC-11,CFC-11_FLAG_W,CFC-12,CFC-12_FLAG_W,DELC13,DELC13_FLAG_W,TCARBN,TCARBN_FLAG_W,ALKALI,ALKALI_FLAG_W,PH,PH_FLAG_W,PH_TMP,PH_SCALE,PH_NBS,PH_NBS_FLAG_W,C13ERR,TOTALP,TOTALP_FLAG_W,AMMONI,AMMONI_FLAG_W,CHLORA,CHLORA_FLAG_W,PPHYTN,PPHYTN_FLAG_W,REVPRS,REVTMP,DEPTH_,DEPTH_FLAG,CTDDEP,THETA,SIGTHT,DOC,DOC_FLAG_W
,,,,,,,GMT,GMT,,,METER,DBAR,ITS-90,PSS-78,,UMOL/KG,,PSS-78,,UMOL/KG,,UMOL/KG,,UMOL/KG,,UMOL/KG,,UMOL/KG,,UMOL/KG,,PMOL/KG,,PMOL/KG,,/MILLE,,UMOL/KG,,UMOL/KG,,25_DEG_C,,DEG_C,,,,/MILLE,UMOL/KG,,UMOL/KG,,UG/L,,UG/L,,DBAR,ITS-90,METERS,,METERS,DEG_C,,UMOL/L,
       KS03-06,  NONE,KS-0817,  1,     24,02-16030,2,20030805,0155, 13.9965, 149.3318, 5829,      4.5,  29.9576,  34.1089,2,   -999.0,9,  34.1085,4,   -999.0,9,  -999.00,9,  -999.00,9,  -999.00,9,  -999.00,9,  -999.00,9, -999.000,9, -999.000,9,  -999.00,9,   -999.0,9,   -999.0,9,-999.0000,9,   -999.0,  9,  -999.00,9,   -999.0,  -999.00,9,  -999.00,9,  -999.00,9,  -999.00,9,   -999.0,-999.0000, -999,9,    4,  29.9565,  21.0731,   -999.0,9
       KS03-06,  NONE,KS-0817,  1,     23,02-16029,9,20030805,0155, 13.9965, 149.3318, 5829,      4.6,  29.9628,  34.1089,2,   -999.0,9,-999.0000,9,   -999.0,9,  -999.00,9,  -999.00,9,  -999.00,9,  -999.00,9,  -999.00,9, -999.000,9, -999.000,9,  -999.00,9,   -999.0,9,   -999.0,9,-999.0000,9,   -999.0,  9,  -999.00,9,   -999.0,  -999.00,9,  -999.00,9,  -999.00,9,  -999.00,9,   -999.0,-999.0000, -999,9,    5,  29.9617,  21.0713,   -999.0,9
       KS03-06,  NONE,KS-0817,  1,     22,02-16028,2,20030805,0148, 13.9965, 149.3318, 5829,    100.0,  27.9037,  34.5848,2,   -999.0,9,  34.5873,2,   -999.0,9,  -999.00,9,  -999.00,9,  -999.00,9,  -999.00,9,  -999.00,9, -999.000,9, -999.000,9,  -999.00,9,   -999.0,9,   -999.0,9,-999.0000,9,   -999.0,  9,  -999.00,9,   -999.0,  -999.00,9,  -999.00,9,  -999.00,9,  -999.00,9,   -999.0,-999.0000, -999,9,   99,  27.8802,  22.1214,   -999.0,9
       KS03-06,  NONE,KS-0817,  1,     21,02-16027,2,20030805,0146, 13.9965, 149.3318, 5829,    200.9,  20.5227,  34.9256,2,   -999.0,9,  34.9329,4,   -999.0,9,  -999.00,9,  -999.00,9,  -999.00,9,  -999.00,9,  -999.00,9, -999.000,9, -999.000,9,  -999.00,9,   -999.0,9,   -999.0,9,-999.0000,9,   -999.0,  9,  -999.00,9,   -999.0,  -999.00,9,  -999.00,9,  -999.00,9,  -999.00,9,   -999.0,-999.0000, -999,9,  200,  20.4849,  24.5762,   -999.0,9
       KS03-06,  NONE,KS-0817,  1,     20,02-16026,2,20030805,0142, 13.9965, 149.3318, 5829,    300.9,  11.9101,  34.3423,2,   -999.0,9,  34.3450,2,   -999.0,9,  -999.00,9,  -999.00,9,  -999.00,9,  -999.00,9,  -999.00,9, -999.000,9, -999.000,9,  -999.00,9,   -999.0,9,   -999.0,9,-999.0000,9,   -999.0,  9,  -999.00,9,   -999.0,  -999.00,9,  -999.00,9,  -999.00,9,  -999.00,9,   -999.0,-999.0000, -999,9,  299,  11.8711,  26.1026,   -999.0,9
       KS03-06,  NONE,KS-0817,  1,     19,02-16025,2,20030805,0139, 13.9965, 149.3318, 5829,    402.1,   9.3704,  34.4219,2,   -999.0,9,  34.4212,2,   -999.0,9,  -999.00,9,  -999.00,9,  -999.00,9,  -999.00,9,  -999.00,9, -999.000,9, -999.000,9,  -999.00,9,   -999.0,9,   -999.0,9,-999.0000,9,   -999.0,  9,  -999.00,9,   -999.0,  -999.00,9,  -999.00,9,  -999.00,9,  -999.00,9,   -999.0,-999.0000, -999,9,  399,   9.3254,  26.6129,   -999.0,9
       KS03-06,  NONE,KS-0817,  1,     18,02-16024,9,20030805,0136, 13.9965, 149.3318, 5829,    501.8,   7.6388,  34.4127,2,   -999.0,9,-999.0000,9,   -999.0,9,  -999.00,9,  -999.00,9,  -999.00,9,  -999.00,9,  -999.00,9, -999.000,9, -999.000,9,  -999.00,9,   -999.0,9,   -999.0,9,-999.0000,9,   -999.0,  9,  -999.00,9,   -999.0,  -999.00,9,  -999.00,9,  -999.00,9,  -999.00,9,   -999.0,-999.0000, -999,9,  498,   7.5888,  26.8729,   -999.0,9
       KS03-06,  NONE,KS-0817,  1,     17,02-16023,2,20030805,0136, 13.9965, 149.3318, 5829,    501.7,   7.6371,  34.4128,2,   -999.0,9,  34.4108,2,   -999.0,9,  -999.00,9,  -999.00,9,  -999.00,9,  -999.00,9,  -999.00,9, -999.000,9, -999.000,9,  -999.00,9,   -999.0,9,   -999.0,9,-999.0000,9,   -999.0,  9,  -999.00,9,   -999.0,  -999.00,9,  -999.00,9,  -999.00,9,  -999.00,9,   -999.0,-999.0000, -999,9,  498,   7.5871,  26.8732,   -999.0,9
       KS03-06,  NONE,KS-0817,  1,     16,02-16022,2,20030805,0132, 13.9965, 149.3318, 5829,    602.9,   6.4857,  34.4410,2,   -999.0,9,  34.4328,4,   -999.0,9,  -999.00,9,  -999.00,9,  -999.00,9,  -999.00,9,  -999.00,9, -999.000,9, -999.000,9,  -999.00,9,   -999.0,9,   -999.0,9,-999.0000,9,   -999.0,  9,  -999.00,9,   -999.0,  -999.00,9,  -999.00,9,  -999.00,9,  -999.00,9,   -999.0,-999.0000, -999,9,  599,   6.4304,  27.0553,   -999.0,9
       KS03-06,  NONE,KS-0817,  1,     15,02-16021,2,20030805,0130, 13.9965, 149.3318, 5829,    704.3,   5.9118,  34.4799,2,   -999.0,9,  34.4787,2,   -999.0,9,  -999.00,9,  -999.00,9,  -999.00,9,  -999.00,9,  -999.00,9, -999.000,9, -999.000,9,  -999.00,9,   -999.0,9,   -999.0,9,-999.0000,9,   -999.0,  9,  -999.00,9,   -999.0,  -999.00,9,  -999.00,9,  -999.00,9,  -999.00,9,   -999.0,-999.0000, -999,9,  699,   5.8498,  27.1607,   -999.0,9
       KS03-06,  NONE,KS-0817,  1,     14,02-16020,2,20030805,0126, 13.9965, 149.3318, 5829,    805.6,   5.2617,  34.4988,2,   -999.0,9,  34.4962,2,   -999.0,9,  -999.00,9,  -999.00,9,  -999.00,9,  -999.00,9,  -999.00,9, -999.000,9, -999.000,9,  -999.00,9,   -999.0,9,   -999.0,9,-999.0000,9,   -999.0,  9,  -999.00,9,   -999.0,  -999.00,9,  -999.00,9,  -999.00,9,  -999.00,9,   -999.0,-999.0000, -999,9,  799,   5.1941,  27.2553,   -999.0,9
       KS03-06,  NONE,KS-0817,  1,     13,02-16019,2,20030805,0123, 13.9965, 149.3318, 5829,    905.4,   4.7804,  34.5190,2,   -999.0,9,  34.5178,2,   -999.0,9,  -999.00,9,  -999.00,9,  -999.00,9,  -999.00,9,  -999.00,9, -999.000,9, -999.000,9,  -999.00,9,   -999.0,9,   -999.0,9,-999.0000,9,   -999.0,  9,  -999.00,9,   -999.0,  -999.00,9,  -999.00,9,  -999.00,9,  -999.00,9,   -999.0,-999.0000, -999,9,  898,   4.7071,  27.3273,   -999.0,9
       KS03-06,  NONE,KS-0817,  1,     12,02-16018,2,20030805,0121, 13.9965, 149.3318, 5829,   1005.5,   4.3895,  34.5328,2,   -999.0,9,  34.5313,2,   -999.0,9,  -999.00,9,  -999.00,9,  -999.00,9,  -999.00,9,  -999.00,9, -999.000,9, -999.000,9,  -999.00,9,   -999.0,9,   -999.0,9,-999.0000,9,   -999.0,  9,  -999.00,9,   -999.0,  -999.00,9,  -999.00,9,  -999.00,9,  -999.00,9,   -999.0,-999.0000, -999,9,  997,   4.3103,  27.3817,   -999.0,9
       KS03-06,  NONE,KS-0817,  1,     11,02-16017,2,20030805,0114, 13.9965, 149.3318, 5829,   1259.7,   3.4967,  34.5617,2,   -999.0,9,  34.5602,2,   -999.0,9,  -999.00,9,  -999.00,9,  -999.00,9,  -999.00,9,  -999.00,9, -999.000,9, -999.000,9,  -999.00,9,   -999.0,9,   -999.0,9,-999.0000,9,   -999.0,  9,  -999.00,9,   -999.0,  -999.00,9,  -999.00,9,  -999.00,9,  -999.00,9,   -999.0,-999.0000, -999,9, 1249,   3.4037,  27.4973,   -999.0,9
       KS03-06,  NONE,KS-0817,  1,     10,02-16016,2,20030805,0107, 13.9965, 149.3318, 5829,   1513.1,   2.9683,  34.5841,2,   -999.0,9,  34.5828,2,   -999.0,9,  -999.00,9,  -999.00,9,  -999.00,9,  -999.00,9,  -999.00,9, -999.000,9, -999.000,9,  -999.00,9,   -999.0,9,   -999.0,9,-999.0000,9,   -999.0,  9,  -999.00,9,   -999.0,  -999.00,9,  -999.00,9,  -999.00,9,  -999.00,9,   -999.0,-999.0000, -999,9, 1499,   2.8597,  27.5658,   -999.0,9
       KS03-06,  NONE,KS-0817,  1,      9,02-16015,4,20030805,0101, 13.9965, 149.3318, 5829,   1766.5,   2.5448,  34.6053,2,   -999.0,9,-999.0000,9,   -999.0,9,  -999.00,9,  -999.00,9,  -999.00,9,  -999.00,9,  -999.00,9, -999.000,9, -999.000,9,  -999.00,9,   -999.0,9,   -999.0,9,-999.0000,9,   -999.0,  9,  -999.00,9,   -999.0,  -999.00,9,  -999.00,9,  -999.00,9,  -999.00,9,   -999.0,-999.0000, -999,9, 1749,   2.4202,  27.6211,   -999.0,9
       KS03-06,  NONE,KS-0817,  1,      8,02-16014,9,20030805,0054, 13.9965, 149.3318, 5829,   2019.7,   2.2072,  34.6264,2,   -999.0,9,-999.0000,9,   -999.0,9,  -999.00,9,  -999.00,9,  -999.00,9,  -999.00,9,  -999.00,9, -999.000,9, -999.000,9,  -999.00,9,   -999.0,9,   -999.0,9,-999.0000,9,   -999.0,  9,  -999.00,9,   -999.0,  -999.00,9,  -999.00,9,  -999.00,9,  -999.00,9,   -999.0,-999.0000, -999,9, 1998,   2.0659,  27.6671,   -999.0,9
       KS03-06,  NONE,KS-0817,  1,      7,02-16013,9,20030805,0054, 13.9965, 149.3318, 5829,   2019.3,   2.2072,  34.6264,2,   -999.0,9,-999.0000,9,   -999.0,9,  -999.00,9,  -999.00,9,  -999.00,9,  -999.00,9,  -999.00,9, -999.000,9, -999.000,9,  -999.00,9,   -999.0,9,   -999.0,9,-999.0000,9,   -999.0,  9,  -999.00,9,   -999.0,  -999.00,9,  -999.00,9,  -999.00,9,  -999.00,9,   -999.0,-999.0000, -999,9, 1998,   2.0660,  27.6671,   -999.0,9
       KS03-06,  NONE,KS-0817,  1,      6,02-16012,9,20030805,0054, 13.9965, 149.3318, 5829,   2019.6,   2.2074,  34.6264,2,   -999.0,9,-999.0000,9,   -999.0,9,  -999.00,9,  -999.00,9,  -999.00,9,  -999.00,9,  -999.00,9, -999.000,9, -999.000,9,  -999.00,9,   -999.0,9,   -999.0,9,-999.0000,9,   -999.0,  9,  -999.00,9,   -999.0,  -999.00,9,  -999.00,9,  -999.00,9,  -999.00,9,   -999.0,-999.0000, -999,9, 1998,   2.0662,  27.6671,   -999.0,9
       KS03-06,  NONE,KS-0817,  1,      5,02-16011,9,20030805,0054, 13.9965, 149.3318, 5829,   2019.3,   2.2076,  34.6264,2,   -999.0,9,-999.0000,9,   -999.0,9,  -999.00,9,  -999.00,9,  -999.00,9,  -999.00,9,  -999.00,9, -999.000,9, -999.000,9,  -999.00,9,   -999.0,9,   -999.0,9,-999.0000,9,   -999.0,  9,  -999.00,9,   -999.0,  -999.00,9,  -999.00,9,  -999.00,9,  -999.00,9,   -999.0,-999.0000, -999,9, 1998,   2.0664,  27.6670,   -999.0,9
       KS03-06,  NONE,KS-0817,  1,      4,02-16010,2,20030805,0053, 13.9965, 149.3318, 5829,   2020.4,   2.2077,  34.6265,2,   -999.0,9,  34.6244,2,   -999.0,9,  -999.00,9,  -999.00,9,  -999.00,9,  -999.00,9,  -999.00,9, -999.000,9, -999.000,9,  -999.00,9,   -999.0,9,   -999.0,9,-999.0000,9,   -999.0,  9,  -999.00,9,   -999.0,  -999.00,9,  -999.00,9,  -999.00,9,  -999.00,9,   -999.0,-999.0000, -999,9, 1999,   2.0664,  27.6671,   -999.0,9
       KS03-06,  NONE,KS-0817,  1,      3,02-16009,9,20030805,0053, 13.9965, 149.3318, 5829,   2020.4,   2.2075,  34.6264,2,   -999.0,9,-999.0000,9,   -999.0,9,  -999.00,9,  -999.00,9,  -999.00,9,  -999.00,9,  -999.00,9, -999.000,9, -999.000,9,  -999.00,9,   -999.0,9,   -999.0,9,-999.0000,9,   -999.0,  9,  -999.00,9,   -999.0,  -999.00,9,  -999.00,9,  -999.00,9,  -999.00,9,   -999.0,-999.0000, -999,9, 1999,   2.0662,  27.6671,   -999.0,9
       KS03-06,  NONE,KS-0817,  1,      2,02-16008,9,20030805,0053, 13.9965, 149.3318, 5829,   2020.3,   2.2076,  34.6264,2,   -999.0,9,-999.0000,9,   -999.0,9,  -999.00,9,  -999.00,9,  -999.00,9,  -999.00,9,  -999.00,9, -999.000,9, -999.000,9,  -999.00,9,   -999.0,9,   -999.0,9,-999.0000,9,   -999.0,  9,  -999.00,9,   -999.0,  -999.00,9,  -999.00,9,  -999.00,9,  -999.00,9,   -999.0,-999.0000, -999,9, 1999,   2.0663,  27.6671,   -999.0,9
       KS03-06,  NONE,KS-0817,  1,      1,02-16007,9,20030805,0053, 13.9965, 149.3318, 5829,   2020.3,   2.2072,  34.6264,2,   -999.0,9,-999.0000,9,   -999.0,9,  -999.00,9,  -999.00,9,  -999.00,9,  -999.00,9,  -999.00,9, -999.000,9, -999.000,9,  -999.00,9,   -999.0,9,   -999.0,9,-999.0000,9,   -999.0,  9,  -999.00,9,   -999.0,  -999.00,9,  -999.00,9,  -999.00,9,  -999.00,9,   -999.0,-999.0000, -999,9, 1999,   2.0659,  27.6671,   -999.0,9