BOTTLE,20130510GEMDJMAYT
EXPOCODE,SECT_ID,STNNBR,CASTNO,SAMPNO,BTLNBR,BTLNBR_FLAG_W,DATE,TIME,LATITUDE,LONGITUDE,DEPTH,CTDPRS,CTDTMP,CTDSAL,CTDSAL_FLAG_W,CTDOXY,CTDOXY_FLAG_W,SALNTY,SALNTY_FLAG_W,OXYGEN,OXYGEN_FLAG_W,SILCAT,SILCAT_FLAG_W,NITRAT,NITRAT_FLAG_W,NO2+NO3,NO2+NO3_FLAG_W,NITRIT,NITRIT_FLAG_W,PHSPHT,PHSPHT_FLAG_W,CFC-11,CFC-11_FLAG_W,CFC-12,CFC-12_FLAG_W,DELC13,DELC13_FLAG_W,TCARBN,TCARBN_FLAG_W,ALKALI,ALKALI_FLAG_W,PH,PH_FLAG_W,PH_TMP,PH_SCALE,PH_NBS,PH_NBS_FLAG_W,C13ERR,TOTALP,TOTALP_FLAG_W,AMMONI,AMMONI_FLAG_W,CHLORA,CHLORA_FLAG_W,PPHYTN,PPHYTN_FLAG_W,REVPRS,REVTMP,DEPTH_,DEPTH_FLAG,CTDDEP,THETA,SIGTHT,DOC,DOC_FLAG_W
,,,,,,,GMT,GMT,,,METER,DBAR,ITS-90,PSS-78,,UMOL/KG,,PSS-78,,UMOL/KG,,UMOL/KG,,UMOL/KG,,UMOL/KG,,UMOL/KG,,UMOL/KG,,PMOL/KG,,PMOL/KG,,/MILLE,,UMOL/KG,,UMOL/KG,,25_DEG_C,,DEG_C,,,,/MILLE,UMOL/KG,,UMOL/KG,,UG/L,,UG/L,,DBAR,ITS-90,METERS,,METERS,DEG_C,,UMOL/L,
       KS03-06, EQPAC,KS-0800,  1,     24,02-16030,2,20030730,1813, -0.0022, 151.0382, 4921,      4.6,  29.3967,  33.5525,2,   -999.0,9,  33.6903,4,    198.0,2,  -999.00,9,  -999.00,9,     0.00,2,     0.00,2,     0.06,2, -999.000,9, -999.000,9,  -999.00,9,   1873.1,2,   -999.0,9,-999.0000,9,   -999.0,  9,     8.26,2,   -999.0,  -999.00,9,  -999.00,9,     0.07,2,     0.04,2,   -999.0,-999.0000, -999,9,    5,  29.3956,  20.8456,   -999.0,9
       KS03-06, EQPAC,KS-0800,  1,     23,02-16029,2,20030730,1812, -0.0022, 151.0382, 4921,      9.6,  29.6550,  33.8230,2,   -999.0,9,-999.0000,9,    197.0,2,  -999.00,9,  -999.00,9,     0.00,2,     0.00,2,     0.06,2, -999.000,9, -999.000,9,  -999.00,9,   -999.0,9,   -999.0,9,-999.0000,9,   -999.0,  9,  -999.00,9,   -999.0,  -999.00,9,  -999.00,9,     0.08,2,     0.03,2,   -999.0,-999.0000, -999,9,   10,  29.6526,  20.9618,   -999.0,9
       KS03-06, EQPAC,KS-0800,  1,     22,02-16028,2,20030730,1808, -0.0022, 151.0382, 4921,     48.8,  29.8872,  34.5939,2,   -999.0,9,-999.0000,9,    198.0,2,  -999.00,9,  -999.00,9,     0.00,2,     0.00,2,     0.15,2, -999.000,9, -999.000,9,  -999.00,9,   -999.0,9,   -999.0,9,-999.0000,9,   -999.0,  9,  -999.00,9,   -999.0,  -999.00,9,  -999.00,9,     0.11,2,     0.07,2,   -999.0,-999.0000, -999,9,   49,  29.8751,  21.4643,   -999.0,9
       KS03-06, EQPAC,KS-0800,  1,     21,02-16027,2,20030730,1806, -0.0022, 151.0382, 4921,     75.2,  29.4450,  35.2271,2,   -999.0,9,-999.0000,9,    190.0,2,  -999.00,9,  -999.00,9,     0.88,2,     0.19,2,     0.30,2, -999.000,9, -999.000,9,  -999.00,9,   -999.0,9,   -999.0,9,-999.0000,9,   -999.0,  9,  -999.00,9,   -999.0,  -999.00,9,  -999.00,9,     0.29,2,     0.28,2,   -999.0,-999.0000, -999,9,   75,  29.4266,  22.0912,   -999.0,9
       KS03-06, EQPAC,KS-0800,  1,     20,02-16026,2,20030730,1805, -0.0022, 151.0382, 4921,    100.8,  28.4018,  35.4085,2,   -999.0,9,  35.4480,4,    167.0,2,  -999.00,9,  -999.00,9,     5.18,2,     0.74,2,     0.55,2, -999.000,9, -999.000,9,  -999.00,9,   -999.0,9,   -999.0,9,-999.0000,9,   -999.0,  9,  -999.00,9,   -999.0,  -999.00,9,  -999.00,9,     0.24,2,     0.37,2,   -999.0,-999.0000, -999,9,  100,  28.3778,  22.5777,   -999.0,9
       KS03-06, EQPAC,KS-0800,  1,     19,02-16025,4,20030730,1804, -0.0022, 151.0382, 4921,    150.0,  23.6166,  35.8426,2,   -999.0,9,-999.0000,9,   -999.0,9,  -999.00,9,  -999.00,9,  -999.00,9,  -999.00,9,  -999.00,9, -999.000,9, -999.000,9,  -999.00,9,   -999.0,9,   -999.0,9,-999.0000,9,   -999.0,  9,  -999.00,9,   -999.0,  -999.00,9,  -999.00,9,  -999.00,9,  -999.00,9,   -999.0,-999.0000, -999,9,  149,  23.5853,  24.4021,   -999.0,9
       KS03-06, EQPAC,KS-0800,  1,     18,02-16024,2,20030730,1802, -0.0022, 151.0382, 4921,    201.0,  17.2773,  35.3727,2,   -999.0,9,  35.3689,4,    132.0,2,  -999.00,9,  -999.00,9,    14.04,2,     0.00,2,     1.07,2, -999.000,9, -999.000,9,  -999.00,9,   -999.0,9,   -999.0,9,-999.0000,9,   -999.0,  9,  -999.00,9,   -999.0,  -999.00,9,  -999.00,9,     0.00,2,     0.02,2,   -999.0,-999.0000, -999,9,  200,  17.2437,  25.7420,   -999.0,9
       KS03-06, EQPAC,KS-0800,  1,     17,02-16023,4,20030730,1759, -0.0022, 151.0382, 4921,    301.8,  11.3379,  34.8418,2,   -999.0,9,-999.0000,9,   -999.0,9,  -999.00,9,  -999.00,9,  -999.00,9,  -999.00,9,  -999.00,9, -999.000,9, -999.000,9,  -999.00,9,   -999.0,9,   -999.0,9,-999.0000,9,   -999.0,  9,  -999.00,9,   -999.0,  -999.00,9,  -999.00,9,  -999.00,9,  -999.00,9,   -999.0,-999.0000, -999,9,  300,  11.2998,  26.5976,   -999.0,9
       KS03-06, EQPAC,KS-0800,  1,     16,02-16022,2,20030730,1757, -0.0022, 151.0382, 4921,    401.3,   9.4102,  34.6790,2,   -999.0,9,  34.6793,2,    103.0,2,  -999.00,9,  -999.00,9,    29.22,2,     0.00,2,     2.01,2, -999.000,9, -999.000,9,  -999.00,9,   -999.0,9,   -999.0,9,-999.0000,9,   -999.0,  9,  -999.00,9,   -999.0,  -999.00,9,  -999.00,9,  -999.00,9,  -999.00,9,   -999.0,-999.0000, -999,9,  399,   9.3651,  26.8076,   -999.0,9
       KS03-06, EQPAC,KS-0800,  1,     15,02-16021,4,20030730,1754, -0.0022, 151.0382, 4921,    501.8,   8.1959,  34.6122,2,   -999.0,9,-999.0000,9,   -999.0,9,  -999.00,9,  -999.00,9,  -999.00,9,  -999.00,9,  -999.00,9, -999.000,9, -999.000,9,  -999.00,9,   -999.0,9,   -999.0,9,-999.0000,9,   -999.0,  9,  -999.00,9,   -999.0,  -999.00,9,  -999.00,9,  -999.00,9,  -999.00,9,   -999.0,-999.0000, -999,9,  498,   8.1437,  26.9477,   -999.0,9
       KS03-06, EQPAC,KS-0800,  1,     14,02-16020,2,20030730,1751, -0.0022, 151.0382, 4921,    602.7,   6.9619,  34.5590,2,   -999.0,9,  34.5594,2,    109.0,2,  -999.00,9,  -999.00,9,    33.49,2,     0.00,2,     2.31,2, -999.000,9, -999.000,9,  -999.00,9,   -999.0,9,   -999.0,9,-999.0000,9,   -999.0,  9,  -999.00,9,   -999.0,  -999.00,9,  -999.00,9,  -999.00,9,  -999.00,9,   -999.0,-999.0000, -999,9,  599,   6.9044,  27.0846,   -999.0,9
       KS03-06, EQPAC,KS-0800,  1,     13,02-16019,2,20030730,1749, -0.0022, 151.0382, 4921,    703.4,   5.8992,  34.5349,2,   -999.0,9,  34.5339,2,    108.0,2,  -999.00,9,  -999.00,9,    35.53,2,     0.00,2,     2.47,2, -999.000,9, -999.000,9,  -999.00,9,   -999.0,9,   -999.0,9,-999.0000,9,   -999.0,  9,  -999.00,9,   -999.0,  -999.00,9,  -999.00,9,  -999.00,9,  -999.00,9,   -999.0,-999.0000, -999,9,  698,   5.8372,  27.2057,   -999.0,9
       KS03-06, EQPAC,KS-0800,  1,     12,02-16018,2,20030730,1746, -0.0022, 151.0382, 4921,    804.4,   5.1664,  34.5337,2,   -999.0,9,  34.5331,2,    110.0,2,  -999.00,9,  -999.00,9,    36.21,2,     0.00,2,     2.54,2, -999.000,9, -999.000,9,  -999.00,9,   -999.0,9,   -999.0,9,-999.0000,9,   -999.0,  9,  -999.00,9,   -999.0,  -999.00,9,  -999.00,9,  -999.00,9,  -999.00,9,   -999.0,-999.0000, -999,9,  798,   5.0995,  27.2940,   -999.0,9
       KS03-06, EQPAC,KS-0800,  1,     11,02-16017,2,20030730,1742, -0.0022, 151.0382, 4921,   1006.4,   4.4527,  34.5532,2,   -999.0,9,  34.5527,2,    100.0,2,  -999.00,9,  -999.00,9,    37.57,2,     0.00,2,     2.67,2, -999.000,9, -999.000,9,  -999.00,9,   -999.0,9,   -999.0,9,-999.0000,9,   -999.0,  9,  -999.00,9,   -999.0,  -999.00,9,  -999.00,9,  -999.00,9,  -999.00,9,   -999.0,-999.0000, -999,9,  998,   4.3729,  27.3912,   -999.0,9
       KS03-06, EQPAC,KS-0800,  1,     10,02-16016,2,20030730,1730, -0.0022, 151.0382, 4921,   1511.8,   2.9491,  34.6043,2,   -999.0,9,  34.6036,2,    106.0,2,  -999.00,9,  -999.00,9,    38.44,2,     0.00,2,     2.75,2, -999.000,9, -999.000,9,  -999.00,9,   -999.0,9,   -999.0,9,-999.0000,9,   -999.0,  9,  -999.00,9,   -999.0,  -999.00,9,  -999.00,9,  -999.00,9,  -999.00,9,   -999.0,-999.0000, -999,9, 1498,   2.8408,  27.5836,   -999.0,9
       KS03-06, EQPAC,KS-0800,  1,      9,02-16015,4,20030730,1719, -0.0022, 151.0382, 4921,   2018.6,   2.1716,  34.6407,2,   -999.0,9,  34.5355,4,    110.0,4,  -999.00,9,  -999.00,9,    35.42,4,     0.00,4,     2.41,4, -999.000,9, -999.000,9,  -999.00,9,   -999.0,9,   -999.0,9,-999.0000,9,   -999.0,  9,  -999.00,9,   -999.0,  -999.00,9,  -999.00,9,  -999.00,9,  -999.00,9,   -999.0,-999.0000, -999,9, 1998,   2.0309,  27.6814,   -999.0,9
       KS03-06, EQPAC,KS-0800,  1,      8,02-16014,4,20030730,1713, -0.0022, 151.0382, 4921,   2272.7,   1.9074,  34.6539,2,   -999.0,9,-999.0000,9,   -999.0,9,  -999.00,9,  -999.00,9,  -999.00,9,  -999.00,9,  -999.00,9, -999.000,9, -999.000,9,  -999.00,9,   -999.0,9,   -999.0,9,-999.0000,9,   -999.0,  9,  -999.00,9,   -999.0,  -999.00,9,  -999.00,9,  -999.00,9,  -999.00,9,   -999.0,-999.0000, -999,9, 2248,   1.7490,  27.7139,   -999.0,9
       KS03-06, EQPAC,KS-0800,  1,      7,02-16013,2,20030730,1706, -0.0022, 151.0382, 4921,   2528.0,   1.7540,  34.6626,2,   -999.0,9,  34.6627,2,    137.0,2,  -999.00,9,  -999.00,9,    36.88,2,     0.00,2,     2.60,2, -999.000,9, -999.000,9,  -999.00,9,   -999.0,9,   -999.0,9,-999.0000,9,   -999.0,  9,  -999.00,9,   -999.0,  -999.00,9,  -999.00,9,  -999.00,9,  -999.00,9,   -999.0,-999.0000, -999,9, 2499,   1.5758,  27.7339,   -999.0,9
       KS03-06, EQPAC,KS-0800,  1,      6,02-16012,2,20030730,1659, -0.0022, 151.0382, 4921,   2782.3,   1.6401,  34.6698,2,   -999.0,9,  34.6692,2,    141.0,2,  -999.00,9,  -999.00,9,    36.58,2,     0.00,2,     2.57,2, -999.000,9, -999.000,9,  -999.00,9,   -999.0,9,   -999.0,9,-999.0000,9,   -999.0,  9,  -999.00,9,   -999.0,  -999.00,9,  -999.00,9,  -999.00,9,  -999.00,9,   -999.0,-999.0000, -999,9, 2749,   1.4408,  27.7495,   -999.0,9
       KS03-06, EQPAC,KS-0800,  1,      5,02-16011,2,20030730,1651, -0.0022, 151.0382, 4921,   3036.6,   1.5985,  34.6741,2,   -999.0,9,  34.6724,2,    144.0,2,  -999.00,9,  -999.00,9,    36.39,2,     0.00,2,     2.55,2, -999.000,9, -999.000,9,  -999.00,9,   -999.0,9,   -999.0,9,-999.0000,9,   -999.0,  9,  -999.00,9,   -999.0,  -999.00,9,  -999.00,9,  -999.00,9,  -999.00,9,   -999.0,-999.0000, -999,9, 2998,   1.3760,  27.7576,   -999.0,9
       KS03-06, EQPAC,KS-0800,  1,      4,02-16010,2,20030730,1645, -0.0022, 151.0382, 4921,   3291.4,   1.5771,  34.6771,2,   -999.0,9,  34.6779,2,    147.0,2,  -999.00,9,  -999.00,9,    36.10,2,     0.00,2,     2.53,2, -999.000,9, -999.000,9,  -999.00,9,   -999.0,9,   -999.0,9,-999.0000,9,   -999.0,  9,  -999.00,9,   -999.0,  -999.00,9,  -999.00,9,  -999.00,9,  -999.00,9,   -999.0,-999.0000, -999,9, 3248,   1.3301,  27.7633,   -999.0,9
       KS03-06, EQPAC,KS-0800,  1,      3,02-16009,2,20030730,1640, -0.0022, 151.0382, 4921,   3547.1,   1.5590,  34.6802,2,   -999.0,9,  34.6800,2,    150.0,2,  -999.00,9,  -999.00,9,    36.10,2,     0.00,2,     2.52,2, -999.000,9, -999.000,9,  -999.00,9,   -999.0,9,   -999.0,9,-999.0000,9,   -999.0,  9,  -999.00,9,   -999.0,  -999.00,9,  -999.00,9,  -999.00,9,  -999.00,9,   -999.0,-999.0000, -999,9, 3498,   1.2865,  27.7688,   -999.0,9
       KS03-06, EQPAC,KS-0800,  1,      2,02-16008,2,20030730,1628, -0.0022, 151.0382, 4921,   4059.4,   1.5323,  34.6859,2,   -999.0,9,  34.6846,2,    155.0,2,  -999.00,9,  -999.00,9,    35.71,2,     0.00,2,     2.49,2, -999.000,9, -999.000,9,  -999.00,9,   -999.0,9,   -999.0,9,-999.0000,9,   -999.0,  9,  -999.00,9,   -999.0,  -999.00,9,  -999.00,9,  -999.00,9,  -999.00,9,   -999.0,-999.0000, -999,9, 3999,   1.2060,  27.7790,   -999.0,9
       KS03-06, EQPAC,KS-0800,  1,      1,02-16007,3,20030730,1602, -0.0022, 151.0382, 4921,   4889.6,   1.5725,  34.6896,2,   -999.0,9,  34.6885,2,    160.0,2,  -999.00,9,  -999.00,9,    35.32,2,     0.00,2,     2.46,2, -999.000,9, -999.000,9,  -999.00,9,   -999.0,9,   -999.0,9,-999.0000,9,   -999.0,  9,  -999.00,9,   -999.0,  -999.00,9,  -999.00,9,  -999.00,9,  -999.00,9,   -999.0,-999.0000, -999,9, 4808,   1.1492,  27.7859,   -999.0,9