BOTTLE,20130510GEMDJMAYT
EXPOCODE,SECT_ID,STNNBR,CASTNO,SAMPNO,BTLNBR,BTLNBR_FLAG_W,DATE,TIME,LATITUDE,LONGITUDE,DEPTH,CTDPRS,CTDTMP,CTDSAL,CTDSAL_FLAG_W,CTDOXY,CTDOXY_FLAG_W,SALNTY,SALNTY_FLAG_W,OXYGEN,OXYGEN_FLAG_W,SILCAT,SILCAT_FLAG_W,NITRAT,NITRAT_FLAG_W,NO2+NO3,NO2+NO3_FLAG_W,NITRIT,NITRIT_FLAG_W,PHSPHT,PHSPHT_FLAG_W,CFC-11,CFC-11_FLAG_W,CFC-12,CFC-12_FLAG_W,DELC13,DELC13_FLAG_W,TCARBN,TCARBN_FLAG_W,ALKALI,ALKALI_FLAG_W,PH,PH_FLAG_W,PH_TMP,PH_SCALE,PH_NBS,PH_NBS_FLAG_W,C13ERR,TOTALP,TOTALP_FLAG_W,AMMONI,AMMONI_FLAG_W,CHLORA,CHLORA_FLAG_W,PPHYTN,PPHYTN_FLAG_W,REVPRS,REVTMP,DEPTH_,DEPTH_FLAG,CTDDEP,THETA,SIGTHT,DOC,DOC_FLAG_W
,,,,,,,GMT,GMT,,,METER,DBAR,ITS-90,PSS-78,,UMOL/KG,,PSS-78,,UMOL/KG,,UMOL/KG,,UMOL/KG,,UMOL/KG,,UMOL/KG,,UMOL/KG,,PMOL/KG,,PMOL/KG,,/MILLE,,UMOL/KG,,UMOL/KG,,25_DEG_C,,DEG_C,,,,/MILLE,UMOL/KG,,UMOL/KG,,UG/L,,UG/L,,DBAR,ITS-90,METERS,,METERS,DEG_C,,UMOL/L,
       KS03-06,  165E,KS-0777,  1,     24,02-16030,2,20030719,1713,  4.0072, 165.0058, 4491,      4.5,  29.7498,  33.7874,2,   -999.0,9,  33.7920,4,    197.0,2,  -999.00,9,  -999.00,9,     0.00,2,     0.00,2,     0.06,2, -999.000,9, -999.000,9,  -999.00,9,   -999.0,9,   -999.0,9,-999.0000,9,   -999.0,  9,  -999.00,9,   -999.0,  -999.00,9,  -999.00,9,  -999.00,9,  -999.00,9,   -999.0,-999.0000, -999,9,    5,  29.7487,  20.9027,   -999.0,9
       KS03-06,  165E,KS-0777,  1,     23,02-16029,2,20030719,1712,  4.0072, 165.0058, 4491,      9.3,  29.7673,  33.8082,2,   -999.0,9,-999.0000,9,    198.0,2,  -999.00,9,  -999.00,9,     0.00,2,     0.00,2,     0.06,2, -999.000,9, -999.000,9,  -999.00,9,   -999.0,9,   -999.0,9,-999.0000,9,   -999.0,  9,  -999.00,9,   -999.0,  -999.00,9,  -999.00,9,  -999.00,9,  -999.00,9,   -999.0,-999.0000, -999,9,    9,  29.7650,  20.9127,   -999.0,9
       KS03-06,  165E,KS-0777,  1,     22,02-16028,2,20030719,1711,  4.0072, 165.0058, 4491,     24.7,  29.7875,  33.9823,2,   -999.0,9,-999.0000,9,    197.0,2,  -999.00,9,  -999.00,9,     0.00,2,     0.00,2,     0.07,2, -999.000,9, -999.000,9,  -999.00,9,   -999.0,9,   -999.0,9,-999.0000,9,   -999.0,  9,  -999.00,9,   -999.0,  -999.00,9,  -999.00,9,  -999.00,9,  -999.00,9,   -999.0,-999.0000, -999,9,   25,  29.7814,  21.0377,   -999.0,9
       KS03-06,  165E,KS-0777,  1,     21,02-16027,2,20030719,1706,  4.0072, 165.0058, 4491,     49.6,  29.7960,  34.1760,2,   -999.0,9,-999.0000,9,    200.0,2,  -999.00,9,  -999.00,9,     0.00,2,     0.00,2,     0.08,2, -999.000,9, -999.000,9,  -999.00,9,   -999.0,9,   -999.0,9,-999.0000,9,   -999.0,  9,  -999.00,9,   -999.0,  -999.00,9,  -999.00,9,  -999.00,9,  -999.00,9,   -999.0,-999.0000, -999,9,   49,  29.7838,  21.1820,   -999.0,9
       KS03-06,  165E,KS-0777,  1,     20,02-16026,2,20030719,1705,  4.0072, 165.0058, 4491,     75.2,  29.1993,  34.3560,2,   -999.0,9,-999.0000,9,    200.0,2,  -999.00,9,  -999.00,9,     0.00,2,     0.00,2,     0.08,2, -999.000,9, -999.000,9,  -999.00,9,   -999.0,9,   -999.0,9,-999.0000,9,   -999.0,  9,  -999.00,9,   -999.0,  -999.00,9,  -999.00,9,  -999.00,9,  -999.00,9,   -999.0,-999.0000, -999,9,   75,  29.1810,  21.5201,   -999.0,9
       KS03-06,  165E,KS-0777,  1,     19,02-16025,9,20030719,1704,  4.0072, 165.0058, 4491,     99.7,  27.6738,  34.7274,2,   -999.0,9,-999.0000,9,   -999.0,9,  -999.00,9,  -999.00,9,  -999.00,9,  -999.00,9,  -999.00,9, -999.000,9, -999.000,9,  -999.00,9,   -999.0,9,   -999.0,9,-999.0000,9,   -999.0,  9,  -999.00,9,   -999.0,  -999.00,9,  -999.00,9,  -999.00,9,  -999.00,9,   -999.0,-999.0000, -999,9,   99,  27.6505,  22.3033,   -999.0,9
       KS03-06,  165E,KS-0777,  1,     18,02-16024,2,20030719,1704,  4.0072, 165.0058, 4491,     99.8,  27.6682,  34.7270,2,   -999.0,9,  34.7357,4,    185.0,2,  -999.00,9,  -999.00,9,     0.00,2,     0.01,2,     0.17,2, -999.000,9, -999.000,9,  -999.00,9,   -999.0,9,   -999.0,9,-999.0000,9,   -999.0,  9,  -999.00,9,   -999.0,  -999.00,9,  -999.00,9,  -999.00,9,  -999.00,9,   -999.0,-999.0000, -999,9,   99,  27.6449,  22.3048,   -999.0,9
       KS03-06,  165E,KS-0777,  1,     17,02-16023,2,20030719,1703,  4.0072, 165.0058, 4491,    124.6,  23.7858,  34.8544,2,   -999.0,9,-999.0000,9,    160.0,2,  -999.00,9,  -999.00,9,     4.98,2,     0.09,2,     0.43,2, -999.000,9, -999.000,9,  -999.00,9,   -999.0,9,   -999.0,9,-999.0000,9,   -999.0,  9,  -999.00,9,   -999.0,  -999.00,9,  -999.00,9,  -999.00,9,  -999.00,9,   -999.0,-999.0000, -999,9,  124,  23.7598,  23.6020,   -999.0,9
       KS03-06,  165E,KS-0777,  1,     16,02-16022,2,20030719,1702,  4.0072, 165.0058, 4491,    151.4,  19.3002,  34.8329,2,   -999.0,9,-999.0000,9,    153.0,2,  -999.00,9,  -999.00,9,     8.49,2,     0.01,2,     0.64,2, -999.000,9, -999.000,9,  -999.00,9,   -999.0,9,   -999.0,9,-999.0000,9,   -999.0,  9,  -999.00,9,   -999.0,  -999.00,9,  -999.00,9,  -999.00,9,  -999.00,9,   -999.0,-999.0000, -999,9,  150,  19.2730,  24.8236,   -999.0,9
       KS03-06,  165E,KS-0777,  1,     15,02-16021,4,20030719,1700,  4.0072, 165.0058, 4491,    200.2,  13.5616,  34.5910,2,   -999.0,9,-999.0000,9,   -999.0,9,  -999.00,9,  -999.00,9,  -999.00,9,  -999.00,9,  -999.00,9, -999.000,9, -999.000,9,  -999.00,9,   -999.0,9,   -999.0,9,-999.0000,9,   -999.0,  9,  -999.00,9,   -999.0,  -999.00,9,  -999.00,9,  -999.00,9,  -999.00,9,   -999.0,-999.0000, -999,9,  199,  13.5334,  25.9678,   -999.0,9
       KS03-06,  165E,KS-0777,  1,     14,02-16020,2,20030719,1657,  4.0072, 165.0058, 4491,    250.2,  10.3280,  34.5309,2,   -999.0,9,-999.0000,9,     83.0,2,  -999.00,9,  -999.00,9,    28.64,2,     0.00,2,     2.03,2, -999.000,9, -999.000,9,  -999.00,9,   -999.0,9,   -999.0,9,-999.0000,9,   -999.0,  9,  -999.00,9,   -999.0,  -999.00,9,  -999.00,9,  -999.00,9,  -999.00,9,   -999.0,-999.0000, -999,9,  249,  10.2985,  26.5344,   -999.0,9
       KS03-06,  165E,KS-0777,  1,     13,02-16019,4,20030719,1655,  4.0072, 165.0058, 4491,    300.2,   9.4696,  34.6141,2,   -999.0,9,-999.0000,9,   -999.0,9,  -999.00,9,  -999.00,9,  -999.00,9,  -999.00,9,  -999.00,9, -999.000,9, -999.000,9,  -999.00,9,   -999.0,9,   -999.0,9,-999.0000,9,   -999.0,  9,  -999.00,9,   -999.0,  -999.00,9,  -999.00,9,  -999.00,9,  -999.00,9,   -999.0,-999.0000, -999,9,  298,   9.4359,  26.7452,   -999.0,9
       KS03-06,  165E,KS-0777,  1,     12,02-16018,2,20030719,1652,  4.0072, 165.0058, 4491,    400.5,   8.5374,  34.6191,2,   -999.0,9,  34.6191,2,     73.0,2,  -999.00,9,  -999.00,9,    33.60,2,     0.00,2,     2.32,2, -999.000,9, -999.000,9,  -999.00,9,   -999.0,9,   -999.0,9,-999.0000,9,   -999.0,  9,  -999.00,9,   -999.0,  -999.00,9,  -999.00,9,  -999.00,9,  -999.00,9,   -999.0,-999.0000, -999,9,  398,   8.4950,  26.8994,   -999.0,9
       KS03-06,  165E,KS-0777,  1,     11,02-16017,2,20030719,1649,  4.0072, 165.0058, 4491,    501.7,   7.7020,  34.5843,2,   -999.0,9,  34.5853,2,     66.0,2,  -999.00,9,  -999.00,9,    35.74,2,     0.00,2,     2.49,2, -999.000,9, -999.000,9,  -999.00,9,   -999.0,9,   -999.0,9,-999.0000,9,   -999.0,  9,  -999.00,9,   -999.0,  -999.00,9,  -999.00,9,  -999.00,9,  -999.00,9,   -999.0,-999.0000, -999,9,  498,   7.6516,  26.9988,   -999.0,9
       KS03-06,  165E,KS-0777,  1,     10,02-16016,9,20030719,1645,  4.0072, 165.0058, 4491,    602.0,   6.8387,  34.5581,2,   -999.0,9,-999.0000,9,   -999.0,9,  -999.00,9,  -999.00,9,  -999.00,9,  -999.00,9,  -999.00,9, -999.000,9, -999.000,9,  -999.00,9,   -999.0,9,   -999.0,9,-999.0000,9,   -999.0,  9,  -999.00,9,   -999.0,  -999.00,9,  -999.00,9,  -999.00,9,  -999.00,9,   -999.0,-999.0000, -999,9,  598,   6.7818,  27.1006,   -999.0,9
       KS03-06,  165E,KS-0777,  1,      9,02-16015,2,20030719,1645,  4.0072, 165.0058, 4491,    602.1,   6.8161,  34.5572,2,   -999.0,9,  34.5582,2,     59.0,2,  -999.00,9,  -999.00,9,    37.97,2,     0.00,2,     2.68,2, -999.000,9, -999.000,9,  -999.00,9,   -999.0,9,   -999.0,9,-999.0000,9,   -999.0,  9,  -999.00,9,   -999.0,  -999.00,9,  -999.00,9,  -999.00,9,  -999.00,9,   -999.0,-999.0000, -999,9,  598,   6.7593,  27.1029,   -999.0,9
       KS03-06,  165E,KS-0777,  1,      8,02-16014,2,20030719,1643,  4.0072, 165.0058, 4491,    703.0,   5.8955,  34.5417,2,   -999.0,9,  34.5429,2,     88.0,2,  -999.00,9,  -999.00,9,    37.38,2,     0.00,2,     2.62,2, -999.000,9, -999.000,9,  -999.00,9,   -999.0,9,   -999.0,9,-999.0000,9,   -999.0,  9,  -999.00,9,   -999.0,  -999.00,9,  -999.00,9,  -999.00,9,  -999.00,9,   -999.0,-999.0000, -999,9,  698,   5.8336,  27.2115,   -999.0,9
       KS03-06,  165E,KS-0777,  1,      7,02-16013,2,20030719,1640,  4.0072, 165.0058, 4491,    803.7,   5.3699,  34.5407,2,   -999.0,9,  34.5410,2,    110.0,2,  -999.00,9,  -999.00,9,    37.67,2,     0.00,2,     2.64,2, -999.000,9, -999.000,9,  -999.00,9,   -999.0,9,   -999.0,9,-999.0000,9,   -999.0,  9,  -999.00,9,   -999.0,  -999.00,9,  -999.00,9,  -999.00,9,  -999.00,9,   -999.0,-999.0000, -999,9,  798,   5.3018,  27.2757,   -999.0,9
       KS03-06,  165E,KS-0777,  1,      6,02-16012,2,20030719,1638,  4.0072, 165.0058, 4491,    904.5,   4.9363,  34.5467,2,   -999.0,9,  34.5464,2,     99.0,2,  -999.00,9,  -999.00,9,    38.55,2,     0.00,2,     2.72,2, -999.000,9, -999.000,9,  -999.00,9,   -999.0,9,   -999.0,9,-999.0000,9,   -999.0,  9,  -999.00,9,   -999.0,  -999.00,9,  -999.00,9,  -999.00,9,  -999.00,9,   -999.0,-999.0000, -999,9,  898,   4.8619,  27.3317,   -999.0,9
       KS03-06,  165E,KS-0777,  1,      5,02-16011,2,20030719,1635,  4.0072, 165.0058, 4491,   1005.6,   4.4331,  34.5578,2,   -999.0,9,  34.5586,2,     81.0,2,  -999.00,9,  -999.00,9,    39.42,2,     0.00,2,     2.80,2, -999.000,9, -999.000,9,  -999.00,9,   -999.0,9,   -999.0,9,-999.0000,9,   -999.0,  9,  -999.00,9,   -999.0,  -999.00,9,  -999.00,9,  -999.00,9,  -999.00,9,   -999.0,-999.0000, -999,9,  998,   4.3535,  27.3970,   -999.0,9
       KS03-06,  165E,KS-0777,  1,      4,02-16010,2,20030719,1628,  4.0072, 165.0058, 4491,   1257.8,   3.5655,  34.5827,2,   -999.0,9,  34.5836,2,     85.0,2,  -999.00,9,  -999.00,9,    40.00,2,     0.00,2,     2.86,2, -999.000,9, -999.000,9,  -999.00,9,   -999.0,9,   -999.0,9,-999.0000,9,   -999.0,  9,  -999.00,9,   -999.0,  -999.00,9,  -999.00,9,  -999.00,9,  -999.00,9,   -999.0,-999.0000, -999,9, 1247,   3.4719,  27.5074,   -999.0,9
       KS03-06,  165E,KS-0777,  1,      3,02-16009,2,20030719,1622,  4.0072, 165.0058, 4491,   1512.1,   2.9999,  34.6030,2,   -999.0,9,  34.6046,2,     92.0,2,  -999.00,9,  -999.00,9,    39.71,2,     0.00,2,     2.81,2, -999.000,9, -999.000,9,  -999.00,9,   -999.0,9,   -999.0,9,-999.0000,9,   -999.0,  9,  -999.00,9,   -999.0,  -999.00,9,  -999.00,9,  -999.00,9,  -999.00,9,   -999.0,-999.0000, -999,9, 1498,   2.8910,  27.5781,   -999.0,9
       KS03-06,  165E,KS-0777,  1,      2,02-16008,2,20030719,1615,  4.0072, 165.0058, 4491,   1764.8,   2.5159,  34.6239,2,   -999.0,9,  34.6236,2,    107.0,2,  -999.00,9,  -999.00,9,    38.73,2,     0.00,2,     2.73,2, -999.000,9, -999.000,9,  -999.00,9,   -999.0,9,   -999.0,9,-999.0000,9,   -999.0,  9,  -999.00,9,   -999.0,  -999.00,9,  -999.00,9,  -999.00,9,  -999.00,9,   -999.0,-999.0000, -999,9, 1748,   2.3918,  27.6383,   -999.0,9
       KS03-06,  165E,KS-0777,  1,      1,02-16007,2,20030719,1604,  4.0072, 165.0058, 4491,   2019.1,   2.1953,  34.6396,2,   -999.0,9,  34.6403,2,    112.0,2,  -999.00,9,  -999.00,9,    38.73,2,     0.00,2,     2.72,2, -999.000,9, -999.000,9,  -999.00,9,   -999.0,9,   -999.0,9,-999.0000,9,   -999.0,  9,  -999.00,9,   -999.0,  -999.00,9,  -999.00,9,  -999.00,9,  -999.00,9,   -999.0,-999.0000, -999,9, 1998,   2.0542,  27.6786,   -999.0,9