BOTTLE,20130510GEMDJMAYT
EXPOCODE,SECT_ID,STNNBR,CASTNO,SAMPNO,BTLNBR,BTLNBR_FLAG_W,DATE,TIME,LATITUDE,LONGITUDE,DEPTH,CTDPRS,CTDTMP,CTDSAL,CTDSAL_FLAG_W,CTDOXY,CTDOXY_FLAG_W,SALNTY,SALNTY_FLAG_W,OXYGEN,OXYGEN_FLAG_W,SILCAT,SILCAT_FLAG_W,NITRAT,NITRAT_FLAG_W,NO2+NO3,NO2+NO3_FLAG_W,NITRIT,NITRIT_FLAG_W,PHSPHT,PHSPHT_FLAG_W,CFC-11,CFC-11_FLAG_W,CFC-12,CFC-12_FLAG_W,DELC13,DELC13_FLAG_W,TCARBN,TCARBN_FLAG_W,ALKALI,ALKALI_FLAG_W,PH,PH_FLAG_W,PH_TMP,PH_SCALE,PH_NBS,PH_NBS_FLAG_W,C13ERR,TOTALP,TOTALP_FLAG_W,AMMONI,AMMONI_FLAG_W,CHLORA,CHLORA_FLAG_W,PPHYTN,PPHYTN_FLAG_W,REVPRS,REVTMP,DEPTH_,DEPTH_FLAG,CTDDEP,THETA,SIGTHT,DOC,DOC_FLAG_W
,,,,,,,GMT,GMT,,,METER,DBAR,ITS-90,PSS-78,,UMOL/KG,,PSS-78,,UMOL/KG,,UMOL/KG,,UMOL/KG,,UMOL/KG,,UMOL/KG,,UMOL/KG,,PMOL/KG,,PMOL/KG,,/MILLE,,UMOL/KG,,UMOL/KG,,25_DEG_C,,DEG_C,,,,/MILLE,UMOL/KG,,UMOL/KG,,UG/L,,UG/L,,DBAR,ITS-90,METERS,,METERS,DEG_C,,UMOL/L,
       KS03-06,  165E,KS-0787,  1,     24,02-16030,2,20030724,0153, -4.1667, 165.4602, 3377,      5.0,  29.8045,  35.1550,2,   -999.0,9,  35.1603,4,    197.0,2,  -999.00,9,  -999.00,9,     0.00,2,     0.00,2,     0.20,2, -999.000,9, -999.000,9,  -999.00,9,   -999.0,9,   -999.0,9,-999.0000,9,   -999.0,  9,  -999.00,9,   -999.0,  -999.00,9,  -999.00,9,  -999.00,9,  -999.00,9,   -999.0,-999.0000, -999,9,    5,  29.8033,  21.9095,   -999.0,9
       KS03-06,  165E,KS-0787,  1,     23,02-16029,2,20030724,0151, -4.1667, 165.4602, 3377,      8.9,  29.6748,  35.1509,2,   -999.0,9,-999.0000,9,    197.0,2,  -999.00,9,  -999.00,9,     0.00,2,     0.00,2,     0.19,2, -999.000,9, -999.000,9,  -999.00,9,   -999.0,9,   -999.0,9,-999.0000,9,   -999.0,  9,  -999.00,9,   -999.0,  -999.00,9,  -999.00,9,  -999.00,9,  -999.00,9,   -999.0,-999.0000, -999,9,    9,  29.6726,  21.9508,   -999.0,9
       KS03-06,  165E,KS-0787,  1,     22,02-16028,2,20030724,0147, -4.1667, 165.4602, 3377,     48.0,  29.6322,  35.1632,2,   -999.0,9,-999.0000,9,    198.0,2,  -999.00,9,  -999.00,9,     0.00,2,     0.00,2,     0.20,2, -999.000,9, -999.000,9,  -999.00,9,   -999.0,9,   -999.0,9,-999.0000,9,   -999.0,  9,  -999.00,9,   -999.0,  -999.00,9,  -999.00,9,  -999.00,9,  -999.00,9,   -999.0,-999.0000, -999,9,   48,  29.6204,  21.9778,   -999.0,9
       KS03-06,  165E,KS-0787,  1,     21,02-16027,2,20030724,0145, -4.1667, 165.4602, 3377,     73.5,  29.6982,  35.2844,2,   -999.0,9,-999.0000,9,    196.0,2,  -999.00,9,  -999.00,9,     0.59,2,     0.02,2,     0.25,2, -999.000,9, -999.000,9,  -999.00,9,   -999.0,9,   -999.0,9,-999.0000,9,   -999.0,  9,  -999.00,9,   -999.0,  -999.00,9,  -999.00,9,  -999.00,9,  -999.00,9,   -999.0,-999.0000, -999,9,   73,  29.6801,  22.0484,   -999.0,9
       KS03-06,  165E,KS-0787,  1,     20,02-16026,2,20030724,0144, -4.1667, 165.4602, 3377,     98.8,  29.4942,  35.5947,2,   -999.0,9,  35.5955,2,    184.0,2,  -999.00,9,  -999.00,9,     2.74,2,     0.25,2,     0.46,2, -999.000,9, -999.000,9,  -999.00,9,   -999.0,9,   -999.0,9,-999.0000,9,   -999.0,  9,  -999.00,9,   -999.0,  -999.00,9,  -999.00,9,  -999.00,9,  -999.00,9,   -999.0,-999.0000, -999,9,   98,  29.4700,  22.3524,   -999.0,9
       KS03-06,  165E,KS-0787,  1,     19,02-16025,2,20030724,0142, -4.1667, 165.4602, 3377,    149.7,  26.8678,  35.9043,2,   -999.0,9,-999.0000,9,    152.0,2,  -999.00,9,  -999.00,9,     7.62,2,     0.04,2,     0.71,2, -999.000,9, -999.000,9,  -999.00,9,   -999.0,9,   -999.0,9,-999.0000,9,   -999.0,  9,  -999.00,9,   -999.0,  -999.00,9,  -999.00,9,  -999.00,9,  -999.00,9,   -999.0,-999.0000, -999,9,  149,  26.8335,  23.4523,   -999.0,9
       KS03-06,  165E,KS-0787,  1,     18,02-16024,2,20030724,0140, -4.1667, 165.4602, 3377,    201.8,  18.4575,  35.5448,2,   -999.0,9,  35.5642,4,    115.0,2,  -999.00,9,  -999.00,9,    13.94,2,     0.00,2,     1.16,2, -999.000,9, -999.000,9,  -999.00,9,   -999.0,9,   -999.0,9,-999.0000,9,   -999.0,  9,  -999.00,9,   -999.0,  -999.00,9,  -999.00,9,  -999.00,9,  -999.00,9,   -999.0,-999.0000, -999,9,  201,  18.4221,  25.5842,   -999.0,9
       KS03-06,  165E,KS-0787,  1,     17,02-16023,2,20030724,0136, -4.1667, 165.4602, 3377,    301.0,  10.7715,  34.8104,2,   -999.0,9,  34.8108,2,    104.0,2,  -999.00,9,  -999.00,9,    26.59,2,     0.00,2,     1.84,2, -999.000,9, -999.000,9,  -999.00,9,   -999.0,9,   -999.0,9,-999.0000,9,   -999.0,  9,  -999.00,9,   -999.0,  -999.00,9,  -999.00,9,  -999.00,9,  -999.00,9,   -999.0,-999.0000, -999,9,  299,  10.7348,  26.6756,   -999.0,9
       KS03-06,  165E,KS-0787,  1,     16,02-16022,2,20030724,0133, -4.1667, 165.4602, 3377,    400.3,   9.1422,  34.6825,2,   -999.0,9,  34.6832,2,    106.0,2,  -999.00,9,  -999.00,9,    29.70,2,     0.00,2,     2.02,2, -999.000,9, -999.000,9,  -999.00,9,   -999.0,9,   -999.0,9,-999.0000,9,   -999.0,  9,  -999.00,9,   -999.0,  -999.00,9,  -999.00,9,  -999.00,9,  -999.00,9,   -999.0,-999.0000, -999,9,  398,   9.0980,  26.8538,   -999.0,9
       KS03-06,  165E,KS-0787,  1,     15,02-16021,2,20030724,0129, -4.1667, 165.4602, 3377,    500.6,   8.0768,  34.6154,2,   -999.0,9,  34.6048,4,     99.0,2,  -999.00,9,  -999.00,9,    32.52,2,     0.00,2,     2.22,2, -999.000,9, -999.000,9,  -999.00,9,   -999.0,9,   -999.0,9,-999.0000,9,   -999.0,  9,  -999.00,9,   -999.0,  -999.00,9,  -999.00,9,  -999.00,9,  -999.00,9,   -999.0,-999.0000, -999,9,  497,   8.0251,  26.9681,   -999.0,9
       KS03-06,  165E,KS-0787,  1,     14,02-16020,2,20030724,0125, -4.1667, 165.4602, 3377,    603.8,   6.9968,  34.5648,2,   -999.0,9,  34.5657,2,     98.0,2,  -999.00,9,  -999.00,9,    34.86,2,     0.00,2,     2.39,2, -999.000,9, -999.000,9,  -999.00,9,   -999.0,9,   -999.0,9,-999.0000,9,   -999.0,  9,  -999.00,9,   -999.0,  -999.00,9,  -999.00,9,  -999.00,9,  -999.00,9,   -999.0,-999.0000, -999,9,  600,   6.9390,  27.0843,   -999.0,9
       KS03-06,  165E,KS-0787,  1,     13,02-16019,2,20030724,0123, -4.1667, 165.4602, 3377,    704.6,   6.1500,  34.5432,2,   -999.0,9,  34.5453,2,     90.0,2,  -999.00,9,  -999.00,9,    37.38,2,     0.00,2,     2.57,2, -999.000,9, -999.000,9,  -999.00,9,   -999.0,9,   -999.0,9,-999.0000,9,   -999.0,  9,  -999.00,9,   -999.0,  -999.00,9,  -999.00,9,  -999.00,9,  -999.00,9,   -999.0,-999.0000, -999,9,  699,   6.0866,  27.1807,   -999.0,9
       KS03-06,  165E,KS-0787,  1,     12,02-16018,2,20030724,0118, -4.1667, 165.4602, 3377,    805.7,   5.3977,  34.5324,2,   -999.0,9,  34.5323,2,    103.0,2,  -999.00,9,  -999.00,9,    37.19,2,     0.00,2,     2.57,2, -999.000,9, -999.000,9,  -999.00,9,   -999.0,9,   -999.0,9,-999.0000,9,   -999.0,  9,  -999.00,9,   -999.0,  -999.00,9,  -999.00,9,  -999.00,9,  -999.00,9,   -999.0,-999.0000, -999,9,  800,   5.3292,  27.2658,   -999.0,9
       KS03-06,  165E,KS-0787,  1,     11,02-16017,2,20030724,0113, -4.1667, 165.4602, 3377,   1005.7,   4.4258,  34.5434,2,   -999.0,9,  34.5451,2,    109.0,2,  -999.00,9,  -999.00,9,    37.38,2,     0.00,2,     2.62,2, -999.000,9, -999.000,9,  -999.00,9,   -999.0,9,   -999.0,9,-999.0000,9,   -999.0,  9,  -999.00,9,   -999.0,  -999.00,9,  -999.00,9,  -999.00,9,  -999.00,9,   -999.0,-999.0000, -999,9,  998,   4.3463,  27.3863,   -999.0,9
       KS03-06,  165E,KS-0787,  1,     10,02-16016,2,20030724,0058, -4.1667, 165.4602, 3377,   1510.6,   2.9688,  34.5957,2,   -999.0,9,-999.0000,9,    122.0,2,  -999.00,9,  -999.00,9,    37.56,2,     0.00,2,     2.66,2, -999.000,9, -999.000,9,  -999.00,9,   -999.0,9,   -999.0,9,-999.0000,9,   -999.0,  9,  -999.00,9,   -999.0,  -999.00,9,  -999.00,9,  -999.00,9,  -999.00,9,   -999.0,-999.0000, -999,9, 1497,   2.8604,  27.5750,   -999.0,9
       KS03-06,  165E,KS-0787,  1,      9,02-16015,2,20030724,0044, -4.1667, 165.4602, 3377,   2018.7,   2.1579,  34.6428,2,   -999.0,9,  34.6409,2,    125.0,2,  -999.00,9,  -999.00,9,    37.75,2,     0.00,2,     2.69,2, -999.000,9, -999.000,9,  -999.00,9,   -999.0,9,   -999.0,9,-999.0000,9,   -999.0,  9,  -999.00,9,   -999.0,  -999.00,9,  -999.00,9,  -999.00,9,  -999.00,9,   -999.0,-999.0000, -999,9, 1998,   2.0174,  27.6841,   -999.0,9
       KS03-06,  165E,KS-0787,  1,      8,02-16014,2,20030724,0036, -4.1667, 165.4602, 3377,   2272.6,   1.9945,  34.6523,2,   -999.0,9,  34.6504,2,    131.0,2,  -999.00,9,  -999.00,9,    37.56,2,     0.00,2,     2.62,2, -999.000,9, -999.000,9,  -999.00,9,   -999.0,9,   -999.0,9,-999.0000,9,   -999.0,  9,  -999.00,9,   -999.0,  -999.00,9,  -999.00,9,  -999.00,9,  -999.00,9,   -999.0,-999.0000, -999,9, 2248,   1.8347,  27.7060,   -999.0,9
       KS03-06,  165E,KS-0787,  1,      7,02-16013,2,20030724,0029, -4.1667, 165.4602, 3377,   2528.2,   1.8335,  34.6614,2,   -999.0,9,  34.6604,2,    135.0,2,  -999.00,9,  -999.00,9,    36.97,2,     0.00,2,     2.60,2, -999.000,9, -999.000,9,  -999.00,9,   -999.0,9,   -999.0,9,-999.0000,9,   -999.0,  9,  -999.00,9,   -999.0,  -999.00,9,  -999.00,9,  -999.00,9,  -999.00,9,   -999.0,-999.0000, -999,9, 2499,   1.6537,  27.7271,   -999.0,9
       KS03-06,  165E,KS-0787,  1,      6,02-16012,9,20030724,0022, -4.1667, 165.4602, 3377,   2782.3,   1.7450,  34.6666,2,   -999.0,9,-999.0000,9,   -999.0,9,  -999.00,9,  -999.00,9,  -999.00,9,  -999.00,9,  -999.00,9, -999.000,9, -999.000,9,  -999.00,9,   -999.0,9,   -999.0,9,-999.0000,9,   -999.0,  9,  -999.00,9,   -999.0,  -999.00,9,  -999.00,9,  -999.00,9,  -999.00,9,   -999.0,-999.0000, -999,9, 2749,   1.5436,  27.7395,   -999.0,9
       KS03-06,  165E,KS-0787,  1,      5,02-16011,2,20030724,0022, -4.1667, 165.4602, 3377,   2781.6,   1.7447,  34.6667,2,   -999.0,9,  34.6663,2,    138.0,2,  -999.00,9,  -999.00,9,    37.07,2,     0.00,2,     2.59,2, -999.000,9, -999.000,9,  -999.00,9,   -999.0,9,   -999.0,9,-999.0000,9,   -999.0,  9,  -999.00,9,   -999.0,  -999.00,9,  -999.00,9,  -999.00,9,  -999.00,9,   -999.0,-999.0000, -999,9, 2748,   1.5433,  27.7395,   -999.0,9
       KS03-06,  165E,KS-0787,  1,      4,02-16010,2,20030724,0015, -4.1667, 165.4602, 3377,   3038.2,   1.6560,  34.6719,2,   -999.0,9,  34.6712,2,    141.0,2,  -999.00,9,  -999.00,9,    36.68,2,     0.00,2,     2.57,2, -999.000,9, -999.000,9,  -999.00,9,   -999.0,9,   -999.0,9,-999.0000,9,   -999.0,  9,  -999.00,9,   -999.0,  -999.00,9,  -999.00,9,  -999.00,9,  -999.00,9,   -999.0,-999.0000, -999,9, 3000,   1.4321,  27.7518,   -999.0,9
       KS03-06,  165E,KS-0787,  1,      3,02-16009,2,20030724,0008, -4.1667, 165.4602, 3377,   3293.1,   1.5575,  34.6787,2,   -999.0,9,  34.6794,2,    148.0,2,  -999.00,9,  -999.00,9,    36.29,2,     0.00,2,     2.52,2, -999.000,9, -999.000,9,  -999.00,9,   -999.0,9,   -999.0,9,-999.0000,9,   -999.0,  9,  -999.00,9,   -999.0,  -999.00,9,  -999.00,9,  -999.00,9,  -999.00,9,   -999.0,-999.0000, -999,9, 3250,   1.3108,  27.7659,   -999.0,9
       KS03-06,  165E,KS-0787,  1,      2,02-16008,9,20030724,0008, -4.1667, 165.4602, 3377,   3290.7,   1.5574,  34.6786,2,   -999.0,9,-999.0000,9,   -999.0,9,  -999.00,9,  -999.00,9,  -999.00,9,  -999.00,9,  -999.00,9, -999.000,9, -999.000,9,  -999.00,9,   -999.0,9,   -999.0,9,-999.0000,9,   -999.0,  9,  -999.00,9,   -999.0,  -999.00,9,  -999.00,9,  -999.00,9,  -999.00,9,   -999.0,-999.0000, -999,9, 3247,   1.3110,  27.7658,   -999.0,9
       KS03-06,  165E,KS-0787,  1,      1,02-16007,2,20030724,0005, -4.1667, 165.4602, 3377,   3379.1,   1.5330,  34.6805,2,   -999.0,9,  34.6806,2,    150.0,2,  -999.00,9,  -999.00,9,    36.10,2,     0.00,2,     2.51,2, -999.000,9, -999.000,9,  -999.00,9,   -999.0,9,   -999.0,9,-999.0000,9,   -999.0,  9,  -999.00,9,   -999.0,  -999.00,9,  -999.00,9,  -999.00,9,  -999.00,9,   -999.0,-999.0000, -999,9, 3334,   1.2783,  27.7696,   -999.0,9