BOTTLE,20130510GEMDJMAYT
EXPOCODE,SECT_ID,STNNBR,CASTNO,SAMPNO,BTLNBR,BTLNBR_FLAG_W,DATE,TIME,LATITUDE,LONGITUDE,DEPTH,CTDPRS,CTDTMP,CTDSAL,CTDSAL_FLAG_W,CTDOXY,CTDOXY_FLAG_W,SALNTY,SALNTY_FLAG_W,OXYGEN,OXYGEN_FLAG_W,SILCAT,SILCAT_FLAG_W,NITRAT,NITRAT_FLAG_W,NO2+NO3,NO2+NO3_FLAG_W,NITRIT,NITRIT_FLAG_W,PHSPHT,PHSPHT_FLAG_W,CFC-11,CFC-11_FLAG_W,CFC-12,CFC-12_FLAG_W,DELC13,DELC13_FLAG_W,TCARBN,TCARBN_FLAG_W,ALKALI,ALKALI_FLAG_W,PH,PH_FLAG_W,PH_TMP,PH_SCALE,PH_NBS,PH_NBS_FLAG_W,C13ERR,TOTALP,TOTALP_FLAG_W,AMMONI,AMMONI_FLAG_W,CHLORA,CHLORA_FLAG_W,PPHYTN,PPHYTN_FLAG_W,REVPRS,REVTMP,DEPTH_,DEPTH_FLAG,CTDDEP,THETA,SIGTHT,DOC,DOC_FLAG_W
,,,,,,,GMT,GMT,,,METER,DBAR,ITS-90,PSS-78,,UMOL/KG,,PSS-78,,UMOL/KG,,UMOL/KG,,UMOL/KG,,UMOL/KG,,UMOL/KG,,UMOL/KG,,PMOL/KG,,PMOL/KG,,/MILLE,,UMOL/KG,,UMOL/KG,,25_DEG_C,,DEG_C,,,,/MILLE,UMOL/KG,,UMOL/KG,,UG/L,,UG/L,,DBAR,ITS-90,METERS,,METERS,DEG_C,,UMOL/L,
       KS03-06,  NONE,KS-0828,  1,     24,02-16030,9,20030815,0018, 25.0002, 149.3243, 5822,      4.4,  28.9742,  34.8590,2,   -999.0,9,-999.0000,9,   -999.0,9,  -999.00,9,  -999.00,9,  -999.00,9,  -999.00,9,  -999.00,9, -999.000,9, -999.000,9,  -999.00,9,   -999.0,9,   -999.0,9,-999.0000,9,   -999.0,  9,  -999.00,9,   -999.0,  -999.00,9,  -999.00,9,  -999.00,9,  -999.00,9,   -999.0,-999.0000, -999,9,    4,  28.9731,  21.9672,   -999.0,9
       KS03-06,  NONE,KS-0828,  1,     23,02-16029,2,20030815,0018, 25.0002, 149.3243, 5822,      4.5,  28.9658,  34.8592,2,   -999.0,9,  34.8607,2,    199.0,2,  -999.00,9,  -999.00,9,     0.00,2,     0.00,2,     0.01,2, -999.000,9, -999.000,9,  -999.00,9,   -999.0,9,   -999.0,9,-999.0000,9,   -999.0,  9,  -999.00,9,   -999.0,  -999.00,9,  -999.00,9,  -999.00,9,  -999.00,9,   -999.0,-999.0000, -999,9,    4,  28.9647,  21.9701,   -999.0,9
       KS03-06,  NONE,KS-0828,  1,     22,02-16028,2,20030815,0017, 25.0002, 149.3243, 5822,     10.0,  28.9128,  34.8570,2,   -999.0,9,-999.0000,9,    198.0,2,  -999.00,9,  -999.00,9,     0.00,2,     0.00,2,     0.01,2, -999.000,9, -999.000,9,  -999.00,9,   -999.0,9,   -999.0,9,-999.0000,9,   -999.0,  9,  -999.00,9,   -999.0,  -999.00,9,  -999.00,9,  -999.00,9,  -999.00,9,   -999.0,-999.0000, -999,9,   10,  28.9104,  21.9866,   -999.0,9
       KS03-06,  NONE,KS-0828,  1,     21,02-16027,2,20030815,0016, 25.0002, 149.3243, 5822,     25.2,  28.2070,  34.9065,2,   -999.0,9,-999.0000,9,    202.0,2,  -999.00,9,  -999.00,9,     0.00,2,     0.00,2,     0.03,2, -999.000,9, -999.000,9,  -999.00,9,   -999.0,9,   -999.0,9,-999.0000,9,   -999.0,  9,  -999.00,9,   -999.0,  -999.00,9,  -999.00,9,  -999.00,9,  -999.00,9,   -999.0,-999.0000, -999,9,   25,  28.2010,  22.2585,   -999.0,9
       KS03-06,  NONE,KS-0828,  1,     20,02-16026,3,20030815,0013, 25.0002, 149.3243, 5822,     49.8,  23.9493,  34.8901,2,   -999.0,9,-999.0000,9,    231.0,2,  -999.00,9,  -999.00,9,     0.00,2,     0.00,2,     0.00,2, -999.000,9, -999.000,9,  -999.00,9,   -999.0,9,   -999.0,9,-999.0000,9,   -999.0,  9,  -999.00,9,   -999.0,  -999.00,9,  -999.00,9,  -999.00,9,  -999.00,9,   -999.0,-999.0000, -999,9,   49,  23.9389,  23.5762,   -999.0,9
       KS03-06,  NONE,KS-0828,  1,     19,02-16025,2,20030815,0012, 25.0002, 149.3243, 5822,     74.1,  20.4641,  34.8541,2,   -999.0,9,-999.0000,9,    236.0,2,  -999.00,9,  -999.00,9,     0.00,2,     0.00,2,     0.02,2, -999.000,9, -999.000,9,  -999.00,9,   -999.0,9,   -999.0,9,-999.0000,9,   -999.0,  9,  -999.00,9,   -999.0,  -999.00,9,  -999.00,9,  -999.00,9,  -999.00,9,   -999.0,-999.0000, -999,9,   74,  20.4502,  24.5310,   -999.0,9
       KS03-06,  NONE,KS-0828,  1,     18,02-16024,2,20030815,0011, 25.0002, 149.3243, 5822,     98.8,  19.0597,  34.8396,2,   -999.0,9,  34.8424,2,    225.0,2,  -999.00,9,  -999.00,9,     0.00,2,     0.05,2,     0.06,2, -999.000,9, -999.000,9,  -999.00,9,   -999.0,9,   -999.0,9,-999.0000,9,   -999.0,  9,  -999.00,9,   -999.0,  -999.00,9,  -999.00,9,  -999.00,9,  -999.00,9,   -999.0,-999.0000, -999,9,   98,  19.0421,  24.8878,   -999.0,9
       KS03-06,  NONE,KS-0828,  1,     17,02-16023,2,20030815,0010, 25.0002, 149.3243, 5822,    124.7,  18.2510,  34.8018,2,   -999.0,9,-999.0000,9,    217.0,2,  -999.00,9,  -999.00,9,     1.95,2,     0.08,2,     0.16,2, -999.000,9, -999.000,9,  -999.00,9,   -999.0,9,   -999.0,9,-999.0000,9,   -999.0,  9,  -999.00,9,   -999.0,  -999.00,9,  -999.00,9,  -999.00,9,  -999.00,9,   -999.0,-999.0000, -999,9,  124,  18.2294,  25.0636,   -999.0,9
       KS03-06,  NONE,KS-0828,  1,     16,02-16022,2,20030815,0008, 25.0002, 149.3243, 5822,    152.2,  17.9598,  34.7980,2,   -999.0,9,-999.0000,9,    213.0,2,  -999.00,9,  -999.00,9,     3.22,2,     0.01,2,     0.22,2, -999.000,9, -999.000,9,  -999.00,9,   -999.0,9,   -999.0,9,-999.0000,9,   -999.0,  9,  -999.00,9,   -999.0,  -999.00,9,  -999.00,9,  -999.00,9,  -999.00,9,   -999.0,-999.0000, -999,9,  151,  17.9338,  25.1336,   -999.0,9
       KS03-06,  NONE,KS-0828,  1,     15,02-16021,2,20030815,0007, 25.0002, 149.3243, 5822,    200.0,  17.3526,  34.7503,2,   -999.0,9,  34.7506,2,    212.0,2,  -999.00,9,  -999.00,9,     4.10,2,     0.00,2,     0.29,2, -999.000,9, -999.000,9,  -999.00,9,   -999.0,9,   -999.0,9,-999.0000,9,   -999.0,  9,  -999.00,9,   -999.0,  -999.00,9,  -999.00,9,  -999.00,9,  -999.00,9,   -999.0,-999.0000, -999,9,  199,  17.3192,  25.2464,   -999.0,9
       KS03-06,  NONE,KS-0828,  1,     14,02-16020,2,20030815,0006, 25.0002, 149.3243, 5822,    251.5,  16.8722,  34.7284,2,   -999.0,9,-999.0000,9,    210.0,2,  -999.00,9,  -999.00,9,     5.07,2,     0.00,2,     0.35,2, -999.000,9, -999.000,9,  -999.00,9,   -999.0,9,   -999.0,9,-999.0000,9,   -999.0,  9,  -999.00,9,   -999.0,  -999.00,9,  -999.00,9,  -999.00,9,  -999.00,9,   -999.0,-999.0000, -999,9,  250,  16.8309,  25.3458,   -999.0,9
       KS03-06,  NONE,KS-0828,  1,     13,02-16019,2,20030815,0004, 25.0002, 149.3243, 5822,    301.4,  16.4804,  34.7170,2,   -999.0,9,  34.7164,4,    211.0,2,  -999.00,9,  -999.00,9,     5.66,2,     0.00,2,     0.39,2, -999.000,9, -999.000,9,  -999.00,9,   -999.0,9,   -999.0,9,-999.0000,9,   -999.0,  9,  -999.00,9,   -999.0,  -999.00,9,  -999.00,9,  -999.00,9,  -999.00,9,   -999.0,-999.0000, -999,9,  299,  16.4317,  25.4305,   -999.0,9
       KS03-06,  NONE,KS-0828,  1,     12,02-16018,2,20030815,0002, 25.0002, 149.3243, 5822,    402.2,  14.1357,  34.5381,2,   -999.0,9,  34.5386,2,    191.0,2,  -999.00,9,  -999.00,9,    11.21,2,     0.00,2,     0.76,2, -999.000,9, -999.000,9,  -999.00,9,   -999.0,9,   -999.0,9,-999.0000,9,   -999.0,  9,  -999.00,9,   -999.0,  -999.00,9,  -999.00,9,  -999.00,9,  -999.00,9,   -999.0,-999.0000, -999,9,  399,  14.0770,  25.8140,   -999.0,9
       KS03-06,  NONE,KS-0828,  1,     11,02-16017,2,20030815,0000, 25.0002, 149.3243, 5822,    501.8,  10.7906,  34.2904,2,   -999.0,9,  34.2907,2,    183.0,2,  -999.00,9,  -999.00,9,    17.44,2,     0.00,2,     1.22,2, -999.000,9, -999.000,9,  -999.00,9,   -999.0,9,   -999.0,9,-999.0000,9,   -999.0,  9,  -999.00,9,   -999.0,  -999.00,9,  -999.00,9,  -999.00,9,  -999.00,9,   -999.0,-999.0000, -999,9,  498,  10.7291,  26.2713,   -999.0,9
       KS03-06,  NONE,KS-0828,  1,     10,02-16016,2,20030814,2357, 25.0002, 149.3243, 5822,    603.2,   8.2727,  34.1243,2,   -999.0,9,  34.1268,2,    162.0,2,  -999.00,9,  -999.00,9,    23.87,2,     0.00,2,     1.69,2, -999.000,9, -999.000,9,  -999.00,9,   -999.0,9,   -999.0,9,-999.0000,9,   -999.0,  9,  -999.00,9,   -999.0,  -999.00,9,  -999.00,9,  -999.00,9,  -999.00,9,   -999.0,-999.0000, -999,9,  598,   8.2096,  26.5547,   -999.0,9
       KS03-06,  NONE,KS-0828,  1,      9,02-16015,9,20030814,2355, 25.0002, 149.3243, 5822,    706.7,   6.1593,  34.0820,2,   -999.0,9,-999.0000,9,   -999.0,9,  -999.00,9,  -999.00,9,  -999.00,9,  -999.00,9,  -999.00,9, -999.000,9, -999.000,9,  -999.00,9,   -999.0,9,   -999.0,9,-999.0000,9,   -999.0,  9,  -999.00,9,   -999.0,  -999.00,9,  -999.00,9,  -999.00,9,  -999.00,9,   -999.0,-999.0000, -999,9,  701,   6.0962,  26.8150,   -999.0,9
       KS03-06,  NONE,KS-0828,  1,      8,02-16014,2,20030814,2355, 25.0002, 149.3243, 5822,    706.0,   6.1706,  34.0809,2,   -999.0,9,  34.0815,2,    114.0,2,  -999.00,9,  -999.00,9,    31.94,2,     0.00,2,     2.30,2, -999.000,9, -999.000,9,  -999.00,9,   -999.0,9,   -999.0,9,-999.0000,9,   -999.0,  9,  -999.00,9,   -999.0,  -999.00,9,  -999.00,9,  -999.00,9,  -999.00,9,   -999.0,-999.0000, -999,9,  700,   6.1075,  26.8127,   -999.0,9
       KS03-06,  NONE,KS-0828,  1,      7,02-16013,2,20030814,2353, 25.0002, 149.3243, 5822,    803.6,   4.9567,  34.1386,2,   -999.0,9,  34.1381,2,     76.0,2,  -999.00,9,  -999.00,9,    37.39,2,     0.00,2,     2.68,2, -999.000,9, -999.000,9,  -999.00,9,   -999.0,9,   -999.0,9,-999.0000,9,   -999.0,  9,  -999.00,9,   -999.0,  -999.00,9,  -999.00,9,  -999.00,9,  -999.00,9,   -999.0,-999.0000, -999,9,  797,   4.8916,  27.0046,   -999.0,9
       KS03-06,  NONE,KS-0828,  1,      6,02-16012,2,20030814,2350, 25.0002, 149.3243, 5822,    906.6,   4.3707,  34.2175,2,   -999.0,9,  34.2162,2,     56.0,2,  -999.00,9,  -999.00,9,    39.82,2,     0.00,2,     2.86,2, -999.000,9, -999.000,9,  -999.00,9,   -999.0,9,   -999.0,9,-999.0000,9,   -999.0,  9,  -999.00,9,   -999.0,  -999.00,9,  -999.00,9,  -999.00,9,  -999.00,9,   -999.0,-999.0000, -999,9,  899,   4.3006,  27.1322,   -999.0,9
       KS03-06,  NONE,KS-0828,  1,      5,02-16011,2,20030814,2348, 25.0002, 149.3243, 5822,   1007.7,   3.8354,  34.3089,2,   -999.0,9,  34.3086,2,     45.0,2,  -999.00,9,  -999.00,9,    41.47,2,     0.00,2,     2.98,2, -999.000,9, -999.000,9,  -999.00,9,   -999.0,9,   -999.0,9,-999.0000,9,   -999.0,  9,  -999.00,9,   -999.0,  -999.00,9,  -999.00,9,  -999.00,9,  -999.00,9,   -999.0,-999.0000, -999,9,  999,   3.7607,  27.2607,   -999.0,9
       KS03-06,  NONE,KS-0828,  1,      4,02-16010,2,20030814,2343, 25.0002, 149.3243, 5822,   1259.6,   3.1054,  34.4704,2,   -999.0,9,  34.4699,2,     56.0,2,  -999.00,9,  -999.00,9,    41.46,2,     0.00,2,     2.99,2, -999.000,9, -999.000,9,  -999.00,9,   -999.0,9,   -999.0,9,-999.0000,9,   -999.0,  9,  -999.00,9,   -999.0,  -999.00,9,  -999.00,9,  -999.00,9,  -999.00,9,   -999.0,-999.0000, -999,9, 1248,   3.0164,  27.4608,   -999.0,9
       KS03-06,  NONE,KS-0828,  1,      3,02-16009,2,20030814,2337, 25.0002, 149.3243, 5822,   1512.8,   2.4693,  34.5381,2,   -999.0,9,  34.5376,2,     65.0,2,  -999.00,9,  -999.00,9,    41.36,2,     0.00,2,     2.97,2, -999.000,9, -999.000,9,  -999.00,9,   -999.0,9,   -999.0,9,-999.0000,9,   -999.0,  9,  -999.00,9,   -999.0,  -999.00,9,  -999.00,9,  -999.00,9,  -999.00,9,   -999.0,-999.0000, -999,9, 1498,   2.3667,  27.5718,   -999.0,9
       KS03-06,  NONE,KS-0828,  1,      2,02-16008,2,20030814,2332, 25.0002, 149.3243, 5822,   1767.0,   2.0978,  34.5870,2,   -999.0,9,  34.5861,2,     85.0,2,  -999.00,9,  -999.00,9,    40.48,2,     0.00,2,     2.89,2, -999.000,9, -999.000,9,  -999.00,9,   -999.0,9,   -999.0,9,-999.0000,9,   -999.0,  9,  -999.00,9,   -999.0,  -999.00,9,  -999.00,9,  -999.00,9,  -999.00,9,   -999.0,-999.0000, -999,9, 1748,   1.9793,  27.6424,   -999.0,9
       KS03-06,  NONE,KS-0828,  1,      1,02-16007,2,20030814,2327, 25.0002, 149.3243, 5822,   2022.5,   1.8991,  34.6170,2,   -999.0,9,  34.6174,2,    103.0,2,  -999.00,9,  -999.00,9,    39.12,2,     0.00,2,     2.79,2, -999.000,9, -999.000,9,  -999.00,9,   -999.0,9,   -999.0,9,-999.0000,9,   -999.0,  9,  -999.00,9,   -999.0,  -999.00,9,  -999.00,9,  -999.00,9,  -999.00,9,   -999.0,-999.0000, -999,9, 2000,   1.7624,  27.6832,   -999.0,9