BOTTLE,20130510GEMDJMAYT
EXPOCODE,SECT_ID,STNNBR,CASTNO,SAMPNO,BTLNBR,BTLNBR_FLAG_W,DATE,TIME,LATITUDE,LONGITUDE,DEPTH,CTDPRS,CTDTMP,CTDSAL,CTDSAL_FLAG_W,CTDOXY,CTDOXY_FLAG_W,SALNTY,SALNTY_FLAG_W,OXYGEN,OXYGEN_FLAG_W,SILCAT,SILCAT_FLAG_W,NITRAT,NITRAT_FLAG_W,NO2+NO3,NO2+NO3_FLAG_W,NITRIT,NITRIT_FLAG_W,PHSPHT,PHSPHT_FLAG_W,CFC-11,CFC-11_FLAG_W,CFC-12,CFC-12_FLAG_W,DELC13,DELC13_FLAG_W,TCARBN,TCARBN_FLAG_W,ALKALI,ALKALI_FLAG_W,PH,PH_FLAG_W,PH_TMP,PH_SCALE,PH_NBS,PH_NBS_FLAG_W,C13ERR,TOTALP,TOTALP_FLAG_W,AMMONI,AMMONI_FLAG_W,CHLORA,CHLORA_FLAG_W,PPHYTN,PPHYTN_FLAG_W,REVPRS,REVTMP,DEPTH_,DEPTH_FLAG,CTDDEP,THETA,SIGTHT,DOC,DOC_FLAG_W
,,,,,,,GMT,GMT,,,METER,DBAR,ITS-90,PSS-78,,UMOL/KG,,PSS-78,,UMOL/KG,,UMOL/KG,,UMOL/KG,,UMOL/KG,,UMOL/KG,,UMOL/KG,,PMOL/KG,,PMOL/KG,,/MILLE,,UMOL/KG,,UMOL/KG,,25_DEG_C,,DEG_C,,,,/MILLE,UMOL/KG,,UMOL/KG,,UG/L,,UG/L,,DBAR,ITS-90,METERS,,METERS,DEG_C,,UMOL/L,
       KS03-06,  165E,KS-0753,  1,     24,02-16030,2,20030703,1140, 27.9932, 164.9967, 5636,      4.6,  26.3119,  34.7542,2,   -999.0,9,  34.7573,4,    214.0,2,  -999.00,9,  -999.00,9,     0.00,2,     0.00,2,     0.00,2, -999.000,9, -999.000,9,  -999.00,9,   1972.6,2,   -999.0,9,   8.0560,2,     25.0, TS,     8.19,2,   -999.0,  -999.00,9,  -999.00,9,     0.05,2,     0.02,2,   -999.0,-999.0000, -999,9,    5,  26.3109,  22.7507,   -999.0,9
       KS03-06,  165E,KS-0753,  1,     23,02-16029,2,20030703,1140, 27.9932, 164.9967, 5636,      9.6,  25.7315,  34.7533,2,   -999.0,9,-999.0000,9,    215.0,2,  -999.00,9,  -999.00,9,     0.00,2,     0.00,2,     0.00,2, -999.000,9, -999.000,9,  -999.00,9,   1971.0,2,   -999.0,9,   8.0542,2,     25.0, TS,     8.19,2,   -999.0,  -999.00,9,  -999.00,9,     0.05,2,     0.02,2,   -999.0,-999.0000, -999,9,   10,  25.7294,  22.9312,   -999.0,9
       KS03-06,  165E,KS-0753,  1,     22,02-16028,2,20030703,1138, 27.9932, 164.9967, 5636,     25.6,  22.7066,  34.8704,2,   -999.0,9,-999.0000,9,    235.0,2,  -999.00,9,  -999.00,9,     0.00,2,     0.00,2,     0.00,2, -999.000,9, -999.000,9,  -999.00,9,   1981.0,2,   -999.0,9,   8.0477,2,     25.0, TS,     8.18,2,   -999.0,  -999.00,9,  -999.00,9,     0.07,2,     0.03,2,   -999.0,-999.0000, -999,9,   25,  22.7014,  23.9210,   -999.0,9
       KS03-06,  165E,KS-0753,  1,     21,02-16027,2,20030703,1134, 27.9932, 164.9967, 5636,     49.2,  20.1404,  34.8578,2,   -999.0,9,-999.0000,9,    246.0,2,  -999.00,9,  -999.00,9,     0.00,2,     0.00,2,     0.02,2, -999.000,9, -999.000,9,  -999.00,9,   1987.4,2,   -999.0,9,   8.0376,2,     25.0, TS,     8.17,2,   -999.0,  -999.00,9,  -999.00,9,     0.09,2,     0.04,2,   -999.0,-999.0000, -999,9,   49,  20.1313,  24.6186,   -999.0,9
       KS03-06,  165E,KS-0753,  1,     20,02-16026,2,20030703,1133, 27.9932, 164.9967, 5636,     75.7,  18.3641,  34.7811,2,   -999.0,9,-999.0000,9,    246.0,2,  -999.00,9,  -999.00,9,     0.00,2,     0.00,2,     0.05,2, -999.000,9, -999.000,9,  -999.00,9,   1996.6,2,   -999.0,9,   8.0221,2,     25.0, TS,     8.15,2,   -999.0,  -999.00,9,  -999.00,9,     0.11,2,     0.17,2,   -999.0,-999.0000, -999,9,   75,  18.3510,  25.0174,   -999.0,9
       KS03-06,  165E,KS-0753,  1,     19,02-16025,9,20030703,1132, 27.9932, 164.9967, 5636,    101.3,  17.3741,  34.7420,2,   -999.0,9,-999.0000,9,   -999.0,9,  -999.00,9,  -999.00,9,  -999.00,9,  -999.00,9,  -999.00,9, -999.000,9, -999.000,9,  -999.00,9,   -999.0,9,   -999.0,9,-999.0000,9,   -999.0,  9,  -999.00,9,   -999.0,  -999.00,9,  -999.00,9,  -999.00,9,  -999.00,9,   -999.0,-999.0000, -999,9,  101,  17.3572,  25.2309,   -999.0,9
       KS03-06,  165E,KS-0753,  1,     18,02-16024,2,20030703,1132, 27.9932, 164.9967, 5636,    100.5,  17.2536,  34.7323,2,   -999.0,9,  34.7380,4,    234.0,2,  -999.00,9,  -999.00,9,     1.46,2,     0.24,2,     0.15,2, -999.000,9, -999.000,9,  -999.00,9,   2007.4,2,   -999.0,9,   7.9957,2,     25.0, TS,     8.13,2,   -999.0,  -999.00,9,  -999.00,9,     0.23,2,     0.59,2,   -999.0,-999.0000, -999,9,  100,  17.2369,  25.2523,   -999.0,9
       KS03-06,  165E,KS-0753,  1,     17,02-16023,2,20030703,1131, 27.9932, 164.9967, 5636,    126.4,  16.8321,  34.7156,2,   -999.0,9,-999.0000,9,    226.0,2,  -999.00,9,  -999.00,9,     3.71,2,     0.01,2,     0.24,2, -999.000,9, -999.000,9,  -999.00,9,   2016.2,2,   -999.0,9,   7.9795,2,     25.0, TS,     8.11,2,   -999.0,  -999.00,9,  -999.00,9,     0.06,2,     0.11,2,   -999.0,-999.0000, -999,9,  125,  16.8115,  25.3405,   -999.0,9
       KS03-06,  165E,KS-0753,  1,     16,02-16022,2,20030703,1130, 27.9932, 164.9967, 5636,    151.1,  16.7118,  34.7158,2,   -999.0,9,-999.0000,9,    227.0,2,  -999.00,9,  -999.00,9,     3.90,2,     0.01,2,     0.26,2, -999.000,9, -999.000,9,  -999.00,9,   2016.5,2,   -999.0,9,   7.9779,2,     25.0, TS,     8.10,2,   -999.0,  -999.00,9,  -999.00,9,  -999.00,4,  -999.00,4,   -999.0,-999.0000, -999,9,  150,  16.6872,  25.3699,   -999.0,9
       KS03-06,  165E,KS-0753,  1,     15,02-16021,2,20030703,1128, 27.9932, 164.9967, 5636,    201.2,  16.5774,  34.7403,2,   -999.0,9,  34.7408,2,    226.0,2,  -999.00,9,  -999.00,9,     4.29,2,     0.01,2,     0.29,2, -999.000,9, -999.000,9,  -999.00,9,   2022.1,2,   -999.0,9,   7.9796,2,     25.0, TS,     8.10,2,   -999.0,  -999.00,9,  -999.00,9,     0.00,2,     0.01,2,   -999.0,-999.0000, -999,9,  200,  16.5448,  25.4221,   -999.0,9
       KS03-06,  165E,KS-0753,  1,     14,02-16020,2,20030703,1126, 27.9932, 164.9967, 5636,    251.3,  15.9444,  34.6678,2,   -999.0,9,-999.0000,9,    213.0,2,  -999.00,9,  -999.00,9,     6.44,2,     0.00,2,     0.44,2, -999.000,9, -999.000,9,  -999.00,9,   2032.8,2,   -999.0,9,   7.9439,2,     25.0, TS,     8.06,2,   -999.0,  -999.00,9,  -999.00,9,     0.00,2,     0.01,2,   -999.0,-999.0000, -999,9,  249,  15.9048,  25.5137,   -999.0,9
       KS03-06,  165E,KS-0753,  1,     13,02-16019,2,20030703,1125, 27.9932, 164.9967, 5636,    301.0,  14.9341,  34.5924,2,   -999.0,9,  34.5932,2,    208.0,2,  -999.00,9,  -999.00,9,     8.48,2,     0.00,2,     0.58,2, -999.000,9, -999.000,9,  -999.00,9,   2045.8,2,   -999.0,9,   7.9116,2,     25.0, TS,     8.03,2,   -999.0,  -999.00,9,  -999.00,9,     0.00,2,     0.00,2,   -999.0,-999.0000, -999,9,  299,  14.8887,  25.6820,   -999.0,9
       KS03-06,  165E,KS-0753,  1,     12,02-16018,2,20030703,1123, 27.9932, 164.9967, 5636,    401.9,  12.9436,  34.4517,2,   -999.0,9,  34.4512,2,    214.0,3,  -999.00,9,  -999.00,9,    11.21,2,     0.00,2,     0.77,2, -999.000,9, -999.000,9,  -999.00,9,   2072.0,2,   -999.0,9,   7.8693,2,     25.0, TS,     7.99,2,   -999.0,  -999.00,9,  -999.00,9,  -999.00,9,  -999.00,9,   -999.0,-999.0000, -999,9,  399,  12.8884,  25.9904,   -999.0,9
       KS03-06,  165E,KS-0753,  1,     11,02-16017,2,20030703,1121, 27.9932, 164.9967, 5636,    502.3,  10.5770,  34.2590,2,   -999.0,9,  34.2621,4,    195.0,2,  -999.00,9,  -999.00,9,    16.86,2,     0.00,2,     1.18,2, -999.000,9, -999.000,9,  -999.00,9,   2115.5,2,   -999.0,9,   7.7786,2,     25.0, TS,     7.89,2,   -999.0,  -999.00,9,  -999.00,9,  -999.00,9,  -999.00,9,   -999.0,-999.0000, -999,9,  498,  10.5163,  26.2843,   -999.0,9
       KS03-06,  165E,KS-0753,  1,     10,02-16016,2,20030703,1118, 27.9932, 164.9967, 5636,    604.3,   8.1069,  34.0784,2,   -999.0,9,  34.0815,4,    182.0,2,  -999.00,9,  -999.00,9,    22.41,2,     0.00,2,     1.59,2, -999.000,9, -999.000,9,  -999.00,9,   2154.8,2,   -999.0,9,   7.6867,2,     25.0, TS,     7.80,2,   -999.0,  -999.00,9,  -999.00,9,  -999.00,9,  -999.00,9,   -999.0,-999.0000, -999,9,  599,   8.0445,  26.5434,   -999.0,9
       KS03-06,  165E,KS-0753,  1,      9,02-16015,2,20030703,1115, 27.9932, 164.9967, 5636,    704.6,   6.1085,  34.0234,2,   -999.0,9,  34.0237,2,    136.0,2,  -999.00,9,  -999.00,9,    30.29,2,     0.00,2,     2.17,2, -999.000,9, -999.000,9,  -999.00,9,   2214.2,2,   -999.0,9,   7.5557,2,     25.0, TS,     7.66,2,   -999.0,  -999.00,9,  -999.00,9,  -999.00,9,  -999.00,9,   -999.0,-999.0000, -999,9,  699,   6.0459,  26.7752,   -999.0,9
       KS03-06,  165E,KS-0753,  1,      8,02-16014,2,20030703,1113, 27.9932, 164.9967, 5636,    806.2,   5.0243,  34.0959,2,   -999.0,9,  34.0952,2,     88.0,2,  -999.00,9,  -999.00,9,    36.42,2,     0.00,2,     2.60,2, -999.000,9, -999.000,9,  -999.00,9,   2270.3,2,   -999.0,9,   7.4574,2,     25.0, TS,     7.56,2,   -999.0,  -999.00,9,  -999.00,9,  -999.00,9,  -999.00,9,   -999.0,-999.0000, -999,9,  799,   4.9586,  26.9632,   -999.0,9
       KS03-06,  165E,KS-0753,  1,      7,02-16013,2,20030703,1111, 27.9932, 164.9967, 5636,    906.8,   4.3009,  34.1821,2,   -999.0,9,  34.1838,4,     60.0,2,  -999.00,9,  -999.00,9,    39.72,2,     0.00,2,     2.84,2, -999.000,9, -999.000,9,  -999.00,9,   2308.9,2,   -999.0,9,   7.4067,2,     25.0, TS,     7.50,2,   -999.0,  -999.00,9,  -999.00,9,  -999.00,9,  -999.00,9,   -999.0,-999.0000, -999,9,  899,   4.2313,  27.1115,   -999.0,9
       KS03-06,  165E,KS-0753,  1,      6,02-16012,9,20030703,1108, 27.9932, 164.9967, 5636,   1007.9,   3.8377,  34.2654,2,   -999.0,9,-999.0000,9,   -999.0,9,  -999.00,9,  -999.00,9,  -999.00,9,  -999.00,9,  -999.00,9, -999.000,9, -999.000,9,  -999.00,9,   -999.0,9,   -999.0,9,-999.0000,9,   -999.0,  9,  -999.00,9,   -999.0,  -999.00,9,  -999.00,9,  -999.00,9,  -999.00,9,   -999.0,-999.0000, -999,9,  999,   3.7630,  27.2258,   -999.0,9
       KS03-06,  165E,KS-0753,  1,      5,02-16011,2,20030703,1108, 27.9932, 164.9967, 5636,   1007.7,   3.8401,  34.2646,2,   -999.0,9,  34.2642,2,     43.0,2,  -999.00,9,  -999.00,9,    41.57,2,     0.00,2,     2.98,2, -999.000,9, -999.000,9,  -999.00,9,   2332.9,2,   -999.0,9,   7.3808,2,     25.0, TS,     7.48,2,   -999.0,  -999.00,9,  -999.00,9,  -999.00,9,  -999.00,9,   -999.0,-999.0000, -999,9,  999,   3.7654,  27.2250,   -999.0,9
       KS03-06,  165E,KS-0753,  1,      4,02-16010,2,20030703,1101, 27.9932, 164.9967, 5636,   1261.2,   2.9694,  34.4291,2,   -999.0,9,  34.4275,2,     34.0,2,  -999.00,9,  -999.00,9,    43.21,2,     0.00,2,     3.09,2, -999.000,9, -999.000,9,  -999.00,9,   -999.0,9,   -999.0,9,-999.0000,9,   -999.0,  9,     7.47,2,   -999.0,  -999.00,9,  -999.00,9,  -999.00,9,  -999.00,9,   -999.0,-999.0000, -999,9, 1249,   2.8817,  27.4400,   -999.0,9
       KS03-06,  165E,KS-0753,  1,      3,02-16009,4,20030703,1057, 27.9932, 164.9967, 5636,   1514.4,   2.5002,  34.5109,2,   -999.0,9,-999.0000,9,   -999.0,9,  -999.00,9,  -999.00,9,  -999.00,9,  -999.00,9,  -999.00,9, -999.000,9, -999.000,9,  -999.00,9,   -999.0,9,   -999.0,9,-999.0000,9,   -999.0,  9,  -999.00,9,   -999.0,  -999.00,9,  -999.00,9,  -999.00,9,  -999.00,9,   -999.0,-999.0000, -999,9, 1499,   2.3971,  27.5475,   -999.0,9
       KS03-06,  165E,KS-0753,  1,      2,02-16008,3,20030703,1049, 27.9932, 164.9967, 5636,   1766.8,   2.1663,  34.5636,2,   -999.0,9,  34.5624,2,     59.0,2,  -999.00,9,  -999.00,9,    42.14,2,     0.00,2,     3.00,2, -999.000,9, -999.000,9,  -999.00,9,   -999.0,9,   -999.0,9,-999.0000,9,   -999.0,  9,     7.53,2,   -999.0,  -999.00,9,  -999.00,9,  -999.00,9,  -999.00,9,   -999.0,-999.0000, -999,9, 1748,   2.0470,  27.6183,   -999.0,9
       KS03-06,  165E,KS-0753,  1,      1,02-16007,2,20030703,1042, 27.9932, 164.9967, 5636,   2021.4,   1.9065,  34.6069,2,   -999.0,9,  34.6058,2,     82.0,2,  -999.00,9,  -999.00,9,    40.77,2,     0.00,2,     2.88,2, -999.000,9, -999.000,9,  -999.00,9,   -999.0,9,   -999.0,9,-999.0000,9,   -999.0,  9,     7.58,2,   -999.0,  -999.00,9,  -999.00,9,  -999.00,9,  -999.00,9,   -999.0,-999.0000, -999,9, 1998,   1.7698,  27.6746,   -999.0,9