BOTTLE,20130510GEMDJMAYT
EXPOCODE,SECT_ID,STNNBR,CASTNO,SAMPNO,BTLNBR,BTLNBR_FLAG_W,DATE,TIME,LATITUDE,LONGITUDE,DEPTH,CTDPRS,CTDTMP,CTDSAL,CTDSAL_FLAG_W,CTDOXY,CTDOXY_FLAG_W,SALNTY,SALNTY_FLAG_W,OXYGEN,OXYGEN_FLAG_W,SILCAT,SILCAT_FLAG_W,NITRAT,NITRAT_FLAG_W,NO2+NO3,NO2+NO3_FLAG_W,NITRIT,NITRIT_FLAG_W,PHSPHT,PHSPHT_FLAG_W,CFC-11,CFC-11_FLAG_W,CFC-12,CFC-12_FLAG_W,DELC13,DELC13_FLAG_W,TCARBN,TCARBN_FLAG_W,ALKALI,ALKALI_FLAG_W,PH,PH_FLAG_W,PH_TMP,PH_SCALE,PH_NBS,PH_NBS_FLAG_W,C13ERR,TOTALP,TOTALP_FLAG_W,AMMONI,AMMONI_FLAG_W,CHLORA,CHLORA_FLAG_W,PPHYTN,PPHYTN_FLAG_W,REVPRS,REVTMP,DEPTH_,DEPTH_FLAG,CTDDEP,THETA,SIGTHT,DOC,DOC_FLAG_W
,,,,,,,GMT,GMT,,,METER,DBAR,ITS-90,PSS-78,,UMOL/KG,,PSS-78,,UMOL/KG,,UMOL/KG,,UMOL/KG,,UMOL/KG,,UMOL/KG,,UMOL/KG,,PMOL/KG,,PMOL/KG,,/MILLE,,UMOL/KG,,UMOL/KG,,25_DEG_C,,DEG_C,,,,/MILLE,UMOL/KG,,UMOL/KG,,UG/L,,UG/L,,DBAR,ITS-90,METERS,,METERS,DEG_C,,UMOL/L,
       KS03-06,  NONE,KS-0744,  1,     24,02-16030,2,20030629,1739, 27.9908, 147.0218, 5719,      5.3,  26.2601,  34.7209,2,   -999.0,9,  34.7229,2,    210.0,2,  -999.00,9,  -999.00,9,     0.00,2,     0.00,2,     0.02,2, -999.000,9, -999.000,9,  -999.00,9,   -999.0,9,   -999.0,9,-999.0000,9,   -999.0,  9,  -999.00,9,   -999.0,  -999.00,9,  -999.00,9,  -999.00,9,  -999.00,9,   -999.0,-999.0000, -999,9,    5,  26.2589,  22.7419,   -999.0,9
       KS03-06,  NONE,KS-0744,  1,     23,02-16029,2,20030629,1738, 27.9908, 147.0218, 5719,      9.0,  26.2633,  34.7200,2,   -999.0,9,-999.0000,9,    209.0,2,  -999.00,9,  -999.00,9,     0.00,2,     0.00,2,     0.01,2, -999.000,9, -999.000,9,  -999.00,9,   -999.0,9,   -999.0,9,-999.0000,9,   -999.0,  9,  -999.00,9,   -999.0,  -999.00,9,  -999.00,9,  -999.00,9,  -999.00,9,   -999.0,-999.0000, -999,9,    9,  26.2613,  22.7404,   -999.0,9
       KS03-06,  NONE,KS-0744,  1,     22,02-16028,2,20030629,1737, 27.9908, 147.0218, 5719,     25.1,  25.6623,  34.7433,2,   -999.0,9,-999.0000,9,    214.0,2,  -999.00,9,  -999.00,9,     0.00,2,     0.00,2,     0.01,2, -999.000,9, -999.000,9,  -999.00,9,   -999.0,9,   -999.0,9,-999.0000,9,   -999.0,  9,  -999.00,9,   -999.0,  -999.00,9,  -999.00,9,  -999.00,9,  -999.00,9,   -999.0,-999.0000, -999,9,   25,  25.6568,  22.9461,   -999.0,9
       KS03-06,  NONE,KS-0744,  1,     21,02-16027,2,20030629,1736, 27.9908, 147.0218, 5719,     50.1,  21.8945,  34.8076,2,   -999.0,9,-999.0000,9,    233.0,2,  -999.00,9,  -999.00,9,     0.00,2,     0.00,2,     0.01,2, -999.000,9, -999.000,9,  -999.00,9,   -999.0,9,   -999.0,9,-999.0000,9,   -999.0,  9,  -999.00,9,   -999.0,  -999.00,9,  -999.00,9,  -999.00,9,  -999.00,9,   -999.0,-999.0000, -999,9,   50,  21.8846,  24.1038,   -999.0,9
       KS03-06,  NONE,KS-0744,  1,     20,02-16026,2,20030629,1735, 27.9908, 147.0218, 5719,     75.3,  20.2951,  34.8758,2,   -999.0,9,-999.0000,9,    233.0,2,  -999.00,9,  -999.00,9,     0.00,2,     0.00,2,     0.02,2, -999.000,9, -999.000,9,  -999.00,9,   -999.0,9,   -999.0,9,-999.0000,9,   -999.0,  9,  -999.00,9,   -999.0,  -999.00,9,  -999.00,9,  -999.00,9,  -999.00,9,   -999.0,-999.0000, -999,9,   75,  20.2811,  24.5926,   -999.0,9
       KS03-06,  NONE,KS-0744,  1,     19,02-16025,2,20030629,1732, 27.9908, 147.0218, 5719,    100.1,  19.7479,  34.8898,2,   -999.0,9,  34.8869,4,    229.0,2,  -999.00,9,  -999.00,9,     0.00,2,     0.00,2,     0.04,2, -999.000,9, -999.000,9,  -999.00,9,   -999.0,9,   -999.0,9,-999.0000,9,   -999.0,  9,  -999.00,9,   -999.0,  -999.00,9,  -999.00,9,  -999.00,9,  -999.00,9,   -999.0,-999.0000, -999,9,   99,  19.7296,  24.7486,   -999.0,9
       KS03-06,  NONE,KS-0744,  1,     18,02-16024,2,20030629,1731, 27.9908, 147.0218, 5719,    124.4,  18.9198,  34.8538,2,   -999.0,9,-999.0000,9,    223.0,2,  -999.00,9,  -999.00,9,     1.27,2,     0.20,2,     0.11,2, -999.000,9, -999.000,9,  -999.00,9,   -999.0,9,   -999.0,9,-999.0000,9,   -999.0,  9,  -999.00,9,   -999.0,  -999.00,9,  -999.00,9,  -999.00,9,  -999.00,9,   -999.0,-999.0000, -999,9,  124,  18.8977,  24.9355,   -999.0,9
       KS03-06,  NONE,KS-0744,  1,     17,02-16023,2,20030629,1729, 27.9908, 147.0218, 5719,    150.5,  18.3517,  34.8247,2,   -999.0,9,-999.0000,9,    222.0,2,  -999.00,9,  -999.00,9,     1.85,2,     0.17,2,     0.15,2, -999.000,9, -999.000,9,  -999.00,9,   -999.0,9,   -999.0,9,-999.0000,9,   -999.0,  9,  -999.00,9,   -999.0,  -999.00,9,  -999.00,9,  -999.00,9,  -999.00,9,   -999.0,-999.0000, -999,9,  149,  18.3256,  25.0572,   -999.0,9
       KS03-06,  NONE,KS-0744,  1,     16,02-16022,2,20030629,1727, 27.9908, 147.0218, 5719,    200.9,  18.1465,  34.8377,2,   -999.0,9,  34.8371,4,    221.0,2,  -999.00,9,  -999.00,9,     2.44,2,     0.01,2,     0.18,2, -999.000,9, -999.000,9,  -999.00,9,   -999.0,9,   -999.0,9,-999.0000,9,   -999.0,  9,  -999.00,9,   -999.0,  -999.00,9,  -999.00,9,  -999.00,9,  -999.00,9,   -999.0,-999.0000, -999,9,  199,  18.1118,  25.1201,   -999.0,9
       KS03-06,  NONE,KS-0744,  1,     15,02-16021,2,20030629,1725, 27.9908, 147.0218, 5719,    251.2,  17.5627,  34.7795,2,   -999.0,9,-999.0000,9,    215.0,2,  -999.00,9,  -999.00,9,     3.71,2,     0.01,2,     0.26,2, -999.000,9, -999.000,9,  -999.00,9,   -999.0,9,   -999.0,9,-999.0000,9,   -999.0,  9,  -999.00,9,   -999.0,  -999.00,9,  -999.00,9,  -999.00,9,  -999.00,9,   -999.0,-999.0000, -999,9,  249,  17.5203,  25.2203,   -999.0,9
       KS03-06,  NONE,KS-0744,  1,     14,02-16020,2,20030629,1723, 27.9908, 147.0218, 5719,    301.0,  16.9339,  34.7333,2,   -999.0,9,  34.7329,2,    213.0,2,  -999.00,9,  -999.00,9,     4.88,2,     0.00,2,     0.34,2, -999.000,9, -999.000,9,  -999.00,9,   -999.0,9,   -999.0,9,-999.0000,9,   -999.0,  9,  -999.00,9,   -999.0,  -999.00,9,  -999.00,9,  -999.00,9,  -999.00,9,   -999.0,-999.0000, -999,9,  299,  16.8843,  25.3370,   -999.0,9
       KS03-06,  NONE,KS-0744,  1,     13,02-16019,2,20030629,1720, 27.9908, 147.0218, 5719,    401.0,  14.9580,  34.5925,2,   -999.0,9,  34.5910,4,    194.0,2,  -999.00,9,  -999.00,9,     9.65,2,     0.00,2,     0.66,2, -999.000,9, -999.000,9,  -999.00,9,   -999.0,9,   -999.0,9,-999.0000,9,   -999.0,  9,  -999.00,9,   -999.0,  -999.00,9,  -999.00,9,  -999.00,9,  -999.00,9,   -999.0,-999.0000, -999,9,  398,  14.8972,  25.6802,   -999.0,9
       KS03-06,  NONE,KS-0744,  1,     12,02-16018,2,20030629,1715, 27.9908, 147.0218, 5719,    503.5,  12.5028,  34.4238,2,   -999.0,9,  34.4255,2,    186.0,2,  -999.00,9,  -999.00,9,    14.13,2,     0.00,2,     0.99,2, -999.000,9, -999.000,9,  -999.00,9,   -999.0,9,   -999.0,9,-999.0000,9,   -999.0,  9,  -999.00,9,   -999.0,  -999.00,9,  -999.00,9,  -999.00,9,  -999.00,9,   -999.0,-999.0000, -999,9,  500,  12.4349,  26.0579,   -999.0,9
       KS03-06,  NONE,KS-0744,  1,     11,02-16017,2,20030629,1711, 27.9908, 147.0218, 5719,    603.1,   9.4282,  34.2087,2,   -999.0,9,  34.2164,4,    167.0,2,  -999.00,9,  -999.00,9,    21.24,2,     0.00,2,     1.51,2, -999.000,9, -999.000,9,  -999.00,9,   -999.0,9,   -999.0,9,-999.0000,9,   -999.0,  9,  -999.00,9,   -999.0,  -999.00,9,  -999.00,9,  -999.00,9,  -999.00,9,   -999.0,-999.0000, -999,9,  598,   9.3600,  26.4404,   -999.0,9
       KS03-06,  NONE,KS-0744,  1,     10,02-16016,2,20030629,1709, 27.9908, 147.0218, 5719,    704.0,   6.7759,  34.0805,2,   -999.0,9,  34.0815,2,    133.0,2,  -999.00,9,  -999.00,9,    29.22,2,     0.00,2,     2.08,2, -999.000,9, -999.000,9,  -999.00,9,   -999.0,9,   -999.0,9,-999.0000,9,   -999.0,  9,  -999.00,9,   -999.0,  -999.00,9,  -999.00,9,  -999.00,9,  -999.00,9,   -999.0,-999.0000, -999,9,  698,   6.7097,  26.7338,   -999.0,9
       KS03-06,  NONE,KS-0744,  1,      9,02-16015,2,20030629,1704, 27.9908, 147.0218, 5719,    805.1,   5.2948,  34.1222,2,   -999.0,9,  34.1207,2,     91.0,2,  -999.00,9,  -999.00,9,    35.44,2,     0.00,2,     2.54,2, -999.000,9, -999.000,9,  -999.00,9,   -999.0,9,   -999.0,9,-999.0000,9,   -999.0,  9,  -999.00,9,   -999.0,  -999.00,9,  -999.00,9,  -999.00,9,  -999.00,9,   -999.0,-999.0000, -999,9,  798,   5.2275,  26.9529,   -999.0,9
       KS03-06,  NONE,KS-0744,  1,      8,02-16014,9,20030629,1702, 27.9908, 147.0218, 5719,    907.2,   4.5897,  34.1962,2,   -999.0,9,-999.0000,9,   -999.0,9,  -999.00,9,  -999.00,9,  -999.00,9,  -999.00,9,  -999.00,9, -999.000,9, -999.000,9,  -999.00,9,   -999.0,9,   -999.0,9,-999.0000,9,   -999.0,  9,  -999.00,9,   -999.0,  -999.00,9,  -999.00,9,  -999.00,9,  -999.00,9,   -999.0,-999.0000, -999,9,  899,   4.5180,  27.0919,   -999.0,9
       KS03-06,  NONE,KS-0744,  1,      7,02-16013,2,20030629,1702, 27.9908, 147.0218, 5719,    907.0,   4.5898,  34.1957,2,   -999.0,9,  34.1952,2,     68.0,2,  -999.00,9,  -999.00,9,    38.36,2,     0.00,2,     2.75,2, -999.000,9, -999.000,9,  -999.00,9,   -999.0,9,   -999.0,9,-999.0000,9,   -999.0,  9,  -999.00,9,   -999.0,  -999.00,9,  -999.00,9,  -999.00,9,  -999.00,9,   -999.0,-999.0000, -999,9,  899,   4.5182,  27.0915,   -999.0,9
       KS03-06,  NONE,KS-0744,  1,      6,02-16012,9,20030629,1659, 27.9908, 147.0218, 5719,   1008.0,   3.9671,  34.2798,2,   -999.0,9,-999.0000,9,   -999.0,9,  -999.00,9,  -999.00,9,  -999.00,9,  -999.00,9,  -999.00,9, -999.000,9, -999.000,9,  -999.00,9,   -999.0,9,   -999.0,9,-999.0000,9,   -999.0,  9,  -999.00,9,   -999.0,  -999.00,9,  -999.00,9,  -999.00,9,  -999.00,9,   -999.0,-999.0000, -999,9,  999,   3.8914,  27.2243,   -999.0,9
       KS03-06,  NONE,KS-0744,  1,      5,02-16011,2,20030629,1659, 27.9908, 147.0218, 5719,   1007.9,   3.9683,  34.2795,2,   -999.0,9,  34.2787,2,     50.0,2,  -999.00,9,  -999.00,9,    40.79,2,     0.00,2,     2.93,2, -999.000,9, -999.000,9,  -999.00,9,   -999.0,9,   -999.0,9,-999.0000,9,   -999.0,  9,  -999.00,9,   -999.0,  -999.00,9,  -999.00,9,  -999.00,9,  -999.00,9,   -999.0,-999.0000, -999,9,  999,   3.8926,  27.2240,   -999.0,9
       KS03-06,  NONE,KS-0744,  1,      4,02-16010,2,20030629,1642, 27.9908, 147.0218, 5719,   1261.3,   3.1479,  34.4284,2,   -999.0,9,  34.4235,4,     46.0,2,  -999.00,9,  -999.00,9,    42.05,2,     0.00,2,     3.02,2, -999.000,9, -999.000,9,  -999.00,9,   -999.0,9,   -999.0,9,-999.0000,9,   -999.0,  9,  -999.00,9,   -999.0,  -999.00,9,  -999.00,9,  -999.00,9,  -999.00,9,   -999.0,-999.0000, -999,9, 1249,   3.0584,  27.4234,   -999.0,9
       KS03-06,  NONE,KS-0744,  1,      3,02-16009,2,20030629,1631, 27.9908, 147.0218, 5719,   1510.4,   2.6184,  34.5078,2,   -999.0,9,  34.5052,4,     56.0,2,  -999.00,9,  -999.00,9,    41.85,2,     0.00,2,     2.99,2, -999.000,9, -999.000,9,  -999.00,9,   -999.0,9,   -999.0,9,-999.0000,9,   -999.0,  9,  -999.00,9,   -999.0,  -999.00,9,  -999.00,9,  -999.00,9,  -999.00,9,   -999.0,-999.0000, -999,9, 1495,   2.5143,  27.5351,   -999.0,9
       KS03-06,  NONE,KS-0744,  1,      2,02-16008,3,20030629,1618, 27.9908, 147.0218, 5719,   1766.5,   2.2241,  34.5590,2,   -999.0,9,  34.5582,2,     69.0,2,  -999.00,9,  -999.00,9,    41.36,2,     0.00,2,     2.94,2, -999.000,9, -999.000,9,  -999.00,9,   -999.0,9,   -999.0,9,-999.0000,9,   -999.0,  9,  -999.00,9,   -999.0,  -999.00,9,  -999.00,9,  -999.00,9,  -999.00,9,   -999.0,-999.0000, -999,9, 1747,   2.1040,  27.6101,   -999.0,9
       KS03-06,  NONE,KS-0744,  1,      1,02-16007,2,20030629,1612, 27.9908, 147.0218, 5719,   2021.9,   1.9752,  34.6013,2,   -999.0,9,  34.5985,4,    114.0,4,  -999.00,9,  -999.00,9,    39.99,2,     0.00,2,     2.83,2, -999.000,9, -999.000,9,  -999.00,9,   -999.0,9,   -999.0,9,-999.0000,9,   -999.0,  9,  -999.00,9,   -999.0,  -999.00,9,  -999.00,9,  -999.00,9,  -999.00,9,   -999.0,-999.0000, -999,9, 1999,   1.8374,  27.6649,   -999.0,9