BOTTLE,20130510GEMDJMAYT
EXPOCODE,SECT_ID,STNNBR,CASTNO,SAMPNO,BTLNBR,BTLNBR_FLAG_W,DATE,TIME,LATITUDE,LONGITUDE,DEPTH,CTDPRS,CTDTMP,CTDSAL,CTDSAL_FLAG_W,CTDOXY,CTDOXY_FLAG_W,SALNTY,SALNTY_FLAG_W,OXYGEN,OXYGEN_FLAG_W,SILCAT,SILCAT_FLAG_W,NITRAT,NITRAT_FLAG_W,NO2+NO3,NO2+NO3_FLAG_W,NITRIT,NITRIT_FLAG_W,PHSPHT,PHSPHT_FLAG_W,CFC-11,CFC-11_FLAG_W,CFC-12,CFC-12_FLAG_W,DELC13,DELC13_FLAG_W,TCARBN,TCARBN_FLAG_W,ALKALI,ALKALI_FLAG_W,PH,PH_FLAG_W,PH_TMP,PH_SCALE,PH_NBS,PH_NBS_FLAG_W,C13ERR,TOTALP,TOTALP_FLAG_W,AMMONI,AMMONI_FLAG_W,CHLORA,CHLORA_FLAG_W,PPHYTN,PPHYTN_FLAG_W,REVPRS,REVTMP,DEPTH_,DEPTH_FLAG,CTDDEP,THETA,SIGTHT,DOC,DOC_FLAG_W
,,,,,,,GMT,GMT,,,METER,DBAR,ITS-90,PSS-78,,UMOL/KG,,PSS-78,,UMOL/KG,,UMOL/KG,,UMOL/KG,,UMOL/KG,,UMOL/KG,,UMOL/KG,,PMOL/KG,,PMOL/KG,,/MILLE,,UMOL/KG,,UMOL/KG,,25_DEG_C,,DEG_C,,,,/MILLE,UMOL/KG,,UMOL/KG,,UG/L,,UG/L,,DBAR,ITS-90,METERS,,METERS,DEG_C,,UMOL/L,
       KS03-06,  NONE,KS-0847,  1,     24,02-16030,2,20030818,2109, 34.9365, 140.2362, 2158,      4.3,  25.4424,  33.9218,2,   -999.0,9,  33.9193,4,    209.0,2,  -999.00,9,  -999.00,9,     0.29,2,     0.02,2,     0.03,2, -999.000,9, -999.000,9,  -999.00,9,   -999.0,9,   -999.0,9,-999.0000,9,   -999.0,  9,  -999.00,9,   -999.0,  -999.00,9,  -999.00,9,     0.59,2,     0.40,2,   -999.0,-999.0000, -999,9,    4,  25.4415,  22.3922,   -999.0,9
       KS03-06,  NONE,KS-0847,  1,     23,02-16029,2,20030818,2109, 34.9365, 140.2362, 2158,      9.7,  25.1813,  33.8714,2,   -999.0,9,-999.0000,9,    210.0,2,  -999.00,9,  -999.00,9,     0.49,2,     0.04,2,     0.05,2, -999.000,9, -999.000,9,  -999.00,9,   -999.0,9,   -999.0,9,-999.0000,9,   -999.0,  9,  -999.00,9,   -999.0,  -999.00,9,  -999.00,9,     0.67,2,     0.44,2,   -999.0,-999.0000, -999,9,   10,  25.1792,  22.4342,   -999.0,9
       KS03-06,  NONE,KS-0847,  1,     22,02-16028,2,20030818,2107, 34.9365, 140.2362, 2158,     24.7,  23.6383,  33.6364,2,   -999.0,9,-999.0000,9,    208.0,2,  -999.00,9,  -999.00,9,     1.86,2,     0.15,2,     0.18,2, -999.000,9, -999.000,9,  -999.00,9,   -999.0,9,   -999.0,9,-999.0000,9,   -999.0,  9,  -999.00,9,   -999.0,  -999.00,9,  -999.00,9,     0.56,2,     0.58,2,   -999.0,-999.0000, -999,9,   25,  23.6332,  22.7168,   -999.0,9
       KS03-06,  NONE,KS-0847,  1,     21,02-16027,2,20030818,2102, 34.9365, 140.2362, 2158,     49.7,  18.1411,  34.5695,2,   -999.0,9,-999.0000,9,    178.0,2,  -999.00,9,  -999.00,9,     8.49,2,     0.06,2,     0.60,2, -999.000,9, -999.000,9,  -999.00,9,   -999.0,9,   -999.0,9,-999.0000,9,   -999.0,  9,  -999.00,9,   -999.0,  -999.00,9,  -999.00,9,     0.07,2,     0.12,2,   -999.0,-999.0000, -999,9,   49,  18.1326,  24.9096,   -999.0,9
       KS03-06,  NONE,KS-0847,  1,     20,02-16026,2,20030818,2101, 34.9365, 140.2362, 2158,     75.0,  15.6204,  34.5896,2,   -999.0,9,-999.0000,9,    170.0,2,  -999.00,9,  -999.00,9,    11.99,2,     0.01,2,     0.85,2, -999.000,9, -999.000,9,  -999.00,9,   -999.0,9,   -999.0,9,-999.0000,9,   -999.0,  9,  -999.00,9,   -999.0,  -999.00,9,  -999.00,9,     0.01,2,     0.05,2,   -999.0,-999.0000, -999,9,   74,  15.6088,  25.5204,   -999.0,9
       KS03-06,  NONE,KS-0847,  1,     19,02-16025,2,20030818,2100, 34.9365, 140.2362, 2158,     99.7,  14.7250,  34.5469,2,   -999.0,9,  34.5565,4,    166.0,2,  -999.00,9,  -999.00,9,    13.36,2,     0.01,2,     0.94,2, -999.000,9, -999.000,9,  -999.00,9,   -999.0,9,   -999.0,9,-999.0000,9,   -999.0,  9,  -999.00,9,   -999.0,  -999.00,9,  -999.00,9,     0.01,2,     0.04,2,   -999.0,-999.0000, -999,9,   99,  14.7102,  25.6857,   -999.0,9
       KS03-06,  NONE,KS-0847,  1,     18,02-16024,2,20030818,2059, 34.9365, 140.2362, 2158,    125.2,  13.9046,  34.5146,2,   -999.0,9,-999.0000,9,    164.0,2,  -999.00,9,  -999.00,9,    14.62,2,     0.01,2,     1.03,2, -999.000,9, -999.000,9,  -999.00,9,   -999.0,9,   -999.0,9,-999.0000,9,   -999.0,  9,  -999.00,9,   -999.0,  -999.00,9,  -999.00,9,     0.01,2,     0.05,2,   -999.0,-999.0000, -999,9,  124,  13.8867,  25.8356,   -999.0,9
       KS03-06,  NONE,KS-0847,  1,     17,02-16023,2,20030818,2058, 34.9365, 140.2362, 2158,    150.3,  12.2719,  34.4502,2,   -999.0,9,-999.0000,9,    155.0,2,  -999.00,9,  -999.00,9,    17.93,2,     0.01,2,     1.27,2, -999.000,9, -999.000,9,  -999.00,9,   -999.0,9,   -999.0,9,-999.0000,9,   -999.0,  9,  -999.00,9,   -999.0,  -999.00,9,  -999.00,9,     0.02,2,     0.06,2,   -999.0,-999.0000, -999,9,  149,  12.2521,  26.1138,   -999.0,9
       KS03-06,  NONE,KS-0847,  1,     16,02-16022,2,20030818,2056, 34.9365, 140.2362, 2158,    200.8,  10.9021,  34.4002,2,   -999.0,9,  34.4031,2,    146.0,2,  -999.00,9,  -999.00,9,    20.85,2,     0.00,2,     1.47,2, -999.000,9, -999.000,9,  -999.00,9,   -999.0,9,   -999.0,9,-999.0000,9,   -999.0,  9,  -999.00,9,   -999.0,  -999.00,9,  -999.00,9,     0.01,2,     0.06,2,   -999.0,-999.0000, -999,9,  199,  10.8777,  26.3304,   -999.0,9
       KS03-06,  NONE,KS-0847,  1,     15,02-16021,2,20030818,2054, 34.9365, 140.2362, 2158,    250.6,   9.9202,  34.3545,2,   -999.0,9,-999.0000,9,    139.0,2,  -999.00,9,  -999.00,9,    23.38,2,     0.00,2,     1.65,2, -999.000,9, -999.000,9,  -999.00,9,   -999.0,9,   -999.0,9,-999.0000,9,   -999.0,  9,  -999.00,9,   -999.0,  -999.00,9,  -999.00,9,     0.00,2,     0.06,2,   -999.0,-999.0000, -999,9,  249,   9.8914,  26.4663,   -999.0,9
       KS03-06,  NONE,KS-0847,  1,     14,02-16020,2,20030818,2053, 34.9365, 140.2362, 2158,    301.5,   8.6142,  34.3007,2,   -999.0,9,  34.3013,2,    127.0,2,  -999.00,9,  -999.00,9,    26.40,2,     0.00,2,     1.89,2, -999.000,9, -999.000,9,  -999.00,9,   -999.0,9,   -999.0,9,-999.0000,9,   -999.0,  9,  -999.00,9,   -999.0,  -999.00,9,  -999.00,9,     0.00,2,     0.05,2,   -999.0,-999.0000, -999,9,  299,   8.5824,  26.6362,   -999.0,9
       KS03-06,  NONE,KS-0847,  1,     13,02-16019,2,20030818,2050, 34.9365, 140.2362, 2158,    401.5,   6.8480,  34.2366,2,   -999.0,9,  34.2334,4,    112.0,2,  -999.00,9,  -999.00,9,    31.16,2,     0.00,2,     2.25,2, -999.000,9, -999.000,9,  -999.00,9,   -999.0,9,   -999.0,9,-999.0000,9,   -999.0,  9,  -999.00,9,   -999.0,  -999.00,9,  -999.00,9,  -999.00,9,  -999.00,9,   -999.0,-999.0000, -999,9,  398,   6.8108,  26.8433,   -999.0,9
       KS03-06,  NONE,KS-0847,  1,     12,02-16018,3,20030818,2048, 34.9365, 140.2362, 2158,    502.1,   5.5037,  34.2356,2,   -999.0,9,  34.2407,4,     89.0,2,  -999.00,9,  -999.00,9,    35.05,2,     0.00,2,     2.52,2, -999.000,9, -999.000,9,  -999.00,9,   -999.0,9,   -999.0,9,-999.0000,9,   -999.0,  9,  -999.00,9,   -999.0,  -999.00,9,  -999.00,9,  -999.00,9,  -999.00,9,   -999.0,-999.0000, -999,9,  498,   5.4620,  27.0150,   -999.0,9
       KS03-06,  NONE,KS-0847,  1,     11,02-16017,9,20030818,2044, 34.9365, 140.2362, 2158,    603.4,   4.5841,  34.2605,2,   -999.0,9,-999.0000,9,   -999.0,9,  -999.00,9,  -999.00,9,  -999.00,9,  -999.00,9,  -999.00,9, -999.000,9, -999.000,9,  -999.00,9,   -999.0,9,   -999.0,9,-999.0000,9,   -999.0,  9,  -999.00,9,   -999.0,  -999.00,9,  -999.00,9,  -999.00,9,  -999.00,9,   -999.0,-999.0000, -999,9,  598,   4.5378,  27.1408,   -999.0,9
       KS03-06,  NONE,KS-0847,  1,     10,02-16016,2,20030818,2044, 34.9365, 140.2362, 2158,    603.4,   4.5106,  34.2566,2,   -999.0,9,  34.2585,2,     71.0,2,  -999.00,9,  -999.00,9,    37.77,2,     0.00,2,     2.75,2, -999.000,9, -999.000,9,  -999.00,9,   -999.0,9,   -999.0,9,-999.0000,9,   -999.0,  9,  -999.00,9,   -999.0,  -999.00,9,  -999.00,9,  -999.00,9,  -999.00,9,   -999.0,-999.0000, -999,9,  598,   4.4646,  27.1456,   -999.0,9
       KS03-06,  NONE,KS-0847,  1,      9,02-16015,9,20030818,2042, 34.9365, 140.2362, 2158,    704.6,   4.0809,  34.2937,2,   -999.0,9,-999.0000,9,   -999.0,9,  -999.00,9,  -999.00,9,  -999.00,9,  -999.00,9,  -999.00,9, -999.000,9, -999.000,9,  -999.00,9,   -999.0,9,   -999.0,9,-999.0000,9,   -999.0,  9,  -999.00,9,   -999.0,  -999.00,9,  -999.00,9,  -999.00,9,  -999.00,9,   -999.0,-999.0000, -999,9,  698,   4.0290,  27.2213,   -999.0,9
       KS03-06,  NONE,KS-0847,  1,      8,02-16014,4,20030818,2042, 34.9365, 140.2362, 2158,    704.6,   4.0715,  34.2979,2,   -999.0,9,-999.0000,9,   -999.0,9,  -999.00,9,  -999.00,9,  -999.00,9,  -999.00,9,  -999.00,9, -999.000,9, -999.000,9,  -999.00,9,   -999.0,9,   -999.0,9,-999.0000,9,   -999.0,  9,  -999.00,9,   -999.0,  -999.00,9,  -999.00,9,  -999.00,9,  -999.00,9,   -999.0,-999.0000, -999,9,  698,   4.0196,  27.2256,   -999.0,9
       KS03-06,  NONE,KS-0847,  1,      7,02-16013,2,20030818,2039, 34.9365, 140.2362, 2158,    805.4,   3.8375,  34.3560,2,   -999.0,9,  34.3539,2,     62.0,2,  -999.00,9,  -999.00,9,    39.72,2,     0.00,2,     2.87,2, -999.000,9, -999.000,9,  -999.00,9,   -999.0,9,   -999.0,9,-999.0000,9,   -999.0,  9,  -999.00,9,   -999.0,  -999.00,9,  -999.00,9,  -999.00,9,  -999.00,9,   -999.0,-999.0000, -999,9,  798,   3.7790,  27.2964,   -999.0,9
       KS03-06,  NONE,KS-0847,  1,      6,02-16012,2,20030818,2036, 34.9365, 140.2362, 2158,    907.4,   3.5870,  34.3838,2,   -999.0,9,  34.3847,2,     61.0,2,  -999.00,9,  -999.00,9,    40.20,2,     0.00,2,     2.90,2, -999.000,9, -999.000,9,  -999.00,9,   -999.0,9,   -999.0,9,-999.0000,9,   -999.0,  9,  -999.00,9,   -999.0,  -999.00,9,  -999.00,9,  -999.00,9,  -999.00,9,   -999.0,-999.0000, -999,9,  899,   3.5221,  27.3440,   -999.0,9
       KS03-06,  NONE,KS-0847,  1,      5,02-16011,2,20030818,2034, 34.9365, 140.2362, 2158,   1007.8,   3.3067,  34.4092,2,   -999.0,9,  34.4076,2,     57.0,2,  -999.00,9,  -999.00,9,    40.78,2,     0.00,2,     2.96,2, -999.000,9, -999.000,9,  -999.00,9,   -999.0,9,   -999.0,9,-999.0000,9,   -999.0,  9,  -999.00,9,   -999.0,  -999.00,9,  -999.00,9,  -999.00,9,  -999.00,9,   -999.0,-999.0000, -999,9,  998,   3.2360,  27.3916,   -999.0,9
       KS03-06,  NONE,KS-0847,  1,      4,02-16010,2,20030818,2028, 34.9365, 140.2362, 2158,   1260.0,   2.6661,  34.4786,2,   -999.0,9,  34.4763,2,     54.0,2,  -999.00,9,  -999.00,9,    41.85,2,     0.00,2,     3.02,2, -999.000,9, -999.000,9,  -999.00,9,   -999.0,9,   -999.0,9,-999.0000,9,   -999.0,  9,  -999.00,9,   -999.0,  -999.00,9,  -999.00,9,  -999.00,9,  -999.00,9,   -999.0,-999.0000, -999,9, 1247,   2.5813,  27.5060,   -999.0,9
       KS03-06,  NONE,KS-0847,  1,      3,02-16009,2,20030818,2022, 34.9365, 140.2362, 2158,   1513.7,   2.2357,  34.5408,2,   -999.0,9,  34.5398,2,     62.0,2,  -999.00,9,  -999.00,9,    41.46,2,     0.00,2,     3.00,2, -999.000,9, -999.000,9,  -999.00,9,   -999.0,9,   -999.0,9,-999.0000,9,   -999.0,  9,  -999.00,9,   -999.0,  -999.00,9,  -999.00,9,  -999.00,9,  -999.00,9,   -999.0,-999.0000, -999,9, 1497,   2.1357,  27.5930,   -999.0,9
       KS03-06,  NONE,KS-0847,  1,      2,02-16008,2,20030818,2016, 34.9365, 140.2362, 2158,   1767.3,   2.0786,  34.5700,2,   -999.0,9,  34.5692,2,     75.0,2,  -999.00,9,  -999.00,9,    41.26,2,     0.00,2,     2.94,2, -999.000,9, -999.000,9,  -999.00,9,   -999.0,9,   -999.0,9,-999.0000,9,   -999.0,  9,  -999.00,9,   -999.0,  -999.00,9,  -999.00,9,  -999.00,9,  -999.00,9,   -999.0,-999.0000, -999,9, 1747,   1.9604,  27.6303,   -999.0,9
       KS03-06,  NONE,KS-0847,  1,      1,02-16007,2,20030818,2011, 34.9365, 140.2362, 2158,   2021.7,   1.9484,  34.5942,2,   -999.0,9,  34.5928,2,     86.0,2,  -999.00,9,  -999.00,9,    40.48,2,     0.00,2,     2.90,2, -999.000,9, -999.000,9,  -999.00,9,   -999.0,9,   -999.0,9,-999.0000,9,   -999.0,  9,  -999.00,9,   -999.0,  -999.00,9,  -999.00,9,  -999.00,9,  -999.00,9,   -999.0,-999.0000, -999,9, 1997,   1.8111,  27.6613,   -999.0,9