BOTTLE,20130510GEMDJMAYT
EXPOCODE,SECT_ID,STNNBR,CASTNO,SAMPNO,BTLNBR,BTLNBR_FLAG_W,DATE,TIME,LATITUDE,LONGITUDE,DEPTH,CTDPRS,CTDTMP,CTDSAL,CTDSAL_FLAG_W,CTDOXY,CTDOXY_FLAG_W,SALNTY,SALNTY_FLAG_W,OXYGEN,OXYGEN_FLAG_W,SILCAT,SILCAT_FLAG_W,NITRAT,NITRAT_FLAG_W,NO2+NO3,NO2+NO3_FLAG_W,NITRIT,NITRIT_FLAG_W,PHSPHT,PHSPHT_FLAG_W,CFC-11,CFC-11_FLAG_W,CFC-12,CFC-12_FLAG_W,DELC13,DELC13_FLAG_W,TCARBN,TCARBN_FLAG_W,ALKALI,ALKALI_FLAG_W,PH,PH_FLAG_W,PH_TMP,PH_SCALE,PH_NBS,PH_NBS_FLAG_W,C13ERR,TOTALP,TOTALP_FLAG_W,AMMONI,AMMONI_FLAG_W,CHLORA,CHLORA_FLAG_W,PPHYTN,PPHYTN_FLAG_W,REVPRS,REVTMP,DEPTH_,DEPTH_FLAG,CTDDEP,THETA,SIGTHT,DOC,DOC_FLAG_W
,,,,,,,GMT,GMT,,,METER,DBAR,ITS-90,PSS-78,,UMOL/KG,,PSS-78,,UMOL/KG,,UMOL/KG,,UMOL/KG,,UMOL/KG,,UMOL/KG,,UMOL/KG,,PMOL/KG,,PMOL/KG,,/MILLE,,UMOL/KG,,UMOL/KG,,25_DEG_C,,DEG_C,,,,/MILLE,UMOL/KG,,UMOL/KG,,UG/L,,UG/L,,DBAR,ITS-90,METERS,,METERS,DEG_C,,UMOL/L,
       KS03-10,  137E,KS-0855,  1,     24,02-16030,2,20031031,0950, 32.0022, 136.9705, 4236,      6.0,  23.9401,  34.5861,2,   -999.0,9,  34.5865,2,    212.0,2,  -999.00,9,  -999.00,9,     0.00,2,     0.00,2,     0.01,2, -999.000,9, -999.000,9,  -999.00,9,   1949.9,2,   -999.0,9,   8.0960,2,     25.0, TS,  -999.00,9,   -999.0,  -999.00,9,  -999.00,9,     0.12,2,     0.07,2,   -999.0,-999.0000, -999,9,    6,  23.9388,  23.3461,   -999.0,9
       KS03-10,  137E,KS-0855,  1,     23,02-16029,2,20031031,0950, 32.0022, 136.9705, 4236,     10.5,  23.9409,  34.5862,2,   -999.0,9,-999.0000,9,    212.0,2,  -999.00,9,  -999.00,9,     0.00,2,     0.00,2,     0.00,2, -999.000,9, -999.000,9,  -999.00,9,   1950.2,2,   -999.0,9,   8.0965,2,     25.0, TS,  -999.00,9,   -999.0,  -999.00,9,  -999.00,9,     0.10,2,     0.06,2,   -999.0,-999.0000, -999,9,   10,  23.9387,  23.3462,   -999.0,9
       KS03-10,  137E,KS-0855,  1,     22,02-16028,2,20031031,0948, 32.0022, 136.9705, 4236,     26.0,  23.9131,  34.5883,2,   -999.0,9,-999.0000,9,    211.0,2,  -999.00,9,  -999.00,9,     0.00,2,     0.00,2,     0.00,2, -999.000,9, -999.000,9,  -999.00,9,   1950.1,2,   -999.0,9,   8.0967,2,     25.0, TS,  -999.00,9,   -999.0,  -999.00,9,  -999.00,9,     0.11,2,     0.07,2,   -999.0,-999.0000, -999,9,   26,  23.9077,  23.3570,   -999.0,9
       KS03-10,  137E,KS-0855,  1,     21,02-16027,2,20031031,0944, 32.0022, 136.9705, 4236,     50.6,  23.8805,  34.5906,2,   -999.0,9,-999.0000,9,    211.0,2,  -999.00,9,  -999.00,9,     0.00,2,     0.00,2,     0.00,2, -999.000,9, -999.000,9,  -999.00,9,   1950.3,2,   -999.0,9,   8.0969,2,     25.0, TS,  -999.00,9,   -999.0,  -999.00,9,  -999.00,9,     0.11,2,     0.08,2,   -999.0,-999.0000, -999,9,   50,  23.8699,  23.3698,   -999.0,9
       KS03-10,  137E,KS-0855,  1,     20,02-16026,2,20031031,0943, 32.0022, 136.9705, 4236,     74.3,  22.8164,  34.8321,2,   -999.0,9,-999.0000,9,    207.0,2,  -999.00,9,  -999.00,9,     0.00,2,     0.00,2,     0.03,2, -999.000,9, -999.000,9,  -999.00,9,   1985.0,2,   -999.0,9,   8.0589,2,     25.0, TS,  -999.00,9,   -999.0,  -999.00,9,  -999.00,9,     0.17,2,     0.52,2,   -999.0,-999.0000, -999,9,   74,  22.8013,  23.8633,   -999.0,9
       KS03-10,  137E,KS-0855,  1,     19,02-16025,9,20031031,0942, 32.0022, 136.9705, 4236,    101.9,  21.2660,  34.8790,2,   -999.0,9,-999.0000,9,   -999.0,9,  -999.00,9,  -999.00,9,  -999.00,9,  -999.00,9,  -999.00,9, -999.000,9, -999.000,9,  -999.00,9,   -999.0,9,   -999.0,9,-999.0000,9,   -999.0,  9,  -999.00,9,   -999.0,  -999.00,9,  -999.00,9,  -999.00,9,  -999.00,9,   -999.0,-999.0000, -999,9,  101,  21.2463,  24.3346,   -999.0,9
       KS03-10,  137E,KS-0855,  1,     18,02-16024,2,20031031,0942, 32.0022, 136.9705, 4236,    102.3,  21.2071,  34.8790,2,   -999.0,9,  34.8837,2,    204.0,2,  -999.00,9,  -999.00,9,     1.46,2,     0.03,2,     0.11,2, -999.000,9, -999.000,9,  -999.00,9,   1999.5,2,   -999.0,9,   8.0354,2,     25.0, TS,  -999.00,9,   -999.0,  -999.00,9,  -999.00,9,     0.06,2,     0.37,2,   -999.0,-999.0000, -999,9,  102,  21.1874,  24.3507,   -999.0,9
       KS03-10,  137E,KS-0855,  1,     17,02-16023,2,20031031,0941, 32.0022, 136.9705, 4236,    126.0,  20.2862,  34.8890,2,   -999.0,9,-999.0000,9,    205.0,2,  -999.00,9,  -999.00,9,     1.66,2,     0.02,2,     0.13,2, -999.000,9, -999.000,9,  -999.00,9,   2003.6,2,   -999.0,9,   8.0295,2,     25.0, TS,  -999.00,9,   -999.0,  -999.00,9,  -999.00,9,     0.02,2,     0.12,2,   -999.0,-999.0000, -999,9,  125,  20.2627,  24.6076,   -999.0,9
       KS03-10,  137E,KS-0855,  1,     16,02-16022,2,20031031,0940, 32.0022, 136.9705, 4236,    150.9,  19.8572,  34.8868,2,   -999.0,9,-999.0000,9,    206.0,2,  -999.00,9,  -999.00,9,     2.05,2,     0.01,2,     0.14,2, -999.000,9, -999.000,9,  -999.00,9,   2004.9,2,   -999.0,9,   8.0269,2,     25.0, TS,  -999.00,9,   -999.0,  -999.00,9,  -999.00,9,     0.01,2,     0.04,2,   -999.0,-999.0000, -999,9,  150,  19.8295,  24.7202,   -999.0,9
       KS03-10,  137E,KS-0855,  1,     15,02-16021,2,20031031,0938, 32.0022, 136.9705, 4236,    200.9,  19.2186,  34.8701,2,   -999.0,9,  34.8700,2,    208.0,2,  -999.00,9,  -999.00,9,     2.34,2,     0.00,2,     0.16,2, -999.000,9, -999.000,9,  -999.00,9,   2009.5,2,   -999.0,9,   8.0195,2,     25.0, TS,  -999.00,9,   -999.0,  -999.00,9,  -999.00,9,     0.00,2,     0.01,2,   -999.0,-999.0000, -999,9,  199,  19.1825,  24.8752,   -999.0,9
       KS03-10,  137E,KS-0855,  1,     14,02-16020,2,20031031,0936, 32.0022, 136.9705, 4236,    252.0,  18.7374,  34.8500,2,   -999.0,9,-999.0000,9,    209.0,2,  -999.00,9,  -999.00,9,     2.73,2,     0.00,2,     0.19,2, -999.000,9, -999.000,9,  -999.00,9,   2012.4,2,   -999.0,9,   8.0116,2,     25.0, TS,  -999.00,9,   -999.0,  -999.00,9,  -999.00,9,     0.00,2,     0.00,2,   -999.0,-999.0000, -999,9,  250,  18.6929,  24.9844,   -999.0,9
       KS03-10,  137E,KS-0855,  1,     13,02-16019,2,20031031,0934, 32.0022, 136.9705, 4236,    303.2,  18.2922,  34.8240,2,   -999.0,9,  34.8247,2,    210.0,2,  -999.00,9,  -999.00,9,     3.22,2,     0.00,2,     0.21,2, -999.000,9, -999.000,9,  -999.00,9,   2015.2,6,   -999.0,9,   8.0036,6,     25.0, TS,  -999.00,9,   -999.0,  -999.00,9,  -999.00,9,     0.00,2,     0.00,2,   -999.0,-999.0000, -999,9,  301,  18.2395,  25.0780,   -999.0,9
       KS03-10,  137E,KS-0855,  1,     12,02-16018,2,20031031,0932, 32.0022, 136.9705, 4236,    402.0,  16.9403,  34.7393,2,   -999.0,9,  34.7431,2,    209.0,2,  -999.00,9,  -999.00,9,     5.27,2,     0.00,2,     0.35,2, -999.000,9, -999.000,9,  -999.00,9,   2031.3,2,   -999.0,9,   7.9687,2,     25.0, TS,  -999.00,9,   -999.0,  -999.00,9,  -999.00,9,  -999.00,9,  -999.00,9,   -999.0,-999.0000, -999,9,  399,  16.8739,  25.3440,   -999.0,9
       KS03-10,  137E,KS-0855,  1,     11,02-16017,2,20031031,0929, 32.0022, 136.9705, 4236,    506.2,  14.8952,  34.5920,2,   -999.0,9,  34.5932,2,    186.0,2,  -999.00,9,  -999.00,9,    10.43,2,     0.00,2,     0.70,2, -999.000,9, -999.000,9,  -999.00,9,   1308.7,4,   -999.0,9,   7.8832,2,     25.0, TS,  -999.00,9,   -999.0,  -999.00,9,  -999.00,9,  -999.00,9,  -999.00,9,   -999.0,-999.0000, -999,9,  502,  14.8184,  25.6969,   -999.0,9
       KS03-10,  137E,KS-0855,  1,     10,02-16016,2,20031031,0927, 32.0022, 136.9705, 4236,    606.1,  12.3962,  34.4273,2,   -999.0,9,  34.4296,2,    175.0,2,  -999.00,9,  -999.00,9,    15.69,2,     0.00,2,     1.09,2, -999.000,9, -999.000,9,  -999.00,9,   2108.5,2,   -999.0,9,   7.8016,2,     25.0, TS,  -999.00,9,   -999.0,  -999.00,9,  -999.00,9,  -999.00,9,  -999.00,9,   -999.0,-999.0000, -999,9,  601,  12.3146,  26.0840,   -999.0,9
       KS03-10,  137E,KS-0855,  1,      9,02-16015,2,20031031,0925, 32.0022, 136.9705, 4236,    706.4,   9.2555,  34.2508,2,   -999.0,9,  34.2523,2,    149.0,2,  -999.00,9,  -999.00,9,    23.38,2,     0.00,2,     1.67,2, -999.000,9, -999.000,9,  -999.00,9,   2171.9,2,   -999.0,9,   7.6745,2,     25.0, TS,  -999.00,9,   -999.0,  -999.00,9,  -999.00,9,  -999.00,9,  -999.00,9,   -999.0,-999.0000, -999,9,  700,   9.1760,  26.5032,   -999.0,9
       KS03-10,  137E,KS-0855,  1,      8,02-16014,2,20031031,0921, 32.0022, 136.9705, 4236,    808.1,   7.1818,  34.1918,2,   -999.0,9,  34.1960,2,    120.0,2,  -999.00,9,  -999.00,9,    29.51,2,     0.00,2,     2.13,2, -999.000,9, -999.000,9,  -999.00,9,   2220.7,2,   -999.0,9,   7.5717,2,     25.0, TS,  -999.00,9,   -999.0,  -999.00,9,  -999.00,9,  -999.00,9,  -999.00,9,   -999.0,-999.0000, -999,9,  801,   7.1027,  26.7680,   -999.0,9
       KS03-10,  137E,KS-0855,  1,      7,02-16013,2,20031031,0919, 32.0022, 136.9705, 4236,    908.0,   5.7860,  34.2270,2,   -999.0,9,  34.2268,2,     93.0,2,  -999.00,9,  -999.00,9,    34.37,2,     0.00,2,     2.48,2, -999.000,9, -999.000,9,  -999.00,9,   2269.0,2,   -999.0,9,   7.4935,2,     25.0, TS,  -999.00,9,   -999.0,  -999.00,9,  -999.00,9,  -999.00,9,  -999.00,9,   -999.0,-999.0000, -999,9,  900,   5.7059,  26.9785,   -999.0,9
       KS03-10,  137E,KS-0855,  1,      6,02-16012,2,20031031,0916, 32.0022, 136.9705, 4236,   1010.2,   4.8981,  34.3147,2,   -999.0,9,  34.3142,2,     78.0,2,  -999.00,9,  -999.00,9,    37.19,2,     0.00,2,     2.69,2, -999.000,9, -999.000,9,  -999.00,9,   2301.2,2,   -999.0,9,   7.4580,2,     25.0, TS,  -999.00,9,   -999.0,  -999.00,9,  -999.00,9,  -999.00,9,  -999.00,9,   -999.0,-999.0000, -999,9, 1001,   4.8150,  27.1530,   -999.0,9
       KS03-10,  137E,KS-0855,  1,      5,02-16011,2,20031031,0911, 32.0022, 136.9705, 4236,   1263.9,   3.4771,  34.4270,2,   -999.0,9,  34.4265,2,     68.0,2,  -999.00,9,  -999.00,9,    39.91,2,     0.00,2,     2.88,2, -999.000,9, -999.000,9,  -999.00,9,   -999.0,9,   -999.0,9,-999.0000,9,   -999.0,  9,  -999.00,9,   -999.0,  -999.00,9,  -999.00,9,  -999.00,9,  -999.00,9,   -999.0,-999.0000, -999,9, 1251,   3.3842,  27.3917,   -999.0,9
       KS03-10,  137E,KS-0855,  1,      4,02-16010,2,20031031,0905, 32.0022, 136.9705, 4236,   1517.3,   2.7975,  34.5036,2,   -999.0,9,  34.5023,2,     78.0,2,  -999.00,9,  -999.00,9,    39.90,2,     0.00,2,     2.89,2, -999.000,9, -999.000,9,  -999.00,9,   -999.0,9,   -999.0,9,-999.0000,9,   -999.0,  9,  -999.00,9,   -999.0,  -999.00,9,  -999.00,9,  -999.00,9,  -999.00,9,   -999.0,-999.0000, -999,9, 1501,   2.6908,  27.5165,   -999.0,9
       KS03-10,  137E,KS-0855,  1,      3,02-16009,2,20031031,0900, 32.0022, 136.9705, 4236,   1770.3,   2.3994,  34.5491,2,   -999.0,9,  34.5478,2,     88.0,2,  -999.00,9,  -999.00,9,    39.70,2,     0.00,2,     2.84,2, -999.000,9, -999.000,9,  -999.00,9,   -999.0,9,   -999.0,9,-999.0000,9,   -999.0,  9,  -999.00,9,   -999.0,  -999.00,9,  -999.00,9,  -999.00,9,  -999.00,9,   -999.0,-999.0000, -999,9, 1751,   2.2767,  27.5881,   -999.0,9
       KS03-10,  137E,KS-0855,  1,      2,02-16008,9,20031031,0855, 32.0022, 136.9705, 4236,   2024.2,   2.1038,  34.5914,2,   -999.0,9,-999.0000,9,   -999.0,9,  -999.00,9,  -999.00,9,  -999.00,9,  -999.00,9,  -999.00,9, -999.000,9, -999.000,9,  -999.00,9,   -999.0,9,   -999.0,9,-999.0000,9,   -999.0,  9,  -999.00,9,   -999.0,  -999.00,9,  -999.00,9,  -999.00,9,  -999.00,9,   -999.0,-999.0000, -999,9, 2000,   1.9639,  27.6472,   -999.0,9
       KS03-10,  137E,KS-0855,  1,      1,02-16007,2,20031031,0854, 32.0022, 136.9705, 4236,   2024.7,   2.1035,  34.5916,2,   -999.0,9,  34.5899,2,    103.0,2,  -999.00,9,  -999.00,9,    38.73,2,     0.00,2,     2.77,2, -999.000,9, -999.000,9,  -999.00,9,   -999.0,9,   -999.0,9,-999.0000,9,   -999.0,  9,  -999.00,9,   -999.0,  -999.00,9,  -999.00,9,  -999.00,9,  -999.00,9,   -999.0,-999.0000, -999,9, 2001,   1.9635,  27.6474,   -999.0,9