BOTTLE,20130510GEMDJMAYT
EXPOCODE,SECT_ID,STNNBR,CASTNO,SAMPNO,BTLNBR,BTLNBR_FLAG_W,DATE,TIME,LATITUDE,LONGITUDE,DEPTH,CTDPRS,CTDTMP,CTDSAL,CTDSAL_FLAG_W,CTDOXY,CTDOXY_FLAG_W,SALNTY,SALNTY_FLAG_W,OXYGEN,OXYGEN_FLAG_W,SILCAT,SILCAT_FLAG_W,NITRAT,NITRAT_FLAG_W,NO2+NO3,NO2+NO3_FLAG_W,NITRIT,NITRIT_FLAG_W,PHSPHT,PHSPHT_FLAG_W,CFC-11,CFC-11_FLAG_W,CFC-12,CFC-12_FLAG_W,DELC13,DELC13_FLAG_W,TCARBN,TCARBN_FLAG_W,ALKALI,ALKALI_FLAG_W,PH,PH_FLAG_W,PH_TMP,PH_SCALE,PH_NBS,PH_NBS_FLAG_W,C13ERR,TOTALP,TOTALP_FLAG_W,AMMONI,AMMONI_FLAG_W,CHLORA,CHLORA_FLAG_W,PPHYTN,PPHYTN_FLAG_W,REVPRS,REVTMP,DEPTH_,DEPTH_FLAG,CTDDEP,THETA,SIGTHT,DOC,DOC_FLAG_W
,,,,,,,GMT,GMT,,,METER,DBAR,ITS-90,PSS-78,,UMOL/KG,,PSS-78,,UMOL/KG,,UMOL/KG,,UMOL/KG,,UMOL/KG,,UMOL/KG,,UMOL/KG,,PMOL/KG,,PMOL/KG,,/MILLE,,UMOL/KG,,UMOL/KG,,25_DEG_C,,DEG_C,,,,/MILLE,UMOL/KG,,UMOL/KG,,UG/L,,UG/L,,DBAR,ITS-90,METERS,,METERS,DEG_C,,UMOL/L,
       KS03-10,  137E,KS-0870,  1,     24,02-16030,2,20031104,0221, 19.9937, 136.9732, 4662,      5.9,  29.4576,  34.4505,2,   -999.0,9,  34.4524,2,    196.0,2,  -999.00,9,  -999.00,9,     0.00,2,     0.00,2,     0.00,2, -999.000,9, -999.000,9,  -999.00,9,   1912.6,2,   -999.0,9,   8.1447,2,     25.0, TS,  -999.00,9,   -999.0,  -999.00,9,  -999.00,9,     0.07,2,     0.04,2,   -999.0,-999.0000, -999,9,    6,  29.4562,  21.4986,     78.4,2
       KS03-10,  137E,KS-0870,  1,     23,02-16029,2,20031104,0220, 19.9937, 136.9732, 4662,     10.4,  29.4379,  34.4500,2,   -999.0,9,-999.0000,9,    196.0,2,  -999.00,9,  -999.00,9,     0.00,2,     0.00,2,     0.00,2, -999.000,9, -999.000,9,  -999.00,9,   1912.5,2,   -999.0,9,   8.1454,2,     25.0, TS,  -999.00,9,   -999.0,  -999.00,9,  -999.00,9,     0.09,2,     0.04,2,   -999.0,-999.0000, -999,9,   10,  29.4354,  21.5052,     77.7,2
       KS03-10,  137E,KS-0870,  1,     22,02-16028,2,20031104,0219, 19.9937, 136.9732, 4662,     24.8,  29.4048,  34.4491,2,   -999.0,9,-999.0000,9,    196.0,2,  -999.00,9,  -999.00,9,     0.00,2,     0.00,2,     0.00,2, -999.000,9, -999.000,9,  -999.00,9,   1911.5,2,   -999.0,9,   8.1455,2,     25.0, TS,  -999.00,9,   -999.0,  -999.00,9,  -999.00,9,     0.08,2,     0.05,2,   -999.0,-999.0000, -999,9,   25,  29.3987,  21.5169,     78.4,2
       KS03-10,  137E,KS-0870,  1,     21,02-16027,2,20031104,0214, 19.9937, 136.9732, 4662,     50.7,  29.4008,  34.4465,2,   -999.0,9,-999.0000,9,    201.0,2,  -999.00,9,  -999.00,9,     0.00,2,     0.00,2,     0.00,2, -999.000,9, -999.000,9,  -999.00,9,   1912.6,2,   -999.0,9,   8.1454,2,     25.0, TS,  -999.00,9,   -999.0,  -999.00,9,  -999.00,9,     0.05,2,     0.10,2,   -999.0,-999.0000, -999,9,   50,  29.3884,  21.5184,     77.6,2
       KS03-10,  137E,KS-0870,  1,     20,02-16026,2,20031104,0213, 19.9937, 136.9732, 4662,     75.6,  28.0356,  34.7855,2,   -999.0,9,-999.0000,9,    208.0,2,  -999.00,9,  -999.00,9,     0.00,2,     0.00,2,     0.00,2, -999.000,9, -999.000,9,  -999.00,9,   1938.9,2,   -999.0,9,   8.1286,2,     25.0, TS,  -999.00,9,   -999.0,  -999.00,9,  -999.00,9,     0.21,2,     0.15,2,   -999.0,-999.0000, -999,9,   75,  28.0178,  22.2276,     73.0,2
       KS03-10,  137E,KS-0870,  1,     19,02-16025,2,20031104,0212, 19.9937, 136.9732, 4662,     99.7,  26.8586,  34.8766,2,   -999.0,9,  34.8792,2,    203.0,2,  -999.00,9,  -999.00,9,     0.00,2,     0.00,2,     0.02,2, -999.000,9, -999.000,9,  -999.00,9,   1958.3,2,   -999.0,9,   8.1062,2,     25.0, TS,  -999.00,9,   -999.0,  -999.00,9,  -999.00,9,     0.20,2,     0.36,2,   -999.0,-999.0000, -999,9,   99,  26.8358,  22.6772,     69.8,2
       KS03-10,  137E,KS-0870,  1,     18,02-16024,2,20031104,0212, 19.9937, 136.9732, 4662,    124.2,  25.6545,  35.0548,2,   -999.0,9,-999.0000,9,    199.0,2,  -999.00,9,  -999.00,9,     0.10,2,     0.10,2,     0.02,2, -999.000,9, -999.000,9,  -999.00,9,   1977.3,2,   -999.0,9,   8.0917,2,     25.0, TS,  -999.00,9,   -999.0,  -999.00,9,  -999.00,9,     0.04,2,     0.43,2,   -999.0,-999.0000, -999,9,  123,  25.6270,  23.1905,     67.3,2
       KS03-10,  137E,KS-0870,  1,     17,02-16023,2,20031104,0211, 19.9937, 136.9732, 4662,    151.5,  24.2857,  35.0992,2,   -999.0,9,-999.0000,9,    191.0,2,  -999.00,9,  -999.00,9,     0.88,2,     0.03,2,     0.08,2, -999.000,9, -999.000,9,  -999.00,9,   1996.3,2,   -999.0,9,   8.0631,2,     25.0, TS,  -999.00,9,   -999.0,  -999.00,9,  -999.00,9,     0.01,2,     0.15,2,   -999.0,-999.0000, -999,9,  151,  24.2535,  23.6411,     65.3,2
       KS03-10,  137E,KS-0870,  1,     16,02-16022,2,20031104,0209, 19.9937, 136.9732, 4662,    200.7,  21.4850,  35.0400,2,   -999.0,9,  35.0421,2,    186.0,2,  -999.00,9,  -999.00,9,     1.85,2,     0.01,2,     0.15,2, -999.000,9, -999.000,9,  -999.00,9,   2022.8,2,   -999.0,9,   8.0117,2,     25.0, TS,  -999.00,9,   -999.0,  -999.00,9,  -999.00,9,     0.00,2,     0.01,2,   -999.0,-999.0000, -999,9,  199,  21.4459,  24.4022,     54.4,2
       KS03-10,  137E,KS-0870,  1,     15,02-16021,2,20031104,0207, 19.9937, 136.9732, 4662,    252.1,  19.1963,  34.8831,2,   -999.0,9,-999.0000,9,    186.0,2,  -999.00,9,  -999.00,9,     3.90,2,     0.00,2,     0.28,2, -999.000,9, -999.000,9,  -999.00,9,   2043.0,3,   -999.0,9,   7.9662,2,     25.0, TS,  -999.00,9,   -999.0,  -999.00,9,  -999.00,9,     0.00,2,     0.01,2,   -999.0,-999.0000, -999,9,  250,  19.1510,  24.8932,   -999.0,4
       KS03-10,  137E,KS-0870,  1,     14,02-16020,2,20031104,0206, 19.9937, 136.9732, 4662,    302.5,  16.1593,  34.6493,2,   -999.0,9,  34.6506,2,    177.0,2,  -999.00,9,  -999.00,9,     8.97,2,     0.00,2,     0.62,2, -999.000,9, -999.000,9,  -999.00,9,   2072.7,3,   -999.0,9,   7.8832,6,     25.0, TS,  -999.00,9,   -999.0,  -999.00,9,  -999.00,9,     0.00,2,     0.00,2,   -999.0,-999.0000, -999,9,  300,  16.1111,  25.4524,     51.7,2
       KS03-10,  137E,KS-0870,  1,     13,02-16019,2,20031104,0203, 19.9937, 136.9732, 4662,    404.6,  12.5174,  34.3967,2,   -999.0,9,  34.4020,2,    182.0,2,  -999.00,9,  -999.00,9,    14.13,2,     0.00,2,     0.96,2, -999.000,9, -999.000,9,  -999.00,9,   2100.0,2,   -999.0,9,   7.8083,2,     25.0, TS,  -999.00,9,   -999.0,  -999.00,9,  -999.00,9,  -999.00,9,  -999.00,9,   -999.0,-999.0000, -999,9,  402,  12.4630,  26.0314,   -999.0,4
       KS03-10,  137E,KS-0870,  1,     12,02-16018,2,20031104,0201, 19.9937, 136.9732, 4662,    505.3,   9.6022,  34.2145,2,   -999.0,9,  34.2177,2,    151.0,2,  -999.00,9,  -999.00,9,    22.21,2,     0.00,2,     1.56,2, -999.000,9, -999.000,9,  -999.00,9,   2157.0,2,   -999.0,9,   7.6760,2,     25.0, TS,  -999.00,9,   -999.0,  -999.00,9,  -999.00,9,  -999.00,9,  -999.00,9,   -999.0,-999.0000, -999,9,  502,   9.5447,  26.4147,     45.4,2
       KS03-10,  137E,KS-0870,  1,     11,02-16017,2,20031104,0158, 19.9937, 136.9732, 4662,    604.2,   7.1780,  34.1399,2,   -999.0,9,  34.1411,2,    110.0,2,  -999.00,9,  -999.00,9,    30.49,2,     0.00,2,     2.17,2, -999.000,9, -999.000,9,  -999.00,9,   2222.3,2,   -999.0,9,   7.5377,2,     25.0, TS,  -999.00,9,   -999.0,  -999.00,9,  -999.00,9,  -999.00,9,  -999.00,9,   -999.0,-999.0000, -999,9,  600,   7.1197,  26.7247,     42.6,2
       KS03-10,  137E,KS-0870,  1,     10,02-16016,2,20031104,0156, 19.9937, 136.9732, 4662,    704.5,   6.1476,  34.2652,2,   -999.0,9,  34.2658,2,     72.0,2,  -999.00,9,  -999.00,9,    35.83,2,     0.00,2,     2.57,2, -999.000,9, -999.000,9,  -999.00,9,   2270.5,2,   -999.0,9,   7.4576,2,     25.0, TS,  -999.00,9,   -999.0,  -999.00,9,  -999.00,9,  -999.00,9,  -999.00,9,   -999.0,-999.0000, -999,9,  699,   6.0845,  26.9613,     42.7,2
       KS03-10,  137E,KS-0870,  1,      9,02-16015,2,20031104,0153, 19.9937, 136.9732, 4662,    804.9,   5.4122,  34.3571,2,   -999.0,9,  34.3566,2,     66.0,2,  -999.00,9,  -999.00,9,    37.87,2,     0.00,2,     2.72,2, -999.000,9, -999.000,9,  -999.00,9,   2294.7,2,   -999.0,9,   7.4468,2,     25.0, TS,  -999.00,9,   -999.0,  -999.00,9,  -999.00,9,  -999.00,9,  -999.00,9,   -999.0,-999.0000, -999,9,  798,   5.3439,  27.1253,     42.4,2
       KS03-10,  137E,KS-0870,  1,      8,02-16014,2,20031104,0151, 19.9937, 136.9732, 4662,    908.5,   4.9612,  34.4124,2,   -999.0,9,  34.4126,2,     70.0,2,  -999.00,9,  -999.00,9,    38.26,2,     0.00,2,     2.74,2, -999.000,9, -999.000,9,  -999.00,9,   2303.4,2,   -999.0,9,   7.4570,2,     25.0, TS,  -999.00,9,   -999.0,  -999.00,9,  -999.00,9,  -999.00,9,  -999.00,9,   -999.0,-999.0000, -999,9,  901,   4.8865,  27.2224,     40.2,2
       KS03-10,  137E,KS-0870,  1,      7,02-16013,2,20031104,0148, 19.9937, 136.9732, 4662,   1009.7,   4.3075,  34.4579,2,   -999.0,9,  34.4561,2,     72.0,2,  -999.00,9,  -999.00,9,    38.94,2,     0.00,2,     2.78,2, -999.000,9, -999.000,9,  -999.00,9,   2317.7,2,   -999.0,9,   7.4578,2,     25.0, TS,  -999.00,9,   -999.0,  -999.00,9,  -999.00,9,  -999.00,9,  -999.00,9,   -999.0,-999.0000, -999,9, 1001,   4.2287,  27.3310,     38.6,2
       KS03-10,  137E,KS-0870,  1,      6,02-16012,2,20031104,0143, 19.9937, 136.9732, 4662,   1261.8,   3.2109,  34.5169,2,   -999.0,9,  34.5142,2,     79.0,2,  -999.00,9,  -999.00,9,    39.71,2,     0.00,2,     2.84,2, -999.000,9, -999.000,9,  -999.00,9,   -999.0,9,   -999.0,9,-999.0000,9,   -999.0,  9,  -999.00,9,   -999.0,  -999.00,9,  -999.00,9,  -999.00,9,  -999.00,9,   -999.0,-999.0000, -999,9, 1250,   3.1206,  27.4883,   -999.0,9
       KS03-10,  137E,KS-0870,  1,      5,02-16011,2,20031104,0138, 19.9937, 136.9732, 4662,   1514.9,   2.7105,  34.5680,2,   -999.0,9,  34.5661,2,     94.0,2,  -999.00,9,  -999.00,9,    39.02,2,     0.00,2,     2.75,2, -999.000,9, -999.000,9,  -999.00,9,   -999.0,9,   -999.0,9,-999.0000,9,   -999.0,  9,  -999.00,9,   -999.0,  -999.00,9,  -999.00,9,  -999.00,9,  -999.00,9,   -999.0,-999.0000, -999,9, 1500,   2.6048,  27.5754,   -999.0,9
       KS03-10,  137E,KS-0870,  1,      4,02-16010,2,20031104,0133, 19.9937, 136.9732, 4662,   1766.8,   2.3691,  34.5988,2,   -999.0,9,  34.5973,2,    104.0,2,  -999.00,9,  -999.00,9,    38.54,2,     0.00,2,     2.71,2, -999.000,9, -999.000,9,  -999.00,9,   -999.0,9,   -999.0,9,-999.0000,9,   -999.0,  9,  -999.00,9,   -999.0,  -999.00,9,  -999.00,9,  -999.00,9,  -999.00,9,   -999.0,-999.0000, -999,9, 1749,   2.2469,  27.6303,   -999.0,9
       KS03-10,  137E,KS-0870,  1,      3,02-16009,9,20031104,0129, 19.9937, 136.9732, 4662,   2021.7,   2.1067,  34.6213,2,   -999.0,9,-999.0000,9,   -999.0,9,  -999.00,9,  -999.00,9,  -999.00,9,  -999.00,9,  -999.00,9, -999.000,9, -999.000,9,  -999.00,9,   -999.0,9,   -999.0,9,-999.0000,9,   -999.0,  9,  -999.00,9,   -999.0,  -999.00,9,  -999.00,9,  -999.00,9,  -999.00,9,   -999.0,-999.0000, -999,9, 2000,   1.9668,  27.6709,   -999.0,9
       KS03-10,  137E,KS-0870,  1,      2,02-16008,9,20031104,0128, 19.9937, 136.9732, 4662,   2021.9,   2.1063,  34.6213,2,   -999.0,9,-999.0000,9,   -999.0,9,  -999.00,9,  -999.00,9,  -999.00,9,  -999.00,9,  -999.00,9, -999.000,9, -999.000,9,  -999.00,9,   -999.0,9,   -999.0,9,-999.0000,9,   -999.0,  9,  -999.00,9,   -999.0,  -999.00,9,  -999.00,9,  -999.00,9,  -999.00,9,   -999.0,-999.0000, -999,9, 2000,   1.9664,  27.6709,   -999.0,9
       KS03-10,  137E,KS-0870,  1,      1,02-16007,2,20031104,0128, 19.9937, 136.9732, 4662,   2022.8,   2.1061,  34.6214,2,   -999.0,9,  34.6201,2,    114.0,2,  -999.00,9,  -999.00,9,    38.14,2,     0.00,2,     2.67,2, -999.000,9, -999.000,9,  -999.00,9,   -999.0,9,   -999.0,9,-999.0000,9,   -999.0,  9,  -999.00,9,   -999.0,  -999.00,9,  -999.00,9,  -999.00,9,  -999.00,9,   -999.0,-999.0000, -999,9, 2001,   1.9661,  27.6710,   -999.0,9