BOTTLE,20130510GEMDJMAYT
EXPOCODE,SECT_ID,STNNBR,CASTNO,SAMPNO,BTLNBR,BTLNBR_FLAG_W,DATE,TIME,LATITUDE,LONGITUDE,DEPTH,CTDPRS,CTDTMP,CTDSAL,CTDSAL_FLAG_W,CTDOXY,CTDOXY_FLAG_W,SALNTY,SALNTY_FLAG_W,OXYGEN,OXYGEN_FLAG_W,SILCAT,SILCAT_FLAG_W,NITRAT,NITRAT_FLAG_W,NO2+NO3,NO2+NO3_FLAG_W,NITRIT,NITRIT_FLAG_W,PHSPHT,PHSPHT_FLAG_W,CFC-11,CFC-11_FLAG_W,CFC-12,CFC-12_FLAG_W,DELC13,DELC13_FLAG_W,TCARBN,TCARBN_FLAG_W,ALKALI,ALKALI_FLAG_W,PH,PH_FLAG_W,PH_TMP,PH_SCALE,PH_NBS,PH_NBS_FLAG_W,C13ERR,TOTALP,TOTALP_FLAG_W,AMMONI,AMMONI_FLAG_W,CHLORA,CHLORA_FLAG_W,PPHYTN,PPHYTN_FLAG_W,REVPRS,REVTMP,DEPTH_,DEPTH_FLAG,CTDDEP,THETA,SIGTHT,DOC,DOC_FLAG_W
,,,,,,,GMT,GMT,,,METER,DBAR,ITS-90,PSS-78,,UMOL/KG,,PSS-78,,UMOL/KG,,UMOL/KG,,UMOL/KG,,UMOL/KG,,UMOL/KG,,UMOL/KG,,PMOL/KG,,PMOL/KG,,/MILLE,,UMOL/KG,,UMOL/KG,,25_DEG_C,,DEG_C,,,,/MILLE,UMOL/KG,,UMOL/KG,,UG/L,,UG/L,,DBAR,ITS-90,METERS,,METERS,DEG_C,,UMOL/L,
       KS03-10,  137E,KS-0860,  1,     24,02-16030,2,20031101,0840, 30.0022, 136.9955, 4519,      5.5,  25.7827,  34.8663,2,   -999.0,9,  34.8717,4,    211.0,2,  -999.00,9,  -999.00,9,     0.00,2,     0.00,2,     0.01,2, -999.000,9, -999.000,9,  -999.00,9,   1954.9,2,   -999.0,9,   8.1093,2,     25.0, TS,     8.18,2,   -999.0,  -999.00,9,  -999.00,9,     0.06,2,     0.03,2,   -999.0,-999.0000, -999,9,    5,  25.7815,  23.0003,     71.0,2
       KS03-10,  137E,KS-0860,  1,     23,02-16029,2,20031101,0839, 30.0022, 136.9955, 4519,     11.0,  25.6826,  34.8600,2,   -999.0,9,-999.0000,9,    206.0,2,  -999.00,9,  -999.00,9,     0.00,2,     0.00,2,     0.00,2, -999.000,9, -999.000,9,  -999.00,9,   1952.1,2,   -999.0,9,   8.1104,2,     25.0, TS,     8.19,2,   -999.0,  -999.00,9,  -999.00,9,     0.06,2,     0.04,2,   -999.0,-999.0000, -999,9,   11,  25.6802,  23.0270,     71.4,2
       KS03-10,  137E,KS-0860,  1,     22,02-16028,2,20031101,0837, 30.0022, 136.9955, 4519,     25.3,  25.6270,  34.8575,2,   -999.0,9,-999.0000,9,    205.0,2,  -999.00,9,  -999.00,9,     0.00,2,     0.00,2,     0.00,2, -999.000,9, -999.000,9,  -999.00,9,   1953.3,2,   -999.0,9,   8.1073,2,     25.0, TS,     8.18,2,   -999.0,  -999.00,9,  -999.00,9,     0.06,2,     0.03,2,   -999.0,-999.0000, -999,9,   25,  25.6214,  23.0432,     71.6,2
       KS03-10,  137E,KS-0860,  1,     21,02-16027,3,20031101,0834, 30.0022, 136.9955, 4519,     50.3,  25.5894,  34.8509,2,   -999.0,9,-999.0000,9,    206.0,2,  -999.00,9,  -999.00,9,     0.00,2,     0.00,2,     0.00,2, -999.000,9, -999.000,9,  -999.00,9,   1952.5,2,   -999.0,9,   8.1079,2,     25.0, TS,     8.18,2,   -999.0,  -999.00,9,  -999.00,9,     0.08,2,     0.03,2,   -999.0,-999.0000, -999,9,   50,  25.5783,  23.0516,     71.5,2
       KS03-10,  137E,KS-0860,  1,     20,02-16026,2,20031101,0833, 30.0022, 136.9955, 4519,     75.1,  24.8361,  34.8125,2,   -999.0,9,-999.0000,9,    208.0,2,  -999.00,9,  -999.00,9,     0.00,2,     0.00,2,     0.00,2, -999.000,9, -999.000,9,  -999.00,9,   1958.2,2,   -999.0,9,   8.0972,2,     25.0, TS,     8.17,2,   -999.0,  -999.00,9,  -999.00,9,     0.17,2,     0.25,2,   -999.0,-999.0000, -999,9,   75,  24.8199,  23.2541,     68.2,2
       KS03-10,  137E,KS-0860,  1,     19,02-16025,2,20031101,0832, 30.0022, 136.9955, 4519,     99.9,  22.3815,  34.8160,2,   -999.0,9,  34.8247,4,    204.0,2,  -999.00,9,  -999.00,9,     0.98,2,     0.12,2,     0.09,2, -999.000,9, -999.000,9,  -999.00,9,   1988.7,2,   -999.0,9,   8.0498,2,     25.0, TS,     8.12,2,   -999.0,  -999.00,9,  -999.00,9,     0.21,2,     0.65,2,   -999.0,-999.0000, -999,9,   99,  22.3615,  23.9763,     61.5,2
       KS03-10,  137E,KS-0860,  1,     18,02-16024,2,20031101,0831, 30.0022, 136.9955, 4519,    126.2,  20.2756,  34.8582,2,   -999.0,9,-999.0000,9,    204.0,2,  -999.00,9,  -999.00,9,     1.85,2,     0.03,2,     0.14,2, -999.000,9, -999.000,9,  -999.00,9,   2006.5,2,   -999.0,9,   8.0222,2,     25.0, TS,     8.08,2,   -999.0,  -999.00,9,  -999.00,9,     0.03,2,     0.12,2,   -999.0,-999.0000, -999,9,  125,  20.2521,  24.5869,     55.1,2
       KS03-10,  137E,KS-0860,  1,     17,02-16023,2,20031101,0830, 30.0022, 136.9955, 4519,    151.6,  19.5113,  34.8534,2,   -999.0,9,-999.0000,9,    196.0,3,  -999.00,9,  -999.00,9,     3.03,2,     0.01,2,     0.20,2, -999.000,9, -999.000,9,  -999.00,9,   2018.4,3,   -999.0,9,   7.9998,2,     25.0, TS,     8.07,2,   -999.0,  -999.00,9,  -999.00,9,     0.01,2,     0.03,2,   -999.0,-999.0000, -999,9,  150,  19.4838,  24.7848,     51.9,2
       KS03-10,  137E,KS-0860,  1,     16,02-16022,2,20031101,0828, 30.0022, 136.9955, 4519,    202.4,  18.4902,  34.8195,2,   -999.0,9,  34.8229,2,    203.0,2,  -999.00,9,  -999.00,9,     3.41,2,     0.00,2,     0.22,2, -999.000,9, -999.000,9,  -999.00,9,   2019.3,2,   -999.0,9,   7.9971,2,     25.0, TS,     8.06,2,   -999.0,  -999.00,9,  -999.00,9,     0.00,2,     0.02,2,   -999.0,-999.0000, -999,9,  201,  18.4548,  25.0209,     50.9,2
       KS03-10,  137E,KS-0860,  1,     15,02-16021,2,20031101,0825, 30.0022, 136.9955, 4519,    252.0,  17.6633,  34.7573,2,   -999.0,9,-999.0000,9,    195.0,2,  -999.00,9,  -999.00,9,     5.27,2,     0.00,2,     0.35,2, -999.000,9, -999.000,9,  -999.00,9,   2032.8,2,   -999.0,9,   7.9638,2,     25.0, TS,     8.03,2,   -999.0,  -999.00,9,  -999.00,9,     0.00,2,     0.01,2,   -999.0,-999.0000, -999,9,  250,  17.6206,  25.1790,     55.4,2
       KS03-10,  137E,KS-0860,  1,     14,02-16020,2,20031101,0824, 30.0022, 136.9955, 4519,    302.8,  16.9237,  34.7171,2,   -999.0,9,  34.7201,2,    195.0,2,  -999.00,9,  -999.00,9,     6.44,2,     0.00,2,     0.43,2, -999.000,9, -999.000,9,  -999.00,9,   2042.8,6,   -999.0,9,   7.9470,6,     25.0, TS,     8.01,2,   -999.0,  -999.00,9,  -999.00,9,     0.00,2,     0.01,2,   -999.0,-999.0000, -999,9,  301,  16.8738,  25.3270,     48.2,2
       KS03-10,  137E,KS-0860,  1,     13,02-16019,2,20031101,0821, 30.0022, 136.9955, 4519,    403.5,  15.4275,  34.6278,2,   -999.0,9,  34.6313,2,    187.0,2,  -999.00,9,  -999.00,9,     9.56,2,     0.00,2,     0.63,2, -999.000,9, -999.000,9,  -999.00,9,   2064.8,2,   -999.0,9,   7.9006,2,     25.0, TS,     7.97,2,   -999.0,  -999.00,9,  -999.00,9,  -999.00,9,  -999.00,9,   -999.0,-999.0000, -999,9,  400,  15.3650,  25.6043,     46.0,2
       KS03-10,  137E,KS-0860,  1,     12,02-16018,2,20031101,0819, 30.0022, 136.9955, 4519,    504.6,  12.4416,  34.4332,2,   -999.0,9,  34.4369,2,    173.0,2,  -999.00,9,  -999.00,9,    15.59,2,     0.00,2,     1.07,2, -999.000,9, -999.000,9,  -999.00,9,   2109.8,2,   -999.0,9,   7.8028,2,     25.0, TS,     7.87,2,   -999.0,  -999.00,9,  -999.00,9,  -999.00,9,  -999.00,9,   -999.0,-999.0000, -999,9,  501,  12.3738,  26.0771,     43.4,2
       KS03-10,  137E,KS-0860,  1,     11,02-16017,2,20031101,0817, 30.0022, 136.9955, 4519,    605.5,   9.5656,  34.2589,2,   -999.0,9,  34.2613,2,    154.0,2,  -999.00,9,  -999.00,9,    22.21,2,     0.00,2,     1.57,2, -999.000,9, -999.000,9,  -999.00,9,   2162.1,2,   -999.0,9,   7.6931,2,     25.0, TS,     7.77,2,   -999.0,  -999.00,9,  -999.00,9,  -999.00,9,  -999.00,9,   -999.0,-999.0000, -999,9,  601,   9.4964,  26.4574,     42.6,2
       KS03-10,  137E,KS-0860,  1,     10,02-16016,2,20031101,0814, 30.0022, 136.9955, 4519,    706.2,   7.5206,  34.2176,2,   -999.0,9,  34.2426,4,    148.0,3,  -999.00,9,  -999.00,9,    23.67,2,     0.00,2,     1.68,2, -999.000,9, -999.000,9,  -999.00,9,   2172.8,4,   -999.0,9,   7.6714,3,     25.0, TS,     7.74,2,   -999.0,  -999.00,9,  -999.00,9,  -999.00,9,  -999.00,9,   -999.0,-999.0000, -999,9,  700,   7.4501,  26.7393,     41.5,2
       KS03-10,  137E,KS-0860,  1,      9,02-16015,2,20031101,0812, 30.0022, 136.9955, 4519,    807.9,   5.6362,  34.2492,2,   -999.0,9,  34.2497,2,    131.0,3,  -999.00,9,  -999.00,9,    34.86,2,     0.00,2,     2.49,2, -999.000,9, -999.000,9,  -999.00,9,   2274.1,2,   -999.0,9,   7.4877,2,     25.0, TS,     7.57,2,   -999.0,  -999.00,9,  -999.00,9,  -999.00,9,  -999.00,9,   -999.0,-999.0000, -999,9,  801,   5.5664,  27.0131,   -999.0,4
       KS03-10,  137E,KS-0860,  1,      8,02-16014,2,20031101,0808, 30.0022, 136.9955, 4519,    908.2,   4.3702,  34.2923,2,   -999.0,9,  34.2923,2,     67.0,4,  -999.00,9,  -999.00,9,    38.55,2,     0.00,2,     2.76,2, -999.000,9, -999.000,9,  -999.00,9,   2316.4,2,   -999.0,9,   7.4258,2,     25.0, TS,     7.51,2,   -999.0,  -999.00,9,  -999.00,9,  -999.00,9,  -999.00,9,   -999.0,-999.0000, -999,9,  900,   4.2998,  27.1918,     37.4,2
       KS03-10,  137E,KS-0860,  1,      7,02-16013,2,20031101,0806, 30.0022, 136.9955, 4519,   1008.3,   3.9583,  34.3736,2,   -999.0,9,  34.3733,2,     66.0,2,  -999.00,9,  -999.00,9,    39.13,2,     0.00,2,     2.81,2, -999.000,9, -999.000,9,  -999.00,9,   2329.0,2,   -999.0,9,   7.4351,2,     25.0, TS,     7.51,2,   -999.0,  -999.00,9,  -999.00,9,  -999.00,9,  -999.00,9,   -999.0,-999.0000, -999,9,  999,   3.8825,  27.2999,     35.7,2
       KS03-10,  137E,KS-0860,  1,      6,02-16012,2,20031101,0801, 30.0022, 136.9955, 4519,   1261.4,   3.0206,  34.4616,2,   -999.0,9,  34.4610,2,     65.0,2,  -999.00,9,  -999.00,9,    40.39,2,     0.00,2,     2.91,2, -999.000,9, -999.000,9,  -999.00,9,   -999.0,9,   -999.0,9,-999.0000,9,   -999.0,  9,     7.49,2,   -999.0,  -999.00,9,  -999.00,9,  -999.00,9,  -999.00,9,   -999.0,-999.0000, -999,9, 1249,   2.9323,  27.4614,   -999.0,9
       KS03-10,  137E,KS-0860,  1,      5,02-16011,2,20031101,0755, 30.0022, 136.9955, 4519,   1516.6,   2.5600,  34.5232,2,   -999.0,9,  34.5223,2,     78.0,2,  -999.00,9,  -999.00,9,    40.10,2,     0.00,2,     2.86,2, -999.000,9, -999.000,9,  -999.00,9,   -999.0,9,   -999.0,9,-999.0000,9,   -999.0,  9,     7.53,2,   -999.0,  -999.00,9,  -999.00,9,  -999.00,9,  -999.00,9,   -999.0,-999.0000, -999,9, 1501,   2.4560,  27.5524,   -999.0,9
       KS03-10,  137E,KS-0860,  1,      4,02-16010,2,20031101,0750, 30.0022, 136.9955, 4519,   1770.2,   2.2232,  34.5709,2,   -999.0,9,  34.5686,2,     93.0,2,  -999.00,9,  -999.00,9,    39.31,2,     0.00,2,     2.79,2, -999.000,9, -999.000,9,  -999.00,9,   -999.0,9,   -999.0,9,-999.0000,9,   -999.0,  9,     7.55,2,   -999.0,  -999.00,9,  -999.00,9,  -999.00,9,  -999.00,9,   -999.0,-999.0000, -999,9, 1751,   2.1028,  27.6197,   -999.0,9
       KS03-10,  137E,KS-0860,  1,      3,02-16009,9,20031101,0744, 30.0022, 136.9955, 4519,   2024.6,   1.9904,  34.6064,2,   -999.0,9,-999.0000,9,   -999.0,9,  -999.00,9,  -999.00,9,  -999.00,9,  -999.00,9,  -999.00,9, -999.000,9, -999.000,9,  -999.00,9,   -999.0,9,   -999.0,9,-999.0000,9,   -999.0,  9,  -999.00,9,   -999.0,  -999.00,9,  -999.00,9,  -999.00,9,  -999.00,9,   -999.0,-999.0000, -999,9, 2001,   1.8521,  27.6679,   -999.0,9
       KS03-10,  137E,KS-0860,  1,      2,02-16008,9,20031101,0744, 30.0022, 136.9955, 4519,   2022.8,   1.9910,  34.6064,2,   -999.0,9,-999.0000,9,   -999.0,9,  -999.00,9,  -999.00,9,  -999.00,9,  -999.00,9,  -999.00,9, -999.000,9, -999.000,9,  -999.00,9,   -999.0,9,   -999.0,9,-999.0000,9,   -999.0,  9,  -999.00,9,   -999.0,  -999.00,9,  -999.00,9,  -999.00,9,  -999.00,9,   -999.0,-999.0000, -999,9, 1999,   1.8529,  27.6678,   -999.0,9
       KS03-10,  137E,KS-0860,  1,      1,02-16007,2,20031101,0744, 30.0022, 136.9955, 4519,   2022.6,   1.9909,  34.6063,2,   -999.0,9,  34.6040,2,    110.0,2,  -999.00,9,  -999.00,9,    38.44,2,     0.00,2,     2.72,2, -999.000,9, -999.000,9,  -999.00,9,   -999.0,9,   -999.0,9,-999.0000,9,   -999.0,  9,     7.58,2,   -999.0,  -999.00,9,  -999.00,9,  -999.00,9,  -999.00,9,   -999.0,-999.0000, -999,9, 1999,   1.8528,  27.6678,   -999.0,9