BOTTLE,20130510GEMDJMAYT
EXPOCODE,SECT_ID,STNNBR,CASTNO,SAMPNO,BTLNBR,BTLNBR_FLAG_W,DATE,TIME,LATITUDE,LONGITUDE,DEPTH,CTDPRS,CTDTMP,CTDSAL,CTDSAL_FLAG_W,CTDOXY,CTDOXY_FLAG_W,SALNTY,SALNTY_FLAG_W,OXYGEN,OXYGEN_FLAG_W,SILCAT,SILCAT_FLAG_W,NITRAT,NITRAT_FLAG_W,NO2+NO3,NO2+NO3_FLAG_W,NITRIT,NITRIT_FLAG_W,PHSPHT,PHSPHT_FLAG_W,CFC-11,CFC-11_FLAG_W,CFC-12,CFC-12_FLAG_W,DELC13,DELC13_FLAG_W,TCARBN,TCARBN_FLAG_W,ALKALI,ALKALI_FLAG_W,PH,PH_FLAG_W,PH_TMP,PH_SCALE,PH_NBS,PH_NBS_FLAG_W,C13ERR,TOTALP,TOTALP_FLAG_W,AMMONI,AMMONI_FLAG_W,CHLORA,CHLORA_FLAG_W,PPHYTN,PPHYTN_FLAG_W,REVPRS,REVTMP,DEPTH_,DEPTH_FLAG,CTDDEP,THETA,SIGTHT,DOC,DOC_FLAG_W
,,,,,,,GMT,GMT,,,METER,DBAR,ITS-90,PSS-78,,UMOL/KG,,PSS-78,,UMOL/KG,,UMOL/KG,,UMOL/KG,,UMOL/KG,,UMOL/KG,,UMOL/KG,,PMOL/KG,,PMOL/KG,,/MILLE,,UMOL/KG,,UMOL/KG,,25_DEG_C,,DEG_C,,,,/MILLE,UMOL/KG,,UMOL/KG,,UG/L,,UG/L,,DBAR,ITS-90,METERS,,METERS,DEG_C,,UMOL/L,
       KS03-10,  137E,KS-0865,  1,     24,02-16030,2,20031102,1850, 24.8973, 136.9873, 5105,      5.5,  26.1048,  34.7637,2,   -999.0,9,  34.7638,2,    206.0,2,  -999.00,9,  -999.00,9,     0.00,2,     0.00,2,     0.00,2, -999.000,9, -999.000,9,  -999.00,9,   1947.1,2,   -999.0,9,   8.1082,2,     25.0, TS,     8.20,2,   -999.0,  -999.00,9,  -999.00,9,     0.02,2,     0.01,2,   -999.0,-999.0000, -999,9,    5,  26.1036,  22.8228,     71.4,2
       KS03-10,  137E,KS-0865,  1,     23,02-16029,2,20031102,1849, 24.8973, 136.9873, 5105,     11.2,  26.0941,  34.7629,2,   -999.0,9,-999.0000,9,    206.0,2,  -999.00,9,  -999.00,9,     0.00,2,     0.00,2,     0.00,2, -999.000,9, -999.000,9,  -999.00,9,   1948.3,2,   -999.0,9,   8.1095,2,     25.0, TS,     8.22,2,   -999.0,  -999.00,9,  -999.00,9,     0.05,2,     0.02,2,   -999.0,-999.0000, -999,9,   11,  26.0916,  22.8259,     72.6,2
       KS03-10,  137E,KS-0865,  1,     22,02-16028,2,20031102,1847, 24.8973, 136.9873, 5105,     24.8,  26.0959,  34.7623,2,   -999.0,9,-999.0000,9,    206.0,2,  -999.00,9,  -999.00,9,     0.00,2,     0.00,2,     0.00,2, -999.000,9, -999.000,9,  -999.00,9,   1948.8,2,   -999.0,9,   8.1103,2,     25.0, TS,     8.21,2,   -999.0,  -999.00,9,  -999.00,9,     0.05,2,     0.02,2,   -999.0,-999.0000, -999,9,   25,  26.0904,  22.8258,     71.7,2
       KS03-10,  137E,KS-0865,  1,     21,02-16027,2,20031102,1844, 24.8973, 136.9873, 5105,     50.8,  24.7167,  34.7613,2,   -999.0,9,-999.0000,9,    210.0,2,  -999.00,9,  -999.00,9,     0.00,2,     0.00,2,     0.00,2, -999.000,9, -999.000,9,  -999.00,9,   1960.5,2,   -999.0,9,   8.0893,2,     25.0, TS,     8.20,2,   -999.0,  -999.00,9,  -999.00,9,     0.10,2,     0.09,2,   -999.0,-999.0000, -999,9,   50,  24.7058,  23.2498,     68.6,2
       KS03-10,  137E,KS-0865,  1,     20,02-16026,2,20031102,1843, 24.8973, 136.9873, 5105,     76.1,  21.0724,  34.8848,2,   -999.0,9,-999.0000,9,    206.0,2,  -999.00,9,  -999.00,9,     0.68,2,     0.06,2,     0.07,2, -999.000,9, -999.000,9,  -999.00,9,   1998.7,2,   -999.0,9,   8.0297,2,     25.0, TS,     8.15,2,   -999.0,  -999.00,9,  -999.00,9,     0.28,2,     0.53,2,   -999.0,-999.0000, -999,9,   76,  21.0578,  24.3905,     61.5,2
       KS03-10,  137E,KS-0865,  1,     19,02-16025,2,20031102,1842, 24.8973, 136.9873, 5105,    101.0,  20.5782,  34.8826,2,   -999.0,9,  34.8843,2,    204.0,2,  -999.00,9,  -999.00,9,     1.37,2,     0.06,2,     0.10,2, -999.000,9, -999.000,9,  -999.00,9,   2002.1,2,   -999.0,9,   8.0337,2,     25.0, TS,     8.14,2,   -999.0,  -999.00,9,  -999.00,9,     0.24,2,     0.53,2,   -999.0,-999.0000, -999,9,  100,  20.5592,  24.5235,     66.9,2
       KS03-10,  137E,KS-0865,  1,     18,02-16024,2,20031102,1840, 24.8973, 136.9873, 5105,    125.7,  19.7971,  34.8823,2,   -999.0,9,-999.0000,9,    206.0,2,  -999.00,9,  -999.00,9,     1.56,2,     0.03,2,     0.12,2, -999.000,9, -999.000,9,  -999.00,9,   2004.4,2,   -999.0,9,   8.0270,2,     25.0, TS,     8.13,2,   -999.0,  -999.00,9,  -999.00,9,     0.09,2,     0.27,2,   -999.0,-999.0000, -999,9,  125,  19.7741,  24.7313,     57.6,2
       KS03-10,  137E,KS-0865,  1,     17,02-16023,2,20031102,1839, 24.8973, 136.9873, 5105,    151.1,  19.0270,  34.8515,2,   -999.0,9,-999.0000,9,    205.0,2,  -999.00,9,  -999.00,9,     2.73,2,     0.01,2,     0.18,2, -999.000,9, -999.000,9,  -999.00,9,   2015.7,2,   -999.0,9,   8.0084,2,     25.0, TS,     8.12,2,   -999.0,  -999.00,9,  -999.00,9,     0.02,2,     0.06,2,   -999.0,-999.0000, -999,9,  150,  19.0001,  24.9077,     54.7,2
       KS03-10,  137E,KS-0865,  1,     16,02-16022,3,20031102,1838, 24.8973, 136.9873, 5105,    200.7,  18.1341,  34.7982,2,   -999.0,9,  34.7980,2,    205.0,2,  -999.00,9,  -999.00,9,     3.80,2,     0.00,2,     0.24,2, -999.000,9, -999.000,9,  -999.00,9,   2019.0,2,   -999.0,9,   7.9912,2,     25.0, TS,     8.10,2,   -999.0,  -999.00,9,  -999.00,9,     0.00,2,     0.01,2,   -999.0,-999.0000, -999,9,  199,  18.0995,  25.0929,     55.5,2
       KS03-10,  137E,KS-0865,  1,     15,02-16021,2,20031102,1836, 24.8973, 136.9873, 5105,    252.9,  17.3262,  34.7460,2,   -999.0,9,-999.0000,9,    202.0,2,  -999.00,9,  -999.00,9,     5.17,2,     0.00,2,     0.33,2, -999.000,9, -999.000,9,  -999.00,9,   2030.1,2,   -999.0,9,   7.9684,2,     25.0, TS,     8.07,2,   -999.0,  -999.00,9,  -999.00,9,     0.00,2,     0.00,2,   -999.0,-999.0000, -999,9,  251,  17.2839,  25.2516,     50.6,2
       KS03-10,  137E,KS-0865,  1,     14,02-16020,2,20031102,1834, 24.8973, 136.9873, 5105,    304.0,  16.2216,  34.6791,2,   -999.0,9,  34.6810,2,    191.0,2,  -999.00,9,  -999.00,9,     7.80,2,     0.00,2,     0.51,2, -999.000,9, -999.000,9,  -999.00,9,   2050.5,6,   -999.0,9,   7.9270,6,     25.0, TS,     8.03,2,   -999.0,  -999.00,9,  -999.00,9,     0.00,2,     0.01,2,   -999.0,-999.0000, -999,9,  302,  16.1730,  25.4611,     46.4,2
       KS03-10,  137E,KS-0865,  1,     13,02-16019,2,20031102,1832, 24.8973, 136.9873, 5105,    403.6,  13.7812,  34.5150,2,   -999.0,9,  34.5154,2,    184.0,2,  -999.00,9,  -999.00,9,    12.28,2,     0.00,2,     0.84,2, -999.000,9, -999.000,9,  -999.00,9,   2084.6,2,   -999.0,9,   7.8532,2,     25.0, TS,     7.95,2,   -999.0,  -999.00,9,  -999.00,9,  -999.00,9,  -999.00,9,   -999.0,-999.0000, -999,9,  401,  13.7233,  25.8699,     46.8,2
       KS03-10,  137E,KS-0865,  1,     12,02-16018,2,20031102,1830, 24.8973, 136.9873, 5105,    504.5,  11.3287,  34.3499,2,   -999.0,9,  34.3531,2,    172.0,2,  -999.00,9,  -999.00,9,    17.54,2,     0.00,2,     1.22,2, -999.000,9, -999.000,9,  -999.00,9,   2124.0,2,   -999.0,9,   7.7689,2,     25.0, TS,     7.86,2,   -999.0,  -999.00,9,  -999.00,9,  -999.00,9,  -999.00,9,   -999.0,-999.0000, -999,9,  501,  11.2649,  26.2212,     43.2,2
       KS03-10,  137E,KS-0865,  1,     11,02-16017,2,20031102,1827, 24.8973, 136.9873, 5105,    605.1,   8.5441,  34.1955,2,   -999.0,9,  34.1966,2,    145.0,2,  -999.00,9,  -999.00,9,    24.84,2,     0.00,2,     1.76,2, -999.000,9, -999.000,9,  -999.00,9,   2180.2,2,   -999.0,9,   7.6467,2,     25.0, TS,     7.74,2,   -999.0,  -999.00,9,  -999.00,9,  -999.00,9,  -999.00,9,   -999.0,-999.0000, -999,9,  600,   8.4796,  26.5695,     42.9,2
       KS03-10,  137E,KS-0865,  1,     10,02-16016,2,20031102,1825, 24.8973, 136.9873, 5105,    706.4,   6.1247,  34.1519,2,   -999.0,9,  34.1511,2,    106.0,2,  -999.00,9,  -999.00,9,    32.53,2,     0.00,2,     2.34,2, -999.000,9, -999.000,9,  -999.00,9,   2244.7,2,   -999.0,9,   7.5162,2,     25.0, TS,     7.61,2,   -999.0,  -999.00,9,  -999.00,9,  -999.00,9,  -999.00,9,   -999.0,-999.0000, -999,9,  701,   6.0617,  26.8746,     45.2,2
       KS03-10,  137E,KS-0865,  1,      9,02-16015,2,20031102,1822, 24.8973, 136.9873, 5105,    805.9,   5.2313,  34.1893,2,   -999.0,9,  34.1919,2,     86.0,2,  -999.00,9,  -999.00,9,    35.73,2,     0.00,2,     2.58,2, -999.000,9, -999.000,9,  -999.00,9,   2279.8,2,   -999.0,9,   7.4676,2,     25.0, TS,     7.56,2,   -999.0,  -999.00,9,  -999.00,9,  -999.00,9,  -999.00,9,   -999.0,-999.0000, -999,9,  799,   5.1643,  27.0135,     41.0,2
       KS03-10,  137E,KS-0865,  1,      8,02-16014,2,20031102,1819, 24.8973, 136.9873, 5105,    907.4,   4.3325,  34.2666,2,   -999.0,9,  34.2662,2,     65.0,2,  -999.00,9,  -999.00,9,    38.84,2,     0.00,2,     2.79,2, -999.000,9, -999.000,9,  -999.00,9,   2316.6,2,   -999.0,9,   7.4149,2,     25.0, TS,     7.51,2,   -999.0,  -999.00,9,  -999.00,9,  -999.00,9,  -999.00,9,   -999.0,-999.0000, -999,9,  900,   4.2625,  27.1753,     38.7,2
       KS03-10,  137E,KS-0865,  1,      7,02-16013,2,20031102,1817, 24.8973, 136.9873, 5105,   1009.4,   3.7471,  34.3451,2,   -999.0,9,  34.3441,2,     56.0,2,  -999.00,9,  -999.00,9,    40.30,2,     0.00,2,     2.91,2, -999.000,9, -999.000,9,  -999.00,9,   2338.0,2,   -999.0,9,   7.3999,2,     25.0, TS,     7.49,2,   -999.0,  -999.00,9,  -999.00,9,  -999.00,9,  -999.00,9,   -999.0,-999.0000, -999,9, 1000,   3.6729,  27.2983,     38.7,2
       KS03-10,  137E,KS-0865,  1,      6,02-16012,2,20031102,1812, 24.8973, 136.9873, 5105,   1261.6,   3.0233,  34.4616,2,   -999.0,9,  34.4612,2,     64.0,2,  -999.00,9,  -999.00,9,    40.59,2,     0.00,2,     2.94,2, -999.000,9, -999.000,9,  -999.00,9,   -999.0,9,   -999.0,9,-999.0000,9,   -999.0,  9,     7.52,2,   -999.0,  -999.00,9,  -999.00,9,  -999.00,9,  -999.00,9,   -999.0,-999.0000, -999,9, 1250,   2.9349,  27.4612,   -999.0,9
       KS03-10,  137E,KS-0865,  1,      5,02-16011,2,20031102,1807, 24.8973, 136.9873, 5105,   1513.4,   2.5239,  34.5386,2,   -999.0,9,  34.5382,2,     85.0,2,  -999.00,9,  -999.00,9,    39.71,2,     0.00,2,     2.83,2, -999.000,9, -999.000,9,  -999.00,9,   -999.0,9,   -999.0,9,-999.0000,9,   -999.0,  9,     7.55,2,   -999.0,  -999.00,9,  -999.00,9,  -999.00,9,  -999.00,9,   -999.0,-999.0000, -999,9, 1498,   2.4206,  27.5677,   -999.0,9
       KS03-10,  137E,KS-0865,  1,      4,02-16010,2,20031102,1803, 24.8973, 136.9873, 5105,   1768.2,   2.1916,  34.5941,2,   -999.0,9,  34.5932,2,    105.0,2,  -999.00,9,  -999.00,9,    38.63,2,     0.00,2,     2.73,2, -999.000,9, -999.000,9,  -999.00,9,   -999.0,9,   -999.0,9,-999.0000,9,   -999.0,  9,     7.59,2,   -999.0,  -999.00,9,  -999.00,9,  -999.00,9,  -999.00,9,   -999.0,-999.0000, -999,9, 1749,   2.0717,  27.6408,   -999.0,9
       KS03-10,  137E,KS-0865,  1,      3,02-16009,9,20031102,1758, 24.8973, 136.9873, 5105,   2020.9,   2.0076,  34.6178,2,   -999.0,9,-999.0000,9,   -999.0,9,  -999.00,9,  -999.00,9,  -999.00,9,  -999.00,9,  -999.00,9, -999.000,9, -999.000,9,  -999.00,9,   -999.0,9,   -999.0,9,-999.0000,9,   -999.0,  9,  -999.00,9,   -999.0,  -999.00,9,  -999.00,9,  -999.00,9,  -999.00,9,   -999.0,-999.0000, -999,9, 1998,   1.8693,  27.6757,   -999.0,9
       KS03-10,  137E,KS-0865,  1,      2,02-16008,9,20031102,1757, 24.8973, 136.9873, 5105,   2021.4,   2.0073,  34.6180,2,   -999.0,9,-999.0000,9,   -999.0,9,  -999.00,9,  -999.00,9,  -999.00,9,  -999.00,9,  -999.00,9, -999.000,9, -999.000,9,  -999.00,9,   -999.0,9,   -999.0,9,-999.0000,9,   -999.0,  9,  -999.00,9,   -999.0,  -999.00,9,  -999.00,9,  -999.00,9,  -999.00,9,   -999.0,-999.0000, -999,9, 1999,   1.8690,  27.6759,   -999.0,9
       KS03-10,  137E,KS-0865,  1,      1,02-16007,2,20031102,1757, 24.8973, 136.9873, 5105,   2021.5,   2.0070,  34.6179,2,   -999.0,9,  34.6162,2,    116.0,2,  -999.00,9,  -999.00,9,    38.05,2,     0.00,2,     2.69,2, -999.000,9, -999.000,9,  -999.00,9,   -999.0,9,   -999.0,9,-999.0000,9,   -999.0,  9,     7.62,2,   -999.0,  -999.00,9,  -999.00,9,  -999.00,9,  -999.00,9,   -999.0,-999.0000, -999,9, 1999,   1.8687,  27.6758,   -999.0,9