BOTTLE,20130510GEMDJMAYT
EXPOCODE,SECT_ID,STNNBR,CASTNO,SAMPNO,BTLNBR,BTLNBR_FLAG_W,DATE,TIME,LATITUDE,LONGITUDE,DEPTH,CTDPRS,CTDTMP,CTDSAL,CTDSAL_FLAG_W,CTDOXY,CTDOXY_FLAG_W,SALNTY,SALNTY_FLAG_W,OXYGEN,OXYGEN_FLAG_W,SILCAT,SILCAT_FLAG_W,NITRAT,NITRAT_FLAG_W,NO2+NO3,NO2+NO3_FLAG_W,NITRIT,NITRIT_FLAG_W,PHSPHT,PHSPHT_FLAG_W,CFC-11,CFC-11_FLAG_W,CFC-12,CFC-12_FLAG_W,DELC13,DELC13_FLAG_W,TCARBN,TCARBN_FLAG_W,ALKALI,ALKALI_FLAG_W,PH,PH_FLAG_W,PH_TMP,PH_SCALE,PH_NBS,PH_NBS_FLAG_W,C13ERR,TOTALP,TOTALP_FLAG_W,AMMONI,AMMONI_FLAG_W,CHLORA,CHLORA_FLAG_W,PPHYTN,PPHYTN_FLAG_W,REVPRS,REVTMP,DEPTH_,DEPTH_FLAG,CTDDEP,THETA,SIGTHT,DOC,DOC_FLAG_W
,,,,,,,GMT,GMT,,,METER,DBAR,ITS-90,PSS-78,,UMOL/KG,,PSS-78,,UMOL/KG,,UMOL/KG,,UMOL/KG,,UMOL/KG,,UMOL/KG,,UMOL/KG,,PMOL/KG,,PMOL/KG,,/MILLE,,UMOL/KG,,UMOL/KG,,25_DEG_C,,DEG_C,,,,/MILLE,UMOL/KG,,UMOL/KG,,UG/L,,UG/L,,DBAR,ITS-90,METERS,,METERS,DEG_C,,UMOL/L,
       KS03-10,  137E,KS-0887,  2,     24,02-16030,2,20031109,1217,  2.9800, 137.1578, 4398,      4.9,  29.3526,  34.1985,2,   -999.0,9,  34.1977,2,    199.0,2,  -999.00,9,  -999.00,9,     0.00,2,     0.00,2,     0.01,2, -999.000,9, -999.000,9,  -999.00,9,   1907.8,3,   -999.0,9,   8.1298,2,     25.0, TS,     8.22,2,   -999.0,  -999.00,9,  -999.00,9,     0.08,2,     0.04,2,   -999.0,-999.0000, -999,9,    5,  29.3514,  21.3449,   -999.0,9
       KS03-10,  137E,KS-0887,  2,     23,02-16029,2,20031109,1216,  2.9800, 137.1578, 4398,     10.3,  29.3154,  34.1989,2,   -999.0,9,-999.0000,9,    200.0,2,  -999.00,9,  -999.00,9,     0.00,2,     0.00,2,     0.01,2, -999.000,9, -999.000,9,  -999.00,9,   1907.8,3,   -999.0,9,   8.1290,2,     25.0, TS,     8.23,2,   -999.0,  -999.00,9,  -999.00,9,     0.08,2,     0.05,2,   -999.0,-999.0000, -999,9,   10,  29.3129,  21.3581,   -999.0,9
       KS03-10,  137E,KS-0887,  2,     22,02-16028,2,20031109,1215,  2.9800, 137.1578, 4398,     25.1,  29.2264,  34.2059,2,   -999.0,9,-999.0000,9,    199.0,2,  -999.00,9,  -999.00,9,     0.00,2,     0.00,2,     0.01,2, -999.000,9, -999.000,9,  -999.00,9,   1906.9,3,   -999.0,9,   8.1297,2,     25.0, TS,     8.22,2,   -999.0,  -999.00,9,  -999.00,9,     0.15,2,     0.07,2,   -999.0,-999.0000, -999,9,   25,  29.2203,  21.3944,   -999.0,9
       KS03-10,  137E,KS-0887,  2,     21,02-16027,2,20031109,1211,  2.9800, 137.1578, 4398,     49.6,  29.2062,  34.2556,2,   -999.0,9,-999.0000,9,    199.0,2,  -999.00,9,  -999.00,9,     0.00,2,     0.00,2,     0.02,2, -999.000,9, -999.000,9,  -999.00,9,   1910.1,3,   -999.0,9,   8.1274,2,     25.0, TS,     8.22,2,   -999.0,  -999.00,9,  -999.00,9,     0.18,2,     0.12,2,   -999.0,-999.0000, -999,9,   49,  29.1942,  21.4404,   -999.0,9
       KS03-10,  137E,KS-0887,  2,     20,02-16026,2,20031109,1210,  2.9800, 137.1578, 4398,     73.4,  28.0790,  34.8214,2,   -999.0,9,-999.0000,9,    175.0,2,  -999.00,9,  -999.00,9,     3.03,2,     0.14,2,     0.31,2, -999.000,9, -999.000,9,  -999.00,9,   1979.4,3,   -999.0,9,   8.0665,2,     25.0, TS,     8.16,2,   -999.0,  -999.00,9,  -999.00,9,     0.19,2,     0.34,2,   -999.0,-999.0000, -999,9,   73,  28.0617,  22.2402,   -999.0,9
       KS03-10,  137E,KS-0887,  2,     19,02-16025,2,20031109,1209,  2.9800, 137.1578, 4398,    101.6,  24.2905,  35.3741,2,   -999.0,9,  35.3721,2,    141.0,2,  -999.00,9,  -999.00,9,     8.11,2,     0.05,2,     0.64,2, -999.000,9, -999.000,9,  -999.00,9,   2058.0,3,   -999.0,9,   7.9689,2,     25.0, TS,     8.06,2,   -999.0,  -999.00,9,  -999.00,9,     0.08,2,     0.40,2,   -999.0,-999.0000, -999,9,  101,  24.2689,  23.8445,   -999.0,9
       KS03-10,  137E,KS-0887,  2,     18,02-16024,2,20031109,1208,  2.9800, 137.1578, 4398,    123.0,  23.9464,  35.3667,2,   -999.0,9,-999.0000,9,    141.0,2,  -999.00,9,  -999.00,9,     8.11,2,     0.05,2,     0.63,2, -999.000,9, -999.000,9,  -999.00,9,   2060.4,3,   -999.0,9,   7.9610,2,     25.0, TS,     8.05,2,   -999.0,  -999.00,9,  -999.00,9,     0.06,2,     0.33,2,   -999.0,-999.0000, -999,9,  122,  23.9205,  23.9426,   -999.0,9
       KS03-10,  137E,KS-0887,  2,     17,02-16023,2,20031109,1207,  2.9800, 137.1578, 4398,    147.8,  22.6814,  35.3424,2,   -999.0,9,-999.0000,9,    141.0,2,  -999.00,9,  -999.00,9,     8.88,2,     0.04,2,     0.68,2, -999.000,9, -999.000,9,  -999.00,9,   2073.3,3,   -999.0,9,   7.9314,2,     25.0, TS,     8.03,2,   -999.0,  -999.00,9,  -999.00,9,     0.02,2,     0.11,2,   -999.0,-999.0000, -999,9,  147,  22.6515,  24.2934,   -999.0,9
       KS03-10,  137E,KS-0887,  2,     16,02-16022,9,20031109,1206,  2.9800, 137.1578, 4398,    199.8,  18.2544,  35.3734,2,   -999.0,9,-999.0000,9,   -999.0,9,  -999.00,9,  -999.00,9,  -999.00,9,  -999.00,9,  -999.00,9, -999.000,9, -999.000,9,  -999.00,9,   -999.0,9,   -999.0,9,-999.0000,9,   -999.0,  9,  -999.00,9,   -999.0,  -999.00,9,  -999.00,9,  -999.00,9,  -999.00,9,   -999.0,-999.0000, -999,9,  199,  18.2197,  25.5036,   -999.0,9
       KS03-10,  137E,KS-0887,  2,     15,02-16021,2,20031109,1205,  2.9800, 137.1578, 4398,    199.2,  18.1868,  35.3618,2,   -999.0,9,  35.3662,2,    146.0,2,  -999.00,9,  -999.00,9,    11.51,2,     0.01,2,     0.87,2, -999.000,9, -999.000,9,  -999.00,9,   2108.0,3,   -999.0,9,   7.8812,2,     25.0, TS,     7.98,2,   -999.0,  -999.00,9,  -999.00,9,     0.00,2,     0.02,2,   -999.0,-999.0000, -999,9,  198,  18.1523,  25.5115,   -999.0,9
       KS03-10,  137E,KS-0887,  2,     14,02-16020,2,20031109,1203,  2.9800, 137.1578, 4398,    250.4,  14.7195,  34.8115,2,   -999.0,9,-999.0000,9,    142.0,2,  -999.00,9,  -999.00,9,    16.38,2,     0.00,2,     1.16,2, -999.000,9, -999.000,9,  -999.00,9,   2124.6,3,   -999.0,9,   7.7946,2,     25.0, TS,     7.88,2,   -999.0,  -999.00,9,  -999.00,9,     0.00,2,     0.02,2,   -999.0,-999.0000, -999,9,  249,  14.6821,  25.8959,   -999.0,9
       KS03-10,  137E,KS-0887,  2,     13,02-16019,9,20031109,1201,  2.9800, 137.1578, 4398,    303.2,  12.0784,  34.5609,2,   -999.0,9,-999.0000,9,   -999.0,9,  -999.00,9,  -999.00,9,  -999.00,9,  -999.00,9,  -999.00,9, -999.000,9, -999.000,9,  -999.00,9,   -999.0,9,   -999.0,9,-999.0000,9,   -999.0,  9,  -999.00,9,   -999.0,  -999.00,9,  -999.00,9,  -999.00,9,  -999.00,9,   -999.0,-999.0000, -999,9,  301,  12.0387,  26.2406,   -999.0,9
       KS03-10,  137E,KS-0887,  2,     12,02-16018,2,20031109,1201,  2.9800, 137.1578, 4398,    302.1,  12.1489,  34.5596,2,   -999.0,9,  34.5628,2,    129.0,2,  -999.00,9,  -999.00,9,    21.34,2,     0.00,2,     1.48,2, -999.000,9, -999.000,9,  -999.00,9,   2157.0,3,   -999.0,9,   7.7120,6,     25.0, TS,     7.80,2,   -999.0,  -999.00,9,  -999.00,9,     0.00,2,     0.02,2,   -999.0,-999.0000, -999,9,  300,  12.1092,  26.2262,   -999.0,9
       KS03-10,  137E,KS-0887,  2,     11,02-16017,2,20031109,1159,  2.9800, 137.1578, 4398,    402.6,   8.6262,  34.5731,2,   -999.0,9,  34.5737,2,     79.0,2,  -999.00,9,  -999.00,9,    32.53,2,     0.00,2,     2.24,2, -999.000,9, -999.000,9,  -999.00,9,   2233.6,3,   -999.0,9,   7.5383,2,     25.0, TS,     7.63,2,   -999.0,  -999.00,9,  -999.00,9,  -999.00,9,  -999.00,9,   -999.0,-999.0000, -999,9,  400,   8.5833,  26.8496,   -999.0,9
       KS03-10,  137E,KS-0887,  2,     10,02-16016,2,20031109,1157,  2.9800, 137.1578, 4398,    503.0,   7.3011,  34.5575,2,   -999.0,9,  34.5547,2,    109.0,2,  -999.00,9,  -999.00,9,    32.42,2,     0.00,2,     2.22,2, -999.000,9, -999.000,9,  -999.00,9,   2231.5,3,   -999.0,9,   7.5669,2,     25.0, TS,     7.66,2,   -999.0,  -999.00,9,  -999.00,9,  -999.00,9,  -999.00,9,   -999.0,-999.0000, -999,9,  500,   7.2521,  27.0349,   -999.0,9
       KS03-10,  137E,KS-0887,  2,      9,02-16015,2,20031109,1154,  2.9800, 137.1578, 4398,    604.0,   6.5281,  34.5370,2,   -999.0,9,  34.5368,2,    100.0,2,  -999.00,9,  -999.00,9,    34.76,2,     0.00,2,     2.40,2, -999.000,9, -999.000,9,  -999.00,9,   2248.8,3,   -999.0,9,   7.5382,2,     25.0, TS,     7.63,2,   -999.0,  -999.00,9,  -999.00,9,  -999.00,9,  -999.00,9,   -999.0,-999.0000, -999,9,  600,   6.4724,  27.1255,   -999.0,9
       KS03-10,  137E,KS-0887,  2,      8,02-16014,2,20031109,1152,  2.9800, 137.1578, 4398,    704.2,   5.7588,  34.5351,2,   -999.0,9,  34.5351,2,     94.0,2,  -999.00,9,  -999.00,9,    36.60,2,     0.00,2,     2.53,2, -999.000,9, -999.000,9,  -999.00,9,   2267.9,3,   -999.0,9,   7.5199,2,     25.0, TS,     7.61,2,   -999.0,  -999.00,9,  -999.00,9,  -999.00,9,  -999.00,9,   -999.0,-999.0000, -999,9,  699,   5.6975,  27.2232,   -999.0,9
       KS03-10,  137E,KS-0887,  2,      7,02-16013,2,20031109,1149,  2.9800, 137.1578, 4398,    806.1,   5.1902,  34.5420,2,   -999.0,9,  34.5408,2,     92.0,2,  -999.00,9,  -999.00,9,    37.57,2,     0.00,2,     2.62,2, -999.000,9, -999.000,9,  -999.00,9,   2281.8,3,   -999.0,9,   7.5068,2,     25.0, TS,     7.60,2,   -999.0,  -999.00,9,  -999.00,9,  -999.00,9,  -999.00,9,   -999.0,-999.0000, -999,9,  800,   5.1229,  27.2978,   -999.0,9
       KS03-10,  137E,KS-0887,  2,      6,02-16012,2,20031109,1146,  2.9800, 137.1578, 4398,    906.5,   4.7723,  34.5494,2,   -999.0,9,  34.5486,2,     91.0,2,  -999.00,9,  -999.00,9,    38.06,2,     0.00,2,     2.65,2, -999.000,9, -999.000,9,  -999.00,9,   2292.9,2,   -999.0,9,   7.5004,2,     25.0, TS,     7.60,2,   -999.0,  -999.00,9,  -999.00,9,  -999.00,9,  -999.00,9,   -999.0,-999.0000, -999,9,  900,   4.6989,  27.3523,   -999.0,9
       KS03-10,  137E,KS-0887,  2,      5,02-16011,2,20031109,1144,  2.9800, 137.1578, 4398,   1006.9,   4.4917,  34.5556,2,   -999.0,9,  34.5545,2,     91.0,2,  -999.00,9,  -999.00,9,    38.15,2,     0.00,2,     2.68,2, -999.000,9, -999.000,9,  -999.00,9,   2300.8,2,   -999.0,9,   7.5028,2,     25.0, TS,     7.58,2,   -999.0,  -999.00,9,  -999.00,9,  -999.00,9,  -999.00,9,   -999.0,-999.0000, -999,9,  999,   4.4116,  27.3890,   -999.0,9
       KS03-10,  137E,KS-0887,  2,      4,02-16010,3,20031109,1136,  2.9800, 137.1578, 4398,   1260.7,   3.6292,  34.5799,2,   -999.0,9,  34.5791,2,     98.0,2,  -999.00,9,  -999.00,9,    38.54,2,     0.00,2,     2.71,2, -999.000,9, -999.000,9,  -999.00,9,   -999.0,9,   -999.0,9,-999.0000,9,   -999.0,  9,  -999.00,9,   -999.0,  -999.00,9,  -999.00,9,  -999.00,9,  -999.00,9,   -999.0,-999.0000, -999,9, 1250,   3.5348,  27.4990,   -999.0,9
       KS03-10,  137E,KS-0887,  2,      3,02-16009,2,20031109,1130,  2.9800, 137.1578, 4398,   1518.7,   3.0276,  34.6007,2,   -999.0,9,  34.5995,2,    105.0,2,  -999.00,9,  -999.00,9,    38.44,2,     0.00,2,     2.67,2, -999.000,9, -999.000,9,  -999.00,9,   -999.0,9,   -999.0,9,-999.0000,9,   -999.0,  9,  -999.00,9,   -999.0,  -999.00,9,  -999.00,9,  -999.00,9,  -999.00,9,   -999.0,-999.0000, -999,9, 1505,   2.9178,  27.5738,   -999.0,9
       KS03-10,  137E,KS-0887,  2,      2,02-16008,2,20031109,1124,  2.9800, 137.1578, 4398,   1764.3,   2.5946,  34.6188,2,   -999.0,9,  34.6185,2,    112.0,2,  -999.00,9,  -999.00,9,    38.34,2,     0.00,2,     2.65,2, -999.000,9, -999.000,9,  -999.00,9,   -999.0,9,   -999.0,9,-999.0000,9,   -999.0,  9,  -999.00,9,   -999.0,  -999.00,9,  -999.00,9,  -999.00,9,  -999.00,9,   -999.0,-999.0000, -999,9, 1747,   2.4695,  27.6277,   -999.0,9
       KS03-10,  137E,KS-0887,  2,      1,02-16007,2,20031109,1120,  2.9800, 137.1578, 4398,   2019.3,   2.2330,  34.6368,2,   -999.0,9,  34.6358,2,    118.0,2,  -999.00,9,  -999.00,9,    38.05,2,     0.00,2,     2.62,2, -999.000,9, -999.000,9,  -999.00,9,   -999.0,9,   -999.0,9,-999.0000,9,   -999.0,  9,  -999.00,9,   -999.0,  -999.00,9,  -999.00,9,  -999.00,9,  -999.00,9,   -999.0,-999.0000, -999,9, 1999,   2.0914,  27.6734,   -999.0,9