BOTTLE,20130510GEMDJMAYT
EXPOCODE,SECT_ID,STNNBR,CASTNO,SAMPNO,BTLNBR,BTLNBR_FLAG_W,DATE,TIME,LATITUDE,LONGITUDE,DEPTH,CTDPRS,CTDTMP,CTDSAL,CTDSAL_FLAG_W,CTDOXY,CTDOXY_FLAG_W,SALNTY,SALNTY_FLAG_W,OXYGEN,OXYGEN_FLAG_W,SILCAT,SILCAT_FLAG_W,NITRAT,NITRAT_FLAG_W,NO2+NO3,NO2+NO3_FLAG_W,NITRIT,NITRIT_FLAG_W,PHSPHT,PHSPHT_FLAG_W,CFC-11,CFC-11_FLAG_W,CFC-12,CFC-12_FLAG_W,DELC13,DELC13_FLAG_W,TCARBN,TCARBN_FLAG_W,ALKALI,ALKALI_FLAG_W,PH,PH_FLAG_W,PH_TMP,PH_SCALE,PH_NBS,PH_NBS_FLAG_W,C13ERR,TOTALP,TOTALP_FLAG_W,AMMONI,AMMONI_FLAG_W,CHLORA,CHLORA_FLAG_W,PPHYTN,PPHYTN_FLAG_W,REVPRS,REVTMP,DEPTH_,DEPTH_FLAG,CTDDEP,THETA,SIGTHT,DOC,DOC_FLAG_W
,,,,,,,GMT,GMT,,,METER,DBAR,ITS-90,PSS-78,,UMOL/KG,,PSS-78,,UMOL/KG,,UMOL/KG,,UMOL/KG,,UMOL/KG,,UMOL/KG,,UMOL/KG,,PMOL/KG,,PMOL/KG,,/MILLE,,UMOL/KG,,UMOL/KG,,25_DEG_C,,DEG_C,,,,/MILLE,UMOL/KG,,UMOL/KG,,UG/L,,UG/L,,DBAR,ITS-90,METERS,,METERS,DEG_C,,UMOL/L,
       KS03-10,  137E,KS-0875,  1,     24,02-16030,2,20031105,1055, 14.9978, 136.9977, 5183,      5.6,  29.6654,  34.2012,2,   -999.0,9,  34.2019,2,    198.0,2,  -999.00,9,  -999.00,9,     0.00,2,     0.00,2,     0.00,2, -999.000,9, -999.000,9,  -999.00,9,   1895.1,2,   -999.0,9,   8.1367,2,     25.0, TS,     8.26,2,   -999.0,  -999.00,9,  -999.00,9,     0.04,2,     0.02,2,   -999.0,-999.0000, -999,9,    6,  29.6640,  21.2415,     70.6,2
       KS03-10,  137E,KS-0875,  1,     23,02-16029,2,20031105,1054, 14.9978, 136.9977, 5183,     10.0,  29.6650,  34.2009,2,   -999.0,9,-999.0000,9,    196.0,2,  -999.00,9,  -999.00,9,     0.00,2,     0.00,2,     0.00,2, -999.000,9, -999.000,9,  -999.00,9,   1896.3,2,   -999.0,9,   8.1401,2,     25.0, TS,     8.26,2,   -999.0,  -999.00,9,  -999.00,9,     0.05,2,     0.02,2,   -999.0,-999.0000, -999,9,   10,  29.6625,  21.2418,     70.3,2
       KS03-10,  137E,KS-0875,  1,     22,02-16028,2,20031105,1053, 14.9978, 136.9977, 5183,     26.4,  29.6654,  34.2008,2,   -999.0,9,-999.0000,9,    197.0,2,  -999.00,9,  -999.00,9,     0.00,2,     0.00,2,     0.00,2, -999.000,9, -999.000,9,  -999.00,9,   1894.3,2,   -999.0,9,   8.1383,2,     25.0, TS,     8.25,2,   -999.0,  -999.00,9,  -999.00,9,     0.05,2,     0.02,2,   -999.0,-999.0000, -999,9,   26,  29.6589,  21.2429,     71.3,2
       KS03-10,  137E,KS-0875,  1,     21,02-16027,2,20031105,1050, 14.9978, 136.9977, 5183,     49.7,  29.3230,  34.4024,2,   -999.0,9,-999.0000,9,    204.0,2,  -999.00,9,  -999.00,9,     0.00,2,     0.00,2,     0.01,2, -999.000,9, -999.000,9,  -999.00,9,   1917.7,2,   -999.0,9,   8.1278,2,     25.0, TS,     8.24,2,   -999.0,  -999.00,9,  -999.00,9,     0.07,2,     0.04,2,   -999.0,-999.0000, -999,9,   49,  29.3109,  21.5114,     72.4,2
       KS03-10,  137E,KS-0875,  1,     20,02-16026,2,20031105,1049, 14.9978, 136.9977, 5183,     77.0,  28.0209,  34.6114,2,   -999.0,9,-999.0000,9,    202.0,2,  -999.00,9,  -999.00,9,     0.00,2,     0.00,2,     0.04,2, -999.000,9, -999.000,9,  -999.00,9,   1939.1,2,   -999.0,9,   8.1123,2,     25.0, TS,     8.21,2,   -999.0,  -999.00,9,  -999.00,9,     0.10,2,     0.08,2,   -999.0,-999.0000, -999,9,   76,  28.0028,  22.1015,     71.6,2
       KS03-10,  137E,KS-0875,  1,     19,02-16025,2,20031105,1048, 14.9978, 136.9977, 5183,    100.2,  26.7648,  34.8136,2,   -999.0,9,  34.8218,4,    197.0,2,  -999.00,9,  -999.00,9,     0.00,2,     0.00,2,     0.06,2, -999.000,9, -999.000,9,  -999.00,9,   1959.7,2,   -999.0,9,   8.0933,2,     25.0, TS,     8.21,2,   -999.0,  -999.00,9,  -999.00,9,     0.13,2,     0.25,2,   -999.0,-999.0000, -999,9,  100,  26.7420,  22.6595,     65.3,2
       KS03-10,  137E,KS-0875,  1,     18,02-16024,2,20031105,1047, 14.9978, 136.9977, 5183,    124.7,  24.8610,  35.0097,2,   -999.0,9,-999.0000,9,    192.0,2,  -999.00,9,  -999.00,9,     0.59,2,     0.06,2,     0.07,2, -999.000,9, -999.000,9,  -999.00,9,   1984.4,2,   -999.0,9,   8.0523,2,     25.0, TS,     8.18,2,   -999.0,  -999.00,9,  -999.00,9,     0.10,2,     0.51,2,   -999.0,-999.0000, -999,9,  124,  24.8341,  23.3989,     59.4,2
       KS03-10,  137E,KS-0875,  1,     17,02-16023,2,20031105,1046, 14.9978, 136.9977, 5183,    151.9,  22.2293,  35.0088,2,   -999.0,9,-999.0000,9,    188.0,2,  -999.00,9,  -999.00,9,     1.56,2,     0.03,2,     0.13,2, -999.000,9, -999.000,9,  -999.00,9,   2010.2,2,   -999.0,9,   8.0185,2,     25.0, TS,     8.14,2,   -999.0,  -999.00,9,  -999.00,9,     0.03,2,     0.12,2,   -999.0,-999.0000, -999,9,  151,  22.1990,  24.1686,     55.6,2
       KS03-10,  137E,KS-0875,  1,     16,02-16022,2,20031105,1045, 14.9978, 136.9977, 5183,    200.7,  18.8419,  34.8292,2,   -999.0,9,  34.8330,2,    202.0,2,  -999.00,9,  -999.00,9,     3.12,2,     0.00,2,     0.20,2, -999.000,9, -999.000,9,  -999.00,9,   2015.5,2,   -999.0,9,   7.9751,2,     25.0, TS,     8.11,2,   -999.0,  -999.00,9,  -999.00,9,     0.00,2,     0.01,2,   -999.0,-999.0000, -999,9,  199,  18.8063,  24.9399,     53.6,2
       KS03-10,  137E,KS-0875,  1,     15,02-16021,2,20031105,1042, 14.9978, 136.9977, 5183,    252.2,  16.5337,  34.6790,2,   -999.0,9,-999.0000,9,    195.0,2,  -999.00,9,  -999.00,9,     7.02,2,     0.00,2,     0.46,2, -999.000,9, -999.000,9,  -999.00,9,   2047.6,2,   -999.0,9,   7.9245,2,     25.0, TS,     8.03,2,   -999.0,  -999.00,9,  -999.00,9,     0.00,2,     0.01,2,   -999.0,-999.0000, -999,9,  251,  16.4929,  25.3871,     52.7,2
       KS03-10,  137E,KS-0875,  1,     14,02-16020,2,20031105,1040, 14.9978, 136.9977, 5183,    303.1,  14.0959,  34.5054,2,   -999.0,9,  34.5064,2,    180.0,2,  -999.00,9,  -999.00,9,    11.80,2,     0.00,2,     0.81,2, -999.000,9, -999.000,9,  -999.00,9,   2083.8,6,   -999.0,9,   7.8385,6,     25.0, TS,     7.95,2,   -999.0,  -999.00,9,  -999.00,9,     0.00,2,     0.00,2,   -999.0,-999.0000, -999,9,  301,  14.0519,  25.7940,     49.4,2
       KS03-10,  137E,KS-0875,  1,     13,02-16019,2,20031105,1038, 14.9978, 136.9977, 5183,    402.8,   9.9938,  34.3143,2,   -999.0,9,  34.3180,2,    170.0,4,  -999.00,9,  -999.00,9,    24.36,2,     0.00,2,     1.70,2, -999.000,9, -999.000,9,  -999.00,9,   2175.1,2,   -999.0,9,   7.6377,2,     25.0, TS,     7.75,2,   -999.0,  -999.00,9,  -999.00,9,  -999.00,9,  -999.00,9,   -999.0,-999.0000, -999,9,  400,   9.9470,  26.4255,     42.0,2
       KS03-10,  137E,KS-0875,  1,     12,02-16018,2,20031105,1036, 14.9978, 136.9977, 5183,    503.8,   7.9919,  34.3713,2,   -999.0,9,  34.3733,2,     78.0,2,  -999.00,9,  -999.00,9,    32.63,2,     0.00,2,     2.31,2, -999.000,9, -999.000,9,  -999.00,9,   2239.9,2,   -999.0,9,   7.5113,2,     25.0, TS,     7.62,2,   -999.0,  -999.00,9,  -999.00,9,  -999.00,9,  -999.00,9,   -999.0,-999.0000, -999,9,  500,   7.9404,  26.7889,     37.7,2
       KS03-10,  137E,KS-0875,  1,     11,02-16017,2,20031105,1034, 14.9978, 136.9977, 5183,    603.5,   6.6480,  34.4031,2,   -999.0,9,  34.4043,2,     69.0,2,  -999.00,9,  -999.00,9,    35.83,2,     0.00,2,     2.52,2, -999.000,9, -999.000,9,  -999.00,9,   2268.3,2,   -999.0,9,   7.4748,2,     25.0, TS,     7.59,2,   -999.0,  -999.00,9,  -999.00,9,  -999.00,9,  -999.00,9,   -999.0,-999.0000, -999,9,  599,   6.5920,  27.0040,     38.3,2
       KS03-10,  137E,KS-0875,  1,     10,02-16016,2,20031105,1031, 14.9978, 136.9977, 5183,    707.0,   5.9045,  34.4554,2,   -999.0,9,  34.4546,2,     71.0,2,  -999.00,9,  -999.00,9,    37.09,2,     0.00,2,     2.62,2, -999.000,9, -999.000,9,  -999.00,9,   2281.1,2,   -999.0,9,   7.4715,2,     25.0, TS,     7.59,2,   -999.0,  -999.00,9,  -999.00,9,  -999.00,9,  -999.00,9,   -999.0,-999.0000, -999,9,  702,   5.8423,  27.1422,     34.7,2
       KS03-10,  137E,KS-0875,  1,      9,02-16015,2,20031105,1029, 14.9978, 136.9977, 5183,    806.5,   5.3852,  34.4875,2,   -999.0,9,  34.5262,4,     77.0,2,  -999.00,9,  -999.00,9,    37.67,2,     0.00,2,     2.66,2, -999.000,9, -999.000,9,  -999.00,9,   2289.2,2,   -999.0,9,   7.4810,2,     25.0, TS,     7.59,2,   -999.0,  -999.00,9,  -999.00,9,  -999.00,9,  -999.00,9,   -999.0,-999.0000, -999,9,  800,   5.3168,  27.2317,     36.0,2
       KS03-10,  137E,KS-0875,  1,      8,02-16014,2,20031105,1026, 14.9978, 136.9977, 5183,    907.6,   4.9259,  34.5109,2,   -999.0,9,  34.5103,2,     81.0,2,  -999.00,9,  -999.00,9,    38.16,2,     0.00,2,     2.68,2, -999.000,9, -999.000,9,  -999.00,9,   2296.9,2,   -999.0,9,   7.4856,2,     25.0, TS,     7.60,2,   -999.0,  -999.00,9,  -999.00,9,  -999.00,9,  -999.00,9,   -999.0,-999.0000, -999,9,  900,   4.8514,  27.3045,     44.6,2
       KS03-10,  137E,KS-0875,  1,      7,02-16013,2,20031105,1023, 14.9978, 136.9977, 5183,   1009.0,   4.5387,  34.5238,2,   -999.0,9,  34.5243,2,     85.0,2,  -999.00,9,  -999.00,9,    38.25,2,     0.00,2,     2.70,2, -999.000,9, -999.000,9,  -999.00,9,   2302.4,2,   -999.0,9,   7.4917,2,     25.0, TS,     7.59,2,   -999.0,  -999.00,9,  -999.00,9,  -999.00,9,  -999.00,9,   -999.0,-999.0000, -999,9, 1001,   4.4581,  27.3586,     46.3,2
       KS03-10,  137E,KS-0875,  1,      6,02-16012,2,20031105,1019, 14.9978, 136.9977, 5183,   1261.0,   3.5759,  34.5547,2,   -999.0,9,  34.5541,2,     92.0,2,  -999.00,9,  -999.00,9,    38.54,2,     0.00,2,     2.73,2, -999.000,9, -999.000,9,  -999.00,9,   -999.0,9,   -999.0,9,-999.0000,9,   -999.0,  9,  -999.00,9,   -999.0,  -999.00,9,  -999.00,9,  -999.00,9,  -999.00,9,   -999.0,-999.0000, -999,9, 1250,   3.4820,  27.4840,   -999.0,9
       KS03-10,  137E,KS-0875,  1,      5,02-16011,2,20031105,1013, 14.9978, 136.9977, 5183,   1515.6,   2.9404,  34.5802,2,   -999.0,9,  34.5802,2,     98.0,2,  -999.00,9,  -999.00,9,    38.64,2,     0.00,2,     2.69,2, -999.000,9, -999.000,9,  -999.00,9,   -999.0,9,   -999.0,9,-999.0000,9,   -999.0,  9,  -999.00,9,   -999.0,  -999.00,9,  -999.00,9,  -999.00,9,  -999.00,9,   -999.0,-999.0000, -999,9, 1501,   2.8319,  27.5652,   -999.0,9
       KS03-10,  137E,KS-0875,  1,      4,02-16010,2,20031105,1008, 14.9978, 136.9977, 5183,   1766.4,   2.4972,  34.6042,2,   -999.0,9,  34.6034,2,    108.0,2,  -999.00,9,  -999.00,9,    38.54,2,     0.00,2,     2.68,2, -999.000,9, -999.000,9,  -999.00,9,   -999.0,9,   -999.0,9,-999.0000,9,   -999.0,  9,  -999.00,9,   -999.0,  -999.00,9,  -999.00,9,  -999.00,9,  -999.00,9,   -999.0,-999.0000, -999,9, 1749,   2.3733,  27.6241,   -999.0,9
       KS03-10,  137E,KS-0875,  1,      3,02-16009,9,20031105,1002, 14.9978, 136.9977, 5183,   2022.0,   2.1508,  34.6265,2,   -999.0,9,-999.0000,9,   -999.0,9,  -999.00,9,  -999.00,9,  -999.00,9,  -999.00,9,  -999.00,9, -999.000,9, -999.000,9,  -999.00,9,   -999.0,9,   -999.0,9,-999.0000,9,   -999.0,  9,  -999.00,9,   -999.0,  -999.00,9,  -999.00,9,  -999.00,9,  -999.00,9,   -999.0,-999.0000, -999,9, 2001,   2.0102,  27.6716,   -999.0,9
       KS03-10,  137E,KS-0875,  1,      2,02-16008,2,20031105,1002, 14.9978, 136.9977, 5183,   2022.5,   2.1503,  34.6265,2,   -999.0,9,  34.6252,2,    114.0,2,  -999.00,9,  -999.00,9,    38.24,2,     0.00,2,     2.65,2, -999.000,9, -999.000,9,  -999.00,9,   -999.0,9,   -999.0,9,-999.0000,9,   -999.0,  9,  -999.00,9,   -999.0,  -999.00,9,  -999.00,9,  -999.00,9,  -999.00,9,   -999.0,-999.0000, -999,9, 2001,   2.0097,  27.6717,   -999.0,9
       KS03-10,  137E,KS-0875,  1,      1,02-16007,9,20031105,1002, 14.9978, 136.9977, 5183,   2021.8,   2.1466,  34.6267,2,   -999.0,9,-999.0000,9,   -999.0,9,  -999.00,9,  -999.00,9,  -999.00,9,  -999.00,9,  -999.00,9, -999.000,9, -999.000,9,  -999.00,9,   -999.0,9,   -999.0,9,-999.0000,9,   -999.0,  9,  -999.00,9,   -999.0,  -999.00,9,  -999.00,9,  -999.00,9,  -999.00,9,   -999.0,-999.0000, -999,9, 2000,   2.0061,  27.6721,   -999.0,9