BOTTLE,20130510GEMDJMAYT
EXPOCODE,SECT_ID,STNNBR,CASTNO,SAMPNO,BTLNBR,BTLNBR_FLAG_W,DATE,TIME,LATITUDE,LONGITUDE,DEPTH,CTDPRS,CTDTMP,CTDSAL,CTDSAL_FLAG_W,CTDOXY,CTDOXY_FLAG_W,SALNTY,SALNTY_FLAG_W,OXYGEN,OXYGEN_FLAG_W,SILCAT,SILCAT_FLAG_W,NITRAT,NITRAT_FLAG_W,NO2+NO3,NO2+NO3_FLAG_W,NITRIT,NITRIT_FLAG_W,PHSPHT,PHSPHT_FLAG_W,CFC-11,CFC-11_FLAG_W,CFC-12,CFC-12_FLAG_W,DELC13,DELC13_FLAG_W,TCARBN,TCARBN_FLAG_W,ALKALI,ALKALI_FLAG_W,PH,PH_FLAG_W,PH_TMP,PH_SCALE,PH_NBS,PH_NBS_FLAG_W,C13ERR,TOTALP,TOTALP_FLAG_W,AMMONI,AMMONI_FLAG_W,CHLORA,CHLORA_FLAG_W,PPHYTN,PPHYTN_FLAG_W,REVPRS,REVTMP,DEPTH_,DEPTH_FLAG,CTDDEP,THETA,SIGTHT,DOC,DOC_FLAG_W
,,,,,,,GMT,GMT,,,METER,DBAR,ITS-90,PSS-78,,UMOL/KG,,PSS-78,,UMOL/KG,,UMOL/KG,,UMOL/KG,,UMOL/KG,,UMOL/KG,,UMOL/KG,,PMOL/KG,,PMOL/KG,,/MILLE,,UMOL/KG,,UMOL/KG,,25_DEG_C,,DEG_C,,,,/MILLE,UMOL/KG,,UMOL/KG,,UG/L,,UG/L,,DBAR,ITS-90,METERS,,METERS,DEG_C,,UMOL/L,
       KS04-04,  137E,KS-0978,  1,     24,02-16030,2,20040425,0211, 31.9980, 136.9845, 4240,      4.4,  19.9787,  34.8936,2,   -999.0,9,  34.8979,2,    227.0,2,     1.90,2,  -999.00,9,     0.00,2,     0.00,2,     0.01,2, -999.000,9, -999.000,9,  -999.00,9,   1983.7,6,   -999.0,9,   8.0629,2,     25.0, TS,  -999.00,9,   -999.0,  -999.00,9,  -999.00,9,     0.05,2,     0.03,2,   -999.0,-999.0000, -999,9,    4,  19.9779,  24.6864,   -999.0,9
       KS04-04,  137E,KS-0978,  1,     23,02-16029,4,20040425,0210, 31.9980, 136.9845, 4240,     10.4,  19.9268,  34.8922,2,   -999.0,9,-999.0000,9,   -999.0,9,  -999.00,9,  -999.00,9,  -999.00,9,  -999.00,9,  -999.00,9, -999.000,9, -999.000,9,  -999.00,9,   -999.0,9,   -999.0,9,-999.0000,9,   -999.0,  9,  -999.00,9,   -999.0,  -999.00,9,  -999.00,9,  -999.00,9,  -999.00,9,   -999.0,-999.0000, -999,9,   10,  19.9249,  24.6992,   -999.0,9
       KS04-04,  137E,KS-0978,  1,     22,02-10977,4,20040425,0209, 31.9980, 136.9845, 4240,     25.7,  19.8824,  34.8917,2,   -999.0,9,-999.0000,9,   -999.0,9,  -999.00,9,  -999.00,9,  -999.00,9,  -999.00,9,  -999.00,9, -999.000,9, -999.000,9,  -999.00,9,   -999.0,9,   -999.0,9,-999.0000,9,   -999.0,  9,  -999.00,9,   -999.0,  -999.00,9,  -999.00,9,  -999.00,9,  -999.00,9,   -999.0,-999.0000, -999,9,   25,  19.8777,  24.7113,   -999.0,9
       KS04-04,  137E,KS-0978,  1,     21,02-16027,2,20040425,0205, 31.9980, 136.9845, 4240,     50.9,  19.8486,  34.8904,2,   -999.0,9,-999.0000,9,    233.0,2,     1.93,2,  -999.00,9,     0.00,2,     0.00,2,     0.02,2, -999.000,9, -999.000,9,  -999.00,9,   -999.0,9,   -999.0,9,-999.0000,9,   -999.0,  9,  -999.00,9,   -999.0,  -999.00,9,  -999.00,9,     0.10,2,     0.08,2,   -999.0,-999.0000, -999,9,   50,  19.8393,  24.7204,   -999.0,9
       KS04-04,  137E,KS-0978,  1,     20,02-16026,2,20040425,0204, 31.9980, 136.9845, 4240,     74.9,  19.0639,  34.8686,2,   -999.0,9,-999.0000,9,    232.0,2,     1.91,2,  -999.00,9,     0.29,2,     0.17,2,     0.04,2, -999.000,9, -999.000,9,  -999.00,9,   -999.0,9,   -999.0,9,-999.0000,9,   -999.0,  9,  -999.00,9,   -999.0,  -999.00,9,  -999.00,9,     0.26,2,     0.47,2,   -999.0,-999.0000, -999,9,   74,  19.0506,  24.9079,   -999.0,9
       KS04-04,  137E,KS-0978,  1,     19,02-16025,2,20040425,0203, 31.9980, 136.9845, 4240,     99.8,  18.7712,  34.8729,2,   -999.0,9,  34.8741,2,    222.0,2,     2.48,2,  -999.00,9,     1.76,2,     0.08,2,     0.13,2, -999.000,9, -999.000,9,  -999.00,9,   -999.0,9,   -999.0,9,-999.0000,9,   -999.0,  9,  -999.00,9,   -999.0,  -999.00,9,  -999.00,9,     0.07,2,     0.15,2,   -999.0,-999.0000, -999,9,   99,  18.7536,  24.9866,   -999.0,9
       KS04-04,  137E,KS-0978,  1,     18,02-16024,2,20040425,0202, 31.9980, 136.9845, 4240,    125.3,  18.7061,  34.8784,2,   -999.0,9,-999.0000,9,    222.0,2,     2.57,2,  -999.00,9,     1.85,2,     0.04,2,     0.12,2, -999.000,9, -999.000,9,  -999.00,9,   -999.0,9,   -999.0,9,-999.0000,9,   -999.0,  9,  -999.00,9,   -999.0,  -999.00,9,  -999.00,9,     0.04,2,     0.07,2,   -999.0,-999.0000, -999,9,  124,  18.6840,  25.0084,   -999.0,9
       KS04-04,  137E,KS-0978,  1,     17,02-16023,2,20040425,0200, 31.9980, 136.9845, 4240,    151.9,  18.6728,  34.8810,2,   -999.0,9,-999.0000,9,    222.0,2,     2.70,2,  -999.00,9,     1.95,2,     0.02,2,     0.12,2, -999.000,9, -999.000,9,  -999.00,9,   -999.0,9,   -999.0,9,-999.0000,9,   -999.0,  9,  -999.00,9,   -999.0,  -999.00,9,  -999.00,9,     0.02,2,     0.04,2,   -999.0,-999.0000, -999,9,  151,  18.6461,  25.0199,   -999.0,9
       KS04-04,  137E,KS-0978,  1,     16,02-16022,2,20040425,0159, 31.9980, 136.9845, 4240,    200.6,  18.6444,  34.8827,2,   -999.0,9,  34.8831,2,    223.0,2,     2.42,2,  -999.00,9,     1.85,2,     0.02,2,     0.12,2, -999.000,9, -999.000,9,  -999.00,9,   -999.0,9,   -999.0,9,-999.0000,9,   -999.0,  9,  -999.00,9,   -999.0,  -999.00,9,  -999.00,9,     0.01,2,     0.02,2,   -999.0,-999.0000, -999,9,  199,  18.6091,  25.0305,   -999.0,9
       KS04-04,  137E,KS-0978,  1,     15,02-16021,2,20040425,0156, 31.9980, 136.9845, 4240,    252.1,  18.6228,  34.8800,2,   -999.0,9,-999.0000,9,    224.0,2,     2.56,2,  -999.00,9,     1.76,2,     0.02,2,     0.12,2, -999.000,9, -999.000,9,  -999.00,9,   -999.0,9,   -999.0,9,-999.0000,9,   -999.0,  9,  -999.00,9,   -999.0,  -999.00,9,  -999.00,9,     0.00,2,     0.02,2,   -999.0,-999.0000, -999,9,  250,  18.5784,  25.0362,   -999.0,9
       KS04-04,  137E,KS-0978,  1,     14,02-16020,2,20040425,0155, 31.9980, 136.9845, 4240,    301.4,  18.6193,  34.8785,2,   -999.0,9,  34.8800,2,    225.0,2,     2.38,2,  -999.00,9,     1.76,2,     0.01,2,     0.12,2, -999.000,9, -999.000,9,  -999.00,9,   -999.0,9,   -999.0,9,-999.0000,9,   -999.0,  9,  -999.00,9,   -999.0,  -999.00,9,  -999.00,9,     0.00,2,     0.03,2,   -999.0,-999.0000, -999,9,  299,  18.5662,  25.0381,   -999.0,9
       KS04-04,  137E,KS-0978,  1,     13,02-16019,2,20040425,0152, 31.9980, 136.9845, 4240,    402.6,  17.5871,  34.7734,2,   -999.0,9,  34.7754,4,    205.0,2,     4.54,2,  -999.00,9,     4.78,2,     0.01,2,     0.32,2, -999.000,9, -999.000,9,  -999.00,9,   -999.0,9,   -999.0,9,-999.0000,9,   -999.0,  9,  -999.00,9,   -999.0,  -999.00,9,  -999.00,9,  -999.00,9,  -999.00,9,   -999.0,-999.0000, -999,9,  399,  17.5188,  25.2159,   -999.0,9
       KS04-04,  137E,KS-0978,  1,     12,02-16018,2,20040425,0150, 31.9980, 136.9845, 4240,    502.9,  15.0339,  34.5951,2,   -999.0,9,  34.5973,4,    184.0,2,    11.73,2,  -999.00,9,    10.53,2,     0.00,2,     0.69,2, -999.000,9, -999.000,9,  -999.00,9,   -999.0,9,   -999.0,9,-999.0000,9,   -999.0,  9,  -999.00,9,   -999.0,  -999.00,9,  -999.00,9,  -999.00,9,  -999.00,9,   -999.0,-999.0000, -999,9,  499,  14.9572,  25.6691,   -999.0,9
       KS04-04,  137E,KS-0978,  1,     11,02-16017,2,20040425,0147, 31.9980, 136.9845, 4240,    604.1,  12.0394,  34.4056,2,   -999.0,9,  34.4088,4,    171.0,2,    23.20,2,  -999.00,9,    16.57,2,     0.00,2,     1.12,2, -999.000,9, -999.000,9,  -999.00,9,   -999.0,9,   -999.0,9,-999.0000,9,   -999.0,  9,  -999.00,9,   -999.0,  -999.00,9,  -999.00,9,  -999.00,9,  -999.00,9,   -999.0,-999.0000, -999,9,  599,  11.9596,  26.1351,   -999.0,9
       KS04-04,  137E,KS-0978,  1,     10,02-16016,2,20040425,0145, 31.9980, 136.9845, 4240,    704.5,   9.1352,  34.2710,2,   -999.0,9,  34.2717,2,    141.0,2,    43.93,2,  -999.00,9,    24.35,2,     0.00,2,     1.71,2, -999.000,9, -999.000,9,  -999.00,9,   -999.0,9,   -999.0,9,-999.0000,9,   -999.0,  9,  -999.00,9,   -999.0,  -999.00,9,  -999.00,9,  -999.00,9,  -999.00,9,   -999.0,-999.0000, -999,9,  698,   9.0565,  26.5382,   -999.0,9
       KS04-04,  137E,KS-0978,  1,      9,02-16015,2,20040425,0142, 31.9980, 136.9845, 4240,    805.5,   6.8563,  34.2215,2,   -999.0,9,  34.2234,2,    114.0,2,    66.66,2,  -999.00,9,    30.48,2,     0.00,2,     2.21,2, -999.000,9, -999.000,9,  -999.00,9,   -999.0,9,   -999.0,9,-999.0000,9,   -999.0,  9,  -999.00,9,   -999.0,  -999.00,9,  -999.00,9,  -999.00,9,  -999.00,9,   -999.0,-999.0000, -999,9,  798,   6.7794,  26.8355,   -999.0,9
       KS04-04,  137E,KS-0978,  1,      8,02-16014,2,20040425,0139, 31.9980, 136.9845, 4240,    909.1,   5.3988,  34.2572,2,   -999.0,9,  34.2566,2,     86.0,2,    87.36,2,  -999.00,9,    35.54,2,     0.00,2,     2.57,2, -999.000,9, -999.000,9,  -999.00,9,   -999.0,9,   -999.0,9,-999.0000,9,   -999.0,  9,  -999.00,9,   -999.0,  -999.00,9,  -999.00,9,  -999.00,9,  -999.00,9,   -999.0,-999.0000, -999,9,  901,   5.3213,  27.0488,   -999.0,9
       KS04-04,  137E,KS-0978,  1,      7,02-16013,2,20040425,0137, 31.9980, 136.9845, 4240,   1010.2,   4.5548,  34.3168,2,   -999.0,9,  34.3154,2,     73.0,2,   102.66,2,  -999.00,9,    37.97,2,     0.00,2,     2.73,2, -999.000,9, -999.000,9,  -999.00,9,   -999.0,9,   -999.0,9,-999.0000,9,   -999.0,  9,  -999.00,9,   -999.0,  -999.00,9,  -999.00,9,  -999.00,9,  -999.00,9,   -999.0,-999.0000, -999,9, 1001,   4.4743,  27.1924,   -999.0,9
       KS04-04,  137E,KS-0978,  1,      6,02-16012,2,20040425,0132, 31.9980, 136.9845, 4240,   1261.1,   3.4587,  34.4168,2,   -999.0,9,  34.4165,2,     65.0,2,   123.94,2,  -999.00,9,    40.00,2,     0.00,2,     2.86,2, -999.000,9, -999.000,9,  -999.00,9,   -999.0,9,   -999.0,9,-999.0000,9,   -999.0,  9,  -999.00,9,   -999.0,  -999.00,9,  -999.00,9,  -999.00,9,  -999.00,9,   -999.0,-999.0000, -999,9, 1249,   3.3662,  27.3853,   -999.0,9
       KS04-04,  137E,KS-0978,  1,      5,02-16011,2,20040425,0126, 31.9980, 136.9845, 4240,   1516.2,   2.7174,  34.5115,2,   -999.0,9,  34.5105,2,     81.0,2,   135.94,2,  -999.00,9,    39.80,2,     0.00,2,     2.82,2, -999.000,9, -999.000,9,  -999.00,9,   -999.0,9,   -999.0,9,-999.0000,9,   -999.0,  9,  -999.00,9,   -999.0,  -999.00,9,  -999.00,9,  -999.00,9,  -999.00,9,   -999.0,-999.0000, -999,9, 1500,   2.6117,  27.5297,   -999.0,9
       KS04-04,  137E,KS-0978,  1,      4,02-16010,2,20040425,0117, 31.9980, 136.9845, 4240,   2022.6,   1.9908,  34.6045,2,   -999.0,9,  34.6009,2,    107.0,2,   143.83,2,  -999.00,9,    38.63,2,     0.00,2,     2.72,2, -999.000,9, -999.000,9,  -999.00,9,   -999.0,9,   -999.0,9,-999.0000,9,   -999.0,  9,  -999.00,9,   -999.0,  -999.00,9,  -999.00,9,  -999.00,9,  -999.00,9,   -999.0,-999.0000, -999,9, 1999,   1.8527,  27.6663,   -999.0,9
       KS04-04,  137E,KS-0978,  1,      3,02-16009,2,20040425,0057, 31.9980, 136.9845, 4240,   3041.5,   1.5595,  34.6705,2,   -999.0,9,  34.6696,2,    147.0,2,   140.87,2,  -999.00,9,    36.29,2,     0.00,2,     2.52,2, -999.000,9, -999.000,9,  -999.00,9,   -999.0,9,   -999.0,9,-999.0000,9,   -999.0,  9,  -999.00,9,   -999.0,  -999.00,9,  -999.00,9,  -999.00,9,  -999.00,9,   -999.0,-999.0000, -999,9, 2999,   1.3374,  27.7574,   -999.0,9
       KS04-04,  137E,KS-0978,  1,      2,02-16008,2,20040425,0039, 31.9980, 136.9845, 4240,   4063.7,   1.5489,  34.6829,2,   -999.0,9,  34.6836,2,    155.0,2,   139.69,2,  -999.00,9,    35.81,2,     0.00,2,     2.48,2, -999.000,9, -999.000,9,  -999.00,9,   -999.0,9,   -999.0,9,-999.0000,9,   -999.0,  9,  -999.00,9,   -999.0,  -999.00,9,  -999.00,9,  -999.00,9,  -999.00,9,   -999.0,-999.0000, -999,9, 3997,   1.2217,  27.7755,   -999.0,9
       KS04-04,  137E,KS-0978,  1,      1,02-16007,2,20040425,0035, 31.9980, 136.9845, 4240,   4220.1,   1.5628,  34.6835,2,   -999.0,9,  34.6828,2,    156.0,2,   139.88,2,  -999.00,9,    35.81,2,     0.00,2,     2.47,2, -999.000,9, -999.000,9,  -999.00,9,   -999.0,9,   -999.0,9,-999.0000,9,   -999.0,  9,  -999.00,9,   -999.0,  -999.00,9,  -999.00,9,  -999.00,9,  -999.00,9,   -999.0,-999.0000, -999,9, 4149,   1.2178,  27.7762,   -999.0,9