BOTTLE,20130510GEMDJMAYT
EXPOCODE,SECT_ID,STNNBR,CASTNO,SAMPNO,BTLNBR,BTLNBR_FLAG_W,DATE,TIME,LATITUDE,LONGITUDE,DEPTH,CTDPRS,CTDTMP,CTDSAL,CTDSAL_FLAG_W,CTDOXY,CTDOXY_FLAG_W,SALNTY,SALNTY_FLAG_W,OXYGEN,OXYGEN_FLAG_W,SILCAT,SILCAT_FLAG_W,NITRAT,NITRAT_FLAG_W,NO2+NO3,NO2+NO3_FLAG_W,NITRIT,NITRIT_FLAG_W,PHSPHT,PHSPHT_FLAG_W,CFC-11,CFC-11_FLAG_W,CFC-12,CFC-12_FLAG_W,DELC13,DELC13_FLAG_W,TCARBN,TCARBN_FLAG_W,ALKALI,ALKALI_FLAG_W,PH,PH_FLAG_W,PH_TMP,PH_SCALE,PH_NBS,PH_NBS_FLAG_W,C13ERR,TOTALP,TOTALP_FLAG_W,AMMONI,AMMONI_FLAG_W,CHLORA,CHLORA_FLAG_W,PPHYTN,PPHYTN_FLAG_W,REVPRS,REVTMP,DEPTH_,DEPTH_FLAG,CTDDEP,THETA,SIGTHT,DOC,DOC_FLAG_W
,,,,,,,GMT,GMT,,,METER,DBAR,ITS-90,PSS-78,,UMOL/KG,,PSS-78,,UMOL/KG,,UMOL/KG,,UMOL/KG,,UMOL/KG,,UMOL/KG,,UMOL/KG,,PMOL/KG,,PMOL/KG,,/MILLE,,UMOL/KG,,UMOL/KG,,25_DEG_C,,DEG_C,,,,/MILLE,UMOL/KG,,UMOL/KG,,UG/L,,UG/L,,DBAR,ITS-90,METERS,,METERS,DEG_C,,UMOL/L,
       KS04-04,  137E,KS-0988,  1,     24,02-16030,2,20040428,0117, 25.0055, 137.0035, 4957,      5.5,  23.7074,  34.9315,2,   -999.0,9,  34.9323,2,    217.0,2,     1.39,2,  -999.00,9,     0.00,2,     0.00,2,     0.00,2, -999.000,9, -999.000,9,  -999.00,9,   1971.8,2,   -999.0,9,   8.0798,2,     25.0, TS,  -999.00,9,   -999.0,  -999.00,9,  -999.00,9,     0.03,2,     0.02,2,   -999.0,-999.0000, -999,9,    5,  23.7063,  23.6761,     57.8,2
       KS04-04,  137E,KS-0988,  1,     23,02-16029,2,20040428,0116, 25.0055, 137.0035, 4957,     10.9,  23.7020,  34.9313,2,   -999.0,9,-999.0000,9,    217.0,2,     1.31,2,  -999.00,9,     0.00,2,     0.00,2,     0.00,2, -999.000,9, -999.000,9,  -999.00,9,   1972.5,2,   -999.0,9,   8.0829,2,     25.0, TS,  -999.00,9,   -999.0,  -999.00,9,  -999.00,9,     0.04,2,     0.03,2,   -999.0,-999.0000, -999,9,   11,  23.6997,  23.6779,     57.8,2
       KS04-04,  137E,KS-0988,  1,     22,02-10977,2,20040428,0115, 25.0055, 137.0035, 4957,     25.3,  23.3577,  34.9234,2,   -999.0,9,-999.0000,9,    219.0,2,     1.36,2,  -999.00,9,     0.00,2,     0.00,2,     0.00,2, -999.000,9, -999.000,9,  -999.00,9,   1970.8,2,   -999.0,9,   8.0835,2,     25.0, TS,  -999.00,9,   -999.0,  -999.00,9,  -999.00,9,     0.04,2,     0.03,2,   -999.0,-999.0000, -999,9,   25,  23.3525,  23.7735,     61.2,2
       KS04-04,  137E,KS-0988,  1,     21,02-16027,2,20040428,0110, 25.0055, 137.0035, 4957,     50.2,  22.3612,  34.9238,2,   -999.0,9,-999.0000,9,    225.0,2,     1.40,2,  -999.00,9,     0.00,2,     0.00,2,     0.00,2, -999.000,9, -999.000,9,  -999.00,9,   1976.4,2,   -999.0,9,   8.0754,2,     25.0, TS,  -999.00,9,   -999.0,  -999.00,9,  -999.00,9,     0.05,2,     0.04,2,   -999.0,-999.0000, -999,9,   50,  22.3512,  24.0611,     52.1,2
       KS04-04,  137E,KS-0988,  1,     20,02-16026,2,20040428,0109, 25.0055, 137.0035, 4957,     75.9,  20.3947,  34.9025,2,   -999.0,9,-999.0000,9,    225.0,2,     1.70,2,  -999.00,9,     0.00,2,     0.00,2,     0.01,2, -999.000,9, -999.000,9,  -999.00,9,   1989.7,2,   -999.0,9,   8.0574,2,     25.0, TS,  -999.00,9,   -999.0,  -999.00,9,  -999.00,9,     0.08,2,     0.09,2,   -999.0,-999.0000, -999,9,   75,  20.3805,  24.5865,     65.3,2
       KS04-04,  137E,KS-0988,  1,     19,02-16025,2,20040428,0107, 25.0055, 137.0035, 4957,    100.9,  19.7363,  34.8797,2,   -999.0,9,  34.8794,2,    218.0,2,     1.95,2,  -999.00,9,     0.49,2,     0.11,2,     0.06,2, -999.000,9, -999.000,9,  -999.00,9,   1996.8,2,   -999.0,9,   8.0373,2,     25.0, TS,  -999.00,9,   -999.0,  -999.00,9,  -999.00,9,     0.17,2,     0.51,2,   -999.0,-999.0000, -999,9,  100,  19.7179,  24.7440,     62.1,2
       KS04-04,  137E,KS-0988,  1,     18,02-16024,2,20040428,0106, 25.0055, 137.0035, 4957,    125.4,  19.2063,  34.8568,2,   -999.0,9,-999.0000,9,    208.0,2,     2.53,2,  -999.00,9,     2.34,2,     0.09,2,     0.14,2, -999.000,9, -999.000,9,  -999.00,9,   2006.7,2,   -999.0,9,   8.0148,2,     25.0, TS,  -999.00,9,   -999.0,  -999.00,9,  -999.00,9,     0.07,2,     0.27,2,   -999.0,-999.0000, -999,9,  125,  19.1838,  24.8647,     53.9,2
       KS04-04,  137E,KS-0988,  1,     17,02-16023,2,20040428,0105, 25.0055, 137.0035, 4957,    152.3,  18.9519,  34.8702,2,   -999.0,9,-999.0000,9,    215.0,2,     2.51,2,  -999.00,9,     2.05,2,     0.01,2,     0.13,2, -999.000,9, -999.000,9,  -999.00,9,   2002.5,2,   -999.0,9,   8.0237,2,     25.0, TS,  -999.00,9,   -999.0,  -999.00,9,  -999.00,9,     0.02,2,     0.03,2,   -999.0,-999.0000, -999,9,  151,  18.9248,  24.9411,   -999.0,4
       KS04-04,  137E,KS-0988,  1,     16,02-16022,2,20040428,0103, 25.0055, 137.0035, 4957,    201.5,  18.3866,  34.8204,2,   -999.0,9,  34.8222,4,    207.0,2,     3.19,2,  -999.00,9,     3.41,2,     0.00,2,     0.21,2, -999.000,9, -999.000,9,  -999.00,9,   2014.1,2,   -999.0,9,   7.9951,2,     25.0, TS,  -999.00,9,   -999.0,  -999.00,9,  -999.00,9,     0.00,2,     0.01,2,   -999.0,-999.0000, -999,9,  200,  18.3515,  25.0474,     56.0,2
       KS04-04,  137E,KS-0988,  1,     15,02-16021,2,20040428,0101, 25.0055, 137.0035, 4957,    250.9,  17.5654,  34.7628,2,   -999.0,9,-999.0000,9,    201.0,2,     4.28,2,  -999.00,9,     4.88,2,     0.00,2,     0.30,2, -999.000,9, -999.000,9,  -999.00,9,   2026.6,2,   -999.0,9,   7.9756,2,     25.0, TS,  -999.00,9,   -999.0,  -999.00,9,  -999.00,9,     0.00,2,     0.00,2,   -999.0,-999.0000, -999,9,  249,  17.5231,  25.2068,   -999.0,4
       KS04-04,  137E,KS-0988,  1,     14,02-16020,2,20040428,0059, 25.0055, 137.0035, 4957,    301.2,  16.9138,  34.7266,2,   -999.0,9,  34.7294,4,    203.0,2,     5.06,2,  -999.00,9,     5.75,2,     0.00,2,     0.36,2, -999.000,9, -999.000,9,  -999.00,9,   2032.5,2,   -999.0,9,   7.9589,2,     25.0, TS,  -999.00,9,   -999.0,  -999.00,9,  -999.00,9,     0.00,2,     0.01,2,   -999.0,-999.0000, -999,9,  299,  16.8642,  25.3365,     52.2,2
       KS04-04,  137E,KS-0988,  1,     13,02-16019,2,20040428,0057, 25.0055, 137.0035, 4957,    401.5,  14.7415,  34.5719,2,   -999.0,9,  34.5755,4,    186.0,2,    10.82,2,  -999.00,9,    10.24,2,     0.00,2,     0.66,2, -999.000,9, -999.000,9,  -999.00,9,   2066.5,2,   -999.0,9,   7.8873,2,     25.0, TS,  -999.00,9,   -999.0,  -999.00,9,  -999.00,9,  -999.00,9,  -999.00,9,   -999.0,-999.0000, -999,9,  399,  14.6812,  25.7112,   -999.0,4
       KS04-04,  137E,KS-0988,  1,     12,02-16018,2,20040428,0055, 25.0055, 137.0035, 4957,    502.9,  11.5744,  34.3491,2,   -999.0,9,  34.3503,2,    182.0,4,    21.44,2,  -999.00,9,    16.08,2,     0.00,2,     1.09,2, -999.000,9, -999.000,9,  -999.00,9,   2107.6,2,   -999.0,9,   7.7964,2,     25.0, TS,  -999.00,9,   -999.0,  -999.00,9,  -999.00,9,  -999.00,9,  -999.00,9,   -999.0,-999.0000, -999,9,  499,  11.5099,  26.1755,     47.0,2
       KS04-04,  137E,KS-0988,  1,     11,02-16017,2,20040428,0052, 25.0055, 137.0035, 4957,    604.5,   9.0014,  34.2131,2,   -999.0,9,  34.2170,4,    150.0,2,    40.60,2,  -999.00,9,    23.77,2,     0.00,2,     1.69,2, -999.000,9, -999.000,9,  -999.00,9,   2168.0,2,   -999.0,9,   7.6745,2,     25.0, TS,  -999.00,9,   -999.0,  -999.00,9,  -999.00,9,  -999.00,9,  -999.00,9,   -999.0,-999.0000, -999,9,  600,   8.9349,  26.5122,   -999.0,4
       KS04-04,  137E,KS-0988,  1,     10,02-16016,2,20040428,0050, 25.0055, 137.0035, 4957,    704.7,   6.8178,  34.1625,2,   -999.0,9,  34.1648,2,    114.0,2,    62.41,2,  -999.00,9,    30.29,2,     0.00,2,     2.17,2, -999.000,9, -999.000,9,  -999.00,9,   2223.5,2,   -999.0,9,   7.5669,2,     25.0, TS,  -999.00,9,   -999.0,  -999.00,9,  -999.00,9,  -999.00,9,  -999.00,9,   -999.0,-999.0000, -999,9,  699,   6.7512,  26.7929,     50.4,2
       KS04-04,  137E,KS-0988,  1,      9,02-16015,2,20040428,0047, 25.0055, 137.0035, 4957,    805.6,   5.4035,  34.1838,2,   -999.0,9,  34.1852,2,     88.0,2,    83.29,2,  -999.00,9,    35.25,2,     0.00,2,     2.54,2, -999.000,9, -999.000,9,  -999.00,9,   2269.8,2,   -999.0,9,   7.4870,2,     25.0, TS,  -999.00,9,   -999.0,  -999.00,9,  -999.00,9,  -999.00,9,  -999.00,9,   -999.0,-999.0000, -999,9,  799,   5.3355,  26.9891,     43.0,2
       KS04-04,  137E,KS-0988,  1,      8,02-16014,2,20040428,0044, 25.0055, 137.0035, 4957,    906.4,   4.5612,  34.2541,2,   -999.0,9,  34.2548,2,     68.0,2,    99.31,2,  -999.00,9,    38.16,2,     0.00,2,     2.75,2, -999.000,9, -999.000,9,  -999.00,9,   2300.6,2,   -999.0,9,   7.4406,2,     25.0, TS,  -999.00,9,   -999.0,  -999.00,9,  -999.00,9,  -999.00,9,  -999.00,9,   -999.0,-999.0000, -999,9,  899,   4.4897,  27.1410,   -999.0,4
       KS04-04,  137E,KS-0988,  1,      7,02-16013,2,20040428,0041, 25.0055, 137.0035, 4957,   1007.4,   4.0466,  34.3099,2,   -999.0,9,  34.3107,2,     61.0,2,   110.49,2,  -999.00,9,    39.62,2,     0.00,2,     2.86,2, -999.000,9, -999.000,9,  -999.00,9,   2318.1,3,   -999.0,9,   7.4247,2,     25.0, TS,  -999.00,9,   -999.0,  -999.00,9,  -999.00,9,  -999.00,9,  -999.00,9,   -999.0,-999.0000, -999,9,  998,   3.9703,  27.2402,     43.7,2
       KS04-04,  137E,KS-0988,  1,      6,02-16012,2,20040428,0037, 25.0055, 137.0035, 4957,   1260.7,   3.1379,  34.4411,2,   -999.0,9,  34.4410,2,     62.0,2,   129.51,2,  -999.00,9,    40.68,2,     0.00,2,     2.91,2, -999.000,9, -999.000,9,  -999.00,9,   2347.3,2,   -999.0,9,   7.4348,6,     25.0, TS,  -999.00,9,   -999.0,  -999.00,9,  -999.00,9,  -999.00,9,  -999.00,9,   -999.0,-999.0000, -999,9, 1249,   3.0485,  27.4345,   -999.0,9
       KS04-04,  137E,KS-0988,  1,      5,02-16011,2,20040428,0031, 25.0055, 137.0035, 4957,   1513.9,   2.5365,  34.5262,2,   -999.0,9,  34.5262,2,     80.0,2,   139.08,2,  -999.00,9,    40.00,2,     0.00,2,     2.85,2, -999.000,9, -999.000,9,  -999.00,9,   2351.2,6,   -999.0,9,   7.4614,2,     25.0, TS,  -999.00,9,   -999.0,  -999.00,9,  -999.00,9,  -999.00,9,  -999.00,9,   -999.0,-999.0000, -999,9, 1499,   2.4330,  27.5568,   -999.0,9
       KS04-04,  137E,KS-0988,  1,      4,02-16010,2,20040428,0021, 25.0055, 137.0035, 4957,   2021.4,   1.9993,  34.6130,2,   -999.0,9,  34.6126,2,    114.0,2,   140.90,2,  -999.00,9,    38.24,2,     0.00,2,     2.69,2, -999.000,9, -999.000,9,  -999.00,9,   2337.7,2,   -999.0,9,   7.5334,2,     25.0, TS,  -999.00,9,   -999.0,  -999.00,9,  -999.00,9,  -999.00,9,  -999.00,9,   -999.0,-999.0000, -999,9, 1999,   1.8611,  27.6725,   -999.0,9
       KS04-04,  137E,KS-0988,  1,      3,02-16009,2,20040428,0003, 25.0055, 137.0035, 4957,   3039.1,   1.6407,  34.6636,2,   -999.0,9,  34.6641,2,    142.0,2,   140.53,2,  -999.00,9,    36.58,2,     0.00,2,     2.55,2, -999.000,9, -999.000,9,  -999.00,9,   -999.0,9,   -999.0,9,-999.0000,9,   -999.0,  9,  -999.00,9,   -999.0,  -999.00,9,  -999.00,9,  -999.00,9,  -999.00,9,   -999.0,-999.0000, -999,9, 2998,   1.4171,  27.7462,   -999.0,9
       KS04-04,  137E,KS-0988,  1,      2,02-16008,2,20040427,2340, 25.0055, 137.0035, 4957,   4062.4,   1.5393,  34.6833,2,   -999.0,9,  34.6822,2,    156.0,2,   138.63,2,  -999.00,9,    35.71,2,     0.00,2,     2.47,2, -999.000,9, -999.000,9,  -999.00,9,   -999.0,9,   -999.0,9,-999.0000,9,   -999.0,  9,  -999.00,9,   -999.0,  -999.00,9,  -999.00,9,  -999.00,9,  -999.00,9,   -999.0,-999.0000, -999,9, 3998,   1.2125,  27.7764,   -999.0,9
       KS04-04,  137E,KS-0988,  1,      1,02-16007,2,20040427,2323, 25.0055, 137.0035, 4957,   4987.2,   1.6211,  34.6856,2,   -999.0,9,  34.6832,2,    160.0,2,   137.90,2,  -999.00,9,    35.51,2,     0.00,2,     2.45,2, -999.000,9, -999.000,9,  -999.00,9,   -999.0,9,   -999.0,9,-999.0000,9,   -999.0,  9,  -999.00,9,   -999.0,  -999.00,9,  -999.00,9,  -999.00,9,  -999.00,9,   -999.0,-999.0000, -999,9, 4898,   1.1844,  27.7802,   -999.0,9