BOTTLE,20130510GEMDJMAYT
EXPOCODE,SECT_ID,STNNBR,CASTNO,SAMPNO,BTLNBR,BTLNBR_FLAG_W,DATE,TIME,LATITUDE,LONGITUDE,DEPTH,CTDPRS,CTDTMP,CTDSAL,CTDSAL_FLAG_W,CTDOXY,CTDOXY_FLAG_W,SALNTY,SALNTY_FLAG_W,OXYGEN,OXYGEN_FLAG_W,SILCAT,SILCAT_FLAG_W,NITRAT,NITRAT_FLAG_W,NO2+NO3,NO2+NO3_FLAG_W,NITRIT,NITRIT_FLAG_W,PHSPHT,PHSPHT_FLAG_W,CFC-11,CFC-11_FLAG_W,CFC-12,CFC-12_FLAG_W,DELC13,DELC13_FLAG_W,TCARBN,TCARBN_FLAG_W,ALKALI,ALKALI_FLAG_W,PH,PH_FLAG_W,PH_TMP,PH_SCALE,PH_NBS,PH_NBS_FLAG_W,C13ERR,TOTALP,TOTALP_FLAG_W,AMMONI,AMMONI_FLAG_W,CHLORA,CHLORA_FLAG_W,PPHYTN,PPHYTN_FLAG_W,REVPRS,REVTMP,DEPTH_,DEPTH_FLAG,CTDDEP,THETA,SIGTHT,DOC,DOC_FLAG_W
,,,,,,,GMT,GMT,,,METER,DBAR,ITS-90,PSS-78,,UMOL/KG,,PSS-78,,UMOL/KG,,UMOL/KG,,UMOL/KG,,UMOL/KG,,UMOL/KG,,UMOL/KG,,PMOL/KG,,PMOL/KG,,/MILLE,,UMOL/KG,,UMOL/KG,,25_DEG_C,,DEG_C,,,,/MILLE,UMOL/KG,,UMOL/KG,,UG/L,,UG/L,,DBAR,ITS-90,METERS,,METERS,DEG_C,,UMOL/L,
       KS04-04,  137E,KS-1010,  1,     24,02-16030,2,20040504,1801,  2.9950, 136.9955, 4498,      5.5,  30.3761,  34.3503,2,   -999.0,9,  34.3554,4,    197.0,2,     1.04,2,  -999.00,9,     0.00,2,     0.00,2,     0.04,2, -999.000,9, -999.000,9,  -999.00,9,   1920.2,6,   -999.0,9,   8.1205,2,     25.0, TS,     8.24,2,   -999.0,  -999.00,9,  -999.00,9,     0.01,2,     0.01,2,   -999.0,-999.0000, -999,9,    5,  30.3747,  21.1110,   -999.0,9
       KS04-04,  137E,KS-1010,  1,     23,02-16029,2,20040504,1800,  2.9950, 136.9955, 4498,     11.4,  30.3147,  34.3626,2,   -999.0,9,-999.0000,9,    199.0,2,     1.03,2,  -999.00,9,     0.00,2,     0.00,2,     0.04,2, -999.000,9, -999.000,9,  -999.00,9,   -999.0,9,   -999.0,9,-999.0000,9,   -999.0,  9,     8.24,2,   -999.0,  -999.00,9,  -999.00,9,     0.06,2,     0.05,2,   -999.0,-999.0000, -999,9,   11,  30.3119,  21.1418,   -999.0,9
       KS04-04,  137E,KS-1010,  1,     22,02-10977,2,20040504,1800,  2.9950, 136.9955, 4498,     27.6,  29.8884,  34.3722,2,   -999.0,9,-999.0000,9,    202.0,2,     0.92,2,  -999.00,9,     0.00,2,     0.00,2,     0.03,2, -999.000,9, -999.000,9,  -999.00,9,   -999.0,9,   -999.0,9,-999.0000,9,   -999.0,  9,     8.24,2,   -999.0,  -999.00,9,  -999.00,9,     0.06,2,     0.05,2,   -999.0,-999.0000, -999,9,   27,  29.8816,  21.2959,   -999.0,9
       KS04-04,  137E,KS-1010,  1,     21,02-16027,2,20040504,1757,  2.9950, 136.9955, 4498,     51.9,  27.8518,  34.3027,2,   -999.0,9,-999.0000,9,    203.0,2,     1.76,2,  -999.00,9,     0.00,2,     0.00,2,     0.05,2, -999.000,9, -999.000,9,  -999.00,9,   -999.0,9,   -999.0,9,-999.0000,9,   -999.0,  9,     8.22,2,   -999.0,  -999.00,9,  -999.00,9,     0.10,2,     0.12,2,   -999.0,-999.0000, -999,9,   52,  27.8397,  21.9225,   -999.0,9
       KS04-04,  137E,KS-1010,  1,     20,02-16026,2,20040504,1756,  2.9950, 136.9955, 4498,     76.7,  24.9904,  34.9157,2,   -999.0,9,-999.0000,9,    143.0,2,     4.43,2,  -999.00,9,     7.52,2,     0.45,2,     0.62,2, -999.000,9, -999.000,9,  -999.00,9,   -999.0,9,   -999.0,9,-999.0000,9,   -999.0,  9,     8.11,2,   -999.0,  -999.00,9,  -999.00,9,     0.11,2,     0.50,2,   -999.0,-999.0000, -999,9,   76,  24.9738,  23.2855,   -999.0,9
       KS04-04,  137E,KS-1010,  1,     19,02-16025,2,20040504,1755,  2.9950, 136.9955, 4498,    102.3,  24.7151,  35.1729,2,   -999.0,9,  35.1794,4,    133.0,2,     3.82,2,  -999.00,9,     8.89,2,     0.06,2,     0.70,2, -999.000,9, -999.000,9,  -999.00,9,   -999.0,9,   -999.0,9,-999.0000,9,   -999.0,  9,     8.08,2,   -999.0,  -999.00,9,  -999.00,9,     0.06,2,     0.23,2,   -999.0,-999.0000, -999,9,  102,  24.6931,  23.5649,   -999.0,9
       KS04-04,  137E,KS-1010,  1,     18,02-16024,2,20040504,1754,  2.9950, 136.9955, 4498,    126.3,  23.6054,  35.1567,2,   -999.0,9,-999.0000,9,    133.0,2,     4.67,2,  -999.00,9,     9.47,2,     0.02,2,     0.71,2, -999.000,9, -999.000,9,  -999.00,9,   -999.0,9,   -999.0,9,-999.0000,9,   -999.0,  9,     8.06,2,   -999.0,  -999.00,9,  -999.00,9,     0.02,2,     0.08,2,   -999.0,-999.0000, -999,9,  126,  23.5791,  23.8841,   -999.0,9
       KS04-04,  137E,KS-1010,  1,     17,02-16023,2,20040504,1753,  2.9950, 136.9955, 4498,    152.7,  22.8507,  35.2245,2,   -999.0,9,-999.0000,9,    133.0,2,     4.82,2,  -999.00,9,     9.76,2,     0.01,2,     0.73,2, -999.000,9, -999.000,9,  -999.00,9,   -999.0,9,   -999.0,9,-999.0000,9,   -999.0,  9,     8.06,2,   -999.0,  -999.00,9,  -999.00,9,     0.01,2,     0.03,2,   -999.0,-999.0000, -999,9,  152,  22.8196,  24.1558,   -999.0,9
       KS04-04,  137E,KS-1010,  1,     16,02-16022,9,20040504,1750,  2.9950, 136.9955, 4498,    202.6,  20.5706,  35.1851,2,   -999.0,9,-999.0000,9,   -999.0,9,  -999.00,9,  -999.00,9,  -999.00,9,  -999.00,9,  -999.00,9, -999.000,9, -999.000,9,  -999.00,9,   -999.0,9,   -999.0,9,-999.0000,9,   -999.0,  9,  -999.00,9,   -999.0,  -999.00,9,  -999.00,9,  -999.00,9,  -999.00,9,   -999.0,-999.0000, -999,9,  201,  20.5323,  24.7612,   -999.0,9
       KS04-04,  137E,KS-1010,  1,     15,02-16021,2,20040504,1750,  2.9950, 136.9955, 4498,    202.8,  20.5564,  35.1836,2,   -999.0,9,  35.1957,4,    139.0,2,     6.57,2,  -999.00,9,    10.54,2,     0.00,2,     0.79,2, -999.000,9, -999.000,9,  -999.00,9,   -999.0,9,   -999.0,9,-999.0000,9,   -999.0,  9,     8.03,2,   -999.0,  -999.00,9,  -999.00,9,     0.01,2,     0.02,2,   -999.0,-999.0000, -999,9,  202,  20.5181,  24.7639,   -999.0,9
       KS04-04,  137E,KS-1010,  1,     14,02-16020,2,20040504,1749,  2.9950, 136.9955, 4498,    253.3,  15.7899,  34.7134,2,   -999.0,9,-999.0000,9,    147.0,2,    14.54,2,  -999.00,9,    14.33,2,     0.01,2,     1.03,2, -999.000,9, -999.000,9,  -999.00,9,   -999.0,9,   -999.0,9,-999.0000,9,   -999.0,  9,     7.94,2,   -999.0,  -999.00,9,  -999.00,9,     0.00,2,     0.03,2,   -999.0,-999.0000, -999,9,  252,  15.7502,  25.5839,   -999.0,9
       KS04-04,  137E,KS-1010,  1,     13,02-16019,2,20040504,1747,  2.9950, 136.9955, 4498,    303.8,  11.2223,  34.4707,2,   -999.0,9,  34.4720,2,    116.0,2,    28.79,2,  -999.00,9,    23.87,2,     0.00,2,     1.71,2, -999.000,9, -999.000,9,  -999.00,9,   -999.0,9,   -999.0,9,-999.0000,9,   -999.0,  9,     7.78,2,   -999.0,  -999.00,9,  -999.00,9,     0.00,2,     0.02,2,   -999.0,-999.0000, -999,9,  302,  11.1844,  26.3299,   -999.0,9
       KS04-04,  137E,KS-1010,  1,     12,02-16018,2,20040504,1744,  2.9950, 136.9955, 4498,    404.5,   8.5856,  34.5325,2,   -999.0,9,  34.5353,4,     86.0,2,    40.89,2,  -999.00,9,    31.65,2,     0.03,4,     2.24,2, -999.000,9, -999.000,9,  -999.00,9,   -999.0,9,   -999.0,9,-999.0000,9,   -999.0,  9,     7.67,2,   -999.0,  -999.00,9,  -999.00,9,  -999.00,9,  -999.00,9,   -999.0,-999.0000, -999,9,  402,   8.5426,  26.8241,   -999.0,9
       KS04-04,  137E,KS-1010,  1,     11,02-16017,2,20040504,1742,  2.9950, 136.9955, 4498,    504.2,   7.4457,  34.5540,2,   -999.0,9,-999.0000,9,     99.0,2,    43.64,2,  -999.00,9,    33.11,2,     0.00,2,     2.33,2, -999.000,9, -999.000,9,  -999.00,9,   -999.0,9,   -999.0,9,-999.0000,9,   -999.0,  9,     7.66,2,   -999.0,  -999.00,9,  -999.00,9,  -999.00,9,  -999.00,9,   -999.0,-999.0000, -999,9,  501,   7.3961,  27.0118,   -999.0,9
       KS04-04,  137E,KS-1010,  1,     10,02-16016,9,20040504,1740,  2.9950, 136.9955, 4498,    605.0,   6.6530,  34.5414,2,   -999.0,9,-999.0000,9,   -999.0,9,  -999.00,9,  -999.00,9,  -999.00,9,  -999.00,9,  -999.00,9, -999.000,9, -999.000,9,  -999.00,9,   -999.0,9,   -999.0,9,-999.0000,9,   -999.0,  9,  -999.00,9,   -999.0,  -999.00,9,  -999.00,9,  -999.00,9,  -999.00,9,   -999.0,-999.0000, -999,9,  601,   6.5967,  27.1124,   -999.0,9
       KS04-04,  137E,KS-1010,  1,      9,02-16015,2,20040504,1740,  2.9950, 136.9955, 4498,    604.7,   6.6487,  34.5409,2,   -999.0,9,-999.0000,9,    109.0,2,    48.04,2,  -999.00,9,    34.08,2,     0.01,4,     2.40,2, -999.000,9, -999.000,9,  -999.00,9,   -999.0,9,   -999.0,9,-999.0000,9,   -999.0,  9,     7.66,2,   -999.0,  -999.00,9,  -999.00,9,  -999.00,9,  -999.00,9,   -999.0,-999.0000, -999,9,  600,   6.5924,  27.1126,   -999.0,9
       KS04-04,  137E,KS-1010,  1,      8,02-16014,2,20040504,1737,  2.9950, 136.9955, 4498,    705.9,   6.1231,  34.5361,2,   -999.0,9,  34.5353,2,    104.0,2,    56.93,2,  -999.00,9,    35.34,2,     0.00,2,     2.50,2, -999.000,9, -999.000,9,  -999.00,9,   -999.0,9,   -999.0,9,-999.0000,9,   -999.0,  9,     7.65,2,   -999.0,  -999.00,9,  -999.00,9,  -999.00,9,  -999.00,9,   -999.0,-999.0000, -999,9,  701,   6.0597,  27.1785,   -999.0,9
       KS04-04,  137E,KS-1010,  1,      7,02-16013,2,20040504,1734,  2.9950, 136.9955, 4498,    806.3,   5.4339,  34.5382,2,   -999.0,9,  34.5384,2,     98.0,2,    69.42,2,  -999.00,9,    36.89,2,     0.00,2,     2.63,2, -999.000,9, -999.000,9,  -999.00,9,   -999.0,9,   -999.0,9,-999.0000,9,   -999.0,  9,     7.63,2,   -999.0,  -999.00,9,  -999.00,9,  -999.00,9,  -999.00,9,   -999.0,-999.0000, -999,9,  800,   5.3651,  27.2661,   -999.0,9
       KS04-04,  137E,KS-1010,  1,      6,02-16012,2,20040504,1732,  2.9950, 136.9955, 4498,    906.7,   4.9252,  34.5478,2,   -999.0,9,  34.5466,2,     97.0,2,    79.39,2,  -999.00,9,    37.67,2,     0.00,2,     2.69,2, -999.000,9, -999.000,9,  -999.00,9,   -999.0,9,   -999.0,9,-999.0000,9,   -999.0,  9,     7.62,2,   -999.0,  -999.00,9,  -999.00,9,  -999.00,9,  -999.00,9,   -999.0,-999.0000, -999,9,  900,   4.8507,  27.3339,   -999.0,9
       KS04-04,  137E,KS-1010,  1,      5,02-16011,2,20040504,1730,  2.9950, 136.9955, 4498,   1008.2,   4.5300,  34.5550,2,   -999.0,9,  34.5551,2,     95.0,2,    87.83,2,  -999.00,9,    38.25,2,     0.01,4,     2.72,2, -999.000,9, -999.000,9,  -999.00,9,   -999.0,9,   -999.0,9,-999.0000,9,   -999.0,  9,     7.61,2,   -999.0,  -999.00,9,  -999.00,9,  -999.00,9,  -999.00,9,   -999.0,-999.0000, -999,9, 1000,   4.4495,  27.3844,   -999.0,9
       KS04-04,  137E,KS-1010,  1,      4,02-16010,2,20040504,1725,  2.9950, 136.9955, 4498,   1260.7,   3.6571,  34.5788,2,   -999.0,9,-999.0000,9,     99.0,2,   106.37,2,  -999.00,9,    38.73,2,     0.01,4,     2.78,2, -999.000,9, -999.000,9,  -999.00,9,   -999.0,9,   -999.0,9,-999.0000,9,   -999.0,  9,     7.61,2,   -999.0,  -999.00,9,  -999.00,9,  -999.00,9,  -999.00,9,   -999.0,-999.0000, -999,9, 1250,   3.5624,  27.4954,   -999.0,9
       KS04-04,  137E,KS-1010,  1,      3,02-16009,2,20040504,1720,  2.9950, 136.9955, 4498,   1514.0,   2.9621,  34.6038,2,   -999.0,9,-999.0000,9,    103.0,2,   119.48,2,  -999.00,9,    39.02,2,     0.00,2,     2.78,2, -999.000,9, -999.000,9,  -999.00,9,   -999.0,9,   -999.0,9,-999.0000,9,   -999.0,  9,     7.61,2,   -999.0,  -999.00,9,  -999.00,9,  -999.00,9,  -999.00,9,   -999.0,-999.0000, -999,9, 1500,   2.8535,  27.5821,   -999.0,9
       KS04-04,  137E,KS-1010,  1,      2,02-16008,2,20040504,1715,  2.9950, 136.9955, 4498,   1767.4,   2.4864,  34.6244,2,   -999.0,9,  34.6240,2,    113.0,2,   129.50,2,  -999.00,9,    38.53,2,     0.00,2,     2.71,2, -999.000,9, -999.000,9,  -999.00,9,   -999.0,9,   -999.0,9,-999.0000,9,   -999.0,  9,     7.63,2,   -999.0,  -999.00,9,  -999.00,9,  -999.00,9,  -999.00,9,   -999.0,-999.0000, -999,9, 1750,   2.3625,  27.6412,   -999.0,9
       KS04-04,  137E,KS-1010,  1,      1,02-16007,2,20040504,1710,  2.9950, 136.9955, 4498,   2021.3,   2.1456,  34.6416,2,   -999.0,9,  34.6398,2,    122.0,2,   135.12,2,  -999.00,9,    38.14,2,     0.00,2,     2.69,2, -999.000,9, -999.000,9,  -999.00,9,   -999.0,9,   -999.0,9,-999.0000,9,   -999.0,  9,     7.64,2,   -999.0,  -999.00,9,  -999.00,9,  -999.00,9,  -999.00,9,   -999.0,-999.0000, -999,9, 2001,   2.0051,  27.6841,   -999.0,9