BOTTLE,20130510GEMDJMAYT
EXPOCODE,SECT_ID,STNNBR,CASTNO,SAMPNO,BTLNBR,BTLNBR_FLAG_W,DATE,TIME,LATITUDE,LONGITUDE,DEPTH,CTDPRS,CTDTMP,CTDSAL,CTDSAL_FLAG_W,CTDOXY,CTDOXY_FLAG_W,SALNTY,SALNTY_FLAG_W,OXYGEN,OXYGEN_FLAG_W,SILCAT,SILCAT_FLAG_W,NITRAT,NITRAT_FLAG_W,NO2+NO3,NO2+NO3_FLAG_W,NITRIT,NITRIT_FLAG_W,PHSPHT,PHSPHT_FLAG_W,CFC-11,CFC-11_FLAG_W,CFC-12,CFC-12_FLAG_W,DELC13,DELC13_FLAG_W,TCARBN,TCARBN_FLAG_W,ALKALI,ALKALI_FLAG_W,PH,PH_FLAG_W,PH_TMP,PH_SCALE,PH_NBS,PH_NBS_FLAG_W,C13ERR,TOTALP,TOTALP_FLAG_W,AMMONI,AMMONI_FLAG_W,CHLORA,CHLORA_FLAG_W,PPHYTN,PPHYTN_FLAG_W,REVPRS,REVTMP,DEPTH_,DEPTH_FLAG,CTDDEP,THETA,SIGTHT,DOC,DOC_FLAG_W
,,,,,,,GMT,GMT,,,METER,DBAR,ITS-90,PSS-78,,UMOL/KG,,PSS-78,,UMOL/KG,,UMOL/KG,,UMOL/KG,,UMOL/KG,,UMOL/KG,,UMOL/KG,,PMOL/KG,,PMOL/KG,,/MILLE,,UMOL/KG,,UMOL/KG,,25_DEG_C,,DEG_C,,,,/MILLE,UMOL/KG,,UMOL/KG,,UG/L,,UG/L,,DBAR,ITS-90,METERS,,METERS,DEG_C,,UMOL/L,
       KS04-04,  137E,KS-1008,  1,     24,02-16030,2,20040504,0111,  5.0082, 137.0203, 5106,      4.9,  30.0052,  34.0982,2,   -999.0,9,  34.1005,4,    198.0,2,     1.79,2,  -999.00,9,     0.00,2,     0.00,2,     0.01,2, -999.000,9, -999.000,9,  -999.00,9,   1912.0,6,   -999.0,9,   8.1161,2,     25.0, TS,     8.23,2,   -999.0,  -999.00,9,  -999.00,9,     0.04,2,     0.02,2,   -999.0,-999.0000, -999,9,    5,  30.0040,  21.0489,   -999.0,9
       KS04-04,  137E,KS-1008,  1,     23,02-16029,2,20040504,0110,  5.0082, 137.0203, 5106,     10.7,  29.9336,  34.0964,2,   -999.0,9,-999.0000,9,    198.0,2,     1.83,2,  -999.00,9,     0.00,2,     0.00,2,     0.01,2, -999.000,9, -999.000,9,  -999.00,9,   -999.0,9,   -999.0,9,-999.0000,9,   -999.0,  9,     8.24,2,   -999.0,  -999.00,9,  -999.00,9,     0.05,2,     0.03,2,   -999.0,-999.0000, -999,9,   11,  29.9310,  21.0724,   -999.0,9
       KS04-04,  137E,KS-1008,  1,     22,02-10977,2,20040504,0109,  5.0082, 137.0203, 5106,     25.2,  29.8250,  34.1218,2,   -999.0,9,-999.0000,9,    199.0,2,     1.82,2,  -999.00,9,     0.00,2,     0.00,2,     0.01,2, -999.000,9, -999.000,9,  -999.00,9,   -999.0,9,   -999.0,9,-999.0000,9,   -999.0,  9,     8.24,2,   -999.0,  -999.00,9,  -999.00,9,     0.06,2,     0.03,2,   -999.0,-999.0000, -999,9,   25,  29.8188,  21.1296,   -999.0,9
       KS04-04,  137E,KS-1008,  1,     21,02-16027,2,20040504,0105,  5.0082, 137.0203, 5106,     50.1,  28.8051,  34.1074,2,   -999.0,9,-999.0000,9,    202.0,2,     1.54,2,  -999.00,9,     0.00,2,     0.00,2,     0.01,2, -999.000,9, -999.000,9,  -999.00,9,   -999.0,9,   -999.0,9,-999.0000,9,   -999.0,  9,     8.24,2,   -999.0,  -999.00,9,  -999.00,9,     0.08,2,     0.07,2,   -999.0,-999.0000, -999,9,   50,  28.7931,  21.4628,   -999.0,9
       KS04-04,  137E,KS-1008,  1,     20,02-16026,2,20040504,0104,  5.0082, 137.0203, 5106,     75.6,  25.7552,  34.6884,2,   -999.0,9,-999.0000,9,    168.0,2,     2.81,2,  -999.00,9,     3.91,2,     0.19,2,     0.34,2, -999.000,9, -999.000,9,  -999.00,9,   -999.0,9,   -999.0,9,-999.0000,9,   -999.0,  9,     8.15,2,   -999.0,  -999.00,9,  -999.00,9,     0.43,2,     0.00,2,   -999.0,-999.0000, -999,9,   75,  25.7385,  22.8794,   -999.0,9
       KS04-04,  137E,KS-1008,  1,     19,02-16025,2,20040504,0103,  5.0082, 137.0203, 5106,    100.3,  24.1931,  35.0851,2,   -999.0,9,  35.0959,4,    137.0,2,     4.39,2,  -999.00,9,     8.50,2,     0.06,2,     0.63,2, -999.000,9, -999.000,9,  -999.00,9,   -999.0,9,   -999.0,9,-999.0000,9,   -999.0,  9,     8.08,2,   -999.0,  -999.00,9,  -999.00,9,     0.07,2,     0.32,2,   -999.0,-999.0000, -999,9,  100,  24.1719,  23.6547,   -999.0,9
       KS04-04,  137E,KS-1008,  1,     18,02-16024,2,20040504,0102,  5.0082, 137.0203, 5106,    125.1,  22.4199,  35.2281,2,   -999.0,9,-999.0000,9,    134.0,2,     5.21,2,  -999.00,9,     9.67,2,     0.02,2,     0.72,2, -999.000,9, -999.000,9,  -999.00,9,   -999.0,9,   -999.0,9,-999.0000,9,   -999.0,  9,     8.05,2,   -999.0,  -999.00,9,  -999.00,9,     0.02,2,     0.06,2,   -999.0,-999.0000, -999,9,  124,  22.3948,  24.2798,   -999.0,9
       KS04-04,  137E,KS-1008,  1,     17,02-16023,2,20040504,0101,  5.0082, 137.0203, 5106,    150.1,  21.6788,  35.2321,2,   -999.0,9,-999.0000,9,    135.0,2,     5.25,2,  -999.00,9,     9.96,2,     0.01,2,     0.74,2, -999.000,9, -999.000,9,  -999.00,9,   -999.0,9,   -999.0,9,-999.0000,9,   -999.0,  9,     8.04,2,   -999.0,  -999.00,9,  -999.00,9,     0.01,2,     0.04,2,   -999.0,-999.0000, -999,9,  149,  21.6494,  24.4921,   -999.0,9
       KS04-04,  137E,KS-1008,  1,     16,02-16022,9,20040504,0059,  5.0082, 137.0203, 5106,    203.8,  18.6142,  35.1294,2,   -999.0,9,-999.0000,9,   -999.0,9,  -999.00,9,  -999.00,9,  -999.00,9,  -999.00,9,  -999.00,9, -999.000,9, -999.000,9,  -999.00,9,   -999.0,9,   -999.0,9,-999.0000,9,   -999.0,  9,  -999.00,9,   -999.0,  -999.00,9,  -999.00,9,  -999.00,9,  -999.00,9,   -999.0,-999.0000, -999,9,  203,  18.5783,  25.2270,   -999.0,9
       KS04-04,  137E,KS-1008,  1,     15,02-16021,2,20040504,0058,  5.0082, 137.0203, 5106,    202.8,  18.7396,  35.1416,2,   -999.0,9,  35.1634,4,    140.0,2,     8.42,2,  -999.00,9,    11.70,2,     0.00,2,     0.86,2, -999.000,9, -999.000,9,  -999.00,9,   -999.0,9,   -999.0,9,-999.0000,9,   -999.0,  9,     8.00,2,   -999.0,  -999.00,9,  -999.00,9,     0.00,2,     0.02,2,   -999.0,-999.0000, -999,9,  202,  18.7037,  25.2047,   -999.0,9
       KS04-04,  137E,KS-1008,  1,     14,02-16020,2,20040504,0057,  5.0082, 137.0203, 5106,    253.7,  12.7224,  34.5696,2,   -999.0,9,-999.0000,9,    132.0,2,    24.07,2,  -999.00,9,    19.78,2,     0.01,2,     1.39,2, -999.000,9, -999.000,9,  -999.00,9,   -999.0,9,   -999.0,9,-999.0000,9,   -999.0,  9,     7.86,2,   -999.0,  -999.00,9,  -999.00,9,     0.00,2,     0.02,2,   -999.0,-999.0000, -999,9,  252,  12.6881,  26.1214,   -999.0,9
       KS04-04,  137E,KS-1008,  1,     13,02-16019,2,20040504,0055,  5.0082, 137.0203, 5106,    302.0,  10.7813,  34.4665,2,   -999.0,9,  34.4744,4,    116.0,2,    30.97,2,  -999.00,9,    24.26,2,     0.01,2,     1.72,2, -999.000,9, -999.000,9,  -999.00,9,   -999.0,9,   -999.0,9,-999.0000,9,   -999.0,  9,     7.77,2,   -999.0,  -999.00,9,  -999.00,9,     0.00,2,     0.02,2,   -999.0,-999.0000, -999,9,  300,  10.7446,  26.4058,   -999.0,9
       KS04-04,  137E,KS-1008,  1,     12,02-16018,2,20040504,0053,  5.0082, 137.0203, 5106,    403.0,   8.7651,  34.5702,2,   -999.0,9,  34.5730,4,     80.0,4,    38.64,2,  -999.00,9,    31.94,2,     0.02,4,     2.26,2, -999.000,9, -999.000,9,  -999.00,9,   -999.0,9,   -999.0,9,-999.0000,9,   -999.0,  9,     7.65,2,   -999.0,  -999.00,9,  -999.00,9,  -999.00,9,  -999.00,9,   -999.0,-999.0000, -999,9,  400,   8.7217,  26.8257,   -999.0,9
       KS04-04,  137E,KS-1008,  1,     11,02-16017,2,20040504,0050,  5.0082, 137.0203, 5106,    503.5,   7.7418,  34.5740,2,   -999.0,9,  34.5749,2,    103.0,2,    39.91,2,  -999.00,9,    32.13,2,     0.00,2,     2.24,2, -999.000,9, -999.000,9,  -999.00,9,   -999.0,9,   -999.0,9,-999.0000,9,   -999.0,  9,     7.67,2,   -999.0,  -999.00,9,  -999.00,9,  -999.00,9,  -999.00,9,   -999.0,-999.0000, -999,9,  500,   7.6911,  26.9849,   -999.0,9
       KS04-04,  137E,KS-1008,  1,     10,02-16016,9,20040504,0048,  5.0082, 137.0203, 5106,    604.8,   7.0587,  34.5506,2,   -999.0,9,-999.0000,9,   -999.0,9,  -999.00,9,  -999.00,9,  -999.00,9,  -999.00,9,  -999.00,9, -999.000,9, -999.000,9,  -999.00,9,   -999.0,9,   -999.0,9,-999.0000,9,   -999.0,  9,  -999.00,9,   -999.0,  -999.00,9,  -999.00,9,  -999.00,9,  -999.00,9,   -999.0,-999.0000, -999,9,  601,   7.0005,  27.0647,   -999.0,9
       KS04-04,  137E,KS-1008,  1,      9,02-16015,4,20040504,0047,  5.0082, 137.0203, 5106,    604.0,   7.0665,  34.5505,2,   -999.0,9,  34.5506,2,    101.0,2,    47.10,2,  -999.00,9,    33.59,2,     0.03,4,     2.37,2, -999.000,9, -999.000,9,  -999.00,9,   -999.0,9,   -999.0,9,-999.0000,9,   -999.0,  9,     7.66,2,   -999.0,  -999.00,9,  -999.00,9,  -999.00,9,  -999.00,9,   -999.0,-999.0000, -999,9,  600,   7.0084,  27.0635,   -999.0,9
       KS04-04,  137E,KS-1008,  1,      8,02-16014,2,20040504,0044,  5.0082, 137.0203, 5106,    704.5,   6.5715,  34.5361,2,   -999.0,9,  34.5366,2,    103.0,2,    51.49,2,  -999.00,9,    34.47,2,     0.00,2,     2.42,2, -999.000,9, -999.000,9,  -999.00,9,   -999.0,9,   -999.0,9,-999.0000,9,   -999.0,  9,     7.66,2,   -999.0,  -999.00,9,  -999.00,9,  -999.00,9,  -999.00,9,   -999.0,-999.0000, -999,9,  699,   6.5059,  27.1204,   -999.0,9
       KS04-04,  137E,KS-1008,  1,      7,02-16013,2,20040504,0041,  5.0082, 137.0203, 5106,    804.5,   5.8174,  34.5236,2,   -999.0,9,  34.5245,2,     93.0,2,    66.54,2,  -999.00,9,    36.51,2,     0.00,2,     2.59,2, -999.000,9, -999.000,9,  -999.00,9,   -999.0,9,   -999.0,9,-999.0000,9,   -999.0,  9,     7.62,2,   -999.0,  -999.00,9,  -999.00,9,  -999.00,9,  -999.00,9,   -999.0,-999.0000, -999,9,  798,   5.7465,  27.2081,   -999.0,9
       KS04-04,  137E,KS-1008,  1,      6,02-16012,4,20040504,0039,  5.0082, 137.0203, 5106,    906.2,   5.1571,  34.5354,2,   -999.0,9,  34.5347,2,     90.0,2,    78.30,2,  -999.00,9,    37.57,2,     0.00,2,     2.67,2, -999.000,9, -999.000,9,  -999.00,9,   -999.0,9,   -999.0,9,-999.0000,9,   -999.0,  9,     7.61,2,   -999.0,  -999.00,9,  -999.00,9,  -999.00,9,  -999.00,9,   -999.0,-999.0000, -999,9,  899,   5.0811,  27.2975,   -999.0,9
       KS04-04,  137E,KS-1008,  1,      5,02-16011,2,20040504,0036,  5.0082, 137.0203, 5106,   1007.4,   4.6487,  34.5491,2,   -999.0,9,  34.5494,2,     92.0,2,    87.11,2,  -999.00,9,    37.86,2,     0.01,4,     2.70,2, -999.000,9, -999.000,9,  -999.00,9,   -999.0,9,   -999.0,9,-999.0000,9,   -999.0,  9,     7.61,2,   -999.0,  -999.00,9,  -999.00,9,  -999.00,9,  -999.00,9,   -999.0,-999.0000, -999,9,  999,   4.5673,  27.3667,   -999.0,9
       KS04-04,  137E,KS-1008,  1,      4,02-16010,2,20040504,0030,  5.0082, 137.0203, 5106,   1260.5,   3.4533,  34.5821,2,   -999.0,9,  34.5824,2,     91.0,2,   111.27,2,  -999.00,9,    38.44,2,     0.05,4,     2.73,2, -999.000,9, -999.000,9,  -999.00,9,   -999.0,9,   -999.0,9,-999.0000,9,   -999.0,  9,     7.61,2,   -999.0,  -999.00,9,  -999.00,9,  -999.00,9,  -999.00,9,   -999.0,-999.0000, -999,9, 1250,   3.3606,  27.5177,   -999.0,9
       KS04-04,  137E,KS-1008,  1,      3,02-16009,2,20040504,0025,  5.0082, 137.0203, 5106,   1511.2,   2.8110,  34.6080,2,   -999.0,9,  34.6068,2,    105.0,2,   123.76,2,  -999.00,9,    38.63,2,     0.00,2,     2.72,2, -999.000,9, -999.000,9,  -999.00,9,   -999.0,9,   -999.0,9,-999.0000,9,   -999.0,  9,     7.62,2,   -999.0,  -999.00,9,  -999.00,9,  -999.00,9,  -999.00,9,   -999.0,-999.0000, -999,9, 1497,   2.7043,  27.5987,   -999.0,9
       KS04-04,  137E,KS-1008,  1,      2,02-16008,2,20040504,0020,  5.0082, 137.0203, 5106,   1764.4,   2.3880,  34.6284,2,   -999.0,9,  34.6284,2,    112.0,2,   132.67,2,  -999.00,9,    38.53,2,     0.00,2,     2.70,2, -999.000,9, -999.000,9,  -999.00,9,   -999.0,9,   -999.0,9,-999.0000,9,   -999.0,  9,     7.62,2,   -999.0,  -999.00,9,  -999.00,9,  -999.00,9,  -999.00,9,   -999.0,-999.0000, -999,9, 1747,   2.2657,  27.6525,   -999.0,9
       KS04-04,  137E,KS-1008,  1,      1,02-16007,2,20040504,0015,  5.0082, 137.0203, 5106,   2018.9,   2.1099,  34.6433,2,   -999.0,9,  34.6425,4,    120.0,2,   137.74,2,  -999.00,9,    38.14,2,     0.02,4,     2.66,2, -999.000,9, -999.000,9,  -999.00,9,   -999.0,9,   -999.0,9,-999.0000,9,   -999.0,  9,     7.63,2,   -999.0,  -999.00,9,  -999.00,9,  -999.00,9,  -999.00,9,   -999.0,-999.0000, -999,9, 1998,   1.9701,  27.6882,   -999.0,9