BOTTLE,20130510GEMDJMAYT
EXPOCODE,SECT_ID,STNNBR,CASTNO,SAMPNO,BTLNBR,BTLNBR_FLAG_W,DATE,TIME,LATITUDE,LONGITUDE,DEPTH,CTDPRS,CTDTMP,CTDSAL,CTDSAL_FLAG_W,CTDOXY,CTDOXY_FLAG_W,SALNTY,SALNTY_FLAG_W,OXYGEN,OXYGEN_FLAG_W,SILCAT,SILCAT_FLAG_W,NITRAT,NITRAT_FLAG_W,NO2+NO3,NO2+NO3_FLAG_W,NITRIT,NITRIT_FLAG_W,PHSPHT,PHSPHT_FLAG_W,CFC-11,CFC-11_FLAG_W,CFC-12,CFC-12_FLAG_W,DELC13,DELC13_FLAG_W,TCARBN,TCARBN_FLAG_W,ALKALI,ALKALI_FLAG_W,PH,PH_FLAG_W,PH_TMP,PH_SCALE,PH_NBS,PH_NBS_FLAG_W,C13ERR,TOTALP,TOTALP_FLAG_W,AMMONI,AMMONI_FLAG_W,CHLORA,CHLORA_FLAG_W,PPHYTN,PPHYTN_FLAG_W,REVPRS,REVTMP,DEPTH_,DEPTH_FLAG,CTDDEP,THETA,SIGTHT,DOC,DOC_FLAG_W
,,,,,,,GMT,GMT,,,METER,DBAR,ITS-90,PSS-78,,UMOL/KG,,PSS-78,,UMOL/KG,,UMOL/KG,,UMOL/KG,,UMOL/KG,,UMOL/KG,,UMOL/KG,,PMOL/KG,,PMOL/KG,,/MILLE,,UMOL/KG,,UMOL/KG,,25_DEG_C,,DEG_C,,,,/MILLE,UMOL/KG,,UMOL/KG,,UG/L,,UG/L,,DBAR,ITS-90,METERS,,METERS,DEG_C,,UMOL/L,
       KS04-04,  137E,KS-0998,  1,     24,02-16030,2,20040430,2001, 14.9962, 136.9835, 5404,      4.8,  28.8913,  34.2295,2,   -999.0,9,  34.2323,4,    200.0,2,     0.83,2,  -999.00,9,     0.00,2,     0.00,2,     0.02,2, -999.000,9, -999.000,9,  -999.00,9,   1905.9,2,   -999.0,9,   8.1260,2,     25.0, TS,     8.26,2,   -999.0,  -999.00,9,  -999.00,9,     0.03,2,     0.02,2,   -999.0,-999.0000, -999,9,    5,  28.8901,  21.5223,     64.4,2
       KS04-04,  137E,KS-0998,  1,     23,02-16029,2,20040430,2000, 14.9962, 136.9835, 5404,     10.3,  28.8951,  34.2287,2,   -999.0,9,-999.0000,9,    200.0,2,     0.82,2,  -999.00,9,     0.00,2,     0.00,2,     0.02,2, -999.000,9, -999.000,9,  -999.00,9,   1907.7,2,   -999.0,9,   8.1312,2,     25.0, TS,     8.25,2,   -999.0,  -999.00,9,  -999.00,9,     0.03,2,     0.02,2,   -999.0,-999.0000, -999,9,   10,  28.8926,  21.5208,     71.6,2
       KS04-04,  137E,KS-0998,  1,     22,02-10977,2,20040430,1958, 14.9962, 136.9835, 5404,     25.7,  28.8975,  34.2296,2,   -999.0,9,-999.0000,9,    200.0,2,     0.76,2,  -999.00,9,     0.00,2,     0.00,2,     0.02,2, -999.000,9, -999.000,9,  -999.00,9,   1906.0,2,   -999.0,9,   8.1278,2,     25.0, TS,     8.25,2,   -999.0,  -999.00,9,  -999.00,9,     0.04,2,     0.02,2,   -999.0,-999.0000, -999,9,   26,  28.8913,  21.5220,   -999.0,4
       KS04-04,  137E,KS-0998,  1,     21,02-16027,2,20040430,1957, 14.9962, 136.9835, 5404,     51.1,  28.5657,  34.2485,2,   -999.0,9,-999.0000,9,    203.0,2,     0.74,2,  -999.00,9,     0.00,2,     0.00,2,     0.02,2, -999.000,9, -999.000,9,  -999.00,9,   1905.7,2,   -999.0,9,   8.1330,2,     25.0, TS,     8.25,2,   -999.0,  -999.00,9,  -999.00,9,     0.05,2,     0.03,2,   -999.0,-999.0000, -999,9,   51,  28.5535,  21.6481,     74.2,2
       KS04-04,  137E,KS-0998,  1,     20,02-16026,2,20040430,1955, 14.9962, 136.9835, 5404,     75.1,  28.0259,  34.3689,2,   -999.0,9,-999.0000,9,    206.0,2,     0.79,2,  -999.00,9,     0.00,2,     0.00,2,     0.03,2, -999.000,9, -999.000,9,  -999.00,9,   1916.0,2,   -999.0,9,   8.1295,2,     25.0, TS,     8.25,2,   -999.0,  -999.00,9,  -999.00,9,     0.05,2,     0.03,2,   -999.0,-999.0000, -999,9,   75,  28.0082,  21.9175,     73.8,2
       KS04-04,  137E,KS-0998,  1,     19,02-16025,2,20040430,1951, 14.9962, 136.9835, 5404,     98.8,  27.4773,  34.5717,2,   -999.0,9,  34.5759,4,    206.0,2,     0.78,2,  -999.00,9,     0.00,2,     0.00,2,     0.01,2, -999.000,9, -999.000,9,  -999.00,9,   1925.0,2,   -999.0,9,   8.1288,2,     25.0, TS,     8.24,2,   -999.0,  -999.00,9,  -999.00,9,     0.09,2,     0.08,2,   -999.0,-999.0000, -999,9,   98,  27.4544,  22.2496,     72.1,2
       KS04-04,  137E,KS-0998,  1,     18,02-16024,2,20040430,1950, 14.9962, 136.9835, 5404,    122.1,  26.9106,  34.7811,2,   -999.0,9,-999.0000,9,    203.0,2,     0.88,2,  -999.00,9,     0.00,2,     0.00,2,     0.02,2, -999.000,9, -999.000,9,  -999.00,9,   1945.3,2,   -999.0,9,   8.1130,2,     25.0, TS,     8.23,2,   -999.0,  -999.00,9,  -999.00,9,     0.12,2,     0.15,2,   -999.0,-999.0000, -999,9,  121,  26.8827,  22.5903,   -999.0,4
       KS04-04,  137E,KS-0998,  1,     17,02-16023,2,20040430,1949, 14.9962, 136.9835, 5404,    151.4,  25.9296,  35.0391,2,   -999.0,9,-999.0000,9,    195.0,2,     0.87,2,  -999.00,9,     0.10,2,     0.05,2,     0.04,2, -999.000,9, -999.000,9,  -999.00,9,   1972.5,2,   -999.0,9,   8.0848,2,     25.0, TS,     8.21,2,   -999.0,  -999.00,9,  -999.00,9,     0.11,2,     0.41,2,   -999.0,-999.0000, -999,9,  150,  25.8959,  23.0952,   -999.0,4
       KS04-04,  137E,KS-0998,  1,     16,02-16022,9,20040430,1948, 14.9962, 136.9835, 5404,    201.5,  22.4401,  35.1299,2,   -999.0,9,-999.0000,9,   -999.0,9,  -999.00,9,  -999.00,9,  -999.00,9,  -999.00,9,  -999.00,9, -999.000,9, -999.000,9,  -999.00,9,   -999.0,9,   -999.0,9,-999.0000,9,   -999.0,  9,  -999.00,9,   -999.0,  -999.00,9,  -999.00,9,  -999.00,9,  -999.00,9,   -999.0,-999.0000, -999,9,  200,  22.3996,  24.2038,   -999.0,9
       KS04-04,  137E,KS-0998,  1,     15,02-16021,2,20040430,1948, 14.9962, 136.9835, 5404,    200.9,  22.5055,  35.1322,2,   -999.0,9,  35.1335,4,    182.0,2,     1.71,2,  -999.00,9,     1.76,2,     0.02,2,     0.16,2, -999.000,9, -999.000,9,  -999.00,9,   2021.1,2,   -999.0,9,   8.0187,2,     25.0, TS,     8.13,2,   -999.0,  -999.00,9,  -999.00,9,     0.02,2,     0.10,2,   -999.0,-999.0000, -999,9,  200,  22.4651,  24.1870,     55.2,2
       KS04-04,  137E,KS-0998,  1,     14,02-16020,2,20040430,1946, 14.9962, 136.9835, 5404,    248.3,  19.0361,  34.8779,2,   -999.0,9,-999.0000,9,    169.0,2,     4.56,2,  -999.00,9,     5.95,2,     0.03,2,     0.47,2, -999.000,9, -999.000,9,  -999.00,9,   2061.5,2,   -999.0,9,   7.9241,2,     25.0, TS,     8.04,2,   -999.0,  -999.00,9,  -999.00,9,     0.01,2,     0.04,2,   -999.0,-999.0000, -999,9,  247,  18.9917,  24.9300,     49.8,2
       KS04-04,  137E,KS-0998,  1,     13,02-16019,2,20040430,1944, 14.9962, 136.9835, 5404,    300.2,  15.5222,  34.5973,2,   -999.0,9,  34.6040,4,    172.0,2,     8.78,2,  -999.00,9,    10.24,2,     0.00,2,     0.73,2, -999.000,9, -999.000,9,  -999.00,9,   2079.8,2,   -999.0,9,   7.8608,2,     25.0, TS,     7.98,2,   -999.0,  -999.00,9,  -999.00,9,     0.00,2,     0.01,2,   -999.0,-999.0000, -999,9,  298,  15.4757,  25.5562,     48.7,2
       KS04-04,  137E,KS-0998,  1,     12,02-16018,2,20040430,1942, 14.9962, 136.9835, 5404,    402.8,  10.8587,  34.3109,2,   -999.0,9,  34.3148,4,    149.0,2,    24.43,2,  -999.00,9,    19.78,2,     0.00,2,     1.42,2, -999.000,9, -999.000,9,  -999.00,9,   2140.1,2,   -999.0,9,   7.7139,2,     25.0, TS,     7.82,2,   -999.0,  -999.00,9,  -999.00,9,  -999.00,9,  -999.00,9,   -999.0,-999.0000, -999,9,  400,  10.8094,  26.2730,     43.2,2
       KS04-04,  137E,KS-0998,  1,     11,02-16017,2,20040430,1940, 14.9962, 136.9835, 5404,    503.8,   8.0595,  34.2509,2,   -999.0,9,  34.2532,2,    100.0,2,    46.81,2,  -999.00,9,    30.00,2,     0.00,2,     2.16,2, -999.000,9, -999.000,9,  -999.00,9,   2216.6,2,   -999.0,9,   7.5562,2,     25.0, TS,     7.65,2,   -999.0,  -999.00,9,  -999.00,9,  -999.00,9,  -999.00,9,   -999.0,-999.0000, -999,9,  500,   8.0078,  26.6843,     45.2,2
       KS04-04,  137E,KS-0998,  1,     10,02-16016,9,20040430,1938, 14.9962, 136.9835, 5404,    604.2,   6.6592,  34.3239,2,   -999.0,9,-999.0000,9,   -999.0,9,  -999.00,9,  -999.00,9,  -999.00,9,  -999.00,9,  -999.00,9, -999.000,9, -999.000,9,  -999.00,9,   -999.0,9,   -999.0,9,-999.0000,9,   -999.0,  9,  -999.00,9,   -999.0,  -999.00,9,  -999.00,9,  -999.00,9,  -999.00,9,   -999.0,-999.0000, -999,9,  600,   6.6031,  26.9400,   -999.0,9
       KS04-04,  137E,KS-0998,  1,      9,02-16015,2,20040430,1938, 14.9962, 136.9835, 5404,    602.9,   6.6577,  34.3219,2,   -999.0,9,  34.3240,2,     70.0,2,    64.14,2,  -999.00,9,    35.35,2,     0.00,2,     2.57,2, -999.000,9, -999.000,9,  -999.00,9,   2260.9,2,   -999.0,9,   7.4896,2,     25.0, TS,     7.58,2,   -999.0,  -999.00,9,  -999.00,9,  -999.00,9,  -999.00,9,   -999.0,-999.0000, -999,9,  599,   6.6018,  26.9386,   -999.0,4
       KS04-04,  137E,KS-0998,  1,      8,02-16014,2,20040430,1936, 14.9962, 136.9835, 5404,    704.4,   5.8796,  34.4212,2,   -999.0,9,  34.4214,2,     74.0,2,    74.06,2,  -999.00,9,    37.00,2,     0.00,2,     2.67,2, -999.000,9, -999.000,9,  -999.00,9,   2276.6,2,   -999.0,9,   7.4909,2,     25.0, TS,     7.58,2,   -999.0,  -999.00,9,  -999.00,9,  -999.00,9,  -999.00,9,   -999.0,-999.0000, -999,9,  699,   5.8178,  27.1182,   -999.0,4
       KS04-04,  137E,KS-0998,  1,      7,02-16013,3,20040430,1933, 14.9962, 136.9835, 5404,    804.2,   5.2657,  34.4692,2,   -999.0,9,  34.4697,2,     81.0,2,    82.00,2,  -999.00,9,    37.38,2,     0.01,4,     2.69,2, -999.000,9, -999.000,9,  -999.00,9,   2285.2,2,   -999.0,9,   7.5044,2,     25.0, TS,     7.59,2,   -999.0,  -999.00,9,  -999.00,9,  -999.00,9,  -999.00,9,   -999.0,-999.0000, -999,9,  798,   5.1982,  27.2313,     54.1,2
       KS04-04,  137E,KS-0998,  1,      6,02-16012,2,20040430,1931, 14.9962, 136.9835, 5404,    904.9,   4.6377,  34.5035,2,   -999.0,9,  34.5031,2,     83.0,2,    93.48,2,  -999.00,9,    38.16,2,     0.00,2,     2.74,2, -999.000,9, -999.000,9,  -999.00,9,   2299.6,2,   -999.0,9,   7.5006,2,     25.0, TS,     7.58,2,   -999.0,  -999.00,9,  -999.00,9,  -999.00,9,  -999.00,9,   -999.0,-999.0000, -999,9,  898,   4.5654,  27.3307,   -999.0,4
       KS04-04,  137E,KS-0998,  1,      5,02-16011,2,20040430,1929, 14.9962, 136.9835, 5404,   1008.8,   4.1305,  34.5253,2,   -999.0,9,  34.5254,2,     86.0,2,   103.04,2,  -999.00,9,    38.35,2,     0.02,4,     2.75,2, -999.000,9, -999.000,9,  -999.00,9,   2310.9,2,   -999.0,9,   7.5077,6,     25.0, TS,     7.59,2,   -999.0,  -999.00,9,  -999.00,9,  -999.00,9,  -999.00,9,   -999.0,-999.0000, -999,9, 1000,   4.0531,  27.4031,   -999.0,4
       KS04-04,  137E,KS-0998,  1,      4,02-16010,2,20040430,1925, 14.9962, 136.9835, 5404,   1258.5,   3.3144,  34.5622,2,   -999.0,9,  34.5618,2,     96.0,2,   118.25,2,  -999.00,9,    38.44,2,     0.00,2,     2.74,2, -999.000,9, -999.000,9,  -999.00,9,   2322.7,6,   -999.0,9,   7.5188,2,     25.0, TS,     7.60,2,   -999.0,  -999.00,9,  -999.00,9,  -999.00,9,  -999.00,9,   -999.0,-999.0000, -999,9, 1247,   3.2232,  27.5148,   -999.0,9
       KS04-04,  137E,KS-0998,  1,      3,02-16009,2,20040430,1920, 14.9962, 136.9835, 5404,   1514.1,   2.7167,  34.5912,2,   -999.0,9,  34.5936,2,    102.0,2,   129.54,2,  -999.00,9,    38.54,2,     0.00,2,     2.74,2, -999.000,9, -999.000,9,  -999.00,9,   2331.5,2,   -999.0,9,   7.5232,2,     25.0, TS,     7.61,2,   -999.0,  -999.00,9,  -999.00,9,  -999.00,9,  -999.00,9,   -999.0,-999.0000, -999,9, 1500,   2.6109,  27.5935,   -999.0,9
       KS04-04,  137E,KS-0998,  1,      2,02-16008,2,20040430,1916, 14.9962, 136.9835, 5404,   1763.2,   2.3518,  34.6114,2,   -999.0,9,  34.6107,2,    108.0,2,   135.86,2,  -999.00,9,    38.44,2,     0.00,2,     2.71,2, -999.000,9, -999.000,9,  -999.00,9,   2338.5,2,   -999.0,9,-999.0000,9,   -999.0,  9,     7.61,2,   -999.0,  -999.00,9,  -999.00,9,  -999.00,9,  -999.00,9,   -999.0,-999.0000, -999,9, 1746,   2.2301,  27.6418,   -999.0,9
       KS04-04,  137E,KS-0998,  1,      1,02-16007,2,20040430,1910, 14.9962, 136.9835, 5404,   2019.9,   2.0458,  34.6342,2,   -999.0,9,  34.6339,2,    118.0,2,   139.67,2,  -999.00,9,    38.05,2,     0.00,2,     2.68,2, -999.000,9, -999.000,9,  -999.00,9,   2338.6,2,   -999.0,9,   7.5444,2,     25.0, TS,     7.63,2,   -999.0,  -999.00,9,  -999.00,9,  -999.00,9,  -999.00,9,   -999.0,-999.0000, -999,9, 1998,   1.9070,  27.6859,   -999.0,9