BOTTLE,20130510GEMDJMAYT
EXPOCODE,SECT_ID,STNNBR,CASTNO,SAMPNO,BTLNBR,BTLNBR_FLAG_W,DATE,TIME,LATITUDE,LONGITUDE,DEPTH,CTDPRS,CTDTMP,CTDSAL,CTDSAL_FLAG_W,CTDOXY,CTDOXY_FLAG_W,SALNTY,SALNTY_FLAG_W,OXYGEN,OXYGEN_FLAG_W,SILCAT,SILCAT_FLAG_W,NITRAT,NITRAT_FLAG_W,NO2+NO3,NO2+NO3_FLAG_W,NITRIT,NITRIT_FLAG_W,PHSPHT,PHSPHT_FLAG_W,CFC-11,CFC-11_FLAG_W,CFC-12,CFC-12_FLAG_W,DELC13,DELC13_FLAG_W,TCARBN,TCARBN_FLAG_W,ALKALI,ALKALI_FLAG_W,PH,PH_FLAG_W,PH_TMP,PH_SCALE,PH_NBS,PH_NBS_FLAG_W,C13ERR,TOTALP,TOTALP_FLAG_W,AMMONI,AMMONI_FLAG_W,CHLORA,CHLORA_FLAG_W,PPHYTN,PPHYTN_FLAG_W,REVPRS,REVTMP,DEPTH_,DEPTH_FLAG,CTDDEP,THETA,SIGTHT,DOC,DOC_FLAG_W
,,,,,,,GMT,GMT,,,METER,DBAR,ITS-90,PSS-78,,UMOL/KG,,PSS-78,,UMOL/KG,,UMOL/KG,,UMOL/KG,,UMOL/KG,,UMOL/KG,,UMOL/KG,,PMOL/KG,,PMOL/KG,,/MILLE,,UMOL/KG,,UMOL/KG,,25_DEG_C,,DEG_C,,,,/MILLE,UMOL/KG,,UMOL/KG,,UG/L,,UG/L,,DBAR,ITS-90,METERS,,METERS,DEG_C,,UMOL/L,
       KS04-04,  137E,KS-0993,  1,     24,02-16030,2,20040429,0939, 19.9918, 136.9993, 4757,      4.9,  27.6887,  34.8449,2,   -999.0,9,  34.8458,4,    203.0,2,     0.72,2,  -999.00,9,     0.00,2,     0.00,2,     0.00,2, -999.000,9, -999.000,9,  -999.00,9,   1944.1,2,   -999.0,9,   8.1194,2,     25.0, TS,  -999.00,9,   -999.0,  -999.00,9,  -999.00,9,     0.02,2,     0.02,2,   -999.0,-999.0000, -999,9,    5,  27.6875,  22.3797,     68.2,2
       KS04-04,  137E,KS-0993,  1,     23,02-16029,2,20040429,0938, 19.9918, 136.9993, 4757,     10.0,  27.6906,  34.8449,2,   -999.0,9,-999.0000,9,    203.0,2,     0.71,2,  -999.00,9,     0.00,2,     0.00,2,     0.00,2, -999.000,9, -999.000,9,  -999.00,9,   1942.2,2,   -999.0,9,   8.1127,2,     25.0, TS,  -999.00,9,   -999.0,  -999.00,9,  -999.00,9,     0.02,2,     0.02,2,   -999.0,-999.0000, -999,9,   10,  27.6883,  22.3795,     73.9,2
       KS04-04,  137E,KS-0993,  1,     22,02-10977,2,20040429,0937, 19.9918, 136.9993, 4757,     24.4,  27.2402,  34.8304,2,   -999.0,9,-999.0000,9,    206.0,2,     0.65,2,  -999.00,9,     0.00,2,     0.00,2,     0.00,2, -999.000,9, -999.000,9,  -999.00,9,   1938.4,2,   -999.0,9,   8.1220,2,     25.0, TS,  -999.00,9,   -999.0,  -999.00,9,  -999.00,9,     0.03,2,     0.02,2,   -999.0,-999.0000, -999,9,   24,  27.2346,  22.5150,     78.1,2
       KS04-04,  137E,KS-0993,  1,     21,02-16027,2,20040429,0932, 19.9918, 136.9993, 4757,     49.9,  26.2719,  34.8408,2,   -999.0,9,-999.0000,9,    208.0,2,     0.73,2,  -999.00,9,     0.00,2,     0.00,2,     0.00,2, -999.000,9, -999.000,9,  -999.00,9,   1942.8,2,   -999.0,9,   8.1164,2,     25.0, TS,  -999.00,9,   -999.0,  -999.00,9,  -999.00,9,     0.04,2,     0.04,2,   -999.0,-999.0000, -999,9,   50,  26.2607,  22.8318,     72.8,2
       KS04-04,  137E,KS-0993,  1,     20,02-16026,2,20040429,0931, 19.9918, 136.9993, 4757,     74.4,  26.0907,  34.8453,2,   -999.0,9,-999.0000,9,    207.0,2,     0.72,2,  -999.00,9,     0.00,2,     0.00,2,     0.00,2, -999.000,9, -999.000,9,  -999.00,9,   1943.2,2,   -999.0,9,   8.1133,2,     25.0, TS,  -999.00,9,   -999.0,  -999.00,9,  -999.00,9,     0.07,2,     0.07,2,   -999.0,-999.0000, -999,9,   74,  26.0741,  22.8935,     73.9,2
       KS04-04,  137E,KS-0993,  1,     19,02-16025,2,20040429,0930, 19.9918, 136.9993, 4757,    100.4,  25.5273,  34.8523,2,   -999.0,9,  34.8580,4,    204.0,2,     0.81,2,  -999.00,9,     0.00,2,     0.02,2,     0.00,2, -999.000,9, -999.000,9,  -999.00,9,   1953.6,2,   -999.0,9,   8.1022,2,     25.0, TS,  -999.00,9,   -999.0,  -999.00,9,  -999.00,9,     0.13,2,     0.27,2,   -999.0,-999.0000, -999,9,  100,  25.5052,  23.0751,     69.3,2
       KS04-04,  137E,KS-0993,  1,     18,02-16024,2,20040429,0929, 19.9918, 136.9993, 4757,    124.3,  25.0916,  34.8916,2,   -999.0,9,-999.0000,9,    200.0,2,     0.80,2,  -999.00,9,     0.29,2,     0.11,2,     0.01,2, -999.000,9, -999.000,9,  -999.00,9,   1961.1,2,   -999.0,9,   8.0944,2,     25.0, TS,  -999.00,9,   -999.0,  -999.00,9,  -999.00,9,     0.09,2,     0.27,2,   -999.0,-999.0000, -999,9,  123,  25.0646,  23.2397,     64.4,2
       KS04-04,  137E,KS-0993,  1,     17,02-16023,4,20040429,0928, 19.9918, 136.9993, 4757,    151.6,  23.9559,  34.9274,2,   -999.0,9,-999.0000,9,   -999.0,9,  -999.00,9,  -999.00,9,  -999.00,9,  -999.00,9,  -999.00,9, -999.000,9, -999.000,9,  -999.00,9,   -999.0,9,   -999.0,9,-999.0000,9,   -999.0,  9,  -999.00,9,   -999.0,  -999.00,9,  -999.00,9,  -999.00,9,  -999.00,9,   -999.0,-999.0000, -999,9,  151,  23.9240,  23.6089,   -999.0,4
       KS04-04,  137E,KS-0993,  1,     16,02-16022,9,20040429,0927, 19.9918, 136.9993, 4757,    200.7,  21.8131,  35.0147,2,   -999.0,9,-999.0000,9,   -999.0,9,  -999.00,9,  -999.00,9,  -999.00,9,  -999.00,9,  -999.00,9, -999.000,9, -999.000,9,  -999.00,9,   -999.0,9,   -999.0,9,-999.0000,9,   -999.0,  9,  -999.00,9,   -999.0,  -999.00,9,  -999.00,9,  -999.00,9,  -999.00,9,   -999.0,-999.0000, -999,9,  199,  21.7736,  24.2922,   -999.0,9
       KS04-04,  137E,KS-0993,  1,     15,02-16021,2,20040429,0927, 19.9918, 136.9993, 4757,    201.0,  21.8098,  35.0131,2,   -999.0,9,  35.0102,2,    193.0,2,     1.53,2,  -999.00,9,     1.46,2,     0.02,2,     0.10,2, -999.000,9, -999.000,9,  -999.00,9,   2008.5,2,   -999.0,9,   8.0261,2,     25.0, TS,  -999.00,9,   -999.0,  -999.00,9,  -999.00,9,     0.01,2,     0.04,2,   -999.0,-999.0000, -999,9,  200,  21.7703,  24.2919,     63.9,2
       KS04-04,  137E,KS-0993,  1,     14,02-16020,2,20040429,0925, 19.9918, 136.9993, 4757,    253.2,  19.5265,  34.8853,2,   -999.0,9,-999.0000,9,    196.0,2,     2.26,2,  -999.00,9,     2.83,2,     0.01,2,     0.19,2, -999.000,9, -999.000,9,  -999.00,9,   2018.9,2,   -999.0,9,   7.9987,2,     25.0, TS,  -999.00,9,   -999.0,  -999.00,9,  -999.00,9,     0.00,2,     0.00,2,   -999.0,-999.0000, -999,9,  251,  19.4804,  24.8100,     56.2,2
       KS04-04,  137E,KS-0993,  1,     13,02-16019,2,20040429,0924, 19.9918, 136.9993, 4757,    301.5,  17.6867,  34.7637,2,   -999.0,9,  34.7655,4,    202.0,2,     3.54,2,  -999.00,9,     4.58,2,     0.00,2,     0.28,2, -999.000,9, -999.000,9,  -999.00,9,   2025.3,2,   -999.0,9,   7.9736,2,     25.0, TS,  -999.00,9,   -999.0,  -999.00,9,  -999.00,9,     0.00,2,     0.00,2,   -999.0,-999.0000, -999,9,  299,  17.6355,  25.1802,     49.8,2
       KS04-04,  137E,KS-0993,  1,     12,02-16018,2,20040429,0921, 19.9918, 136.9993, 4757,    400.8,  14.6602,  34.5609,2,   -999.0,9,  34.5641,4,    186.0,2,    10.42,2,  -999.00,9,    10.63,2,     0.00,2,     0.71,2, -999.000,9, -999.000,9,  -999.00,9,   2068.7,2,   -999.0,9,   7.8760,2,     25.0, TS,  -999.00,9,   -999.0,  -999.00,9,  -999.00,9,  -999.00,9,  -999.00,9,   -999.0,-999.0000, -999,9,  398,  14.6003,  25.7202,     47.1,2
       KS04-04,  137E,KS-0993,  1,     11,02-16017,2,20040429,0919, 19.9918, 136.9993, 4757,    502.9,  11.0044,  34.2995,2,   -999.0,9,  34.3019,4,    171.0,2,    22.95,2,  -999.00,9,    18.12,2,     0.00,2,     1.26,2, -999.000,9, -999.000,9,  -999.00,9,   2122.6,2,   -999.0,9,   7.7526,2,     25.0, TS,  -999.00,9,   -999.0,  -999.00,9,  -999.00,9,  -999.00,9,  -999.00,9,   -999.0,-999.0000, -999,9,  499,  10.9420,  26.2404,     47.3,2
       KS04-04,  137E,KS-0993,  1,     10,02-16016,4,20040429,0917, 19.9918, 136.9993, 4757,    604.4,   8.1827,  34.1682,2,   -999.0,9,  34.2240,2,    158.0,4,    31.39,4,  -999.00,9,    21.82,4,     0.00,4,     1.54,4, -999.000,9, -999.000,9,  -999.00,9,   2149.8,4,   -999.0,9,   7.7054,3,     25.0, TS,  -999.00,9,   -999.0,  -999.00,9,  -999.00,9,  -999.00,9,  -999.00,9,   -999.0,-999.0000, -999,9,  600,   8.1199,  26.6027,     41.4,2
       KS04-04,  137E,KS-0993,  1,      9,02-16015,9,20040429,0915, 19.9918, 136.9993, 4757,    705.1,   6.5028,  34.1826,2,   -999.0,9,-999.0000,9,   -999.0,9,  -999.00,9,  -999.00,9,  -999.00,9,  -999.00,9,  -999.00,9, -999.000,9, -999.000,9,  -999.00,9,   -999.0,9,   -999.0,9,-999.0000,9,   -999.0,  9,  -999.00,9,   -999.0,  -999.00,9,  -999.00,9,  -999.00,9,  -999.00,9,   -999.0,-999.0000, -999,9,  700,   6.4379,  26.8504,   -999.0,9
       KS04-04,  137E,KS-0993,  1,      8,02-16014,2,20040429,0915, 19.9918, 136.9993, 4757,    703.7,   6.5067,  34.1810,2,   -999.0,9,  34.1836,4,     92.0,2,    64.01,2,  -999.00,9,    33.50,2,     0.00,2,     2.42,2, -999.000,9, -999.000,9,  -999.00,9,   2246.5,2,   -999.0,9,   7.5065,2,     25.0, TS,  -999.00,9,   -999.0,  -999.00,9,  -999.00,9,  -999.00,9,  -999.00,9,   -999.0,-999.0000, -999,9,  698,   6.4419,  26.8486,     42.4,2
       KS04-04,  137E,KS-0993,  1,      7,02-16013,2,20040429,0912, 19.9918, 136.9993, 4757,    805.5,   5.1131,  34.2659,2,   -999.0,9,  34.2654,2,     63.0,2,    88.01,2,  -999.00,9,    38.36,2,     0.00,2,     2.79,2, -999.000,9, -999.000,9,  -999.00,9,   2295.2,2,   -999.0,9,   7.4409,2,     25.0, TS,  -999.00,9,   -999.0,  -999.00,9,  -999.00,9,  -999.00,9,  -999.00,9,   -999.0,-999.0000, -999,9,  799,   5.0467,  27.0879,     39.9,2
       KS04-04,  137E,KS-0993,  1,      6,02-16012,2,20040429,0910, 19.9918, 136.9993, 4757,    906.8,   4.5087,  34.3657,2,   -999.0,9,  34.3629,2,     57.0,2,    98.88,2,  -999.00,9,    39.82,2,     0.00,2,     2.89,2, -999.000,9, -999.000,9,  -999.00,9,   2316.6,2,   -999.0,9,   7.4325,2,     25.0, TS,  -999.00,9,   -999.0,  -999.00,9,  -999.00,9,  -999.00,9,  -999.00,9,   -999.0,-999.0000, -999,9,  899,   4.4374,  27.2353,     37.5,2
       KS04-04,  137E,KS-0993,  1,      5,02-16011,2,20040429,0908, 19.9918, 136.9993, 4757,   1008.0,   4.0364,  34.4329,2,   -999.0,9,  34.4320,2,     65.0,2,   109.41,2,  -999.00,9,    40.01,2,     0.00,2,     2.87,2, -999.000,9, -999.000,9,  -999.00,9,   2323.7,2,   -999.0,9,   7.4501,2,     25.0, TS,  -999.00,9,   -999.0,  -999.00,9,  -999.00,9,  -999.00,9,  -999.00,9,   -999.0,-999.0000, -999,9,  999,   3.9599,  27.3392,     38.4,2
       KS04-04,  137E,KS-0993,  1,      4,02-16010,2,20040429,0904, 19.9918, 136.9993, 4757,   1261.5,   3.1790,  34.5135,2,   -999.0,9,  34.5109,2,     79.0,2,   125.55,2,  -999.00,9,    39.81,2,     0.00,2,     2.84,2, -999.000,9, -999.000,9,  -999.00,9,   2337.9,2,   -999.0,9,   7.4786,6,     25.0, TS,  -999.00,9,   -999.0,  -999.00,9,  -999.00,9,  -999.00,9,  -999.00,9,   -999.0,-999.0000, -999,9, 1250,   3.0890,  27.4885,   -999.0,9
       KS04-04,  137E,KS-0993,  1,      3,02-16009,2,20040429,0858, 19.9918, 136.9993, 4757,   1514.2,   2.6572,  34.5648,2,   -999.0,9,  34.5639,2,     96.0,2,   134.52,2,  -999.00,9,    39.12,2,     0.00,2,     2.76,2, -999.000,9, -999.000,9,  -999.00,9,   2338.1,6,   -999.0,9,   7.5074,2,     25.0, TS,  -999.00,9,   -999.0,  -999.00,9,  -999.00,9,  -999.00,9,  -999.00,9,   -999.0,-999.0000, -999,9, 1499,   2.5522,  27.5775,   -999.0,9
       KS04-04,  137E,KS-0993,  1,      2,02-16008,2,20040429,0854, 19.9918, 136.9993, 4757,   1767.1,   2.3323,  34.6010,2,   -999.0,9,  34.6001,2,    109.0,2,   136.99,2,  -999.00,9,    38.44,2,     0.00,2,     2.72,2, -999.000,9, -999.000,9,  -999.00,9,   2337.1,2,   -999.0,9,   7.5290,2,     25.0, TS,  -999.00,9,   -999.0,  -999.00,9,  -999.00,9,  -999.00,9,  -999.00,9,   -999.0,-999.0000, -999,9, 1749,   2.2106,  27.6351,   -999.0,9
       KS04-04,  137E,KS-0993,  1,      1,02-16007,4,20040429,0849, 19.9918, 136.9993, 4757,   2020.4,   2.0854,  34.6231,2,   -999.0,9,-999.0000,9,   -999.0,9,  -999.00,9,  -999.00,9,  -999.00,9,  -999.00,9,  -999.00,9, -999.000,9, -999.000,9,  -999.00,9,   -999.0,9,   -999.0,9,-999.0000,9,   -999.0,  9,  -999.00,9,   -999.0,  -999.00,9,  -999.00,9,  -999.00,9,  -999.00,9,   -999.0,-999.0000, -999,9, 1998,   1.9460,  27.6739,   -999.0,9