BOTTLE,20130510GEMDJMAYT
# 05/09/2013: Correct the error of converted time from JST to GMT.
#BOTTLE,20121206MIRCJHATS
# 12/06/2012: Change BTLNBR_FLAG_W: 8 to 5 at line 12.
# 01/25/2006: Format changed
# 06/29/2006: TCARBN QF updated
# 11/09/2006: OXYGEN QF revised
# 08/14/2008: pH(TOTAL HYDROGEN SCALE) data reviced
# 02/19/2009 : pH scale specified in header.
# 02/19/2009 : NO2+NO3 label corrected in header.
# 04/05/2010 : pH scale specified in header, corrected for QF of CTDSAL (5 -> 2), converted time from JST to GMT
EXPOCODE,SECT_ID,STNNBR,CASTNO,SAMPNO,BTLNBR,BTLNBR_FLAG_W,DATE,TIME,LATITUDE,LONGITUDE,DEPTH,CTDPRS,CTDTMP,CTDSAL,CTDSAL_FLAG_W,CTDOXY,CTDOXY_FLAG_W,SALNTY,SALNTY_FLAG_W,OXYGEN,OXYGEN_FLAG_W,SILCAT,SILCAT_FLAG_W,NITRAT,NITRAT_FLAG_W,NO2+NO3,NO2+NO3_FLAG_W,NITRIT,NITRIT_FLAG_W,PHSPHT,PHSPHT_FLAG_W,CFC-11,CFC-11_FLAG_W,CFC-12,CFC-12_FLAG_W,DELC13,DELC13_FLAG_W,TCARBN,TCARBN_FLAG_W,ALKALI,ALKALI_FLAG_W,PH,PH_FLAG_W,PH_TMP,PH_SCALE,PH_NBS,PH_NBS_FLAG_W,C13ERR,TOTALP,TOTALP_FLAG_W,AMMONI,AMMONI_FLAG_W,CHLORA,CHLORA_FLAG_W,PPHYTN,PPHYTN_FLAG_W,REVPRS,REVTMP,DEPTH_,DEPTH_FLAG,CTDDEP,THETA,SIGTHT,DOC,DOC_FLAG_W
,,,,,,,GMT,GMT,,,METER,DBAR,ITS-90,PSS-78,,UMOL/KG,,PSS-78,,UMOL/KG,,UMOL/KG,,UMOL/KG,,UMOL/KG,,UMOL/KG,,UMOL/KG,,PMOL/KG,,PMOL/KG,,/MILLE,,UMOL/KG,,UMOL/KG,,25_DEG_C,,DEG_C,,,,/MILLE,UMOL/KG,,UMOL/KG,,UG/L,,UG/L,,DBAR,ITS-90,METERS,,METERS,DEG_C,,UMOL/L,
       KS04-04,  137E,KS-0972,  1,     -9,      -9,5,20040421,2305, 33.9945, 136.9965, 1143,      0.0,  18.5591,  34.6539,2,   -999.0,9,-999.0000,9,    253.0,2,     0.25,2,  -999.00,9,     0.00,2,     0.01,2,     0.05,2, -999.000,9, -999.000,9,  -999.00,9,   1965.9,2,   -999.0,9,   8.0823,6,     25.0, TS,     8.20,2,   -999.0,  -999.00,9,  -999.00,9,     0.28,2,     0.13,2,   -999.0,-999.0000, -999,9,    5,  18.5590,  24.8681,   -999.0,9
       KS04-04,  137E,KS-0972,  1,     24,02-16030,4,20040421,2233, 33.9945, 136.9965, 1143,      4.8,  18.5652,  34.6583,2,   -999.0,9,-999.0000,9,   -999.0,9,  -999.00,9,  -999.00,9,  -999.00,9,  -999.00,9,  -999.00,9, -999.000,9, -999.000,9,  -999.00,9,   -999.0,9,   -999.0,9,-999.0000,9,   -999.0,  9,  -999.00,9,   -999.0,  -999.00,9,  -999.00,9,  -999.00,9,  -999.00,9,   -999.0,-999.0000, -999,9,    5,  18.5644,  24.8702,   -999.0,9
       KS04-04,  137E,KS-0972,  1,     23,02-16029,2,20040421,2232, 33.9945, 136.9965, 1143,      9.8,  18.5214,  34.6526,2,   -999.0,9,-999.0000,9,    254.0,2,     0.19,2,  -999.00,9,     0.00,2,     0.01,2,     0.02,2, -999.000,9, -999.000,9,  -999.00,9,   -999.0,9,   -999.0,9,-999.0000,9,   -999.0,  9,     8.20,2,   -999.0,  -999.00,9,  -999.00,9,     0.62,2,     0.25,2,   -999.0,-999.0000, -999,9,   10,  18.5197,  24.8769,   -999.0,9
       KS04-04,  137E,KS-0972,  1,     22,02-10977,4,20040421,2231, 33.9945, 136.9965, 1143,     24.6,  16.8689,  34.6349,2,   -999.0,9,-999.0000,9,   -999.0,9,  -999.00,9,  -999.00,9,  -999.00,9,  -999.00,9,  -999.00,9, -999.000,9, -999.000,9,  -999.00,9,   -999.0,9,   -999.0,9,-999.0000,9,   -999.0,  9,  -999.00,9,   -999.0,  -999.00,9,  -999.00,9,  -999.00,9,  -999.00,9,   -999.0,-999.0000, -999,9,   25,  16.8649,  25.2660,   -999.0,9
       KS04-04,  137E,KS-0972,  1,     21,02-16027,2,20040421,2227, 33.9945, 136.9965, 1143,     50.2,  14.7927,  34.5952,2,   -999.0,9,-999.0000,9,    196.0,2,    15.19,2,  -999.00,9,    10.33,2,     0.14,2,     0.71,2, -999.000,9, -999.000,9,  -999.00,9,   -999.0,9,   -999.0,9,-999.0000,9,   -999.0,  9,     8.02,2,   -999.0,  -999.00,9,  -999.00,9,     0.10,2,     0.15,2,   -999.0,-999.0000, -999,9,   50,  14.7852,  25.7067,   -999.0,9
       KS04-04,  137E,KS-0972,  1,     20,02-16026,2,20040421,2226, 33.9945, 136.9965, 1143,     75.3,  14.4594,  34.5778,2,   -999.0,9,-999.0000,9,    191.0,2,    16.53,2,  -999.00,9,    11.31,2,     0.10,2,     0.78,2, -999.000,9, -999.000,9,  -999.00,9,   -999.0,9,   -999.0,9,-999.0000,9,   -999.0,  9,     8.00,2,   -999.0,  -999.00,9,  -999.00,9,     0.05,2,     0.10,2,   -999.0,-999.0000, -999,9,   75,  14.4484,  25.7659,   -999.0,9
       KS04-04,  137E,KS-0972,  1,     19,02-16025,3,20040421,2225, 33.9945, 136.9965, 1143,    100.2,  13.9945,  34.5571,2,   -999.0,9,  34.5580,2,    189.0,2,    18.86,2,  -999.00,9,    12.38,2,     0.06,2,     0.88,2, -999.000,9, -999.000,9,  -999.00,9,   -999.0,9,   -999.0,9,-999.0000,9,   -999.0,  9,     7.99,2,   -999.0,  -999.00,9,  -999.00,9,     0.04,2,     0.10,2,   -999.0,-999.0000, -999,9,  100,  13.9801,  25.8490,   -999.0,9
       KS04-04,  137E,KS-0972,  1,     18,02-16024,2,20040421,2224, 33.9945, 136.9965, 1143,    125.3,  13.5733,  34.5396,2,   -999.0,9,-999.0000,9,    186.0,2,    20.77,2,  -999.00,9,    13.26,2,     0.04,2,     0.94,2, -999.000,9, -999.000,9,  -999.00,9,   -999.0,9,   -999.0,9,-999.0000,9,   -999.0,  9,     7.97,2,   -999.0,  -999.00,9,  -999.00,9,     0.04,2,     0.08,2,   -999.0,-999.0000, -999,9,  124,  13.5557,  25.9235,   -999.0,9
       KS04-04,  137E,KS-0972,  1,     17,02-16023,4,20040421,2223, 33.9945, 136.9965, 1143,    151.5,  12.7709,  34.4952,2,   -999.0,9,-999.0000,9,   -999.0,9,  -999.00,9,  -999.00,9,  -999.00,9,  -999.00,9,  -999.00,9, -999.000,9, -999.000,9,  -999.00,9,   -999.0,9,   -999.0,9,-999.0000,9,   -999.0,  9,  -999.00,9,   -999.0,  -999.00,9,  -999.00,9,  -999.00,9,  -999.00,9,   -999.0,-999.0000, -999,9,  150,  12.7505,  26.0514,   -999.0,9
       KS04-04,  137E,KS-0972,  1,     16,02-16022,2,20040421,2222, 33.9945, 136.9965, 1143,    201.6,  11.7681,  34.4385,2,   -999.0,9,  34.4540,4,    165.0,2,    28.90,2,  -999.00,9,    17.64,2,     0.02,2,     1.24,2, -999.000,9, -999.000,9,  -999.00,9,   -999.0,9,   -999.0,9,-999.0000,9,   -999.0,  9,     7.90,2,   -999.0,  -999.00,9,  -999.00,9,     0.02,2,     0.09,2,   -999.0,-999.0000, -999,9,  200,  11.7423,  26.2017,   -999.0,9
       KS04-04,  137E,KS-0972,  1,     15,02-16021,2,20040421,2219, 33.9945, 136.9965, 1143,    252.1,  10.3295,  34.3721,2,   -999.0,9,-999.0000,9,    145.0,2,    40.48,2,  -999.00,9,    22.12,2,     0.01,2,     1.59,2, -999.000,9, -999.000,9,  -999.00,9,   -999.0,9,   -999.0,9,-999.0000,9,   -999.0,  9,     7.83,2,   -999.0,  -999.00,9,  -999.00,9,     0.01,2,     0.06,2,   -999.0,-999.0000, -999,9,  250,  10.2998,  26.4102,   -999.0,9
       KS04-04,  137E,KS-0972,  1,     14,02-16020,2,20040421,2217, 33.9945, 136.9965, 1143,    302.6,   9.2396,  34.3273,2,   -999.0,9,  34.3292,2,    133.0,2,    48.84,2,  -999.00,9,    25.13,2,     0.01,2,     1.79,2, -999.000,9, -999.000,9,  -999.00,9,   -999.0,9,   -999.0,9,-999.0000,9,   -999.0,  9,     7.77,2,   -999.0,  -999.00,9,  -999.00,9,     0.01,2,     0.07,2,   -999.0,-999.0000, -999,9,  300,   9.2063,  26.5582,   -999.0,9
       KS04-04,  137E,KS-0972,  1,     13,02-16019,2,20040421,2215, 33.9945, 136.9965, 1143,    402.6,   7.5319,  34.2803,2,   -999.0,9,  34.2825,2,    112.0,2,  -999.00,9,  -999.00,9,  -999.00,9,  -999.00,9,  -999.00,9, -999.000,9, -999.000,9,  -999.00,9,   -999.0,9,   -999.0,9,-999.0000,9,   -999.0,  9,     7.70,2,   -999.0,  -999.00,9,  -999.00,9,  -999.00,9,  -999.00,9,   -999.0,-999.0000, -999,9,  399,   7.4925,  26.7826,   -999.0,9
       KS04-04,  137E,KS-0972,  1,     12,02-16018,2,20040421,2213, 33.9945, 136.9965, 1143,    504.9,   6.3972,  34.2745,2,   -999.0,9,  34.2779,2,    101.0,2,    75.18,2,  -999.00,9,    32.52,2,     0.01,2,     2.35,2, -999.000,9, -999.000,9,  -999.00,9,   -999.0,9,   -999.0,9,-999.0000,9,   -999.0,  9,     7.65,2,   -999.0,  -999.00,9,  -999.00,9,  -999.00,9,  -999.00,9,   -999.0,-999.0000, -999,9,  500,   6.3517,  26.9342,   -999.0,9
       KS04-04,  137E,KS-0972,  1,     11,02-16017,2,20040421,2210, 33.9945, 136.9965, 1143,    603.6,   5.5997,  34.2882,2,   -999.0,9,  34.2899,2,     89.0,2,    86.70,2,  -999.00,9,    35.05,2,     0.01,2,     2.54,2, -999.000,9, -999.000,9,  -999.00,9,   -999.0,9,   -999.0,9,-999.0000,9,   -999.0,  9,     7.61,2,   -999.0,  -999.00,9,  -999.00,9,  -999.00,9,  -999.00,9,   -999.0,-999.0000, -999,9,  598,   5.5486,  27.0461,   -999.0,9
       KS04-04,  137E,KS-0972,  1,     10,02-16016,2,20040421,2208, 33.9945, 136.9965, 1143,    705.3,   4.8488,  34.3178,2,   -999.0,9,  34.3091,4,     79.0,2,    96.63,2,  -999.00,9,    36.90,2,     0.01,2,     2.65,2, -999.000,9, -999.000,9,  -999.00,9,   -999.0,9,   -999.0,9,-999.0000,9,   -999.0,  9,     7.58,2,   -999.0,  -999.00,9,  -999.00,9,  -999.00,9,  -999.00,9,   -999.0,-999.0000, -999,9,  698,   4.7926,  27.1580,   -999.0,9
       KS04-04,  137E,KS-0972,  1,      9,02-16015,4,20040421,2205, 33.9945, 136.9965, 1143,    807.1,   4.3207,  34.3498,2,   -999.0,9,-999.0000,9,   -999.0,9,  -999.00,9,  -999.00,9,  -999.00,9,  -999.00,9,  -999.00,9, -999.000,9, -999.000,9,  -999.00,9,   -999.0,9,   -999.0,9,-999.0000,9,   -999.0,  9,  -999.00,9,   -999.0,  -999.00,9,  -999.00,9,  -999.00,9,  -999.00,9,   -999.0,-999.0000, -999,9,  799,   4.2590,  27.2418,   -999.0,9
       KS04-04,  137E,KS-0972,  1,      8,02-16014,2,20040421,2203, 33.9945, 136.9965, 1143,    908.4,   3.9376,  34.3811,2,   -999.0,9,  34.3813,2,     69.0,2,   115.26,2,  -999.00,9,    39.23,2,     0.01,2,     2.82,2, -999.000,9, -999.000,9,  -999.00,9,   -999.0,9,   -999.0,9,-999.0000,9,   -999.0,  9,     7.56,2,   -999.0,  -999.00,9,  -999.00,9,  -999.00,9,  -999.00,9,   -999.0,-999.0000, -999,9,  899,   3.8701,  27.3071,   -999.0,9
       KS04-04,  137E,KS-0972,  1,      7,02-16013,9,20040421,2201, 33.9945, 136.9965, 1143,   1009.3,   3.6454,  34.4072,2,   -999.0,9,-999.0000,9,   -999.0,9,  -999.00,9,  -999.00,9,  -999.00,9,  -999.00,9,  -999.00,9, -999.000,9, -999.000,9,  -999.00,9,   -999.0,9,   -999.0,9,-999.0000,9,   -999.0,  9,  -999.00,9,   -999.0,  -999.00,9,  -999.00,9,  -999.00,9,  -999.00,9,   -999.0,-999.0000, -999,9,  998,   3.5719,  27.3577,   -999.0,9
       KS04-04,  137E,KS-0972,  1,      6,02-16012,3,20040421,2201, 33.9945, 136.9965, 1143,   1009.5,   3.6455,  34.4070,2,   -999.0,9,  34.3945,2,     69.0,2,   118.05,4,  -999.00,9,    39.62,2,     0.01,2,     2.85,2, -999.000,9, -999.000,9,  -999.00,9,   -999.0,9,   -999.0,9,-999.0000,9,   -999.0,  9,     7.55,2,   -999.0,  -999.00,9,  -999.00,9,  -999.00,9,  -999.00,9,   -999.0,-999.0000, -999,9,  999,   3.5720,  27.3576,   -999.0,9
       KS04-04,  137E,KS-0972,  1,      5,02-16011,9,20040421,2159, 33.9945, 136.9965, 1143,   1080.6,   3.4874,  34.4260,2,   -999.0,9,-999.0000,9,   -999.0,9,  -999.00,9,  -999.00,9,  -999.00,9,  -999.00,9,  -999.00,9, -999.000,9, -999.000,9,  -999.00,9,   -999.0,9,   -999.0,9,-999.0000,9,   -999.0,  9,  -999.00,9,   -999.0,  -999.00,9,  -999.00,9,  -999.00,9,  -999.00,9,   -999.0,-999.0000, -999,9, 1069,   3.4094,  27.3885,   -999.0,9
       KS04-04,  137E,KS-0972,  1,      4,02-16010,9,20040421,2159, 33.9945, 136.9965, 1143,   1081.0,   3.4877,  34.4261,2,   -999.0,9,-999.0000,9,   -999.0,9,  -999.00,9,  -999.00,9,  -999.00,9,  -999.00,9,  -999.00,9, -999.000,9, -999.000,9,  -999.00,9,   -999.0,9,   -999.0,9,-999.0000,9,   -999.0,  9,  -999.00,9,   -999.0,  -999.00,9,  -999.00,9,  -999.00,9,  -999.00,9,   -999.0,-999.0000, -999,9, 1069,   3.4097,  27.3886,   -999.0,9
       KS04-04,  137E,KS-0972,  1,      3,02-16009,9,20040421,2158, 33.9945, 136.9965, 1143,   1080.9,   3.4866,  34.4261,2,   -999.0,9,-999.0000,9,   -999.0,9,  -999.00,9,  -999.00,9,  -999.00,9,  -999.00,9,  -999.00,9, -999.000,9, -999.000,9,  -999.00,9,   -999.0,9,   -999.0,9,-999.0000,9,   -999.0,  9,  -999.00,9,   -999.0,  -999.00,9,  -999.00,9,  -999.00,9,  -999.00,9,   -999.0,-999.0000, -999,9, 1069,   3.4086,  27.3886,   -999.0,9
       KS04-04,  137E,KS-0972,  1,      2,02-11000,9,20040421,2158, 33.9945, 136.9965, 1143,   1080.8,   3.4856,  34.4261,2,   -999.0,9,-999.0000,9,   -999.0,9,  -999.00,9,  -999.00,9,  -999.00,9,  -999.00,9,  -999.00,9, -999.000,9, -999.000,9,  -999.00,9,   -999.0,9,   -999.0,9,-999.0000,9,   -999.0,  9,  -999.00,9,   -999.0,  -999.00,9,  -999.00,9,  -999.00,9,  -999.00,9,   -999.0,-999.0000, -999,9, 1069,   3.4076,  27.3888,   -999.0,9
       KS04-04,  137E,KS-0972,  1,      1,02-16007,2,20040421,2158, 33.9945, 136.9965, 1143,   1080.7,   3.4764,  34.4275,2,   -999.0,9,  34.4263,2,     71.0,2,   123.30,4,  -999.00,9,    39.91,2,     0.01,2,     2.86,2, -999.000,9, -999.000,9,  -999.00,9,   -999.0,9,   -999.0,9,-999.0000,9,   -999.0,  9,     7.55,2,   -999.0,  -999.00,9,  -999.00,9,  -999.00,9,  -999.00,9,   -999.0,-999.0000, -999,9, 1069,   3.3985,  27.3908,   -999.0,9