BOTTLE,20130510GEMDJMAYT
EXPOCODE,SECT_ID,STNNBR,CASTNO,SAMPNO,BTLNBR,BTLNBR_FLAG_W,DATE,TIME,LATITUDE,LONGITUDE,DEPTH,CTDPRS,CTDTMP,CTDSAL,CTDSAL_FLAG_W,CTDOXY,CTDOXY_FLAG_W,SALNTY,SALNTY_FLAG_W,OXYGEN,OXYGEN_FLAG_W,SILCAT,SILCAT_FLAG_W,NITRAT,NITRAT_FLAG_W,NO2+NO3,NO2+NO3_FLAG_W,NITRIT,NITRIT_FLAG_W,PHSPHT,PHSPHT_FLAG_W,CFC-11,CFC-11_FLAG_W,CFC-12,CFC-12_FLAG_W,DELC13,DELC13_FLAG_W,TCARBN,TCARBN_FLAG_W,ALKALI,ALKALI_FLAG_W,PH,PH_FLAG_W,PH_TMP,PH_SCALE,PH_NBS,PH_NBS_FLAG_W,C13ERR,TOTALP,TOTALP_FLAG_W,AMMONI,AMMONI_FLAG_W,CHLORA,CHLORA_FLAG_W,PPHYTN,PPHYTN_FLAG_W,REVPRS,REVTMP,DEPTH_,DEPTH_FLAG,CTDDEP,THETA,SIGTHT,DOC,DOC_FLAG_W
,,,,,,,GMT,GMT,,,METER,DBAR,ITS-90,PSS-78,,UMOL/KG,,PSS-78,,UMOL/KG,,UMOL/KG,,UMOL/KG,,UMOL/KG,,UMOL/KG,,UMOL/KG,,PMOL/KG,,PMOL/KG,,/MILLE,,UMOL/KG,,UMOL/KG,,25_DEG_C,,DEG_C,,,,/MILLE,UMOL/KG,,UMOL/KG,,UG/L,,UG/L,,DBAR,ITS-90,METERS,,METERS,DEG_C,,UMOL/L,
       KS04-04,  137E,KS-1003,  1,     24,02-16030,2,20040502,0647,  9.9963, 136.9843, 4894,      4.6,  28.9999,  34.0714,2,   -999.0,9,  34.0746,4,    200.0,2,     1.47,2,  -999.00,9,     0.00,2,     0.00,2,     0.04,2, -999.000,9, -999.000,9,  -999.00,9,   1914.3,2,   -999.0,9,   8.1071,2,     25.0, TS,  -999.00,9,   -999.0,  -999.00,9,  -999.00,9,     0.04,2,     0.02,2,   -999.0,-999.0000, -999,9,    5,  28.9988,  21.3674,     66.5,2
       KS04-04,  137E,KS-1003,  1,     23,02-16029,2,20040502,0646,  9.9963, 136.9843, 4894,     10.3,  28.9914,  34.0707,2,   -999.0,9,-999.0000,9,    199.0,2,     1.58,2,  -999.00,9,     0.00,2,     0.00,2,     0.03,2, -999.000,9, -999.000,9,  -999.00,9,   1913.3,2,   -999.0,9,   8.1075,2,     25.0, TS,  -999.00,9,   -999.0,  -999.00,9,  -999.00,9,     0.05,2,     0.04,2,   -999.0,-999.0000, -999,9,   10,  28.9889,  21.3702,     83.0,2
       KS04-04,  137E,KS-1003,  1,     22,02-10977,2,20040502,0645,  9.9963, 136.9843, 4894,     25.7,  28.8321,  34.0751,2,   -999.0,9,-999.0000,9,    200.0,2,     1.52,2,  -999.00,9,     0.00,2,     0.00,2,     0.02,2, -999.000,9, -999.000,9,  -999.00,9,   1911.4,2,   -999.0,9,   8.1084,2,     25.0, TS,  -999.00,9,   -999.0,  -999.00,9,  -999.00,9,     0.07,2,     0.04,2,   -999.0,-999.0000, -999,9,   26,  28.8259,  21.4277,   -999.0,4
       KS04-04,  137E,KS-1003,  1,     21,02-16027,2,20040502,0642,  9.9963, 136.9843, 4894,     50.4,  25.6002,  34.3288,2,   -999.0,9,-999.0000,9,    215.0,2,     0.88,2,  -999.00,9,     0.00,2,     0.00,2,     0.08,2, -999.000,9, -999.000,9,  -999.00,9,   1951.7,2,   -999.0,9,   8.0663,2,     25.0, TS,  -999.00,9,   -999.0,  -999.00,9,  -999.00,9,     0.18,2,     0.23,2,   -999.0,-999.0000, -999,9,   50,  25.5891,  22.6541,   -999.0,4
       KS04-04,  137E,KS-1003,  1,     20,02-16026,2,20040502,0641,  9.9963, 136.9843, 4894,     72.3,  24.2686,  34.4009,2,   -999.0,9,-999.0000,9,    209.0,2,     0.94,2,  -999.00,9,     0.20,2,     0.01,2,     0.19,2, -999.000,9, -999.000,9,  -999.00,9,   1972.1,2,   -999.0,9,   8.0418,2,     25.0, TS,  -999.00,9,   -999.0,  -999.00,9,  -999.00,9,     0.20,2,     0.38,2,   -999.0,-999.0000, -999,9,   72,  24.2533,  23.1128,     69.8,2
       KS04-04,  137E,KS-1003,  1,     19,02-16025,2,20040502,0640,  9.9963, 136.9843, 4894,    101.2,  19.8955,  34.6735,2,   -999.0,9,  34.6763,4,    158.0,2,     7.90,2,  -999.00,9,     8.30,2,     0.44,2,     0.67,2, -999.000,9, -999.000,9,  -999.00,9,   2062.9,2,   -999.0,9,   7.9046,2,     25.0, TS,  -999.00,9,   -999.0,  -999.00,9,  -999.00,9,     0.22,2,     0.40,2,   -999.0,-999.0000, -999,9,  101,  19.8769,  24.5450,     49.7,2
       KS04-04,  137E,KS-1003,  1,     18,02-16024,2,20040502,0639,  9.9963, 136.9843, 4894,    123.4,  15.9068,  34.6178,2,   -999.0,9,-999.0000,9,    132.0,2,    14.50,2,  -999.00,9,    15.31,2,     0.05,2,     1.12,2, -999.000,9, -999.000,9,  -999.00,9,   2115.2,2,   -999.0,9,   7.7935,2,     25.0, TS,  -999.00,9,   -999.0,  -999.00,9,  -999.00,9,     0.06,2,     0.23,2,   -999.0,-999.0000, -999,9,  123,  15.8875,  25.4792,     43.4,2
       KS04-04,  137E,KS-1003,  1,     17,02-16023,2,20040502,0638,  9.9963, 136.9843, 4894,    151.1,  12.5149,  34.5136,2,   -999.0,9,-999.0000,9,    116.0,2,    22.59,2,  -999.00,9,    21.63,2,     0.01,2,     1.56,2, -999.000,9, -999.000,9,  -999.00,9,   2158.5,2,   -999.0,9,   7.6916,2,     25.0, TS,  -999.00,9,   -999.0,  -999.00,9,  -999.00,9,     0.01,2,     0.08,2,   -999.0,-999.0000, -999,9,  150,  12.4948,  26.1159,     28.6,2
       KS04-04,  137E,KS-1003,  1,     16,02-16022,9,20040502,0637,  9.9963, 136.9843, 4894,    200.1,  10.8421,  34.5261,2,   -999.0,9,-999.0000,9,   -999.0,9,  -999.00,9,  -999.00,9,  -999.00,9,  -999.00,9,  -999.00,9, -999.000,9, -999.000,9,  -999.00,9,   -999.0,9,   -999.0,9,-999.0000,9,   -999.0,  9,  -999.00,9,   -999.0,  -999.00,9,  -999.00,9,  -999.00,9,  -999.00,9,   -999.0,-999.0000, -999,9,  199,  10.8178,  26.4392,   -999.0,9
       KS04-04,  137E,KS-1003,  1,     15,02-16021,2,20040502,0637,  9.9963, 136.9843, 4894,    201.3,  10.8192,  34.5259,2,   -999.0,9,  34.5266,2,     90.0,2,    30.56,2,  -999.00,9,    27.08,2,     0.00,2,     1.94,2, -999.000,9, -999.000,9,  -999.00,9,   2196.0,2,   -999.0,9,   7.6136,2,     25.0, TS,  -999.00,9,   -999.0,  -999.00,9,  -999.00,9,     0.00,2,     0.03,2,   -999.0,-999.0000, -999,9,  200,  10.7948,  26.4431,     38.8,2
       KS04-04,  137E,KS-1003,  1,     14,02-16020,2,20040502,0634,  9.9963, 136.9843, 4894,    250.0,   9.7323,  34.5452,2,   -999.0,9,-999.0000,9,     76.0,2,    35.52,2,  -999.00,9,    30.49,2,     0.00,2,     2.17,2, -999.000,9, -999.000,9,  -999.00,9,   2219.4,2,   -999.0,9,   7.5652,2,     25.0, TS,  -999.00,9,   -999.0,  -999.00,9,  -999.00,9,     0.00,2,     0.03,2,   -999.0,-999.0000, -999,9,  248,   9.7039,  26.6468,     33.9,2
       KS04-04,  137E,KS-1003,  1,     13,02-16019,2,20040502,0633,  9.9963, 136.9843, 4894,    301.4,   9.1351,  34.5577,2,   -999.0,9,  34.5588,2,     73.0,2,    38.47,2,  -999.00,9,    32.24,2,     0.00,2,     2.29,2, -999.000,9, -999.000,9,  -999.00,9,   2230.8,2,   -999.0,9,   7.5466,2,     25.0, TS,  -999.00,9,   -999.0,  -999.00,9,  -999.00,9,     0.00,2,     0.02,2,   -999.0,-999.0000, -999,9,  300,   9.1020,  26.7554,     41.5,2
       KS04-04,  137E,KS-1003,  1,     12,02-16018,2,20040502,0631,  9.9963, 136.9843, 4894,    401.3,   8.1428,  34.5552,2,   -999.0,9,  34.5549,2,     80.0,2,    42.86,2,  -999.00,9,    33.40,2,     0.06,4,     2.37,2, -999.000,9, -999.000,9,  -999.00,9,   2239.5,2,   -999.0,9,   7.5375,2,     25.0, TS,  -999.00,9,   -999.0,  -999.00,9,  -999.00,9,  -999.00,9,  -999.00,9,   -999.0,-999.0000, -999,9,  399,   8.1015,  26.9093,     38.7,2
       KS04-04,  137E,KS-1003,  1,     11,02-16017,2,20040502,0629,  9.9963, 136.9843, 4894,    501.2,   7.5244,  34.5403,2,   -999.0,9,  34.5400,2,     84.0,2,    46.97,2,  -999.00,9,    34.08,2,     0.00,2,     2.42,2, -999.000,9, -999.000,9,  -999.00,9,   2242.1,2,   -999.0,9,   7.5383,2,     25.0, TS,  -999.00,9,   -999.0,  -999.00,9,  -999.00,9,  -999.00,9,  -999.00,9,   -999.0,-999.0000, -999,9,  498,   7.4748,  26.9897,     32.3,2
       KS04-04,  137E,KS-1003,  1,     10,02-16016,9,20040502,0627,  9.9963, 136.9843, 4894,    604.6,   6.9861,  34.5197,2,   -999.0,9,-999.0000,9,   -999.0,9,  -999.00,9,  -999.00,9,  -999.00,9,  -999.00,9,  -999.00,9, -999.000,9, -999.000,9,  -999.00,9,   -999.0,9,   -999.0,9,-999.0000,9,   -999.0,  9,  -999.00,9,   -999.0,  -999.00,9,  -999.00,9,  -999.00,9,  -999.00,9,   -999.0,-999.0000, -999,9,  600,   6.9283,  27.0503,   -999.0,9
       KS04-04,  137E,KS-1003,  1,      9,02-16015,2,20040502,0627,  9.9963, 136.9843, 4894,    604.8,   6.9893,  34.5194,2,   -999.0,9,  34.5192,2,     94.0,2,    51.52,2,  -999.00,9,    34.37,2,     0.02,4,     2.43,2, -999.000,9, -999.000,9,  -999.00,9,   2245.8,2,   -999.0,9,   7.5416,2,     25.0, TS,  -999.00,9,   -999.0,  -999.00,9,  -999.00,9,  -999.00,9,  -999.00,9,   -999.0,-999.0000, -999,9,  601,   6.9315,  27.0496,   -999.0,4
       KS04-04,  137E,KS-1003,  1,      8,02-16014,2,20040502,0625,  9.9963, 136.9843, 4894,    704.0,   6.4892,  34.5130,2,   -999.0,9,  34.5127,2,     95.0,2,    57.11,2,  -999.00,9,    35.05,2,     0.00,2,     2.49,2, -999.000,9, -999.000,9,  -999.00,9,   2253.2,2,   -999.0,9,   7.5352,2,     25.0, TS,  -999.00,9,   -999.0,  -999.00,9,  -999.00,9,  -999.00,9,  -999.00,9,   -999.0,-999.0000, -999,9,  699,   6.4241,  27.1129,     34.4,2
       KS04-04,  137E,KS-1003,  1,      7,02-16013,2,20040502,0622,  9.9963, 136.9843, 4894,    806.0,   5.7920,  34.5210,2,   -999.0,9,  34.5193,2,     94.0,2,    67.10,2,  -999.00,9,    36.51,2,     0.01,4,     2.63,2, -999.000,9, -999.000,9,  -999.00,9,   2267.9,2,   -999.0,9,   7.5270,2,     25.0, TS,  -999.00,9,   -999.0,  -999.00,9,  -999.00,9,  -999.00,9,  -999.00,9,   -999.0,-999.0000, -999,9,  800,   5.7211,  27.2091,     31.4,2
       KS04-04,  137E,KS-1003,  1,      6,02-16012,2,20040502,0620,  9.9963, 136.9843, 4894,    905.4,   5.2374,  34.5301,2,   -999.0,9,  34.5298,2,     83.0,2,    78.99,2,  -999.00,9,    38.06,2,     0.00,2,     2.73,2, -999.000,9, -999.000,9,  -999.00,9,   2289.5,2,   -999.0,9,   7.5026,2,     25.0, TS,  -999.00,9,   -999.0,  -999.00,9,  -999.00,9,  -999.00,9,  -999.00,9,   -999.0,-999.0000, -999,9,  898,   5.1609,  27.2839,   -999.0,4
       KS04-04,  137E,KS-1003,  1,      5,02-16011,2,20040502,0617,  9.9963, 136.9843, 4894,   1005.5,   4.7724,  34.5401,2,   -999.0,9,  34.5390,2,     85.0,2,    87.43,2,  -999.00,9,    38.35,2,     0.01,4,     2.74,2, -999.000,9, -999.000,9,  -999.00,9,   2297.2,2,   -999.0,9,   7.5027,2,     25.0, TS,  -999.00,9,   -999.0,  -999.00,9,  -999.00,9,  -999.00,9,  -999.00,9,   -999.0,-999.0000, -999,9,  997,   4.6903,  27.3458,   -999.0,4
       KS04-04,  137E,KS-1003,  1,      4,02-16010,3,20040502,0613,  9.9963, 136.9843, 4894,   1258.8,   3.7651,  34.5694,2,   -999.0,9,  34.5682,2,     96.0,4,   106.14,4,  -999.00,9,    38.54,4,     0.02,4,     2.74,4, -999.000,9, -999.000,9,  -999.00,9,   2315.2,2,   -999.0,9,   7.5140,6,     25.0, TS,  -999.00,9,   -999.0,  -999.00,9,  -999.00,9,  -999.00,9,  -999.00,9,   -999.0,-999.0000, -999,9, 1248,   3.6695,  27.4773,   -999.0,9
       KS04-04,  137E,KS-1003,  1,      3,02-16009,2,20040502,0607,  9.9963, 136.9843, 4894,   1511.5,   3.0249,  34.5930,2,   -999.0,9,  34.5918,2,    100.0,2,   121.49,2,  -999.00,9,    38.93,2,     0.00,2,     2.74,2, -999.000,9, -999.000,9,  -999.00,9,   2331.9,6,   -999.0,9,   7.5168,2,     25.0, TS,  -999.00,9,   -999.0,  -999.00,9,  -999.00,9,  -999.00,9,  -999.00,9,   -999.0,-999.0000, -999,9, 1497,   2.9158,  27.5678,   -999.0,9
       KS04-04,  137E,KS-1003,  1,      2,02-16008,2,20040502,0603,  9.9963, 136.9843, 4894,   1765.6,   2.5267,  34.6160,2,   -999.0,9,  34.6154,2,    110.0,2,   130.23,2,  -999.00,9,    38.54,2,     0.01,4,     2.71,2, -999.000,9, -999.000,9,  -999.00,9,   2333.6,2,   -999.0,9,   7.5277,2,     25.0, TS,  -999.00,9,   -999.0,  -999.00,9,  -999.00,9,  -999.00,9,  -999.00,9,   -999.0,-999.0000, -999,9, 1748,   2.4024,  27.6312,   -999.0,9
       KS04-04,  137E,KS-1003,  1,      1,02-16007,2,20040502,0558,  9.9963, 136.9843, 4894,   2018.5,   2.2181,  34.6341,2,   -999.0,9,  34.6323,2,    117.0,2,   134.91,2,  -999.00,9,    38.14,2,     0.00,2,     2.68,2, -999.000,9, -999.000,9,  -999.00,9,   2337.1,2,   -999.0,9,   7.5430,2,     25.0, TS,  -999.00,9,   -999.0,  -999.00,9,  -999.00,9,  -999.00,9,  -999.00,9,   -999.0,-999.0000, -999,9, 1997,   2.0768,  27.6725,   -999.0,9