BOTTLE,20130510GEMDJMAYT
EXPOCODE,SECT_ID,STNNBR,CASTNO,SAMPNO,BTLNBR,BTLNBR_FLAG_W,DATE,TIME,LATITUDE,LONGITUDE,DEPTH,CTDPRS,CTDTMP,CTDSAL,CTDSAL_FLAG_W,CTDOXY,CTDOXY_FLAG_W,SALNTY,SALNTY_FLAG_W,OXYGEN,OXYGEN_FLAG_W,SILCAT,SILCAT_FLAG_W,NITRAT,NITRAT_FLAG_W,NO2+NO3,NO2+NO3_FLAG_W,NITRIT,NITRIT_FLAG_W,PHSPHT,PHSPHT_FLAG_W,CFC-11,CFC-11_FLAG_W,CFC-12,CFC-12_FLAG_W,DELC13,DELC13_FLAG_W,TCARBN,TCARBN_FLAG_W,ALKALI,ALKALI_FLAG_W,PH,PH_FLAG_W,PH_TMP,PH_SCALE,PH_NBS,PH_NBS_FLAG_W,C13ERR,TOTALP,TOTALP_FLAG_W,AMMONI,AMMONI_FLAG_W,CHLORA,CHLORA_FLAG_W,PPHYTN,PPHYTN_FLAG_W,REVPRS,REVTMP,DEPTH_,DEPTH_FLAG,CTDDEP,THETA,SIGTHT,DOC,DOC_FLAG_W
,,,,,,,GMT,GMT,,,METER,DBAR,ITS-90,PSS-78,,UMOL/KG,,PSS-78,,UMOL/KG,,UMOL/KG,,UMOL/KG,,UMOL/KG,,UMOL/KG,,UMOL/KG,,PMOL/KG,,PMOL/KG,,/MILLE,,UMOL/KG,,UMOL/KG,,25_DEG_C,,DEG_C,,,,/MILLE,UMOL/KG,,UMOL/KG,,UG/L,,UG/L,,DBAR,ITS-90,METERS,,METERS,DEG_C,,UMOL/L,
       KS04-04,  137E,KS-0983,  1,     24,02-16030,2,20040426,0513, 30.0028, 137.0033, 4513,      4.9,  20.6128,  34.8932,2,   -999.0,9,  34.8945,2,    232.0,2,     1.04,2,  -999.00,9,     0.00,2,     0.00,2,     0.01,2, -999.000,9, -999.000,9,  -999.00,9,   1980.1,2,   -999.0,9,   8.0651,2,     25.0, TS,     8.18,2,   -999.0,  -999.00,9,  -999.00,9,     0.06,2,     0.03,2,   -999.0,-999.0000, -999,9,    5,  20.6119,  24.5175,     81.1,2
       KS04-04,  137E,KS-0983,  1,     23,02-16029,2,20040426,0512, 30.0028, 137.0033, 4513,     10.1,  20.5488,  34.8908,2,   -999.0,9,-999.0000,9,    232.0,2,     1.03,2,  -999.00,9,     0.00,2,     0.00,2,     0.01,2, -999.000,9, -999.000,9,  -999.00,9,   1978.6,2,   -999.0,9,   8.0606,2,     25.0, TS,     8.18,2,   -999.0,  -999.00,9,  -999.00,9,     0.07,2,     0.03,2,   -999.0,-999.0000, -999,9,   10,  20.5469,  24.5331,     83.9,2
       KS04-04,  137E,KS-0983,  1,     22,02-10977,2,20040426,0512, 30.0028, 137.0033, 4513,     25.2,  20.4034,  34.8844,2,   -999.0,9,-999.0000,9,    232.0,2,     1.03,2,  -999.00,9,     0.00,2,     0.00,2,     0.01,2, -999.000,9, -999.000,9,  -999.00,9,   1978.8,2,   -999.0,9,   8.0619,2,     25.0, TS,     8.17,2,   -999.0,  -999.00,9,  -999.00,9,     0.09,2,     0.04,2,   -999.0,-999.0000, -999,9,   25,  20.3987,  24.5678,     75.7,2
       KS04-04,  137E,KS-0983,  1,     21,02-16027,2,20040426,0509, 30.0028, 137.0033, 4513,     48.0,  19.1290,  34.8709,2,   -999.0,9,-999.0000,9,    231.0,2,     1.31,2,  -999.00,9,     0.49,2,     0.07,2,     0.05,2, -999.000,9, -999.000,9,  -999.00,9,   1990.3,2,   -999.0,9,   8.0429,2,     25.0, TS,     8.16,2,   -999.0,  -999.00,9,  -999.00,9,     0.32,2,     0.33,2,   -999.0,-999.0000, -999,9,   48,  19.1204,  24.8917,     70.5,2
       KS04-04,  137E,KS-0983,  1,     20,02-16026,2,20040426,0508, 30.0028, 137.0033, 4513,     75.2,  18.6328,  34.8735,2,   -999.0,9,-999.0000,9,    224.0,2,     1.94,2,  -999.00,9,     1.76,2,     0.05,2,     0.12,2, -999.000,9, -999.000,9,  -999.00,9,   1997.3,2,   -999.0,9,   8.0315,2,     25.0, TS,     8.15,2,   -999.0,  -999.00,9,  -999.00,9,     0.15,2,     0.14,2,   -999.0,-999.0000, -999,9,   75,  18.6196,  25.0208,     65.0,2
       KS04-04,  137E,KS-0983,  1,     19,02-16025,2,20040426,0507, 30.0028, 137.0033, 4513,    100.9,  18.5868,  34.8776,2,   -999.0,9,  34.8788,2,    223.0,2,     1.94,2,  -999.00,9,     1.85,2,     0.02,2,     0.12,2, -999.000,9, -999.000,9,  -999.00,9,   1999.3,2,   -999.0,9,   8.0318,2,     25.0, TS,     8.14,2,   -999.0,  -999.00,9,  -999.00,9,     0.02,2,     0.04,2,   -999.0,-999.0000, -999,9,  100,  18.5691,  25.0367,     68.5,2
       KS04-04,  137E,KS-0983,  1,     18,02-16024,2,20040426,0506, 30.0028, 137.0033, 4513,    123.1,  18.5280,  34.8725,2,   -999.0,9,-999.0000,9,    224.0,2,     2.10,2,  -999.00,9,     1.95,2,     0.01,2,     0.12,2, -999.000,9, -999.000,9,  -999.00,9,   2000.9,2,   -999.0,9,   8.0281,2,     25.0, TS,     8.14,2,   -999.0,  -999.00,9,  -999.00,9,     0.01,2,     0.02,2,   -999.0,-999.0000, -999,9,  122,  18.5065,  25.0485,     63.6,2
       KS04-04,  137E,KS-0983,  1,     17,02-16023,2,20040426,0505, 30.0028, 137.0033, 4513,    150.0,  18.3418,  34.8554,2,   -999.0,9,-999.0000,9,    217.0,2,     2.53,2,  -999.00,9,     2.63,2,     0.01,2,     0.18,2, -999.000,9, -999.000,9,  -999.00,9,   2007.1,2,   -999.0,9,   8.0140,2,     25.0, TS,     8.12,2,   -999.0,  -999.00,9,  -999.00,9,     0.01,2,     0.03,2,   -999.0,-999.0000, -999,9,  149,  18.3158,  25.0831,   -999.0,4
       KS04-04,  137E,KS-0983,  1,     13,02-16019,2,20040426,0503, 30.0028, 137.0033, 4513,    202.0,  17.2932,  34.7529,2,   -999.0,9,  34.7547,4,    201.0,4,     4.65,4,  -999.00,9,     5.46,4,     0.00,4,     0.34,4, -999.000,9, -999.000,9,  -999.00,9,   2031.3,2,   -999.0,9,   7.9669,2,     25.0, TS,     8.08,4,   -999.0,  -999.00,9,  -999.00,9,     0.00,2,     0.01,2,   -999.0,-999.0000, -999,9,  201,  17.2595,  25.2627,     55.3,2
       KS04-04,  137E,KS-0983,  1,     15,02-16021,2,20040426,0501, 30.0028, 137.0033, 4513,    249.2,  16.6666,  34.7032,2,   -999.0,9,-999.0000,9,    195.0,2,     6.13,2,  -999.00,9,     6.92,2,     0.01,2,     0.45,2, -999.000,9, -999.000,9,  -999.00,9,   2041.6,2,   -999.0,9,   7.9421,2,     25.0, TS,     8.05,2,   -999.0,  -999.00,9,  -999.00,9,     0.00,2,     0.01,2,   -999.0,-999.0000, -999,9,  247,  16.6261,  25.3746,   -999.0,4
       KS04-04,  137E,KS-0983,  1,     14,02-16020,2,20040426,0459, 30.0028, 137.0033, 4513,    302.1,  15.8088,  34.6531,2,   -999.0,9,  34.6553,4,    190.0,2,     8.84,2,  -999.00,9,     8.78,2,     0.00,2,     0.58,2, -999.000,9, -999.000,9,  -999.00,9,   2054.7,2,   -999.0,9,   7.9115,2,     25.0, TS,     8.03,2,   -999.0,  -999.00,9,  -999.00,9,     0.00,2,     0.01,2,   -999.0,-999.0000, -999,9,  300,  15.7614,  25.5350,     49.4,2
       KS04-04,  137E,KS-0983,  1,     16,02-16022,2,20040426,0457, 30.0028, 137.0033, 4513,    402.5,  12.8495,  34.4622,2,   -999.0,9,  34.4602,4,    173.0,4,    20.43,4,  -999.00,9,    15.20,4,     0.00,4,     1.06,4, -999.000,9, -999.000,9,  -999.00,9,   2103.5,2,   -999.0,9,   7.8135,2,     25.0, TS,     7.92,4,   -999.0,  -999.00,9,  -999.00,9,  -999.00,9,  -999.00,9,   -999.0,-999.0000, -999,9,  399,  12.7944,  26.0171,     54.5,2
       KS04-04,  137E,KS-0983,  1,     12,02-16018,4,20040426,0455, 30.0028, 137.0033, 4513,    503.3,  10.5449,  34.3368,2,   -999.0,9,-999.0000,9,    224.0,4,     2.01,4,  -999.00,9,     1.85,4,     0.02,4,     0.12,4, -999.000,9, -999.000,9,  -999.00,9,   1998.9,4,   -999.0,9,   8.0316,4,     25.0, TS,     8.14,4,   -999.0,  -999.00,9,  -999.00,9,  -999.00,9,  -999.00,9,   -999.0,-999.0000, -999,9,  499,  10.4841,  26.3506,   -999.0,4
       KS04-04,  137E,KS-0983,  1,     11,02-16017,2,20040426,0453, 30.0028, 137.0033, 4513,    603.8,   7.9144,  34.2230,2,   -999.0,9,  34.2262,4,    129.0,2,    53.59,2,  -999.00,9,    27.56,2,     0.00,2,     1.95,2, -999.000,9, -999.000,9,  -999.00,9,   2200.6,2,   -999.0,9,   7.6230,2,     25.0, TS,     7.72,2,   -999.0,  -999.00,9,  -999.00,9,  -999.00,9,  -999.00,9,   -999.0,-999.0000, -999,9,  599,   7.8528,  26.6853,     49.3,2
       KS04-04,  137E,KS-0983,  1,     10,02-16016,2,20040426,0451, 30.0028, 137.0033, 4513,    703.0,   6.1654,  34.2209,2,   -999.0,9,  34.2201,2,    101.0,2,    74.94,2,  -999.00,9,    33.11,2,     0.00,2,     2.37,2, -999.000,9, -999.000,9,  -999.00,9,   2248.8,2,   -999.0,9,   7.5232,2,     25.0, TS,     7.62,2,   -999.0,  -999.00,9,  -999.00,9,  -999.00,9,  -999.00,9,   -999.0,-999.0000, -999,9,  697,   6.1024,  26.9240,     46.0,2
       KS04-04,  137E,KS-0983,  1,      9,02-16015,2,20040426,0449, 30.0028, 137.0033, 4513,    806.7,   5.0121,  34.2825,2,   -999.0,9,  34.2827,2,     83.0,2,    94.60,2,  -999.00,9,    36.61,2,     0.00,2,     2.62,2, -999.000,9, -999.000,9,  -999.00,9,   2289.6,2,   -999.0,9,   7.4739,2,     25.0, TS,     7.56,2,   -999.0,  -999.00,9,  -999.00,9,  -999.00,9,  -999.00,9,   -999.0,-999.0000, -999,9,  800,   4.9462,  27.1126,   -999.0,4
       KS04-04,  137E,KS-0983,  1,      8,02-16014,2,20040426,0446, 30.0028, 137.0033, 4513,    904.7,   4.2590,  34.3379,2,   -999.0,9,  34.3366,2,     71.0,2,   107.82,2,  -999.00,9,    38.74,2,     0.00,2,     2.77,2, -999.000,9, -999.000,9,  -999.00,9,   2335.3,4,   -999.0,9,   7.4453,2,     25.0, TS,     7.53,2,   -999.0,  -999.00,9,  -999.00,9,  -999.00,9,  -999.00,9,   -999.0,-999.0000, -999,9,  897,   4.1896,  27.2397,     42.6,2
       KS04-04,  137E,KS-0983,  1,      7,02-16013,2,20040426,0444, 30.0028, 137.0033, 4513,   1007.6,   3.6811,  34.3957,2,   -999.0,9,  34.3963,2,     67.0,2,   119.69,2,  -999.00,9,    39.81,2,     0.00,2,     2.84,2, -999.000,9, -999.000,9,  -999.00,9,   2330.9,3,   -999.0,9,   7.4386,2,     25.0, TS,     7.52,2,   -999.0,  -999.00,9,  -999.00,9,  -999.00,9,  -999.00,9,   -999.0,-999.0000, -999,9,  998,   3.6075,  27.3451,     35.2,2
       KS04-04,  137E,KS-0983,  1,      6,02-16012,2,20040426,0439, 30.0028, 137.0033, 4513,   1261.2,   2.9018,  34.4813,2,   -999.0,9,  34.4822,2,     72.0,2,   134.26,2,  -999.00,9,    40.39,2,     0.00,2,     2.87,2, -999.000,9, -999.000,9,  -999.00,9,   2345.8,2,   -999.0,9,   7.4511,2,     25.0, TS,     7.53,2,   -999.0,  -999.00,9,  -999.00,9,  -999.00,9,  -999.00,9,   -999.0,-999.0000, -999,9, 1249,   2.8146,  27.4877,   -999.0,9
       KS04-04,  137E,KS-0983,  1,      5,02-16011,2,20040426,0434, 30.0028, 137.0033, 4513,   1515.1,   2.4165,  34.5402,2,   -999.0,9,  34.5402,2,     83.0,2,   143.04,2,  -999.00,9,    40.09,2,     0.00,2,     2.84,2, -999.000,9, -999.000,9,  -999.00,9,   2347.4,3,   -999.0,9,   7.4709,6,     25.0, TS,     7.55,2,   -999.0,  -999.00,9,  -999.00,9,  -999.00,9,  -999.00,9,   -999.0,-999.0000, -999,9, 1499,   2.3143,  27.5778,   -999.0,9
       KS04-04,  137E,KS-0983,  1,      4,02-16010,2,20040426,0425, 30.0028, 137.0033, 4513,   2022.4,   1.9434,  34.6107,2,   -999.0,9,  34.6103,2,    111.0,2,   144.07,2,  -999.00,9,    38.63,2,     0.00,2,     2.71,2, -999.000,9, -999.000,9,  -999.00,9,   2342.8,6,   -999.0,9,   7.5200,2,     25.0, TS,     7.61,2,   -999.0,  -999.00,9,  -999.00,9,  -999.00,9,  -999.00,9,   -999.0,-999.0000, -999,9, 1999,   1.8060,  27.6749,   -999.0,9
       KS04-04,  137E,KS-0983,  1,      3,02-16009,2,20040426,0407, 30.0028, 137.0033, 4513,   3041.8,   1.5742,  34.6687,2,   -999.0,9,  34.6667,2,    146.0,2,   140.82,2,  -999.00,9,    36.58,2,     0.00,2,     2.55,2, -999.000,9, -999.000,9,  -999.00,9,   -999.0,9,   -999.0,9,-999.0000,9,   -999.0,  9,     7.67,2,   -999.0,  -999.00,9,  -999.00,9,  -999.00,9,  -999.00,9,   -999.0,-999.0000, -999,9, 2999,   1.3518,  27.7550,   -999.0,9
       KS04-04,  137E,KS-0983,  1,      2,02-16008,2,20040426,0350, 30.0028, 137.0033, 4513,   4064.2,   1.5429,  34.6833,2,   -999.0,9,  34.6826,2,    156.0,2,   139.77,2,  -999.00,9,    35.90,2,     0.00,2,     2.47,2, -999.000,9, -999.000,9,  -999.00,9,   -999.0,9,   -999.0,9,-999.0000,9,   -999.0,  9,     7.69,2,   -999.0,  -999.00,9,  -999.00,9,  -999.00,9,  -999.00,9,   -999.0,-999.0000, -999,9, 3998,   1.2158,  27.7762,   -999.0,9
       KS04-04,  137E,KS-0983,  1,      1,02-16007,2,20040426,0343, 30.0028, 137.0033, 4513,   4476.7,   1.5820,  34.6840,2,   -999.0,9,  34.6828,2,    157.0,2,   139.09,2,  -999.00,9,    35.90,2,     0.00,2,     2.48,2, -999.000,9, -999.000,9,  -999.00,9,   -999.0,9,   -999.0,9,-999.0000,9,   -999.0,  9,     7.69,2,   -999.0,  -999.00,9,  -999.00,9,  -999.00,9,  -999.00,9,   -999.0,-999.0000, -999,9, 4400,   1.2072,  27.7774,   -999.0,9