BOTTLE,20130510GEMDJMAYT
EXPOCODE,SECT_ID,STNNBR,CASTNO,SAMPNO,BTLNBR,BTLNBR_FLAG_W,DATE,TIME,LATITUDE,LONGITUDE,DEPTH,CTDPRS,CTDTMP,CTDSAL,CTDSAL_FLAG_W,CTDOXY,CTDOXY_FLAG_W,SALNTY,SALNTY_FLAG_W,OXYGEN,OXYGEN_FLAG_W,SILCAT,SILCAT_FLAG_W,NITRAT,NITRAT_FLAG_W,NO2+NO3,NO2+NO3_FLAG_W,NITRIT,NITRIT_FLAG_W,PHSPHT,PHSPHT_FLAG_W,CFC-11,CFC-11_FLAG_W,CFC-12,CFC-12_FLAG_W,DELC13,DELC13_FLAG_W,TCARBN,TCARBN_FLAG_W,ALKALI,ALKALI_FLAG_W,PH,PH_FLAG_W,PH_TMP,PH_SCALE,PH_NBS,PH_NBS_FLAG_W,C13ERR,TOTALP,TOTALP_FLAG_W,AMMONI,AMMONI_FLAG_W,CHLORA,CHLORA_FLAG_W,PPHYTN,PPHYTN_FLAG_W,REVPRS,REVTMP,DEPTH_,DEPTH_FLAG,CTDDEP,THETA,SIGTHT,DOC,DOC_FLAG_W
,,,,,,,GMT,GMT,,,METER,DBAR,ITS-90,PSS-78,,UMOL/KG,,PSS-78,,UMOL/KG,,UMOL/KG,,UMOL/KG,,UMOL/KG,,UMOL/KG,,UMOL/KG,,PMOL/KG,,PMOL/KG,,/MILLE,,UMOL/KG,,UMOL/KG,,25_DEG_C,,DEG_C,,,,/MILLE,UMOL/KG,,UMOL/KG,,UG/L,,UG/L,,DBAR,ITS-90,METERS,,METERS,DEG_C,,UMOL/L,
       KS04-04,  137E,KS-0975,  1,     24,02-16030,2,20040424,1028, 32.9798, 137.0415, 4252,      4.7,  22.2137,  34.7682,2,   -999.0,9,  34.7716,4,   -999.0,9,  -999.00,9,  -999.00,9,  -999.00,9,  -999.00,9,  -999.00,9, -999.000,9, -999.000,9,  -999.00,9,   -999.0,9,   -999.0,9,-999.0000,9,   -999.0,  9,  -999.00,9,   -999.0,  -999.00,9,  -999.00,9,  -999.00,9,  -999.00,9,   -999.0,-999.0000, -999,9,    5,  22.2128,  23.9820,   -999.0,9
       KS04-04,  137E,KS-0975,  1,     23,02-16029,2,20040424,1023, 32.9798, 137.0415, 4252,    100.5,  19.8888,  34.8771,2,   -999.0,9,  34.8802,2,   -999.0,9,  -999.00,9,  -999.00,9,  -999.00,9,  -999.00,9,  -999.00,9, -999.000,9, -999.000,9,  -999.00,9,   -999.0,9,   -999.0,9,-999.0000,9,   -999.0,  9,  -999.00,9,   -999.0,  -999.00,9,  -999.00,9,  -999.00,9,  -999.00,9,   -999.0,-999.0000, -999,9,  100,  19.8703,  24.7021,   -999.0,9
       KS04-04,  137E,KS-0975,  1,     22,02-10977,2,20040424,1020, 32.9798, 137.0415, 4252,    201.0,  18.6188,  34.8752,2,   -999.0,9,  34.8764,2,   -999.0,9,  -999.00,9,  -999.00,9,  -999.00,9,  -999.00,9,  -999.00,9, -999.000,9, -999.000,9,  -999.00,9,   -999.0,9,   -999.0,9,-999.0000,9,   -999.0,  9,  -999.00,9,   -999.0,  -999.00,9,  -999.00,9,  -999.00,9,  -999.00,9,   -999.0,-999.0000, -999,9,  200,  18.5835,  25.0313,   -999.0,9
       KS04-04,  137E,KS-0975,  1,     21,02-16027,2,20040424,1015, 32.9798, 137.0415, 4252,    301.8,  17.3088,  34.7587,2,   -999.0,9,  34.7608,4,   -999.0,9,  -999.00,9,  -999.00,9,  -999.00,9,  -999.00,9,  -999.00,9, -999.000,9, -999.000,9,  -999.00,9,   -999.0,9,   -999.0,9,-999.0000,9,   -999.0,  9,  -999.00,9,   -999.0,  -999.00,9,  -999.00,9,  -999.00,9,  -999.00,9,   -999.0,-999.0000, -999,9,  299,  17.2583,  25.2674,   -999.0,9
       KS04-04,  137E,KS-0975,  1,     20,02-16026,4,20040424,1013, 32.9798, 137.0415, 4252,    402.8,  14.9088,  34.5885,2,   -999.0,9,-999.0000,9,   -999.0,9,  -999.00,9,  -999.00,9,  -999.00,9,  -999.00,9,  -999.00,9, -999.000,9, -999.000,9,  -999.00,9,   -999.0,9,   -999.0,9,-999.0000,9,   -999.0,  9,  -999.00,9,   -999.0,  -999.00,9,  -999.00,9,  -999.00,9,  -999.00,9,   -999.0,-999.0000, -999,9,  400,  14.8479,  25.6879,   -999.0,9
       KS04-04,  137E,KS-0975,  1,     19,02-16025,2,20040424,1010, 32.9798, 137.0415, 4252,    504.5,  12.0612,  34.4081,2,   -999.0,9,  34.4129,2,   -999.0,9,  -999.00,9,  -999.00,9,  -999.00,9,  -999.00,9,  -999.00,9, -999.000,9, -999.000,9,  -999.00,9,   -999.0,9,   -999.0,9,-999.0000,9,   -999.0,  9,  -999.00,9,   -999.0,  -999.00,9,  -999.00,9,  -999.00,9,  -999.00,9,   -999.0,-999.0000, -999,9,  500,  11.9947,  26.1304,   -999.0,9
       KS04-04,  137E,KS-0975,  1,     18,02-16024,2,20040424,1008, 32.9798, 137.0415, 4252,    605.0,   9.0792,  34.2326,2,   -999.0,9,  34.2381,2,   -999.0,9,  -999.00,9,  -999.00,9,  -999.00,9,  -999.00,9,  -999.00,9, -999.000,9, -999.000,9,  -999.00,9,   -999.0,9,   -999.0,9,-999.0000,9,   -999.0,  9,  -999.00,9,   -999.0,  -999.00,9,  -999.00,9,  -999.00,9,  -999.00,9,   -999.0,-999.0000, -999,9,  600,   9.0123,  26.5152,   -999.0,9
       KS04-04,  137E,KS-0975,  1,     17,02-16023,2,20040424,1002, 32.9798, 137.0415, 4252,    706.2,   7.0296,  34.1817,2,   -999.0,9,  34.1840,4,   -999.0,9,  -999.00,9,  -999.00,9,  -999.00,9,  -999.00,9,  -999.00,9, -999.000,9, -999.000,9,  -999.00,9,   -999.0,9,   -999.0,9,-999.0000,9,   -999.0,  9,  -999.00,9,   -999.0,  -999.00,9,  -999.00,9,  -999.00,9,  -999.00,9,   -999.0,-999.0000, -999,9,  700,   6.9618,  26.7794,   -999.0,9
       KS04-04,  137E,KS-0975,  1,     16,02-16022,2,20040424,1000, 32.9798, 137.0415, 4252,    806.7,   5.7797,  34.2621,2,   -999.0,9,-999.0000,9,   -999.0,9,  -999.00,9,  -999.00,9,  -999.00,9,  -999.00,9,  -999.00,9, -999.000,9, -999.000,9,  -999.00,9,   -999.0,9,   -999.0,9,-999.0000,9,   -999.0,  9,  -999.00,9,   -999.0,  -999.00,9,  -999.00,9,  -999.00,9,  -999.00,9,   -999.0,-999.0000, -999,9,  799,   5.7091,  27.0059,   -999.0,9
       KS04-04,  137E,KS-0975,  1,     15,02-16021,2,20040424,0957, 32.9798, 137.0415, 4252,    907.5,   4.6825,  34.3224,2,   -999.0,9,  34.3219,2,   -999.0,9,  -999.00,9,  -999.00,9,  -999.00,9,  -999.00,9,  -999.00,9, -999.000,9, -999.000,9,  -999.00,9,   -999.0,9,   -999.0,9,-999.0000,9,   -999.0,  9,  -999.00,9,   -999.0,  -999.00,9,  -999.00,9,  -999.00,9,  -999.00,9,   -999.0,-999.0000, -999,9,  899,   4.6100,  27.1820,   -999.0,9
       KS04-04,  137E,KS-0975,  1,     14,02-16020,3,20040424,0954, 32.9798, 137.0415, 4252,   1008.1,   4.0472,  34.3707,2,   -999.0,9,  34.3709,4,   -999.0,9,  -999.00,9,  -999.00,9,  -999.00,9,  -999.00,9,  -999.00,9, -999.000,9, -999.000,9,  -999.00,9,   -999.0,9,   -999.0,9,-999.0000,9,   -999.0,  9,  -999.00,9,   -999.0,  -999.00,9,  -999.00,9,  -999.00,9,  -999.00,9,   -999.0,-999.0000, -999,9,  999,   3.9707,  27.2886,   -999.0,9
       KS04-04,  137E,KS-0975,  1,     13,02-16019,2,20040424,0946, 32.9798, 137.0415, 4252,   1261.7,   3.1084,  34.4659,2,   -999.0,9,  34.4663,2,   -999.0,9,  -999.00,9,  -999.00,9,  -999.00,9,  -999.00,9,  -999.00,9, -999.000,9, -999.000,9,  -999.00,9,   -999.0,9,   -999.0,9,-999.0000,9,   -999.0,  9,  -999.00,9,   -999.0,  -999.00,9,  -999.00,9,  -999.00,9,  -999.00,9,   -999.0,-999.0000, -999,9, 1249,   3.0192,  27.4570,   -999.0,9
       KS04-04,  137E,KS-0975,  1,     12,02-16018,2,20040424,0937, 32.9798, 137.0415, 4252,   1515.1,   2.5801,  34.5272,2,   -999.0,9,  34.5282,2,   -999.0,9,  -999.00,9,  -999.00,9,  -999.00,9,  -999.00,9,  -999.00,9, -999.000,9, -999.000,9,  -999.00,9,   -999.0,9,   -999.0,9,-999.0000,9,   -999.0,  9,  -999.00,9,   -999.0,  -999.00,9,  -999.00,9,  -999.00,9,  -999.00,9,   -999.0,-999.0000, -999,9, 1499,   2.4760,  27.5539,   -999.0,9
       KS04-04,  137E,KS-0975,  1,     11,02-16017,2,20040424,0931, 32.9798, 137.0415, 4252,   1768.4,   2.2527,  34.5690,2,   -999.0,9,  34.5686,2,   -999.0,9,  -999.00,9,  -999.00,9,  -999.00,9,  -999.00,9,  -999.00,9, -999.000,9, -999.000,9,  -999.00,9,   -999.0,9,   -999.0,9,-999.0000,9,   -999.0,  9,  -999.00,9,   -999.0,  -999.00,9,  -999.00,9,  -999.00,9,  -999.00,9,   -999.0,-999.0000, -999,9, 1749,   2.1320,  27.6159,   -999.0,9
       KS04-04,  137E,KS-0975,  1,     10,02-16016,2,20040424,0924, 32.9798, 137.0415, 4252,   2023.5,   1.9975,  34.6058,2,   -999.0,9,  34.6050,2,   -999.0,9,  -999.00,9,  -999.00,9,  -999.00,9,  -999.00,9,  -999.00,9, -999.000,9, -999.000,9,  -999.00,9,   -999.0,9,   -999.0,9,-999.0000,9,   -999.0,  9,  -999.00,9,   -999.0,  -999.00,9,  -999.00,9,  -999.00,9,  -999.00,9,   -999.0,-999.0000, -999,9, 2000,   1.8592,  27.6668,   -999.0,9
       KS04-04,  137E,KS-0975,  1,      9,02-16015,2,20040424,0919, 32.9798, 137.0415, 4252,   2276.0,   1.8457,  34.6282,2,   -999.0,9,-999.0000,9,   -999.0,9,  -999.00,9,  -999.00,9,  -999.00,9,  -999.00,9,  -999.00,9, -999.000,9, -999.000,9,  -999.00,9,   -999.0,9,   -999.0,9,-999.0000,9,   -999.0,  9,  -999.00,9,   -999.0,  -999.00,9,  -999.00,9,  -999.00,9,  -999.00,9,   -999.0,-999.0000, -999,9, 2248,   1.6882,  27.6978,   -999.0,9
       KS04-04,  137E,KS-0975,  1,      8,02-16014,2,20040424,0910, 32.9798, 137.0415, 4252,   2530.7,   1.7281,  34.6455,2,   -999.0,9,  34.6445,2,   -999.0,9,  -999.00,9,  -999.00,9,  -999.00,9,  -999.00,9,  -999.00,9, -999.000,9, -999.000,9,  -999.00,9,   -999.0,9,   -999.0,9,-999.0000,9,   -999.0,  9,  -999.00,9,   -999.0,  -999.00,9,  -999.00,9,  -999.00,9,  -999.00,9,   -999.0,-999.0000, -999,9, 2498,   1.5502,  27.7220,   -999.0,9
       KS04-04,  137E,KS-0975,  1,      7,02-16013,2,20040424,0859, 32.9798, 137.0415, 4252,   3041.1,   1.5535,  34.6711,2,   -999.0,9,  34.6708,2,   -999.0,9,  -999.00,9,  -999.00,9,  -999.00,9,  -999.00,9,  -999.00,9, -999.000,9, -999.000,9,  -999.00,9,   -999.0,9,   -999.0,9,-999.0000,9,   -999.0,  9,  -999.00,9,   -999.0,  -999.00,9,  -999.00,9,  -999.00,9,  -999.00,9,   -999.0,-999.0000, -999,9, 2998,   1.3316,  27.7583,   -999.0,9
       KS04-04,  137E,KS-0975,  1,      6,02-16012,9,20040424,0849, 32.9798, 137.0415, 4252,   3552.5,   1.5220,  34.6799,2,   -999.0,9,-999.0000,9,   -999.0,9,  -999.00,9,  -999.00,9,  -999.00,9,  -999.00,9,  -999.00,9, -999.000,9, -999.000,9,  -999.00,9,   -999.0,9,   -999.0,9,-999.0000,9,   -999.0,  9,  -999.00,9,   -999.0,  -999.00,9,  -999.00,9,  -999.00,9,  -999.00,9,   -999.0,-999.0000, -999,9, 3498,   1.2499,  27.7711,   -999.0,9
       KS04-04,  137E,KS-0975,  1,      5,02-16011,2,20040424,0849, 32.9798, 137.0415, 4252,   3552.6,   1.5219,  34.6799,2,   -999.0,9,  34.6787,2,   -999.0,9,  -999.00,9,  -999.00,9,  -999.00,9,  -999.00,9,  -999.00,9, -999.000,9, -999.000,9,  -999.00,9,   -999.0,9,   -999.0,9,-999.0000,9,   -999.0,  9,  -999.00,9,   -999.0,  -999.00,9,  -999.00,9,  -999.00,9,  -999.00,9,   -999.0,-999.0000, -999,9, 3498,   1.2498,  27.7711,   -999.0,9
       KS04-04,  137E,KS-0975,  1,      4,02-16010,9,20040424,0840, 32.9798, 137.0415, 4252,   4063.6,   1.5495,  34.6830,2,   -999.0,9,-999.0000,9,   -999.0,9,  -999.00,9,  -999.00,9,  -999.00,9,  -999.00,9,  -999.00,9, -999.000,9, -999.000,9,  -999.00,9,   -999.0,9,   -999.0,9,-999.0000,9,   -999.0,  9,  -999.00,9,   -999.0,  -999.00,9,  -999.00,9,  -999.00,9,  -999.00,9,   -999.0,-999.0000, -999,9, 3997,   1.2222,  27.7755,   -999.0,9
       KS04-04,  137E,KS-0975,  1,      3,02-16009,2,20040424,0840, 32.9798, 137.0415, 4252,   4064.5,   1.5497,  34.6828,2,   -999.0,9,  34.6806,2,   -999.0,9,  -999.00,9,  -999.00,9,  -999.00,9,  -999.00,9,  -999.00,9, -999.000,9, -999.000,9,  -999.00,9,   -999.0,9,   -999.0,9,-999.0000,9,   -999.0,  9,  -999.00,9,   -999.0,  -999.00,9,  -999.00,9,  -999.00,9,  -999.00,9,   -999.0,-999.0000, -999,9, 3998,   1.2223,  27.7754,   -999.0,9
       KS04-04,  137E,KS-0975,  1,      2,02-16008,9,20040424,0835, 32.9798, 137.0415, 4252,   4270.5,   1.5682,  34.6834,2,   -999.0,9,-999.0000,9,   -999.0,9,  -999.00,9,  -999.00,9,  -999.00,9,  -999.00,9,  -999.00,9, -999.000,9, -999.000,9,  -999.00,9,   -999.0,9,   -999.0,9,-999.0000,9,   -999.0,  9,  -999.00,9,   -999.0,  -999.00,9,  -999.00,9,  -999.00,9,  -999.00,9,   -999.0,-999.0000, -999,9, 4198,   1.2174,  27.7762,   -999.0,9
       KS04-04,  137E,KS-0975,  1,      1,02-16007,2,20040424,0835, 32.9798, 137.0415, 4252,   4271.5,   1.5684,  34.6833,2,   -999.0,9,  34.6822,2,   -999.0,9,  -999.00,9,  -999.00,9,  -999.00,9,  -999.00,9,  -999.00,9, -999.000,9, -999.000,9,  -999.00,9,   -999.0,9,   -999.0,9,-999.0000,9,   -999.0,  9,  -999.00,9,   -999.0,  -999.00,9,  -999.00,9,  -999.00,9,  -999.00,9,   -999.0,-999.0000, -999,9, 4199,   1.2174,  27.7762,   -999.0,9