BOTTLE,20130510GEMDJMAYT
EXPOCODE,SECT_ID,STNNBR,CASTNO,SAMPNO,BTLNBR,BTLNBR_FLAG_W,DATE,TIME,LATITUDE,LONGITUDE,DEPTH,CTDPRS,CTDTMP,CTDSAL,CTDSAL_FLAG_W,CTDOXY,CTDOXY_FLAG_W,SALNTY,SALNTY_FLAG_W,OXYGEN,OXYGEN_FLAG_W,SILCAT,SILCAT_FLAG_W,NITRAT,NITRAT_FLAG_W,NO2+NO3,NO2+NO3_FLAG_W,NITRIT,NITRIT_FLAG_W,PHSPHT,PHSPHT_FLAG_W,CFC-11,CFC-11_FLAG_W,CFC-12,CFC-12_FLAG_W,DELC13,DELC13_FLAG_W,TCARBN,TCARBN_FLAG_W,ALKALI,ALKALI_FLAG_W,PH,PH_FLAG_W,PH_TMP,PH_SCALE,PH_NBS,PH_NBS_FLAG_W,C13ERR,TOTALP,TOTALP_FLAG_W,AMMONI,AMMONI_FLAG_W,CHLORA,CHLORA_FLAG_W,PPHYTN,PPHYTN_FLAG_W,REVPRS,REVTMP,DEPTH_,DEPTH_FLAG,CTDDEP,THETA,SIGTHT,DOC,DOC_FLAG_W
,,,,,,,GMT,GMT,,,METER,DBAR,ITS-90,PSS-78,,UMOL/KG,,PSS-78,,UMOL/KG,,UMOL/KG,,UMOL/KG,,UMOL/KG,,UMOL/KG,,UMOL/KG,,PMOL/KG,,PMOL/KG,,/MILLE,,UMOL/KG,,UMOL/KG,,25_DEG_C,,DEG_C,,,,/MILLE,UMOL/KG,,UMOL/KG,,UG/L,,UG/L,,DBAR,ITS-90,METERS,,METERS,DEG_C,,UMOL/L,
       KS04-06,  NONE,KS-1120,  1,     24,02-16030,2,20040805,2323, 24.9895, 149.3173, 5817,      4.9,  27.7305,  35.1718,2,   -999.0,9,  35.1746,4,    202.0,2,     1.34,2,  -999.00,9,     0.00,2,     0.00,2,     0.00,2, -999.000,9, -999.000,9,  -999.00,9,   -999.0,9,   -999.0,9,-999.0000,9,   -999.0,  9,  -999.00,9,   -999.0,  -999.00,9,  -999.00,9,  -999.00,9,  -999.00,9,   -999.0,-999.0000, -999,9,    5,  27.7294,  22.6121,   -999.0,9
       KS04-06,  NONE,KS-1120,  1,     23,02-16029,2,20040805,2322, 24.9895, 149.3173, 5817,      9.9,  27.7271,  35.1725,2,   -999.0,9,-999.0000,9,    201.0,2,     1.39,2,  -999.00,9,     0.00,2,     0.00,2,     0.00,2, -999.000,9, -999.000,9,  -999.00,9,   -999.0,9,   -999.0,9,-999.0000,9,   -999.0,  9,  -999.00,9,   -999.0,  -999.00,9,  -999.00,9,  -999.00,9,  -999.00,9,   -999.0,-999.0000, -999,9,   10,  27.7248,  22.6141,   -999.0,9
       KS04-06,  NONE,KS-1120,  1,     22,02-10977,2,20040805,2321, 24.9895, 149.3173, 5817,     27.0,  26.9800,  35.0938,2,   -999.0,9,-999.0000,9,    206.0,2,     1.27,2,  -999.00,9,     0.00,2,     0.00,2,     0.00,2, -999.000,9, -999.000,9,  -999.00,9,   -999.0,9,   -999.0,9,-999.0000,9,   -999.0,  9,  -999.00,9,   -999.0,  -999.00,9,  -999.00,9,  -999.00,9,  -999.00,9,   -999.0,-999.0000, -999,9,   27,  26.9738,  22.7968,   -999.0,9
       KS04-06,  NONE,KS-1120,  1,     21,02-16027,2,20040805,2317, 24.9895, 149.3173, 5817,     50.2,  25.8324,  35.1330,2,   -999.0,9,-999.0000,9,    216.0,2,     1.37,2,  -999.00,9,     0.00,2,     0.00,2,     0.00,2, -999.000,9, -999.000,9,  -999.00,9,   -999.0,9,   -999.0,9,-999.0000,9,   -999.0,  9,  -999.00,9,   -999.0,  -999.00,9,  -999.00,9,  -999.00,9,  -999.00,9,   -999.0,-999.0000, -999,9,   50,  25.8212,  23.1893,   -999.0,9
       KS04-06,  NONE,KS-1120,  1,     20,02-16026,2,20040805,2316, 24.9895, 149.3173, 5817,     74.7,  23.1547,  35.1734,2,   -999.0,9,-999.0000,9,    223.0,2,     1.52,2,  -999.00,9,     0.00,2,     0.00,2,     0.00,2, -999.000,9, -999.000,9,  -999.00,9,   -999.0,9,   -999.0,9,-999.0000,9,   -999.0,  9,  -999.00,9,   -999.0,  -999.00,9,  -999.00,9,  -999.00,9,  -999.00,9,   -999.0,-999.0000, -999,9,   74,  23.1394,  24.0248,   -999.0,9
       KS04-06,  NONE,KS-1120,  1,     19,02-16025,2,20040805,2315, 24.9895, 149.3173, 5817,    101.0,  21.4008,  35.0881,2,   -999.0,9,  35.0884,2,    216.0,2,     1.74,2,  -999.00,9,     0.00,2,     0.00,2,     0.00,2, -999.000,9, -999.000,9,  -999.00,9,   -999.0,9,   -999.0,9,-999.0000,9,   -999.0,  9,  -999.00,9,   -999.0,  -999.00,9,  -999.00,9,  -999.00,9,  -999.00,9,   -999.0,-999.0000, -999,9,  100,  21.3812,  24.4567,   -999.0,9
       KS04-06,  NONE,KS-1120,  1,     18,02-16024,2,20040805,2313, 24.9895, 149.3173, 5817,    124.5,  20.3941,  35.0251,2,   -999.0,9,-999.0000,9,    214.0,2,     2.00,2,  -999.00,9,     0.20,2,     0.11,2,     0.03,2, -999.000,9, -999.000,9,  -999.00,9,   -999.0,9,   -999.0,9,-999.0000,9,   -999.0,  9,  -999.00,9,   -999.0,  -999.00,9,  -999.00,9,  -999.00,9,  -999.00,9,   -999.0,-999.0000, -999,9,  124,  20.3708,  24.6825,   -999.0,9
       KS04-06,  NONE,KS-1120,  1,     17,02-16023,2,20040805,2312, 24.9895, 149.3173, 5817,    149.6,  19.2561,  34.9187,2,   -999.0,9,-999.0000,9,    214.0,2,     2.42,2,  -999.00,9,     1.07,2,     0.08,2,     0.09,2, -999.000,9, -999.000,9,  -999.00,9,   -999.0,9,   -999.0,9,-999.0000,9,   -999.0,  9,  -999.00,9,   -999.0,  -999.00,9,  -999.00,9,  -999.00,9,  -999.00,9,   -999.0,-999.0000, -999,9,  149,  19.2292,  24.9003,   -999.0,9
       KS04-06,  NONE,KS-1120,  1,     16,02-16022,2,20040805,2311, 24.9895, 149.3173, 5817,    201.0,  17.7876,  34.8024,2,   -999.0,9,  34.8035,2,    214.0,2,     3.23,2,  -999.00,9,     3.22,2,     0.00,2,     0.21,2, -999.000,9, -999.000,9,  -999.00,9,   -999.0,9,   -999.0,9,-999.0000,9,   -999.0,  9,  -999.00,9,   -999.0,  -999.00,9,  -999.00,9,  -999.00,9,  -999.00,9,   -999.0,-999.0000, -999,9,  200,  17.7534,  25.1812,   -999.0,9
       KS04-06,  NONE,KS-1120,  1,     15,02-16021,2,20040805,2309, 24.9895, 149.3173, 5817,    250.2,  16.7755,  34.7165,2,   -999.0,9,-999.0000,9,    209.0,2,     4.79,2,  -999.00,9,     5.17,2,     0.00,2,     0.34,2, -999.000,9, -999.000,9,  -999.00,9,   -999.0,9,   -999.0,9,-999.0000,9,   -999.0,  9,  -999.00,9,   -999.0,  -999.00,9,  -999.00,9,  -999.00,9,  -999.00,9,   -999.0,-999.0000, -999,9,  248,  16.7346,  25.3593,   -999.0,9
       KS04-06,  NONE,KS-1120,  1,     14,02-16020,2,20040805,2307, 24.9895, 149.3173, 5817,    301.0,  15.9780,  34.6580,2,   -999.0,9,  34.6596,2,    205.0,2,     6.29,2,  -999.00,9,     6.83,2,     0.00,2,     0.46,2, -999.000,9, -999.000,9,  -999.00,9,   -999.0,9,   -999.0,9,-999.0000,9,   -999.0,  9,  -999.00,9,   -999.0,  -999.00,9,  -999.00,9,  -999.00,9,  -999.00,9,   -999.0,-999.0000, -999,9,  299,  15.9304,  25.5004,   -999.0,9
       KS04-06,  NONE,KS-1120,  1,     13,02-16019,2,20040805,2305, 24.9895, 149.3173, 5817,    402.0,  13.8196,  34.4929,2,   -999.0,9,  34.4942,2,    194.0,2,    11.74,2,  -999.00,9,    10.82,2,     0.00,2,     0.74,2, -999.000,9, -999.000,9,  -999.00,9,   -999.0,9,   -999.0,9,-999.0000,9,   -999.0,  9,  -999.00,9,   -999.0,  -999.00,9,  -999.00,9,  -999.00,9,  -999.00,9,   -999.0,-999.0000, -999,9,  399,  13.7619,  25.8449,   -999.0,9
       KS04-06,  NONE,KS-1120,  1,     12,02-16018,2,20040805,2302, 24.9895, 149.3173, 5817,    503.5,  11.1701,  34.2954,2,   -999.0,9,  34.2987,2,    192.0,2,    19.82,2,  -999.00,9,    15.69,2,     0.00,2,     1.10,2, -999.000,9, -999.000,9,  -999.00,9,   -999.0,9,   -999.0,9,-999.0000,9,   -999.0,  9,  -999.00,9,   -999.0,  -999.00,9,  -999.00,9,  -999.00,9,  -999.00,9,   -999.0,-999.0000, -999,9,  500,  11.1070,  26.2074,   -999.0,9
       KS04-06,  NONE,KS-1120,  1,     11,02-16017,2,20040805,2300, 24.9895, 149.3173, 5817,    605.2,   8.5145,  34.1279,2,   -999.0,9,  34.1291,2,    163.0,2,    36.52,2,  -999.00,9,    23.28,2,     0.00,2,     1.67,2, -999.000,9, -999.000,9,  -999.00,9,   -999.0,9,   -999.0,9,-999.0000,9,   -999.0,  9,  -999.00,9,   -999.0,  -999.00,9,  -999.00,9,  -999.00,9,  -999.00,9,   -999.0,-999.0000, -999,9,  600,   8.4501,  26.5211,   -999.0,9
       KS04-06,  NONE,KS-1120,  1,     10,02-16016,2,20040805,2257, 24.9895, 149.3173, 5817,    703.0,   6.2651,  34.0835,2,   -999.0,9,  34.0837,2,    112.0,2,    62.62,2,  -999.00,9,    32.04,2,     0.00,2,     2.34,2, -999.000,9, -999.000,9,  -999.00,9,   -999.0,9,   -999.0,9,-999.0000,9,   -999.0,  9,  -999.00,9,   -999.0,  -999.00,9,  -999.00,9,  -999.00,9,  -999.00,9,   -999.0,-999.0000, -999,9,  697,   6.2017,  26.8028,   -999.0,9
       KS04-06,  NONE,KS-1120,  1,      9,02-16015,2,20040805,2254, 24.9895, 149.3173, 5817,    806.4,   4.9098,  34.1717,2,   -999.0,9,  34.1707,2,     72.0,2,    87.25,2,  -999.00,9,    37.68,2,     0.00,2,     2.76,2, -999.000,9, -999.000,9,  -999.00,9,   -999.0,9,   -999.0,9,-999.0000,9,   -999.0,  9,  -999.00,9,   -999.0,  -999.00,9,  -999.00,9,  -999.00,9,  -999.00,9,   -999.0,-999.0000, -999,9,  800,   4.8447,  27.0362,   -999.0,9
       KS04-06,  NONE,KS-1120,  1,      8,02-16014,4,20040805,2252, 24.9895, 149.3173, 5817,    907.6,   4.2516,  34.2693,2,   -999.0,9,  34.1127,4,    110.0,4,    65.64,4,  -999.00,9,    32.13,4,     0.00,4,     2.34,4, -999.000,9, -999.000,9,  -999.00,9,   -999.0,9,   -999.0,9,-999.0000,9,   -999.0,  9,  -999.00,9,   -999.0,  -999.00,9,  -999.00,9,  -999.00,9,  -999.00,9,   -999.0,-999.0000, -999,9,  900,   4.1822,  27.1859,   -999.0,9
       KS04-06,  NONE,KS-1120,  1,      7,02-16013,2,20040805,2250, 24.9895, 149.3173, 5817,   1007.8,   3.7945,  34.3355,2,   -999.0,9,  34.3358,2,     47.0,2,   116.12,2,  -999.00,9,    41.18,2,     0.00,2,     2.99,2, -999.000,9, -999.000,9,  -999.00,9,   -999.0,9,   -999.0,9,-999.0000,9,   -999.0,  9,  -999.00,9,   -999.0,  -999.00,9,  -999.00,9,  -999.00,9,  -999.00,9,   -999.0,-999.0000, -999,9,  999,   3.7201,  27.2859,   -999.0,9
       KS04-06,  NONE,KS-1120,  1,      6,02-16012,2,20040805,2244, 24.9895, 149.3173, 5817,   1260.3,   2.9812,  34.4575,2,   -999.0,9,  34.4559,2,     48.0,2,   133.74,2,  -999.00,9,    42.14,2,     0.00,2,     3.03,2, -999.000,9, -999.000,9,  -999.00,9,   -999.0,9,   -999.0,9,-999.0000,9,   -999.0,  9,  -999.00,9,   -999.0,  -999.00,9,  -999.00,9,  -999.00,9,  -999.00,9,   -999.0,-999.0000, -999,9, 1248,   2.8934,  27.4617,   -999.0,9
       KS04-06,  NONE,KS-1120,  1,      5,02-16011,2,20040805,2240, 24.9895, 149.3173, 5817,   1513.4,   2.4214,  34.5385,2,   -999.0,9,  34.5382,2,     66.0,2,   145.99,2,  -999.00,9,    41.36,2,     0.00,2,     2.94,2, -999.000,9, -999.000,9,  -999.00,9,   -999.0,9,   -999.0,9,-999.0000,9,   -999.0,  9,  -999.00,9,   -999.0,  -999.00,9,  -999.00,9,  -999.00,9,  -999.00,9,   -999.0,-999.0000, -999,9, 1498,   2.3193,  27.5761,   -999.0,9
       KS04-06,  NONE,KS-1120,  1,      4,02-16010,2,20040805,2236, 24.9895, 149.3173, 5817,   1765.1,   2.0608,  34.5930,2,   -999.0,9,  34.5922,2,     90.0,2,   149.05,2,  -999.00,9,    40.19,2,     0.00,2,     2.81,2, -999.000,9, -999.000,9,  -999.00,9,   -999.0,9,   -999.0,9,-999.0000,9,   -999.0,  9,  -999.00,9,   -999.0,  -999.00,9,  -999.00,9,  -999.00,9,  -999.00,9,   -999.0,-999.0000, -999,9, 1746,   1.9429,  27.6501,   -999.0,9
       KS04-06,  NONE,KS-1120,  1,      3,02-16009,9,20040805,2232, 24.9895, 149.3173, 5817,   2020.1,   1.8786,  34.6205,2,   -999.0,9,-999.0000,9,   -999.0,9,  -999.00,9,  -999.00,9,  -999.00,9,  -999.00,9,  -999.00,9, -999.000,9, -999.000,9,  -999.00,9,   -999.0,9,   -999.0,9,-999.0000,9,   -999.0,  9,  -999.00,9,   -999.0,  -999.00,9,  -999.00,9,  -999.00,9,  -999.00,9,   -999.0,-999.0000, -999,9, 1998,   1.7424,  27.6876,   -999.0,9
       KS04-06,  NONE,KS-1120,  1,      2,02-16008,9,20040805,2231, 24.9895, 149.3173, 5817,   2020.2,   1.8784,  34.6207,2,   -999.0,9,-999.0000,9,   -999.0,9,  -999.00,9,  -999.00,9,  -999.00,9,  -999.00,9,  -999.00,9, -999.000,9, -999.000,9,  -999.00,9,   -999.0,9,   -999.0,9,-999.0000,9,   -999.0,  9,  -999.00,9,   -999.0,  -999.00,9,  -999.00,9,  -999.00,9,  -999.00,9,   -999.0,-999.0000, -999,9, 1998,   1.7422,  27.6878,   -999.0,9
       KS04-06,  NONE,KS-1120,  1,      1,02-16007,2,20040805,2231, 24.9895, 149.3173, 5817,   2020.9,   1.8786,  34.6205,2,   -999.0,9,  34.6199,2,    105.0,2,   148.57,2,  -999.00,9,    38.92,2,     0.00,2,     2.74,2, -999.000,9, -999.000,9,  -999.00,9,   -999.0,9,   -999.0,9,-999.0000,9,   -999.0,  9,  -999.00,9,   -999.0,  -999.00,9,  -999.00,9,  -999.00,9,  -999.00,9,   -999.0,-999.0000, -999,9, 1998,   1.7423,  27.6876,   -999.0,9