BOTTLE,20130510GEMDJMAYT
EXPOCODE,SECT_ID,STNNBR,CASTNO,SAMPNO,BTLNBR,BTLNBR_FLAG_W,DATE,TIME,LATITUDE,LONGITUDE,DEPTH,CTDPRS,CTDTMP,CTDSAL,CTDSAL_FLAG_W,CTDOXY,CTDOXY_FLAG_W,SALNTY,SALNTY_FLAG_W,OXYGEN,OXYGEN_FLAG_W,SILCAT,SILCAT_FLAG_W,NITRAT,NITRAT_FLAG_W,NO2+NO3,NO2+NO3_FLAG_W,NITRIT,NITRIT_FLAG_W,PHSPHT,PHSPHT_FLAG_W,CFC-11,CFC-11_FLAG_W,CFC-12,CFC-12_FLAG_W,DELC13,DELC13_FLAG_W,TCARBN,TCARBN_FLAG_W,ALKALI,ALKALI_FLAG_W,PH,PH_FLAG_W,PH_TMP,PH_SCALE,PH_NBS,PH_NBS_FLAG_W,C13ERR,TOTALP,TOTALP_FLAG_W,AMMONI,AMMONI_FLAG_W,CHLORA,CHLORA_FLAG_W,PPHYTN,PPHYTN_FLAG_W,REVPRS,REVTMP,DEPTH_,DEPTH_FLAG,CTDDEP,THETA,SIGTHT,DOC,DOC_FLAG_W
,,,,,,,GMT,GMT,,,METER,DBAR,ITS-90,PSS-78,,UMOL/KG,,PSS-78,,UMOL/KG,,UMOL/KG,,UMOL/KG,,UMOL/KG,,UMOL/KG,,UMOL/KG,,PMOL/KG,,PMOL/KG,,/MILLE,,UMOL/KG,,UMOL/KG,,25_DEG_C,,DEG_C,,,,/MILLE,UMOL/KG,,UMOL/KG,,UG/L,,UG/L,,DBAR,ITS-90,METERS,,METERS,DEG_C,,UMOL/L,
       KS04-06, EQPAC,KS-1085,  1,     24,02-16030,2,20040716,1906, -0.0045, 162.0217, 4242,      6.0,  29.4239,  34.0510,2,   -999.0,9,  34.0535,4,    199.0,2,     1.32,2,  -999.00,9,     0.00,2,     0.00,2,     0.05,2, -999.000,9, -999.000,9,  -999.00,9,   -999.0,9,   -999.0,9,-999.0000,9,   -999.0,  9,  -999.00,9,   -999.0,  -999.00,9,  -999.00,9,     0.04,2,     0.03,2,   -999.0,-999.0000, -999,9,    6,  29.4224,  21.2104,   -999.0,9
       KS04-06, EQPAC,KS-1085,  1,     23,02-16029,2,20040716,1905, -0.0045, 162.0217, 4242,     10.8,  29.3908,  34.0543,2,   -999.0,9,-999.0000,9,    199.0,2,     1.36,2,  -999.00,9,     0.00,2,     0.00,2,     0.05,2, -999.000,9, -999.000,9,  -999.00,9,   -999.0,9,   -999.0,9,-999.0000,9,   -999.0,  9,  -999.00,9,   -999.0,  -999.00,9,  -999.00,9,     0.05,2,     0.03,2,   -999.0,-999.0000, -999,9,   11,  29.3882,  21.2243,   -999.0,9
       KS04-06, EQPAC,KS-1085,  1,     22,02-10977,2,20040716,1901, -0.0045, 162.0217, 4242,     50.2,  29.5017,  34.3904,2,   -999.0,9,-999.0000,9,    200.0,2,     1.15,2,  -999.00,9,     0.00,2,     0.00,2,     0.09,2, -999.000,9, -999.000,9,  -999.00,9,   -999.0,9,   -999.0,9,-999.0000,9,   -999.0,  9,  -999.00,9,   -999.0,  -999.00,9,  -999.00,9,     0.06,2,     0.06,2,   -999.0,-999.0000, -999,9,   50,  29.4894,  21.4423,   -999.0,9
       KS04-06, EQPAC,KS-1085,  1,     21,02-16027,2,20040716,1900, -0.0045, 162.0217, 4242,     75.2,  29.2709,  34.7170,2,   -999.0,9,-999.0000,9,    198.0,2,     1.19,2,  -999.00,9,     0.00,2,     0.00,2,     0.17,2, -999.000,9, -999.000,9,  -999.00,9,   -999.0,9,   -999.0,9,-999.0000,9,   -999.0,  9,  -999.00,9,   -999.0,  -999.00,9,  -999.00,9,     0.13,2,     0.19,2,   -999.0,-999.0000, -999,9,   75,  29.2526,  21.7670,   -999.0,9
       KS04-06, EQPAC,KS-1085,  1,     20,02-16026,2,20040716,1859, -0.0045, 162.0217, 4242,    100.9,  25.8078,  35.3033,2,   -999.0,9,  35.3135,4,    149.0,2,     3.25,2,  -999.00,9,     7.62,2,     0.09,2,     0.65,2, -999.000,9, -999.000,9,  -999.00,9,   -999.0,9,   -999.0,9,-999.0000,9,   -999.0,  9,  -999.00,9,   -999.0,  -999.00,9,  -999.00,9,     0.09,2,     0.43,2,   -999.0,-999.0000, -999,9,  100,  25.7854,  23.3290,   -999.0,9
       KS04-06, EQPAC,KS-1085,  1,     19,02-16025,2,20040716,1857, -0.0045, 162.0217, 4242,    151.1,  22.0210,  35.2769,2,   -999.0,9,-999.0000,9,    139.0,2,     5.13,2,  -999.00,9,     9.86,2,     0.01,2,     0.77,2, -999.000,9, -999.000,9,  -999.00,9,   -999.0,9,   -999.0,9,-999.0000,9,   -999.0,  9,  -999.00,9,   -999.0,  -999.00,9,  -999.00,9,     0.01,2,     0.03,2,   -999.0,-999.0000, -999,9,  150,  21.9911,  24.4308,   -999.0,9
       KS04-06, EQPAC,KS-1085,  1,     18,02-16024,2,20040716,1856, -0.0045, 162.0217, 4242,    201.6,  16.1335,  35.1899,2,   -999.0,9,  35.1868,2,    144.0,2,     8.81,2,  -999.00,9,    14.52,2,     0.01,2,     1.10,2, -999.000,9, -999.000,9,  -999.00,9,   -999.0,9,   -999.0,9,-999.0000,9,   -999.0,  9,  -999.00,9,   -999.0,  -999.00,9,  -999.00,9,     0.00,2,     0.01,2,   -999.0,-999.0000, -999,9,  200,  16.1014,  25.8704,   -999.0,9
       KS04-06, EQPAC,KS-1085,  1,     17,02-16023,2,20040716,1853, -0.0045, 162.0217, 4242,    302.0,  11.9993,  34.8596,2,   -999.0,9,  34.8505,4,    121.0,2,    19.25,2,  -999.00,9,    23.28,2,     0.00,2,     1.67,2, -999.000,9, -999.000,9,  -999.00,9,   -999.0,9,   -999.0,9,-999.0000,9,   -999.0,  9,  -999.00,9,   -999.0,  -999.00,9,  -999.00,9,     0.00,2,     0.01,2,   -999.0,-999.0000, -999,9,  300,  11.9598,  26.4877,   -999.0,9
       KS04-06, EQPAC,KS-1085,  1,     16,02-16022,2,20040716,1851, -0.0045, 162.0217, 4242,    401.7,   9.3832,  34.6848,2,   -999.0,9,  34.6796,2,     93.0,2,    29.71,2,  -999.00,9,    30.97,2,     0.00,2,     2.17,2, -999.000,9, -999.000,9,  -999.00,9,   -999.0,9,   -999.0,9,-999.0000,9,   -999.0,  9,  -999.00,9,   -999.0,  -999.00,9,  -999.00,9,  -999.00,9,  -999.00,9,   -999.0,-999.0000, -999,9,  399,   9.3381,  26.8165,   -999.0,9
       KS04-06, EQPAC,KS-1085,  1,     15,02-16021,2,20040716,1847, -0.0045, 162.0217, 4242,    503.0,   8.0250,  34.6024,2,   -999.0,9,  34.6017,2,    104.0,2,    35.63,2,  -999.00,9,    32.52,2,     0.00,2,     2.29,2, -999.000,9, -999.000,9,  -999.00,9,   -999.0,9,   -999.0,9,-999.0000,9,   -999.0,  9,  -999.00,9,   -999.0,  -999.00,9,  -999.00,9,  -999.00,9,  -999.00,9,   -999.0,-999.0000, -999,9,  500,   7.9733,  26.9655,   -999.0,9
       KS04-06, EQPAC,KS-1085,  1,     14,02-16020,2,20040716,1843, -0.0045, 162.0217, 4242,    603.8,   6.7300,  34.5556,2,   -999.0,9,  34.5574,2,     97.0,2,    46.69,2,  -999.00,9,    35.63,2,     0.00,2,     2.53,2, -999.000,9, -999.000,9,  -999.00,9,   -999.0,9,   -999.0,9,-999.0000,9,   -999.0,  9,  -999.00,9,   -999.0,  -999.00,9,  -999.00,9,  -999.00,9,  -999.00,9,   -999.0,-999.0000, -999,9,  600,   6.6734,  27.1133,   -999.0,9
       KS04-06, EQPAC,KS-1085,  1,     13,02-16019,3,20040716,1837, -0.0045, 162.0217, 4242,    704.2,   6.1811,  34.5498,2,   -999.0,9,  34.5510,2,     88.0,2,    55.95,2,  -999.00,9,    37.77,2,     0.00,2,     2.70,2, -999.000,9, -999.000,9,  -999.00,9,   -999.0,9,   -999.0,9,-999.0000,9,   -999.0,  9,  -999.00,9,   -999.0,  -999.00,9,  -999.00,9,  -999.00,9,  -999.00,9,   -999.0,-999.0000, -999,9,  699,   6.1175,  27.1819,   -999.0,9
       KS04-06, EQPAC,KS-1085,  1,     12,02-16018,2,20040716,1832, -0.0045, 162.0217, 4242,    805.0,   5.0967,  34.5424,2,   -999.0,9,  34.5425,2,     98.0,2,    71.59,2,  -999.00,9,    37.96,2,     0.00,2,     2.72,2, -999.000,9, -999.000,9,  -999.00,9,   -999.0,9,   -999.0,9,-999.0000,9,   -999.0,  9,  -999.00,9,   -999.0,  -999.00,9,  -999.00,9,  -999.00,9,  -999.00,9,   -999.0,-999.0000, -999,9,  799,   5.0301,  27.3089,   -999.0,9
       KS04-06, EQPAC,KS-1085,  1,     11,02-16017,2,20040716,1823, -0.0045, 162.0217, 4242,   1007.0,   4.4433,  34.5537,2,   -999.0,9,  34.5551,2,    100.0,2,    84.66,2,  -999.00,9,    38.35,2,     0.00,2,     2.75,2, -999.000,9, -999.000,9,  -999.00,9,   -999.0,9,   -999.0,9,-999.0000,9,   -999.0,  9,  -999.00,9,   -999.0,  -999.00,9,  -999.00,9,  -999.00,9,  -999.00,9,   -999.0,-999.0000, -999,9,  999,   4.3635,  27.3926,   -999.0,9
       KS04-06, EQPAC,KS-1085,  1,     10,02-16016,2,20040716,1807, -0.0045, 162.0217, 4242,   1512.5,   2.9583,  34.6048,2,   -999.0,9,  34.6056,2,    104.0,2,   118.86,2,  -999.00,9,    39.32,2,     0.00,2,     2.79,2, -999.000,9, -999.000,9,  -999.00,9,   -999.0,9,   -999.0,9,-999.0000,9,   -999.0,  9,  -999.00,9,   -999.0,  -999.00,9,  -999.00,9,  -999.00,9,  -999.00,9,   -999.0,-999.0000, -999,9, 1499,   2.8498,  27.5833,   -999.0,9
       KS04-06, EQPAC,KS-1085,  1,      9,02-16015,2,20040716,1800, -0.0045, 162.0217, 4242,   1766.4,   2.5554,  34.6221,2,   -999.0,9,  34.6219,2,    116.0,2,   125.32,2,  -999.00,9,    38.54,2,     0.00,2,     2.71,2, -999.000,9, -999.000,9,  -999.00,9,   -999.0,9,   -999.0,9,-999.0000,9,   -999.0,  9,  -999.00,9,   -999.0,  -999.00,9,  -999.00,9,  -999.00,9,  -999.00,9,   -999.0,-999.0000, -999,9, 1749,   2.4307,  27.6336,   -999.0,9
       KS04-06, EQPAC,KS-1085,  1,      8,02-16014,2,20040716,1754, -0.0045, 162.0217, 4242,   2018.9,   2.2218,  34.6410,2,   -999.0,9,  34.6415,2,    118.0,2,   134.13,2,  -999.00,9,    38.63,2,     0.00,2,     2.70,2, -999.000,9, -999.000,9,  -999.00,9,   -999.0,9,   -999.0,9,-999.0000,9,   -999.0,  9,  -999.00,9,   -999.0,  -999.00,9,  -999.00,9,  -999.00,9,  -999.00,9,   -999.0,-999.0000, -999,9, 1998,   2.0803,  27.6777,   -999.0,9
       KS04-06, EQPAC,KS-1085,  1,      7,02-16013,2,20040716,1748, -0.0045, 162.0217, 4242,   2273.9,   2.0093,  34.6518,2,   -999.0,9,  34.6512,2,    125.0,2,   137.73,2,  -999.00,9,    38.24,2,     0.00,2,     2.65,2, -999.000,9, -999.000,9,  -999.00,9,   -999.0,9,   -999.0,9,-999.0000,9,   -999.0,  9,  -999.00,9,   -999.0,  -999.00,9,  -999.00,9,  -999.00,9,  -999.00,9,   -999.0,-999.0000, -999,9, 2249,   1.8491,  27.7045,   -999.0,9
       KS04-06, EQPAC,KS-1085,  1,      6,02-16012,2,20040716,1741, -0.0045, 162.0217, 4242,   2528.4,   1.8317,  34.6622,2,   -999.0,9,  34.6618,2,    131.0,2,   141.62,2,  -999.00,9,    37.85,2,     0.00,2,     2.63,2, -999.000,9, -999.000,9,  -999.00,9,   -999.0,9,   -999.0,9,-999.0000,9,   -999.0,  9,  -999.00,9,   -999.0,  -999.00,9,  -999.00,9,  -999.00,9,  -999.00,9,   -999.0,-999.0000, -999,9, 2499,   1.6520,  27.7279,   -999.0,9
       KS04-06, EQPAC,KS-1085,  1,      5,02-16011,2,20040716,1735, -0.0045, 162.0217, 4242,   2781.9,   1.7304,  34.6673,2,   -999.0,9,  34.6663,2,    135.0,2,   144.59,2,  -999.00,9,    37.66,2,     0.00,2,     2.59,2, -999.000,9, -999.000,9,  -999.00,9,   -999.0,9,   -999.0,9,-999.0000,9,   -999.0,  9,  -999.00,9,   -999.0,  -999.00,9,  -999.00,9,  -999.00,9,  -999.00,9,   -999.0,-999.0000, -999,9, 2748,   1.5293,  27.7411,   -999.0,9
       KS04-06, EQPAC,KS-1085,  1,      4,02-16010,2,20040716,1726, -0.0045, 162.0217, 4242,   3037.3,   1.6747,  34.6712,2,   -999.0,9,  34.6694,2,    140.0,2,   143.08,2,  -999.00,9,    37.36,2,     0.00,2,     2.57,2, -999.000,9, -999.000,9,  -999.00,9,   -999.0,9,   -999.0,9,-999.0000,9,   -999.0,  9,  -999.00,9,   -999.0,  -999.00,9,  -999.00,9,  -999.00,9,  -999.00,9,   -999.0,-999.0000, -999,9, 2999,   1.4505,  27.7499,   -999.0,9
       KS04-06, EQPAC,KS-1085,  1,      3,02-16009,2,20040716,1719, -0.0045, 162.0217, 4242,   3291.6,   1.5656,  34.6783,2,   -999.0,9,  34.6757,2,    147.0,2,   142.18,2,  -999.00,9,    36.78,2,     0.00,2,     2.52,2, -999.000,9, -999.000,9,  -999.00,9,   -999.0,9,   -999.0,9,-999.0000,9,   -999.0,  9,  -999.00,9,   -999.0,  -999.00,9,  -999.00,9,  -999.00,9,  -999.00,9,   -999.0,-999.0000, -999,9, 3248,   1.3189,  27.7650,   -999.0,9
       KS04-06, EQPAC,KS-1085,  1,      2,02-16008,2,20040716,1712, -0.0045, 162.0217, 4242,   3546.5,   1.5085,  34.6836,2,   -999.0,9,  34.6820,2,    154.0,2,   140.21,2,  -999.00,9,    36.29,2,     0.00,2,     2.49,2, -999.000,9, -999.000,9,  -999.00,9,   -999.0,9,   -999.0,9,-999.0000,9,   -999.0,  9,  -999.00,9,   -999.0,  -999.00,9,  -999.00,9,  -999.00,9,  -999.00,9,   -999.0,-999.0000, -999,9, 3498,   1.2374,  27.7750,   -999.0,9
       KS04-06, EQPAC,KS-1085,  1,      1,02-16007,2,20040716,1657, -0.0045, 162.0217, 4242,   4172.6,   1.3922,  34.6964,2,   -999.0,9,  34.6946,2,    174.0,2,   129.22,2,  -999.00,9,    35.03,2,     0.00,2,     2.38,2, -999.000,9, -999.000,9,  -999.00,9,   -999.0,9,   -999.0,9,-999.0000,9,   -999.0,  9,  -999.00,9,   -999.0,  -999.00,9,  -999.00,9,  -999.00,9,  -999.00,9,   -999.0,-999.0000, -999,9, 4109,   1.0574,  27.7975,   -999.0,9