BOTTLE,20130510GEMDJMAYT
EXPOCODE,SECT_ID,STNNBR,CASTNO,SAMPNO,BTLNBR,BTLNBR_FLAG_W,DATE,TIME,LATITUDE,LONGITUDE,DEPTH,CTDPRS,CTDTMP,CTDSAL,CTDSAL_FLAG_W,CTDOXY,CTDOXY_FLAG_W,SALNTY,SALNTY_FLAG_W,OXYGEN,OXYGEN_FLAG_W,SILCAT,SILCAT_FLAG_W,NITRAT,NITRAT_FLAG_W,NO2+NO3,NO2+NO3_FLAG_W,NITRIT,NITRIT_FLAG_W,PHSPHT,PHSPHT_FLAG_W,CFC-11,CFC-11_FLAG_W,CFC-12,CFC-12_FLAG_W,DELC13,DELC13_FLAG_W,TCARBN,TCARBN_FLAG_W,ALKALI,ALKALI_FLAG_W,PH,PH_FLAG_W,PH_TMP,PH_SCALE,PH_NBS,PH_NBS_FLAG_W,C13ERR,TOTALP,TOTALP_FLAG_W,AMMONI,AMMONI_FLAG_W,CHLORA,CHLORA_FLAG_W,PPHYTN,PPHYTN_FLAG_W,REVPRS,REVTMP,DEPTH_,DEPTH_FLAG,CTDDEP,THETA,SIGTHT,DOC,DOC_FLAG_W
,,,,,,,GMT,GMT,,,METER,DBAR,ITS-90,PSS-78,,UMOL/KG,,PSS-78,,UMOL/KG,,UMOL/KG,,UMOL/KG,,UMOL/KG,,UMOL/KG,,UMOL/KG,,PMOL/KG,,PMOL/KG,,/MILLE,,UMOL/KG,,UMOL/KG,,25_DEG_C,,DEG_C,,,,/MILLE,UMOL/KG,,UMOL/KG,,UG/L,,UG/L,,DBAR,ITS-90,METERS,,METERS,DEG_C,,UMOL/L,
       KS04-06,  165E,KS-1081,  1,     24,02-16030,2,20040714,1418, -4.1597, 165.4667, 3381,      5.8,  29.7126,  34.6800,2,   -999.0,9,  34.6812,2,    198.0,2,     1.09,2,  -999.00,9,     0.00,2,     0.00,2,     0.17,2, -999.000,9, -999.000,9,  -999.00,9,   -999.0,9,   -999.0,9,-999.0000,9,   -999.0,  9,  -999.00,9,   -999.0,  -999.00,9,  -999.00,9,  -999.00,9,  -999.00,9,   -999.0,-999.0000, -999,9,    6,  29.7112,  21.5845,   -999.0,9
       KS04-06,  165E,KS-1081,  1,     23,02-16029,2,20040714,1418, -4.1597, 165.4667, 3381,     10.2,  29.7363,  34.6786,2,   -999.0,9,-999.0000,9,    197.0,2,     1.08,2,  -999.00,9,     0.00,2,     0.00,2,     0.17,2, -999.000,9, -999.000,9,  -999.00,9,   -999.0,9,   -999.0,9,-999.0000,9,   -999.0,  9,  -999.00,9,   -999.0,  -999.00,9,  -999.00,9,  -999.00,9,  -999.00,9,   -999.0,-999.0000, -999,9,   10,  29.7338,  21.5758,   -999.0,9
       KS04-06,  165E,KS-1081,  1,     22,02-10977,2,20040714,1417, -4.1597, 165.4667, 3381,     25.8,  29.7280,  34.6800,2,   -999.0,9,-999.0000,9,    197.0,2,     0.97,2,  -999.00,9,     0.00,2,     0.00,2,     0.17,2, -999.000,9, -999.000,9,  -999.00,9,   -999.0,9,   -999.0,9,-999.0000,9,   -999.0,  9,  -999.00,9,   -999.0,  -999.00,9,  -999.00,9,  -999.00,9,  -999.00,9,   -999.0,-999.0000, -999,9,   26,  29.7216,  21.5810,   -999.0,9
       KS04-06,  165E,KS-1081,  1,     21,02-16027,2,20040714,1416, -4.1597, 165.4667, 3381,     51.0,  29.9216,  35.4323,2,   -999.0,9,-999.0000,9,    192.0,2,     1.29,2,  -999.00,9,     0.49,2,     0.13,2,     0.29,2, -999.000,9, -999.000,9,  -999.00,9,   -999.0,9,   -999.0,9,-999.0000,9,   -999.0,  9,  -999.00,9,   -999.0,  -999.00,9,  -999.00,9,  -999.00,9,  -999.00,9,   -999.0,-999.0000, -999,9,   51,  29.9090,  22.0815,   -999.0,9
       KS04-06,  165E,KS-1081,  1,     20,02-16026,2,20040714,1415, -4.1597, 165.4667, 3381,     76.3,  29.0834,  35.5953,2,   -999.0,9,-999.0000,9,    174.0,2,     1.84,2,  -999.00,9,     4.40,2,     2.00,2,     0.52,2, -999.000,9, -999.000,9,  -999.00,9,   -999.0,9,   -999.0,9,-999.0000,9,   -999.0,  9,  -999.00,9,   -999.0,  -999.00,9,  -999.00,9,  -999.00,9,  -999.00,9,   -999.0,-999.0000, -999,9,   76,  29.0649,  22.4894,   -999.0,9
       KS04-06,  165E,KS-1081,  1,     19,02-16025,2,20040714,1411, -4.1597, 165.4667, 3381,     99.9,  28.6454,  35.6206,2,   -999.0,9,  35.6210,2,    176.0,2,     1.89,2,  -999.00,9,     5.28,2,     2.13,2,     0.56,2, -999.000,9, -999.000,9,  -999.00,9,   -999.0,9,   -999.0,9,-999.0000,9,   -999.0,  9,  -999.00,9,   -999.0,  -999.00,9,  -999.00,9,  -999.00,9,  -999.00,9,   -999.0,-999.0000, -999,9,   99,  28.6214,  22.6564,   -999.0,9
       KS04-06,  165E,KS-1081,  1,     18,02-16024,2,20040714,1410, -4.1597, 165.4667, 3381,    150.5,  25.7398,  36.0945,2,   -999.0,9,-999.0000,9,    143.0,2,     1.83,2,  -999.00,9,     7.72,2,     0.01,2,     0.75,2, -999.000,9, -999.000,9,  -999.00,9,   -999.0,9,   -999.0,9,-999.0000,9,   -999.0,  9,  -999.00,9,   -999.0,  -999.00,9,  -999.00,9,  -999.00,9,  -999.00,9,   -999.0,-999.0000, -999,9,  150,  25.7063,  23.9510,   -999.0,9
       KS04-06,  165E,KS-1081,  1,     17,02-16023,2,20040714,1401, -4.1597, 165.4667, 3381,    202.2,  18.9657,  35.6112,2,   -999.0,9,  35.6096,2,    120.0,2,     5.39,2,  -999.00,9,    13.36,2,     0.00,2,     1.15,2, -999.000,9, -999.000,9,  -999.00,9,   -999.0,9,   -999.0,9,-999.0000,9,   -999.0,  9,  -999.00,9,   -999.0,  -999.00,9,  -999.00,9,  -999.00,9,  -999.00,9,   -999.0,-999.0000, -999,9,  201,  18.9295,  25.5065,   -999.0,9
       KS04-06,  165E,KS-1081,  1,     16,02-16022,2,20040714,1357, -4.1597, 165.4667, 3381,    302.9,  10.9256,  34.8216,2,   -999.0,9,  34.8220,2,     80.0,2,    22.54,2,  -999.00,9,    29.03,2,     0.00,2,     2.08,2, -999.000,9, -999.000,9,  -999.00,9,   -999.0,9,   -999.0,9,-999.0000,9,   -999.0,  9,  -999.00,9,   -999.0,  -999.00,9,  -999.00,9,  -999.00,9,  -999.00,9,   -999.0,-999.0000, -999,9,  301,  10.8883,  26.6567,   -999.0,9
       KS04-06,  165E,KS-1081,  1,     15,02-16021,2,20040714,1355, -4.1597, 165.4667, 3381,    402.9,   8.9947,  34.6763,2,   -999.0,9,  34.6745,2,     82.0,2,    29.85,2,  -999.00,9,    32.82,2,     0.00,2,     2.32,2, -999.000,9, -999.000,9,  -999.00,9,   -999.0,9,   -999.0,9,-999.0000,9,   -999.0,  9,  -999.00,9,   -999.0,  -999.00,9,  -999.00,9,  -999.00,9,  -999.00,9,   -999.0,-999.0000, -999,9,  400,   8.9506,  26.8726,   -999.0,9
       KS04-06,  165E,KS-1081,  1,     14,02-16020,2,20040714,1351, -4.1597, 165.4667, 3381,    504.0,   7.8735,  34.6141,2,   -999.0,9,  34.6146,2,     69.0,2,    36.01,2,  -999.00,9,    36.61,2,     0.00,2,     2.58,2, -999.000,9, -999.000,9,  -999.00,9,   -999.0,9,   -999.0,9,-999.0000,9,   -999.0,  9,  -999.00,9,   -999.0,  -999.00,9,  -999.00,9,  -999.00,9,  -999.00,9,   -999.0,-999.0000, -999,9,  501,   7.8222,  26.9972,   -999.0,9
       KS04-06,  165E,KS-1081,  1,     13,02-16019,2,20040714,1349, -4.1597, 165.4667, 3381,    604.6,   6.8980,  34.5736,2,   -999.0,9,  34.5749,2,     70.0,2,    45.64,2,  -999.00,9,    38.65,2,     0.00,2,     2.73,2, -999.000,9, -999.000,9,  -999.00,9,   -999.0,9,   -999.0,9,-999.0000,9,   -999.0,  9,  -999.00,9,   -999.0,  -999.00,9,  -999.00,9,  -999.00,9,  -999.00,9,   -999.0,-999.0000, -999,9,  600,   6.8406,  27.1048,   -999.0,9
       KS04-06,  165E,KS-1081,  1,     12,02-16018,2,20040714,1329, -4.1597, 165.4667, 3381,    806.4,   5.3879,  34.5288,2,   -999.0,9,  34.5303,2,    112.0,2,    56.95,2,  -999.00,9,    36.70,2,     0.00,2,     2.61,2, -999.000,9, -999.000,9,  -999.00,9,   -999.0,9,   -999.0,9,-999.0000,9,   -999.0,  9,  -999.00,9,   -999.0,  -999.00,9,  -999.00,9,  -999.00,9,  -999.00,9,   -999.0,-999.0000, -999,9,  800,   5.3194,  27.2642,   -999.0,9
       KS04-06,  165E,KS-1081,  1,     11,02-16017,2,20040714,1321, -4.1597, 165.4667, 3381,   1007.2,   4.4078,  34.5475,2,   -999.0,9,  34.5472,2,    108.0,2,    78.67,2,  -999.00,9,    38.06,2,     0.00,2,     2.72,2, -999.000,9, -999.000,9,  -999.00,9,   -999.0,9,   -999.0,9,-999.0000,9,   -999.0,  9,  -999.00,9,   -999.0,  -999.00,9,  -999.00,9,  -999.00,9,  -999.00,9,   -999.0,-999.0000, -999,9,  999,   4.3283,  27.3915,   -999.0,9
       KS04-06,  165E,KS-1081,  1,     10,02-16016,2,20040714,1307, -4.1597, 165.4667, 3381,   1259.7,   3.5631,  34.5725,2,   -999.0,9,  34.5720,2,    116.0,2,    96.73,2,  -999.00,9,    37.86,2,     0.00,2,     2.70,2, -999.000,9, -999.000,9,  -999.00,9,   -999.0,9,   -999.0,9,-999.0000,9,   -999.0,  9,  -999.00,9,   -999.0,  -999.00,9,  -999.00,9,  -999.00,9,  -999.00,9,   -999.0,-999.0000, -999,9, 1249,   3.4694,  27.4995,   -999.0,9
       KS04-06,  165E,KS-1081,  1,      9,02-16015,2,20040714,1256, -4.1597, 165.4667, 3381,   1512.5,   2.9310,  34.5993,2,   -999.0,9,  34.6014,2,    121.0,2,   110.15,2,  -999.00,9,    38.05,2,     0.00,2,     2.68,2, -999.000,9, -999.000,9,  -999.00,9,   -999.0,9,   -999.0,9,-999.0000,9,   -999.0,  9,  -999.00,9,   -999.0,  -999.00,9,  -999.00,9,  -999.00,9,  -999.00,9,   -999.0,-999.0000, -999,9, 1499,   2.8229,  27.5813,   -999.0,9
       KS04-06,  165E,KS-1081,  1,      8,02-16014,2,20040714,1249, -4.1597, 165.4667, 3381,   1767.5,   2.4390,  34.6261,2,   -999.0,9,  34.6270,2,    126.0,2,   121.72,2,  -999.00,9,    38.05,2,     0.00,2,     2.67,2, -999.000,9, -999.000,9,  -999.00,9,   -999.0,9,   -999.0,9,-999.0000,9,   -999.0,  9,  -999.00,9,   -999.0,  -999.00,9,  -999.00,9,  -999.00,9,  -999.00,9,   -999.0,-999.0000, -999,9, 1750,   2.3157,  27.6465,   -999.0,9
       KS04-06,  165E,KS-1081,  1,      7,02-16013,2,20040714,1243, -4.1597, 165.4667, 3381,   2020.6,   2.1699,  34.6428,2,   -999.0,9,  34.6419,2,    125.0,2,   131.58,2,  -999.00,9,    38.05,2,     0.00,2,     2.67,2, -999.000,9, -999.000,9,  -999.00,9,   -999.0,9,   -999.0,9,-999.0000,9,   -999.0,  9,  -999.00,9,   -999.0,  -999.00,9,  -999.00,9,  -999.00,9,  -999.00,9,   -999.0,-999.0000, -999,9, 2000,   2.0291,  27.6832,   -999.0,9
       KS04-06,  165E,KS-1081,  1,      6,02-16012,2,20040714,1239, -4.1597, 165.4667, 3381,   2272.9,   1.9338,  34.6563,2,   -999.0,9,  34.6578,2,    132.0,2,   135.64,2,  -999.00,9,    37.66,2,     0.00,2,     2.62,2, -999.000,9, -999.000,9,  -999.00,9,   -999.0,9,   -999.0,9,-999.0000,9,   -999.0,  9,  -999.00,9,   -999.0,  -999.00,9,  -999.00,9,  -999.00,9,  -999.00,9,   -999.0,-999.0000, -999,9, 2248,   1.7750,  27.7139,   -999.0,9
       KS04-06,  165E,KS-1081,  1,      5,02-16011,2,20040714,1234, -4.1597, 165.4667, 3381,   2527.4,   1.8109,  34.6634,2,   -999.0,9,  34.6588,2,    133.0,2,   137.43,2,  -999.00,9,    37.66,2,     0.00,2,     2.61,2, -999.000,9, -999.000,9,  -999.00,9,   -999.0,9,   -999.0,9,-999.0000,9,   -999.0,  9,  -999.00,9,   -999.0,  -999.00,9,  -999.00,9,  -999.00,9,  -999.00,9,   -999.0,-999.0000, -999,9, 2498,   1.6316,  27.7303,   -999.0,9
       KS04-06,  165E,KS-1081,  1,      4,02-16010,2,20040714,1230, -4.1597, 165.4667, 3381,   2779.8,   1.7246,  34.6681,2,   -999.0,9,  34.6686,2,    151.0,2,   140.85,2,  -999.00,9,    37.56,2,     0.00,2,     2.59,2, -999.000,9, -999.000,9,  -999.00,9,   -999.0,9,   -999.0,9,-999.0000,9,   -999.0,  9,  -999.00,9,   -999.0,  -999.00,9,  -999.00,9,  -999.00,9,  -999.00,9,   -999.0,-999.0000, -999,9, 2746,   1.5238,  27.7421,   -999.0,9
       KS04-06,  165E,KS-1081,  1,      3,02-16009,2,20040714,1226, -4.1597, 165.4667, 3381,   3036.4,   1.6570,  34.6726,2,   -999.0,9,  34.6737,2,    142.0,2,   140.11,2,  -999.00,9,    37.17,2,     0.00,2,     2.56,2, -999.000,9, -999.000,9,  -999.00,9,   -999.0,9,   -999.0,9,-999.0000,9,   -999.0,  9,  -999.00,9,   -999.0,  -999.00,9,  -999.00,9,  -999.00,9,  -999.00,9,   -999.0,-999.0000, -999,9, 2998,   1.4333,  27.7523,   -999.0,9
       KS04-06,  165E,KS-1081,  1,      2,02-16008,2,20040714,1221, -4.1597, 165.4667, 3381,   3292.0,   1.5461,  34.6802,2,   -999.0,9,  34.6789,2,    151.0,2,   141.74,2,  -999.00,9,    36.68,2,     0.00,2,     2.52,2, -999.000,9, -999.000,9,  -999.00,9,   -999.0,9,   -999.0,9,-999.0000,9,   -999.0,  9,  -999.00,9,   -999.0,  -999.00,9,  -999.00,9,  -999.00,9,  -999.00,9,   -999.0,-999.0000, -999,9, 3248,   1.2998,  27.7678,   -999.0,9
       KS04-06,  165E,KS-1081,  1,      1,02-16007,2,20040714,1220, -4.1597, 165.4667, 3381,   3346.7,   1.5295,  34.6817,2,   -999.0,9,  34.6798,2,    153.0,2,   141.71,2,  -999.00,9,    36.00,2,     0.00,2,     2.50,2, -999.000,9, -999.000,9,  -999.00,9,   -999.0,9,   -999.0,9,-999.0000,9,   -999.0,  9,  -999.00,9,   -999.0,  -999.00,9,  -999.00,9,  -999.00,9,  -999.00,9,   -999.0,-999.0000, -999,9, 3302,   1.2781,  27.7706,   -999.0,9