BOTTLE,20130510GEMDJMAYT
EXPOCODE,SECT_ID,STNNBR,CASTNO,SAMPNO,BTLNBR,BTLNBR_FLAG_W,DATE,TIME,LATITUDE,LONGITUDE,DEPTH,CTDPRS,CTDTMP,CTDSAL,CTDSAL_FLAG_W,CTDOXY,CTDOXY_FLAG_W,SALNTY,SALNTY_FLAG_W,OXYGEN,OXYGEN_FLAG_W,SILCAT,SILCAT_FLAG_W,NITRAT,NITRAT_FLAG_W,NO2+NO3,NO2+NO3_FLAG_W,NITRIT,NITRIT_FLAG_W,PHSPHT,PHSPHT_FLAG_W,CFC-11,CFC-11_FLAG_W,CFC-12,CFC-12_FLAG_W,DELC13,DELC13_FLAG_W,TCARBN,TCARBN_FLAG_W,ALKALI,ALKALI_FLAG_W,PH,PH_FLAG_W,PH_TMP,PH_SCALE,PH_NBS,PH_NBS_FLAG_W,C13ERR,TOTALP,TOTALP_FLAG_W,AMMONI,AMMONI_FLAG_W,CHLORA,CHLORA_FLAG_W,PPHYTN,PPHYTN_FLAG_W,REVPRS,REVTMP,DEPTH_,DEPTH_FLAG,CTDDEP,THETA,SIGTHT,DOC,DOC_FLAG_W
,,,,,,,GMT,GMT,,,METER,DBAR,ITS-90,PSS-78,,UMOL/KG,,PSS-78,,UMOL/KG,,UMOL/KG,,UMOL/KG,,UMOL/KG,,UMOL/KG,,UMOL/KG,,PMOL/KG,,PMOL/KG,,/MILLE,,UMOL/KG,,UMOL/KG,,25_DEG_C,,DEG_C,,,,/MILLE,UMOL/KG,,UMOL/KG,,UG/L,,UG/L,,DBAR,ITS-90,METERS,,METERS,DEG_C,,UMOL/L,
       KS04-06,  NONE,KS-1100,  1,     24,02-16030,2,20040724,2104,  5.0003, 147.6137, 4611,      5.5,  29.2961,  34.0468,2,   -999.0,9,  34.0488,2,    199.0,2,     1.59,2,  -999.00,9,     0.00,2,     0.00,2,     0.02,2, -999.000,9, -999.000,9,  -999.00,9,   -999.0,9,   -999.0,9,-999.0000,9,   -999.0,  9,  -999.00,9,   -999.0,  -999.00,9,  -999.00,9,  -999.00,9,  -999.00,9,   -999.0,-999.0000, -999,9,    5,  29.2948,  21.2500,   -999.0,9
       KS04-06,  NONE,KS-1100,  1,     23,02-16029,2,20040724,2104,  5.0003, 147.6137, 4611,     10.4,  29.2031,  34.0452,2,   -999.0,9,-999.0000,9,    198.0,2,     1.67,2,  -999.00,9,     0.00,2,     0.00,2,     0.02,2, -999.000,9, -999.000,9,  -999.00,9,   -999.0,9,   -999.0,9,-999.0000,9,   -999.0,  9,  -999.00,9,   -999.0,  -999.00,9,  -999.00,9,  -999.00,9,  -999.00,9,   -999.0,-999.0000, -999,9,   10,  29.2006,  21.2804,   -999.0,9
       KS04-06,  NONE,KS-1100,  1,     22,02-10977,2,20040724,2102,  5.0003, 147.6137, 4611,     25.2,  29.0914,  34.0535,2,   -999.0,9,-999.0000,9,    200.0,2,     1.61,2,  -999.00,9,     0.00,2,     0.00,2,     0.01,2, -999.000,9, -999.000,9,  -999.00,9,   -999.0,9,   -999.0,9,-999.0000,9,   -999.0,  9,  -999.00,9,   -999.0,  -999.00,9,  -999.00,9,  -999.00,9,  -999.00,9,   -999.0,-999.0000, -999,9,   25,  29.0853,  21.3252,   -999.0,9
       KS04-06,  NONE,KS-1100,  1,     21,02-16027,2,20040724,2059,  5.0003, 147.6137, 4611,     49.7,  28.4417,  34.1970,2,   -999.0,9,-999.0000,9,    200.0,2,     1.75,2,  -999.00,9,     0.00,2,     0.00,2,     0.05,2, -999.000,9, -999.000,9,  -999.00,9,   -999.0,9,   -999.0,9,-999.0000,9,   -999.0,  9,  -999.00,9,   -999.0,  -999.00,9,  -999.00,9,  -999.00,9,  -999.00,9,   -999.0,-999.0000, -999,9,   49,  28.4299,  21.6501,   -999.0,9
       KS04-06,  NONE,KS-1100,  1,     20,02-16026,2,20040724,2058,  5.0003, 147.6137, 4611,     74.6,  26.9929,  34.7436,2,   -999.0,9,-999.0000,9,    164.0,2,     2.34,2,  -999.00,9,     3.23,2,     0.28,2,     0.36,2, -999.000,9, -999.000,9,  -999.00,9,   -999.0,9,   -999.0,9,-999.0000,9,   -999.0,  9,  -999.00,9,   -999.0,  -999.00,9,  -999.00,9,  -999.00,9,  -999.00,9,   -999.0,-999.0000, -999,9,   74,  26.9758,  22.5323,   -999.0,9
       KS04-06,  NONE,KS-1100,  1,     19,02-16025,2,20040724,2057,  5.0003, 147.6137, 4611,     99.9,  25.4957,  35.0340,2,   -999.0,9,  35.0480,4,    131.0,2,     4.02,2,  -999.00,9,     8.40,2,     0.53,2,     0.66,2, -999.000,9, -999.000,9,  -999.00,9,   -999.0,9,   -999.0,9,-999.0000,9,   -999.0,  9,  -999.00,9,   -999.0,  -999.00,9,  -999.00,9,  -999.00,9,  -999.00,9,   -999.0,-999.0000, -999,9,   99,  25.4737,  23.2220,   -999.0,9
       KS04-06,  NONE,KS-1100,  1,     18,02-16024,2,20040724,2056,  5.0003, 147.6137, 4611,    124.3,  24.2620,  35.1519,2,   -999.0,9,-999.0000,9,    130.0,2,     4.71,2,  -999.00,9,     9.18,2,     0.25,2,     0.71,2, -999.000,9, -999.000,9,  -999.00,9,   -999.0,9,   -999.0,9,-999.0000,9,   -999.0,  9,  -999.00,9,   -999.0,  -999.00,9,  -999.00,9,  -999.00,9,  -999.00,9,   -999.0,-999.0000, -999,9,  124,  24.2356,  23.6863,   -999.0,9
       KS04-06,  NONE,KS-1100,  1,     17,02-16023,2,20040724,2055,  5.0003, 147.6137, 4611,    150.1,  22.7303,  35.1334,2,   -999.0,9,-999.0000,9,    144.0,2,     4.79,2,  -999.00,9,     8.20,2,     0.04,2,     0.65,2, -999.000,9, -999.000,9,  -999.00,9,   -999.0,9,   -999.0,9,-999.0000,9,   -999.0,  9,  -999.00,9,   -999.0,  -999.00,9,  -999.00,9,  -999.00,9,  -999.00,9,   -999.0,-999.0000, -999,9,  149,  22.6999,  24.1210,   -999.0,9
       KS04-06,  NONE,KS-1100,  1,     16,02-16022,2,20040724,2053,  5.0003, 147.6137, 4611,    200.8,  16.8227,  34.7222,2,   -999.0,9,  34.7030,4,    132.0,2,    14.35,2,  -999.00,9,    14.92,2,     0.01,2,     1.10,2, -999.000,9, -999.000,9,  -999.00,9,   -999.0,9,   -999.0,9,-999.0000,9,   -999.0,  9,  -999.00,9,   -999.0,  -999.00,9,  -999.00,9,  -999.00,9,  -999.00,9,   -999.0,-999.0000, -999,9,  200,  16.7899,  25.3507,   -999.0,9
       KS04-06,  NONE,KS-1100,  1,     15,02-16021,2,20040724,2052,  5.0003, 147.6137, 4611,    250.6,  11.1384,  34.5598,2,   -999.0,9,-999.0000,9,     79.0,2,    29.96,2,  -999.00,9,    27.86,2,     0.00,2,     2.03,2, -999.000,9, -999.000,9,  -999.00,9,   -999.0,9,   -999.0,9,-999.0000,9,   -999.0,  9,  -999.00,9,   -999.0,  -999.00,9,  -999.00,9,  -999.00,9,  -999.00,9,   -999.0,-999.0000, -999,9,  249,  11.1073,  26.4132,   -999.0,9
       KS04-06,  NONE,KS-1100,  1,     14,02-16020,2,20040724,2050,  5.0003, 147.6137, 4611,    302.0,   9.4884,  34.6206,2,   -999.0,9,  34.6213,2,     54.0,2,    35.79,2,  -999.00,9,    33.50,2,     0.00,2,     2.42,2, -999.000,9, -999.000,9,  -999.00,9,   -999.0,9,   -999.0,9,-999.0000,9,   -999.0,  9,  -999.00,9,   -999.0,  -999.00,9,  -999.00,9,  -999.00,9,  -999.00,9,   -999.0,-999.0000, -999,9,  300,   9.4545,  26.7472,   -999.0,9
       KS04-06,  NONE,KS-1100,  1,     13,02-16019,2,20040724,2047,  5.0003, 147.6137, 4611,    401.9,   8.5078,  34.6034,2,   -999.0,9,  34.6028,2,     61.0,2,    40.13,2,  -999.00,9,    34.67,2,     0.00,2,     2.50,2, -999.000,9, -999.000,9,  -999.00,9,   -999.0,9,   -999.0,9,-999.0000,9,   -999.0,  9,  -999.00,9,   -999.0,  -999.00,9,  -999.00,9,  -999.00,9,  -999.00,9,   -999.0,-999.0000, -999,9,  399,   8.4653,  26.8917,   -999.0,9
       KS04-06,  NONE,KS-1100,  1,     12,02-16018,2,20040724,2044,  5.0003, 147.6137, 4611,    503.4,   7.6564,  34.5711,2,   -999.0,9,  34.5710,2,     74.0,2,    45.78,2,  -999.00,9,    35.05,2,     0.00,2,     2.53,2, -999.000,9, -999.000,9,  -999.00,9,   -999.0,9,   -999.0,9,-999.0000,9,   -999.0,  9,  -999.00,9,   -999.0,  -999.00,9,  -999.00,9,  -999.00,9,  -999.00,9,   -999.0,-999.0000, -999,9,  500,   7.6061,  26.9950,   -999.0,9
       KS04-06,  NONE,KS-1100,  1,     11,02-16017,2,20040724,2040,  5.0003, 147.6137, 4611,    603.4,   6.9611,  34.5530,2,   -999.0,9,  34.5529,2,     76.0,2,    51.99,2,  -999.00,9,    36.32,2,     0.00,2,     2.62,2, -999.000,9, -999.000,9,  -999.00,9,   -999.0,9,   -999.0,9,-999.0000,9,   -999.0,  9,  -999.00,9,   -999.0,  -999.00,9,  -999.00,9,  -999.00,9,  -999.00,9,   -999.0,-999.0000, -999,9,  599,   6.9035,  27.0800,   -999.0,9
       KS04-06,  NONE,KS-1100,  1,     10,02-16016,2,20040724,2037,  5.0003, 147.6137, 4611,    705.0,   6.0951,  34.5362,2,   -999.0,9,  34.5360,2,     77.0,2,    64.58,2,  -999.00,9,    37.29,2,     0.00,2,     2.71,2, -999.000,9, -999.000,9,  -999.00,9,   -999.0,9,   -999.0,9,-999.0000,9,   -999.0,  9,  -999.00,9,   -999.0,  -999.00,9,  -999.00,9,  -999.00,9,  -999.00,9,   -999.0,-999.0000, -999,9,  700,   6.0319,  27.1821,   -999.0,9
       KS04-06,  NONE,KS-1100,  1,      9,02-16015,2,20040724,2033,  5.0003, 147.6137, 4611,    807.1,   5.2140,  34.5410,2,   -999.0,9,  34.5404,2,     85.0,2,    77.66,2,  -999.00,9,    37.96,2,     0.00,2,     2.74,2, -999.000,9, -999.000,9,  -999.00,9,   -999.0,9,   -999.0,9,-999.0000,9,   -999.0,  9,  -999.00,9,   -999.0,  -999.00,9,  -999.00,9,  -999.00,9,  -999.00,9,   -999.0,-999.0000, -999,9,  801,   5.1465,  27.2943,   -999.0,9
       KS04-06,  NONE,KS-1100,  1,      8,02-16014,2,20040724,2030,  5.0003, 147.6137, 4611,    906.9,   4.7350,  34.5493,2,   -999.0,9,  34.5490,2,     92.0,2,    83.30,2,  -999.00,9,    38.16,2,     0.00,2,     2.75,2, -999.000,9, -999.000,9,  -999.00,9,   -999.0,9,   -999.0,9,-999.0000,9,   -999.0,  9,  -999.00,9,   -999.0,  -999.00,9,  -999.00,9,  -999.00,9,  -999.00,9,   -999.0,-999.0000, -999,9,  900,   4.6618,  27.3563,   -999.0,9
       KS04-06,  NONE,KS-1100,  1,      7,02-16013,2,20040724,2028,  5.0003, 147.6137, 4611,   1005.9,   4.3512,  34.5584,2,   -999.0,9,  34.5584,2,     89.0,2,    92.19,2,  -999.00,9,    38.84,2,     0.00,2,     2.79,2, -999.000,9, -999.000,9,  -999.00,9,   -999.0,9,   -999.0,9,-999.0000,9,   -999.0,  9,  -999.00,9,   -999.0,  -999.00,9,  -999.00,9,  -999.00,9,  -999.00,9,   -999.0,-999.0000, -999,9,  998,   4.2722,  27.4061,   -999.0,9
       KS04-06,  NONE,KS-1100,  1,      6,02-16012,3,20040724,2023,  5.0003, 147.6137, 4611,   1257.1,   3.5603,  34.5827,2,   -999.0,9,  34.5828,2,     90.0,2,   107.91,2,  -999.00,9,    39.51,2,     0.00,2,     2.83,2, -999.000,9, -999.000,9,  -999.00,9,   -999.0,9,   -999.0,9,-999.0000,9,   -999.0,  9,  -999.00,9,   -999.0,  -999.00,9,  -999.00,9,  -999.00,9,  -999.00,9,   -999.0,-999.0000, -999,9, 1246,   3.4668,  27.5078,   -999.0,9
       KS04-06,  NONE,KS-1100,  1,      5,02-16011,2,20040724,2010,  5.0003, 147.6137, 4611,   1510.3,   3.0226,  34.6011,2,   -999.0,9,  34.6009,2,     99.0,2,   120.56,2,  -999.00,9,    39.32,2,     0.00,2,     2.80,2, -999.000,9, -999.000,9,  -999.00,9,   -999.0,9,   -999.0,9,-999.0000,9,   -999.0,  9,  -999.00,9,   -999.0,  -999.00,9,  -999.00,9,  -999.00,9,  -999.00,9,   -999.0,-999.0000, -999,9, 1497,   2.9136,  27.5745,   -999.0,9
       KS04-06,  NONE,KS-1100,  1,      4,02-16010,2,20040724,2005,  5.0003, 147.6137, 4611,   1766.3,   2.5172,  34.6229,2,   -999.0,9,  34.6225,2,    108.0,2,   128.73,2,  -999.00,9,    38.92,2,     0.00,2,     2.76,2, -999.000,9, -999.000,9,  -999.00,9,   -999.0,9,   -999.0,9,-999.0000,9,   -999.0,  9,  -999.00,9,   -999.0,  -999.00,9,  -999.00,9,  -999.00,9,  -999.00,9,   -999.0,-999.0000, -999,9, 1749,   2.3930,  27.6375,   -999.0,9
       KS04-06,  NONE,KS-1100,  1,      3,02-16009,9,20040724,1959,  5.0003, 147.6137, 4611,   2019.6,   2.2106,  34.6387,2,   -999.0,9,-999.0000,9,   -999.0,9,  -999.00,9,  -999.00,9,  -999.00,9,  -999.00,9,  -999.00,9, -999.000,9, -999.000,9,  -999.00,9,   -999.0,9,   -999.0,9,-999.0000,9,   -999.0,  9,  -999.00,9,   -999.0,  -999.00,9,  -999.00,9,  -999.00,9,  -999.00,9,   -999.0,-999.0000, -999,9, 1999,   2.0693,  27.6767,   -999.0,9
       KS04-06,  NONE,KS-1100,  1,      2,02-16008,9,20040724,1959,  5.0003, 147.6137, 4611,   2019.8,   2.2106,  34.6387,2,   -999.0,9,-999.0000,9,   -999.0,9,  -999.00,9,  -999.00,9,  -999.00,9,  -999.00,9,  -999.00,9, -999.000,9, -999.000,9,  -999.00,9,   -999.0,9,   -999.0,9,-999.0000,9,   -999.0,  9,  -999.00,9,   -999.0,  -999.00,9,  -999.00,9,  -999.00,9,  -999.00,9,   -999.0,-999.0000, -999,9, 1999,   2.0692,  27.6767,   -999.0,9
       KS04-06,  NONE,KS-1100,  1,      1,02-16007,2,20040724,1959,  5.0003, 147.6137, 4611,   2019.2,   2.2080,  34.6388,2,   -999.0,9,  34.6374,2,    114.0,2,   136.71,2,  -999.00,9,    38.63,2,     0.00,2,     2.72,2, -999.000,9, -999.000,9,  -999.00,9,   -999.0,9,   -999.0,9,-999.0000,9,   -999.0,  9,  -999.00,9,   -999.0,  -999.00,9,  -999.00,9,  -999.00,9,  -999.00,9,   -999.0,-999.0000, -999,9, 1998,   2.0667,  27.6770,   -999.0,9