BOTTLE,20130510GEMDJMAYT
EXPOCODE,SECT_ID,STNNBR,CASTNO,SAMPNO,BTLNBR,BTLNBR_FLAG_W,DATE,TIME,LATITUDE,LONGITUDE,DEPTH,CTDPRS,CTDTMP,CTDSAL,CTDSAL_FLAG_W,CTDOXY,CTDOXY_FLAG_W,SALNTY,SALNTY_FLAG_W,OXYGEN,OXYGEN_FLAG_W,SILCAT,SILCAT_FLAG_W,NITRAT,NITRAT_FLAG_W,NO2+NO3,NO2+NO3_FLAG_W,NITRIT,NITRIT_FLAG_W,PHSPHT,PHSPHT_FLAG_W,CFC-11,CFC-11_FLAG_W,CFC-12,CFC-12_FLAG_W,DELC13,DELC13_FLAG_W,TCARBN,TCARBN_FLAG_W,ALKALI,ALKALI_FLAG_W,PH,PH_FLAG_W,PH_TMP,PH_SCALE,PH_NBS,PH_NBS_FLAG_W,C13ERR,TOTALP,TOTALP_FLAG_W,AMMONI,AMMONI_FLAG_W,CHLORA,CHLORA_FLAG_W,PPHYTN,PPHYTN_FLAG_W,REVPRS,REVTMP,DEPTH_,DEPTH_FLAG,CTDDEP,THETA,SIGTHT,DOC,DOC_FLAG_W
,,,,,,,GMT,GMT,,,METER,DBAR,ITS-90,PSS-78,,UMOL/KG,,PSS-78,,UMOL/KG,,UMOL/KG,,UMOL/KG,,UMOL/KG,,UMOL/KG,,UMOL/KG,,PMOL/KG,,PMOL/KG,,/MILLE,,UMOL/KG,,UMOL/KG,,25_DEG_C,,DEG_C,,,,/MILLE,UMOL/KG,,UMOL/KG,,UG/L,,UG/L,,DBAR,ITS-90,METERS,,METERS,DEG_C,,UMOL/L,
       KS04-06,  NONE,KS-1042,  1,     24,02-16030,2,20040622,1223, 27.9972, 156.9985, 6125,      5.5,  26.4691,  35.1404,2,   -999.0,9,  35.1477,4,    208.0,2,     1.42,2,  -999.00,9,     0.00,2,     0.00,2,     0.00,2, -999.000,9, -999.000,9,  -999.00,9,   -999.0,9,   -999.0,9,-999.0000,9,   -999.0,  9,  -999.00,9,   -999.0,  -999.00,9,  -999.00,9,  -999.00,9,  -999.00,9,   -999.0,-999.0000, -999,9,    5,  26.4679,  22.9925,   -999.0,9
       KS04-06,  NONE,KS-1042,  1,     23,02-16029,2,20040622,1222, 27.9972, 156.9985, 6125,     10.4,  26.2615,  35.1583,2,   -999.0,9,-999.0000,9,    209.0,2,     1.41,2,  -999.00,9,     0.00,2,     0.00,2,     0.00,2, -999.000,9, -999.000,9,  -999.00,9,   -999.0,9,   -999.0,9,-999.0000,9,   -999.0,  9,  -999.00,9,   -999.0,  -999.00,9,  -999.00,9,  -999.00,9,  -999.00,9,   -999.0,-999.0000, -999,9,   10,  26.2592,  23.0717,   -999.0,9
       KS04-06,  NONE,KS-1042,  1,     22,02-10977,2,20040622,1218, 27.9972, 156.9985, 6125,     26.2,  25.3134,  35.2837,2,   -999.0,9,-999.0000,9,    216.0,2,     1.72,2,  -999.00,9,     0.00,2,     0.00,2,     0.00,2, -999.000,9, -999.000,9,  -999.00,9,   -999.0,9,   -999.0,9,-999.0000,9,   -999.0,  9,  -999.00,9,   -999.0,  -999.00,9,  -999.00,9,  -999.00,9,  -999.00,9,   -999.0,-999.0000, -999,9,   26,  25.3077,  23.4616,   -999.0,9
       KS04-06,  NONE,KS-1042,  1,     21,02-16027,2,20040622,1210, 27.9972, 156.9985, 6125,     50.6,  22.2291,  35.1568,2,   -999.0,9,-999.0000,9,    234.0,2,     1.92,2,  -999.00,9,     0.00,2,     0.00,2,     0.00,2, -999.000,9, -999.000,9,  -999.00,9,   -999.0,9,   -999.0,9,-999.0000,9,   -999.0,  9,  -999.00,9,   -999.0,  -999.00,9,  -999.00,9,  -999.00,9,  -999.00,9,   -999.0,-999.0000, -999,9,   50,  22.2190,  24.2753,   -999.0,9
       KS04-06,  NONE,KS-1042,  1,     20,02-16026,2,20040622,1209, 27.9972, 156.9985, 6125,     75.5,  20.4125,  35.0812,2,   -999.0,9,-999.0000,9,    234.0,2,     2.02,2,  -999.00,9,     0.00,2,     0.00,2,     0.01,2, -999.000,9, -999.000,9,  -999.00,9,   -999.0,9,   -999.0,9,-999.0000,9,   -999.0,  9,  -999.00,9,   -999.0,  -999.00,9,  -999.00,9,  -999.00,9,  -999.00,9,   -999.0,-999.0000, -999,9,   75,  20.3984,  24.7179,   -999.0,9
       KS04-06,  NONE,KS-1042,  1,     19,02-16025,3,20040622,1208, 27.9972, 156.9985, 6125,     99.2,  19.7569,  35.0349,2,   -999.0,9,  35.0437,4,    234.0,2,     2.12,2,  -999.00,9,     0.00,2,     0.00,2,     0.02,2, -999.000,9, -999.000,9,  -999.00,9,   -999.0,9,   -999.0,9,-999.0000,9,   -999.0,  9,  -999.00,9,   -999.0,  -999.00,9,  -999.00,9,  -999.00,9,  -999.00,9,   -999.0,-999.0000, -999,9,   99,  19.7387,  24.8570,   -999.0,9
       KS04-06,  NONE,KS-1042,  1,     18,02-16024,2,20040622,1207, 27.9972, 156.9985, 6125,    125.8,  18.9499,  34.9639,2,   -999.0,9,-999.0000,9,    232.0,2,     2.32,2,  -999.00,9,     0.10,2,     0.02,2,     0.04,2, -999.000,9, -999.000,9,  -999.00,9,   -999.0,9,   -999.0,9,-999.0000,9,   -999.0,  9,  -999.00,9,   -999.0,  -999.00,9,  -999.00,9,  -999.00,9,  -999.00,9,   -999.0,-999.0000, -999,9,  125,  18.9275,  25.0121,   -999.0,9
       KS04-06,  NONE,KS-1042,  1,     17,02-16023,3,20040622,1206, 27.9972, 156.9985, 6125,    151.8,  18.0534,  34.8499,2,   -999.0,9,-999.0000,9,    213.0,2,     3.22,2,  -999.00,9,     2.73,2,     0.03,2,     0.20,2, -999.000,9, -999.000,9,  -999.00,9,   -999.0,9,   -999.0,9,-999.0000,9,   -999.0,  9,  -999.00,9,   -999.0,  -999.00,9,  -999.00,9,  -999.00,9,  -999.00,9,   -999.0,-999.0000, -999,9,  151,  18.0273,  25.1503,   -999.0,9
       KS04-06,  NONE,KS-1042,  1,     16,02-16022,2,20040622,1202, 27.9972, 156.9985, 6125,    201.2,  16.8789,  34.7296,2,   -999.0,9,  34.7305,2,    208.0,2,     4.54,2,  -999.00,9,     4.97,2,     0.01,2,     0.33,2, -999.000,9, -999.000,9,  -999.00,9,   -999.0,9,   -999.0,9,-999.0000,9,   -999.0,  9,  -999.00,9,   -999.0,  -999.00,9,  -999.00,9,  -999.00,9,  -999.00,9,   -999.0,-999.0000, -999,9,  200,  16.8459,  25.3432,   -999.0,9
       KS04-06,  NONE,KS-1042,  1,     15,02-16021,2,20040622,1200, 27.9972, 156.9985, 6125,    251.8,  16.1336,  34.6679,2,   -999.0,9,-999.0000,9,    207.0,2,     5.86,2,  -999.00,9,     6.34,2,     0.00,2,     0.43,2, -999.000,9, -999.000,9,  -999.00,9,   -999.0,9,   -999.0,9,-999.0000,9,   -999.0,  9,  -999.00,9,   -999.0,  -999.00,9,  -999.00,9,  -999.00,9,  -999.00,9,   -999.0,-999.0000, -999,9,  250,  16.0936,  25.4708,   -999.0,9
       KS04-06,  NONE,KS-1042,  1,     14,02-16020,2,20040622,1159, 27.9972, 156.9985, 6125,    301.7,  15.3321,  34.5994,2,   -999.0,9,  34.6028,2,    206.0,2,     7.56,2,  -999.00,9,     7.61,2,     0.00,2,     0.52,2, -999.000,9, -999.000,9,  -999.00,9,   -999.0,9,   -999.0,9,-999.0000,9,   -999.0,  9,  -999.00,9,   -999.0,  -999.00,9,  -999.00,9,  -999.00,9,  -999.00,9,   -999.0,-999.0000, -999,9,  299,  15.2857,  25.6001,   -999.0,9
       KS04-06,  NONE,KS-1042,  1,     13,02-16019,2,20040622,1157, 27.9972, 156.9985, 6125,    402.2,  13.2880,  34.4525,2,   -999.0,9,  34.4567,2,    202.0,2,    12.70,2,  -999.00,9,    11.21,2,     0.00,2,     0.76,2, -999.000,9, -999.000,9,  -999.00,9,   -999.0,9,   -999.0,9,-999.0000,9,   -999.0,  9,  -999.00,9,   -999.0,  -999.00,9,  -999.00,9,  -999.00,9,  -999.00,9,   -999.0,-999.0000, -999,9,  399,  13.2317,  25.9221,   -999.0,9
       KS04-06,  NONE,KS-1042,  1,     12,02-16018,2,20040622,1154, 27.9972, 156.9985, 6125,    502.9,  10.7754,  34.2614,2,   -999.0,9,  34.2646,2,    200.0,2,    21.03,2,  -999.00,9,    15.98,2,     0.00,2,     1.11,2, -999.000,9, -999.000,9,  -999.00,9,   -999.0,9,   -999.0,9,-999.0000,9,   -999.0,  9,  -999.00,9,   -999.0,  -999.00,9,  -999.00,9,  -999.00,9,  -999.00,9,   -999.0,-999.0000, -999,9,  499,  10.7139,  26.2514,   -999.0,9
       KS04-06,  NONE,KS-1042,  1,     11,02-16017,2,20040622,1152, 27.9972, 156.9985, 6125,    604.1,   8.3936,  34.1029,2,   -999.0,9,  34.1050,2,    173.0,2,    35.67,2,  -999.00,9,    22.70,2,     0.00,2,     1.61,2, -999.000,9, -999.000,9,  -999.00,9,   -999.0,9,   -999.0,9,-999.0000,9,   -999.0,  9,  -999.00,9,   -999.0,  -999.00,9,  -999.00,9,  -999.00,9,  -999.00,9,   -999.0,-999.0000, -999,9,  599,   8.3299,  26.5197,   -999.0,9
       KS04-06,  NONE,KS-1042,  1,     10,02-16016,2,20040622,1150, 27.9972, 156.9985, 6125,    705.9,   6.4873,  34.0564,2,   -999.0,9,  34.0566,2,    127.0,2,    57.75,2,  -999.00,9,    30.29,2,     0.00,2,     2.18,2, -999.000,9, -999.000,9,  -999.00,9,   -999.0,9,   -999.0,9,-999.0000,9,   -999.0,  9,  -999.00,9,   -999.0,  -999.00,9,  -999.00,9,  -999.00,9,  -999.00,9,   -999.0,-999.0000, -999,9,  700,   6.4225,  26.7528,   -999.0,9
       KS04-06,  NONE,KS-1042,  1,      9,02-16015,2,20040622,1134, 27.9972, 156.9985, 6125,    805.5,   5.1608,  34.0955,2,   -999.0,9,  34.0962,2,     90.0,2,    80.04,2,  -999.00,9,    35.83,2,     0.00,2,     2.59,2, -999.000,9, -999.000,9,  -999.00,9,   -999.0,9,   -999.0,9,-999.0000,9,   -999.0,  9,  -999.00,9,   -999.0,  -999.00,9,  -999.00,9,  -999.00,9,  -999.00,9,   -999.0,-999.0000, -999,9,  799,   5.0944,  26.9473,   -999.0,9
       KS04-06,  NONE,KS-1042,  1,      8,02-16014,2,20040622,1132, 27.9972, 156.9985, 6125,    908.3,   4.3724,  34.1927,2,   -999.0,9,  34.1932,2,     60.0,2,   100.26,2,  -999.00,9,    39.53,2,     0.00,2,     2.85,2, -999.000,9, -999.000,9,  -999.00,9,   -999.0,9,   -999.0,9,-999.0000,9,   -999.0,  9,  -999.00,9,   -999.0,  -999.00,9,  -999.00,9,  -999.00,9,  -999.00,9,   -999.0,-999.0000, -999,9,  900,   4.3022,  27.1123,   -999.0,9
       KS04-06,  NONE,KS-1042,  1,      7,02-16013,2,20040622,1130, 27.9972, 156.9985, 6125,   1008.2,   3.9023,  34.2624,2,   -999.0,9,  34.2632,2,     48.0,2,   113.21,2,  -999.00,9,    41.18,2,     0.00,2,     2.97,2, -999.000,9, -999.000,9,  -999.00,9,   -999.0,9,   -999.0,9,-999.0000,9,   -999.0,  9,  -999.00,9,   -999.0,  -999.00,9,  -999.00,9,  -999.00,9,  -999.00,9,   -999.0,-999.0000, -999,9,  999,   3.8271,  27.2170,   -999.0,9
       KS04-06,  NONE,KS-1042,  1,      6,02-16012,2,20040622,1114, 27.9972, 156.9985, 6125,   1262.2,   3.0425,  34.4295,2,   -999.0,9,  34.4296,2,     42.0,2,   136.17,2,  -999.00,9,    42.63,2,     0.00,2,     3.07,2, -999.000,9, -999.000,9,  -999.00,9,   -999.0,9,   -999.0,9,-999.0000,9,   -999.0,  9,  -999.00,9,   -999.0,  -999.00,9,  -999.00,9,  -999.00,9,  -999.00,9,   -999.0,-999.0000, -999,9, 1250,   2.9540,  27.4338,   -999.0,9
       KS04-06,  NONE,KS-1042,  1,      5,02-16011,2,20040622,1107, 27.9972, 156.9985, 6125,   1515.1,   2.5105,  34.5198,2,   -999.0,9,  34.5186,2,     54.0,2,   148.19,2,  -999.00,9,    42.04,2,     0.00,2,     2.99,2, -999.000,9, -999.000,9,  -999.00,9,   -999.0,9,   -999.0,9,-999.0000,9,   -999.0,  9,  -999.00,9,   -999.0,  -999.00,9,  -999.00,9,  -999.00,9,  -999.00,9,   -999.0,-999.0000, -999,9, 1500,   2.4072,  27.5538,   -999.0,9
       KS04-06,  NONE,KS-1042,  1,      4,02-16010,2,20040622,1100, 27.9972, 156.9985, 6125,   1766.5,   2.1892,  34.5705,2,   -999.0,9,  34.5694,2,     73.0,2,   151.63,2,  -999.00,9,    41.07,2,     0.00,2,     2.90,2, -999.000,9, -999.000,9,  -999.00,9,   -999.0,9,   -999.0,9,-999.0000,9,   -999.0,  9,  -999.00,9,   -999.0,  -999.00,9,  -999.00,9,  -999.00,9,  -999.00,9,   -999.0,-999.0000, -999,9, 1747,   2.0695,  27.6221,   -999.0,9
       KS04-06,  NONE,KS-1042,  1,      3,02-16009,2,20040622,1054, 27.9972, 156.9985, 6125,   2022.0,   1.9693,  34.6063,2,   -999.0,9,  34.6060,2,     93.0,2,   151.49,2,  -999.00,9,    39.90,2,     0.00,2,     2.80,2, -999.000,9, -999.000,9,  -999.00,9,   -999.0,9,   -999.0,9,-999.0000,9,   -999.0,  9,  -999.00,9,   -999.0,  -999.00,9,  -999.00,9,  -999.00,9,  -999.00,9,   -999.0,-999.0000, -999,9, 1999,   1.8316,  27.6694,   -999.0,9
       KS04-06,  NONE,KS-1042,  1,      2,02-16008,2,20040622,1030, 27.9972, 156.9985, 6125,   3041.9,   1.6011,  34.6623,2,   -999.0,9,  34.6616,2,    138.0,2,   146.88,2,  -999.00,9,    37.46,2,     0.00,2,     2.60,2, -999.000,9, -999.000,9,  -999.00,9,   -999.0,9,   -999.0,9,-999.0000,9,   -999.0,  9,  -999.00,9,   -999.0,  -999.00,9,  -999.00,9,  -999.00,9,  -999.00,9,   -999.0,-999.0000, -999,9, 3000,   1.3781,  27.7480,   -999.0,9
       KS04-06,  NONE,KS-1042,  1,      1,02-16007,2,20040622,1005, 27.9972, 156.9985, 6125,   4066.4,   1.4975,  34.6824,2,   -999.0,9,  34.6802,2,    154.0,2,   144.58,2,  -999.00,9,    36.10,2,     0.00,2,     2.49,2, -999.000,9, -999.000,9,  -999.00,9,   -999.0,9,   -999.0,9,-999.0000,9,   -999.0,  9,  -999.00,9,   -999.0,  -999.00,9,  -999.00,9,  -999.00,9,  -999.00,9,   -999.0,-999.0000, -999,9, 4001,   1.1714,  27.7785,   -999.0,9