BOTTLE,20130510GEMDJMAYT
EXPOCODE,SECT_ID,STNNBR,CASTNO,SAMPNO,BTLNBR,BTLNBR_FLAG_W,DATE,TIME,LATITUDE,LONGITUDE,DEPTH,CTDPRS,CTDTMP,CTDSAL,CTDSAL_FLAG_W,CTDOXY,CTDOXY_FLAG_W,SALNTY,SALNTY_FLAG_W,OXYGEN,OXYGEN_FLAG_W,SILCAT,SILCAT_FLAG_W,NITRAT,NITRAT_FLAG_W,NO2+NO3,NO2+NO3_FLAG_W,NITRIT,NITRIT_FLAG_W,PHSPHT,PHSPHT_FLAG_W,CFC-11,CFC-11_FLAG_W,CFC-12,CFC-12_FLAG_W,DELC13,DELC13_FLAG_W,TCARBN,TCARBN_FLAG_W,ALKALI,ALKALI_FLAG_W,PH,PH_FLAG_W,PH_TMP,PH_SCALE,PH_NBS,PH_NBS_FLAG_W,C13ERR,TOTALP,TOTALP_FLAG_W,AMMONI,AMMONI_FLAG_W,CHLORA,CHLORA_FLAG_W,PPHYTN,PPHYTN_FLAG_W,REVPRS,REVTMP,DEPTH_,DEPTH_FLAG,CTDDEP,THETA,SIGTHT,DOC,DOC_FLAG_W
,,,,,,,GMT,GMT,,,METER,DBAR,ITS-90,PSS-78,,UMOL/KG,,PSS-78,,UMOL/KG,,UMOL/KG,,UMOL/KG,,UMOL/KG,,UMOL/KG,,UMOL/KG,,PMOL/KG,,PMOL/KG,,/MILLE,,UMOL/KG,,UMOL/KG,,25_DEG_C,,DEG_C,,,,/MILLE,UMOL/KG,,UMOL/KG,,UG/L,,UG/L,,DBAR,ITS-90,METERS,,METERS,DEG_C,,UMOL/L,
       KS04-06,  165E,KS-1064,  1,     24,02-16030,2,20040629,0700, 10.0042, 163.9842, 4973,      5.6,  29.3318,  34.1601,2,   -999.0,9,-999.0000,9,    198.0,2,     1.42,2,  -999.00,9,     0.00,2,     0.00,2,     0.06,2, -999.000,9, -999.000,9,  -999.00,9,   1899.4,2,   -999.0,9,-999.0000,9,   -999.0,  9,     8.22,2,   -999.0,  -999.00,9,  -999.00,9,     0.02,2,     0.02,2,   -999.0,-999.0000, -999,9,    6,  29.3304,  21.3231,   -999.0,9
       KS04-06,  165E,KS-1064,  1,     23,02-16029,2,20040629,0659, 10.0042, 163.9842, 4973,     10.3,  29.2749,  34.1579,2,   -999.0,9,-999.0000,9,    200.0,2,     1.19,2,  -999.00,9,     0.00,2,     0.00,2,     0.06,2, -999.000,9, -999.000,9,  -999.00,9,   1897.7,2,   -999.0,9,-999.0000,9,   -999.0,  9,     8.23,2,   -999.0,  -999.00,9,  -999.00,9,     0.02,2,     0.02,2,   -999.0,-999.0000, -999,9,   10,  29.2724,  21.3409,   -999.0,9
       KS04-06,  165E,KS-1064,  1,     22,02-10977,2,20040629,0658, 10.0042, 163.9842, 4973,     24.9,  29.0293,  34.1795,2,   -999.0,9,-999.0000,9,    199.0,2,     1.24,2,  -999.00,9,     0.10,2,     0.00,2,     0.06,2, -999.000,9, -999.000,9,  -999.00,9,   1902.6,2,   -999.0,9,-999.0000,9,   -999.0,  9,     8.22,2,   -999.0,  -999.00,9,  -999.00,9,     0.03,2,     0.02,2,   -999.0,-999.0000, -999,9,   25,  29.0233,  21.4404,   -999.0,9
       KS04-06,  165E,KS-1064,  1,     21,02-16027,2,20040629,0655, 10.0042, 163.9842, 4973,     49.1,  28.8759,  34.3606,2,   -999.0,9,-999.0000,9,    200.0,2,     1.23,2,  -999.00,9,     0.10,2,     0.00,2,     0.07,2, -999.000,9, -999.000,9,  -999.00,9,   1918.2,2,   -999.0,9,-999.0000,9,   -999.0,  9,     8.21,2,   -999.0,  -999.00,9,  -999.00,9,     0.04,2,     0.03,2,   -999.0,-999.0000, -999,9,   49,  28.8641,  21.6293,   -999.0,9
       KS04-06,  165E,KS-1064,  1,     20,02-16026,2,20040629,0654, 10.0042, 163.9842, 4973,     74.0,  28.5053,  34.4146,2,   -999.0,9,-999.0000,9,    203.0,2,     1.39,2,  -999.00,9,     0.00,2,     0.00,2,     0.07,2, -999.000,9, -999.000,9,  -999.00,9,   1921.6,2,   -999.0,9,-999.0000,9,   -999.0,  9,     8.21,2,   -999.0,  -999.00,9,  -999.00,9,     0.05,2,     0.04,2,   -999.0,-999.0000, -999,9,   74,  28.4877,  21.7946,   -999.0,9
       KS04-06,  165E,KS-1064,  1,     19,02-16025,2,20040629,0653, 10.0042, 163.9842, 4973,    100.4,  28.2551,  34.4472,2,   -999.0,9,  34.4608,4,    201.0,2,     1.27,2,  -999.00,9,     0.00,2,     0.00,2,     0.08,2, -999.000,9, -999.000,9,  -999.00,9,   1928.8,2,   -999.0,9,-999.0000,9,   -999.0,  9,     8.21,2,   -999.0,  -999.00,9,  -999.00,9,  -999.00,9,  -999.00,9,   -999.0,-999.0000, -999,9,  100,  28.2313,  21.9033,   -999.0,9
       KS04-06,  165E,KS-1064,  1,     18,02-16024,2,20040629,0652, 10.0042, 163.9842, 4973,    124.6,  24.9568,  34.8406,2,   -999.0,9,-999.0000,9,    201.0,2,     1.76,2,  -999.00,9,     0.10,2,     0.01,2,     0.13,2, -999.000,9, -999.000,9,  -999.00,9,   1988.5,2,   -999.0,9,-999.0000,9,   -999.0,  9,     8.15,2,   -999.0,  -999.00,9,  -999.00,9,     0.15,2,     0.44,2,   -999.0,-999.0000, -999,9,  124,  24.9298,  23.2421,   -999.0,9
       KS04-06,  165E,KS-1064,  1,     17,02-16023,2,20040629,0650, 10.0042, 163.9842, 4973,    150.7,  18.3399,  34.8226,2,   -999.0,9,-999.0000,9,    157.0,2,     6.57,2,  -999.00,9,     8.29,2,     0.03,2,     0.69,2, -999.000,9, -999.000,9,  -999.00,9,   2084.1,2,   -999.0,9,-999.0000,9,   -999.0,  9,     7.97,2,   -999.0,  -999.00,9,  -999.00,9,     0.06,2,     0.27,2,   -999.0,-999.0000, -999,9,  150,  18.3137,  25.0585,   -999.0,9
       KS04-06,  165E,KS-1064,  1,     16,02-16022,2,20040629,0647, 10.0042, 163.9842, 4973,    201.4,  13.0628,  34.4294,2,   -999.0,9,  34.4233,4,    137.0,2,    16.65,2,  -999.00,9,    17.74,2,     0.00,2,     1.33,2, -999.000,9, -999.000,9,  -999.00,9,   2133.0,2,   -999.0,9,-999.0000,9,   -999.0,  9,     7.82,2,   -999.0,  -999.00,9,  -999.00,9,     0.01,2,     0.04,2,   -999.0,-999.0000, -999,9,  200,  13.0352,  25.9438,   -999.0,9
       KS04-06,  165E,KS-1064,  1,     15,02-16021,2,20040629,0645, 10.0042, 163.9842, 4973,    249.6,  11.3141,  34.5603,2,   -999.0,9,-999.0000,9,     51.0,2,    28.89,2,  -999.00,9,    30.01,2,     0.00,2,     2.21,2, -999.000,9, -999.000,9,  -999.00,9,   2217.4,2,   -999.0,9,-999.0000,9,   -999.0,  9,     7.62,2,   -999.0,  -999.00,9,  -999.00,9,     0.00,2,     0.02,2,   -999.0,-999.0000, -999,9,  248,  11.2828,  26.3817,   -999.0,9
       KS04-06,  165E,KS-1064,  1,     14,02-16020,2,20040629,0644, 10.0042, 163.9842, 4973,    300.0,  10.1317,  34.5794,2,   -999.0,9,  34.5828,2,     48.0,2,    33.90,2,  -999.00,9,    32.44,2,     0.00,2,     2.37,2, -999.000,9, -999.000,9,  -999.00,9,   2232.9,2,   -999.0,9,-999.0000,9,   -999.0,  9,     7.58,2,   -999.0,  -999.00,9,  -999.00,9,     0.00,2,     0.01,2,   -999.0,-999.0000, -999,9,  298,  10.0966,  26.6070,   -999.0,9
       KS04-06,  165E,KS-1064,  1,     13,02-16019,2,20040629,0641, 10.0042, 163.9842, 4973,    402.8,   8.8197,  34.5931,2,   -999.0,9,  34.5916,2,     54.0,2,    39.52,2,  -999.00,9,    34.47,2,     0.00,2,     2.48,2, -999.000,9, -999.000,9,  -999.00,9,   2245.0,2,   -999.0,9,-999.0000,9,   -999.0,  9,     7.58,2,   -999.0,  -999.00,9,  -999.00,9,  -999.00,9,  -999.00,9,   -999.0,-999.0000, -999,9,  400,   8.7762,  26.8351,   -999.0,9
       KS04-06,  165E,KS-1064,  1,     12,02-16018,2,20040629,0637, 10.0042, 163.9842, 4973,    502.1,   7.7364,  34.5423,2,   -999.0,9,  34.5410,2,     72.0,2,    48.03,2,  -999.00,9,    34.96,2,     0.00,2,     2.50,2, -999.000,9, -999.000,9,  -999.00,9,   2249.4,2,   -999.0,9,-999.0000,9,   -999.0,  9,     7.59,2,   -999.0,  -999.00,9,  -999.00,9,  -999.00,9,  -999.00,9,   -999.0,-999.0000, -999,9,  499,   7.6859,  26.9607,   -999.0,9
       KS04-06,  165E,KS-1064,  1,     11,02-16017,2,20040629,0635, 10.0042, 163.9842, 4973,    603.0,   6.9886,  34.5310,2,   -999.0,9,  34.5311,2,     69.0,2,    56.36,2,  -999.00,9,    36.61,2,     0.00,2,     2.65,2, -999.000,9, -999.000,9,  -999.00,9,   2260.6,2,   -999.0,9,-999.0000,9,   -999.0,  9,     7.56,2,   -999.0,  -999.00,9,  -999.00,9,  -999.00,9,  -999.00,9,   -999.0,-999.0000, -999,9,  599,   6.9309,  27.0588,   -999.0,9
       KS04-06,  165E,KS-1064,  1,     10,02-16016,2,20040629,0629, 10.0042, 163.9842, 4973,    703.7,   6.3114,  34.5265,2,   -999.0,9,  34.5268,4,     60.0,2,    65.33,2,  -999.00,9,    38.55,2,     0.00,2,     2.80,2, -999.000,9, -999.000,9,  -999.00,9,   2285.6,2,   -999.0,9,-999.0000,9,   -999.0,  9,     7.54,2,   -999.0,  -999.00,9,  -999.00,9,  -999.00,9,  -999.00,9,   -999.0,-999.0000, -999,9,  699,   6.2472,  27.1467,   -999.0,9
       KS04-06,  165E,KS-1064,  1,      9,02-16015,2,20040629,0626, 10.0042, 163.9842, 4973,    804.4,   5.7306,  34.5342,2,   -999.0,9,  34.5339,2,     52.0,2,    74.07,2,  -999.00,9,    40.40,2,     0.00,2,     2.95,2, -999.000,9, -999.000,9,  -999.00,9,   2296.0,2,   -999.0,9,-999.0000,9,   -999.0,  9,     7.51,2,   -999.0,  -999.00,9,  -999.00,9,  -999.00,9,  -999.00,9,   -999.0,-999.0000, -999,9,  798,   5.6602,  27.2271,   -999.0,9
       KS04-06,  165E,KS-1064,  1,      8,02-16014,2,20040629,0624, 10.0042, 163.9842, 4973,    905.1,   5.0737,  34.5411,2,   -999.0,9,  34.5411,2,     65.0,2,    83.57,2,  -999.00,9,    40.20,2,     0.00,2,     2.92,2, -999.000,9, -999.000,9,  -999.00,9,   2303.8,2,   -999.0,9,-999.0000,9,   -999.0,  9,     7.53,2,   -999.0,  -999.00,9,  -999.00,9,  -999.00,9,  -999.00,9,   -999.0,-999.0000, -999,9,  898,   4.9984,  27.3116,   -999.0,9
       KS04-06,  165E,KS-1064,  1,      7,02-16013,9,20040629,0620, 10.0042, 163.9842, 4973,   1008.4,   4.7233,  34.5480,2,   -999.0,9,-999.0000,9,   -999.0,9,  -999.00,9,  -999.00,9,  -999.00,9,  -999.00,9,  -999.00,9, -999.000,9, -999.000,9,  -999.00,9,   -999.0,9,   -999.0,9,-999.0000,9,   -999.0,  9,  -999.00,9,   -999.0,  -999.00,9,  -999.00,9,  -999.00,9,  -999.00,9,   -999.0,-999.0000, -999,9, 1000,   4.6413,  27.3576,   -999.0,9
       KS04-06,  165E,KS-1064,  1,      6,02-16012,2,20040629,0620, 10.0042, 163.9842, 4973,   1007.0,   4.7372,  34.5473,2,   -999.0,9,-999.0000,9,   -999.0,9,    90.22,2,  -999.00,9,    40.10,2,     0.00,2,     2.90,2, -999.000,9, -999.000,9,  -999.00,9,   -999.0,9,   -999.0,9,-999.0000,9,   -999.0,  9,  -999.00,9,   -999.0,  -999.00,9,  -999.00,9,  -999.00,9,  -999.00,9,   -999.0,-999.0000, -999,9,  999,   4.6552,  27.3555,   -999.0,9
       KS04-06,  165E,KS-1064,  1,      5,02-16011,2,20040629,0620, 10.0042, 163.9842, 4973,   1006.3,   4.7368,  34.5472,2,   -999.0,9,  34.5466,2,     69.0,2,    90.31,2,  -999.00,9,    40.10,2,     0.00,2,     2.91,2, -999.000,9, -999.000,9,  -999.00,9,   2306.3,2,   -999.0,9,-999.0000,9,   -999.0,  9,     7.54,2,   -999.0,  -999.00,9,  -999.00,9,  -999.00,9,  -999.00,9,   -999.0,-999.0000, -999,9,  998,   4.6549,  27.3555,   -999.0,9
       KS04-06,  165E,KS-1064,  1,      4,02-16010,2,20040629,0614, 10.0042, 163.9842, 4973,   1258.8,   3.6525,  34.5755,2,   -999.0,9,  34.5751,2,     90.0,2,   110.23,2,  -999.00,9,    39.42,2,     0.00,2,     2.82,2, -999.000,9, -999.000,9,  -999.00,9,   2314.9,2,   -999.0,9,-999.0000,9,   -999.0,  9,     7.57,2,   -999.0,  -999.00,9,  -999.00,9,  -999.00,9,  -999.00,9,   -999.0,-999.0000, -999,9, 1248,   3.5580,  27.4932,   -999.0,9
       KS04-06,  165E,KS-1064,  1,      3,02-16009,2,20040629,0608, 10.0042, 163.9842, 4973,   1511.5,   2.9505,  34.6006,2,   -999.0,9,  34.6001,2,     93.0,2,   125.99,2,  -999.00,9,    39.61,2,     0.00,2,     2.82,2, -999.000,9, -999.000,9,  -999.00,9,   2337.2,2,   -999.0,9,-999.0000,9,   -999.0,  9,     7.58,2,   -999.0,  -999.00,9,  -999.00,9,  -999.00,9,  -999.00,9,   -999.0,-999.0000, -999,9, 1498,   2.8422,  27.5806,   -999.0,9
       KS04-06,  165E,KS-1064,  1,      2,02-16008,2,20040629,0602, 10.0042, 163.9842, 4973,   1765.3,   2.5870,  34.6162,2,   -999.0,9,  34.6162,2,     99.0,2,   134.00,2,  -999.00,9,    39.41,2,     0.00,2,     2.80,2, -999.000,9, -999.000,9,  -999.00,9,   2343.9,2,   -999.0,9,-999.0000,9,   -999.0,  9,     7.58,2,   -999.0,  -999.00,9,  -999.00,9,  -999.00,9,  -999.00,9,   -999.0,-999.0000, -999,9, 1748,   2.4619,  27.6263,   -999.0,9
       KS04-06,  165E,KS-1064,  1,      1,02-16007,2,20040629,0557, 10.0042, 163.9842, 4973,   2018.8,   2.2528,  34.6345,2,   -999.0,9,  34.6327,2,    106.0,2,   140.56,2,  -999.00,9,    39.12,2,     0.00,2,     2.76,2, -999.000,9, -999.000,9,  -999.00,9,   2344.8,2,   -999.0,9,-999.0000,9,   -999.0,  9,     7.59,2,   -999.0,  -999.00,9,  -999.00,9,  -999.00,9,  -999.00,9,   -999.0,-999.0000, -999,9, 1998,   2.1109,  27.6700,   -999.0,9
       KS04-06,  165E,KS-1065,  1,      2,02-16008,9,20040629,1318,  9.0008, 163.9970, 5193,      5.6,  29.2306,  34.0608,2,   -999.0,9,-999.0000,9,   -999.0,9,  -999.00,9,  -999.00,9,  -999.00,9,  -999.00,9,  -999.00,9, -999.000,9, -999.000,9,  -999.00,9,   -999.0,9,   -999.0,9,-999.0000,9,   -999.0,  9,  -999.00,9,   -999.0,  -999.00,9,  -999.00,9,  -999.00,9,  -999.00,9,   -999.0,-999.0000, -999,9,    6,  29.2292,  21.2825,   -999.0,9
       KS04-06,  165E,KS-1065,  1,      1,02-16007,2,20040629,1318,  9.0008, 163.9970, 5193,      5.4,  29.2313,  34.0606,2,   -999.0,9,-999.0000,9,   -999.0,9,     1.23,2,  -999.00,9,     0.00,2,     0.00,2,     0.09,2, -999.000,9, -999.000,9,  -999.00,9,   1895.1,2,   -999.0,9,-999.0000,9,   -999.0,  9,  -999.00,9,   -999.0,  -999.00,9,  -999.00,9,     0.02,2,     0.02,2,   -999.0,-999.0000, -999,9,    5,  29.2300,  21.2821,   -999.0,9