BOTTLE,20130510GEMDJMAYT
EXPOCODE,SECT_ID,STNNBR,CASTNO,SAMPNO,BTLNBR,BTLNBR_FLAG_W,DATE,TIME,LATITUDE,LONGITUDE,DEPTH,CTDPRS,CTDTMP,CTDSAL,CTDSAL_FLAG_W,CTDOXY,CTDOXY_FLAG_W,SALNTY,SALNTY_FLAG_W,OXYGEN,OXYGEN_FLAG_W,SILCAT,SILCAT_FLAG_W,NITRAT,NITRAT_FLAG_W,NO2+NO3,NO2+NO3_FLAG_W,NITRIT,NITRIT_FLAG_W,PHSPHT,PHSPHT_FLAG_W,CFC-11,CFC-11_FLAG_W,CFC-12,CFC-12_FLAG_W,DELC13,DELC13_FLAG_W,TCARBN,TCARBN_FLAG_W,ALKALI,ALKALI_FLAG_W,PH,PH_FLAG_W,PH_TMP,PH_SCALE,PH_NBS,PH_NBS_FLAG_W,C13ERR,TOTALP,TOTALP_FLAG_W,AMMONI,AMMONI_FLAG_W,CHLORA,CHLORA_FLAG_W,PPHYTN,PPHYTN_FLAG_W,REVPRS,REVTMP,DEPTH_,DEPTH_FLAG,CTDDEP,THETA,SIGTHT,DOC,DOC_FLAG_W
,,,,,,,GMT,GMT,,,METER,DBAR,ITS-90,PSS-78,,UMOL/KG,,PSS-78,,UMOL/KG,,UMOL/KG,,UMOL/KG,,UMOL/KG,,UMOL/KG,,UMOL/KG,,PMOL/KG,,PMOL/KG,,/MILLE,,UMOL/KG,,UMOL/KG,,25_DEG_C,,DEG_C,,,,/MILLE,UMOL/KG,,UMOL/KG,,UG/L,,UG/L,,DBAR,ITS-90,METERS,,METERS,DEG_C,,UMOL/L,
       KS04-06,  NONE,KS-1139,  1,     24,02-16030,2,20040809,1959, 34.9217, 140.2572, 1996,      5.3,  24.0914,  34.4133,2,   -999.0,9,  34.4051,4,    236.0,2,     1.12,2,  -999.00,9,     0.00,2,     0.00,2,     0.01,2, -999.000,9, -999.000,9,  -999.00,9,   -999.0,9,   -999.0,9,-999.0000,9,   -999.0,  9,  -999.00,9,   -999.0,  -999.00,9,  -999.00,9,     0.20,2,     0.13,2,   -999.0,-999.0000, -999,9,    5,  24.0903,  23.1705,   -999.0,9
       KS04-06,  NONE,KS-1139,  1,     23,02-16029,2,20040809,1958, 34.9217, 140.2572, 1996,     11.4,  23.5330,  34.4215,2,   -999.0,9,-999.0000,9,    242.0,2,     1.07,2,  -999.00,9,     0.00,2,     0.00,2,     0.01,2, -999.000,9, -999.000,9,  -999.00,9,   -999.0,9,   -999.0,9,-999.0000,9,   -999.0,  9,  -999.00,9,   -999.0,  -999.00,9,  -999.00,9,     1.11,2,     0.63,2,   -999.0,-999.0000, -999,9,   11,  23.5306,  23.3412,   -999.0,9
       KS04-06,  NONE,KS-1139,  1,     22,02-10977,2,20040809,1957, 34.9217, 140.2572, 1996,     25.5,  22.0143,  34.5146,2,   -999.0,9,-999.0000,9,    207.0,2,     4.93,2,  -999.00,9,     2.05,2,     0.07,2,     0.17,2, -999.000,9, -999.000,9,  -999.00,9,   -999.0,9,   -999.0,9,-999.0000,9,   -999.0,  9,  -999.00,9,   -999.0,  -999.00,9,  -999.00,9,     0.91,2,     0.77,2,   -999.0,-999.0000, -999,9,   25,  22.0093,  23.8465,   -999.0,9
       KS04-06,  NONE,KS-1139,  1,     21,02-16027,2,20040809,1953, 34.9217, 140.2572, 1996,     49.9,  18.1724,  34.5696,2,   -999.0,9,-999.0000,9,    185.0,2,    11.33,2,  -999.00,9,     7.81,2,     0.13,2,     0.56,2, -999.000,9, -999.000,9,  -999.00,9,   -999.0,9,   -999.0,9,-999.0000,9,   -999.0,  9,  -999.00,9,   -999.0,  -999.00,9,  -999.00,9,     0.40,2,     0.39,2,   -999.0,-999.0000, -999,9,   50,  18.1638,  24.9020,   -999.0,9
       KS04-06,  NONE,KS-1139,  1,     20,02-16026,2,20040809,1952, 34.9217, 140.2572, 1996,     75.2,  16.2596,  34.5591,2,   -999.0,9,-999.0000,9,    176.0,2,    16.50,2,  -999.00,9,    10.73,2,     0.09,2,     0.75,2, -999.000,9, -999.000,9,  -999.00,9,   -999.0,9,   -999.0,9,-999.0000,9,   -999.0,  9,  -999.00,9,   -999.0,  -999.00,9,  -999.00,9,     0.15,2,     0.19,2,   -999.0,-999.0000, -999,9,   75,  16.2476,  25.3517,   -999.0,9
       KS04-06,  NONE,KS-1139,  1,     19,02-16025,2,20040809,1951, 34.9217, 140.2572, 1996,    100.6,  15.1827,  34.5519,2,   -999.0,9,  34.5545,2,    174.0,2,    19.34,2,  -999.00,9,    12.38,2,     0.03,2,     0.88,2, -999.000,9, -999.000,9,  -999.00,9,   -999.0,9,   -999.0,9,-999.0000,9,   -999.0,  9,  -999.00,9,   -999.0,  -999.00,9,  -999.00,9,     0.06,2,     0.11,2,   -999.0,-999.0000, -999,9,  100,  15.1674,  25.5896,   -999.0,9
       KS04-06,  NONE,KS-1139,  1,     18,02-16024,2,20040809,1951, 34.9217, 140.2572, 1996,    124.9,  13.8151,  34.5097,2,   -999.0,9,-999.0000,9,    166.0,2,    24.56,2,  -999.00,9,    15.11,2,     0.02,2,     1.06,2, -999.000,9, -999.000,9,  -999.00,9,   -999.0,9,   -999.0,9,-999.0000,9,   -999.0,  9,  -999.00,9,   -999.0,  -999.00,9,  -999.00,9,     0.02,2,     0.06,2,   -999.0,-999.0000, -999,9,  124,  13.7973,  25.8504,   -999.0,9
       KS04-06,  NONE,KS-1139,  1,     17,02-16023,2,20040809,1950, 34.9217, 140.2572, 1996,    152.4,  12.8427,  34.4667,2,   -999.0,9,-999.0000,9,    160.0,2,    28.77,2,  -999.00,9,    16.86,2,     0.02,2,     1.19,2, -999.000,9, -999.000,9,  -999.00,9,   -999.0,9,   -999.0,9,-999.0000,9,   -999.0,  9,  -999.00,9,   -999.0,  -999.00,9,  -999.00,9,     0.02,2,     0.07,2,   -999.0,-999.0000, -999,9,  151,  12.8221,  26.0151,   -999.0,9
       KS04-06,  NONE,KS-1139,  1,     16,02-16022,2,20040809,1948, 34.9217, 140.2572, 1996,    201.5,  10.8285,  34.3854,2,   -999.0,9,  34.3894,2,    148.0,2,    39.37,2,  -999.00,9,    21.14,2,     0.00,2,     1.50,2, -999.000,9, -999.000,9,  -999.00,9,   -999.0,9,   -999.0,9,-999.0000,9,   -999.0,  9,  -999.00,9,   -999.0,  -999.00,9,  -999.00,9,     0.01,2,     0.04,2,   -999.0,-999.0000, -999,9,  200,  10.8041,  26.3320,   -999.0,9
       KS04-06,  NONE,KS-1139,  1,     15,02-16021,2,20040809,1947, 34.9217, 140.2572, 1996,    253.1,   8.9665,  34.3135,2,   -999.0,9,-999.0000,9,    132.0,2,    51.08,2,  -999.00,9,    25.33,2,     0.00,2,     1.81,2, -999.000,9, -999.000,9,  -999.00,9,   -999.0,9,   -999.0,9,-999.0000,9,   -999.0,  9,  -999.00,9,   -999.0,  -999.00,9,  -999.00,9,     0.00,2,     0.03,2,   -999.0,-999.0000, -999,9,  251,   8.9392,  26.5902,   -999.0,9
       KS04-06,  NONE,KS-1139,  1,     14,02-16020,2,20040809,1946, 34.9217, 140.2572, 1996,    302.8,   7.5159,  34.2857,2,   -999.0,9,  34.2893,2,    115.0,2,    64.89,2,  -999.00,9,    29.12,2,     0.00,2,     2.10,2, -999.000,9, -999.000,9,  -999.00,9,   -999.0,9,   -999.0,9,-999.0000,9,   -999.0,  9,  -999.00,9,   -999.0,  -999.00,9,  -999.00,9,     0.00,2,     0.03,2,   -999.0,-999.0000, -999,9,  300,   7.4865,  26.7877,   -999.0,9
       KS04-06,  NONE,KS-1139,  1,     13,02-16019,2,20040809,1944, 34.9217, 140.2572, 1996,    402.2,   6.2416,  34.2747,2,   -999.0,9,  34.2748,2,     98.0,2,    78.84,2,  -999.00,9,    33.01,2,     0.00,2,     2.37,2, -999.000,9, -999.000,9,  -999.00,9,   -999.0,9,   -999.0,9,-999.0000,9,   -999.0,  9,  -999.00,9,   -999.0,  -999.00,9,  -999.00,9,  -999.00,9,  -999.00,9,   -999.0,-999.0000, -999,9,  399,   6.2061,  26.9532,   -999.0,9
       KS04-06,  NONE,KS-1139,  1,     12,02-16018,2,20040809,1942, 34.9217, 140.2572, 1996,    503.8,   5.5927,  34.2839,2,   -999.0,9,  34.2842,2,     90.0,2,    87.79,2,  -999.00,9,    34.66,2,     0.00,2,     2.50,2, -999.000,9, -999.000,9,  -999.00,9,   -999.0,9,   -999.0,9,-999.0000,9,   -999.0,  9,  -999.00,9,   -999.0,  -999.00,9,  -999.00,9,  -999.00,9,  -999.00,9,   -999.0,-999.0000, -999,9,  500,   5.5504,  27.0424,   -999.0,9
       KS04-06,  NONE,KS-1139,  1,     11,02-16017,2,20040809,1940, 34.9217, 140.2572, 1996,    603.4,   4.9785,  34.2972,2,   -999.0,9,  34.2968,2,     81.0,2,    96.67,2,  -999.00,9,    36.51,2,     0.00,2,     2.63,2, -999.000,9, -999.000,9,  -999.00,9,   -999.0,9,   -999.0,9,-999.0000,9,   -999.0,  9,  -999.00,9,   -999.0,  -999.00,9,  -999.00,9,  -999.00,9,  -999.00,9,   -999.0,-999.0000, -999,9,  598,   4.9303,  27.1260,   -999.0,9
       KS04-06,  NONE,KS-1139,  1,     10,02-16016,2,20040809,1937, 34.9217, 140.2572, 1996,    704.3,   4.5163,  34.3145,2,   -999.0,9,  34.3150,2,     73.0,2,   104.19,2,  -999.00,9,    37.87,2,     0.00,2,     2.73,2, -999.000,9, -999.000,9,  -999.00,9,   -999.0,9,   -999.0,9,-999.0000,9,   -999.0,  9,  -999.00,9,   -999.0,  -999.00,9,  -999.00,9,  -999.00,9,  -999.00,9,   -999.0,-999.0000, -999,9,  698,   4.4620,  27.1919,   -999.0,9
       KS04-06,  NONE,KS-1139,  1,      9,02-16015,2,20040809,1935, 34.9217, 140.2572, 1996,    805.7,   3.9130,  34.3553,2,   -999.0,9,  34.3572,2,     66.0,2,   115.39,2,  -999.00,9,    39.33,2,     0.00,2,     2.83,2, -999.000,9, -999.000,9,  -999.00,9,   -999.0,9,   -999.0,9,-999.0000,9,   -999.0,  9,  -999.00,9,   -999.0,  -999.00,9,  -999.00,9,  -999.00,9,  -999.00,9,   -999.0,-999.0000, -999,9,  798,   3.8540,  27.2883,   -999.0,9
       KS04-06,  NONE,KS-1139,  1,      8,02-16014,3,20040809,1933, 34.9217, 140.2572, 1996,    907.1,   3.6332,  34.3827,2,   -999.0,9,  34.3825,2,     68.0,2,   120.85,2,  -999.00,9,    39.71,2,     0.00,2,     2.85,2, -999.000,9, -999.000,9,  -999.00,9,   -999.0,9,   -999.0,9,-999.0000,9,   -999.0,  9,  -999.00,9,   -999.0,  -999.00,9,  -999.00,9,  -999.00,9,  -999.00,9,   -999.0,-999.0000, -999,9,  899,   3.5680,  27.3386,   -999.0,9
       KS04-06,  NONE,KS-1139,  1,      7,02-16013,3,20040809,1931, 34.9217, 140.2572, 1996,   1007.4,   3.1583,  34.4051,2,   -999.0,9,  34.4045,2,     57.0,2,   132.84,2,  -999.00,9,    40.98,2,     0.00,2,     2.94,2, -999.000,9, -999.000,9,  -999.00,9,   -999.0,9,   -999.0,9,-999.0000,9,   -999.0,  9,  -999.00,9,   -999.0,  -999.00,9,  -999.00,9,  -999.00,9,  -999.00,9,   -999.0,-999.0000, -999,9,  998,   3.0888,  27.4021,   -999.0,9
       KS04-06,  NONE,KS-1139,  1,      6,02-16012,2,20040809,1927, 34.9217, 140.2572, 1996,   1260.9,   2.6808,  34.4668,2,   -999.0,9,  34.4659,2,     53.0,2,   145.45,2,  -999.00,9,    41.65,2,     0.00,2,     2.98,2, -999.000,9, -999.000,9,  -999.00,9,   -999.0,9,   -999.0,9,-999.0000,9,   -999.0,  9,  -999.00,9,   -999.0,  -999.00,9,  -999.00,9,  -999.00,9,  -999.00,9,   -999.0,-999.0000, -999,9, 1248,   2.5958,  27.4953,   -999.0,9
       KS04-06,  NONE,KS-1139,  1,      5,02-16011,2,20040809,1923, 34.9217, 140.2572, 1996,   1515.3,   2.3884,  34.5151,2,   -999.0,9,  34.5140,2,     59.0,2,   151.30,2,  -999.00,9,    41.46,2,     0.00,2,     2.97,2, -999.000,9, -999.000,9,  -999.00,9,   -999.0,9,   -999.0,9,-999.0000,9,   -999.0,  9,  -999.00,9,   -999.0,  -999.00,9,  -999.00,9,  -999.00,9,  -999.00,9,   -999.0,-999.0000, -999,9, 1499,   2.2866,  27.5601,   -999.0,9
       KS04-06,  NONE,KS-1139,  1,      4,02-16010,2,20040809,1919, 34.9217, 140.2572, 1996,   1769.7,   2.1726,  34.5554,2,   -999.0,9,  34.5545,2,     73.0,2,   152.74,2,  -999.00,9,    40.68,2,     0.00,2,     2.89,2, -999.000,9, -999.000,9,  -999.00,9,   -999.0,9,   -999.0,9,-999.0000,9,   -999.0,  9,  -999.00,9,   -999.0,  -999.00,9,  -999.00,9,  -999.00,9,  -999.00,9,   -999.0,-999.0000, -999,9, 1749,   2.0530,  27.6113,   -999.0,9
       KS04-06,  NONE,KS-1139,  1,      3,02-16009,9,20040809,1915, 34.9217, 140.2572, 1996,   2022.1,   1.9295,  34.5973,2,   -999.0,9,-999.0000,9,   -999.0,9,  -999.00,9,  -999.00,9,  -999.00,9,  -999.00,9,  -999.00,9, -999.000,9, -999.000,9,  -999.00,9,   -999.0,9,   -999.0,9,-999.0000,9,   -999.0,  9,  -999.00,9,   -999.0,  -999.00,9,  -999.00,9,  -999.00,9,  -999.00,9,   -999.0,-999.0000, -999,9, 1998,   1.7924,  27.6652,   -999.0,9
       KS04-06,  NONE,KS-1139,  1,      2,02-16008,9,20040809,1915, 34.9217, 140.2572, 1996,   2022.2,   1.9300,  34.5971,2,   -999.0,9,-999.0000,9,   -999.0,9,  -999.00,9,  -999.00,9,  -999.00,9,  -999.00,9,  -999.00,9, -999.000,9, -999.000,9,  -999.00,9,   -999.0,9,   -999.0,9,-999.0000,9,   -999.0,  9,  -999.00,9,   -999.0,  -999.00,9,  -999.00,9,  -999.00,9,  -999.00,9,   -999.0,-999.0000, -999,9, 1998,   1.7929,  27.6650,   -999.0,9
       KS04-06,  NONE,KS-1139,  1,      1,02-16007,2,20040809,1915, 34.9217, 140.2572, 1996,   2021.9,   1.9299,  34.5973,2,   -999.0,9,  34.5944,2,     90.0,2,   155.19,2,  -999.00,9,    39.80,2,     0.00,2,     2.80,2, -999.000,9, -999.000,9,  -999.00,9,   -999.0,9,   -999.0,9,-999.0000,9,   -999.0,  9,  -999.00,9,   -999.0,  -999.00,9,  -999.00,9,  -999.00,9,  -999.00,9,   -999.0,-999.0000, -999,9, 1998,   1.7928,  27.6651,   -999.0,9