BOTTLE,20130510GEMDJMAYT
EXPOCODE,SECT_ID,STNNBR,CASTNO,SAMPNO,BTLNBR,BTLNBR_FLAG_W,DATE,TIME,LATITUDE,LONGITUDE,DEPTH,CTDPRS,CTDTMP,CTDSAL,CTDSAL_FLAG_W,CTDOXY,CTDOXY_FLAG_W,SALNTY,SALNTY_FLAG_W,OXYGEN,OXYGEN_FLAG_W,SILCAT,SILCAT_FLAG_W,NITRAT,NITRAT_FLAG_W,NO2+NO3,NO2+NO3_FLAG_W,NITRIT,NITRIT_FLAG_W,PHSPHT,PHSPHT_FLAG_W,CFC-11,CFC-11_FLAG_W,CFC-12,CFC-12_FLAG_W,DELC13,DELC13_FLAG_W,TCARBN,TCARBN_FLAG_W,ALKALI,ALKALI_FLAG_W,PH,PH_FLAG_W,PH_TMP,PH_SCALE,PH_NBS,PH_NBS_FLAG_W,C13ERR,TOTALP,TOTALP_FLAG_W,AMMONI,AMMONI_FLAG_W,CHLORA,CHLORA_FLAG_W,PPHYTN,PPHYTN_FLAG_W,REVPRS,REVTMP,DEPTH_,DEPTH_FLAG,CTDDEP,THETA,SIGTHT,DOC,DOC_FLAG_W
,,,,,,,GMT,GMT,,,METER,DBAR,ITS-90,PSS-78,,UMOL/KG,,PSS-78,,UMOL/KG,,UMOL/KG,,UMOL/KG,,UMOL/KG,,UMOL/KG,,UMOL/KG,,PMOL/KG,,PMOL/KG,,/MILLE,,UMOL/KG,,UMOL/KG,,25_DEG_C,,DEG_C,,,,/MILLE,UMOL/KG,,UMOL/KG,,UG/L,,UG/L,,DBAR,ITS-90,METERS,,METERS,DEG_C,,UMOL/L,
       KS04-06,  165E,KS-1059,  1,     24,02-16030,2,20040627,2107, 15.0050, 164.9717, 5218,      5.5,  28.6424,  34.6079,2,   -999.0,9,  34.6075,2,    198.0,2,     1.20,2,  -999.00,9,     0.00,2,     0.00,2,     0.03,2, -999.000,9, -999.000,9,  -999.00,9,   1932.1,2,   -999.0,9,-999.0000,9,   -999.0,  9,     8.22,2,   -999.0,  -999.00,9,  -999.00,9,     0.02,2,     0.01,2,   -999.0,-999.0000, -999,9,    5,  28.6411,  21.8890,   -999.0,9
       KS04-06,  165E,KS-1059,  1,     23,02-16029,2,20040627,2106, 15.0050, 164.9717, 5218,     10.8,  28.6263,  34.6079,2,   -999.0,9,-999.0000,9,    198.0,2,     1.14,2,  -999.00,9,     0.00,2,     0.00,2,     0.03,2, -999.000,9, -999.000,9,  -999.00,9,   1928.8,2,   -999.0,9,-999.0000,9,   -999.0,  9,     8.23,2,   -999.0,  -999.00,9,  -999.00,9,     0.04,2,     0.02,2,   -999.0,-999.0000, -999,9,   11,  28.6237,  21.8948,   -999.0,9
       KS04-06,  165E,KS-1059,  1,     22,02-10977,2,20040627,2103, 15.0050, 164.9717, 5218,     26.2,  28.6259,  34.6242,2,   -999.0,9,-999.0000,9,    199.0,2,     1.23,2,  -999.00,9,     0.00,2,     0.00,2,     0.03,2, -999.000,9, -999.000,9,  -999.00,9,   1931.6,2,   -999.0,9,-999.0000,9,   -999.0,  9,     8.23,2,   -999.0,  -999.00,9,  -999.00,9,     0.04,2,     0.02,2,   -999.0,-999.0000, -999,9,   26,  28.6196,  21.9084,   -999.0,9
       KS04-06,  165E,KS-1059,  1,     21,02-16027,2,20040627,2056, 15.0050, 164.9717, 5218,     51.1,  27.9597,  34.7992,2,   -999.0,9,-999.0000,9,    207.0,2,     1.23,2,  -999.00,9,     0.00,2,     0.00,2,     0.03,2, -999.000,9, -999.000,9,  -999.00,9,   1943.8,2,   -999.0,9,-999.0000,9,   -999.0,  9,     8.23,2,   -999.0,  -999.00,9,  -999.00,9,     0.05,2,     0.03,2,   -999.0,-999.0000, -999,9,   51,  27.9477,  22.2607,   -999.0,9
       KS04-06,  165E,KS-1059,  1,     20,02-16026,2,20040627,2055, 15.0050, 164.9717, 5218,     75.1,  27.3503,  34.8852,2,   -999.0,9,-999.0000,9,    210.0,2,     1.22,2,  -999.00,9,     0.00,2,     0.00,2,     0.02,2, -999.000,9, -999.000,9,  -999.00,9,   1940.1,2,   -999.0,9,-999.0000,9,   -999.0,  9,     8.22,2,   -999.0,  -999.00,9,  -999.00,9,     0.06,2,     0.04,2,   -999.0,-999.0000, -999,9,   75,  27.3329,  22.5246,   -999.0,9
       KS04-06,  165E,KS-1059,  1,     19,02-16025,2,20040627,2054, 15.0050, 164.9717, 5218,    103.4,  25.4593,  35.0532,2,   -999.0,9,  35.0372,4,    207.0,2,     1.32,2,  -999.00,9,     0.00,2,     0.00,2,     0.05,2, -999.000,9, -999.000,9,  -999.00,9,   1972.5,2,   -999.0,9,-999.0000,9,   -999.0,  9,     8.19,2,   -999.0,  -999.00,9,  -999.00,9,     0.10,2,     0.10,2,   -999.0,-999.0000, -999,9,  103,  25.4366,  23.2480,   -999.0,9
       KS04-06,  165E,KS-1059,  1,     18,02-16024,2,20040627,2053, 15.0050, 164.9717, 5218,    125.6,  24.0112,  35.1617,2,   -999.0,9,-999.0000,9,    197.0,2,     1.58,2,  -999.00,9,     0.00,2,     0.04,2,     0.10,2, -999.000,9, -999.000,9,  -999.00,9,   2009.0,2,   -999.0,9,-999.0000,9,   -999.0,  9,     8.15,2,   -999.0,  -999.00,9,  -999.00,9,     0.09,2,     0.36,2,   -999.0,-999.0000, -999,9,  125,  23.9847,  23.7683,   -999.0,9
       KS04-06,  165E,KS-1059,  1,     17,02-16023,2,20040627,2052, 15.0050, 164.9717, 5218,    151.4,  22.1625,  35.1949,2,   -999.0,9,-999.0000,9,    187.0,2,     2.00,2,  -999.00,9,     1.17,2,     0.04,2,     0.18,2, -999.000,9, -999.000,9,  -999.00,9,   2033.1,2,   -999.0,9,-999.0000,9,   -999.0,  9,     8.11,2,   -999.0,  -999.00,9,  -999.00,9,     0.04,2,     0.24,2,   -999.0,-999.0000, -999,9,  150,  22.1324,  24.3287,   -999.0,9
       KS04-06,  165E,KS-1059,  1,     16,02-16022,2,20040627,2044, 15.0050, 164.9717, 5218,    201.6,  18.7889,  34.8994,2,   -999.0,9,  34.9042,2,    192.0,2,     3.44,2,  -999.00,9,     3.61,2,     0.01,2,     0.28,2, -999.000,9, -999.000,9,  -999.00,9,   2038.6,2,   -999.0,9,-999.0000,9,   -999.0,  9,     8.06,2,   -999.0,  -999.00,9,  -999.00,9,     0.01,2,     0.02,2,   -999.0,-999.0000, -999,9,  200,  18.7532,  25.0070,   -999.0,9
       KS04-06,  165E,KS-1059,  1,     15,02-16021,2,20040627,2042, 15.0050, 164.9717, 5218,    253.5,  15.8944,  34.6293,2,   -999.0,9,-999.0000,9,    201.0,2,     6.38,2,  -999.00,9,     6.92,2,     0.00,2,     0.49,2, -999.000,9, -999.000,9,  -999.00,9,   2049.4,2,   -999.0,9,-999.0000,9,   -999.0,  9,     8.01,2,   -999.0,  -999.00,9,  -999.00,9,     0.00,2,     0.00,2,   -999.0,-999.0000, -999,9,  252,  15.8545,  25.4955,   -999.0,9
       KS04-06,  165E,KS-1059,  1,     14,02-16020,2,20040627,2041, 15.0050, 164.9717, 5218,    301.7,  14.0653,  34.4800,2,   -999.0,9,  34.4842,2,    196.0,2,    10.23,2,  -999.00,9,    10.24,2,     0.00,2,     0.72,2, -999.000,9, -999.000,9,  -999.00,9,   2065.8,2,   -999.0,9,-999.0000,9,   -999.0,  9,     7.96,2,   -999.0,  -999.00,9,  -999.00,9,     0.00,2,     0.00,2,   -999.0,-999.0000, -999,9,  300,  14.0216,  25.7807,   -999.0,9
       KS04-06,  165E,KS-1059,  1,     13,02-16019,2,20040627,2039, 15.0050, 164.9717, 5218,    402.3,   8.8391,  34.1855,2,   -999.0,9,  34.1879,2,    129.0,2,    35.81,2,  -999.00,9,    25.72,2,     0.00,2,     1.90,2, -999.000,9, -999.000,9,  -999.00,9,   2178.8,2,   -999.0,9,-999.0000,9,   -999.0,  9,     7.70,2,   -999.0,  -999.00,9,  -999.00,9,  -999.00,9,  -999.00,9,   -999.0,-999.0000, -999,9,  400,   8.7958,  26.5126,   -999.0,9
       KS04-06,  165E,KS-1059,  1,     12,02-16018,2,20040627,2031, 15.0050, 164.9717, 5218,    504.8,   7.2174,  34.4043,2,   -999.0,9,  34.4039,2,     53.0,2,    57.33,2,  -999.00,9,    36.13,2,     0.00,2,     2.67,2, -999.000,9, -999.000,9,  -999.00,9,   -999.0,9,   -999.0,9,-999.0000,9,   -999.0,  9,     7.54,2,   -999.0,  -999.00,9,  -999.00,9,  -999.00,9,  -999.00,9,   -999.0,-999.0000, -999,9,  501,   7.1687,  26.9261,   -999.0,9
       KS04-06,  165E,KS-1059,  1,     11,02-16017,2,20040627,2029, 15.0050, 164.9717, 5218,    604.2,   6.2724,  34.4542,2,   -999.0,9,  34.4542,2,     52.0,2,    69.10,2,  -999.00,9,    38.36,2,     0.00,2,     2.82,2, -999.000,9, -999.000,9,  -999.00,9,   2285.1,2,   -999.0,9,-999.0000,9,   -999.0,  9,     7.53,2,   -999.0,  -999.00,9,  -999.00,9,  -999.00,9,  -999.00,9,   -999.0,-999.0000, -999,9,  600,   6.2180,  27.0934,   -999.0,9
       KS04-06,  165E,KS-1059,  1,     10,02-16016,2,20040627,2019, 15.0050, 164.9717, 5218,    706.1,   5.7127,  34.4839,2,   -999.0,9,  34.4828,2,     57.0,2,    76.24,2,  -999.00,9,    39.14,2,     0.00,2,     2.87,2, -999.000,9, -999.000,9,  -999.00,9,   -999.0,9,   -999.0,9,-999.0000,9,   -999.0,  9,     7.54,2,   -999.0,  -999.00,9,  -999.00,9,  -999.00,9,  -999.00,9,   -999.0,-999.0000, -999,9,  701,   5.6516,  27.1884,   -999.0,9
       KS04-06,  165E,KS-1059,  1,      9,02-16015,2,20040627,2016, 15.0050, 164.9717, 5218,    805.3,   5.2032,  34.5050,2,   -999.0,9,  34.5048,2,     59.0,2,    84.55,2,  -999.00,9,    39.81,2,     0.00,2,     2.92,2, -999.000,9, -999.000,9,  -999.00,9,   2302.1,2,   -999.0,9,-999.0000,9,   -999.0,  9,     7.54,2,   -999.0,  -999.00,9,  -999.00,9,  -999.00,9,  -999.00,9,   -999.0,-999.0000, -999,9,  799,   5.1360,  27.2670,   -999.0,9
       KS04-06,  165E,KS-1059,  1,      8,02-16014,2,20040627,2011, 15.0050, 164.9717, 5218,    907.3,   4.8280,  34.5192,2,   -999.0,9,  34.5192,2,     62.0,2,    91.58,2,  -999.00,9,    40.30,2,     0.00,2,     2.93,2, -999.000,9, -999.000,9,  -999.00,9,   -999.0,9,   -999.0,9,-999.0000,9,   -999.0,  9,     7.55,2,   -999.0,  -999.00,9,  -999.00,9,  -999.00,9,  -999.00,9,   -999.0,-999.0000, -999,9,  900,   4.7542,  27.3221,   -999.0,9
       KS04-06,  165E,KS-1059,  1,      7,02-16013,2,20040627,2009, 15.0050, 164.9717, 5218,   1007.7,   4.4083,  34.5327,2,   -999.0,9,  34.5327,2,     64.0,2,    98.82,2,  -999.00,9,    40.69,2,     0.00,2,     2.97,2, -999.000,9, -999.000,9,  -999.00,9,   2319.7,2,   -999.0,9,-999.0000,9,   -999.0,  9,     7.54,2,   -999.0,  -999.00,9,  -999.00,9,  -999.00,9,  -999.00,9,   -999.0,-999.0000, -999,9,  999,   4.3288,  27.3797,   -999.0,9
       KS04-06,  165E,KS-1059,  1,      6,02-16012,2,20040627,2000, 15.0050, 164.9717, 5218,   1260.7,   3.5321,  34.5654,2,   -999.0,9,  34.5657,2,     80.0,2,   115.90,2,  -999.00,9,    40.19,2,     0.00,2,     2.90,2, -999.000,9, -999.000,9,  -999.00,9,   2332.9,2,   -999.0,9,-999.0000,9,   -999.0,  9,     7.56,2,   -999.0,  -999.00,9,  -999.00,9,  -999.00,9,  -999.00,9,   -999.0,-999.0000, -999,9, 1250,   3.4386,  27.4968,   -999.0,9
       KS04-06,  165E,KS-1059,  1,      5,02-16011,2,20040627,1953, 15.0050, 164.9717, 5218,   1514.2,   2.8862,  34.5905,2,   -999.0,9,  34.5901,2,     88.0,2,   128.53,2,  -999.00,9,    40.00,2,     0.00,2,     2.85,2, -999.000,9, -999.000,9,  -999.00,9,   2339.5,2,   -999.0,9,-999.0000,9,   -999.0,  9,     7.57,2,   -999.0,  -999.00,9,  -999.00,9,  -999.00,9,  -999.00,9,   -999.0,-999.0000, -999,9, 1500,   2.7785,  27.5782,   -999.0,9
       KS04-06,  165E,KS-1059,  1,      4,02-16010,2,20040627,1948, 15.0050, 164.9717, 5218,   1767.2,   2.4165,  34.6146,2,   -999.0,9,  34.5901,4,    100.0,2,   128.91,2,  -999.00,9,    39.99,2,     0.00,2,     2.85,2, -999.000,9, -999.000,9,  -999.00,9,   -999.0,9,   -999.0,9,-999.0000,9,   -999.0,  9,     7.58,2,   -999.0,  -999.00,9,  -999.00,9,  -999.00,9,  -999.00,9,   -999.0,-999.0000, -999,9, 1749,   2.2936,  27.6391,   -999.0,9
       KS04-06,  165E,KS-1059,  1,      3,02-16009,9,20040627,1942, 15.0050, 164.9717, 5218,   2019.6,   2.1599,  34.6319,2,   -999.0,9,-999.0000,9,   -999.0,9,  -999.00,9,  -999.00,9,  -999.00,9,  -999.00,9,  -999.00,9, -999.000,9, -999.000,9,  -999.00,9,   -999.0,9,   -999.0,9,-999.0000,9,   -999.0,  9,  -999.00,9,   -999.0,  -999.00,9,  -999.00,9,  -999.00,9,  -999.00,9,   -999.0,-999.0000, -999,9, 1998,   2.0194,  27.6752,   -999.0,9
       KS04-06,  165E,KS-1059,  1,      2,02-16008,9,20040627,1942, 15.0050, 164.9717, 5218,   2021.1,   2.1586,  34.6320,2,   -999.0,9,-999.0000,9,   -999.0,9,  -999.00,9,  -999.00,9,  -999.00,9,  -999.00,9,  -999.00,9, -999.000,9, -999.000,9,  -999.00,9,   -999.0,9,   -999.0,9,-999.0000,9,   -999.0,  9,  -999.00,9,   -999.0,  -999.00,9,  -999.00,9,  -999.00,9,  -999.00,9,   -999.0,-999.0000, -999,9, 2000,   2.0180,  27.6754,   -999.0,9
       KS04-06,  165E,KS-1059,  1,      1,02-16007,2,20040627,1942, 15.0050, 164.9717, 5218,   2021.4,   2.1581,  34.6320,2,   -999.0,9,  34.6311,2,    108.0,2,   143.63,2,  -999.00,9,    39.02,2,     0.00,2,     2.75,2, -999.000,9, -999.000,9,  -999.00,9,   2344.4,2,   -999.0,9,-999.0000,9,   -999.0,  9,     7.60,2,   -999.0,  -999.00,9,  -999.00,9,  -999.00,9,  -999.00,9,   -999.0,-999.0000, -999,9, 2000,   2.0174,  27.6755,   -999.0,9
       KS04-06,  165E,KS-1060,  1,      2,02-16008,9,20040628,0335, 14.0018, 164.9888, 5316,      4.4,  28.8442,  34.4095,2,   -999.0,9,-999.0000,9,   -999.0,9,  -999.00,9,  -999.00,9,  -999.00,9,  -999.00,9,  -999.00,9, -999.000,9, -999.000,9,  -999.00,9,   -999.0,9,   -999.0,9,-999.0000,9,   -999.0,  9,  -999.00,9,   -999.0,  -999.00,9,  -999.00,9,  -999.00,9,  -999.00,9,   -999.0,-999.0000, -999,9,    4,  28.8431,  21.6730,   -999.0,9
       KS04-06,  165E,KS-1060,  1,      1,02-16007,2,20040628,0335, 14.0018, 164.9888, 5316,      4.1,  28.8321,  34.4091,2,   -999.0,9,-999.0000,9,   -999.0,9,     1.30,2,  -999.00,9,     0.00,2,     0.00,2,     0.03,2, -999.000,9, -999.000,9,  -999.00,9,   1913.2,2,   -999.0,9,-999.0000,9,   -999.0,  9,  -999.00,9,   -999.0,  -999.00,9,  -999.00,9,     0.01,2,     0.00,2,   -999.0,-999.0000, -999,9,    4,  28.8311,  21.6767,   -999.0,9