BOTTLE,20130510GEMDJMAYT
EXPOCODE,SECT_ID,STNNBR,CASTNO,SAMPNO,BTLNBR,BTLNBR_FLAG_W,DATE,TIME,LATITUDE,LONGITUDE,DEPTH,CTDPRS,CTDTMP,CTDSAL,CTDSAL_FLAG_W,CTDOXY,CTDOXY_FLAG_W,SALNTY,SALNTY_FLAG_W,OXYGEN,OXYGEN_FLAG_W,SILCAT,SILCAT_FLAG_W,NITRAT,NITRAT_FLAG_W,NO2+NO3,NO2+NO3_FLAG_W,NITRIT,NITRIT_FLAG_W,PHSPHT,PHSPHT_FLAG_W,CFC-11,CFC-11_FLAG_W,CFC-12,CFC-12_FLAG_W,DELC13,DELC13_FLAG_W,TCARBN,TCARBN_FLAG_W,ALKALI,ALKALI_FLAG_W,PH,PH_FLAG_W,PH_TMP,PH_SCALE,PH_NBS,PH_NBS_FLAG_W,C13ERR,TOTALP,TOTALP_FLAG_W,AMMONI,AMMONI_FLAG_W,CHLORA,CHLORA_FLAG_W,PPHYTN,PPHYTN_FLAG_W,REVPRS,REVTMP,DEPTH_,DEPTH_FLAG,CTDDEP,THETA,SIGTHT,DOC,DOC_FLAG_W
,,,,,,,GMT,GMT,,,METER,DBAR,ITS-90,PSS-78,,UMOL/KG,,PSS-78,,UMOL/KG,,UMOL/KG,,UMOL/KG,,UMOL/KG,,UMOL/KG,,UMOL/KG,,PMOL/KG,,PMOL/KG,,/MILLE,,UMOL/KG,,UMOL/KG,,25_DEG_C,,DEG_C,,,,/MILLE,UMOL/KG,,UMOL/KG,,UG/L,,UG/L,,DBAR,ITS-90,METERS,,METERS,DEG_C,,UMOL/L,
       KS04-06,  165E,KS-1071,  1,     24,02-16030,3,20040710,1929,  3.0057, 165.0015, 4242,      5.3,  29.4739,  34.3512,2,   -999.0,9,-999.0000,9,   -999.0,9,  -999.00,9,  -999.00,9,  -999.00,9,  -999.00,9,  -999.00,9, -999.000,9, -999.000,9,  -999.00,9,   -999.0,9,   -999.0,9,-999.0000,9,   -999.0,  9,  -999.00,9,   -999.0,  -999.00,9,  -999.00,9,  -999.00,9,  -999.00,9,   -999.0,-999.0000, -999,9,    5,  29.4726,  21.4186,   -999.0,9
       KS04-06,  165E,KS-1071,  1,     23,02-16029,2,20040710,1929,  3.0057, 165.0015, 4242,      5.3,  29.4763,  34.3509,2,   -999.0,9,  34.3537,4,   -999.0,9,     1.35,2,  -999.00,9,     0.00,2,     0.00,2,     0.14,2, -999.000,9, -999.000,9,  -999.00,9,   1914.0,2,   -999.0,9,-999.0000,9,   -999.0,  9,  -999.00,9,   -999.0,  -999.00,9,  -999.00,9,     0.04,2,     0.03,2,   -999.0,-999.0000, -999,9,    5,  29.4750,  21.4176,   -999.0,9
       KS04-06,  165E,KS-1071,  1,     22,02-10977,2,20040710,1922,  3.0057, 165.0015, 4242,     99.9,  27.0685,  35.1803,2,   -999.0,9,  35.1855,4,   -999.0,9,  -999.00,9,  -999.00,9,  -999.00,9,  -999.00,9,  -999.00,9, -999.000,9, -999.000,9,  -999.00,9,   -999.0,9,   -999.0,9,-999.0000,9,   -999.0,  9,  -999.00,9,   -999.0,  -999.00,9,  -999.00,9,  -999.00,9,  -999.00,9,   -999.0,-999.0000, -999,9,   99,  27.0455,  22.8390,   -999.0,9
       KS04-06,  165E,KS-1071,  1,     21,02-16027,2,20040710,1915,  3.0057, 165.0015, 4242,    200.2,  13.0702,  34.5410,2,   -999.0,9,  34.5447,2,   -999.0,9,  -999.00,9,  -999.00,9,  -999.00,9,  -999.00,9,  -999.00,9, -999.000,9, -999.000,9,  -999.00,9,   -999.0,9,   -999.0,9,-999.0000,9,   -999.0,  9,  -999.00,9,   -999.0,  -999.00,9,  -999.00,9,  -999.00,9,  -999.00,9,   -999.0,-999.0000, -999,9,  199,  13.0427,  26.0287,   -999.0,9
       KS04-06,  165E,KS-1071,  1,     20,02-16026,2,20040710,1911,  3.0057, 165.0015, 4242,    300.6,   9.7586,  34.6270,2,   -999.0,9,  34.6272,2,   -999.0,9,  -999.00,9,  -999.00,9,  -999.00,9,  -999.00,9,  -999.00,9, -999.000,9, -999.000,9,  -999.00,9,   -999.0,9,   -999.0,9,-999.0000,9,   -999.0,  9,  -999.00,9,   -999.0,  -999.00,9,  -999.00,9,  -999.00,9,  -999.00,9,   -999.0,-999.0000, -999,9,  299,   9.7242,  26.7073,   -999.0,9
       KS04-06,  165E,KS-1071,  1,     19,02-16025,2,20040710,1909,  3.0057, 165.0015, 4242,    401.2,   8.4886,  34.6058,2,   -999.0,9,  34.6048,2,   -999.0,9,  -999.00,9,  -999.00,9,  -999.00,9,  -999.00,9,  -999.00,9, -999.000,9, -999.000,9,  -999.00,9,   -999.0,9,   -999.0,9,-999.0000,9,   -999.0,  9,  -999.00,9,   -999.0,  -999.00,9,  -999.00,9,  -999.00,9,  -999.00,9,   -999.0,-999.0000, -999,9,  399,   8.4462,  26.8965,   -999.0,9
       KS04-06,  165E,KS-1071,  1,     18,02-16024,2,20040710,1901,  3.0057, 165.0015, 4242,    502.5,   7.4783,  34.5680,2,   -999.0,9,  34.5684,2,   -999.0,9,  -999.00,9,  -999.00,9,  -999.00,9,  -999.00,9,  -999.00,9, -999.000,9, -999.000,9,  -999.00,9,   -999.0,9,   -999.0,9,-999.0000,9,   -999.0,  9,  -999.00,9,   -999.0,  -999.00,9,  -999.00,9,  -999.00,9,  -999.00,9,   -999.0,-999.0000, -999,9,  499,   7.4287,  27.0181,   -999.0,9
       KS04-06,  165E,KS-1071,  1,     17,02-16023,2,20040710,1858,  3.0057, 165.0015, 4242,    602.9,   6.7118,  34.5522,2,   -999.0,9,  34.5514,2,   -999.0,9,  -999.00,9,  -999.00,9,  -999.00,9,  -999.00,9,  -999.00,9, -999.000,9, -999.000,9,  -999.00,9,   -999.0,9,   -999.0,9,-999.0000,9,   -999.0,  9,  -999.00,9,   -999.0,  -999.00,9,  -999.00,9,  -999.00,9,  -999.00,9,   -999.0,-999.0000, -999,9,  599,   6.6554,  27.1130,   -999.0,9
       KS04-06,  165E,KS-1071,  1,     16,02-16022,3,20040710,1856,  3.0057, 165.0015, 4242,    704.5,   5.9639,  34.5405,2,   -999.0,9,  34.5468,4,   -999.0,9,  -999.00,9,  -999.00,9,  -999.00,9,  -999.00,9,  -999.00,9, -999.000,9, -999.000,9,  -999.00,9,   -999.0,9,   -999.0,9,-999.0000,9,   -999.0,  9,  -999.00,9,   -999.0,  -999.00,9,  -999.00,9,  -999.00,9,  -999.00,9,   -999.0,-999.0000, -999,9,  699,   5.9015,  27.2021,   -999.0,9
       KS04-06,  165E,KS-1071,  1,     15,02-16021,2,20040710,1840,  3.0057, 165.0015, 4242,    804.6,   5.3484,  34.5405,2,   -999.0,9,  34.5421,2,   -999.0,9,  -999.00,9,  -999.00,9,  -999.00,9,  -999.00,9,  -999.00,9, -999.000,9, -999.000,9,  -999.00,9,   -999.0,9,   -999.0,9,-999.0000,9,   -999.0,  9,  -999.00,9,   -999.0,  -999.00,9,  -999.00,9,  -999.00,9,  -999.00,9,   -999.0,-999.0000, -999,9,  799,   5.2803,  27.2781,   -999.0,9
       KS04-06,  165E,KS-1071,  1,     14,02-16020,2,20040710,1838,  3.0057, 165.0015, 4242,    905.6,   4.8626,  34.5475,2,   -999.0,9,  34.5466,2,   -999.0,9,  -999.00,9,  -999.00,9,  -999.00,9,  -999.00,9,  -999.00,9, -999.000,9, -999.000,9,  -999.00,9,   -999.0,9,   -999.0,9,-999.0000,9,   -999.0,  9,  -999.00,9,   -999.0,  -999.00,9,  -999.00,9,  -999.00,9,  -999.00,9,   -999.0,-999.0000, -999,9,  899,   4.7887,  27.3407,   -999.0,9
       KS04-06,  165E,KS-1071,  1,     13,02-16019,2,20040710,1831,  3.0057, 165.0015, 4242,   1007.0,   4.4802,  34.5566,2,   -999.0,9,  34.5563,2,   -999.0,9,  -999.00,9,  -999.00,9,  -999.00,9,  -999.00,9,  -999.00,9, -999.000,9, -999.000,9,  -999.00,9,   -999.0,9,   -999.0,9,-999.0000,9,   -999.0,  9,  -999.00,9,   -999.0,  -999.00,9,  -999.00,9,  -999.00,9,  -999.00,9,   -999.0,-999.0000, -999,9,  999,   4.4002,  27.3909,   -999.0,9
       KS04-06,  165E,KS-1071,  1,     12,02-16018,2,20040710,1821,  3.0057, 165.0015, 4242,   1260.4,   3.5739,  34.5829,2,   -999.0,9,  34.5830,2,   -999.0,9,  -999.00,9,  -999.00,9,  -999.00,9,  -999.00,9,  -999.00,9, -999.000,9, -999.000,9,  -999.00,9,   -999.0,9,   -999.0,9,-999.0000,9,   -999.0,  9,  -999.00,9,   -999.0,  -999.00,9,  -999.00,9,  -999.00,9,  -999.00,9,   -999.0,-999.0000, -999,9, 1250,   3.4800,  27.5068,   -999.0,9
       KS04-06,  165E,KS-1071,  1,     11,02-16017,2,20040710,1814,  3.0057, 165.0015, 4242,   1513.1,   2.9148,  34.6064,2,   -999.0,9,  34.6058,2,   -999.0,9,  -999.00,9,  -999.00,9,  -999.00,9,  -999.00,9,  -999.00,9, -999.000,9, -999.000,9,  -999.00,9,   -999.0,9,   -999.0,9,-999.0000,9,   -999.0,  9,  -999.00,9,   -999.0,  -999.00,9,  -999.00,9,  -999.00,9,  -999.00,9,   -999.0,-999.0000, -999,9, 1499,   2.8068,  27.5884,   -999.0,9
       KS04-06,  165E,KS-1071,  1,     10,02-16016,2,20040710,1800,  3.0057, 165.0015, 4242,   1766.0,   2.4541,  34.6269,2,   -999.0,9,  34.6270,2,   -999.0,9,  -999.00,9,  -999.00,9,  -999.00,9,  -999.00,9,  -999.00,9, -999.000,9, -999.000,9,  -999.00,9,   -999.0,9,   -999.0,9,-999.0000,9,   -999.0,  9,  -999.00,9,   -999.0,  -999.00,9,  -999.00,9,  -999.00,9,  -999.00,9,   -999.0,-999.0000, -999,9, 1749,   2.3307,  27.6459,   -999.0,9
       KS04-06,  165E,KS-1071,  1,      9,02-16015,9,20040710,1753,  3.0057, 165.0015, 4242,   2019.8,   2.1289,  34.6450,2,   -999.0,9,-999.0000,9,   -999.0,9,  -999.00,9,  -999.00,9,  -999.00,9,  -999.00,9,  -999.00,9, -999.000,9, -999.000,9,  -999.00,9,   -999.0,9,   -999.0,9,-999.0000,9,   -999.0,  9,  -999.00,9,   -999.0,  -999.00,9,  -999.00,9,  -999.00,9,  -999.00,9,   -999.0,-999.0000, -999,9, 1999,   1.9888,  27.6882,   -999.0,9
       KS04-06,  165E,KS-1071,  1,      8,02-16014,9,20040710,1753,  3.0057, 165.0015, 4242,   2019.8,   2.1297,  34.6450,2,   -999.0,9,-999.0000,9,   -999.0,9,  -999.00,9,  -999.00,9,  -999.00,9,  -999.00,9,  -999.00,9, -999.000,9, -999.000,9,  -999.00,9,   -999.0,9,   -999.0,9,-999.0000,9,   -999.0,  9,  -999.00,9,   -999.0,  -999.00,9,  -999.00,9,  -999.00,9,  -999.00,9,   -999.0,-999.0000, -999,9, 1999,   1.9896,  27.6881,   -999.0,9
       KS04-06,  165E,KS-1071,  1,      7,02-16013,9,20040710,1753,  3.0057, 165.0015, 4242,   2019.9,   2.1297,  34.6450,2,   -999.0,9,-999.0000,9,   -999.0,9,  -999.00,9,  -999.00,9,  -999.00,9,  -999.00,9,  -999.00,9, -999.000,9, -999.000,9,  -999.00,9,   -999.0,9,   -999.0,9,-999.0000,9,   -999.0,  9,  -999.00,9,   -999.0,  -999.00,9,  -999.00,9,  -999.00,9,  -999.00,9,   -999.0,-999.0000, -999,9, 1999,   1.9896,  27.6881,   -999.0,9
       KS04-06,  165E,KS-1071,  1,      6,02-16012,9,20040710,1752,  3.0057, 165.0015, 4242,   2020.1,   2.1292,  34.6450,2,   -999.0,9,-999.0000,9,   -999.0,9,  -999.00,9,  -999.00,9,  -999.00,9,  -999.00,9,  -999.00,9, -999.000,9, -999.000,9,  -999.00,9,   -999.0,9,   -999.0,9,-999.0000,9,   -999.0,  9,  -999.00,9,   -999.0,  -999.00,9,  -999.00,9,  -999.00,9,  -999.00,9,   -999.0,-999.0000, -999,9, 1999,   1.9891,  27.6881,   -999.0,9
       KS04-06,  165E,KS-1071,  1,      5,02-16011,9,20040710,1752,  3.0057, 165.0015, 4242,   2019.8,   2.1312,  34.6448,2,   -999.0,9,-999.0000,9,   -999.0,9,  -999.00,9,  -999.00,9,  -999.00,9,  -999.00,9,  -999.00,9, -999.000,9, -999.000,9,  -999.00,9,   -999.0,9,   -999.0,9,-999.0000,9,   -999.0,  9,  -999.00,9,   -999.0,  -999.00,9,  -999.00,9,  -999.00,9,  -999.00,9,   -999.0,-999.0000, -999,9, 1999,   1.9910,  27.6878,   -999.0,9
       KS04-06,  165E,KS-1071,  1,      4,02-16010,9,20040710,1752,  3.0057, 165.0015, 4242,   2019.3,   2.1316,  34.6447,2,   -999.0,9,-999.0000,9,   -999.0,9,  -999.00,9,  -999.00,9,  -999.00,9,  -999.00,9,  -999.00,9, -999.000,9, -999.000,9,  -999.00,9,   -999.0,9,   -999.0,9,-999.0000,9,   -999.0,  9,  -999.00,9,   -999.0,  -999.00,9,  -999.00,9,  -999.00,9,  -999.00,9,   -999.0,-999.0000, -999,9, 1999,   1.9915,  27.6877,   -999.0,9
       KS04-06,  165E,KS-1071,  1,      3,02-16009,9,20040710,1752,  3.0057, 165.0015, 4242,   2019.4,   2.1315,  34.6448,2,   -999.0,9,-999.0000,9,   -999.0,9,  -999.00,9,  -999.00,9,  -999.00,9,  -999.00,9,  -999.00,9, -999.000,9, -999.000,9,  -999.00,9,   -999.0,9,   -999.0,9,-999.0000,9,   -999.0,  9,  -999.00,9,   -999.0,  -999.00,9,  -999.00,9,  -999.00,9,  -999.00,9,   -999.0,-999.0000, -999,9, 1999,   1.9914,  27.6878,   -999.0,9
       KS04-06,  165E,KS-1071,  1,      2,02-16008,9,20040710,1752,  3.0057, 165.0015, 4242,   2019.9,   2.1309,  34.6449,2,   -999.0,9,-999.0000,9,   -999.0,9,  -999.00,9,  -999.00,9,  -999.00,9,  -999.00,9,  -999.00,9, -999.000,9, -999.000,9,  -999.00,9,   -999.0,9,   -999.0,9,-999.0000,9,   -999.0,  9,  -999.00,9,   -999.0,  -999.00,9,  -999.00,9,  -999.00,9,  -999.00,9,   -999.0,-999.0000, -999,9, 1999,   1.9907,  27.6879,   -999.0,9
       KS04-06,  165E,KS-1071,  1,      1,02-16007,2,20040710,1752,  3.0057, 165.0015, 4242,   2020.3,   2.1305,  34.6448,2,   -999.0,9,  34.6441,2,   -999.0,9,  -999.00,9,  -999.00,9,  -999.00,9,  -999.00,9,  -999.00,9, -999.000,9, -999.000,9,  -999.00,9,   -999.0,9,   -999.0,9,-999.0000,9,   -999.0,  9,  -999.00,9,   -999.0,  -999.00,9,  -999.00,9,  -999.00,9,  -999.00,9,   -999.0,-999.0000, -999,9, 1999,   1.9903,  27.6879,   -999.0,9