BOTTLE,20130510GEMDJMAYT
EXPOCODE,SECT_ID,STNNBR,CASTNO,SAMPNO,BTLNBR,BTLNBR_FLAG_W,DATE,TIME,LATITUDE,LONGITUDE,DEPTH,CTDPRS,CTDTMP,CTDSAL,CTDSAL_FLAG_W,CTDOXY,CTDOXY_FLAG_W,SALNTY,SALNTY_FLAG_W,OXYGEN,OXYGEN_FLAG_W,SILCAT,SILCAT_FLAG_W,NITRAT,NITRAT_FLAG_W,NO2+NO3,NO2+NO3_FLAG_W,NITRIT,NITRIT_FLAG_W,PHSPHT,PHSPHT_FLAG_W,CFC-11,CFC-11_FLAG_W,CFC-12,CFC-12_FLAG_W,DELC13,DELC13_FLAG_W,TCARBN,TCARBN_FLAG_W,ALKALI,ALKALI_FLAG_W,PH,PH_FLAG_W,PH_TMP,PH_SCALE,PH_NBS,PH_NBS_FLAG_W,C13ERR,TOTALP,TOTALP_FLAG_W,AMMONI,AMMONI_FLAG_W,CHLORA,CHLORA_FLAG_W,PPHYTN,PPHYTN_FLAG_W,REVPRS,REVTMP,DEPTH_,DEPTH_FLAG,CTDDEP,THETA,SIGTHT,DOC,DOC_FLAG_W
,,,,,,,GMT,GMT,,,METER,DBAR,ITS-90,PSS-78,,UMOL/KG,,PSS-78,,UMOL/KG,,UMOL/KG,,UMOL/KG,,UMOL/KG,,UMOL/KG,,UMOL/KG,,PMOL/KG,,PMOL/KG,,/MILLE,,UMOL/KG,,UMOL/KG,,25_DEG_C,,DEG_C,,,,/MILLE,UMOL/KG,,UMOL/KG,,UG/L,,UG/L,,DBAR,ITS-90,METERS,,METERS,DEG_C,,UMOL/L,
       KS04-06,  NONE,KS-1037,  1,     24,02-16030,2,20040620,0103, 27.9922, 146.9790, 5771,      5.4,  27.4554,  35.0354,2,   -999.0,9,  35.0376,4,    204.0,2,     1.21,2,  -999.00,9,     0.00,2,     0.00,2,     0.00,2, -999.000,9, -999.000,9,  -999.00,9,   -999.0,9,   -999.0,9,-999.0000,9,   -999.0,  9,  -999.00,9,   -999.0,  -999.00,9,  -999.00,9,  -999.00,9,  -999.00,9,   -999.0,-999.0000, -999,9,    5,  27.4542,  22.5986,   -999.0,9
       KS04-06,  NONE,KS-1037,  1,     23,02-16029,2,20040620,0103, 27.9922, 146.9790, 5771,     10.4,  27.3833,  35.0326,2,   -999.0,9,-999.0000,9,    204.0,2,     1.21,2,  -999.00,9,     0.00,2,     0.00,2,     0.00,2, -999.000,9, -999.000,9,  -999.00,9,   -999.0,9,   -999.0,9,-999.0000,9,   -999.0,  9,  -999.00,9,   -999.0,  -999.00,9,  -999.00,9,  -999.00,9,  -999.00,9,   -999.0,-999.0000, -999,9,   10,  27.3809,  22.6201,   -999.0,9
       KS04-06,  NONE,KS-1037,  1,     22,02-10977,2,20040620,0101, 27.9922, 146.9790, 5771,     26.2,  25.9813,  35.0028,2,   -999.0,9,-999.0000,9,    215.0,2,     1.10,2,  -999.00,9,     0.00,2,     0.00,2,     0.00,2, -999.000,9, -999.000,9,  -999.00,9,   -999.0,9,   -999.0,9,-999.0000,9,   -999.0,  9,  -999.00,9,   -999.0,  -999.00,9,  -999.00,9,  -999.00,9,  -999.00,9,   -999.0,-999.0000, -999,9,   26,  25.9755,  23.0431,   -999.0,9
       KS04-06,  NONE,KS-1037,  1,     21,02-16027,2,20040620,0058, 27.9922, 146.9790, 5771,     50.3,  22.4365,  34.9609,2,   -999.0,9,-999.0000,9,    232.0,2,     1.47,2,  -999.00,9,     0.00,2,     0.00,2,     0.00,2, -999.000,9, -999.000,9,  -999.00,9,   -999.0,9,   -999.0,9,-999.0000,9,   -999.0,  9,  -999.00,9,   -999.0,  -999.00,9,  -999.00,9,  -999.00,9,  -999.00,9,   -999.0,-999.0000, -999,9,   50,  22.4264,  24.0679,   -999.0,9
       KS04-06,  NONE,KS-1037,  1,     20,02-16026,2,20040620,0057, 27.9922, 146.9790, 5771,     76.4,  20.8055,  34.9656,2,   -999.0,9,-999.0000,9,    221.0,2,     1.68,2,  -999.00,9,     0.00,2,     0.00,2,     0.03,2, -999.000,9, -999.000,9,  -999.00,9,   -999.0,9,   -999.0,9,-999.0000,9,   -999.0,  9,  -999.00,9,   -999.0,  -999.00,9,  -999.00,9,  -999.00,9,  -999.00,9,   -999.0,-999.0000, -999,9,   76,  20.7910,  24.5243,   -999.0,9
       KS04-06,  NONE,KS-1037,  1,     19,02-16025,2,20040620,0056, 27.9922, 146.9790, 5771,    102.1,  19.7714,  34.9249,2,   -999.0,9,  34.9187,4,    206.0,2,     2.11,2,  -999.00,9,     1.07,2,     0.07,2,     0.08,2, -999.000,9, -999.000,9,  -999.00,9,   -999.0,9,   -999.0,9,-999.0000,9,   -999.0,  9,  -999.00,9,   -999.0,  -999.00,9,  -999.00,9,  -999.00,9,  -999.00,9,   -999.0,-999.0000, -999,9,  101,  19.7527,  24.7694,   -999.0,9
       KS04-06,  NONE,KS-1037,  1,     18,02-16024,2,20040620,0055, 27.9922, 146.9790, 5771,    125.9,  19.0466,  34.8700,2,   -999.0,9,-999.0000,9,    201.0,2,     2.63,2,  -999.00,9,     2.63,2,     0.03,2,     0.16,2, -999.000,9, -999.000,9,  -999.00,9,   -999.0,9,   -999.0,9,-999.0000,9,   -999.0,  9,  -999.00,9,   -999.0,  -999.00,9,  -999.00,9,  -999.00,9,  -999.00,9,   -999.0,-999.0000, -999,9,  125,  19.0241,  24.9156,   -999.0,9
       KS04-06,  NONE,KS-1037,  1,     17,02-16023,2,20040620,0054, 27.9922, 146.9790, 5771,    151.0,  18.4069,  34.8223,2,   -999.0,9,-999.0000,9,    205.0,2,     3.06,2,  -999.00,9,     3.22,2,     0.01,2,     0.21,2, -999.000,9, -999.000,9,  -999.00,9,   -999.0,9,   -999.0,9,-999.0000,9,   -999.0,  9,  -999.00,9,   -999.0,  -999.00,9,  -999.00,9,  -999.00,9,  -999.00,9,   -999.0,-999.0000, -999,9,  150,  18.3806,  25.0416,   -999.0,9
       KS04-06,  NONE,KS-1037,  1,     16,02-16022,2,20040620,0050, 27.9922, 146.9790, 5771,    203.4,  17.3366,  34.7480,2,   -999.0,9,  34.7476,2,    204.0,2,     4.02,2,  -999.00,9,     4.68,2,     0.00,2,     0.28,2, -999.000,9, -999.000,9,  -999.00,9,   -999.0,9,   -999.0,9,-999.0000,9,   -999.0,  9,  -999.00,9,   -999.0,  -999.00,9,  -999.00,9,  -999.00,9,  -999.00,9,   -999.0,-999.0000, -999,9,  202,  17.3026,  25.2486,   -999.0,9
       KS04-06,  NONE,KS-1037,  1,     15,02-16021,2,20040620,0048, 27.9922, 146.9790, 5771,    252.8,  16.7225,  34.7282,2,   -999.0,9,-999.0000,9,    210.0,2,     4.82,2,  -999.00,9,     5.27,2,     0.00,2,     0.33,2, -999.000,9, -999.000,9,  -999.00,9,   -999.0,9,   -999.0,9,-999.0000,9,   -999.0,  9,  -999.00,9,   -999.0,  -999.00,9,  -999.00,9,  -999.00,9,  -999.00,9,   -999.0,-999.0000, -999,9,  251,  16.6813,  25.3808,   -999.0,9
       KS04-06,  NONE,KS-1037,  1,     14,02-16020,2,20040620,0046, 27.9922, 146.9790, 5771,    301.3,  16.2256,  34.6903,2,   -999.0,9,  34.6912,2,    205.0,2,     6.20,2,  -999.00,9,     6.53,2,     0.00,2,     0.41,2, -999.000,9, -999.000,9,  -999.00,9,   -999.0,9,   -999.0,9,-999.0000,9,   -999.0,  9,  -999.00,9,   -999.0,  -999.00,9,  -999.00,9,  -999.00,9,  -999.00,9,   -999.0,-999.0000, -999,9,  299,  16.1774,  25.4687,   -999.0,9
       KS04-06,  NONE,KS-1037,  1,     13,02-16019,2,20040620,0044, 27.9922, 146.9790, 5771,    402.2,  14.5532,  34.5523,2,   -999.0,9,  34.5549,2,    196.0,2,    10.30,2,  -999.00,9,     9.94,2,     0.00,2,     0.77,2, -999.000,9, -999.000,9,  -999.00,9,   -999.0,9,   -999.0,9,-999.0000,9,   -999.0,  9,  -999.00,9,   -999.0,  -999.00,9,  -999.00,9,  -999.00,9,  -999.00,9,   -999.0,-999.0000, -999,9,  399,  14.4934,  25.7365,   -999.0,9
       KS04-06,  NONE,KS-1037,  1,     12,02-16018,2,20040620,0042, 27.9922, 146.9790, 5771,    502.8,  12.3244,  34.3906,2,   -999.0,9,  34.3914,2,    192.0,2,    17.07,2,  -999.00,9,    13.94,2,     0.00,2,     1.15,2, -999.000,9, -999.000,9,  -999.00,9,   -999.0,9,   -999.0,9,-999.0000,9,   -999.0,  9,  -999.00,9,   -999.0,  -999.00,9,  -999.00,9,  -999.00,9,  -999.00,9,   -999.0,-999.0000, -999,9,  499,  12.2573,  26.0666,   -999.0,9
       KS04-06,  NONE,KS-1037,  1,     11,02-16017,2,20040620,0040, 27.9922, 146.9790, 5771,    603.9,   9.0772,  34.1716,2,   -999.0,9,  34.1730,4,    174.0,2,    34.77,2,  -999.00,9,    21.14,2,     0.00,2,     1.67,2, -999.000,9, -999.000,9,  -999.00,9,   -999.0,9,   -999.0,9,-999.0000,9,   -999.0,  9,  -999.00,9,   -999.0,  -999.00,9,  -999.00,9,  -999.00,9,  -999.00,9,   -999.0,-999.0000, -999,9,  599,   9.0105,  26.4678,   -999.0,9
       KS04-06,  NONE,KS-1037,  1,     10,02-16016,2,20040620,0038, 27.9922, 146.9790, 5771,    706.5,   6.4502,  34.0516,2,   -999.0,9,  34.0515,4,    134.0,2,    57.74,2,  -999.00,9,    29.61,2,     0.00,2,     2.22,2, -999.000,9, -999.000,9,  -999.00,9,   -999.0,9,   -999.0,9,-999.0000,9,   -999.0,  9,  -999.00,9,   -999.0,  -999.00,9,  -999.00,9,  -999.00,9,  -999.00,9,   -999.0,-999.0000, -999,9,  701,   6.3856,  26.7538,   -999.0,9
       KS04-06,  NONE,KS-1037,  1,      9,02-16015,2,20040620,0035, 27.9922, 146.9790, 5771,    806.2,   5.2605,  34.0964,2,   -999.0,9,  34.0958,2,     95.0,2,    79.57,2,  -999.00,9,    35.06,2,     0.00,2,     2.58,2, -999.000,9, -999.000,9,  -999.00,9,   -999.0,9,   -999.0,9,-999.0000,9,   -999.0,  9,  -999.00,9,   -999.0,  -999.00,9,  -999.00,9,  -999.00,9,  -999.00,9,   -999.0,-999.0000, -999,9,  799,   5.1934,  26.9365,   -999.0,9
       KS04-06,  NONE,KS-1037,  1,      8,02-16014,2,20040620,0033, 27.9922, 146.9790, 5771,    904.9,   4.4380,  34.1845,2,   -999.0,9,  34.1852,2,     65.0,2,    98.85,2,  -999.00,9,    38.94,2,     0.00,2,     2.81,2, -999.000,9, -999.000,9,  -999.00,9,   -999.0,9,   -999.0,9,-999.0000,9,   -999.0,  9,  -999.00,9,   -999.0,  -999.00,9,  -999.00,9,  -999.00,9,  -999.00,9,   -999.0,-999.0000, -999,9,  897,   4.3676,  27.0988,   -999.0,9
       KS04-06,  NONE,KS-1037,  1,      7,02-16013,2,20040620,0031, 27.9922, 146.9790, 5771,   1008.9,   3.9081,  34.2850,2,   -999.0,9,  34.2832,2,     49.0,2,   113.61,2,  -999.00,9,    40.89,2,     0.00,2,     2.94,2, -999.000,9, -999.000,9,  -999.00,9,   -999.0,9,   -999.0,9,-999.0000,9,   -999.0,  9,  -999.00,9,   -999.0,  -999.00,9,  -999.00,9,  -999.00,9,  -999.00,9,   -999.0,-999.0000, -999,9, 1000,   3.8328,  27.2345,   -999.0,9
       KS04-06,  NONE,KS-1037,  1,      6,02-16012,2,20040620,0025, 27.9922, 146.9790, 5771,   1259.8,   3.0503,  34.4293,2,   -999.0,9,  34.4292,2,     43.0,2,   135.46,2,  -999.00,9,    42.24,2,     0.00,2,     3.00,2, -999.000,9, -999.000,9,  -999.00,9,   -999.0,9,   -999.0,9,-999.0000,9,   -999.0,  9,  -999.00,9,   -999.0,  -999.00,9,  -999.00,9,  -999.00,9,  -999.00,9,   -999.0,-999.0000, -999,9, 1248,   2.9619,  27.4330,   -999.0,9
       KS04-06,  NONE,KS-1037,  1,      5,02-16011,2,20040620,0015, 27.9922, 146.9790, 5771,   1512.2,   2.5733,  34.5112,2,   -999.0,9,  34.5103,2,     56.0,2,   145.83,2,  -999.00,9,    41.75,2,     0.00,2,     2.98,2, -999.000,9, -999.000,9,  -999.00,9,   -999.0,9,   -999.0,9,-999.0000,9,   -999.0,  9,  -999.00,9,   -999.0,  -999.00,9,  -999.00,9,  -999.00,9,  -999.00,9,   -999.0,-999.0000, -999,9, 1497,   2.4696,  27.5417,   -999.0,9
       KS04-06,  NONE,KS-1037,  1,      4,02-16010,2,20040620,0009, 27.9922, 146.9790, 5771,   1768.0,   2.1716,  34.5709,2,   -999.0,9,  34.5706,2,     77.0,2,   151.44,2,  -999.00,9,    40.77,2,     0.00,2,     2.88,2, -999.000,9, -999.000,9,  -999.00,9,   -999.0,9,   -999.0,9,-999.0000,9,   -999.0,  9,  -999.00,9,   -999.0,  -999.00,9,  -999.00,9,  -999.00,9,  -999.00,9,   -999.0,-999.0000, -999,9, 1749,   2.0521,  27.6238,   -999.0,9
       KS04-06,  NONE,KS-1037,  1,      3,02-16009,9,20040620,0005, 27.9922, 146.9790, 5771,   2022.7,   1.9354,  34.6100,2,   -999.0,9,-999.0000,9,   -999.0,9,  -999.00,9,  -999.00,9,  -999.00,9,  -999.00,9,  -999.00,9, -999.000,9, -999.000,9,  -999.00,9,   -999.0,9,   -999.0,9,-999.0000,9,   -999.0,  9,  -999.00,9,   -999.0,  -999.00,9,  -999.00,9,  -999.00,9,  -999.00,9,   -999.0,-999.0000, -999,9, 2000,   1.7981,  27.6749,   -999.0,9
       KS04-06,  NONE,KS-1037,  1,      2,02-16008,9,20040620,0005, 27.9922, 146.9790, 5771,   2023.3,   1.9348,  34.6102,2,   -999.0,9,-999.0000,9,   -999.0,9,  -999.00,9,  -999.00,9,  -999.00,9,  -999.00,9,  -999.00,9, -999.000,9, -999.000,9,  -999.00,9,   -999.0,9,   -999.0,9,-999.0000,9,   -999.0,  9,  -999.00,9,   -999.0,  -999.00,9,  -999.00,9,  -999.00,9,  -999.00,9,   -999.0,-999.0000, -999,9, 2000,   1.7975,  27.6751,   -999.0,9
       KS04-06,  NONE,KS-1037,  1,      1,02-16007,2,20040620,0005, 27.9922, 146.9790, 5771,   2021.7,   1.9339,  34.6103,2,   -999.0,9,  34.6093,2,     99.0,2,   150.53,2,  -999.00,9,    39.31,2,     0.00,2,     2.78,2, -999.000,9, -999.000,9,  -999.00,9,   -999.0,9,   -999.0,9,-999.0000,9,   -999.0,  9,  -999.00,9,   -999.0,  -999.00,9,  -999.00,9,  -999.00,9,  -999.00,9,   -999.0,-999.0000, -999,9, 1999,   1.7967,  27.6753,   -999.0,9