BOTTLE,20130510GEMDJMAYT
EXPOCODE,SECT_ID,STNNBR,CASTNO,SAMPNO,BTLNBR,BTLNBR_FLAG_W,DATE,TIME,LATITUDE,LONGITUDE,DEPTH,CTDPRS,CTDTMP,CTDSAL,CTDSAL_FLAG_W,CTDOXY,CTDOXY_FLAG_W,SALNTY,SALNTY_FLAG_W,OXYGEN,OXYGEN_FLAG_W,SILCAT,SILCAT_FLAG_W,NITRAT,NITRAT_FLAG_W,NO2+NO3,NO2+NO3_FLAG_W,NITRIT,NITRIT_FLAG_W,PHSPHT,PHSPHT_FLAG_W,CFC-11,CFC-11_FLAG_W,CFC-12,CFC-12_FLAG_W,DELC13,DELC13_FLAG_W,TCARBN,TCARBN_FLAG_W,ALKALI,ALKALI_FLAG_W,PH,PH_FLAG_W,PH_TMP,PH_SCALE,PH_NBS,PH_NBS_FLAG_W,C13ERR,TOTALP,TOTALP_FLAG_W,AMMONI,AMMONI_FLAG_W,CHLORA,CHLORA_FLAG_W,PPHYTN,PPHYTN_FLAG_W,REVPRS,REVTMP,DEPTH_,DEPTH_FLAG,CTDDEP,THETA,SIGTHT,DOC,DOC_FLAG_W
,,,,,,,GMT,GMT,,,METER,DBAR,ITS-90,PSS-78,,UMOL/KG,,PSS-78,,UMOL/KG,,UMOL/KG,,UMOL/KG,,UMOL/KG,,UMOL/KG,,UMOL/KG,,PMOL/KG,,PMOL/KG,,/MILLE,,UMOL/KG,,UMOL/KG,,25_DEG_C,,DEG_C,,,,/MILLE,UMOL/KG,,UMOL/KG,,UG/L,,UG/L,,DBAR,ITS-90,METERS,,METERS,DEG_C,,UMOL/L,
       KS04-06,  165E,KS-1049,  1,     24,02-16030,2,20040625,0254, 24.9933, 164.9922, 5922,      5.7,  27.0865,  35.1134,2,   -999.0,9,  35.1159,2,    204.0,2,     1.15,2,  -999.00,9,     0.00,2,     0.00,2,     0.00,2, -999.000,9, -999.000,9,  -999.00,9,   1962.3,2,   -999.0,9,-999.0000,9,   -999.0,  9,     8.22,2,   -999.0,  -999.00,9,  -999.00,9,     0.03,2,     0.02,2,   -999.0,-999.0000, -999,9,    6,  27.0852,  22.7759,   -999.0,9
       KS04-06,  165E,KS-1049,  1,     23,02-16029,2,20040625,0253, 24.9933, 164.9922, 5922,     10.2,  27.0170,  35.1105,2,   -999.0,9,-999.0000,9,    205.0,2,     1.26,2,  -999.00,9,     0.00,2,     0.00,2,     0.00,2, -999.000,9, -999.000,9,  -999.00,9,   1966.1,2,   -999.0,9,-999.0000,9,   -999.0,  9,     8.21,2,   -999.0,  -999.00,9,  -999.00,9,     0.04,2,     0.02,2,   -999.0,-999.0000, -999,9,   10,  27.0147,  22.7963,   -999.0,9
       KS04-06,  165E,KS-1049,  1,     22,02-10977,2,20040625,0252, 24.9933, 164.9922, 5922,     24.6,  24.3398,  35.2472,2,   -999.0,9,-999.0000,9,    221.0,2,     1.58,2,  -999.00,9,     0.00,2,     0.00,2,     0.00,2, -999.000,9, -999.000,9,  -999.00,9,   1991.6,2,   -999.0,9,-999.0000,9,   -999.0,  9,     8.18,2,   -999.0,  -999.00,9,  -999.00,9,     0.03,2,     0.02,2,   -999.0,-999.0000, -999,9,   24,  24.3346,  23.7289,   -999.0,9
       KS04-06,  165E,KS-1049,  1,     21,02-16027,2,20040625,0250, 24.9933, 164.9922, 5922,     50.9,  21.3397,  35.1133,2,   -999.0,9,-999.0000,9,    233.0,2,     1.95,2,  -999.00,9,     0.00,2,     0.00,2,     0.00,2, -999.000,9, -999.000,9,  -999.00,9,   1995.6,2,   -999.0,9,-999.0000,9,   -999.0,  9,     8.14,2,   -999.0,  -999.00,9,  -999.00,9,     0.06,2,     0.03,2,   -999.0,-999.0000, -999,9,   51,  21.3299,  24.4900,   -999.0,9
       KS04-06,  165E,KS-1049,  1,     20,02-16026,2,20040625,0249, 24.9933, 164.9922, 5922,     76.3,  19.5913,  34.9992,2,   -999.0,9,-999.0000,9,    230.0,2,     2.27,2,  -999.00,9,     0.00,2,     0.00,2,     0.03,2, -999.000,9, -999.000,9,  -999.00,9,   2005.4,2,   -999.0,9,-999.0000,9,   -999.0,  9,     8.11,2,   -999.0,  -999.00,9,  -999.00,9,     0.09,2,     0.11,2,   -999.0,-999.0000, -999,9,   76,  19.5774,  24.8718,   -999.0,9
       KS04-06,  165E,KS-1049,  1,     19,02-16025,2,20040625,0245, 24.9933, 164.9922, 5922,    101.3,  18.4471,  34.8952,2,   -999.0,9,  34.8947,2,    223.0,2,     2.70,2,  -999.00,9,     0.98,2,     0.13,2,     0.10,2, -999.000,9, -999.000,9,  -999.00,9,   2010.0,2,   -999.0,9,-999.0000,9,   -999.0,  9,     8.11,2,   -999.0,  -999.00,9,  -999.00,9,     0.17,2,     0.50,2,   -999.0,-999.0000, -999,9,  101,  18.4295,  25.0852,   -999.0,9
       KS04-06,  165E,KS-1049,  1,     18,02-16024,2,20040625,0244, 24.9933, 164.9922, 5922,    124.9,  17.6660,  34.8048,2,   -999.0,9,-999.0000,9,    211.0,2,     3.56,2,  -999.00,9,     3.51,2,     0.02,2,     0.24,2, -999.000,9, -999.000,9,  -999.00,9,   2022.5,2,   -999.0,9,-999.0000,9,   -999.0,  9,     8.07,2,   -999.0,  -999.00,9,  -999.00,9,     0.09,2,     0.33,2,   -999.0,-999.0000, -999,9,  124,  17.6449,  25.2095,   -999.0,9
       KS04-06,  165E,KS-1049,  1,     17,02-16023,2,20040625,0243, 24.9933, 164.9922, 5922,    151.0,  17.0392,  34.7477,2,   -999.0,9,-999.0000,9,    212.0,2,     4.20,2,  -999.00,9,     4.49,2,     0.01,2,     0.29,2, -999.000,9, -999.000,9,  -999.00,9,   2031.4,2,   -999.0,9,-999.0000,9,   -999.0,  9,     8.07,2,   -999.0,  -999.00,9,  -999.00,9,     0.04,2,     0.10,2,   -999.0,-999.0000, -999,9,  150,  17.0143,  25.3172,   -999.0,9
       KS04-06,  165E,KS-1049,  1,     16,02-16022,2,20040625,0241, 24.9933, 164.9922, 5922,    203.4,  16.4015,  34.7109,2,   -999.0,9,  34.7134,2,    214.0,2,     5.16,2,  -999.00,9,     5.36,2,     0.01,2,     0.35,2, -999.000,9, -999.000,9,  -999.00,9,   2029.0,2,   -999.0,9,-999.0000,9,   -999.0,  9,     8.06,2,   -999.0,  -999.00,9,  -999.00,9,     0.00,2,     0.01,2,   -999.0,-999.0000, -999,9,  202,  16.3688,  25.4404,   -999.0,9
       KS04-06,  165E,KS-1049,  1,     15,02-16021,2,20040625,0239, 24.9933, 164.9922, 5922,    252.3,  15.4069,  34.6183,2,   -999.0,9,-999.0000,9,    211.0,2,     7.20,2,  -999.00,9,     7.31,2,     0.00,2,     0.49,2, -999.000,9, -999.000,9,  -999.00,9,   2044.3,2,   -999.0,9,-999.0000,9,   -999.0,  9,     8.02,2,   -999.0,  -999.00,9,  -999.00,9,     0.00,2,     0.01,2,   -999.0,-999.0000, -999,9,  251,  15.3680,  25.5964,   -999.0,9
       KS04-06,  165E,KS-1049,  1,     14,02-16020,2,20040625,0238, 24.9933, 164.9922, 5922,    301.1,  13.9261,  34.4870,2,   -999.0,9,  34.4875,2,    204.0,2,    10.08,2,  -999.00,9,     9.94,2,     0.00,2,     0.67,2, -999.000,9, -999.000,9,  -999.00,9,   2064.5,2,   -999.0,9,-999.0000,9,   -999.0,  9,     7.98,2,   -999.0,  -999.00,9,  -999.00,9,     0.00,2,     0.00,2,   -999.0,-999.0000, -999,9,  299,  13.8828,  25.8151,   -999.0,9
       KS04-06,  165E,KS-1049,  1,     13,02-16019,2,20040625,0235, 24.9933, 164.9922, 5922,    401.2,  11.6369,  34.3129,2,   -999.0,9,  34.3162,2,    197.0,2,    16.92,2,  -999.00,9,    14.52,2,     0.00,2,     1.00,2, -999.000,9, -999.000,9,  -999.00,9,   2095.3,2,   -999.0,9,-999.0000,9,   -999.0,  9,     7.90,2,   -999.0,  -999.00,9,  -999.00,9,  -999.00,9,  -999.00,9,   -999.0,-999.0000, -999,9,  398,  11.5855,  26.1333,   -999.0,9
       KS04-06,  165E,KS-1049,  1,     12,02-16018,2,20040625,0232, 24.9933, 164.9922, 5922,    504.3,   8.8624,  34.1328,2,   -999.0,9,  34.1344,2,    174.0,2,    31.88,2,  -999.00,9,    21.72,2,     0.00,2,     1.53,2, -999.000,9, -999.000,9,  -999.00,9,   -999.0,9,   -999.0,9,-999.0000,9,   -999.0,  9,     7.76,2,   -999.0,  -999.00,9,  -999.00,9,  -999.00,9,  -999.00,9,   -999.0,-999.0000, -999,9,  500,   8.8078,  26.4694,   -999.0,9
       KS04-06,  165E,KS-1049,  1,     11,02-16017,2,20040625,0229, 24.9933, 164.9922, 5922,    605.3,   6.8183,  34.0762,2,   -999.0,9,  34.0772,2,    124.0,2,    52.61,2,  -999.00,9,    30.19,2,     0.00,2,     2.16,2, -999.000,9, -999.000,9,  -999.00,9,   2209.9,2,   -999.0,9,-999.0000,9,   -999.0,  9,     7.60,2,   -999.0,  -999.00,9,  -999.00,9,  -999.00,9,  -999.00,9,   -999.0,-999.0000, -999,9,  601,   6.7616,  26.7235,   -999.0,9
       KS04-06,  165E,KS-1049,  1,     10,02-16016,2,20040625,0223, 24.9933, 164.9922, 5922,    704.8,   5.3119,  34.1240,2,   -999.0,9,  34.1228,4,     80.0,2,    79.21,2,  -999.00,9,    36.61,2,     0.00,2,     2.66,2, -999.000,9, -999.000,9,  -999.00,9,   -999.0,9,   -999.0,9,-999.0000,9,   -999.0,  9,     7.50,2,   -999.0,  -999.00,9,  -999.00,9,  -999.00,9,  -999.00,9,   -999.0,-999.0000, -999,9,  699,   5.2534,  26.9513,   -999.0,9
       KS04-06,  165E,KS-1049,  1,      9,02-16015,2,20040625,0219, 24.9933, 164.9922, 5922,    806.9,   4.5865,  34.2084,2,   -999.0,9,  34.2095,2,     56.0,2,    96.29,2,  -999.00,9,    39.72,2,     0.00,2,     2.87,2, -999.000,9, -999.000,9,  -999.00,9,   2308.8,2,   -999.0,9,-999.0000,9,   -999.0,  9,     7.46,2,   -999.0,  -999.00,9,  -999.00,9,  -999.00,9,  -999.00,9,   -999.0,-999.0000, -999,9,  800,   4.5234,  27.1010,   -999.0,9
       KS04-06,  165E,KS-1049,  1,      8,02-16014,2,20040625,0217, 24.9933, 164.9922, 5922,    906.3,   4.0781,  34.2939,2,   -999.0,9,  34.2940,2,     46.0,2,   108.54,2,  -999.00,9,    41.28,2,     0.00,2,     2.99,2, -999.000,9, -999.000,9,  -999.00,9,   -999.0,9,   -999.0,9,-999.0000,9,   -999.0,  9,     7.44,2,   -999.0,  -999.00,9,  -999.00,9,  -999.00,9,  -999.00,9,   -999.0,-999.0000, -999,9,  898,   4.0099,  27.2235,   -999.0,9
       KS04-06,  165E,KS-1049,  1,      7,02-16013,2,20040625,0214, 24.9933, 164.9922, 5922,   1009.0,   3.6842,  34.3731,2,   -999.0,9,  34.3729,2,     42.0,2,   119.04,2,  -999.00,9,    42.05,2,     0.00,2,     3.04,2, -999.000,9, -999.000,9,  -999.00,9,   2344.8,2,   -999.0,9,-999.0000,9,   -999.0,  9,     7.45,2,   -999.0,  -999.00,9,  -999.00,9,  -999.00,9,  -999.00,9,   -999.0,-999.0000, -999,9, 1000,   3.6105,  27.3268,   -999.0,9
       KS04-06,  165E,KS-1049,  1,      6,02-16012,2,20040625,0206, 24.9933, 164.9922, 5922,   1260.5,   3.1357,  34.5069,2,   -999.0,9,  34.5074,2,     64.0,2,   128.41,2,  -999.00,9,    41.07,2,     0.00,2,     2.94,2, -999.000,9, -999.000,9,  -999.00,9,   2348.0,2,   -999.0,9,-999.0000,9,   -999.0,  9,     7.50,2,   -999.0,  -999.00,9,  -999.00,9,  -999.00,9,  -999.00,9,   -999.0,-999.0000, -999,9, 1249,   3.0462,  27.4872,   -999.0,9
       KS04-06,  165E,KS-1049,  1,      5,02-16011,2,20040625,0201, 24.9933, 164.9922, 5922,   1514.3,   2.5235,  34.5579,2,   -999.0,9,  34.5576,2,     75.0,2,   137.73,2,  -999.00,9,    40.78,2,     0.00,2,     2.90,2, -999.000,9, -999.000,9,  -999.00,9,   2355.5,2,   -999.0,9,-999.0000,9,   -999.0,  9,     7.51,2,   -999.0,  -999.00,9,  -999.00,9,  -999.00,9,  -999.00,9,   -999.0,-999.0000, -999,9, 1499,   2.4201,  27.5831,   -999.0,9
       KS04-06,  165E,KS-1049,  1,      4,02-16010,2,20040625,0155, 24.9933, 164.9922, 5922,   1767.5,   2.1863,  34.5952,2,   -999.0,9,  34.5938,2,     90.0,2,   143.43,2,  -999.00,9,    39.99,2,     0.00,2,     2.82,2, -999.000,9, -999.000,9,  -999.00,9,   -999.0,9,   -999.0,9,-999.0000,9,   -999.0,  9,     7.56,2,   -999.0,  -999.00,9,  -999.00,9,  -999.00,9,  -999.00,9,   -999.0,-999.0000, -999,9, 1749,   2.0665,  27.6420,   -999.0,9
       KS04-06,  165E,KS-1049,  1,      3,02-16009,9,20040625,0147, 24.9933, 164.9922, 5922,   2020.1,   1.9680,  34.6219,2,   -999.0,9,-999.0000,9,   -999.0,9,  -999.00,9,  -999.00,9,  -999.00,9,  -999.00,9,  -999.00,9, -999.000,9, -999.000,9,  -999.00,9,   -999.0,9,   -999.0,9,-999.0000,9,   -999.0,  9,  -999.00,9,   -999.0,  -999.00,9,  -999.00,9,  -999.00,9,  -999.00,9,   -999.0,-999.0000, -999,9, 1997,   1.8304,  27.6820,   -999.0,9
       KS04-06,  165E,KS-1049,  1,      2,02-16008,9,20040625,0147, 24.9933, 164.9922, 5922,   2020.0,   1.9680,  34.6220,2,   -999.0,9,-999.0000,9,   -999.0,9,  -999.00,9,  -999.00,9,  -999.00,9,  -999.00,9,  -999.00,9, -999.000,9, -999.000,9,  -999.00,9,   2348.6,9,   -999.0,9,-999.0000,9,   -999.0,  9,  -999.00,9,   -999.0,  -999.00,9,  -999.00,9,  -999.00,9,  -999.00,9,   -999.0,-999.0000, -999,9, 1997,   1.8304,  27.6820,   -999.0,9
       KS04-06,  165E,KS-1049,  1,      1,02-16007,2,20040625,0147, 24.9933, 164.9922, 5922,   2020.2,   1.9680,  34.6218,2,   -999.0,9,  34.6215,4,    103.0,2,   148.00,2,  -999.00,9,    39.21,2,     0.00,2,     2.74,2, -999.000,9, -999.000,9,  -999.00,9,   -999.0,9,   -999.0,9,-999.0000,9,   -999.0,  9,     7.57,2,   -999.0,  -999.00,9,  -999.00,9,  -999.00,9,  -999.00,9,   -999.0,-999.0000, -999,9, 1998,   1.8304,  27.6819,   -999.0,9
       KS04-06,  165E,KS-1050,  1,      2,02-16008,9,20040625,0913, 23.9930, 165.0018, 6047,      5.5,  27.7422,  35.0437,2,   -999.0,9,-999.0000,9,   -999.0,9,  -999.00,9,  -999.00,9,  -999.00,9,  -999.00,9,  -999.00,9, -999.000,9, -999.000,9,  -999.00,9,   -999.0,9,   -999.0,9,-999.0000,9,   -999.0,  9,  -999.00,9,   -999.0,  -999.00,9,  -999.00,9,  -999.00,9,  -999.00,9,   -999.0,-999.0000, -999,9,    5,  27.7409,  22.5119,   -999.0,9
       KS04-06,  165E,KS-1050,  1,      1,02-16007,2,20040625,0913, 23.9930, 165.0018, 6047,      5.9,  27.7376,  35.0434,2,   -999.0,9,-999.0000,9,   -999.0,9,     1.46,2,  -999.00,9,     0.00,2,     0.00,2,     0.00,2, -999.000,9, -999.000,9,  -999.00,9,   1953.3,2,   -999.0,9,-999.0000,9,   -999.0,  9,  -999.00,9,   -999.0,  -999.00,9,  -999.00,9,     0.02,2,     0.01,2,   -999.0,-999.0000, -999,9,    6,  27.7362,  22.5133,   -999.0,9