BOTTLE,20130510GEMDJMAYT
EXPOCODE,SECT_ID,STNNBR,CASTNO,SAMPNO,BTLNBR,BTLNBR_FLAG_W,DATE,TIME,LATITUDE,LONGITUDE,DEPTH,CTDPRS,CTDTMP,CTDSAL,CTDSAL_FLAG_W,CTDOXY,CTDOXY_FLAG_W,SALNTY,SALNTY_FLAG_W,OXYGEN,OXYGEN_FLAG_W,SILCAT,SILCAT_FLAG_W,NITRAT,NITRAT_FLAG_W,NO2+NO3,NO2+NO3_FLAG_W,NITRIT,NITRIT_FLAG_W,PHSPHT,PHSPHT_FLAG_W,CFC-11,CFC-11_FLAG_W,CFC-12,CFC-12_FLAG_W,DELC13,DELC13_FLAG_W,TCARBN,TCARBN_FLAG_W,ALKALI,ALKALI_FLAG_W,PH,PH_FLAG_W,PH_TMP,PH_SCALE,PH_NBS,PH_NBS_FLAG_W,C13ERR,TOTALP,TOTALP_FLAG_W,AMMONI,AMMONI_FLAG_W,CHLORA,CHLORA_FLAG_W,PPHYTN,PPHYTN_FLAG_W,REVPRS,REVTMP,DEPTH_,DEPTH_FLAG,CTDDEP,THETA,SIGTHT,DOC,DOC_FLAG_W
,,,,,,,GMT,GMT,,,METER,DBAR,ITS-90,PSS-78,,UMOL/KG,,PSS-78,,UMOL/KG,,UMOL/KG,,UMOL/KG,,UMOL/KG,,UMOL/KG,,UMOL/KG,,PMOL/KG,,PMOL/KG,,/MILLE,,UMOL/KG,,UMOL/KG,,25_DEG_C,,DEG_C,,,,/MILLE,UMOL/KG,,UMOL/KG,,UG/L,,UG/L,,DBAR,ITS-90,METERS,,METERS,DEG_C,,UMOL/L,
       KS04-06,  165E,KS-1069,  1,     24,02-16030,2,20040630,1834,  5.1323, 165.0263, 4802,      5.3,  29.3084,  34.1647,2,   -999.0,9,  34.1670,2,    196.0,2,     1.30,2,  -999.00,9,     0.00,2,     0.00,2,     0.10,2, -999.000,9, -999.000,9,  -999.00,9,   1897.3,2,   -999.0,9,-999.0000,9,   -999.0,  9,     8.25,2,   -999.0,  -999.00,9,  -999.00,9,     0.04,2,     0.03,2,   -999.0,-999.0000, -999,9,    5,  29.3071,  21.3344,   -999.0,9
       KS04-06,  165E,KS-1069,  1,     23,02-16029,2,20040630,1833,  5.1323, 165.0263, 4802,     10.1,  29.3110,  34.1646,2,   -999.0,9,-999.0000,9,    197.0,2,     1.24,2,  -999.00,9,     0.00,2,     0.00,2,     0.10,2, -999.000,9, -999.000,9,  -999.00,9,   -999.0,9,   -999.0,9,-999.0000,9,   -999.0,  9,     8.24,2,   -999.0,  -999.00,9,  -999.00,9,     0.04,2,     0.03,2,   -999.0,-999.0000, -999,9,   10,  29.3085,  21.3338,   -999.0,9
       KS04-06,  165E,KS-1069,  1,     22,02-10977,2,20040630,1829,  5.1323, 165.0263, 4802,     49.8,  29.2786,  34.1614,2,   -999.0,9,-999.0000,9,    197.0,2,     1.30,2,  -999.00,9,     0.00,2,     0.00,2,     0.10,2, -999.000,9, -999.000,9,  -999.00,9,   -999.0,9,   -999.0,9,-999.0000,9,   -999.0,  9,     8.24,2,   -999.0,  -999.00,9,  -999.00,9,     0.05,2,     0.03,2,   -999.0,-999.0000, -999,9,   49,  29.2665,  21.3455,   -999.0,9
       KS04-06,  165E,KS-1069,  1,     21,02-16027,2,20040630,1828,  5.1323, 165.0263, 4802,     74.1,  29.0502,  34.2684,2,   -999.0,9,-999.0000,9,    196.0,2,     1.35,2,  -999.00,9,     0.00,2,     0.00,2,     0.10,2, -999.000,9, -999.000,9,  -999.00,9,   -999.0,9,   -999.0,9,-999.0000,9,   -999.0,  9,     8.20,2,   -999.0,  -999.00,9,  -999.00,9,     0.08,2,     0.06,2,   -999.0,-999.0000, -999,9,   74,  29.0323,  21.5041,   -999.0,9
       KS04-06,  165E,KS-1069,  1,     20,02-16026,2,20040630,1827,  5.1323, 165.0263, 4802,     98.0,  26.4195,  34.4850,2,   -999.0,9,  34.4913,2,    188.0,2,     2.21,2,  -999.00,9,     0.20,2,     0.02,2,     0.16,2, -999.000,9, -999.000,9,  -999.00,9,   -999.0,9,   -999.0,9,-999.0000,9,   -999.0,  9,     8.14,2,   -999.0,  -999.00,9,  -999.00,9,     0.22,2,     0.56,2,   -999.0,-999.0000, -999,9,   97,  26.3974,  22.5206,   -999.0,9
       KS04-06,  165E,KS-1069,  1,     19,02-16025,2,20040630,1823,  5.1323, 165.0263, 4802,    150.6,  19.9527,  34.7736,2,   -999.0,9,-999.0000,9,    142.0,2,     8.09,2,  -999.00,9,     9.56,2,     0.03,2,     0.73,2, -999.000,9, -999.000,9,  -999.00,9,   -999.0,9,   -999.0,9,-999.0000,9,   -999.0,  9,     7.97,2,   -999.0,  -999.00,9,  -999.00,9,     0.05,2,     0.28,2,   -999.0,-999.0000, -999,9,  150,  19.9250,  24.6088,   -999.0,9
       KS04-06,  165E,KS-1069,  1,     18,02-16024,2,20040630,1812,  5.1323, 165.0263, 4802,    200.2,  12.3581,  34.5605,2,   -999.0,9,  34.5643,2,    108.0,2,    23.79,2,  -999.00,9,    22.71,2,     0.00,2,     1.65,2, -999.000,9, -999.000,9,  -999.00,9,   -999.0,9,   -999.0,9,-999.0000,9,   -999.0,  9,     7.76,2,   -999.0,  -999.00,9,  -999.00,9,     0.00,2,     0.02,2,   -999.0,-999.0000, -999,9,  199,  12.3316,  26.1840,   -999.0,9
       KS04-06,  165E,KS-1069,  1,     17,02-16023,2,20040630,1810,  5.1323, 165.0263, 4802,    299.1,   9.4590,  34.6320,2,   -999.0,9,  34.6335,2,     48.0,2,    35.71,2,  -999.00,9,    33.80,2,     0.00,2,     2.43,2, -999.000,9, -999.000,9,  -999.00,9,   -999.0,9,   -999.0,9,-999.0000,9,   -999.0,  9,     7.58,2,   -999.0,  -999.00,9,  -999.00,9,     0.00,2,     0.01,2,   -999.0,-999.0000, -999,9,  297,   9.4255,  26.7608,   -999.0,9
       KS04-06,  165E,KS-1069,  1,     16,02-16022,4,20040630,1808,  5.1323, 165.0263, 4802,    402.1,   8.3455,  34.6107,2,   -999.0,9,  34.6119,2,     90.0,4,    36.32,4,  -999.00,9,    32.52,4,     0.00,4,     2.30,4, -999.000,9, -999.000,9,  -999.00,9,   -999.0,9,   -999.0,9,-999.0000,9,   -999.0,  9,     7.65,4,   -999.0,  -999.00,9,  -999.00,9,  -999.00,9,  -999.00,9,   -999.0,-999.0000, -999,9,  400,   8.3035,  26.9222,   -999.0,9
       KS04-06,  165E,KS-1069,  1,     15,02-16021,2,20040630,1803,  5.1323, 165.0263, 4802,    501.1,   7.6375,  34.5809,2,   -999.0,9,  34.5810,2,     62.0,2,    45.13,2,  -999.00,9,    36.32,2,     0.00,2,     2.62,2, -999.000,9, -999.000,9,  -999.00,9,   -999.0,9,   -999.0,9,-999.0000,9,   -999.0,  9,     7.57,2,   -999.0,  -999.00,9,  -999.00,9,  -999.00,9,  -999.00,9,   -999.0,-999.0000, -999,9,  498,   7.5875,  27.0054,   -999.0,9
       KS04-06,  165E,KS-1069,  1,     14,02-16020,2,20040630,1801,  5.1323, 165.0263, 4802,    602.3,   6.9205,  34.5593,2,   -999.0,9,  34.5596,2,     64.0,2,    51.94,2,  -999.00,9,    37.58,2,     0.00,2,     2.72,2, -999.000,9, -999.000,9,  -999.00,9,   -999.0,9,   -999.0,9,-999.0000,9,   -999.0,  9,     7.57,2,   -999.0,  -999.00,9,  -999.00,9,  -999.00,9,  -999.00,9,   -999.0,-999.0000, -999,9,  598,   6.8632,  27.0905,   -999.0,9
       KS04-06,  165E,KS-1069,  1,     13,02-16019,2,20040630,1758,  5.1323, 165.0263, 4802,    703.3,   6.1615,  34.5470,2,   -999.0,9,  34.5466,2,     82.0,2,    57.85,2,  -999.00,9,    37.58,2,     0.00,2,     2.70,2, -999.000,9, -999.000,9,  -999.00,9,   -999.0,9,   -999.0,9,-999.0000,9,   -999.0,  9,     7.58,2,   -999.0,  -999.00,9,  -999.00,9,  -999.00,9,  -999.00,9,   -999.0,-999.0000, -999,9,  698,   6.0981,  27.1822,   -999.0,9
       KS04-06,  165E,KS-1069,  1,     12,02-16018,2,20040630,1742,  5.1323, 165.0263, 4802,    803.2,   5.5228,  34.5406,2,   -999.0,9,  34.5404,2,     83.0,2,    67.80,2,  -999.00,9,    38.26,2,     0.00,2,     2.75,2, -999.000,9, -999.000,9,  -999.00,9,   -999.0,9,   -999.0,9,-999.0000,9,   -999.0,  9,     7.57,2,   -999.0,  -999.00,9,  -999.00,9,  -999.00,9,  -999.00,9,   -999.0,-999.0000, -999,9,  797,   5.4538,  27.2574,   -999.0,9
       KS04-06,  165E,KS-1069,  1,     11,02-16017,2,20040630,1735,  5.1323, 165.0263, 4802,   1006.9,   4.5250,  34.5554,2,   -999.0,9,  34.5553,2,     81.0,2,    88.17,2,  -999.00,9,    39.52,2,     0.00,2,     2.85,2, -999.000,9, -999.000,9,  -999.00,9,   -999.0,9,   -999.0,9,-999.0000,9,   -999.0,  9,     7.56,2,   -999.0,  -999.00,9,  -999.00,9,  -999.00,9,  -999.00,9,   -999.0,-999.0000, -999,9,  999,   4.4446,  27.3852,   -999.0,9
       KS04-06,  165E,KS-1069,  1,     10,02-16016,2,20040630,1715,  5.1323, 165.0263, 4802,   1513.3,   2.9403,  34.6056,2,   -999.0,9,  34.6044,2,     97.0,2,   121.83,2,  -999.00,9,    39.61,2,     0.00,2,     2.83,2, -999.000,9, -999.000,9,  -999.00,9,   -999.0,9,   -999.0,9,-999.0000,9,   -999.0,  9,     7.56,2,   -999.0,  -999.00,9,  -999.00,9,  -999.00,9,  -999.00,9,   -999.0,-999.0000, -999,9, 1499,   2.8320,  27.5855,   -999.0,9
       KS04-06,  165E,KS-1069,  1,      9,02-16015,3,20040630,1659,  5.1323, 165.0263, 4802,   2019.8,   2.1928,  34.6409,2,   -999.0,9,  34.6407,2,    111.0,2,   137.70,2,  -999.00,9,    38.73,2,     0.00,2,     2.72,2, -999.000,9, -999.000,9,  -999.00,9,   -999.0,9,   -999.0,9,-999.0000,9,   -999.0,  9,     7.60,2,   -999.0,  -999.00,9,  -999.00,9,  -999.00,9,  -999.00,9,   -999.0,-999.0000, -999,9, 1999,   2.0517,  27.6798,   -999.0,9
       KS04-06,  165E,KS-1069,  1,      8,02-16014,2,20040630,1653,  5.1323, 165.0263, 4802,   2274.7,   1.9805,  34.6527,2,   -999.0,9,  34.6517,2,    119.0,2,   142.03,2,  -999.00,9,    38.44,2,     0.00,2,     2.69,2, -999.000,9, -999.000,9,  -999.00,9,   -999.0,9,   -999.0,9,-999.0000,9,   -999.0,  9,     7.58,2,   -999.0,  -999.00,9,  -999.00,9,  -999.00,9,  -999.00,9,   -999.0,-999.0000, -999,9, 2250,   1.8207,  27.7075,   -999.0,9
       KS04-06,  165E,KS-1069,  1,      7,02-16013,2,20040630,1645,  5.1323, 165.0263, 4802,   2528.7,   1.8096,  34.6625,2,   -999.0,9,  34.6618,2,    125.0,2,   144.08,2,  -999.00,9,    37.95,2,     0.00,2,     2.64,2, -999.000,9, -999.000,9,  -999.00,9,   -999.0,9,   -999.0,9,-999.0000,9,   -999.0,  9,     7.61,2,   -999.0,  -999.00,9,  -999.00,9,  -999.00,9,  -999.00,9,   -999.0,-999.0000, -999,9, 2500,   1.6302,  27.7297,   -999.0,9
       KS04-06,  165E,KS-1069,  1,      6,02-16012,2,20040630,1638,  5.1323, 165.0263, 4802,   2781.7,   1.7169,  34.6678,2,   -999.0,9,  34.6677,2,    135.0,2,   143.54,2,  -999.00,9,    37.36,2,     0.00,2,     2.60,2, -999.000,9, -999.000,9,  -999.00,9,   -999.0,9,   -999.0,9,-999.0000,9,   -999.0,  9,     7.63,2,   -999.0,  -999.00,9,  -999.00,9,  -999.00,9,  -999.00,9,   -999.0,-999.0000, -999,9, 2748,   1.5161,  27.7424,   -999.0,9
       KS04-06,  165E,KS-1069,  1,      5,02-16011,2,20040630,1628,  5.1323, 165.0263, 4802,   3038.8,   1.6538,  34.6718,2,   -999.0,9,  34.6710,2,    138.0,2,   143.20,2,  -999.00,9,    37.07,2,     0.00,2,     2.56,2, -999.000,9, -999.000,9,  -999.00,9,   -999.0,9,   -999.0,9,-999.0000,9,   -999.0,  9,     7.63,2,   -999.0,  -999.00,9,  -999.00,9,  -999.00,9,  -999.00,9,   -999.0,-999.0000, -999,9, 3000,   1.4299,  27.7518,   -999.0,9
       KS04-06,  165E,KS-1069,  1,      4,02-16010,2,20040630,1622,  5.1323, 165.0263, 4802,   3291.2,   1.5815,  34.6767,2,   -999.0,9,  34.6759,2,    145.0,2,   141.64,2,  -999.00,9,    36.58,2,     0.00,2,     2.52,2, -999.000,9, -999.000,9,  -999.00,9,   -999.0,9,   -999.0,9,-999.0000,9,   -999.0,  9,     7.65,2,   -999.0,  -999.00,9,  -999.00,9,  -999.00,9,  -999.00,9,   -999.0,-999.0000, -999,9, 3248,   1.3345,  27.7626,   -999.0,9
       KS04-06,  165E,KS-1069,  1,      3,02-16009,2,20040630,1616,  5.1323, 165.0263, 4802,   3548.1,   1.5294,  34.6813,2,   -999.0,9,-999.0000,9,    151.0,2,   141.41,2,  -999.00,9,    36.19,2,     0.00,2,     2.49,2, -999.000,9, -999.000,9,  -999.00,9,   -999.0,9,   -999.0,9,-999.0000,9,   -999.0,  9,     7.66,2,   -999.0,  -999.00,9,  -999.00,9,  -999.00,9,  -999.00,9,   -999.0,-999.0000, -999,9, 3499,   1.2576,  27.7717,   -999.0,9
       KS04-06,  165E,KS-1069,  1,      2,02-16008,2,20040630,1600,  5.1323, 165.0263, 4802,   4058.5,   1.4456,  34.6908,2,   -999.0,9,  34.6897,2,    165.0,2,   136.28,2,  -999.00,9,    35.22,2,     0.00,2,     2.41,2, -999.000,9, -999.000,9,  -999.00,9,   -999.0,9,   -999.0,9,-999.0000,9,   -999.0,  9,     7.68,2,   -999.0,  -999.00,9,  -999.00,9,  -999.00,9,  -999.00,9,   -999.0,-999.0000, -999,9, 3998,   1.1218,  27.7887,   -999.0,9
       KS04-06,  165E,KS-1069,  1,      1,02-16007,2,20040630,1544,  5.1323, 165.0263, 4802,   4794.2,   1.3571,  34.7015,2,   -999.0,9,  34.7011,2,    185.0,2,   126.52,2,  -999.00,9,    33.76,2,     0.00,2,     2.32,2, -999.000,9, -999.000,9,  -999.00,9,   -999.0,9,   -999.0,9,-999.0000,9,   -999.0,  9,     7.69,2,   -999.0,  -999.00,9,  -999.00,9,  -999.00,9,  -999.00,9,   -999.0,-999.0000, -999,9, 4715,   0.9522,  27.8087,   -999.0,9
       KS04-06,  165E,KS-1070,  1,      2,02-16008,9,20040701,0341,  4.0150, 165.0123, 4492,      4.5,  29.2908,  34.1640,2,   -999.0,9,-999.0000,9,   -999.0,9,  -999.00,9,  -999.00,9,  -999.00,9,  -999.00,9,  -999.00,9, -999.000,9, -999.000,9,  -999.00,9,   -999.0,9,   -999.0,9,-999.0000,9,   -999.0,  9,  -999.00,9,   -999.0,  -999.00,9,  -999.00,9,  -999.00,9,  -999.00,9,   -999.0,-999.0000, -999,9,    5,  29.2897,  21.3397,   -999.0,9
       KS04-06,  165E,KS-1070,  1,      1,02-16007,2,20040701,0341,  4.0150, 165.0123, 4492,      4.4,  29.2951,  34.1651,2,   -999.0,9,-999.0000,9,   -999.0,9,     1.20,2,  -999.00,9,     0.00,2,     0.00,2,     0.10,2, -999.000,9, -999.000,9,  -999.00,9,   1898.0,2,   -999.0,9,-999.0000,9,   -999.0,  9,  -999.00,9,   -999.0,  -999.00,9,  -999.00,9,     0.06,2,     0.04,2,   -999.0,-999.0000, -999,9,    4,  29.2940,  21.3390,   -999.0,9