BOTTLE,20130510GEMDJMAYT
EXPOCODE,SECT_ID,STNNBR,CASTNO,SAMPNO,BTLNBR,BTLNBR_FLAG_W,DATE,TIME,LATITUDE,LONGITUDE,DEPTH,CTDPRS,CTDTMP,CTDSAL,CTDSAL_FLAG_W,CTDOXY,CTDOXY_FLAG_W,SALNTY,SALNTY_FLAG_W,OXYGEN,OXYGEN_FLAG_W,SILCAT,SILCAT_FLAG_W,NITRAT,NITRAT_FLAG_W,NO2+NO3,NO2+NO3_FLAG_W,NITRIT,NITRIT_FLAG_W,PHSPHT,PHSPHT_FLAG_W,CFC-11,CFC-11_FLAG_W,CFC-12,CFC-12_FLAG_W,DELC13,DELC13_FLAG_W,TCARBN,TCARBN_FLAG_W,ALKALI,ALKALI_FLAG_W,PH,PH_FLAG_W,PH_TMP,PH_SCALE,PH_NBS,PH_NBS_FLAG_W,C13ERR,TOTALP,TOTALP_FLAG_W,AMMONI,AMMONI_FLAG_W,CHLORA,CHLORA_FLAG_W,PPHYTN,PPHYTN_FLAG_W,REVPRS,REVTMP,DEPTH_,DEPTH_FLAG,CTDDEP,THETA,SIGTHT,DOC,DOC_FLAG_W
,,,,,,,GMT,GMT,,,METER,DBAR,ITS-90,PSS-78,,UMOL/KG,,PSS-78,,UMOL/KG,,UMOL/KG,,UMOL/KG,,UMOL/KG,,UMOL/KG,,UMOL/KG,,PMOL/KG,,PMOL/KG,,/MILLE,,UMOL/KG,,UMOL/KG,,25_DEG_C,,DEG_C,,,,/MILLE,UMOL/KG,,UMOL/KG,,UG/L,,UG/L,,DBAR,ITS-90,METERS,,METERS,DEG_C,,UMOL/L,
       KS04-06,  NONE,KS-1115,  1,     24,02-16030,2,20040804,1610, 20.0088, 149.3160, 3842,      5.4,  29.2026,  34.5049,2,   -999.0,9,  34.5058,2,    197.0,2,     1.14,2,  -999.00,9,     0.00,2,     0.00,2,     0.01,2, -999.000,9, -999.000,9,  -999.00,9,   -999.0,9,   -999.0,9,-999.0000,9,   -999.0,  9,  -999.00,9,   -999.0,  -999.00,9,  -999.00,9,  -999.00,9,  -999.00,9,   -999.0,-999.0000, -999,9,    5,  29.2013,  21.6250,   -999.0,9
       KS04-06,  NONE,KS-1115,  1,     23,02-16029,2,20040804,1610, 20.0088, 149.3160, 3842,     11.7,  29.2028,  34.5040,2,   -999.0,9,-999.0000,9,    197.0,2,     1.18,2,  -999.00,9,     0.00,2,     0.00,2,     0.00,2, -999.000,9, -999.000,9,  -999.00,9,   -999.0,9,   -999.0,9,-999.0000,9,   -999.0,  9,  -999.00,9,   -999.0,  -999.00,9,  -999.00,9,  -999.00,9,  -999.00,9,   -999.0,-999.0000, -999,9,   12,  29.2000,  21.6249,   -999.0,9
       KS04-06,  NONE,KS-1115,  1,     22,02-10977,2,20040804,1609, 20.0088, 149.3160, 3842,     26.6,  29.2075,  34.5038,2,   -999.0,9,-999.0000,9,    199.0,2,     1.08,2,  -999.00,9,     0.00,2,     0.00,2,     0.00,2, -999.000,9, -999.000,9,  -999.00,9,   -999.0,9,   -999.0,9,-999.0000,9,   -999.0,  9,  -999.00,9,   -999.0,  -999.00,9,  -999.00,9,  -999.00,9,  -999.00,9,   -999.0,-999.0000, -999,9,   26,  29.2010,  21.6243,   -999.0,9
       KS04-06,  NONE,KS-1115,  1,     21,02-16027,2,20040804,1607, 20.0088, 149.3160, 3842,     51.7,  28.8757,  34.5717,2,   -999.0,9,-999.0000,9,    204.0,2,     1.23,2,  -999.00,9,     0.00,2,     0.00,2,     0.00,2, -999.000,9, -999.000,9,  -999.00,9,   -999.0,9,   -999.0,9,-999.0000,9,   -999.0,  9,  -999.00,9,   -999.0,  -999.00,9,  -999.00,9,  -999.00,9,  -999.00,9,   -999.0,-999.0000, -999,9,   51,  28.8633,  21.7881,   -999.0,9
       KS04-06,  NONE,KS-1115,  1,     20,02-16026,2,20040804,1605, 20.0088, 149.3160, 3842,     76.7,  27.9051,  34.7182,2,   -999.0,9,-999.0000,9,    208.0,2,     1.17,2,  -999.00,9,     0.00,2,     0.00,2,     0.00,2, -999.000,9, -999.000,9,  -999.00,9,   -999.0,9,   -999.0,9,-999.0000,9,   -999.0,  9,  -999.00,9,   -999.0,  -999.00,9,  -999.00,9,  -999.00,9,  -999.00,9,   -999.0,-999.0000, -999,9,   76,  27.8871,  22.2196,   -999.0,9
       KS04-06,  NONE,KS-1115,  1,     19,02-16025,2,20040804,1601, 20.0088, 149.3160, 3842,    101.2,  27.0473,  34.8149,2,   -999.0,9,  34.8216,4,    206.0,2,     1.23,2,  -999.00,9,     0.00,2,     0.00,2,     0.00,2, -999.000,9, -999.000,9,  -999.00,9,   -999.0,9,   -999.0,9,-999.0000,9,   -999.0,  9,  -999.00,9,   -999.0,  -999.00,9,  -999.00,9,  -999.00,9,  -999.00,9,   -999.0,-999.0000, -999,9,  101,  27.0241,  22.5706,   -999.0,9
       KS04-06,  NONE,KS-1115,  1,     18,02-16024,2,20040804,1601, 20.0088, 149.3160, 3842,    125.2,  25.4310,  34.9308,2,   -999.0,9,-999.0000,9,    205.0,2,     1.34,2,  -999.00,9,     0.00,2,     0.00,2,     0.01,2, -999.000,9, -999.000,9,  -999.00,9,   -999.0,9,   -999.0,9,-999.0000,9,   -999.0,  9,  -999.00,9,   -999.0,  -999.00,9,  -999.00,9,  -999.00,9,  -999.00,9,   -999.0,-999.0000, -999,9,  124,  25.4035,  23.1656,   -999.0,9
       KS04-06,  NONE,KS-1115,  1,     17,02-16023,2,20040804,1600, 20.0088, 149.3160, 3842,    149.8,  24.0774,  35.0420,2,   -999.0,9,-999.0000,9,    202.0,2,     1.39,2,  -999.00,9,     0.20,2,     0.17,2,     0.02,2, -999.000,9, -999.000,9,  -999.00,9,   -999.0,9,   -999.0,9,-999.0000,9,   -999.0,  9,  -999.00,9,   -999.0,  -999.00,9,  -999.00,9,  -999.00,9,  -999.00,9,   -999.0,-999.0000, -999,9,  149,  24.0458,  23.6596,   -999.0,9
       KS04-06,  NONE,KS-1115,  1,     16,02-16022,2,20040804,1559, 20.0088, 149.3160, 3842,    200.9,  21.4576,  35.0761,2,   -999.0,9,  35.0819,4,    180.0,2,     2.53,2,  -999.00,9,     2.54,2,     0.01,2,     0.24,2, -999.000,9, -999.000,9,  -999.00,9,   -999.0,9,   -999.0,9,-999.0000,9,   -999.0,  9,  -999.00,9,   -999.0,  -999.00,9,  -999.00,9,  -999.00,9,  -999.00,9,   -999.0,-999.0000, -999,9,  200,  21.4185,  24.4373,   -999.0,9
       KS04-06,  NONE,KS-1115,  1,     15,02-16021,2,20040804,1557, 20.0088, 149.3160, 3842,    252.1,  18.4485,  34.8359,2,   -999.0,9,-999.0000,9,    174.0,2,     4.64,2,  -999.00,9,     5.95,2,     0.00,2,     0.48,2, -999.000,9, -999.000,9,  -999.00,9,   -999.0,9,   -999.0,9,-999.0000,9,   -999.0,  9,  -999.00,9,   -999.0,  -999.00,9,  -999.00,9,  -999.00,9,  -999.00,9,   -999.0,-999.0000, -999,9,  250,  18.4045,  25.0460,   -999.0,9
       KS04-06,  NONE,KS-1115,  1,     14,02-16020,2,20040804,1556, 20.0088, 149.3160, 3842,    302.4,  16.2065,  34.6406,2,   -999.0,9,  34.6449,4,    170.0,2,     7.58,2,  -999.00,9,     9.17,2,     0.00,2,     0.70,2, -999.000,9, -999.000,9,  -999.00,9,   -999.0,9,   -999.0,9,-999.0000,9,   -999.0,  9,  -999.00,9,   -999.0,  -999.00,9,  -999.00,9,  -999.00,9,  -999.00,9,   -999.0,-999.0000, -999,9,  300,  16.1582,  25.4349,   -999.0,9
       KS04-06,  NONE,KS-1115,  1,     13,02-16019,2,20040804,1554, 20.0088, 149.3160, 3842,    403.0,  11.3684,  34.3009,2,   -999.0,9,  34.3052,2,    168.0,2,    19.36,2,  -999.00,9,    17.05,2,     0.00,2,     1.23,2, -999.000,9, -999.000,9,  -999.00,9,   -999.0,9,   -999.0,9,-999.0000,9,   -999.0,  9,  -999.00,9,   -999.0,  -999.00,9,  -999.00,9,  -999.00,9,  -999.00,9,   -999.0,-999.0000, -999,9,  400,  11.3176,  26.1734,   -999.0,9
       KS04-06,  NONE,KS-1115,  1,     12,02-16018,2,20040804,1552, 20.0088, 149.3160, 3842,    503.9,   8.9528,  34.1671,2,   -999.0,9,  34.1705,2,    153.0,2,    33.68,2,  -999.00,9,    23.48,2,     0.00,2,     1.69,2, -999.000,9, -999.000,9,  -999.00,9,   -999.0,9,   -999.0,9,-999.0000,9,   -999.0,  9,  -999.00,9,   -999.0,  -999.00,9,  -999.00,9,  -999.00,9,  -999.00,9,   -999.0,-999.0000, -999,9,  500,   8.8979,  26.4821,   -999.0,9
       KS04-06,  NONE,KS-1115,  1,     11,02-16017,2,20040804,1550, 20.0088, 149.3160, 3842,    603.0,   6.8610,  34.1863,2,   -999.0,9,  34.1866,2,     48.0,2,    57.13,2,  -999.00,9,    32.72,2,     0.00,2,     2.42,2, -999.000,9, -999.000,9,  -999.00,9,   -999.0,9,   -999.0,9,-999.0000,9,   -999.0,  9,  -999.00,9,   -999.0,  -999.00,9,  -999.00,9,  -999.00,9,  -999.00,9,   -999.0,-999.0000, -999,9,  598,   6.8042,  26.8044,   -999.0,9
       KS04-06,  NONE,KS-1115,  1,     10,02-16016,4,20040804,1548, 20.0088, 149.3160, 3842,    706.8,   5.7739,  34.2809,2,   -999.0,9,  34.5062,4,    199.0,4,     1.24,4,  -999.00,9,     0.00,4,     0.00,4,     0.01,4, -999.000,9, -999.000,9,  -999.00,9,   -999.0,9,   -999.0,9,-999.0000,9,   -999.0,  9,  -999.00,9,   -999.0,  -999.00,9,  -999.00,9,  -999.00,9,  -999.00,9,   -999.0,-999.0000, -999,9,  701,   5.7126,  27.0203,   -999.0,9
       KS04-06,  NONE,KS-1115,  1,      9,02-16015,2,20040804,1544, 20.0088, 149.3160, 3842,    805.1,   4.9227,  34.3304,2,   -999.0,9,  34.3309,2,     57.0,2,    90.14,2,  -999.00,9,    39.33,2,     0.00,2,     2.88,2, -999.000,9, -999.000,9,  -999.00,9,   -999.0,9,   -999.0,9,-999.0000,9,   -999.0,  9,  -999.00,9,   -999.0,  -999.00,9,  -999.00,9,  -999.00,9,  -999.00,9,   -999.0,-999.0000, -999,9,  799,   4.8575,  27.1606,   -999.0,9
       KS04-06,  NONE,KS-1115,  1,      8,02-16014,2,20040804,1542, 20.0088, 149.3160, 3842,    906.7,   4.4109,  34.4208,2,   -999.0,9,  34.4208,2,     61.0,2,   100.69,2,  -999.00,9,    39.81,2,     0.00,2,     2.89,2, -999.000,9, -999.000,9,  -999.00,9,   -999.0,9,   -999.0,9,-999.0000,9,   -999.0,  9,  -999.00,9,   -999.0,  -999.00,9,  -999.00,9,  -999.00,9,  -999.00,9,   -999.0,-999.0000, -999,9,  899,   4.3402,  27.2896,   -999.0,9
       KS04-06,  NONE,KS-1115,  1,      7,02-16013,2,20040804,1540, 20.0088, 149.3160, 3842,   1006.1,   4.0497,  34.4714,2,   -999.0,9,  34.4710,2,     68.0,2,   108.07,2,  -999.00,9,    39.71,2,     0.00,2,     2.87,2, -999.000,9, -999.000,9,  -999.00,9,   -999.0,9,   -999.0,9,-999.0000,9,   -999.0,  9,  -999.00,9,   -999.0,  -999.00,9,  -999.00,9,  -999.00,9,  -999.00,9,   -999.0,-999.0000, -999,9,  998,   3.9732,  27.3684,   -999.0,9
       KS04-06,  NONE,KS-1115,  1,      6,02-16012,2,20040804,1536, 20.0088, 149.3160, 3842,   1259.3,   3.1699,  34.5412,2,   -999.0,9,  34.5406,2,     84.0,2,   121.87,2,  -999.00,9,    39.51,2,     0.00,2,     2.84,2, -999.000,9, -999.000,9,  -999.00,9,   -999.0,9,   -999.0,9,-999.0000,9,   -999.0,  9,  -999.00,9,   -999.0,  -999.00,9,  -999.00,9,  -999.00,9,  -999.00,9,   -999.0,-999.0000, -999,9, 1248,   3.0801,  27.5115,   -999.0,9
       KS04-06,  NONE,KS-1115,  1,      5,02-16011,2,20040804,1531, 20.0088, 149.3160, 3842,   1514.0,   2.6941,  34.5718,2,   -999.0,9,  34.5710,2,     92.0,2,   129.73,2,  -999.00,9,    39.22,2,     0.00,2,     2.80,2, -999.000,9, -999.000,9,  -999.00,9,   -999.0,9,   -999.0,9,-999.0000,9,   -999.0,  9,  -999.00,9,   -999.0,  -999.00,9,  -999.00,9,  -999.00,9,  -999.00,9,   -999.0,-999.0000, -999,9, 1499,   2.5887,  27.5799,   -999.0,9
       KS04-06,  NONE,KS-1115,  1,      4,02-16010,2,20040804,1527, 20.0088, 149.3160, 3842,   1766.8,   2.3345,  34.5956,2,   -999.0,9,  34.5952,2,    100.0,2,   135.77,2,  -999.00,9,    39.02,2,     0.00,2,     2.76,2, -999.000,9, -999.000,9,  -999.00,9,   -999.0,9,   -999.0,9,-999.0000,9,   -999.0,  9,  -999.00,9,   -999.0,  -999.00,9,  -999.00,9,  -999.00,9,  -999.00,9,   -999.0,-999.0000, -999,9, 1749,   2.2128,  27.6306,   -999.0,9
       KS04-06,  NONE,KS-1115,  1,      3,02-16009,9,20040804,1523, 20.0088, 149.3160, 3842,   2020.7,   2.0283,  34.6248,2,   -999.0,9,-999.0000,9,   -999.0,9,  -999.00,9,  -999.00,9,  -999.00,9,  -999.00,9,  -999.00,9, -999.000,9, -999.000,9,  -999.00,9,   -999.0,9,   -999.0,9,-999.0000,9,   -999.0,  9,  -999.00,9,   -999.0,  -999.00,9,  -999.00,9,  -999.00,9,  -999.00,9,   -999.0,-999.0000, -999,9, 1999,   1.8897,  27.6797,   -999.0,9
       KS04-06,  NONE,KS-1115,  1,      2,02-16008,9,20040804,1522, 20.0088, 149.3160, 3842,   2021.0,   2.0280,  34.6247,2,   -999.0,9,-999.0000,9,   -999.0,9,  -999.00,9,  -999.00,9,  -999.00,9,  -999.00,9,  -999.00,9, -999.000,9, -999.000,9,  -999.00,9,   -999.0,9,   -999.0,9,-999.0000,9,   -999.0,  9,  -999.00,9,   -999.0,  -999.00,9,  -999.00,9,  -999.00,9,  -999.00,9,   -999.0,-999.0000, -999,9, 1999,   1.8894,  27.6797,   -999.0,9
       KS04-06,  NONE,KS-1115,  1,      1,02-16007,2,20040804,1522, 20.0088, 149.3160, 3842,   2020.2,   2.0264,  34.6249,2,   -999.0,9,  34.6242,2,   -999.0,4,   142.89,2,  -999.00,9,    38.53,2,     0.00,2,     2.71,2, -999.000,9, -999.000,9,  -999.00,9,   -999.0,9,   -999.0,9,-999.0000,9,   -999.0,  9,  -999.00,9,   -999.0,  -999.00,9,  -999.00,9,  -999.00,9,  -999.00,9,   -999.0,-999.0000, -999,9, 1998,   1.8879,  27.6800,   -999.0,9