BOTTLE,20130510GEMDJMAYT
EXPOCODE,SECT_ID,STNNBR,CASTNO,SAMPNO,BTLNBR,BTLNBR_FLAG_W,DATE,TIME,LATITUDE,LONGITUDE,DEPTH,CTDPRS,CTDTMP,CTDSAL,CTDSAL_FLAG_W,CTDOXY,CTDOXY_FLAG_W,SALNTY,SALNTY_FLAG_W,OXYGEN,OXYGEN_FLAG_W,SILCAT,SILCAT_FLAG_W,NITRAT,NITRAT_FLAG_W,NO2+NO3,NO2+NO3_FLAG_W,NITRIT,NITRIT_FLAG_W,PHSPHT,PHSPHT_FLAG_W,CFC-11,CFC-11_FLAG_W,CFC-12,CFC-12_FLAG_W,DELC13,DELC13_FLAG_W,TCARBN,TCARBN_FLAG_W,ALKALI,ALKALI_FLAG_W,PH,PH_FLAG_W,PH_TMP,PH_SCALE,PH_NBS,PH_NBS_FLAG_W,C13ERR,TOTALP,TOTALP_FLAG_W,AMMONI,AMMONI_FLAG_W,CHLORA,CHLORA_FLAG_W,PPHYTN,PPHYTN_FLAG_W,REVPRS,REVTMP,DEPTH_,DEPTH_FLAG,CTDDEP,THETA,SIGTHT,DOC,DOC_FLAG_W
,,,,,,,GMT,GMT,,,METER,DBAR,ITS-90,PSS-78,,UMOL/KG,,PSS-78,,UMOL/KG,,UMOL/KG,,UMOL/KG,,UMOL/KG,,UMOL/KG,,UMOL/KG,,PMOL/KG,,PMOL/KG,,/MILLE,,UMOL/KG,,UMOL/KG,,25_DEG_C,,DEG_C,,,,/MILLE,UMOL/KG,,UMOL/KG,,UG/L,,UG/L,,DBAR,ITS-90,METERS,,METERS,DEG_C,,UMOL/L,
       KS04-06,  NONE,KS-1127,  1,     24,02-16030,2,20040807,1601, 29.9890, 144.9975, 5889,      6.1,  27.4665,  34.8733,2,   -999.0,9,  34.8753,4,    203.0,2,     1.39,2,  -999.00,9,     0.00,2,     0.00,2,     0.00,2, -999.000,9, -999.000,9,  -999.00,9,   -999.0,9,   -999.0,9,-999.0000,9,   -999.0,  9,  -999.00,9,   -999.0,  -999.00,9,  -999.00,9,  -999.00,9,  -999.00,9,   -999.0,-999.0000, -999,9,    6,  27.4651,  22.4731,   -999.0,9
       KS04-06,  NONE,KS-1127,  1,     23,02-16029,2,20040807,1600, 29.9890, 144.9975, 5889,     11.4,  27.4639,  34.8730,2,   -999.0,9,-999.0000,9,    203.0,2,     1.43,2,  -999.00,9,     0.00,2,     0.00,2,     0.00,2, -999.000,9, -999.000,9,  -999.00,9,   -999.0,9,   -999.0,9,-999.0000,9,   -999.0,  9,  -999.00,9,   -999.0,  -999.00,9,  -999.00,9,  -999.00,9,  -999.00,9,   -999.0,-999.0000, -999,9,   11,  27.4612,  22.4741,   -999.0,9
       KS04-06,  NONE,KS-1127,  1,     22,02-10977,2,20040807,1559, 29.9890, 144.9975, 5889,     26.2,  27.4666,  34.8702,2,   -999.0,9,-999.0000,9,    203.0,2,     1.42,2,  -999.00,9,     0.00,2,     0.00,2,     0.00,2, -999.000,9, -999.000,9,  -999.00,9,   -999.0,9,   -999.0,9,-999.0000,9,   -999.0,  9,  -999.00,9,   -999.0,  -999.00,9,  -999.00,9,  -999.00,9,  -999.00,9,   -999.0,-999.0000, -999,9,   26,  27.4605,  22.4722,   -999.0,9
       KS04-06,  NONE,KS-1127,  1,     21,02-16027,2,20040807,1555, 29.9890, 144.9975, 5889,     49.0,  24.0798,  34.8630,2,   -999.0,9,-999.0000,9,    224.0,2,     1.51,2,  -999.00,9,     0.00,2,     0.00,2,     0.00,2, -999.000,9, -999.000,9,  -999.00,9,   -999.0,9,   -999.0,9,-999.0000,9,   -999.0,  9,  -999.00,9,   -999.0,  -999.00,9,  -999.00,9,  -999.00,9,  -999.00,9,   -999.0,-999.0000, -999,9,   49,  24.0695,  23.5171,   -999.0,9
       KS04-06,  NONE,KS-1127,  1,     20,02-16026,2,20040807,1554, 29.9890, 144.9975, 5889,     75.5,  22.2026,  34.8796,2,   -999.0,9,-999.0000,9,    223.0,2,     1.56,2,  -999.00,9,     0.00,2,     0.00,2,     0.00,2, -999.000,9, -999.000,9,  -999.00,9,   -999.0,9,   -999.0,9,-999.0000,9,   -999.0,  9,  -999.00,9,   -999.0,  -999.00,9,  -999.00,9,  -999.00,9,  -999.00,9,   -999.0,-999.0000, -999,9,   75,  22.1876,  24.0737,   -999.0,9
       KS04-06,  NONE,KS-1127,  1,     19,02-16025,2,20040807,1554, 29.9890, 144.9975, 5889,     99.3,  20.3243,  34.8590,2,   -999.0,9,  34.8678,4,    222.0,2,     1.83,2,  -999.00,9,     0.10,2,     0.06,2,     0.04,2, -999.000,9, -999.000,9,  -999.00,9,   -999.0,9,   -999.0,9,-999.0000,9,   -999.0,  9,  -999.00,9,   -999.0,  -999.00,9,  -999.00,9,  -999.00,9,  -999.00,9,   -999.0,-999.0000, -999,9,   99,  20.3058,  24.5732,   -999.0,9
       KS04-06,  NONE,KS-1127,  1,     18,02-16024,2,20040807,1553, 29.9890, 144.9975, 5889,    125.5,  18.8592,  34.8422,2,   -999.0,9,-999.0000,9,    211.0,2,     2.67,2,  -999.00,9,     2.44,2,     0.06,2,     0.17,2, -999.000,9, -999.000,9,  -999.00,9,   -999.0,9,   -999.0,9,-999.0000,9,   -999.0,  9,  -999.00,9,   -999.0,  -999.00,9,  -999.00,9,  -999.00,9,  -999.00,9,   -999.0,-999.0000, -999,9,  125,  18.8370,  24.9420,   -999.0,9
       KS04-06,  NONE,KS-1127,  1,     17,02-16023,2,20040807,1552, 29.9890, 144.9975, 5889,    151.6,  18.3006,  34.8227,2,   -999.0,9,-999.0000,9,    208.0,2,     3.04,2,  -999.00,9,     3.41,2,     0.01,2,     0.22,2, -999.000,9, -999.000,9,  -999.00,9,   -999.0,9,   -999.0,9,-999.0000,9,   -999.0,  9,  -999.00,9,   -999.0,  -999.00,9,  -999.00,9,  -999.00,9,  -999.00,9,   -999.0,-999.0000, -999,9,  151,  18.2743,  25.0684,   -999.0,9
       KS04-06,  NONE,KS-1127,  1,     16,02-16022,2,20040807,1551, 29.9890, 144.9975, 5889,    202.3,  17.5777,  34.7788,2,   -999.0,9,  34.7819,2,    208.0,2,     3.62,2,  -999.00,9,     4.10,2,     0.01,2,     0.27,2, -999.000,9, -999.000,9,  -999.00,9,   -999.0,9,   -999.0,9,-999.0000,9,   -999.0,  9,  -999.00,9,   -999.0,  -999.00,9,  -999.00,9,  -999.00,9,  -999.00,9,   -999.0,-999.0000, -999,9,  201,  17.5436,  25.2141,   -999.0,9
       KS04-06,  NONE,KS-1127,  1,     15,02-16021,2,20040807,1550, 29.9890, 144.9975, 5889,    251.8,  17.1055,  34.7580,2,   -999.0,9,-999.0000,9,    211.0,2,     4.31,2,  -999.00,9,     4.68,2,     0.01,2,     0.31,2, -999.000,9, -999.000,9,  -999.00,9,   -999.0,9,   -999.0,9,-999.0000,9,   -999.0,  9,  -999.00,9,   -999.0,  -999.00,9,  -999.00,9,  -999.00,9,  -999.00,9,   -999.0,-999.0000, -999,9,  250,  17.0638,  25.3134,   -999.0,9
       KS04-06,  NONE,KS-1127,  1,     14,02-16020,2,20040807,1548, 29.9890, 144.9975, 5889,    299.4,  16.4917,  34.7135,2,   -999.0,9,  34.7138,2,    206.0,2,     5.70,2,  -999.00,9,     6.14,2,     0.00,2,     0.42,2, -999.000,9, -999.000,9,  -999.00,9,   -999.0,9,   -999.0,9,-999.0000,9,   -999.0,  9,  -999.00,9,   -999.0,  -999.00,9,  -999.00,9,  -999.00,9,  -999.00,9,   -999.0,-999.0000, -999,9,  297,  16.4433,  25.4251,   -999.0,9
       KS04-06,  NONE,KS-1127,  1,     13,02-16019,2,20040807,1546, 29.9890, 144.9975, 5889,    401.7,  14.6397,  34.5634,2,   -999.0,9,  34.5665,2,    192.0,2,    11.16,2,  -999.00,9,    10.33,2,     0.00,2,     0.70,2, -999.000,9, -999.000,9,  -999.00,9,   -999.0,9,   -999.0,9,-999.0000,9,   -999.0,  9,  -999.00,9,   -999.0,  -999.00,9,  -999.00,9,  -999.00,9,  -999.00,9,   -999.0,-999.0000, -999,9,  399,  14.5797,  25.7266,   -999.0,9
       KS04-06,  NONE,KS-1127,  1,     12,02-16018,2,20040807,1544, 29.9890, 144.9975, 5889,    502.2,  12.0974,  34.3822,2,   -999.0,9,  34.3855,2,    184.0,2,    19.45,2,  -999.00,9,    15.20,2,     0.00,2,     1.05,2, -999.000,9, -999.000,9,  -999.00,9,   -999.0,9,   -999.0,9,-999.0000,9,   -999.0,  9,  -999.00,9,   -999.0,  -999.00,9,  -999.00,9,  -999.00,9,  -999.00,9,   -999.0,-999.0000, -999,9,  498,  12.0311,  26.1033,   -999.0,9
       KS04-06,  NONE,KS-1127,  1,     11,02-16017,2,20040807,1542, 29.9890, 144.9975, 5889,    604.7,   9.4478,  34.2081,2,   -999.0,9,  34.2093,2,    165.0,2,    33.88,2,  -999.00,9,    21.63,2,     0.00,2,     1.54,2, -999.000,9, -999.000,9,  -999.00,9,   -999.0,9,   -999.0,9,-999.0000,9,   -999.0,  9,  -999.00,9,   -999.0,  -999.00,9,  -999.00,9,  -999.00,9,  -999.00,9,   -999.0,-999.0000, -999,9,  600,   9.3793,  26.4368,   -999.0,9
       KS04-06,  NONE,KS-1127,  1,     10,02-16016,2,20040807,1540, 29.9890, 144.9975, 5889,    705.9,   7.3854,  34.1051,2,   -999.0,9,  34.1074,2,    143.0,2,    50.71,2,  -999.00,9,    27.18,2,     0.00,2,     1.98,2, -999.000,9, -999.000,9,  -999.00,9,   -999.0,9,   -999.0,9,-999.0000,9,   -999.0,  9,  -999.00,9,   -999.0,  -999.00,9,  -999.00,9,  -999.00,9,  -999.00,9,   -999.0,-999.0000, -999,9,  700,   7.3158,  26.6699,   -999.0,9
       KS04-06,  NONE,KS-1127,  1,      9,02-16015,2,20040807,1538, 29.9890, 144.9975, 5889,    805.6,   5.5882,  34.0672,2,   -999.0,9,  34.0693,2,    111.0,2,    69.80,2,  -999.00,9,    33.21,2,     0.00,2,     2.42,2, -999.000,9, -999.000,9,  -999.00,9,   -999.0,9,   -999.0,9,-999.0000,9,   -999.0,  9,  -999.00,9,   -999.0,  -999.00,9,  -999.00,9,  -999.00,9,  -999.00,9,   -999.0,-999.0000, -999,9,  799,   5.5192,  26.8748,   -999.0,9
       KS04-06,  NONE,KS-1127,  1,      8,02-16014,2,20040807,1536, 29.9890, 144.9975, 5889,    908.3,   4.7190,  34.1484,2,   -999.0,9,  34.1507,2,     77.0,2,    92.10,2,  -999.00,9,    37.78,2,     0.00,2,     2.75,2, -999.000,9, -999.000,9,  -999.00,9,   -999.0,9,   -999.0,9,-999.0000,9,   -999.0,  9,  -999.00,9,   -999.0,  -999.00,9,  -999.00,9,  -999.00,9,  -999.00,9,   -999.0,-999.0000, -999,9,  900,   4.6464,  27.0399,   -999.0,9
       KS04-06,  NONE,KS-1127,  1,      7,02-16013,2,20040807,1534, 29.9890, 144.9975, 5889,   1005.0,   4.1684,  34.2300,2,   -999.0,9,  34.2303,2,     56.0,2,   106.18,2,  -999.00,9,    40.11,2,     0.00,2,     2.91,2, -999.000,9, -999.000,9,  -999.00,9,   -999.0,9,   -999.0,9,-999.0000,9,   -999.0,  9,  -999.00,9,   -999.0,  -999.00,9,  -999.00,9,  -999.00,9,  -999.00,9,   -999.0,-999.0000, -999,9,  996,   4.0915,  27.1642,   -999.0,9
       KS04-06,  NONE,KS-1127,  1,      6,02-16012,2,20040807,1530, 29.9890, 144.9975, 5889,   1260.1,   3.2305,  34.4060,2,   -999.0,9,  34.2289,4,     47.0,2,   128.98,2,  -999.00,9,    41.95,2,     0.00,2,     3.03,2, -999.000,9, -999.000,9,  -999.00,9,   -999.0,9,   -999.0,9,-999.0000,9,   -999.0,  9,  -999.00,9,   -999.0,  -999.00,9,  -999.00,9,  -999.00,9,  -999.00,9,   -999.0,-999.0000, -999,9, 1248,   3.1404,  27.3980,   -999.0,9
       KS04-06,  NONE,KS-1127,  1,      5,02-16011,2,20040807,1526, 29.9890, 144.9975, 5889,   1514.1,   2.6839,  34.4924,2,   -999.0,9,  34.4915,2,     56.0,2,   138.05,2,  -999.00,9,    41.85,2,     0.00,2,     3.00,2, -999.000,9, -999.000,9,  -999.00,9,   -999.0,9,   -999.0,9,-999.0000,9,   -999.0,  9,  -999.00,9,   -999.0,  -999.00,9,  -999.00,9,  -999.00,9,  -999.00,9,   -999.0,-999.0000, -999,9, 1498,   2.5788,  27.5173,   -999.0,9
       KS04-06,  NONE,KS-1127,  1,      4,02-16010,2,20040807,1521, 29.9890, 144.9975, 5889,   1766.7,   2.2795,  34.5520,2,   -999.0,9,  34.5508,2,     72.0,2,   144.86,2,  -999.00,9,    41.07,2,     0.00,2,     2.92,2, -999.000,9, -999.000,9,  -999.00,9,   -999.0,9,   -999.0,9,-999.0000,9,   -999.0,  9,  -999.00,9,   -999.0,  -999.00,9,  -999.00,9,  -999.00,9,  -999.00,9,   -999.0,-999.0000, -999,9, 1747,   2.1587,  27.6001,   -999.0,9
       KS04-06,  NONE,KS-1127,  1,      3,02-16009,9,20040807,1517, 29.9890, 144.9975, 5889,   2023.8,   2.0370,  34.5912,2,   -999.0,9,-999.0000,9,   -999.0,9,  -999.00,9,  -999.00,9,  -999.00,9,  -999.00,9,  -999.00,9, -999.000,9, -999.000,9,  -999.00,9,   -999.0,9,   -999.0,9,-999.0000,9,   -999.0,  9,  -999.00,9,   -999.0,  -999.00,9,  -999.00,9,  -999.00,9,  -999.00,9,   -999.0,-999.0000, -999,9, 2000,   1.8981,  27.6522,   -999.0,9
       KS04-06,  NONE,KS-1127,  1,      2,02-16008,9,20040807,1517, 29.9890, 144.9975, 5889,   2023.3,   2.0366,  34.5912,2,   -999.0,9,-999.0000,9,   -999.0,9,  -999.00,9,  -999.00,9,  -999.00,9,  -999.00,9,  -999.00,9, -999.000,9, -999.000,9,  -999.00,9,   -999.0,9,   -999.0,9,-999.0000,9,   -999.0,  9,  -999.00,9,   -999.0,  -999.00,9,  -999.00,9,  -999.00,9,  -999.00,9,   -999.0,-999.0000, -999,9, 2000,   1.8978,  27.6522,   -999.0,9
       KS04-06,  NONE,KS-1127,  1,      1,02-16007,2,20040807,1517, 29.9890, 144.9975, 5889,   2023.1,   2.0366,  34.5913,2,   -999.0,9,  34.5901,2,     85.0,2,   145.91,2,  -999.00,9,    40.29,2,     0.00,2,     2.85,2, -999.000,9, -999.000,9,  -999.00,9,   -999.0,9,   -999.0,9,-999.0000,9,   -999.0,  9,  -999.00,9,   -999.0,  -999.00,9,  -999.00,9,  -999.00,9,  -999.00,9,   -999.0,-999.0000, -999,9, 2000,   1.8978,  27.6522,   -999.0,9