BOTTLE,20130510GEMDJMAYT
EXPOCODE,SECT_ID,STNNBR,CASTNO,SAMPNO,BTLNBR,BTLNBR_FLAG_W,DATE,TIME,LATITUDE,LONGITUDE,DEPTH,CTDPRS,CTDTMP,CTDSAL,CTDSAL_FLAG_W,CTDOXY,CTDOXY_FLAG_W,SALNTY,SALNTY_FLAG_W,OXYGEN,OXYGEN_FLAG_W,SILCAT,SILCAT_FLAG_W,NITRAT,NITRAT_FLAG_W,NO2+NO3,NO2+NO3_FLAG_W,NITRIT,NITRIT_FLAG_W,PHSPHT,PHSPHT_FLAG_W,CFC-11,CFC-11_FLAG_W,CFC-12,CFC-12_FLAG_W,DELC13,DELC13_FLAG_W,TCARBN,TCARBN_FLAG_W,ALKALI,ALKALI_FLAG_W,PH,PH_FLAG_W,PH_TMP,PH_SCALE,PH_NBS,PH_NBS_FLAG_W,C13ERR,TOTALP,TOTALP_FLAG_W,AMMONI,AMMONI_FLAG_W,CHLORA,CHLORA_FLAG_W,PPHYTN,PPHYTN_FLAG_W,REVPRS,REVTMP,DEPTH_,DEPTH_FLAG,CTDDEP,THETA,SIGTHT,DOC,DOC_FLAG_W
,,,,,,,GMT,GMT,,,METER,DBAR,ITS-90,PSS-78,,UMOL/KG,,PSS-78,,UMOL/KG,,UMOL/KG,,UMOL/KG,,UMOL/KG,,UMOL/KG,,UMOL/KG,,PMOL/KG,,PMOL/KG,,/MILLE,,UMOL/KG,,UMOL/KG,,25_DEG_C,,DEG_C,,,,/MILLE,UMOL/KG,,UMOL/KG,,UG/L,,UG/L,,DBAR,ITS-90,METERS,,METERS,DEG_C,,UMOL/L,
       KS04-06,  165E,KS-1074,  1,     24,02-16030,2,20040711,1933,  0.0070, 165.0163, 4405,      5.3,  29.5961,  34.2131,2,   -999.0,9,  34.2154,2,    197.0,2,     1.19,2,  -999.00,9,     0.00,2,     0.00,2,     0.08,2, -999.000,9, -999.000,9,  -999.00,9,   1898.4,2,   -999.0,9,-999.0000,9,   -999.0,  9,     8.25,2,   -999.0,  -999.00,9,  -999.00,9,     0.03,2,     0.03,2,   -999.0,-999.0000, -999,9,    5,  29.5948,  21.2738,   -999.0,9
       KS04-06,  165E,KS-1074,  1,     23,02-16029,2,20040711,1932,  0.0070, 165.0163, 4405,     10.1,  29.6001,  34.2132,2,   -999.0,9,-999.0000,9,    197.0,2,     1.25,2,  -999.00,9,     0.00,2,     0.00,2,     0.08,2, -999.000,9, -999.000,9,  -999.00,9,   1897.6,2,   -999.0,9,-999.0000,9,   -999.0,  9,     8.25,2,   -999.0,  -999.00,9,  -999.00,9,     0.04,2,     0.03,2,   -999.0,-999.0000, -999,9,   10,  29.5976,  21.2729,   -999.0,9
       KS04-06,  165E,KS-1074,  1,     22,02-10977,2,20040711,1931,  0.0070, 165.0163, 4405,     24.9,  29.6032,  34.2127,2,   -999.0,9,-999.0000,9,    197.0,2,     1.25,2,  -999.00,9,     0.00,2,     0.00,2,     0.08,2, -999.000,9, -999.000,9,  -999.00,9,   1899.8,2,   -999.0,9,-999.0000,9,   -999.0,  9,     8.24,2,   -999.0,  -999.00,9,  -999.00,9,     0.04,2,     0.03,2,   -999.0,-999.0000, -999,9,   25,  29.5971,  21.2727,   -999.0,9
       KS04-06,  165E,KS-1074,  1,     21,02-16027,2,20040711,1927,  0.0070, 165.0163, 4405,     49.2,  29.4386,  34.2966,2,   -999.0,9,-999.0000,9,    198.0,2,     1.14,2,  -999.00,9,     0.00,2,     0.00,2,     0.09,2, -999.000,9, -999.000,9,  -999.00,9,   1902.7,2,   -999.0,9,-999.0000,9,   -999.0,  9,     8.24,2,   -999.0,  -999.00,9,  -999.00,9,     0.06,2,     0.04,2,   -999.0,-999.0000, -999,9,   49,  29.4266,  21.3931,   -999.0,9
       KS04-06,  165E,KS-1074,  1,     20,02-16026,2,20040711,1926,  0.0070, 165.0163, 4405,     74.8,  29.2929,  34.7054,2,   -999.0,9,-999.0000,9,    197.0,2,     1.30,2,  -999.00,9,     0.00,2,     0.00,2,     0.17,2, -999.000,9, -999.000,9,  -999.00,9,   1929.7,2,   -999.0,9,-999.0000,9,   -999.0,  9,     8.23,2,   -999.0,  -999.00,9,  -999.00,9,     0.16,2,     0.28,2,   -999.0,-999.0000, -999,9,   74,  29.2747,  21.7509,   -999.0,9
       KS04-06,  165E,KS-1074,  1,     19,02-16025,2,20040711,1924,  0.0070, 165.0163, 4405,     99.8,  26.2117,  35.2361,2,   -999.0,9,  35.3474,4,    154.0,2,     3.22,2,  -999.00,9,     7.62,2,     0.05,2,     0.66,2, -999.000,9, -999.000,9,  -999.00,9,   2043.7,2,   -999.0,9,-999.0000,9,   -999.0,  9,     8.09,2,   -999.0,  -999.00,9,  -999.00,9,     0.06,2,     0.41,2,   -999.0,-999.0000, -999,9,   99,  26.1893,  23.1523,   -999.0,9
       KS04-06,  165E,KS-1074,  1,     18,02-16024,2,20040711,1923,  0.0070, 165.0163, 4405,    126.2,  23.9607,  35.2953,2,   -999.0,9,-999.0000,9,    136.0,2,     4.31,2,  -999.00,9,     9.18,2,     0.02,2,     0.75,2, -999.000,9, -999.000,9,  -999.00,9,   2062.4,2,   -999.0,9,-999.0000,9,   -999.0,  9,     8.05,2,   -999.0,  -999.00,9,  -999.00,9,     0.03,2,     0.14,2,   -999.0,-999.0000, -999,9,  126,  23.9341,  23.8844,   -999.0,9
       KS04-06,  165E,KS-1074,  1,     17,02-16023,2,20040711,1922,  0.0070, 165.0163, 4405,    150.1,  21.7606,  35.2734,2,   -999.0,9,-999.0000,9,    137.0,2,     5.72,2,  -999.00,9,    10.25,2,     0.01,2,     0.81,2, -999.000,9, -999.000,9,  -999.00,9,   2080.3,2,   -999.0,9,-999.0000,9,   -999.0,  9,     8.02,2,   -999.0,  -999.00,9,  -999.00,9,     0.01,2,     0.03,2,   -999.0,-999.0000, -999,9,  149,  21.7311,  24.5007,   -999.0,9
       KS04-06,  165E,KS-1074,  1,     16,02-16022,2,20040711,1919,  0.0070, 165.0163, 4405,    200.1,  17.0866,  35.2660,2,   -999.0,9,  35.2676,2,    142.0,2,     7.51,2,  -999.00,9,    13.45,2,     0.00,2,     1.03,2, -999.000,9, -999.000,9,  -999.00,9,   2116.0,2,   -999.0,9,-999.0000,9,   -999.0,  9,     7.95,2,   -999.0,  -999.00,9,  -999.00,9,     0.00,2,     0.01,2,   -999.0,-999.0000, -999,9,  199,  17.0534,  25.7057,   -999.0,9
       KS04-06,  165E,KS-1074,  1,     15,02-16021,2,20040711,1917,  0.0070, 165.0163, 4405,    251.7,  13.4994,  34.9477,2,   -999.0,9,-999.0000,9,    138.0,2,    15.70,2,  -999.00,9,    18.81,2,     0.00,2,     1.38,2, -999.000,9, -999.000,9,  -999.00,9,   2143.4,2,   -999.0,9,-999.0000,9,   -999.0,  9,     7.87,2,   -999.0,  -999.00,9,  -999.00,9,     0.00,2,     0.01,2,   -999.0,-999.0000, -999,9,  250,  13.4639,  26.2582,   -999.0,9
       KS04-06,  165E,KS-1074,  1,     14,02-16020,2,20040711,1915,  0.0070, 165.0163, 4405,    301.4,  12.1484,  34.8792,2,   -999.0,9,  34.8810,2,    123.0,2,    18.51,2,  -999.00,9,    22.70,2,     0.00,2,     1.64,2, -999.000,9, -999.000,9,  -999.00,9,   2165.5,2,   -999.0,9,-999.0000,9,   -999.0,  9,     7.81,2,   -999.0,  -999.00,9,  -999.00,9,     0.00,2,     0.01,2,   -999.0,-999.0000, -999,9,  299,  12.1086,  26.4745,   -999.0,9
       KS04-06,  165E,KS-1074,  1,     13,02-16019,2,20040711,1913,  0.0070, 165.0163, 4405,    401.6,   9.3881,  34.6836,2,   -999.0,9,  34.6848,2,     88.0,2,    30.01,2,  -999.00,9,    31.26,2,     0.00,2,     2.21,2, -999.000,9, -999.000,9,  -999.00,9,   2216.8,2,   -999.0,9,-999.0000,9,   -999.0,  9,     7.67,2,   -999.0,  -999.00,9,  -999.00,9,  -999.00,9,  -999.00,9,   -999.0,-999.0000, -999,9,  399,   9.3430,  26.8148,   -999.0,9
       KS04-06,  165E,KS-1074,  1,     12,02-16018,2,20040711,1908,  0.0070, 165.0163, 4405,    502.5,   7.9980,  34.6057,2,   -999.0,9,  34.6069,2,    104.0,2,    34.77,2,  -999.00,9,    32.52,2,     0.00,2,     2.30,2, -999.000,9, -999.000,9,  -999.00,9,   -999.0,9,   -999.0,9,-999.0000,9,   -999.0,  9,     7.66,2,   -999.0,  -999.00,9,  -999.00,9,  -999.00,9,  -999.00,9,   -999.0,-999.0000, -999,9,  499,   7.9464,  26.9722,   -999.0,9
       KS04-06,  165E,KS-1074,  1,     11,02-16017,2,20040711,1905,  0.0070, 165.0163, 4405,    603.6,   6.7753,  34.5573,2,   -999.0,9,  34.5574,2,     94.0,2,    47.88,2,  -999.00,9,    36.02,2,     0.00,2,     2.57,2, -999.000,9, -999.000,9,  -999.00,9,   2247.5,2,   -999.0,9,-999.0000,9,   -999.0,  9,     7.62,2,   -999.0,  -999.00,9,  -999.00,9,  -999.00,9,  -999.00,9,   -999.0,-999.0000, -999,9,  599,   6.7185,  27.1085,   -999.0,9
       KS04-06,  165E,KS-1074,  1,     10,02-16016,2,20040711,1857,  0.0070, 165.0163, 4405,    805.5,   5.0311,  34.5431,2,   -999.0,9,  34.5455,2,     97.0,2,    73.11,2,  -999.00,9,    38.25,2,     0.00,2,     2.74,2, -999.000,9, -999.000,9,  -999.00,9,   2275.3,2,   -999.0,9,-999.0000,9,   -999.0,  9,     7.60,2,   -999.0,  -999.00,9,  -999.00,9,  -999.00,9,  -999.00,9,   -999.0,-999.0000, -999,9,  800,   4.9649,  27.3171,   -999.0,9
       KS04-06,  165E,KS-1074,  1,      9,02-16015,2,20040711,1844,  0.0070, 165.0163, 4405,   1007.0,   4.4024,  34.5556,2,   -999.0,9,-999.0000,9,   -999.0,9,    86.39,2,  -999.00,9,    38.93,2,     0.00,2,     2.78,2, -999.000,9, -999.000,9,  -999.00,9,   -999.0,9,   -999.0,9,-999.0000,9,   -999.0,  9,  -999.00,9,   -999.0,  -999.00,9,  -999.00,9,  -999.00,9,  -999.00,9,   -999.0,-999.0000, -999,9,  999,   4.3230,  27.3985,   -999.0,9
       KS04-06,  165E,KS-1074,  1,      8,02-16014,2,20040711,1844,  0.0070, 165.0163, 4405,   1007.1,   4.4023,  34.5557,2,   -999.0,9,  34.5563,2,    100.0,2,    83.62,2,  -999.00,9,    38.74,2,     0.00,2,     2.77,2, -999.000,9, -999.000,9,  -999.00,9,   2287.2,2,   -999.0,9,-999.0000,9,   -999.0,  9,     7.60,2,   -999.0,  -999.00,9,  -999.00,9,  -999.00,9,  -999.00,9,   -999.0,-999.0000, -999,9,  999,   4.3229,  27.3986,   -999.0,9
       KS04-06,  165E,KS-1074,  1,      7,02-16013,2,20040711,1819,  0.0070, 165.0163, 4405,   1259.5,   3.6200,  34.5802,2,   -999.0,9,  34.5806,2,     97.0,2,   101.86,2,  -999.00,9,    39.61,2,     0.00,2,     2.84,2, -999.000,9, -999.000,9,  -999.00,9,   2311.8,2,   -999.0,9,-999.0000,9,   -999.0,  9,     7.59,2,   -999.0,  -999.00,9,  -999.00,9,  -999.00,9,  -999.00,9,   -999.0,-999.0000, -999,9, 1249,   3.5258,  27.5001,   -999.0,9
       KS04-06,  165E,KS-1074,  1,      6,02-16012,2,20040711,1810,  0.0070, 165.0163, 4405,   1512.8,   3.0229,  34.6023,2,   -999.0,9,  34.6058,2,    109.0,2,   116.21,2,  -999.00,9,    39.41,2,     0.00,2,     2.80,2, -999.000,9, -999.000,9,  -999.00,9,   2320.9,2,   -999.0,9,-999.0000,9,   -999.0,  9,     7.60,2,   -999.0,  -999.00,9,  -999.00,9,  -999.00,9,  -999.00,9,   -999.0,-999.0000, -999,9, 1499,   2.9137,  27.5755,   -999.0,9
       KS04-06,  165E,KS-1074,  1,      5,02-16011,2,20040711,1748,  0.0070, 165.0163, 4405,   2020.4,   2.2079,  34.6412,2,   -999.0,9,  34.6423,2,    119.0,2,   132.05,2,  -999.00,9,    38.73,2,     0.00,2,     2.71,2, -999.000,9, -999.000,9,  -999.00,9,   2332.7,2,   -999.0,9,-999.0000,9,   -999.0,  9,     7.62,2,   -999.0,  -999.00,9,  -999.00,9,  -999.00,9,  -999.00,9,   -999.0,-999.0000, -999,9, 2000,   2.0665,  27.6789,   -999.0,9
       KS04-06,  165E,KS-1074,  1,      4,02-16010,2,20040711,1720,  0.0070, 165.0163, 4405,   2527.9,   1.8149,  34.6629,2,   -999.0,9,  34.6625,2,    132.0,2,   141.38,2,  -999.00,9,    38.05,2,     0.00,2,     2.64,2, -999.000,9, -999.000,9,  -999.00,9,   -999.0,9,   -999.0,9,-999.0000,9,   -999.0,  9,     7.64,2,   -999.0,  -999.00,9,  -999.00,9,  -999.00,9,  -999.00,9,   -999.0,-999.0000, -999,9, 2499,   1.6355,  27.7296,   -999.0,9
       KS04-06,  165E,KS-1074,  1,      3,02-16009,2,20040711,1654,  0.0070, 165.0163, 4405,   3038.2,   1.6470,  34.6726,2,   -999.0,9,  34.6741,2,    142.0,2,   142.35,2,  -999.00,9,    37.36,2,     0.00,2,     2.58,2, -999.000,9, -999.000,9,  -999.00,9,   -999.0,9,   -999.0,9,-999.0000,9,   -999.0,  9,     7.65,2,   -999.0,  -999.00,9,  -999.00,9,  -999.00,9,  -999.00,9,   -999.0,-999.0000, -999,9, 3000,   1.4233,  27.7530,   -999.0,9
       KS04-06,  165E,KS-1074,  1,      2,02-16008,2,20040711,1637,  0.0070, 165.0163, 4405,   3546.7,   1.5270,  34.6824,2,   -999.0,9,  34.6818,2,    153.0,2,   142.50,2,  -999.00,9,    36.58,2,     0.00,2,     2.51,2, -999.000,9, -999.000,9,  -999.00,9,   -999.0,9,   -999.0,9,-999.0000,9,   -999.0,  9,     7.66,2,   -999.0,  -999.00,9,  -999.00,9,  -999.00,9,  -999.00,9,   -999.0,-999.0000, -999,9, 3498,   1.2554,  27.7727,   -999.0,9
       KS04-06,  165E,KS-1074,  1,      1,02-16007,2,20040711,1622,  0.0070, 165.0163, 4405,   4418.1,   1.3302,  34.7016,2,   -999.0,9,  34.7013,2,    184.0,2,   128.01,2,  -999.00,9,    34.25,2,     0.00,2,     2.34,2, -999.000,9, -999.000,9,  -999.00,9,   -999.0,9,   -999.0,9,-999.0000,9,   -999.0,  9,     7.70,2,   -999.0,  -999.00,9,  -999.00,9,  -999.00,9,  -999.00,9,   -999.0,-999.0000, -999,9, 4349,   0.9697,  27.8076,   -999.0,9
       KS04-06,  165E,KS-1075,  1,      2,02-16008,9,20040712,0208, -0.9893, 165.0167, 4420,      5.9,  29.7009,  34.3043,2,   -999.0,9,-999.0000,9,   -999.0,9,  -999.00,9,  -999.00,9,  -999.00,9,  -999.00,9,  -999.00,9, -999.000,9, -999.000,9,  -999.00,9,   -999.0,9,   -999.0,9,-999.0000,9,   -999.0,  9,  -999.00,9,   -999.0,  -999.00,9,  -999.00,9,  -999.00,9,  -999.00,9,   -999.0,-999.0000, -999,9,    6,  29.6995,  21.3068,   -999.0,9
       KS04-06,  165E,KS-1075,  1,      1,02-16007,2,20040712,0208, -0.9893, 165.0167, 4420,      5.6,  29.6874,  34.3048,2,   -999.0,9,-999.0000,9,   -999.0,9,     0.91,2,  -999.00,9,     0.00,2,     0.00,2,     0.10,2, -999.000,9, -999.000,9,  -999.00,9,   1901.4,2,   -999.0,9,-999.0000,9,   -999.0,  9,  -999.00,9,   -999.0,  -999.00,9,  -999.00,9,     0.03,2,     0.03,2,   -999.0,-999.0000, -999,9,    6,  29.6860,  21.3117,   -999.0,9
       KS04-06,  165E,KS-1076,  1,      2,02-16008,9,20040712,0908, -1.9927, 165.0432, 4462,      5.1,  29.8340,  34.5790,2,   -999.0,9,-999.0000,9,   -999.0,9,  -999.00,9,  -999.00,9,  -999.00,9,  -999.00,9,  -999.00,9, -999.000,9, -999.000,9,  -999.00,9,   -999.0,9,   -999.0,9,-999.0000,9,   -999.0,  9,  -999.00,9,   -999.0,  -999.00,9,  -999.00,9,  -999.00,9,  -999.00,9,   -999.0,-999.0000, -999,9,    5,  29.8327,  21.4675,   -999.0,9
       KS04-06,  165E,KS-1076,  1,      1,02-16007,2,20040712,0907, -1.9927, 165.0432, 4462,      5.2,  29.8337,  34.5783,2,   -999.0,9,-999.0000,9,   -999.0,9,     1.08,2,  -999.00,9,     0.00,2,     0.00,2,     0.15,2, -999.000,9, -999.000,9,  -999.00,9,   1916.4,2,   -999.0,9,-999.0000,9,   -999.0,  9,  -999.00,9,   -999.0,  -999.00,9,  -999.00,9,     0.03,2,     0.03,2,   -999.0,-999.0000, -999,9,    5,  29.8324,  21.4671,   -999.0,9