BOTTLE,20130510GEMDJMAYT
EXPOCODE,SECT_ID,STNNBR,CASTNO,SAMPNO,BTLNBR,BTLNBR_FLAG_W,DATE,TIME,LATITUDE,LONGITUDE,DEPTH,CTDPRS,CTDTMP,CTDSAL,CTDSAL_FLAG_W,CTDOXY,CTDOXY_FLAG_W,SALNTY,SALNTY_FLAG_W,OXYGEN,OXYGEN_FLAG_W,SILCAT,SILCAT_FLAG_W,NITRAT,NITRAT_FLAG_W,NO2+NO3,NO2+NO3_FLAG_W,NITRIT,NITRIT_FLAG_W,PHSPHT,PHSPHT_FLAG_W,CFC-11,CFC-11_FLAG_W,CFC-12,CFC-12_FLAG_W,DELC13,DELC13_FLAG_W,TCARBN,TCARBN_FLAG_W,ALKALI,ALKALI_FLAG_W,PH,PH_FLAG_W,PH_TMP,PH_SCALE,PH_NBS,PH_NBS_FLAG_W,C13ERR,TOTALP,TOTALP_FLAG_W,AMMONI,AMMONI_FLAG_W,CHLORA,CHLORA_FLAG_W,PPHYTN,PPHYTN_FLAG_W,REVPRS,REVTMP,DEPTH_,DEPTH_FLAG,CTDDEP,THETA,SIGTHT,DOC,DOC_FLAG_W
,,,,,,,GMT,GMT,,,METER,DBAR,ITS-90,PSS-78,,UMOL/KG,,PSS-78,,UMOL/KG,,UMOL/KG,,UMOL/KG,,UMOL/KG,,UMOL/KG,,UMOL/KG,,PMOL/KG,,PMOL/KG,,/MILLE,,UMOL/KG,,UMOL/KG,,25_DEG_C,,DEG_C,,,,/MILLE,UMOL/KG,,UMOL/KG,,UG/L,,UG/L,,DBAR,ITS-90,METERS,,METERS,DEG_C,,UMOL/L,
       KS04-06,  NONE,KS-1110,  1,     24,02-16030,2,20040803,0818, 15.0037, 149.3338, 5658,      4.5,  29.1482,  34.4342,2,   -999.0,9,  34.4369,4,    200.0,2,     1.21,2,  -999.00,9,     0.00,2,     0.00,2,     0.01,2, -999.000,9, -999.000,9,  -999.00,9,   -999.0,9,   -999.0,9,-999.0000,9,   -999.0,  9,  -999.00,9,   -999.0,  -999.00,9,  -999.00,9,  -999.00,9,  -999.00,9,   -999.0,-999.0000, -999,9,    4,  29.1471,  21.5902,   -999.0,9
       KS04-06,  NONE,KS-1110,  1,     23,02-16029,2,20040803,0817, 15.0037, 149.3338, 5658,     10.7,  29.1420,  34.4414,2,   -999.0,9,-999.0000,9,    199.0,2,     1.20,2,  -999.00,9,     0.00,2,     0.00,2,     0.01,2, -999.000,9, -999.000,9,  -999.00,9,   -999.0,9,   -999.0,9,-999.0000,9,   -999.0,  9,  -999.00,9,   -999.0,  -999.00,9,  -999.00,9,  -999.00,9,  -999.00,9,   -999.0,-999.0000, -999,9,   11,  29.1394,  21.5982,   -999.0,9
       KS04-06,  NONE,KS-1110,  1,     22,02-10977,2,20040803,0815, 15.0037, 149.3338, 5658,     25.2,  29.1145,  34.4700,2,   -999.0,9,-999.0000,9,    201.0,2,     1.20,2,  -999.00,9,     0.00,2,     0.00,2,     0.00,2, -999.000,9, -999.000,9,  -999.00,9,   -999.0,9,   -999.0,9,-999.0000,9,   -999.0,  9,  -999.00,9,   -999.0,  -999.00,9,  -999.00,9,  -999.00,9,  -999.00,9,   -999.0,-999.0000, -999,9,   25,  29.1084,  21.6300,   -999.0,9
       KS04-06,  NONE,KS-1110,  1,     21,02-16027,2,20040803,0812, 15.0037, 149.3338, 5658,     48.9,  28.8464,  34.6464,2,   -999.0,9,-999.0000,9,    207.0,2,     1.19,2,  -999.00,9,     0.00,2,     0.00,2,     0.01,2, -999.000,9, -999.000,9,  -999.00,9,   -999.0,9,   -999.0,9,-999.0000,9,   -999.0,  9,  -999.00,9,   -999.0,  -999.00,9,  -999.00,9,  -999.00,9,  -999.00,9,   -999.0,-999.0000, -999,9,   49,  28.8346,  21.8537,   -999.0,9
       KS04-06,  NONE,KS-1110,  1,     20,02-16026,2,20040803,0811, 15.0037, 149.3338, 5658,     74.3,  27.6869,  34.8067,2,   -999.0,9,-999.0000,9,    214.0,2,     1.35,2,  -999.00,9,     0.00,2,     0.00,2,     0.01,2, -999.000,9, -999.000,9,  -999.00,9,   -999.0,9,   -999.0,9,-999.0000,9,   -999.0,  9,  -999.00,9,   -999.0,  -999.00,9,  -999.00,9,  -999.00,9,  -999.00,9,   -999.0,-999.0000, -999,9,   74,  27.6696,  22.3568,   -999.0,9
       KS04-06,  NONE,KS-1110,  1,     19,02-16025,2,20040803,0810, 15.0037, 149.3338, 5658,     99.5,  26.3823,  35.0032,2,   -999.0,9,  35.0112,4,    207.0,2,     1.41,2,  -999.00,9,     0.00,2,     0.00,2,     0.03,2, -999.000,9, -999.000,9,  -999.00,9,   -999.0,9,   -999.0,9,-999.0000,9,   -999.0,  9,  -999.00,9,   -999.0,  -999.00,9,  -999.00,9,  -999.00,9,  -999.00,9,   -999.0,-999.0000, -999,9,   99,  26.3599,  22.9231,   -999.0,9
       KS04-06,  NONE,KS-1110,  1,     18,02-16024,2,20040803,0809, 15.0037, 149.3338, 5658,    125.7,  25.0199,  35.1857,2,   -999.0,9,-999.0000,9,    198.0,2,     1.40,2,  -999.00,9,     0.00,2,     0.04,2,     0.07,2, -999.000,9, -999.000,9,  -999.00,9,   -999.0,9,   -999.0,9,-999.0000,9,   -999.0,  9,  -999.00,9,   -999.0,  -999.00,9,  -999.00,9,  -999.00,9,  -999.00,9,   -999.0,-999.0000, -999,9,  125,  24.9926,  23.4838,   -999.0,9
       KS04-06,  NONE,KS-1110,  1,     17,02-16023,2,20040803,0808, 15.0037, 149.3338, 5658,    151.2,  23.9741,  35.2302,2,   -999.0,9,-999.0000,9,    189.0,2,     1.72,2,  -999.00,9,     0.39,2,     0.17,2,     0.11,2, -999.000,9, -999.000,9,  -999.00,9,   -999.0,9,   -999.0,9,-999.0000,9,   -999.0,  9,  -999.00,9,   -999.0,  -999.00,9,  -999.00,9,  -999.00,9,  -999.00,9,   -999.0,-999.0000, -999,9,  150,  23.9422,  23.8328,   -999.0,9
       KS04-06,  NONE,KS-1110,  1,     16,02-16022,2,20040803,0807, 15.0037, 149.3338, 5658,    200.6,  20.5112,  35.0562,2,   -999.0,9,  35.0551,2,    183.0,2,     2.91,2,  -999.00,9,     2.93,2,     0.00,2,     0.26,2, -999.000,9, -999.000,9,  -999.00,9,   -999.0,9,   -999.0,9,-999.0000,9,   -999.0,  9,  -999.00,9,   -999.0,  -999.00,9,  -999.00,9,  -999.00,9,  -999.00,9,   -999.0,-999.0000, -999,9,  199,  20.4734,  24.6788,   -999.0,9
       KS04-06,  NONE,KS-1110,  1,     15,02-16021,2,20040803,0806, 15.0037, 149.3338, 5658,    251.5,  16.5344,  34.6784,2,   -999.0,9,-999.0000,9,    187.0,2,     6.26,2,  -999.00,9,     7.41,2,     0.00,2,     0.55,2, -999.000,9, -999.000,9,  -999.00,9,   -999.0,9,   -999.0,9,-999.0000,9,   -999.0,  9,  -999.00,9,   -999.0,  -999.00,9,  -999.00,9,  -999.00,9,  -999.00,9,   -999.0,-999.0000, -999,9,  250,  16.4937,  25.3864,   -999.0,9
       KS04-06,  NONE,KS-1110,  1,     14,02-16020,2,20040803,0805, 15.0037, 149.3338, 5658,    302.2,  13.5201,  34.4363,2,   -999.0,9,  34.4406,4,    188.0,2,    11.87,2,  -999.00,9,    11.89,2,     0.00,2,     0.86,2, -999.000,9, -999.000,9,  -999.00,9,   -999.0,9,   -999.0,9,-999.0000,9,   -999.0,  9,  -999.00,9,   -999.0,  -999.00,9,  -999.00,9,  -999.00,9,  -999.00,9,   -999.0,-999.0000, -999,9,  300,  13.4775,  25.8596,   -999.0,9
       KS04-06,  NONE,KS-1110,  1,     13,02-16019,2,20040803,0803, 15.0037, 149.3338, 5658,    401.4,   9.6211,  34.3136,2,   -999.0,9,  34.3133,2,    101.0,2,    32.78,2,  -999.00,9,    26.89,2,     0.00,2,     2.01,2, -999.000,9, -999.000,9,  -999.00,9,   -999.0,9,   -999.0,9,-999.0000,9,   -999.0,  9,  -999.00,9,   -999.0,  -999.00,9,  -999.00,9,  -999.00,9,  -999.00,9,   -999.0,-999.0000, -999,9,  399,   9.5755,  26.4871,   -999.0,9
       KS04-06,  NONE,KS-1110,  1,     12,02-16018,2,20040803,0801, 15.0037, 149.3338, 5658,    502.8,   7.6360,  34.3661,2,   -999.0,9,  34.3676,2,     66.0,2,    52.62,2,  -999.00,9,    34.18,2,     0.00,2,     2.54,2, -999.000,9, -999.000,9,  -999.00,9,   -999.0,9,   -999.0,9,-999.0000,9,   -999.0,  9,  -999.00,9,   -999.0,  -999.00,9,  -999.00,9,  -999.00,9,  -999.00,9,   -999.0,-999.0000, -999,9,  499,   7.5860,  26.8367,   -999.0,9
       KS04-06,  NONE,KS-1110,  1,     11,02-16017,2,20040803,0759, 15.0037, 149.3338, 5658,    602.6,   6.7350,  34.4304,2,   -999.0,9,  34.4296,2,     55.0,2,    63.31,2,  -999.00,9,    37.00,2,     0.00,2,     2.75,2, -999.000,9, -999.000,9,  -999.00,9,   -999.0,9,   -999.0,9,-999.0000,9,   -999.0,  9,  -999.00,9,   -999.0,  -999.00,9,  -999.00,9,  -999.00,9,  -999.00,9,   -999.0,-999.0000, -999,9,  598,   6.6786,  27.0139,   -999.0,9
       KS04-06,  NONE,KS-1110,  1,     10,02-16016,2,20040803,0757, 15.0037, 149.3338, 5658,    704.0,   6.0608,  34.4660,2,   -999.0,9,  34.4654,2,     58.0,2,    71.33,2,  -999.00,9,    38.36,2,     0.00,2,     2.80,2, -999.000,9, -999.000,9,  -999.00,9,   -999.0,9,   -999.0,9,-999.0000,9,   -999.0,  9,  -999.00,9,   -999.0,  -999.00,9,  -999.00,9,  -999.00,9,  -999.00,9,   -999.0,-999.0000, -999,9,  699,   5.9980,  27.1309,   -999.0,9
       KS04-06,  NONE,KS-1110,  1,      9,02-16015,2,20040803,0754, 15.0037, 149.3338, 5658,    808.7,   5.4532,  34.4910,2,   -999.0,9,  34.4897,2,     64.0,2,    78.23,2,  -999.00,9,    38.84,2,     0.00,2,     2.85,2, -999.000,9, -999.000,9,  -999.00,9,   -999.0,9,   -999.0,9,-999.0000,9,   -999.0,  9,  -999.00,9,   -999.0,  -999.00,9,  -999.00,9,  -999.00,9,  -999.00,9,   -999.0,-999.0000, -999,9,  802,   5.3842,  27.2265,   -999.0,9
       KS04-06,  NONE,KS-1110,  1,      8,02-16014,2,20040803,0753, 15.0037, 149.3338, 5658,    905.1,   4.9816,  34.5106,2,   -999.0,9,  34.5101,2,     66.0,2,    86.54,2,  -999.00,9,    39.42,2,     0.00,2,     2.88,2, -999.000,9, -999.000,9,  -999.00,9,   -999.0,9,   -999.0,9,-999.0000,9,   -999.0,  9,  -999.00,9,   -999.0,  -999.00,9,  -999.00,9,  -999.00,9,  -999.00,9,   -999.0,-999.0000, -999,9,  898,   4.9069,  27.2979,   -999.0,9
       KS04-06,  NONE,KS-1110,  1,      7,02-16013,2,20040803,0751, 15.0037, 149.3338, 5658,   1006.3,   4.5397,  34.5269,2,   -999.0,9,  34.5254,2,     72.0,2,    95.37,2,  -999.00,9,    39.52,2,     0.00,2,     2.88,2, -999.000,9, -999.000,9,  -999.00,9,   -999.0,9,   -999.0,9,-999.0000,9,   -999.0,  9,  -999.00,9,   -999.0,  -999.00,9,  -999.00,9,  -999.00,9,  -999.00,9,   -999.0,-999.0000, -999,9,  998,   4.4593,  27.3610,   -999.0,9
       KS04-06,  NONE,KS-1110,  1,      6,02-16012,2,20040803,0747, 15.0037, 149.3338, 5658,   1260.0,   3.6908,  34.5563,2,   -999.0,9,  34.5547,2,     80.0,2,   109.52,2,  -999.00,9,    39.71,2,     0.00,2,     2.87,2, -999.000,9, -999.000,9,  -999.00,9,   -999.0,9,   -999.0,9,-999.0000,9,   -999.0,  9,  -999.00,9,   -999.0,  -999.00,9,  -999.00,9,  -999.00,9,  -999.00,9,   -999.0,-999.0000, -999,9, 1249,   3.5959,  27.4741,   -999.0,9
       KS04-06,  NONE,KS-1110,  1,      5,02-16011,2,20040803,0742, 15.0037, 149.3338, 5658,   1512.9,   3.0868,  34.5790,2,   -999.0,9,  34.5775,2,     89.0,2,   121.92,2,  -999.00,9,    39.61,2,     0.00,2,     2.83,2, -999.000,9, -999.000,9,  -999.00,9,   -999.0,9,   -999.0,9,-999.0000,9,   -999.0,  9,  -999.00,9,   -999.0,  -999.00,9,  -999.00,9,  -999.00,9,  -999.00,9,   -999.0,-999.0000, -999,9, 1499,   2.9769,  27.5511,   -999.0,9
       KS04-06,  NONE,KS-1110,  1,      4,02-16010,2,20040803,0737, 15.0037, 149.3338, 5658,   1765.6,   2.6475,  34.5999,2,   -999.0,9,  34.5989,2,     98.0,2,   128.99,2,  -999.00,9,    39.22,2,     0.00,2,     2.80,2, -999.000,9, -999.000,9,  -999.00,9,   -999.0,9,   -999.0,9,-999.0000,9,   -999.0,  9,  -999.00,9,   -999.0,  -999.00,9,  -999.00,9,  -999.00,9,  -999.00,9,   -999.0,-999.0000, -999,9, 1748,   2.5217,  27.6081,   -999.0,9
       KS04-06,  NONE,KS-1110,  1,      3,02-16009,9,20040803,0733, 15.0037, 149.3338, 5658,   2020.6,   2.2987,  34.6205,2,   -999.0,9,-999.0000,9,   -999.0,9,  -999.00,9,  -999.00,9,  -999.00,9,  -999.00,9,  -999.00,9, -999.000,9, -999.000,9,  -999.00,9,   -999.0,9,   -999.0,9,-999.0000,9,   -999.0,  9,  -999.00,9,   -999.0,  -999.00,9,  -999.00,9,  -999.00,9,  -999.00,9,   -999.0,-999.0000, -999,9, 1999,   2.1560,  27.6551,   -999.0,9
       KS04-06,  NONE,KS-1110,  1,      2,02-16008,9,20040803,0733, 15.0037, 149.3338, 5658,   2020.9,   2.2987,  34.6204,2,   -999.0,9,-999.0000,9,   -999.0,9,  -999.00,9,  -999.00,9,  -999.00,9,  -999.00,9,  -999.00,9, -999.000,9, -999.000,9,  -999.00,9,   -999.0,9,   -999.0,9,-999.0000,9,   -999.0,  9,  -999.00,9,   -999.0,  -999.00,9,  -999.00,9,  -999.00,9,  -999.00,9,   -999.0,-999.0000, -999,9, 1999,   2.1560,  27.6551,   -999.0,9
       KS04-06,  NONE,KS-1110,  1,      1,02-16007,2,20040803,0733, 15.0037, 149.3338, 5658,   2019.9,   2.2970,  34.6205,2,   -999.0,9,  34.6189,2,    109.0,2,   137.53,2,  -999.00,9,    38.92,2,     0.00,2,     2.73,2, -999.000,9, -999.000,9,  -999.00,9,   -999.0,9,   -999.0,9,-999.0000,9,   -999.0,  9,  -999.00,9,   -999.0,  -999.00,9,  -999.00,9,  -999.00,9,  -999.00,9,   -999.0,-999.0000, -999,9, 1998,   2.1544,  27.6553,   -999.0,9