BOTTLE,20130510GEMDJMAYT
EXPOCODE,SECT_ID,STNNBR,CASTNO,SAMPNO,BTLNBR,BTLNBR_FLAG_W,DATE,TIME,LATITUDE,LONGITUDE,DEPTH,CTDPRS,CTDTMP,CTDSAL,CTDSAL_FLAG_W,CTDOXY,CTDOXY_FLAG_W,SALNTY,SALNTY_FLAG_W,OXYGEN,OXYGEN_FLAG_W,SILCAT,SILCAT_FLAG_W,NITRAT,NITRAT_FLAG_W,NO2+NO3,NO2+NO3_FLAG_W,NITRIT,NITRIT_FLAG_W,PHSPHT,PHSPHT_FLAG_W,CFC-11,CFC-11_FLAG_W,CFC-12,CFC-12_FLAG_W,DELC13,DELC13_FLAG_W,TCARBN,TCARBN_FLAG_W,ALKALI,ALKALI_FLAG_W,PH,PH_FLAG_W,PH_TMP,PH_SCALE,PH_NBS,PH_NBS_FLAG_W,C13ERR,TOTALP,TOTALP_FLAG_W,AMMONI,AMMONI_FLAG_W,CHLORA,CHLORA_FLAG_W,PPHYTN,PPHYTN_FLAG_W,REVPRS,REVTMP,DEPTH_,DEPTH_FLAG,CTDDEP,THETA,SIGTHT,DOC,DOC_FLAG_W
,,,,,,,GMT,GMT,,,METER,DBAR,ITS-90,PSS-78,,UMOL/KG,,PSS-78,,UMOL/KG,,UMOL/KG,,UMOL/KG,,UMOL/KG,,UMOL/KG,,UMOL/KG,,PMOL/KG,,PMOL/KG,,/MILLE,,UMOL/KG,,UMOL/KG,,25_DEG_C,,DEG_C,,,,/MILLE,UMOL/KG,,UMOL/KG,,UG/L,,UG/L,,DBAR,ITS-90,METERS,,METERS,DEG_C,,UMOL/L,
       KS04-06, EQPAC,KS-1093,  1,     24,02-16030,2,20040722,1029,  0.0247, 148.9997, 5767,      5.1,  29.6316,  34.0520,2,   -999.0,9,  34.0548,4,    193.0,2,     1.50,2,  -999.00,9,     0.00,2,     0.00,2,     0.00,2, -999.000,9, -999.000,9,  -999.00,9,   1890.0,2,   -999.0,9,-999.0000,9,   -999.0,  9,     8.25,2,   -999.0,  -999.00,9,  -999.00,9,     0.14,2,     0.07,2,   -999.0,-999.0000, -999,9,    5,  29.6303,  21.1410,   -999.0,9
       KS04-06, EQPAC,KS-1093,  1,     23,02-16029,2,20040722,1028,  0.0247, 148.9997, 5767,      9.9,  29.6316,  34.0525,2,   -999.0,9,-999.0000,9,    203.0,2,     1.38,2,  -999.00,9,     0.00,2,     0.00,2,     0.00,2, -999.000,9, -999.000,9,  -999.00,9,   1889.8,2,   -999.0,9,-999.0000,9,   -999.0,  9,     8.25,2,   -999.0,  -999.00,9,  -999.00,9,     0.18,2,     0.08,2,   -999.0,-999.0000, -999,9,   10,  29.6292,  21.1418,   -999.0,9
       KS04-06, EQPAC,KS-1093,  1,     22,02-10977,2,20040722,1027,  0.0247, 148.9997, 5767,     24.9,  29.6362,  34.0555,2,   -999.0,9,-999.0000,9,    201.0,2,     1.38,2,  -999.00,9,     0.00,2,     0.00,2,     0.00,2, -999.000,9, -999.000,9,  -999.00,9,   1891.7,2,   -999.0,9,-999.0000,9,   -999.0,  9,     8.26,2,   -999.0,  -999.00,9,  -999.00,9,     0.15,2,     0.07,2,   -999.0,-999.0000, -999,9,   25,  29.6301,  21.1437,   -999.0,9
       KS04-06, EQPAC,KS-1093,  1,     21,02-16027,2,20040722,1023,  0.0247, 148.9997, 5767,     49.6,  29.3899,  34.6343,2,   -999.0,9,-999.0000,9,    192.0,2,     1.38,2,  -999.00,9,     0.10,2,     0.02,2,     0.15,2, -999.000,9, -999.000,9,  -999.00,9,   1939.5,2,   -999.0,9,-999.0000,9,   -999.0,  9,     8.23,2,   -999.0,  -999.00,9,  -999.00,9,     0.14,2,     0.31,2,   -999.0,-999.0000, -999,9,   49,  29.3778,  21.6629,   -999.0,9
       KS04-06, EQPAC,KS-1093,  1,     20,02-16026,2,20040722,1022,  0.0247, 148.9997, 5767,     73.9,  28.9031,  35.0754,2,   -999.0,9,-999.0000,9,    180.0,2,     1.71,2,  -999.00,9,     2.15,2,     0.61,2,     0.32,2, -999.000,9, -999.000,9,  -999.00,9,   1981.1,2,   -999.0,9,-999.0000,9,   -999.0,  9,     8.19,2,   -999.0,  -999.00,9,  -999.00,9,     0.21,2,     0.74,2,   -999.0,-999.0000, -999,9,   73,  28.8853,  22.1590,   -999.0,9
       KS04-06, EQPAC,KS-1093,  1,     19,02-16025,2,20040722,1021,  0.0247, 148.9997, 5767,    100.1,  27.4639,  35.3255,2,   -999.0,9,  35.3291,4,    160.0,2,     2.47,2,  -999.00,9,     5.87,2,     0.08,2,     0.55,2, -999.000,9, -999.000,9,  -999.00,9,   2023.1,2,   -999.0,9,-999.0000,9,   -999.0,  9,     8.14,2,   -999.0,  -999.00,9,  -999.00,9,     0.10,2,     0.52,2,   -999.0,-999.0000, -999,9,  100,  27.4406,  22.8213,   -999.0,9
       KS04-06, EQPAC,KS-1093,  1,     18,02-16024,2,20040722,1020,  0.0247, 148.9997, 5767,    126.7,  26.9289,  35.4477,2,   -999.0,9,-999.0000,9,    153.0,2,     2.52,2,  -999.00,9,     7.04,2,     0.06,2,     0.64,2, -999.000,9, -999.000,9,  -999.00,9,   2040.5,2,   -999.0,9,-999.0000,9,   -999.0,  9,     8.12,2,   -999.0,  -999.00,9,  -999.00,9,     0.04,2,     0.26,2,   -999.0,-999.0000, -999,9,  126,  26.8998,  23.0870,   -999.0,9
       KS04-06, EQPAC,KS-1093,  1,     17,02-16023,2,20040722,1019,  0.0247, 148.9997, 5767,    150.5,  22.6464,  35.4349,2,   -999.0,9,-999.0000,9,    134.0,2,     3.72,2,  -999.00,9,     9.76,2,     0.02,2,     0.79,2, -999.000,9, -999.000,9,  -999.00,9,   2077.4,2,   -999.0,9,-999.0000,9,   -999.0,  9,     8.05,2,   -999.0,  -999.00,9,  -999.00,9,     0.01,2,     0.03,2,   -999.0,-999.0000, -999,9,  150,  22.6159,  24.3739,   -999.0,9
       KS04-06, EQPAC,KS-1093,  1,     16,02-16022,2,20040722,1018,  0.0247, 148.9997, 5767,    200.5,  16.4058,  35.2723,2,   -999.0,9,  35.2796,4,    144.0,2,     7.34,2,  -999.00,9,    14.04,2,     0.00,2,     1.07,2, -999.000,9, -999.000,9,  -999.00,9,   2127.9,2,   -999.0,9,-999.0000,9,   -999.0,  9,     7.95,2,   -999.0,  -999.00,9,  -999.00,9,     0.00,2,     0.02,2,   -999.0,-999.0000, -999,9,  199,  16.3735,  25.8708,   -999.0,9
       KS04-06, EQPAC,KS-1093,  1,     15,02-16021,2,20040722,1016,  0.0247, 148.9997, 5767,    250.5,  13.5142,  35.0188,2,   -999.0,9,-999.0000,9,    147.0,2,    12.42,2,  -999.00,9,    17.83,2,     0.00,2,     1.31,2, -999.000,9, -999.000,9,  -999.00,9,   2144.1,2,   -999.0,9,-999.0000,9,   -999.0,  9,     7.89,2,   -999.0,  -999.00,9,  -999.00,9,     0.01,2,     0.02,2,   -999.0,-999.0000, -999,9,  249,  13.4788,  26.3101,   -999.0,9
       KS04-06, EQPAC,KS-1093,  1,     14,02-16020,2,20040722,1014,  0.0247, 148.9997, 5767,    302.0,  11.2577,  34.8439,2,   -999.0,9,  34.8460,2,    144.0,2,    16.52,2,  -999.00,9,    21.92,2,     0.00,2,     1.57,2, -999.000,9, -999.000,9,  -999.00,9,   2164.8,2,   -999.0,9,-999.0000,9,   -999.0,  9,     7.83,2,   -999.0,  -999.00,9,  -999.00,9,     0.00,2,     0.01,2,   -999.0,-999.0000, -999,9,  300,  11.2198,  26.6139,   -999.0,9
       KS04-06, EQPAC,KS-1093,  1,     13,02-16019,2,20040722,1011,  0.0247, 148.9997, 5767,    401.8,   9.0909,  34.6648,2,   -999.0,9,  34.6631,2,    115.0,2,    28.63,2,  -999.00,9,    29.02,2,     0.00,2,     2.04,2, -999.000,9, -999.000,9,  -999.00,9,   2202.1,2,   -999.0,9,-999.0000,9,   -999.0,  9,     7.72,2,   -999.0,  -999.00,9,  -999.00,9,  -999.00,9,  -999.00,9,   -999.0,-999.0000, -999,9,  399,   9.0466,  26.8481,   -999.0,9
       KS04-06, EQPAC,KS-1093,  1,     12,02-16018,2,20040722,1009,  0.0247, 148.9997, 5767,    503.6,   7.6864,  34.5860,2,   -999.0,9,  34.5877,2,    117.0,2,    35.02,2,  -999.00,9,    31.74,2,     0.00,2,     2.23,2, -999.000,9, -999.000,9,  -999.00,9,   -999.0,9,   -999.0,9,-999.0000,9,   -999.0,  9,     7.69,2,   -999.0,  -999.00,9,  -999.00,9,  -999.00,9,  -999.00,9,   -999.0,-999.0000, -999,9,  500,   7.6359,  27.0024,   -999.0,9
       KS04-06, EQPAC,KS-1093,  1,     11,02-16017,2,20040722,1006,  0.0247, 148.9997, 5767,    603.0,   6.7557,  34.5498,2,   -999.0,9,  34.5514,2,    117.0,2,    42.47,2,  -999.00,9,    33.69,2,     0.00,2,     2.38,2, -999.000,9, -999.000,9,  -999.00,9,   2229.5,2,   -999.0,9,-999.0000,9,   -999.0,  9,     7.66,2,   -999.0,  -999.00,9,  -999.00,9,  -999.00,9,  -999.00,9,   -999.0,-999.0000, -999,9,  599,   6.6991,  27.1053,   -999.0,9
       KS04-06, EQPAC,KS-1093,  1,     10,02-16016,2,20040722,1001,  0.0247, 148.9997, 5767,    802.9,   5.2182,  34.5346,2,   -999.0,9,  34.5349,2,    111.0,2,    66.02,2,  -999.00,9,    36.60,2,     0.00,2,     2.61,2, -999.000,9, -999.000,9,  -999.00,9,   2277.5,2,   -999.0,9,-999.0000,9,   -999.0,  9,     7.63,2,   -999.0,  -999.00,9,  -999.00,9,  -999.00,9,  -999.00,9,   -999.0,-999.0000, -999,9,  797,   5.1511,  27.2887,   -999.0,9
       KS04-06, EQPAC,KS-1093,  1,      9,02-16015,2,20040722,0956,  0.0247, 148.9997, 5767,   1004.1,   4.4309,  34.5538,2,   -999.0,9,  34.5527,2,    102.0,2,    85.02,2,  -999.00,9,    38.15,2,     0.00,2,     2.73,2, -999.000,9, -999.000,9,  -999.00,9,   2291.2,2,   -999.0,9,-999.0000,9,   -999.0,  9,     7.61,2,   -999.0,  -999.00,9,  -999.00,9,  -999.00,9,  -999.00,9,   -999.0,-999.0000, -999,9,  996,   4.3515,  27.3940,   -999.0,9
       KS04-06, EQPAC,KS-1093,  1,      8,02-16014,2,20040722,0948,  0.0247, 148.9997, 5767,   1259.4,   3.7044,  34.5754,2,   -999.0,9,  34.5755,2,    103.0,2,   100.03,2,  -999.00,9,    38.83,2,     0.00,2,     2.75,2, -999.000,9, -999.000,9,  -999.00,9,   2307.8,2,   -999.0,9,-999.0000,9,   -999.0,  9,     7.60,2,   -999.0,  -999.00,9,  -999.00,9,  -999.00,9,  -999.00,9,   -999.0,-999.0000, -999,9, 1249,   3.6094,  27.4880,   -999.0,9
       KS04-06, EQPAC,KS-1093,  1,      7,02-16013,2,20040722,0942,  0.0247, 148.9997, 5767,   1512.9,   3.0257,  34.6018,2,   -999.0,9,  34.6014,2,    105.0,2,   115.90,2,  -999.00,9,    39.02,2,     0.00,2,     2.76,2, -999.000,9, -999.000,9,  -999.00,9,   2324.8,2,   -999.0,9,-999.0000,9,   -999.0,  9,     7.60,2,   -999.0,  -999.00,9,  -999.00,9,  -999.00,9,  -999.00,9,   -999.0,-999.0000, -999,9, 1499,   2.9164,  27.5748,   -999.0,9
       KS04-06, EQPAC,KS-1093,  1,      6,02-16012,2,20040722,0931,  0.0247, 148.9997, 5767,   2019.2,   2.1736,  34.6412,2,   -999.0,9,  34.6413,2,    122.0,2,   133.44,2,  -999.00,9,    38.24,2,     0.00,2,     2.67,2, -999.000,9, -999.000,9,  -999.00,9,   2334.7,2,   -999.0,9,-999.0000,9,   -999.0,  9,     7.63,2,   -999.0,  -999.00,9,  -999.00,9,  -999.00,9,  -999.00,9,   -999.0,-999.0000, -999,9, 1998,   2.0329,  27.6816,   -999.0,9
       KS04-06, EQPAC,KS-1093,  1,      5,02-16011,2,20040722,0919,  0.0247, 148.9997, 5767,   2526.0,   1.7587,  34.6629,2,   -999.0,9,  34.6618,2,    137.0,2,   140.97,2,  -999.00,9,    37.46,2,     0.00,2,     2.59,2, -999.000,9, -999.000,9,  -999.00,9,   -999.0,9,   -999.0,9,-999.0000,9,   -999.0,  9,     7.65,2,   -999.0,  -999.00,9,  -999.00,9,  -999.00,9,  -999.00,9,   -999.0,-999.0000, -999,9, 2497,   1.5805,  27.7338,   -999.0,9
       KS04-06, EQPAC,KS-1093,  1,      4,02-16010,2,20040722,0908,  0.0247, 148.9997, 5767,   3036.1,   1.6003,  34.6741,2,   -999.0,9,  34.6739,2,    146.0,2,   141.57,2,  -999.00,9,    36.88,2,     0.00,2,     2.53,2, -999.000,9, -999.000,9,  -999.00,9,   -999.0,9,   -999.0,9,-999.0000,9,   -999.0,  9,     7.67,2,   -999.0,  -999.00,9,  -999.00,9,  -999.00,9,  -999.00,9,   -999.0,-999.0000, -999,9, 2998,   1.3778,  27.7575,   -999.0,9
       KS04-06, EQPAC,KS-1093,  1,      3,02-16009,2,20040722,0858,  0.0247, 148.9997, 5767,   3548.7,   1.5613,  34.6804,2,   -999.0,9,  34.6806,2,    151.0,2,   139.48,2,  -999.00,9,    36.49,2,     0.00,2,     2.50,2, -999.000,9, -999.000,9,  -999.00,9,   -999.0,9,   -999.0,9,-999.0000,9,   -999.0,  9,     7.68,2,   -999.0,  -999.00,9,  -999.00,9,  -999.00,9,  -999.00,9,   -999.0,-999.0000, -999,9, 3500,   1.2886,  27.7689,   -999.0,9
       KS04-06, EQPAC,KS-1093,  1,      2,02-16008,2,20040722,0848,  0.0247, 148.9997, 5767,   4058.3,   1.5236,  34.6868,2,   -999.0,9,  34.6853,2,    157.0,2,   139.47,2,  -999.00,9,    36.29,2,     0.00,2,     2.47,2, -999.000,9, -999.000,9,  -999.00,9,   -999.0,9,   -999.0,9,-999.0000,9,   -999.0,  9,     7.69,2,   -999.0,  -999.00,9,  -999.00,9,  -999.00,9,  -999.00,9,   -999.0,-999.0000, -999,9, 3998,   1.1976,  27.7803,   -999.0,9
       KS04-06, EQPAC,KS-1093,  1,      1,02-16007,2,20040722,0841,  0.0247, 148.9997, 5767,   4366.4,   1.5368,  34.6882,2,   -999.0,9,  34.6863,2,    159.0,2,   139.27,2,  -999.00,9,    36.00,2,     0.00,2,     2.46,2, -999.000,9, -999.000,9,  -999.00,9,   -999.0,9,   -999.0,9,-999.0000,9,   -999.0,  9,     7.69,2,   -999.0,  -999.00,9,  -999.00,9,  -999.00,9,  -999.00,9,   -999.0,-999.0000, -999,9, 4298,   1.1760,  27.7829,   -999.0,9