BOTTLE,20130510GEMDJMAYT
EXPOCODE,SECT_ID,STNNBR,CASTNO,SAMPNO,BTLNBR,BTLNBR_FLAG_W,DATE,TIME,LATITUDE,LONGITUDE,DEPTH,CTDPRS,CTDTMP,CTDSAL,CTDSAL_FLAG_W,CTDOXY,CTDOXY_FLAG_W,SALNTY,SALNTY_FLAG_W,OXYGEN,OXYGEN_FLAG_W,SILCAT,SILCAT_FLAG_W,NITRAT,NITRAT_FLAG_W,NO2+NO3,NO2+NO3_FLAG_W,NITRIT,NITRIT_FLAG_W,PHSPHT,PHSPHT_FLAG_W,CFC-11,CFC-11_FLAG_W,CFC-12,CFC-12_FLAG_W,DELC13,DELC13_FLAG_W,TCARBN,TCARBN_FLAG_W,ALKALI,ALKALI_FLAG_W,PH,PH_FLAG_W,PH_TMP,PH_SCALE,PH_NBS,PH_NBS_FLAG_W,C13ERR,TOTALP,TOTALP_FLAG_W,AMMONI,AMMONI_FLAG_W,CHLORA,CHLORA_FLAG_W,PPHYTN,PPHYTN_FLAG_W,REVPRS,REVTMP,DEPTH_,DEPTH_FLAG,CTDDEP,THETA,SIGTHT,DOC,DOC_FLAG_W
,,,,,,,GMT,GMT,,,METER,DBAR,ITS-90,PSS-78,,UMOL/KG,,PSS-78,,UMOL/KG,,UMOL/KG,,UMOL/KG,,UMOL/KG,,UMOL/KG,,UMOL/KG,,PMOL/KG,,PMOL/KG,,/MILLE,,UMOL/KG,,UMOL/KG,,25_DEG_C,,DEG_C,,,,/MILLE,UMOL/KG,,UMOL/KG,,UG/L,,UG/L,,DBAR,ITS-90,METERS,,METERS,DEG_C,,UMOL/L,
       KS04-06,  NONE,KS-1109,  1,     24,02-16030,2,20040727,0628, 14.0023, 149.3175, 5827,      5.2,  29.7188,  34.3149,2,   -999.0,9,  34.3168,4,   -999.0,9,  -999.00,9,  -999.00,9,  -999.00,9,  -999.00,9,  -999.00,9, -999.000,9, -999.000,9,  -999.00,9,   -999.0,9,   -999.0,9,-999.0000,9,   -999.0,  9,  -999.00,9,   -999.0,  -999.00,9,  -999.00,9,  -999.00,9,  -999.00,9,   -999.0,-999.0000, -999,9,    5,  29.7175,  21.3086,   -999.0,9
       KS04-06,  NONE,KS-1109,  1,     23,02-16029,9,20040727,0627, 14.0023, 149.3175, 5827,     10.6,  29.4974,  34.3583,2,   -999.0,9,-999.0000,9,   -999.0,9,  -999.00,9,  -999.00,9,  -999.00,9,  -999.00,9,  -999.00,9, -999.000,9, -999.000,9,  -999.00,9,   -999.0,9,   -999.0,9,-999.0000,9,   -999.0,  9,  -999.00,9,   -999.0,  -999.00,9,  -999.00,9,  -999.00,9,  -999.00,9,   -999.0,-999.0000, -999,9,   11,  29.4948,  21.4164,   -999.0,9
       KS04-06,  NONE,KS-1109,  1,     22,02-10977,9,20040727,0620, 14.0023, 149.3175, 5827,     25.0,  29.2569,  34.5731,2,   -999.0,9,-999.0000,9,   -999.0,9,  -999.00,9,  -999.00,9,  -999.00,9,  -999.00,9,  -999.00,9, -999.000,9, -999.000,9,  -999.00,9,   -999.0,9,   -999.0,9,-999.0000,9,   -999.0,  9,  -999.00,9,   -999.0,  -999.00,9,  -999.00,9,  -999.00,9,  -999.00,9,   -999.0,-999.0000, -999,9,   25,  29.2508,  21.6596,   -999.0,9
       KS04-06,  NONE,KS-1109,  1,     21,02-16027,9,20040727,0614, 14.0023, 149.3175, 5827,     50.6,  29.0716,  34.5832,2,   -999.0,9,-999.0000,9,   -999.0,9,  -999.00,9,  -999.00,9,  -999.00,9,  -999.00,9,  -999.00,9, -999.000,9, -999.000,9,  -999.00,9,   -999.0,9,   -999.0,9,-999.0000,9,   -999.0,  9,  -999.00,9,   -999.0,  -999.00,9,  -999.00,9,  -999.00,9,  -999.00,9,   -999.0,-999.0000, -999,9,   50,  29.0594,  21.7313,   -999.0,9
       KS04-06,  NONE,KS-1109,  1,     20,02-16026,9,20040727,0613, 14.0023, 149.3175, 5827,     75.5,  27.7879,  34.7491,2,   -999.0,9,-999.0000,9,   -999.0,9,  -999.00,9,  -999.00,9,  -999.00,9,  -999.00,9,  -999.00,9, -999.000,9, -999.000,9,  -999.00,9,   -999.0,9,   -999.0,9,-999.0000,9,   -999.0,  9,  -999.00,9,   -999.0,  -999.00,9,  -999.00,9,  -999.00,9,  -999.00,9,   -999.0,-999.0000, -999,9,   75,  27.7702,  22.2808,   -999.0,9
       KS04-06,  NONE,KS-1109,  1,     19,02-16025,2,20040727,0612, 14.0023, 149.3175, 5827,    100.8,  26.8443,  34.8841,2,   -999.0,9,  34.8890,4,   -999.0,9,  -999.00,9,  -999.00,9,  -999.00,9,  -999.00,9,  -999.00,9, -999.000,9, -999.000,9,  -999.00,9,   -999.0,9,   -999.0,9,-999.0000,9,   -999.0,  9,  -999.00,9,   -999.0,  -999.00,9,  -999.00,9,  -999.00,9,  -999.00,9,   -999.0,-999.0000, -999,9,  100,  26.8213,  22.6874,   -999.0,9
       KS04-06,  NONE,KS-1109,  1,     18,02-16024,9,20040727,0612, 14.0023, 149.3175, 5827,    125.0,  25.7647,  35.1020,2,   -999.0,9,-999.0000,9,   -999.0,9,  -999.00,9,  -999.00,9,  -999.00,9,  -999.00,9,  -999.00,9, -999.000,9, -999.000,9,  -999.00,9,   -999.0,9,   -999.0,9,-999.0000,9,   -999.0,  9,  -999.00,9,   -999.0,  -999.00,9,  -999.00,9,  -999.00,9,  -999.00,9,   -999.0,-999.0000, -999,9,  124,  25.7370,  23.1921,   -999.0,9
       KS04-06,  NONE,KS-1109,  1,     17,02-16023,9,20040727,0611, 14.0023, 149.3175, 5827,    151.3,  23.6630,  35.2192,2,   -999.0,9,-999.0000,9,   -999.0,9,  -999.00,9,  -999.00,9,  -999.00,9,  -999.00,9,  -999.00,9, -999.000,9, -999.000,9,  -999.00,9,   -999.0,9,   -999.0,9,-999.0000,9,   -999.0,  9,  -999.00,9,   -999.0,  -999.00,9,  -999.00,9,  -999.00,9,  -999.00,9,   -999.0,-999.0000, -999,9,  150,  23.6314,  23.9160,   -999.0,9
       KS04-06,  NONE,KS-1109,  1,     16,02-16022,2,20040727,0609, 14.0023, 149.3175, 5827,    202.2,  19.9463,  34.9852,2,   -999.0,9,  34.9886,4,   -999.0,9,  -999.00,9,  -999.00,9,  -999.00,9,  -999.00,9,  -999.00,9, -999.000,9, -999.000,9,  -999.00,9,   -999.0,9,   -999.0,9,-999.0000,9,   -999.0,  9,  -999.00,9,   -999.0,  -999.00,9,  -999.00,9,  -999.00,9,  -999.00,9,   -999.0,-999.0000, -999,9,  201,  19.9090,  24.7744,   -999.0,9
       KS04-06,  NONE,KS-1109,  1,     15,02-16021,9,20040727,0609, 14.0023, 149.3175, 5827,    302.6,  13.3155,  34.4194,2,   -999.0,9,-999.0000,9,   -999.0,9,  -999.00,9,  -999.00,9,  -999.00,9,  -999.00,9,  -999.00,9, -999.000,9, -999.000,9,  -999.00,9,   -999.0,9,   -999.0,9,-999.0000,9,   -999.0,  9,  -999.00,9,   -999.0,  -999.00,9,  -999.00,9,  -999.00,9,  -999.00,9,   -999.0,-999.0000, -999,9,  301,  13.2733,  25.8881,   -999.0,9
       KS04-06,  NONE,KS-1109,  1,     14,02-16020,2,20040727,0607, 14.0023, 149.3175, 5827,    302.6,  13.3155,  34.4194,2,   -999.0,9,  34.4241,4,   -999.0,9,  -999.00,9,  -999.00,9,  -999.00,9,  -999.00,9,  -999.00,9, -999.000,9, -999.000,9,  -999.00,9,   -999.0,9,   -999.0,9,-999.0000,9,   -999.0,  9,  -999.00,9,   -999.0,  -999.00,9,  -999.00,9,  -999.00,9,  -999.00,9,   -999.0,-999.0000, -999,9,  301,  13.2733,  25.8881,   -999.0,9
       KS04-06,  NONE,KS-1109,  1,     13,02-16019,2,20040727,0605, 14.0023, 149.3175, 5827,    404.1,   9.3532,  34.3464,2,   -999.0,9,  34.3480,2,   -999.0,9,  -999.00,9,  -999.00,9,  -999.00,9,  -999.00,9,  -999.00,9, -999.000,9, -999.000,9,  -999.00,9,   -999.0,9,   -999.0,9,-999.0000,9,   -999.0,  9,  -999.00,9,   -999.0,  -999.00,9,  -999.00,9,  -999.00,9,  -999.00,9,   -999.0,-999.0000, -999,9,  401,   9.3081,  26.5566,   -999.0,9
       KS04-06,  NONE,KS-1109,  1,     12,02-16018,2,20040727,0603, 14.0023, 149.3175, 5827,    503.6,   7.6726,  34.3941,2,   -999.0,9,  34.2368,4,   -999.0,9,  -999.00,9,  -999.00,9,  -999.00,9,  -999.00,9,  -999.00,9, -999.000,9, -999.000,9,  -999.00,9,   -999.0,9,   -999.0,9,-999.0000,9,   -999.0,  9,  -999.00,9,   -999.0,  -999.00,9,  -999.00,9,  -999.00,9,  -999.00,9,   -999.0,-999.0000, -999,9,  500,   7.6223,  26.8535,   -999.0,9
       KS04-06,  NONE,KS-1109,  1,     11,02-16017,2,20040727,0601, 14.0023, 149.3175, 5827,    604.5,   6.5761,  34.4354,2,   -999.0,9,  34.4353,2,   -999.0,9,  -999.00,9,  -999.00,9,  -999.00,9,  -999.00,9,  -999.00,9, -999.000,9, -999.000,9,  -999.00,9,   -999.0,9,   -999.0,9,-999.0000,9,   -999.0,  9,  -999.00,9,   -999.0,  -999.00,9,  -999.00,9,  -999.00,9,  -999.00,9,   -999.0,-999.0000, -999,9,  600,   6.5203,  27.0389,   -999.0,9
       KS04-06,  NONE,KS-1109,  1,     10,02-16016,2,20040727,0559, 14.0023, 149.3175, 5827,    704.2,   5.9028,  34.4723,2,   -999.0,9,  34.4724,2,   -999.0,9,  -999.00,9,  -999.00,9,  -999.00,9,  -999.00,9,  -999.00,9, -999.000,9, -999.000,9,  -999.00,9,   -999.0,9,   -999.0,9,-999.0000,9,   -999.0,  9,  -999.00,9,   -999.0,  -999.00,9,  -999.00,9,  -999.00,9,  -999.00,9,   -999.0,-999.0000, -999,9,  699,   5.8408,  27.1558,   -999.0,9
       KS04-06,  NONE,KS-1109,  1,      9,02-16015,2,20040727,0557, 14.0023, 149.3175, 5827,    806.9,   5.4177,  34.4958,2,   -999.0,9,  34.4962,2,   -999.0,9,  -999.00,9,  -999.00,9,  -999.00,9,  -999.00,9,  -999.00,9, -999.000,9, -999.000,9,  -999.00,9,   -999.0,9,   -999.0,9,-999.0000,9,   -999.0,  9,  -999.00,9,   -999.0,  -999.00,9,  -999.00,9,  -999.00,9,  -999.00,9,   -999.0,-999.0000, -999,9,  801,   5.3490,  27.2345,   -999.0,9
       KS04-06,  NONE,KS-1109,  1,      8,02-16014,2,20040727,0555, 14.0023, 149.3175, 5827,    906.6,   4.9492,  34.5122,2,   -999.0,9,  34.5131,2,   -999.0,9,  -999.00,9,  -999.00,9,  -999.00,9,  -999.00,9,  -999.00,9, -999.000,9, -999.000,9,  -999.00,9,   -999.0,9,   -999.0,9,-999.0000,9,   -999.0,  9,  -999.00,9,   -999.0,  -999.00,9,  -999.00,9,  -999.00,9,  -999.00,9,   -999.0,-999.0000, -999,9,  899,   4.8746,  27.3029,   -999.0,9
       KS04-06,  NONE,KS-1109,  1,      7,02-16013,2,20040727,0553, 14.0023, 149.3175, 5827,   1007.6,   4.4173,  34.5307,2,   -999.0,9,  34.5309,2,   -999.0,9,  -999.00,9,  -999.00,9,  -999.00,9,  -999.00,9,  -999.00,9, -999.000,9, -999.000,9,  -999.00,9,   -999.0,9,   -999.0,9,-999.0000,9,   -999.0,  9,  -999.00,9,   -999.0,  -999.00,9,  -999.00,9,  -999.00,9,  -999.00,9,   -999.0,-999.0000, -999,9,  999,   4.3377,  27.3772,   -999.0,9
       KS04-06,  NONE,KS-1109,  1,      6,02-16012,2,20040727,0548, 14.0023, 149.3175, 5827,   1259.3,   3.5376,  34.5611,2,   -999.0,9,  34.5602,2,   -999.0,9,  -999.00,9,  -999.00,9,  -999.00,9,  -999.00,9,  -999.00,9, -999.000,9, -999.000,9,  -999.00,9,   -999.0,9,   -999.0,9,-999.0000,9,   -999.0,  9,  -999.00,9,   -999.0,  -999.00,9,  -999.00,9,  -999.00,9,  -999.00,9,   -999.0,-999.0000, -999,9, 1248,   3.4442,  27.4929,   -999.0,9
       KS04-06,  NONE,KS-1109,  1,      5,02-16011,2,20040727,0544, 14.0023, 149.3175, 5827,   1512.4,   2.8959,  34.5873,2,   -999.0,9,  34.5881,2,   -999.0,9,  -999.00,9,  -999.00,9,  -999.00,9,  -999.00,9,  -999.00,9, -999.000,9, -999.000,9,  -999.00,9,   -999.0,9,   -999.0,9,-999.0000,9,   -999.0,  9,  -999.00,9,   -999.0,  -999.00,9,  -999.00,9,  -999.00,9,  -999.00,9,   -999.0,-999.0000, -999,9, 1498,   2.7882,  27.5747,   -999.0,9
       KS04-06,  NONE,KS-1109,  1,      4,02-16010,2,20040727,0540, 14.0023, 149.3175, 5827,   1764.5,   2.4473,  34.6099,2,   -999.0,9,  34.6105,2,   -999.0,9,  -999.00,9,  -999.00,9,  -999.00,9,  -999.00,9,  -999.00,9, -999.000,9, -999.000,9,  -999.00,9,   -999.0,9,   -999.0,9,-999.0000,9,   -999.0,  9,  -999.00,9,   -999.0,  -999.00,9,  -999.00,9,  -999.00,9,  -999.00,9,   -999.0,-999.0000, -999,9, 1747,   2.3242,  27.6328,   -999.0,9
       KS04-06,  NONE,KS-1109,  1,      3,02-16009,9,20040727,0535, 14.0023, 149.3175, 5827,   2020.3,   2.1582,  34.6293,2,   -999.0,9,-999.0000,9,   -999.0,9,  -999.00,9,  -999.00,9,  -999.00,9,  -999.00,9,  -999.00,9, -999.000,9, -999.000,9,  -999.00,9,   -999.0,9,   -999.0,9,-999.0000,9,   -999.0,  9,  -999.00,9,   -999.0,  -999.00,9,  -999.00,9,  -999.00,9,  -999.00,9,   -999.0,-999.0000, -999,9, 1999,   2.0176,  27.6732,   -999.0,9
       KS04-06,  NONE,KS-1109,  1,      2,02-16008,9,20040727,0535, 14.0023, 149.3175, 5827,   2020.6,   2.1572,  34.6292,2,   -999.0,9,-999.0000,9,   -999.0,9,  -999.00,9,  -999.00,9,  -999.00,9,  -999.00,9,  -999.00,9, -999.000,9, -999.000,9,  -999.00,9,   -999.0,9,   -999.0,9,-999.0000,9,   -999.0,  9,  -999.00,9,   -999.0,  -999.00,9,  -999.00,9,  -999.00,9,  -999.00,9,   -999.0,-999.0000, -999,9, 1999,   2.0166,  27.6733,   -999.0,9
       KS04-06,  NONE,KS-1109,  1,      1,02-16007,2,20040727,0535, 14.0023, 149.3175, 5827,   2020.0,   2.1563,  34.6293,2,   -999.0,9,  34.6284,2,   -999.0,9,  -999.00,9,  -999.00,9,  -999.00,9,  -999.00,9,  -999.00,9, -999.000,9, -999.000,9,  -999.00,9,   -999.0,9,   -999.0,9,-999.0000,9,   -999.0,  9,  -999.00,9,   -999.0,  -999.00,9,  -999.00,9,  -999.00,9,  -999.00,9,   -999.0,-999.0000, -999,9, 1999,   2.0158,  27.6734,   -999.0,9