BOTTLE,20130510GEMDJMAYT
EXPOCODE,SECT_ID,STNNBR,CASTNO,SAMPNO,BTLNBR,BTLNBR_FLAG_W,DATE,TIME,LATITUDE,LONGITUDE,DEPTH,CTDPRS,CTDTMP,CTDSAL,CTDSAL_FLAG_W,CTDOXY,CTDOXY_FLAG_W,SALNTY,SALNTY_FLAG_W,OXYGEN,OXYGEN_FLAG_W,SILCAT,SILCAT_FLAG_W,NITRAT,NITRAT_FLAG_W,NO2+NO3,NO2+NO3_FLAG_W,NITRIT,NITRIT_FLAG_W,PHSPHT,PHSPHT_FLAG_W,CFC-11,CFC-11_FLAG_W,CFC-12,CFC-12_FLAG_W,DELC13,DELC13_FLAG_W,TCARBN,TCARBN_FLAG_W,ALKALI,ALKALI_FLAG_W,PH,PH_FLAG_W,PH_TMP,PH_SCALE,PH_NBS,PH_NBS_FLAG_W,C13ERR,TOTALP,TOTALP_FLAG_W,AMMONI,AMMONI_FLAG_W,CHLORA,CHLORA_FLAG_W,PPHYTN,PPHYTN_FLAG_W,REVPRS,REVTMP,DEPTH_,DEPTH_FLAG,CTDDEP,THETA,SIGTHT,DOC,DOC_FLAG_W
,,,,,,,GMT,GMT,,,METER,DBAR,ITS-90,PSS-78,,UMOL/KG,,PSS-78,,UMOL/KG,,UMOL/KG,,UMOL/KG,,UMOL/KG,,UMOL/KG,,UMOL/KG,,PMOL/KG,,PMOL/KG,,/MILLE,,UMOL/KG,,UMOL/KG,,25_DEG_C,,DEG_C,,,,/MILLE,UMOL/KG,,UMOL/KG,,UG/L,,UG/L,,DBAR,ITS-90,METERS,,METERS,DEG_C,,UMOL/L,
       KS04-06, EQPAC,KS-1091,  1,     24,02-16030,2,20040721,0845,  0.0285, 153.0007, 4202,      5.3,  29.5964,  34.0799,2,   -999.0,9,  34.0823,2,    199.0,2,     1.31,2,  -999.00,9,     0.00,2,     0.00,2,     0.02,2, -999.000,9, -999.000,9,  -999.00,9,   1897.6,2,   -999.0,9,-999.0000,9,   -999.0,  9,  -999.00,9,   -999.0,  -999.00,9,  -999.00,9,     0.08,2,     0.05,2,   -999.0,-999.0000, -999,9,    5,  29.5951,  21.1738,   -999.0,9
       KS04-06, EQPAC,KS-1091,  1,     23,02-16029,2,20040721,0844,  0.0285, 153.0007, 4202,      9.2,  29.5969,  34.0797,2,   -999.0,9,-999.0000,9,    199.0,2,     1.29,2,  -999.00,9,     0.00,2,     0.00,2,     0.02,2, -999.000,9, -999.000,9,  -999.00,9,   -999.0,9,   -999.0,9,-999.0000,9,   -999.0,  9,  -999.00,9,   -999.0,  -999.00,9,  -999.00,9,     0.09,2,     0.06,2,   -999.0,-999.0000, -999,9,    9,  29.5947,  21.1738,   -999.0,9
       KS04-06, EQPAC,KS-1091,  1,     22,02-10977,2,20040721,0840,  0.0285, 153.0007, 4202,     51.6,  29.5831,  34.4601,2,   -999.0,9,-999.0000,9,    196.0,2,     1.13,2,  -999.00,9,     0.00,2,     0.00,2,     0.10,2, -999.000,9, -999.000,9,  -999.00,9,   -999.0,9,   -999.0,9,-999.0000,9,   -999.0,  9,  -999.00,9,   -999.0,  -999.00,9,  -999.00,9,     0.08,2,     0.08,2,   -999.0,-999.0000, -999,9,   51,  29.5705,  21.4673,   -999.0,9
       KS04-06, EQPAC,KS-1091,  1,     21,02-16027,2,20040721,0838,  0.0285, 153.0007, 4202,     76.5,  29.0308,  35.1381,2,   -999.0,9,-999.0000,9,    186.0,2,     1.39,2,  -999.00,9,     1.37,2,     0.41,2,     0.30,2, -999.000,9, -999.000,9,  -999.00,9,   -999.0,9,   -999.0,9,-999.0000,9,   -999.0,  9,  -999.00,9,   -999.0,  -999.00,9,  -999.00,9,     0.18,2,     0.46,2,   -999.0,-999.0000, -999,9,   76,  29.0123,  22.1637,   -999.0,9
       KS04-06, EQPAC,KS-1091,  1,     20,02-16026,2,20040721,0837,  0.0285, 153.0007, 4202,    101.0,  27.6991,  35.3113,2,   -999.0,9,  35.3346,4,    163.0,2,     2.27,2,  -999.00,9,     5.28,2,     0.35,2,     0.53,2, -999.000,9, -999.000,9,  -999.00,9,   -999.0,9,   -999.0,9,-999.0000,9,   -999.0,  9,  -999.00,9,   -999.0,  -999.00,9,  -999.00,9,     0.12,2,     0.49,2,   -999.0,-999.0000, -999,9,  100,  27.6755,  22.7346,   -999.0,9
       KS04-06, EQPAC,KS-1091,  1,     19,02-16025,2,20040721,0835,  0.0285, 153.0007, 4202,    151.3,  22.3347,  35.6372,2,   -999.0,9,-999.0000,9,    137.0,2,     3.24,2,  -999.00,9,     9.27,2,     0.01,2,     0.78,2, -999.000,9, -999.000,9,  -999.00,9,   -999.0,9,   -999.0,9,-999.0000,9,   -999.0,  9,  -999.00,9,   -999.0,  -999.00,9,  -999.00,9,     0.01,2,     0.03,2,   -999.0,-999.0000, -999,9,  150,  22.3044,  24.6162,   -999.0,9
       KS04-06, EQPAC,KS-1091,  1,     18,02-16024,2,20040721,0833,  0.0285, 153.0007, 4202,    200.1,  16.3502,  35.2826,2,   -999.0,9,  35.2859,2,    144.0,2,     7.08,2,  -999.00,9,    13.94,2,     0.01,2,     1.07,2, -999.000,9, -999.000,9,  -999.00,9,   -999.0,9,   -999.0,9,-999.0000,9,   -999.0,  9,  -999.00,9,   -999.0,  -999.00,9,  -999.00,9,     0.00,2,     0.01,2,   -999.0,-999.0000, -999,9,  199,  16.3180,  25.8916,   -999.0,9
       KS04-06, EQPAC,KS-1091,  1,     17,02-16023,2,20040721,0830,  0.0285, 153.0007, 4202,    302.5,  11.5544,  34.8580,2,   -999.0,9,  34.8196,4,    142.0,2,    16.73,2,  -999.00,9,    21.43,2,     0.00,2,     1.54,2, -999.000,9, -999.000,9,  -999.00,9,   -999.0,9,   -999.0,9,-999.0000,9,   -999.0,  9,  -999.00,9,   -999.0,  -999.00,9,  -999.00,9,     0.00,2,     0.01,2,   -999.0,-999.0000, -999,9,  301,  11.5158,  26.5702,   -999.0,9
       KS04-06, EQPAC,KS-1091,  1,     16,02-16022,2,20040721,0826,  0.0285, 153.0007, 4202,    404.4,   9.5290,  34.6939,2,   -999.0,9,  34.6942,2,     92.0,2,    28.83,2,  -999.00,9,    30.48,2,     0.00,2,     2.13,2, -999.000,9, -999.000,9,  -999.00,9,   -999.0,9,   -999.0,9,-999.0000,9,   -999.0,  9,  -999.00,9,   -999.0,  -999.00,9,  -999.00,9,  -999.00,9,  -999.00,9,   -999.0,-999.0000, -999,9,  402,   9.4831,  26.7998,   -999.0,9
       KS04-06, EQPAC,KS-1091,  1,     15,02-16021,3,20040721,0821,  0.0285, 153.0007, 4202,    502.1,   7.7478,  34.5844,2,   -999.0,9,  34.5873,2,    113.0,2,    37.39,2,  -999.00,9,    32.04,2,     0.00,2,     2.26,2, -999.000,9, -999.000,9,  -999.00,9,   -999.0,9,   -999.0,9,-999.0000,9,   -999.0,  9,  -999.00,9,   -999.0,  -999.00,9,  -999.00,9,  -999.00,9,  -999.00,9,   -999.0,-999.0000, -999,9,  499,   7.6972,  26.9922,   -999.0,9
       KS04-06, EQPAC,KS-1091,  1,     14,02-16020,2,20040721,0819,  0.0285, 153.0007, 4202,    603.9,   6.9795,  34.5634,2,   -999.0,9,  34.5626,2,     98.0,2,    44.59,2,  -999.00,9,    35.15,2,     0.00,2,     2.48,2, -999.000,9, -999.000,9,  -999.00,9,   -999.0,9,   -999.0,9,-999.0000,9,   -999.0,  9,  -999.00,9,   -999.0,  -999.00,9,  -999.00,9,  -999.00,9,  -999.00,9,   -999.0,-999.0000, -999,9,  600,   6.9218,  27.0856,   -999.0,9
       KS04-06, EQPAC,KS-1091,  1,     13,02-16019,2,20040721,0815,  0.0285, 153.0007, 4202,    703.2,   6.1665,  34.5428,2,   -999.0,9,  34.5435,2,     99.0,2,    53.72,2,  -999.00,9,    36.41,2,     0.00,2,     2.60,2, -999.000,9, -999.000,9,  -999.00,9,   -999.0,9,   -999.0,9,-999.0000,9,   -999.0,  9,  -999.00,9,   -999.0,  -999.00,9,  -999.00,9,  -999.00,9,  -999.00,9,   -999.0,-999.0000, -999,9,  698,   6.1031,  27.1782,   -999.0,9
       KS04-06, EQPAC,KS-1091,  1,     12,02-16018,2,20040721,0812,  0.0285, 153.0007, 4202,    803.7,   5.3940,  34.5332,2,   -999.0,9,  34.5335,2,    108.0,2,    62.18,2,  -999.00,9,    36.70,2,     0.00,2,     2.62,2, -999.000,9, -999.000,9,  -999.00,9,   -999.0,9,   -999.0,9,-999.0000,9,   -999.0,  9,  -999.00,9,   -999.0,  -999.00,9,  -999.00,9,  -999.00,9,  -999.00,9,   -999.0,-999.0000, -999,9,  798,   5.3257,  27.2669,   -999.0,9
       KS04-06, EQPAC,KS-1091,  1,     11,02-16017,2,20040721,0805,  0.0285, 153.0007, 4202,   1006.4,   4.4327,  34.5534,2,   -999.0,9,  34.5527,2,    103.0,2,    84.97,2,  -999.00,9,    38.15,2,     0.00,2,     2.73,2, -999.000,9, -999.000,9,  -999.00,9,   -999.0,9,   -999.0,9,-999.0000,9,   -999.0,  9,  -999.00,9,   -999.0,  -999.00,9,  -999.00,9,  -999.00,9,  -999.00,9,   -999.0,-999.0000, -999,9,  998,   4.3531,  27.3935,   -999.0,9
       KS04-06, EQPAC,KS-1091,  1,     10,02-16016,2,20040721,0745,  0.0285, 153.0007, 4202,   1511.6,   3.0413,  34.6008,2,   -999.0,9,  34.6007,2,    106.0,2,   116.53,2,  -999.00,9,    39.02,2,     0.00,2,     2.79,2, -999.000,9, -999.000,9,  -999.00,9,   -999.0,9,   -999.0,9,-999.0000,9,   -999.0,  9,  -999.00,9,   -999.0,  -999.00,9,  -999.00,9,  -999.00,9,  -999.00,9,   -999.0,-999.0000, -999,9, 1498,   2.9320,  27.5727,   -999.0,9
       KS04-06, EQPAC,KS-1091,  1,      9,02-16015,2,20040721,0733,  0.0285, 153.0007, 4202,   2020.0,   2.2568,  34.6375,2,   -999.0,9,  34.6372,2,    119.0,2,   132.29,2,  -999.00,9,    38.24,2,     0.00,2,     2.71,2, -999.000,9, -999.000,9,  -999.00,9,   -999.0,9,   -999.0,9,-999.0000,9,   -999.0,  9,  -999.00,9,   -999.0,  -999.00,9,  -999.00,9,  -999.00,9,  -999.00,9,   -999.0,-999.0000, -999,9, 1999,   2.1147,  27.6721,   -999.0,9
       KS04-06, EQPAC,KS-1091,  1,      8,02-16014,3,20040721,0727,  0.0285, 153.0007, 4202,   2273.2,   1.9947,  34.6502,2,   -999.0,9,  34.6500,2,    129.0,2,   134.12,2,  -999.00,9,    37.66,2,     0.00,2,     2.64,2, -999.000,9, -999.000,9,  -999.00,9,   -999.0,9,   -999.0,9,-999.0000,9,   -999.0,  9,  -999.00,9,   -999.0,  -999.00,9,  -999.00,9,  -999.00,9,  -999.00,9,   -999.0,-999.0000, -999,9, 2248,   1.8348,  27.7044,   -999.0,9
       KS04-06, EQPAC,KS-1091,  1,      7,02-16013,2,20040721,0720,  0.0285, 153.0007, 4202,   2527.0,   1.7540,  34.6629,2,   -999.0,9,  34.6625,2,    136.0,2,   140.56,2,  -999.00,9,    37.46,2,     0.00,2,     2.60,2, -999.000,9, -999.000,9,  -999.00,9,   -999.0,9,   -999.0,9,-999.0000,9,   -999.0,  9,  -999.00,9,   -999.0,  -999.00,9,  -999.00,9,  -999.00,9,  -999.00,9,   -999.0,-999.0000, -999,9, 2498,   1.5758,  27.7341,   -999.0,9
       KS04-06, EQPAC,KS-1091,  1,      6,02-16012,2,20040721,0714,  0.0285, 153.0007, 4202,   2783.2,   1.6508,  34.6696,2,   -999.0,9,  34.6692,2,    142.0,2,   141.23,2,  -999.00,9,    36.97,2,     0.00,2,     2.57,2, -999.000,9, -999.000,9,  -999.00,9,   -999.0,9,   -999.0,9,-999.0000,9,   -999.0,  9,  -999.00,9,   -999.0,  -999.00,9,  -999.00,9,  -999.00,9,  -999.00,9,   -999.0,-999.0000, -999,9, 2750,   1.4512,  27.7486,   -999.0,9
       KS04-06, EQPAC,KS-1091,  1,      5,02-16011,2,20040721,0707,  0.0285, 153.0007, 4202,   3037.6,   1.6218,  34.6730,2,   -999.0,9,  34.6726,2,    144.0,2,   140.99,2,  -999.00,9,    36.97,2,     0.00,2,     2.55,2, -999.000,9, -999.000,9,  -999.00,9,   -999.0,9,   -999.0,9,-999.0000,9,   -999.0,  9,  -999.00,9,   -999.0,  -999.00,9,  -999.00,9,  -999.00,9,  -999.00,9,   -999.0,-999.0000, -999,9, 2999,   1.3987,  27.7551,   -999.0,9
       KS04-06, EQPAC,KS-1091,  1,      4,02-16010,2,20040721,0701,  0.0285, 153.0007, 4202,   3292.5,   1.5771,  34.6774,2,   -999.0,9,  34.6765,2,    148.0,2,   142.17,2,  -999.00,9,    36.97,2,     0.00,2,     2.53,2, -999.000,9, -999.000,9,  -999.00,9,   -999.0,9,   -999.0,9,-999.0000,9,   -999.0,  9,  -999.00,9,   -999.0,  -999.00,9,  -999.00,9,  -999.00,9,  -999.00,9,   -999.0,-999.0000, -999,9, 3249,   1.3300,  27.7635,   -999.0,9
       KS04-06, EQPAC,KS-1091,  1,      3,02-16009,2,20040721,0654,  0.0285, 153.0007, 4202,   3548.1,   1.5562,  34.6805,2,   -999.0,9,  34.6798,2,    152.0,2,   140.77,2,  -999.00,9,    36.68,2,     0.00,2,     2.51,2, -999.000,9, -999.000,9,  -999.00,9,   -999.0,9,   -999.0,9,-999.0000,9,   -999.0,  9,  -999.00,9,   -999.0,  -999.00,9,  -999.00,9,  -999.00,9,  -999.00,9,   -999.0,-999.0000, -999,9, 3499,   1.2837,  27.7693,   -999.0,9
       KS04-06, EQPAC,KS-1091,  1,      2,02-16008,2,20040721,0639,  0.0285, 153.0007, 4202,   4058.0,   1.5313,  34.6860,2,   -999.0,9,  34.6838,2,    157.0,2,   140.87,2,  -999.00,9,    36.39,2,     0.00,2,     2.48,2, -999.000,9, -999.000,9,  -999.00,9,   -999.0,9,   -999.0,9,-999.0000,9,   -999.0,  9,  -999.00,9,   -999.0,  -999.00,9,  -999.00,9,  -999.00,9,  -999.00,9,   -999.0,-999.0000, -999,9, 3998,   1.2052,  27.7792,   -999.0,9
       KS04-06, EQPAC,KS-1091,  1,      1,02-16007,2,20040721,0635,  0.0285, 153.0007, 4202,   4213.1,   1.5297,  34.6874,2,   -999.0,9,  34.6857,2,    158.0,2,   139.19,2,  -999.00,9,    36.29,2,     0.00,2,     2.47,2, -999.000,9, -999.000,9,  -999.00,9,   -999.0,9,   -999.0,9,-999.0000,9,   -999.0,  9,  -999.00,9,   -999.0,  -999.00,9,  -999.00,9,  -999.00,9,  -999.00,9,   -999.0,-999.0000, -999,9, 4149,   1.1864,  27.7816,   -999.0,9