BOTTLE,20130510GEMDJMAYT
EXPOCODE,SECT_ID,STNNBR,CASTNO,SAMPNO,BTLNBR,BTLNBR_FLAG_W,DATE,TIME,LATITUDE,LONGITUDE,DEPTH,CTDPRS,CTDTMP,CTDSAL,CTDSAL_FLAG_W,CTDOXY,CTDOXY_FLAG_W,SALNTY,SALNTY_FLAG_W,OXYGEN,OXYGEN_FLAG_W,SILCAT,SILCAT_FLAG_W,NITRAT,NITRAT_FLAG_W,NO2+NO3,NO2+NO3_FLAG_W,NITRIT,NITRIT_FLAG_W,PHSPHT,PHSPHT_FLAG_W,CFC-11,CFC-11_FLAG_W,CFC-12,CFC-12_FLAG_W,DELC13,DELC13_FLAG_W,TCARBN,TCARBN_FLAG_W,ALKALI,ALKALI_FLAG_W,PH,PH_FLAG_W,PH_TMP,PH_SCALE,PH_NBS,PH_NBS_FLAG_W,C13ERR,TOTALP,TOTALP_FLAG_W,AMMONI,AMMONI_FLAG_W,CHLORA,CHLORA_FLAG_W,PPHYTN,PPHYTN_FLAG_W,REVPRS,REVTMP,DEPTH_,DEPTH_FLAG,CTDDEP,THETA,SIGTHT,DOC,DOC_FLAG_W
,,,,,,,GMT,GMT,,,METER,DBAR,ITS-90,PSS-78,,UMOL/KG,,PSS-78,,UMOL/KG,,UMOL/KG,,UMOL/KG,,UMOL/KG,,UMOL/KG,,UMOL/KG,,PMOL/KG,,PMOL/KG,,/MILLE,,UMOL/KG,,UMOL/KG,,25_DEG_C,,DEG_C,,,,/MILLE,UMOL/KG,,UMOL/KG,,UG/L,,UG/L,,DBAR,ITS-90,METERS,,METERS,DEG_C,,UMOL/L,
       KS04-06,  165E,KS-1046,  1,     24,02-16030,2,20040624,0709, 27.9887, 164.9867, 5655,      7.1,  25.3128,  35.2339,2,   -999.0,9,  35.2367,2,    212.0,2,     1.69,2,  -999.00,9,     0.00,2,     0.00,2,     0.00,2, -999.000,9, -999.000,9,  -999.00,9,   1990.9,2,   -999.0,9,-999.0000,9,   -999.0,  9,     8.19,2,   -999.0,  -999.00,9,  -999.00,9,     0.02,2,     0.02,2,   -999.0,-999.0000, -999,9,    7,  25.3112,  23.4229,   -999.0,9
       KS04-06,  165E,KS-1046,  1,     23,02-16029,2,20040624,0708, 27.9887, 164.9867, 5655,     11.4,  25.2997,  35.2281,2,   -999.0,9,-999.0000,9,    212.0,2,     1.69,2,  -999.00,9,     0.00,2,     0.00,2,     0.00,2, -999.000,9, -999.000,9,  -999.00,9,   1991.9,2,   -999.0,9,-999.0000,9,   -999.0,  9,     8.18,2,   -999.0,  -999.00,9,  -999.00,9,     0.04,2,     0.02,2,   -999.0,-999.0000, -999,9,   11,  25.2972,  23.4228,   -999.0,9
       KS04-06,  165E,KS-1046,  1,     22,02-10977,2,20040624,0707, 27.9887, 164.9867, 5655,     26.1,  23.3635,  35.1147,2,   -999.0,9,-999.0000,9,    224.0,2,     1.95,2,  -999.00,9,     0.00,2,     0.00,2,     0.00,2, -999.000,9, -999.000,9,  -999.00,9,   1995.9,2,   -999.0,9,-999.0000,9,   -999.0,  9,     8.17,2,   -999.0,  -999.00,9,  -999.00,9,     0.04,2,     0.03,2,   -999.0,-999.0000, -999,9,   26,  23.3581,  23.9168,   -999.0,9
       KS04-06,  165E,KS-1046,  1,     21,02-16027,2,20040624,0704, 27.9887, 164.9867, 5655,     48.9,  20.6853,  35.0086,2,   -999.0,9,-999.0000,9,    236.0,2,     2.11,2,  -999.00,9,     0.00,2,     0.00,2,     0.00,2, -999.000,9, -999.000,9,  -999.00,9,   1996.2,2,   -999.0,9,-999.0000,9,   -999.0,  9,     8.16,2,   -999.0,  -999.00,9,  -999.00,9,     0.05,2,     0.04,2,   -999.0,-999.0000, -999,9,   49,  20.6761,  24.5881,   -999.0,9
       KS04-06,  165E,KS-1046,  1,     20,02-16026,2,20040624,0703, 27.9887, 164.9867, 5655,     73.8,  19.4632,  35.0247,2,   -999.0,9,-999.0000,9,    230.0,2,     2.26,2,  -999.00,9,     0.00,2,     0.00,2,     0.03,2, -999.000,9, -999.000,9,  -999.00,9,   2005.8,2,   -999.0,9,-999.0000,9,   -999.0,  9,     8.13,2,   -999.0,  -999.00,9,  -999.00,9,     0.06,2,     0.08,2,   -999.0,-999.0000, -999,9,   73,  19.4498,  24.9244,   -999.0,9
       KS04-06,  165E,KS-1046,  1,     19,02-16025,2,20040624,0702, 27.9887, 164.9867, 5655,    100.7,  18.3269,  34.8866,2,   -999.0,9,  34.8857,2,    232.0,2,     2.42,2,  -999.00,9,     0.20,2,     0.08,2,     0.06,2, -999.000,9, -999.000,9,  -999.00,9,   2008.1,2,   -999.0,9,-999.0000,9,   -999.0,  9,     8.15,2,   -999.0,  -999.00,9,  -999.00,9,     0.18,2,     0.55,2,   -999.0,-999.0000, -999,9,  100,  18.3094,  25.1085,   -999.0,9
       KS04-06,  165E,KS-1046,  1,     18,02-16024,2,20040624,0701, 27.9887, 164.9867, 5655,    126.2,  18.0320,  34.8795,2,   -999.0,9,-999.0000,9,    224.0,2,     2.73,2,  -999.00,9,     1.85,2,     0.06,2,     0.14,2, -999.000,9, -999.000,9,  -999.00,9,   2014.9,2,   -999.0,9,-999.0000,9,   -999.0,  9,     8.12,2,   -999.0,  -999.00,9,  -999.00,9,     0.09,2,     0.32,2,   -999.0,-999.0000, -999,9,  125,  18.0104,  25.1772,   -999.0,9
       KS04-06,  165E,KS-1046,  1,     17,02-16023,2,20040624,0700, 27.9887, 164.9867, 5655,    152.7,  17.5412,  34.8286,2,   -999.0,9,-999.0000,9,    225.0,2,     3.10,2,  -999.00,9,     2.63,2,     0.01,2,     0.19,2, -999.000,9, -999.000,9,  -999.00,9,   2017.9,2,   -999.0,9,-999.0000,9,   -999.0,  9,     8.10,2,   -999.0,  -999.00,9,  -999.00,9,     0.03,2,     0.08,2,   -999.0,-999.0000, -999,9,  152,  17.5155,  25.2590,   -999.0,9
       KS04-06,  165E,KS-1046,  1,     16,02-16022,3,20040624,0656, 27.9887, 164.9867, 5655,    201.6,  16.7980,  34.7482,2,   -999.0,9,  34.7504,2,    224.0,2,     4.15,2,  -999.00,9,     3.90,2,     0.01,2,     0.26,2, -999.000,9, -999.000,9,  -999.00,9,   2020.5,3,   -999.0,9,-999.0000,9,   -999.0,  9,     8.08,2,   -999.0,  -999.00,9,  -999.00,9,     0.01,2,     0.02,2,   -999.0,-999.0000, -999,9,  200,  16.7651,  25.3765,   -999.0,9
       KS04-06,  165E,KS-1046,  1,     15,02-16021,2,20040624,0655, 27.9887, 164.9867, 5655,    252.9,  16.4821,  34.7265,2,   -999.0,9,-999.0000,9,    226.0,2,     4.57,2,  -999.00,9,     4.29,2,     0.00,2,     0.29,2, -999.000,9, -999.000,9,  -999.00,9,   2018.1,2,   -999.0,9,-999.0000,9,   -999.0,  9,     8.07,2,   -999.0,  -999.00,9,  -999.00,9,     0.00,2,     0.00,2,   -999.0,-999.0000, -999,9,  251,  16.4413,  25.4356,   -999.0,9
       KS04-06,  165E,KS-1046,  1,     14,02-16020,2,20040624,0654, 27.9887, 164.9867, 5655,    303.5,  15.9531,  34.6704,2,   -999.0,9,  34.6743,2,    216.0,2,     6.01,2,  -999.00,9,     5.95,2,     0.00,2,     0.41,2, -999.000,9, -999.000,9,  -999.00,9,   2037.6,2,   -999.0,9,-999.0000,9,   -999.0,  9,     8.05,2,   -999.0,  -999.00,9,  -999.00,9,     0.00,2,     0.01,2,   -999.0,-999.0000, -999,9,  301,  15.9051,  25.5157,   -999.0,9
       KS04-06,  165E,KS-1046,  1,     13,02-16019,2,20040624,0652, 27.9887, 164.9867, 5655,    402.4,  14.6975,  34.5655,2,   -999.0,9,  34.5665,2,    207.0,2,     8.98,2,  -999.00,9,     8.38,2,     0.00,2,     0.58,2, -999.000,9, -999.000,9,  -999.00,9,   2057.6,2,   -999.0,9,-999.0000,9,   -999.0,  9,     8.01,2,   -999.0,  -999.00,9,  -999.00,9,  -999.00,9,  -999.00,9,   -999.0,-999.0000, -999,9,  399,  14.6372,  25.7157,   -999.0,9
       KS04-06,  165E,KS-1046,  1,     12,02-16018,2,20040624,0647, 27.9887, 164.9867, 5655,    503.4,  12.0150,  34.3715,2,   -999.0,9,  34.3749,2,    199.0,2,    18.10,2,  -999.00,9,    14.03,2,     0.00,2,     0.96,2, -999.000,9, -999.000,9,  -999.00,9,   2097.5,2,   -999.0,9,-999.0000,9,   -999.0,  9,     7.92,2,   -999.0,  -999.00,9,  -999.00,9,  -999.00,9,  -999.00,9,   -999.0,-999.0000, -999,9,  499,  11.9489,  26.1106,   -999.0,9
       KS04-06,  165E,KS-1046,  1,     11,02-16017,2,20040624,0645, 27.9887, 164.9867, 5655,    602.6,   9.0761,  34.1448,2,   -999.0,9,  34.1505,2,    190.0,2,    31.07,2,  -999.00,9,    19.87,2,     0.00,2,     1.41,2, -999.000,9, -999.000,9,  -999.00,9,   2137.3,2,   -999.0,9,-999.0000,9,   -999.0,  9,     7.82,2,   -999.0,  -999.00,9,  -999.00,9,  -999.00,9,  -999.00,9,   -999.0,-999.0000, -999,9,  598,   9.0095,  26.4469,   -999.0,9
       KS04-06,  165E,KS-1046,  1,     10,02-16016,2,20040624,0638, 27.9887, 164.9867, 5655,    706.0,   6.3226,  33.9924,2,   -999.0,9,  33.9935,2,    156.0,2,    53.58,2,  -999.00,9,    27.86,2,     0.00,2,     2.03,2, -999.000,9, -999.000,9,  -999.00,9,   2199.2,2,   -999.0,9,-999.0000,9,   -999.0,  9,     7.68,2,   -999.0,  -999.00,9,  -999.00,9,  -999.00,9,  -999.00,9,   -999.0,-999.0000, -999,9,  700,   6.2587,  26.7235,   -999.0,9
       KS04-06,  165E,KS-1046,  1,      9,02-16015,2,20040624,0636, 27.9887, 164.9867, 5655,    803.7,   5.0823,  34.0745,2,   -999.0,9,  34.0762,2,     96.0,2,    80.40,2,  -999.00,9,    35.35,2,     0.00,2,     2.56,2, -999.000,9, -999.000,9,  -999.00,9,   2264.4,2,   -999.0,9,-999.0000,9,   -999.0,  9,     7.54,2,   -999.0,  -999.00,9,  -999.00,9,  -999.00,9,  -999.00,9,   -999.0,-999.0000, -999,9,  797,   5.0165,  26.9396,   -999.0,9
       KS04-06,  165E,KS-1046,  1,      8,02-16014,2,20040624,0634, 27.9887, 164.9867, 5655,    905.6,   4.3584,  34.1805,2,   -999.0,9,  34.1803,2,     63.0,2,    99.58,2,  -999.00,9,    39.53,2,     0.00,2,     2.85,2, -999.000,9, -999.000,9,  -999.00,9,   2309.3,2,   -999.0,9,-999.0000,9,   -999.0,  9,     7.48,2,   -999.0,  -999.00,9,  -999.00,9,  -999.00,9,  -999.00,9,   -999.0,-999.0000, -999,9,  898,   4.2885,  27.1041,   -999.0,9
       KS04-06,  165E,KS-1046,  1,      7,02-16013,2,20040624,0627, 27.9887, 164.9867, 5655,   1006.3,   3.8752,  34.2649,2,   -999.0,9,  34.2638,2,     43.0,2,   113.26,2,  -999.00,9,    41.57,2,     0.00,2,     2.99,2, -999.000,9, -999.000,9,  -999.00,9,   2334.4,2,   -999.0,9,-999.0000,9,   -999.0,  9,     7.44,2,   -999.0,  -999.00,9,  -999.00,9,  -999.00,9,  -999.00,9,   -999.0,-999.0000, -999,9,  997,   3.8004,  27.2217,   -999.0,9
       KS04-06,  165E,KS-1046,  1,      6,02-16012,2,20040624,0620, 27.9887, 164.9867, 5655,   1262.4,   3.1034,  34.4257,2,   -999.0,9,  34.4249,2,     37.0,2,   135.36,2,  -999.00,9,    42.92,2,     0.00,2,     3.09,2, -999.000,9, -999.000,9,  -999.00,9,   2368.3,2,   -999.0,9,-999.0000,9,   -999.0,  9,     7.44,2,   -999.0,  -999.00,9,  -999.00,9,  -999.00,9,  -999.00,9,   -999.0,-999.0000, -999,9, 1250,   3.0143,  27.4253,   -999.0,9
       KS04-06,  165E,KS-1046,  1,      5,02-16011,2,20040624,0614, 27.9887, 164.9867, 5655,   1512.7,   2.5797,  34.5130,2,   -999.0,9,  34.5131,2,     49.0,2,   147.26,2,  -999.00,9,    42.53,2,     0.00,2,     3.02,2, -999.000,9, -999.000,9,  -999.00,9,   2374.3,2,   -999.0,9,-999.0000,9,   -999.0,  9,     7.47,2,   -999.0,  -999.00,9,  -999.00,9,  -999.00,9,  -999.00,9,   -999.0,-999.0000, -999,9, 1497,   2.4758,  27.5425,   -999.0,9
       KS04-06,  165E,KS-1046,  1,      4,02-16010,3,20040624,0607, 27.9887, 164.9867, 5655,   1766.4,   2.1586,  34.5680,2,   -999.0,9,  34.5622,4,     65.0,2,   153.36,2,  -999.00,9,    41.45,2,     0.00,2,     2.92,2, -999.000,9, -999.000,9,  -999.00,9,   2371.0,3,   -999.0,9,-999.0000,9,   -999.0,  9,     7.51,2,   -999.0,  -999.00,9,  -999.00,9,  -999.00,9,  -999.00,9,   -999.0,-999.0000, -999,9, 1747,   2.0394,  27.6225,   -999.0,9
       KS04-06,  165E,KS-1046,  1,      3,02-16009,9,20040624,0600, 27.9887, 164.9867, 5655,   2023.3,   1.9334,  34.6040,2,   -999.0,9,-999.0000,9,   -999.0,9,  -999.00,9,  -999.00,9,  -999.00,9,  -999.00,9,  -999.00,9, -999.000,9, -999.000,9,  -999.00,9,   -999.0,9,   -999.0,9,-999.0000,9,   -999.0,  9,  -999.00,9,   -999.0,  -999.00,9,  -999.00,9,  -999.00,9,  -999.00,9,   -999.0,-999.0000, -999,9, 2000,   1.7961,  27.6703,   -999.0,9
       KS04-06,  165E,KS-1046,  1,      2,02-16008,2,20040624,0600, 27.9887, 164.9867, 5655,   2023.5,   1.9335,  34.6039,2,   -999.0,9,  34.6030,2,     83.0,2,   156.83,2,  -999.00,9,    40.58,2,     0.00,2,     2.86,2, -999.000,9, -999.000,9,  -999.00,9,   -999.0,9,   -999.0,9,-999.0000,9,   -999.0,  9,     7.55,2,   -999.0,  -999.00,9,  -999.00,9,  -999.00,9,  -999.00,9,   -999.0,-999.0000, -999,9, 2000,   1.7962,  27.6702,   -999.0,9
       KS04-06,  165E,KS-1046,  1,      1,02-16007,9,20040624,0600, 27.9887, 164.9867, 5655,   2022.7,   1.9332,  34.6040,2,   -999.0,9,-999.0000,9,   -999.0,9,  -999.00,9,  -999.00,9,  -999.00,9,  -999.00,9,  -999.00,9, -999.000,9, -999.000,9,  -999.00,9,   -999.0,9,   -999.0,9,-999.0000,9,   -999.0,  9,  -999.00,9,   -999.0,  -999.00,9,  -999.00,9,  -999.00,9,  -999.00,9,   -999.0,-999.0000, -999,9, 2000,   1.7960,  27.6703,   -999.0,9
       KS04-06,  165E,KS-1047,  1,     24,02-16030,2,20040624,1346, 26.9915, 164.9880, 5781,      6.2,  25.8995,  35.3003,2,   -999.0,9,-999.0000,9,   -999.0,9,     1.32,2,  -999.00,9,     0.00,2,     0.00,2,     0.00,2, -999.000,9, -999.000,9,  -999.00,9,   1979.0,2,   -999.0,9,-999.0000,9,   -999.0,  9,  -999.00,9,   -999.0,  -999.00,9,  -999.00,9,     0.03,2,     0.02,2,   -999.0,-999.0000, -999,9,    6,  25.8981,  23.2917,   -999.0,9
       KS04-06,  165E,KS-1048,  1,      2,02-16008,9,20040624,2015, 25.9917, 164.9908, 5723,      6.4,  26.5733,  35.1421,2,   -999.0,9,-999.0000,9,   -999.0,9,  -999.00,9,  -999.00,9,  -999.00,9,  -999.00,9,  -999.00,9, -999.000,9, -999.000,9,  -999.00,9,   -999.0,9,   -999.0,9,-999.0000,9,   -999.0,  9,  -999.00,9,   -999.0,  -999.00,9,  -999.00,9,  -999.00,9,  -999.00,9,   -999.0,-999.0000, -999,9,    6,  26.5719,  22.9609,   -999.0,9
       KS04-06,  165E,KS-1048,  1,      1,02-16007,2,20040624,2015, 25.9917, 164.9908, 5723,      5.8,  26.5705,  35.1420,2,   -999.0,9,-999.0000,9,   -999.0,9,     1.20,2,  -999.00,9,     0.00,2,     0.00,2,     0.00,2, -999.000,9, -999.000,9,  -999.00,9,   1960.5,2,   -999.0,9,-999.0000,9,   -999.0,  9,  -999.00,9,   -999.0,  -999.00,9,  -999.00,9,     0.03,2,     0.02,2,   -999.0,-999.0000, -999,9,    6,  26.5692,  22.9617,   -999.0,9