BOTTLE,20130510GEMDJMAYT
EXPOCODE,SECT_ID,STNNBR,CASTNO,SAMPNO,BTLNBR,BTLNBR_FLAG_W,DATE,TIME,LATITUDE,LONGITUDE,DEPTH,CTDPRS,CTDTMP,CTDSAL,CTDSAL_FLAG_W,CTDOXY,CTDOXY_FLAG_W,SALNTY,SALNTY_FLAG_W,OXYGEN,OXYGEN_FLAG_W,SILCAT,SILCAT_FLAG_W,NITRAT,NITRAT_FLAG_W,NO2+NO3,NO2+NO3_FLAG_W,NITRIT,NITRIT_FLAG_W,PHSPHT,PHSPHT_FLAG_W,CFC-11,CFC-11_FLAG_W,CFC-12,CFC-12_FLAG_W,DELC13,DELC13_FLAG_W,TCARBN,TCARBN_FLAG_W,ALKALI,ALKALI_FLAG_W,PH,PH_FLAG_W,PH_TMP,PH_SCALE,PH_NBS,PH_NBS_FLAG_W,C13ERR,TOTALP,TOTALP_FLAG_W,AMMONI,AMMONI_FLAG_W,CHLORA,CHLORA_FLAG_W,PPHYTN,PPHYTN_FLAG_W,REVPRS,REVTMP,DEPTH_,DEPTH_FLAG,CTDDEP,THETA,SIGTHT,DOC,DOC_FLAG_W
,,,,,,,GMT,GMT,,,METER,DBAR,ITS-90,PSS-78,,UMOL/KG,,PSS-78,,UMOL/KG,,UMOL/KG,,UMOL/KG,,UMOL/KG,,UMOL/KG,,UMOL/KG,,PMOL/KG,,PMOL/KG,,/MILLE,,UMOL/KG,,UMOL/KG,,25_DEG_C,,DEG_C,,,,/MILLE,UMOL/KG,,UMOL/KG,,UG/L,,UG/L,,DBAR,ITS-90,METERS,,METERS,DEG_C,,UMOL/L,
       KS04-06,  NONE,KS-1105,  1,     24,02-16030,2,20040726,0601,  9.9907, 149.3175, 5514,      5.5,  29.8106,  33.8409,2,   -999.0,9,  33.8412,2,    198.0,2,     1.10,2,  -999.00,9,     0.00,2,     0.00,2,     0.05,2, -999.000,9, -999.000,9,  -999.00,9,   -999.0,9,   -999.0,9,-999.0000,9,   -999.0,  9,  -999.00,9,   -999.0,  -999.00,9,  -999.00,9,  -999.00,9,  -999.00,9,   -999.0,-999.0000, -999,9,    6,  29.8092,  20.9223,   -999.0,9
       KS04-06,  NONE,KS-1105,  1,     23,02-16029,2,20040726,0600,  9.9907, 149.3175, 5514,     10.7,  29.7750,  33.8585,2,   -999.0,9,-999.0000,9,    198.0,2,     1.14,2,  -999.00,9,     0.00,2,     0.00,2,     0.05,2, -999.000,9, -999.000,9,  -999.00,9,   -999.0,9,   -999.0,9,-999.0000,9,   -999.0,  9,  -999.00,9,   -999.0,  -999.00,9,  -999.00,9,  -999.00,9,  -999.00,9,   -999.0,-999.0000, -999,9,   11,  29.7724,  20.9479,   -999.0,9
       KS04-06,  NONE,KS-1105,  1,     22,02-10977,2,20040726,0559,  9.9907, 149.3175, 5514,     25.3,  29.5025,  33.9758,2,   -999.0,9,-999.0000,9,    199.0,2,     1.14,2,  -999.00,9,     0.00,2,     0.00,2,     0.05,2, -999.000,9, -999.000,9,  -999.00,9,   -999.0,9,   -999.0,9,-999.0000,9,   -999.0,  9,  -999.00,9,   -999.0,  -999.00,9,  -999.00,9,  -999.00,9,  -999.00,9,   -999.0,-999.0000, -999,9,   25,  29.4963,  21.1291,   -999.0,9
       KS04-06,  NONE,KS-1105,  1,     21,02-16027,2,20040726,0555,  9.9907, 149.3175, 5514,     50.8,  29.1409,  34.0053,2,   -999.0,9,-999.0000,9,    200.0,2,     1.07,2,  -999.00,9,     0.00,2,     0.00,2,     0.05,2, -999.000,9, -999.000,9,  -999.00,9,   -999.0,9,   -999.0,9,-999.0000,9,   -999.0,  9,  -999.00,9,   -999.0,  -999.00,9,  -999.00,9,  -999.00,9,  -999.00,9,   -999.0,-999.0000, -999,9,   50,  29.1286,  21.2745,   -999.0,9
       KS04-06,  NONE,KS-1105,  1,     20,02-16026,2,20040726,0553,  9.9907, 149.3175, 5514,     74.8,  28.8008,  34.2313,2,   -999.0,9,-999.0000,9,    201.0,2,     1.17,2,  -999.00,9,     0.00,2,     0.00,2,     0.05,2, -999.000,9, -999.000,9,  -999.00,9,   -999.0,9,   -999.0,9,-999.0000,9,   -999.0,  9,  -999.00,9,   -999.0,  -999.00,9,  -999.00,9,  -999.00,9,  -999.00,9,   -999.0,-999.0000, -999,9,   74,  28.7828,  21.5593,   -999.0,9
       KS04-06,  NONE,KS-1105,  1,     19,02-16025,2,20040726,0552,  9.9907, 149.3175, 5514,    100.7,  26.1402,  34.5742,2,   -999.0,9,  34.6166,4,    188.0,2,     2.14,2,  -999.00,9,     0.10,2,     0.02,2,     0.16,2, -999.000,9, -999.000,9,  -999.00,9,   -999.0,9,   -999.0,9,-999.0000,9,   -999.0,  9,  -999.00,9,   -999.0,  -999.00,9,  -999.00,9,  -999.00,9,  -999.00,9,   -999.0,-999.0000, -999,9,  100,  26.1177,  22.6754,   -999.0,9
       KS04-06,  NONE,KS-1105,  1,     18,02-16024,2,20040726,0551,  9.9907, 149.3175, 5514,    125.2,  23.5265,  34.8249,2,   -999.0,9,-999.0000,9,    174.0,2,     3.11,2,  -999.00,9,     1.56,2,     0.31,2,     0.31,2, -999.000,9, -999.000,9,  -999.00,9,   -999.0,9,   -999.0,9,-999.0000,9,   -999.0,  9,  -999.00,9,   -999.0,  -999.00,9,  -999.00,9,  -999.00,9,  -999.00,9,   -999.0,-999.0000, -999,9,  124,  23.5005,  23.6557,   -999.0,9
       KS04-06,  NONE,KS-1105,  1,     17,02-16023,2,20040726,0550,  9.9907, 149.3175, 5514,    151.0,  19.4490,  34.7464,2,   -999.0,9,-999.0000,9,    144.0,2,     8.29,2,  -999.00,9,     9.86,2,     0.03,2,     0.78,2, -999.000,9, -999.000,9,  -999.00,9,   -999.0,9,   -999.0,9,-999.0000,9,   -999.0,  9,  -999.00,9,   -999.0,  -999.00,9,  -999.00,9,  -999.00,9,  -999.00,9,   -999.0,-999.0000, -999,9,  150,  19.4217,  24.7191,   -999.0,9
       KS04-06,  NONE,KS-1105,  1,     16,02-16022,2,20040726,0549,  9.9907, 149.3175, 5514,    200.5,  14.6223,  34.5105,2,   -999.0,9,  34.5052,2,    163.0,2,    10.79,2,  -999.00,9,    12.28,2,     0.00,2,     0.94,2, -999.000,9, -999.000,9,  -999.00,9,   -999.0,9,   -999.0,9,-999.0000,9,   -999.0,  9,  -999.00,9,   -999.0,  -999.00,9,  -999.00,9,  -999.00,9,  -999.00,9,   -999.0,-999.0000, -999,9,  199,  14.5926,  25.6830,   -999.0,9
       KS04-06,  NONE,KS-1105,  1,     15,02-16021,2,20040726,0547,  9.9907, 149.3175, 5514,    251.0,  11.1319,  34.4321,2,   -999.0,9,-999.0000,9,     98.0,2,    26.97,2,  -999.00,9,    25.33,2,     0.00,2,     1.87,2, -999.000,9, -999.000,9,  -999.00,9,   -999.0,9,   -999.0,9,-999.0000,9,   -999.0,  9,  -999.00,9,   -999.0,  -999.00,9,  -999.00,9,  -999.00,9,  -999.00,9,   -999.0,-999.0000, -999,9,  249,  11.1008,  26.3150,   -999.0,9
       KS04-06,  NONE,KS-1105,  1,     14,02-16020,2,20040726,0546,  9.9907, 149.3175, 5514,    301.6,   9.3430,  34.5000,2,   -999.0,9,  34.5011,2,     65.0,2,    37.55,2,  -999.00,9,    31.66,2,     0.00,2,     2.33,2, -999.000,9, -999.000,9,  -999.00,9,   -999.0,9,   -999.0,9,-999.0000,9,   -999.0,  9,  -999.00,9,   -999.0,  -999.00,9,  -999.00,9,  -999.00,9,  -999.00,9,   -999.0,-999.0000, -999,9,  300,   9.3095,  26.6766,   -999.0,9
       KS04-06,  NONE,KS-1105,  1,     13,02-16019,2,20040726,0542,  9.9907, 149.3175, 5514,    402.9,   8.3942,  34.5306,2,   -999.0,9,  34.5313,2,     73.0,2,    43.07,2,  -999.00,9,    33.40,2,     0.00,2,     2.40,2, -999.000,9, -999.000,9,  -999.00,9,   -999.0,9,   -999.0,9,-999.0000,9,   -999.0,  9,  -999.00,9,   -999.0,  -999.00,9,  -999.00,9,  -999.00,9,  -999.00,9,   -999.0,-999.0000, -999,9,  400,   8.3520,  26.8520,   -999.0,9
       KS04-06,  NONE,KS-1105,  1,     12,02-16018,2,20040726,0540,  9.9907, 149.3175, 5514,    503.5,   7.5249,  34.5212,2,   -999.0,9,  34.5211,2,     80.0,2,    48.87,2,  -999.00,9,    34.37,2,     0.00,2,     2.48,2, -999.000,9, -999.000,9,  -999.00,9,   -999.0,9,   -999.0,9,-999.0000,9,   -999.0,  9,  -999.00,9,   -999.0,  -999.00,9,  -999.00,9,  -999.00,9,  -999.00,9,   -999.0,-999.0000, -999,9,  500,   7.4751,  26.9747,   -999.0,9
       KS04-06,  NONE,KS-1105,  1,     11,02-16017,2,20040726,0536,  9.9907, 149.3175, 5514,    603.4,   6.7943,  34.5175,2,   -999.0,9,  34.5176,2,     81.0,2,    56.24,2,  -999.00,9,    35.05,2,     0.00,2,     2.56,2, -999.000,9, -999.000,9,  -999.00,9,   -999.0,9,   -999.0,9,-999.0000,9,   -999.0,  9,  -999.00,9,   -999.0,  -999.00,9,  -999.00,9,  -999.00,9,  -999.00,9,   -999.0,-999.0000, -999,9,  599,   6.7375,  27.0746,   -999.0,9
       KS04-06,  NONE,KS-1105,  1,     10,02-16016,2,20040726,0533,  9.9907, 149.3175, 5514,    703.8,   6.3136,  34.5318,2,   -999.0,9,  34.5313,2,     72.0,2,    63.27,2,  -999.00,9,    37.38,2,     0.00,2,     2.71,2, -999.000,9, -999.000,9,  -999.00,9,   -999.0,9,   -999.0,9,-999.0000,9,   -999.0,  9,  -999.00,9,   -999.0,  -999.00,9,  -999.00,9,  -999.00,9,  -999.00,9,   -999.0,-999.0000, -999,9,  699,   6.2494,  27.1507,   -999.0,9
       KS04-06,  NONE,KS-1105,  1,      9,02-16015,2,20040726,0531,  9.9907, 149.3175, 5514,    805.5,   5.5867,  34.5376,2,   -999.0,9,  34.5370,2,     75.0,2,    73.97,2,  -999.00,9,    38.35,2,     0.00,2,     2.76,2, -999.000,9, -999.000,9,  -999.00,9,   -999.0,9,   -999.0,9,-999.0000,9,   -999.0,  9,  -999.00,9,   -999.0,  -999.00,9,  -999.00,9,  -999.00,9,  -999.00,9,   -999.0,-999.0000, -999,9,  799,   5.5171,  27.2473,   -999.0,9
       KS04-06,  NONE,KS-1105,  1,      8,02-16014,2,20040726,0527,  9.9907, 149.3175, 5514,    906.0,   5.2207,  34.5413,2,   -999.0,9,  34.5411,2,     78.0,2,    79.98,2,  -999.00,9,    38.45,2,     0.00,2,     2.79,2, -999.000,9, -999.000,9,  -999.00,9,   -999.0,9,   -999.0,9,-999.0000,9,   -999.0,  9,  -999.00,9,   -999.0,  -999.00,9,  -999.00,9,  -999.00,9,  -999.00,9,   -999.0,-999.0000, -999,9,  899,   5.1443,  27.2948,   -999.0,9
       KS04-06,  NONE,KS-1105,  1,      7,02-16013,2,20040726,0525,  9.9907, 149.3175, 5514,   1006.5,   4.8246,  34.5474,2,   -999.0,9,  34.5478,2,     82.0,2,    86.96,2,  -999.00,9,    38.45,2,     0.00,2,     2.81,2, -999.000,9, -999.000,9,  -999.00,9,   -999.0,9,   -999.0,9,-999.0000,9,   -999.0,  9,  -999.00,9,   -999.0,  -999.00,9,  -999.00,9,  -999.00,9,  -999.00,9,   -999.0,-999.0000, -999,9,  998,   4.7420,  27.3458,   -999.0,9
       KS04-06,  NONE,KS-1105,  1,      6,02-16012,2,20040726,0520,  9.9907, 149.3175, 5514,   1259.2,   3.6904,  34.5713,2,   -999.0,9,  34.5714,2,     84.0,2,   109.57,2,  -999.00,9,    39.61,2,     0.00,2,     2.86,2, -999.000,9, -999.000,9,  -999.00,9,   -999.0,9,   -999.0,9,-999.0000,9,   -999.0,  9,  -999.00,9,   -999.0,  -999.00,9,  -999.00,9,  -999.00,9,  -999.00,9,   -999.0,-999.0000, -999,9, 1248,   3.5955,  27.4862,   -999.0,9
       KS04-06,  NONE,KS-1105,  1,      5,02-16011,2,20040726,0513,  9.9907, 149.3175, 5514,   1512.1,   2.9535,  34.5952,2,   -999.0,9,  34.5946,2,     94.0,2,   124.32,2,  -999.00,9,    39.22,2,     0.00,2,     2.82,2, -999.000,9, -999.000,9,  -999.00,9,   -999.0,9,   -999.0,9,-999.0000,9,   -999.0,  9,  -999.00,9,   -999.0,  -999.00,9,  -999.00,9,  -999.00,9,  -999.00,9,   -999.0,-999.0000, -999,9, 1498,   2.8451,  27.5760,   -999.0,9
       KS04-06,  NONE,KS-1105,  1,      4,02-16010,4,20040726,0508,  9.9907, 149.3175, 5514,   1765.0,   2.4722,  34.6200,2,   -999.0,9,  34.5282,4,    152.0,4,    14.11,4,  -999.00,9,    11.00,4,     0.05,4,     0.88,4, -999.000,9, -999.000,9,  -999.00,9,   -999.0,9,   -999.0,9,-999.0000,9,   -999.0,  9,  -999.00,9,   -999.0,  -999.00,9,  -999.00,9,  -999.00,9,  -999.00,9,   -999.0,-999.0000, -999,9, 1748,   2.3487,  27.6388,   -999.0,9
       KS04-06,  NONE,KS-1105,  1,      3,02-16009,9,20040726,0503,  9.9907, 149.3175, 5514,   2018.7,   2.1809,  34.6361,2,   -999.0,9,-999.0000,9,   -999.0,9,  -999.00,9,  -999.00,9,  -999.00,9,  -999.00,9,  -999.00,9, -999.000,9, -999.000,9,  -999.00,9,   -999.0,9,   -999.0,9,-999.0000,9,   -999.0,  9,  -999.00,9,   -999.0,  -999.00,9,  -999.00,9,  -999.00,9,  -999.00,9,   -999.0,-999.0000, -999,9, 1998,   2.0401,  27.6770,   -999.0,9
       KS04-06,  NONE,KS-1105,  1,      2,02-16008,9,20040726,0503,  9.9907, 149.3175, 5514,   2018.4,   2.1808,  34.6361,2,   -999.0,9,-999.0000,9,   -999.0,9,  -999.00,9,  -999.00,9,  -999.00,9,  -999.00,9,  -999.00,9, -999.000,9, -999.000,9,  -999.00,9,   -999.0,9,   -999.0,9,-999.0000,9,   -999.0,  9,  -999.00,9,   -999.0,  -999.00,9,  -999.00,9,  -999.00,9,  -999.00,9,   -999.0,-999.0000, -999,9, 1997,   2.0400,  27.6770,   -999.0,9
       KS04-06,  NONE,KS-1105,  1,      1,02-16007,2,20040726,0503,  9.9907, 149.3175, 5514,   2018.1,   2.1797,  34.6362,2,   -999.0,9,  34.6350,2,    111.0,2,   137.80,2,  -999.00,9,    38.63,2,     0.00,2,     2.73,2, -999.000,9, -999.000,9,  -999.00,9,   -999.0,9,   -999.0,9,-999.0000,9,   -999.0,  9,  -999.00,9,   -999.0,  -999.00,9,  -999.00,9,  -999.00,9,  -999.00,9,   -999.0,-999.0000, -999,9, 1997,   2.0390,  27.6771,   -999.0,9