BOTTLE,20130510GEMDJMAYT
EXPOCODE,SECT_ID,STNNBR,CASTNO,SAMPNO,BTLNBR,BTLNBR_FLAG_W,DATE,TIME,LATITUDE,LONGITUDE,DEPTH,CTDPRS,CTDTMP,CTDSAL,CTDSAL_FLAG_W,CTDOXY,CTDOXY_FLAG_W,SALNTY,SALNTY_FLAG_W,OXYGEN,OXYGEN_FLAG_W,SILCAT,SILCAT_FLAG_W,NITRAT,NITRAT_FLAG_W,NO2+NO3,NO2+NO3_FLAG_W,NITRIT,NITRIT_FLAG_W,PHSPHT,PHSPHT_FLAG_W,CFC-11,CFC-11_FLAG_W,CFC-12,CFC-12_FLAG_W,DELC13,DELC13_FLAG_W,TCARBN,TCARBN_FLAG_W,ALKALI,ALKALI_FLAG_W,PH,PH_FLAG_W,PH_TMP,PH_SCALE,PH_NBS,PH_NBS_FLAG_W,C13ERR,TOTALP,TOTALP_FLAG_W,AMMONI,AMMONI_FLAG_W,CHLORA,CHLORA_FLAG_W,PPHYTN,PPHYTN_FLAG_W,REVPRS,REVTMP,DEPTH_,DEPTH_FLAG,CTDDEP,THETA,SIGTHT,DOC,DOC_FLAG_W
,,,,,,,GMT,GMT,,,METER,DBAR,ITS-90,PSS-78,,UMOL/KG,,PSS-78,,UMOL/KG,,UMOL/KG,,UMOL/KG,,UMOL/KG,,UMOL/KG,,UMOL/KG,,PMOL/KG,,PMOL/KG,,/MILLE,,UMOL/KG,,UMOL/KG,,25_DEG_C,,DEG_C,,,,/MILLE,UMOL/KG,,UMOL/KG,,UG/L,,UG/L,,DBAR,ITS-90,METERS,,METERS,DEG_C,,UMOL/L,
       KS05-01,  137E,KS-1180,  1,     24,02-16030,2,20050121,1424, 31.9652, 137.0383, 4163,      4.3,  16.7442,  34.5613,2,   -999.0,9,  34.5608,2,    232.0,2,     5.35,2,  -999.00,9,     3.80,2,     0.50,2,     0.24,2, -999.000,9, -999.000,9,  -999.00,9,   2003.5,2,   -999.0,9,   8.0004,6,     25.0, TS,  -999.00,9,   -999.0,  -999.00,9,  -999.00,9,     0.25,2,     0.18,2,   -999.0,-999.0000, -999,9,    4,  16.7435,  25.2380,   -999.0,9
       KS05-01,  137E,KS-1180,  1,     23,02-19380,2,20050121,1423, 31.9652, 137.0383, 4163,      8.8,  16.7283,  34.5606,2,   -999.0,9,-999.0000,9,    234.0,2,     5.45,2,  -999.00,9,     3.71,2,     0.50,2,     0.24,2, -999.000,9, -999.000,9,  -999.00,9,   -999.0,9,   -999.0,9,-999.0000,9,   -999.0,  9,  -999.00,9,   -999.0,  -999.00,9,  -999.00,9,     0.60,2,     0.44,2,   -999.0,-999.0000, -999,9,    9,  16.7269,  25.2414,   -999.0,9
       KS05-01,  137E,KS-1180,  1,     22,02-19379,2,20050121,1422, 31.9652, 137.0383, 4163,     24.3,  16.7468,  34.5590,2,   -999.0,9,-999.0000,9,    235.0,2,     5.39,2,  -999.00,9,     3.71,2,     0.50,2,     0.23,2, -999.000,9, -999.000,9,  -999.00,9,   -999.0,9,   -999.0,9,-999.0000,9,   -999.0,  9,  -999.00,9,   -999.0,  -999.00,9,  -999.00,9,     0.61,2,     0.43,2,   -999.0,-999.0000, -999,9,   24,  16.7429,  25.2364,   -999.0,9
       KS05-01,  137E,KS-1180,  1,     21,02-16027,2,20050121,1420, 31.9652, 137.0383, 4163,     50.4,  16.7489,  34.5592,2,   -999.0,9,-999.0000,9,    234.0,2,     5.35,2,  -999.00,9,     3.61,2,     0.50,2,     0.23,2, -999.000,9, -999.000,9,  -999.00,9,   -999.0,9,   -999.0,9,-999.0000,9,   -999.0,  9,  -999.00,9,   -999.0,  -999.00,9,  -999.00,9,     0.56,2,     0.39,2,   -999.0,-999.0000, -999,9,   50,  16.7407,  25.2371,   -999.0,9
       KS05-01,  137E,KS-1180,  1,     20,02-16026,2,20050121,1418, 31.9652, 137.0383, 4163,     74.6,  16.7566,  34.5590,2,   -999.0,9,-999.0000,9,    234.0,2,     5.29,2,  -999.00,9,     3.71,2,     0.50,2,     0.24,2, -999.000,9, -999.000,9,  -999.00,9,   -999.0,9,   -999.0,9,-999.0000,9,   -999.0,  9,  -999.00,9,   -999.0,  -999.00,9,  -999.00,9,     0.53,2,     0.34,2,   -999.0,-999.0000, -999,9,   74,  16.7445,  25.2361,   -999.0,9
       KS05-01,  137E,KS-1180,  1,     19,02-19378,2,20050121,1413, 31.9652, 137.0383, 4163,     99.2,  16.7614,  34.5577,2,   -999.0,9,  34.5584,2,    233.0,2,     5.35,2,  -999.00,9,     3.71,2,     0.49,2,     0.24,2, -999.000,9, -999.000,9,  -999.00,9,   -999.0,9,   -999.0,9,-999.0000,9,   -999.0,  9,  -999.00,9,   -999.0,  -999.00,9,  -999.00,9,     0.58,2,     0.43,2,   -999.0,-999.0000, -999,9,   98,  16.7453,  25.2349,   -999.0,9
       KS05-01,  137E,KS-1180,  1,     18,02-19377,2,20050121,1412, 31.9652, 137.0383, 4163,    124.4,  14.8880,  34.5529,2,   -999.0,9,-999.0000,9,    165.0,2,    18.41,2,  -999.00,9,    13.45,2,     0.02,2,     0.89,2, -999.000,9, -999.000,9,  -999.00,9,   -999.0,9,   -999.0,9,-999.0000,9,   -999.0,  9,  -999.00,9,   -999.0,  -999.00,9,  -999.00,9,     0.03,2,     0.06,2,   -999.0,-999.0000, -999,9,  123,  14.8694,  25.6558,   -999.0,9
       KS05-01,  137E,KS-1180,  1,     17,02-16023,2,20050121,1411, 31.9652, 137.0383, 4163,    149.8,  12.5795,  34.4623,2,   -999.0,9,-999.0000,9,    154.0,2,    28.07,2,  -999.00,9,    17.93,2,     0.01,2,     1.22,2, -999.000,9, -999.000,9,  -999.00,9,   -999.0,9,   -999.0,9,-999.0000,9,   -999.0,  9,  -999.00,9,   -999.0,  -999.00,9,  -999.00,9,     0.01,2,     0.05,2,   -999.0,-999.0000, -999,9,  149,  12.5595,  26.0634,   -999.0,9
       KS05-01,  137E,KS-1180,  1,     16,02-16022,2,20050121,1410, 31.9652, 137.0383, 4163,    200.2,  10.2386,  34.3532,2,   -999.0,9,  34.3535,2,    141.0,2,    39.28,2,  -999.00,9,    22.41,2,     0.00,2,     1.55,2, -999.000,9, -999.000,9,  -999.00,9,   -999.0,9,   -999.0,9,-999.0000,9,   -999.0,  9,  -999.00,9,   -999.0,  -999.00,9,  -999.00,9,     0.00,2,     0.04,2,   -999.0,-999.0000, -999,9,  199,  10.2152,  26.4100,   -999.0,9
       KS05-01,  137E,KS-1180,  1,     15,02-16021,2,20050121,1408, 31.9652, 137.0383, 4163,    251.8,   9.0022,  34.3116,2,   -999.0,9,-999.0000,9,    131.0,2,    47.62,2,  -999.00,9,    25.62,2,     0.00,2,     1.78,2, -999.000,9, -999.000,9,  -999.00,9,   -999.0,9,   -999.0,9,-999.0000,9,   -999.0,  9,  -999.00,9,   -999.0,  -999.00,9,  -999.00,9,     0.00,2,     0.03,2,   -999.0,-999.0000, -999,9,  250,   8.9750,  26.5830,   -999.0,9
       KS05-01,  137E,KS-1180,  1,     14,02-16020,2,20050121,1406, 31.9652, 137.0383, 4163,    301.3,   7.6208,  34.2626,2,   -999.0,9,-999.0000,9,    117.0,2,    59.96,2,  -999.00,9,    29.12,2,     0.00,2,     2.06,2, -999.000,9, -999.000,9,  -999.00,9,   -999.0,9,   -999.0,9,-999.0000,9,   -999.0,  9,  -999.00,9,   -999.0,  -999.00,9,  -999.00,9,     0.00,2,     0.03,2,   -999.0,-999.0000, -999,9,  299,   7.5913,  26.7545,   -999.0,9
       KS05-01,  137E,KS-1180,  1,     13,02-16019,2,20050121,1403, 31.9652, 137.0383, 4163,    405.1,   5.8619,  34.2629,2,   -999.0,9,-999.0000,9,     92.0,2,    81.70,2,  -999.00,9,    34.18,2,     0.00,2,     2.42,2, -999.000,9, -999.000,9,  -999.00,9,   -999.0,9,   -999.0,9,-999.0000,9,   -999.0,  9,  -999.00,9,   -999.0,  -999.00,9,  -999.00,9,  -999.00,9,  -999.00,9,   -999.0,-999.0000, -999,9,  402,   5.8274,  26.9918,   -999.0,9
       KS05-01,  137E,KS-1180,  1,     12,02-16018,2,20050121,1400, 31.9652, 137.0383, 4163,    504.1,   5.1406,  34.2796,2,   -999.0,9,  34.2774,2,     81.0,2,    92.09,2,  -999.00,9,    36.22,2,     0.00,2,     2.58,2, -999.000,9, -999.000,9,  -999.00,9,   -999.0,9,   -999.0,9,-999.0000,9,   -999.0,  9,  -999.00,9,   -999.0,  -999.00,9,  -999.00,9,  -999.00,9,  -999.00,9,   -999.0,-999.0000, -999,9,  500,   5.1001,  27.0925,   -999.0,9
       KS05-01,  137E,KS-1180,  1,     11,02-19376,2,20050121,1357, 31.9652, 137.0383, 4163,    606.7,   4.3829,  34.3331,2,   -999.0,9,  34.3301,2,     70.0,2,   105.75,2,  -999.00,9,    38.26,2,     0.00,2,     2.73,2, -999.000,9, -999.000,9,  -999.00,9,   -999.0,9,   -999.0,9,-999.0000,9,   -999.0,  9,  -999.00,9,   -999.0,  -999.00,9,  -999.00,9,  -999.00,9,  -999.00,9,   -999.0,-999.0000, -999,9,  602,   4.3372,  27.2201,   -999.0,9
       KS05-01,  137E,KS-1180,  1,     10,02-19375,2,20050121,1354, 31.9652, 137.0383, 4163,    706.2,   4.0341,  34.3653,2,   -999.0,9,  34.3627,2,     68.0,2,   112.22,2,  -999.00,9,    39.04,2,     0.00,2,     2.77,2, -999.000,9, -999.000,9,  -999.00,9,   -999.0,9,   -999.0,9,-999.0000,9,   -999.0,  9,  -999.00,9,   -999.0,  -999.00,9,  -999.00,9,  -999.00,9,  -999.00,9,   -999.0,-999.0000, -999,9,  700,   3.9822,  27.2831,   -999.0,9
       KS05-01,  137E,KS-1180,  1,      9,02-16015,2,20050121,1351, 31.9652, 137.0383, 4163,    806.7,   3.6134,  34.4111,2,   -999.0,9,  34.4086,2,     68.0,2,   119.55,2,  -999.00,9,    39.42,2,     0.00,2,     2.81,2, -999.000,9, -999.000,9,  -999.00,9,   -999.0,9,   -999.0,9,-999.0000,9,   -999.0,  9,  -999.00,9,   -999.0,  -999.00,9,  -999.00,9,  -999.00,9,  -999.00,9,   -999.0,-999.0000, -999,9,  800,   3.5561,  27.3624,   -999.0,9
       KS05-01,  137E,KS-1180,  1,      8,02-16014,2,20050121,1348, 31.9652, 137.0383, 4163,    908.3,   3.2585,  34.4486,2,   -999.0,9,  34.4475,2,     70.0,2,   126.99,2,  -999.00,9,    39.81,2,     0.00,2,     2.83,2, -999.000,9, -999.000,9,  -999.00,9,   -999.0,9,   -999.0,9,-999.0000,9,   -999.0,  9,  -999.00,9,   -999.0,  -999.00,9,  -999.00,9,  -999.00,9,  -999.00,9,   -999.0,-999.0000, -999,9,  900,   3.1957,  27.4268,   -999.0,9
       KS05-01,  137E,KS-1180,  1,      7,02-19374,2,20050121,1345, 31.9652, 137.0383, 4163,   1008.9,   2.9888,  34.4789,2,   -999.0,9,  34.4781,2,     72.0,2,   131.44,2,  -999.00,9,    39.81,2,     0.00,2,     2.83,2, -999.000,9, -999.000,9,  -999.00,9,   -999.0,9,   -999.0,9,-999.0000,9,   -999.0,  9,  -999.00,9,   -999.0,  -999.00,9,  -999.00,9,  -999.00,9,  -999.00,9,   -999.0,-999.0000, -999,9,  999,   2.9204,  27.4764,   -999.0,9
       KS05-01,  137E,KS-1180,  1,      6,02-19373,2,20050121,1339, 31.9652, 137.0383, 4163,   1263.1,   2.6007,  34.5243,2,   -999.0,9,  34.5233,2,     82.0,2,   136.60,2,  -999.00,9,    39.71,2,     0.00,2,     2.80,2, -999.000,9, -999.000,9,  -999.00,9,   -999.0,9,   -999.0,9,-999.0000,9,   -999.0,  9,  -999.00,9,   -999.0,  -999.00,9,  -999.00,9,  -999.00,9,  -999.00,9,   -999.0,-999.0000, -999,9, 1251,   2.5162,  27.5481,   -999.0,9
       KS05-01,  137E,KS-1180,  1,      5,02-16011,2,20050121,1334, 31.9652, 137.0383, 4163,   1515.2,   2.2839,  34.5648,2,   -999.0,9,  34.5626,2,     94.0,2,   140.26,2,  -999.00,9,    39.22,2,     0.00,2,     2.75,2, -999.000,9, -999.000,9,  -999.00,9,   -999.0,9,   -999.0,9,-999.0000,9,   -999.0,  9,  -999.00,9,   -999.0,  -999.00,9,  -999.00,9,  -999.00,9,  -999.00,9,   -999.0,-999.0000, -999,9, 1499,   2.1832,  27.6083,   -999.0,9
       KS05-01,  137E,KS-1180,  1,      4,02-16010,2,20050121,1330, 31.9652, 137.0383, 4163,   1766.0,   2.0863,  34.5919,2,   -999.0,9,  34.5881,2,    105.0,2,   141.73,2,  -999.00,9,    38.63,2,     0.00,2,     2.71,2, -999.000,9, -999.000,9,  -999.00,9,   -999.0,9,   -999.0,9,-999.0000,9,   -999.0,  9,  -999.00,9,   -999.0,  -999.00,9,  -999.00,9,  -999.00,9,  -999.00,9,   -999.0,-999.0000, -999,9, 1746,   1.9680,  27.6472,   -999.0,9
       KS05-01,  137E,KS-1180,  1,      3,02-16009,9,20050121,1326, 31.9652, 137.0383, 4163,   2019.8,   1.8938,  34.6189,2,   -999.0,9,-999.0000,9,   -999.0,9,  -999.00,9,  -999.00,9,  -999.00,9,  -999.00,9,  -999.00,9, -999.000,9, -999.000,9,  -999.00,9,   -999.0,9,   -999.0,9,-999.0000,9,   -999.0,  9,  -999.00,9,   -999.0,  -999.00,9,  -999.00,9,  -999.00,9,  -999.00,9,   -999.0,-999.0000, -999,9, 1996,   1.7574,  27.6852,   -999.0,9
       KS05-01,  137E,KS-1180,  1,      2,02-16008,9,20050121,1326, 31.9652, 137.0383, 4163,   2020.9,   1.8934,  34.6190,2,   -999.0,9,-999.0000,9,   -999.0,9,  -999.00,9,  -999.00,9,  -999.00,9,  -999.00,9,  -999.00,9, -999.000,9, -999.000,9,  -999.00,9,   -999.0,9,   -999.0,9,-999.0000,9,   -999.0,  9,  -999.00,9,   -999.0,  -999.00,9,  -999.00,9,  -999.00,9,  -999.00,9,   -999.0,-999.0000, -999,9, 1997,   1.7569,  27.6853,   -999.0,9
       KS05-01,  137E,KS-1180,  1,      1,02-16007,2,20050121,1325, 31.9652, 137.0383, 4163,   2021.6,   1.8933,  34.6191,2,   -999.0,9,  34.6187,2,    118.0,2,   142.69,2,  -999.00,9,    38.05,2,     0.00,2,     2.66,2, -999.000,9, -999.000,9,  -999.00,9,   -999.0,9,   -999.0,9,-999.0000,9,   -999.0,  9,  -999.00,9,   -999.0,  -999.00,9,  -999.00,9,  -999.00,9,  -999.00,9,   -999.0,-999.0000, -999,9, 1998,   1.7567,  27.6854,   -999.0,9
       KS05-01,  137E,KS-1181,  1,      2,02-16008,9,20050121,1814, 31.6360, 137.0552, 4232,      7.9,  17.2284,  34.5649,2,   -999.0,9,-999.0000,9,   -999.0,9,  -999.00,9,  -999.00,9,  -999.00,9,  -999.00,9,  -999.00,9, -999.000,9, -999.000,9,  -999.00,9,   -999.0,9,   -999.0,9,-999.0000,9,   -999.0,  9,  -999.00,9,   -999.0,  -999.00,9,  -999.00,9,  -999.00,9,  -999.00,9,   -999.0,-999.0000, -999,9,    8,  17.2271,  25.1262,   -999.0,9
       KS05-01,  137E,KS-1181,  1,      1,02-16007,2,20050121,1813, 31.6360, 137.0552, 4232,      6.2,  17.2322,  34.5648,2,   -999.0,9,-999.0000,9,   -999.0,9,     4.83,2,  -999.00,9,     3.41,2,     0.50,2,     0.21,2, -999.000,9, -999.000,9,  -999.00,9,   1997.3,6,   -999.0,9,   8.0083,2,     25.0, TS,  -999.00,9,   -999.0,  -999.00,9,  -999.00,9,     0.31,2,     0.30,2,   -999.0,-999.0000, -999,9,    6,  17.2312,  25.1252,   -999.0,9
       KS05-01,  137E,KS-1182,  1,      2,02-16008,9,20050121,2257, 31.2663, 137.0870, 4147,      4.6,  17.9525,  34.6251,2,   -999.0,9,-999.0000,9,   -999.0,9,  -999.00,9,  -999.00,9,  -999.00,9,  -999.00,9,  -999.00,9, -999.000,9, -999.000,9,  -999.00,9,   -999.0,9,   -999.0,9,-999.0000,9,   -999.0,  9,  -999.00,9,   -999.0,  -999.00,9,  -999.00,9,  -999.00,9,  -999.00,9,   -999.0,-999.0000, -999,9,    5,  17.9517,  24.9968,   -999.0,9
       KS05-01,  137E,KS-1182,  1,      1,02-16007,2,20050121,2257, 31.2663, 137.0870, 4147,      4.9,  17.9537,  34.6259,2,   -999.0,9,-999.0000,9,   -999.0,9,     4.01,2,  -999.00,9,     2.73,2,     0.44,2,     0.18,2, -999.000,9, -999.000,9,  -999.00,9,   1996.4,2,   -999.0,9,   8.0214,6,     25.0, TS,  -999.00,9,   -999.0,  -999.00,9,  -999.00,9,     0.31,2,     0.27,2,   -999.0,-999.0000, -999,9,    5,  17.9529,  24.9971,   -999.0,9