BOTTLE,20130510GEMDJMAYT
EXPOCODE,SECT_ID,STNNBR,CASTNO,SAMPNO,BTLNBR,BTLNBR_FLAG_W,DATE,TIME,LATITUDE,LONGITUDE,DEPTH,CTDPRS,CTDTMP,CTDSAL,CTDSAL_FLAG_W,CTDOXY,CTDOXY_FLAG_W,SALNTY,SALNTY_FLAG_W,OXYGEN,OXYGEN_FLAG_W,SILCAT,SILCAT_FLAG_W,NITRAT,NITRAT_FLAG_W,NO2+NO3,NO2+NO3_FLAG_W,NITRIT,NITRIT_FLAG_W,PHSPHT,PHSPHT_FLAG_W,CFC-11,CFC-11_FLAG_W,CFC-12,CFC-12_FLAG_W,DELC13,DELC13_FLAG_W,TCARBN,TCARBN_FLAG_W,ALKALI,ALKALI_FLAG_W,PH,PH_FLAG_W,PH_TMP,PH_SCALE,PH_NBS,PH_NBS_FLAG_W,C13ERR,TOTALP,TOTALP_FLAG_W,AMMONI,AMMONI_FLAG_W,CHLORA,CHLORA_FLAG_W,PPHYTN,PPHYTN_FLAG_W,REVPRS,REVTMP,DEPTH_,DEPTH_FLAG,CTDDEP,THETA,SIGTHT,DOC,DOC_FLAG_W
,,,,,,,GMT,GMT,,,METER,DBAR,ITS-90,PSS-78,,UMOL/KG,,PSS-78,,UMOL/KG,,UMOL/KG,,UMOL/KG,,UMOL/KG,,UMOL/KG,,UMOL/KG,,PMOL/KG,,PMOL/KG,,/MILLE,,UMOL/KG,,UMOL/KG,,25_DEG_C,,DEG_C,,,,/MILLE,UMOL/KG,,UMOL/KG,,UG/L,,UG/L,,DBAR,ITS-90,METERS,,METERS,DEG_C,,UMOL/L,
       KS05-01,  137E,KS-1205,  1,     24,02-16030,2,20050129,0647,  9.9888, 136.9812, 4944,      6.1,  27.7716,  34.1252,2,   -999.0,9,  34.1283,2,    201.0,2,     1.21,2,  -999.00,9,     0.00,2,     0.00,2,     0.01,2, -999.000,9, -999.000,9,  -999.00,9,   1912.2,3,   -999.0,9,   8.1133,2,     25.0, TS,     8.22,2,   -999.0,  -999.00,9,  -999.00,9,     0.05,2,     0.03,2,   -999.0,-999.0000, -999,9,    6,  27.7702,  21.8116,   -999.0,9
       KS05-01,  137E,KS-1205,  1,     23,02-19380,2,20050129,0646,  9.9888, 136.9812, 4944,     10.4,  27.7717,  34.1249,2,   -999.0,9,-999.0000,9,    201.0,2,     1.25,2,  -999.00,9,     0.00,2,     0.00,2,     0.01,2, -999.000,9, -999.000,9,  -999.00,9,   1912.2,2,   -999.0,9,   8.1181,2,     25.0, TS,     8.22,2,   -999.0,  -999.00,9,  -999.00,9,     0.07,2,     0.04,2,   -999.0,-999.0000, -999,9,   10,  27.7693,  21.8117,   -999.0,9
       KS05-01,  137E,KS-1205,  1,     22,02-19379,2,20050129,0644,  9.9888, 136.9812, 4944,     25.3,  27.7583,  34.1234,2,   -999.0,9,-999.0000,9,    203.0,2,     1.23,2,  -999.00,9,     0.00,2,     0.00,2,     0.01,2, -999.000,9, -999.000,9,  -999.00,9,   1908.4,2,   -999.0,9,   8.1179,2,     25.0, TS,     8.22,2,   -999.0,  -999.00,9,  -999.00,9,     0.06,2,     0.04,2,   -999.0,-999.0000, -999,9,   25,  27.7524,  21.8160,   -999.0,9
       KS05-01,  137E,KS-1205,  1,     21,02-16027,2,20050129,0640,  9.9888, 136.9812, 4944,     49.7,  27.7210,  34.1177,2,   -999.0,9,-999.0000,9,    200.0,2,     1.17,2,  -999.00,9,     0.00,2,     0.00,2,     0.01,2, -999.000,9, -999.000,9,  -999.00,9,   1905.5,2,   -999.0,9,   8.1168,2,     25.0, TS,     8.23,2,   -999.0,  -999.00,9,  -999.00,9,     0.08,2,     0.04,2,   -999.0,-999.0000, -999,9,   49,  27.7094,  21.8257,   -999.0,9
       KS05-01,  137E,KS-1205,  1,     20,02-16026,2,20050129,0639,  9.9888, 136.9812, 4944,     76.1,  26.0513,  34.7285,2,   -999.0,9,-999.0000,9,    199.0,2,     1.57,2,  -999.00,9,     0.00,2,     0.00,2,     0.07,2, -999.000,9, -999.000,9,  -999.00,9,   1980.2,2,   -999.0,9,   8.0640,2,     25.0, TS,     8.17,2,   -999.0,  -999.00,9,  -999.00,9,     0.14,2,     0.14,2,   -999.0,-999.0000, -999,9,   76,  26.0343,  22.8178,   -999.0,9
       KS05-01,  137E,KS-1205,  1,     19,02-19378,2,20050129,0639,  9.9888, 136.9812, 4944,    100.5,  21.5014,  35.0354,2,   -999.0,9,  35.0287,4,    178.0,2,     2.87,2,  -999.00,9,     2.64,2,     0.12,2,     0.24,2, -999.000,9, -999.000,9,  -999.00,9,   2044.6,2,   -999.0,9,   7.9742,2,     25.0, TS,     8.07,2,   -999.0,  -999.00,9,  -999.00,9,     0.16,2,     0.46,2,   -999.0,-999.0000, -999,9,  100,  21.4819,  24.3888,   -999.0,9
       KS05-01,  137E,KS-1205,  1,     18,02-19377,2,20050129,0638,  9.9888, 136.9812, 4944,    125.8,  18.1365,  34.8146,2,   -999.0,9,-999.0000,9,    162.0,2,     6.42,2,  -999.00,9,     8.10,2,     0.01,2,     0.57,2, -999.000,9, -999.000,9,  -999.00,9,   2077.8,2,   -999.0,9,   7.8892,2,     25.0, TS,     7.99,2,   -999.0,  -999.00,9,  -999.00,9,     0.05,2,     0.27,2,   -999.0,-999.0000, -999,9,  125,  18.1148,  25.1017,   -999.0,9
       KS05-01,  137E,KS-1205,  1,     17,02-16023,2,20050129,0637,  9.9888, 136.9812, 4944,    151.1,  16.0224,  34.6534,2,   -999.0,9,-999.0000,9,    148.0,2,    10.80,2,  -999.00,9,    12.48,2,     0.00,2,     0.88,2, -999.000,9, -999.000,9,  -999.00,9,   2068.6,3,   -999.0,9,   7.8252,2,     25.0, TS,     7.92,2,   -999.0,  -999.00,9,  -999.00,9,     0.02,2,     0.11,2,   -999.0,-999.0000, -999,9,  150,  15.9986,  25.4813,   -999.0,9
       KS05-01,  137E,KS-1205,  1,     16,02-16022,2,20050129,0635,  9.9888, 136.9812, 4944,    200.2,  11.9420,  34.3543,2,   -999.0,9,  34.3566,2,    167.0,3,    18.54,2,  -999.00,9,    16.66,2,     0.00,2,     1.13,2, -999.000,9, -999.000,9,  -999.00,9,   2116.1,2,   -999.0,9,   7.7655,2,     25.0, TS,     7.86,2,   -999.0,  -999.00,9,  -999.00,9,     0.00,2,     0.01,2,   -999.0,-999.0000, -999,9,  199,  11.9161,  26.1034,   -999.0,9
       KS05-01,  137E,KS-1205,  1,     15,02-16021,2,20050129,0634,  9.9888, 136.9812, 4944,    252.4,  10.0209,  34.3866,2,   -999.0,9,-999.0000,9,     98.0,2,    32.54,2,  -999.00,9,    27.08,2,     0.00,2,     1.92,2, -999.000,9, -999.000,9,  -999.00,9,   2196.6,2,   -999.0,9,   7.6043,2,     25.0, TS,     7.69,2,   -999.0,  -999.00,9,  -999.00,9,     0.00,2,     0.01,2,   -999.0,-999.0000, -999,9,  251,   9.9917,  26.4743,   -999.0,9
       KS05-01,  137E,KS-1205,  1,     14,02-16020,2,20050129,0633,  9.9888, 136.9812, 4944,    302.4,   8.8422,  34.4452,2,   -999.0,9,  34.4471,2,     76.0,2,    41.67,2,  -999.00,9,    31.75,2,     0.00,2,     2.24,2, -999.000,9, -999.000,9,  -999.00,9,   2232.8,2,   -999.0,9,   7.5435,2,     25.0, TS,     7.62,2,   -999.0,  -999.00,9,  -999.00,9,     0.00,2,     0.01,2,   -999.0,-999.0000, -999,9,  300,   8.8097,  26.7139,   -999.0,9
       KS05-01,  137E,KS-1205,  1,     13,02-16019,2,20050129,0630,  9.9888, 136.9812, 4944,    403.9,   7.7157,  34.4843,2,   -999.0,9,  34.4854,2,     67.0,2,    50.06,2,  -999.00,9,    34.76,2,     0.00,2,     2.45,2, -999.000,9, -999.000,9,  -999.00,9,   2253.2,2,   -999.0,9,   7.5161,2,     25.0, TS,     7.58,2,   -999.0,  -999.00,9,  -999.00,9,  -999.00,9,  -999.00,9,   -999.0,-999.0000, -999,9,  401,   7.6754,  26.9166,   -999.0,9
       KS05-01,  137E,KS-1205,  1,     12,02-16018,2,20050129,0628,  9.9888, 136.9812, 4944,    503.4,   6.8871,  34.5001,2,   -999.0,9,  34.5003,2,     76.0,2,    56.52,2,  -999.00,9,    35.83,2,     0.00,2,     2.52,2, -999.000,9, -999.000,9,  -999.00,9,   2262.9,2,   -999.0,9,   7.5087,2,     25.0, TS,     7.59,2,   -999.0,  -999.00,9,  -999.00,9,  -999.00,9,  -999.00,9,   -999.0,-999.0000, -999,9,  500,   6.8397,  27.0470,   -999.0,9
       KS05-01,  137E,KS-1205,  1,     11,02-19376,2,20050129,0626,  9.9888, 136.9812, 4944,    604.5,   6.3522,  34.5076,2,   -999.0,9,  34.5078,2,     77.0,2,    62.42,2,  -999.00,9,    36.70,2,     0.00,2,     2.59,2, -999.000,9, -999.000,9,  -999.00,9,   2272.7,2,   -999.0,9,   7.5118,2,     25.0, TS,     7.58,2,   -999.0,  -999.00,9,  -999.00,9,  -999.00,9,  -999.00,9,   -999.0,-999.0000, -999,9,  600,   6.2973,  27.1253,   -999.0,9
       KS05-01,  137E,KS-1205,  1,     10,02-19375,2,20050129,0624,  9.9888, 136.9812, 4944,    706.1,   5.8027,  34.5154,2,   -999.0,9,  34.5156,2,     78.0,2,    69.63,2,  -999.00,9,    37.48,2,     0.00,2,     2.64,2, -999.000,9, -999.000,9,  -999.00,9,   2281.1,2,   -999.0,9,   7.5094,2,     25.0, TS,     7.58,2,   -999.0,  -999.00,9,  -999.00,9,  -999.00,9,  -999.00,9,   -999.0,-999.0000, -999,9,  701,   5.7410,  27.2023,   -999.0,9
       KS05-01,  137E,KS-1205,  1,      9,02-16015,2,20050129,0622,  9.9888, 136.9812, 4944,    807.5,   5.2599,  34.5239,2,   -999.0,9,  34.5239,2,     77.0,2,    79.13,2,  -999.00,9,    38.35,2,     0.00,2,     2.72,2, -999.000,9, -999.000,9,  -999.00,9,   2294.5,2,   -999.0,9,   7.5123,2,     25.0, TS,     7.57,2,   -999.0,  -999.00,9,  -999.00,9,  -999.00,9,  -999.00,9,   -999.0,-999.0000, -999,9,  801,   5.1921,  27.2754,   -999.0,9
       KS05-01,  137E,KS-1205,  1,      8,02-16014,2,20050129,0619,  9.9888, 136.9812, 4944,    907.6,   4.8266,  34.5378,2,   -999.0,9,  34.5384,2,     84.0,2,    86.23,2,  -999.00,9,    38.35,2,     0.00,2,     2.71,2, -999.000,9, -999.000,9,  -999.00,9,   2299.2,2,   -999.0,9,   7.5095,2,     25.0, TS,     7.58,2,   -999.0,  -999.00,9,  -999.00,9,  -999.00,9,  -999.00,9,   -999.0,-999.0000, -999,9,  901,   4.7527,  27.3370,   -999.0,9
       KS05-01,  137E,KS-1205,  1,      7,02-19374,2,20050129,0617,  9.9888, 136.9812, 4944,   1008.7,   4.4603,  34.5476,2,   -999.0,9,-999.0000,9,   -999.0,9,    93.12,2,  -999.00,9,    38.64,2,     0.00,2,     2.73,2, -999.000,9, -999.000,9,  -999.00,9,   -999.0,9,   -999.0,9,-999.0000,9,   -999.0,  9,  -999.00,9,   -999.0,  -999.00,9,  -999.00,9,  -999.00,9,  -999.00,9,   -999.0,-999.0000, -999,9, 1001,   4.3803,  27.3860,   -999.0,9
       KS05-01,  137E,KS-1205,  1,      6,02-19373,2,20050129,0617,  9.9888, 136.9812, 4944,   1008.4,   4.4599,  34.5474,2,   -999.0,9,  34.5470,2,     86.0,2,    93.36,2,  -999.00,9,    38.64,2,     0.00,2,     2.73,2, -999.000,9, -999.000,9,  -999.00,9,   2308.3,2,   -999.0,9,   7.5142,2,     25.0, TS,     7.58,2,   -999.0,  -999.00,9,  -999.00,9,  -999.00,9,  -999.00,9,   -999.0,-999.0000, -999,9, 1000,   4.3799,  27.3859,   -999.0,9
       KS05-01,  137E,KS-1205,  1,      5,02-16011,2,20050129,0612,  9.9888, 136.9812, 4944,   1260.7,   3.5986,  34.5737,2,   -999.0,9,  34.5734,2,     94.0,2,   109.80,2,  -999.00,9,    38.73,2,     0.00,2,     2.73,2, -999.000,9, -999.000,9,  -999.00,9,   2320.2,6,   -999.0,9,   7.5624,3,     25.0, TS,     7.60,2,   -999.0,  -999.00,9,  -999.00,9,  -999.00,9,  -999.00,9,   -999.0,-999.0000, -999,9, 1250,   3.5045,  27.4970,   -999.0,9
       KS05-01,  137E,KS-1205,  1,      4,02-16010,2,20050129,0608,  9.9888, 136.9812, 4944,   1514.1,   2.8922,  34.5998,2,   -999.0,9,  34.5991,2,    103.0,2,   123.33,2,  -999.00,9,    38.73,2,     0.00,2,     2.72,2, -999.000,9, -999.000,9,  -999.00,9,   2329.6,2,   -999.0,9,   7.5362,2,     25.0, TS,     7.61,2,   -999.0,  -999.00,9,  -999.00,9,  -999.00,9,  -999.00,9,   -999.0,-999.0000, -999,9, 1500,   2.7844,  27.5851,   -999.0,9
       KS05-01,  137E,KS-1205,  1,      3,02-16009,2,20050129,0559,  9.9888, 136.9812, 4944,   2021.3,   2.2058,  34.6330,2,   -999.0,9,  34.6319,2,    116.0,2,   135.81,2,  -999.00,9,    38.34,2,     0.00,2,     2.67,2, -999.000,9, -999.000,9,  -999.00,9,   2337.7,2,   -999.0,9,   7.5494,6,     25.0, TS,     7.62,2,   -999.0,  -999.00,9,  -999.00,9,  -999.00,9,  -999.00,9,   -999.0,-999.0000, -999,9, 2000,   2.0644,  27.6725,   -999.0,9
       KS05-01,  137E,KS-1205,  1,      2,02-16008,2,20050129,0543,  9.9888, 136.9812, 4944,   3038.0,   1.6138,  34.6722,2,   -999.0,9,  34.6700,2,    144.0,2,   141.01,2,  -999.00,9,    36.78,2,     0.00,2,     2.52,2, -999.000,9, -999.000,9,  -999.00,9,   -999.0,9,   -999.0,9,-999.0000,9,   -999.0,  9,     7.66,2,   -999.0,  -999.00,9,  -999.00,9,  -999.00,9,  -999.00,9,   -999.0,-999.0000, -999,9, 2999,   1.3909,  27.7550,   -999.0,9
       KS05-01,  137E,KS-1205,  1,      1,02-16007,2,20050129,0528,  9.9888, 136.9812, 4944,   4059.1,   1.5318,  34.6855,2,   -999.0,9,  34.6814,2,    158.0,2,   138.06,2,  -999.00,9,    35.81,2,     0.00,2,     2.44,2, -999.000,9, -999.000,9,  -999.00,9,   -999.0,9,   -999.0,9,-999.0000,9,   -999.0,  9,     7.69,2,   -999.0,  -999.00,9,  -999.00,9,  -999.00,9,  -999.00,9,   -999.0,-999.0000, -999,9, 3998,   1.2055,  27.7787,   -999.0,9