BOTTLE,20130510GEMDJMAYT
EXPOCODE,SECT_ID,STNNBR,CASTNO,SAMPNO,BTLNBR,BTLNBR_FLAG_W,DATE,TIME,LATITUDE,LONGITUDE,DEPTH,CTDPRS,CTDTMP,CTDSAL,CTDSAL_FLAG_W,CTDOXY,CTDOXY_FLAG_W,SALNTY,SALNTY_FLAG_W,OXYGEN,OXYGEN_FLAG_W,SILCAT,SILCAT_FLAG_W,NITRAT,NITRAT_FLAG_W,NO2+NO3,NO2+NO3_FLAG_W,NITRIT,NITRIT_FLAG_W,PHSPHT,PHSPHT_FLAG_W,CFC-11,CFC-11_FLAG_W,CFC-12,CFC-12_FLAG_W,DELC13,DELC13_FLAG_W,TCARBN,TCARBN_FLAG_W,ALKALI,ALKALI_FLAG_W,PH,PH_FLAG_W,PH_TMP,PH_SCALE,PH_NBS,PH_NBS_FLAG_W,C13ERR,TOTALP,TOTALP_FLAG_W,AMMONI,AMMONI_FLAG_W,CHLORA,CHLORA_FLAG_W,PPHYTN,PPHYTN_FLAG_W,REVPRS,REVTMP,DEPTH_,DEPTH_FLAG,CTDDEP,THETA,SIGTHT,DOC,DOC_FLAG_W
,,,,,,,GMT,GMT,,,METER,DBAR,ITS-90,PSS-78,,UMOL/KG,,PSS-78,,UMOL/KG,,UMOL/KG,,UMOL/KG,,UMOL/KG,,UMOL/KG,,UMOL/KG,,PMOL/KG,,PMOL/KG,,/MILLE,,UMOL/KG,,UMOL/KG,,25_DEG_C,,DEG_C,,,,/MILLE,UMOL/KG,,UMOL/KG,,UG/L,,UG/L,,DBAR,ITS-90,METERS,,METERS,DEG_C,,UMOL/L,
       KS05-01,  137E,KS-1200,  1,     24,02-16030,2,20050127,1848, 14.9925, 136.9510, 5458,      6.1,  27.0193,  34.4566,2,   -999.0,9,  34.4585,2,    203.0,2,     0.70,2,  -999.00,9,     0.00,2,     0.00,2,     0.00,2, -999.000,9, -999.000,9,  -999.00,9,   1918.0,2,   -999.0,9,   8.1196,2,     25.0, TS,     8.19,2,   -999.0,  -999.00,9,  -999.00,9,     0.06,2,     0.03,2,   -999.0,-999.0000, -999,9,    6,  27.0179,  22.3028,   -999.0,9
       KS05-01,  137E,KS-1200,  1,     23,02-19380,2,20050127,1848, 14.9925, 136.9510, 5458,     11.5,  27.0270,  34.4566,2,   -999.0,9,-999.0000,9,    203.0,2,     0.74,2,  -999.00,9,     0.00,2,     0.00,2,     0.00,2, -999.000,9, -999.000,9,  -999.00,9,   1920.7,2,   -999.0,9,   8.1233,2,     25.0, TS,     8.18,2,   -999.0,  -999.00,9,  -999.00,9,     0.09,2,     0.05,2,   -999.0,-999.0000, -999,9,   11,  27.0244,  22.3007,   -999.0,9
       KS05-01,  137E,KS-1200,  1,     22,02-19379,2,20050127,1847, 14.9925, 136.9510, 5458,     25.6,  27.0309,  34.4576,2,   -999.0,9,-999.0000,9,    203.0,2,     0.73,2,  -999.00,9,     0.00,2,     0.00,2,     0.00,2, -999.000,9, -999.000,9,  -999.00,9,   1917.5,2,   -999.0,9,   8.1214,2,     25.0, TS,     8.20,2,   -999.0,  -999.00,9,  -999.00,9,     0.09,2,     0.05,2,   -999.0,-999.0000, -999,9,   25,  27.0250,  22.3013,   -999.0,9
       KS05-01,  137E,KS-1200,  1,     21,02-16027,2,20050127,1843, 14.9925, 136.9510, 5458,     50.1,  27.0272,  34.4561,2,   -999.0,9,-999.0000,9,    202.0,2,     0.73,2,  -999.00,9,     0.00,2,     0.00,2,     0.00,2, -999.000,9, -999.000,9,  -999.00,9,   1922.0,3,   -999.0,9,   8.1239,2,     25.0, TS,     8.21,2,   -999.0,  -999.00,9,  -999.00,9,     0.08,2,     0.05,2,   -999.0,-999.0000, -999,9,   50,  27.0157,  22.3031,   -999.0,9
       KS05-01,  137E,KS-1200,  1,     20,02-16026,2,20050127,1842, 14.9925, 136.9510, 5458,     72.7,  27.0426,  34.4773,2,   -999.0,9,-999.0000,9,    203.0,2,     0.72,2,  -999.00,9,     0.00,2,     0.00,2,     0.00,2, -999.000,9, -999.000,9,  -999.00,9,   1918.1,2,   -999.0,9,   8.1237,2,     25.0, TS,     8.21,2,   -999.0,  -999.00,9,  -999.00,9,     0.10,2,     0.06,2,   -999.0,-999.0000, -999,9,   72,  27.0259,  22.3158,   -999.0,9
       KS05-01,  137E,KS-1200,  1,     19,02-19378,2,20050127,1841, 14.9925, 136.9510, 5458,    101.5,  26.0533,  34.9573,2,   -999.0,9,  34.9477,4,    202.0,2,     0.87,2,  -999.00,9,     0.00,2,     0.00,2,     0.02,2, -999.000,9, -999.000,9,  -999.00,9,   1968.5,2,   -999.0,9,   8.0870,2,     25.0, TS,     8.17,2,   -999.0,  -999.00,9,  -999.00,9,     0.18,2,     0.24,2,   -999.0,-999.0000, -999,9,  101,  26.0306,  22.9915,   -999.0,9
       KS05-01,  137E,KS-1200,  1,     18,02-19377,2,20050127,1841, 14.9925, 136.9510, 5458,    126.5,  23.7851,  35.1430,2,   -999.0,9,-999.0000,9,    187.0,2,     1.18,2,  -999.00,9,     0.59,2,     0.03,2,     0.08,2, -999.000,9, -999.000,9,  -999.00,9,   2006.2,2,   -999.0,9,   8.0363,2,     25.0, TS,     8.11,2,   -999.0,  -999.00,9,  -999.00,9,     0.12,2,     0.41,2,   -999.0,-999.0000, -999,9,  126,  23.7586,  23.8210,   -999.0,9
       KS05-01,  137E,KS-1200,  1,     17,02-16023,2,20050127,1840, 14.9925, 136.9510, 5458,    151.1,  22.3409,  35.1268,2,   -999.0,9,-999.0000,9,    184.0,2,     1.54,2,  -999.00,9,     1.46,2,     0.02,2,     0.13,2, -999.000,9, -999.000,9,  -999.00,9,   2021.7,3,   -999.0,9,   8.0142,2,     25.0, TS,     8.08,2,   -999.0,  -999.00,9,  -999.00,9,     0.05,2,     0.21,2,   -999.0,-999.0000, -999,9,  150,  22.3107,  24.2267,   -999.0,9
       KS05-01,  137E,KS-1200,  1,     16,02-16022,2,20050127,1838, 14.9925, 136.9510, 5458,    201.6,  18.6991,  34.8835,2,   -999.0,9,  34.8920,4,    180.0,2,     3.70,2,  -999.00,9,     4.98,2,     0.00,2,     0.33,2, -999.000,9, -999.000,9,  -999.00,9,   2049.7,2,   -999.0,9,   7.9405,2,     25.0, TS,     8.01,2,   -999.0,  -999.00,9,  -999.00,9,     0.01,2,     0.03,2,   -999.0,-999.0000, -999,9,  200,  18.6636,  25.0174,   -999.0,9
       KS05-01,  137E,KS-1200,  1,     15,02-16021,2,20050127,1837, 14.9925, 136.9510, 5458,    254.3,  14.9720,  34.5603,2,   -999.0,9,-999.0000,9,    168.0,2,     9.94,2,  -999.00,9,    11.50,2,     0.00,2,     0.77,2, -999.000,9, -999.000,9,  -999.00,9,   2090.2,2,   -999.0,9,   7.8413,2,     25.0, TS,     7.91,2,   -999.0,  -999.00,9,  -999.00,9,     0.00,2,     0.01,2,   -999.0,-999.0000, -999,9,  253,  14.9336,  25.6474,   -999.0,9
       KS05-01,  137E,KS-1200,  1,     14,02-16020,2,20050127,1835, 14.9925, 136.9510, 5458,    302.4,  12.1748,  34.3597,2,   -999.0,9,  34.3609,2,    166.0,2,    16.95,2,  -999.00,9,    16.18,2,     0.00,2,     1.10,2, -999.000,9, -999.000,9,  -999.00,9,   2116.0,2,   -999.0,9,   7.7683,2,     25.0, TS,     7.83,2,   -999.0,  -999.00,9,  -999.00,9,     0.00,2,     0.00,2,   -999.0,-999.0000, -999,9,  300,  12.1351,  26.0660,   -999.0,9
       KS05-01,  137E,KS-1200,  1,     13,02-16019,2,20050127,1832, 14.9925, 136.9510, 5458,    404.6,   8.3404,  34.2280,2,   -999.0,9,  34.2279,2,    109.0,2,    42.63,2,  -999.00,9,    28.54,2,     0.00,2,     2.01,2, -999.000,9, -999.000,9,  -999.00,9,   2203.1,2,   -999.0,9,   7.5849,2,     25.0, TS,     7.62,2,   -999.0,  -999.00,9,  -999.00,9,  -999.00,9,  -999.00,9,   -999.0,-999.0000, -999,9,  402,   8.2983,  26.6227,   -999.0,9
       KS05-01,  137E,KS-1200,  1,     12,02-16018,2,20050127,1829, 14.9925, 136.9510, 5458,    505.5,   6.8350,  34.3764,2,   -999.0,9,  34.3768,2,     74.0,2,    61.24,2,  -999.00,9,    35.35,2,     0.00,2,     2.51,2, -999.000,9, -999.000,9,  -999.00,9,   2262.1,2,   -999.0,9,   7.4974,2,     25.0, TS,     7.53,2,   -999.0,  -999.00,9,  -999.00,9,  -999.00,9,  -999.00,9,   -999.0,-999.0000, -999,9,  502,   6.7877,  26.9566,   -999.0,9
       KS05-01,  137E,KS-1200,  1,     11,02-19376,2,20050127,1826, 14.9925, 136.9510, 5458,    606.0,   5.9473,  34.4217,2,   -999.0,9,  34.4237,2,     71.0,2,    72.67,2,  -999.00,9,    37.00,2,     0.00,2,     2.64,2, -999.000,9, -999.000,9,  -999.00,9,   2278.9,3,   -999.0,9,   7.5012,2,     25.0, TS,     7.52,2,   -999.0,  -999.00,9,  -999.00,9,  -999.00,9,  -999.00,9,   -999.0,-999.0000, -999,9,  602,   5.8942,  27.1091,   -999.0,9
       KS05-01,  137E,KS-1200,  1,     10,02-19375,2,20050127,1823, 14.9925, 136.9510, 5458,    706.3,   5.3514,  34.4738,2,   -999.0,9,  34.4736,2,     78.0,2,    80.05,2,  -999.00,9,    37.67,2,     0.00,2,     2.68,2, -999.000,9, -999.000,9,  -999.00,9,   2287.4,3,   -999.0,9,   7.5048,2,     25.0, TS,     7.54,2,   -999.0,  -999.00,9,  -999.00,9,  -999.00,9,  -999.00,9,   -999.0,-999.0000, -999,9,  701,   5.2922,  27.2239,   -999.0,9
       KS05-01,  137E,KS-1200,  1,      9,02-16015,4,20050127,1820, 14.9925, 136.9510, 5458,    808.4,   4.8607,  34.5061,2,   -999.0,9,  34.5991,4,    100.0,4,    17.25,4,  -999.00,9,    10.12,4,     0.00,4,     0.69,4, -999.000,9, -999.000,9,  -999.00,9,   2147.1,4,   -999.0,9,   7.8589,4,     25.0, TS,     7.98,4,   -999.0,  -999.00,9,  -999.00,9,  -999.00,9,  -999.00,9,   -999.0,-999.0000, -999,9,  802,   4.7953,  27.3071,   -999.0,9
       KS05-01,  137E,KS-1200,  1,      8,02-16014,2,20050127,1816, 14.9925, 136.9510, 5458,    908.1,   4.4367,  34.5278,2,   -999.0,9,  34.5270,2,     86.0,2,    95.17,2,  -999.00,9,    38.25,2,     0.00,2,     2.72,2, -999.000,9, -999.000,9,  -999.00,9,   2300.9,2,   -999.0,9,   7.5124,2,     25.0, TS,     7.55,2,   -999.0,  -999.00,9,  -999.00,9,  -999.00,9,  -999.00,9,   -999.0,-999.0000, -999,9,  901,   4.3655,  27.3718,   -999.0,9
       KS05-01,  137E,KS-1200,  1,      7,02-19374,2,20050127,1813, 14.9925, 136.9510, 5458,   1010.6,   3.9868,  34.5402,2,   -999.0,9,  34.5404,2,     88.0,2,   104.51,2,  -999.00,9,    38.45,2,     0.00,2,     2.73,2, -999.000,9, -999.000,9,  -999.00,9,   2313.9,2,   -999.0,9,   7.5091,2,     25.0, TS,     7.55,2,   -999.0,  -999.00,9,  -999.00,9,  -999.00,9,  -999.00,9,   -999.0,-999.0000, -999,9, 1002,   3.9103,  27.4297,   -999.0,9
       KS05-01,  137E,KS-1200,  1,      6,02-19373,2,20050127,1807, 14.9925, 136.9510, 5458,   1261.4,   3.3196,  34.5647,2,   -999.0,9,  34.5643,2,     94.0,2,   118.10,2,  -999.00,9,    38.54,2,     0.00,2,     2.73,2, -999.000,9, -999.000,9,  -999.00,9,   2324.0,2,   -999.0,9,   7.5242,2,     25.0, TS,     7.55,2,   -999.0,  -999.00,9,  -999.00,9,  -999.00,9,  -999.00,9,   -999.0,-999.0000, -999,9, 1250,   3.2282,  27.5164,   -999.0,9
       KS05-01,  137E,KS-1200,  1,      5,02-16011,2,20050127,1800, 14.9925, 136.9510, 5458,   1516.0,   2.7905,  34.5889,2,   -999.0,9,  34.5885,2,     99.0,2,   128.14,2,  -999.00,9,    38.63,2,     0.00,2,     2.72,2, -999.000,9, -999.000,9,  -999.00,9,   2334.0,2,   -999.0,9,   7.5314,2,     25.0, TS,     7.56,2,   -999.0,  -999.00,9,  -999.00,9,  -999.00,9,  -999.00,9,   -999.0,-999.0000, -999,9, 1502,   2.6837,  27.5853,   -999.0,9
       KS05-01,  137E,KS-1200,  1,      4,02-16010,2,20050127,1754, 14.9925, 136.9510, 5458,   1769.7,   2.3814,  34.6128,2,   -999.0,9,  34.6107,2,    110.0,2,   134.01,2,  -999.00,9,    38.53,2,     0.00,2,     2.70,2, -999.000,9, -999.000,9,  -999.00,9,   2334.1,6,   -999.0,9,   7.5398,2,     25.0, TS,     7.57,2,   -999.0,  -999.00,9,  -999.00,9,  -999.00,9,  -999.00,9,   -999.0,-999.0000, -999,9, 1752,   2.2588,  27.6406,   -999.0,9
       KS05-01,  137E,KS-1200,  1,      3,02-16009,2,20050127,1749, 14.9925, 136.9510, 5458,   2022.3,   2.1064,  34.6290,2,   -999.0,9,  34.6274,2,    116.0,2,   138.98,2,  -999.00,9,    38.34,2,     0.00,2,     2.67,2, -999.000,9, -999.000,9,  -999.00,9,   2337.3,2,   -999.0,9,   7.5504,6,     25.0, TS,     7.58,2,   -999.0,  -999.00,9,  -999.00,9,  -999.00,9,  -999.00,9,   -999.0,-999.0000, -999,9, 2001,   1.9665,  27.6771,   -999.0,9
       KS05-01,  137E,KS-1200,  1,      2,02-16008,2,20050127,1730, 14.9925, 136.9510, 5458,   3039.6,   1.6463,  34.6693,2,   -999.0,9,  34.6659,2,    140.0,2,   142.68,2,  -999.00,9,    36.97,2,     0.00,2,     2.54,2, -999.000,9, -999.000,9,  -999.00,9,   -999.0,9,   -999.0,9,-999.0000,9,   -999.0,  9,     7.62,2,   -999.0,  -999.00,9,  -999.00,9,  -999.00,9,  -999.00,9,   -999.0,-999.0000, -999,9, 3000,   1.4225,  27.7504,   -999.0,9
       KS05-01,  137E,KS-1200,  1,      1,02-16007,2,20050127,1714, 14.9925, 136.9510, 5458,   4061.9,   1.5406,  34.6846,2,   -999.0,9,  34.6818,2,    156.0,2,   138.51,2,  -999.00,9,    35.90,2,     0.00,2,     2.45,2, -999.000,9, -999.000,9,  -999.00,9,   -999.0,9,   -999.0,9,-999.0000,9,   -999.0,  9,     7.64,2,   -999.0,  -999.00,9,  -999.00,9,  -999.00,9,  -999.00,9,   -999.0,-999.0000, -999,9, 4000,   1.2138,  27.7774,   -999.0,9