BOTTLE,20130510GEMDJMAYT
EXPOCODE,SECT_ID,STNNBR,CASTNO,SAMPNO,BTLNBR,BTLNBR_FLAG_W,DATE,TIME,LATITUDE,LONGITUDE,DEPTH,CTDPRS,CTDTMP,CTDSAL,CTDSAL_FLAG_W,CTDOXY,CTDOXY_FLAG_W,SALNTY,SALNTY_FLAG_W,OXYGEN,OXYGEN_FLAG_W,SILCAT,SILCAT_FLAG_W,NITRAT,NITRAT_FLAG_W,NO2+NO3,NO2+NO3_FLAG_W,NITRIT,NITRIT_FLAG_W,PHSPHT,PHSPHT_FLAG_W,CFC-11,CFC-11_FLAG_W,CFC-12,CFC-12_FLAG_W,DELC13,DELC13_FLAG_W,TCARBN,TCARBN_FLAG_W,ALKALI,ALKALI_FLAG_W,PH,PH_FLAG_W,PH_TMP,PH_SCALE,PH_NBS,PH_NBS_FLAG_W,C13ERR,TOTALP,TOTALP_FLAG_W,AMMONI,AMMONI_FLAG_W,CHLORA,CHLORA_FLAG_W,PPHYTN,PPHYTN_FLAG_W,REVPRS,REVTMP,DEPTH_,DEPTH_FLAG,CTDDEP,THETA,SIGTHT,DOC,DOC_FLAG_W
,,,,,,,GMT,GMT,,,METER,DBAR,ITS-90,PSS-78,,UMOL/KG,,PSS-78,,UMOL/KG,,UMOL/KG,,UMOL/KG,,UMOL/KG,,UMOL/KG,,UMOL/KG,,PMOL/KG,,PMOL/KG,,/MILLE,,UMOL/KG,,UMOL/KG,,25_DEG_C,,DEG_C,,,,/MILLE,UMOL/KG,,UMOL/KG,,UG/L,,UG/L,,DBAR,ITS-90,METERS,,METERS,DEG_C,,UMOL/L,
       KS05-01,  137E,KS-1190,  1,     24,02-16030,2,20050124,2106, 24.9657, 137.0237, 5211,      5.3,  22.5823,  34.8474,2,   -999.0,9,  34.8497,2,    217.0,2,     1.43,2,  -999.00,9,     0.00,2,     0.00,2,     0.00,2, -999.000,9, -999.000,9,  -999.00,9,   1964.0,2,   -999.0,9,   8.0882,2,     25.0, TS,     8.18,2,   -999.0,  -999.00,9,  -999.00,9,     0.02,2,     0.02,2,   -999.0,-999.0000, -999,9,    5,  22.5812,  23.9378,   -999.0,9
       KS05-01,  137E,KS-1190,  1,     23,02-19380,2,20050124,2106, 24.9657, 137.0237, 5211,     10.1,  22.5745,  34.8475,2,   -999.0,9,-999.0000,9,    218.0,2,     1.42,2,  -999.00,9,     0.00,2,     0.00,2,     0.00,2, -999.000,9, -999.000,9,  -999.00,9,   1964.5,2,   -999.0,9,   8.0875,2,     25.0, TS,     8.18,2,   -999.0,  -999.00,9,  -999.00,9,     0.13,2,     0.09,2,   -999.0,-999.0000, -999,9,   10,  22.5725,  23.9404,   -999.0,9
       KS05-01,  137E,KS-1190,  1,     22,02-19379,2,20050124,2105, 24.9657, 137.0237, 5211,     25.1,  22.5881,  34.8474,2,   -999.0,9,-999.0000,9,    217.0,2,     1.46,2,  -999.00,9,     0.00,2,     0.00,2,     0.00,2, -999.000,9, -999.000,9,  -999.00,9,   1969.1,2,   -999.0,9,   8.0862,2,     25.0, TS,     8.17,2,   -999.0,  -999.00,9,  -999.00,9,     0.13,2,     0.10,2,   -999.0,-999.0000, -999,9,   25,  22.5830,  23.9372,   -999.0,9
       KS05-01,  137E,KS-1190,  1,     21,02-16027,2,20050124,2101, 24.9657, 137.0237, 5211,     49.4,  22.5725,  34.8490,2,   -999.0,9,-999.0000,9,    217.0,2,     1.41,2,  -999.00,9,     0.00,2,     0.00,2,     0.00,2, -999.000,9, -999.000,9,  -999.00,9,   1965.1,2,   -999.0,9,   8.0868,2,     25.0, TS,     8.17,2,   -999.0,  -999.00,9,  -999.00,9,     0.16,2,     0.10,2,   -999.0,-999.0000, -999,9,   49,  22.5626,  23.9443,   -999.0,9
       KS05-01,  137E,KS-1190,  1,     20,02-16026,2,20050124,2100, 24.9657, 137.0237, 5211,     74.0,  22.5746,  34.8491,2,   -999.0,9,-999.0000,9,    217.0,2,     1.45,2,  -999.00,9,     0.00,2,     0.00,2,     0.00,2, -999.000,9, -999.000,9,  -999.00,9,   1965.8,2,   -999.0,9,   8.0852,2,     25.0, TS,     8.17,2,   -999.0,  -999.00,9,  -999.00,9,     0.00,4,     0.01,4,   -999.0,-999.0000, -999,9,   74,  22.5597,  23.9452,   -999.0,9
       KS05-01,  137E,KS-1190,  1,     19,02-19378,2,20050124,2059, 24.9657, 137.0237, 5211,    100.4,  22.2889,  34.8550,2,   -999.0,9,  34.8629,4,    209.0,2,     1.65,2,  -999.00,9,     0.29,2,     0.04,2,     0.01,2, -999.000,9, -999.000,9,  -999.00,9,   1977.9,2,   -999.0,9,   8.0662,2,     25.0, TS,     8.16,2,   -999.0,  -999.00,9,  -999.00,9,     0.20,2,     0.36,2,   -999.0,-999.0000, -999,9,  100,  22.2689,  24.0321,   -999.0,9
       KS05-01,  137E,KS-1190,  1,     18,02-19377,2,20050124,2058, 24.9657, 137.0237, 5211,    125.3,  19.9788,  34.8713,2,   -999.0,9,-999.0000,9,    200.0,2,     2.65,2,  -999.00,9,     2.54,2,     0.02,2,     0.14,2, -999.000,9, -999.000,9,  -999.00,9,   2015.5,3,   -999.0,9,   8.0068,2,     25.0, TS,     8.09,2,   -999.0,  -999.00,9,  -999.00,9,     0.09,2,     0.34,2,   -999.0,-999.0000, -999,9,  124,  19.9557,  24.6752,   -999.0,9
       KS05-01,  137E,KS-1190,  1,     17,02-16023,2,20050124,2057, 24.9657, 137.0237, 5211,    151.0,  19.0405,  34.8667,2,   -999.0,9,-999.0000,9,    200.0,2,     2.80,2,  -999.00,9,     3.02,2,     0.01,2,     0.17,2, -999.000,9, -999.000,9,  -999.00,9,   2018.2,2,   -999.0,9,   7.9909,2,     25.0, TS,     8.07,2,   -999.0,  -999.00,9,  -999.00,9,     0.02,2,     0.07,2,   -999.0,-999.0000, -999,9,  150,  19.0136,  24.9158,   -999.0,9
       KS05-01,  137E,KS-1190,  1,     16,02-16022,2,20050124,2056, 24.9657, 137.0237, 5211,    200.9,  17.9411,  34.8021,2,   -999.0,9,  34.8023,2,    204.0,2,     3.64,2,  -999.00,9,     4.19,2,     0.00,2,     0.23,2, -999.000,9, -999.000,9,  -999.00,9,   2026.1,2,   -999.0,9,   7.9796,2,     25.0, TS,     8.06,2,   -999.0,  -999.00,9,  -999.00,9,     0.00,2,     0.02,2,   -999.0,-999.0000, -999,9,  199,  17.9067,  25.1434,   -999.0,9
       KS05-01,  137E,KS-1190,  1,     15,02-16021,2,20050124,2054, 24.9657, 137.0237, 5211,    251.6,  17.0626,  34.7536,2,   -999.0,9,-999.0000,9,    208.0,2,     4.58,2,  -999.00,9,     5.17,2,     0.00,2,     0.29,2, -999.000,9, -999.000,9,  -999.00,9,   2032.3,2,   -999.0,9,   7.9642,2,     25.0, TS,     8.04,2,   -999.0,  -999.00,9,  -999.00,9,     0.00,2,     0.01,2,   -999.0,-999.0000, -999,9,  250,  17.0210,  25.3201,   -999.0,9
       KS05-01,  137E,KS-1190,  1,     14,02-16020,2,20050124,2053, 24.9657, 137.0237, 5211,    301.3,  16.4133,  34.7086,2,   -999.0,9,  34.7095,2,    206.0,2,     5.90,2,  -999.00,9,     6.44,2,     0.00,2,     0.37,2, -999.000,9, -999.000,9,  -999.00,9,   2037.7,2,   -999.0,9,   7.9477,2,     25.0, TS,     8.03,2,   -999.0,  -999.00,9,  -999.00,9,     0.00,2,     0.00,2,   -999.0,-999.0000, -999,9,  299,  16.3647,  25.4395,   -999.0,9
       KS05-01,  137E,KS-1190,  1,     13,02-16019,2,20050124,2050, 24.9657, 137.0237, 5211,    404.0,  14.4448,  34.5522,2,   -999.0,9,  34.5547,2,    190.0,2,    11.70,2,  -999.00,9,    10.82,2,     0.00,2,     0.68,2, -999.000,9, -999.000,9,  -999.00,9,   2074.6,2,   -999.0,9,   7.8758,2,     25.0, TS,     7.95,2,   -999.0,  -999.00,9,  -999.00,9,  -999.00,9,  -999.00,9,   -999.0,-999.0000, -999,9,  401,  14.3850,  25.7596,   -999.0,9
       KS05-01,  137E,KS-1190,  1,     12,02-16018,3,20050124,2048, 24.9657, 137.0237, 5211,    503.8,  11.2939,  34.3235,2,   -999.0,9,  34.3254,2,    182.0,2,    22.62,2,  -999.00,9,    16.86,2,     0.00,2,     1.12,2, -999.000,9, -999.000,9,  -999.00,9,   2115.8,2,   -999.0,9,   7.7808,2,     25.0, TS,     7.85,2,   -999.0,  -999.00,9,  -999.00,9,  -999.00,9,  -999.00,9,   -999.0,-999.0000, -999,9,  500,  11.2303,  26.2070,   -999.0,9
       KS05-01,  137E,KS-1190,  1,     11,02-19376,2,20050124,2046, 24.9657, 137.0237, 5211,    604.7,   8.8260,  34.1927,2,   -999.0,9,  34.1932,2,    149.0,2,    38.79,2,  -999.00,9,    24.16,2,     0.00,2,     1.68,2, -999.000,9, -999.000,9,  -999.00,9,   2172.0,2,   -999.0,9,   7.6570,2,     25.0, TS,     7.72,2,   -999.0,  -999.00,9,  -999.00,9,  -999.00,9,  -999.00,9,   -999.0,-999.0000, -999,9,  600,   8.7602,  26.5238,   -999.0,9
       KS05-01,  137E,KS-1190,  1,     10,02-19375,2,20050124,2043, 24.9657, 137.0237, 5211,    704.8,   6.8301,  34.1460,2,   -999.0,9,  34.1458,2,    109.0,2,    58.44,2,  -999.00,9,    31.26,2,     0.00,2,     2.21,2, -999.000,9, -999.000,9,  -999.00,9,   2227.4,2,   -999.0,9,   7.5538,2,     25.0, TS,     7.59,2,   -999.0,  -999.00,9,  -999.00,9,  -999.00,9,  -999.00,9,   -999.0,-999.0000, -999,9,  699,   6.7635,  26.7782,   -999.0,9
       KS05-01,  137E,KS-1190,  1,      9,02-16015,2,20050124,2041, 24.9657, 137.0237, 5211,    805.3,   6.0174,  34.1692,2,   -999.0,9,  34.1697,2,     90.0,2,    70.68,2,  -999.00,9,    34.47,2,     0.00,2,     2.45,2, -999.000,9, -999.000,9,  -999.00,9,   2255.4,2,   -999.0,9,   7.5000,2,     25.0, TS,     7.54,2,   -999.0,  -999.00,9,  -999.00,9,  -999.00,9,  -999.00,9,   -999.0,-999.0000, -999,9,  799,   5.9456,  26.9030,   -999.0,9
       KS05-01,  137E,KS-1190,  1,      8,02-16014,2,20050124,2039, 24.9657, 137.0237, 5211,    908.4,   4.7665,  34.2543,2,   -999.0,9,  34.2575,2,     70.0,2,    94.48,2,  -999.00,9,    38.26,2,     0.00,2,     2.73,2, -999.000,9, -999.000,9,  -999.00,9,   2298.9,2,   -999.0,9,   7.4439,2,     25.0, TS,     7.48,2,   -999.0,  -999.00,9,  -999.00,9,  -999.00,9,  -999.00,9,   -999.0,-999.0000, -999,9,  901,   4.6934,  27.1187,   -999.0,9
       KS05-01,  137E,KS-1190,  1,      7,02-19374,2,20050124,2036, 24.9657, 137.0237, 5211,   1009.5,   4.0873,  34.3305,2,   -999.0,9,  34.3286,2,     60.0,2,   108.61,2,  -999.00,9,    39.62,2,     0.00,2,     2.83,2, -999.000,9, -999.000,9,  -999.00,9,   2324.1,2,   -999.0,9,   7.4403,2,     25.0, TS,     7.47,2,   -999.0,  -999.00,9,  -999.00,9,  -999.00,9,  -999.00,9,   -999.0,-999.0000, -999,9, 1001,   4.0105,  27.2525,   -999.0,9
       KS05-01,  137E,KS-1190,  1,      6,02-19373,2,20050124,2031, 24.9657, 137.0237, 5211,   1260.0,   3.0877,  34.4567,2,   -999.0,9,  34.4553,2,     64.0,2,   130.01,2,  -999.00,9,    40.59,2,     0.00,2,     2.87,2, -999.000,9, -999.000,9,  -999.00,9,   2346.7,2,   -999.0,9,   7.4463,2,     25.0, TS,     7.49,2,   -999.0,  -999.00,9,  -999.00,9,  -999.00,9,  -999.00,9,   -999.0,-999.0000, -999,9, 1248,   2.9988,  27.4515,   -999.0,9
       KS05-01,  137E,KS-1190,  1,      5,02-16011,2,20050124,2027, 24.9657, 137.0237, 5211,   1513.6,   2.5492,  34.5365,2,   -999.0,9,  34.5355,2,     85.0,2,   137.49,2,  -999.00,9,    39.80,2,     0.00,2,     2.79,2, -999.000,9, -999.000,9,  -999.00,9,   2351.2,2,   -999.0,9,   7.4896,2,     25.0, TS,     7.52,2,   -999.0,  -999.00,9,  -999.00,9,  -999.00,9,  -999.00,9,   -999.0,-999.0000, -999,9, 1498,   2.4456,  27.5639,   -999.0,9
       KS05-01,  137E,KS-1190,  1,      4,02-16010,2,20050124,2022, 24.9657, 137.0237, 5211,   1766.0,   2.2674,  34.5851,2,   -999.0,9,  34.5838,2,    103.0,2,   138.35,2,  -999.00,9,    38.63,2,     0.00,2,     2.71,2, -999.000,9, -999.000,9,  -999.00,9,   2341.0,3,   -999.0,9,   7.5354,2,     25.0, TS,     7.56,2,   -999.0,  -999.00,9,  -999.00,9,  -999.00,9,  -999.00,9,   -999.0,-999.0000, -999,9, 1747,   2.1467,  27.6276,   -999.0,9
       KS05-01,  137E,KS-1190,  1,      3,02-16009,3,20050124,2017, 24.9657, 137.0237, 5211,   2021.3,   2.0379,  34.6118,2,   -999.0,9,  34.6099,2,    116.0,2,   139.54,2,  -999.00,9,    38.14,2,     0.00,2,     2.66,2, -999.000,9, -999.000,9,  -999.00,9,   2341.0,2,   -999.0,9,   7.5535,6,     25.0, TS,     7.58,2,   -999.0,  -999.00,9,  -999.00,9,  -999.00,9,  -999.00,9,   -999.0,-999.0000, -999,9, 1999,   1.8992,  27.6686,   -999.0,9
       KS05-01,  137E,KS-1190,  1,      2,02-16008,2,20050124,2001, 24.9657, 137.0237, 5211,   3038.7,   1.6421,  34.6639,2,   -999.0,9,  34.6616,2,    143.0,2,   139.94,2,  -999.00,9,    36.68,2,     0.00,2,     2.52,2, -999.000,9, -999.000,9,  -999.00,9,   -999.0,9,   -999.0,9,-999.0000,9,   -999.0,  9,     7.63,2,   -999.0,  -999.00,9,  -999.00,9,  -999.00,9,  -999.00,9,   -999.0,-999.0000, -999,9, 2998,   1.4185,  27.7463,   -999.0,9
       KS05-01,  137E,KS-1190,  1,      1,02-16007,2,20050124,1944, 24.9657, 137.0237, 5211,   4060.8,   1.5407,  34.6842,2,   -999.0,9,  34.6883,4,    158.0,2,   138.12,2,  -999.00,9,    35.81,2,     0.00,2,     2.44,2, -999.000,9, -999.000,9,  -999.00,9,   -999.0,9,   -999.0,9,-999.0000,9,   -999.0,  9,     7.65,2,   -999.0,  -999.00,9,  -999.00,9,  -999.00,9,  -999.00,9,   -999.0,-999.0000, -999,9, 3996,   1.2140,  27.7771,   -999.0,9