BOTTLE,20130510GEMDJMAYT
EXPOCODE,SECT_ID,STNNBR,CASTNO,SAMPNO,BTLNBR,BTLNBR_FLAG_W,DATE,TIME,LATITUDE,LONGITUDE,DEPTH,CTDPRS,CTDTMP,CTDSAL,CTDSAL_FLAG_W,CTDOXY,CTDOXY_FLAG_W,SALNTY,SALNTY_FLAG_W,OXYGEN,OXYGEN_FLAG_W,SILCAT,SILCAT_FLAG_W,NITRAT,NITRAT_FLAG_W,NO2+NO3,NO2+NO3_FLAG_W,NITRIT,NITRIT_FLAG_W,PHSPHT,PHSPHT_FLAG_W,CFC-11,CFC-11_FLAG_W,CFC-12,CFC-12_FLAG_W,DELC13,DELC13_FLAG_W,TCARBN,TCARBN_FLAG_W,ALKALI,ALKALI_FLAG_W,PH,PH_FLAG_W,PH_TMP,PH_SCALE,PH_NBS,PH_NBS_FLAG_W,C13ERR,TOTALP,TOTALP_FLAG_W,AMMONI,AMMONI_FLAG_W,CHLORA,CHLORA_FLAG_W,PPHYTN,PPHYTN_FLAG_W,REVPRS,REVTMP,DEPTH_,DEPTH_FLAG,CTDDEP,THETA,SIGTHT,DOC,DOC_FLAG_W
,,,,,,,GMT,GMT,,,METER,DBAR,ITS-90,PSS-78,,UMOL/KG,,PSS-78,,UMOL/KG,,UMOL/KG,,UMOL/KG,,UMOL/KG,,UMOL/KG,,UMOL/KG,,PMOL/KG,,PMOL/KG,,/MILLE,,UMOL/KG,,UMOL/KG,,25_DEG_C,,DEG_C,,,,/MILLE,UMOL/KG,,UMOL/KG,,UG/L,,UG/L,,DBAR,ITS-90,METERS,,METERS,DEG_C,,UMOL/L,
       KS05-01,  137E,KS-1210,  1,     24,02-16030,2,20050131,0011,  5.0142, 137.0020, 4875,      4.4,  28.1907,  34.6400,2,   -999.0,9,  34.6429,2,    198.0,2,     1.21,2,  -999.00,9,     0.20,2,     0.02,2,     0.08,2, -999.000,9, -999.000,9,  -999.00,9,   1949.7,3,   -999.0,9,   8.1004,6,     25.0, TS,     8.22,2,   -999.0,  -999.00,9,  -999.00,9,     0.13,2,     0.09,2,   -999.0,-999.0000, -999,9,    4,  28.1897,  22.0619,   -999.0,9
       KS05-01,  137E,KS-1210,  1,     23,02-19380,2,20050131,0010,  5.0142, 137.0020, 4875,      9.3,  28.1802,  34.6400,2,   -999.0,9,-999.0000,9,    197.0,2,     1.14,2,  -999.00,9,     0.29,2,     0.02,2,     0.09,2, -999.000,9, -999.000,9,  -999.00,9,   1952.0,3,   -999.0,9,-999.0000,9,   -999.0,  9,     8.22,2,   -999.0,  -999.00,9,  -999.00,9,     0.26,2,     0.18,2,   -999.0,-999.0000, -999,9,    9,  28.1780,  22.0657,   -999.0,9
       KS05-01,  137E,KS-1210,  1,     22,02-19379,2,20050131,0008,  5.0142, 137.0020, 4875,     24.5,  27.5965,  34.7148,2,   -999.0,9,-999.0000,9,    190.0,2,     1.50,2,  -999.00,9,     1.27,2,     0.11,2,     0.15,2, -999.000,9, -999.000,9,  -999.00,9,   1966.0,3,   -999.0,9,-999.0000,9,   -999.0,  9,     8.20,2,   -999.0,  -999.00,9,  -999.00,9,     0.39,2,     0.39,2,   -999.0,-999.0000, -999,9,   24,  27.5908,  22.3132,   -999.0,9
       KS05-01,  137E,KS-1210,  1,     21,02-16027,2,20050131,0004,  5.0142, 137.0020, 4875,     49.2,  24.9911,  34.5950,2,   -999.0,9,-999.0000,9,    164.0,2,     4.31,2,  -999.00,9,     5.28,2,     0.46,2,     0.37,2, -999.000,9, -999.000,9,  -999.00,9,   2010.4,3,   -999.0,9,-999.0000,9,   -999.0,  9,     8.13,2,   -999.0,  -999.00,9,  -999.00,9,     0.53,2,     0.87,2,   -999.0,-999.0000, -999,9,   49,  24.9805,  23.0411,   -999.0,9
       KS05-01,  137E,KS-1210,  1,     20,02-16026,2,20050131,0003,  5.0142, 137.0020, 4875,     74.6,  24.7005,  35.1905,2,   -999.0,9,-999.0000,9,    142.0,2,     3.50,2,  -999.00,9,     8.01,2,     0.10,2,     0.58,2, -999.000,9, -999.000,9,  -999.00,9,   2049.5,3,   -999.0,9,-999.0000,9,   -999.0,  9,     8.09,2,   -999.0,  -999.00,9,  -999.00,9,     0.14,2,     0.47,2,   -999.0,-999.0000, -999,9,   74,  24.6845,  23.5809,   -999.0,9
       KS05-01,  137E,KS-1210,  1,     19,02-19378,2,20050131,0002,  5.0142, 137.0020, 4875,     98.9,  23.4719,  35.2915,2,   -999.0,9,  35.2761,4,    136.0,2,     4.12,2,  -999.00,9,     9.08,2,     0.03,2,     0.65,2, -999.000,9, -999.000,9,  -999.00,9,   2072.8,3,   -999.0,9,-999.0000,9,   -999.0,  9,     8.07,2,   -999.0,  -999.00,9,  -999.00,9,     0.05,2,     0.20,2,   -999.0,-999.0000, -999,9,   98,  23.4514,  24.0236,   -999.0,9
       KS05-01,  137E,KS-1210,  1,     18,02-19377,2,20050131,0001,  5.0142, 137.0020, 4875,    124.1,  21.1781,  34.9015,2,   -999.0,9,-999.0000,9,    142.0,2,     9.61,2,  -999.00,9,    10.74,2,     0.02,2,     0.74,2, -999.000,9, -999.000,9,  -999.00,9,   2077.5,3,   -999.0,9,-999.0000,9,   -999.0,  9,     8.03,2,   -999.0,  -999.00,9,  -999.00,9,     0.03,2,     0.10,2,   -999.0,-999.0000, -999,9,  123,  21.1542,  24.3769,   -999.0,9
       KS05-01,  137E,KS-1210,  1,     17,02-16023,2,20050131,0000,  5.0142, 137.0020, 4875,    151.2,  19.0697,  34.7549,2,   -999.0,9,-999.0000,9,    168.0,2,     7.89,2,  -999.00,9,     7.90,2,     0.03,2,     0.53,2, -999.000,9, -999.000,9,  -999.00,9,   2065.0,3,   -999.0,9,-999.0000,9,   -999.0,  9,     8.04,2,   -999.0,  -999.00,9,  -999.00,9,     0.04,2,     0.11,2,   -999.0,-999.0000, -999,9,  150,  19.0427,  24.8230,   -999.0,9
       KS05-01,  137E,KS-1210,  1,     16,02-16022,2,20050130,2359,  5.0142, 137.0020, 4875,    201.5,  15.2815,  34.7150,2,   -999.0,9,  34.7007,4,    153.0,2,    14.37,2,  -999.00,9,    14.23,2,     0.01,2,     0.97,2, -999.000,9, -999.000,9,  -999.00,9,   2119.7,3,   -999.0,9,-999.0000,9,   -999.0,  9,     7.94,2,   -999.0,  -999.00,9,  -999.00,9,     0.01,2,     0.05,2,   -999.0,-999.0000, -999,9,  200,  15.2507,  25.6970,   -999.0,9
       KS05-01,  137E,KS-1210,  1,     15,02-16021,2,20050130,2357,  5.0142, 137.0020, 4875,    251.4,  12.6212,  34.6602,2,   -999.0,9,-999.0000,9,    133.0,2,    25.22,2,  -999.00,9,    20.85,2,     0.00,2,     1.43,2, -999.000,9, -999.000,9,  -999.00,9,   2154.0,2,   -999.0,9,-999.0000,9,   -999.0,  9,     7.84,2,   -999.0,  -999.00,9,  -999.00,9,     0.00,2,     0.03,2,   -999.0,-999.0000, -999,9,  250,  12.5873,  26.2115,   -999.0,9
       KS05-01,  137E,KS-1210,  1,     14,02-16020,2,20050130,2356,  5.0142, 137.0020, 4875,    300.4,   9.7411,  34.4976,2,   -999.0,9,  34.5017,2,     93.0,2,    35.90,2,  -999.00,9,    29.03,2,     0.00,2,     2.03,2, -999.000,9, -999.000,9,  -999.00,9,   2212.4,2,   -999.0,9,-999.0000,9,   -999.0,  9,     7.69,2,   -999.0,  -999.00,9,  -999.00,9,     0.00,2,     0.04,2,   -999.0,-999.0000, -999,9,  299,   9.7068,  26.6091,   -999.0,9
       KS05-01,  137E,KS-1210,  1,     13,02-16019,2,20050130,2353,  5.0142, 137.0020, 4875,    401.2,   8.3165,  34.5778,2,   -999.0,9,  34.5781,2,     82.0,2,    40.41,2,  -999.00,9,    33.21,2,     0.00,2,     2.31,2, -999.000,9, -999.000,9,  -999.00,9,   2238.2,2,   -999.0,9,-999.0000,9,   -999.0,  9,     7.64,2,   -999.0,  -999.00,9,  -999.00,9,  -999.00,9,  -999.00,9,   -999.0,-999.0000, -999,9,  399,   8.2747,  26.9008,   -999.0,9
       KS05-01,  137E,KS-1210,  1,     12,02-16018,2,20050130,2351,  5.0142, 137.0020, 4875,    501.6,   7.3541,  34.5589,2,   -999.0,9,  34.5592,2,    115.0,2,    40.81,2,  -999.00,9,    32.13,2,     0.00,2,     2.22,2, -999.000,9, -999.000,9,  -999.00,9,   -999.0,9,   -999.0,9,-999.0000,9,   -999.0,  9,     7.68,2,   -999.0,  -999.00,9,  -999.00,9,  -999.00,9,  -999.00,9,   -999.0,-999.0000, -999,9,  498,   7.3051,  27.0285,   -999.0,9
       KS05-01,  137E,KS-1210,  1,     11,02-19376,2,20050130,2349,  5.0142, 137.0020, 4875,    602.0,   6.6335,  34.5378,2,   -999.0,9,  34.5382,2,    110.0,2,    48.96,2,  -999.00,9,    33.78,2,     0.00,2,     2.35,2, -999.000,9, -999.000,9,  -999.00,9,   2239.3,2,   -999.0,9,-999.0000,9,   -999.0,  9,     7.66,2,   -999.0,  -999.00,9,  -999.00,9,  -999.00,9,  -999.00,9,   -999.0,-999.0000, -999,9,  598,   6.5775,  27.1121,   -999.0,9
       KS05-01,  137E,KS-1210,  1,     10,02-19375,2,20050130,2346,  5.0142, 137.0020, 4875,    702.9,   6.0673,  34.5304,2,   -999.0,9,  34.5305,2,     93.0,2,    61.55,2,  -999.00,9,    36.31,2,     0.00,2,     2.55,2, -999.000,9, -999.000,9,  -999.00,9,   -999.0,9,   -999.0,9,-999.0000,9,   -999.0,  9,     7.62,2,   -999.0,  -999.00,9,  -999.00,9,  -999.00,9,  -999.00,9,   -999.0,-999.0000, -999,9,  698,   6.0045,  27.1810,   -999.0,9
       KS05-01,  137E,KS-1210,  1,      9,02-16015,2,20050130,2344,  5.0142, 137.0020, 4875,    803.9,   5.5664,  34.5353,2,   -999.0,9,  34.5364,2,     90.0,2,    69.00,2,  -999.00,9,    37.38,2,     0.01,2,     2.63,2, -999.000,9, -999.000,9,  -999.00,9,   2275.0,2,   -999.0,9,-999.0000,9,   -999.0,  9,     7.61,2,   -999.0,  -999.00,9,  -999.00,9,  -999.00,9,  -999.00,9,   -999.0,-999.0000, -999,9,  798,   5.4971,  27.2479,   -999.0,9
       KS05-01,  137E,KS-1210,  1,      8,02-16014,2,20050130,2342,  5.0142, 137.0020, 4875,    905.5,   5.2022,  34.5385,2,   -999.0,9,  34.5392,2,     91.0,2,    75.58,2,  -999.00,9,    37.77,2,     0.00,2,     2.67,2, -999.000,9, -999.000,9,  -999.00,9,   -999.0,9,   -999.0,9,-999.0000,9,   -999.0,  9,     7.61,2,   -999.0,  -999.00,9,  -999.00,9,  -999.00,9,  -999.00,9,   -999.0,-999.0000, -999,9,  899,   5.1259,  27.2947,   -999.0,9
       KS05-01,  137E,KS-1210,  1,      7,02-19374,2,20050130,2339,  5.0142, 137.0020, 4875,   1006.9,   4.5949,  34.5496,2,   -999.0,9,  34.5508,2,     90.0,2,    88.18,2,  -999.00,9,    38.35,2,     0.00,2,     2.71,2, -999.000,9, -999.000,9,  -999.00,9,   2297.4,2,   -999.0,9,-999.0000,9,   -999.0,  9,     7.60,2,   -999.0,  -999.00,9,  -999.00,9,  -999.00,9,  -999.00,9,   -999.0,-999.0000, -999,9,  999,   4.5140,  27.3730,   -999.0,9
       KS05-01,  137E,KS-1210,  1,      6,02-19373,2,20050130,2334,  5.0142, 137.0020, 4875,   1259.3,   3.7005,  34.5769,2,   -999.0,9,  34.5773,2,     95.0,2,   105.37,2,  -999.00,9,    39.03,2,     0.00,2,     2.75,2, -999.000,9, -999.000,9,  -999.00,9,   2314.5,2,   -999.0,9,-999.0000,9,   -999.0,  9,     7.60,2,   -999.0,  -999.00,9,  -999.00,9,  -999.00,9,  -999.00,9,   -999.0,-999.0000, -999,9, 1249,   3.6055,  27.4896,   -999.0,9
       KS05-01,  137E,KS-1210,  1,      5,02-16011,2,20050130,2330,  5.0142, 137.0020, 4875,   1512.2,   3.1658,  34.5952,2,   -999.0,9,  34.5950,2,     99.0,2,   117.06,2,  -999.00,9,    39.22,2,     0.00,2,     2.77,2, -999.000,9, -999.000,9,  -999.00,9,   2328.2,2,   -999.0,9,-999.0000,9,   -999.0,  9,     7.60,2,   -999.0,  -999.00,9,  -999.00,9,  -999.00,9,  -999.00,9,   -999.0,-999.0000, -999,9, 1498,   3.0550,  27.5569,   -999.0,9
       KS05-01,  137E,KS-1210,  1,      4,02-16010,2,20050130,2325,  5.0142, 137.0020, 4875,   1766.0,   2.5660,  34.6193,2,   -999.0,9,  34.6203,2,    110.0,2,   129.14,2,  -999.00,9,    38.83,2,     0.00,2,     2.71,2, -999.000,9, -999.000,9,  -999.00,9,   -999.0,9,   -999.0,9,-999.0000,9,   -999.0,  9,     7.62,2,   -999.0,  -999.00,9,  -999.00,9,  -999.00,9,  -999.00,9,   -999.0,-999.0000, -999,9, 1749,   2.4412,  27.6305,   -999.0,9
       KS05-01,  137E,KS-1210,  1,      3,02-16009,2,20050130,2320,  5.0142, 137.0020, 4875,   2019.2,   2.1826,  34.6389,2,   -999.0,9,  34.6374,2,    119.0,2,   136.08,2,  -999.00,9,    38.44,2,     0.00,2,     2.68,2, -999.000,9, -999.000,9,  -999.00,9,   2336.9,6,   -999.0,9,-999.0000,9,   -999.0,  9,     7.63,2,   -999.0,  -999.00,9,  -999.00,9,  -999.00,9,  -999.00,9,   -999.0,-999.0000, -999,9, 1998,   2.0417,  27.6791,   -999.0,9
       KS05-01,  137E,KS-1210,  1,      2,02-16008,2,20050130,2304,  5.0142, 137.0020, 4875,   3036.8,   1.6202,  34.6724,2,   -999.0,9,  34.6706,2,    145.0,2,   140.85,2,  -999.00,9,    36.78,2,     0.00,2,     2.53,2, -999.000,9, -999.000,9,  -999.00,9,   -999.0,9,   -999.0,9,-999.0000,9,   -999.0,  9,     7.67,2,   -999.0,  -999.00,9,  -999.00,9,  -999.00,9,  -999.00,9,   -999.0,-999.0000, -999,9, 2998,   1.3972,  27.7547,   -999.0,9
       KS05-01,  137E,KS-1210,  1,      1,02-16007,2,20050130,2247,  5.0142, 137.0020, 4875,   4061.4,   1.5252,  34.6862,2,   -999.0,9,  34.6836,2,    157.0,2,   139.64,2,  -999.00,9,    36.00,2,     0.00,2,     2.46,2, -999.000,9, -999.000,9,  -999.00,9,   -999.0,9,   -999.0,9,-999.0000,9,   -999.0,  9,     7.69,2,   -999.0,  -999.00,9,  -999.00,9,  -999.00,9,  -999.00,9,   -999.0,-999.0000, -999,9, 4001,   1.1989,  27.7798,   -999.0,9