BOTTLE,20130510GEMDJMAYT
EXPOCODE,SECT_ID,STNNBR,CASTNO,SAMPNO,BTLNBR,BTLNBR_FLAG_W,DATE,TIME,LATITUDE,LONGITUDE,DEPTH,CTDPRS,CTDTMP,CTDSAL,CTDSAL_FLAG_W,CTDOXY,CTDOXY_FLAG_W,SALNTY,SALNTY_FLAG_W,OXYGEN,OXYGEN_FLAG_W,SILCAT,SILCAT_FLAG_W,NITRAT,NITRAT_FLAG_W,NO2+NO3,NO2+NO3_FLAG_W,NITRIT,NITRIT_FLAG_W,PHSPHT,PHSPHT_FLAG_W,CFC-11,CFC-11_FLAG_W,CFC-12,CFC-12_FLAG_W,DELC13,DELC13_FLAG_W,TCARBN,TCARBN_FLAG_W,ALKALI,ALKALI_FLAG_W,PH,PH_FLAG_W,PH_TMP,PH_SCALE,PH_NBS,PH_NBS_FLAG_W,C13ERR,TOTALP,TOTALP_FLAG_W,AMMONI,AMMONI_FLAG_W,CHLORA,CHLORA_FLAG_W,PPHYTN,PPHYTN_FLAG_W,REVPRS,REVTMP,DEPTH_,DEPTH_FLAG,CTDDEP,THETA,SIGTHT,DOC,DOC_FLAG_W
,,,,,,,GMT,GMT,,,METER,DBAR,ITS-90,PSS-78,,UMOL/KG,,PSS-78,,UMOL/KG,,UMOL/KG,,UMOL/KG,,UMOL/KG,,UMOL/KG,,UMOL/KG,,PMOL/KG,,PMOL/KG,,/MILLE,,UMOL/KG,,UMOL/KG,,25_DEG_C,,DEG_C,,,,/MILLE,UMOL/KG,,UMOL/KG,,UG/L,,UG/L,,DBAR,ITS-90,METERS,,METERS,DEG_C,,UMOL/L,
       KS05-01,  137E,KS-1195,  1,     24,02-16030,2,20050126,0747, 19.9910, 137.0070, 4777,      5.2,  26.4576,  34.4675,2,   -999.0,9,  34.4707,2,    205.0,2,     0.86,2,  -999.00,9,     0.00,2,     0.00,2,     0.00,2, -999.000,9, -999.000,9,  -999.00,9,   1924.2,2,   -999.0,9,   8.1182,2,     25.0, TS,     8.20,2,   -999.0,  -999.00,9,  -999.00,9,     0.06,2,     0.03,2,   -999.0,-999.0000, -999,9,    5,  26.4564,  22.4889,   -999.0,9
       KS05-01,  137E,KS-1195,  1,     23,02-19380,2,20050126,0746, 19.9910, 137.0070, 4777,     10.1,  26.4594,  34.4631,2,   -999.0,9,-999.0000,9,    203.0,2,     0.85,2,  -999.00,9,     0.00,2,     0.00,2,     0.00,2, -999.000,9, -999.000,9,  -999.00,9,   1920.5,2,   -999.0,9,   8.0953,3,     25.0, TS,     8.22,2,   -999.0,  -999.00,9,  -999.00,9,     0.06,2,     0.04,2,   -999.0,-999.0000, -999,9,   10,  26.4571,  22.4853,   -999.0,9
       KS05-01,  137E,KS-1195,  1,     22,02-19379,2,20050126,0744, 19.9910, 137.0070, 4777,     24.7,  26.4087,  34.4581,2,   -999.0,9,-999.0000,9,    204.0,2,     0.90,2,  -999.00,9,     0.00,2,     0.00,2,     0.00,2, -999.000,9, -999.000,9,  -999.00,9,   1923.6,2,   -999.0,9,   8.1220,2,     25.0, TS,     8.21,2,   -999.0,  -999.00,9,  -999.00,9,     0.07,2,     0.03,2,   -999.0,-999.0000, -999,9,   25,  26.4031,  22.4985,   -999.0,9
       KS05-01,  137E,KS-1195,  1,     21,02-16027,2,20050126,0741, 19.9910, 137.0070, 4777,     49.9,  26.4017,  34.4630,2,   -999.0,9,-999.0000,9,    204.0,2,     0.84,2,  -999.00,9,     0.00,2,     0.00,2,     0.00,2, -999.000,9, -999.000,9,  -999.00,9,   1921.2,2,   -999.0,9,   8.1201,2,     25.0, TS,     8.22,2,   -999.0,  -999.00,9,  -999.00,9,     0.07,2,     0.04,2,   -999.0,-999.0000, -999,9,   50,  26.3905,  22.5062,   -999.0,9
       KS05-01,  137E,KS-1195,  1,     20,02-16026,2,20050126,0740, 19.9910, 137.0070, 4777,     74.5,  26.4455,  34.4849,2,   -999.0,9,-999.0000,9,    204.0,2,     0.88,2,  -999.00,9,     0.00,2,     0.00,2,     0.00,2, -999.000,9, -999.000,9,  -999.00,9,   1923.4,2,   -999.0,9,   8.1214,2,     25.0, TS,     8.21,2,   -999.0,  -999.00,9,  -999.00,9,     0.10,2,     0.07,2,   -999.0,-999.0000, -999,9,   74,  26.4287,  22.5107,   -999.0,9
       KS05-01,  137E,KS-1195,  1,     19,02-19378,2,20050126,0739, 19.9910, 137.0070, 4777,     99.8,  26.4997,  34.5092,2,   -999.0,9,  34.5119,2,    204.0,2,     0.88,2,  -999.00,9,     0.00,2,     0.00,2,     0.00,2, -999.000,9, -999.000,9,  -999.00,9,   1925.5,3,   -999.0,9,   8.1217,2,     25.0, TS,     8.20,2,   -999.0,  -999.00,9,  -999.00,9,     0.13,2,     0.08,2,   -999.0,-999.0000, -999,9,   99,  26.4771,  22.5137,   -999.0,9
       KS05-01,  137E,KS-1195,  1,     18,02-19377,2,20050126,0738, 19.9910, 137.0070, 4777,    124.6,  26.4944,  34.5071,2,   -999.0,9,-999.0000,9,    204.0,2,     0.87,2,  -999.00,9,     0.00,2,     0.00,2,     0.00,2, -999.000,9, -999.000,9,  -999.00,9,   1923.0,2,   -999.0,9,   8.1202,2,     25.0, TS,     8.21,2,   -999.0,  -999.00,9,  -999.00,9,     0.16,2,     0.13,2,   -999.0,-999.0000, -999,9,  124,  26.4662,  22.5156,   -999.0,9
       KS05-01,  137E,KS-1195,  1,     17,02-16023,2,20050126,0737, 19.9910, 137.0070, 4777,    150.9,  24.9004,  34.9984,2,   -999.0,9,-999.0000,9,    189.0,2,     1.17,2,  -999.00,9,     0.39,2,     0.11,2,     0.05,2, -999.000,9, -999.000,9,  -999.00,9,   1989.7,2,   -999.0,9,   8.0593,2,     25.0, TS,     8.12,2,   -999.0,  -999.00,9,  -999.00,9,     0.11,2,     0.47,2,   -999.0,-999.0000, -999,9,  150,  24.8678,  23.3802,   -999.0,9
       KS05-01,  137E,KS-1195,  1,     16,02-16022,2,20050126,0735, 19.9910, 137.0070, 4777,    201.5,  20.9449,  34.9355,2,   -999.0,9,  34.9343,2,    193.0,2,     1.90,2,  -999.00,9,     1.95,2,     0.04,2,     0.11,2, -999.000,9, -999.000,9,  -999.00,9,   2010.7,2,   -999.0,9,   8.0185,2,     25.0, TS,     8.09,2,   -999.0,  -999.00,9,  -999.00,9,     0.04,2,     0.20,2,   -999.0,-999.0000, -999,9,  200,  20.9064,  24.4702,   -999.0,9
       KS05-01,  137E,KS-1195,  1,     15,02-16021,2,20050126,0734, 19.9910, 137.0070, 4777,    251.6,  18.6487,  34.8365,2,   -999.0,9,-999.0000,9,    200.0,2,     3.06,2,  -999.00,9,     3.80,2,     0.00,2,     0.20,2, -999.000,9, -999.000,9,  -999.00,9,   2019.9,2,   -999.0,9,   7.9893,2,     25.0, TS,     8.06,2,   -999.0,  -999.00,9,  -999.00,9,     0.00,2,     0.01,2,   -999.0,-999.0000, -999,9,  250,  18.6044,  24.9964,   -999.0,9
       KS05-01,  137E,KS-1195,  1,     14,02-16020,2,20050126,0733, 19.9910, 137.0070, 4777,    300.3,  17.2344,  34.7553,2,   -999.0,9,  34.7565,2,    204.0,2,     4.16,2,  -999.00,9,     5.07,2,     0.00,2,     0.28,2, -999.000,9, -999.000,9,  -999.00,9,   2031.5,2,   -999.0,9,   7.9636,2,     25.0, TS,     8.03,2,   -999.0,  -999.00,9,  -999.00,9,     0.00,2,     0.01,2,   -999.0,-999.0000, -999,9,  298,  17.1843,  25.2825,   -999.0,9
       KS05-01,  137E,KS-1195,  1,     13,02-16019,2,20050126,0730, 19.9910, 137.0070, 4777,    402.6,  13.7412,  34.4990,2,   -999.0,9,  34.5011,2,    183.0,2,    13.87,2,  -999.00,9,    12.57,2,     0.00,2,     0.80,2, -999.000,9, -999.000,9,  -999.00,9,   2085.8,2,   -999.0,9,   7.8485,2,     25.0, TS,     7.91,2,   -999.0,  -999.00,9,  -999.00,9,  -999.00,9,  -999.00,9,   -999.0,-999.0000, -999,9,  400,  13.6836,  25.8657,   -999.0,9
       KS05-01,  137E,KS-1195,  1,     12,02-16018,2,20050126,0728, 19.9910, 137.0070, 4777,    502.9,   9.9140,  34.2444,2,   -999.0,9,  34.2474,2,    153.0,2,    29.04,2,  -999.00,9,    21.63,2,     0.00,2,     1.48,2, -999.000,9, -999.000,9,  -999.00,9,   2149.7,2,   -999.0,9,   7.6977,2,     25.0, TS,     7.75,2,   -999.0,  -999.00,9,  -999.00,9,  -999.00,9,  -999.00,9,   -999.0,-999.0000, -999,9,  499,   9.8556,  26.3863,   -999.0,9
       KS05-01,  137E,KS-1195,  1,     11,02-19376,2,20050126,0726, 19.9910, 137.0070, 4777,    601.6,   7.5584,  34.1605,2,   -999.0,9,  34.1613,2,    117.0,2,    49.69,2,  -999.00,9,    29.22,2,     0.00,2,     2.06,2, -999.000,9, -999.000,9,  -999.00,9,   2209.5,2,   -999.0,9,   7.5776,2,     25.0, TS,     7.62,2,   -999.0,  -999.00,9,  -999.00,9,  -999.00,9,  -999.00,9,   -999.0,-999.0000, -999,9,  597,   7.4987,  26.6875,   -999.0,9
       KS05-01,  137E,KS-1195,  1,     10,02-19375,2,20050126,0724, 19.9910, 137.0070, 4777,    704.6,   5.7221,  34.2650,2,   -999.0,9,  34.2628,2,     69.0,2,    76.08,2,  -999.00,9,    36.71,2,     0.00,2,     2.63,2, -999.000,9, -999.000,9,  -999.00,9,   2277.0,2,   -999.0,9,   7.4812,2,     25.0, TS,     7.50,2,   -999.0,  -999.00,9,  -999.00,9,  -999.00,9,  -999.00,9,   -999.0,-999.0000, -999,9,  699,   5.6613,  27.0140,   -999.0,9
       KS05-01,  137E,KS-1195,  1,      9,02-16015,2,20050126,0721, 19.9910, 137.0070, 4777,    808.0,   4.9167,  34.3418,2,   -999.0,9,  34.3405,2,     63.0,2,    91.28,2,  -999.00,9,    38.75,2,     0.00,2,     2.76,2, -999.000,9, -999.000,9,  -999.00,9,   2305.2,2,   -999.0,9,   7.4565,2,     25.0, TS,     7.48,2,   -999.0,  -999.00,9,  -999.00,9,  -999.00,9,  -999.00,9,   -999.0,-999.0000, -999,9,  802,   4.8512,  27.1704,   -999.0,9
       KS05-01,  137E,KS-1195,  1,      8,02-16014,2,20050126,0719, 19.9910, 137.0070, 4777,    906.0,   4.5201,  34.3958,2,   -999.0,9,  34.3955,2,     63.0,2,    98.80,2,  -999.00,9,    39.23,2,     0.00,2,     2.79,2, -999.000,9, -999.000,9,  -999.00,9,   2313.8,3,   -999.0,9,   7.4631,2,     25.0, TS,     7.49,2,   -999.0,  -999.00,9,  -999.00,9,  -999.00,9,  -999.00,9,   -999.0,-999.0000, -999,9,  899,   4.4487,  27.2579,   -999.0,9
       KS05-01,  137E,KS-1195,  1,      7,02-19374,2,20050126,0717, 19.9910, 137.0070, 4777,   1009.0,   4.0517,  34.4401,2,   -999.0,9,-999.0000,9,   -999.0,9,   108.28,2,  -999.00,9,    39.52,2,     0.00,2,     2.81,2, -999.000,9, -999.000,9,  -999.00,9,   -999.0,9,   -999.0,9,-999.0000,9,   -999.0,  9,  -999.00,9,   -999.0,  -999.00,9,  -999.00,9,  -999.00,9,  -999.00,9,   -999.0,-999.0000, -999,9, 1000,   3.9750,  27.3433,   -999.0,9
       KS05-01,  137E,KS-1195,  1,      6,02-19373,2,20050126,0717, 19.9910, 137.0070, 4777,   1008.9,   4.0519,  34.4398,2,   -999.0,9,  34.4398,2,     66.0,2,   108.43,2,  -999.00,9,    39.62,2,     0.00,2,     2.81,2, -999.000,9, -999.000,9,  -999.00,9,   2320.6,3,   -999.0,9,   7.4796,2,     25.0, TS,     7.49,2,   -999.0,  -999.00,9,  -999.00,9,  -999.00,9,  -999.00,9,   -999.0,-999.0000, -999,9, 1000,   3.9752,  27.3431,   -999.0,9
       KS05-01,  137E,KS-1195,  1,      5,02-16011,2,20050126,0712, 19.9910, 137.0070, 4777,   1259.7,   3.1232,  34.5296,2,   -999.0,9,  34.5294,2,     84.0,2,   125.67,2,  -999.00,9,    39.32,2,     0.00,2,     2.76,2, -999.000,9, -999.000,9,  -999.00,9,   2338.4,6,   -999.0,9,   7.4972,2,     25.0, TS,     7.51,2,   -999.0,  -999.00,9,  -999.00,9,  -999.00,9,  -999.00,9,   -999.0,-999.0000, -999,9, 1248,   3.0339,  27.5064,   -999.0,9
       KS05-01,  137E,KS-1195,  1,      4,02-16010,2,20050126,0708, 19.9910, 137.0070, 4777,   1513.0,   2.6409,  34.5733,2,   -999.0,9,  34.5726,2,     97.0,2,   132.87,2,  -999.00,9,    38.83,2,     0.00,2,     2.72,2, -999.000,9, -999.000,9,  -999.00,9,   2337.2,3,   -999.0,9,   7.5198,2,     25.0, TS,     7.55,2,   -999.0,  -999.00,9,  -999.00,9,  -999.00,9,  -999.00,9,   -999.0,-999.0000, -999,9, 1498,   2.5362,  27.5856,   -999.0,9
       KS05-01,  137E,KS-1195,  1,      3,02-16009,3,20050126,0659, 19.9910, 137.0070, 4777,   2020.6,   2.0703,  34.6255,2,   -999.0,9,  34.6236,2,    116.0,2,   138.92,2,  -999.00,9,    38.05,2,     0.00,2,     2.64,2, -999.000,9, -999.000,9,  -999.00,9,   2338.4,2,   -999.0,9,   7.5461,2,     25.0, TS,     7.57,2,   -999.0,  -999.00,9,  -999.00,9,  -999.00,9,  -999.00,9,   -999.0,-999.0000, -999,9, 1999,   1.9311,  27.6770,   -999.0,9
       KS05-01,  137E,KS-1195,  1,      2,02-16008,2,20050126,0644, 19.9910, 137.0070, 4777,   3040.4,   1.6336,  34.6672,2,   -999.0,9,  34.6653,2,    142.0,2,   140.38,2,  -999.00,9,    36.68,2,     0.00,2,     2.52,2, -999.000,9, -999.000,9,  -999.00,9,   -999.0,9,   -999.0,9,-999.0000,9,   -999.0,  9,     7.61,2,   -999.0,  -999.00,9,  -999.00,9,  -999.00,9,  -999.00,9,   -999.0,-999.0000, -999,9, 3000,   1.4100,  27.7496,   -999.0,9
       KS05-01,  137E,KS-1195,  1,      1,02-16007,4,20050126,0628, 19.9910, 137.0070, 4777,   4062.6,   1.5128,  34.6863,2,   -999.0,9,  34.6413,4,    125.0,4,   140.71,4,  -999.00,9,    37.65,4,     0.00,4,     2.61,4, -999.000,9, -999.000,9,  -999.00,9,   -999.0,9,   -999.0,9,-999.0000,9,   -999.0,  9,     7.58,4,   -999.0,  -999.00,9,  -999.00,9,  -999.00,9,  -999.00,9,   -999.0,-999.0000, -999,9, 4000,   1.1867,  27.7807,   -999.0,9