BOTTLE,20130510GEMDJMAYT
EXPOCODE,SECT_ID,STNNBR,CASTNO,SAMPNO,BTLNBR,BTLNBR_FLAG_W,DATE,TIME,LATITUDE,LONGITUDE,DEPTH,CTDPRS,CTDTMP,CTDSAL,CTDSAL_FLAG_W,CTDOXY,CTDOXY_FLAG_W,SALNTY,SALNTY_FLAG_W,OXYGEN,OXYGEN_FLAG_W,SILCAT,SILCAT_FLAG_W,NITRAT,NITRAT_FLAG_W,NO2+NO3,NO2+NO3_FLAG_W,NITRIT,NITRIT_FLAG_W,PHSPHT,PHSPHT_FLAG_W,CFC-11,CFC-11_FLAG_W,CFC-12,CFC-12_FLAG_W,DELC13,DELC13_FLAG_W,TCARBN,TCARBN_FLAG_W,ALKALI,ALKALI_FLAG_W,PH,PH_FLAG_W,PH_TMP,PH_SCALE,PH_NBS,PH_NBS_FLAG_W,C13ERR,TOTALP,TOTALP_FLAG_W,AMMONI,AMMONI_FLAG_W,CHLORA,CHLORA_FLAG_W,PPHYTN,PPHYTN_FLAG_W,REVPRS,REVTMP,DEPTH_,DEPTH_FLAG,CTDDEP,THETA,SIGTHT,DOC,DOC_FLAG_W
,,,,,,,GMT,GMT,,,METER,DBAR,ITS-90,PSS-78,,UMOL/KG,,PSS-78,,UMOL/KG,,UMOL/KG,,UMOL/KG,,UMOL/KG,,UMOL/KG,,UMOL/KG,,PMOL/KG,,PMOL/KG,,/MILLE,,UMOL/KG,,UMOL/KG,,25_DEG_C,,DEG_C,,,,/MILLE,UMOL/KG,,UMOL/KG,,UG/L,,UG/L,,DBAR,ITS-90,METERS,,METERS,DEG_C,,UMOL/L,
       KS05-01,  137E,KS-1213,  1,     24,02-16030,2,20050209,0940,  2.7882, 137.9800, 4437,      5.4,  28.4426,  34.4568,2,   -999.0,9,  34.4606,2,   -999.0,9,  -999.00,9,  -999.00,9,  -999.00,9,  -999.00,9,  -999.00,9, -999.000,9, -999.000,9,  -999.00,9,   -999.0,9,   -999.0,9,-999.0000,9,   -999.0,  9,  -999.00,9,   -999.0,  -999.00,9,  -999.00,9,  -999.00,9,  -999.00,9,   -999.0,-999.0000, -999,9,    5,  28.4413,  21.8415,   -999.0,9
       KS05-01,  137E,KS-1213,  1,     23,02-16029,2,20050209,0933,  2.7882, 137.9800, 4437,    100.8,  23.9554,  35.1808,2,   -999.0,9,  35.1898,2,   -999.0,9,  -999.00,9,  -999.00,9,  -999.00,9,  -999.00,9,  -999.00,9, -999.000,9, -999.000,9,  -999.00,9,   -999.0,9,   -999.0,9,-999.0000,9,   -999.0,  9,  -999.00,9,   -999.0,  -999.00,9,  -999.00,9,  -999.00,9,  -999.00,9,   -999.0,-999.0000, -999,9,  100,  23.9342,  23.7977,   -999.0,9
       KS05-01,  137E,KS-1213,  1,     22,02-10977,2,20050209,0930,  2.7882, 137.9800, 4437,    205.1,  18.3640,  34.9821,2,   -999.0,9,  34.9420,4,   -999.0,9,  -999.00,9,  -999.00,9,  -999.00,9,  -999.00,9,  -999.00,9, -999.000,9, -999.000,9,  -999.00,9,   -999.0,9,   -999.0,9,-999.0000,9,   -999.0,  9,  -999.00,9,   -999.0,  -999.00,9,  -999.00,9,  -999.00,9,  -999.00,9,   -999.0,-999.0000, -999,9,  204,  18.3283,  25.1769,   -999.0,9
       KS05-01,  137E,KS-1213,  1,     21,02-16027,2,20050209,0927,  2.7882, 137.9800, 4437,    302.2,  11.5190,  34.5868,2,   -999.0,9,  34.5893,2,   -999.0,9,  -999.00,9,  -999.00,9,  -999.00,9,  -999.00,9,  -999.00,9, -999.000,9, -999.000,9,  -999.00,9,   -999.0,9,   -999.0,9,-999.0000,9,   -999.0,  9,  -999.00,9,   -999.0,  -999.00,9,  -999.00,9,  -999.00,9,  -999.00,9,   -999.0,-999.0000, -999,9,  300,  11.4806,  26.3658,   -999.0,9
       KS05-01,  137E,KS-1213,  1,     20,02-16026,2,20050209,0924,  2.7882, 137.9800, 4437,    401.6,   8.7311,  34.6322,2,   -999.0,9,  34.6331,2,   -999.0,9,  -999.00,9,  -999.00,9,  -999.00,9,  -999.00,9,  -999.00,9, -999.000,9, -999.000,9,  -999.00,9,   -999.0,9,   -999.0,9,-999.0000,9,   -999.0,  9,  -999.00,9,   -999.0,  -999.00,9,  -999.00,9,  -999.00,9,  -999.00,9,   -999.0,-999.0000, -999,9,  399,   8.6880,  26.8796,   -999.0,9
       KS05-01,  137E,KS-1213,  1,     19,02-16025,3,20050209,0922,  2.7882, 137.9800, 4437,    503.8,   7.8669,  34.5894,2,   -999.0,9,  34.5895,2,   -999.0,9,  -999.00,9,  -999.00,9,  -999.00,9,  -999.00,9,  -999.00,9, -999.000,9, -999.000,9,  -999.00,9,   -999.0,9,   -999.0,9,-999.0000,9,   -999.0,  9,  -999.00,9,   -999.0,  -999.00,9,  -999.00,9,  -999.00,9,  -999.00,9,   -999.0,-999.0000, -999,9,  500,   7.8157,  26.9787,   -999.0,9
       KS05-01,  137E,KS-1213,  1,     18,02-16024,2,20050209,0919,  2.7882, 137.9800, 4437,    605.5,   7.0631,  34.5542,2,   -999.0,9,  34.5553,2,   -999.0,9,  -999.00,9,  -999.00,9,  -999.00,9,  -999.00,9,  -999.00,9, -999.000,9, -999.000,9,  -999.00,9,   -999.0,9,   -999.0,9,-999.0000,9,   -999.0,  9,  -999.00,9,   -999.0,  -999.00,9,  -999.00,9,  -999.00,9,  -999.00,9,   -999.0,-999.0000, -999,9,  601,   7.0048,  27.0669,   -999.0,9
       KS05-01,  137E,KS-1213,  1,     17,02-16023,2,20050209,0916,  2.7882, 137.9800, 4437,    705.6,   6.3803,  34.5311,2,   -999.0,9,  34.5305,2,   -999.0,9,  -999.00,9,  -999.00,9,  -999.00,9,  -999.00,9,  -999.00,9, -999.000,9, -999.000,9,  -999.00,9,   -999.0,9,   -999.0,9,-999.0000,9,   -999.0,  9,  -999.00,9,   -999.0,  -999.00,9,  -999.00,9,  -999.00,9,  -999.00,9,   -999.0,-999.0000, -999,9,  700,   6.3156,  27.1414,   -999.0,9
       KS05-01,  137E,KS-1213,  1,     16,02-16022,2,20050209,0914,  2.7882, 137.9800, 4437,    806.7,   5.8807,  34.5322,2,   -999.0,9,  34.5309,2,   -999.0,9,  -999.00,9,  -999.00,9,  -999.00,9,  -999.00,9,  -999.00,9, -999.000,9, -999.000,9,  -999.00,9,   -999.0,9,   -999.0,9,-999.0000,9,   -999.0,  9,  -999.00,9,   -999.0,  -999.00,9,  -999.00,9,  -999.00,9,  -999.00,9,   -999.0,-999.0000, -999,9,  801,   5.8092,  27.2071,   -999.0,9
       KS05-01,  137E,KS-1213,  1,     15,02-16021,2,20050209,0912,  2.7882, 137.9800, 4437,    906.9,   5.3615,  34.5370,2,   -999.0,9,  34.5380,2,   -999.0,9,  -999.00,9,  -999.00,9,  -999.00,9,  -999.00,9,  -999.00,9, -999.000,9, -999.000,9,  -999.00,9,   -999.0,9,   -999.0,9,-999.0000,9,   -999.0,  9,  -999.00,9,   -999.0,  -999.00,9,  -999.00,9,  -999.00,9,  -999.00,9,   -999.0,-999.0000, -999,9,  900,   5.2840,  27.2749,   -999.0,9
       KS05-01,  137E,KS-1213,  1,     14,02-16020,2,20050209,0909,  2.7882, 137.9800, 4437,   1007.8,   4.9335,  34.5465,2,   -999.0,9,  34.5457,2,   -999.0,9,  -999.00,9,  -999.00,9,  -999.00,9,  -999.00,9,  -999.00,9, -999.000,9, -999.000,9,  -999.00,9,   -999.0,9,   -999.0,9,-999.0000,9,   -999.0,  9,  -999.00,9,   -999.0,  -999.00,9,  -999.00,9,  -999.00,9,  -999.00,9,   -999.0,-999.0000, -999,9, 1000,   4.8499,  27.3329,   -999.0,9
       KS05-01,  137E,KS-1213,  1,     13,02-16019,2,20050209,0905,  2.7882, 137.9800, 4437,   1260.0,   3.8076,  34.5747,2,   -999.0,9,  34.5734,2,   -999.0,9,  -999.00,9,  -999.00,9,  -999.00,9,  -999.00,9,  -999.00,9, -999.000,9, -999.000,9,  -999.00,9,   -999.0,9,   -999.0,9,-999.0000,9,   -999.0,  9,  -999.00,9,   -999.0,  -999.00,9,  -999.00,9,  -999.00,9,  -999.00,9,   -999.0,-999.0000, -999,9, 1249,   3.7115,  27.4773,   -999.0,9
       KS05-01,  137E,KS-1213,  1,     12,02-16018,2,20050209,0900,  2.7882, 137.9800, 4437,   1515.0,   3.0301,  34.6010,2,   -999.0,9,  34.5997,2,   -999.0,9,  -999.00,9,  -999.00,9,  -999.00,9,  -999.00,9,  -999.00,9, -999.000,9, -999.000,9,  -999.00,9,   -999.0,9,   -999.0,9,-999.0000,9,   -999.0,  9,  -999.00,9,   -999.0,  -999.00,9,  -999.00,9,  -999.00,9,  -999.00,9,   -999.0,-999.0000, -999,9, 1501,   2.9206,  27.5738,   -999.0,9
       KS05-01,  137E,KS-1213,  1,     11,02-16017,2,20050209,0855,  2.7882, 137.9800, 4437,   1767.2,   2.5451,  34.6217,2,   -999.0,9,  34.6213,2,   -999.0,9,  -999.00,9,  -999.00,9,  -999.00,9,  -999.00,9,  -999.00,9, -999.000,9, -999.000,9,  -999.00,9,   -999.0,9,   -999.0,9,-999.0000,9,   -999.0,  9,  -999.00,9,   -999.0,  -999.00,9,  -999.00,9,  -999.00,9,  -999.00,9,   -999.0,-999.0000, -999,9, 1750,   2.4204,  27.6342,   -999.0,9
       KS05-01,  137E,KS-1213,  1,     10,02-16016,9,20050209,0850,  2.7882, 137.9800, 4437,   2020.8,   2.1877,  34.6395,2,   -999.0,9,-999.0000,9,   -999.0,9,  -999.00,9,  -999.00,9,  -999.00,9,  -999.00,9,  -999.00,9, -999.000,9, -999.000,9,  -999.00,9,   -999.0,9,   -999.0,9,-999.0000,9,   -999.0,  9,  -999.00,9,   -999.0,  -999.00,9,  -999.00,9,  -999.00,9,  -999.00,9,   -999.0,-999.0000, -999,9, 2000,   2.0466,  27.6791,   -999.0,9
       KS05-01,  137E,KS-1213,  1,      9,02-16015,9,20050209,0850,  2.7882, 137.9800, 4437,   2020.9,   2.1875,  34.6393,2,   -999.0,9,-999.0000,9,   -999.0,9,  -999.00,9,  -999.00,9,  -999.00,9,  -999.00,9,  -999.00,9, -999.000,9, -999.000,9,  -999.00,9,   -999.0,9,   -999.0,9,-999.0000,9,   -999.0,  9,  -999.00,9,   -999.0,  -999.00,9,  -999.00,9,  -999.00,9,  -999.00,9,   -999.0,-999.0000, -999,9, 2000,   2.0464,  27.6790,   -999.0,9
       KS05-01,  137E,KS-1213,  1,      8,02-16014,9,20050209,0850,  2.7882, 137.9800, 4437,   2021.0,   2.1876,  34.6393,2,   -999.0,9,-999.0000,9,   -999.0,9,  -999.00,9,  -999.00,9,  -999.00,9,  -999.00,9,  -999.00,9, -999.000,9, -999.000,9,  -999.00,9,   -999.0,9,   -999.0,9,-999.0000,9,   -999.0,  9,  -999.00,9,   -999.0,  -999.00,9,  -999.00,9,  -999.00,9,  -999.00,9,   -999.0,-999.0000, -999,9, 2000,   2.0465,  27.6790,   -999.0,9
       KS05-01,  137E,KS-1213,  1,      7,02-16013,9,20050209,0850,  2.7882, 137.9800, 4437,   2020.8,   2.1877,  34.6394,2,   -999.0,9,-999.0000,9,   -999.0,9,  -999.00,9,  -999.00,9,  -999.00,9,  -999.00,9,  -999.00,9, -999.000,9, -999.000,9,  -999.00,9,   -999.0,9,   -999.0,9,-999.0000,9,   -999.0,  9,  -999.00,9,   -999.0,  -999.00,9,  -999.00,9,  -999.00,9,  -999.00,9,   -999.0,-999.0000, -999,9, 2000,   2.0466,  27.6791,   -999.0,9
       KS05-01,  137E,KS-1213,  1,      6,02-16012,9,20050209,0850,  2.7882, 137.9800, 4437,   2022.3,   2.1875,  34.6394,2,   -999.0,9,-999.0000,9,   -999.0,9,  -999.00,9,  -999.00,9,  -999.00,9,  -999.00,9,  -999.00,9, -999.000,9, -999.000,9,  -999.00,9,   -999.0,9,   -999.0,9,-999.0000,9,   -999.0,  9,  -999.00,9,   -999.0,  -999.00,9,  -999.00,9,  -999.00,9,  -999.00,9,   -999.0,-999.0000, -999,9, 2001,   2.0463,  27.6791,   -999.0,9
       KS05-01,  137E,KS-1213,  1,      5,02-16011,9,20050209,0849,  2.7882, 137.9800, 4437,   2021.1,   2.1883,  34.6393,2,   -999.0,9,-999.0000,9,   -999.0,9,  -999.00,9,  -999.00,9,  -999.00,9,  -999.00,9,  -999.00,9, -999.000,9, -999.000,9,  -999.00,9,   -999.0,9,   -999.0,9,-999.0000,9,   -999.0,  9,  -999.00,9,   -999.0,  -999.00,9,  -999.00,9,  -999.00,9,  -999.00,9,   -999.0,-999.0000, -999,9, 2000,   2.0472,  27.6790,   -999.0,9
       KS05-01,  137E,KS-1213,  1,      4,02-16010,9,20050209,0849,  2.7882, 137.9800, 4437,   2020.2,   2.1881,  34.6393,2,   -999.0,9,-999.0000,9,   -999.0,9,  -999.00,9,  -999.00,9,  -999.00,9,  -999.00,9,  -999.00,9, -999.000,9, -999.000,9,  -999.00,9,   -999.0,9,   -999.0,9,-999.0000,9,   -999.0,  9,  -999.00,9,   -999.0,  -999.00,9,  -999.00,9,  -999.00,9,  -999.00,9,   -999.0,-999.0000, -999,9, 1999,   2.0471,  27.6790,   -999.0,9
       KS05-01,  137E,KS-1213,  1,      3,02-16009,9,20050209,0849,  2.7882, 137.9800, 4437,   2020.3,   2.1877,  34.6393,2,   -999.0,9,-999.0000,9,   -999.0,9,  -999.00,9,  -999.00,9,  -999.00,9,  -999.00,9,  -999.00,9, -999.000,9, -999.000,9,  -999.00,9,   -999.0,9,   -999.0,9,-999.0000,9,   -999.0,  9,  -999.00,9,   -999.0,  -999.00,9,  -999.00,9,  -999.00,9,  -999.00,9,   -999.0,-999.0000, -999,9, 2000,   2.0467,  27.6790,   -999.0,9
       KS05-01,  137E,KS-1213,  1,      2,02-16008,9,20050209,0849,  2.7882, 137.9800, 4437,   2020.7,   2.1875,  34.6393,2,   -999.0,9,-999.0000,9,   -999.0,9,  -999.00,9,  -999.00,9,  -999.00,9,  -999.00,9,  -999.00,9, -999.000,9, -999.000,9,  -999.00,9,   -999.0,9,   -999.0,9,-999.0000,9,   -999.0,  9,  -999.00,9,   -999.0,  -999.00,9,  -999.00,9,  -999.00,9,  -999.00,9,   -999.0,-999.0000, -999,9, 2000,   2.0464,  27.6790,   -999.0,9
       KS05-01,  137E,KS-1213,  1,      1,02-16007,2,20050209,0849,  2.7882, 137.9800, 4437,   2020.7,   2.1869,  34.6392,2,   -999.0,9,  34.6384,2,   -999.0,9,  -999.00,9,  -999.00,9,  -999.00,9,  -999.00,9,  -999.00,9, -999.000,9, -999.000,9,  -999.00,9,   -999.0,9,   -999.0,9,-999.0000,9,   -999.0,  9,  -999.00,9,   -999.0,  -999.00,9,  -999.00,9,  -999.00,9,  -999.00,9,   -999.0,-999.0000, -999,9, 2000,   2.0458,  27.6789,   -999.0,9