BOTTLE,20130510GEMDJMAYT
EXPOCODE,SECT_ID,STNNBR,CASTNO,SAMPNO,BTLNBR,BTLNBR_FLAG_W,DATE,TIME,LATITUDE,LONGITUDE,DEPTH,CTDPRS,CTDTMP,CTDSAL,CTDSAL_FLAG_W,CTDOXY,CTDOXY_FLAG_W,SALNTY,SALNTY_FLAG_W,OXYGEN,OXYGEN_FLAG_W,SILCAT,SILCAT_FLAG_W,NITRAT,NITRAT_FLAG_W,NO2+NO3,NO2+NO3_FLAG_W,NITRIT,NITRIT_FLAG_W,PHSPHT,PHSPHT_FLAG_W,CFC-11,CFC-11_FLAG_W,CFC-12,CFC-12_FLAG_W,DELC13,DELC13_FLAG_W,TCARBN,TCARBN_FLAG_W,ALKALI,ALKALI_FLAG_W,PH,PH_FLAG_W,PH_TMP,PH_SCALE,PH_NBS,PH_NBS_FLAG_W,C13ERR,TOTALP,TOTALP_FLAG_W,AMMONI,AMMONI_FLAG_W,CHLORA,CHLORA_FLAG_W,PPHYTN,PPHYTN_FLAG_W,REVPRS,REVTMP,DEPTH_,DEPTH_FLAG,CTDDEP,THETA,SIGTHT,DOC,DOC_FLAG_W
,,,,,,,GMT,GMT,,,METER,DBAR,ITS-90,PSS-78,,UMOL/KG,,PSS-78,,UMOL/KG,,UMOL/KG,,UMOL/KG,,UMOL/KG,,UMOL/KG,,UMOL/KG,,PMOL/KG,,PMOL/KG,,/MILLE,,UMOL/KG,,UMOL/KG,,25_DEG_C,,DEG_C,,,,/MILLE,UMOL/KG,,UMOL/KG,,UG/L,,UG/L,,DBAR,ITS-90,METERS,,METERS,DEG_C,,UMOL/L,
       KS05-04,  137E,KS-1271,  1,     24,02-16030,2,20050422,2203, 31.9608, 137.0228, 4251,      4.3,  17.2565,  34.6996,2,   -999.0,9,  34.6983,2,    251.0,2,     3.54,2,  -999.00,9,     0.59,2,     0.09,2,     0.08,2, -999.000,9, -999.000,9,  -999.00,9,   1994.3,2,   -999.0,9,   8.0238,6,     25.0, TS,  -999.00,9,   -999.0,  -999.00,9,  -999.00,9,     0.23,2,     1.25,2,   -999.0,-999.0000, -999,9,    4,  17.2558,  25.2227,   -999.0,9
       KS05-04,  137E,KS-1271,  1,     23,02-19380,2,20050422,2202, 31.9608, 137.0228, 4251,      9.2,  17.2693,  34.6976,2,   -999.0,9,-999.0000,9,    248.0,2,     3.45,2,  -999.00,9,     0.59,2,     0.10,2,     0.09,2, -999.000,9, -999.000,9,  -999.00,9,   -999.0,9,   -999.0,9,-999.0000,9,   -999.0,  9,  -999.00,9,   -999.0,  -999.00,9,  -999.00,9,     0.52,2,     1.18,2,   -999.0,-999.0000, -999,9,    9,  17.2678,  25.2183,   -999.0,9
       KS05-04,  137E,KS-1271,  1,     22,02-19379,2,20050422,2201, 31.9608, 137.0228, 4251,     25.0,  17.2669,  34.6965,2,   -999.0,9,-999.0000,9,    248.0,2,     3.48,2,  -999.00,9,     0.59,2,     0.10,2,     0.09,2, -999.000,9, -999.000,9,  -999.00,9,   -999.0,9,   -999.0,9,-999.0000,9,   -999.0,  9,  -999.00,9,   -999.0,  -999.00,9,  -999.00,9,     0.49,2,     1.27,2,   -999.0,-999.0000, -999,9,   25,  17.2627,  25.2186,   -999.0,9
       KS05-04,  137E,KS-1271,  1,     21,02-16027,2,20050422,2159, 31.9608, 137.0228, 4251,     49.0,  16.7744,  34.6855,2,   -999.0,9,-999.0000,9,    241.0,2,     4.23,2,  -999.00,9,     1.85,2,     0.34,2,     0.16,2, -999.000,9, -999.000,9,  -999.00,9,   -999.0,9,   -999.0,9,-999.0000,9,   -999.0,  9,  -999.00,9,   -999.0,  -999.00,9,  -999.00,9,     0.56,2,     0.55,2,   -999.0,-999.0000, -999,9,   49,  16.7664,  25.3280,   -999.0,9
       KS05-04,  137E,KS-1271,  1,     20,02-16026,2,20050422,2158, 31.9608, 137.0228, 4251,     74.2,  16.2849,  34.6861,2,   -999.0,9,-999.0000,9,    232.0,2,     5.50,2,  -999.00,9,     4.00,2,     0.88,2,     0.26,2, -999.000,9, -999.000,9,  -999.00,9,   -999.0,9,   -999.0,9,-999.0000,9,   -999.0,  9,  -999.00,9,   -999.0,  -999.00,9,  -999.00,9,     0.13,2,     0.32,2,   -999.0,-999.0000, -999,9,   74,  16.2731,  25.4434,   -999.0,9
       KS05-04,  137E,KS-1271,  1,     19,02-19378,2,20050422,2155, 31.9608, 137.0228, 4251,    100.1,  16.0363,  34.6754,2,   -999.0,9,  34.6728,2,    231.0,2,     5.78,2,  -999.00,9,     4.49,2,     0.48,2,     0.28,2, -999.000,9, -999.000,9,  -999.00,9,   -999.0,9,   -999.0,9,-999.0000,9,   -999.0,  9,  -999.00,9,   -999.0,  -999.00,9,  -999.00,9,     0.06,2,     0.12,2,   -999.0,-999.0000, -999,9,   99,  16.0205,  25.4932,   -999.0,9
       KS05-04,  137E,KS-1271,  1,     18,02-19377,2,20050422,2154, 31.9608, 137.0228, 4251,    124.9,  15.7433,  34.6511,2,   -999.0,9,-999.0000,9,    214.0,2,     8.59,2,  -999.00,9,     6.73,2,     0.08,2,     0.43,2, -999.000,9, -999.000,9,  -999.00,9,   -999.0,9,   -999.0,9,-999.0000,9,   -999.0,  9,  -999.00,9,   -999.0,  -999.00,9,  -999.00,9,     0.03,2,     0.09,2,   -999.0,-999.0000, -999,9,  124,  15.7238,  25.5419,   -999.0,9
       KS05-04,  137E,KS-1271,  1,     17,02-16023,2,20050422,2153, 31.9608, 137.0228, 4251,    149.0,  15.2641,  34.6197,2,   -999.0,9,-999.0000,9,    207.0,2,    10.41,2,  -999.00,9,     8.09,2,     0.03,2,     0.52,2, -999.000,9, -999.000,9,  -999.00,9,   -999.0,9,   -999.0,9,-999.0000,9,   -999.0,  9,  -999.00,9,   -999.0,  -999.00,9,  -999.00,9,     0.02,2,     0.07,2,   -999.0,-999.0000, -999,9,  148,  15.2414,  25.6256,   -999.0,9
       KS05-04,  137E,KS-1271,  1,     16,02-16022,2,20050422,2152, 31.9608, 137.0228, 4251,    199.8,  13.2121,  34.5014,2,   -999.0,9,  34.5038,2,    166.0,2,    23.76,2,  -999.00,9,    15.79,2,     0.04,2,     1.04,2, -999.000,9, -999.000,9,  -999.00,9,   -999.0,9,   -999.0,9,-999.0000,9,   -999.0,  9,  -999.00,9,   -999.0,  -999.00,9,  -999.00,9,     0.01,2,     0.07,2,   -999.0,-999.0000, -999,9,  198,  13.1845,  25.9696,   -999.0,9
       KS05-04,  137E,KS-1271,  1,     15,02-16021,2,20050422,2150, 31.9608, 137.0228, 4251,    249.4,  11.0916,  34.4036,2,   -999.0,9,-999.0000,9,    146.0,2,    35.41,2,  -999.00,9,    20.75,2,     0.02,2,     1.41,2, -999.000,9, -999.000,9,  -999.00,9,   -999.0,9,   -999.0,9,-999.0000,9,   -999.0,  9,  -999.00,9,   -999.0,  -999.00,9,  -999.00,9,     0.01,2,     0.05,2,   -999.0,-999.0000, -999,9,  248,  11.0608,  26.3001,   -999.0,9
       KS05-04,  137E,KS-1271,  1,     14,02-16020,2,20050422,2149, 31.9608, 137.0228, 4251,    300.8,   9.7603,  34.3405,2,   -999.0,9,  34.3405,2,    134.0,2,    43.76,2,  -999.00,9,    23.97,2,     0.02,2,     1.66,2, -999.000,9, -999.000,9,  -999.00,9,   -999.0,9,   -999.0,9,-999.0000,9,   -999.0,  9,  -999.00,9,   -999.0,  -999.00,9,  -999.00,9,     0.01,2,     0.05,2,   -999.0,-999.0000, -999,9,  298,   9.7260,  26.4831,   -999.0,9
       KS05-04,  137E,KS-1271,  1,     13,02-16019,2,20050422,2146, 31.9608, 137.0228, 4251,    402.8,   7.0313,  34.2571,2,   -999.0,9,  34.2574,2,    107.0,2,    67.39,2,  -999.00,9,    31.07,2,     0.00,2,     2.20,2, -999.000,9, -999.000,9,  -999.00,9,   -999.0,9,   -999.0,9,-999.0000,9,   -999.0,  9,  -999.00,9,   -999.0,  -999.00,9,  -999.00,9,  -999.00,9,  -999.00,9,   -999.0,-999.0000, -999,9,  400,   6.9934,  26.8345,   -999.0,9
       KS05-04,  137E,KS-1271,  1,     12,02-16018,2,20050422,2144, 31.9608, 137.0228, 4251,    502.6,   5.7446,  34.2576,2,   -999.0,9,  34.2585,2,     88.0,2,    82.79,2,  -999.00,9,    34.96,2,     0.00,2,     2.48,2, -999.000,9, -999.000,9,  -999.00,9,   -999.0,9,   -999.0,9,-999.0000,9,   -999.0,  9,  -999.00,9,   -999.0,  -999.00,9,  -999.00,9,  -999.00,9,  -999.00,9,   -999.0,-999.0000, -999,9,  498,   5.7019,  27.0032,   -999.0,9
       KS05-04,  137E,KS-1271,  1,     11,02-19376,2,20050422,2142, 31.9608, 137.0228, 4251,    603.5,   5.0392,  34.3138,2,   -999.0,9,  34.3142,2,     77.0,2,    95.70,2,  -999.00,9,    36.80,2,     0.00,2,     2.63,2, -999.000,9, -999.000,9,  -999.00,9,   -999.0,9,   -999.0,9,-999.0000,9,   -999.0,  9,  -999.00,9,   -999.0,  -999.00,9,  -999.00,9,  -999.00,9,  -999.00,9,   -999.0,-999.0000, -999,9,  598,   4.9907,  27.1323,   -999.0,9
       KS05-04,  137E,KS-1271,  1,     10,02-19375,2,20050422,2139, 31.9608, 137.0228, 4251,    704.7,   4.3568,  34.3537,2,   -999.0,9,  34.3521,2,     70.0,2,   106.47,2,  -999.00,9,    38.55,2,     0.00,2,     2.75,2, -999.000,9, -999.000,9,  -999.00,9,   -999.0,9,   -999.0,9,-999.0000,9,   -999.0,  9,  -999.00,9,   -999.0,  -999.00,9,  -999.00,9,  -999.00,9,  -999.00,9,   -999.0,-999.0000, -999,9,  699,   4.3033,  27.2402,   -999.0,9
       KS05-04,  137E,KS-1271,  1,      9,02-16015,2,20050422,2137, 31.9608, 137.0228, 4251,    806.0,   3.9350,  34.4124,2,   -999.0,9,  34.4124,2,     72.0,2,   114.87,2,  -999.00,9,    39.03,2,     0.00,2,     2.78,2, -999.000,9, -999.000,9,  -999.00,9,   -999.0,9,   -999.0,9,-999.0000,9,   -999.0,  9,  -999.00,9,   -999.0,  -999.00,9,  -999.00,9,  -999.00,9,  -999.00,9,   -999.0,-999.0000, -999,9,  799,   3.8757,  27.3315,   -999.0,9
       KS05-04,  137E,KS-1271,  1,      8,02-16014,2,20050422,2134, 31.9608, 137.0228, 4251,    907.7,   3.4214,  34.4343,2,   -999.0,9,  34.4345,2,     70.0,2,   124.83,2,  -999.00,9,    39.91,2,     0.00,2,     2.84,2, -999.000,9, -999.000,9,  -999.00,9,   -999.0,9,   -999.0,9,-999.0000,9,   -999.0,  9,  -999.00,9,   -999.0,  -999.00,9,  -999.00,9,  -999.00,9,  -999.00,9,   -999.0,-999.0000, -999,9,  899,   3.3575,  27.4001,   -999.0,9
       KS05-04,  137E,KS-1271,  1,      7,02-19374,2,20050422,2132, 31.9608, 137.0228, 4251,   1008.2,   3.1966,  34.4596,2,   -999.0,9,  34.4595,2,     72.0,2,   128.32,2,  -999.00,9,    40.10,2,     0.00,2,     2.84,2, -999.000,9, -999.000,9,  -999.00,9,   -999.0,9,   -999.0,9,-999.0000,9,   -999.0,  9,  -999.00,9,   -999.0,  -999.00,9,  -999.00,9,  -999.00,9,  -999.00,9,   -999.0,-999.0000, -999,9,  999,   3.1266,  27.4420,   -999.0,9
       KS05-04,  137E,KS-1271,  1,      6,02-19373,2,20050422,2126, 31.9608, 137.0228, 4251,   1261.4,   2.7277,  34.5072,2,   -999.0,9,  34.5070,2,     87.0,2,   136.60,2,  -999.00,9,    40.00,2,     0.00,2,     2.83,2, -999.000,9, -999.000,9,  -999.00,9,   -999.0,9,   -999.0,9,-999.0000,9,   -999.0,  9,  -999.00,9,   -999.0,  -999.00,9,  -999.00,9,  -999.00,9,  -999.00,9,   -999.0,-999.0000, -999,9, 1249,   2.6421,  27.5236,   -999.0,9
       KS05-04,  137E,KS-1271,  1,      5,02-16011,2,20050422,2121, 31.9608, 137.0228, 4251,   1516.5,   2.3594,  34.5531,2,   -999.0,9,  34.5529,2,     92.0,2,   141.52,2,  -999.00,9,    39.61,2,     0.00,2,     2.78,2, -999.000,9, -999.000,9,  -999.00,9,   -999.0,9,   -999.0,9,-999.0000,9,   -999.0,  9,  -999.00,9,   -999.0,  -999.00,9,  -999.00,9,  -999.00,9,  -999.00,9,   -999.0,-999.0000, -999,9, 1501,   2.2577,  27.5929,   -999.0,9
       KS05-04,  137E,KS-1271,  1,      4,02-16010,2,20050422,2115, 31.9608, 137.0228, 4251,   1770.3,   2.1386,  34.5833,2,   -999.0,9,  34.5830,2,    103.0,2,   143.38,2,  -999.00,9,    39.12,2,     0.00,2,     2.74,2, -999.000,9, -999.000,9,  -999.00,9,   -999.0,9,   -999.0,9,-999.0000,9,   -999.0,  9,  -999.00,9,   -999.0,  -999.00,9,  -999.00,9,  -999.00,9,  -999.00,9,   -999.0,-999.0000, -999,9, 1751,   2.0193,  27.6363,   -999.0,9
       KS05-04,  137E,KS-1271,  1,      3,02-16009,2,20050422,2109, 31.9608, 137.0228, 4251,   2024.0,   1.9393,  34.6123,2,   -999.0,9,  34.6121,2,    114.0,2,   143.71,2,  -999.00,9,    38.44,2,     0.00,2,     2.68,2, -999.000,9, -999.000,9,  -999.00,9,   -999.0,9,   -999.0,9,-999.0000,9,   -999.0,  9,  -999.00,9,   -999.0,  -999.00,9,  -999.00,9,  -999.00,9,  -999.00,9,   -999.0,-999.0000, -999,9, 2000,   1.8018,  27.6765,   -999.0,9
       KS05-04,  137E,KS-1271,  1,      2,02-16008,2,20050422,2049, 31.9608, 137.0228, 4251,   3040.0,   1.5659,  34.6684,2,   -999.0,9,  34.6677,2,    145.0,2,   141.93,2,  -999.00,9,    36.68,2,     0.00,2,     2.52,2, -999.000,9, -999.000,9,  -999.00,9,   -999.0,9,   -999.0,9,-999.0000,9,   -999.0,  9,  -999.00,9,   -999.0,  -999.00,9,  -999.00,9,  -999.00,9,  -999.00,9,   -999.0,-999.0000, -999,9, 2997,   1.3439,  27.7552,   -999.0,9
       KS05-04,  137E,KS-1271,  1,      1,02-16007,2,20050422,2032, 31.9608, 137.0228, 4251,   4061.2,   1.5517,  34.6813,2,   -999.0,9,  34.6814,2,    155.0,2,   140.74,2,  -999.00,9,    36.10,2,     0.00,2,     2.47,2, -999.000,9, -999.000,9,  -999.00,9,   -999.0,9,   -999.0,9,-999.0000,9,   -999.0,  9,  -999.00,9,   -999.0,  -999.00,9,  -999.00,9,  -999.00,9,  -999.00,9,   -999.0,-999.0000, -999,9, 3995,   1.2247,  27.7740,   -999.0,9
       KS05-04,  137E,KS-1272,  1,      2,02-16008,9,20050423,0323, 31.6133, 137.1048, 4254,      5.0,  19.9406,  34.7583,2,   -999.0,9,-999.0000,9,   -999.0,9,  -999.00,9,  -999.00,9,  -999.00,9,  -999.00,9,  -999.00,9, -999.000,9, -999.000,9,  -999.00,9,   -999.0,9,   -999.0,9,-999.0000,9,   -999.0,  9,  -999.00,9,   -999.0,  -999.00,9,  -999.00,9,  -999.00,9,  -999.00,9,   -999.0,-999.0000, -999,9,    5,  19.9397,  24.5932,   -999.0,9
       KS05-04,  137E,KS-1272,  1,      1,02-16007,2,20050423,0322, 31.6133, 137.1048, 4254,      5.1,  19.8943,  34.7550,2,   -999.0,9,-999.0000,9,   -999.0,9,  -999.00,9,  -999.00,9,  -999.00,9,  -999.00,9,  -999.00,9, -999.000,9, -999.000,9,  -999.00,9,   1976.9,6,   -999.0,9,   8.0589,2,     25.0, TS,  -999.00,9,   -999.0,  -999.00,9,  -999.00,9,     0.07,2,     0.08,2,   -999.0,-999.0000, -999,9,    5,  19.8934,  24.6029,   -999.0,9
       KS05-04,  137E,KS-1273,  1,      2,02-16008,9,20050423,0759, 31.3175, 137.0367, 4098,      4.6,  21.8973,  34.7169,2,   -999.0,9,-999.0000,9,   -999.0,9,  -999.00,9,  -999.00,9,  -999.00,9,  -999.00,9,  -999.00,9, -999.000,9, -999.000,9,  -999.00,9,   1960.6,2,   -999.0,9,-999.0000,9,   -999.0,  9,  -999.00,9,   -999.0,  -999.00,9,  -999.00,9,  -999.00,9,  -999.00,9,   -999.0,-999.0000, -999,9,    5,  21.8964,  24.0317,   -999.0,9
       KS05-04,  137E,KS-1273,  1,      1,02-16007,2,20050423,0759, 31.3175, 137.0367, 4098,      4.4,  21.9012,  34.7173,2,   -999.0,9,-999.0000,9,   -999.0,9,  -999.00,9,  -999.00,9,  -999.00,9,  -999.00,9,  -999.00,9, -999.000,9, -999.000,9,  -999.00,9,   -999.0,9,   -999.0,9,   8.0804,6,     25.0, TS,  -999.00,9,   -999.0,  -999.00,9,  -999.00,9,     0.32,2,     0.22,2,   -999.0,-999.0000, -999,9,    4,  21.9003,  24.0309,   -999.0,9