BOTTLE,20130510GEMDJMAYT
EXPOCODE,SECT_ID,STNNBR,CASTNO,SAMPNO,BTLNBR,BTLNBR_FLAG_W,DATE,TIME,LATITUDE,LONGITUDE,DEPTH,CTDPRS,CTDTMP,CTDSAL,CTDSAL_FLAG_W,CTDOXY,CTDOXY_FLAG_W,SALNTY,SALNTY_FLAG_W,OXYGEN,OXYGEN_FLAG_W,SILCAT,SILCAT_FLAG_W,NITRAT,NITRAT_FLAG_W,NO2+NO3,NO2+NO3_FLAG_W,NITRIT,NITRIT_FLAG_W,PHSPHT,PHSPHT_FLAG_W,CFC-11,CFC-11_FLAG_W,CFC-12,CFC-12_FLAG_W,DELC13,DELC13_FLAG_W,TCARBN,TCARBN_FLAG_W,ALKALI,ALKALI_FLAG_W,PH,PH_FLAG_W,PH_TMP,PH_SCALE,PH_NBS,PH_NBS_FLAG_W,C13ERR,TOTALP,TOTALP_FLAG_W,AMMONI,AMMONI_FLAG_W,CHLORA,CHLORA_FLAG_W,PPHYTN,PPHYTN_FLAG_W,REVPRS,REVTMP,DEPTH_,DEPTH_FLAG,CTDDEP,THETA,SIGTHT,DOC,DOC_FLAG_W
,,,,,,,GMT,GMT,,,METER,DBAR,ITS-90,PSS-78,,UMOL/KG,,PSS-78,,UMOL/KG,,UMOL/KG,,UMOL/KG,,UMOL/KG,,UMOL/KG,,UMOL/KG,,PMOL/KG,,PMOL/KG,,/MILLE,,UMOL/KG,,UMOL/KG,,25_DEG_C,,DEG_C,,,,/MILLE,UMOL/KG,,UMOL/KG,,UG/L,,UG/L,,DBAR,ITS-90,METERS,,METERS,DEG_C,,UMOL/L,
       KS05-04,  137E,KS-1268,  1,     24,02-16030,4,20050422,0707, 32.9918, 137.0395, 4278,      5.3,  17.5894,  34.7030,2,   -999.0,9,  34.7048,2,   -999.0,9,  -999.00,9,  -999.00,9,  -999.00,9,  -999.00,9,  -999.00,9, -999.000,9, -999.000,9,  -999.00,9,   1987.5,6,   -999.0,9,   8.0363,2,     25.0, TS,  -999.00,9,   -999.0,  -999.00,9,  -999.00,9,     0.60,2,     0.54,2,   -999.0,-999.0000, -999,9,    5,  17.5885,  25.1451,   -999.0,9
       KS05-04,  137E,KS-1268,  1,     23,02-19380,2,20050422,0653, 32.9918, 137.0395, 4278,    101.2,  15.5068,  34.6494,2,   -999.0,9,  34.6470,2,   -999.0,9,  -999.00,9,  -999.00,9,  -999.00,9,  -999.00,9,  -999.00,9, -999.000,9, -999.000,9,  -999.00,9,   -999.0,9,   -999.0,9,-999.0000,9,   -999.0,  9,  -999.00,9,   -999.0,  -999.00,9,  -999.00,9,  -999.00,9,  -999.00,9,   -999.0,-999.0000, -999,9,  100,  15.4912,  25.5929,   -999.0,9
       KS05-04,  137E,KS-1268,  1,     22,02-19379,2,20050422,0651, 32.9918, 137.0395, 4278,    200.0,  11.4852,  34.4152,2,   -999.0,9,  34.4204,2,   -999.0,9,  -999.00,9,  -999.00,9,  -999.00,9,  -999.00,9,  -999.00,9, -999.000,9, -999.000,9,  -999.00,9,   -999.0,9,   -999.0,9,-999.0000,9,   -999.0,  9,  -999.00,9,   -999.0,  -999.00,9,  -999.00,9,  -999.00,9,  -999.00,9,   -999.0,-999.0000, -999,9,  199,  11.4600,  26.2361,   -999.0,9
       KS05-04,  137E,KS-1268,  1,     21,02-16027,2,20050422,0648, 32.9918, 137.0395, 4278,    302.8,   8.3325,  34.2873,2,   -999.0,9,  34.2915,2,   -999.0,9,  -999.00,9,  -999.00,9,  -999.00,9,  -999.00,9,  -999.00,9, -999.000,9, -999.000,9,  -999.00,9,   -999.0,9,   -999.0,9,-999.0000,9,   -999.0,  9,  -999.00,9,   -999.0,  -999.00,9,  -999.00,9,  -999.00,9,  -999.00,9,   -999.0,-999.0000, -999,9,  300,   8.3012,  26.6688,   -999.0,9
       KS05-04,  137E,KS-1268,  1,     20,02-16026,2,20050422,0645, 32.9918, 137.0395, 4278,    402.8,   6.7162,  34.2719,2,   -999.0,9,  34.2734,2,   -999.0,9,  -999.00,9,  -999.00,9,  -999.00,9,  -999.00,9,  -999.00,9, -999.000,9, -999.000,9,  -999.00,9,   -999.0,9,   -999.0,9,-999.0000,9,   -999.0,  9,  -999.00,9,   -999.0,  -999.00,9,  -999.00,9,  -999.00,9,  -999.00,9,   -999.0,-999.0000, -999,9,  400,   6.6792,  26.8888,   -999.0,9
       KS05-04,  137E,KS-1268,  1,     19,02-19378,2,20050422,0642, 32.9918, 137.0395, 4278,    504.0,   5.2888,  34.2918,2,   -999.0,9,  34.2923,2,   -999.0,9,  -999.00,9,  -999.00,9,  -999.00,9,  -999.00,9,  -999.00,9, -999.000,9, -999.000,9,  -999.00,9,   -999.0,9,   -999.0,9,-999.0000,9,   -999.0,  9,  -999.00,9,   -999.0,  -999.00,9,  -999.00,9,  -999.00,9,  -999.00,9,   -999.0,-999.0000, -999,9,  500,   5.2477,  27.0850,   -999.0,9
       KS05-04,  137E,KS-1268,  1,     18,02-19377,2,20050422,0640, 32.9918, 137.0395, 4278,    603.9,   4.6124,  34.3246,2,   -999.0,9,  34.3280,2,   -999.0,9,  -999.00,9,  -999.00,9,  -999.00,9,  -999.00,9,  -999.00,9, -999.000,9, -999.000,9,  -999.00,9,   -999.0,9,   -999.0,9,-999.0000,9,   -999.0,  9,  -999.00,9,   -999.0,  -999.00,9,  -999.00,9,  -999.00,9,  -999.00,9,   -999.0,-999.0000, -999,9,  599,   4.5658,  27.1886,   -999.0,9
       KS05-04,  137E,KS-1268,  1,     17,02-16023,2,20050422,0637, 32.9918, 137.0395, 4278,    705.9,   4.0649,  34.3630,2,   -999.0,9,  34.3639,2,   -999.0,9,  -999.00,9,  -999.00,9,  -999.00,9,  -999.00,9,  -999.00,9, -999.000,9, -999.000,9,  -999.00,9,   -999.0,9,   -999.0,9,-999.0000,9,   -999.0,  9,  -999.00,9,   -999.0,  -999.00,9,  -999.00,9,  -999.00,9,  -999.00,9,   -999.0,-999.0000, -999,9,  700,   4.0129,  27.2781,   -999.0,9
       KS05-04,  137E,KS-1268,  1,     16,02-16022,2,20050422,0634, 32.9918, 137.0395, 4278,    805.8,   3.6939,  34.4002,2,   -999.0,9,  34.4006,2,   -999.0,9,  -999.00,9,  -999.00,9,  -999.00,9,  -999.00,9,  -999.00,9, -999.000,9, -999.000,9,  -999.00,9,   -999.0,9,   -999.0,9,-999.0000,9,   -999.0,  9,  -999.00,9,   -999.0,  -999.00,9,  -999.00,9,  -999.00,9,  -999.00,9,   -999.0,-999.0000, -999,9,  799,   3.6362,  27.3458,   -999.0,9
       KS05-04,  137E,KS-1268,  1,     15,02-16021,2,20050422,0632, 32.9918, 137.0395, 4278,    909.6,   3.3485,  34.4361,2,   -999.0,9,  34.4402,2,   -999.0,9,  -999.00,9,  -999.00,9,  -999.00,9,  -999.00,9,  -999.00,9, -999.000,9, -999.000,9,  -999.00,9,   -999.0,9,   -999.0,9,-999.0000,9,   -999.0,  9,  -999.00,9,   -999.0,  -999.00,9,  -999.00,9,  -999.00,9,  -999.00,9,   -999.0,-999.0000, -999,9,  901,   3.2850,  27.4085,   -999.0,9
       KS05-04,  137E,KS-1268,  1,     14,02-16020,2,20050422,0629, 32.9918, 137.0395, 4278,   1009.0,   3.0946,  34.4641,2,   -999.0,9,  34.4652,2,   -999.0,9,  -999.00,9,  -999.00,9,  -999.00,9,  -999.00,9,  -999.00,9, -999.000,9, -999.000,9,  -999.00,9,   -999.0,9,   -999.0,9,-999.0000,9,   -999.0,  9,  -999.00,9,   -999.0,  -999.00,9,  -999.00,9,  -999.00,9,  -999.00,9,   -999.0,-999.0000, -999,9,  999,   3.0253,  27.4550,   -999.0,9
       KS05-04,  137E,KS-1268,  1,     13,02-16019,2,20050422,0624, 32.9918, 137.0395, 4278,   1261.0,   2.7017,  34.5101,2,   -999.0,9,  34.5233,4,   -999.0,9,  -999.00,9,  -999.00,9,  -999.00,9,  -999.00,9,  -999.00,9, -999.000,9, -999.000,9,  -999.00,9,   -999.0,9,   -999.0,9,-999.0000,9,   -999.0,  9,  -999.00,9,   -999.0,  -999.00,9,  -999.00,9,  -999.00,9,  -999.00,9,   -999.0,-999.0000, -999,9, 1248,   2.6164,  27.5282,   -999.0,9
       KS05-04,  137E,KS-1268,  1,     12,02-16018,2,20050422,0619, 32.9918, 137.0395, 4278,   1516.8,   2.3678,  34.5520,2,   -999.0,9,  34.5529,2,   -999.0,9,  -999.00,9,  -999.00,9,  -999.00,9,  -999.00,9,  -999.00,9, -999.000,9, -999.000,9,  -999.00,9,   -999.0,9,   -999.0,9,-999.0000,9,   -999.0,  9,  -999.00,9,   -999.0,  -999.00,9,  -999.00,9,  -999.00,9,  -999.00,9,   -999.0,-999.0000, -999,9, 1501,   2.2660,  27.5913,   -999.0,9
       KS05-04,  137E,KS-1268,  1,     11,02-19376,2,20050422,0614, 32.9918, 137.0395, 4278,   1767.2,   2.1064,  34.5876,2,   -999.0,9,  34.5883,2,   -999.0,9,  -999.00,9,  -999.00,9,  -999.00,9,  -999.00,9,  -999.00,9, -999.000,9, -999.000,9,  -999.00,9,   -999.0,9,   -999.0,9,-999.0000,9,   -999.0,  9,  -999.00,9,   -999.0,  -999.00,9,  -999.00,9,  -999.00,9,  -999.00,9,   -999.0,-999.0000, -999,9, 1747,   1.9878,  27.6422,   -999.0,9
       KS05-04,  137E,KS-1268,  1,     10,02-19375,2,20050422,0609, 32.9918, 137.0395, 4278,   2023.4,   1.9028,  34.6161,2,   -999.0,9,  34.6170,2,   -999.0,9,  -999.00,9,  -999.00,9,  -999.00,9,  -999.00,9,  -999.00,9, -999.000,9, -999.000,9,  -999.00,9,   -999.0,9,   -999.0,9,-999.0000,9,   -999.0,  9,  -999.00,9,   -999.0,  -999.00,9,  -999.00,9,  -999.00,9,  -999.00,9,   -999.0,-999.0000, -999,9, 1999,   1.7659,  27.6823,   -999.0,9
       KS05-04,  137E,KS-1268,  1,      9,02-16015,2,20050422,0551, 32.9918, 137.0395, 4278,   3041.1,   1.5303,  34.6723,2,   -999.0,9,  34.6730,2,   -999.0,9,  -999.00,9,  -999.00,9,  -999.00,9,  -999.00,9,  -999.00,9, -999.000,9, -999.000,9,  -999.00,9,   -999.0,9,   -999.0,9,-999.0000,9,   -999.0,  9,  -999.00,9,   -999.0,  -999.00,9,  -999.00,9,  -999.00,9,  -999.00,9,   -999.0,-999.0000, -999,9, 2998,   1.3089,  27.7608,   -999.0,9
       KS05-04,  137E,KS-1268,  1,      8,02-16014,2,20050422,0532, 32.9918, 137.0395, 4278,   4064.8,   1.5492,  34.6815,2,   -999.0,9,  34.6844,2,   -999.0,9,  -999.00,9,  -999.00,9,  -999.00,9,  -999.00,9,  -999.00,9, -999.000,9, -999.000,9,  -999.00,9,   -999.0,9,   -999.0,9,-999.0000,9,   -999.0,  9,  -999.00,9,   -999.0,  -999.00,9,  -999.00,9,  -999.00,9,  -999.00,9,   -999.0,-999.0000, -999,9, 3998,   1.2218,  27.7743,   -999.0,9
       KS05-04,  137E,KS-1268,  1,      7,02-19374,9,20050422,0528, 32.9918, 137.0395, 4278,   4269.7,   1.5687,  34.6818,2,   -999.0,9,-999.0000,9,   -999.0,9,  -999.00,9,  -999.00,9,  -999.00,9,  -999.00,9,  -999.00,9, -999.000,9, -999.000,9,  -999.00,9,   -999.0,9,   -999.0,9,-999.0000,9,   -999.0,  9,  -999.00,9,   -999.0,  -999.00,9,  -999.00,9,  -999.00,9,  -999.00,9,   -999.0,-999.0000, -999,9, 4197,   1.2179,  27.7749,   -999.0,9
       KS05-04,  137E,KS-1268,  1,      6,02-19373,9,20050422,0528, 32.9918, 137.0395, 4278,   4269.6,   1.5688,  34.6817,2,   -999.0,9,-999.0000,9,   -999.0,9,  -999.00,9,  -999.00,9,  -999.00,9,  -999.00,9,  -999.00,9, -999.000,9, -999.000,9,  -999.00,9,   -999.0,9,   -999.0,9,-999.0000,9,   -999.0,  9,  -999.00,9,   -999.0,  -999.00,9,  -999.00,9,  -999.00,9,  -999.00,9,   -999.0,-999.0000, -999,9, 4197,   1.2181,  27.7748,   -999.0,9
       KS05-04,  137E,KS-1268,  1,      5,02-16011,9,20050422,0527, 32.9918, 137.0395, 4278,   4270.0,   1.5688,  34.6817,2,   -999.0,9,-999.0000,9,   -999.0,9,  -999.00,9,  -999.00,9,  -999.00,9,  -999.00,9,  -999.00,9, -999.000,9, -999.000,9,  -999.00,9,   -999.0,9,   -999.0,9,-999.0000,9,   -999.0,  9,  -999.00,9,   -999.0,  -999.00,9,  -999.00,9,  -999.00,9,  -999.00,9,   -999.0,-999.0000, -999,9, 4198,   1.2180,  27.7748,   -999.0,9
       KS05-04,  137E,KS-1268,  1,      4,02-16010,9,20050422,0527, 32.9918, 137.0395, 4278,   4270.6,   1.5688,  34.6817,2,   -999.0,9,-999.0000,9,   -999.0,9,  -999.00,9,  -999.00,9,  -999.00,9,  -999.00,9,  -999.00,9, -999.000,9, -999.000,9,  -999.00,9,   -999.0,9,   -999.0,9,-999.0000,9,   -999.0,  9,  -999.00,9,   -999.0,  -999.00,9,  -999.00,9,  -999.00,9,  -999.00,9,   -999.0,-999.0000, -999,9, 4198,   1.2179,  27.7748,   -999.0,9
       KS05-04,  137E,KS-1268,  1,      3,02-16009,9,20050422,0527, 32.9918, 137.0395, 4278,   4270.5,   1.5689,  34.6817,2,   -999.0,9,-999.0000,9,   -999.0,9,  -999.00,9,  -999.00,9,  -999.00,9,  -999.00,9,  -999.00,9, -999.000,9, -999.000,9,  -999.00,9,   -999.0,9,   -999.0,9,-999.0000,9,   -999.0,  9,  -999.00,9,   -999.0,  -999.00,9,  -999.00,9,  -999.00,9,  -999.00,9,   -999.0,-999.0000, -999,9, 4198,   1.2180,  27.7748,   -999.0,9
       KS05-04,  137E,KS-1268,  1,      2,02-16008,9,20050422,0527, 32.9918, 137.0395, 4278,   4271.2,   1.5691,  34.6818,2,   -999.0,9,-999.0000,9,   -999.0,9,  -999.00,9,  -999.00,9,  -999.00,9,  -999.00,9,  -999.00,9, -999.000,9, -999.000,9,  -999.00,9,   -999.0,9,   -999.0,9,-999.0000,9,   -999.0,  9,  -999.00,9,   -999.0,  -999.00,9,  -999.00,9,  -999.00,9,  -999.00,9,   -999.0,-999.0000, -999,9, 4199,   1.2182,  27.7748,   -999.0,9
       KS05-04,  137E,KS-1268,  1,      1,02-16007,2,20050422,0527, 32.9918, 137.0395, 4278,   4272.7,   1.5691,  34.6816,2,   -999.0,9,  34.6834,2,   -999.0,9,  -999.00,9,  -999.00,9,  -999.00,9,  -999.00,9,  -999.00,9, -999.000,9, -999.000,9,  -999.00,9,   -999.0,9,   -999.0,9,-999.0000,9,   -999.0,  9,  -999.00,9,   -999.0,  -999.00,9,  -999.00,9,  -999.00,9,  -999.00,9,   -999.0,-999.0000, -999,9, 4200,   1.2180,  27.7747,   -999.0,9