BOTTLE,20130510GEMDJMAYT
EXPOCODE,SECT_ID,STNNBR,CASTNO,SAMPNO,BTLNBR,BTLNBR_FLAG_W,DATE,TIME,LATITUDE,LONGITUDE,DEPTH,CTDPRS,CTDTMP,CTDSAL,CTDSAL_FLAG_W,CTDOXY,CTDOXY_FLAG_W,SALNTY,SALNTY_FLAG_W,OXYGEN,OXYGEN_FLAG_W,SILCAT,SILCAT_FLAG_W,NITRAT,NITRAT_FLAG_W,NO2+NO3,NO2+NO3_FLAG_W,NITRIT,NITRIT_FLAG_W,PHSPHT,PHSPHT_FLAG_W,CFC-11,CFC-11_FLAG_W,CFC-12,CFC-12_FLAG_W,DELC13,DELC13_FLAG_W,TCARBN,TCARBN_FLAG_W,ALKALI,ALKALI_FLAG_W,PH,PH_FLAG_W,PH_TMP,PH_SCALE,PH_NBS,PH_NBS_FLAG_W,C13ERR,TOTALP,TOTALP_FLAG_W,AMMONI,AMMONI_FLAG_W,CHLORA,CHLORA_FLAG_W,PPHYTN,PPHYTN_FLAG_W,REVPRS,REVTMP,DEPTH_,DEPTH_FLAG,CTDDEP,THETA,SIGTHT,DOC,DOC_FLAG_W
,,,,,,,GMT,GMT,,,METER,DBAR,ITS-90,PSS-78,,UMOL/KG,,PSS-78,,UMOL/KG,,UMOL/KG,,UMOL/KG,,UMOL/KG,,UMOL/KG,,UMOL/KG,,PMOL/KG,,PMOL/KG,,/MILLE,,UMOL/KG,,UMOL/KG,,25_DEG_C,,DEG_C,,,,/MILLE,UMOL/KG,,UMOL/KG,,UG/L,,UG/L,,DBAR,ITS-90,METERS,,METERS,DEG_C,,UMOL/L,
       KS05-04,  137E,KS-1301,  1,     24,02-16030,2,20050503,0923,  4.9978, 136.9850, 4987,      5.0,  29.7190,  34.3632,2,   -999.0,9,  34.3605,2,    196.0,2,     0.50,2,  -999.00,9,     0.00,2,     0.00,2,     0.04,2, -999.000,9, -999.000,9,  -999.00,9,   1915.4,6,   -999.0,9,   8.1262,2,     25.0, TS,     8.25,2,   -999.0,  -999.00,9,  -999.00,9,     0.03,2,     0.03,2,   -999.0,-999.0000, -999,9,    5,  29.7178,  21.3448,   -999.0,9
       KS05-04,  137E,KS-1301,  1,     23,02-19380,2,20050503,0922,  4.9978, 136.9850, 4987,      9.5,  29.7149,  34.3640,2,   -999.0,9,-999.0000,9,    195.0,2,     0.49,2,  -999.00,9,     0.00,2,     0.00,2,     0.04,2, -999.000,9, -999.000,9,  -999.00,9,   -999.0,9,   -999.0,9,-999.0000,9,   -999.0,  9,     8.26,2,   -999.0,  -999.00,9,  -999.00,9,     0.04,2,     0.03,2,   -999.0,-999.0000, -999,9,    9,  29.7126,  21.3472,   -999.0,9
       KS05-04,  137E,KS-1301,  1,     22,02-19379,2,20050503,0921,  4.9978, 136.9850, 4987,     24.4,  29.5006,  34.3934,2,   -999.0,9,-999.0000,9,    197.0,2,     0.48,2,  -999.00,9,     0.00,2,     0.00,2,     0.00,4, -999.000,9, -999.000,9,  -999.00,9,   -999.0,9,   -999.0,9,-999.0000,9,   -999.0,  9,     8.26,2,   -999.0,  -999.00,9,  -999.00,9,     0.05,2,     0.04,2,   -999.0,-999.0000, -999,9,   24,  29.4946,  21.4428,   -999.0,9
       KS05-04,  137E,KS-1301,  1,     21,02-16027,2,20050503,0918,  4.9978, 136.9850, 4987,     49.4,  27.0492,  34.9695,2,   -999.0,9,-999.0000,9,    167.0,2,     1.43,2,  -999.00,9,     3.32,2,     0.29,2,     0.25,2, -999.000,9, -999.000,9,  -999.00,9,   -999.0,9,   -999.0,9,-999.0000,9,   -999.0,  9,     8.17,2,   -999.0,  -999.00,9,  -999.00,9,     0.21,2,     0.54,2,   -999.0,-999.0000, -999,9,   49,  27.0379,  22.6827,   -999.0,9
       KS05-04,  137E,KS-1301,  1,     20,02-16026,2,20050503,0917,  4.9978, 136.9850, 4987,     73.9,  24.6420,  34.9891,2,   -999.0,9,-999.0000,9,    137.0,2,     3.73,2,  -999.00,9,     8.31,2,     0.34,2,     0.52,2, -999.000,9, -999.000,9,  -999.00,9,   -999.0,9,   -999.0,9,-999.0000,9,   -999.0,  9,     8.10,2,   -999.0,  -999.00,9,  -999.00,9,     0.12,2,     0.44,2,   -999.0,-999.0000, -999,9,   73,  24.6262,  23.4461,   -999.0,9
       KS05-04,  137E,KS-1301,  1,     19,02-19378,2,20050503,0916,  4.9978, 136.9850, 4987,     99.8,  23.6541,  35.0958,2,   -999.0,9,  35.1024,2,    130.0,2,     4.41,2,  -999.00,9,     9.77,2,     0.07,2,     0.63,2, -999.000,9, -999.000,9,  -999.00,9,   -999.0,9,   -999.0,9,-999.0000,9,   -999.0,  9,     8.07,2,   -999.0,  -999.00,9,  -999.00,9,     0.06,2,     0.25,2,   -999.0,-999.0000, -999,9,   99,  23.6333,  23.8221,   -999.0,9
       KS05-04,  137E,KS-1301,  1,     18,02-19377,2,20050503,0916,  4.9978, 136.9850, 4987,    124.7,  22.7228,  35.1251,2,   -999.0,9,-999.0000,9,    131.0,2,     5.03,2,  -999.00,9,    10.06,2,     0.01,2,     0.66,2, -999.000,9, -999.000,9,  -999.00,9,   -999.0,9,   -999.0,9,-999.0000,9,   -999.0,  9,     8.06,2,   -999.0,  -999.00,9,  -999.00,9,     0.02,2,     0.10,2,   -999.0,-999.0000, -999,9,  124,  22.6975,  24.1154,   -999.0,9
       KS05-04,  137E,KS-1301,  1,     17,02-16023,2,20050503,0915,  4.9978, 136.9850, 4987,    149.9,  22.3104,  35.1432,2,   -999.0,9,-999.0000,9,    134.0,2,     5.17,2,  -999.00,9,    10.06,2,     0.03,2,     0.65,2, -999.000,9, -999.000,9,  -999.00,9,   -999.0,9,   -999.0,9,-999.0000,9,   -999.0,  9,     8.05,2,   -999.0,  -999.00,9,  -999.00,9,     0.01,2,     0.05,2,   -999.0,-999.0000, -999,9,  149,  22.2804,  24.2477,   -999.0,9
       KS05-04,  137E,KS-1301,  1,     16,02-16022,2,20050503,0914,  4.9978, 136.9850, 4987,    200.0,  20.5039,  35.0840,2,   -999.0,9,  35.0762,4,    138.0,2,     7.27,2,  -999.00,9,    10.93,2,     0.01,2,     0.72,2, -999.000,9, -999.000,9,  -999.00,9,   -999.0,9,   -999.0,9,-999.0000,9,   -999.0,  9,     8.03,2,   -999.0,  -999.00,9,  -999.00,9,     0.01,2,     0.03,2,   -999.0,-999.0000, -999,9,  199,  20.4662,  24.7019,   -999.0,9
       KS05-04,  137E,KS-1301,  1,     15,02-16021,2,20050503,0912,  4.9978, 136.9850, 4987,    250.5,  15.5753,  34.6681,2,   -999.0,9,-999.0000,9,    143.0,2,    15.55,2,  -999.00,9,    15.02,2,     0.01,2,     0.99,2, -999.000,9, -999.000,9,  -999.00,9,   -999.0,9,   -999.0,9,-999.0000,9,   -999.0,  9,     7.94,2,   -999.0,  -999.00,9,  -999.00,9,     0.01,2,     0.04,2,   -999.0,-999.0000, -999,9,  249,  15.5364,  25.5971,   -999.0,9
       KS05-04,  137E,KS-1301,  1,     14,02-16020,2,20050503,0911,  4.9978, 136.9850, 4987,    301.4,  10.9198,  34.5496,2,   -999.0,9,  34.5500,2,     86.0,2,    30.41,2,  -999.00,9,    27.96,2,     0.01,2,     1.93,2, -999.000,9, -999.000,9,  -999.00,9,   -999.0,9,   -999.0,9,-999.0000,9,   -999.0,  9,     7.72,2,   -999.0,  -999.00,9,  -999.00,9,     0.00,2,     0.03,2,   -999.0,-999.0000, -999,9,  300,  10.8828,  26.4458,   -999.0,9
       KS05-04,  137E,KS-1301,  1,     13,02-16019,2,20050503,0909,  4.9978, 136.9850, 4987,    401.9,   8.7880,  34.6159,2,   -999.0,9,  34.6150,2,     54.0,2,    38.68,2,  -999.00,9,    35.06,2,     0.00,2,     2.43,2, -999.000,9, -999.000,9,  -999.00,9,   -999.0,9,   -999.0,9,-999.0000,9,   -999.0,  9,     7.61,2,   -999.0,  -999.00,9,  -999.00,9,  -999.00,9,  -999.00,9,   -999.0,-999.0000, -999,9,  399,   8.7447,  26.8579,   -999.0,9
       KS05-04,  137E,KS-1301,  1,     12,02-16018,2,20050503,0907,  4.9978, 136.9850, 4987,    503.4,   7.9634,  34.5815,2,   -999.0,9,  34.5810,2,     72.0,2,    42.64,2,  -999.00,9,    35.05,2,     0.00,2,     2.42,2, -999.000,9, -999.000,9,  -999.00,9,   -999.0,9,   -999.0,9,-999.0000,9,   -999.0,  9,     7.63,2,   -999.0,  -999.00,9,  -999.00,9,  -999.00,9,  -999.00,9,   -999.0,-999.0000, -999,9,  500,   7.9119,  26.9583,   -999.0,9
       KS05-04,  137E,KS-1301,  1,     11,02-19376,2,20050503,0904,  4.9978, 136.9850, 4987,    603.7,   7.0420,  34.5493,2,   -999.0,9,  34.5486,2,    109.0,2,    44.40,2,  -999.00,9,    33.40,2,     0.00,2,     2.30,2, -999.000,9, -999.000,9,  -999.00,9,   -999.0,9,   -999.0,9,-999.0000,9,   -999.0,  9,     7.68,2,   -999.0,  -999.00,9,  -999.00,9,  -999.00,9,  -999.00,9,   -999.0,-999.0000, -999,9,  599,   6.9840,  27.0660,   -999.0,9
       KS05-04,  137E,KS-1301,  1,     10,02-19375,2,20050503,0902,  4.9978, 136.9850, 4987,    706.0,   6.4347,  34.5375,2,   -999.0,9,  34.5366,2,     98.0,2,    54.49,2,  -999.00,9,    35.63,2,     0.00,2,     2.54,2, -999.000,9, -999.000,9,  -999.00,9,   -999.0,9,   -999.0,9,-999.0000,9,   -999.0,  9,     7.64,2,   -999.0,  -999.00,9,  -999.00,9,  -999.00,9,  -999.00,9,   -999.0,-999.0000, -999,9,  701,   6.3696,  27.1394,   -999.0,9
       KS05-04,  137E,KS-1301,  1,      9,02-16015,2,20050503,0859,  4.9978, 136.9850, 4987,    805.8,   5.7134,  34.5364,2,   -999.0,9,  34.5358,2,     87.0,2,    67.50,2,  -999.00,9,    37.77,2,     0.00,2,     2.66,2, -999.000,9, -999.000,9,  -999.00,9,   -999.0,9,   -999.0,9,-999.0000,9,   -999.0,  9,     7.61,2,   -999.0,  -999.00,9,  -999.00,9,  -999.00,9,  -999.00,9,   -999.0,-999.0000, -999,9,  800,   5.6430,  27.2310,   -999.0,9
       KS05-04,  137E,KS-1301,  1,      8,02-16014,2,20050503,0857,  4.9978, 136.9850, 4987,    907.0,   5.1589,  34.5381,2,   -999.0,9,  34.5376,2,     93.0,2,    77.67,2,  -999.00,9,    37.87,2,     0.00,2,     2.67,2, -999.000,9, -999.000,9,  -999.00,9,   -999.0,9,   -999.0,9,-999.0000,9,   -999.0,  9,     7.61,2,   -999.0,  -999.00,9,  -999.00,9,  -999.00,9,  -999.00,9,   -999.0,-999.0000, -999,9,  900,   5.0828,  27.2995,   -999.0,9
       KS05-04,  137E,KS-1301,  1,      7,02-19374,2,20050503,0855,  4.9978, 136.9850, 4987,   1007.0,   4.6123,  34.5494,2,   -999.0,9,  34.5500,2,     91.0,2,    88.68,2,  -999.00,9,    38.54,2,     0.00,2,     2.73,2, -999.000,9, -999.000,9,  -999.00,9,   -999.0,9,   -999.0,9,-999.0000,9,   -999.0,  9,     7.61,2,   -999.0,  -999.00,9,  -999.00,9,  -999.00,9,  -999.00,9,   -999.0,-999.0000, -999,9,  999,   4.5313,  27.3709,   -999.0,9
       KS05-04,  137E,KS-1301,  1,      6,02-19373,2,20050503,0849,  4.9978, 136.9850, 4987,   1262.3,   3.6442,  34.5764,2,   -999.0,9,  34.5759,2,     96.0,2,   107.95,2,  -999.00,9,    39.12,2,     0.00,2,     2.77,2, -999.000,9, -999.000,9,  -999.00,9,   -999.0,9,   -999.0,9,-999.0000,9,   -999.0,  9,     7.61,2,   -999.0,  -999.00,9,  -999.00,9,  -999.00,9,  -999.00,9,   -999.0,-999.0000, -999,9, 1252,   3.5495,  27.4948,   -999.0,9
       KS05-04,  137E,KS-1301,  1,      5,02-16011,2,20050503,0844,  4.9978, 136.9850, 4987,   1514.2,   3.0534,  34.5974,2,   -999.0,9,  34.5979,2,    100.0,2,   119.83,2,  -999.00,9,    39.22,2,     0.00,2,     2.77,2, -999.000,9, -999.000,9,  -999.00,9,   -999.0,9,   -999.0,9,-999.0000,9,   -999.0,  9,     7.62,2,   -999.0,  -999.00,9,  -999.00,9,  -999.00,9,  -999.00,9,   -999.0,-999.0000, -999,9, 1500,   2.9437,  27.5689,   -999.0,9
       KS05-04,  137E,KS-1301,  1,      4,02-16010,2,20050503,0839,  4.9978, 136.9850, 4987,   1767.7,   2.6044,  34.6169,2,   -999.0,9,  34.6176,2,    117.0,2,   129.88,2,  -999.00,9,    39.22,2,     0.00,2,     2.76,2, -999.000,9, -999.000,9,  -999.00,9,   -999.0,9,   -999.0,9,-999.0000,9,   -999.0,  9,     7.62,2,   -999.0,  -999.00,9,  -999.00,9,  -999.00,9,  -999.00,9,   -999.0,-999.0000, -999,9, 1751,   2.4789,  27.6254,   -999.0,9
       KS05-04,  137E,KS-1301,  1,      3,02-16009,9,20050503,0834,  4.9978, 136.9850, 4987,   2017.9,   2.2395,  34.6347,2,   -999.0,9,-999.0000,9,   -999.0,9,  -999.00,9,  -999.00,9,  -999.00,9,  -999.00,9,  -999.00,9, -999.000,9, -999.000,9,  -999.00,9,   -999.0,9,   -999.0,9,-999.0000,9,   -999.0,  9,  -999.00,9,   -999.0,  -999.00,9,  -999.00,9,  -999.00,9,  -999.00,9,   -999.0,-999.0000, -999,9, 1997,   2.0979,  27.6712,   -999.0,9
       KS05-04,  137E,KS-1301,  1,      2,02-16008,9,20050503,0834,  4.9978, 136.9850, 4987,   2018.1,   2.2396,  34.6346,2,   -999.0,9,-999.0000,9,   -999.0,9,  -999.00,9,  -999.00,9,  -999.00,9,  -999.00,9,  -999.00,9, -999.000,9, -999.000,9,  -999.00,9,   -999.0,9,   -999.0,9,-999.0000,9,   -999.0,  9,  -999.00,9,   -999.0,  -999.00,9,  -999.00,9,  -999.00,9,  -999.00,9,   -999.0,-999.0000, -999,9, 1997,   2.0980,  27.6711,   -999.0,9
       KS05-04,  137E,KS-1301,  1,      1,02-16007,2,20050503,0834,  4.9978, 136.9850, 4987,   2018.2,   2.2396,  34.6346,2,   -999.0,9,  34.6354,2,    106.0,2,   136.54,2,  -999.00,9,    38.83,2,     0.00,2,     2.72,2, -999.000,9, -999.000,9,  -999.00,9,   -999.0,9,   -999.0,9,-999.0000,9,   -999.0,  9,     7.64,2,   -999.0,  -999.00,9,  -999.00,9,  -999.00,9,  -999.00,9,   -999.0,-999.0000, -999,9, 1997,   2.0980,  27.6711,   -999.0,9