BOTTLE,20130510GEMDJMAYT
# 05/09/2013: Correct the error of converted time from JST to GMT.
# 01/25/2006: Transformed into WOCE exchange format
# 06/30/2006: TCARBN QF revised
# 11/09/2006: TCARBN QF revised
# 08/14/2008: pH(TOTAL HYDROGEN SCALE) data reviced
# 02/19/2009 : pH scale specified in header.
# 02/19/2009 : NO2+NO3 label corrected in header.
# 10/01/2009 : QF of TCARBN at KS-1281, KS-1291 revised.
# 04/05/2010 : pH scale specified in header, corrected for QF of CTDSAL (5 -> 2), converted time from JST to GMT
EXPOCODE,SECT_ID,STNNBR,CASTNO,SAMPNO,BTLNBR,BTLNBR_FLAG_W,DATE,TIME,LATITUDE,LONGITUDE,DEPTH,CTDPRS,CTDTMP,CTDSAL,CTDSAL_FLAG_W,CTDOXY,CTDOXY_FLAG_W,SALNTY,SALNTY_FLAG_W,OXYGEN,OXYGEN_FLAG_W,SILCAT,SILCAT_FLAG_W,NITRAT,NITRAT_FLAG_W,NO2+NO3,NO2+NO3_FLAG_W,NITRIT,NITRIT_FLAG_W,PHSPHT,PHSPHT_FLAG_W,CFC-11,CFC-11_FLAG_W,CFC-12,CFC-12_FLAG_W,DELC13,DELC13_FLAG_W,TCARBN,TCARBN_FLAG_W,ALKALI,ALKALI_FLAG_W,PH,PH_FLAG_W,PH_TMP,PH_SCALE,PH_NBS,PH_NBS_FLAG_W,C13ERR,TOTALP,TOTALP_FLAG_W,AMMONI,AMMONI_FLAG_W,CHLORA,CHLORA_FLAG_W,PPHYTN,PPHYTN_FLAG_W,REVPRS,REVTMP,DEPTH_,DEPTH_FLAG,CTDDEP,THETA,SIGTHT,DOC,DOC_FLAG_W
,,,,,,,GMT,GMT,,,METER,DBAR,ITS-90,PSS-78,,UMOL/KG,,PSS-78,,UMOL/KG,,UMOL/KG,,UMOL/KG,,UMOL/KG,,UMOL/KG,,UMOL/KG,,PMOL/KG,,PMOL/KG,,/MILLE,,UMOL/KG,,UMOL/KG,,25_DEG_C,,DEG_C,,,,/MILLE,UMOL/KG,,UMOL/KG,,UG/L,,UG/L,,DBAR,ITS-90,METERS,,METERS,DEG_C,,UMOL/L,
       KS05-04,  137E,KS-1265,  1,     24,02-16030,2,20050421,1714, 34.0278, 137.0520, 1661,      5.5,  17.7177,  34.7475,2,   -999.0,9,  34.7480,2,    244.0,2,     4.30,2,  -999.00,9,     1.17,2,     0.14,2,     0.12,2, -999.000,9, -999.000,9,  -999.00,9,   1998.6,2,   -999.0,9,   8.0253,6,     25.0, TS,     8.15,2,   -999.0,  -999.00,9,  -999.00,9,     0.47,2,     0.00,2,   -999.0,-999.0000, -999,9,    5,  17.7168,  25.1480,   -999.0,9
       KS05-04,  137E,KS-1265,  1,     23,02-19380,2,20050421,1713, 34.0278, 137.0520, 1661,      9.7,  17.7216,  34.7473,2,   -999.0,9,-999.0000,9,    243.0,2,     4.28,2,  -999.00,9,     1.27,2,     0.14,2,     0.12,2, -999.000,9, -999.000,9,  -999.00,9,   -999.0,9,   -999.0,9,-999.0000,9,   -999.0,  9,     8.15,2,   -999.0,  -999.00,9,  -999.00,9,     0.33,2,     0.62,2,   -999.0,-999.0000, -999,9,   10,  17.7200,  25.1471,   -999.0,9
       KS05-04,  137E,KS-1265,  1,     22,02-19379,2,20050421,1712, 34.0278, 137.0520, 1661,     23.6,  17.6547,  34.7459,2,   -999.0,9,-999.0000,9,    243.0,2,     4.27,2,  -999.00,9,     1.37,2,     0.17,2,     0.14,2, -999.000,9, -999.000,9,  -999.00,9,   -999.0,9,   -999.0,9,-999.0000,9,   -999.0,  9,     8.15,2,   -999.0,  -999.00,9,  -999.00,9,     0.41,2,     0.67,2,   -999.0,-999.0000, -999,9,   23,  17.6507,  25.1629,   -999.0,9
       KS05-04,  137E,KS-1265,  1,     21,02-16027,2,20050421,1708, 34.0278, 137.0520, 1661,     50.8,  16.9626,  34.7169,2,   -999.0,9,-999.0000,9,    239.0,2,     4.27,2,  -999.00,9,     1.85,2,     0.27,2,     0.19,2, -999.000,9, -999.000,9,  -999.00,9,   -999.0,9,   -999.0,9,-999.0000,9,   -999.0,  9,     8.13,2,   -999.0,  -999.00,9,  -999.00,9,     0.25,2,     0.40,2,   -999.0,-999.0000, -999,9,   50,  16.9543,  25.3078,   -999.0,9
       KS05-04,  137E,KS-1265,  1,     20,02-16026,2,20050421,1706, 34.0278, 137.0520, 1661,     75.4,  16.3779,  34.6853,2,   -999.0,9,-999.0000,9,    233.0,2,     5.14,2,  -999.00,9,     3.41,2,     0.42,2,     0.27,2, -999.000,9, -999.000,9,  -999.00,9,   -999.0,9,   -999.0,9,-999.0000,9,   -999.0,  9,     8.12,2,   -999.0,  -999.00,9,  -999.00,9,     0.10,2,     0.18,2,   -999.0,-999.0000, -999,9,   75,  16.3658,  25.4213,   -999.0,9
       KS05-04,  137E,KS-1265,  1,     19,02-19378,2,20050421,1705, 34.0278, 137.0520, 1661,    100.2,  15.8787,  34.6564,2,   -999.0,9,  34.6502,2,    224.0,2,     7.44,2,  -999.00,9,     5.46,2,     0.36,2,     0.39,2, -999.000,9, -999.000,9,  -999.00,9,   -999.0,9,   -999.0,9,-999.0000,9,   -999.0,  9,     8.09,2,   -999.0,  -999.00,9,  -999.00,9,     0.05,2,     0.10,2,   -999.0,-999.0000, -999,9,   99,  15.8630,  25.5145,   -999.0,9
       KS05-04,  137E,KS-1265,  1,     18,02-19377,2,20050421,1704, 34.0278, 137.0520, 1661,    124.7,  15.4282,  34.6209,2,   -999.0,9,-999.0000,9,    213.0,2,     9.83,2,  -999.00,9,     7.02,2,     0.15,2,     0.52,2, -999.000,9, -999.000,9,  -999.00,9,   -999.0,9,   -999.0,9,-999.0000,9,   -999.0,  9,     8.06,2,   -999.0,  -999.00,9,  -999.00,9,     0.03,2,     0.09,2,   -999.0,-999.0000, -999,9,  124,  15.4090,  25.5893,   -999.0,9
       KS05-04,  137E,KS-1265,  1,     17,02-16023,2,20050421,1703, 34.0278, 137.0520, 1661,    150.8,  14.6597,  34.5797,2,   -999.0,9,-999.0000,9,    191.0,2,    15.45,2,  -999.00,9,    10.33,2,     0.06,2,     0.75,2, -999.000,9, -999.000,9,  -999.00,9,   -999.0,9,   -999.0,9,-999.0000,9,   -999.0,  9,     8.00,2,   -999.0,  -999.00,9,  -999.00,9,     0.03,2,     0.09,2,   -999.0,-999.0000, -999,9,  150,  14.6373,  25.7267,   -999.0,9
       KS05-04,  137E,KS-1265,  1,     16,02-16022,2,20050421,1701, 34.0278, 137.0520, 1661,    200.6,  12.8361,  34.4767,2,   -999.0,9,  34.4889,4,    165.0,2,    24.49,2,  -999.00,9,    15.69,2,     0.03,2,     1.14,2, -999.000,9, -999.000,9,  -999.00,9,   -999.0,9,   -999.0,9,-999.0000,9,   -999.0,  9,     7.91,2,   -999.0,  -999.00,9,  -999.00,9,     0.01,2,     0.05,2,   -999.0,-999.0000, -999,9,  199,  12.8089,  26.0255,   -999.0,9
       KS05-04,  137E,KS-1265,  1,     15,02-16021,2,20050421,1659, 34.0278, 137.0520, 1661,    251.6,  11.0845,  34.3876,2,   -999.0,9,-999.0000,9,    153.0,2,    33.45,2,  -999.00,9,    19.59,2,     0.01,2,     1.44,2, -999.000,9, -999.000,9,  -999.00,9,   -999.0,9,   -999.0,9,-999.0000,9,   -999.0,  9,     7.85,2,   -999.0,  -999.00,9,  -999.00,9,     0.01,2,     0.03,2,   -999.0,-999.0000, -999,9,  250,  11.0535,  26.2890,   -999.0,9
       KS05-04,  137E,KS-1265,  1,     14,02-16020,2,20050421,1658, 34.0278, 137.0520, 1661,    301.5,  10.0134,  34.3456,2,   -999.0,9,  34.3464,2,    141.0,2,    40.94,2,  -999.00,9,    22.41,2,     0.00,2,     1.67,2, -999.000,9, -999.000,9,  -999.00,9,   -999.0,9,   -999.0,9,-999.0000,9,   -999.0,  9,     7.80,2,   -999.0,  -999.00,9,  -999.00,9,     0.00,2,     0.03,2,   -999.0,-999.0000, -999,9,  299,   9.9785,  26.4446,   -999.0,9
       KS05-04,  137E,KS-1265,  1,     13,02-16019,2,20050421,1655, 34.0278, 137.0520, 1661,    403.5,   7.9100,  34.2873,2,   -999.0,9,  34.2876,2,    117.0,2,    58.95,2,  -999.00,9,    28.15,2,     0.00,2,     2.10,2, -999.000,9, -999.000,9,  -999.00,9,   -999.0,9,   -999.0,9,-999.0000,9,   -999.0,  9,     7.70,2,   -999.0,  -999.00,9,  -999.00,9,  -999.00,9,  -999.00,9,   -999.0,-999.0000, -999,9,  400,   7.8693,  26.7334,   -999.0,9
       KS05-04,  137E,KS-1265,  1,     12,02-16018,2,20050421,1653, 34.0278, 137.0520, 1661,    503.5,   6.5712,  34.2729,2,   -999.0,9,  34.2742,2,    100.0,2,    74.90,2,  -999.00,9,    31.75,2,     0.00,2,     2.28,2, -999.000,9, -999.000,9,  -999.00,9,   -999.0,9,   -999.0,9,-999.0000,9,   -999.0,  9,     7.64,2,   -999.0,  -999.00,9,  -999.00,9,  -999.00,9,  -999.00,9,   -999.0,-999.0000, -999,9,  499,   6.5252,  26.9101,   -999.0,9
       KS05-04,  137E,KS-1265,  1,     11,02-19376,2,20050421,1650, 34.0278, 137.0520, 1661,    604.5,   5.5319,  34.2901,2,   -999.0,9,  34.2934,2,     85.0,2,    90.33,2,  -999.00,9,    34.66,2,     0.00,2,     2.45,2, -999.000,9, -999.000,9,  -999.00,9,   -999.0,9,   -999.0,9,-999.0000,9,   -999.0,  9,     7.59,2,   -999.0,  -999.00,9,  -999.00,9,  -999.00,9,  -999.00,9,   -999.0,-999.0000, -999,9,  599,   5.4810,  27.0558,   -999.0,9
       KS05-04,  137E,KS-1265,  1,     10,02-19375,2,20050421,1648, 34.0278, 137.0520, 1661,    704.9,   4.7129,  34.3206,2,   -999.0,9,  34.3213,2,     77.0,2,   101.44,2,  -999.00,9,    36.80,2,     0.00,2,     2.63,2, -999.000,9, -999.000,9,  -999.00,9,   -999.0,9,   -999.0,9,-999.0000,9,   -999.0,  9,     7.55,2,   -999.0,  -999.00,9,  -999.00,9,  -999.00,9,  -999.00,9,   -999.0,-999.0000, -999,9,  699,   4.6575,  27.1753,   -999.0,9
       KS05-04,  137E,KS-1265,  1,      9,02-16015,2,20050421,1645, 34.0278, 137.0520, 1661,    805.0,   4.3148,  34.3472,2,   -999.0,9,  34.3474,2,     72.0,2,   108.54,2,  -999.00,9,    37.77,2,     0.00,2,     2.70,2, -999.000,9, -999.000,9,  -999.00,9,   -999.0,9,   -999.0,9,-999.0000,9,   -999.0,  9,     7.55,2,   -999.0,  -999.00,9,  -999.00,9,  -999.00,9,  -999.00,9,   -999.0,-999.0000, -999,9,  798,   4.2533,  27.2403,   -999.0,9
       KS05-04,  137E,KS-1265,  1,      8,02-16014,2,20050421,1643, 34.0278, 137.0520, 1661,    908.9,   3.7485,  34.3960,2,   -999.0,9,  34.3955,2,     69.0,2,   118.63,2,  -999.00,9,    38.74,2,     0.00,2,     2.78,2, -999.000,9, -999.000,9,  -999.00,9,   -999.0,9,   -999.0,9,-999.0000,9,   -999.0,  9,     7.54,2,   -999.0,  -999.00,9,  -999.00,9,  -999.00,9,  -999.00,9,   -999.0,-999.0000, -999,9,  900,   3.6823,  27.3379,   -999.0,9
       KS05-04,  137E,KS-1265,  1,      7,02-19374,2,20050421,1640, 34.0278, 137.0520, 1661,   1008.9,   3.4897,  34.4233,2,   -999.0,9,  34.4253,2,     69.0,2,   123.90,2,  -999.00,9,    38.93,2,     0.00,2,     2.80,2, -999.000,9, -999.000,9,  -999.00,9,   -999.0,9,   -999.0,9,-999.0000,9,   -999.0,  9,     7.54,2,   -999.0,  -999.00,9,  -999.00,9,  -999.00,9,  -999.00,9,   -999.0,-999.0000, -999,9,  999,   3.4174,  27.3856,   -999.0,9
       KS05-04,  137E,KS-1265,  1,      6,02-19373,9,20050421,1628, 34.0278, 137.0520, 1661,   1617.9,   2.3299,  34.5579,2,   -999.0,9,-999.0000,9,   -999.0,9,  -999.00,9,  -999.00,9,  -999.00,9,  -999.00,9,  -999.00,9, -999.000,9, -999.000,9,  -999.00,9,   -999.0,9,   -999.0,9,-999.0000,9,   -999.0,  9,  -999.00,9,   -999.0,  -999.00,9,  -999.00,9,  -999.00,9,  -999.00,9,   -999.0,-999.0000, -999,9, 1600,   2.2205,  27.5997,   -999.0,9
       KS05-04,  137E,KS-1265,  1,      5,02-16011,9,20050421,1628, 34.0278, 137.0520, 1661,   1617.4,   2.3298,  34.5579,2,   -999.0,9,-999.0000,9,   -999.0,9,  -999.00,9,  -999.00,9,  -999.00,9,  -999.00,9,  -999.00,9, -999.000,9, -999.000,9,  -999.00,9,   -999.0,9,   -999.0,9,-999.0000,9,   -999.0,  9,  -999.00,9,   -999.0,  -999.00,9,  -999.00,9,  -999.00,9,  -999.00,9,   -999.0,-999.0000, -999,9, 1600,   2.2204,  27.5997,   -999.0,9
       KS05-04,  137E,KS-1265,  1,      4,02-16010,9,20050421,1628, 34.0278, 137.0520, 1661,   1617.5,   2.3286,  34.5581,2,   -999.0,9,-999.0000,9,   -999.0,9,  -999.00,9,  -999.00,9,  -999.00,9,  -999.00,9,  -999.00,9, -999.000,9, -999.000,9,  -999.00,9,   -999.0,9,   -999.0,9,-999.0000,9,   -999.0,  9,  -999.00,9,   -999.0,  -999.00,9,  -999.00,9,  -999.00,9,  -999.00,9,   -999.0,-999.0000, -999,9, 1600,   2.2192,  27.6000,   -999.0,9
       KS05-04,  137E,KS-1265,  1,      3,02-16009,9,20050421,1628, 34.0278, 137.0520, 1661,   1617.4,   2.3297,  34.5579,2,   -999.0,9,-999.0000,9,   -999.0,9,  -999.00,9,  -999.00,9,  -999.00,9,  -999.00,9,  -999.00,9, -999.000,9, -999.000,9,  -999.00,9,   -999.0,9,   -999.0,9,-999.0000,9,   -999.0,  9,  -999.00,9,   -999.0,  -999.00,9,  -999.00,9,  -999.00,9,  -999.00,9,   -999.0,-999.0000, -999,9, 1600,   2.2203,  27.5998,   -999.0,9
       KS05-04,  137E,KS-1265,  1,      2,02-16008,9,20050421,1627, 34.0278, 137.0520, 1661,   1616.7,   2.3310,  34.5577,2,   -999.0,9,-999.0000,9,   -999.0,9,  -999.00,9,  -999.00,9,  -999.00,9,  -999.00,9,  -999.00,9, -999.000,9, -999.000,9,  -999.00,9,   -999.0,9,   -999.0,9,-999.0000,9,   -999.0,  9,  -999.00,9,   -999.0,  -999.00,9,  -999.00,9,  -999.00,9,  -999.00,9,   -999.0,-999.0000, -999,9, 1599,   2.2217,  27.5995,   -999.0,9
       KS05-04,  137E,KS-1265,  1,      1,02-16007,2,20050421,1627, 34.0278, 137.0520, 1661,   1616.6,   2.3319,  34.5577,2,   -999.0,9,  34.5596,2,     93.0,2,   141.85,2,  -999.00,9,    38.54,2,     0.00,2,     2.75,2, -999.000,9, -999.000,9,  -999.00,9,   -999.0,9,   -999.0,9,-999.0000,9,   -999.0,  9,     7.58,2,   -999.0,  -999.00,9,  -999.00,9,  -999.00,9,  -999.00,9,   -999.0,-999.0000, -999,9, 1599,   2.2226,  27.5994,   -999.0,9
       KS05-04,  137E,KS-1266,  1,      2,02-16008,9,20050421,2118, 33.6618, 137.0110, 2017,      6.2,  17.2284,  34.6920,2,   -999.0,9,-999.0000,9,   -999.0,9,  -999.00,9,  -999.00,9,  -999.00,9,  -999.00,9,  -999.00,9, -999.000,9, -999.000,9,  -999.00,9,   -999.0,9,   -999.0,9,-999.0000,9,   -999.0,  9,  -999.00,9,   -999.0,  -999.00,9,  -999.00,9,  -999.00,9,  -999.00,9,   -999.0,-999.0000, -999,9,    6,  17.2274,  25.2237,   -999.0,9
       KS05-04,  137E,KS-1266,  1,      1,02-16007,2,20050421,2118, 33.6618, 137.0110, 2017,      5.9,  17.2276,  34.6926,2,   -999.0,9,-999.0000,9,   -999.0,9,  -999.00,9,  -999.00,9,  -999.00,9,  -999.00,9,  -999.00,9, -999.000,9, -999.000,9,  -999.00,9,   2002.0,6,   -999.0,9,   8.0172,2,     25.0, TS,  -999.00,9,   -999.0,  -999.00,9,  -999.00,9,     0.44,2,     0.79,2,   -999.0,-999.0000, -999,9,    6,  17.2266,  25.2243,   -999.0,9