BOTTLE,20130510GEMDJMAYT
EXPOCODE,SECT_ID,STNNBR,CASTNO,SAMPNO,BTLNBR,BTLNBR_FLAG_W,DATE,TIME,LATITUDE,LONGITUDE,DEPTH,CTDPRS,CTDTMP,CTDSAL,CTDSAL_FLAG_W,CTDOXY,CTDOXY_FLAG_W,SALNTY,SALNTY_FLAG_W,OXYGEN,OXYGEN_FLAG_W,SILCAT,SILCAT_FLAG_W,NITRAT,NITRAT_FLAG_W,NO2+NO3,NO2+NO3_FLAG_W,NITRIT,NITRIT_FLAG_W,PHSPHT,PHSPHT_FLAG_W,CFC-11,CFC-11_FLAG_W,CFC-12,CFC-12_FLAG_W,DELC13,DELC13_FLAG_W,TCARBN,TCARBN_FLAG_W,ALKALI,ALKALI_FLAG_W,PH,PH_FLAG_W,PH_TMP,PH_SCALE,PH_NBS,PH_NBS_FLAG_W,C13ERR,TOTALP,TOTALP_FLAG_W,AMMONI,AMMONI_FLAG_W,CHLORA,CHLORA_FLAG_W,PPHYTN,PPHYTN_FLAG_W,REVPRS,REVTMP,DEPTH_,DEPTH_FLAG,CTDDEP,THETA,SIGTHT,DOC,DOC_FLAG_W
,,,,,,,GMT,GMT,,,METER,DBAR,ITS-90,PSS-78,,UMOL/KG,,PSS-78,,UMOL/KG,,UMOL/KG,,UMOL/KG,,UMOL/KG,,UMOL/KG,,UMOL/KG,,PMOL/KG,,PMOL/KG,,/MILLE,,UMOL/KG,,UMOL/KG,,25_DEG_C,,DEG_C,,,,/MILLE,UMOL/KG,,UMOL/KG,,UG/L,,UG/L,,DBAR,ITS-90,METERS,,METERS,DEG_C,,UMOL/L,
       KS05-04,  137E,KS-1276,  1,     24,02-16030,2,20050424,0017, 29.9928, 137.0065, 4518,      3.3,  20.4963,  34.8191,2,   -999.0,9,  34.8143,2,    227.0,2,     1.44,2,  -999.00,9,     0.00,2,     0.00,2,     0.01,2, -999.000,9, -999.000,9,  -999.00,9,   1975.6,2,   -999.0,9,   8.0666,2,     25.0, TS,     8.18,2,   -999.0,  -999.00,9,  -999.00,9,     0.14,2,     0.11,2,   -999.0,-999.0000, -999,9,    3,  20.4957,  24.4921,   -999.0,9
       KS05-04,  137E,KS-1276,  1,     23,02-19380,2,20050424,0016, 29.9928, 137.0065, 4518,      9.7,  20.4682,  34.8139,2,   -999.0,9,-999.0000,9,    227.0,2,     1.51,2,  -999.00,9,     0.00,2,     0.00,2,     0.01,2, -999.000,9, -999.000,9,  -999.00,9,   1975.9,2,   -999.0,9,   8.0657,2,     25.0, TS,     8.18,2,   -999.0,  -999.00,9,  -999.00,9,     0.16,2,     0.12,2,   -999.0,-999.0000, -999,9,   10,  20.4664,  24.4960,   -999.0,9
       KS05-04,  137E,KS-1276,  1,     22,02-19379,2,20050424,0015, 29.9928, 137.0065, 4518,     26.3,  20.4355,  34.8240,2,   -999.0,9,-999.0000,9,    227.0,2,     1.43,2,  -999.00,9,     0.00,2,     0.00,2,     0.01,2, -999.000,9, -999.000,9,  -999.00,9,   1976.0,2,   -999.0,9,   8.0658,2,     25.0, TS,     8.18,2,   -999.0,  -999.00,9,  -999.00,9,     0.20,2,     0.15,2,   -999.0,-999.0000, -999,9,   26,  20.4306,  24.5133,   -999.0,9
       KS05-04,  137E,KS-1276,  1,     21,02-16027,2,20050424,0013, 29.9928, 137.0065, 4518,     48.2,  20.3984,  34.8422,2,   -999.0,9,-999.0000,9,    227.0,2,     1.61,2,  -999.00,9,     0.00,2,     0.00,2,     0.01,2, -999.000,9, -999.000,9,  -999.00,9,   1981.8,3,   -999.0,9,   8.0640,2,     25.0, TS,     8.18,2,   -999.0,  -999.00,9,  -999.00,9,     0.28,2,     0.26,2,   -999.0,-999.0000, -999,9,   48,  20.3894,  24.5381,   -999.0,9
       KS05-04,  137E,KS-1276,  1,     20,02-16026,2,20050424,0012, 29.9928, 137.0065, 4518,     74.4,  20.0766,  34.8639,2,   -999.0,9,-999.0000,9,    220.0,2,     1.80,2,  -999.00,9,     0.59,2,     0.11,2,     0.04,2, -999.000,9, -999.000,9,  -999.00,9,   1912.1,4,   -999.0,9,   8.0507,2,     25.0, TS,     8.17,2,   -999.0,  -999.00,9,  -999.00,9,     0.28,2,     0.28,2,   -999.0,-999.0000, -999,9,   74,  20.0629,  24.6414,   -999.0,9
       KS05-04,  137E,KS-1276,  1,     19,02-19378,2,20050424,0012, 29.9928, 137.0065, 4518,     99.6,  19.7769,  34.8919,2,   -999.0,9,  34.8886,2,    223.0,2,     1.71,2,  -999.00,9,     0.59,2,     0.26,2,     0.04,2, -999.000,9, -999.000,9,  -999.00,9,   1993.2,3,   -999.0,9,   8.0506,2,     25.0, TS,     8.17,2,   -999.0,  -999.00,9,  -999.00,9,     0.07,2,     0.09,2,   -999.0,-999.0000, -999,9,   99,  19.7587,  24.7426,   -999.0,9
       KS05-04,  137E,KS-1276,  1,     18,02-19377,2,20050424,0011, 29.9928, 137.0065, 4518,    124.3,  19.4836,  34.8890,2,   -999.0,9,-999.0000,9,    221.0,2,     1.89,2,  -999.00,9,     0.98,2,     0.13,2,     0.06,2, -999.000,9, -999.000,9,  -999.00,9,   1994.8,3,   -999.0,9,   8.0430,2,     25.0, TS,     8.16,2,   -999.0,  -999.00,9,  -999.00,9,     0.03,2,     0.05,2,   -999.0,-999.0000, -999,9,  123,  19.4611,  24.8178,   -999.0,9
       KS05-04,  137E,KS-1276,  1,     17,02-16023,2,20050424,0010, 29.9928, 137.0065, 4518,    150.1,  19.3958,  34.8862,2,   -999.0,9,-999.0000,9,    221.0,2,     1.86,2,  -999.00,9,     1.07,2,     0.13,2,     0.06,2, -999.000,9, -999.000,9,  -999.00,9,   1992.1,2,   -999.0,9,   8.0430,2,     25.0, TS,     8.16,2,   -999.0,  -999.00,9,  -999.00,9,     0.06,2,     0.08,2,   -999.0,-999.0000, -999,9,  149,  19.3687,  24.8396,   -999.0,9
       KS05-04,  137E,KS-1276,  1,     16,02-16022,2,20050424,0009, 29.9928, 137.0065, 4518,    200.5,  19.3347,  34.8850,2,   -999.0,9,  34.8825,2,    222.0,2,     1.83,2,  -999.00,9,     1.07,2,     0.11,2,     0.06,2, -999.000,9, -999.000,9,  -999.00,9,   1998.3,2,   -999.0,9,   8.0438,3,     25.0, TS,     8.16,2,   -999.0,  -999.00,9,  -999.00,9,     0.02,2,     0.04,2,   -999.0,-999.0000, -999,9,  199,  19.2985,  24.8568,   -999.0,9
       KS05-04,  137E,KS-1276,  1,     15,02-16021,2,20050424,0007, 29.9928, 137.0065, 4518,    250.8,  19.1026,  34.8735,2,   -999.0,9,-999.0000,9,    213.0,2,     2.43,2,  -999.00,9,     2.15,2,     0.02,2,     0.12,2, -999.000,9, -999.000,9,  -999.00,9,   2008.1,2,   -999.0,9,   8.0230,2,     25.0, TS,     8.14,2,   -999.0,  -999.00,9,  -999.00,9,     0.01,2,     0.02,2,   -999.0,-999.0000, -999,9,  249,  19.0577,  24.9097,   -999.0,9
       KS05-04,  137E,KS-1276,  1,     14,02-16020,2,20050424,0006, 29.9928, 137.0065, 4518,    300.9,  17.8705,  34.8022,2,   -999.0,9,  34.7992,2,    200.0,2,     3.89,2,  -999.00,9,     4.58,2,     0.00,2,     0.25,2, -999.000,9, -999.000,9,  -999.00,9,   2030.5,2,   -999.0,9,   7.9760,2,     25.0, TS,     8.09,2,   -999.0,  -999.00,9,  -999.00,9,     0.00,2,     0.01,2,   -999.0,-999.0000, -999,9,  299,  17.8190,  25.1649,   -999.0,9
       KS05-04,  137E,KS-1276,  1,     13,02-16019,2,20050424,0004, 29.9928, 137.0065, 4518,    401.9,  16.1447,  34.6814,2,   -999.0,9,  34.6747,4,    193.0,2,     7.64,2,  -999.00,9,     8.00,2,     0.00,2,     0.48,2, -999.000,9, -999.000,9,  -999.00,9,   2053.2,2,   -999.0,9,   7.9267,2,     25.0, TS,     8.04,2,   -999.0,  -999.00,9,  -999.00,9,  -999.00,9,  -999.00,9,   -999.0,-999.0000, -999,9,  399,  16.0805,  25.4841,   -999.0,9
       KS05-04,  137E,KS-1276,  1,     12,02-16018,2,20050424,0002, 29.9928, 137.0065, 4518,    504.6,  13.6568,  34.5019,2,   -999.0,9,  34.5023,2,    179.0,2,    15.70,2,  -999.00,9,    13.26,2,     0.00,2,     0.85,2, -999.000,9, -999.000,9,  -999.00,9,   2091.9,2,   -999.0,9,   7.8432,2,     25.0, TS,     7.95,2,   -999.0,  -999.00,9,  -999.00,9,  -999.00,9,  -999.00,9,   -999.0,-999.0000, -999,9,  501,  13.5846,  25.8884,   -999.0,9
       KS05-04,  137E,KS-1276,  1,     11,02-19376,2,20050424,0000, 29.9928, 137.0065, 4518,    604.2,  11.3229,  34.3615,2,   -999.0,9,  34.3617,2,    163.0,2,    27.48,2,  -999.00,9,    18.71,2,     0.00,2,     1.26,2, -999.000,9, -999.000,9,  -999.00,9,   2130.2,2,   -999.0,9,   7.7585,2,     25.0, TS,     7.86,2,   -999.0,  -999.00,9,  -999.00,9,  -999.00,9,  -999.00,9,   -999.0,-999.0000, -999,9,  599,  11.2462,  26.2336,   -999.0,9
       KS05-04,  137E,KS-1276,  1,     10,02-19375,2,20050423,2358, 29.9928, 137.0065, 4518,    704.2,   8.5837,  34.2342,2,   -999.0,9,  34.2311,2,    136.0,2,    47.60,2,  -999.00,9,    25.91,2,     0.00,2,     1.80,2, -999.000,9, -999.000,9,  -999.00,9,   2189.1,2,   -999.0,9,   7.6390,2,     25.0, TS,     7.74,2,   -999.0,  -999.00,9,  -999.00,9,  -999.00,9,  -999.00,9,   -999.0,-999.0000, -999,9,  698,   8.5079,  26.5955,   -999.0,9
       KS05-04,  137E,KS-1276,  1,      9,02-16015,2,20050423,2356, 29.9928, 137.0065, 4518,    805.4,   6.7569,  34.2259,2,   -999.0,9,  34.2281,2,    106.0,2,    69.24,2,  -999.00,9,    31.55,2,     0.00,2,     2.24,2, -999.000,9, -999.000,9,  -999.00,9,   2240.8,2,   -999.0,9,   7.5544,2,     25.0, TS,     7.64,2,   -999.0,  -999.00,9,  -999.00,9,  -999.00,9,  -999.00,9,   -999.0,-999.0000, -999,9,  798,   6.6806,  26.8524,   -999.0,9
       KS05-04,  137E,KS-1276,  1,      8,02-16014,2,20050423,2354, 29.9928, 137.0065, 4518,    906.8,   5.4857,  34.2895,2,   -999.0,9,  34.2897,2,     82.0,2,    88.08,2,  -999.00,9,    35.83,2,     0.00,2,     2.54,2, -999.000,9, -999.000,9,  -999.00,9,   2281.0,2,   -999.0,9,   7.4998,4,     25.0, TS,     7.58,2,   -999.0,  -999.00,9,  -999.00,9,  -999.00,9,  -999.00,9,   -999.0,-999.0000, -999,9,  899,   5.4077,  27.0641,   -999.0,9
       KS05-04,  137E,KS-1276,  1,      7,02-19374,2,20050423,2352, 29.9928, 137.0065, 4518,   1007.7,   4.7240,  34.3309,2,   -999.0,9,  34.3311,2,     72.0,2,   100.01,2,  -999.00,9,    37.87,2,     0.00,2,     2.70,2, -999.000,9, -999.000,9,  -999.00,9,   2304.5,2,   -999.0,9,   7.4716,2,     25.0, TS,     7.55,2,   -999.0,  -999.00,9,  -999.00,9,  -999.00,9,  -999.00,9,   -999.0,-999.0000, -999,9,  998,   4.6424,  27.1852,   -999.0,9
       KS05-04,  137E,KS-1276,  1,      6,02-19373,2,20050423,2347, 29.9928, 137.0065, 4518,   1262.8,   3.4348,  34.4317,2,   -999.0,9,  34.4316,2,     67.0,2,   125.26,2,  -999.00,9,    40.00,2,     0.00,2,     2.85,2, -999.000,9, -999.000,9,  -999.00,9,   2339.5,2,   -999.0,9,   7.4558,2,     25.0, TS,     7.53,2,   -999.0,  -999.00,9,  -999.00,9,  -999.00,9,  -999.00,9,   -999.0,-999.0000, -999,9, 1250,   3.3424,  27.3995,   -999.0,9
       KS05-04,  137E,KS-1276,  1,      5,02-16011,2,20050423,2342, 29.9928, 137.0065, 4518,   1515.7,   2.7518,  34.5056,2,   -999.0,9,  34.5062,2,     77.0,2,   136.84,2,  -999.00,9,    40.10,2,     0.00,2,     2.83,2, -999.000,9, -999.000,9,  -999.00,9,   2347.8,2,   -999.0,9,   7.4608,2,     25.0, TS,     7.54,2,   -999.0,  -999.00,9,  -999.00,9,  -999.00,9,  -999.00,9,   -999.0,-999.0000, -999,9, 1500,   2.6457,  27.5220,   -999.0,9
       KS05-04,  137E,KS-1276,  1,      4,02-16010,2,20050423,2338, 29.9928, 137.0065, 4518,   1767.2,   2.3911,  34.5508,2,   -999.0,9,  34.5518,2,     89.0,2,   141.56,2,  -999.00,9,    39.51,2,     0.00,2,     2.79,2, -999.000,9, -999.000,9,  -999.00,9,   2346.8,6,   -999.0,9,   7.4918,2,     25.0, TS,     7.57,2,   -999.0,  -999.00,9,  -999.00,9,  -999.00,9,  -999.00,9,   -999.0,-999.0000, -999,9, 1748,   2.2687,  27.5901,   -999.0,9
       KS05-04,  137E,KS-1276,  1,      3,02-16009,2,20050423,2333, 29.9928, 137.0065, 4518,   2021.8,   2.1089,  34.5913,2,   -999.0,9,  34.5912,2,    105.0,2,   142.13,2,  -999.00,9,    38.83,2,     0.00,2,     2.71,2, -999.000,9, -999.000,9,  -999.00,9,   2341.9,2,   -999.0,9,   7.5221,6,     25.0, TS,     7.61,2,   -999.0,  -999.00,9,  -999.00,9,  -999.00,9,  -999.00,9,   -999.0,-999.0000, -999,9, 1998,   1.9691,  27.6466,   -999.0,9
       KS05-04,  137E,KS-1276,  1,      2,02-16008,2,20050423,2316, 29.9928, 137.0065, 4518,   3039.2,   1.6153,  34.6631,2,   -999.0,9,  34.6627,2,    142.0,2,   141.52,2,  -999.00,9,    36.78,2,     0.00,2,     2.54,2, -999.000,9, -999.000,9,  -999.00,9,   -999.0,9,   -999.0,9,-999.0000,9,   -999.0,  9,     7.67,2,   -999.0,  -999.00,9,  -999.00,9,  -999.00,9,  -999.00,9,   -999.0,-999.0000, -999,9, 2997,   1.3923,  27.7476,   -999.0,9
       KS05-04,  137E,KS-1276,  1,      1,02-16007,2,20050423,2258, 29.9928, 137.0065, 4518,   4063.7,   1.5549,  34.6812,2,   -999.0,9,  34.6806,2,    154.0,2,   140.20,2,  -999.00,9,    36.00,2,     0.00,2,     2.47,2, -999.000,9, -999.000,9,  -999.00,9,   -999.0,9,   -999.0,9,-999.0000,9,   -999.0,  9,     7.69,2,   -999.0,  -999.00,9,  -999.00,9,  -999.00,9,  -999.00,9,   -999.0,-999.0000, -999,9, 3998,   1.2275,  27.7738,   -999.0,9