BOTTLE,20130510GEMDJMAYT
EXPOCODE,SECT_ID,STNNBR,CASTNO,SAMPNO,BTLNBR,BTLNBR_FLAG_W,DATE,TIME,LATITUDE,LONGITUDE,DEPTH,CTDPRS,CTDTMP,CTDSAL,CTDSAL_FLAG_W,CTDOXY,CTDOXY_FLAG_W,SALNTY,SALNTY_FLAG_W,OXYGEN,OXYGEN_FLAG_W,SILCAT,SILCAT_FLAG_W,NITRAT,NITRAT_FLAG_W,NO2+NO3,NO2+NO3_FLAG_W,NITRIT,NITRIT_FLAG_W,PHSPHT,PHSPHT_FLAG_W,CFC-11,CFC-11_FLAG_W,CFC-12,CFC-12_FLAG_W,DELC13,DELC13_FLAG_W,TCARBN,TCARBN_FLAG_W,ALKALI,ALKALI_FLAG_W,PH,PH_FLAG_W,PH_TMP,PH_SCALE,PH_NBS,PH_NBS_FLAG_W,C13ERR,TOTALP,TOTALP_FLAG_W,AMMONI,AMMONI_FLAG_W,CHLORA,CHLORA_FLAG_W,PPHYTN,PPHYTN_FLAG_W,REVPRS,REVTMP,DEPTH_,DEPTH_FLAG,CTDDEP,THETA,SIGTHT,DOC,DOC_FLAG_W
,,,,,,,GMT,GMT,,,METER,DBAR,ITS-90,PSS-78,,UMOL/KG,,PSS-78,,UMOL/KG,,UMOL/KG,,UMOL/KG,,UMOL/KG,,UMOL/KG,,UMOL/KG,,PMOL/KG,,PMOL/KG,,/MILLE,,UMOL/KG,,UMOL/KG,,25_DEG_C,,DEG_C,,,,/MILLE,UMOL/KG,,UMOL/KG,,UG/L,,UG/L,,DBAR,ITS-90,METERS,,METERS,DEG_C,,UMOL/L,
       KS05-04,  137E,KS-1296,  1,     24,02-16030,2,20050502,0047,  9.9995, 136.9845, 4935,      4.0,  28.7616,  34.1749,2,   -999.0,9,  34.1724,2,    199.0,2,     1.57,2,  -999.00,9,     0.00,2,     0.00,2,     0.02,2, -999.000,9, -999.000,9,  -999.00,9,   1913.3,2,   -999.0,9,   8.1089,2,     25.0, TS,     8.23,2,   -999.0,  -999.00,9,  -999.00,9,     0.05,2,     0.05,2,   -999.0,-999.0000, -999,9,    4,  28.7606,  21.5243,   -999.0,9
       KS05-04,  137E,KS-1296,  1,     23,02-19380,2,20050502,0046,  9.9995, 136.9845, 4935,     11.1,  28.7519,  34.1749,2,   -999.0,9,-999.0000,9,    198.0,2,     1.56,2,  -999.00,9,     0.00,2,     0.00,2,     0.02,2, -999.000,9, -999.000,9,  -999.00,9,   1919.1,2,   -999.0,9,   8.1061,2,     25.0, TS,     8.22,2,   -999.0,  -999.00,9,  -999.00,9,     0.05,2,     0.05,2,   -999.0,-999.0000, -999,9,   11,  28.7492,  21.5280,   -999.0,9
       KS05-04,  137E,KS-1296,  1,     22,02-19379,2,20050502,0044,  9.9995, 136.9845, 4935,     25.4,  28.7383,  34.1750,2,   -999.0,9,-999.0000,9,    198.0,2,     1.55,2,  -999.00,9,     0.00,2,     0.00,2,     0.02,2, -999.000,9, -999.000,9,  -999.00,9,   1919.1,2,   -999.0,9,   8.1093,2,     25.0, TS,     8.22,2,   -999.0,  -999.00,9,  -999.00,9,     0.07,2,     0.06,2,   -999.0,-999.0000, -999,9,   25,  28.7322,  21.5338,   -999.0,9
       KS05-04,  137E,KS-1296,  1,     21,02-16027,2,20050502,0042,  9.9995, 136.9845, 4935,     49.8,  28.5472,  34.3528,2,   -999.0,9,-999.0000,9,    198.0,2,     1.12,2,  -999.00,9,     0.00,2,     0.00,2,     0.02,2, -999.000,9, -999.000,9,  -999.00,9,   1920.6,2,   -999.0,9,   8.1141,2,     25.0, TS,     8.23,2,   -999.0,  -999.00,9,  -999.00,9,     0.06,2,     0.06,2,   -999.0,-999.0000, -999,9,   49,  28.5353,  21.7324,   -999.0,9
       KS05-04,  137E,KS-1296,  1,     20,02-16026,2,20050502,0041,  9.9995, 136.9845, 4935,     73.8,  27.5644,  34.4306,2,   -999.0,9,-999.0000,9,    197.0,2,     1.63,2,  -999.00,9,     0.00,2,     0.01,2,     0.05,2, -999.000,9, -999.000,9,  -999.00,9,   1944.3,2,   -999.0,9,   8.0879,2,     25.0, TS,     8.21,2,   -999.0,  -999.00,9,  -999.00,9,     0.20,2,     0.34,2,   -999.0,-999.0000, -999,9,   73,  27.5473,  22.1134,   -999.0,9
       KS05-04,  137E,KS-1296,  1,     19,02-19378,2,20050502,0041,  9.9995, 136.9845, 4935,     99.2,  23.5450,  34.6492,2,   -999.0,9,  34.6639,4,    179.0,2,     3.64,2,  -999.00,9,     1.76,2,     0.48,2,     0.25,2, -999.000,9, -999.000,9,  -999.00,9,   2013.1,2,   -999.0,9,   7.9959,2,     25.0, TS,     8.11,2,   -999.0,  -999.00,9,  -999.00,9,     0.12,2,     0.44,2,   -999.0,-999.0000, -999,9,   99,  23.5244,  23.5155,   -999.0,9
       KS05-04,  137E,KS-1296,  1,     18,02-19377,2,20050502,0040,  9.9995, 136.9845, 4935,    124.4,  18.8665,  34.7680,2,   -999.0,9,-999.0000,9,    149.0,2,     8.29,2,  -999.00,9,     9.46,2,     0.03,2,     0.68,2, -999.000,9, -999.000,9,  -999.00,9,   2079.6,2,   -999.0,9,   7.8853,2,     25.0, TS,     7.99,2,   -999.0,  -999.00,9,  -999.00,9,     0.04,2,     0.21,2,   -999.0,-999.0000, -999,9,  124,  18.8445,  24.8834,   -999.0,9
       KS05-04,  137E,KS-1296,  1,     17,02-16023,2,20050502,0039,  9.9995, 136.9845, 4935,    149.1,  16.9382,  34.7024,2,   -999.0,9,-999.0000,9,    140.0,2,    11.69,2,  -999.00,9,    12.97,2,     0.02,2,     0.91,2, -999.000,9, -999.000,9,  -999.00,9,   2100.2,2,   -999.0,9,   7.8308,2,     25.0, TS,     7.93,2,   -999.0,  -999.00,9,  -999.00,9,     0.02,2,     0.14,2,   -999.0,-999.0000, -999,9,  148,  16.9137,  25.3062,   -999.0,9
       KS05-04,  137E,KS-1296,  1,     16,02-16022,2,20050502,0037,  9.9995, 136.9845, 4935,    202.1,  13.2595,  34.5296,2,   -999.0,9,  34.5362,2,    130.0,2,    19.65,2,  -999.00,9,    18.81,2,     0.00,2,     1.32,2, -999.000,9, -999.000,9,  -999.00,9,   2138.0,2,   -999.0,9,   7.7417,2,     25.0, TS,     7.84,2,   -999.0,  -999.00,9,  -999.00,9,     0.01,2,     0.05,2,   -999.0,-999.0000, -999,9,  201,  13.2315,  25.9819,   -999.0,9
       KS05-04,  137E,KS-1296,  1,     15,02-16021,2,20050502,0036,  9.9995, 136.9845, 4935,    251.0,  11.0967,  34.4939,2,   -999.0,9,-999.0000,9,    104.0,2,    29.25,2,  -999.00,9,    25.23,2,     0.00,2,     1.77,2, -999.000,9, -999.000,9,  -999.00,9,   2181.9,2,   -999.0,9,   7.6460,2,     25.0, TS,     7.74,2,   -999.0,  -999.00,9,  -999.00,9,     0.00,2,     0.03,2,   -999.0,-999.0000, -999,9,  249,  11.0657,  26.3695,   -999.0,9
       KS05-04,  137E,KS-1296,  1,     14,02-16020,2,20050502,0034,  9.9995, 136.9845, 4935,    302.6,   9.1629,  34.3060,2,   -999.0,9,  34.3068,2,    114.0,3,    38.49,2,  -999.00,9,    26.98,2,     0.00,2,     1.91,2, -999.000,9, -999.000,9,  -999.00,9,   2195.4,2,   -999.0,9,   7.6099,2,     25.0, TS,     7.71,2,   -999.0,  -999.00,9,  -999.00,9,     0.00,2,     0.02,2,   -999.0,-999.0000, -999,9,  301,   9.1298,  26.5539,   -999.0,9
       KS05-04,  137E,KS-1296,  1,     13,02-16019,2,20050502,0032,  9.9995, 136.9845, 4935,    403.1,   8.1066,  34.4904,2,   -999.0,9,  34.4899,2,     71.0,2,    47.04,2,  -999.00,9,    33.99,2,     0.00,2,     2.41,2, -999.000,9, -999.000,9,  -999.00,9,   2246.1,2,   -999.0,9,   7.5203,2,     25.0, TS,     7.60,2,   -999.0,  -999.00,9,  -999.00,9,  -999.00,9,  -999.00,9,   -999.0,-999.0000, -999,9,  400,   8.0652,  26.8639,   -999.0,9
       KS05-04,  137E,KS-1296,  1,     12,02-16018,2,20050502,0029,  9.9995, 136.9845, 4935,    504.2,   7.0369,  34.4920,2,   -999.0,9,  34.4924,2,     88.0,2,    54.10,2,  -999.00,9,    34.47,2,     0.00,2,     2.43,2, -999.000,9, -999.000,9,  -999.00,9,   2254.7,2,   -999.0,9,   7.5356,2,     25.0, TS,     7.62,2,   -999.0,  -999.00,9,  -999.00,9,  -999.00,9,  -999.00,9,   -999.0,-999.0000, -999,9,  501,   6.9889,  27.0201,   -999.0,9
       KS05-04,  137E,KS-1296,  1,     11,02-19376,3,20050502,0026,  9.9995, 136.9845, 4935,    602.3,   6.4803,  34.5029,2,   -999.0,9,  34.5023,2,     87.0,2,    59.66,2,  -999.00,9,    35.73,2,     0.00,2,     2.52,2, -999.000,9, -999.000,9,  -999.00,9,   2260.8,2,   -999.0,9,   7.5270,2,     25.0, TS,     7.61,2,   -999.0,  -999.00,9,  -999.00,9,  -999.00,9,  -999.00,9,   -999.0,-999.0000, -999,9,  598,   6.4250,  27.1049,   -999.0,9
       KS05-04,  137E,KS-1296,  1,     10,02-19375,2,20050502,0024,  9.9995, 136.9845, 4935,    704.9,   6.0675,  34.5203,2,   -999.0,9,  34.5197,2,     92.0,2,    63.57,2,  -999.00,9,    36.22,2,     0.00,2,     2.56,2, -999.000,9, -999.000,9,  -999.00,9,   2264.5,2,   -999.0,9,   7.5314,2,     25.0, TS,     7.61,2,   -999.0,  -999.00,9,  -999.00,9,  -999.00,9,  -999.00,9,   -999.0,-999.0000, -999,9,  700,   6.0045,  27.1731,   -999.0,9
       KS05-04,  137E,KS-1296,  1,      9,02-16015,2,20050502,0021,  9.9995, 136.9845, 4935,    804.1,   5.6118,  34.5171,2,   -999.0,9,  34.5166,2,     79.0,2,    73.64,2,  -999.00,9,    37.87,2,     0.00,2,     2.71,2, -999.000,9, -999.000,9,  -999.00,9,   2282.7,3,   -999.0,9,   7.5126,2,     25.0, TS,     7.58,2,   -999.0,  -999.00,9,  -999.00,9,  -999.00,9,  -999.00,9,   -999.0,-999.0000, -999,9,  798,   5.5422,  27.2280,   -999.0,9
       KS05-04,  137E,KS-1296,  1,      8,02-16014,2,20050502,0019,  9.9995, 136.9845, 4935,    906.4,   5.2595,  34.5263,2,   -999.0,9,  34.5256,2,     91.0,2,    77.65,2,  -999.00,9,    37.58,2,     0.00,2,     2.67,2, -999.000,9, -999.000,9,  -999.00,9,   2284.3,2,   -999.0,9,   7.5138,2,     25.0, TS,     7.60,2,   -999.0,  -999.00,9,  -999.00,9,  -999.00,9,  -999.00,9,   -999.0,-999.0000, -999,9,  899,   5.1828,  27.2784,   -999.0,9
       KS05-04,  137E,KS-1296,  1,      7,02-19374,2,20050502,0017,  9.9995, 136.9845, 4935,   1007.9,   4.7627,  34.5363,2,   -999.0,9,  34.5358,2,     81.0,2,    88.55,2,  -999.00,9,    38.74,2,     0.00,2,     2.75,2, -999.000,9, -999.000,9,  -999.00,9,   2320.4,4,   -999.0,9,   7.5007,2,     25.0, TS,     7.58,2,   -999.0,  -999.00,9,  -999.00,9,  -999.00,9,  -999.00,9,   -999.0,-999.0000, -999,9, 1000,   4.6804,  27.3439,   -999.0,9
       KS05-04,  137E,KS-1296,  1,      6,02-19373,2,20050502,0011,  9.9995, 136.9845, 4935,   1260.1,   3.7331,  34.5656,2,   -999.0,9,  34.5649,2,     90.0,2,   108.96,2,  -999.00,9,    39.03,2,     0.00,2,     2.76,2, -999.000,9, -999.000,9,  -999.00,9,   2320.1,2,   -999.0,9,   7.5141,2,     25.0, TS,     7.59,2,   -999.0,  -999.00,9,  -999.00,9,  -999.00,9,  -999.00,9,   -999.0,-999.0000, -999,9, 1249,   3.6378,  27.4775,   -999.0,9
       KS05-04,  137E,KS-1296,  1,      5,02-16011,2,20050502,0006,  9.9995, 136.9845, 4935,   1513.9,   3.0058,  34.5926,2,   -999.0,9,  34.5932,2,    101.0,2,   122.19,2,  -999.00,9,    38.73,2,     0.00,2,     2.74,2, -999.000,9, -999.000,9,  -999.00,9,   2230.2,4,   -999.0,9,   7.5287,2,     25.0, TS,     7.60,2,   -999.0,  -999.00,9,  -999.00,9,  -999.00,9,  -999.00,9,   -999.0,-999.0000, -999,9, 1500,   2.8967,  27.5693,   -999.0,9
       KS05-04,  137E,KS-1296,  1,      4,02-16010,2,20050502,0001,  9.9995, 136.9845, 4935,   1767.4,   2.5366,  34.6123,2,   -999.0,9,  34.6130,2,    107.0,2,   131.57,2,  -999.00,9,    38.73,2,     0.00,2,     2.72,2, -999.000,9, -999.000,9,  -999.00,9,   2336.2,6,   -999.0,9,   7.5373,2,     25.0, TS,     7.61,2,   -999.0,  -999.00,9,  -999.00,9,  -999.00,9,  -999.00,9,   -999.0,-999.0000, -999,9, 1750,   2.4121,  27.6274,   -999.0,9
       KS05-04,  137E,KS-1296,  1,      3,02-16009,9,20050501,2356,  9.9995, 136.9845, 4935,   2019.4,   2.1740,  34.6320,2,   -999.0,9,-999.0000,9,   -999.0,9,  -999.00,9,  -999.00,9,  -999.00,9,  -999.00,9,  -999.00,9, -999.000,9, -999.000,9,  -999.00,9,   -999.0,9,   -999.0,9,-999.0000,9,   -999.0,  9,  -999.00,9,   -999.0,  -999.00,9,  -999.00,9,  -999.00,9,  -999.00,9,   -999.0,-999.0000, -999,9, 1998,   2.0333,  27.6742,   -999.0,9
       KS05-04,  137E,KS-1296,  1,      2,02-16008,9,20050501,2356,  9.9995, 136.9845, 4935,   2019.7,   2.1737,  34.6320,2,   -999.0,9,-999.0000,9,   -999.0,9,  -999.00,9,  -999.00,9,  -999.00,9,  -999.00,9,  -999.00,9, -999.000,9, -999.000,9,  -999.00,9,   -999.0,9,   -999.0,9,-999.0000,9,   -999.0,  9,  -999.00,9,   -999.0,  -999.00,9,  -999.00,9,  -999.00,9,  -999.00,9,   -999.0,-999.0000, -999,9, 1999,   2.0329,  27.6743,   -999.0,9
       KS05-04,  137E,KS-1296,  1,      1,02-16007,2,20050501,2356,  9.9995, 136.9845, 4935,   2020.5,   2.1739,  34.6320,2,   -999.0,9,  34.6327,2,    117.0,2,   137.33,2,  -999.00,9,    38.44,2,     0.00,2,     2.69,2, -999.000,9, -999.000,9,  -999.00,9,   2339.0,2,   -999.0,9,   7.5486,6,     25.0, TS,     7.62,2,   -999.0,  -999.00,9,  -999.00,9,  -999.00,9,  -999.00,9,   -999.0,-999.0000, -999,9, 1999,   2.0331,  27.6742,   -999.0,9