BOTTLE,20130510GEMDJMAYT
EXPOCODE,SECT_ID,STNNBR,CASTNO,SAMPNO,BTLNBR,BTLNBR_FLAG_W,DATE,TIME,LATITUDE,LONGITUDE,DEPTH,CTDPRS,CTDTMP,CTDSAL,CTDSAL_FLAG_W,CTDOXY,CTDOXY_FLAG_W,SALNTY,SALNTY_FLAG_W,OXYGEN,OXYGEN_FLAG_W,SILCAT,SILCAT_FLAG_W,NITRAT,NITRAT_FLAG_W,NO2+NO3,NO2+NO3_FLAG_W,NITRIT,NITRIT_FLAG_W,PHSPHT,PHSPHT_FLAG_W,CFC-11,CFC-11_FLAG_W,CFC-12,CFC-12_FLAG_W,DELC13,DELC13_FLAG_W,TCARBN,TCARBN_FLAG_W,ALKALI,ALKALI_FLAG_W,PH,PH_FLAG_W,PH_TMP,PH_SCALE,PH_NBS,PH_NBS_FLAG_W,C13ERR,TOTALP,TOTALP_FLAG_W,AMMONI,AMMONI_FLAG_W,CHLORA,CHLORA_FLAG_W,PPHYTN,PPHYTN_FLAG_W,REVPRS,REVTMP,DEPTH_,DEPTH_FLAG,CTDDEP,THETA,SIGTHT,DOC,DOC_FLAG_W
,,,,,,,GMT,GMT,,,METER,DBAR,ITS-90,PSS-78,,UMOL/KG,,PSS-78,,UMOL/KG,,UMOL/KG,,UMOL/KG,,UMOL/KG,,UMOL/KG,,UMOL/KG,,PMOL/KG,,PMOL/KG,,/MILLE,,UMOL/KG,,UMOL/KG,,25_DEG_C,,DEG_C,,,,/MILLE,UMOL/KG,,UMOL/KG,,UG/L,,UG/L,,DBAR,ITS-90,METERS,,METERS,DEG_C,,UMOL/L,
       KS05-04,  137E,KS-1281,  1,     24,02-16030,2,20050427,2325, 24.9827, 136.9787, 5249,      3.9,  24.2869,  34.7745,2,   -999.0,9,  34.7726,2,    213.0,2,     1.36,2,  -999.00,9,     0.00,2,     0.00,2,     0.00,2, -999.000,9, -999.000,9,  -999.00,9,   1958.1,2,   -999.0,9,   8.0942,2,     25.0, TS,     8.21,2,   -999.0,  -999.00,9,  -999.00,9,     0.05,2,     0.03,2,   -999.0,-999.0000, -999,9,    4,  24.2861,  23.3857,   -999.0,9
       KS05-04,  137E,KS-1281,  1,     23,02-19380,2,20050427,2324, 24.9827, 136.9787, 5249,      9.1,  24.2831,  34.7757,2,   -999.0,9,-999.0000,9,    213.0,2,     1.29,2,  -999.00,9,     0.00,2,     0.00,2,     0.00,2, -999.000,9, -999.000,9,  -999.00,9,   1955.3,2,   -999.0,9,   8.0876,2,     25.0, TS,     8.21,2,   -999.0,  -999.00,9,  -999.00,9,     0.08,2,     0.06,2,   -999.0,-999.0000, -999,9,    9,  24.2812,  23.3881,   -999.0,9
       KS05-04,  137E,KS-1281,  1,     22,02-19379,2,20050427,2323, 24.9827, 136.9787, 5249,     23.5,  24.2764,  34.7721,2,   -999.0,9,-999.0000,9,    214.0,2,     1.34,2,  -999.00,9,     0.00,2,     0.00,2,     0.00,2, -999.000,9, -999.000,9,  -999.00,9,   1954.4,2,   -999.0,9,   8.0903,2,     25.0, TS,     8.21,2,   -999.0,  -999.00,9,  -999.00,9,     0.09,2,     0.05,2,   -999.0,-999.0000, -999,9,   23,  24.2714,  23.3882,   -999.0,9
       KS05-04,  137E,KS-1281,  1,     21,02-16027,2,20050427,2319, 24.9827, 136.9787, 5249,     49.9,  22.3603,  34.9236,2,   -999.0,9,-999.0000,9,    215.0,2,     1.58,2,  -999.00,9,     0.00,2,     0.00,2,     0.00,2, -999.000,9, -999.000,9,  -999.00,9,   1974.1,2,   -999.0,9,   8.0721,2,     25.0, TS,     8.19,2,   -999.0,  -999.00,9,  -999.00,9,     0.11,2,     0.11,2,   -999.0,-999.0000, -999,9,   50,  22.3503,  24.0612,   -999.0,9
       KS05-04,  137E,KS-1281,  1,     20,02-16026,2,20050427,2318, 24.9827, 136.9787, 5249,     73.0,  20.8008,  34.8970,2,   -999.0,9,-999.0000,9,    220.0,2,     1.88,2,  -999.00,9,     0.00,2,     0.02,2,     0.01,2, -999.000,9, -999.000,9,  -999.00,9,   1985.3,2,   -999.0,9,   8.0572,2,     25.0, TS,     8.18,2,   -999.0,  -999.00,9,  -999.00,9,     0.16,2,     0.27,2,   -999.0,-999.0000, -999,9,   73,  20.7870,  24.4732,   -999.0,9
       KS05-04,  137E,KS-1281,  1,     19,02-19378,2,20050427,2317, 24.9827, 136.9787, 5249,    100.1,  20.1262,  34.8947,2,   -999.0,9,  34.8908,2,    215.0,2,     2.03,2,  -999.00,9,     0.78,2,     0.16,2,     0.05,2, -999.000,9, -999.000,9,  -999.00,9,   1994.8,2,   -999.0,9,   8.0395,2,     25.0, TS,     8.16,2,   -999.0,  -999.00,9,  -999.00,9,     0.14,2,     0.39,2,   -999.0,-999.0000, -999,9,   99,  20.1076,  24.6530,   -999.0,9
       KS05-04,  137E,KS-1281,  1,     18,02-19377,2,20050427,2316, 24.9827, 136.9787, 5249,    125.9,  19.5883,  34.8933,2,   -999.0,9,-999.0000,9,    215.0,2,     2.02,2,  -999.00,9,     1.46,2,     0.02,2,     0.08,2, -999.000,9, -999.000,9,  -999.00,9,   1998.3,2,   -999.0,9,   8.0340,2,     25.0, TS,     8.15,2,   -999.0,  -999.00,9,  -999.00,9,     0.03,2,     0.05,2,   -999.0,-999.0000, -999,9,  125,  19.5654,  24.7941,   -999.0,9
       KS05-04,  137E,KS-1281,  1,     17,02-16023,2,20050427,2315, 24.9827, 136.9787, 5249,    149.9,  19.0524,  34.8822,2,   -999.0,9,-999.0000,9,    208.0,2,     2.90,2,  -999.00,9,     2.44,2,     0.02,2,     0.14,2, -999.000,9, -999.000,9,  -999.00,9,   2009.5,2,   -999.0,9,   7.9714,2,     25.0, TS,     8.13,2,   -999.0,  -999.00,9,  -999.00,9,     0.01,2,     0.03,2,   -999.0,-999.0000, -999,9,  149,  19.0257,  24.9245,   -999.0,9
       KS05-04,  137E,KS-1281,  1,     16,02-16022,2,20050427,2314, 24.9827, 136.9787, 5249,    202.4,  17.9358,  34.8005,2,   -999.0,9,  34.8013,2,    198.0,3,     4.13,2,  -999.00,9,     4.68,2,     0.01,2,     0.27,2, -999.000,9, -999.000,9,  -999.00,9,   2030.0,2,   -999.0,9,   7.9684,2,     25.0, TS,     8.08,2,   -999.0,  -999.00,9,  -999.00,9,     0.00,2,     0.02,2,   -999.0,-999.0000, -999,9,  201,  17.9012,  25.1435,   -999.0,9
       KS05-04,  137E,KS-1281,  1,     15,02-16021,2,20050427,2312, 24.9827, 136.9787, 5249,    251.8,  17.0919,  34.7669,2,   -999.0,9,-999.0000,9,    206.0,2,     4.74,2,  -999.00,9,     5.17,2,     0.01,2,     0.29,2, -999.000,9, -999.000,9,  -999.00,9,   2030.2,2,   -999.0,9,   7.9658,2,     25.0, TS,     8.08,2,   -999.0,  -999.00,9,  -999.00,9,     0.00,2,     0.01,2,   -999.0,-999.0000, -999,9,  250,  17.0502,  25.3234,   -999.0,9
       KS05-04,  137E,KS-1281,  1,     14,02-16020,2,20050427,2310, 24.9827, 136.9787, 5249,    300.7,  16.1506,  34.6848,2,   -999.0,9,  34.6844,2,    199.0,2,     6.75,2,  -999.00,9,     7.22,2,     0.00,2,     0.43,2, -999.000,9, -999.000,9,  -999.00,9,   2044.0,2,   -999.0,9,   7.9341,2,     25.0, TS,     8.05,2,   -999.0,  -999.00,9,  -999.00,9,     0.00,2,     0.01,2,   -999.0,-999.0000, -999,9,  299,  16.1027,  25.4817,   -999.0,9
       KS05-04,  137E,KS-1281,  1,     13,02-16019,2,20050427,2308, 24.9827, 136.9787, 5249,    402.4,  13.6617,  34.4891,2,   -999.0,9,  34.4905,2,    188.0,2,    13.58,2,  -999.00,9,    12.09,2,     0.00,2,     0.78,2, -999.000,9, -999.000,9,  -999.00,9,   2080.4,2,   -999.0,9,   7.8526,2,     25.0, TS,     7.96,2,   -999.0,  -999.00,9,  -999.00,9,  -999.00,9,  -999.00,9,   -999.0,-999.0000, -999,9,  399,  13.6043,  25.8744,   -999.0,9
       KS05-04,  137E,KS-1281,  1,     12,02-16018,2,20050427,2306, 24.9827, 136.9787, 5249,    500.9,  11.4582,  34.3407,2,   -999.0,9,  34.3413,2,    176.0,2,    22.95,2,  -999.00,9,    17.05,2,     0.00,2,     1.13,2, -999.000,9, -999.000,9,  -999.00,9,   2115.3,2,   -999.0,9,   7.7793,2,     25.0, TS,     7.89,2,   -999.0,  -999.00,9,  -999.00,9,  -999.00,9,  -999.00,9,   -999.0,-999.0000, -999,9,  497,  11.3944,  26.1903,   -999.0,9
       KS05-04,  137E,KS-1281,  1,     11,02-19376,2,20050427,2303, 24.9827, 136.9787, 5249,    603.9,   8.7169,  34.1896,2,   -999.0,9,  34.1907,2,    148.0,2,    41.22,2,  -999.00,9,    24.45,2,     0.00,2,     1.70,2, -999.000,9, -999.000,9,  -999.00,9,   2171.0,2,   -999.0,9,   7.6625,2,     25.0, TS,     7.76,2,   -999.0,  -999.00,9,  -999.00,9,  -999.00,9,  -999.00,9,   -999.0,-999.0000, -999,9,  599,   8.6517,  26.5383,   -999.0,9
       KS05-04,  137E,KS-1281,  1,     10,02-19375,2,20050427,2301, 24.9827, 136.9787, 5249,    703.6,   6.6680,  34.1518,2,   -999.0,9,  34.1517,2,    112.0,2,    64.13,2,  -999.00,9,    31.26,2,     0.00,2,     2.21,2, -999.000,9, -999.000,9,  -999.00,9,   2228.1,2,   -999.0,9,   7.5490,2,     25.0, TS,     7.65,2,   -999.0,  -999.00,9,  -999.00,9,  -999.00,9,  -999.00,9,   -999.0,-999.0000, -999,9,  698,   6.6024,  26.8044,   -999.0,9
       KS05-04,  137E,KS-1281,  1,      9,02-16015,2,20050427,2258, 24.9827, 136.9787, 5249,    805.2,   5.3161,  34.2019,2,   -999.0,9,  34.2009,2,     81.0,2,    70.51,2,  -999.00,9,    36.51,2,     0.00,2,     2.60,2, -999.000,9, -999.000,9,  -999.00,9,   2278.3,2,   -999.0,9,   7.4749,2,     25.0, TS,     7.56,2,   -999.0,  -999.00,9,  -999.00,9,  -999.00,9,  -999.00,9,   -999.0,-999.0000, -999,9,  798,   5.2486,  27.0137,   -999.0,9
       KS05-04,  137E,KS-1281,  1,      8,02-16014,2,20050427,2256, 24.9827, 136.9787, 5249,    906.7,   4.6094,  34.2694,2,   -999.0,9,  34.2695,2,     68.0,2,    97.77,2,  -999.00,9,    38.85,2,     0.00,2,     2.77,2, -999.000,9, -999.000,9,  -999.00,9,   2304.9,2,   -999.0,9,   7.4439,2,     25.0, TS,     7.53,2,   -999.0,  -999.00,9,  -999.00,9,  -999.00,9,  -999.00,9,   -999.0,-999.0000, -999,9,  899,   4.5375,  27.1479,   -999.0,9
       KS05-04,  137E,KS-1281,  1,      7,02-19374,2,20050427,2254, 24.9827, 136.9787, 5249,   1010.4,   4.0033,  34.3366,2,   -999.0,9,  34.3358,2,     59.0,2,   112.28,2,  -999.00,9,    40.11,2,     0.00,2,     2.87,2, -999.000,9, -999.000,9,  -999.00,9,   2322.9,2,   -999.0,9,   7.4433,2,     25.0, TS,     7.51,2,   -999.0,  -999.00,9,  -999.00,9,  -999.00,9,  -999.00,9,   -999.0,-999.0000, -999,9, 1001,   3.9270,  27.2659,   -999.0,9
       KS05-04,  137E,KS-1281,  1,      6,02-19373,2,20050427,2248, 24.9827, 136.9787, 5249,   1261.5,   3.0726,  34.4613,2,   -999.0,9,  34.4599,2,     65.0,2,   132.15,2,  -999.00,9,    40.78,2,     0.00,2,     2.89,2, -999.000,9, -999.000,9,  -999.00,9,   2345.4,2,   -999.0,9,   7.4512,2,     25.0, TS,     7.52,2,   -999.0,  -999.00,9,  -999.00,9,  -999.00,9,  -999.00,9,   -999.0,-999.0000, -999,9, 1250,   2.9838,  27.4565,   -999.0,9
       KS05-04,  137E,KS-1281,  1,      5,02-16011,2,20050427,2243, 24.9827, 136.9787, 5249,   1514.8,   2.6280,  34.5316,2,   -999.0,9,  34.5311,2,     83.0,2,   138.70,2,  -999.00,9,    39.90,2,     0.00,2,     2.83,2, -999.000,9, -999.000,9,  -999.00,9,   2344.9,2,   -999.0,9,   7.4891,2,     25.0, TS,     7.57,2,   -999.0,  -999.00,9,  -999.00,9,  -999.00,9,  -999.00,9,   -999.0,-999.0000, -999,9, 1500,   2.5234,  27.5534,   -999.0,9
       KS05-04,  137E,KS-1281,  1,      4,02-16010,2,20050427,2237, 24.9827, 136.9787, 5249,   1767.0,   2.2187,  34.5847,2,   -999.0,9,  34.5855,2,    103.0,2,   140.41,2,  -999.00,9,    38.83,2,     0.00,2,     2.72,2, -999.000,9, -999.000,9,  -999.00,9,   2345.2,6,   -999.0,9,   7.5274,2,     25.0, TS,     7.60,2,   -999.0,  -999.00,9,  -999.00,9,  -999.00,9,  -999.00,9,   -999.0,-999.0000, -999,9, 1748,   2.0986,  27.6311,   -999.0,9
       KS05-04,  137E,KS-1281,  1,      3,02-16009,2,20050427,2232, 24.9827, 136.9787, 5249,   2021.0,   2.0247,  34.6102,2,   -999.0,9,  34.6099,2,    114.0,2,   142.23,2,  -999.00,9,    38.05,2,     0.00,2,     2.68,2, -999.000,9, -999.000,9,  -999.00,9,   2334.9,3,   -999.0,9,   7.5456,6,     25.0, TS,     7.62,2,   -999.0,  -999.00,9,  -999.00,9,  -999.00,9,  -999.00,9,   -999.0,-999.0000, -999,9, 1998,   1.8862,  27.6683,   -999.0,9
       KS05-04,  137E,KS-1281,  1,      2,02-16008,2,20050427,2212, 24.9827, 136.9787, 5249,   3040.7,   1.6407,  34.6624,2,   -999.0,9,  34.6622,2,    142.0,2,   142.77,2,  -999.00,9,    36.78,2,     0.00,2,     2.54,2, -999.000,9, -999.000,9,  -999.00,9,   -999.0,9,   -999.0,9,-999.0000,9,   -999.0,  9,     7.67,2,   -999.0,  -999.00,9,  -999.00,9,  -999.00,9,  -999.00,9,   -999.0,-999.0000, -999,9, 3000,   1.4170,  27.7453,   -999.0,9
       KS05-04,  137E,KS-1281,  1,      1,02-16007,2,20050427,2153, 24.9827, 136.9787, 5249,   4064.5,   1.5285,  34.6835,2,   -999.0,9,  34.6842,2,    158.0,2,   140.65,2,  -999.00,9,    35.81,2,     0.00,2,     2.46,2, -999.000,9, -999.000,9,  -999.00,9,   -999.0,9,   -999.0,9,-999.0000,9,   -999.0,  9,     7.69,2,   -999.0,  -999.00,9,  -999.00,9,  -999.00,9,  -999.00,9,   -999.0,-999.0000, -999,9, 4000,   1.2017,  27.7774,   -999.0,9