BOTTLE,20130510GEMDJMAYT
EXPOCODE,SECT_ID,STNNBR,CASTNO,SAMPNO,BTLNBR,BTLNBR_FLAG_W,DATE,TIME,LATITUDE,LONGITUDE,DEPTH,CTDPRS,CTDTMP,CTDSAL,CTDSAL_FLAG_W,CTDOXY,CTDOXY_FLAG_W,SALNTY,SALNTY_FLAG_W,OXYGEN,OXYGEN_FLAG_W,SILCAT,SILCAT_FLAG_W,NITRAT,NITRAT_FLAG_W,NO2+NO3,NO2+NO3_FLAG_W,NITRIT,NITRIT_FLAG_W,PHSPHT,PHSPHT_FLAG_W,CFC-11,CFC-11_FLAG_W,CFC-12,CFC-12_FLAG_W,DELC13,DELC13_FLAG_W,TCARBN,TCARBN_FLAG_W,ALKALI,ALKALI_FLAG_W,PH,PH_FLAG_W,PH_TMP,PH_SCALE,PH_NBS,PH_NBS_FLAG_W,C13ERR,TOTALP,TOTALP_FLAG_W,AMMONI,AMMONI_FLAG_W,CHLORA,CHLORA_FLAG_W,PPHYTN,PPHYTN_FLAG_W,REVPRS,REVTMP,DEPTH_,DEPTH_FLAG,CTDDEP,THETA,SIGTHT,DOC,DOC_FLAG_W
,,,,,,,GMT,GMT,,,METER,DBAR,ITS-90,PSS-78,,UMOL/KG,,PSS-78,,UMOL/KG,,UMOL/KG,,UMOL/KG,,UMOL/KG,,UMOL/KG,,UMOL/KG,,PMOL/KG,,PMOL/KG,,/MILLE,,UMOL/KG,,UMOL/KG,,25_DEG_C,,DEG_C,,,,/MILLE,UMOL/KG,,UMOL/KG,,UG/L,,UG/L,,DBAR,ITS-90,METERS,,METERS,DEG_C,,UMOL/L,
       KS05-04,  137E,KS-1303,  1,     24,02-16030,3,20050503,2211,  2.9968, 136.9877, 4487,      4.4,  29.8218,  34.4864,2,   -999.0,9,  34.4836,2,    195.0,2,     0.95,2,  -999.00,9,     0.00,2,     0.00,2,     0.05,2, -999.000,9, -999.000,9,  -999.00,9,   1927.7,6,   -999.0,9,   8.1222,2,     25.0, TS,     8.25,2,   -999.0,  -999.00,9,  -999.00,9,     0.06,2,     0.04,2,   -999.0,-999.0000, -999,9,    4,  29.8207,  21.4022,   -999.0,9
       KS05-04,  137E,KS-1303,  1,     23,02-19380,4,20050503,2210,  2.9968, 136.9877, 4487,     10.6,  29.8262,  34.4859,2,   -999.0,9,-999.0000,9,    195.0,2,     0.94,2,  -999.00,9,     0.00,2,     0.00,2,     0.07,2, -999.000,9, -999.000,9,  -999.00,9,   -999.0,9,   -999.0,9,-999.0000,9,   -999.0,  9,     8.24,2,   -999.0,  -999.00,9,  -999.00,9,     0.07,2,     0.05,2,   -999.0,-999.0000, -999,9,   11,  29.8236,  21.4009,   -999.0,9
       KS05-04,  137E,KS-1303,  1,     22,02-19379,2,20050503,2209,  2.9968, 136.9877, 4487,     24.8,  29.6765,  34.4828,2,   -999.0,9,-999.0000,9,    197.0,2,     0.93,2,  -999.00,9,     0.00,2,     0.00,2,     0.06,2, -999.000,9, -999.000,9,  -999.00,9,   -999.0,9,   -999.0,9,-999.0000,9,   -999.0,  9,     8.24,2,   -999.0,  -999.00,9,  -999.00,9,     0.07,2,     0.05,2,   -999.0,-999.0000, -999,9,   25,  29.6704,  21.4505,   -999.0,9
       KS05-04,  137E,KS-1303,  1,     21,02-16027,2,20050503,2207,  2.9968, 136.9877, 4487,     49.2,  28.6411,  34.4862,2,   -999.0,9,-999.0000,9,    193.0,4,     1.04,4,  -999.00,9,     0.00,4,     0.01,4,     0.07,4, -999.000,9, -999.000,9,  -999.00,9,   -999.0,9,   -999.0,9,-999.0000,9,   -999.0,  9,     8.23,4,   -999.0,  -999.00,9,  -999.00,9,     0.11,4,     0.12,4,   -999.0,-999.0000, -999,9,   49,  28.6293,  21.8016,   -999.0,9
       KS05-04,  137E,KS-1303,  1,     20,02-16026,3,20050503,2206,  2.9968, 136.9877, 4487,     74.3,  26.3583,  35.0711,2,   -999.0,9,-999.0000,9,    144.0,2,     2.72,2,  -999.00,9,     6.74,2,     0.32,2,     0.50,2, -999.000,9, -999.000,9,  -999.00,9,   -999.0,9,   -999.0,9,-999.0000,9,   -999.0,  9,     8.12,2,   -999.0,  -999.00,9,  -999.00,9,     0.20,2,     0.51,2,   -999.0,-999.0000, -999,9,   74,  26.3416,  22.9800,   -999.0,9
       KS05-04,  137E,KS-1303,  1,     19,02-19378,3,20050503,2205,  2.9968, 136.9877, 4487,     99.1,  24.5808,  35.0364,2,   -999.0,9,  35.0594,4,    131.0,2,     4.35,2,  -999.00,9,     9.18,2,     0.09,2,     0.64,2, -999.000,9, -999.000,9,  -999.00,9,   -999.0,9,   -999.0,9,-999.0000,9,   -999.0,  9,     8.08,2,   -999.0,  -999.00,9,  -999.00,9,     0.09,2,     0.41,2,   -999.0,-999.0000, -999,9,   99,  24.5596,  23.5019,   -999.0,9
       KS05-04,  137E,KS-1303,  1,     18,02-19377,3,20050503,2203,  2.9968, 136.9877, 4487,    126.9,  23.3242,  34.9135,2,   -999.0,9,-999.0000,9,    140.0,2,     7.14,2,  -999.00,9,     9.87,2,     0.04,2,     0.67,2, -999.000,9, -999.000,9,  -999.00,9,   -999.0,9,   -999.0,9,-999.0000,9,   -999.0,  9,     8.06,2,   -999.0,  -999.00,9,  -999.00,9,     0.03,2,     0.18,2,   -999.0,-999.0000, -999,9,  126,  23.2980,  23.7817,   -999.0,9
       KS05-04,  137E,KS-1303,  1,     17,02-16023,2,20050503,2202,  2.9968, 136.9877, 4487,    151.5,  22.7250,  35.1266,2,   -999.0,9,-999.0000,9,    134.0,2,     5.64,2,  -999.00,9,     9.76,2,     0.03,2,     0.68,2, -999.000,9, -999.000,9,  -999.00,9,   -999.0,9,   -999.0,9,-999.0000,9,   -999.0,  9,     8.05,2,   -999.0,  -999.00,9,  -999.00,9,     0.02,2,     0.08,2,   -999.0,-999.0000, -999,9,  151,  22.6943,  24.1175,   -999.0,9
       KS05-04,  137E,KS-1303,  1,     16,02-16022,2,20050503,2201,  2.9968, 136.9877, 4487,    201.6,  18.7855,  35.0112,2,   -999.0,9,  35.0140,2,    143.0,2,     8.43,2,  -999.00,9,    11.41,2,     0.01,2,     0.79,2, -999.000,9, -999.000,9,  -999.00,9,   -999.0,9,   -999.0,9,-999.0000,9,   -999.0,  9,     8.00,2,   -999.0,  -999.00,9,  -999.00,9,     0.00,2,     0.03,2,   -999.0,-999.0000, -999,9,  200,  18.7498,  25.0933,   -999.0,9
       KS05-04,  137E,KS-1303,  1,     15,02-16021,4,20050503,2159,  2.9968, 136.9877, 4487,    252.8,  12.9581,  34.6332,2,   -999.0,9,-999.0000,9,    137.0,2,    21.84,2,  -999.00,9,    19.20,2,     0.00,2,     1.32,2, -999.000,9, -999.000,9,  -999.00,9,   -999.0,9,   -999.0,9,-999.0000,9,   -999.0,  9,     7.87,2,   -999.0,  -999.00,9,  -999.00,9,     0.00,2,     0.03,2,   -999.0,-999.0000, -999,9,  251,  12.9234,  26.1240,   -999.0,9
       KS05-04,  137E,KS-1303,  1,     14,02-16020,2,20050503,2158,  2.9968, 136.9877, 4487,    302.8,   9.7537,  34.4625,2,   -999.0,9,  34.4634,2,    115.0,2,    37.20,4,  -999.00,9,    26.69,2,     0.00,2,     1.86,2, -999.000,9, -999.000,9,  -999.00,9,   -999.0,9,   -999.0,9,-999.0000,9,   -999.0,  9,     7.74,2,   -999.0,  -999.00,9,  -999.00,9,     0.00,2,     0.02,2,   -999.0,-999.0000, -999,9,  301,   9.7192,  26.5796,   -999.0,9
       KS05-04,  137E,KS-1303,  1,     13,02-16019,2,20050503,2155,  2.9968, 136.9877, 4487,    402.7,   8.8832,  34.6473,2,   -999.0,9,  34.6466,2,    129.0,2,    28.31,2,  -999.00,9,    28.14,2,     0.00,2,     1.93,2, -999.000,9, -999.000,9,  -999.00,9,   -999.0,9,   -999.0,9,-999.0000,9,   -999.0,  9,     7.74,2,   -999.0,  -999.00,9,  -999.00,9,  -999.00,9,  -999.00,9,   -999.0,-999.0000, -999,9,  400,   8.8395,  26.8676,   -999.0,9
       KS05-04,  137E,KS-1303,  1,     12,02-16018,2,20050503,2152,  2.9968, 136.9877, 4487,    503.8,   8.0555,  34.5976,2,   -999.0,9,  34.5967,2,    122.0,2,    33.89,2,  -999.00,9,    29.99,2,     0.00,2,     2.08,2, -999.000,9, -999.000,9,  -999.00,9,   -999.0,9,   -999.0,9,-999.0000,9,   -999.0,  9,     7.72,2,   -999.0,  -999.00,9,  -999.00,9,  -999.00,9,  -999.00,9,   -999.0,-999.0000, -999,9,  500,   8.0036,  26.9573,   -999.0,9
       KS05-04,  137E,KS-1303,  1,     11,02-19376,2,20050503,2150,  2.9968, 136.9877, 4487,    603.9,   7.3338,  34.5607,2,   -999.0,9,  34.5571,2,    116.0,2,    40.49,2,  -999.00,9,    32.33,2,     0.00,2,     2.23,2, -999.000,9, -999.000,9,  -999.00,9,   -999.0,9,   -999.0,9,-999.0000,9,   -999.0,  9,     7.69,2,   -999.0,  -999.00,9,  -999.00,9,  -999.00,9,  -999.00,9,   -999.0,-999.0000, -999,9,  600,   7.2745,  27.0343,   -999.0,9
       KS05-04,  137E,KS-1303,  1,     10,02-19375,2,20050503,2148,  2.9968, 136.9877, 4487,    704.4,   6.5127,  34.5334,2,   -999.0,9,  34.5325,2,    112.0,2,    50.81,2,  -999.00,9,    34.27,2,     0.00,2,     2.39,2, -999.000,9, -999.000,9,  -999.00,9,   -999.0,9,   -999.0,9,-999.0000,9,   -999.0,  9,     7.66,2,   -999.0,  -999.00,9,  -999.00,9,  -999.00,9,  -999.00,9,   -999.0,-999.0000, -999,9,  699,   6.4474,  27.1260,   -999.0,9
       KS05-04,  137E,KS-1303,  1,      9,02-16015,2,20050503,2145,  2.9968, 136.9877, 4487,    805.8,   5.7623,  34.5329,2,   -999.0,9,  34.5331,2,    106.0,2,    62.54,2,  -999.00,9,    36.02,2,     0.00,2,     2.52,2, -999.000,9, -999.000,9,  -999.00,9,   -999.0,9,   -999.0,9,-999.0000,9,   -999.0,  9,     7.64,2,   -999.0,  -999.00,9,  -999.00,9,  -999.00,9,  -999.00,9,   -999.0,-999.0000, -999,9,  800,   5.6916,  27.2222,   -999.0,9
       KS05-04,  137E,KS-1303,  1,      8,02-16014,2,20050503,2143,  2.9968, 136.9877, 4487,    904.5,   5.2772,  34.5395,2,   -999.0,9,  34.5390,2,     89.0,2,    75.20,2,  -999.00,9,    38.26,2,     0.00,2,     2.70,2, -999.000,9, -999.000,9,  -999.00,9,   -999.0,9,   -999.0,9,-999.0000,9,   -999.0,  9,     7.61,2,   -999.0,  -999.00,9,  -999.00,9,  -999.00,9,  -999.00,9,   -999.0,-999.0000, -999,9,  898,   5.2005,  27.2868,   -999.0,9
       KS05-04,  137E,KS-1303,  1,      7,02-19374,2,20050503,2141,  2.9968, 136.9877, 4487,   1006.8,   4.7579,  34.5477,2,   -999.0,9,  34.5478,2,     91.0,2,    85.55,2,  -999.00,9,    38.64,2,     0.00,2,     2.73,2, -999.000,9, -999.000,9,  -999.00,9,   -999.0,9,   -999.0,9,-999.0000,9,   -999.0,  9,     7.61,2,   -999.0,  -999.00,9,  -999.00,9,  -999.00,9,  -999.00,9,   -999.0,-999.0000, -999,9,  999,   4.6758,  27.3535,   -999.0,9
       KS05-04,  137E,KS-1303,  1,      6,02-19373,2,20050503,2136,  2.9968, 136.9877, 4487,   1259.7,   3.7661,  34.5738,2,   -999.0,9,  34.5739,2,     94.0,2,   105.18,2,  -999.00,9,    39.22,2,     0.00,2,     2.77,2, -999.000,9, -999.000,9,  -999.00,9,   -999.0,9,   -999.0,9,-999.0000,9,   -999.0,  9,     7.60,2,   -999.0,  -999.00,9,  -999.00,9,  -999.00,9,  -999.00,9,   -999.0,-999.0000, -999,9, 1249,   3.6705,  27.4807,   -999.0,9
       KS05-04,  137E,KS-1303,  1,      5,02-16011,2,20050503,2132,  2.9968, 136.9877, 4487,   1512.7,   2.9981,  34.6006,2,   -999.0,9,  34.5999,2,    104.0,2,   120.37,2,  -999.00,9,    39.22,2,     0.00,2,     2.75,2, -999.000,9, -999.000,9,  -999.00,9,   -999.0,9,   -999.0,9,-999.0000,9,   -999.0,  9,     7.62,2,   -999.0,  -999.00,9,  -999.00,9,  -999.00,9,  -999.00,9,   -999.0,-999.0000, -999,9, 1499,   2.8892,  27.5763,   -999.0,9
       KS05-04,  137E,KS-1303,  1,      4,02-16010,2,20050503,2127,  2.9968, 136.9877, 4487,   1765.7,   2.5051,  34.6217,2,   -999.0,9,  34.6211,2,    113.0,2,   130.75,2,  -999.00,9,    39.02,2,     0.00,2,     2.72,2, -999.000,9, -999.000,9,  -999.00,9,   -999.0,9,   -999.0,9,-999.0000,9,   -999.0,  9,     7.63,2,   -999.0,  -999.00,9,  -999.00,9,  -999.00,9,  -999.00,9,   -999.0,-999.0000, -999,9, 1749,   2.3811,  27.6375,   -999.0,9
       KS05-04,  137E,KS-1303,  1,      3,02-16009,9,20050503,2122,  2.9968, 136.9877, 4487,   2018.6,   2.1916,  34.6369,2,   -999.0,9,-999.0000,9,   -999.0,9,  -999.00,9,  -999.00,9,  -999.00,9,  -999.00,9,  -999.00,9, -999.000,9, -999.000,9,  -999.00,9,   -999.0,9,   -999.0,9,-999.0000,9,   -999.0,  9,  -999.00,9,   -999.0,  -999.00,9,  -999.00,9,  -999.00,9,  -999.00,9,   -999.0,-999.0000, -999,9, 1998,   2.0506,  27.6768,   -999.0,9
       KS05-04,  137E,KS-1303,  1,      2,02-16008,9,20050503,2122,  2.9968, 136.9877, 4487,   2018.4,   2.1897,  34.6370,2,   -999.0,9,-999.0000,9,   -999.0,9,  -999.00,9,  -999.00,9,  -999.00,9,  -999.00,9,  -999.00,9, -999.000,9, -999.000,9,  -999.00,9,   -999.0,9,   -999.0,9,-999.0000,9,   -999.0,  9,  -999.00,9,   -999.0,  -999.00,9,  -999.00,9,  -999.00,9,  -999.00,9,   -999.0,-999.0000, -999,9, 1998,   2.0488,  27.6770,   -999.0,9
       KS05-04,  137E,KS-1303,  1,      1,02-16007,2,20050503,2122,  2.9968, 136.9877, 4487,   2018.6,   2.1882,  34.6371,2,   -999.0,9,  34.6376,2,    118.0,2,   137.04,2,  -999.00,9,    38.73,2,     0.00,2,     2.70,2, -999.000,9, -999.000,9,  -999.00,9,   -999.0,9,   -999.0,9,-999.0000,9,   -999.0,  9,     7.64,2,   -999.0,  -999.00,9,  -999.00,9,  -999.00,9,  -999.00,9,   -999.0,-999.0000, -999,9, 1998,   2.0473,  27.6771,   -999.0,9