BOTTLE,20130510GEMDJMAYT
EXPOCODE,SECT_ID,STNNBR,CASTNO,SAMPNO,BTLNBR,BTLNBR_FLAG_W,DATE,TIME,LATITUDE,LONGITUDE,DEPTH,CTDPRS,CTDTMP,CTDSAL,CTDSAL_FLAG_W,CTDOXY,CTDOXY_FLAG_W,SALNTY,SALNTY_FLAG_W,OXYGEN,OXYGEN_FLAG_W,SILCAT,SILCAT_FLAG_W,NITRAT,NITRAT_FLAG_W,NO2+NO3,NO2+NO3_FLAG_W,NITRIT,NITRIT_FLAG_W,PHSPHT,PHSPHT_FLAG_W,CFC-11,CFC-11_FLAG_W,CFC-12,CFC-12_FLAG_W,DELC13,DELC13_FLAG_W,TCARBN,TCARBN_FLAG_W,ALKALI,ALKALI_FLAG_W,PH,PH_FLAG_W,PH_TMP,PH_SCALE,PH_NBS,PH_NBS_FLAG_W,C13ERR,TOTALP,TOTALP_FLAG_W,AMMONI,AMMONI_FLAG_W,CHLORA,CHLORA_FLAG_W,PPHYTN,PPHYTN_FLAG_W,REVPRS,REVTMP,DEPTH_,DEPTH_FLAG,CTDDEP,THETA,SIGTHT,DOC,DOC_FLAG_W
,,,,,,,GMT,GMT,,,METER,DBAR,ITS-90,PSS-78,,UMOL/KG,,PSS-78,,UMOL/KG,,UMOL/KG,,UMOL/KG,,UMOL/KG,,UMOL/KG,,UMOL/KG,,PMOL/KG,,PMOL/KG,,/MILLE,,UMOL/KG,,UMOL/KG,,25_DEG_C,,DEG_C,,,,/MILLE,UMOL/KG,,UMOL/KG,,UG/L,,UG/L,,DBAR,ITS-90,METERS,,METERS,DEG_C,,UMOL/L,
       KS05-04,  137E,KS-1291,  1,     24,02-16030,2,20050430,1610, 14.9988, 136.9737, 5494,      3.6,  28.3022,  34.3488,2,   -999.0,9,  34.3468,2,    200.0,2,     1.18,2,  -999.00,9,     0.00,2,     0.00,2,     0.00,2, -999.000,9, -999.000,9,  -999.00,9,   1916.8,2,   -999.0,9,   8.1197,2,     25.0, TS,     8.24,2,   -999.0,  -999.00,9,  -999.00,9,     0.03,2,     0.02,2,   -999.0,-999.0000, -999,9,    4,  28.3013,  21.8064,   -999.0,9
       KS05-04,  137E,KS-1291,  1,     23,02-19380,2,20050430,1609, 14.9988, 136.9737, 5494,      8.8,  28.3062,  34.3485,2,   -999.0,9,-999.0000,9,    200.0,2,     1.16,2,  -999.00,9,     0.00,2,     0.00,2,     0.00,2, -999.000,9, -999.000,9,  -999.00,9,   1917.8,2,   -999.0,9,   8.1178,2,     25.0, TS,     8.24,2,   -999.0,  -999.00,9,  -999.00,9,     0.03,2,     0.02,2,   -999.0,-999.0000, -999,9,    9,  28.3041,  21.8053,   -999.0,9
       KS05-04,  137E,KS-1291,  1,     22,02-19379,2,20050430,1608, 14.9988, 136.9737, 5494,     23.3,  28.1807,  34.3317,2,   -999.0,9,-999.0000,9,    201.0,2,     1.21,2,  -999.00,9,     0.00,2,     0.00,2,     0.00,2, -999.000,9, -999.000,9,  -999.00,9,   1913.9,2,   -999.0,9,   8.1175,2,     25.0, TS,     8.24,2,   -999.0,  -999.00,9,  -999.00,9,     0.04,2,     0.02,2,   -999.0,-999.0000, -999,9,   23,  28.1752,  21.8349,   -999.0,9
       KS05-04,  137E,KS-1291,  1,     21,02-16027,2,20050430,1604, 14.9988, 136.9737, 5494,     49.2,  27.5018,  34.4158,2,   -999.0,9,-999.0000,9,    205.0,2,     1.14,2,  -999.00,9,     0.00,2,     0.00,2,     0.00,2, -999.000,9, -999.000,9,  -999.00,9,   1921.9,2,   -999.0,9,   8.1194,2,     25.0, TS,     8.24,2,   -999.0,  -999.00,9,  -999.00,9,     0.04,2,     0.03,2,   -999.0,-999.0000, -999,9,   49,  27.4904,  22.1206,   -999.0,9
       KS05-04,  137E,KS-1291,  1,     20,02-16026,2,20050430,1603, 14.9988, 136.9737, 5494,     74.5,  26.8655,  34.6457,2,   -999.0,9,-999.0000,9,    205.0,2,     1.04,2,  -999.00,9,     0.00,2,     0.00,2,     0.00,2, -999.000,9, -999.000,9,  -999.00,9,   1935.6,2,   -999.0,9,   8.1163,2,     25.0, TS,     8.23,2,   -999.0,  -999.00,9,  -999.00,9,     0.06,2,     0.05,2,   -999.0,-999.0000, -999,9,   74,  26.8485,  22.4992,   -999.0,9
       KS05-04,  137E,KS-1291,  1,     19,02-19378,2,20050430,1602, 14.9988, 136.9737, 5494,     99.3,  26.2615,  34.8382,2,   -999.0,9,  34.8426,2,    201.0,2,     1.18,2,  -999.00,9,     0.00,2,     0.00,2,     0.02,2, -999.000,9, -999.000,9,  -999.00,9,   1960.9,3,   -999.0,9,   8.0961,2,     25.0, TS,     8.21,2,   -999.0,  -999.00,9,  -999.00,9,     0.11,2,     0.17,2,   -999.0,-999.0000, -999,9,   99,  26.2392,  22.8365,   -999.0,9
       KS05-04,  137E,KS-1291,  1,     18,02-19377,2,20050430,1600, 14.9988, 136.9737, 5494,    123.9,  25.1425,  34.9367,2,   -999.0,9,-999.0000,9,    194.0,2,     1.43,2,  -999.00,9,     0.10,2,     0.09,2,     0.08,2, -999.000,9, -999.000,9,  -999.00,9,   1992.8,2,   -999.0,9,   8.0598,2,     25.0, TS,     8.18,2,   -999.0,  -999.00,9,  -999.00,9,     0.15,2,     0.55,2,   -999.0,-999.0000, -999,9,  123,  25.1155,  23.2582,   -999.0,9
       KS05-04,  137E,KS-1291,  1,     17,02-16023,2,20050430,1559, 14.9988, 136.9737, 5494,    148.5,  23.0671,  35.0833,2,   -999.0,9,-999.0000,9,    188.0,2,     1.62,2,  -999.00,9,     0.78,2,     0.04,2,     0.07,2, -999.000,9, -999.000,9,  -999.00,9,   2006.2,2,   -999.0,9,   8.0363,2,     25.0, TS,     8.15,2,   -999.0,  -999.00,9,  -999.00,9,     0.06,2,     0.39,2,   -999.0,-999.0000, -999,9,  148,  23.0367,  23.9862,   -999.0,9
       KS05-04,  137E,KS-1291,  1,     16,02-16022,2,20050430,1557, 14.9988, 136.9737, 5494,    200.3,  19.9630,  34.9741,2,   -999.0,9,  34.9697,2,    191.0,2,     2.50,2,  -999.00,9,     2.54,2,     0.01,2,     0.16,2, -999.000,9, -999.000,9,  -999.00,9,   2027.5,3,   -999.0,9,   7.9918,2,     25.0, TS,     8.11,2,   -999.0,  -999.00,9,  -999.00,9,     0.01,2,     0.06,2,   -999.0,-999.0000, -999,9,  199,  19.9260,  24.7615,   -999.0,9
       KS05-04,  137E,KS-1291,  1,     15,02-16021,2,20050430,1555, 14.9988, 136.9737, 5494,    250.7,  17.2369,  34.7649,2,   -999.0,9,-999.0000,9,    203.0,2,     4.19,2,  -999.00,9,     4.88,2,     0.01,2,     0.29,2, -999.000,9, -999.000,9,  -999.00,9,   2034.8,2,   -999.0,9,   7.9617,2,     25.0, TS,     8.08,2,   -999.0,  -999.00,9,  -999.00,9,     0.00,2,     0.01,2,   -999.0,-999.0000, -999,9,  249,  17.1951,  25.2873,   -999.0,9
       KS05-04,  137E,KS-1291,  1,     14,02-16020,2,20050430,1552, 14.9988, 136.9737, 5494,    301.1,  15.7865,  34.6515,2,   -999.0,9,  34.6525,2,    201.0,2,     6.73,2,  -999.00,9,     7.31,2,     0.00,2,     0.45,2, -999.000,9, -999.000,9,  -999.00,9,   2052.0,2,   -999.0,9,   7.9235,2,     25.0, TS,     8.04,2,   -999.0,  -999.00,9,  -999.00,9,     0.00,2,     0.00,2,   -999.0,-999.0000, -999,9,  299,  15.7393,  25.5387,   -999.0,9
       KS05-04,  137E,KS-1291,  1,     13,02-16019,2,20050430,1548, 14.9988, 136.9737, 5494,    403.9,  11.0985,  34.2989,2,   -999.0,9,  34.2991,2,    169.0,3,    21.75,2,  -999.00,9,    18.03,2,     0.00,2,     1.24,2, -999.000,9, -999.000,9,  -999.00,9,   2126.5,2,   -999.0,9,   7.7495,2,     25.0, TS,     7.86,2,   -999.0,  -999.00,9,  -999.00,9,  -999.00,9,  -999.00,9,   -999.0,-999.0000, -999,9,  401,  11.0483,  26.2208,   -999.0,9
       KS05-04,  137E,KS-1291,  1,     12,02-16018,2,20050430,1544, 14.9988, 136.9737, 5494,    504.9,   8.4527,  34.3290,2,   -999.0,9,  34.3262,2,     85.0,2,    44.04,2,  -999.00,9,    30.88,2,     0.00,2,     2.21,2, -999.000,9, -999.000,9,  -999.00,9,   2226.1,2,   -999.0,9,   7.5425,2,     25.0, TS,     7.64,2,   -999.0,  -999.00,9,  -999.00,9,  -999.00,9,  -999.00,9,   -999.0,-999.0000, -999,9,  501,   8.3994,  26.6866,   -999.0,9
       KS05-04,  137E,KS-1291,  1,     11,02-19376,2,20050430,1540, 14.9988, 136.9737, 5494,    604.5,   6.7300,  34.3678,2,   -999.0,9,  34.3672,2,     63.0,2,    63.79,2,  -999.00,9,    36.13,2,     0.00,2,     2.60,2, -999.000,9, -999.000,9,  -999.00,9,   2270.8,2,   -999.0,9,   7.4821,2,     25.0, TS,     7.57,2,   -999.0,  -999.00,9,  -999.00,9,  -999.00,9,  -999.00,9,   -999.0,-999.0000, -999,9,  600,   6.6735,  26.9652,   -999.0,9
       KS05-04,  137E,KS-1291,  1,     10,02-19375,2,20050430,1536, 14.9988, 136.9737, 5494,    706.1,   5.8473,  34.4497,2,   -999.0,9,  34.4483,2,     72.0,2,    74.24,2,  -999.00,9,    37.39,2,     0.00,2,     2.67,2, -999.000,9, -999.000,9,  -999.00,9,   2281.0,2,   -999.0,9,   7.4954,2,     25.0, TS,     7.58,2,   -999.0,  -999.00,9,  -999.00,9,  -999.00,9,  -999.00,9,   -999.0,-999.0000, -999,9,  701,   5.7855,  27.1447,   -999.0,9
       KS05-04,  137E,KS-1291,  1,      9,02-16015,2,20050430,1532, 14.9988, 136.9737, 5494,    806.4,   5.3637,  34.4824,2,   -999.0,9,  34.4813,2,     78.0,2,    80.79,2,  -999.00,9,    37.67,2,     0.00,2,     2.70,2, -999.000,9, -999.000,9,  -999.00,9,   2291.1,2,   -999.0,9,   7.5034,2,     25.0, TS,     7.59,2,   -999.0,  -999.00,9,  -999.00,9,  -999.00,9,  -999.00,9,   -999.0,-999.0000, -999,9,  800,   5.2954,  27.2302,   -999.0,9
       KS05-04,  137E,KS-1291,  1,      8,02-16014,2,20050430,1528, 14.9988, 136.9737, 5494,    907.1,   4.8717,  34.5105,2,   -999.0,9,  34.5093,2,     82.0,2,    88.52,2,  -999.00,9,    38.26,2,     0.00,2,     2.73,2, -999.000,9, -999.000,9,  -999.00,9,   2298.4,2,   -999.0,9,   7.5044,2,     25.0, TS,     7.59,2,   -999.0,  -999.00,9,  -999.00,9,  -999.00,9,  -999.00,9,   -999.0,-999.0000, -999,9,  900,   4.7976,  27.3103,   -999.0,9
       KS05-04,  137E,KS-1291,  1,      7,02-19374,2,20050430,1525, 14.9988, 136.9737, 5494,   1009.0,   4.4370,  34.5285,2,   -999.0,9,  34.5280,2,     85.0,2,    96.63,2,  -999.00,9,    38.54,2,     0.00,2,     2.74,2, -999.000,9, -999.000,9,  -999.00,9,   2305.3,2,   -999.0,9,   7.5100,2,     25.0, TS,     7.59,2,   -999.0,  -999.00,9,  -999.00,9,  -999.00,9,  -999.00,9,   -999.0,-999.0000, -999,9, 1001,   4.3572,  27.3733,   -999.0,9
       KS05-04,  137E,KS-1291,  1,      6,02-19373,2,20050430,1519, 14.9988, 136.9737, 5494,   1260.1,   3.4595,  34.5554,2,   -999.0,9,  34.5551,2,     91.0,2,   117.15,2,  -999.00,9,    38.73,2,     0.00,2,     2.75,2, -999.000,9, -999.000,9,  -999.00,9,   2326.9,2,   -999.0,9,   7.5159,2,     25.0, TS,     7.60,2,   -999.0,  -999.00,9,  -999.00,9,  -999.00,9,  -999.00,9,   -999.0,-999.0000, -999,9, 1249,   3.3668,  27.4958,   -999.0,9
       KS05-04,  137E,KS-1291,  1,      5,02-16011,2,20050430,1513, 14.9988, 136.9737, 5494,   1512.1,   2.9247,  34.5787,2,   -999.0,9,  34.5791,2,     99.0,2,   127.23,2,  -999.00,9,    38.73,2,     0.00,2,     2.74,2, -999.000,9, -999.000,9,  -999.00,9,   2333.2,2,   -999.0,9,   7.5269,2,     25.0, TS,     7.61,2,   -999.0,  -999.00,9,  -999.00,9,  -999.00,9,  -999.00,9,   -999.0,-999.0000, -999,9, 1498,   2.8167,  27.5654,   -999.0,9
       KS05-04,  137E,KS-1291,  1,      4,02-16010,2,20050430,1508, 14.9988, 136.9737, 5494,   1765.1,   2.4472,  34.6022,2,   -999.0,9,  34.6026,2,    106.0,2,   135.17,2,  -999.00,9,    38.83,2,     0.00,2,     2.73,2, -999.000,9, -999.000,9,  -999.00,9,   2338.9,6,   -999.0,9,   7.5242,2,     25.0, TS,     7.62,2,   -999.0,  -999.00,9,  -999.00,9,  -999.00,9,  -999.00,9,   -999.0,-999.0000, -999,9, 1747,   2.3241,  27.6267,   -999.0,9
       KS05-04,  137E,KS-1291,  1,      3,02-16009,9,20050430,1503, 14.9988, 136.9737, 5494,   2014.7,   2.1436,  34.6241,2,   -999.0,9,-999.0000,9,   -999.0,9,  -999.00,9,  -999.00,9,  -999.00,9,  -999.00,9,  -999.00,9, -999.000,9, -999.000,9,  -999.00,9,   -999.0,9,   -999.0,9,-999.0000,9,   -999.0,  9,  -999.00,9,   -999.0,  -999.00,9,  -999.00,9,  -999.00,9,  -999.00,9,   -999.0,-999.0000, -999,9, 1993,   2.0038,  27.6703,   -999.0,9
       KS05-04,  137E,KS-1291,  1,      2,02-16008,9,20050430,1503, 14.9988, 136.9737, 5494,   2015.3,   2.1428,  34.6243,2,   -999.0,9,-999.0000,9,   -999.0,9,  -999.00,9,  -999.00,9,  -999.00,9,  -999.00,9,  -999.00,9, -999.000,9, -999.000,9,  -999.00,9,   -999.0,9,   -999.0,9,-999.0000,9,   -999.0,  9,  -999.00,9,   -999.0,  -999.00,9,  -999.00,9,  -999.00,9,  -999.00,9,   -999.0,-999.0000, -999,9, 1994,   2.0029,  27.6704,   -999.0,9
       KS05-04,  137E,KS-1291,  1,      1,02-16007,2,20050430,1502, 14.9988, 136.9737, 5494,   2019.4,   2.1226,  34.6254,2,   -999.0,9,  34.6266,2,    114.0,2,   139.32,2,  -999.00,9,    38.44,2,     0.00,2,     2.69,2, -999.000,9, -999.000,9,  -999.00,9,   2340.2,2,   -999.0,9,   7.5460,6,     25.0, TS,     7.63,2,   -999.0,  -999.00,9,  -999.00,9,  -999.00,9,  -999.00,9,   -999.0,-999.0000, -999,9, 1998,   1.9827,  27.6729,   -999.0,9