BOTTLE,20130510GEMDJMAYT
EXPOCODE,SECT_ID,STNNBR,CASTNO,SAMPNO,BTLNBR,BTLNBR_FLAG_W,DATE,TIME,LATITUDE,LONGITUDE,DEPTH,CTDPRS,CTDTMP,CTDSAL,CTDSAL_FLAG_W,CTDOXY,CTDOXY_FLAG_W,SALNTY,SALNTY_FLAG_W,OXYGEN,OXYGEN_FLAG_W,SILCAT,SILCAT_FLAG_W,NITRAT,NITRAT_FLAG_W,NO2+NO3,NO2+NO3_FLAG_W,NITRIT,NITRIT_FLAG_W,PHSPHT,PHSPHT_FLAG_W,CFC-11,CFC-11_FLAG_W,CFC-12,CFC-12_FLAG_W,DELC13,DELC13_FLAG_W,TCARBN,TCARBN_FLAG_W,ALKALI,ALKALI_FLAG_W,PH,PH_FLAG_W,PH_TMP,PH_SCALE,PH_NBS,PH_NBS_FLAG_W,C13ERR,TOTALP,TOTALP_FLAG_W,AMMONI,AMMONI_FLAG_W,CHLORA,CHLORA_FLAG_W,PPHYTN,PPHYTN_FLAG_W,REVPRS,REVTMP,DEPTH_,DEPTH_FLAG,CTDDEP,THETA,SIGTHT,DOC,DOC_FLAG_W
,,,,,,,GMT,GMT,,,METER,DBAR,ITS-90,PSS-78,,UMOL/KG,,PSS-78,,UMOL/KG,,UMOL/KG,,UMOL/KG,,UMOL/KG,,UMOL/KG,,UMOL/KG,,PMOL/KG,,PMOL/KG,,/MILLE,,UMOL/KG,,UMOL/KG,,25_DEG_C,,DEG_C,,,,/MILLE,UMOL/KG,,UMOL/KG,,UG/L,,UG/L,,DBAR,ITS-90,METERS,,METERS,DEG_C,,UMOL/L,
       KS05-06,  NONE,KS-1380,  1,     24,02-16030,9,20050802,0318, 16.9977, 149.3378, 5448,      4.9,  29.8075,  34.6279,2,   -999.0,9,-999.0000,9,   -999.0,9,  -999.00,9,  -999.00,9,  -999.00,9,  -999.00,9,  -999.00,9, -999.000,9, -999.000,9,  -999.00,9,   -999.0,9,   -999.0,9,-999.0000,9,   -999.0,  9,  -999.00,9,   -999.0,  -999.00,9,  -999.00,9,  -999.00,9,  -999.00,9,   -999.0,-999.0000, -999,9,    5,  29.8063,  21.5132,   -999.0,9
       KS05-06,  NONE,KS-1380,  1,     23,02-19380,9,20050802,0318, 16.9977, 149.3378, 5448,      5.0,  29.8081,  34.6274,2,   -999.0,9,-999.0000,9,   -999.0,9,  -999.00,9,  -999.00,9,  -999.00,9,  -999.00,9,  -999.00,9, -999.000,9, -999.000,9,  -999.00,9,   -999.0,9,   -999.0,9,-999.0000,9,   -999.0,  9,  -999.00,9,   -999.0,  -999.00,9,  -999.00,9,  -999.00,9,  -999.00,9,   -999.0,-999.0000, -999,9,    5,  29.8069,  21.5126,   -999.0,9
       KS05-06,  NONE,KS-1380,  1,     22,02-19379,9,20050802,0318, 16.9977, 149.3378, 5448,      4.9,  29.8037,  34.6275,2,   -999.0,9,-999.0000,9,   -999.0,9,  -999.00,9,  -999.00,9,  -999.00,9,  -999.00,9,  -999.00,9, -999.000,9, -999.000,9,  -999.00,9,   -999.0,9,   -999.0,9,-999.0000,9,   -999.0,  9,  -999.00,9,   -999.0,  -999.00,9,  -999.00,9,  -999.00,9,  -999.00,9,   -999.0,-999.0000, -999,9,    5,  29.8025,  21.5142,   -999.0,9
       KS05-06,  NONE,KS-1380,  1,     21,02-16027,9,20050802,0317, 16.9977, 149.3378, 5448,      5.0,  29.8120,  34.6280,2,   -999.0,9,-999.0000,9,   -999.0,9,  -999.00,9,  -999.00,9,  -999.00,9,  -999.00,9,  -999.00,9, -999.000,9, -999.000,9,  -999.00,9,   -999.0,9,   -999.0,9,-999.0000,9,   -999.0,  9,  -999.00,9,   -999.0,  -999.00,9,  -999.00,9,  -999.00,9,  -999.00,9,   -999.0,-999.0000, -999,9,    5,  29.8108,  21.5117,   -999.0,9
       KS05-06,  NONE,KS-1380,  1,     20,02-16026,9,20050802,0317, 16.9977, 149.3378, 5448,      4.8,  29.8130,  34.6279,2,   -999.0,9,-999.0000,9,   -999.0,9,  -999.00,9,  -999.00,9,  -999.00,9,  -999.00,9,  -999.00,9, -999.000,9, -999.000,9,  -999.00,9,   -999.0,9,   -999.0,9,-999.0000,9,   -999.0,  9,  -999.00,9,   -999.0,  -999.00,9,  -999.00,9,  -999.00,9,  -999.00,9,   -999.0,-999.0000, -999,9,    5,  29.8118,  21.5113,   -999.0,9
       KS05-06,  NONE,KS-1380,  1,     19,02-19378,9,20050802,0317, 16.9977, 149.3378, 5448,      4.7,  29.8164,  34.6282,2,   -999.0,9,-999.0000,9,   -999.0,9,  -999.00,9,  -999.00,9,  -999.00,9,  -999.00,9,  -999.00,9, -999.000,9, -999.000,9,  -999.00,9,   -999.0,9,   -999.0,9,-999.0000,9,   -999.0,  9,  -999.00,9,   -999.0,  -999.00,9,  -999.00,9,  -999.00,9,  -999.00,9,   -999.0,-999.0000, -999,9,    5,  29.8153,  21.5104,   -999.0,9
       KS05-06,  NONE,KS-1380,  1,     18,02-19377,9,20050802,0317, 16.9977, 149.3378, 5448,      5.0,  29.8210,  34.6284,2,   -999.0,9,-999.0000,9,   -999.0,9,  -999.00,9,  -999.00,9,  -999.00,9,  -999.00,9,  -999.00,9, -999.000,9, -999.000,9,  -999.00,9,   -999.0,9,   -999.0,9,-999.0000,9,   -999.0,  9,  -999.00,9,   -999.0,  -999.00,9,  -999.00,9,  -999.00,9,  -999.00,9,   -999.0,-999.0000, -999,9,    5,  29.8198,  21.5090,   -999.0,9
       KS05-06,  NONE,KS-1380,  1,     17,02-16023,9,20050802,0317, 16.9977, 149.3378, 5448,      5.1,  29.8269,  34.6288,2,   -999.0,9,-999.0000,9,   -999.0,9,  -999.00,9,  -999.00,9,  -999.00,9,  -999.00,9,  -999.00,9, -999.000,9, -999.000,9,  -999.00,9,   -999.0,9,   -999.0,9,-999.0000,9,   -999.0,  9,  -999.00,9,   -999.0,  -999.00,9,  -999.00,9,  -999.00,9,  -999.00,9,   -999.0,-999.0000, -999,9,    5,  29.8257,  21.5073,   -999.0,9
       KS05-06,  NONE,KS-1380,  1,     16,02-16022,9,20050802,0317, 16.9977, 149.3378, 5448,      5.0,  29.8329,  34.6291,2,   -999.0,9,-999.0000,9,   -999.0,9,  -999.00,9,  -999.00,9,  -999.00,9,  -999.00,9,  -999.00,9, -999.000,9, -999.000,9,  -999.00,9,   -999.0,9,   -999.0,9,-999.0000,9,   -999.0,  9,  -999.00,9,   -999.0,  -999.00,9,  -999.00,9,  -999.00,9,  -999.00,9,   -999.0,-999.0000, -999,9,    5,  29.8317,  21.5054,   -999.0,9
       KS05-06,  NONE,KS-1380,  1,     15,02-16021,2,20050802,0317, 16.9977, 149.3378, 5448,      5.6,  29.8062,  34.6273,2,   -999.0,9,  34.6323,4,   -999.0,9,  -999.00,9,  -999.00,9,  -999.00,9,  -999.00,9,  -999.00,9, -999.000,9, -999.000,9,  -999.00,9,   -999.0,9,   -999.0,9,-999.0000,9,   -999.0,  9,  -999.00,9,   -999.0,  -999.00,9,  -999.00,9,  -999.00,9,  -999.00,9,   -999.0,-999.0000, -999,9,    6,  29.8048,  21.5132,   -999.0,9
       KS05-06,  NONE,KS-1380,  1,     14,02-16020,2,20050802,0311, 16.9977, 149.3378, 5448,    100.2,  27.0602,  34.7973,2,   -999.0,9,  34.8011,2,   -999.0,9,  -999.00,9,  -999.00,9,  -999.00,9,  -999.00,9,  -999.00,9, -999.000,9, -999.000,9,  -999.00,9,   -999.0,9,   -999.0,9,-999.0000,9,   -999.0,  9,  -999.00,9,   -999.0,  -999.00,9,  -999.00,9,  -999.00,9,  -999.00,9,   -999.0,-999.0000, -999,9,  100,  27.0372,  22.5532,   -999.0,9
       KS05-06,  NONE,KS-1380,  1,     13,02-16019,2,20050802,0309, 16.9977, 149.3378, 5448,    200.3,  21.7618,  35.1125,2,   -999.0,9,  35.1146,2,   -999.0,9,  -999.00,9,  -999.00,9,  -999.00,9,  -999.00,9,  -999.00,9, -999.000,9, -999.000,9,  -999.00,9,   -999.0,9,   -999.0,9,-999.0000,9,   -999.0,  9,  -999.00,9,   -999.0,  -999.00,9,  -999.00,9,  -999.00,9,  -999.00,9,   -999.0,-999.0000, -999,9,  199,  21.7224,  24.3808,   -999.0,9
       KS05-06,  NONE,KS-1380,  1,     12,02-16018,2,20050802,0306, 16.9977, 149.3378, 5448,    301.7,  15.7863,  34.6359,2,   -999.0,9,  34.6384,2,   -999.0,9,  -999.00,9,  -999.00,9,  -999.00,9,  -999.00,9,  -999.00,9, -999.000,9, -999.000,9,  -999.00,9,   -999.0,9,   -999.0,9,-999.0000,9,   -999.0,  9,  -999.00,9,   -999.0,  -999.00,9,  -999.00,9,  -999.00,9,  -999.00,9,   -999.0,-999.0000, -999,9,  300,  15.7390,  25.5268,   -999.0,9
       KS05-06,  NONE,KS-1380,  1,     11,02-19376,2,20050802,0304, 16.9977, 149.3378, 5448,    402.2,  10.9773,  34.2686,2,   -999.0,9,  34.2703,2,   -999.0,9,  -999.00,9,  -999.00,9,  -999.00,9,  -999.00,9,  -999.00,9, -999.000,9, -999.000,9,  -999.00,9,   -999.0,9,   -999.0,9,-999.0000,9,   -999.0,  9,  -999.00,9,   -999.0,  -999.00,9,  -999.00,9,  -999.00,9,  -999.00,9,   -999.0,-999.0000, -999,9,  399,  10.9277,  26.2189,   -999.0,9
       KS05-06,  NONE,KS-1380,  1,     10,02-19375,2,20050802,0301, 16.9977, 149.3378, 5448,    502.3,   8.7250,  34.2308,2,   -999.0,9,  34.2321,2,   -999.0,9,  -999.00,9,  -999.00,9,  -999.00,9,  -999.00,9,  -999.00,9, -999.000,9, -999.000,9,  -999.00,9,   -999.0,9,   -999.0,9,-999.0000,9,   -999.0,  9,  -999.00,9,   -999.0,  -999.00,9,  -999.00,9,  -999.00,9,  -999.00,9,   -999.0,-999.0000, -999,9,  499,   8.6710,  26.5676,   -999.0,9
       KS05-06,  NONE,KS-1380,  1,      9,02-16015,2,20050802,0259, 16.9977, 149.3378, 5448,    604.2,   7.1021,  34.3041,2,   -999.0,9,  34.3023,2,   -999.0,9,  -999.00,9,  -999.00,9,  -999.00,9,  -999.00,9,  -999.00,9, -999.000,9, -999.000,9,  -999.00,9,   -999.0,9,   -999.0,9,-999.0000,9,   -999.0,  9,  -999.00,9,   -999.0,  -999.00,9,  -999.00,9,  -999.00,9,  -999.00,9,   -999.0,-999.0000, -999,9,  600,   7.0440,  26.8645,   -999.0,9
       KS05-06,  NONE,KS-1380,  1,      8,02-16014,2,20050802,0257, 16.9977, 149.3378, 5448,    704.5,   6.0512,  34.3772,2,   -999.0,9,  34.3811,2,   -999.0,9,  -999.00,9,  -999.00,9,  -999.00,9,  -999.00,9,  -999.00,9, -999.000,9, -999.000,9,  -999.00,9,   -999.0,9,   -999.0,9,-999.0000,9,   -999.0,  9,  -999.00,9,   -999.0,  -999.00,9,  -999.00,9,  -999.00,9,  -999.00,9,   -999.0,-999.0000, -999,9,  699,   5.9885,  27.0620,   -999.0,9
       KS05-06,  NONE,KS-1380,  1,      7,02-19374,2,20050802,0254, 16.9977, 149.3378, 5448,    805.9,   5.3498,  34.4489,2,   -999.0,9,  34.4485,2,   -999.0,9,  -999.00,9,  -999.00,9,  -999.00,9,  -999.00,9,  -999.00,9, -999.000,9, -999.000,9,  -999.00,9,   -999.0,9,   -999.0,9,-999.0000,9,   -999.0,  9,  -999.00,9,   -999.0,  -999.00,9,  -999.00,9,  -999.00,9,  -999.00,9,   -999.0,-999.0000, -999,9,  800,   5.2817,  27.2054,   -999.0,9
       KS05-06,  NONE,KS-1380,  1,      6,02-19373,3,20050802,0252, 16.9977, 149.3378, 5448,    906.1,   4.8449,  34.4952,2,   -999.0,9,  34.4926,2,   -999.0,9,  -999.00,9,  -999.00,9,  -999.00,9,  -999.00,9,  -999.00,9, -999.000,9, -999.000,9,  -999.00,9,   -999.0,9,   -999.0,9,-999.0000,9,   -999.0,  9,  -999.00,9,   -999.0,  -999.00,9,  -999.00,9,  -999.00,9,  -999.00,9,   -999.0,-999.0000, -999,9,  899,   4.7711,  27.3011,   -999.0,9
       KS05-06,  NONE,KS-1380,  1,      5,02-16011,2,20050802,0249, 16.9977, 149.3378, 5448,   1007.7,   4.4066,  34.5189,2,   -999.0,9,  34.5184,2,   -999.0,9,  -999.00,9,  -999.00,9,  -999.00,9,  -999.00,9,  -999.00,9, -999.000,9, -999.000,9,  -999.00,9,   -999.0,9,   -999.0,9,-999.0000,9,   -999.0,  9,  -999.00,9,   -999.0,  -999.00,9,  -999.00,9,  -999.00,9,  -999.00,9,   -999.0,-999.0000, -999,9,  999,   4.3271,  27.3689,   -999.0,9
       KS05-06,  NONE,KS-1380,  1,      4,02-16010,2,20050802,0244, 16.9977, 149.3378, 5448,   1261.9,   3.5356,  34.5556,2,   -999.0,9,  34.5549,2,   -999.0,9,  -999.00,9,  -999.00,9,  -999.00,9,  -999.00,9,  -999.00,9, -999.000,9, -999.000,9,  -999.00,9,   -999.0,9,   -999.0,9,-999.0000,9,   -999.0,  9,  -999.00,9,   -999.0,  -999.00,9,  -999.00,9,  -999.00,9,  -999.00,9,   -999.0,-999.0000, -999,9, 1251,   3.4420,  27.4887,   -999.0,9
       KS05-06,  NONE,KS-1380,  1,      3,02-16009,2,20050802,0239, 16.9977, 149.3378, 5448,   1514.7,   2.9648,  34.5818,2,   -999.0,9,  34.5808,2,   -999.0,9,  -999.00,9,  -999.00,9,  -999.00,9,  -999.00,9,  -999.00,9, -999.000,9, -999.000,9,  -999.00,9,   -999.0,9,   -999.0,9,-999.0000,9,   -999.0,  9,  -999.00,9,   -999.0,  -999.00,9,  -999.00,9,  -999.00,9,  -999.00,9,   -999.0,-999.0000, -999,9, 1500,   2.8561,  27.5643,   -999.0,9
       KS05-06,  NONE,KS-1380,  1,      2,02-16008,2,20050802,0233, 16.9977, 149.3378, 5448,   1767.8,   2.5415,  34.6009,2,   -999.0,9,  34.5993,2,   -999.0,9,  -999.00,9,  -999.00,9,  -999.00,9,  -999.00,9,  -999.00,9, -999.000,9, -999.000,9,  -999.00,9,   -999.0,9,   -999.0,9,-999.0000,9,   -999.0,  9,  -999.00,9,   -999.0,  -999.00,9,  -999.00,9,  -999.00,9,  -999.00,9,   -999.0,-999.0000, -999,9, 1750,   2.4169,  27.6179,   -999.0,9
       KS05-06,  NONE,KS-1380,  1,      1,02-16007,2,20050802,0227, 16.9977, 149.3378, 5448,   2019.1,   2.2353,  34.6201,2,   -999.0,9,  34.6189,2,   -999.0,9,  -999.00,9,  -999.00,9,  -999.00,9,  -999.00,9,  -999.00,9, -999.000,9, -999.000,9,  -999.00,9,   -999.0,9,   -999.0,9,-999.0000,9,   -999.0,  9,  -999.00,9,   -999.0,  -999.00,9,  -999.00,9,  -999.00,9,  -999.00,9,   -999.0,-999.0000, -999,9, 1997,   2.0937,  27.6599,   -999.0,9