BOTTLE,20130510GEMDJMAYT
EXPOCODE,SECT_ID,STNNBR,CASTNO,SAMPNO,BTLNBR,BTLNBR_FLAG_W,DATE,TIME,LATITUDE,LONGITUDE,DEPTH,CTDPRS,CTDTMP,CTDSAL,CTDSAL_FLAG_W,CTDOXY,CTDOXY_FLAG_W,SALNTY,SALNTY_FLAG_W,OXYGEN,OXYGEN_FLAG_W,SILCAT,SILCAT_FLAG_W,NITRAT,NITRAT_FLAG_W,NO2+NO3,NO2+NO3_FLAG_W,NITRIT,NITRIT_FLAG_W,PHSPHT,PHSPHT_FLAG_W,CFC-11,CFC-11_FLAG_W,CFC-12,CFC-12_FLAG_W,DELC13,DELC13_FLAG_W,TCARBN,TCARBN_FLAG_W,ALKALI,ALKALI_FLAG_W,PH,PH_FLAG_W,PH_TMP,PH_SCALE,PH_NBS,PH_NBS_FLAG_W,C13ERR,TOTALP,TOTALP_FLAG_W,AMMONI,AMMONI_FLAG_W,CHLORA,CHLORA_FLAG_W,PPHYTN,PPHYTN_FLAG_W,REVPRS,REVTMP,DEPTH_,DEPTH_FLAG,CTDDEP,THETA,SIGTHT,DOC,DOC_FLAG_W
,,,,,,,GMT,GMT,,,METER,DBAR,ITS-90,PSS-78,,UMOL/KG,,PSS-78,,UMOL/KG,,UMOL/KG,,UMOL/KG,,UMOL/KG,,UMOL/KG,,UMOL/KG,,PMOL/KG,,PMOL/KG,,/MILLE,,UMOL/KG,,UMOL/KG,,25_DEG_C,,DEG_C,,,,/MILLE,UMOL/KG,,UMOL/KG,,UG/L,,UG/L,,DBAR,ITS-90,METERS,,METERS,DEG_C,,UMOL/L,
       KS05-06,  NONE,KS-1395,  1,     24,02-16030,9,20050805,2107, 30.0148, 145.0015, 5924,      5.2,  27.9966,  34.5582,2,   -999.0,9,-999.0000,9,   -999.0,9,  -999.00,9,  -999.00,9,  -999.00,9,  -999.00,9,  -999.00,9, -999.000,9, -999.000,9,  -999.00,9,   -999.0,9,   -999.0,9,-999.0000,9,   -999.0,  9,  -999.00,9,   -999.0,  -999.00,9,  -999.00,9,  -999.00,9,  -999.00,9,   -999.0,-999.0000, -999,9,    5,  27.9954,  22.0640,   -999.0,9
       KS05-06,  NONE,KS-1395,  1,     23,02-19380,9,20050805,2107, 30.0148, 145.0015, 5924,      5.0,  27.9970,  34.5580,2,   -999.0,9,-999.0000,9,   -999.0,9,  -999.00,9,  -999.00,9,  -999.00,9,  -999.00,9,  -999.00,9, -999.000,9, -999.000,9,  -999.00,9,   -999.0,9,   -999.0,9,-999.0000,9,   -999.0,  9,  -999.00,9,   -999.0,  -999.00,9,  -999.00,9,  -999.00,9,  -999.00,9,   -999.0,-999.0000, -999,9,    5,  27.9958,  22.0637,   -999.0,9
       KS05-06,  NONE,KS-1395,  1,     22,02-19379,2,20050805,2107, 30.0148, 145.0015, 5924,      4.9,  27.9963,  34.5591,2,   -999.0,9,  34.5628,2,    202.0,2,     1.52,2,  -999.00,9,     0.00,2,     0.00,2,     0.02,2, -999.000,9, -999.000,9,  -999.00,9,   -999.0,9,   -999.0,9,-999.0000,9,   -999.0,  9,  -999.00,9,   -999.0,  -999.00,9,  -999.00,9,  -999.00,9,  -999.00,9,   -999.0,-999.0000, -999,9,    5,  27.9951,  22.0647,   -999.0,9
       KS05-06,  NONE,KS-1395,  1,     21,02-16027,2,20050805,2106, 30.0148, 145.0015, 5924,      9.9,  27.8268,  34.5547,2,   -999.0,9,-999.0000,9,    203.0,2,     1.49,2,  -999.00,9,     0.00,2,     0.00,2,     0.01,2, -999.000,9, -999.000,9,  -999.00,9,   -999.0,9,   -999.0,9,-999.0000,9,   -999.0,  9,  -999.00,9,   -999.0,  -999.00,9,  -999.00,9,  -999.00,9,  -999.00,9,   -999.0,-999.0000, -999,9,   10,  27.8245,  22.1170,   -999.0,9
       KS05-06,  NONE,KS-1395,  1,     20,02-16026,2,20050805,2104, 30.0148, 145.0015, 5924,     24.5,  27.0248,  34.5431,2,   -999.0,9,-999.0000,9,    208.0,2,     1.73,2,  -999.00,9,     0.00,2,     0.00,2,     0.02,2, -999.000,9, -999.000,9,  -999.00,9,   -999.0,9,   -999.0,9,-999.0000,9,   -999.0,  9,  -999.00,9,   -999.0,  -999.00,9,  -999.00,9,  -999.00,9,  -999.00,9,   -999.0,-999.0000, -999,9,   24,  27.0192,  22.3675,   -999.0,9
       KS05-06,  NONE,KS-1395,  1,     19,02-19378,2,20050805,2101, 30.0148, 145.0015, 5924,     51.1,  22.0971,  34.7375,2,   -999.0,9,-999.0000,9,    236.0,2,     1.70,2,  -999.00,9,     0.00,2,     0.00,2,     0.02,2, -999.000,9, -999.000,9,  -999.00,9,   -999.0,9,   -999.0,9,-999.0000,9,   -999.0,  9,  -999.00,9,   -999.0,  -999.00,9,  -999.00,9,  -999.00,9,  -999.00,9,   -999.0,-999.0000, -999,9,   51,  22.0870,  23.9940,   -999.0,9
       KS05-06,  NONE,KS-1395,  1,     18,02-19377,2,20050805,2100, 30.0148, 145.0015, 5924,     75.9,  19.5281,  34.8299,2,   -999.0,9,-999.0000,9,    237.0,2,     1.88,2,  -999.00,9,     0.00,2,     0.00,2,     0.04,2, -999.000,9, -999.000,9,  -999.00,9,   -999.0,9,   -999.0,9,-999.0000,9,   -999.0,  9,  -999.00,9,   -999.0,  -999.00,9,  -999.00,9,  -999.00,9,  -999.00,9,   -999.0,-999.0000, -999,9,   75,  19.5144,  24.7589,   -999.0,9
       KS05-06,  NONE,KS-1395,  1,     17,02-16023,2,20050805,2059, 30.0148, 145.0015, 5924,     99.4,  18.5497,  34.8318,2,   -999.0,9,  34.8344,2,    232.0,2,     2.07,2,  -999.00,9,     0.10,2,     0.01,2,     0.06,2, -999.000,9, -999.000,9,  -999.00,9,   -999.0,9,   -999.0,9,-999.0000,9,   -999.0,  9,  -999.00,9,   -999.0,  -999.00,9,  -999.00,9,  -999.00,9,  -999.00,9,   -999.0,-999.0000, -999,9,   99,  18.5323,  25.0109,   -999.0,9
       KS05-06,  NONE,KS-1395,  1,     16,02-16022,2,20050805,2058, 30.0148, 145.0015, 5924,    123.9,  18.0527,  34.8221,2,   -999.0,9,-999.0000,9,    219.0,2,     2.73,2,  -999.00,9,     2.34,2,     0.07,2,     0.18,2, -999.000,9, -999.000,9,  -999.00,9,   -999.0,9,   -999.0,9,-999.0000,9,   -999.0,  9,  -999.00,9,   -999.0,  -999.00,9,  -999.00,9,  -999.00,9,  -999.00,9,   -999.0,-999.0000, -999,9,  123,  18.0314,  25.1281,   -999.0,9
       KS05-06,  NONE,KS-1395,  1,     15,02-16021,2,20050805,2057, 30.0148, 145.0015, 5924,    151.9,  17.6609,  34.8134,2,   -999.0,9,-999.0000,9,    215.0,2,     3.18,2,  -999.00,9,     3.41,2,     0.02,2,     0.22,2, -999.000,9, -999.000,9,  -999.00,9,   -999.0,9,   -999.0,9,-999.0000,9,   -999.0,  9,  -999.00,9,   -999.0,  -999.00,9,  -999.00,9,  -999.00,9,  -999.00,9,   -999.0,-999.0000, -999,9,  151,  17.6352,  25.2184,   -999.0,9
       KS05-06,  NONE,KS-1395,  1,     14,02-16020,2,20050805,2055, 30.0148, 145.0015, 5924,    199.5,  17.3214,  34.7996,2,   -999.0,9,  34.8005,2,    215.0,2,     3.53,2,  -999.00,9,     4.00,2,     0.01,2,     0.26,2, -999.000,9, -999.000,9,  -999.00,9,   -999.0,9,   -999.0,9,-999.0000,9,   -999.0,  9,  -999.00,9,   -999.0,  -999.00,9,  -999.00,9,  -999.00,9,  -999.00,9,   -999.0,-999.0000, -999,9,  198,  17.2881,  25.2916,   -999.0,9
       KS05-06,  NONE,KS-1395,  1,     13,02-16019,2,20050805,2054, 30.0148, 145.0015, 5924,    253.4,  17.0088,  34.7730,2,   -999.0,9,-999.0000,9,    209.0,2,     4.30,2,  -999.00,9,     5.07,2,     0.00,2,     0.32,2, -999.000,9, -999.000,9,  -999.00,9,   -999.0,9,   -999.0,9,-999.0000,9,   -999.0,  9,  -999.00,9,   -999.0,  -999.00,9,  -999.00,9,  -999.00,9,  -999.00,9,   -999.0,-999.0000, -999,9,  252,  16.9670,  25.3478,   -999.0,9
       KS05-06,  NONE,KS-1395,  1,     12,02-16018,2,20050805,2052, 30.0148, 145.0015, 5924,    299.6,  16.3548,  34.7102,2,   -999.0,9,  34.7119,2,    202.0,2,     6.29,2,  -999.00,9,     6.73,2,     0.00,2,     0.44,2, -999.000,9, -999.000,9,  -999.00,9,   -999.0,9,   -999.0,9,-999.0000,9,   -999.0,  9,  -999.00,9,   -999.0,  -999.00,9,  -999.00,9,  -999.00,9,  -999.00,9,   -999.0,-999.0000, -999,9,  297,  16.3066,  25.4542,   -999.0,9
       KS05-06,  NONE,KS-1395,  1,     11,02-19376,2,20050805,2050, 30.0148, 145.0015, 5924,    402.6,  14.3205,  34.5508,2,   -999.0,9,  34.5514,2,    184.0,2,    14.07,2,  -999.00,9,    11.89,2,     0.00,2,     0.80,2, -999.000,9, -999.000,9,  -999.00,9,   -999.0,9,   -999.0,9,-999.0000,9,   -999.0,  9,  -999.00,9,   -999.0,  -999.00,9,  -999.00,9,  -999.00,9,  -999.00,9,   -999.0,-999.0000, -999,9,  399,  14.2613,  25.7848,   -999.0,9
       KS05-06,  NONE,KS-1395,  1,     10,02-19375,2,20050805,2048, 30.0148, 145.0015, 5924,    504.5,  11.6130,  34.3596,2,   -999.0,9,  34.3582,2,    176.0,2,    23.96,2,  -999.00,9,    17.15,2,     0.00,2,     1.18,2, -999.000,9, -999.000,9,  -999.00,9,   -999.0,9,   -999.0,9,-999.0000,9,   -999.0,  9,  -999.00,9,   -999.0,  -999.00,9,  -999.00,9,  -999.00,9,  -999.00,9,   -999.0,-999.0000, -999,9,  500,  11.5482,  26.1766,   -999.0,9
       KS05-06,  NONE,KS-1395,  1,      9,02-16015,2,20050805,2046, 30.0148, 145.0015, 5924,    606.6,   8.5421,  34.1491,2,   -999.0,9,  34.1485,2,    163.0,2,    41.23,2,  -999.00,9,    23.38,2,     0.00,2,     1.67,2, -999.000,9, -999.000,9,  -999.00,9,   -999.0,9,   -999.0,9,-999.0000,9,   -999.0,  9,  -999.00,9,   -999.0,  -999.00,9,  -999.00,9,  -999.00,9,  -999.00,9,   -999.0,-999.0000, -999,9,  602,   8.4774,  26.5335,   -999.0,9
       KS05-06,  NONE,KS-1395,  1,      8,02-16014,2,20050805,2043, 30.0148, 145.0015, 5924,    704.5,   6.1329,  34.0172,2,   -999.0,9,  34.0184,2,    143.0,2,    60.39,2,  -999.00,9,    29.80,2,     0.00,2,     2.15,2, -999.000,9, -999.000,9,  -999.00,9,   -999.0,9,   -999.0,9,-999.0000,9,   -999.0,  9,  -999.00,9,   -999.0,  -999.00,9,  -999.00,9,  -999.00,9,  -999.00,9,   -999.0,-999.0000, -999,9,  698,   6.0702,  26.7672,   -999.0,9
       KS05-06,  NONE,KS-1395,  1,      7,02-19374,2,20050805,2041, 30.0148, 145.0015, 5924,    807.1,   4.8959,  34.0726,2,   -999.0,9,  34.0727,2,     98.0,2,    84.01,2,  -999.00,9,    35.74,2,     0.00,2,     2.58,2, -999.000,9, -999.000,9,  -999.00,9,   -999.0,9,   -999.0,9,-999.0000,9,   -999.0,  9,  -999.00,9,   -999.0,  -999.00,9,  -999.00,9,  -999.00,9,  -999.00,9,   -999.0,-999.0000, -999,9,  800,   4.8310,  26.9592,   -999.0,9
       KS05-06,  NONE,KS-1395,  1,      6,02-19373,2,20050805,2039, 30.0148, 145.0015, 5924,    907.2,   4.2461,  34.1526,2,   -999.0,9,  34.1521,2,     67.0,2,   101.77,2,  -999.00,9,    39.24,2,     0.00,2,     2.82,2, -999.000,9, -999.000,9,  -999.00,9,   -999.0,9,   -999.0,9,-999.0000,9,   -999.0,  9,  -999.00,9,   -999.0,  -999.00,9,  -999.00,9,  -999.00,9,  -999.00,9,   -999.0,-999.0000, -999,9,  899,   4.1769,  27.0937,   -999.0,9
       KS05-06,  NONE,KS-1395,  1,      5,02-16011,2,20050805,2036, 30.0148, 145.0015, 5924,   1007.0,   3.8279,  34.2549,2,   -999.0,9,  34.2538,2,     51.0,2,   115.83,2,  -999.00,9,    40.89,2,     0.00,2,     2.94,2, -999.000,9, -999.000,9,  -999.00,9,   -999.0,9,   -999.0,9,-999.0000,9,   -999.0,  9,  -999.00,9,   -999.0,  -999.00,9,  -999.00,9,  -999.00,9,  -999.00,9,   -999.0,-999.0000, -999,9,  998,   3.7534,  27.2185,   -999.0,9
       KS05-06,  NONE,KS-1395,  1,      4,02-16010,2,20050805,2031, 30.0148, 145.0015, 5924,   1261.6,   3.0481,  34.4032,2,   -999.0,9,  34.4014,2,     43.0,2,   137.68,2,  -999.00,9,    42.53,2,     0.00,2,     3.05,2, -999.000,9, -999.000,9,  -999.00,9,   -999.0,9,   -999.0,9,-999.0000,9,   -999.0,  9,  -999.00,9,   -999.0,  -999.00,9,  -999.00,9,  -999.00,9,  -999.00,9,   -999.0,-999.0000, -999,9, 1249,   2.9596,  27.4123,   -999.0,9
       KS05-06,  NONE,KS-1395,  1,      3,02-16009,2,20050805,2026, 30.0148, 145.0015, 5924,   1514.9,   2.5610,  34.4958,2,   -999.0,9,  34.4936,2,     44.0,2,   150.98,2,  -999.00,9,    42.92,2,     0.00,2,     3.07,2, -999.000,9, -999.000,9,  -999.00,9,   -999.0,9,   -999.0,9,-999.0000,9,   -999.0,  9,  -999.00,9,   -999.0,  -999.00,9,  -999.00,9,  -999.00,9,  -999.00,9,   -999.0,-999.0000, -999,9, 1499,   2.4572,  27.5303,   -999.0,9
       KS05-06,  NONE,KS-1395,  1,      2,02-16008,2,20050805,2020, 30.0148, 145.0015, 5924,   1766.8,   2.2357,  34.5494,2,   -999.0,9,  34.5484,2,     56.0,2,   158.20,2,  -999.00,9,    42.33,2,     0.00,2,     3.01,2, -999.000,9, -999.000,9,  -999.00,9,   -999.0,9,   -999.0,9,-999.0000,9,   -999.0,  9,  -999.00,9,   -999.0,  -999.00,9,  -999.00,9,  -999.00,9,  -999.00,9,   -999.0,-999.0000, -999,9, 1747,   2.1155,  27.6014,   -999.0,9
       KS05-06,  NONE,KS-1395,  1,      1,02-16007,2,20050805,2015, 30.0148, 145.0015, 5924,   2023.8,   1.9799,  34.5934,2,   -999.0,9,  34.5922,2,     76.0,2,   159.22,2,  -999.00,9,    41.36,2,     0.00,2,     2.92,2, -999.000,9, -999.000,9,  -999.00,9,   -999.0,9,   -999.0,9,-999.0000,9,   -999.0,  9,  -999.00,9,   -999.0,  -999.00,9,  -999.00,9,  -999.00,9,  -999.00,9,   -999.0,-999.0000, -999,9, 2000,   1.8419,  27.6582,   -999.0,9