BOTTLE,20130510GEMDJMAYT
EXPOCODE,SECT_ID,STNNBR,CASTNO,SAMPNO,BTLNBR,BTLNBR_FLAG_W,DATE,TIME,LATITUDE,LONGITUDE,DEPTH,CTDPRS,CTDTMP,CTDSAL,CTDSAL_FLAG_W,CTDOXY,CTDOXY_FLAG_W,SALNTY,SALNTY_FLAG_W,OXYGEN,OXYGEN_FLAG_W,SILCAT,SILCAT_FLAG_W,NITRAT,NITRAT_FLAG_W,NO2+NO3,NO2+NO3_FLAG_W,NITRIT,NITRIT_FLAG_W,PHSPHT,PHSPHT_FLAG_W,CFC-11,CFC-11_FLAG_W,CFC-12,CFC-12_FLAG_W,DELC13,DELC13_FLAG_W,TCARBN,TCARBN_FLAG_W,ALKALI,ALKALI_FLAG_W,PH,PH_FLAG_W,PH_TMP,PH_SCALE,PH_NBS,PH_NBS_FLAG_W,C13ERR,TOTALP,TOTALP_FLAG_W,AMMONI,AMMONI_FLAG_W,CHLORA,CHLORA_FLAG_W,PPHYTN,PPHYTN_FLAG_W,REVPRS,REVTMP,DEPTH_,DEPTH_FLAG,CTDDEP,THETA,SIGTHT,DOC,DOC_FLAG_W
,,,,,,,GMT,GMT,,,METER,DBAR,ITS-90,PSS-78,,UMOL/KG,,PSS-78,,UMOL/KG,,UMOL/KG,,UMOL/KG,,UMOL/KG,,UMOL/KG,,UMOL/KG,,PMOL/KG,,PMOL/KG,,/MILLE,,UMOL/KG,,UMOL/KG,,25_DEG_C,,DEG_C,,,,/MILLE,UMOL/KG,,UMOL/KG,,UG/L,,UG/L,,DBAR,ITS-90,METERS,,METERS,DEG_C,,UMOL/L,
       KS05-06,  165E,KS-1352,  1,     24,02-16030,2,20050712,0429, -4.9978, 165.0028, 2360,      4.1,  29.7483,  34.3772,2,   -999.0,9,  34.3810,2,    196.0,2,     0.91,2,  -999.00,9,     0.00,2,     0.00,2,     0.04,2, -999.000,9, -999.000,9,  -999.00,9,   1899.2,3,   -999.0,9,-999.0000,9,   -999.0,  9,     8.24,2,   -999.0,  -999.00,9,  -999.00,9,     0.05,2,     0.03,2,   -999.0,-999.0000, -999,9,    4,  29.7473,  21.3453,   -999.0,9
       KS05-06,  165E,KS-1352,  1,     23,02-19380,2,20050712,0428, -4.9978, 165.0028, 2360,      9.3,  29.6892,  34.4108,2,   -999.0,9,-999.0000,9,    195.0,2,     0.89,2,  -999.00,9,     0.00,2,     0.00,2,     0.04,2, -999.000,9, -999.000,9,  -999.00,9,   -999.0,9,   -999.0,9,-999.0000,9,   -999.0,  9,     8.24,2,   -999.0,  -999.00,9,  -999.00,9,     0.05,2,     0.04,2,   -999.0,-999.0000, -999,9,    9,  29.6869,  21.3909,   -999.0,9
       KS05-06,  165E,KS-1352,  1,     22,02-19379,2,20050712,0427, -4.9978, 165.0028, 2360,     24.1,  29.7215,  34.5469,2,   -999.0,9,-999.0000,9,    196.0,2,     0.92,2,  -999.00,9,     0.00,2,     0.00,2,     0.06,2, -999.000,9, -999.000,9,  -999.00,9,   -999.0,9,   -999.0,9,-999.0000,9,   -999.0,  9,     8.24,2,   -999.0,  -999.00,9,  -999.00,9,     0.06,2,     0.05,2,   -999.0,-999.0000, -999,9,   24,  29.7156,  21.4832,   -999.0,9
       KS05-06,  165E,KS-1352,  1,     21,02-16027,2,20050712,0424, -4.9978, 165.0028, 2360,     49.6,  29.5071,  34.7819,2,   -999.0,9,-999.0000,9,    194.0,2,     0.95,2,  -999.00,9,     0.00,2,     0.00,2,     0.07,2, -999.000,9, -999.000,9,  -999.00,9,   -999.0,9,   -999.0,9,-999.0000,9,   -999.0,  9,     8.23,2,   -999.0,  -999.00,9,  -999.00,9,     0.15,2,     0.15,2,   -999.0,-999.0000, -999,9,   49,  29.4950,  21.7341,   -999.0,9
       KS05-06,  165E,KS-1352,  1,     20,02-16026,2,20050712,0422, -4.9978, 165.0028, 2360,     75.0,  29.3023,  35.1129,2,   -999.0,9,-999.0000,9,    186.0,2,     1.09,2,  -999.00,9,     0.20,2,     0.06,2,     0.16,2, -999.000,9, -999.000,9,  -999.00,9,   -999.0,9,   -999.0,9,-999.0000,9,   -999.0,  9,     8.20,2,   -999.0,  -999.00,9,  -999.00,9,     0.24,2,     0.49,2,   -999.0,-999.0000, -999,9,   75,  29.2840,  22.0536,   -999.0,9
       KS05-06,  165E,KS-1352,  1,     19,02-19378,2,20050712,0421, -4.9978, 165.0028, 2360,     99.9,  28.8736,  35.2977,2,   -999.0,9,  35.2958,2,    177.0,2,     1.27,2,  -999.00,9,     2.54,2,     0.43,2,     0.29,2, -999.000,9, -999.000,9,  -999.00,9,   -999.0,9,   -999.0,9,-999.0000,9,   -999.0,  9,     8.17,2,   -999.0,  -999.00,9,  -999.00,9,     0.18,2,     0.64,2,   -999.0,-999.0000, -999,9,   99,  28.8495,  22.3379,   -999.0,9
       KS05-06,  165E,KS-1352,  1,     18,02-19377,2,20050712,0420, -4.9978, 165.0028, 2360,    125.1,  27.6979,  35.4430,2,   -999.0,9,-999.0000,9,    153.0,2,     1.94,2,  -999.00,9,     6.16,2,     0.10,2,     0.49,2, -999.000,9, -999.000,9,  -999.00,9,   -999.0,9,   -999.0,9,-999.0000,9,   -999.0,  9,     8.12,2,   -999.0,  -999.00,9,  -999.00,9,     0.10,2,     0.39,2,   -999.0,-999.0000, -999,9,  124,  27.6686,  22.8359,   -999.0,9
       KS05-06,  165E,KS-1352,  1,     17,02-16023,2,20050712,0419, -4.9978, 165.0028, 2360,    150.5,  26.1734,  35.7365,2,   -999.0,9,-999.0000,9,    133.0,2,     2.13,2,  -999.00,9,     8.01,2,     0.03,2,     0.63,2, -999.000,9, -999.000,9,  -999.00,9,   -999.0,9,   -999.0,9,-999.0000,9,   -999.0,  9,     8.08,2,   -999.0,  -999.00,9,  -999.00,9,     0.05,2,     0.16,2,   -999.0,-999.0000, -999,9,  150,  26.1396,  23.5454,   -999.0,9
       KS05-06,  165E,KS-1352,  1,     16,02-16022,2,20050712,0417, -4.9978, 165.0028, 2360,    200.2,  20.4293,  35.7800,2,   -999.0,9,  35.8052,4,    121.0,2,     4.21,2,  -999.00,9,    11.90,2,     0.00,2,     0.96,2, -999.000,9, -999.000,9,  -999.00,9,   -999.0,9,   -999.0,9,-999.0000,9,   -999.0,  9,     7.98,2,   -999.0,  -999.00,9,  -999.00,9,     0.01,2,     0.02,2,   -999.0,-999.0000, -999,9,  199,  20.3915,  25.2526,   -999.0,9
       KS05-06,  165E,KS-1352,  1,     15,02-16021,2,20050712,0415, -4.9978, 165.0028, 2360,    251.2,  14.2579,  35.1139,2,   -999.0,9,-999.0000,9,     83.0,2,    13.96,2,  -999.00,9,    22.80,2,     0.00,2,     1.68,2, -999.000,9, -999.000,9,  -999.00,9,   -999.0,9,   -999.0,9,-999.0000,9,   -999.0,  9,     7.78,2,   -999.0,  -999.00,9,  -999.00,9,     0.00,2,     0.01,2,   -999.0,-999.0000, -999,9,  250,  14.2210,  26.2284,   -999.0,9
       KS05-06,  165E,KS-1352,  1,     14,02-16020,2,20050712,0414, -4.9978, 165.0028, 2360,    300.9,  11.3238,  34.8559,2,   -999.0,9,  34.8609,2,    110.0,2,    17.72,2,  -999.00,9,    24.94,2,     0.00,2,     1.75,2, -999.000,9, -999.000,9,  -999.00,9,   -999.0,9,   -999.0,9,-999.0000,9,   -999.0,  9,     7.76,2,   -999.0,  -999.00,9,  -999.00,9,     0.00,2,     0.01,2,   -999.0,-999.0000, -999,9,  299,  11.2859,  26.6111,   -999.0,9
       KS05-06,  165E,KS-1352,  1,     13,02-16019,2,20050712,0411, -4.9978, 165.0028, 2360,    401.6,   9.3199,  34.6916,2,   -999.0,9,  34.6857,4,    129.0,2,    22.87,2,  -999.00,9,    27.56,2,     0.00,2,     1.90,2, -999.000,9, -999.000,9,  -999.00,9,   -999.0,9,   -999.0,9,-999.0000,9,   -999.0,  9,     7.74,2,   -999.0,  -999.00,9,  -999.00,9,  -999.00,9,  -999.00,9,   -999.0,-999.0000, -999,9,  399,   9.2750,  26.8322,   -999.0,9
       KS05-06,  165E,KS-1352,  1,     12,02-16018,2,20050712,0408, -4.9978, 165.0028, 2360,    502.9,   8.1697,  34.6186,2,   -999.0,9,  34.6170,2,    112.0,2,    30.12,2,  -999.00,9,    31.35,2,     0.00,2,     2.18,2, -999.000,9, -999.000,9,  -999.00,9,   -999.0,9,   -999.0,9,-999.0000,9,   -999.0,  9,     7.68,2,   -999.0,  -999.00,9,  -999.00,9,  -999.00,9,  -999.00,9,   -999.0,-999.0000, -999,9,  500,   8.1174,  26.9567,   -999.0,9
       KS05-06,  165E,KS-1352,  1,     11,02-19376,2,20050712,0406, -4.9978, 165.0028, 2360,    603.2,   6.9768,  34.5469,2,   -999.0,9,  34.5466,2,    135.0,3,    35.04,2,  -999.00,9,    31.64,2,     0.00,2,     2.19,2, -999.000,9, -999.000,9,  -999.00,9,   -999.0,9,   -999.0,9,-999.0000,9,   -999.0,  9,     7.70,2,   -999.0,  -999.00,9,  -999.00,9,  -999.00,9,  -999.00,9,   -999.0,-999.0000, -999,9,  599,   6.9192,  27.0730,   -999.0,9
       KS05-06,  165E,KS-1352,  1,     10,02-19375,2,20050712,0403, -4.9978, 165.0028, 2360,    704.6,   6.2983,  34.5312,2,   -999.0,9,  34.5300,2,    125.0,2,    44.62,2,  -999.00,9,    33.98,2,     0.00,2,     2.39,2, -999.000,9, -999.000,9,  -999.00,9,   -999.0,9,   -999.0,9,-999.0000,9,   -999.0,  9,     7.66,2,   -999.0,  -999.00,9,  -999.00,9,  -999.00,9,  -999.00,9,   -999.0,-999.0000, -999,9,  699,   6.2341,  27.1521,   -999.0,9
       KS05-06,  165E,KS-1352,  1,      9,02-16015,2,20050712,0401, -4.9978, 165.0028, 2360,    805.9,   5.5998,  34.5108,2,   -999.0,9,  34.5113,2,    141.0,3,    49.70,2,  -999.00,9,    33.29,2,     0.00,2,     2.34,2, -999.000,9, -999.000,9,  -999.00,9,   -999.0,9,   -999.0,9,-999.0000,9,   -999.0,  9,     7.68,2,   -999.0,  -999.00,9,  -999.00,9,  -999.00,9,  -999.00,9,   -999.0,-999.0000, -999,9,  800,   5.5301,  27.2246,   -999.0,9
       KS05-06,  165E,KS-1352,  1,      8,02-16014,2,20050712,0358, -4.9978, 165.0028, 2360,    905.9,   5.0867,  34.5281,2,   -999.0,9,  34.5290,2,    116.0,2,    64.34,2,  -999.00,9,    36.41,2,     0.00,2,     2.59,2, -999.000,9, -999.000,9,  -999.00,9,   -999.0,9,   -999.0,9,-999.0000,9,   -999.0,  9,     7.64,2,   -999.0,  -999.00,9,  -999.00,9,  -999.00,9,  -999.00,9,   -999.0,-999.0000, -999,9,  899,   5.0112,  27.2998,   -999.0,9
       KS05-06,  165E,KS-1352,  1,      7,02-19374,2,20050712,0355, -4.9978, 165.0028, 2360,   1007.7,   4.6421,  34.5332,2,   -999.0,9,  34.5335,2,    112.0,2,    71.89,2,  -999.00,9,    37.47,2,     0.00,2,     2.69,2, -999.000,9, -999.000,9,  -999.00,9,   -999.0,9,   -999.0,9,-999.0000,9,   -999.0,  9,     7.63,2,   -999.0,  -999.00,9,  -999.00,9,  -999.00,9,  -999.00,9,   -999.0,-999.0000, -999,9, 1000,   4.5608,  27.3548,   -999.0,9
       KS05-06,  165E,KS-1352,  1,      6,02-19373,2,20050712,0350, -4.9978, 165.0028, 2360,   1260.7,   3.5328,  34.5728,2,   -999.0,9,  34.5718,2,    107.0,2,    98.87,2,  -999.00,9,    38.54,2,     0.00,2,     2.79,2, -999.000,9, -999.000,9,  -999.00,9,   -999.0,9,   -999.0,9,-999.0000,9,   -999.0,  9,     7.61,2,   -999.0,  -999.00,9,  -999.00,9,  -999.00,9,  -999.00,9,   -999.0,-999.0000, -999,9, 1250,   3.4393,  27.5027,   -999.0,9
       KS05-06,  165E,KS-1352,  1,      5,02-16011,2,20050712,0344, -4.9978, 165.0028, 2360,   1513.4,   2.8661,  34.6034,2,   -999.0,9,  34.6040,2,    115.0,2,   114.52,2,  -999.00,9,    38.24,2,     0.00,2,     2.76,2, -999.000,9, -999.000,9,  -999.00,9,   -999.0,9,   -999.0,9,-999.0000,9,   -999.0,  9,     7.62,2,   -999.0,  -999.00,9,  -999.00,9,  -999.00,9,  -999.00,9,   -999.0,-999.0000, -999,9, 1500,   2.7586,  27.5903,   -999.0,9
       KS05-06,  165E,KS-1352,  1,      4,02-16010,2,20050712,0339, -4.9978, 165.0028, 2360,   1766.3,   2.4417,  34.6265,2,   -999.0,9,  34.6254,2,    121.0,2,   125.12,2,  -999.00,9,    38.24,2,     0.00,2,     2.74,2, -999.000,9, -999.000,9,  -999.00,9,   -999.0,9,   -999.0,9,-999.0000,9,   -999.0,  9,     7.63,2,   -999.0,  -999.00,9,  -999.00,9,  -999.00,9,  -999.00,9,   -999.0,-999.0000, -999,9, 1749,   2.3185,  27.6465,   -999.0,9
       KS05-06,  165E,KS-1352,  1,      3,02-16009,2,20050712,0333, -4.9978, 165.0028, 2360,   2020.5,   2.1569,  34.6428,2,   -999.0,9,  34.6433,2,    127.0,2,   131.66,2,  -999.00,9,    37.75,2,     0.00,2,     2.71,2, -999.000,9, -999.000,9,  -999.00,9,   -999.0,9,   -999.0,9,-999.0000,9,   -999.0,  9,     7.64,2,   -999.0,  -999.00,9,  -999.00,9,  -999.00,9,  -999.00,9,   -999.0,-999.0000, -999,9, 2000,   2.0163,  27.6842,   -999.0,9
       KS05-06,  165E,KS-1352,  1,      2,02-16008,9,20050712,0327, -4.9978, 165.0028, 2360,   2305.3,   1.9456,  34.6550,2,   -999.0,9,-999.0000,9,   -999.0,9,  -999.00,9,  -999.00,9,  -999.00,9,  -999.00,9,  -999.00,9, -999.000,9, -999.000,9,  -999.00,9,   -999.0,9,   -999.0,9,-999.0000,9,   -999.0,  9,  -999.00,9,   -999.0,  -999.00,9,  -999.00,9,  -999.00,9,  -999.00,9,   -999.0,-999.0000, -999,9, 2280,   1.7837,  27.7121,   -999.0,9
       KS05-06,  165E,KS-1352,  1,      1,02-16007,2,20050712,0327, -4.9978, 165.0028, 2360,   2305.2,   1.9461,  34.6549,2,   -999.0,9,  34.6555,2,    131.0,2,   136.54,2,  -999.00,9,    37.66,2,     0.00,2,     2.70,2, -999.000,9, -999.000,9,  -999.00,9,   -999.0,9,   -999.0,9,-999.0000,9,   -999.0,  9,     7.65,2,   -999.0,  -999.00,9,  -999.00,9,  -999.00,9,  -999.00,9,   -999.0,-999.0000, -999,9, 2280,   1.7842,  27.7120,   -999.0,9