BOTTLE,20130510GEMDJMAYT
EXPOCODE,SECT_ID,STNNBR,CASTNO,SAMPNO,BTLNBR,BTLNBR_FLAG_W,DATE,TIME,LATITUDE,LONGITUDE,DEPTH,CTDPRS,CTDTMP,CTDSAL,CTDSAL_FLAG_W,CTDOXY,CTDOXY_FLAG_W,SALNTY,SALNTY_FLAG_W,OXYGEN,OXYGEN_FLAG_W,SILCAT,SILCAT_FLAG_W,NITRAT,NITRAT_FLAG_W,NO2+NO3,NO2+NO3_FLAG_W,NITRIT,NITRIT_FLAG_W,PHSPHT,PHSPHT_FLAG_W,CFC-11,CFC-11_FLAG_W,CFC-12,CFC-12_FLAG_W,DELC13,DELC13_FLAG_W,TCARBN,TCARBN_FLAG_W,ALKALI,ALKALI_FLAG_W,PH,PH_FLAG_W,PH_TMP,PH_SCALE,PH_NBS,PH_NBS_FLAG_W,C13ERR,TOTALP,TOTALP_FLAG_W,AMMONI,AMMONI_FLAG_W,CHLORA,CHLORA_FLAG_W,PPHYTN,PPHYTN_FLAG_W,REVPRS,REVTMP,DEPTH_,DEPTH_FLAG,CTDDEP,THETA,SIGTHT,DOC,DOC_FLAG_W
,,,,,,,GMT,GMT,,,METER,DBAR,ITS-90,PSS-78,,UMOL/KG,,PSS-78,,UMOL/KG,,UMOL/KG,,UMOL/KG,,UMOL/KG,,UMOL/KG,,UMOL/KG,,PMOL/KG,,PMOL/KG,,/MILLE,,UMOL/KG,,UMOL/KG,,25_DEG_C,,DEG_C,,,,/MILLE,UMOL/KG,,UMOL/KG,,UG/L,,UG/L,,DBAR,ITS-90,METERS,,METERS,DEG_C,,UMOL/L,
       KS05-06,  NONE,KS-1306,  1,     24,02-16030,2,20050618,0610, 25.0018, 138.9812, 4910,      5.1,  28.4180,  34.6240,2,   -999.0,9,  34.6260,2,    203.0,2,     1.28,2,  -999.00,9,     0.00,2,     0.00,2,     0.00,2, -999.000,9, -999.000,9,  -999.00,9,   -999.0,9,   -999.0,9,-999.0000,9,   -999.0,  9,  -999.00,9,   -999.0,  -999.00,9,  -999.00,9,  -999.00,9,  -999.00,9,   -999.0,-999.0000, -999,9,    5,  28.4168,  21.9752,   -999.0,9
       KS05-06,  NONE,KS-1306,  1,     23,02-19380,2,20050618,0609, 25.0018, 138.9812, 4910,      9.6,  28.1095,  34.6359,2,   -999.0,9,-999.0000,9,    205.0,2,     1.28,2,  -999.00,9,     0.00,2,     0.00,2,     0.00,2, -999.000,9, -999.000,9,  -999.00,9,   -999.0,9,   -999.0,9,-999.0000,9,   -999.0,  9,  -999.00,9,   -999.0,  -999.00,9,  -999.00,9,  -999.00,9,  -999.00,9,   -999.0,-999.0000, -999,9,   10,  28.1072,  22.0858,   -999.0,9
       KS05-06,  NONE,KS-1306,  1,     22,02-19379,2,20050618,0608, 25.0018, 138.9812, 4910,     25.4,  26.6968,  34.7037,2,   -999.0,9,-999.0000,9,    209.0,2,     1.28,2,  -999.00,9,     0.00,2,     0.00,2,     0.00,2, -999.000,9, -999.000,9,  -999.00,9,   -999.0,9,   -999.0,9,-999.0000,9,   -999.0,  9,  -999.00,9,   -999.0,  -999.00,9,  -999.00,9,  -999.00,9,  -999.00,9,   -999.0,-999.0000, -999,9,   25,  26.6910,  22.5928,   -999.0,9
       KS05-06,  NONE,KS-1306,  1,     21,02-16027,2,20050618,0606, 25.0018, 138.9812, 4910,     47.5,  26.1310,  34.7652,2,   -999.0,9,-999.0000,9,    213.0,2,     1.28,2,  -999.00,9,     0.00,2,     0.00,2,     0.00,2, -999.000,9, -999.000,9,  -999.00,9,   -999.0,9,   -999.0,9,-999.0000,9,   -999.0,  9,  -999.00,9,   -999.0,  -999.00,9,  -999.00,9,  -999.00,9,  -999.00,9,   -999.0,-999.0000, -999,9,   47,  26.1204,  22.8187,   -999.0,9
       KS05-06,  NONE,KS-1306,  1,     20,02-16026,2,20050618,0605, 25.0018, 138.9812, 4910,     74.3,  23.8958,  34.9269,2,   -999.0,9,-999.0000,9,    217.0,2,     1.48,2,  -999.00,9,     0.00,2,     0.00,2,     0.00,2, -999.000,9, -999.000,9,  -999.00,9,   -999.0,9,   -999.0,9,-999.0000,9,   -999.0,  9,  -999.00,9,   -999.0,  -999.00,9,  -999.00,9,  -999.00,9,  -999.00,9,   -999.0,-999.0000, -999,9,   74,  23.8802,  23.6214,   -999.0,9
       KS05-06,  NONE,KS-1306,  1,     19,02-19378,2,20050618,0604, 25.0018, 138.9812, 4910,     99.5,  22.5850,  35.0280,2,   -999.0,9,  35.0281,2,    217.0,2,     1.54,2,  -999.00,9,     0.00,2,     0.00,2,     0.00,2, -999.000,9, -999.000,9,  -999.00,9,   -999.0,9,   -999.0,9,-999.0000,9,   -999.0,  9,  -999.00,9,   -999.0,  -999.00,9,  -999.00,9,  -999.00,9,  -999.00,9,   -999.0,-999.0000, -999,9,   99,  22.5650,  24.0795,   -999.0,9
       KS05-06,  NONE,KS-1306,  1,     18,02-19377,2,20050618,0603, 25.0018, 138.9812, 4910,    123.8,  22.1119,  35.0524,2,   -999.0,9,-999.0000,9,    215.0,2,     1.59,2,  -999.00,9,     0.00,2,     0.00,2,     0.00,2, -999.000,9, -999.000,9,  -999.00,9,   -999.0,9,   -999.0,9,-999.0000,9,   -999.0,  9,  -999.00,9,   -999.0,  -999.00,9,  -999.00,9,  -999.00,9,  -999.00,9,   -999.0,-999.0000, -999,9,  123,  22.0873,  24.2331,   -999.0,9
       KS05-06,  NONE,KS-1306,  1,     17,02-16023,2,20050618,0602, 25.0018, 138.9812, 4910,    149.2,  21.0710,  35.0124,2,   -999.0,9,-999.0000,9,    212.0,2,     1.80,2,  -999.00,9,     0.59,2,     0.03,2,     0.04,2, -999.000,9, -999.000,9,  -999.00,9,   -999.0,9,   -999.0,9,-999.0000,9,   -999.0,  9,  -999.00,9,   -999.0,  -999.00,9,  -999.00,9,  -999.00,9,  -999.00,9,   -999.0,-999.0000, -999,9,  148,  21.0424,  24.4918,   -999.0,9
       KS05-06,  NONE,KS-1306,  1,     16,02-16022,2,20050618,0601, 25.0018, 138.9812, 4910,    201.0,  19.9025,  34.9453,2,   -999.0,9,-999.0000,9,    212.0,2,     2.32,2,  -999.00,9,     1.46,2,     0.01,2,     0.09,2, -999.000,9, -999.000,9,  -999.00,9,   -999.0,9,   -999.0,9,-999.0000,9,   -999.0,  9,  -999.00,9,   -999.0,  -999.00,9,  -999.00,9,  -999.00,9,  -999.00,9,   -999.0,-999.0000, -999,9,  200,  19.8655,  24.7554,   -999.0,9
       KS05-06,  NONE,KS-1306,  1,     15,02-16021,2,20050618,0600, 25.0018, 138.9812, 4910,    251.3,  18.6433,  34.8739,2,   -999.0,9,-999.0000,9,    206.0,2,     3.16,2,  -999.00,9,     3.02,2,     0.01,2,     0.19,2, -999.000,9, -999.000,9,  -999.00,9,   -999.0,9,   -999.0,9,-999.0000,9,   -999.0,  9,  -999.00,9,   -999.0,  -999.00,9,  -999.00,9,  -999.00,9,  -999.00,9,   -999.0,-999.0000, -999,9,  250,  18.5990,  25.0263,   -999.0,9
       KS05-06,  NONE,KS-1306,  1,     14,02-16020,2,20050618,0558, 25.0018, 138.9812, 4910,    300.2,  17.2258,  34.7713,2,   -999.0,9,  34.7679,2,    206.0,2,     4.63,2,  -999.00,9,     5.17,2,     0.00,2,     0.30,2, -999.000,9, -999.000,9,  -999.00,9,   -999.0,9,   -999.0,9,-999.0000,9,   -999.0,  9,  -999.00,9,   -999.0,  -999.00,9,  -999.00,9,  -999.00,9,  -999.00,9,   -999.0,-999.0000, -999,9,  298,  17.1757,  25.2968,   -999.0,9
       KS05-06,  NONE,KS-1306,  1,     13,02-16019,2,20050618,0556, 25.0018, 138.9812, 4910,    401.6,  15.8219,  34.6641,2,   -999.0,9,  34.6604,2,    205.0,2,     7.21,2,  -999.00,9,     7.31,2,     0.00,2,     0.45,2, -999.000,9, -999.000,9,  -999.00,9,   -999.0,9,   -999.0,9,-999.0000,9,   -999.0,  9,  -999.00,9,   -999.0,  -999.00,9,  -999.00,9,  -999.00,9,  -999.00,9,   -999.0,-999.0000, -999,9,  399,  15.7586,  25.5441,   -999.0,9
       KS05-06,  NONE,KS-1306,  1,     12,02-16018,2,20050618,0554, 25.0018, 138.9812, 4910,    502.7,  13.6433,  34.4872,2,   -999.0,9,  34.4834,2,    194.0,2,    13.55,2,  -999.00,9,    11.89,2,     0.00,2,     0.77,2, -999.000,9, -999.000,9,  -999.00,9,   -999.0,9,   -999.0,9,-999.0000,9,   -999.0,  9,  -999.00,9,   -999.0,  -999.00,9,  -999.00,9,  -999.00,9,  -999.00,9,   -999.0,-999.0000, -999,9,  499,  13.5715,  25.8797,   -999.0,9
       KS05-06,  NONE,KS-1306,  1,     11,02-19376,2,20050618,0552, 25.0018, 138.9812, 4910,    602.7,  10.5890,  34.2799,2,   -999.0,9,  34.2791,2,    174.0,2,    27.41,2,  -999.00,9,    18.90,2,     0.00,2,     1.29,2, -999.000,9, -999.000,9,  -999.00,9,   -999.0,9,   -999.0,9,-999.0000,9,   -999.0,  9,  -999.00,9,   -999.0,  -999.00,9,  -999.00,9,  -999.00,9,  -999.00,9,   -999.0,-999.0000, -999,9,  598,  10.5157,  26.3007,   -999.0,9
       KS05-06,  NONE,KS-1306,  1,     10,02-19375,2,20050618,0550, 25.0018, 138.9812, 4910,    704.6,   7.8217,  34.1454,2,   -999.0,9,  34.1470,2,    143.0,2,    49.37,2,  -999.00,9,    26.69,2,     0.00,2,     1.88,2, -999.000,9, -999.000,9,  -999.00,9,   -999.0,9,   -999.0,9,-999.0000,9,   -999.0,  9,  -999.00,9,   -999.0,  -999.00,9,  -999.00,9,  -999.00,9,  -999.00,9,   -999.0,-999.0000, -999,9,  699,   7.7499,  26.6394,   -999.0,9
       KS05-06,  NONE,KS-1306,  1,      9,02-16015,4,20050618,0547, 25.0018, 138.9812, 4910,    805.6,   5.9360,  34.1296,2,   -999.0,9,-999.0000,9,   -999.0,9,  -999.00,9,  -999.00,9,  -999.00,9,  -999.00,9,  -999.00,9, -999.000,9, -999.000,9,  -999.00,9,   -999.0,9,   -999.0,9,-999.0000,9,   -999.0,  9,  -999.00,9,   -999.0,  -999.00,9,  -999.00,9,  -999.00,9,  -999.00,9,   -999.0,-999.0000, -999,9,  799,   5.8648,  26.8818,   -999.0,9
       KS05-06,  NONE,KS-1306,  1,      8,02-16014,2,20050618,0545, 25.0018, 138.9812, 4910,    906.8,   4.8949,  34.2000,2,   -999.0,9,  34.2071,2,     74.0,2,    93.59,2,  -999.00,9,    37.88,2,     0.00,2,     2.70,2, -999.000,9, -999.000,9,  -999.00,9,   -999.0,9,   -999.0,9,-999.0000,9,   -999.0,  9,  -999.00,9,   -999.0,  -999.00,9,  -999.00,9,  -999.00,9,  -999.00,9,   -999.0,-999.0000, -999,9,  899,   4.8211,  27.0613,   -999.0,9
       KS05-06,  NONE,KS-1306,  1,      7,02-19374,2,20050618,0543, 25.0018, 138.9812, 4910,   1007.9,   4.1736,  34.2931,2,   -999.0,9,  34.2952,2,     61.0,2,   109.51,2,  -999.00,9,    39.72,2,     0.00,2,     2.84,2, -999.000,9, -999.000,9,  -999.00,9,   -999.0,9,   -999.0,9,-999.0000,9,   -999.0,  9,  -999.00,9,   -999.0,  -999.00,9,  -999.00,9,  -999.00,9,  -999.00,9,   -999.0,-999.0000, -999,9,  999,   4.0963,  27.2139,   -999.0,9
       KS05-06,  NONE,KS-1306,  1,      6,02-19373,2,20050618,0536, 25.0018, 138.9812, 4910,   1261.3,   3.0502,  34.4465,2,   -999.0,9,  34.4469,2,     58.0,2,   134.52,2,  -999.00,9,    41.56,2,     0.00,2,     2.96,2, -999.000,9, -999.000,9,  -999.00,9,   -999.0,9,   -999.0,9,-999.0000,9,   -999.0,  9,  -999.00,9,   -999.0,  -999.00,9,  -999.00,9,  -999.00,9,  -999.00,9,   -999.0,-999.0000, -999,9, 1249,   2.9616,  27.4468,   -999.0,9
       KS05-06,  NONE,KS-1306,  1,      5,02-16011,2,20050618,0531, 25.0018, 138.9812, 4910,   1513.1,   2.4901,  34.5271,2,   -999.0,9,  34.5272,2,     75.0,2,   143.92,2,  -999.00,9,    40.87,2,     0.00,2,     2.89,2, -999.000,9, -999.000,9,  -999.00,9,   -999.0,9,   -999.0,9,-999.0000,9,   -999.0,  9,  -999.00,9,   -999.0,  -999.00,9,  -999.00,9,  -999.00,9,  -999.00,9,   -999.0,-999.0000, -999,9, 1498,   2.3872,  27.5613,   -999.0,9
       KS05-06,  NONE,KS-1306,  1,      4,02-16010,2,20050618,0526, 25.0018, 138.9812, 4910,   1767.4,   2.1625,  34.5825,2,   -999.0,9,  34.5826,2,     98.0,2,   144.81,2,  -999.00,9,    39.61,2,     0.00,2,     2.77,2, -999.000,9, -999.000,9,  -999.00,9,   -999.0,9,   -999.0,9,-999.0000,9,   -999.0,  9,  -999.00,9,   -999.0,  -999.00,9,  -999.00,9,  -999.00,9,  -999.00,9,   -999.0,-999.0000, -999,9, 1749,   2.0431,  27.6338,   -999.0,9
       KS05-06,  NONE,KS-1306,  1,      3,02-16009,9,20050618,0521, 25.0018, 138.9812, 4910,   2020.8,   1.9642,  34.6136,2,   -999.0,9,-999.0000,9,   -999.0,9,  -999.00,9,  -999.00,9,  -999.00,9,  -999.00,9,  -999.00,9, -999.000,9, -999.000,9,  -999.00,9,   -999.0,9,   -999.0,9,-999.0000,9,   -999.0,  9,  -999.00,9,   -999.0,  -999.00,9,  -999.00,9,  -999.00,9,  -999.00,9,   -999.0,-999.0000, -999,9, 1998,   1.8266,  27.6757,   -999.0,9
       KS05-06,  NONE,KS-1306,  1,      2,02-16008,9,20050618,0521, 25.0018, 138.9812, 4910,   2020.6,   1.9642,  34.6136,2,   -999.0,9,-999.0000,9,   -999.0,9,  -999.00,9,  -999.00,9,  -999.00,9,  -999.00,9,  -999.00,9, -999.000,9, -999.000,9,  -999.00,9,   -999.0,9,   -999.0,9,-999.0000,9,   -999.0,  9,  -999.00,9,   -999.0,  -999.00,9,  -999.00,9,  -999.00,9,  -999.00,9,   -999.0,-999.0000, -999,9, 1998,   1.8266,  27.6756,   -999.0,9
       KS05-06,  NONE,KS-1306,  1,      1,02-16007,2,20050618,0521, 25.0018, 138.9812, 4910,   2020.7,   1.9637,  34.6137,2,   -999.0,9,  34.6146,2,    114.0,2,   143.94,2,  -999.00,9,    38.63,2,     0.00,2,     2.71,2, -999.000,9, -999.000,9,  -999.00,9,   -999.0,9,   -999.0,9,-999.0000,9,   -999.0,  9,  -999.00,9,   -999.0,  -999.00,9,  -999.00,9,  -999.00,9,  -999.00,9,   -999.0,-999.0000, -999,9, 1998,   1.8261,  27.6757,   -999.0,9