BOTTLE,20130510GEMDJMAYT
EXPOCODE,SECT_ID,STNNBR,CASTNO,SAMPNO,BTLNBR,BTLNBR_FLAG_W,DATE,TIME,LATITUDE,LONGITUDE,DEPTH,CTDPRS,CTDTMP,CTDSAL,CTDSAL_FLAG_W,CTDOXY,CTDOXY_FLAG_W,SALNTY,SALNTY_FLAG_W,OXYGEN,OXYGEN_FLAG_W,SILCAT,SILCAT_FLAG_W,NITRAT,NITRAT_FLAG_W,NO2+NO3,NO2+NO3_FLAG_W,NITRIT,NITRIT_FLAG_W,PHSPHT,PHSPHT_FLAG_W,CFC-11,CFC-11_FLAG_W,CFC-12,CFC-12_FLAG_W,DELC13,DELC13_FLAG_W,TCARBN,TCARBN_FLAG_W,ALKALI,ALKALI_FLAG_W,PH,PH_FLAG_W,PH_TMP,PH_SCALE,PH_NBS,PH_NBS_FLAG_W,C13ERR,TOTALP,TOTALP_FLAG_W,AMMONI,AMMONI_FLAG_W,CHLORA,CHLORA_FLAG_W,PPHYTN,PPHYTN_FLAG_W,REVPRS,REVTMP,DEPTH_,DEPTH_FLAG,CTDDEP,THETA,SIGTHT,DOC,DOC_FLAG_W
,,,,,,,GMT,GMT,,,METER,DBAR,ITS-90,PSS-78,,UMOL/KG,,PSS-78,,UMOL/KG,,UMOL/KG,,UMOL/KG,,UMOL/KG,,UMOL/KG,,UMOL/KG,,PMOL/KG,,PMOL/KG,,/MILLE,,UMOL/KG,,UMOL/KG,,25_DEG_C,,DEG_C,,,,/MILLE,UMOL/KG,,UMOL/KG,,UG/L,,UG/L,,DBAR,ITS-90,METERS,,METERS,DEG_C,,UMOL/L,
       KS05-06, EQPAC,KS-1363,  1,     24,02-16030,2,20050719,2104,  0.0057, 144.9702, 3701,      3.8,  29.6432,  34.0905,2,   -999.0,9,  34.0946,2,    196.0,2,     1.06,2,  -999.00,9,     0.00,2,     0.00,2,     0.10,2, -999.000,9, -999.000,9,  -999.00,9,   1893.5,3,   -999.0,9,-999.0000,9,   -999.0,  9,  -999.00,9,   -999.0,  -999.00,9,  -999.00,9,     0.02,2,     0.02,2,   -999.0,-999.0000, -999,9,    4,  29.6423,  21.1658,   -999.0,9
       KS05-06, EQPAC,KS-1363,  1,     23,02-19380,2,20050719,2103,  0.0057, 144.9702, 3701,     10.3,  29.6535,  34.0934,2,   -999.0,9,-999.0000,9,    197.0,2,     1.10,2,  -999.00,9,     0.00,2,     0.00,2,     0.10,2, -999.000,9, -999.000,9,  -999.00,9,   -999.0,9,   -999.0,9,-999.0000,9,   -999.0,  9,  -999.00,9,   -999.0,  -999.00,9,  -999.00,9,     0.07,2,     0.04,2,   -999.0,-999.0000, -999,9,   10,  29.6510,  21.1651,   -999.0,9
       KS05-06, EQPAC,KS-1363,  1,     22,02-19379,2,20050719,2102,  0.0057, 144.9702, 3701,     23.4,  29.6718,  34.1078,2,   -999.0,9,-999.0000,9,    198.0,2,     1.09,2,  -999.00,9,     0.00,2,     0.00,2,     0.10,2, -999.000,9, -999.000,9,  -999.00,9,   -999.0,9,   -999.0,9,-999.0000,9,   -999.0,  9,  -999.00,9,   -999.0,  -999.00,9,  -999.00,9,     0.08,2,     0.05,2,   -999.0,-999.0000, -999,9,   23,  29.6661,  21.1708,   -999.0,9
       KS05-06, EQPAC,KS-1363,  1,     21,02-16027,2,20050719,2059,  0.0057, 144.9702, 3701,     48.4,  29.9189,  34.8776,2,   -999.0,9,-999.0000,9,    198.0,2,     1.13,2,  -999.00,9,     0.00,2,     0.00,2,     0.17,2, -999.000,9, -999.000,9,  -999.00,9,   -999.0,9,   -999.0,9,-999.0000,9,   -999.0,  9,  -999.00,9,   -999.0,  -999.00,9,  -999.00,9,     0.09,2,     0.08,2,   -999.0,-999.0000, -999,9,   48,  29.9069,  21.6662,   -999.0,9
       KS05-06, EQPAC,KS-1363,  1,     20,02-16026,2,20050719,2058,  0.0057, 144.9702, 3701,     74.8,  28.2216,  34.8469,2,   -999.0,9,-999.0000,9,    224.0,2,     1.58,2,  -999.00,9,     1.17,2,     0.13,2,     0.24,2, -999.000,9, -999.000,9,  -999.00,9,   -999.0,9,   -999.0,9,-999.0000,9,   -999.0,  9,  -999.00,9,   -999.0,  -999.00,9,  -999.00,9,     0.23,2,     0.59,2,   -999.0,-999.0000, -999,9,   74,  28.2039,  22.2128,   -999.0,9
       KS05-06, EQPAC,KS-1363,  1,     19,02-19378,2,20050719,2056,  0.0057, 144.9702, 3701,    100.4,  27.6489,  35.3190,2,   -999.0,9,  35.3120,4,    166.0,2,     2.10,2,  -999.00,9,     4.69,2,     0.38,2,     0.48,2, -999.000,9, -999.000,9,  -999.00,9,   -999.0,9,   -999.0,9,-999.0000,9,   -999.0,  9,  -999.00,9,   -999.0,  -999.00,9,  -999.00,9,     0.12,2,     0.48,2,   -999.0,-999.0000, -999,9,  100,  27.6254,  22.7566,   -999.0,9
       KS05-06, EQPAC,KS-1363,  1,     18,02-19377,2,20050719,2055,  0.0057, 144.9702, 3701,    126.5,  24.5429,  35.2516,2,   -999.0,9,-999.0000,9,    134.0,2,     3.58,2,  -999.00,9,     8.60,2,     0.02,2,     0.66,2, -999.000,9, -999.000,9,  -999.00,9,   -999.0,9,   -999.0,9,-999.0000,9,   -999.0,  9,  -999.00,9,   -999.0,  -999.00,9,  -999.00,9,     0.05,2,     0.31,2,   -999.0,-999.0000, -999,9,  126,  24.5158,  23.6778,   -999.0,9
       KS05-06, EQPAC,KS-1363,  1,     17,02-16023,2,20050719,2053,  0.0057, 144.9702, 3701,    151.3,  22.9153,  35.4466,2,   -999.0,9,-999.0000,9,    141.0,2,     3.08,2,  -999.00,9,     8.10,2,     0.01,2,     0.64,2, -999.000,9, -999.000,9,  -999.00,9,   -999.0,9,   -999.0,9,-999.0000,9,   -999.0,  9,  -999.00,9,   -999.0,  -999.00,9,  -999.00,9,     0.01,2,     0.03,2,   -999.0,-999.0000, -999,9,  150,  22.8844,  24.3057,   -999.0,9
       KS05-06, EQPAC,KS-1363,  1,     16,02-16022,2,20050719,2051,  0.0057, 144.9702, 3701,    203.6,  17.5008,  35.3497,2,   -999.0,9,  35.3809,4,    140.0,2,     5.76,2,  -999.00,9,    12.19,2,     0.01,2,     0.92,2, -999.000,9, -999.000,9,  -999.00,9,   -999.0,9,   -999.0,9,-999.0000,9,   -999.0,  9,  -999.00,9,   -999.0,  -999.00,9,  -999.00,9,     0.00,2,     0.02,2,   -999.0,-999.0000, -999,9,  202,  17.4664,  25.6706,   -999.0,9
       KS05-06, EQPAC,KS-1363,  1,     15,02-16021,2,20050719,2048,  0.0057, 144.9702, 3701,    252.5,  13.0401,  35.0084,2,   -999.0,9,-999.0000,9,    149.0,2,    11.20,2,  -999.00,9,    17.73,2,     0.00,2,     1.28,2, -999.000,9, -999.000,9,  -999.00,9,   -999.0,9,   -999.0,9,-999.0000,9,   -999.0,  9,  -999.00,9,   -999.0,  -999.00,9,  -999.00,9,     0.00,2,     0.01,2,   -999.0,-999.0000, -999,9,  251,  13.0052,  26.3983,   -999.0,9
       KS05-06, EQPAC,KS-1363,  1,     14,02-16020,2,20050719,2045,  0.0057, 144.9702, 3701,    304.3,  11.1580,  34.8271,2,   -999.0,9,  34.8269,2,    147.0,2,    17.48,2,  -999.00,9,    21.82,2,     0.00,2,     1.54,2, -999.000,9, -999.000,9,  -999.00,9,   -999.0,9,   -999.0,9,-999.0000,9,   -999.0,  9,  -999.00,9,   -999.0,  -999.00,9,  -999.00,9,     0.00,2,     0.01,2,   -999.0,-999.0000, -999,9,  302,  11.1200,  26.6190,   -999.0,9
       KS05-06, EQPAC,KS-1363,  1,     13,02-16019,2,20050719,2041,  0.0057, 144.9702, 3701,    404.4,   9.8881,  34.7197,2,   -999.0,9,  34.7207,2,    118.0,2,    24.83,2,  -999.00,9,    27.17,2,     0.00,2,     1.89,2, -999.000,9, -999.000,9,  -999.00,9,   -999.0,9,   -999.0,9,-999.0000,9,   -999.0,  9,  -999.00,9,   -999.0,  -999.00,9,  -999.00,9,  -999.00,9,  -999.00,9,   -999.0,-999.0000, -999,9,  402,   9.8412,  26.7600,   -999.0,9
       KS05-06, EQPAC,KS-1363,  1,     12,02-16018,2,20050719,2037,  0.0057, 144.9702, 3701,    504.3,   8.1925,  34.6080,2,   -999.0,9,  34.6079,2,    131.0,2,    30.36,2,  -999.00,9,    29.21,2,     0.00,2,     2.04,2, -999.000,9, -999.000,9,  -999.00,9,   -999.0,9,   -999.0,9,-999.0000,9,   -999.0,  9,  -999.00,9,   -999.0,  -999.00,9,  -999.00,9,  -999.00,9,  -999.00,9,   -999.0,-999.0000, -999,9,  501,   8.1400,  26.9449,   -999.0,9
       KS05-06, EQPAC,KS-1363,  1,     11,02-19376,2,20050719,2034,  0.0057, 144.9702, 3701,    606.6,   7.0048,  34.5593,2,   -999.0,9,  34.5592,2,    104.0,2,    43.90,2,  -999.00,9,    34.27,2,     0.00,2,     2.40,2, -999.000,9, -999.000,9,  -999.00,9,   -999.0,9,   -999.0,9,-999.0000,9,   -999.0,  9,  -999.00,9,   -999.0,  -999.00,9,  -999.00,9,  -999.00,9,  -999.00,9,   -999.0,-999.0000, -999,9,  602,   6.9467,  27.0790,   -999.0,9
       KS05-06, EQPAC,KS-1363,  1,     10,02-19375,2,20050719,2031,  0.0057, 144.9702, 3701,    704.8,   5.9770,  34.5180,2,   -999.0,9,  34.5168,2,    135.0,2,    47.57,2,  -999.00,9,    33.20,2,     0.00,2,     2.34,2, -999.000,9, -999.000,9,  -999.00,9,   -999.0,9,   -999.0,9,-999.0000,9,   -999.0,  9,  -999.00,9,   -999.0,  -999.00,9,  -999.00,9,  -999.00,9,  -999.00,9,   -999.0,-999.0000, -999,9,  700,   5.9145,  27.1826,   -999.0,9
       KS05-06, EQPAC,KS-1363,  1,      9,02-16015,2,20050719,2028,  0.0057, 144.9702, 3701,    805.9,   5.5899,  34.5382,2,   -999.0,9,  34.5376,2,     98.0,2,    63.32,2,  -999.00,9,    37.28,2,     0.00,2,     2.64,2, -999.000,9, -999.000,9,  -999.00,9,   -999.0,9,   -999.0,9,-999.0000,9,   -999.0,  9,  -999.00,9,   -999.0,  -999.00,9,  -999.00,9,  -999.00,9,  -999.00,9,   -999.0,-999.0000, -999,9,  800,   5.5202,  27.2474,   -999.0,9
       KS05-06, EQPAC,KS-1363,  1,      8,02-16014,2,20050719,2025,  0.0057, 144.9702, 3701,    906.3,   4.9467,  34.5371,2,   -999.0,9,  34.5384,2,    112.0,2,    72.33,2,  -999.00,9,    36.60,2,     0.00,2,     2.60,2, -999.000,9, -999.000,9,  -999.00,9,   -999.0,9,   -999.0,9,-999.0000,9,   -999.0,  9,  -999.00,9,   -999.0,  -999.00,9,  -999.00,9,  -999.00,9,  -999.00,9,   -999.0,-999.0000, -999,9,  899,   4.8721,  27.3229,   -999.0,9
       KS05-06, EQPAC,KS-1363,  1,      7,02-19374,2,20050719,2023,  0.0057, 144.9702, 3701,   1007.1,   4.4099,  34.5524,2,   -999.0,9,  34.5345,4,    103.0,2,    85.85,2,  -999.00,9,    38.06,2,     0.00,2,     2.72,2, -999.000,9, -999.000,9,  -999.00,9,   -999.0,9,   -999.0,9,-999.0000,9,   -999.0,  9,  -999.00,9,   -999.0,  -999.00,9,  -999.00,9,  -999.00,9,  -999.00,9,   -999.0,-999.0000, -999,9,  999,   4.3304,  27.3952,   -999.0,9
       KS05-06, EQPAC,KS-1363,  1,      6,02-19373,2,20050719,2017,  0.0057, 144.9702, 3701,   1261.3,   3.5538,  34.5780,2,   -999.0,9,  34.5773,2,    107.0,2,   103.91,2,  -999.00,9,    38.54,2,     0.00,2,     2.75,2, -999.000,9, -999.000,9,  -999.00,9,   -999.0,9,   -999.0,9,-999.0000,9,   -999.0,  9,  -999.00,9,   -999.0,  -999.00,9,  -999.00,9,  -999.00,9,  -999.00,9,   -999.0,-999.0000, -999,9, 1251,   3.4601,  27.5048,   -999.0,9
       KS05-06, EQPAC,KS-1363,  1,      5,02-16011,2,20050719,2012,  0.0057, 144.9702, 3701,   1512.0,   3.0828,  34.5974,2,   -999.0,9,  34.5969,2,    109.0,2,   114.92,2,  -999.00,9,    38.63,2,     0.00,2,     2.76,2, -999.000,9, -999.000,9,  -999.00,9,   -999.0,9,   -999.0,9,-999.0000,9,   -999.0,  9,  -999.00,9,   -999.0,  -999.00,9,  -999.00,9,  -999.00,9,  -999.00,9,   -999.0,-999.0000, -999,9, 1498,   2.9729,  27.5662,   -999.0,9
       KS05-06, EQPAC,KS-1363,  1,      4,02-16010,2,20050719,2007,  0.0057, 144.9702, 3701,   1766.8,   2.5447,  34.6217,2,   -999.0,9,  34.6205,2,    117.0,2,   126.79,2,  -999.00,9,    38.44,2,     0.00,2,     2.72,2, -999.000,9, -999.000,9,  -999.00,9,   -999.0,9,   -999.0,9,-999.0000,9,   -999.0,  9,  -999.00,9,   -999.0,  -999.00,9,  -999.00,9,  -999.00,9,  -999.00,9,   -999.0,-999.0000, -999,9, 1750,   2.4201,  27.6342,   -999.0,9
       KS05-06, EQPAC,KS-1363,  1,      3,02-16009,9,20050719,2001,  0.0057, 144.9702, 3701,   2008.8,   2.1417,  34.6416,2,   -999.0,9,-999.0000,9,   -999.0,9,  -999.00,9,  -999.00,9,  -999.00,9,  -999.00,9,  -999.00,9, -999.000,9, -999.000,9,  -999.00,9,   -999.0,9,   -999.0,9,-999.0000,9,   -999.0,  9,  -999.00,9,   -999.0,  -999.00,9,  -999.00,9,  -999.00,9,  -999.00,9,   -999.0,-999.0000, -999,9, 1988,   2.0023,  27.6843,   -999.0,9
       KS05-06, EQPAC,KS-1363,  1,      2,02-16008,9,20050719,2001,  0.0057, 144.9702, 3701,   2010.8,   2.1408,  34.6415,2,   -999.0,9,-999.0000,9,   -999.0,9,  -999.00,9,  -999.00,9,  -999.00,9,  -999.00,9,  -999.00,9, -999.000,9, -999.000,9,  -999.00,9,   -999.0,9,   -999.0,9,-999.0000,9,   -999.0,  9,  -999.00,9,   -999.0,  -999.00,9,  -999.00,9,  -999.00,9,  -999.00,9,   -999.0,-999.0000, -999,9, 1990,   2.0013,  27.6844,   -999.0,9
       KS05-06, EQPAC,KS-1363,  1,      1,02-16007,2,20050719,2001,  0.0057, 144.9702, 3701,   2012.4,   2.1400,  34.6416,2,   -999.0,9,  34.6417,2,    123.0,2,   136.21,2,  -999.00,9,    38.14,2,     0.00,2,     2.70,2, -999.000,9, -999.000,9,  -999.00,9,   -999.0,9,   -999.0,9,-999.0000,9,   -999.0,  9,  -999.00,9,   -999.0,  -999.00,9,  -999.00,9,  -999.00,9,  -999.00,9,   -999.0,-999.0000, -999,9, 1992,   2.0003,  27.6845,   -999.0,9