BOTTLE,20130510GEMDJMAYT
EXPOCODE,SECT_ID,STNNBR,CASTNO,SAMPNO,BTLNBR,BTLNBR_FLAG_W,DATE,TIME,LATITUDE,LONGITUDE,DEPTH,CTDPRS,CTDTMP,CTDSAL,CTDSAL_FLAG_W,CTDOXY,CTDOXY_FLAG_W,SALNTY,SALNTY_FLAG_W,OXYGEN,OXYGEN_FLAG_W,SILCAT,SILCAT_FLAG_W,NITRAT,NITRAT_FLAG_W,NO2+NO3,NO2+NO3_FLAG_W,NITRIT,NITRIT_FLAG_W,PHSPHT,PHSPHT_FLAG_W,CFC-11,CFC-11_FLAG_W,CFC-12,CFC-12_FLAG_W,DELC13,DELC13_FLAG_W,TCARBN,TCARBN_FLAG_W,ALKALI,ALKALI_FLAG_W,PH,PH_FLAG_W,PH_TMP,PH_SCALE,PH_NBS,PH_NBS_FLAG_W,C13ERR,TOTALP,TOTALP_FLAG_W,AMMONI,AMMONI_FLAG_W,CHLORA,CHLORA_FLAG_W,PPHYTN,PPHYTN_FLAG_W,REVPRS,REVTMP,DEPTH_,DEPTH_FLAG,CTDDEP,THETA,SIGTHT,DOC,DOC_FLAG_W
,,,,,,,GMT,GMT,,,METER,DBAR,ITS-90,PSS-78,,UMOL/KG,,PSS-78,,UMOL/KG,,UMOL/KG,,UMOL/KG,,UMOL/KG,,UMOL/KG,,UMOL/KG,,PMOL/KG,,PMOL/KG,,/MILLE,,UMOL/KG,,UMOL/KG,,25_DEG_C,,DEG_C,,,,/MILLE,UMOL/KG,,UMOL/KG,,UG/L,,UG/L,,DBAR,ITS-90,METERS,,METERS,DEG_C,,UMOL/L,
       KS05-06, EQPAC,KS-1355,  1,     24,02-16030,2,20050715,0159,  0.0128, 160.9618, 3310,      4.8,  30.3203,  34.4629,2,   -999.0,9,  34.4654,2,    195.0,2,     1.15,2,  -999.00,9,     0.00,2,     0.00,2,     0.09,2, -999.000,9, -999.000,9,  -999.00,9,   1906.6,3,   -999.0,9,-999.0000,9,   -999.0,  9,  -999.00,9,   -999.0,  -999.00,9,  -999.00,9,     0.07,2,     0.06,2,   -999.0,-999.0000, -999,9,    5,  30.3191,  21.2144,   -999.0,9
       KS05-06, EQPAC,KS-1355,  1,     23,02-19380,2,20050715,0159,  0.0128, 160.9618, 3310,      9.7,  30.3083,  34.4633,2,   -999.0,9,-999.0000,9,    195.0,2,     1.13,2,  -999.00,9,     0.00,2,     0.00,2,     0.09,2, -999.000,9, -999.000,9,  -999.00,9,   -999.0,9,   -999.0,9,-999.0000,9,   -999.0,  9,  -999.00,9,   -999.0,  -999.00,9,  -999.00,9,     0.09,2,     0.06,2,   -999.0,-999.0000, -999,9,   10,  30.3059,  21.2192,   -999.0,9
       KS05-06, EQPAC,KS-1355,  1,     22,02-19379,2,20050715,0157,  0.0128, 160.9618, 3310,     25.3,  30.2674,  34.4654,2,   -999.0,9,-999.0000,9,    196.0,2,     1.12,2,  -999.00,9,     0.00,2,     0.00,2,     0.09,2, -999.000,9, -999.000,9,  -999.00,9,   -999.0,9,   -999.0,9,-999.0000,9,   -999.0,  9,  -999.00,9,   -999.0,  -999.00,9,  -999.00,9,     0.09,2,     0.06,2,   -999.0,-999.0000, -999,9,   25,  30.2611,  21.2362,   -999.0,9
       KS05-06, EQPAC,KS-1355,  1,     21,02-16027,2,20050715,0154,  0.0128, 160.9618, 3310,     49.8,  29.9692,  34.9952,2,   -999.0,9,-999.0000,9,    199.0,2,     1.32,2,  -999.00,9,     0.00,2,     0.00,2,     0.14,2, -999.000,9, -999.000,9,  -999.00,9,   -999.0,9,   -999.0,9,-999.0000,9,   -999.0,  9,  -999.00,9,   -999.0,  -999.00,9,  -999.00,9,     0.15,2,     0.13,2,   -999.0,-999.0000, -999,9,   50,  29.9569,  21.7373,   -999.0,9
       KS05-06, EQPAC,KS-1355,  1,     20,02-16026,2,20050715,0153,  0.0128, 160.9618, 3310,     74.4,  29.6423,  35.3168,2,   -999.0,9,-999.0000,9,    198.0,2,     1.47,2,  -999.00,9,     0.39,2,     0.09,2,     0.21,2, -999.000,9, -999.000,9,  -999.00,9,   -999.0,9,   -999.0,9,-999.0000,9,   -999.0,  9,  -999.00,9,   -999.0,  -999.00,9,  -999.00,9,     0.31,2,     0.48,2,   -999.0,-999.0000, -999,9,   74,  29.6240,  22.0918,   -999.0,9
       KS05-06, EQPAC,KS-1355,  1,     19,02-19378,2,20050715,0152,  0.0128, 160.9618, 3310,     99.7,  27.2842,  35.3696,2,   -999.0,9,  35.3735,2,    161.0,2,     2.46,2,  -999.00,9,     5.77,2,     0.63,2,     0.49,2, -999.000,9, -999.000,9,  -999.00,9,   -999.0,9,   -999.0,9,-999.0000,9,   -999.0,  9,  -999.00,9,   -999.0,  -999.00,9,  -999.00,9,     0.17,2,     0.64,2,   -999.0,-999.0000, -999,9,   99,  27.2611,  22.9124,   -999.0,9
       KS05-06, EQPAC,KS-1355,  1,     18,02-19377,2,20050715,0151,  0.0128, 160.9618, 3310,    124.9,  25.9138,  35.4341,2,   -999.0,9,-999.0000,9,    146.0,2,     2.87,2,  -999.00,9,     7.52,2,     0.04,2,     0.59,2, -999.000,9, -999.000,9,  -999.00,9,   -999.0,9,   -999.0,9,-999.0000,9,   -999.0,  9,  -999.00,9,   -999.0,  -999.00,9,  -999.00,9,     0.09,2,     0.51,2,   -999.0,-999.0000, -999,9,  124,  25.8859,  23.3965,   -999.0,9
       KS05-06, EQPAC,KS-1355,  1,     17,02-16023,2,20050715,0150,  0.0128, 160.9618, 3310,    150.7,  22.5610,  35.3193,2,   -999.0,9,-999.0000,9,    135.0,2,     4.59,2,  -999.00,9,     9.37,2,     0.01,2,     0.67,2, -999.000,9, -999.000,9,  -999.00,9,   -999.0,9,   -999.0,9,-999.0000,9,   -999.0,  9,  -999.00,9,   -999.0,  -999.00,9,  -999.00,9,     0.03,2,     0.10,2,   -999.0,-999.0000, -999,9,  150,  22.5306,  24.3104,   -999.0,9
       KS05-06, EQPAC,KS-1355,  1,     16,02-16022,2,20050715,0148,  0.0128, 160.9618, 3310,    200.7,  17.3557,  35.3242,2,   -999.0,9,  35.3305,2,    142.0,2,     6.42,2,  -999.00,9,    12.97,2,     0.00,2,     0.93,2, -999.000,9, -999.000,9,  -999.00,9,   -999.0,9,   -999.0,9,-999.0000,9,   -999.0,  9,  -999.00,9,   -999.0,  -999.00,9,  -999.00,9,     0.00,2,     0.02,2,   -999.0,-999.0000, -999,9,  199,  17.3220,  25.6859,   -999.0,9
       KS05-06, EQPAC,KS-1355,  1,     15,02-16021,2,20050715,0147,  0.0128, 160.9618, 3310,    251.4,  13.5430,  35.0127,2,   -999.0,9,  35.0142,2,    145.0,2,    12.38,2,  -999.00,9,    17.83,2,     0.00,2,     1.26,2, -999.000,9, -999.000,9,  -999.00,9,   -999.0,9,   -999.0,9,-999.0000,9,   -999.0,  9,  -999.00,9,   -999.0,  -999.00,9,  -999.00,9,     0.00,2,     0.02,2,   -999.0,-999.0000, -999,9,  250,  13.5074,  26.2995,   -999.0,9
       KS05-06, EQPAC,KS-1355,  1,     14,02-16020,2,20050715,0146,  0.0128, 160.9618, 3310,    301.4,  11.7103,  34.8448,2,   -999.0,9,  34.8552,4,    114.0,2,    19.92,2,  -999.00,9,    23.96,2,     0.00,2,     1.67,2, -999.000,9, -999.000,9,  -999.00,9,   -999.0,9,   -999.0,9,-999.0000,9,   -999.0,  9,  -999.00,9,   -999.0,  -999.00,9,  -999.00,9,     0.00,2,     0.01,2,   -999.0,-999.0000, -999,9,  300,  11.6715,  26.5308,   -999.0,9
       KS05-06, EQPAC,KS-1355,  1,     13,02-16019,2,20050715,0143,  0.0128, 160.9618, 3310,    402.1,   9.1765,  34.6607,2,   -999.0,9,  34.6618,2,    104.0,2,    30.22,2,  -999.00,9,    29.80,2,     0.00,2,     2.06,2, -999.000,9, -999.000,9,  -999.00,9,   -999.0,9,   -999.0,9,-999.0000,9,   -999.0,  9,  -999.00,9,   -999.0,  -999.00,9,  -999.00,9,  -999.00,9,  -999.00,9,   -999.0,-999.0000, -999,9,  400,   9.1320,  26.8312,   -999.0,9
       KS05-06, EQPAC,KS-1355,  1,     12,02-16018,2,20050715,0140,  0.0128, 160.9618, 3310,    504.1,   7.9352,  34.5880,2,   -999.0,9,  34.5891,2,    113.0,2,    36.22,2,  -999.00,9,    31.35,2,     0.00,2,     2.18,2, -999.000,9, -999.000,9,  -999.00,9,   -999.0,9,   -999.0,9,-999.0000,9,   -999.0,  9,  -999.00,9,   -999.0,  -999.00,9,  -999.00,9,  -999.00,9,  -999.00,9,   -999.0,-999.0000, -999,9,  501,   7.8837,  26.9676,   -999.0,9
       KS05-06, EQPAC,KS-1355,  1,     11,02-19376,2,20050715,0138,  0.0128, 160.9618, 3310,    603.2,   6.9235,  34.5603,2,   -999.0,9,  34.5606,2,     91.0,2,    46.42,2,  -999.00,9,    35.73,2,     0.00,2,     2.54,2, -999.000,9, -999.000,9,  -999.00,9,   -999.0,9,   -999.0,9,-999.0000,9,   -999.0,  9,  -999.00,9,   -999.0,  -999.00,9,  -999.00,9,  -999.00,9,  -999.00,9,   -999.0,-999.0000, -999,9,  599,   6.8661,  27.0908,   -999.0,9
       KS05-06, EQPAC,KS-1355,  1,     10,02-19375,2,20050715,0135,  0.0128, 160.9618, 3310,    705.2,   6.3307,  34.5519,2,   -999.0,9,  34.5518,2,     83.0,2,    54.25,2,  -999.00,9,    37.68,2,     0.00,2,     2.70,2, -999.000,9, -999.000,9,  -999.00,9,   -999.0,9,   -999.0,9,-999.0000,9,   -999.0,  9,  -999.00,9,   -999.0,  -999.00,9,  -999.00,9,  -999.00,9,  -999.00,9,   -999.0,-999.0000, -999,9,  700,   6.2663,  27.1644,   -999.0,9
       KS05-06, EQPAC,KS-1355,  1,      9,02-16015,2,20050715,0133,  0.0128, 160.9618, 3310,    806.9,   5.4168,  34.5408,2,   -999.0,9,  34.5404,2,     93.0,2,    66.59,2,  -999.00,9,    37.96,2,     0.00,2,     2.74,2, -999.000,9, -999.000,9,  -999.00,9,   -999.0,9,   -999.0,9,-999.0000,9,   -999.0,  9,  -999.00,9,   -999.0,  -999.00,9,  -999.00,9,  -999.00,9,  -999.00,9,   -999.0,-999.0000, -999,9,  801,   5.3481,  27.2703,   -999.0,9
       KS05-06, EQPAC,KS-1355,  1,      8,02-16014,2,20050715,0130,  0.0128, 160.9618, 3310,    907.4,   4.9682,  34.5427,2,   -999.0,9,  34.5435,2,     97.0,2,    74.10,2,  -999.00,9,    38.06,2,     0.00,2,     2.74,2, -999.000,9, -999.000,9,  -999.00,9,   -999.0,9,   -999.0,9,-999.0000,9,   -999.0,  9,  -999.00,9,   -999.0,  -999.00,9,  -999.00,9,  -999.00,9,  -999.00,9,   -999.0,-999.0000, -999,9,  900,   4.8934,  27.3249,   -999.0,9
       KS05-06, EQPAC,KS-1355,  1,      7,02-19374,2,20050715,0128,  0.0128, 160.9618, 3310,   1008.5,   4.4451,  34.5499,2,   -999.0,9,  34.5500,2,    103.0,2,    84.17,2,  -999.00,9,    37.86,2,     0.00,2,     2.73,2, -999.000,9, -999.000,9,  -999.00,9,   -999.0,9,   -999.0,9,-999.0000,9,   -999.0,  9,  -999.00,9,   -999.0,  -999.00,9,  -999.00,9,  -999.00,9,  -999.00,9,   -999.0,-999.0000, -999,9, 1001,   4.3652,  27.3894,   -999.0,9
       KS05-06, EQPAC,KS-1355,  1,      6,02-19373,2,20050715,0123,  0.0128, 160.9618, 3310,   1259.8,   3.5985,  34.5779,2,   -999.0,9,  34.5792,2,    102.0,2,   103.73,2,  -999.00,9,    38.73,2,     0.00,2,     2.81,2, -999.000,9, -999.000,9,  -999.00,9,   -999.0,9,   -999.0,9,-999.0000,9,   -999.0,  9,  -999.00,9,   -999.0,  -999.00,9,  -999.00,9,  -999.00,9,  -999.00,9,   -999.0,-999.0000, -999,9, 1249,   3.5045,  27.5004,   -999.0,9
       KS05-06, EQPAC,KS-1355,  1,      5,02-16011,2,20050715,0118,  0.0128, 160.9618, 3310,   1514.6,   2.9638,  34.6038,2,   -999.0,9,  34.6068,2,    105.0,2,   119.12,2,  -999.00,9,    38.93,2,     0.00,2,     2.82,2, -999.000,9, -999.000,9,  -999.00,9,   -999.0,9,   -999.0,9,-999.0000,9,   -999.0,  9,  -999.00,9,   -999.0,  -999.00,9,  -999.00,9,  -999.00,9,  -999.00,9,   -999.0,-999.0000, -999,9, 1501,   2.8551,  27.5820,   -999.0,9
       KS05-06, EQPAC,KS-1355,  1,      4,02-16010,2,20050715,0112,  0.0128, 160.9618, 3310,   1766.0,   2.5563,  34.6220,2,   -999.0,9,  34.6231,2,    113.0,2,   126.71,2,  -999.00,9,    38.54,2,     0.00,2,     2.75,2, -999.000,9, -999.000,9,  -999.00,9,   -999.0,9,   -999.0,9,-999.0000,9,   -999.0,  9,  -999.00,9,   -999.0,  -999.00,9,  -999.00,9,  -999.00,9,  -999.00,9,   -999.0,-999.0000, -999,9, 1749,   2.4316,  27.6335,   -999.0,9
       KS05-06, EQPAC,KS-1355,  1,      3,02-16009,2,20050715,0107,  0.0128, 160.9618, 3310,   2020.2,   2.2026,  34.6415,2,   -999.0,9,  34.6474,4,    117.0,2,   135.73,2,  -999.00,9,    38.53,2,     0.00,2,     2.75,2, -999.000,9, -999.000,9,  -999.00,9,   -999.0,9,   -999.0,9,-999.0000,9,   -999.0,  9,  -999.00,9,   -999.0,  -999.00,9,  -999.00,9,  -999.00,9,  -999.00,9,   -999.0,-999.0000, -999,9, 1999,   2.0613,  27.6796,   -999.0,9
       KS05-06, EQPAC,KS-1355,  1,      2,02-16008,2,20050715,0048,  0.0128, 160.9618, 3310,   3034.8,   1.6226,  34.6737,2,   -999.0,9,  34.6773,4,    141.0,2,   144.06,2,  -999.00,9,    37.07,2,     0.00,2,     2.60,2, -999.000,9, -999.000,9,  -999.00,9,   -999.0,9,   -999.0,9,-999.0000,9,   -999.0,  9,  -999.00,9,   -999.0,  -999.00,9,  -999.00,9,  -999.00,9,  -999.00,9,   -999.0,-999.0000, -999,9, 2997,   1.3998,  27.7555,   -999.0,9
       KS05-06, EQPAC,KS-1355,  1,      1,02-16007,2,20050715,0043,  0.0128, 160.9618, 3310,   3293.6,   1.5845,  34.6769,2,   -999.0,9,  34.6771,2,    145.0,2,   143.39,2,  -999.00,9,    36.78,2,     0.00,2,     2.58,2, -999.000,9, -999.000,9,  -999.00,9,   -999.0,9,   -999.0,9,-999.0000,9,   -999.0,  9,  -999.00,9,   -999.0,  -999.00,9,  -999.00,9,  -999.00,9,  -999.00,9,   -999.0,-999.0000, -999,9, 3250,   1.3371,  27.7626,   -999.0,9