BOTTLE,20130510GEMDJMAYT
EXPOCODE,SECT_ID,STNNBR,CASTNO,SAMPNO,BTLNBR,BTLNBR_FLAG_W,DATE,TIME,LATITUDE,LONGITUDE,DEPTH,CTDPRS,CTDTMP,CTDSAL,CTDSAL_FLAG_W,CTDOXY,CTDOXY_FLAG_W,SALNTY,SALNTY_FLAG_W,OXYGEN,OXYGEN_FLAG_W,SILCAT,SILCAT_FLAG_W,NITRAT,NITRAT_FLAG_W,NO2+NO3,NO2+NO3_FLAG_W,NITRIT,NITRIT_FLAG_W,PHSPHT,PHSPHT_FLAG_W,CFC-11,CFC-11_FLAG_W,CFC-12,CFC-12_FLAG_W,DELC13,DELC13_FLAG_W,TCARBN,TCARBN_FLAG_W,ALKALI,ALKALI_FLAG_W,PH,PH_FLAG_W,PH_TMP,PH_SCALE,PH_NBS,PH_NBS_FLAG_W,C13ERR,TOTALP,TOTALP_FLAG_W,AMMONI,AMMONI_FLAG_W,CHLORA,CHLORA_FLAG_W,PPHYTN,PPHYTN_FLAG_W,REVPRS,REVTMP,DEPTH_,DEPTH_FLAG,CTDDEP,THETA,SIGTHT,DOC,DOC_FLAG_W
,,,,,,,GMT,GMT,,,METER,DBAR,ITS-90,PSS-78,,UMOL/KG,,PSS-78,,UMOL/KG,,UMOL/KG,,UMOL/KG,,UMOL/KG,,UMOL/KG,,UMOL/KG,,PMOL/KG,,PMOL/KG,,/MILLE,,UMOL/KG,,UMOL/KG,,25_DEG_C,,DEG_C,,,,/MILLE,UMOL/KG,,UMOL/KG,,UG/L,,UG/L,,DBAR,ITS-90,METERS,,METERS,DEG_C,,UMOL/L,
       KS05-06,  NONE,KS-1368,  1,     24,02-16030,9,20050721,0614,  4.9992, 147.5925, 4741,      4.5,  30.1062,  33.8961,2,   -999.0,9,-999.0000,9,   -999.0,9,  -999.00,9,  -999.00,9,  -999.00,9,  -999.00,9,  -999.00,9, -999.000,9, -999.000,9,  -999.00,9,   -999.0,9,   -999.0,9,-999.0000,9,   -999.0,  9,  -999.00,9,   -999.0,  -999.00,9,  -999.00,9,  -999.00,9,  -999.00,9,   -999.0,-999.0000, -999,9,    4,  30.1051,  20.8631,   -999.0,9
       KS05-06,  NONE,KS-1368,  1,     23,02-19380,2,20050721,0614,  4.9992, 147.5925, 4741,      4.2,  30.1035,  33.8963,2,   -999.0,9,  33.9009,4,    200.0,2,     1.34,2,  -999.00,9,     0.00,2,     0.00,2,     0.03,2, -999.000,9, -999.000,9,  -999.00,9,   -999.0,9,   -999.0,9,-999.0000,9,   -999.0,  9,  -999.00,9,   -999.0,  -999.00,9,  -999.00,9,  -999.00,9,  -999.00,9,   -999.0,-999.0000, -999,9,    4,  30.1025,  20.8641,   -999.0,9
       KS05-06,  NONE,KS-1368,  1,     22,02-19379,2,20050721,0613,  4.9992, 147.5925, 4741,      8.8,  30.0244,  33.9027,2,   -999.0,9,-999.0000,9,    200.0,2,     1.27,2,  -999.00,9,     0.00,2,     0.00,2,     0.03,2, -999.000,9, -999.000,9,  -999.00,9,   -999.0,9,   -999.0,9,-999.0000,9,   -999.0,  9,  -999.00,9,   -999.0,  -999.00,9,  -999.00,9,  -999.00,9,  -999.00,9,   -999.0,-999.0000, -999,9,    9,  30.0222,  20.8962,   -999.0,9
       KS05-06,  NONE,KS-1368,  1,     21,02-16027,2,20050721,0612,  4.9992, 147.5925, 4741,     24.5,  29.9130,  33.9244,2,   -999.0,9,-999.0000,9,    202.0,2,     1.25,2,  -999.00,9,     0.00,2,     0.00,2,     0.02,2, -999.000,9, -999.000,9,  -999.00,9,   -999.0,9,   -999.0,9,-999.0000,9,   -999.0,  9,  -999.00,9,   -999.0,  -999.00,9,  -999.00,9,  -999.00,9,  -999.00,9,   -999.0,-999.0000, -999,9,   24,  29.9070,  20.9517,   -999.0,9
       KS05-06,  NONE,KS-1368,  1,     20,02-16026,2,20050721,0608,  4.9992, 147.5925, 4741,     48.7,  29.6243,  34.0680,2,   -999.0,9,-999.0000,9,    205.0,2,     1.29,2,  -999.00,9,     0.00,2,     0.00,2,     0.05,2, -999.000,9, -999.000,9,  -999.00,9,   -999.0,9,   -999.0,9,-999.0000,9,   -999.0,  9,  -999.00,9,   -999.0,  -999.00,9,  -999.00,9,  -999.00,9,  -999.00,9,   -999.0,-999.0000, -999,9,   48,  29.6124,  21.1591,   -999.0,9
       KS05-06,  NONE,KS-1368,  1,     19,02-19378,2,20050721,0607,  4.9992, 147.5925, 4741,     76.1,  25.9631,  34.5293,2,   -999.0,9,-999.0000,9,    189.0,2,     2.60,2,  -999.00,9,     0.20,2,     0.03,2,     0.15,2, -999.000,9, -999.000,9,  -999.00,9,   -999.0,9,   -999.0,9,-999.0000,9,   -999.0,  9,  -999.00,9,   -999.0,  -999.00,9,  -999.00,9,  -999.00,9,  -999.00,9,   -999.0,-999.0000, -999,9,   76,  25.9462,  22.6950,   -999.0,9
       KS05-06,  NONE,KS-1368,  1,     18,02-19377,2,20050721,0606,  4.9992, 147.5925, 4741,     98.5,  23.8305,  34.8788,2,   -999.0,9,  34.8910,4,    158.0,2,     3.73,2,  -999.00,9,     5.08,2,     0.08,2,     0.42,2, -999.000,9, -999.000,9,  -999.00,9,   -999.0,9,   -999.0,9,-999.0000,9,   -999.0,  9,  -999.00,9,   -999.0,  -999.00,9,  -999.00,9,  -999.00,9,  -999.00,9,   -999.0,-999.0000, -999,9,   98,  23.8099,  23.6057,   -999.0,9
       KS05-06,  NONE,KS-1368,  1,     17,02-16023,2,20050721,0605,  4.9992, 147.5925, 4741,    126.1,  21.0502,  34.8086,2,   -999.0,9,-999.0000,9,    157.0,2,     5.72,2,  -999.00,9,     6.44,2,     0.03,2,     0.51,2, -999.000,9, -999.000,9,  -999.00,9,   -999.0,9,   -999.0,9,-999.0000,9,   -999.0,  9,  -999.00,9,   -999.0,  -999.00,9,  -999.00,9,  -999.00,9,  -999.00,9,   -999.0,-999.0000, -999,9,  125,  21.0261,  24.3411,   -999.0,9
       KS05-06,  NONE,KS-1368,  1,     16,02-16022,2,20050721,0604,  4.9992, 147.5925, 4741,    148.8,  17.8214,  34.7219,2,   -999.0,9,-999.0000,9,    146.0,2,    10.16,2,  -999.00,9,    11.41,2,     0.01,2,     0.82,2, -999.000,9, -999.000,9,  -999.00,9,   -999.0,9,   -999.0,9,-999.0000,9,   -999.0,  9,  -999.00,9,   -999.0,  -999.00,9,  -999.00,9,  -999.00,9,  -999.00,9,   -999.0,-999.0000, -999,9,  148,  17.7961,  25.1091,   -999.0,9
       KS05-06,  NONE,KS-1368,  1,     15,02-16021,2,20050721,0603,  4.9992, 147.5925, 4741,    201.2,  12.3094,  34.5787,2,   -999.0,9,  34.5806,2,     99.0,2,    24.95,2,  -999.00,9,    23.97,2,     0.00,2,     1.72,2, -999.000,9, -999.000,9,  -999.00,9,   -999.0,9,   -999.0,9,-999.0000,9,   -999.0,  9,  -999.00,9,   -999.0,  -999.00,9,  -999.00,9,  -999.00,9,  -999.00,9,   -999.0,-999.0000, -999,9,  200,  12.2828,  26.2076,   -999.0,9
       KS05-06,  NONE,KS-1368,  1,     14,02-16020,2,20050721,0601,  4.9992, 147.5925, 4741,    251.0,  10.5428,  34.5799,2,   -999.0,9,-999.0000,9,     66.0,2,    31.78,2,  -999.00,9,    30.30,2,     0.00,2,     2.17,2, -999.000,9, -999.000,9,  -999.00,9,   -999.0,9,   -999.0,9,-999.0000,9,   -999.0,  9,  -999.00,9,   -999.0,  -999.00,9,  -999.00,9,  -999.00,9,  -999.00,9,   -999.0,-999.0000, -999,9,  249,  10.5128,  26.5351,   -999.0,9
       KS05-06,  NONE,KS-1368,  1,     13,02-16019,2,20050721,0559,  4.9992, 147.5925, 4741,    300.4,   9.4530,  34.6329,2,   -999.0,9,  34.6339,2,     48.0,2,    35.57,2,  -999.00,9,    34.28,2,     0.00,2,     2.44,2, -999.000,9, -999.000,9,  -999.00,9,   -999.0,9,   -999.0,9,-999.0000,9,   -999.0,  9,  -999.00,9,   -999.0,  -999.00,9,  -999.00,9,  -999.00,9,  -999.00,9,   -999.0,-999.0000, -999,9,  299,   9.4193,  26.7625,   -999.0,9
       KS05-06,  NONE,KS-1368,  1,     12,02-16018,2,20050721,0557,  4.9992, 147.5925, 4741,    401.4,   8.4497,  34.6029,2,   -999.0,9,  34.6032,2,     66.0,2,    39.59,2,  -999.00,9,    34.67,2,     0.00,2,     2.45,2, -999.000,9, -999.000,9,  -999.00,9,   -999.0,9,   -999.0,9,-999.0000,9,   -999.0,  9,  -999.00,9,   -999.0,  -999.00,9,  -999.00,9,  -999.00,9,  -999.00,9,   -999.0,-999.0000, -999,9,  399,   8.4074,  26.9002,   -999.0,9
       KS05-06,  NONE,KS-1368,  1,     11,02-19376,2,20050721,0554,  4.9992, 147.5925, 4741,    502.3,   7.5593,  34.5731,2,   -999.0,9,  34.5730,2,     68.0,2,    46.28,2,  -999.00,9,    36.32,2,     0.00,2,     2.59,2, -999.000,9, -999.000,9,  -999.00,9,   -999.0,9,   -999.0,9,-999.0000,9,   -999.0,  9,  -999.00,9,   -999.0,  -999.00,9,  -999.00,9,  -999.00,9,  -999.00,9,   -999.0,-999.0000, -999,9,  499,   7.5094,  27.0105,   -999.0,9
       KS05-06,  NONE,KS-1368,  1,     10,02-19375,2,20050721,0552,  4.9992, 147.5925, 4741,    602.6,   6.6431,  34.5503,2,   -999.0,9,  34.5506,2,     70.0,2,    54.85,2,  -999.00,9,    37.87,2,     0.00,2,     2.73,2, -999.000,9, -999.000,9,  -999.00,9,   -999.0,9,   -999.0,9,-999.0000,9,   -999.0,  9,  -999.00,9,   -999.0,  -999.00,9,  -999.00,9,  -999.00,9,  -999.00,9,   -999.0,-999.0000, -999,9,  598,   6.5870,  27.1207,   -999.0,9
       KS05-06,  NONE,KS-1368,  1,      9,02-16015,2,20050721,0549,  4.9992, 147.5925, 4741,    703.3,   5.9296,  34.5402,2,   -999.0,9,  34.5400,2,     75.0,2,    64.78,2,  -999.00,9,    38.55,2,     0.00,2,     2.77,2, -999.000,9, -999.000,9,  -999.00,9,   -999.0,9,   -999.0,9,-999.0000,9,   -999.0,  9,  -999.00,9,   -999.0,  -999.00,9,  -999.00,9,  -999.00,9,  -999.00,9,   -999.0,-999.0000, -999,9,  698,   5.8675,  27.2061,   -999.0,9
       KS05-06,  NONE,KS-1368,  1,      8,02-16014,2,20050721,0547,  4.9992, 147.5925, 4741,    804.8,   5.4005,  34.5401,2,   -999.0,9,  34.5398,2,     86.0,2,    71.30,2,  -999.00,9,    38.55,2,     0.00,2,     2.76,2, -999.000,9, -999.000,9,  -999.00,9,   -999.0,9,   -999.0,9,-999.0000,9,   -999.0,  9,  -999.00,9,   -999.0,  -999.00,9,  -999.00,9,  -999.00,9,  -999.00,9,   -999.0,-999.0000, -999,9,  799,   5.3321,  27.2716,   -999.0,9
       KS05-06,  NONE,KS-1368,  1,      7,02-19374,2,20050721,0544,  4.9992, 147.5925, 4741,    905.2,   4.8585,  34.5466,2,   -999.0,9,  34.5451,2,     86.0,2,    81.55,2,  -999.00,9,    38.84,2,     0.00,2,     2.79,2, -999.000,9, -999.000,9,  -999.00,9,   -999.0,9,   -999.0,9,-999.0000,9,   -999.0,  9,  -999.00,9,   -999.0,  -999.00,9,  -999.00,9,  -999.00,9,  -999.00,9,   -999.0,-999.0000, -999,9,  898,   4.7846,  27.3404,   -999.0,9
       KS05-06,  NONE,KS-1368,  1,      6,02-19373,2,20050721,0542,  4.9992, 147.5925, 4741,   1006.7,   4.4962,  34.5542,2,   -999.0,9,  34.5533,2,     86.0,2,    91.47,2,  -999.00,9,    39.13,2,     0.00,2,     2.82,2, -999.000,9, -999.000,9,  -999.00,9,   -999.0,9,   -999.0,9,-999.0000,9,   -999.0,  9,  -999.00,9,   -999.0,  -999.00,9,  -999.00,9,  -999.00,9,  -999.00,9,   -999.0,-999.0000, -999,9,  999,   4.4161,  27.3873,   -999.0,9
       KS05-06,  NONE,KS-1368,  1,      5,02-16011,2,20050721,0536,  4.9992, 147.5925, 4741,   1260.0,   3.6228,  34.5786,2,   -999.0,9,  34.5777,2,     92.0,2,   108.57,2,  -999.00,9,    39.51,2,     0.00,2,     2.84,2, -999.000,9, -999.000,9,  -999.00,9,   -999.0,9,   -999.0,9,-999.0000,9,   -999.0,  9,  -999.00,9,   -999.0,  -999.00,9,  -999.00,9,  -999.00,9,  -999.00,9,   -999.0,-999.0000, -999,9, 1249,   3.5285,  27.4985,   -999.0,9
       KS05-06,  NONE,KS-1368,  1,      4,02-16010,2,20050721,0531,  4.9992, 147.5925, 4741,   1512.1,   2.9869,  34.6020,2,   -999.0,9,  34.6012,2,     97.0,2,   122.41,2,  -999.00,9,    39.70,2,     0.00,2,     2.85,2, -999.000,9, -999.000,9,  -999.00,9,   -999.0,9,   -999.0,9,-999.0000,9,   -999.0,  9,  -999.00,9,   -999.0,  -999.00,9,  -999.00,9,  -999.00,9,  -999.00,9,   -999.0,-999.0000, -999,9, 1498,   2.8781,  27.5785,   -999.0,9
       KS05-06,  NONE,KS-1368,  1,      3,02-16009,2,20050721,0526,  4.9992, 147.5925, 4741,   1766.4,   2.5791,  34.6189,2,   -999.0,9,  34.6179,2,    103.0,2,   130.12,2,  -999.00,9,    39.41,2,     0.00,2,     2.81,2, -999.000,9, -999.000,9,  -999.00,9,   -999.0,9,   -999.0,9,-999.0000,9,   -999.0,  9,  -999.00,9,   -999.0,  -999.00,9,  -999.00,9,  -999.00,9,  -999.00,9,   -999.0,-999.0000, -999,9, 1749,   2.4541,  27.6291,   -999.0,9
       KS05-06,  NONE,KS-1368,  1,      2,02-16008,2,20050721,0521,  4.9992, 147.5925, 4741,   2019.7,   2.2392,  34.6353,2,   -999.0,9,  34.6350,2,    111.0,2,   137.06,2,  -999.00,9,    39.02,2,     0.00,2,     2.77,2, -999.000,9, -999.000,9,  -999.00,9,   -999.0,9,   -999.0,9,-999.0000,9,   -999.0,  9,  -999.00,9,   -999.0,  -999.00,9,  -999.00,9,  -999.00,9,  -999.00,9,   -999.0,-999.0000, -999,9, 1999,   2.0974,  27.6717,   -999.0,9
       KS05-06,  NONE,KS-1368,  1,      1,02-16007,9,20050721,0520,  4.9992, 147.5925, 4741,   2031.2,   2.2274,  34.6361,2,   -999.0,9,-999.0000,9,   -999.0,9,  -999.00,9,  -999.00,9,  -999.00,9,  -999.00,9,  -999.00,9, -999.000,9, -999.000,9,  -999.00,9,   -999.0,9,   -999.0,9,-999.0000,9,   -999.0,  9,  -999.00,9,   -999.0,  -999.00,9,  -999.00,9,  -999.00,9,  -999.00,9,   -999.0,-999.0000, -999,9, 2010,   2.0848,  27.6734,   -999.0,9