BOTTLE,20130510GEMDJMAYT
EXPOCODE,SECT_ID,STNNBR,CASTNO,SAMPNO,BTLNBR,BTLNBR_FLAG_W,DATE,TIME,LATITUDE,LONGITUDE,DEPTH,CTDPRS,CTDTMP,CTDSAL,CTDSAL_FLAG_W,CTDOXY,CTDOXY_FLAG_W,SALNTY,SALNTY_FLAG_W,OXYGEN,OXYGEN_FLAG_W,SILCAT,SILCAT_FLAG_W,NITRAT,NITRAT_FLAG_W,NO2+NO3,NO2+NO3_FLAG_W,NITRIT,NITRIT_FLAG_W,PHSPHT,PHSPHT_FLAG_W,CFC-11,CFC-11_FLAG_W,CFC-12,CFC-12_FLAG_W,DELC13,DELC13_FLAG_W,TCARBN,TCARBN_FLAG_W,ALKALI,ALKALI_FLAG_W,PH,PH_FLAG_W,PH_TMP,PH_SCALE,PH_NBS,PH_NBS_FLAG_W,C13ERR,TOTALP,TOTALP_FLAG_W,AMMONI,AMMONI_FLAG_W,CHLORA,CHLORA_FLAG_W,PPHYTN,PPHYTN_FLAG_W,REVPRS,REVTMP,DEPTH_,DEPTH_FLAG,CTDDEP,THETA,SIGTHT,DOC,DOC_FLAG_W
,,,,,,,GMT,GMT,,,METER,DBAR,ITS-90,PSS-78,,UMOL/KG,,PSS-78,,UMOL/KG,,UMOL/KG,,UMOL/KG,,UMOL/KG,,UMOL/KG,,UMOL/KG,,PMOL/KG,,PMOL/KG,,/MILLE,,UMOL/KG,,UMOL/KG,,25_DEG_C,,DEG_C,,,,/MILLE,UMOL/KG,,UMOL/KG,,UG/L,,UG/L,,DBAR,ITS-90,METERS,,METERS,DEG_C,,UMOL/L,
       KS05-06,  165E,KS-1329,  1,     24,02-16030,2,20050626,0454, 18.0020, 164.9883, 5427,      4.6,  29.0722,  34.7099,2,   -999.0,9,  34.7142,4,    199.0,2,     1.05,2,  -999.00,9,     0.00,2,     0.00,2,     0.05,2, -999.000,9, -999.000,9,  -999.00,9,   1935.8,3,   -999.0,9,-999.0000,9,   -999.0,  9,     8.23,2,   -999.0,  -999.00,9,  -999.00,9,     0.00,2,     0.00,2,   -999.0,-999.0000, -999,9,    5,  29.0711,  21.8225,   -999.0,9
       KS05-06,  165E,KS-1329,  1,     23,02-19380,2,20050626,0454, 18.0020, 164.9883, 5427,      9.5,  29.0701,  34.7094,2,   -999.0,9,-999.0000,9,    199.0,2,     1.09,2,  -999.00,9,     0.00,2,     0.00,2,     0.05,2, -999.000,9, -999.000,9,  -999.00,9,   1937.3,3,   -999.0,9,-999.0000,9,   -999.0,  9,     8.23,2,   -999.0,  -999.00,9,  -999.00,9,     0.03,2,     0.01,2,   -999.0,-999.0000, -999,9,    9,  29.0678,  21.8232,   -999.0,9
       KS05-06,  165E,KS-1329,  1,     22,02-19379,2,20050626,0452, 18.0020, 164.9883, 5427,     24.3,  28.3341,  34.9089,2,   -999.0,9,-999.0000,9,    218.0,2,     1.13,2,  -999.00,9,     0.00,2,     0.00,2,     0.04,2, -999.000,9, -999.000,9,  -999.00,9,   1957.3,3,   -999.0,9,-999.0000,9,   -999.0,  9,     8.23,2,   -999.0,  -999.00,9,  -999.00,9,     0.05,2,     0.02,2,   -999.0,-999.0000, -999,9,   24,  28.3283,  22.2184,   -999.0,9
       KS05-06,  165E,KS-1329,  1,     21,02-16027,2,20050626,0449, 18.0020, 164.9883, 5427,     49.4,  27.3472,  34.9263,2,   -999.0,9,-999.0000,9,    211.0,2,     0.96,2,  -999.00,9,     0.00,2,     0.00,2,     0.02,2, -999.000,9, -999.000,9,  -999.00,9,   1946.3,3,   -999.0,9,-999.0000,9,   -999.0,  9,     8.24,2,   -999.0,  -999.00,9,  -999.00,9,     0.06,2,     0.03,2,   -999.0,-999.0000, -999,9,   49,  27.3358,  22.5546,   -999.0,9
       KS05-06,  165E,KS-1329,  1,     20,02-16026,2,20050626,0448, 18.0020, 164.9883, 5427,     74.4,  26.6298,  34.9118,2,   -999.0,9,-999.0000,9,    211.0,2,     0.94,2,  -999.00,9,     0.00,2,     0.00,2,     0.02,2, -999.000,9, -999.000,9,  -999.00,9,   1947.1,3,   -999.0,9,-999.0000,9,   -999.0,  9,     8.23,2,   -999.0,  -999.00,9,  -999.00,9,     0.07,2,     0.05,2,   -999.0,-999.0000, -999,9,   74,  26.6129,  22.7744,   -999.0,9
       KS05-06,  165E,KS-1329,  1,     19,02-19378,2,20050626,0448, 18.0020, 164.9883, 5427,     99.6,  26.0735,  34.9752,2,   -999.0,9,  34.9846,2,    210.0,2,     0.93,2,  -999.00,9,     0.00,2,     0.00,2,     0.02,2, -999.000,9, -999.000,9,  -999.00,9,   1961.4,3,   -999.0,9,-999.0000,9,   -999.0,  9,     8.22,2,   -999.0,  -999.00,9,  -999.00,9,     0.11,2,     0.09,2,   -999.0,-999.0000, -999,9,   99,  26.0512,  22.9986,   -999.0,9
       KS05-06,  165E,KS-1329,  1,     18,02-19377,2,20050626,0447, 18.0020, 164.9883, 5427,    124.4,  25.4500,  35.0936,2,   -999.0,9,-999.0000,9,    208.0,2,     0.97,2,  -999.00,9,     0.00,2,     0.00,2,     0.02,2, -999.000,9, -999.000,9,  -999.00,9,   1968.9,3,   -999.0,9,-999.0000,9,   -999.0,  9,     8.22,2,   -999.0,  -999.00,9,  -999.00,9,     0.20,2,     0.24,2,   -999.0,-999.0000, -999,9,  124,  25.4227,  23.2828,   -999.0,9
       KS05-06,  165E,KS-1329,  1,     17,02-16023,2,20050626,0446, 18.0020, 164.9883, 5427,    150.3,  24.4463,  35.1564,2,   -999.0,9,-999.0000,9,    205.0,2,     1.06,2,  -999.00,9,     0.00,2,     0.02,2,     0.02,2, -999.000,9, -999.000,9,  -999.00,9,   1990.6,3,   -999.0,9,-999.0000,9,   -999.0,  9,     8.19,2,   -999.0,  -999.00,9,  -999.00,9,     0.14,2,     0.50,2,   -999.0,-999.0000, -999,9,  149,  24.4142,  23.6363,   -999.0,9
       KS05-06,  165E,KS-1329,  1,     16,02-16022,2,20050626,0445, 18.0020, 164.9883, 5427,    200.9,  22.1564,  35.1532,2,   -999.0,9,  35.1559,4,    189.0,2,     1.74,2,  -999.00,9,     1.07,2,     0.02,2,     0.13,2, -999.000,9, -999.000,9,  -999.00,9,   2025.0,3,   -999.0,9,-999.0000,9,   -999.0,  9,     8.12,2,   -999.0,  -999.00,9,  -999.00,9,     0.03,2,     0.15,2,   -999.0,-999.0000, -999,9,  200,  22.1164,  24.3015,   -999.0,9
       KS05-06,  165E,KS-1329,  1,     15,02-16021,2,20050626,0443, 18.0020, 164.9883, 5427,    250.1,  18.5820,  34.8961,2,   -999.0,9,-999.0000,9,    186.0,2,     3.75,2,  -999.00,9,     4.59,2,     0.00,2,     0.34,2, -999.000,9, -999.000,9,  -999.00,9,   2049.8,3,   -999.0,9,-999.0000,9,   -999.0,  9,     8.05,2,   -999.0,  -999.00,9,  -999.00,9,     0.01,2,     0.01,2,   -999.0,-999.0000, -999,9,  248,  18.5381,  25.0586,   -999.0,9
       KS05-06,  165E,KS-1329,  1,     14,02-16020,2,20050626,0442, 18.0020, 164.9883, 5427,    301.0,  15.7883,  34.6315,2,   -999.0,9,  34.6356,2,    199.0,2,     6.34,2,  -999.00,9,     7.22,2,     0.00,2,     0.48,2, -999.000,9, -999.000,9,  -999.00,9,   2054.6,3,   -999.0,9,-999.0000,9,   -999.0,  9,     8.02,2,   -999.0,  -999.00,9,  -999.00,9,     0.00,2,     0.00,2,   -999.0,-999.0000, -999,9,  299,  15.7411,  25.5229,   -999.0,9
       KS05-06,  165E,KS-1329,  1,     13,02-16019,2,20050626,0439, 18.0020, 164.9883, 5427,    402.4,  11.3710,  34.2840,2,   -999.0,9,  34.2880,2,    171.0,2,    19.24,2,  -999.00,9,    17.25,2,     0.00,2,     1.20,2, -999.000,9, -999.000,9,  -999.00,9,   2113.7,3,   -999.0,9,-999.0000,9,   -999.0,  9,     7.87,2,   -999.0,  -999.00,9,  -999.00,9,  -999.00,9,  -999.00,9,   -999.0,-999.0000, -999,9,  400,  11.3203,  26.1598,   -999.0,9
       KS05-06,  165E,KS-1329,  1,     12,02-16018,2,20050626,0437, 18.0020, 164.9883, 5427,    503.4,   8.0158,  34.1639,2,   -999.0,9,  34.1668,2,    113.0,2,    44.16,2,  -999.00,9,    28.74,2,     0.00,2,     2.07,2, -999.000,9, -999.000,9,  -999.00,9,   -999.0,9,   -999.0,9,-999.0000,9,   -999.0,  9,     7.67,2,   -999.0,  -999.00,9,  -999.00,9,  -999.00,9,  -999.00,9,   -999.0,-999.0000, -999,9,  500,   7.9644,  26.6225,   -999.0,9
       KS05-06,  165E,KS-1329,  1,     11,02-19376,2,20050626,0435, 18.0020, 164.9883, 5427,    603.5,   6.5387,  34.2486,2,   -999.0,9,  34.2479,2,     64.0,2,    65.54,2,  -999.00,9,    36.03,2,     0.00,2,     2.63,2, -999.000,9, -999.000,9,  -999.00,9,   2255.6,3,   -999.0,9,-999.0000,9,   -999.0,  9,     7.56,2,   -999.0,  -999.00,9,  -999.00,9,  -999.00,9,  -999.00,9,   -999.0,-999.0000, -999,9,  599,   6.4833,  26.8965,   -999.0,9
       KS05-06,  165E,KS-1329,  1,     10,02-19375,2,20050626,0432, 18.0020, 164.9883, 5427,    704.8,   5.5793,  34.3429,2,   -999.0,9,  34.3441,2,     54.0,2,    81.12,2,  -999.00,9,    38.85,2,     0.00,2,     2.82,2, -999.000,9, -999.000,9,  -999.00,9,   -999.0,9,   -999.0,9,-999.0000,9,   -999.0,  9,     7.53,2,   -999.0,  -999.00,9,  -999.00,9,  -999.00,9,  -999.00,9,   -999.0,-999.0000, -999,9,  699,   5.5191,  27.0930,   -999.0,9
       KS05-06,  165E,KS-1329,  1,      9,02-16015,2,20050626,0430, 18.0020, 164.9883, 5427,    805.1,   5.1201,  34.4403,2,   -999.0,9,  34.4428,2,     62.0,2,    88.65,2,  -999.00,9,    39.23,2,     0.00,2,     2.83,2, -999.000,9, -999.000,9,  -999.00,9,   2296.6,3,   -999.0,9,-999.0000,9,   -999.0,  9,     7.55,2,   -999.0,  -999.00,9,  -999.00,9,  -999.00,9,  -999.00,9,   -999.0,-999.0000, -999,9,  799,   5.0535,  27.2253,   -999.0,9
       KS05-06,  165E,KS-1329,  1,      8,02-16014,2,20050626,0428, 18.0020, 164.9883, 5427,    905.9,   4.7160,  34.4887,2,   -999.0,9,  34.4899,2,     67.0,2,    95.07,2,  -999.00,9,    39.52,2,     0.00,2,     2.84,2, -999.000,9, -999.000,9,  -999.00,9,   -999.0,9,   -999.0,9,-999.0000,9,   -999.0,  9,     7.56,2,   -999.0,  -999.00,9,  -999.00,9,  -999.00,9,  -999.00,9,   -999.0,-999.0000, -999,9,  899,   4.6431,  27.3104,   -999.0,9
       KS05-06,  165E,KS-1329,  1,      7,02-19374,2,20050626,0426, 18.0020, 164.9883, 5427,   1006.9,   4.2669,  34.5178,2,   -999.0,9,  34.5172,2,     71.0,2,   103.37,2,  -999.00,9,    39.81,2,     0.00,2,     2.86,2, -999.000,9, -999.000,9,  -999.00,9,   2312.2,3,   -999.0,9,-999.0000,9,   -999.0,  9,     7.56,2,   -999.0,  -999.00,9,  -999.00,9,  -999.00,9,  -999.00,9,   -999.0,-999.0000, -999,9,  998,   4.1886,  27.3828,   -999.0,9
       KS05-06,  165E,KS-1329,  1,      6,02-19373,2,20050626,0421, 18.0020, 164.9883, 5427,   1259.4,   3.4444,  34.5512,2,   -999.0,9,  34.5506,2,     82.0,2,   119.41,2,  -999.00,9,    39.81,2,     0.00,2,     2.84,2, -999.000,9, -999.000,9,  -999.00,9,   2328.1,3,   -999.0,9,-999.0000,9,   -999.0,  9,     7.57,2,   -999.0,  -999.00,9,  -999.00,9,  -999.00,9,  -999.00,9,   -999.0,-999.0000, -999,9, 1248,   3.3519,  27.4938,   -999.0,9
       KS05-06,  165E,KS-1329,  1,      5,02-16011,2,20050626,0415, 18.0020, 164.9883, 5427,   1513.2,   2.8157,  34.5801,2,   -999.0,9,  34.5796,2,     89.0,2,   132.45,2,  -999.00,9,    39.80,2,     0.00,2,     2.84,2, -999.000,9, -999.000,9,  -999.00,9,   2335.9,3,   -999.0,9,-999.0000,9,   -999.0,  9,     7.58,2,   -999.0,  -999.00,9,  -999.00,9,  -999.00,9,  -999.00,9,   -999.0,-999.0000, -999,9, 1499,   2.7089,  27.5760,   -999.0,9
       KS05-06,  165E,KS-1329,  1,      4,02-16010,2,20050626,0410, 18.0020, 164.9883, 5427,   1766.1,   2.3903,  34.6043,2,   -999.0,9,  34.6036,2,     98.0,2,   140.23,2,  -999.00,9,    39.61,2,     0.00,2,     2.80,2, -999.000,9, -999.000,9,  -999.00,9,   -999.0,9,   -999.0,9,-999.0000,9,   -999.0,  9,     7.60,2,   -999.0,  -999.00,9,  -999.00,9,  -999.00,9,  -999.00,9,   -999.0,-999.0000, -999,9, 1748,   2.2679,  27.6330,   -999.0,9
       KS05-06,  165E,KS-1329,  1,      3,02-16009,9,20050626,0405, 18.0020, 164.9883, 5427,   2021.9,   2.1180,  34.6268,2,   -999.0,9,-999.0000,9,   -999.0,9,  -999.00,9,  -999.00,9,  -999.00,9,  -999.00,9,  -999.00,9, -999.000,9, -999.000,9,  -999.00,9,   -999.0,9,   -999.0,9,-999.0000,9,   -999.0,  9,  -999.00,9,   -999.0,  -999.00,9,  -999.00,9,  -999.00,9,  -999.00,9,   -999.0,-999.0000, -999,9, 2000,   1.9779,  27.6744,   -999.0,9
       KS05-06,  165E,KS-1329,  1,      2,02-16008,9,20050626,0405, 18.0020, 164.9883, 5427,   2021.5,   2.1169,  34.6269,2,   -999.0,9,-999.0000,9,   -999.0,9,  -999.00,9,  -999.00,9,  -999.00,9,  -999.00,9,  -999.00,9, -999.000,9, -999.000,9,  -999.00,9,   -999.0,9,   -999.0,9,-999.0000,9,   -999.0,  9,  -999.00,9,   -999.0,  -999.00,9,  -999.00,9,  -999.00,9,  -999.00,9,   -999.0,-999.0000, -999,9, 2000,   1.9769,  27.6746,   -999.0,9
       KS05-06,  165E,KS-1329,  1,      1,02-16007,2,20050626,0405, 18.0020, 164.9883, 5427,   2023.0,   2.1161,  34.6267,2,   -999.0,9,  34.5792,4,    107.0,2,   145.34,2,  -999.00,9,    39.31,2,     0.00,2,     2.76,2, -999.000,9, -999.000,9,  -999.00,9,   2335.2,3,   -999.0,9,-999.0000,9,   -999.0,  9,     7.61,2,   -999.0,  -999.00,9,  -999.00,9,  -999.00,9,  -999.00,9,   -999.0,-999.0000, -999,9, 2001,   1.9760,  27.6745,   -999.0,9
       KS05-06,  165E,KS-1330,  1,      2,02-16008,9,20050626,1114, 16.9967, 164.9747, 5419,      4.8,  28.8221,  34.5986,2,   -999.0,9,-999.0000,9,   -999.0,9,  -999.00,9,  -999.00,9,  -999.00,9,  -999.00,9,  -999.00,9, -999.000,9, -999.000,9,  -999.00,9,   -999.0,9,   -999.0,9,-999.0000,9,   -999.0,  9,  -999.00,9,   -999.0,  -999.00,9,  -999.00,9,  -999.00,9,  -999.00,9,   -999.0,-999.0000, -999,9,    5,  28.8209,  21.8224,   -999.0,9
       KS05-06,  165E,KS-1330,  1,      1,02-16007,2,20050626,1114, 16.9967, 164.9747, 5419,      4.6,  28.8302,  34.5977,2,   -999.0,9,-999.0000,9,   -999.0,9,     1.07,2,  -999.00,9,     0.00,2,     0.00,2,     0.05,2, -999.000,9, -999.000,9,  -999.00,9,   1926.3,3,   -999.0,9,-999.0000,9,   -999.0,  9,  -999.00,9,   -999.0,  -999.00,9,  -999.00,9,     0.02,2,     0.01,2,   -999.0,-999.0000, -999,9,    5,  28.8291,  21.8190,   -999.0,9
       KS05-06,  165E,KS-1331,  1,      2,02-16008,9,20050626,1719, 15.9868, 164.9848, 5364,      5.1,  28.6951,  35.0570,2,   -999.0,9,-999.0000,9,   -999.0,9,  -999.00,9,  -999.00,9,  -999.00,9,  -999.00,9,  -999.00,9, -999.000,9, -999.000,9,  -999.00,9,   -999.0,9,   -999.0,9,-999.0000,9,   -999.0,  9,  -999.00,9,   -999.0,  -999.00,9,  -999.00,9,  -999.00,9,  -999.00,9,   -999.0,-999.0000, -999,9,    5,  28.6939,  22.2089,   -999.0,9
       KS05-06,  165E,KS-1331,  1,      1,02-16007,2,20050626,1719, 15.9868, 164.9848, 5364,      5.3,  28.6941,  35.0569,2,   -999.0,9,-999.0000,9,   -999.0,9,     0.90,2,  -999.00,9,     0.00,2,     0.00,2,     0.03,2, -999.000,9, -999.000,9,  -999.00,9,   1955.3,3,   -999.0,9,-999.0000,9,   -999.0,  9,  -999.00,9,   -999.0,  -999.00,9,  -999.00,9,     0.05,2,     0.02,2,   -999.0,-999.0000, -999,9,    5,  28.6928,  22.2091,   -999.0,9