BOTTLE,20130510GEMDJMAYT
EXPOCODE,SECT_ID,STNNBR,CASTNO,SAMPNO,BTLNBR,BTLNBR_FLAG_W,DATE,TIME,LATITUDE,LONGITUDE,DEPTH,CTDPRS,CTDTMP,CTDSAL,CTDSAL_FLAG_W,CTDOXY,CTDOXY_FLAG_W,SALNTY,SALNTY_FLAG_W,OXYGEN,OXYGEN_FLAG_W,SILCAT,SILCAT_FLAG_W,NITRAT,NITRAT_FLAG_W,NO2+NO3,NO2+NO3_FLAG_W,NITRIT,NITRIT_FLAG_W,PHSPHT,PHSPHT_FLAG_W,CFC-11,CFC-11_FLAG_W,CFC-12,CFC-12_FLAG_W,DELC13,DELC13_FLAG_W,TCARBN,TCARBN_FLAG_W,ALKALI,ALKALI_FLAG_W,PH,PH_FLAG_W,PH_TMP,PH_SCALE,PH_NBS,PH_NBS_FLAG_W,C13ERR,TOTALP,TOTALP_FLAG_W,AMMONI,AMMONI_FLAG_W,CHLORA,CHLORA_FLAG_W,PPHYTN,PPHYTN_FLAG_W,REVPRS,REVTMP,DEPTH_,DEPTH_FLAG,CTDDEP,THETA,SIGTHT,DOC,DOC_FLAG_W
,,,,,,,GMT,GMT,,,METER,DBAR,ITS-90,PSS-78,,UMOL/KG,,PSS-78,,UMOL/KG,,UMOL/KG,,UMOL/KG,,UMOL/KG,,UMOL/KG,,UMOL/KG,,PMOL/KG,,PMOL/KG,,/MILLE,,UMOL/KG,,UMOL/KG,,25_DEG_C,,DEG_C,,,,/MILLE,UMOL/KG,,UMOL/KG,,UG/L,,UG/L,,DBAR,ITS-90,METERS,,METERS,DEG_C,,UMOL/L,
       KS05-06,  165E,KS-1342,  1,     24,02-16030,2,20050629,1721,  5.0838, 164.9995, 4788,      5.0,  29.2011,  34.0479,2,   -999.0,9,  34.0523,4,    199.0,2,     1.15,2,  -999.00,9,     0.00,2,     0.00,2,     0.09,2, -999.000,9, -999.000,9,  -999.00,9,   1887.7,2,   -999.0,9,-999.0000,9,   -999.0,  9,     8.26,2,   -999.0,  -999.00,9,  -999.00,9,     0.05,2,     0.03,2,   -999.0,-999.0000, -999,9,    5,  29.1999,  21.2826,   -999.0,9
       KS05-06,  165E,KS-1342,  1,     23,02-19380,2,20050629,1720,  5.0838, 164.9995, 4788,      9.7,  29.2111,  34.0474,2,   -999.0,9,-999.0000,9,    199.0,2,     1.09,2,  -999.00,9,     0.00,2,     0.00,2,     0.09,2, -999.000,9, -999.000,9,  -999.00,9,   -999.0,9,   -999.0,9,-999.0000,9,   -999.0,  9,     8.26,2,   -999.0,  -999.00,9,  -999.00,9,     0.05,2,     0.03,2,   -999.0,-999.0000, -999,9,   10,  29.2088,  21.2793,   -999.0,9
       KS05-06,  165E,KS-1342,  1,     22,02-19379,2,20050629,1719,  5.0838, 164.9995, 4788,     25.0,  29.2200,  34.0477,2,   -999.0,9,-999.0000,9,    200.0,2,     1.08,2,  -999.00,9,     0.00,2,     0.00,2,     0.09,2, -999.000,9, -999.000,9,  -999.00,9,   -999.0,9,   -999.0,9,-999.0000,9,   -999.0,  9,     8.27,2,   -999.0,  -999.00,9,  -999.00,9,     0.05,2,     0.03,2,   -999.0,-999.0000, -999,9,   25,  29.2139,  21.2778,   -999.0,9
       KS05-06,  165E,KS-1342,  1,     21,02-16027,2,20050629,1717,  5.0838, 164.9995, 4788,     49.2,  29.2287,  34.0469,2,   -999.0,9,-999.0000,9,    199.0,2,     1.02,2,  -999.00,9,     0.00,2,     0.00,2,     0.09,2, -999.000,9, -999.000,9,  -999.00,9,   -999.0,9,   -999.0,9,-999.0000,9,   -999.0,  9,     8.26,2,   -999.0,  -999.00,9,  -999.00,9,     0.06,2,     0.03,2,   -999.0,-999.0000, -999,9,   49,  29.2168,  21.2763,   -999.0,9
       KS05-06,  165E,KS-1342,  1,     20,02-16026,2,20050629,1716,  5.0838, 164.9995, 4788,     75.2,  29.1149,  34.3028,2,   -999.0,9,-999.0000,9,    199.0,2,     1.06,2,  -999.00,9,     0.00,2,     0.00,2,     0.10,2, -999.000,9, -999.000,9,  -999.00,9,   -999.0,9,   -999.0,9,-999.0000,9,   -999.0,  9,     8.25,2,   -999.0,  -999.00,9,  -999.00,9,     0.10,2,     0.08,2,   -999.0,-999.0000, -999,9,   75,  29.0967,  21.5085,   -999.0,9
       KS05-06,  165E,KS-1342,  1,     19,02-19378,2,20050629,1715,  5.0838, 164.9995, 4788,     99.8,  27.1590,  34.4995,2,   -999.0,9,  34.5380,4,    189.0,2,     2.00,2,  -999.00,9,     0.00,2,     0.00,2,     0.12,2, -999.000,9, -999.000,9,  -999.00,9,   -999.0,9,   -999.0,9,-999.0000,9,   -999.0,  9,     8.20,2,   -999.0,  -999.00,9,  -999.00,9,     0.18,2,     0.42,2,   -999.0,-999.0000, -999,9,   99,  27.1360,  22.2974,   -999.0,9
       KS05-06,  165E,KS-1342,  1,     18,02-19377,2,20050629,1714,  5.0838, 164.9995, 4788,    125.5,  20.9438,  34.8043,2,   -999.0,9,-999.0000,9,    149.0,2,     6.60,2,  -999.00,9,     7.71,2,     0.03,2,     0.59,2, -999.000,9, -999.000,9,  -999.00,9,   -999.0,9,   -999.0,9,-999.0000,9,   -999.0,  9,     8.04,2,   -999.0,  -999.00,9,  -999.00,9,     0.07,2,     0.37,2,   -999.0,-999.0000, -999,9,  125,  20.9199,  24.3666,   -999.0,9
       KS05-06,  165E,KS-1342,  1,     17,02-16023,2,20050629,1713,  5.0838, 164.9995, 4788,    150.2,  18.6621,  34.7988,2,   -999.0,9,-999.0000,9,    138.0,2,     9.57,2,  -999.00,9,    11.51,2,     0.02,2,     0.82,2, -999.000,9, -999.000,9,  -999.00,9,   -999.0,9,   -999.0,9,-999.0000,9,   -999.0,  9,     7.98,2,   -999.0,  -999.00,9,  -999.00,9,     0.04,2,     0.22,2,   -999.0,-999.0000, -999,9,  149,  18.6357,  24.9596,   -999.0,9
       KS05-06,  165E,KS-1342,  1,     16,02-16022,2,20050629,1712,  5.0838, 164.9995, 4788,    201.0,  12.2994,  34.5160,2,   -999.0,9,  34.5339,4,     81.0,2,    24.31,2,  -999.00,9,    25.34,2,     0.00,2,     1.82,2, -999.000,9, -999.000,9,  -999.00,9,   -999.0,9,   -999.0,9,-999.0000,9,   -999.0,  9,     7.74,2,   -999.0,  -999.00,9,  -999.00,9,     0.01,2,     0.03,2,   -999.0,-999.0000, -999,9,  200,  12.2729,  26.1609,   -999.0,9
       KS05-06,  165E,KS-1342,  1,     15,02-16021,2,20050629,1711,  5.0838, 164.9995, 4788,    250.0,  10.0809,  34.6374,2,   -999.0,9,-999.0000,9,     36.0,2,    34.11,2,  -999.00,9,    33.90,2,     0.00,2,     2.41,2, -999.000,9, -999.000,9,  -999.00,9,   -999.0,9,   -999.0,9,-999.0000,9,   -999.0,  9,     7.60,2,   -999.0,  -999.00,9,  -999.00,9,     0.00,2,     0.01,2,   -999.0,-999.0000, -999,9,  248,  10.0518,  26.6600,   -999.0,9
       KS05-06,  165E,KS-1342,  1,     14,02-16020,2,20050629,1710,  5.0838, 164.9995, 4788,    301.3,   9.2437,  34.6307,2,   -999.0,9,  34.6307,2,     46.0,2,    37.32,2,  -999.00,9,    34.77,2,     0.00,2,     2.45,2, -999.000,9, -999.000,9,  -999.00,9,   -999.0,9,   -999.0,9,-999.0000,9,   -999.0,  9,     7.59,2,   -999.0,  -999.00,9,  -999.00,9,     0.00,2,     0.01,2,   -999.0,-999.0000, -999,9,  299,   9.2104,  26.7950,   -999.0,9
       KS05-06,  165E,KS-1342,  1,     13,02-16019,2,20050629,1707,  5.0838, 164.9995, 4788,    402.7,   8.3358,  34.6056,2,   -999.0,9,  34.6060,2,     62.0,2,    40.33,2,  -999.00,9,    35.15,2,     0.00,2,     2.46,2, -999.000,9, -999.000,9,  -999.00,9,   -999.0,9,   -999.0,9,-999.0000,9,   -999.0,  9,     7.61,2,   -999.0,  -999.00,9,  -999.00,9,  -999.00,9,  -999.00,9,   -999.0,-999.0000, -999,9,  400,   8.2937,  26.9197,   -999.0,9
       KS05-06,  165E,KS-1342,  1,     12,02-16018,2,20050629,1705,  5.0838, 164.9995, 4788,    502.8,   7.6434,  34.5798,2,   -999.0,9,  34.5806,2,     57.0,2,    46.60,2,  -999.00,9,    36.81,2,     0.00,2,     2.62,2, -999.000,9, -999.000,9,  -999.00,9,   -999.0,9,   -999.0,9,-999.0000,9,   -999.0,  9,     7.59,2,   -999.0,  -999.00,9,  -999.00,9,  -999.00,9,  -999.00,9,   -999.0,-999.0000, -999,9,  499,   7.5932,  27.0037,   -999.0,9
       KS05-06,  165E,KS-1342,  1,     11,02-19376,2,20050629,1703,  5.0838, 164.9995, 4788,    604.1,   7.0713,  34.5611,2,   -999.0,9,  34.5610,2,     53.0,2,    53.54,2,  -999.00,9,    38.36,2,     0.00,2,     2.75,2, -999.000,9, -999.000,9,  -999.00,9,   -999.0,9,   -999.0,9,-999.0000,9,   -999.0,  9,     7.57,2,   -999.0,  -999.00,9,  -999.00,9,  -999.00,9,  -999.00,9,   -999.0,-999.0000, -999,9,  600,   7.0131,  27.0712,   -999.0,9
       KS05-06,  165E,KS-1342,  1,     10,02-19375,2,20050629,1701,  5.0838, 164.9995, 4788,    705.1,   6.2842,  34.5457,2,   -999.0,9,  34.5455,2,     60.0,2,    61.63,2,  -999.00,9,    39.14,2,     0.00,2,     2.80,2, -999.000,9, -999.000,9,  -999.00,9,   -999.0,9,   -999.0,9,-999.0000,9,   -999.0,  9,     7.57,2,   -999.0,  -999.00,9,  -999.00,9,  -999.00,9,  -999.00,9,   -999.0,-999.0000, -999,9,  700,   6.2200,  27.1655,   -999.0,9
       KS05-06,  165E,KS-1342,  1,      9,02-16015,2,20050629,1658,  5.0838, 164.9995, 4788,    806.1,   5.5437,  34.5413,2,   -999.0,9,  34.5415,2,     69.0,2,    71.70,2,  -999.00,9,    39.52,2,     0.00,2,     2.82,2, -999.000,9, -999.000,9,  -999.00,9,   -999.0,9,   -999.0,9,-999.0000,9,   -999.0,  9,     7.57,2,   -999.0,  -999.00,9,  -999.00,9,  -999.00,9,  -999.00,9,   -999.0,-999.0000, -999,9,  800,   5.4743,  27.2555,   -999.0,9
       KS05-06,  165E,KS-1342,  1,      8,02-16014,2,20050629,1656,  5.0838, 164.9995, 4788,    906.7,   4.9479,  34.5468,2,   -999.0,9,  34.5474,2,     71.0,2,    82.59,2,  -999.00,9,    40.01,2,     0.00,2,     2.86,2, -999.000,9, -999.000,9,  -999.00,9,   -999.0,9,   -999.0,9,-999.0000,9,   -999.0,  9,     7.57,2,   -999.0,  -999.00,9,  -999.00,9,  -999.00,9,  -999.00,9,   -999.0,-999.0000, -999,9,  900,   4.8733,  27.3305,   -999.0,9
       KS05-06,  165E,KS-1342,  1,      7,02-19374,2,20050629,1654,  5.0838, 164.9995, 4788,   1007.5,   4.4935,  34.5566,2,   -999.0,9,  34.5561,2,     74.0,2,    91.67,2,  -999.00,9,    40.30,2,     0.00,2,     2.88,2, -999.000,9, -999.000,9,  -999.00,9,   -999.0,9,   -999.0,9,-999.0000,9,   -999.0,  9,     7.57,2,   -999.0,  -999.00,9,  -999.00,9,  -999.00,9,  -999.00,9,   -999.0,-999.0000, -999,9, 1000,   4.4133,  27.3895,   -999.0,9
       KS05-06,  165E,KS-1342,  1,      6,02-19373,2,20050629,1649,  5.0838, 164.9995, 4788,   1260.0,   3.6375,  34.5808,2,   -999.0,9,  34.5804,2,     82.0,2,   109.11,2,  -999.00,9,    40.39,2,     0.00,2,     2.89,2, -999.000,9, -999.000,9,  -999.00,9,   -999.0,9,   -999.0,9,-999.0000,9,   -999.0,  9,     7.58,2,   -999.0,  -999.00,9,  -999.00,9,  -999.00,9,  -999.00,9,   -999.0,-999.0000, -999,9, 1249,   3.5431,  27.4989,   -999.0,9
       KS05-06,  165E,KS-1342,  1,      5,02-16011,2,20050629,1644,  5.0838, 164.9995, 4788,   1513.3,   2.9509,  34.6056,2,   -999.0,9,  34.6052,2,     92.0,2,   123.86,2,  -999.00,9,    40.00,2,     0.00,2,     2.85,2, -999.000,9, -999.000,9,  -999.00,9,   -999.0,9,   -999.0,9,-999.0000,9,   -999.0,  9,     7.59,2,   -999.0,  -999.00,9,  -999.00,9,  -999.00,9,  -999.00,9,   -999.0,-999.0000, -999,9, 1499,   2.8425,  27.5845,   -999.0,9
       KS05-06,  165E,KS-1342,  1,      4,02-16010,2,20050629,1634,  5.0838, 164.9995, 4788,   2019.5,   2.1303,  34.6442,2,   -999.0,9,  34.6431,2,    123.0,2,   140.44,2,  -999.00,9,    38.92,2,     0.00,2,     2.72,2, -999.000,9, -999.000,9,  -999.00,9,   -999.0,9,   -999.0,9,-999.0000,9,   -999.0,  9,     7.63,2,   -999.0,  -999.00,9,  -999.00,9,  -999.00,9,  -999.00,9,   -999.0,-999.0000, -999,9, 1999,   1.9902,  27.6874,   -999.0,9
       KS05-06,  165E,KS-1342,  1,      3,02-16009,2,20050629,1615,  5.0838, 164.9995, 4788,   3036.8,   1.6417,  34.6729,2,   -999.0,9,  34.6714,2,    139.0,2,   145.00,2,  -999.00,9,    37.27,2,     0.00,2,     2.59,2, -999.000,9, -999.000,9,  -999.00,9,   -999.0,9,   -999.0,9,-999.0000,9,   -999.0,  9,     7.67,2,   -999.0,  -999.00,9,  -999.00,9,  -999.00,9,  -999.00,9,   -999.0,-999.0000, -999,9, 2998,   1.4183,  27.7536,   -999.0,9
       KS05-06,  165E,KS-1342,  1,      2,02-16008,2,20050629,1556,  5.0838, 164.9995, 4788,   4059.7,   1.4461,  34.6916,2,   -999.0,9,  34.6899,2,    165.0,2,   137.29,2,  -999.00,9,    35.51,2,     0.00,2,     2.43,2, -999.000,9, -999.000,9,  -999.00,9,   -999.0,9,   -999.0,9,-999.0000,9,   -999.0,  9,     7.71,2,   -999.0,  -999.00,9,  -999.00,9,  -999.00,9,  -999.00,9,   -999.0,-999.0000, -999,9, 3999,   1.1222,  27.7894,   -999.0,9
       KS05-06,  165E,KS-1342,  1,      1,02-16007,2,20050629,1542,  5.0838, 164.9995, 4788,   4819.7,   1.3600,  34.7026,2,   -999.0,9,  34.7009,2,    187.0,2,   127.57,2,  -999.00,9,    34.05,2,     0.00,2,     2.33,2, -999.000,9, -999.000,9,  -999.00,9,   -999.0,9,   -999.0,9,-999.0000,9,   -999.0,  9,     7.72,2,   -999.0,  -999.00,9,  -999.00,9,  -999.00,9,  -999.00,9,   -999.0,-999.0000, -999,9, 4739,   0.9520,  27.8096,   -999.0,9
       KS05-06,  165E,KS-1343,  1,      2,02-16008,9,20050630,0239,  3.9957, 164.9995, 4490,      5.0,  29.5210,  34.1555,2,   -999.0,9,-999.0000,9,   -999.0,9,  -999.00,9,  -999.00,9,  -999.00,9,  -999.00,9,  -999.00,9, -999.000,9, -999.000,9,  -999.00,9,   -999.0,9,   -999.0,9,-999.0000,9,   -999.0,  9,  -999.00,9,   -999.0,  -999.00,9,  -999.00,9,  -999.00,9,  -999.00,9,   -999.0,-999.0000, -999,9,    5,  29.5198,  21.2560,   -999.0,9
       KS05-06,  165E,KS-1343,  1,      1,02-16007,2,20050630,0239,  3.9957, 164.9995, 4490,      5.3,  29.5338,  34.1562,2,   -999.0,9,-999.0000,9,   -999.0,9,     1.05,2,  -999.00,9,     0.00,2,     0.00,2,     0.09,2, -999.000,9, -999.000,9,  -999.00,9,   1887.4,2,   -999.0,9,-999.0000,9,   -999.0,  9,  -999.00,9,   -999.0,  -999.00,9,  -999.00,9,     0.04,2,     0.03,2,   -999.0,-999.0000, -999,9,    5,  29.5325,  21.2522,   -999.0,9