BOTTLE,20130510GEMDJMAYT
EXPOCODE,SECT_ID,STNNBR,CASTNO,SAMPNO,BTLNBR,BTLNBR_FLAG_W,DATE,TIME,LATITUDE,LONGITUDE,DEPTH,CTDPRS,CTDTMP,CTDSAL,CTDSAL_FLAG_W,CTDOXY,CTDOXY_FLAG_W,SALNTY,SALNTY_FLAG_W,OXYGEN,OXYGEN_FLAG_W,SILCAT,SILCAT_FLAG_W,NITRAT,NITRAT_FLAG_W,NO2+NO3,NO2+NO3_FLAG_W,NITRIT,NITRIT_FLAG_W,PHSPHT,PHSPHT_FLAG_W,CFC-11,CFC-11_FLAG_W,CFC-12,CFC-12_FLAG_W,DELC13,DELC13_FLAG_W,TCARBN,TCARBN_FLAG_W,ALKALI,ALKALI_FLAG_W,PH,PH_FLAG_W,PH_TMP,PH_SCALE,PH_NBS,PH_NBS_FLAG_W,C13ERR,TOTALP,TOTALP_FLAG_W,AMMONI,AMMONI_FLAG_W,CHLORA,CHLORA_FLAG_W,PPHYTN,PPHYTN_FLAG_W,REVPRS,REVTMP,DEPTH_,DEPTH_FLAG,CTDDEP,THETA,SIGTHT,DOC,DOC_FLAG_W
,,,,,,,GMT,GMT,,,METER,DBAR,ITS-90,PSS-78,,UMOL/KG,,PSS-78,,UMOL/KG,,UMOL/KG,,UMOL/KG,,UMOL/KG,,UMOL/KG,,UMOL/KG,,PMOL/KG,,PMOL/KG,,/MILLE,,UMOL/KG,,UMOL/KG,,25_DEG_C,,DEG_C,,,,/MILLE,UMOL/KG,,UMOL/KG,,UG/L,,UG/L,,DBAR,ITS-90,METERS,,METERS,DEG_C,,UMOL/L,
       KS05-06,  NONE,KS-1310,  1,     24,02-16030,2,20050619,2316, 28.0057, 146.9995, 5774,      5.3,  28.1761,  34.9455,2,   -999.0,9,  34.9427,2,    201.0,2,     0.91,2,  -999.00,9,     0.00,2,     0.00,2,     0.00,2, -999.000,9, -999.000,9,  -999.00,9,   -999.0,9,   -999.0,9,-999.0000,9,   -999.0,  9,  -999.00,9,   -999.0,  -999.00,9,  -999.00,9,  -999.00,9,  -999.00,9,   -999.0,-999.0000, -999,9,    5,  28.1749,  22.2964,   -999.0,9
       KS05-06,  NONE,KS-1310,  1,     23,02-19380,2,20050619,2315, 28.0057, 146.9995, 5774,     10.0,  28.1318,  34.9419,2,   -999.0,9,-999.0000,9,    203.0,2,     0.90,2,  -999.00,9,     0.00,2,     0.00,2,     0.00,2, -999.000,9, -999.000,9,  -999.00,9,   -999.0,9,   -999.0,9,-999.0000,9,   -999.0,  9,  -999.00,9,   -999.0,  -999.00,9,  -999.00,9,  -999.00,9,  -999.00,9,   -999.0,-999.0000, -999,9,   10,  28.1294,  22.3086,   -999.0,9
       KS05-06,  NONE,KS-1310,  1,     22,02-19379,2,20050619,2313, 28.0057, 146.9995, 5774,     24.7,  24.2710,  34.9371,2,   -999.0,9,-999.0000,9,    221.0,2,     1.05,2,  -999.00,9,     0.00,2,     0.00,2,     0.00,2, -999.000,9, -999.000,9,  -999.00,9,   -999.0,9,   -999.0,9,-999.0000,9,   -999.0,  9,  -999.00,9,   -999.0,  -999.00,9,  -999.00,9,  -999.00,9,  -999.00,9,   -999.0,-999.0000, -999,9,   25,  24.2658,  23.5148,   -999.0,9
       KS05-06,  NONE,KS-1310,  1,     21,02-16027,2,20050619,2310, 28.0057, 146.9995, 5774,     49.3,  21.2443,  34.9736,2,   -999.0,9,-999.0000,9,    235.0,2,     1.30,2,  -999.00,9,     0.00,2,     0.00,2,     0.00,2, -999.000,9, -999.000,9,  -999.00,9,   -999.0,9,   -999.0,9,-999.0000,9,   -999.0,  9,  -999.00,9,   -999.0,  -999.00,9,  -999.00,9,  -999.00,9,  -999.00,9,   -999.0,-999.0000, -999,9,   49,  21.2348,  24.4097,   -999.0,9
       KS05-06,  NONE,KS-1310,  1,     20,02-16026,2,20050619,2309, 28.0057, 146.9995, 5774,     75.2,  20.0458,  34.9592,2,   -999.0,9,-999.0000,9,    230.0,2,     1.40,2,  -999.00,9,     0.00,2,     0.00,2,     0.01,2, -999.000,9, -999.000,9,  -999.00,9,   -999.0,9,   -999.0,9,-999.0000,9,   -999.0,  9,  -999.00,9,   -999.0,  -999.00,9,  -999.00,9,  -999.00,9,  -999.00,9,   -999.0,-999.0000, -999,9,   75,  20.0319,  24.7222,   -999.0,9
       KS05-06,  NONE,KS-1310,  1,     19,02-19378,2,20050619,2308, 28.0057, 146.9995, 5774,    100.8,  19.1329,  34.9103,2,   -999.0,9,  34.9081,2,    224.0,2,     1.60,2,  -999.00,9,     0.49,2,     0.05,2,     0.05,2, -999.000,9, -999.000,9,  -999.00,9,   -999.0,9,   -999.0,9,-999.0000,9,   -999.0,  9,  -999.00,9,   -999.0,  -999.00,9,  -999.00,9,  -999.00,9,  -999.00,9,   -999.0,-999.0000, -999,9,  100,  19.1149,  24.9233,   -999.0,9
       KS05-06,  NONE,KS-1310,  1,     18,02-19377,2,20050619,2306, 28.0057, 146.9995, 5774,    125.6,  18.7829,  34.8827,2,   -999.0,9,-999.0000,9,    223.0,2,     1.70,2,  -999.00,9,     1.27,2,     0.04,2,     0.08,2, -999.000,9, -999.000,9,  -999.00,9,   -999.0,9,   -999.0,9,-999.0000,9,   -999.0,  9,  -999.00,9,   -999.0,  -999.00,9,  -999.00,9,  -999.00,9,  -999.00,9,   -999.0,-999.0000, -999,9,  125,  18.7607,  24.9922,   -999.0,9
       KS05-06,  NONE,KS-1310,  1,     17,02-16023,2,20050619,2305, 28.0057, 146.9995, 5774,    150.2,  18.3952,  34.8438,2,   -999.0,9,-999.0000,9,    225.0,2,     1.90,2,  -999.00,9,     1.46,2,     0.05,2,     0.10,2, -999.000,9, -999.000,9,  -999.00,9,   -999.0,9,   -999.0,9,-999.0000,9,   -999.0,  9,  -999.00,9,   -999.0,  -999.00,9,  -999.00,9,  -999.00,9,  -999.00,9,   -999.0,-999.0000, -999,9,  149,  18.3691,  25.0609,   -999.0,9
       KS05-06,  NONE,KS-1310,  1,     16,02-16022,2,20050619,2304, 28.0057, 146.9995, 5774,    201.3,  17.8289,  34.8270,2,   -999.0,9,  34.8247,2,    223.0,2,     2.53,2,  -999.00,9,     2.83,2,     0.01,2,     0.17,2, -999.000,9, -999.000,9,  -999.00,9,   -999.0,9,   -999.0,9,-999.0000,9,   -999.0,  9,  -999.00,9,   -999.0,  -999.00,9,  -999.00,9,  -999.00,9,  -999.00,9,   -999.0,-999.0000, -999,9,  200,  17.7946,  25.1899,   -999.0,9
       KS05-06,  NONE,KS-1310,  1,     15,02-16021,2,20050619,2302, 28.0057, 146.9995, 5774,    251.0,  17.4719,  34.8192,2,   -999.0,9,-999.0000,9,    222.0,2,     2.84,2,  -999.00,9,     3.22,2,     0.01,2,     0.19,2, -999.000,9, -999.000,9,  -999.00,9,   -999.0,9,   -999.0,9,-999.0000,9,   -999.0,  9,  -999.00,9,   -999.0,  -999.00,9,  -999.00,9,  -999.00,9,  -999.00,9,   -999.0,-999.0000, -999,9,  249,  17.4297,  25.2726,   -999.0,9
       KS05-06,  NONE,KS-1310,  1,     14,02-16020,2,20050619,2300, 28.0057, 146.9995, 5774,    302.6,  17.0302,  34.7769,2,   -999.0,9,  34.7744,2,    212.0,2,     3.77,2,  -999.00,9,     4.78,2,     0.01,2,     0.27,2, -999.000,9, -999.000,9,  -999.00,9,   -999.0,9,   -999.0,9,-999.0000,9,   -999.0,  9,  -999.00,9,   -999.0,  -999.00,9,  -999.00,9,  -999.00,9,  -999.00,9,   -999.0,-999.0000, -999,9,  300,  16.9801,  25.3477,   -999.0,9
       KS05-06,  NONE,KS-1310,  1,     13,02-16019,2,20050619,2258, 28.0057, 146.9995, 5774,    403.4,  15.7842,  34.6632,2,   -999.0,9,  34.6624,2,    204.0,2,     6.83,2,  -999.00,9,     7.51,2,     0.01,2,     0.46,2, -999.000,9, -999.000,9,  -999.00,9,   -999.0,9,   -999.0,9,-999.0000,9,   -999.0,  9,  -999.00,9,   -999.0,  -999.00,9,  -999.00,9,  -999.00,9,  -999.00,9,   -999.0,-999.0000, -999,9,  400,  15.7207,  25.5519,   -999.0,9
       KS05-06,  NONE,KS-1310,  1,     12,02-16018,2,20050619,2255, 28.0057, 146.9995, 5774,    504.0,  13.3106,  34.4603,2,   -999.0,9,  34.4650,2,    199.0,2,    12.76,2,  -999.00,9,    11.70,2,     0.01,2,     0.75,2, -999.000,9, -999.000,9,  -999.00,9,   -999.0,9,   -999.0,9,-999.0000,9,   -999.0,  9,  -999.00,9,   -999.0,  -999.00,9,  -999.00,9,  -999.00,9,  -999.00,9,   -999.0,-999.0000, -999,9,  500,  13.2398,  25.9266,   -999.0,9
       KS05-06,  NONE,KS-1310,  1,     11,02-19376,2,20050619,2253, 28.0057, 146.9995, 5774,    605.0,  10.3114,  34.2390,2,   -999.0,9,  34.2407,2,    189.0,2,    24.39,2,  -999.00,9,    17.93,2,     0.00,2,     1.21,2, -999.000,9, -999.000,9,  -999.00,9,   -999.0,9,   -999.0,9,-999.0000,9,   -999.0,  9,  -999.00,9,   -999.0,  -999.00,9,  -999.00,9,  -999.00,9,  -999.00,9,   -999.0,-999.0000, -999,9,  600,  10.2390,  26.3168,   -999.0,9
       KS05-06,  NONE,KS-1310,  1,     10,02-19375,2,20050619,2250, 28.0057, 146.9995, 5774,    704.3,   7.6960,  34.0774,2,   -999.0,9,  34.0782,2,    160.0,2,    43.26,2,  -999.00,9,    25.33,2,     0.00,2,     1.77,2, -999.000,9, -999.000,9,  -999.00,9,   -999.0,9,   -999.0,9,-999.0000,9,   -999.0,  9,  -999.00,9,   -999.0,  -999.00,9,  -999.00,9,  -999.00,9,  -999.00,9,   -999.0,-999.0000, -999,9,  698,   7.6250,  26.6040,   -999.0,9
       KS05-06,  NONE,KS-1310,  1,      9,02-16015,2,20050619,2248, 28.0057, 146.9995, 5774,    806.8,   5.7438,  34.0677,2,   -999.0,9,  34.0758,2,    112.0,2,    69.86,2,  -999.00,9,    33.31,2,     0.01,2,     2.38,2, -999.000,9, -999.000,9,  -999.00,9,   -999.0,9,   -999.0,9,-999.0000,9,   -999.0,  9,  -999.00,9,   -999.0,  -999.00,9,  -999.00,9,  -999.00,9,  -999.00,9,   -999.0,-999.0000, -999,9,  800,   5.6737,  26.8565,   -999.0,9
       KS05-06,  NONE,KS-1310,  1,      8,02-16014,2,20050619,2245, 28.0057, 146.9995, 5774,    907.2,   4.7737,  34.1528,2,   -999.0,9,  34.1552,2,     72.0,2,    91.44,2,  -999.00,9,    38.36,2,     0.01,2,     2.74,2, -999.000,9, -999.000,9,  -999.00,9,   -999.0,9,   -999.0,9,-999.0000,9,   -999.0,  9,  -999.00,9,   -999.0,  -999.00,9,  -999.00,9,  -999.00,9,  -999.00,9,   -999.0,-999.0000, -999,9,  899,   4.7008,  27.0373,   -999.0,9
       KS05-06,  NONE,KS-1310,  1,      7,02-19374,2,20050619,2243, 28.0057, 146.9995, 5774,   1007.6,   4.1458,  34.2360,2,   -999.0,9,  34.2362,2,     52.0,2,   107.76,2,  -999.00,9,    40.69,2,     0.01,2,     2.92,2, -999.000,9, -999.000,9,  -999.00,9,   -999.0,9,   -999.0,9,-999.0000,9,   -999.0,  9,  -999.00,9,   -999.0,  -999.00,9,  -999.00,9,  -999.00,9,  -999.00,9,   -999.0,-999.0000, -999,9,  999,   4.0688,  27.1713,   -999.0,9
       KS05-06,  NONE,KS-1310,  1,      6,02-19373,2,20050619,2238, 28.0057, 146.9995, 5774,   1260.8,   3.1701,  34.3909,2,   -999.0,9,  34.3906,2,     39.0,2,   134.62,2,  -999.00,9,    42.73,2,     0.00,4,     3.07,2, -999.000,9, -999.000,9,  -999.00,9,   -999.0,9,   -999.0,9,-999.0000,9,   -999.0,  9,  -999.00,9,   -999.0,  -999.00,9,  -999.00,9,  -999.00,9,  -999.00,9,   -999.0,-999.0000, -999,9, 1249,   3.0805,  27.3915,   -999.0,9
       KS05-06,  NONE,KS-1310,  1,      5,02-16011,2,20050619,2234, 28.0057, 146.9995, 5774,   1516.3,   2.5257,  34.5023,2,   -999.0,9,  34.5013,2,     47.0,2,   151.40,2,  -999.00,9,    42.82,2,     0.01,2,     3.05,2, -999.000,9, -999.000,9,  -999.00,9,   -999.0,9,   -999.0,9,-999.0000,9,   -999.0,  9,  -999.00,9,   -999.0,  -999.00,9,  -999.00,9,  -999.00,9,  -999.00,9,   -999.0,-999.0000, -999,9, 1501,   2.4222,  27.5385,   -999.0,9
       KS05-06,  NONE,KS-1310,  1,      4,02-16010,2,20050619,2229, 28.0057, 146.9995, 5774,   1766.9,   2.2007,  34.5561,2,   -999.0,9,  34.5557,2,   -999.0,4,   156.95,2,  -999.00,9,    41.94,2,     0.01,2,     2.97,2, -999.000,9, -999.000,9,  -999.00,9,   -999.0,9,   -999.0,9,-999.0000,9,   -999.0,  9,  -999.00,9,   -999.0,  -999.00,9,  -999.00,9,  -999.00,9,  -999.00,9,   -999.0,-999.0000, -999,9, 1748,   2.0809,  27.6096,   -999.0,9
       KS05-06,  NONE,KS-1310,  1,      3,02-16009,9,20050619,2225, 28.0057, 146.9995, 5774,   2022.2,   1.9409,  34.6023,2,   -999.0,9,-999.0000,9,   -999.0,9,  -999.00,9,  -999.00,9,  -999.00,9,  -999.00,9,  -999.00,9, -999.000,9, -999.000,9,  -999.00,9,   -999.0,9,   -999.0,9,-999.0000,9,   -999.0,  9,  -999.00,9,   -999.0,  -999.00,9,  -999.00,9,  -999.00,9,  -999.00,9,   -999.0,-999.0000, -999,9, 1999,   1.8036,  27.6683,   -999.0,9
       KS05-06,  NONE,KS-1310,  1,      2,02-16008,9,20050619,2225, 28.0057, 146.9995, 5774,   2022.0,   1.9405,  34.6023,2,   -999.0,9,-999.0000,9,   -999.0,9,  -999.00,9,  -999.00,9,  -999.00,9,  -999.00,9,  -999.00,9, -999.000,9, -999.000,9,  -999.00,9,   -999.0,9,   -999.0,9,-999.0000,9,   -999.0,  9,  -999.00,9,   -999.0,  -999.00,9,  -999.00,9,  -999.00,9,  -999.00,9,   -999.0,-999.0000, -999,9, 1999,   1.8032,  27.6683,   -999.0,9
       KS05-06,  NONE,KS-1310,  1,      1,02-16007,2,20050619,2225, 28.0057, 146.9995, 5774,   2021.2,   1.9358,  34.6029,2,   -999.0,9,  34.6028,2,     92.0,2,   156.14,2,  -999.00,9,    40.38,2,     0.02,4,     2.84,2, -999.000,9, -999.000,9,  -999.00,9,   -999.0,9,   -999.0,9,-999.0000,9,   -999.0,  9,  -999.00,9,   -999.0,  -999.00,9,  -999.00,9,  -999.00,9,  -999.00,9,   -999.0,-999.0000, -999,9, 1998,   1.7987,  27.6692,   -999.0,9