BOTTLE,20130510GEMDJMAYT
EXPOCODE,SECT_ID,STNNBR,CASTNO,SAMPNO,BTLNBR,BTLNBR_FLAG_W,DATE,TIME,LATITUDE,LONGITUDE,DEPTH,CTDPRS,CTDTMP,CTDSAL,CTDSAL_FLAG_W,CTDOXY,CTDOXY_FLAG_W,SALNTY,SALNTY_FLAG_W,OXYGEN,OXYGEN_FLAG_W,SILCAT,SILCAT_FLAG_W,NITRAT,NITRAT_FLAG_W,NO2+NO3,NO2+NO3_FLAG_W,NITRIT,NITRIT_FLAG_W,PHSPHT,PHSPHT_FLAG_W,CFC-11,CFC-11_FLAG_W,CFC-12,CFC-12_FLAG_W,DELC13,DELC13_FLAG_W,TCARBN,TCARBN_FLAG_W,ALKALI,ALKALI_FLAG_W,PH,PH_FLAG_W,PH_TMP,PH_SCALE,PH_NBS,PH_NBS_FLAG_W,C13ERR,TOTALP,TOTALP_FLAG_W,AMMONI,AMMONI_FLAG_W,CHLORA,CHLORA_FLAG_W,PPHYTN,PPHYTN_FLAG_W,REVPRS,REVTMP,DEPTH_,DEPTH_FLAG,CTDDEP,THETA,SIGTHT,DOC,DOC_FLAG_W
,,,,,,,GMT,GMT,,,METER,DBAR,ITS-90,PSS-78,,UMOL/KG,,PSS-78,,UMOL/KG,,UMOL/KG,,UMOL/KG,,UMOL/KG,,UMOL/KG,,UMOL/KG,,PMOL/KG,,PMOL/KG,,/MILLE,,UMOL/KG,,UMOL/KG,,25_DEG_C,,DEG_C,,,,/MILLE,UMOL/KG,,UMOL/KG,,UG/L,,UG/L,,DBAR,ITS-90,METERS,,METERS,DEG_C,,UMOL/L,
       KS05-06,  165E,KS-1339,  1,     24,02-16030,2,20050628,1959,  7.9967, 163.9807, 5133,      3.9,  28.8498,  34.3775,2,   -999.0,9,  34.3810,4,    199.0,2,     1.33,2,  -999.00,9,     0.00,2,     0.00,2,     0.08,2, -999.000,9, -999.000,9,  -999.00,9,   1912.6,3,   -999.0,9,-999.0000,9,   -999.0,  9,     8.23,2,   -999.0,  -999.00,9,  -999.00,9,     0.03,2,     0.02,2,   -999.0,-999.0000, -999,9,    4,  28.8489,  21.6471,   -999.0,9
       KS05-06,  165E,KS-1339,  1,     23,02-19380,3,20050628,1958,  7.9967, 163.9807, 5133,     10.2,  28.8476,  34.3772,2,   -999.0,9,-999.0000,9,    199.0,2,     1.60,2,  -999.00,9,     0.00,2,     0.00,2,     0.08,2, -999.000,9, -999.000,9,  -999.00,9,   -999.0,9,   -999.0,9,-999.0000,9,   -999.0,  9,     8.23,2,   -999.0,  -999.00,9,  -999.00,9,     0.04,2,     0.03,2,   -999.0,-999.0000, -999,9,   10,  28.8451,  21.6481,   -999.0,9
       KS05-06,  165E,KS-1339,  1,     22,02-19379,2,20050628,1957,  7.9967, 163.9807, 5133,     25.1,  28.8531,  34.3775,2,   -999.0,9,-999.0000,9,    199.0,2,     1.53,2,  -999.00,9,     0.00,2,     0.00,2,     0.08,2, -999.000,9, -999.000,9,  -999.00,9,   -999.0,9,   -999.0,9,-999.0000,9,   -999.0,  9,     8.23,2,   -999.0,  -999.00,9,  -999.00,9,     0.04,2,     0.02,2,   -999.0,-999.0000, -999,9,   25,  28.8471,  21.6477,   -999.0,9
       KS05-06,  165E,KS-1339,  1,     21,02-16027,2,20050628,1953,  7.9967, 163.9807, 5133,     48.8,  28.8560,  34.3769,2,   -999.0,9,-999.0000,9,    198.0,2,     1.26,2,  -999.00,9,     0.00,2,     0.00,2,     0.07,2, -999.000,9, -999.000,9,  -999.00,9,   -999.0,9,   -999.0,9,-999.0000,9,   -999.0,  9,     8.24,2,   -999.0,  -999.00,9,  -999.00,9,     0.04,2,     0.02,2,   -999.0,-999.0000, -999,9,   49,  28.8443,  21.6482,   -999.0,9
       KS05-06,  165E,KS-1339,  1,     20,02-16026,2,20050628,1952,  7.9967, 163.9807, 5133,     74.3,  28.4961,  34.4338,2,   -999.0,9,-999.0000,9,    200.0,2,     1.36,2,  -999.00,9,     0.00,2,     0.00,2,     0.07,2, -999.000,9, -999.000,9,  -999.00,9,   -999.0,9,   -999.0,9,-999.0000,9,   -999.0,  9,     8.23,2,   -999.0,  -999.00,9,  -999.00,9,     0.07,2,     0.05,2,   -999.0,-999.0000, -999,9,   74,  28.4784,  21.8120,   -999.0,9
       KS05-06,  165E,KS-1339,  1,     19,02-19378,2,20050628,1951,  7.9967, 163.9807, 5133,     99.7,  27.2114,  34.5892,2,   -999.0,9,  34.6044,4,    201.0,2,     1.46,2,  -999.00,9,     0.00,2,     0.00,2,     0.09,2, -999.000,9, -999.000,9,  -999.00,9,   -999.0,9,   -999.0,9,-999.0000,9,   -999.0,  9,     8.21,2,   -999.0,  -999.00,9,  -999.00,9,     0.11,2,     0.11,2,   -999.0,-999.0000, -999,9,   99,  27.1884,  22.3482,   -999.0,9
       KS05-06,  165E,KS-1339,  1,     18,02-19377,2,20050628,1950,  7.9967, 163.9807, 5133,    123.5,  21.7505,  34.8764,2,   -999.0,9,-999.0000,9,    173.0,2,     3.84,2,  -999.00,9,     3.22,2,     0.33,2,     0.36,2, -999.000,9, -999.000,9,  -999.00,9,   -999.0,9,   -999.0,9,-999.0000,9,   -999.0,  9,     8.08,2,   -999.0,  -999.00,9,  -999.00,9,     0.12,2,     0.49,2,   -999.0,-999.0000, -999,9,  123,  21.7263,  24.2003,   -999.0,9
       KS05-06,  165E,KS-1339,  1,     17,02-16023,2,20050628,1949,  7.9967, 163.9807, 5133,    149.6,  17.2302,  34.7210,2,   -999.0,9,-999.0000,9,    133.0,2,    10.65,2,  -999.00,9,    12.87,2,     0.03,2,     0.94,2, -999.000,9, -999.000,9,  -999.00,9,   -999.0,9,   -999.0,9,-999.0000,9,   -999.0,  9,     7.94,2,   -999.0,  -999.00,9,  -999.00,9,     0.05,2,     0.30,2,   -999.0,-999.0000, -999,9,  149,  17.2054,  25.2512,   -999.0,9
       KS05-06,  165E,KS-1339,  1,     16,02-16022,2,20050628,1947,  7.9967, 163.9807, 5133,    200.7,  12.5050,  34.5002,2,   -999.0,9,  34.5042,2,     91.0,2,    22.05,2,  -999.00,9,    23.68,2,     0.00,2,     1.72,2, -999.000,9, -999.000,9,  -999.00,9,   -999.0,9,   -999.0,9,-999.0000,9,   -999.0,  9,     7.75,2,   -999.0,  -999.00,9,  -999.00,9,     0.01,2,     0.04,2,   -999.0,-999.0000, -999,9,  199,  12.4782,  26.1087,   -999.0,9
       KS05-06,  165E,KS-1339,  1,     15,02-16021,2,20050628,1946,  7.9967, 163.9807, 5133,    251.4,  10.4449,  34.5841,2,   -999.0,9,-999.0000,9,     48.0,2,    32.44,2,  -999.00,9,    31.95,2,     0.00,2,     2.28,2, -999.000,9, -999.000,9,  -999.00,9,   -999.0,9,   -999.0,9,-999.0000,9,   -999.0,  9,     7.62,2,   -999.0,  -999.00,9,  -999.00,9,     0.00,2,     0.01,2,   -999.0,-999.0000, -999,9,  250,  10.4150,  26.5556,   -999.0,9
       KS05-06,  165E,KS-1339,  1,     14,02-16020,2,20050628,1944,  7.9967, 163.9807, 5133,    303.0,   9.7641,  34.6261,2,   -999.0,9,  34.6260,2,     39.0,2,    35.53,2,  -999.00,9,    34.28,2,     0.00,2,     2.43,2, -999.000,9, -999.000,9,  -999.00,9,   -999.0,9,   -999.0,9,-999.0000,9,   -999.0,  9,     7.59,2,   -999.0,  -999.00,9,  -999.00,9,     0.00,2,     0.01,2,   -999.0,-999.0000, -999,9,  301,   9.7294,  26.7057,   -999.0,9
       KS05-06,  165E,KS-1339,  1,     13,02-16019,2,20050628,1941,  7.9967, 163.9807, 5133,    404.1,   8.7574,  34.5996,2,   -999.0,9,  34.5997,2,     47.0,2,    40.79,2,  -999.00,9,    35.45,2,     0.00,2,     2.50,2, -999.000,9, -999.000,9,  -999.00,9,   -999.0,9,   -999.0,9,-999.0000,9,   -999.0,  9,     7.59,2,   -999.0,  -999.00,9,  -999.00,9,  -999.00,9,  -999.00,9,   -999.0,-999.0000, -999,9,  401,   8.7139,  26.8500,   -999.0,9
       KS05-06,  165E,KS-1339,  1,     12,02-16018,2,20050628,1939,  7.9967, 163.9807, 5133,    502.3,   7.9142,  34.5706,2,   -999.0,9,  34.5692,2,     51.0,2,    47.33,2,  -999.00,9,    36.52,2,     0.00,2,     2.61,2, -999.000,9, -999.000,9,  -999.00,9,   -999.0,9,   -999.0,9,-999.0000,9,   -999.0,  9,     7.57,2,   -999.0,  -999.00,9,  -999.00,9,  -999.00,9,  -999.00,9,   -999.0,-999.0000, -999,9,  499,   7.8630,  26.9570,   -999.0,9
       KS05-06,  165E,KS-1339,  1,     11,02-19376,2,20050628,1936,  7.9967, 163.9807, 5133,    604.8,   7.0985,  34.5412,2,   -999.0,9,  34.5415,2,     56.0,2,    55.45,2,  -999.00,9,    37.58,2,     0.00,2,     2.69,2, -999.000,9, -999.000,9,  -999.00,9,   -999.0,9,   -999.0,9,-999.0000,9,   -999.0,  9,     7.57,2,   -999.0,  -999.00,9,  -999.00,9,  -999.00,9,  -999.00,9,   -999.0,-999.0000, -999,9,  601,   7.0402,  27.0518,   -999.0,9
       KS05-06,  165E,KS-1339,  1,     10,02-19375,2,20050628,1933,  7.9967, 163.9807, 5133,    705.3,   6.2074,  34.5314,2,   -999.0,9,  34.5317,2,     51.0,2,    67.16,2,  -999.00,9,    39.62,2,     0.00,2,     2.85,2, -999.000,9, -999.000,9,  -999.00,9,   -999.0,9,   -999.0,9,-999.0000,9,   -999.0,  9,     7.54,2,   -999.0,  -999.00,9,  -999.00,9,  -999.00,9,  -999.00,9,   -999.0,-999.0000, -999,9,  700,   6.1436,  27.1640,   -999.0,9
       KS05-06,  165E,KS-1339,  1,      9,02-16015,2,20050628,1930,  7.9967, 163.9807, 5133,    805.0,   5.3633,  34.5353,2,   -999.0,9,  34.5345,2,     59.0,2,    79.53,2,  -999.00,9,    40.20,2,     0.00,2,     2.88,2, -999.000,9, -999.000,9,  -999.00,9,   -999.0,9,   -999.0,9,-999.0000,9,   -999.0,  9,     7.56,2,   -999.0,  -999.00,9,  -999.00,9,  -999.00,9,  -999.00,9,   -999.0,-999.0000, -999,9,  799,   5.2951,  27.2722,   -999.0,9
       KS05-06,  165E,KS-1339,  1,      8,02-16014,2,20050628,1927,  7.9967, 163.9807, 5133,    906.2,   4.8742,  34.5425,2,   -999.0,9,  34.5419,2,     66.0,2,    87.85,2,  -999.00,9,    40.30,2,     0.00,2,     2.89,2, -999.000,9, -999.000,9,  -999.00,9,   -999.0,9,   -999.0,9,-999.0000,9,   -999.0,  9,     7.56,2,   -999.0,  -999.00,9,  -999.00,9,  -999.00,9,  -999.00,9,   -999.0,-999.0000, -999,9,  899,   4.8001,  27.3354,   -999.0,9
       KS05-06,  165E,KS-1339,  1,      7,02-19374,2,20050628,1925,  7.9967, 163.9807, 5133,   1007.6,   4.3785,  34.5560,2,   -999.0,9,  34.5555,2,     78.0,2,    95.95,2,  -999.00,9,    39.81,2,     0.00,2,     2.84,2, -999.000,9, -999.000,9,  -999.00,9,   -999.0,9,   -999.0,9,-999.0000,9,   -999.0,  9,     7.58,2,   -999.0,  -999.00,9,  -999.00,9,  -999.00,9,  -999.00,9,   -999.0,-999.0000, -999,9, 1000,   4.2992,  27.4014,   -999.0,9
       KS05-06,  165E,KS-1339,  1,      6,02-19373,2,20050628,1919,  7.9967, 163.9807, 5133,   1261.1,   3.5765,  34.5787,2,   -999.0,9,  34.5787,2,     89.0,2,   111.30,2,  -999.00,9,    39.61,2,     0.00,2,     2.82,2, -999.000,9, -999.000,9,  -999.00,9,   -999.0,9,   -999.0,9,-999.0000,9,   -999.0,  9,     7.58,2,   -999.0,  -999.00,9,  -999.00,9,  -999.00,9,  -999.00,9,   -999.0,-999.0000, -999,9, 1250,   3.4826,  27.5031,   -999.0,9
       KS05-06,  165E,KS-1339,  1,      5,02-16011,2,20050628,1913,  7.9967, 163.9807, 5133,   1511.7,   2.9709,  34.5989,2,   -999.0,9,  34.5983,2,     93.0,2,   125.20,2,  -999.00,9,    39.80,2,     0.00,2,     2.83,2, -999.000,9, -999.000,9,  -999.00,9,   -999.0,9,   -999.0,9,-999.0000,9,   -999.0,  9,     7.59,2,   -999.0,  -999.00,9,  -999.00,9,  -999.00,9,  -999.00,9,   -999.0,-999.0000, -999,9, 1498,   2.8624,  27.5774,   -999.0,9
       KS05-06,  165E,KS-1339,  1,      4,02-16010,2,20050628,1908,  7.9967, 163.9807, 5133,   1764.2,   2.4933,  34.6202,2,   -999.0,9,  34.6207,2,     99.0,2,   135.40,2,  -999.00,9,    39.70,2,     0.00,2,     2.81,2, -999.000,9, -999.000,9,  -999.00,9,   -999.0,9,   -999.0,9,-999.0000,9,   -999.0,  9,     7.60,2,   -999.0,  -999.00,9,  -999.00,9,  -999.00,9,  -999.00,9,   -999.0,-999.0000, -999,9, 1747,   2.3696,  27.6373,   -999.0,9
       KS05-06,  165E,KS-1339,  1,      3,02-16009,9,20050628,1904,  7.9967, 163.9807, 5133,   2017.0,   2.1634,  34.6381,2,   -999.0,9,-999.0000,9,   -999.0,9,  -999.00,9,  -999.00,9,  -999.00,9,  -999.00,9,  -999.00,9, -999.000,9, -999.000,9,  -999.00,9,   -999.0,9,   -999.0,9,-999.0000,9,   -999.0,  9,  -999.00,9,   -999.0,  -999.00,9,  -999.00,9,  -999.00,9,  -999.00,9,   -999.0,-999.0000, -999,9, 1996,   2.0230,  27.6799,   -999.0,9
       KS05-06,  165E,KS-1339,  1,      2,02-16008,9,20050628,1904,  7.9967, 163.9807, 5133,   2017.4,   2.1634,  34.6381,2,   -999.0,9,-999.0000,9,   -999.0,9,  -999.00,9,  -999.00,9,  -999.00,9,  -999.00,9,  -999.00,9, -999.000,9, -999.000,9,  -999.00,9,   -999.0,9,   -999.0,9,-999.0000,9,   -999.0,  9,  -999.00,9,   -999.0,  -999.00,9,  -999.00,9,  -999.00,9,  -999.00,9,   -999.0,-999.0000, -999,9, 1996,   2.0230,  27.6799,   -999.0,9
       KS05-06,  165E,KS-1339,  1,      1,02-16007,2,20050628,1903,  7.9967, 163.9807, 5133,   2018.6,   2.1634,  34.6380,2,   -999.0,9,  34.6382,2,    109.0,2,   141.81,2,  -999.00,9,    39.21,2,     0.00,2,     2.75,2, -999.000,9, -999.000,9,  -999.00,9,   -999.0,9,   -999.0,9,-999.0000,9,   -999.0,  9,     7.62,2,   -999.0,  -999.00,9,  -999.00,9,  -999.00,9,  -999.00,9,   -999.0,-999.0000, -999,9, 1998,   2.0229,  27.6798,   -999.0,9
       KS05-06,  165E,KS-1340,  1,      2,02-16008,9,20050629,0255,  6.9950, 164.4842, 5081,      3.4,  28.9592,  34.3181,2,   -999.0,9,-999.0000,9,   -999.0,9,  -999.00,9,  -999.00,9,  -999.00,9,  -999.00,9,  -999.00,9, -999.000,9, -999.000,9,  -999.00,9,   -999.0,9,   -999.0,9,-999.0000,9,   -999.0,  9,  -999.00,9,   -999.0,  -999.00,9,  -999.00,9,  -999.00,9,  -999.00,9,   -999.0,-999.0000, -999,9,    3,  28.9584,  21.5660,   -999.0,9
       KS05-06,  165E,KS-1340,  1,      1,02-16007,2,20050629,0254,  6.9950, 164.4842, 5081,      4.0,  28.9598,  34.3180,2,   -999.0,9,-999.0000,9,   -999.0,9,     1.17,2,  -999.00,9,     0.00,2,     0.00,2,     0.10,2, -999.000,9, -999.000,9,  -999.00,9,   1909.5,2,   -999.0,9,-999.0000,9,   -999.0,  9,  -999.00,9,   -999.0,  -999.00,9,  -999.00,9,     0.03,2,     0.02,2,   -999.0,-999.0000, -999,9,    4,  28.9588,  21.5658,   -999.0,9
       KS05-06,  165E,KS-1341,  1,      2,02-16008,9,20050629,0951,  5.9945, 164.9828, 4987,      5.0,  29.0552,  34.2669,2,   -999.0,9,-999.0000,9,   -999.0,9,  -999.00,9,  -999.00,9,  -999.00,9,  -999.00,9,  -999.00,9, -999.000,9, -999.000,9,  -999.00,9,   -999.0,9,   -999.0,9,-999.0000,9,   -999.0,  9,  -999.00,9,   -999.0,  -999.00,9,  -999.00,9,  -999.00,9,  -999.00,9,   -999.0,-999.0000, -999,9,    5,  29.0540,  21.4957,   -999.0,9
       KS05-06,  165E,KS-1341,  1,      1,02-16007,2,20050629,0951,  5.9945, 164.9828, 4987,      5.3,  29.0595,  34.2669,2,   -999.0,9,-999.0000,9,   -999.0,9,     1.17,2,  -999.00,9,     0.00,2,     0.00,2,     0.10,2, -999.000,9, -999.000,9,  -999.00,9,   1900.2,2,   -999.0,9,-999.0000,9,   -999.0,  9,  -999.00,9,   -999.0,  -999.00,9,  -999.00,9,     0.03,2,     0.02,2,   -999.0,-999.0000, -999,9,    5,  29.0582,  21.4943,   -999.0,9