BOTTLE,20130510GEMDJMAYT
EXPOCODE,SECT_ID,STNNBR,CASTNO,SAMPNO,BTLNBR,BTLNBR_FLAG_W,DATE,TIME,LATITUDE,LONGITUDE,DEPTH,CTDPRS,CTDTMP,CTDSAL,CTDSAL_FLAG_W,CTDOXY,CTDOXY_FLAG_W,SALNTY,SALNTY_FLAG_W,OXYGEN,OXYGEN_FLAG_W,SILCAT,SILCAT_FLAG_W,NITRAT,NITRAT_FLAG_W,NO2+NO3,NO2+NO3_FLAG_W,NITRIT,NITRIT_FLAG_W,PHSPHT,PHSPHT_FLAG_W,CFC-11,CFC-11_FLAG_W,CFC-12,CFC-12_FLAG_W,DELC13,DELC13_FLAG_W,TCARBN,TCARBN_FLAG_W,ALKALI,ALKALI_FLAG_W,PH,PH_FLAG_W,PH_TMP,PH_SCALE,PH_NBS,PH_NBS_FLAG_W,C13ERR,TOTALP,TOTALP_FLAG_W,AMMONI,AMMONI_FLAG_W,CHLORA,CHLORA_FLAG_W,PPHYTN,PPHYTN_FLAG_W,REVPRS,REVTMP,DEPTH_,DEPTH_FLAG,CTDDEP,THETA,SIGTHT,DOC,DOC_FLAG_W
,,,,,,,GMT,GMT,,,METER,DBAR,ITS-90,PSS-78,,UMOL/KG,,PSS-78,,UMOL/KG,,UMOL/KG,,UMOL/KG,,UMOL/KG,,UMOL/KG,,UMOL/KG,,PMOL/KG,,PMOL/KG,,/MILLE,,UMOL/KG,,UMOL/KG,,25_DEG_C,,DEG_C,,,,/MILLE,UMOL/KG,,UMOL/KG,,UG/L,,UG/L,,DBAR,ITS-90,METERS,,METERS,DEG_C,,UMOL/L,
       KS05-06, EQPAC,KS-1359,  1,     24,02-16030,2,20050718,0115,  0.0097, 152.9890, 4199,      5.4,  29.7252,  33.6817,2,   -999.0,9,  33.6371,4,    197.0,2,     1.08,2,  -999.00,9,     0.00,2,     0.00,2,     0.10,2, -999.000,9, -999.000,9,  -999.00,9,   1858.8,3,   -999.0,9,-999.0000,9,   -999.0,  9,  -999.00,9,   -999.0,  -999.00,9,  -999.00,9,     0.05,2,     0.03,2,   -999.0,-999.0000, -999,9,    5,  29.7239,  20.8319,   -999.0,9
       KS05-06, EQPAC,KS-1359,  1,     23,02-19380,2,20050718,0112,  0.0097, 152.9890, 4199,      8.8,  29.9565,  34.0167,2,   -999.0,9,-999.0000,9,    196.0,2,     1.17,2,  -999.00,9,     0.00,2,     0.00,2,     0.10,2, -999.000,9, -999.000,9,  -999.00,9,   -999.0,9,   -999.0,9,-999.0000,9,   -999.0,  9,  -999.00,9,   -999.0,  -999.00,9,  -999.00,9,     0.06,2,     0.04,2,   -999.0,-999.0000, -999,9,    9,  29.9543,  21.0048,   -999.0,9
       KS05-06, EQPAC,KS-1359,  1,     22,02-19379,2,20050718,0111,  0.0097, 152.9890, 4199,     25.0,  29.9789,  34.1510,2,   -999.0,9,-999.0000,9,    197.0,2,     1.16,2,  -999.00,9,     0.00,2,     0.00,2,     0.11,2, -999.000,9, -999.000,9,  -999.00,9,   -999.0,9,   -999.0,9,-999.0000,9,   -999.0,  9,  -999.00,9,   -999.0,  -999.00,9,  -999.00,9,     0.08,2,     0.04,2,   -999.0,-999.0000, -999,9,   25,  29.9727,  21.0992,   -999.0,9
       KS05-06, EQPAC,KS-1359,  1,     21,02-16027,2,20050718,0107,  0.0097, 152.9890, 4199,     50.2,  29.9913,  34.3608,2,   -999.0,9,-999.0000,9,    197.0,2,     1.14,2,  -999.00,9,     0.00,2,     0.00,2,     0.12,2, -999.000,9, -999.000,9,  -999.00,9,   -999.0,9,   -999.0,9,-999.0000,9,   -999.0,  9,  -999.00,9,   -999.0,  -999.00,9,  -999.00,9,     0.11,2,     0.09,2,   -999.0,-999.0000, -999,9,   50,  29.9789,  21.2543,   -999.0,9
       KS05-06, EQPAC,KS-1359,  1,     20,02-16026,2,20050718,0106,  0.0097, 152.9890, 4199,     75.3,  28.7638,  35.1611,2,   -999.0,9,-999.0000,9,    185.0,2,     1.64,2,  -999.00,9,     0.59,2,     0.10,2,     0.27,2, -999.000,9, -999.000,9,  -999.00,9,   -999.0,9,   -999.0,9,-999.0000,9,   -999.0,  9,  -999.00,9,   -999.0,  -999.00,9,  -999.00,9,     0.28,2,     0.50,2,   -999.0,-999.0000, -999,9,   75,  28.7457,  22.2699,   -999.0,9
       KS05-06, EQPAC,KS-1359,  1,     19,02-19378,2,20050718,0105,  0.0097, 152.9890, 4199,    101.3,  26.1544,  34.9895,2,   -999.0,9,  34.9923,2,    140.0,2,     3.22,2,  -999.00,9,     7.14,2,     0.34,2,     0.56,2, -999.000,9, -999.000,9,  -999.00,9,   -999.0,9,   -999.0,9,-999.0000,9,   -999.0,  9,  -999.00,9,   -999.0,  -999.00,9,  -999.00,9,     0.16,2,     0.53,2,   -999.0,-999.0000, -999,9,  101,  26.1317,  22.9843,   -999.0,9
       KS05-06, EQPAC,KS-1359,  1,     18,02-19377,2,20050718,0105,  0.0097, 152.9890, 4199,    124.0,  25.8661,  35.4245,2,   -999.0,9,-999.0000,9,    147.0,2,     2.78,2,  -999.00,9,     7.43,2,     0.07,2,     0.64,2, -999.000,9, -999.000,9,  -999.00,9,   -999.0,9,   -999.0,9,-999.0000,9,   -999.0,  9,  -999.00,9,   -999.0,  -999.00,9,  -999.00,9,     0.09,2,     0.39,2,   -999.0,-999.0000, -999,9,  123,  25.8385,  23.4040,   -999.0,9
       KS05-06, EQPAC,KS-1359,  1,     17,02-16023,2,20050718,0104,  0.0097, 152.9890, 4199,    150.7,  22.8187,  35.7892,2,   -999.0,9,-999.0000,9,    129.0,2,     3.45,2,  -999.00,9,    10.25,2,     0.02,2,     0.86,2, -999.000,9, -999.000,9,  -999.00,9,   -999.0,9,   -999.0,9,-999.0000,9,   -999.0,  9,  -999.00,9,   -999.0,  -999.00,9,  -999.00,9,     0.03,2,     0.10,2,   -999.0,-999.0000, -999,9,  150,  22.7880,  24.5934,   -999.0,9
       KS05-06, EQPAC,KS-1359,  1,     16,02-16022,2,20050718,0102,  0.0097, 152.9890, 4199,    201.5,  17.2637,  35.2997,2,   -999.0,9,  35.3056,2,    140.0,2,     7.17,2,  -999.00,9,    13.36,2,     0.00,2,     0.99,2, -999.000,9, -999.000,9,  -999.00,9,   -999.0,9,   -999.0,9,-999.0000,9,   -999.0,  9,  -999.00,9,   -999.0,  -999.00,9,  -999.00,9,     0.00,2,     0.02,2,   -999.0,-999.0000, -999,9,  200,  17.2300,  25.6893,   -999.0,9
       KS05-06, EQPAC,KS-1359,  1,     15,02-16021,2,20050718,0101,  0.0097, 152.9890, 4199,    251.2,  13.6193,  34.9781,2,   -999.0,9,-999.0000,9,    143.0,2,    14.09,2,  -999.00,9,    18.03,2,     0.00,2,     1.31,2, -999.000,9, -999.000,9,  -999.00,9,   -999.0,9,   -999.0,9,-999.0000,9,   -999.0,  9,  -999.00,9,   -999.0,  -999.00,9,  -999.00,9,     0.00,2,     0.01,2,   -999.0,-999.0000, -999,9,  250,  13.5836,  26.2570,   -999.0,9
       KS05-06, EQPAC,KS-1359,  1,     14,02-16020,2,20050718,0059,  0.0097, 152.9890, 4199,    300.7,  11.8717,  34.8684,2,   -999.0,9,  34.8666,2,    143.0,2,    17.16,2,  -999.00,9,    20.94,2,     0.00,2,     1.49,2, -999.000,9, -999.000,9,  -999.00,9,   -999.0,9,   -999.0,9,-999.0000,9,   -999.0,  9,  -999.00,9,   -999.0,  -999.00,9,  -999.00,9,     0.00,2,     0.02,2,   -999.0,-999.0000, -999,9,  299,  11.8326,  26.5187,   -999.0,9
       KS05-06, EQPAC,KS-1359,  1,     13,02-16019,2,20050718,0057,  0.0097, 152.9890, 4199,    402.6,   9.5953,  34.6875,2,   -999.0,9,  34.6877,2,    147.0,2,    28.89,2,  -999.00,9,    29.41,2,     0.00,2,     2.05,2, -999.000,9, -999.000,9,  -999.00,9,   -999.0,9,   -999.0,9,-999.0000,9,   -999.0,  9,  -999.00,9,   -999.0,  -999.00,9,  -999.00,9,  -999.00,9,  -999.00,9,   -999.0,-999.0000, -999,9,  400,   9.5495,  26.7838,   -999.0,9
       KS05-06, EQPAC,KS-1359,  1,     12,02-16018,2,20050718,0055,  0.0097, 152.9890, 4199,    502.6,   8.2795,  34.6062,2,   -999.0,9,  34.6068,2,    114.0,2,    34.26,2,  -999.00,9,    30.48,2,     0.00,2,     2.12,2, -999.000,9, -999.000,9,  -999.00,9,   -999.0,9,   -999.0,9,-999.0000,9,   -999.0,  9,  -999.00,9,   -999.0,  -999.00,9,  -999.00,9,  -999.00,9,  -999.00,9,   -999.0,-999.0000, -999,9,  499,   8.2269,  26.9304,   -999.0,9
       KS05-06, EQPAC,KS-1359,  1,     11,02-19376,2,20050718,0052,  0.0097, 152.9890, 4199,    604.0,   6.9184,  34.5551,2,   -999.0,9,  34.5565,2,    105.0,2,    43.81,2,  -999.00,9,    34.17,2,     0.00,2,     2.41,2, -999.000,9, -999.000,9,  -999.00,9,   -999.0,9,   -999.0,9,-999.0000,9,   -999.0,  9,  -999.00,9,   -999.0,  -999.00,9,  -999.00,9,  -999.00,9,  -999.00,9,   -999.0,-999.0000, -999,9,  600,   6.8609,  27.0874,   -999.0,9
       KS05-06, EQPAC,KS-1359,  1,     10,02-19375,2,20050718,0050,  0.0097, 152.9890, 4199,    704.9,   5.9268,  34.5356,2,   -999.0,9,  34.5353,2,    104.0,2,    56.50,2,  -999.00,9,    36.02,2,     0.00,2,     2.56,2, -999.000,9, -999.000,9,  -999.00,9,   -999.0,9,   -999.0,9,-999.0000,9,   -999.0,  9,  -999.00,9,   -999.0,  -999.00,9,  -999.00,9,  -999.00,9,  -999.00,9,   -999.0,-999.0000, -999,9,  700,   5.8646,  27.2028,   -999.0,9
       KS05-06, EQPAC,KS-1359,  1,      9,02-16015,2,20050718,0048,  0.0097, 152.9890, 4199,    804.7,   5.4758,  34.5355,2,   -999.0,9,  34.5360,2,    103.0,2,    63.88,2,  -999.00,9,    36.70,2,     0.00,2,     2.61,2, -999.000,9, -999.000,9,  -999.00,9,   -999.0,9,   -999.0,9,-999.0000,9,   -999.0,  9,  -999.00,9,   -999.0,  -999.00,9,  -999.00,9,  -999.00,9,  -999.00,9,   -999.0,-999.0000, -999,9,  799,   5.4069,  27.2590,   -999.0,9
       KS05-06, EQPAC,KS-1359,  1,      8,02-16014,2,20050718,0045,  0.0097, 152.9890, 4199,    906.0,   4.9485,  34.5400,2,   -999.0,9,  34.5404,2,    105.0,2,    73.78,2,  -999.00,9,    37.09,2,     0.00,2,     2.64,2, -999.000,9, -999.000,9,  -999.00,9,   -999.0,9,   -999.0,9,-999.0000,9,   -999.0,  9,  -999.00,9,   -999.0,  -999.00,9,  -999.00,9,  -999.00,9,  -999.00,9,   -999.0,-999.0000, -999,9,  899,   4.8739,  27.3251,   -999.0,9
       KS05-06, EQPAC,KS-1359,  1,      7,02-19374,2,20050718,0043,  0.0097, 152.9890, 4199,   1007.2,   4.3959,  34.5549,2,   -999.0,9,  34.5553,2,    100.0,2,    87.53,2,  -999.00,9,    38.06,2,     0.00,2,     2.74,2, -999.000,9, -999.000,9,  -999.00,9,   -999.0,9,   -999.0,9,-999.0000,9,   -999.0,  9,  -999.00,9,   -999.0,  -999.00,9,  -999.00,9,  -999.00,9,  -999.00,9,   -999.0,-999.0000, -999,9,  999,   4.3165,  27.3986,   -999.0,9
       KS05-06, EQPAC,KS-1359,  1,      6,02-19373,2,20050718,0038,  0.0097, 152.9890, 4199,   1261.3,   3.5959,  34.5781,2,   -999.0,9,  34.5769,2,    103.0,2,   103.83,2,  -999.00,9,    38.54,2,     0.00,2,     2.76,2, -999.000,9, -999.000,9,  -999.00,9,   -999.0,9,   -999.0,9,-999.0000,9,   -999.0,  9,  -999.00,9,   -999.0,  -999.00,9,  -999.00,9,  -999.00,9,  -999.00,9,   -999.0,-999.0000, -999,9, 1251,   3.5018,  27.5008,   -999.0,9
       KS05-06, EQPAC,KS-1359,  1,      5,02-16011,2,20050718,0033,  0.0097, 152.9890, 4199,   1512.1,   2.9646,  34.6034,2,   -999.0,9,  34.6020,2,    107.0,2,   118.61,2,  -999.00,9,    38.83,2,     0.00,2,     2.77,2, -999.000,9, -999.000,9,  -999.00,9,   -999.0,9,   -999.0,9,-999.0000,9,   -999.0,  9,  -999.00,9,   -999.0,  -999.00,9,  -999.00,9,  -999.00,9,  -999.00,9,   -999.0,-999.0000, -999,9, 1498,   2.8561,  27.5815,   -999.0,9
       KS05-06, EQPAC,KS-1359,  1,      4,02-16010,2,20050718,0028,  0.0097, 152.9890, 4199,   1765.6,   2.5046,  34.6236,2,   -999.0,9,  34.6229,2,    116.0,2,   127.97,2,  -999.00,9,    38.34,2,     0.00,2,     2.72,2, -999.000,9, -999.000,9,  -999.00,9,   -999.0,9,   -999.0,9,-999.0000,9,   -999.0,  9,  -999.00,9,   -999.0,  -999.00,9,  -999.00,9,  -999.00,9,  -999.00,9,   -999.0,-999.0000, -999,9, 1748,   2.3806,  27.6391,   -999.0,9
       KS05-06, EQPAC,KS-1359,  1,      3,02-16009,9,20050718,0023,  0.0097, 152.9890, 4199,   2020.0,   2.2314,  34.6386,2,   -999.0,9,-999.0000,9,   -999.0,9,  -999.00,9,  -999.00,9,  -999.00,9,  -999.00,9,  -999.00,9, -999.000,9, -999.000,9,  -999.00,9,   -999.0,9,   -999.0,9,-999.0000,9,   -999.0,  9,  -999.00,9,   -999.0,  -999.00,9,  -999.00,9,  -999.00,9,  -999.00,9,   -999.0,-999.0000, -999,9, 1999,   2.0897,  27.6749,   -999.0,9
       KS05-06, EQPAC,KS-1359,  1,      2,02-16008,9,20050718,0022,  0.0097, 152.9890, 4199,   2019.6,   2.2331,  34.6385,2,   -999.0,9,-999.0000,9,   -999.0,9,  -999.00,9,  -999.00,9,  -999.00,9,  -999.00,9,  -999.00,9, -999.000,9, -999.000,9,  -999.00,9,   -999.0,9,   -999.0,9,-999.0000,9,   -999.0,  9,  -999.00,9,   -999.0,  -999.00,9,  -999.00,9,  -999.00,9,  -999.00,9,   -999.0,-999.0000, -999,9, 1999,   2.0914,  27.6747,   -999.0,9
       KS05-06, EQPAC,KS-1359,  1,      1,02-16007,2,20050718,0022,  0.0097, 152.9890, 4199,   2018.5,   2.2319,  34.6384,2,   -999.0,9,  34.6370,2,    120.0,2,   133.34,2,  -999.00,9,    38.24,2,     0.00,2,     2.71,2, -999.000,9, -999.000,9,  -999.00,9,   -999.0,9,   -999.0,9,-999.0000,9,   -999.0,  9,  -999.00,9,   -999.0,  -999.00,9,  -999.00,9,  -999.00,9,  -999.00,9,   -999.0,-999.0000, -999,9, 1998,   2.0903,  27.6748,   -999.0,9