BOTTLE,20130510GEMDJMAYT
EXPOCODE,SECT_ID,STNNBR,CASTNO,SAMPNO,BTLNBR,BTLNBR_FLAG_W,DATE,TIME,LATITUDE,LONGITUDE,DEPTH,CTDPRS,CTDTMP,CTDSAL,CTDSAL_FLAG_W,CTDOXY,CTDOXY_FLAG_W,SALNTY,SALNTY_FLAG_W,OXYGEN,OXYGEN_FLAG_W,SILCAT,SILCAT_FLAG_W,NITRAT,NITRAT_FLAG_W,NO2+NO3,NO2+NO3_FLAG_W,NITRIT,NITRIT_FLAG_W,PHSPHT,PHSPHT_FLAG_W,CFC-11,CFC-11_FLAG_W,CFC-12,CFC-12_FLAG_W,DELC13,DELC13_FLAG_W,TCARBN,TCARBN_FLAG_W,ALKALI,ALKALI_FLAG_W,PH,PH_FLAG_W,PH_TMP,PH_SCALE,PH_NBS,PH_NBS_FLAG_W,C13ERR,TOTALP,TOTALP_FLAG_W,AMMONI,AMMONI_FLAG_W,CHLORA,CHLORA_FLAG_W,PPHYTN,PPHYTN_FLAG_W,REVPRS,REVTMP,DEPTH_,DEPTH_FLAG,CTDDEP,THETA,SIGTHT,DOC,DOC_FLAG_W
,,,,,,,GMT,GMT,,,METER,DBAR,ITS-90,PSS-78,,UMOL/KG,,PSS-78,,UMOL/KG,,UMOL/KG,,UMOL/KG,,UMOL/KG,,UMOL/KG,,UMOL/KG,,PMOL/KG,,PMOL/KG,,/MILLE,,UMOL/KG,,UMOL/KG,,25_DEG_C,,DEG_C,,,,/MILLE,UMOL/KG,,UMOL/KG,,UG/L,,UG/L,,DBAR,ITS-90,METERS,,METERS,DEG_C,,UMOL/L,
       KS05-06,  NONE,KS-1383,  1,     24,02-16030,9,20050802,2231, 19.9975, 149.3213, 4089,      4.7,  29.3811,  34.8818,2,   -999.0,9,-999.0000,9,   -999.0,9,  -999.00,9,  -999.00,9,  -999.00,9,  -999.00,9,  -999.00,9, -999.000,9, -999.000,9,  -999.00,9,   -999.0,9,   -999.0,9,-999.0000,9,   -999.0,  9,  -999.00,9,   -999.0,  -999.00,9,  -999.00,9,  -999.00,9,  -999.00,9,   -999.0,-999.0000, -999,9,    5,  29.3800,  21.8478,   -999.0,9
       KS05-06,  NONE,KS-1383,  1,     23,02-19380,9,20050802,2231, 19.9975, 149.3213, 4089,      4.5,  29.3798,  34.8808,2,   -999.0,9,-999.0000,9,   -999.0,9,  -999.00,9,  -999.00,9,  -999.00,9,  -999.00,9,  -999.00,9, -999.000,9, -999.000,9,  -999.00,9,   -999.0,9,   -999.0,9,-999.0000,9,   -999.0,  9,  -999.00,9,   -999.0,  -999.00,9,  -999.00,9,  -999.00,9,  -999.00,9,   -999.0,-999.0000, -999,9,    5,  29.3787,  21.8475,   -999.0,9
       KS05-06,  NONE,KS-1383,  1,     22,02-19379,2,20050802,2231, 19.9975, 149.3213, 4089,      4.4,  29.3787,  34.8805,2,   -999.0,9,  34.8827,2,    197.0,2,     0.94,2,  -999.00,9,     0.00,2,     0.00,2,     0.01,2, -999.000,9, -999.000,9,  -999.00,9,   -999.0,9,   -999.0,9,-999.0000,9,   -999.0,  9,  -999.00,9,   -999.0,  -999.00,9,  -999.00,9,  -999.00,9,  -999.00,9,   -999.0,-999.0000, -999,9,    4,  29.3776,  21.8477,   -999.0,9
       KS05-06,  NONE,KS-1383,  1,     21,02-16027,2,20050802,2230, 19.9975, 149.3213, 4089,      9.2,  29.3758,  34.8803,2,   -999.0,9,-999.0000,9,    196.0,2,     0.92,2,  -999.00,9,     0.00,2,     0.00,2,     0.01,2, -999.000,9, -999.000,9,  -999.00,9,   -999.0,9,   -999.0,9,-999.0000,9,   -999.0,  9,  -999.00,9,   -999.0,  -999.00,9,  -999.00,9,  -999.00,9,  -999.00,9,   -999.0,-999.0000, -999,9,    9,  29.3736,  21.8489,   -999.0,9
       KS05-06,  NONE,KS-1383,  1,     20,02-16026,2,20050802,2228, 19.9975, 149.3213, 4089,     25.0,  29.3740,  34.9133,2,   -999.0,9,-999.0000,9,    199.0,2,     1.00,2,  -999.00,9,     0.00,2,     0.00,2,     0.02,2, -999.000,9, -999.000,9,  -999.00,9,   -999.0,9,   -999.0,9,-999.0000,9,   -999.0,  9,  -999.00,9,   -999.0,  -999.00,9,  -999.00,9,  -999.00,9,  -999.00,9,   -999.0,-999.0000, -999,9,   25,  29.3679,  21.8755,   -999.0,9
       KS05-06,  NONE,KS-1383,  1,     19,02-19378,2,20050802,2225, 19.9975, 149.3213, 4089,     48.9,  29.2960,  34.9113,2,   -999.0,9,-999.0000,9,    199.0,2,     1.14,2,  -999.00,9,     0.00,2,     0.00,2,     0.01,2, -999.000,9, -999.000,9,  -999.00,9,   -999.0,9,   -999.0,9,-999.0000,9,   -999.0,  9,  -999.00,9,   -999.0,  -999.00,9,  -999.00,9,  -999.00,9,  -999.00,9,   -999.0,-999.0000, -999,9,   49,  29.2841,  21.9023,   -999.0,9
       KS05-06,  NONE,KS-1383,  1,     18,02-19377,2,20050802,2224, 19.9975, 149.3213, 4089,     74.2,  26.7482,  34.9609,2,   -999.0,9,-999.0000,9,    216.0,2,     1.07,2,  -999.00,9,     0.00,2,     0.00,2,     0.02,2, -999.000,9, -999.000,9,  -999.00,9,   -999.0,9,   -999.0,9,-999.0000,9,   -999.0,  9,  -999.00,9,   -999.0,  -999.00,9,  -999.00,9,  -999.00,9,  -999.00,9,   -999.0,-999.0000, -999,9,   74,  26.7313,  22.7739,   -999.0,9
       KS05-06,  NONE,KS-1383,  1,     17,02-16023,2,20050802,2223, 19.9975, 149.3213, 4089,     98.9,  24.9955,  35.0616,2,   -999.0,9,  35.0752,4,    212.0,2,     1.15,2,  -999.00,9,     0.00,2,     0.00,2,     0.01,2, -999.000,9, -999.000,9,  -999.00,9,   -999.0,9,   -999.0,9,-999.0000,9,   -999.0,  9,  -999.00,9,   -999.0,  -999.00,9,  -999.00,9,  -999.00,9,  -999.00,9,   -999.0,-999.0000, -999,9,   98,  24.9741,  23.3956,   -999.0,9
       KS05-06,  NONE,KS-1383,  1,     16,02-16022,2,20050802,2222, 19.9975, 149.3213, 4089,    124.7,  22.5042,  35.1281,2,   -999.0,9,-999.0000,9,    183.0,2,     1.77,2,  -999.00,9,     1.07,2,     0.07,2,     0.17,2, -999.000,9, -999.000,9,  -999.00,9,   -999.0,9,   -999.0,9,-999.0000,9,   -999.0,  9,  -999.00,9,   -999.0,  -999.00,9,  -999.00,9,  -999.00,9,  -999.00,9,   -999.0,-999.0000, -999,9,  124,  22.4791,  24.1799,   -999.0,9
       KS05-06,  NONE,KS-1383,  1,     15,02-16021,2,20050802,2221, 19.9975, 149.3213, 4089,    150.0,  20.9162,  35.0504,2,   -999.0,9,-999.0000,9,    184.0,2,     2.32,2,  -999.00,9,     2.34,2,     0.02,2,     0.22,2, -999.000,9, -999.000,9,  -999.00,9,   -999.0,9,   -999.0,9,-999.0000,9,   -999.0,  9,  -999.00,9,   -999.0,  -999.00,9,  -999.00,9,  -999.00,9,  -999.00,9,   -999.0,-999.0000, -999,9,  149,  20.8876,  24.5629,   -999.0,9
       KS05-06,  NONE,KS-1383,  1,     14,02-16020,2,20050802,2220, 19.9975, 149.3213, 4089,    200.6,  18.4215,  34.8750,2,   -999.0,9,  34.8672,4,    198.0,2,     3.25,2,  -999.00,9,     3.71,2,     0.01,2,     0.27,2, -999.000,9, -999.000,9,  -999.00,9,   -999.0,9,   -999.0,9,-999.0000,9,   -999.0,  9,  -999.00,9,   -999.0,  -999.00,9,  -999.00,9,  -999.00,9,  -999.00,9,   -999.0,-999.0000, -999,9,  199,  18.3865,  25.0805,   -999.0,9
       KS05-06,  NONE,KS-1383,  1,     13,02-16019,2,20050802,2219, 19.9975, 149.3213, 4089,    250.6,  16.8036,  34.7420,2,   -999.0,9,-999.0000,9,    209.0,2,     4.49,2,  -999.00,9,     5.27,2,     0.00,2,     0.34,2, -999.000,9, -999.000,9,  -999.00,9,   -999.0,9,   -999.0,9,-999.0000,9,   -999.0,  9,  -999.00,9,   -999.0,  -999.00,9,  -999.00,9,  -999.00,9,  -999.00,9,   -999.0,-999.0000, -999,9,  249,  16.7626,  25.3723,   -999.0,9
       KS05-06,  NONE,KS-1383,  1,     12,02-16018,2,20050802,2217, 19.9975, 149.3213, 4089,    299.7,  15.5585,  34.6341,2,   -999.0,9,  34.6358,2,    203.0,2,     7.10,2,  -999.00,9,     7.61,2,     0.00,2,     0.51,2, -999.000,9, -999.000,9,  -999.00,9,   -999.0,9,   -999.0,9,-999.0000,9,   -999.0,  9,  -999.00,9,   -999.0,  -999.00,9,  -999.00,9,  -999.00,9,  -999.00,9,   -999.0,-999.0000, -999,9,  298,  15.5120,  25.5764,   -999.0,9
       KS05-06,  NONE,KS-1383,  1,     11,02-19376,2,20050802,2215, 19.9975, 149.3213, 4089,    401.9,  12.9655,  34.4218,2,   -999.0,9,  34.4202,2,    195.0,2,    13.85,2,  -999.00,9,    12.57,2,     0.00,2,     0.86,2, -999.000,9, -999.000,9,  -999.00,9,   -999.0,9,   -999.0,9,-999.0000,9,   -999.0,  9,  -999.00,9,   -999.0,  -999.00,9,  -999.00,9,  -999.00,9,  -999.00,9,   -999.0,-999.0000, -999,9,  399,  12.9102,  25.9628,   -999.0,9
       KS05-06,  NONE,KS-1383,  1,     10,02-19375,2,20050802,2212, 19.9975, 149.3213, 4089,    503.3,   9.5307,  34.1875,2,   -999.0,9,  34.1852,2,    166.0,2,    29.73,2,  -999.00,9,    21.34,2,     0.00,2,     1.51,2, -999.000,9, -999.000,9,  -999.00,9,   -999.0,9,   -999.0,9,-999.0000,9,   -999.0,  9,  -999.00,9,   -999.0,  -999.00,9,  -999.00,9,  -999.00,9,  -999.00,9,   -999.0,-999.0000, -999,9,  500,   9.4737,  26.4053,   -999.0,9
       KS05-06,  NONE,KS-1383,  1,      9,02-16015,2,20050802,2210, 19.9975, 149.3213, 4089,    604.0,   7.0488,  34.1261,2,   -999.0,9,  34.1291,2,    105.0,2,    55.42,2,  -999.00,9,    31.46,2,     0.00,2,     2.27,2, -999.000,9, -999.000,9,  -999.00,9,   -999.0,9,   -999.0,9,-999.0000,9,   -999.0,  9,  -999.00,9,   -999.0,  -999.00,9,  -999.00,9,  -999.00,9,  -999.00,9,   -999.0,-999.0000, -999,9,  599,   6.9912,  26.7316,   -999.0,9
       KS05-06,  NONE,KS-1383,  1,      8,02-16014,2,20050802,2208, 19.9975, 149.3213, 4089,    703.7,   5.5397,  34.1954,2,   -999.0,9,  34.1973,2,     70.0,2,    78.81,2,  -999.00,9,    37.20,2,     0.00,2,     2.70,2, -999.000,9, -999.000,9,  -999.00,9,   -999.0,9,   -999.0,9,-999.0000,9,   -999.0,  9,  -999.00,9,   -999.0,  -999.00,9,  -999.00,9,  -999.00,9,  -999.00,9,   -999.0,-999.0000, -999,9,  698,   5.4800,  26.9810,   -999.0,9
       KS05-06,  NONE,KS-1383,  1,      7,02-19374,2,20050802,2205, 19.9975, 149.3213, 4089,    805.4,   4.9036,  34.3136,2,   -999.0,9,  34.3135,2,     52.0,2,    92.28,2,  -999.00,9,    39.92,2,     0.00,2,     2.89,2, -999.000,9, -999.000,9,  -999.00,9,   -999.0,9,   -999.0,9,-999.0000,9,   -999.0,  9,  -999.00,9,   -999.0,  -999.00,9,  -999.00,9,  -999.00,9,  -999.00,9,   -999.0,-999.0000, -999,9,  799,   4.8385,  27.1495,   -999.0,9
       KS05-06,  NONE,KS-1383,  1,      6,02-19373,2,20050802,2203, 19.9975, 149.3213, 4089,    907.8,   4.3583,  34.4211,2,   -999.0,9,  34.4222,2,     57.0,2,   103.10,2,  -999.00,9,    40.40,2,     0.00,2,     2.92,2, -999.000,9, -999.000,9,  -999.00,9,   -999.0,9,   -999.0,9,-999.0000,9,   -999.0,  9,  -999.00,9,   -999.0,  -999.00,9,  -999.00,9,  -999.00,9,  -999.00,9,   -999.0,-999.0000, -999,9,  900,   4.2879,  27.2954,   -999.0,9
       KS05-06,  NONE,KS-1383,  1,      5,02-16011,2,20050802,2200, 19.9975, 149.3213, 4089,   1008.6,   3.9845,  34.4849,2,   -999.0,9,  34.4842,2,     69.0,2,   110.09,2,  -999.00,9,    40.00,2,     0.00,2,     2.88,2, -999.000,9, -999.000,9,  -999.00,9,   -999.0,9,   -999.0,9,-999.0000,9,   -999.0,  9,  -999.00,9,   -999.0,  -999.00,9,  -999.00,9,  -999.00,9,  -999.00,9,   -999.0,-999.0000, -999,9, 1000,   3.9083,  27.3858,   -999.0,9
       KS05-06,  NONE,KS-1383,  1,      4,02-16010,2,20050802,2155, 19.9975, 149.3213, 4089,   1260.1,   3.1507,  34.5484,2,   -999.0,9,  34.5474,2,     85.0,2,   125.20,2,  -999.00,9,    39.80,2,     0.00,2,     2.85,2, -999.000,9, -999.000,9,  -999.00,9,   -999.0,9,   -999.0,9,-999.0000,9,   -999.0,  9,  -999.00,9,   -999.0,  -999.00,9,  -999.00,9,  -999.00,9,  -999.00,9,   -999.0,-999.0000, -999,9, 1249,   3.0610,  27.5190,   -999.0,9
       KS05-06,  NONE,KS-1383,  1,      3,02-16009,2,20050802,2149, 19.9975, 149.3213, 4089,   1514.9,   2.7129,  34.5736,2,   -999.0,9,  34.5732,2,     91.0,2,   132.71,2,  -999.00,9,    39.61,2,     0.00,2,     2.82,2, -999.000,9, -999.000,9,  -999.00,9,   -999.0,9,   -999.0,9,-999.0000,9,   -999.0,  9,  -999.00,9,   -999.0,  -999.00,9,  -999.00,9,  -999.00,9,  -999.00,9,   -999.0,-999.0000, -999,9, 1500,   2.6072,  27.5798,   -999.0,9
       KS05-06,  NONE,KS-1383,  1,      2,02-16008,2,20050802,2144, 19.9975, 149.3213, 4089,   1766.5,   2.3278,  34.6034,2,   -999.0,9,  34.6028,2,    100.0,2,   139.59,2,  -999.00,9,    39.41,2,     0.00,2,     2.78,2, -999.000,9, -999.000,9,  -999.00,9,   -999.0,9,   -999.0,9,-999.0000,9,   -999.0,  9,  -999.00,9,   -999.0,  -999.00,9,  -999.00,9,  -999.00,9,  -999.00,9,   -999.0,-999.0000, -999,9, 1748,   2.2062,  27.6373,   -999.0,9
       KS05-06,  NONE,KS-1383,  1,      1,02-16007,2,20050802,2139, 19.9975, 149.3213, 4089,   2021.1,   2.0742,  34.6206,2,   -999.0,9,  34.6209,2,    108.0,2,   143.80,2,  -999.00,9,    39.02,2,     0.00,2,     2.74,2, -999.000,9, -999.000,9,  -999.00,9,   -999.0,9,   -999.0,9,-999.0000,9,   -999.0,  9,  -999.00,9,   -999.0,  -999.00,9,  -999.00,9,  -999.00,9,  -999.00,9,   -999.0,-999.0000, -999,9, 1999,   1.9349,  27.6729,   -999.0,9