BOTTLE,20130510GEMDJMAYT
EXPOCODE,SECT_ID,STNNBR,CASTNO,SAMPNO,BTLNBR,BTLNBR_FLAG_W,DATE,TIME,LATITUDE,LONGITUDE,DEPTH,CTDPRS,CTDTMP,CTDSAL,CTDSAL_FLAG_W,CTDOXY,CTDOXY_FLAG_W,SALNTY,SALNTY_FLAG_W,OXYGEN,OXYGEN_FLAG_W,SILCAT,SILCAT_FLAG_W,NITRAT,NITRAT_FLAG_W,NO2+NO3,NO2+NO3_FLAG_W,NITRIT,NITRIT_FLAG_W,PHSPHT,PHSPHT_FLAG_W,CFC-11,CFC-11_FLAG_W,CFC-12,CFC-12_FLAG_W,DELC13,DELC13_FLAG_W,TCARBN,TCARBN_FLAG_W,ALKALI,ALKALI_FLAG_W,PH,PH_FLAG_W,PH_TMP,PH_SCALE,PH_NBS,PH_NBS_FLAG_W,C13ERR,TOTALP,TOTALP_FLAG_W,AMMONI,AMMONI_FLAG_W,CHLORA,CHLORA_FLAG_W,PPHYTN,PPHYTN_FLAG_W,REVPRS,REVTMP,DEPTH_,DEPTH_FLAG,CTDDEP,THETA,SIGTHT,DOC,DOC_FLAG_W
,,,,,,,GMT,GMT,,,METER,DBAR,ITS-90,PSS-78,,UMOL/KG,,PSS-78,,UMOL/KG,,UMOL/KG,,UMOL/KG,,UMOL/KG,,UMOL/KG,,UMOL/KG,,PMOL/KG,,PMOL/KG,,/MILLE,,UMOL/KG,,UMOL/KG,,25_DEG_C,,DEG_C,,,,/MILLE,UMOL/KG,,UMOL/KG,,UG/L,,UG/L,,DBAR,ITS-90,METERS,,METERS,DEG_C,,UMOL/L,
       KS05-06,  NONE,KS-1378,  1,     24,02-16030,9,20050723,2221, 14.9933, 149.3262, 5649,      4.6,  29.3232,  34.2639,2,   -999.0,9,-999.0000,9,   -999.0,9,  -999.00,9,  -999.00,9,  -999.00,9,  -999.00,9,  -999.00,9, -999.000,9, -999.000,9,  -999.00,9,   -999.0,9,   -999.0,9,-999.0000,9,   -999.0,  9,  -999.00,9,   -999.0,  -999.00,9,  -999.00,9,  -999.00,9,  -999.00,9,   -999.0,-999.0000, -999,9,    5,  29.3221,  21.4038,   -999.0,9
       KS05-06,  NONE,KS-1378,  1,     23,02-19380,9,20050723,2221, 14.9933, 149.3262, 5649,      4.8,  29.3281,  34.2640,2,   -999.0,9,-999.0000,9,   -999.0,9,  -999.00,9,  -999.00,9,  -999.00,9,  -999.00,9,  -999.00,9, -999.000,9, -999.000,9,  -999.00,9,   -999.0,9,   -999.0,9,-999.0000,9,   -999.0,  9,  -999.00,9,   -999.0,  -999.00,9,  -999.00,9,  -999.00,9,  -999.00,9,   -999.0,-999.0000, -999,9,    5,  29.3269,  21.4022,   -999.0,9
       KS05-06,  NONE,KS-1378,  1,     22,02-19379,2,20050723,2221, 14.9933, 149.3262, 5649,      4.7,  29.3337,  34.2640,2,   -999.0,9,  34.2672,2,    197.0,2,     0.81,2,  -999.00,9,     0.00,2,     0.00,2,     0.03,2, -999.000,9, -999.000,9,  -999.00,9,   -999.0,9,   -999.0,9,-999.0000,9,   -999.0,  9,  -999.00,9,   -999.0,  -999.00,9,  -999.00,9,  -999.00,9,  -999.00,9,   -999.0,-999.0000, -999,9,    5,  29.3326,  21.4003,   -999.0,9
       KS05-06,  NONE,KS-1378,  1,     21,02-16027,2,20050723,2220, 14.9933, 149.3262, 5649,     10.5,  29.3211,  34.2672,2,   -999.0,9,-999.0000,9,    197.0,2,     0.79,2,  -999.00,9,     0.00,2,     0.00,2,     0.02,2, -999.000,9, -999.000,9,  -999.00,9,   -999.0,9,   -999.0,9,-999.0000,9,   -999.0,  9,  -999.00,9,   -999.0,  -999.00,9,  -999.00,9,  -999.00,9,  -999.00,9,   -999.0,-999.0000, -999,9,   10,  29.3186,  21.4074,   -999.0,9
       KS05-06,  NONE,KS-1378,  1,     20,02-16026,2,20050723,2219, 14.9933, 149.3262, 5649,     24.5,  29.5070,  34.4142,2,   -999.0,9,-999.0000,9,    197.0,2,     0.77,2,  -999.00,9,     0.00,2,     0.00,2,     0.03,2, -999.000,9, -999.000,9,  -999.00,9,   -999.0,9,   -999.0,9,-999.0000,9,   -999.0,  9,  -999.00,9,   -999.0,  -999.00,9,  -999.00,9,  -999.00,9,  -999.00,9,   -999.0,-999.0000, -999,9,   24,  29.5010,  21.4563,   -999.0,9
       KS05-06,  NONE,KS-1378,  1,     19,02-19378,2,20050723,2216, 14.9933, 149.3262, 5649,     48.5,  29.2884,  34.6410,2,   -999.0,9,-999.0000,9,    204.0,2,     0.76,2,  -999.00,9,     0.00,2,     0.00,2,     0.03,2, -999.000,9, -999.000,9,  -999.00,9,   -999.0,9,   -999.0,9,-999.0000,9,   -999.0,  9,  -999.00,9,   -999.0,  -999.00,9,  -999.00,9,  -999.00,9,  -999.00,9,   -999.0,-999.0000, -999,9,   48,  29.2766,  21.7019,   -999.0,9
       KS05-06,  NONE,KS-1378,  1,     18,02-19377,2,20050723,2215, 14.9933, 149.3262, 5649,     73.9,  28.1146,  34.5227,2,   -999.0,9,-999.0000,9,    210.0,2,     0.85,2,  -999.00,9,     0.00,2,     0.00,2,     0.04,2, -999.000,9, -999.000,9,  -999.00,9,   -999.0,9,   -999.0,9,-999.0000,9,   -999.0,  9,  -999.00,9,   -999.0,  -999.00,9,  -999.00,9,  -999.00,9,  -999.00,9,   -999.0,-999.0000, -999,9,   73,  28.0972,  22.0040,   -999.0,9
       KS05-06,  NONE,KS-1378,  1,     17,02-16023,2,20050723,2214, 14.9933, 149.3262, 5649,     99.7,  27.5857,  34.6159,2,   -999.0,9,  34.6264,4,    208.0,2,     0.77,2,  -999.00,9,     0.00,2,     0.00,2,     0.04,2, -999.000,9, -999.000,9,  -999.00,9,   -999.0,9,   -999.0,9,-999.0000,9,   -999.0,  9,  -999.00,9,   -999.0,  -999.00,9,  -999.00,9,  -999.00,9,  -999.00,9,   -999.0,-999.0000, -999,9,   99,  27.5625,  22.2479,   -999.0,9
       KS05-06,  NONE,KS-1378,  1,     16,02-16022,2,20050723,2213, 14.9933, 149.3262, 5649,    124.5,  26.8889,  34.7777,2,   -999.0,9,-999.0000,9,    205.0,2,     0.81,2,  -999.00,9,     0.00,2,     0.00,2,     0.03,2, -999.000,9, -999.000,9,  -999.00,9,   -999.0,9,   -999.0,9,-999.0000,9,   -999.0,  9,  -999.00,9,   -999.0,  -999.00,9,  -999.00,9,  -999.00,9,  -999.00,9,   -999.0,-999.0000, -999,9,  124,  26.8604,  22.5948,   -999.0,9
       KS05-06,  NONE,KS-1378,  1,     15,02-16021,2,20050723,2212, 14.9933, 149.3262, 5649,    149.4,  25.9305,  34.9486,2,   -999.0,9,-999.0000,9,    202.0,2,     0.79,2,  -999.00,9,     0.00,2,     0.00,2,     0.03,2, -999.000,9, -999.000,9,  -999.00,9,   -999.0,9,   -999.0,9,-999.0000,9,   -999.0,  9,  -999.00,9,   -999.0,  -999.00,9,  -999.00,9,  -999.00,9,  -999.00,9,   -999.0,-999.0000, -999,9,  149,  25.8972,  23.0265,   -999.0,9
       KS05-06,  NONE,KS-1378,  1,     14,02-16020,2,20050723,2210, 14.9933, 149.3262, 5649,    200.7,  22.5488,  35.1207,2,   -999.0,9,  35.1248,2,    178.0,2,     1.68,2,  -999.00,9,     1.37,2,     0.02,2,     0.21,2, -999.000,9, -999.000,9,  -999.00,9,   -999.0,9,   -999.0,9,-999.0000,9,   -999.0,  9,  -999.00,9,   -999.0,  -999.00,9,  -999.00,9,  -999.00,9,  -999.00,9,   -999.0,-999.0000, -999,9,  199,  22.5083,  24.1660,   -999.0,9
       KS05-06,  NONE,KS-1378,  1,     13,02-16019,2,20050723,2209, 14.9933, 149.3262, 5649,    251.9,  17.1823,  34.7433,2,   -999.0,9,-999.0000,9,    160.0,2,     6.63,2,  -999.00,9,     8.78,2,     0.00,2,     0.67,2, -999.000,9, -999.000,9,  -999.00,9,   -999.0,9,   -999.0,9,-999.0000,9,   -999.0,  9,  -999.00,9,   -999.0,  -999.00,9,  -999.00,9,  -999.00,9,  -999.00,9,   -999.0,-999.0000, -999,9,  250,  17.1404,  25.2838,   -999.0,9
       KS05-06,  NONE,KS-1378,  1,     12,02-16018,2,20050723,2207, 14.9933, 149.3262, 5649,    301.6,  14.0852,  34.4806,2,   -999.0,9,  34.4818,2,    182.0,2,    10.41,2,  -999.00,9,    11.41,2,     0.00,2,     0.81,2, -999.000,9, -999.000,9,  -999.00,9,   -999.0,9,   -999.0,9,-999.0000,9,   -999.0,  9,  -999.00,9,   -999.0,  -999.00,9,  -999.00,9,  -999.00,9,  -999.00,9,   -999.0,-999.0000, -999,9,  300,  14.0415,  25.7770,   -999.0,9
       KS05-06,  NONE,KS-1378,  1,     11,02-19376,2,20050723,2204, 14.9933, 149.3262, 5649,    401.7,   9.8985,  34.2237,2,   -999.0,9,  34.2244,2,    146.0,2,    28.73,2,  -999.00,9,    22.41,2,     0.00,2,     1.61,2, -999.000,9, -999.000,9,  -999.00,9,   -999.0,9,   -999.0,9,-999.0000,9,   -999.0,  9,  -999.00,9,   -999.0,  -999.00,9,  -999.00,9,  -999.00,9,  -999.00,9,   -999.0,-999.0000, -999,9,  399,   9.8521,  26.3707,   -999.0,9
       KS05-06,  NONE,KS-1378,  1,     10,02-19375,2,20050723,2202, 14.9933, 149.3262, 5649,    502.1,   7.2412,  34.2099,2,   -999.0,9,  34.2111,2,     88.0,2,    55.00,2,  -999.00,9,    32.72,2,     0.00,2,     2.38,2, -999.000,9, -999.000,9,  -999.00,9,   -999.0,9,   -999.0,9,-999.0000,9,   -999.0,  9,  -999.00,9,   -999.0,  -999.00,9,  -999.00,9,  -999.00,9,  -999.00,9,   -999.0,-999.0000, -999,9,  499,   7.1928,  26.7696,   -999.0,9
       KS05-06,  NONE,KS-1378,  1,      9,02-16015,2,20050723,2159, 14.9933, 149.3262, 5649,    604.2,   6.1481,  34.3486,2,   -999.0,9,  34.3492,2,     58.0,2,    71.83,2,  -999.00,9,    37.68,2,     0.00,2,     2.76,2, -999.000,9, -999.000,9,  -999.00,9,   -999.0,9,   -999.0,9,-999.0000,9,   -999.0,  9,  -999.00,9,   -999.0,  -999.00,9,  -999.00,9,  -999.00,9,  -999.00,9,   -999.0,-999.0000, -999,9,  600,   6.0943,  27.0259,   -999.0,9
       KS05-06,  NONE,KS-1378,  1,      8,02-16014,2,20050723,2157, 14.9933, 149.3262, 5649,    703.7,   5.4937,  34.4317,2,   -999.0,9,  34.4320,2,     61.0,2,    81.60,2,  -999.00,9,    38.94,2,     0.00,2,     2.83,2, -999.000,9, -999.000,9,  -999.00,9,   -999.0,9,   -999.0,9,-999.0000,9,   -999.0,  9,  -999.00,9,   -999.0,  -999.00,9,  -999.00,9,  -999.00,9,  -999.00,9,   -999.0,-999.0000, -999,9,  698,   5.4340,  27.1735,   -999.0,9
       KS05-06,  NONE,KS-1378,  1,      7,02-19374,2,20050723,2154, 14.9933, 149.3262, 5649,    804.1,   5.0105,  34.4745,2,   -999.0,9,  34.4744,2,     65.0,2,    89.59,2,  -999.00,9,    39.62,2,     0.00,2,     2.87,2, -999.000,9, -999.000,9,  -999.00,9,   -999.0,9,   -999.0,9,-999.0000,9,   -999.0,  9,  -999.00,9,   -999.0,  -999.00,9,  -999.00,9,  -999.00,9,  -999.00,9,   -999.0,-999.0000, -999,9,  798,   4.9446,  27.2650,   -999.0,9
       KS05-06,  NONE,KS-1378,  1,      6,02-19373,2,20050723,2152, 14.9933, 149.3262, 5649,    906.3,   4.6263,  34.5055,2,   -999.0,9,  34.5054,2,     68.0,2,    95.67,2,  -999.00,9,    39.71,2,     0.00,2,     2.86,2, -999.000,9, -999.000,9,  -999.00,9,   -999.0,9,   -999.0,9,-999.0000,9,   -999.0,  9,  -999.00,9,   -999.0,  -999.00,9,  -999.00,9,  -999.00,9,  -999.00,9,   -999.0,-999.0000, -999,9,  899,   4.5540,  27.3335,   -999.0,9
       KS05-06,  NONE,KS-1378,  1,      5,02-16011,2,20050723,2149, 14.9933, 149.3262, 5649,   1007.1,   4.2081,  34.5251,2,   -999.0,9,  34.5239,2,     74.0,2,   103.92,2,  -999.00,9,    39.81,2,     0.00,2,     2.87,2, -999.000,9, -999.000,9,  -999.00,9,   -999.0,9,   -999.0,9,-999.0000,9,   -999.0,  9,  -999.00,9,   -999.0,  -999.00,9,  -999.00,9,  -999.00,9,  -999.00,9,   -999.0,-999.0000, -999,9,  999,   4.1302,  27.3948,   -999.0,9
       KS05-06,  NONE,KS-1378,  1,      4,02-16010,2,20050723,2144, 14.9933, 149.3262, 5649,   1260.1,   3.4313,  34.5599,2,   -999.0,9,  34.5588,2,     83.0,2,   118.44,2,  -999.00,9,    40.00,2,     0.00,2,     2.86,2, -999.000,9, -999.000,9,  -999.00,9,   -999.0,9,   -999.0,9,-999.0000,9,   -999.0,  9,  -999.00,9,   -999.0,  -999.00,9,  -999.00,9,  -999.00,9,  -999.00,9,   -999.0,-999.0000, -999,9, 1249,   3.3389,  27.5020,   -999.0,9
       KS05-06,  NONE,KS-1378,  1,      3,02-16009,2,20050723,2138, 14.9933, 149.3262, 5649,   1514.2,   2.8409,  34.5893,2,   -999.0,9,  34.5883,2,     94.0,2,   129.11,2,  -999.00,9,    39.61,2,     0.00,2,     2.82,2, -999.000,9, -999.000,9,  -999.00,9,   -999.0,9,   -999.0,9,-999.0000,9,   -999.0,  9,  -999.00,9,   -999.0,  -999.00,9,  -999.00,9,  -999.00,9,  -999.00,9,   -999.0,-999.0000, -999,9, 1500,   2.7337,  27.5812,   -999.0,9
       KS05-06,  NONE,KS-1378,  1,      2,02-16008,2,20050723,2133, 14.9933, 149.3262, 5649,   1767.6,   2.3991,  34.6119,2,   -999.0,9,  34.6109,2,    104.0,2,   137.56,2,  -999.00,9,    39.22,2,     0.00,2,     2.78,2, -999.000,9, -999.000,9,  -999.00,9,   -999.0,9,   -999.0,9,-999.0000,9,   -999.0,  9,  -999.00,9,   -999.0,  -999.00,9,  -999.00,9,  -999.00,9,  -999.00,9,   -999.0,-999.0000, -999,9, 1750,   2.2764,  27.6383,   -999.0,9
       KS05-06,  NONE,KS-1378,  1,      1,02-16007,2,20050723,2128, 14.9933, 149.3262, 5649,   2019.6,   2.1087,  34.6306,2,   -999.0,9,  34.6295,2,    113.0,2,   141.79,2,  -999.00,9,    38.83,2,     0.00,2,     2.74,2, -999.000,9, -999.000,9,  -999.00,9,   -999.0,9,   -999.0,9,-999.0000,9,   -999.0,  9,  -999.00,9,   -999.0,  -999.00,9,  -999.00,9,  -999.00,9,  -999.00,9,   -999.0,-999.0000, -999,9, 1998,   1.9690,  27.6782,   -999.0,9