BOTTLE,20130510GEMDJMAYT
EXPOCODE,SECT_ID,STNNBR,CASTNO,SAMPNO,BTLNBR,BTLNBR_FLAG_W,DATE,TIME,LATITUDE,LONGITUDE,DEPTH,CTDPRS,CTDTMP,CTDSAL,CTDSAL_FLAG_W,CTDOXY,CTDOXY_FLAG_W,SALNTY,SALNTY_FLAG_W,OXYGEN,OXYGEN_FLAG_W,SILCAT,SILCAT_FLAG_W,NITRAT,NITRAT_FLAG_W,NO2+NO3,NO2+NO3_FLAG_W,NITRIT,NITRIT_FLAG_W,PHSPHT,PHSPHT_FLAG_W,CFC-11,CFC-11_FLAG_W,CFC-12,CFC-12_FLAG_W,DELC13,DELC13_FLAG_W,TCARBN,TCARBN_FLAG_W,ALKALI,ALKALI_FLAG_W,PH,PH_FLAG_W,PH_TMP,PH_SCALE,PH_NBS,PH_NBS_FLAG_W,C13ERR,TOTALP,TOTALP_FLAG_W,AMMONI,AMMONI_FLAG_W,CHLORA,CHLORA_FLAG_W,PPHYTN,PPHYTN_FLAG_W,REVPRS,REVTMP,DEPTH_,DEPTH_FLAG,CTDDEP,THETA,SIGTHT,DOC,DOC_FLAG_W
,,,,,,,GMT,GMT,,,METER,DBAR,ITS-90,PSS-78,,UMOL/KG,,PSS-78,,UMOL/KG,,UMOL/KG,,UMOL/KG,,UMOL/KG,,UMOL/KG,,UMOL/KG,,PMOL/KG,,PMOL/KG,,/MILLE,,UMOL/KG,,UMOL/KG,,25_DEG_C,,DEG_C,,,,/MILLE,UMOL/KG,,UMOL/KG,,UG/L,,UG/L,,DBAR,ITS-90,METERS,,METERS,DEG_C,,UMOL/L,
       KS05-06,  165E,KS-1347,  1,     24,02-16030,2,20050710,1508, -0.0382, 164.9977, 4374,      4.8,  30.1506,  34.7943,2,   -999.0,9,  34.7966,2,    197.0,2,     0.95,2,  -999.00,9,     0.00,2,     0.00,2,     0.13,2, -999.000,9, -999.000,9,  -999.00,9,   1929.6,2,   -999.0,9,-999.0000,9,   -999.0,  9,     8.25,2,   -999.0,  -999.00,9,  -999.00,9,     0.07,2,     0.06,2,   -999.0,-999.0000, -999,9,    5,  30.1494,  21.5209,   -999.0,9
       KS05-06,  165E,KS-1347,  1,     23,02-19380,2,20050710,1507, -0.0382, 164.9977, 4374,      9.2,  30.1428,  34.7933,2,   -999.0,9,-999.0000,9,    198.0,2,     0.94,2,  -999.00,9,     0.00,2,     0.00,2,     0.14,2, -999.000,9, -999.000,9,  -999.00,9,   1925.6,2,   -999.0,9,-999.0000,9,   -999.0,  9,     8.25,2,   -999.0,  -999.00,9,  -999.00,9,     0.08,2,     0.07,2,   -999.0,-999.0000, -999,9,    9,  30.1405,  21.5232,   -999.0,9
       KS05-06,  165E,KS-1347,  1,     22,02-19379,2,20050710,1506, -0.0382, 164.9977, 4374,     24.3,  30.2311,  34.9218,2,   -999.0,9,-999.0000,9,    200.0,2,     1.03,2,  -999.00,9,     0.00,2,     0.00,2,     0.14,2, -999.000,9, -999.000,9,  -999.00,9,   1937.4,2,   -999.0,9,-999.0000,9,   -999.0,  9,     8.25,2,   -999.0,  -999.00,9,  -999.00,9,     0.09,2,     0.08,2,   -999.0,-999.0000, -999,9,   24,  30.2250,  21.5906,   -999.0,9
       KS05-06,  165E,KS-1347,  1,     21,02-16027,2,20050710,1503, -0.0382, 164.9977, 4374,     49.6,  29.9407,  35.1769,2,   -999.0,9,-999.0000,9,    203.0,2,     1.12,2,  -999.00,9,     0.00,2,     0.00,2,     0.19,2, -999.000,9, -999.000,9,  -999.00,9,   1964.7,2,   -999.0,9,-999.0000,9,   -999.0,  9,     8.23,2,   -999.0,  -999.00,9,  -999.00,9,     0.17,2,     0.17,2,   -999.0,-999.0000, -999,9,   49,  29.9284,  21.8833,   -999.0,9
       KS05-06,  165E,KS-1347,  1,     20,02-16026,2,20050710,1502, -0.0382, 164.9977, 4374,     75.5,  29.7031,  35.3022,2,   -999.0,9,-999.0000,9,    201.0,2,     1.36,2,  -999.00,9,     0.49,2,     0.09,2,     0.23,2, -999.000,9, -999.000,9,  -999.00,9,   1985.2,2,   -999.0,9,-999.0000,9,   -999.0,  9,     8.21,2,   -999.0,  -999.00,9,  -999.00,9,     0.24,2,     0.42,2,   -999.0,-999.0000, -999,9,   75,  29.6845,  22.0603,   -999.0,9
       KS05-06,  165E,KS-1347,  1,     19,02-19378,2,20050710,1500, -0.0382, 164.9977, 4374,    100.4,  26.4938,  35.3597,2,   -999.0,9,  35.3624,2,    154.0,2,     2.67,2,  -999.00,9,     6.84,2,     0.19,2,     0.58,2, -999.000,9, -999.000,9,  -999.00,9,   2035.7,2,   -999.0,9,-999.0000,9,   -999.0,  9,     8.12,2,   -999.0,  -999.00,9,  -999.00,9,     0.12,2,     0.53,2,   -999.0,-999.0000, -999,9,  100,  26.4711,  23.1568,   -999.0,9
       KS05-06,  165E,KS-1347,  1,     18,02-19377,2,20050710,1459, -0.0382, 164.9977, 4374,    126.3,  24.8048,  35.2470,2,   -999.0,9,-999.0000,9,    140.0,2,     3.60,2,  -999.00,9,     8.40,2,     0.05,2,     0.65,2, -999.000,9, -999.000,9,  -999.00,9,   2048.0,2,   -999.0,9,-999.0000,9,   -999.0,  9,     8.08,2,   -999.0,  -999.00,9,  -999.00,9,     0.06,2,     0.32,2,   -999.0,-999.0000, -999,9,  126,  24.7775,  23.5955,   -999.0,9
       KS05-06,  165E,KS-1347,  1,     17,02-16023,2,20050710,1458, -0.0382, 164.9977, 4374,    151.1,  22.4055,  35.2516,2,   -999.0,9,-999.0000,9,    133.0,2,     5.11,2,  -999.00,9,     9.76,2,     0.01,2,     0.72,2, -999.000,9, -999.000,9,  -999.00,9,   2071.0,2,   -999.0,9,-999.0000,9,   -999.0,  9,     8.04,2,   -999.0,  -999.00,9,  -999.00,9,     0.03,2,     0.10,2,   -999.0,-999.0000, -999,9,  150,  22.3752,  24.3032,   -999.0,9
       KS05-06,  165E,KS-1347,  1,     16,02-16022,2,20050710,1456, -0.0382, 164.9977, 4374,    200.9,  16.7810,  35.1296,2,   -999.0,9,  35.1335,2,    142.0,2,     9.61,2,  -999.00,9,    13.75,2,     0.00,2,     0.99,2, -999.000,9, -999.000,9,  -999.00,9,   2111.6,2,   -999.0,9,-999.0000,9,   -999.0,  9,     7.95,2,   -999.0,  -999.00,9,  -999.00,9,     0.00,2,     0.01,2,   -999.0,-999.0000, -999,9,  200,  16.7481,  25.6735,   -999.0,9
       KS05-06,  165E,KS-1347,  1,     15,02-16021,2,20050710,1455, -0.0382, 164.9977, 4374,    252.4,  15.0368,  35.1484,2,   -999.0,9,-999.0000,9,    145.0,2,     9.43,2,  -999.00,9,    15.69,2,     0.00,2,     1.14,2, -999.000,9, -999.000,9,  -999.00,9,   2133.2,3,   -999.0,9,-999.0000,9,   -999.0,  9,     7.92,2,   -999.0,  -999.00,9,  -999.00,9,     0.00,2,     0.01,2,   -999.0,-999.0000, -999,9,  251,  14.9984,  26.0868,   -999.0,9
       KS05-06,  165E,KS-1347,  1,     14,02-16020,2,20050710,1453, -0.0382, 164.9977, 4374,    301.4,  12.5629,  34.9202,2,   -999.0,9,  34.9233,2,    134.0,2,    16.15,2,  -999.00,9,    20.56,2,     0.00,2,     1.45,2, -999.000,9, -999.000,9,  -999.00,9,   2158.8,3,   -999.0,9,-999.0000,9,   -999.0,  9,     7.85,2,   -999.0,  -999.00,9,  -999.00,9,     0.00,2,     0.01,2,   -999.0,-999.0000, -999,9,  300,  12.5222,  26.4259,   -999.0,9
       KS05-06,  165E,KS-1347,  1,     13,02-16019,2,20050710,1451, -0.0382, 164.9977, 4374,    402.1,   9.4818,  34.6895,2,   -999.0,9,  34.6889,2,     90.0,2,    29.54,2,  -999.00,9,    30.87,2,     0.00,2,     2.13,2, -999.000,9, -999.000,9,  -999.00,9,   2209.3,3,   -999.0,9,-999.0000,9,   -999.0,  9,     7.69,2,   -999.0,  -999.00,9,  -999.00,9,  -999.00,9,  -999.00,9,   -999.0,-999.0000, -999,9,  400,   9.4363,  26.8040,   -999.0,9
       KS05-06,  165E,KS-1347,  1,     12,02-16018,2,20050710,1448, -0.0382, 164.9977, 4374,    503.7,   8.2867,  34.6168,2,   -999.0,9,  34.6193,2,    124.0,2,    31.08,2,  -999.00,9,    29.89,2,     0.00,2,     2.06,2, -999.000,9, -999.000,9,  -999.00,9,   -999.0,9,   -999.0,9,-999.0000,9,   -999.0,  9,     7.72,2,   -999.0,  -999.00,9,  -999.00,9,  -999.00,9,  -999.00,9,   -999.0,-999.0000, -999,9,  500,   8.2339,  26.9377,   -999.0,9
       KS05-06,  165E,KS-1347,  1,     11,02-19376,2,20050710,1446, -0.0382, 164.9977, 4374,    604.5,   7.2628,  34.5723,2,   -999.0,9,  34.5730,2,     96.0,2,    41.90,2,  -999.00,9,    34.56,2,     0.00,2,     2.42,2, -999.000,9, -999.000,9,  -999.00,9,   2234.7,3,   -999.0,9,-999.0000,9,   -999.0,  9,     7.64,2,   -999.0,  -999.00,9,  -999.00,9,  -999.00,9,  -999.00,9,   -999.0,-999.0000, -999,9,  600,   7.2037,  27.0534,   -999.0,9
       KS05-06,  165E,KS-1347,  1,     10,02-19375,2,20050710,1443, -0.0382, 164.9977, 4374,    705.2,   6.2810,  34.5504,2,   -999.0,9,  34.5506,2,     86.0,2,    54.80,2,  -999.00,9,    37.48,2,     0.00,2,     2.66,2, -999.000,9, -999.000,9,  -999.00,9,   -999.0,9,   -999.0,9,-999.0000,9,   -999.0,  9,     7.60,2,   -999.0,  -999.00,9,  -999.00,9,  -999.00,9,  -999.00,9,   -999.0,-999.0000, -999,9,  700,   6.2168,  27.1695,   -999.0,9
       KS05-06,  165E,KS-1347,  1,      9,02-16015,2,20050710,1441, -0.0382, 164.9977, 4374,    803.6,   5.6621,  34.5436,2,   -999.0,9,  34.5443,2,     87.0,2,    63.85,2,  -999.00,9,    38.26,2,     0.00,2,     2.73,2, -999.000,9, -999.000,9,  -999.00,9,   2266.9,3,   -999.0,9,-999.0000,9,   -999.0,  9,     7.60,2,   -999.0,  -999.00,9,  -999.00,9,  -999.00,9,  -999.00,9,   -999.0,-999.0000, -999,9,  798,   5.5922,  27.2429,   -999.0,9
       KS05-06,  165E,KS-1347,  1,      8,02-16014,2,20050710,1439, -0.0382, 164.9977, 4374,    906.1,   5.1133,  34.5428,2,   -999.0,9,  34.5429,2,    115.0,2,    72.18,2,  -999.00,9,    38.26,2,     0.00,2,     2.72,2, -999.000,9, -999.000,9,  -999.00,9,   -999.0,9,   -999.0,9,-999.0000,9,   -999.0,  9,     7.60,2,   -999.0,  -999.00,9,  -999.00,9,  -999.00,9,  -999.00,9,   -999.0,-999.0000, -999,9,  899,   5.0376,  27.3084,   -999.0,9
       KS05-06,  165E,KS-1347,  1,      7,02-19374,2,20050710,1436, -0.0382, 164.9977, 4374,   1006.0,   4.6145,  34.5463,2,   -999.0,9,  34.5474,2,    101.0,2,    80.71,2,  -999.00,9,    37.96,2,     0.00,2,     2.71,2, -999.000,9, -999.000,9,  -999.00,9,   2278.5,3,   -999.0,9,-999.0000,9,   -999.0,  9,     7.61,2,   -999.0,  -999.00,9,  -999.00,9,  -999.00,9,  -999.00,9,   -999.0,-999.0000, -999,9,  998,   4.5335,  27.3682,   -999.0,9
       KS05-06,  165E,KS-1347,  1,      6,02-19373,2,20050710,1431, -0.0382, 164.9977, 4374,   1259.1,   3.5597,  34.5804,2,   -999.0,9,  34.5789,2,     99.0,2,   105.22,2,  -999.00,9,    39.12,2,     0.00,2,     2.79,2, -999.000,9, -999.000,9,  -999.00,9,   2306.4,3,   -999.0,9,-999.0000,9,   -999.0,  9,     7.60,2,   -999.0,  -999.00,9,  -999.00,9,  -999.00,9,  -999.00,9,   -999.0,-999.0000, -999,9, 1248,   3.4661,  27.5061,   -999.0,9
       KS05-06,  165E,KS-1347,  1,      5,02-16011,2,20050710,1426, -0.0382, 164.9977, 4374,   1512.7,   3.0428,  34.6010,2,   -999.0,9,  34.6009,2,    103.0,2,   117.61,2,  -999.00,9,    39.12,2,     0.00,2,     2.79,2, -999.000,9, -999.000,9,  -999.00,9,   2321.8,3,   -999.0,9,-999.0000,9,   -999.0,  9,     7.61,2,   -999.0,  -999.00,9,  -999.00,9,  -999.00,9,  -999.00,9,   -999.0,-999.0000, -999,9, 1499,   2.9333,  27.5726,   -999.0,9
       KS05-06,  165E,KS-1347,  1,      4,02-16010,2,20050710,1416, -0.0382, 164.9977, 4374,   2020.9,   2.2003,  34.6424,2,   -999.0,9,  34.6409,2,    117.0,2,   136.52,2,  -999.00,9,    38.63,2,     0.00,2,     2.72,2, -999.000,9, -999.000,9,  -999.00,9,   -999.0,9,   -999.0,9,-999.0000,9,   -999.0,  9,     7.63,2,   -999.0,  -999.00,9,  -999.00,9,  -999.00,9,  -999.00,9,   -999.0,-999.0000, -999,9, 2000,   2.0590,  27.6805,   -999.0,9
       KS05-06,  165E,KS-1347,  1,      3,02-16009,2,20050710,1357, -0.0382, 164.9977, 4374,   3037.4,   1.6511,  34.6730,2,   -999.0,9,  34.6704,2,    138.0,2,   145.13,2,  -999.00,9,    37.36,2,     0.00,2,     2.60,2, -999.000,9, -999.000,9,  -999.00,9,   -999.0,9,   -999.0,9,-999.0000,9,   -999.0,  9,     7.66,2,   -999.0,  -999.00,9,  -999.00,9,  -999.00,9,  -999.00,9,   -999.0,-999.0000, -999,9, 2999,   1.4274,  27.7530,   -999.0,9
       KS05-06,  165E,KS-1347,  1,      2,02-16008,2,20050710,1338, -0.0382, 164.9977, 4374,   4058.9,   1.4156,  34.6944,2,   -999.0,9,  34.6920,2,    169.0,2,   136.47,2,  -999.00,9,    35.32,2,     0.00,2,     2.43,2, -999.000,9, -999.000,9,  -999.00,9,   -999.0,9,   -999.0,9,-999.0000,9,   -999.0,  9,     7.70,2,   -999.0,  -999.00,9,  -999.00,9,  -999.00,9,  -999.00,9,   -999.0,-999.0000, -999,9, 3998,   1.0926,  27.7936,   -999.0,9
       KS05-06,  165E,KS-1347,  1,      1,02-16007,2,20050710,1332, -0.0382, 164.9977, 4374,   4368.3,   1.3338,  34.7016,2,   -999.0,9,  34.7001,2,    182.0,2,   129.09,2,  -999.00,9,    34.34,2,     0.00,2,     2.36,2, -999.000,9, -999.000,9,  -999.00,9,   2331.5,3,   -999.0,9,-999.0000,9,   -999.0,  9,     7.71,2,   -999.0,  -999.00,9,  -999.00,9,  -999.00,9,  -999.00,9,   -999.0,-999.0000, -999,9, 4300,   0.9789,  27.8070,   -999.0,9
       KS05-06,  165E,KS-1348,  1,      2,02-16008,9,20050710,2112, -0.9978, 164.9948, 4436,      6.0,  30.1333,  34.8285,2,   -999.0,9,-999.0000,9,   -999.0,9,  -999.00,9,  -999.00,9,  -999.00,9,  -999.00,9,  -999.00,9, -999.000,9, -999.000,9,  -999.00,9,   -999.0,9,   -999.0,9,-999.0000,9,   -999.0,  9,  -999.00,9,   -999.0,  -999.00,9,  -999.00,9,  -999.00,9,  -999.00,9,   -999.0,-999.0000, -999,9,    6,  30.1318,  21.5526,   -999.0,9
       KS05-06,  165E,KS-1348,  1,      1,02-16007,2,20050710,2112, -0.9978, 164.9948, 4436,      5.9,  30.1316,  34.8296,2,   -999.0,9,-999.0000,9,   -999.0,9,     0.99,2,  -999.00,9,     0.00,2,     0.00,2,     0.11,2, -999.000,9, -999.000,9,  -999.00,9,   1932.9,3,   -999.0,9,-999.0000,9,   -999.0,  9,  -999.00,9,   -999.0,  -999.00,9,  -999.00,9,     0.11,2,     0.09,2,   -999.0,-999.0000, -999,9,    6,  30.1301,  21.5539,   -999.0,9
       KS05-06,  165E,KS-1349,  1,      2,02-16008,9,20050711,0304, -1.9145, 164.9997, 4459,      4.1,  30.2349,  34.7014,2,   -999.0,9,-999.0000,9,   -999.0,9,  -999.00,9,  -999.00,9,  -999.00,9,  -999.00,9,  -999.00,9, -999.000,9, -999.000,9,  -999.00,9,   -999.0,9,   -999.0,9,-999.0000,9,   -999.0,  9,  -999.00,9,   -999.0,  -999.00,9,  -999.00,9,  -999.00,9,  -999.00,9,   -999.0,-999.0000, -999,9,    4,  30.2339,  21.4223,   -999.0,9
       KS05-06,  165E,KS-1349,  1,      1,02-16007,2,20050711,0304, -1.9145, 164.9997, 4459,      4.3,  30.2374,  34.7025,2,   -999.0,9,-999.0000,9,   -999.0,9,     0.92,2,  -999.00,9,     0.00,2,     0.00,2,     0.11,2, -999.000,9, -999.000,9,  -999.00,9,   1919.2,3,   -999.0,9,-999.0000,9,   -999.0,  9,  -999.00,9,   -999.0,  -999.00,9,  -999.00,9,     0.07,2,     0.05,2,   -999.0,-999.0000, -999,9,    4,  30.2363,  21.4223,   -999.0,9