BOTTLE,20130510GEMDJMAYT
EXPOCODE,SECT_ID,STNNBR,CASTNO,SAMPNO,BTLNBR,BTLNBR_FLAG_W,DATE,TIME,LATITUDE,LONGITUDE,DEPTH,CTDPRS,CTDTMP,CTDSAL,CTDSAL_FLAG_W,CTDOXY,CTDOXY_FLAG_W,SALNTY,SALNTY_FLAG_W,OXYGEN,OXYGEN_FLAG_W,SILCAT,SILCAT_FLAG_W,NITRAT,NITRAT_FLAG_W,NO2+NO3,NO2+NO3_FLAG_W,NITRIT,NITRIT_FLAG_W,PHSPHT,PHSPHT_FLAG_W,CFC-11,CFC-11_FLAG_W,CFC-12,CFC-12_FLAG_W,DELC13,DELC13_FLAG_W,TCARBN,TCARBN_FLAG_W,ALKALI,ALKALI_FLAG_W,PH,PH_FLAG_W,PH_TMP,PH_SCALE,PH_NBS,PH_NBS_FLAG_W,C13ERR,TOTALP,TOTALP_FLAG_W,AMMONI,AMMONI_FLAG_W,CHLORA,CHLORA_FLAG_W,PPHYTN,PPHYTN_FLAG_W,REVPRS,REVTMP,DEPTH_,DEPTH_FLAG,CTDDEP,THETA,SIGTHT,DOC,DOC_FLAG_W
,,,,,,,GMT,GMT,,,METER,DBAR,ITS-90,PSS-78,,UMOL/KG,,PSS-78,,UMOL/KG,,UMOL/KG,,UMOL/KG,,UMOL/KG,,UMOL/KG,,UMOL/KG,,PMOL/KG,,PMOL/KG,,/MILLE,,UMOL/KG,,UMOL/KG,,25_DEG_C,,DEG_C,,,,/MILLE,UMOL/KG,,UMOL/KG,,UG/L,,UG/L,,DBAR,ITS-90,METERS,,METERS,DEG_C,,UMOL/L,
       KS05-06,  NONE,KS-1406,  1,     24,02-16030,9,20050807,2229, 34.7478, 140.4233, 2187,      5.0,  26.8732,  33.9893,2,   -999.0,9,-999.0000,9,   -999.0,9,  -999.00,9,  -999.00,9,  -999.00,9,  -999.00,9,  -999.00,9, -999.000,9, -999.000,9,  -999.00,9,   -999.0,9,   -999.0,9,-999.0000,9,   -999.0,  9,  -999.00,9,   -999.0,  -999.00,9,  -999.00,9,  -999.00,9,  -999.00,9,   -999.0,-999.0000, -999,9,    5,  26.8721,  21.9973,   -999.0,9
       KS05-06,  NONE,KS-1406,  1,     23,02-19380,9,20050807,2228, 34.7478, 140.4233, 2187,      4.9,  26.8754,  33.9890,2,   -999.0,9,-999.0000,9,   -999.0,9,  -999.00,9,  -999.00,9,  -999.00,9,  -999.00,9,  -999.00,9, -999.000,9, -999.000,9,  -999.00,9,   -999.0,9,   -999.0,9,-999.0000,9,   -999.0,  9,  -999.00,9,   -999.0,  -999.00,9,  -999.00,9,  -999.00,9,  -999.00,9,   -999.0,-999.0000, -999,9,    5,  26.8743,  21.9964,   -999.0,9
       KS05-06,  NONE,KS-1406,  1,     22,02-19379,9,20050807,2228, 34.7478, 140.4233, 2187,      4.7,  26.8743,  33.9891,2,   -999.0,9,-999.0000,9,   -999.0,9,  -999.00,9,  -999.00,9,  -999.00,9,  -999.00,9,  -999.00,9, -999.000,9, -999.000,9,  -999.00,9,   -999.0,9,   -999.0,9,-999.0000,9,   -999.0,  9,  -999.00,9,   -999.0,  -999.00,9,  -999.00,9,  -999.00,9,  -999.00,9,   -999.0,-999.0000, -999,9,    5,  26.8732,  21.9968,   -999.0,9
       KS05-06,  NONE,KS-1406,  1,     21,02-16027,9,20050807,2228, 34.7478, 140.4233, 2187,      4.4,  26.8704,  33.9888,2,   -999.0,9,-999.0000,9,   -999.0,9,  -999.00,9,  -999.00,9,  -999.00,9,  -999.00,9,  -999.00,9, -999.000,9, -999.000,9,  -999.00,9,   -999.0,9,   -999.0,9,-999.0000,9,   -999.0,  9,  -999.00,9,   -999.0,  -999.00,9,  -999.00,9,  -999.00,9,  -999.00,9,   -999.0,-999.0000, -999,9,    4,  26.8694,  21.9978,   -999.0,9
       KS05-06,  NONE,KS-1406,  1,     20,02-16026,9,20050807,2228, 34.7478, 140.4233, 2187,      4.6,  26.8725,  33.9886,2,   -999.0,9,-999.0000,9,   -999.0,9,  -999.00,9,  -999.00,9,  -999.00,9,  -999.00,9,  -999.00,9, -999.000,9, -999.000,9,  -999.00,9,   -999.0,9,   -999.0,9,-999.0000,9,   -999.0,  9,  -999.00,9,   -999.0,  -999.00,9,  -999.00,9,  -999.00,9,  -999.00,9,   -999.0,-999.0000, -999,9,    5,  26.8715,  21.9970,   -999.0,9
       KS05-06,  NONE,KS-1406,  1,     19,02-19378,9,20050807,2228, 34.7478, 140.4233, 2187,      4.5,  26.8764,  33.9873,2,   -999.0,9,-999.0000,9,   -999.0,9,  -999.00,9,  -999.00,9,  -999.00,9,  -999.00,9,  -999.00,9, -999.000,9, -999.000,9,  -999.00,9,   -999.0,9,   -999.0,9,-999.0000,9,   -999.0,  9,  -999.00,9,   -999.0,  -999.00,9,  -999.00,9,  -999.00,9,  -999.00,9,   -999.0,-999.0000, -999,9,    4,  26.8754,  21.9948,   -999.0,9
       KS05-06,  NONE,KS-1406,  1,     18,02-19377,9,20050807,2227, 34.7478, 140.4233, 2187,      4.5,  26.8688,  33.9877,2,   -999.0,9,-999.0000,9,   -999.0,9,  -999.00,9,  -999.00,9,  -999.00,9,  -999.00,9,  -999.00,9, -999.000,9, -999.000,9,  -999.00,9,   -999.0,9,   -999.0,9,-999.0000,9,   -999.0,  9,  -999.00,9,   -999.0,  -999.00,9,  -999.00,9,  -999.00,9,  -999.00,9,   -999.0,-999.0000, -999,9,    4,  26.8678,  21.9975,   -999.0,9
       KS05-06,  NONE,KS-1406,  1,     17,02-16023,9,20050807,2227, 34.7478, 140.4233, 2187,      4.4,  26.8702,  33.9881,2,   -999.0,9,-999.0000,9,   -999.0,9,  -999.00,9,  -999.00,9,  -999.00,9,  -999.00,9,  -999.00,9, -999.000,9, -999.000,9,  -999.00,9,   -999.0,9,   -999.0,9,-999.0000,9,   -999.0,  9,  -999.00,9,   -999.0,  -999.00,9,  -999.00,9,  -999.00,9,  -999.00,9,   -999.0,-999.0000, -999,9,    4,  26.8692,  21.9973,   -999.0,9
       KS05-06,  NONE,KS-1406,  1,     16,02-16022,2,20050807,2227, 34.7478, 140.4233, 2187,      4.5,  26.8670,  33.9874,2,   -999.0,9,  33.9921,4,   -999.0,9,  -999.00,9,  -999.00,9,  -999.00,9,  -999.00,9,  -999.00,9, -999.000,9, -999.000,9,  -999.00,9,   -999.0,9,   -999.0,9,-999.0000,9,   -999.0,  9,  -999.00,9,   -999.0,  -999.00,9,  -999.00,9,  -999.00,9,  -999.00,9,   -999.0,-999.0000, -999,9,    4,  26.8660,  21.9979,   -999.0,9
       KS05-06,  NONE,KS-1406,  1,     15,02-16021,9,20050807,2227, 34.7478, 140.4233, 2187,      4.8,  26.8701,  33.9858,2,   -999.0,9,-999.0000,9,   -999.0,9,  -999.00,9,  -999.00,9,  -999.00,9,  -999.00,9,  -999.00,9, -999.000,9, -999.000,9,  -999.00,9,   -999.0,9,   -999.0,9,-999.0000,9,   -999.0,  9,  -999.00,9,   -999.0,  -999.00,9,  -999.00,9,  -999.00,9,  -999.00,9,   -999.0,-999.0000, -999,9,    5,  26.8690,  21.9956,   -999.0,9
       KS05-06,  NONE,KS-1406,  1,     14,02-16020,2,20050807,2221, 34.7478, 140.4233, 2187,    100.5,  16.0795,  34.6252,2,   -999.0,9,  34.6260,2,   -999.0,9,  -999.00,9,  -999.00,9,  -999.00,9,  -999.00,9,  -999.00,9, -999.000,9, -999.000,9,  -999.00,9,   -999.0,9,   -999.0,9,-999.0000,9,   -999.0,  9,  -999.00,9,   -999.0,  -999.00,9,  -999.00,9,  -999.00,9,  -999.00,9,   -999.0,-999.0000, -999,9,  100,  16.0636,  25.4447,   -999.0,9
       KS05-06,  NONE,KS-1406,  1,     13,02-16019,2,20050807,2219, 34.7478, 140.4233, 2187,    202.7,  11.8745,  34.4280,2,   -999.0,9,  34.4312,2,   -999.0,9,  -999.00,9,  -999.00,9,  -999.00,9,  -999.00,9,  -999.00,9, -999.000,9, -999.000,9,  -999.00,9,   -999.0,9,   -999.0,9,-999.0000,9,   -999.0,  9,  -999.00,9,   -999.0,  -999.00,9,  -999.00,9,  -999.00,9,  -999.00,9,   -999.0,-999.0000, -999,9,  201,  11.8484,  26.1735,   -999.0,9
       KS05-06,  NONE,KS-1406,  1,     12,02-16018,2,20050807,2216, 34.7478, 140.4233, 2187,    304.0,   9.0373,  34.3181,2,   -999.0,9,  34.3189,2,   -999.0,9,  -999.00,9,  -999.00,9,  -999.00,9,  -999.00,9,  -999.00,9, -999.000,9, -999.000,9,  -999.00,9,   -999.0,9,   -999.0,9,-999.0000,9,   -999.0,  9,  -999.00,9,   -999.0,  -999.00,9,  -999.00,9,  -999.00,9,  -999.00,9,   -999.0,-999.0000, -999,9,  302,   9.0043,  26.5835,   -999.0,9
       KS05-06,  NONE,KS-1406,  1,     11,02-19376,2,20050807,2213, 34.7478, 140.4233, 2187,    403.4,   7.2509,  34.2610,2,   -999.0,9,  34.2625,2,   -999.0,9,  -999.00,9,  -999.00,9,  -999.00,9,  -999.00,9,  -999.00,9, -999.000,9, -999.000,9,  -999.00,9,   -999.0,9,   -999.0,9,-999.0000,9,   -999.0,  9,  -999.00,9,   -999.0,  -999.00,9,  -999.00,9,  -999.00,9,  -999.00,9,   -999.0,-999.0000, -999,9,  400,   7.2122,  26.8071,   -999.0,9
       KS05-06,  NONE,KS-1406,  1,     10,02-19375,2,20050807,2210, 34.7478, 140.4233, 2187,    507.1,   5.7948,  34.2188,2,   -999.0,9,  34.2201,2,   -999.0,9,  -999.00,9,  -999.00,9,  -999.00,9,  -999.00,9,  -999.00,9, -999.000,9, -999.000,9,  -999.00,9,   -999.0,9,   -999.0,9,-999.0000,9,   -999.0,  9,  -999.00,9,   -999.0,  -999.00,9,  -999.00,9,  -999.00,9,  -999.00,9,   -999.0,-999.0000, -999,9,  503,   5.7515,  26.9664,   -999.0,9
       KS05-06,  NONE,KS-1406,  1,      9,02-16015,2,20050807,2206, 34.7478, 140.4233, 2187,    608.7,   3.8437,  34.0912,2,   -999.0,9,  34.0907,2,   -999.0,9,  -999.00,9,  -999.00,9,  -999.00,9,  -999.00,9,  -999.00,9, -999.000,9, -999.000,9,  -999.00,9,   -999.0,9,   -999.0,9,-999.0000,9,   -999.0,  9,  -999.00,9,   -999.0,  -999.00,9,  -999.00,9,  -999.00,9,  -999.00,9,   -999.0,-999.0000, -999,9,  603,   3.8006,  27.0834,   -999.0,9
       KS05-06,  NONE,KS-1406,  1,      8,02-16014,2,20050807,2204, 34.7478, 140.4233, 2187,    707.7,   4.2480,  34.2736,2,   -999.0,9,  34.2687,2,   -999.0,9,  -999.00,9,  -999.00,9,  -999.00,9,  -999.00,9,  -999.00,9, -999.000,9, -999.000,9,  -999.00,9,   -999.0,9,   -999.0,9,-999.0000,9,   -999.0,  9,  -999.00,9,   -999.0,  -999.00,9,  -999.00,9,  -999.00,9,  -999.00,9,   -999.0,-999.0000, -999,9,  701,   4.1949,  27.1880,   -999.0,9
       KS05-06,  NONE,KS-1406,  1,      7,02-19374,3,20050807,2201, 34.7478, 140.4233, 2187,    809.3,   4.0044,  34.3004,2,   -999.0,9,  34.2989,2,   -999.0,9,  -999.00,9,  -999.00,9,  -999.00,9,  -999.00,9,  -999.00,9, -999.000,9, -999.000,9,  -999.00,9,   -999.0,9,   -999.0,9,-999.0000,9,   -999.0,  9,  -999.00,9,   -999.0,  -999.00,9,  -999.00,9,  -999.00,9,  -999.00,9,   -999.0,-999.0000, -999,9,  802,   3.9446,  27.2353,   -999.0,9
       KS05-06,  NONE,KS-1406,  1,      6,02-19373,3,20050807,2158, 34.7478, 140.4233, 2187,    909.4,   3.7145,  34.3262,2,   -999.0,9,  34.3252,2,   -999.0,9,  -999.00,9,  -999.00,9,  -999.00,9,  -999.00,9,  -999.00,9, -999.000,9, -999.000,9,  -999.00,9,   -999.0,9,   -999.0,9,-999.0000,9,   -999.0,  9,  -999.00,9,   -999.0,  -999.00,9,  -999.00,9,  -999.00,9,  -999.00,9,   -999.0,-999.0000, -999,9,  901,   3.6486,  27.2857,   -999.0,9
       KS05-06,  NONE,KS-1406,  1,      5,02-16011,2,20050807,2155, 34.7478, 140.4233, 2187,   1012.6,   3.2550,  34.3806,2,   -999.0,9,  34.3806,2,   -999.0,9,  -999.00,9,  -999.00,9,  -999.00,9,  -999.00,9,  -999.00,9, -999.000,9, -999.000,9,  -999.00,9,   -999.0,9,   -999.0,9,-999.0000,9,   -999.0,  9,  -999.00,9,   -999.0,  -999.00,9,  -999.00,9,  -999.00,9,  -999.00,9,   -999.0,-999.0000, -999,9, 1003,   3.1843,  27.3736,   -999.0,9
       KS05-06,  NONE,KS-1406,  1,      4,02-16010,2,20050807,2150, 34.7478, 140.4233, 2187,   1264.2,   2.7633,  34.4515,2,   -999.0,9,  34.4500,2,   -999.0,9,  -999.00,9,  -999.00,9,  -999.00,9,  -999.00,9,  -999.00,9, -999.000,9, -999.000,9,  -999.00,9,   -999.0,9,   -999.0,9,-999.0000,9,   -999.0,  9,  -999.00,9,   -999.0,  -999.00,9,  -999.00,9,  -999.00,9,  -999.00,9,   -999.0,-999.0000, -999,9, 1251,   2.6773,  27.4760,   -999.0,9
       KS05-06,  NONE,KS-1406,  1,      3,02-16009,3,20050807,2145, 34.7478, 140.4233, 2187,   1517.5,   2.3539,  34.5178,2,   -999.0,9,  34.5172,2,   -999.0,9,  -999.00,9,  -999.00,9,  -999.00,9,  -999.00,9,  -999.00,9, -999.000,9, -999.000,9,  -999.00,9,   -999.0,9,   -999.0,9,-999.0000,9,   -999.0,  9,  -999.00,9,   -999.0,  -999.00,9,  -999.00,9,  -999.00,9,  -999.00,9,   -999.0,-999.0000, -999,9, 1501,   2.2523,  27.5650,   -999.0,9
       KS05-06,  NONE,KS-1406,  1,      2,02-16008,2,20050807,2140, 34.7478, 140.4233, 2187,   1769.3,   2.1136,  34.5639,2,   -999.0,9,  34.5635,2,   -999.0,9,  -999.00,9,  -999.00,9,  -999.00,9,  -999.00,9,  -999.00,9, -999.000,9, -999.000,9,  -999.00,9,   -999.0,9,   -999.0,9,-999.0000,9,   -999.0,  9,  -999.00,9,   -999.0,  -999.00,9,  -999.00,9,  -999.00,9,  -999.00,9,   -999.0,-999.0000, -999,9, 1749,   1.9948,  27.6227,   -999.0,9
       KS05-06,  NONE,KS-1406,  1,      1,02-16007,2,20050807,2136, 34.7478, 140.4233, 2187,   2022.1,   1.9180,  34.5989,2,   -999.0,9,  34.5983,2,   -999.0,9,  -999.00,9,  -999.00,9,  -999.00,9,  -999.00,9,  -999.00,9, -999.000,9, -999.000,9,  -999.00,9,   -999.0,9,   -999.0,9,-999.0000,9,   -999.0,  9,  -999.00,9,   -999.0,  -999.00,9,  -999.00,9,  -999.00,9,  -999.00,9,   -999.0,-999.0000, -999,9, 1998,   1.7811,  27.6673,   -999.0,9