BOTTLE,20130510GEMDJMAYT
EXPOCODE,SECT_ID,STNNBR,CASTNO,SAMPNO,BTLNBR,BTLNBR_FLAG_W,DATE,TIME,LATITUDE,LONGITUDE,DEPTH,CTDPRS,CTDTMP,CTDSAL,CTDSAL_FLAG_W,CTDOXY,CTDOXY_FLAG_W,SALNTY,SALNTY_FLAG_W,OXYGEN,OXYGEN_FLAG_W,SILCAT,SILCAT_FLAG_W,NITRAT,NITRAT_FLAG_W,NO2+NO3,NO2+NO3_FLAG_W,NITRIT,NITRIT_FLAG_W,PHSPHT,PHSPHT_FLAG_W,CFC-11,CFC-11_FLAG_W,CFC-12,CFC-12_FLAG_W,DELC13,DELC13_FLAG_W,TCARBN,TCARBN_FLAG_W,ALKALI,ALKALI_FLAG_W,PH,PH_FLAG_W,PH_TMP,PH_SCALE,PH_NBS,PH_NBS_FLAG_W,C13ERR,TOTALP,TOTALP_FLAG_W,AMMONI,AMMONI_FLAG_W,CHLORA,CHLORA_FLAG_W,PPHYTN,PPHYTN_FLAG_W,REVPRS,REVTMP,DEPTH_,DEPTH_FLAG,CTDDEP,THETA,SIGTHT,DOC,DOC_FLAG_W
,,,,,,,GMT,GMT,,,METER,DBAR,ITS-90,PSS-78,,UMOL/KG,,PSS-78,,UMOL/KG,,UMOL/KG,,UMOL/KG,,UMOL/KG,,UMOL/KG,,UMOL/KG,,PMOL/KG,,PMOL/KG,,/MILLE,,UMOL/KG,,UMOL/KG,,25_DEG_C,,DEG_C,,,,/MILLE,UMOL/KG,,UMOL/KG,,UG/L,,UG/L,,DBAR,ITS-90,METERS,,METERS,DEG_C,,UMOL/L,
       KS05-06,  NONE,KS-1314,  1,     24,02-16030,2,20050621,1325, 28.0022, 154.9942, 5751,      5.0,  28.9604,  35.1147,2,   -999.0,9,  35.1118,2,    202.0,2,     1.64,2,  -999.00,9,     0.00,2,     0.00,2,     0.00,2, -999.000,9, -999.000,9,  -999.00,9,   -999.0,9,   -999.0,9,-999.0000,9,   -999.0,  9,  -999.00,9,   -999.0,  -999.00,9,  -999.00,9,  -999.00,9,  -999.00,9,   -999.0,-999.0000, -999,9,    5,  28.9592,  22.1638,   -999.0,9
       KS05-06,  NONE,KS-1314,  1,     23,02-19380,2,20050621,1324, 28.0022, 154.9942, 5751,     10.2,  28.3232,  35.0694,2,   -999.0,9,-999.0000,9,    210.0,2,     1.63,2,  -999.00,9,     0.00,2,     0.00,2,     0.00,2, -999.000,9, -999.000,9,  -999.00,9,   -999.0,9,   -999.0,9,-999.0000,9,   -999.0,  9,  -999.00,9,   -999.0,  -999.00,9,  -999.00,9,  -999.00,9,  -999.00,9,   -999.0,-999.0000, -999,9,   10,  28.3208,  22.3416,   -999.0,9
       KS05-06,  NONE,KS-1314,  1,     22,02-19379,2,20050621,1323, 28.0022, 154.9942, 5751,     24.8,  25.1960,  35.0564,2,   -999.0,9,-999.0000,9,    220.0,2,     1.68,2,  -999.00,9,     0.00,2,     0.00,2,     0.00,2, -999.000,9, -999.000,9,  -999.00,9,   -999.0,9,   -999.0,9,-999.0000,9,   -999.0,  9,  -999.00,9,   -999.0,  -999.00,9,  -999.00,9,  -999.00,9,  -999.00,9,   -999.0,-999.0000, -999,9,   25,  25.1906,  23.3258,   -999.0,9
       KS05-06,  NONE,KS-1314,  1,     21,02-16027,2,20050621,1319, 28.0022, 154.9942, 5751,     50.0,  22.7070,  35.0512,2,   -999.0,9,-999.0000,9,    229.0,2,     1.87,2,  -999.00,9,     0.00,2,     0.00,2,     0.00,2, -999.000,9, -999.000,9,  -999.00,9,   -999.0,9,   -999.0,9,-999.0000,9,   -999.0,  9,  -999.00,9,   -999.0,  -999.00,9,  -999.00,9,  -999.00,9,  -999.00,9,   -999.0,-999.0000, -999,9,   50,  22.6969,  24.0594,   -999.0,9
       KS05-06,  NONE,KS-1314,  1,     20,02-16026,2,20050621,1318, 28.0022, 154.9942, 5751,     74.5,  20.9941,  34.9841,2,   -999.0,9,-999.0000,9,    231.0,2,     2.14,2,  -999.00,9,     0.00,2,     0.00,2,     0.00,2, -999.000,9, -999.000,9,  -999.00,9,   -999.0,9,   -999.0,9,-999.0000,9,   -999.0,  9,  -999.00,9,   -999.0,  -999.00,9,  -999.00,9,  -999.00,9,  -999.00,9,   -999.0,-999.0000, -999,9,   74,  20.9799,  24.4873,   -999.0,9
       KS05-06,  NONE,KS-1314,  1,     19,02-19378,2,20050621,1317, 28.0022, 154.9942, 5751,    100.0,  19.5793,  34.9254,2,   -999.0,9,  34.9166,4,    211.0,2,     2.70,2,  -999.00,9,     0.39,2,     0.03,2,     0.07,2, -999.000,9, -999.000,9,  -999.00,9,   -999.0,9,   -999.0,9,-999.0000,9,   -999.0,  9,  -999.00,9,   -999.0,  -999.00,9,  -999.00,9,  -999.00,9,  -999.00,9,   -999.0,-999.0000, -999,9,   99,  19.5611,  24.8196,   -999.0,9
       KS05-06,  NONE,KS-1314,  1,     18,02-19377,2,20050621,1315, 28.0022, 154.9942, 5751,    125.2,  18.4826,  34.8566,2,   -999.0,9,-999.0000,9,    209.0,2,     3.17,2,  -999.00,9,     2.63,2,     0.04,2,     0.18,2, -999.000,9, -999.000,9,  -999.00,9,   -999.0,9,   -999.0,9,-999.0000,9,   -999.0,  9,  -999.00,9,   -999.0,  -999.00,9,  -999.00,9,  -999.00,9,  -999.00,9,   -999.0,-999.0000, -999,9,  124,  18.4608,  25.0478,   -999.0,9
       KS05-06,  NONE,KS-1314,  1,     17,02-16023,2,20050621,1314, 28.0022, 154.9942, 5751,    151.6,  17.9396,  34.8143,2,   -999.0,9,-999.0000,9,    221.0,2,     3.16,2,  -999.00,9,     2.73,2,     0.06,2,     0.17,2, -999.000,9, -999.000,9,  -999.00,9,   -999.0,9,   -999.0,9,-999.0000,9,   -999.0,  9,  -999.00,9,   -999.0,  -999.00,9,  -999.00,9,  -999.00,9,  -999.00,9,   -999.0,-999.0000, -999,9,  151,  17.9137,  25.1510,   -999.0,9
       KS05-06,  NONE,KS-1314,  1,     16,02-16022,2,20050621,1312, 28.0022, 154.9942, 5751,    201.4,  17.3478,  34.8018,2,   -999.0,9,  34.7994,2,    220.0,2,     3.94,2,  -999.00,9,     3.80,2,     0.01,2,     0.22,2, -999.000,9, -999.000,9,  -999.00,9,   -999.0,9,   -999.0,9,-999.0000,9,   -999.0,  9,  -999.00,9,   -999.0,  -999.00,9,  -999.00,9,  -999.00,9,  -999.00,9,   -999.0,-999.0000, -999,9,  200,  17.3141,  25.2871,   -999.0,9
       KS05-06,  NONE,KS-1314,  1,     15,02-16021,2,20050621,1311, 28.0022, 154.9942, 5751,    250.8,  16.8957,  34.7664,2,   -999.0,9,-999.0000,9,    211.0,2,     4.82,2,  -999.00,9,     5.07,2,     0.00,2,     0.30,2, -999.000,9, -999.000,9,  -999.00,9,   -999.0,9,   -999.0,9,-999.0000,9,   -999.0,  9,  -999.00,9,   -999.0,  -999.00,9,  -999.00,9,  -999.00,9,  -999.00,9,   -999.0,-999.0000, -999,9,  249,  16.8545,  25.3694,   -999.0,9
       KS05-06,  NONE,KS-1314,  1,     14,02-16020,2,20050621,1309, 28.0022, 154.9942, 5751,    300.9,  16.2053,  34.7009,2,   -999.0,9,  34.7046,2,    204.0,2,     6.80,2,  -999.00,9,     6.83,2,     0.00,2,     0.42,2, -999.000,9, -999.000,9,  -999.00,9,   -999.0,9,   -999.0,9,-999.0000,9,   -999.0,  9,  -999.00,9,   -999.0,  -999.00,9,  -999.00,9,  -999.00,9,  -999.00,9,   -999.0,-999.0000, -999,9,  299,  16.1572,  25.4815,   -999.0,9
       KS05-06,  NONE,KS-1314,  1,     13,02-16019,2,20050621,1306, 28.0022, 154.9942, 5751,    403.7,  14.0187,  34.5297,2,   -999.0,9,  34.5298,2,    187.0,2,    14.36,2,  -999.00,9,    11.99,2,     0.00,2,     0.77,2, -999.000,9, -999.000,9,  -999.00,9,   -999.0,9,   -999.0,9,-999.0000,9,   -999.0,  9,  -999.00,9,   -999.0,  -999.00,9,  -999.00,9,  -999.00,9,  -999.00,9,   -999.0,-999.0000, -999,9,  401,  13.9601,  25.8319,   -999.0,9
       KS05-06,  NONE,KS-1314,  1,     12,02-16018,2,20050621,1304, 28.0022, 154.9942, 5751,    503.4,  11.6968,  34.3548,2,   -999.0,9,  34.3484,4,    186.0,2,    21.75,2,  -999.00,9,    15.98,2,     0.00,2,     1.07,2, -999.000,9, -999.000,9,  -999.00,9,   -999.0,9,   -999.0,9,-999.0000,9,   -999.0,  9,  -999.00,9,   -999.0,  -999.00,9,  -999.00,9,  -999.00,9,  -999.00,9,   -999.0,-999.0000, -999,9,  499,  11.6318,  26.1573,   -999.0,9
       KS05-06,  NONE,KS-1314,  1,     11,02-19376,2,20050621,1301, 28.0022, 154.9942, 5751,    603.6,   8.7113,  34.1331,2,   -999.0,9,  34.1338,2,    173.0,2,    35.46,2,  -999.00,9,    22.31,2,     0.00,2,     1.55,2, -999.000,9, -999.000,9,  -999.00,9,   -999.0,9,   -999.0,9,-999.0000,9,   -999.0,  9,  -999.00,9,   -999.0,  -999.00,9,  -999.00,9,  -999.00,9,  -999.00,9,   -999.0,-999.0000, -999,9,  599,   8.6462,  26.4949,   -999.0,9
       KS05-06,  NONE,KS-1314,  1,     10,02-19375,2,20050621,1258, 28.0022, 154.9942, 5751,    704.6,   6.3098,  34.0319,2,   -999.0,9,  34.0366,2,    133.0,2,    59.53,2,  -999.00,9,    30.29,2,     0.00,2,     2.17,2, -999.000,9, -999.000,9,  -999.00,9,   -999.0,9,   -999.0,9,-999.0000,9,   -999.0,  9,  -999.00,9,   -999.0,  -999.00,9,  -999.00,9,  -999.00,9,  -999.00,9,   -999.0,-999.0000, -999,9,  699,   6.2461,  26.7564,   -999.0,9
       KS05-06,  NONE,KS-1314,  1,      9,02-16015,2,20050621,1255, 28.0022, 154.9942, 5751,    806.7,   5.1433,  34.1138,2,   -999.0,9,  34.1127,2,     83.0,2,    82.16,2,  -999.00,9,    36.61,2,     0.00,2,     2.63,2, -999.000,9, -999.000,9,  -999.00,9,   -999.0,9,   -999.0,9,-999.0000,9,   -999.0,  9,  -999.00,9,   -999.0,  -999.00,9,  -999.00,9,  -999.00,9,  -999.00,9,   -999.0,-999.0000, -999,9,  800,   5.0768,  26.9638,   -999.0,9
       KS05-06,  NONE,KS-1314,  1,      8,02-16014,2,20050621,1253, 28.0022, 154.9942, 5751,    907.7,   4.5077,  34.1918,2,   -999.0,9,  34.1899,2,     59.0,2,    97.65,2,  -999.00,9,    39.72,2,     0.00,2,     2.85,2, -999.000,9, -999.000,9,  -999.00,9,   -999.0,9,   -999.0,9,-999.0000,9,   -999.0,  9,  -999.00,9,   -999.0,  -999.00,9,  -999.00,9,  -999.00,9,  -999.00,9,   -999.0,-999.0000, -999,9,  900,   4.4366,  27.0972,   -999.0,9
       KS05-06,  NONE,KS-1314,  1,      7,02-19374,2,20050621,1250, 28.0022, 154.9942, 5751,   1007.9,   3.9881,  34.2748,2,   -999.0,9,  34.2730,2,     45.0,2,   111.48,2,  -999.00,9,    41.47,2,     0.00,2,     2.99,2, -999.000,9, -999.000,9,  -999.00,9,   -999.0,9,   -999.0,9,-999.0000,9,   -999.0,  9,  -999.00,9,   -999.0,  -999.00,9,  -999.00,9,  -999.00,9,  -999.00,9,   -999.0,-999.0000, -999,9,  999,   3.9123,  27.2182,   -999.0,9
       KS05-06,  NONE,KS-1314,  1,      6,02-19373,2,20050621,1244, 28.0022, 154.9942, 5751,   1261.2,   3.1052,  34.4284,2,   -999.0,9,  34.4292,2,     40.0,2,   135.25,2,  -999.00,9,    42.53,2,     0.00,2,     3.06,2, -999.000,9, -999.000,9,  -999.00,9,   -999.0,9,   -999.0,9,-999.0000,9,   -999.0,  9,  -999.00,9,   -999.0,  -999.00,9,  -999.00,9,  -999.00,9,  -999.00,9,   -999.0,-999.0000, -999,9, 1249,   3.0161,  27.4273,   -999.0,9
       KS05-06,  NONE,KS-1314,  1,      5,02-16011,2,20050621,1239, 28.0022, 154.9942, 5751,   1515.5,   2.5960,  34.5210,2,   -999.0,9,  34.5225,2,     59.0,2,   145.25,2,  -999.00,9,    41.94,2,     0.00,2,     2.99,2, -999.000,9, -999.000,9,  -999.00,9,   -999.0,9,   -999.0,9,-999.0000,9,   -999.0,  9,  -999.00,9,   -999.0,  -999.00,9,  -999.00,9,  -999.00,9,  -999.00,9,   -999.0,-999.0000, -999,9, 1500,   2.4917,  27.5476,   -999.0,9
       KS05-06,  NONE,KS-1314,  1,      4,02-16010,2,20050621,1233, 28.0022, 154.9942, 5751,   1768.9,   2.2746,  34.5710,2,   -999.0,9,  34.5710,2,     79.0,2,   148.23,2,  -999.00,9,    40.97,2,     0.00,2,     2.88,2, -999.000,9, -999.000,9,  -999.00,9,   -999.0,9,   -999.0,9,-999.0000,9,   -999.0,  9,  -999.00,9,   -999.0,  -999.00,9,  -999.00,9,  -999.00,9,  -999.00,9,   -999.0,-999.0000, -999,9, 1750,   2.1536,  27.6157,   -999.0,9
       KS05-06,  NONE,KS-1314,  1,      3,02-16009,9,20050621,1228, 28.0022, 154.9942, 5751,   2023.8,   2.0102,  34.6047,2,   -999.0,9,-999.0000,9,   -999.0,9,  -999.00,9,  -999.00,9,  -999.00,9,  -999.00,9,  -999.00,9, -999.000,9, -999.000,9,  -999.00,9,   -999.0,9,   -999.0,9,-999.0000,9,   -999.0,  9,  -999.00,9,   -999.0,  -999.00,9,  -999.00,9,  -999.00,9,  -999.00,9,   -999.0,-999.0000, -999,9, 2001,   1.8717,  27.6650,   -999.0,9
       KS05-06,  NONE,KS-1314,  1,      2,02-16008,9,20050621,1228, 28.0022, 154.9942, 5751,   2024.2,   2.0100,  34.6048,2,   -999.0,9,-999.0000,9,   -999.0,9,  -999.00,9,  -999.00,9,  -999.00,9,  -999.00,9,  -999.00,9, -999.000,9, -999.000,9,  -999.00,9,   -999.0,9,   -999.0,9,-999.0000,9,   -999.0,  9,  -999.00,9,   -999.0,  -999.00,9,  -999.00,9,  -999.00,9,  -999.00,9,   -999.0,-999.0000, -999,9, 2001,   1.8715,  27.6651,   -999.0,9
       KS05-06,  NONE,KS-1314,  1,      1,02-16007,2,20050621,1227, 28.0022, 154.9942, 5751,   2023.8,   2.0094,  34.6048,2,   -999.0,9,  34.6064,2,     95.0,2,   151.02,2,  -999.00,9,    39.99,2,     0.00,2,     2.81,2, -999.000,9, -999.000,9,  -999.00,9,   -999.0,9,   -999.0,9,-999.0000,9,   -999.0,  9,  -999.00,9,   -999.0,  -999.00,9,  -999.00,9,  -999.00,9,  -999.00,9,   -999.0,-999.0000, -999,9, 2001,   1.8709,  27.6652,   -999.0,9
       KS05-06,  NONE,KS-1315,  2,     -9,      -9,5,20050621,2334, 27.9863, 156.9928, 6080,      0.0,  27.2312,  34.9743,2,   -999.0,9,-999.0000,9,    210.0,2,     1.78,2,  -999.00,9,     0.10,2,     0.00,2,     0.01,2, -999.000,9, -999.000,9,  -999.00,9,   -999.0,9,   -999.0,9,-999.0000,9,   -999.0,  9,  -999.00,9,   -999.0,  -999.00,9,  -999.00,9,  -999.00,9,  -999.00,9,   -999.0,-999.0000, -999,9,    0,  27.2311,  22.6244,   -999.0,9
       KS05-06,  NONE,KS-1315,  2,     24,02-16030,3,20050621,2333, 27.9863, 156.9928, 6080,      3.5,  26.9254,  34.9649,2,   -999.0,9,-999.0000,9,    209.0,2,     1.74,2,  -999.00,9,     0.00,2,     0.00,2,     0.00,2, -999.000,9, -999.000,9,  -999.00,9,   -999.0,9,   -999.0,9,-999.0000,9,   -999.0,  9,  -999.00,9,   -999.0,  -999.00,9,  -999.00,9,  -999.00,9,  -999.00,9,   -999.0,-999.0000, -999,9,    4,  26.9246,  22.7154,   -999.0,9
       KS05-06,  NONE,KS-1315,  2,     23,02-19380,2,20050621,2332, 27.9863, 156.9928, 6080,      9.1,  25.2513,  34.9558,2,   -999.0,9,-999.0000,9,    216.0,2,     1.84,2,  -999.00,9,     0.00,2,     0.00,2,     0.00,2, -999.000,9, -999.000,9,  -999.00,9,   -999.0,9,   -999.0,9,-999.0000,9,   -999.0,  9,  -999.00,9,   -999.0,  -999.00,9,  -999.00,9,  -999.00,9,  -999.00,9,   -999.0,-999.0000, -999,9,    9,  25.2493,  23.2318,   -999.0,9