BOTTLE,20130510GEMDJMAYT
EXPOCODE,SECT_ID,STNNBR,CASTNO,SAMPNO,BTLNBR,BTLNBR_FLAG_W,DATE,TIME,LATITUDE,LONGITUDE,DEPTH,CTDPRS,CTDTMP,CTDSAL,CTDSAL_FLAG_W,CTDOXY,CTDOXY_FLAG_W,SALNTY,SALNTY_FLAG_W,OXYGEN,OXYGEN_FLAG_W,SILCAT,SILCAT_FLAG_W,NITRAT,NITRAT_FLAG_W,NO2+NO3,NO2+NO3_FLAG_W,NITRIT,NITRIT_FLAG_W,PHSPHT,PHSPHT_FLAG_W,CFC-11,CFC-11_FLAG_W,CFC-12,CFC-12_FLAG_W,DELC13,DELC13_FLAG_W,TCARBN,TCARBN_FLAG_W,ALKALI,ALKALI_FLAG_W,PH,PH_FLAG_W,PH_TMP,PH_SCALE,PH_NBS,PH_NBS_FLAG_W,C13ERR,TOTALP,TOTALP_FLAG_W,AMMONI,AMMONI_FLAG_W,CHLORA,CHLORA_FLAG_W,PPHYTN,PPHYTN_FLAG_W,REVPRS,REVTMP,DEPTH_,DEPTH_FLAG,CTDDEP,THETA,SIGTHT,DOC,DOC_FLAG_W
,,,,,,,GMT,GMT,,,METER,DBAR,ITS-90,PSS-78,,UMOL/KG,,PSS-78,,UMOL/KG,,UMOL/KG,,UMOL/KG,,UMOL/KG,,UMOL/KG,,UMOL/KG,,PMOL/KG,,PMOL/KG,,/MILLE,,UMOL/KG,,UMOL/KG,,25_DEG_C,,DEG_C,,,,/MILLE,UMOL/KG,,UMOL/KG,,UG/L,,UG/L,,DBAR,ITS-90,METERS,,METERS,DEG_C,,UMOL/L,
       KS05-06,  165E,KS-1334,  1,     24,02-16030,2,20050627,1200, 13.0017, 164.9847, 5198,      4.7,  28.6587,  34.5529,2,   -999.0,9,  34.5569,4,    201.0,2,     1.14,2,  -999.00,9,     0.00,2,     0.00,2,     0.06,2, -999.000,9, -999.000,9,  -999.00,9,   1931.2,2,   -999.0,9,-999.0000,9,   -999.0,  9,     8.22,2,   -999.0,  -999.00,9,  -999.00,9,     0.01,2,     0.01,2,   -999.0,-999.0000, -999,9,    5,  28.6576,  21.8423,   -999.0,9
       KS05-06,  165E,KS-1334,  1,     23,02-19380,2,20050627,1159, 13.0017, 164.9847, 5198,      9.5,  28.6585,  34.5528,2,   -999.0,9,-999.0000,9,    200.0,2,     1.23,2,  -999.00,9,     0.00,2,     0.00,2,     0.06,2, -999.000,9, -999.000,9,  -999.00,9,   -999.0,9,   -999.0,9,-999.0000,9,   -999.0,  9,     8.23,2,   -999.0,  -999.00,9,  -999.00,9,     0.02,2,     0.01,2,   -999.0,-999.0000, -999,9,    9,  28.6562,  21.8427,   -999.0,9
       KS05-06,  165E,KS-1334,  1,     22,02-19379,2,20050627,1158, 13.0017, 164.9847, 5198,     24.3,  28.6490,  34.5512,2,   -999.0,9,-999.0000,9,    200.0,2,     1.27,2,  -999.00,9,     0.00,2,     0.00,2,     0.06,2, -999.000,9, -999.000,9,  -999.00,9,   -999.0,9,   -999.0,9,-999.0000,9,   -999.0,  9,     8.23,2,   -999.0,  -999.00,9,  -999.00,9,     0.03,2,     0.01,2,   -999.0,-999.0000, -999,9,   24,  28.6432,  21.8457,   -999.0,9
       KS05-06,  165E,KS-1334,  1,     21,02-16027,2,20050627,1156, 13.0017, 164.9847, 5198,     49.3,  28.1919,  34.7446,2,   -999.0,9,-999.0000,9,    203.0,2,     1.05,2,  -999.00,9,     0.00,2,     0.00,2,     0.05,2, -999.000,9, -999.000,9,  -999.00,9,   -999.0,9,   -999.0,9,-999.0000,9,   -999.0,  9,     8.23,2,   -999.0,  -999.00,9,  -999.00,9,     0.03,2,     0.02,2,   -999.0,-999.0000, -999,9,   49,  28.1802,  22.1436,   -999.0,9
       KS05-06,  165E,KS-1334,  1,     20,02-16026,2,20050627,1155, 13.0017, 164.9847, 5198,     74.9,  27.5890,  34.8365,2,   -999.0,9,-999.0000,9,    208.0,2,     1.04,2,  -999.00,9,     0.00,2,     0.00,2,     0.05,2, -999.000,9, -999.000,9,  -999.00,9,   -999.0,9,   -999.0,9,-999.0000,9,   -999.0,  9,     8.23,2,   -999.0,  -999.00,9,  -999.00,9,     0.05,2,     0.03,2,   -999.0,-999.0000, -999,9,   74,  27.5716,  22.4109,   -999.0,9
       KS05-06,  165E,KS-1334,  1,     19,02-19378,2,20050627,1154, 13.0017, 164.9847, 5198,    100.2,  26.6176,  34.8836,2,   -999.0,9,  34.8863,4,    213.0,2,     0.97,2,  -999.00,9,     0.00,2,     0.00,2,     0.05,2, -999.000,9, -999.000,9,  -999.00,9,   -999.0,9,   -999.0,9,-999.0000,9,   -999.0,  9,     8.23,2,   -999.0,  -999.00,9,  -999.00,9,     0.06,2,     0.05,2,   -999.0,-999.0000, -999,9,  100,  26.5949,  22.7588,   -999.0,9
       KS05-06,  165E,KS-1334,  1,     18,02-19377,2,20050627,1153, 13.0017, 164.9847, 5198,    125.2,  26.0392,  34.9357,2,   -999.0,9,-999.0000,9,    209.0,2,     1.02,2,  -999.00,9,     0.00,2,     0.00,2,     0.04,2, -999.000,9, -999.000,9,  -999.00,9,   -999.0,9,   -999.0,9,-999.0000,9,   -999.0,  9,     8.22,2,   -999.0,  -999.00,9,  -999.00,9,     0.10,2,     0.10,2,   -999.0,-999.0000, -999,9,  124,  26.0112,  22.9813,   -999.0,9
       KS05-06,  165E,KS-1334,  1,     17,02-16023,2,20050627,1152, 13.0017, 164.9847, 5198,    149.5,  25.2219,  35.0024,2,   -999.0,9,-999.0000,9,    203.0,2,     1.10,2,  -999.00,9,     0.00,2,     0.00,2,     0.05,2, -999.000,9, -999.000,9,  -999.00,9,   -999.0,9,   -999.0,9,-999.0000,9,   -999.0,  9,     8.19,2,   -999.0,  -999.00,9,  -999.00,9,     0.14,2,     0.36,2,   -999.0,-999.0000, -999,9,  149,  25.1893,  23.2853,   -999.0,9
       KS05-06,  165E,KS-1334,  1,     16,02-16022,2,20050627,1150, 13.0017, 164.9847, 5198,    201.1,  20.0122,  35.0194,2,   -999.0,9,  35.0238,2,    182.0,2,     2.91,2,  -999.00,9,     3.32,2,     0.01,2,     0.27,2, -999.000,9, -999.000,9,  -999.00,9,   -999.0,9,   -999.0,9,-999.0000,9,   -999.0,  9,     8.07,2,   -999.0,  -999.00,9,  -999.00,9,     0.03,2,     0.19,2,   -999.0,-999.0000, -999,9,  200,  19.9750,  24.7832,   -999.0,9
       KS05-06,  165E,KS-1334,  1,     15,02-16021,2,20050627,1149, 13.0017, 164.9847, 5198,    251.2,  16.3362,  34.6465,2,   -999.0,9,-999.0000,9,    173.0,2,     6.78,2,  -999.00,9,     8.29,2,     0.00,2,     0.61,2, -999.000,9, -999.000,9,  -999.00,9,   -999.0,9,   -999.0,9,-999.0000,9,   -999.0,  9,     7.98,2,   -999.0,  -999.00,9,  -999.00,9,     0.01,2,     0.02,2,   -999.0,-999.0000, -999,9,  250,  16.2959,  25.4078,   -999.0,9
       KS05-06,  165E,KS-1334,  1,     14,02-16020,2,20050627,1147, 13.0017, 164.9847, 5198,    301.2,  12.5660,  34.3946,2,   -999.0,9,  34.3990,2,    130.0,2,    17.97,2,  -999.00,9,    18.91,2,     0.00,2,     1.38,2, -999.000,9, -999.000,9,  -999.00,9,   -999.0,9,   -999.0,9,-999.0000,9,   -999.0,  9,     7.81,2,   -999.0,  -999.00,9,  -999.00,9,     0.00,2,     0.01,2,   -999.0,-999.0000, -999,9,  299,  12.5256,  26.0176,   -999.0,9
       KS05-06,  165E,KS-1334,  1,     13,02-16019,2,20050627,1144, 13.0017, 164.9847, 5198,    403.0,   8.6267,  34.2842,2,   -999.0,9,  34.2860,2,     88.0,2,    41.32,2,  -999.00,9,    30.00,2,     0.00,2,     2.19,2, -999.000,9, -999.000,9,  -999.00,9,   -999.0,9,   -999.0,9,-999.0000,9,   -999.0,  9,     7.64,2,   -999.0,  -999.00,9,  -999.00,9,  -999.00,9,  -999.00,9,   -999.0,-999.0000, -999,9,  400,   8.5839,  26.6230,   -999.0,9
       KS05-06,  165E,KS-1334,  1,     12,02-16018,2,20050627,1142, 13.0017, 164.9847, 5198,    503.0,   7.0919,  34.3865,2,   -999.0,9,  34.3872,2,     54.0,2,    59.06,2,  -999.00,9,    36.03,2,     0.00,2,     2.64,2, -999.000,9, -999.000,9,  -999.00,9,   -999.0,9,   -999.0,9,-999.0000,9,   -999.0,  9,     7.56,2,   -999.0,  -999.00,9,  -999.00,9,  -999.00,9,  -999.00,9,   -999.0,-999.0000, -999,9,  499,   7.0439,  26.9294,   -999.0,9
       KS05-06,  165E,KS-1334,  1,     11,02-19376,2,20050627,1139, 13.0017, 164.9847, 5198,    604.3,   6.3534,  34.4472,2,   -999.0,9,  34.4477,2,     59.0,2,    67.87,2,  -999.00,9,    37.49,2,     0.00,2,     2.73,2, -999.000,9, -999.000,9,  -999.00,9,   -999.0,9,   -999.0,9,-999.0000,9,   -999.0,  9,     7.56,2,   -999.0,  -999.00,9,  -999.00,9,  -999.00,9,  -999.00,9,   -999.0,-999.0000, -999,9,  600,   6.2986,  27.0774,   -999.0,9
       KS05-06,  165E,KS-1334,  1,     10,02-19375,2,20050627,1137, 13.0017, 164.9847, 5198,    705.0,   5.7221,  34.4772,2,   -999.0,9,  34.4771,2,     65.0,2,    76.18,2,  -999.00,9,    38.16,2,     0.00,2,     2.76,2, -999.000,9, -999.000,9,  -999.00,9,   -999.0,9,   -999.0,9,-999.0000,9,   -999.0,  9,     7.56,2,   -999.0,  -999.00,9,  -999.00,9,  -999.00,9,  -999.00,9,   -999.0,-999.0000, -999,9,  700,   5.6610,  27.1819,   -999.0,9
       KS05-06,  165E,KS-1334,  1,      9,02-16015,2,20050627,1134, 13.0017, 164.9847, 5198,    804.4,   5.1977,  34.5015,2,   -999.0,9,  34.5015,2,     72.0,2,    83.74,2,  -999.00,9,    38.65,2,     0.00,2,     2.78,2, -999.000,9, -999.000,9,  -999.00,9,   -999.0,9,   -999.0,9,-999.0000,9,   -999.0,  9,     7.57,2,   -999.0,  -999.00,9,  -999.00,9,  -999.00,9,  -999.00,9,   -999.0,-999.0000, -999,9,  798,   5.1306,  27.2648,   -999.0,9
       KS05-06,  165E,KS-1334,  1,      8,02-16014,2,20050627,1132, 13.0017, 164.9847, 5198,    906.7,   4.7975,  34.5191,2,   -999.0,9,  34.5192,2,     75.0,2,    91.04,2,  -999.00,9,    39.23,2,     0.00,2,     2.81,2, -999.000,9, -999.000,9,  -999.00,9,   -999.0,9,   -999.0,9,-999.0000,9,   -999.0,  9,     7.57,2,   -999.0,  -999.00,9,  -999.00,9,  -999.00,9,  -999.00,9,   -999.0,-999.0000, -999,9,  900,   4.7239,  27.3254,   -999.0,9
       KS05-06,  165E,KS-1334,  1,      7,02-19374,2,20050627,1129, 13.0017, 164.9847, 5198,   1008.4,   4.3476,  34.5383,2,   -999.0,9,  34.5388,2,     76.0,2,    99.66,2,  -999.00,9,    39.61,2,     0.00,2,     2.84,2, -999.000,9, -999.000,9,  -999.00,9,   -999.0,9,   -999.0,9,-999.0000,9,   -999.0,  9,     7.57,2,   -999.0,  -999.00,9,  -999.00,9,  -999.00,9,  -999.00,9,   -999.0,-999.0000, -999,9, 1000,   4.2685,  27.3906,   -999.0,9
       KS05-06,  165E,KS-1334,  1,      6,02-19373,2,20050627,1124, 13.0017, 164.9847, 5198,   1260.8,   3.4678,  34.5674,2,   -999.0,9,  34.5671,2,     77.0,2,   117.78,2,  -999.00,9,    40.39,2,     0.00,2,     2.90,2, -999.000,9, -999.000,9,  -999.00,9,   -999.0,9,   -999.0,9,-999.0000,9,   -999.0,  9,     7.57,2,   -999.0,  -999.00,9,  -999.00,9,  -999.00,9,  -999.00,9,   -999.0,-999.0000, -999,9, 1250,   3.3750,  27.5045,   -999.0,9
       KS05-06,  165E,KS-1334,  1,      5,02-16011,2,20050627,1118, 13.0017, 164.9847, 5198,   1513.2,   2.8509,  34.5929,2,   -999.0,9,  34.5922,2,     87.0,2,   130.58,2,  -999.00,9,    39.90,2,     0.00,2,     2.85,2, -999.000,9, -999.000,9,  -999.00,9,   -999.0,9,   -999.0,9,-999.0000,9,   -999.0,  9,     7.59,2,   -999.0,  -999.00,9,  -999.00,9,  -999.00,9,  -999.00,9,   -999.0,-999.0000, -999,9, 1499,   2.7436,  27.5832,   -999.0,9
       KS05-06,  165E,KS-1334,  1,      4,02-16010,2,20050627,1113, 13.0017, 164.9847, 5198,   1766.7,   2.4642,  34.6113,2,   -999.0,9,  34.6111,2,     96.0,2,   137.97,2,  -999.00,9,    39.70,2,     0.00,2,     2.81,2, -999.000,9, -999.000,9,  -999.00,9,   -999.0,9,   -999.0,9,-999.0000,9,   -999.0,  9,     7.61,2,   -999.0,  -999.00,9,  -999.00,9,  -999.00,9,  -999.00,9,   -999.0,-999.0000, -999,9, 1749,   2.3407,  27.6326,   -999.0,9
       KS05-06,  165E,KS-1334,  1,      3,02-16009,9,20050627,1107, 13.0017, 164.9847, 5198,   2021.5,   2.1215,  34.6350,2,   -999.0,9,-999.0000,9,   -999.0,9,  -999.00,9,  -999.00,9,  -999.00,9,  -999.00,9,  -999.00,9, -999.000,9, -999.000,9,  -999.00,9,   -999.0,9,   -999.0,9,-999.0000,9,   -999.0,  9,  -999.00,9,   -999.0,  -999.00,9,  -999.00,9,  -999.00,9,  -999.00,9,   -999.0,-999.0000, -999,9, 2000,   1.9814,  27.6807,   -999.0,9
       KS05-06,  165E,KS-1334,  1,      2,02-16008,9,20050627,1107, 13.0017, 164.9847, 5198,   2021.6,   2.1215,  34.6349,2,   -999.0,9,-999.0000,9,   -999.0,9,  -999.00,9,  -999.00,9,  -999.00,9,  -999.00,9,  -999.00,9, -999.000,9, -999.000,9,  -999.00,9,   -999.0,9,   -999.0,9,-999.0000,9,   -999.0,  9,  -999.00,9,   -999.0,  -999.00,9,  -999.00,9,  -999.00,9,  -999.00,9,   -999.0,-999.0000, -999,9, 2000,   1.9814,  27.6806,   -999.0,9
       KS05-06,  165E,KS-1334,  1,      1,02-16007,2,20050627,1107, 13.0017, 164.9847, 5198,   2020.2,   2.1214,  34.6348,2,   -999.0,9,  34.6343,2,    107.0,2,   144.40,2,  -999.00,9,    39.12,2,     0.00,2,     2.76,2, -999.000,9, -999.000,9,  -999.00,9,   -999.0,9,   -999.0,9,-999.0000,9,   -999.0,  9,     7.62,2,   -999.0,  -999.00,9,  -999.00,9,  -999.00,9,  -999.00,9,   -999.0,-999.0000, -999,9, 1999,   1.9814,  27.6806,   -999.0,9
       KS05-06,  165E,KS-1335,  1,      2,02-16008,9,20050627,1832, 11.9968, 164.4802, 4694,      4.7,  28.6626,  34.4976,2,   -999.0,9,-999.0000,9,   -999.0,9,  -999.00,9,  -999.00,9,  -999.00,9,  -999.00,9,  -999.00,9, -999.000,9, -999.000,9,  -999.00,9,   -999.0,9,   -999.0,9,-999.0000,9,   -999.0,  9,  -999.00,9,   -999.0,  -999.00,9,  -999.00,9,  -999.00,9,  -999.00,9,   -999.0,-999.0000, -999,9,    5,  28.6615,  21.7994,   -999.0,9
       KS05-06,  165E,KS-1335,  1,      1,02-16007,2,20050627,1831, 11.9968, 164.4802, 4694,      4.4,  28.6573,  34.4978,2,   -999.0,9,-999.0000,9,   -999.0,9,     1.26,2,  -999.00,9,     0.00,2,     0.00,2,     0.06,2, -999.000,9, -999.000,9,  -999.00,9,   1924.7,3,   -999.0,9,-999.0000,9,   -999.0,  9,  -999.00,9,   -999.0,  -999.00,9,  -999.00,9,     0.03,2,     0.01,2,   -999.0,-999.0000, -999,9,    4,  28.6562,  21.8013,   -999.0,9
       KS05-06,  165E,KS-1336,  1,      2,02-16008,9,20050628,0103, 10.9908, 163.9820, 4803,      4.1,  28.7831,  34.5276,2,   -999.0,9,-999.0000,9,   -999.0,9,  -999.00,9,  -999.00,9,  -999.00,9,  -999.00,9,  -999.00,9, -999.000,9, -999.000,9,  -999.00,9,   -999.0,9,   -999.0,9,-999.0000,9,   -999.0,  9,  -999.00,9,   -999.0,  -999.00,9,  -999.00,9,  -999.00,9,  -999.00,9,   -999.0,-999.0000, -999,9,    4,  28.7821,  21.7819,   -999.0,9
       KS05-06,  165E,KS-1336,  1,      1,02-16007,2,20050628,0103, 10.9908, 163.9820, 4803,      3.8,  28.7738,  34.5272,2,   -999.0,9,-999.0000,9,   -999.0,9,     1.26,2,  -999.00,9,     0.00,2,     0.00,2,     0.05,2, -999.000,9, -999.000,9,  -999.00,9,   1931.6,3,   -999.0,9,-999.0000,9,   -999.0,  9,  -999.00,9,   -999.0,  -999.00,9,  -999.00,9,     0.03,2,     0.01,2,   -999.0,-999.0000, -999,9,    4,  28.7729,  21.7847,   -999.0,9