BOTTLE,20130510GEMDJMAYT
EXPOCODE,SECT_ID,STNNBR,CASTNO,SAMPNO,BTLNBR,BTLNBR_FLAG_W,DATE,TIME,LATITUDE,LONGITUDE,DEPTH,CTDPRS,CTDTMP,CTDSAL,CTDSAL_FLAG_W,CTDOXY,CTDOXY_FLAG_W,SALNTY,SALNTY_FLAG_W,OXYGEN,OXYGEN_FLAG_W,SILCAT,SILCAT_FLAG_W,NITRAT,NITRAT_FLAG_W,NO2+NO3,NO2+NO3_FLAG_W,NITRIT,NITRIT_FLAG_W,PHSPHT,PHSPHT_FLAG_W,CFC-11,CFC-11_FLAG_W,CFC-12,CFC-12_FLAG_W,DELC13,DELC13_FLAG_W,TCARBN,TCARBN_FLAG_W,ALKALI,ALKALI_FLAG_W,PH,PH_FLAG_W,PH_TMP,PH_SCALE,PH_NBS,PH_NBS_FLAG_W,C13ERR,TOTALP,TOTALP_FLAG_W,AMMONI,AMMONI_FLAG_W,CHLORA,CHLORA_FLAG_W,PPHYTN,PPHYTN_FLAG_W,REVPRS,REVTMP,DEPTH_,DEPTH_FLAG,CTDDEP,THETA,SIGTHT,DOC,DOC_FLAG_W
,,,,,,,GMT,GMT,,,METER,DBAR,ITS-90,PSS-78,,UMOL/KG,,PSS-78,,UMOL/KG,,UMOL/KG,,UMOL/KG,,UMOL/KG,,UMOL/KG,,UMOL/KG,,PMOL/KG,,PMOL/KG,,/MILLE,,UMOL/KG,,UMOL/KG,,25_DEG_C,,DEG_C,,,,/MILLE,UMOL/KG,,UMOL/KG,,UG/L,,UG/L,,DBAR,ITS-90,METERS,,METERS,DEG_C,,UMOL/L,
       KS05-06,  NONE,KS-1376,  1,     24,02-16030,9,20050723,0942, 13.0075, 149.3232, 5895,      4.6,  29.6364,  34.3766,2,   -999.0,9,-999.0000,9,   -999.0,9,  -999.00,9,  -999.00,9,  -999.00,9,  -999.00,9,  -999.00,9, -999.000,9, -999.000,9,  -999.00,9,   -999.0,9,   -999.0,9,-999.0000,9,   -999.0,  9,  -999.00,9,   -999.0,  -999.00,9,  -999.00,9,  -999.00,9,  -999.00,9,   -999.0,-999.0000, -999,9,    5,  29.6353,  21.3827,   -999.0,9
       KS05-06,  NONE,KS-1376,  1,     23,02-19380,9,20050723,0941, 13.0075, 149.3232, 5895,      4.6,  29.6381,  34.3772,2,   -999.0,9,-999.0000,9,   -999.0,9,  -999.00,9,  -999.00,9,  -999.00,9,  -999.00,9,  -999.00,9, -999.000,9, -999.000,9,  -999.00,9,   -999.0,9,   -999.0,9,-999.0000,9,   -999.0,  9,  -999.00,9,   -999.0,  -999.00,9,  -999.00,9,  -999.00,9,  -999.00,9,   -999.0,-999.0000, -999,9,    5,  29.6370,  21.3826,   -999.0,9
       KS05-06,  NONE,KS-1376,  1,     22,02-19379,2,20050723,0941, 13.0075, 149.3232, 5895,      4.5,  29.6370,  34.3770,2,   -999.0,9,  34.3798,2,    198.0,2,     1.05,2,  -999.00,9,     0.00,2,     0.00,2,     0.03,2, -999.000,9, -999.000,9,  -999.00,9,   -999.0,9,   -999.0,9,-999.0000,9,   -999.0,  9,  -999.00,9,   -999.0,  -999.00,9,  -999.00,9,  -999.00,9,  -999.00,9,   -999.0,-999.0000, -999,9,    4,  29.6359,  21.3829,   -999.0,9
       KS05-06,  NONE,KS-1376,  1,     21,02-16027,2,20050723,0941, 13.0075, 149.3232, 5895,      9.6,  29.6362,  34.3757,2,   -999.0,9,-999.0000,9,    196.0,2,     1.04,2,  -999.00,9,     0.00,2,     0.00,2,     0.03,2, -999.000,9, -999.000,9,  -999.00,9,   -999.0,9,   -999.0,9,-999.0000,9,   -999.0,  9,  -999.00,9,   -999.0,  -999.00,9,  -999.00,9,  -999.00,9,  -999.00,9,   -999.0,-999.0000, -999,9,   10,  29.6338,  21.3825,   -999.0,9
       KS05-06,  NONE,KS-1376,  1,     20,02-16026,2,20050723,0939, 13.0075, 149.3232, 5895,     24.9,  29.5421,  34.3683,2,   -999.0,9,-999.0000,9,    197.0,2,     1.03,2,  -999.00,9,     0.00,2,     0.00,2,     0.03,2, -999.000,9, -999.000,9,  -999.00,9,   -999.0,9,   -999.0,9,-999.0000,9,   -999.0,  9,  -999.00,9,   -999.0,  -999.00,9,  -999.00,9,  -999.00,9,  -999.00,9,   -999.0,-999.0000, -999,9,   25,  29.5360,  21.4100,   -999.0,9
       KS05-06,  NONE,KS-1376,  1,     19,02-19378,2,20050723,0938, 13.0075, 149.3232, 5895,     50.0,  28.6805,  34.4795,2,   -999.0,9,-999.0000,9,    206.0,2,     0.96,2,  -999.00,9,     0.00,2,     0.00,2,     0.03,2, -999.000,9, -999.000,9,  -999.00,9,   -999.0,9,   -999.0,9,-999.0000,9,   -999.0,  9,  -999.00,9,   -999.0,  -999.00,9,  -999.00,9,  -999.00,9,  -999.00,9,   -999.0,-999.0000, -999,9,   50,  28.6685,  21.7835,   -999.0,9
       KS05-06,  NONE,KS-1376,  1,     18,02-19377,2,20050723,0936, 13.0075, 149.3232, 5895,     76.5,  28.0995,  34.5186,2,   -999.0,9,-999.0000,9,    207.0,2,     1.01,2,  -999.00,9,     0.00,2,     0.00,2,     0.04,2, -999.000,9, -999.000,9,  -999.00,9,   -999.0,9,   -999.0,9,-999.0000,9,   -999.0,  9,  -999.00,9,   -999.0,  -999.00,9,  -999.00,9,  -999.00,9,  -999.00,9,   -999.0,-999.0000, -999,9,   76,  28.0814,  22.0061,   -999.0,9
       KS05-06,  NONE,KS-1376,  1,     17,02-16023,2,20050723,0933, 13.0075, 149.3232, 5895,     99.8,  27.3962,  34.5877,2,   -999.0,9,  34.5934,4,    213.0,2,     1.05,2,  -999.00,9,     0.00,2,     0.00,2,     0.05,2, -999.000,9, -999.000,9,  -999.00,9,   -999.0,9,   -999.0,9,-999.0000,9,   -999.0,  9,  -999.00,9,   -999.0,  -999.00,9,  -999.00,9,  -999.00,9,  -999.00,9,   -999.0,-999.0000, -999,9,   99,  27.3731,  22.2877,   -999.0,9
       KS05-06,  NONE,KS-1376,  1,     16,02-16022,2,20050723,0932, 13.0075, 149.3232, 5895,    123.1,  26.2831,  34.8500,2,   -999.0,9,-999.0000,9,    201.0,2,     1.09,2,  -999.00,9,     0.00,2,     0.00,2,     0.06,2, -999.000,9, -999.000,9,  -999.00,9,   -999.0,9,   -999.0,9,-999.0000,9,   -999.0,  9,  -999.00,9,   -999.0,  -999.00,9,  -999.00,9,  -999.00,9,  -999.00,9,   -999.0,-999.0000, -999,9,  122,  26.2554,  22.8403,   -999.0,9
       KS05-06,  NONE,KS-1376,  1,     15,02-16021,2,20050723,0931, 13.0075, 149.3232, 5895,    149.4,  24.0904,  35.0692,2,   -999.0,9,-999.0000,9,    188.0,2,     1.51,2,  -999.00,9,     0.39,2,     0.21,2,     0.15,2, -999.000,9, -999.000,9,  -999.00,9,   -999.0,9,   -999.0,9,-999.0000,9,   -999.0,  9,  -999.00,9,   -999.0,  -999.00,9,  -999.00,9,  -999.00,9,  -999.00,9,   -999.0,-999.0000, -999,9,  148,  24.0588,  23.6763,   -999.0,9
       KS05-06,  NONE,KS-1376,  1,     14,02-16020,2,20050723,0930, 13.0075, 149.3232, 5895,    199.4,  19.3259,  34.9295,2,   -999.0,9,  34.9303,2,    171.0,2,     4.04,2,  -999.00,9,     5.17,2,     0.01,2,     0.43,2, -999.000,9, -999.000,9,  -999.00,9,   -999.0,9,   -999.0,9,-999.0000,9,   -999.0,  9,  -999.00,9,   -999.0,  -999.00,9,  -999.00,9,  -999.00,9,  -999.00,9,   -999.0,-999.0000, -999,9,  198,  19.2899,  24.8930,   -999.0,9
       KS05-06,  NONE,KS-1376,  1,     13,02-16019,2,20050723,0929, 13.0075, 149.3232, 5895,    249.5,  14.6429,  34.5300,2,   -999.0,9,-999.0000,9,    187.0,2,     9.32,2,  -999.00,9,    10.14,2,     0.00,2,     0.71,2, -999.000,9, -999.000,9,  -999.00,9,   -999.0,9,   -999.0,9,-999.0000,9,   -999.0,  9,  -999.00,9,   -999.0,  -999.00,9,  -999.00,9,  -999.00,9,  -999.00,9,   -999.0,-999.0000, -999,9,  248,  14.6058,  25.6951,   -999.0,9
       KS05-06,  NONE,KS-1376,  1,     12,02-16018,2,20050723,0927, 13.0075, 149.3232, 5895,    300.5,  11.9784,  34.3328,2,   -999.0,9,  34.3331,2,    175.0,2,    17.72,2,  -999.00,9,    15.98,2,     0.00,2,     1.13,2, -999.000,9, -999.000,9,  -999.00,9,   -999.0,9,   -999.0,9,-999.0000,9,   -999.0,  9,  -999.00,9,   -999.0,  -999.00,9,  -999.00,9,  -999.00,9,  -999.00,9,   -999.0,-999.0000, -999,9,  299,  11.9394,  26.0824,   -999.0,9
       KS05-06,  NONE,KS-1376,  1,     11,02-19376,2,20050723,0924, 13.0075, 149.3232, 5895,    402.4,   9.0372,  34.4608,2,   -999.0,9,  34.4616,2,     74.0,2,    41.01,2,  -999.00,9,    31.75,2,     0.00,2,     2.28,2, -999.000,9, -999.000,9,  -999.00,9,   -999.0,9,   -999.0,9,-999.0000,9,   -999.0,  9,  -999.00,9,   -999.0,  -999.00,9,  -999.00,9,  -999.00,9,  -999.00,9,   -999.0,-999.0000, -999,9,  400,   8.9932,  26.6970,   -999.0,9
       KS05-06,  NONE,KS-1376,  1,     10,02-19375,2,20050723,0922, 13.0075, 149.3232, 5895,    503.1,   7.5030,  34.4796,2,   -999.0,9,  34.4799,2,     65.0,2,    53.37,2,  -999.00,9,    35.44,2,     0.00,2,     2.55,2, -999.000,9, -999.000,9,  -999.00,9,   -999.0,9,   -999.0,9,-999.0000,9,   -999.0,  9,  -999.00,9,   -999.0,  -999.00,9,  -999.00,9,  -999.00,9,  -999.00,9,   -999.0,-999.0000, -999,9,  500,   7.4533,  26.9450,   -999.0,9
       KS05-06,  NONE,KS-1376,  1,      9,02-16015,2,20050723,0920, 13.0075, 149.3232, 5895,    603.0,   6.8985,  34.5070,2,   -999.0,9,  34.5070,2,     74.0,2,    57.51,2,  -999.00,9,    36.12,2,     0.00,2,     2.59,2, -999.000,9, -999.000,9,  -999.00,9,   -999.0,9,   -999.0,9,-999.0000,9,   -999.0,  9,  -999.00,9,   -999.0,  -999.00,9,  -999.00,9,  -999.00,9,  -999.00,9,   -999.0,-999.0000, -999,9,  599,   6.8413,  27.0523,   -999.0,9
       KS05-06,  NONE,KS-1376,  1,      8,02-16014,2,20050723,0917, 13.0075, 149.3232, 5895,    703.7,   6.2366,  34.5092,2,   -999.0,9,  34.5097,2,     70.0,2,    66.21,2,  -999.00,9,    37.68,2,     0.00,2,     2.72,2, -999.000,9, -999.000,9,  -999.00,9,   -999.0,9,   -999.0,9,-999.0000,9,   -999.0,  9,  -999.00,9,   -999.0,  -999.00,9,  -999.00,9,  -999.00,9,  -999.00,9,   -999.0,-999.0000, -999,9,  698,   6.1728,  27.1427,   -999.0,9
       KS05-06,  NONE,KS-1376,  1,      7,02-19374,2,20050723,0915, 13.0075, 149.3232, 5895,    804.2,   5.6697,  34.5192,2,   -999.0,9,  34.5188,2,     74.0,2,    73.80,2,  -999.00,9,    38.26,2,     0.00,2,     2.75,2, -999.000,9, -999.000,9,  -999.00,9,   -999.0,9,   -999.0,9,-999.0000,9,   -999.0,  9,  -999.00,9,   -999.0,  -999.00,9,  -999.00,9,  -999.00,9,  -999.00,9,   -999.0,-999.0000, -999,9,  798,   5.5997,  27.2227,   -999.0,9
       KS05-06,  NONE,KS-1376,  1,      6,02-19373,2,20050723,0912, 13.0075, 149.3232, 5895,    905.9,   5.0007,  34.5086,2,   -999.0,9,  34.5082,2,     78.0,2,    87.52,2,  -999.00,9,    38.45,2,     0.00,2,     2.76,2, -999.000,9, -999.000,9,  -999.00,9,   -999.0,9,   -999.0,9,-999.0000,9,   -999.0,  9,  -999.00,9,   -999.0,  -999.00,9,  -999.00,9,  -999.00,9,  -999.00,9,   -999.0,-999.0000, -999,9,  899,   4.9258,  27.2942,   -999.0,9
       KS05-06,  NONE,KS-1376,  1,      5,02-16011,2,20050723,0910, 13.0075, 149.3232, 5895,   1006.8,   4.6799,  34.5228,2,   -999.0,9,  34.5227,2,     80.0,2,    92.98,2,  -999.00,9,    38.74,2,     0.00,2,     2.78,2, -999.000,9, -999.000,9,  -999.00,9,   -999.0,9,   -999.0,9,-999.0000,9,   -999.0,  9,  -999.00,9,   -999.0,  -999.00,9,  -999.00,9,  -999.00,9,  -999.00,9,   -999.0,-999.0000, -999,9,  999,   4.5984,  27.3424,   -999.0,9
       KS05-06,  NONE,KS-1376,  1,      4,02-16010,2,20050723,0905, 13.0075, 149.3232, 5895,   1260.2,   3.7148,  34.5634,2,   -999.0,9,  34.5624,2,     82.0,2,   111.92,2,  -999.00,9,    40.00,2,     0.00,2,     2.87,2, -999.000,9, -999.000,9,  -999.00,9,   -999.0,9,   -999.0,9,-999.0000,9,   -999.0,  9,  -999.00,9,   -999.0,  -999.00,9,  -999.00,9,  -999.00,9,  -999.00,9,   -999.0,-999.0000, -999,9, 1249,   3.6196,  27.4775,   -999.0,9
       KS05-06,  NONE,KS-1376,  1,      3,02-16009,2,20050723,0859, 13.0075, 149.3232, 5895,   1513.2,   3.0412,  34.5849,2,   -999.0,9,  34.5842,2,     91.0,2,   125.94,2,  -999.00,9,    39.71,2,     0.00,2,     2.84,2, -999.000,9, -999.000,9,  -999.00,9,   -999.0,9,   -999.0,9,-999.0000,9,   -999.0,  9,  -999.00,9,   -999.0,  -999.00,9,  -999.00,9,  -999.00,9,  -999.00,9,   -999.0,-999.0000, -999,9, 1499,   2.9318,  27.5600,   -999.0,9
       KS05-06,  NONE,KS-1376,  1,      2,02-16008,2,20050723,0854, 13.0075, 149.3232, 5895,   1765.6,   2.5344,  34.6080,2,   -999.0,9,  34.6064,2,    102.0,2,   134.41,2,  -999.00,9,    39.41,2,     0.00,2,     2.79,2, -999.000,9, -999.000,9,  -999.00,9,   -999.0,9,   -999.0,9,-999.0000,9,   -999.0,  9,  -999.00,9,   -999.0,  -999.00,9,  -999.00,9,  -999.00,9,  -999.00,9,   -999.0,-999.0000, -999,9, 1748,   2.4100,  27.6241,   -999.0,9
       KS05-06,  NONE,KS-1376,  1,      1,02-16007,2,20050723,0849, 13.0075, 149.3232, 5895,   2020.2,   2.2096,  34.6269,2,   -999.0,9,  34.6258,2,    112.0,2,   140.88,2,  -999.00,9,    39.02,2,     0.00,2,     2.76,2, -999.000,9, -999.000,9,  -999.00,9,   -999.0,9,   -999.0,9,-999.0000,9,   -999.0,  9,  -999.00,9,   -999.0,  -999.00,9,  -999.00,9,  -999.00,9,  -999.00,9,   -999.0,-999.0000, -999,9, 1999,   2.0683,  27.6673,   -999.0,9