BOTTLE,20130510GEMDJMAYT
EXPOCODE,SECT_ID,STNNBR,CASTNO,SAMPNO,BTLNBR,BTLNBR_FLAG_W,DATE,TIME,LATITUDE,LONGITUDE,DEPTH,CTDPRS,CTDTMP,CTDSAL,CTDSAL_FLAG_W,CTDOXY,CTDOXY_FLAG_W,SALNTY,SALNTY_FLAG_W,OXYGEN,OXYGEN_FLAG_W,SILCAT,SILCAT_FLAG_W,NITRAT,NITRAT_FLAG_W,NO2+NO3,NO2+NO3_FLAG_W,NITRIT,NITRIT_FLAG_W,PHSPHT,PHSPHT_FLAG_W,CFC-11,CFC-11_FLAG_W,CFC-12,CFC-12_FLAG_W,DELC13,DELC13_FLAG_W,TCARBN,TCARBN_FLAG_W,ALKALI,ALKALI_FLAG_W,PH,PH_FLAG_W,PH_TMP,PH_SCALE,PH_NBS,PH_NBS_FLAG_W,C13ERR,TOTALP,TOTALP_FLAG_W,AMMONI,AMMONI_FLAG_W,CHLORA,CHLORA_FLAG_W,PPHYTN,PPHYTN_FLAG_W,REVPRS,REVTMP,DEPTH_,DEPTH_FLAG,CTDDEP,THETA,SIGTHT,DOC,DOC_FLAG_W
,,,,,,,GMT,GMT,,,METER,DBAR,ITS-90,PSS-78,,UMOL/KG,,PSS-78,,UMOL/KG,,UMOL/KG,,UMOL/KG,,UMOL/KG,,UMOL/KG,,UMOL/KG,,PMOL/KG,,PMOL/KG,,/MILLE,,UMOL/KG,,UMOL/KG,,25_DEG_C,,DEG_C,,,,/MILLE,UMOL/KG,,UMOL/KG,,UG/L,,UG/L,,DBAR,ITS-90,METERS,,METERS,DEG_C,,UMOL/L,
       KS05-06,  165E,KS-1324,  1,     24,02-16030,2,20050624,2116, 23.0042, 164.9953, 5807,      4.4,  28.8316,  35.2019,2,   -999.0,9,  35.2032,2,    200.0,2,     1.06,2,  -999.00,9,     0.00,2,     0.00,2,     0.01,2, -999.000,9, -999.000,9,  -999.00,9,   1969.8,3,   -999.0,9,-999.0000,9,   -999.0,  9,     8.22,2,   -999.0,  -999.00,9,  -999.00,9,     0.04,2,     0.02,2,   -999.0,-999.0000, -999,9,    4,  28.8305,  22.2723,   -999.0,9
       KS05-06,  165E,KS-1324,  1,     23,02-19380,2,20050624,2115, 23.0042, 164.9953, 5807,     10.1,  28.8218,  35.2008,2,   -999.0,9,-999.0000,9,    201.0,2,     1.15,2,  -999.00,9,     0.00,2,     0.00,2,     0.00,2, -999.000,9, -999.000,9,  -999.00,9,   1960.3,3,   -999.0,9,-999.0000,9,   -999.0,  9,     8.22,2,   -999.0,  -999.00,9,  -999.00,9,     0.05,2,     0.02,2,   -999.0,-999.0000, -999,9,   10,  28.8194,  22.2752,   -999.0,9
       KS05-06,  165E,KS-1324,  1,     22,02-19379,2,20050624,2114, 23.0042, 164.9953, 5807,     25.2,  28.2006,  35.2034,2,   -999.0,9,-999.0000,9,    211.0,2,     1.13,2,  -999.00,9,     0.00,2,     0.00,2,     0.00,2, -999.000,9, -999.000,9,  -999.00,9,   1962.2,3,   -999.0,9,-999.0000,9,   -999.0,  9,     8.22,2,   -999.0,  -999.00,9,  -999.00,9,     0.06,2,     0.03,2,   -999.0,-999.0000, -999,9,   25,  28.1946,  22.4838,   -999.0,9
       KS05-06,  165E,KS-1324,  1,     21,02-16027,2,20050624,2112, 23.0042, 164.9953, 5807,     49.7,  25.4808,  35.1992,2,   -999.0,9,-999.0000,9,    220.0,2,     1.18,2,  -999.00,9,     0.00,2,     0.00,2,     0.00,2, -999.000,9, -999.000,9,  -999.00,9,   1977.9,3,   -999.0,9,-999.0000,9,   -999.0,  9,     8.22,2,   -999.0,  -999.00,9,  -999.00,9,  -999.00,4,  -999.00,4,   -999.0,-999.0000, -999,9,   49,  25.4699,  23.3480,   -999.0,9
       KS05-06,  165E,KS-1324,  1,     20,02-16026,2,20050624,2110, 23.0042, 164.9953, 5807,     73.6,  24.3768,  35.2919,2,   -999.0,9,-999.0000,9,    217.0,2,     1.22,2,  -999.00,9,     0.00,2,     0.00,2,     0.00,2, -999.000,9, -999.000,9,  -999.00,9,   1977.3,3,   -999.0,9,-999.0000,9,   -999.0,  9,     8.20,2,   -999.0,  -999.00,9,  -999.00,9,     0.09,2,     0.05,2,   -999.0,-999.0000, -999,9,   73,  24.3611,  23.7548,   -999.0,9
       KS05-06,  165E,KS-1324,  1,     19,02-19378,2,20050624,2109, 23.0042, 164.9953, 5807,    100.1,  23.4060,  35.2506,2,   -999.0,9,  35.2723,4,    215.0,2,     1.32,2,  -999.00,9,     0.00,2,     0.00,2,     0.00,2, -999.000,9, -999.000,9,  -999.00,9,   1986.2,3,   -999.0,9,-999.0000,9,   -999.0,  9,     8.20,2,   -999.0,  -999.00,9,  -999.00,9,     0.13,2,     0.12,2,   -999.0,-999.0000, -999,9,   99,  23.3853,  24.0119,   -999.0,9
       KS05-06,  165E,KS-1324,  1,     18,02-19377,2,20050624,2108, 23.0042, 164.9953, 5807,    124.6,  21.8315,  35.1650,2,   -999.0,9,-999.0000,9,    212.0,2,     1.68,2,  -999.00,9,     0.00,2,     0.03,2,     0.02,2, -999.000,9, -999.000,9,  -999.00,9,   1998.6,3,   -999.0,9,-999.0000,9,   -999.0,  9,     8.16,2,   -999.0,  -999.00,9,  -999.00,9,     0.11,2,     0.41,2,   -999.0,-999.0000, -999,9,  124,  21.8070,  24.3972,   -999.0,9
       KS05-06,  165E,KS-1324,  1,     17,02-16023,2,20050624,2107, 23.0042, 164.9953, 5807,    149.9,  20.9133,  35.1018,2,   -999.0,9,-999.0000,9,    208.0,2,     1.98,2,  -999.00,9,     0.39,2,     0.17,2,     0.05,2, -999.000,9, -999.000,9,  -999.00,9,   2007.1,3,   -999.0,9,-999.0000,9,   -999.0,  9,     8.14,2,   -999.0,  -999.00,9,  -999.00,9,     0.07,2,     0.28,2,   -999.0,-999.0000, -999,9,  149,  20.8847,  24.6027,   -999.0,9
       KS05-06,  165E,KS-1324,  1,     16,02-16022,2,20050624,2106, 23.0042, 164.9953, 5807,    199.2,  19.3379,  34.9859,2,   -999.0,9,  34.9697,4,    206.0,2,     2.77,2,  -999.00,9,     1.95,2,     0.01,2,     0.15,2, -999.000,9, -999.000,9,  -999.00,9,   2021.3,3,   -999.0,9,-999.0000,9,   -999.0,  9,     8.10,2,   -999.0,  -999.00,9,  -999.00,9,     0.01,2,     0.05,2,   -999.0,-999.0000, -999,9,  198,  19.3019,  24.9330,   -999.0,9
       KS05-06,  165E,KS-1324,  1,     15,02-16021,2,20050624,2104, 23.0042, 164.9953, 5807,    250.5,  17.1304,  34.7742,2,   -999.0,9,-999.0000,9,    204.0,2,     4.34,2,  -999.00,9,     4.88,2,     0.00,2,     0.31,2, -999.000,9, -999.000,9,  -999.00,9,   2039.1,3,   -999.0,9,-999.0000,9,   -999.0,  9,     8.05,2,   -999.0,  -999.00,9,  -999.00,9,     0.00,2,     0.01,2,   -999.0,-999.0000, -999,9,  249,  17.0889,  25.3198,   -999.0,9
       KS05-06,  165E,KS-1324,  1,     14,02-16020,2,20050624,2102, 23.0042, 164.9953, 5807,    302.0,  15.6948,  34.6343,2,   -999.0,9,  34.6319,2,    206.0,2,     6.29,2,  -999.00,9,     6.73,2,     0.00,2,     0.43,2, -999.000,9, -999.000,9,  -999.00,9,   2047.5,3,   -999.0,9,-999.0000,9,   -999.0,  9,     8.03,2,   -999.0,  -999.00,9,  -999.00,9,     0.00,2,     0.00,2,   -999.0,-999.0000, -999,9,  300,  15.6476,  25.5461,   -999.0,9
       KS05-06,  165E,KS-1324,  1,     13,02-16019,2,20050624,2100, 23.0042, 164.9953, 5807,    403.3,  12.3895,  34.3496,2,   -999.0,9,  34.3484,2,    205.0,2,    13.58,2,  -999.00,9,    12.28,2,     0.00,2,     0.82,2, -999.000,9, -999.000,9,  -999.00,9,   2090.9,3,   -999.0,9,-999.0000,9,   -999.0,  9,     7.94,2,   -999.0,  -999.00,9,  -999.00,9,  -999.00,9,  -999.00,9,   -999.0,-999.0000, -999,9,  400,  12.3357,  26.0196,   -999.0,9
       KS05-06,  165E,KS-1324,  1,     12,02-16018,2,20050624,2057, 23.0042, 164.9953, 5807,    504.1,   9.7036,  34.1778,2,   -999.0,9,  34.1777,2,    179.0,2,    26.57,2,  -999.00,9,    19.68,2,     0.00,2,     1.34,2, -999.000,9, -999.000,9,  -999.00,9,   -999.0,9,   -999.0,9,-999.0000,9,   -999.0,  9,     7.83,2,   -999.0,  -999.00,9,  -999.00,9,  -999.00,9,  -999.00,9,   -999.0,-999.0000, -999,9,  500,   9.6459,  26.3693,   -999.0,9
       KS05-06,  165E,KS-1324,  1,     11,02-19376,2,20050624,2055, 23.0042, 164.9953, 5807,    604.2,   7.5082,  34.0932,2,   -999.0,9,  34.0882,4,    134.0,2,    47.69,2,  -999.00,9,    28.25,2,     0.00,2,     1.99,2, -999.000,9, -999.000,9,  -999.00,9,   2204.6,3,   -999.0,9,-999.0000,9,   -999.0,  9,     7.68,2,   -999.0,  -999.00,9,  -999.00,9,  -999.00,9,  -999.00,9,   -999.0,-999.0000, -999,9,  599,   7.4485,  26.6417,   -999.0,9
       KS05-06,  165E,KS-1324,  1,     10,02-19375,2,20050624,2052, 23.0042, 164.9953, 5807,    705.9,   5.8450,  34.1095,2,   -999.0,9,  34.1111,2,     88.0,2,    71.41,2,  -999.00,9,    35.16,2,     0.00,2,     2.52,2, -999.000,9, -999.000,9,  -999.00,9,   -999.0,9,   -999.0,9,-999.0000,9,   -999.0,  9,     7.56,2,   -999.0,  -999.00,9,  -999.00,9,  -999.00,9,  -999.00,9,   -999.0,-999.0000, -999,9,  700,   5.7836,  26.8760,   -999.0,9
       KS05-06,  165E,KS-1324,  1,      9,02-16015,2,20050624,2050, 23.0042, 164.9953, 5807,    803.8,   4.7616,  34.1998,2,   -999.0,9,  34.1983,2,     57.0,2,    93.37,2,  -999.00,9,    39.34,2,     0.00,2,     2.83,2, -999.000,9, -999.000,9,  -999.00,9,   2310.0,3,   -999.0,9,-999.0000,9,   -999.0,  9,     7.49,2,   -999.0,  -999.00,9,  -999.00,9,  -999.00,9,  -999.00,9,   -999.0,-999.0000, -999,9,  797,   4.6976,  27.0750,   -999.0,9
       KS05-06,  165E,KS-1324,  1,      8,02-16014,2,20050624,2047, 23.0042, 164.9953, 5807,    906.4,   4.4558,  34.3388,2,   -999.0,9,  34.3378,2,     48.0,2,   101.64,2,  -999.00,9,    40.89,2,     0.00,2,     2.95,2, -999.000,9, -999.000,9,  -999.00,9,   -999.0,9,   -999.0,9,-999.0000,9,   -999.0,  9,     7.49,2,   -999.0,  -999.00,9,  -999.00,9,  -999.00,9,  -999.00,9,   -999.0,-999.0000, -999,9,  899,   4.3849,  27.2196,   -999.0,9
       KS05-06,  165E,KS-1324,  1,      7,02-19374,2,20050624,2045, 23.0042, 164.9953, 5807,   1007.7,   4.0873,  34.4074,2,   -999.0,9,  34.4069,2,     50.0,2,   110.04,2,  -999.00,9,    41.18,2,     0.00,2,     2.97,2, -999.000,9, -999.000,9,  -999.00,9,   2337.2,3,   -999.0,9,-999.0000,9,   -999.0,  9,     7.49,2,   -999.0,  -999.00,9,  -999.00,9,  -999.00,9,  -999.00,9,   -999.0,-999.0000, -999,9,  999,   4.0105,  27.3137,   -999.0,9
       KS05-06,  165E,KS-1324,  1,      6,02-19373,2,20050624,2040, 23.0042, 164.9953, 5807,   1260.2,   3.3147,  34.5115,2,   -999.0,9,  34.5101,2,     67.0,2,   124.63,2,  -999.00,9,    40.68,2,     0.00,2,     2.91,2, -999.000,9, -999.000,9,  -999.00,9,   2333.9,3,   -999.0,9,-999.0000,9,   -999.0,  9,     7.53,2,   -999.0,  -999.00,9,  -999.00,9,  -999.00,9,  -999.00,9,   -999.0,-999.0000, -999,9, 1248,   3.2235,  27.4744,   -999.0,9
       KS05-06,  165E,KS-1324,  1,      5,02-16011,2,20050624,2034, 23.0042, 164.9953, 5807,   1513.9,   2.7491,  34.5551,2,   -999.0,9,  34.5537,2,     80.0,2,   135.76,2,  -999.00,9,    39.90,2,     0.00,2,     2.84,2, -999.000,9, -999.000,9,  -999.00,9,   2341.7,3,   -999.0,9,-999.0000,9,   -999.0,  9,     7.55,2,   -999.0,  -999.00,9,  -999.00,9,  -999.00,9,  -999.00,9,   -999.0,-999.0000, -999,9, 1499,   2.6431,  27.5619,   -999.0,9
       KS05-06,  165E,KS-1324,  1,      4,02-16010,2,20050624,2028, 23.0042, 164.9953, 5807,   1768.2,   2.3153,  34.5869,2,   -999.0,9,  34.5873,2,     91.0,2,   143.56,2,  -999.00,9,    39.90,2,     0.00,2,     2.82,2, -999.000,9, -999.000,9,  -999.00,9,   -999.0,9,   -999.0,9,-999.0000,9,   -999.0,  9,     7.57,2,   -999.0,  -999.00,9,  -999.00,9,  -999.00,9,  -999.00,9,   -999.0,-999.0000, -999,9, 1750,   2.1938,  27.6251,   -999.0,9
       KS05-06,  165E,KS-1324,  1,      3,02-16009,9,20050624,2023, 23.0042, 164.9953, 5807,   2021.1,   2.0279,  34.6141,2,   -999.0,9,-999.0000,9,   -999.0,9,  -999.00,9,  -999.00,9,  -999.00,9,  -999.00,9,  -999.00,9, -999.000,9, -999.000,9,  -999.00,9,   -999.0,9,   -999.0,9,-999.0000,9,   -999.0,  9,  -999.00,9,   -999.0,  -999.00,9,  -999.00,9,  -999.00,9,  -999.00,9,   -999.0,-999.0000, -999,9, 1999,   1.8893,  27.6712,   -999.0,9
       KS05-06,  165E,KS-1324,  1,      2,02-16008,9,20050624,2023, 23.0042, 164.9953, 5807,   2020.7,   2.0264,  34.6142,2,   -999.0,9,-999.0000,9,   -999.0,9,  -999.00,9,  -999.00,9,  -999.00,9,  -999.00,9,  -999.00,9, -999.000,9, -999.000,9,  -999.00,9,   -999.0,9,   -999.0,9,-999.0000,9,   -999.0,  9,  -999.00,9,   -999.0,  -999.00,9,  -999.00,9,  -999.00,9,  -999.00,9,   -999.0,-999.0000, -999,9, 1998,   1.8879,  27.6713,   -999.0,9
       KS05-06,  165E,KS-1324,  1,      1,02-16007,2,20050624,2023, 23.0042, 164.9953, 5807,   2021.5,   2.0257,  34.6142,2,   -999.0,9,  34.6136,2,    101.0,2,   149.27,2,  -999.00,9,    39.41,2,     0.00,2,     2.77,2, -999.000,9, -999.000,9,  -999.00,9,   2344.9,9,   -999.0,9,-999.0000,9,   -999.0,  9,     7.59,2,   -999.0,  -999.00,9,  -999.00,9,  -999.00,9,  -999.00,9,   -999.0,-999.0000, -999,9, 1999,   1.8871,  27.6715,   -999.0,9
       KS05-06,  165E,KS-1325,  1,      2,02-16008,9,20050625,0325, 21.9965, 164.9932, 5448,      4.2,  29.2557,  35.1831,2,   -999.0,9,-999.0000,9,   -999.0,9,  -999.00,9,  -999.00,9,  -999.00,9,  -999.00,9,  -999.00,9, -999.000,9, -999.000,9,  -999.00,9,   -999.0,9,   -999.0,9,-999.0000,9,   -999.0,  9,  -999.00,9,   -999.0,  -999.00,9,  -999.00,9,  -999.00,9,  -999.00,9,   -999.0,-999.0000, -999,9,    4,  29.2547,  22.1161,   -999.0,9
       KS05-06,  165E,KS-1325,  1,      1,02-16007,2,20050625,0325, 21.9965, 164.9932, 5448,      4.4,  29.1689,  35.1789,2,   -999.0,9,-999.0000,9,   -999.0,9,     1.08,2,  -999.00,9,     0.00,2,     0.00,2,     0.00,2, -999.000,9, -999.000,9,  -999.00,9,   1963.3,3,   -999.0,9,-999.0000,9,   -999.0,  9,  -999.00,9,   -999.0,  -999.00,9,  -999.00,9,     0.04,2,     0.02,2,   -999.0,-999.0000, -999,9,    4,  29.1678,  22.1422,   -999.0,9
       KS05-06,  165E,KS-1326,  1,     -9,      -9,5,20050625,0954, 21.0063, 164.9947, 5508,      0.0,  28.9427,  35.1979,2,   -999.0,9,-999.0000,9,   -999.0,9,     1.08,2,  -999.00,9,     0.00,2,     0.00,2,     0.00,2, -999.000,9, -999.000,9,  -999.00,9,   -999.0,9,   -999.0,9,-999.0000,9,   -999.0,  9,  -999.00,9,   -999.0,  -999.00,9,  -999.00,9,     0.03,2,     0.01,2,   -999.0,-999.0000, -999,9,    0,  28.9426,  22.2319,   -999.0,9
       KS05-06,  165E,KS-1326,  1,      2,02-16008,9,20050625,1001, 21.0063, 164.9947, 5508,      4.3,  28.9484,  35.1992,2,   -999.0,9,-999.0000,9,   -999.0,9,  -999.00,9,  -999.00,9,  -999.00,9,  -999.00,9,  -999.00,9, -999.000,9, -999.000,9,  -999.00,9,   -999.0,9,   -999.0,9,-999.0000,9,   -999.0,  9,  -999.00,9,   -999.0,  -999.00,9,  -999.00,9,  -999.00,9,  -999.00,9,   -999.0,-999.0000, -999,9,    4,  28.9474,  22.2313,   -999.0,9
       KS05-06,  165E,KS-1326,  1,      1,02-16007,2,20050625,1001, 21.0063, 164.9947, 5508,      4.3,  28.9488,  35.1991,2,   -999.0,9,  35.1957,2,   -999.0,9,     1.08,2,  -999.00,9,     0.00,2,     0.00,2,     0.00,2, -999.000,9, -999.000,9,  -999.00,9,   1960.6,3,   -999.0,9,-999.0000,9,   -999.0,  9,  -999.00,9,   -999.0,  -999.00,9,  -999.00,9,     0.00,2,     0.00,2,   -999.0,-999.0000, -999,9,    4,  28.9478,  22.2311,   -999.0,9