BOTTLE,20130510GEMDJMAYT
EXPOCODE,SECT_ID,STNNBR,CASTNO,SAMPNO,BTLNBR,BTLNBR_FLAG_W,DATE,TIME,LATITUDE,LONGITUDE,DEPTH,CTDPRS,CTDTMP,CTDSAL,CTDSAL_FLAG_W,CTDOXY,CTDOXY_FLAG_W,SALNTY,SALNTY_FLAG_W,OXYGEN,OXYGEN_FLAG_W,SILCAT,SILCAT_FLAG_W,NITRAT,NITRAT_FLAG_W,NO2+NO3,NO2+NO3_FLAG_W,NITRIT,NITRIT_FLAG_W,PHSPHT,PHSPHT_FLAG_W,CFC-11,CFC-11_FLAG_W,CFC-12,CFC-12_FLAG_W,DELC13,DELC13_FLAG_W,TCARBN,TCARBN_FLAG_W,ALKALI,ALKALI_FLAG_W,PH,PH_FLAG_W,PH_TMP,PH_SCALE,PH_NBS,PH_NBS_FLAG_W,C13ERR,TOTALP,TOTALP_FLAG_W,AMMONI,AMMONI_FLAG_W,CHLORA,CHLORA_FLAG_W,PPHYTN,PPHYTN_FLAG_W,REVPRS,REVTMP,DEPTH_,DEPTH_FLAG,CTDDEP,THETA,SIGTHT,DOC,DOC_FLAG_W
,,,,,,,GMT,GMT,,,METER,DBAR,ITS-90,PSS-78,,UMOL/KG,,PSS-78,,UMOL/KG,,UMOL/KG,,UMOL/KG,,UMOL/KG,,UMOL/KG,,UMOL/KG,,PMOL/KG,,PMOL/KG,,/MILLE,,UMOL/KG,,UMOL/KG,,25_DEG_C,,DEG_C,,,,/MILLE,UMOL/KG,,UMOL/KG,,UG/L,,UG/L,,DBAR,ITS-90,METERS,,METERS,DEG_C,,UMOL/L,
       KS05-06,  NONE,KS-1373,  1,     24,02-16030,9,20050722,1539, 10.0018, 149.3180, 5518,      4.7,  29.6947,  33.9762,2,   -999.0,9,-999.0000,9,   -999.0,9,  -999.00,9,  -999.00,9,  -999.00,9,  -999.00,9,  -999.00,9, -999.000,9, -999.000,9,  -999.00,9,   -999.0,9,   -999.0,9,-999.0000,9,   -999.0,  9,  -999.00,9,   -999.0,  -999.00,9,  -999.00,9,  -999.00,9,  -999.00,9,   -999.0,-999.0000, -999,9,    5,  29.6936,  21.0628,   -999.0,9
       KS05-06,  NONE,KS-1373,  1,     23,02-19380,9,20050722,1538, 10.0018, 149.3180, 5518,      4.6,  29.6949,  33.9762,2,   -999.0,9,-999.0000,9,   -999.0,9,  -999.00,9,  -999.00,9,  -999.00,9,  -999.00,9,  -999.00,9, -999.000,9, -999.000,9,  -999.00,9,   -999.0,9,   -999.0,9,-999.0000,9,   -999.0,  9,  -999.00,9,   -999.0,  -999.00,9,  -999.00,9,  -999.00,9,  -999.00,9,   -999.0,-999.0000, -999,9,    5,  29.6938,  21.0628,   -999.0,9
       KS05-06,  NONE,KS-1373,  1,     22,02-19379,2,20050722,1538, 10.0018, 149.3180, 5518,      4.0,  29.6947,  33.9761,2,   -999.0,9,  33.9798,2,    197.0,2,     1.03,2,  -999.00,9,     0.00,2,     0.00,2,     0.06,2, -999.000,9, -999.000,9,  -999.00,9,   -999.0,9,   -999.0,9,-999.0000,9,   -999.0,  9,  -999.00,9,   -999.0,  -999.00,9,  -999.00,9,  -999.00,9,  -999.00,9,   -999.0,-999.0000, -999,9,    4,  29.6937,  21.0627,   -999.0,9
       KS05-06,  NONE,KS-1373,  1,     21,02-16027,2,20050722,1537, 10.0018, 149.3180, 5518,      8.8,  29.6982,  33.9760,2,   -999.0,9,-999.0000,9,    197.0,2,     1.01,2,  -999.00,9,     0.00,2,     0.00,2,     0.06,2, -999.000,9, -999.000,9,  -999.00,9,   -999.0,9,   -999.0,9,-999.0000,9,   -999.0,  9,  -999.00,9,   -999.0,  -999.00,9,  -999.00,9,  -999.00,9,  -999.00,9,   -999.0,-999.0000, -999,9,    9,  29.6960,  21.0618,   -999.0,9
       KS05-06,  NONE,KS-1373,  1,     20,02-16026,2,20050722,1536, 10.0018, 149.3180, 5518,     24.3,  29.6758,  33.9795,2,   -999.0,9,-999.0000,9,    198.0,2,     1.05,2,  -999.00,9,     0.00,2,     0.00,2,     0.06,2, -999.000,9, -999.000,9,  -999.00,9,   -999.0,9,   -999.0,9,-999.0000,9,   -999.0,  9,  -999.00,9,   -999.0,  -999.00,9,  -999.00,9,  -999.00,9,  -999.00,9,   -999.0,-999.0000, -999,9,   24,  29.6698,  21.0733,   -999.0,9
       KS05-06,  NONE,KS-1373,  1,     19,02-19378,2,20050722,1532, 10.0018, 149.3180, 5518,     49.0,  29.3607,  34.1051,2,   -999.0,9,-999.0000,9,    200.0,2,     1.09,2,  -999.00,9,     0.00,2,     0.00,2,     0.05,2, -999.000,9, -999.000,9,  -999.00,9,   -999.0,9,   -999.0,9,-999.0000,9,   -999.0,  9,  -999.00,9,   -999.0,  -999.00,9,  -999.00,9,  -999.00,9,  -999.00,9,   -999.0,-999.0000, -999,9,   49,  29.3488,  21.2757,   -999.0,9
       KS05-06,  NONE,KS-1373,  1,     18,02-19377,2,20050722,1531, 10.0018, 149.3180, 5518,     74.7,  28.8566,  34.3544,2,   -999.0,9,-999.0000,9,    200.0,2,     1.13,2,  -999.00,9,     0.00,2,     0.00,2,     0.07,2, -999.000,9, -999.000,9,  -999.00,9,   -999.0,9,   -999.0,9,-999.0000,9,   -999.0,  9,  -999.00,9,   -999.0,  -999.00,9,  -999.00,9,  -999.00,9,  -999.00,9,   -999.0,-999.0000, -999,9,   74,  28.8386,  21.6331,   -999.0,9
       KS05-06,  NONE,KS-1373,  1,     17,02-16023,2,20050722,1530, 10.0018, 149.3180, 5518,    100.1,  27.7676,  34.4330,2,   -999.0,9,  34.4383,4,    200.0,2,     1.22,2,  -999.00,9,     0.00,2,     0.00,2,     0.07,2, -999.000,9, -999.000,9,  -999.00,9,   -999.0,9,   -999.0,9,-999.0000,9,   -999.0,  9,  -999.00,9,   -999.0,  -999.00,9,  -999.00,9,  -999.00,9,  -999.00,9,   -999.0,-999.0000, -999,9,  100,  27.7442,  22.0515,   -999.0,9
       KS05-06,  NONE,KS-1373,  1,     16,02-16022,2,20050722,1529, 10.0018, 149.3180, 5518,    125.5,  24.4499,  34.7374,2,   -999.0,9,-999.0000,9,    186.0,2,     2.32,2,  -999.00,9,     0.29,2,     0.09,2,     0.21,2, -999.000,9, -999.000,9,  -999.00,9,   -999.0,9,   -999.0,9,-999.0000,9,   -999.0,  9,  -999.00,9,   -999.0,  -999.00,9,  -999.00,9,  -999.00,9,  -999.00,9,   -999.0,-999.0000, -999,9,  125,  24.4232,  23.3167,   -999.0,9
       KS05-06,  NONE,KS-1373,  1,     15,02-16021,2,20050722,1528, 10.0018, 149.3180, 5518,    150.5,  20.6172,  34.9492,2,   -999.0,9,-999.0000,9,    172.0,2,     3.41,2,  -999.00,9,     3.61,2,     0.03,2,     0.39,2, -999.000,9, -999.000,9,  -999.00,9,   -999.0,9,   -999.0,9,-999.0000,9,   -999.0,  9,  -999.00,9,   -999.0,  -999.00,9,  -999.00,9,  -999.00,9,  -999.00,9,   -999.0,-999.0000, -999,9,  150,  20.5888,  24.5664,   -999.0,9
       KS05-06,  NONE,KS-1373,  1,     14,02-16020,2,20050722,1526, 10.0018, 149.3180, 5518,    200.2,  14.4531,  34.5292,2,   -999.0,9,  34.5337,2,    147.0,2,    12.50,2,  -999.00,9,    14.33,2,     0.01,2,     1.05,2, -999.000,9, -999.000,9,  -999.00,9,   -999.0,9,   -999.0,9,-999.0000,9,   -999.0,  9,  -999.00,9,   -999.0,  -999.00,9,  -999.00,9,  -999.00,9,  -999.00,9,   -999.0,-999.0000, -999,9,  199,  14.4237,  25.7336,   -999.0,9
       KS05-06,  NONE,KS-1373,  1,     13,02-16019,2,20050722,1524, 10.0018, 149.3180, 5518,    251.6,  11.2587,  34.5032,2,   -999.0,9,-999.0000,9,     89.0,2,    27.62,2,  -999.00,9,    26.31,2,     0.00,2,     1.90,2, -999.000,9, -999.000,9,  -999.00,9,   -999.0,9,   -999.0,9,-999.0000,9,   -999.0,  9,  -999.00,9,   -999.0,  -999.00,9,  -999.00,9,  -999.00,9,  -999.00,9,   -999.0,-999.0000, -999,9,  250,  11.2273,  26.3473,   -999.0,9
       KS05-06,  NONE,KS-1373,  1,     12,02-16018,2,20050722,1522, 10.0018, 149.3180, 5518,    302.3,   9.9304,  34.5360,2,   -999.0,9,  34.5360,2,     74.0,2,    35.20,2,  -999.00,9,    30.49,2,     0.00,2,     2.17,2, -999.000,9, -999.000,9,  -999.00,9,   -999.0,9,   -999.0,9,-999.0000,9,   -999.0,  9,  -999.00,9,   -999.0,  -999.00,9,  -999.00,9,  -999.00,9,  -999.00,9,   -999.0,-999.0000, -999,9,  300,   9.8955,  26.6073,   -999.0,9
       KS05-06,  NONE,KS-1373,  1,     11,02-19376,2,20050722,1518, 10.0018, 149.3180, 5518,    403.0,   8.3806,  34.5587,2,   -999.0,9,  34.5574,2,     71.0,2,    42.58,2,  -999.00,9,    33.99,2,     0.00,2,     2.41,2, -999.000,9, -999.000,9,  -999.00,9,   -999.0,9,   -999.0,9,-999.0000,9,   -999.0,  9,  -999.00,9,   -999.0,  -999.00,9,  -999.00,9,  -999.00,9,  -999.00,9,   -999.0,-999.0000, -999,9,  400,   8.3384,  26.8761,   -999.0,9
       KS05-06,  NONE,KS-1373,  1,     10,02-19375,2,20050722,1515, 10.0018, 149.3180, 5518,    504.9,   7.5647,  34.5218,2,   -999.0,9,  34.5215,2,     82.0,2,    48.96,2,  -999.00,9,    34.37,2,     0.00,2,     2.44,2, -999.000,9, -999.000,9,  -999.00,9,   -999.0,9,   -999.0,9,-999.0000,9,   -999.0,  9,  -999.00,9,   -999.0,  -999.00,9,  -999.00,9,  -999.00,9,  -999.00,9,   -999.0,-999.0000, -999,9,  501,   7.5146,  26.9694,   -999.0,9
       KS05-06,  NONE,KS-1373,  1,      9,02-16015,2,20050722,1512, 10.0018, 149.3180, 5518,    605.8,   6.9536,  34.5229,2,   -999.0,9,  34.5227,2,     83.0,2,    54.35,2,  -999.00,9,    35.54,2,     0.00,2,     2.53,2, -999.000,9, -999.000,9,  -999.00,9,   -999.0,9,   -999.0,9,-999.0000,9,   -999.0,  9,  -999.00,9,   -999.0,  -999.00,9,  -999.00,9,  -999.00,9,  -999.00,9,   -999.0,-999.0000, -999,9,  602,   6.8958,  27.0573,   -999.0,9
       KS05-06,  NONE,KS-1373,  1,      8,02-16014,2,20050722,1508, 10.0018, 149.3180, 5518,    704.9,   6.1624,  34.5133,2,   -999.0,9,  34.5129,2,     85.0,2,    65.21,2,  -999.00,9,    37.00,2,     0.00,2,     2.65,2, -999.000,9, -999.000,9,  -999.00,9,   -999.0,9,   -999.0,9,-999.0000,9,   -999.0,  9,  -999.00,9,   -999.0,  -999.00,9,  -999.00,9,  -999.00,9,  -999.00,9,   -999.0,-999.0000, -999,9,  700,   6.0989,  27.1554,   -999.0,9
       KS05-06,  NONE,KS-1373,  1,      7,02-19374,2,20050722,1505, 10.0018, 149.3180, 5518,    806.4,   5.6578,  34.5239,2,   -999.0,9,  34.5235,2,     82.0,2,    72.37,2,  -999.00,9,    37.77,2,     0.00,2,     2.71,2, -999.000,9, -999.000,9,  -999.00,9,   -999.0,9,   -999.0,9,-999.0000,9,   -999.0,  9,  -999.00,9,   -999.0,  -999.00,9,  -999.00,9,  -999.00,9,  -999.00,9,   -999.0,-999.0000, -999,9,  800,   5.5877,  27.2279,   -999.0,9
       KS05-06,  NONE,KS-1373,  1,      6,02-19373,2,20050722,1502, 10.0018, 149.3180, 5518,    907.2,   5.1796,  34.5320,2,   -999.0,9,  34.5321,2,     70.0,2,    82.27,2,  -999.00,9,    39.42,2,     0.00,2,     2.84,2, -999.000,9, -999.000,9,  -999.00,9,   -999.0,9,   -999.0,9,-999.0000,9,   -999.0,  9,  -999.00,9,   -999.0,  -999.00,9,  -999.00,9,  -999.00,9,  -999.00,9,   -999.0,-999.0000, -999,9,  900,   5.1033,  27.2922,   -999.0,9
       KS05-06,  NONE,KS-1373,  1,      5,02-16011,2,20050722,1500, 10.0018, 149.3180, 5518,   1008.0,   4.6596,  34.5417,2,   -999.0,9,  34.5410,2,     68.0,2,    92.32,2,  -999.00,9,    40.30,2,     0.00,2,     2.92,2, -999.000,9, -999.000,9,  -999.00,9,   -999.0,9,   -999.0,9,-999.0000,9,   -999.0,  9,  -999.00,9,   -999.0,  -999.00,9,  -999.00,9,  -999.00,9,  -999.00,9,   -999.0,-999.0000, -999,9, 1000,   4.5781,  27.3596,   -999.0,9
       KS05-06,  NONE,KS-1373,  1,      4,02-16010,2,20050722,1453, 10.0018, 149.3180, 5518,   1261.4,   3.6635,  34.5676,2,   -999.0,9,  34.5673,2,     81.0,2,   112.83,2,  -999.00,9,    40.20,2,     0.00,2,     2.90,2, -999.000,9, -999.000,9,  -999.00,9,   -999.0,9,   -999.0,9,-999.0000,9,   -999.0,  9,  -999.00,9,   -999.0,  -999.00,9,  -999.00,9,  -999.00,9,  -999.00,9,   -999.0,-999.0000, -999,9, 1250,   3.5687,  27.4858,   -999.0,9
       KS05-06,  NONE,KS-1373,  1,      3,02-16009,3,20050722,1448, 10.0018, 149.3180, 5518,   1515.1,   2.8891,  34.5957,2,   -999.0,9,  34.5957,2,     94.0,2,   127.43,2,  -999.00,9,    39.51,2,     0.00,2,     2.83,2, -999.000,9, -999.000,9,  -999.00,9,   -999.0,9,   -999.0,9,-999.0000,9,   -999.0,  9,  -999.00,9,   -999.0,  -999.00,9,  -999.00,9,  -999.00,9,  -999.00,9,   -999.0,-999.0000, -999,9, 1501,   2.7812,  27.5821,   -999.0,9
       KS05-06,  NONE,KS-1373,  1,      2,02-16008,2,20050722,1443, 10.0018, 149.3180, 5518,   1765.2,   2.4544,  34.6173,2,   -999.0,9,  34.6168,2,    104.0,2,   135.57,2,  -999.00,9,    39.22,2,     0.00,2,     2.78,2, -999.000,9, -999.000,9,  -999.00,9,   -999.0,9,   -999.0,9,-999.0000,9,   -999.0,  9,  -999.00,9,   -999.0,  -999.00,9,  -999.00,9,  -999.00,9,  -999.00,9,   -999.0,-999.0000, -999,9, 1748,   2.3311,  27.6381,   -999.0,9
       KS05-06,  NONE,KS-1373,  1,      1,02-16007,2,20050722,1438, 10.0018, 149.3180, 5518,   2019.6,   2.1843,  34.6333,2,   -999.0,9,  34.6331,2,    115.0,2,   138.90,2,  -999.00,9,    38.83,2,     0.00,2,     2.74,2, -999.000,9, -999.000,9,  -999.00,9,   -999.0,9,   -999.0,9,-999.0000,9,   -999.0,  9,  -999.00,9,   -999.0,  -999.00,9,  -999.00,9,  -999.00,9,  -999.00,9,   -999.0,-999.0000, -999,9, 1999,   2.0434,  27.6744,   -999.0,9