BOTTLE,20130510GEMDJMAYT
EXPOCODE,SECT_ID,STNNBR,CASTNO,SAMPNO,BTLNBR,BTLNBR_FLAG_W,DATE,TIME,LATITUDE,LONGITUDE,DEPTH,CTDPRS,CTDTMP,CTDSAL,CTDSAL_FLAG_W,CTDOXY,CTDOXY_FLAG_W,SALNTY,SALNTY_FLAG_W,OXYGEN,OXYGEN_FLAG_W,SILCAT,SILCAT_FLAG_W,NITRAT,NITRAT_FLAG_W,NO2+NO3,NO2+NO3_FLAG_W,NITRIT,NITRIT_FLAG_W,PHSPHT,PHSPHT_FLAG_W,CFC-11,CFC-11_FLAG_W,CFC-12,CFC-12_FLAG_W,DELC13,DELC13_FLAG_W,TCARBN,TCARBN_FLAG_W,ALKALI,ALKALI_FLAG_W,PH,PH_FLAG_W,PH_TMP,PH_SCALE,PH_NBS,PH_NBS_FLAG_W,C13ERR,TOTALP,TOTALP_FLAG_W,AMMONI,AMMONI_FLAG_W,CHLORA,CHLORA_FLAG_W,PPHYTN,PPHYTN_FLAG_W,REVPRS,REVTMP,DEPTH_,DEPTH_FLAG,CTDDEP,THETA,SIGTHT,DOC,DOC_FLAG_W
,,,,,,,GMT,GMT,,,METER,DBAR,ITS-90,PSS-78,,UMOL/KG,,PSS-78,,UMOL/KG,,UMOL/KG,,UMOL/KG,,UMOL/KG,,UMOL/KG,,UMOL/KG,,PMOL/KG,,PMOL/KG,,/MILLE,,UMOL/KG,,UMOL/KG,,25_DEG_C,,DEG_C,,,,/MILLE,UMOL/KG,,UMOL/KG,,UG/L,,UG/L,,DBAR,ITS-90,METERS,,METERS,DEG_C,,UMOL/L,
       KS05-06,  165E,KS-1344,  1,     24,02-16030,2,20050709,1818,  2.9912, 165.0030, 4260,      5.1,  30.1298,  34.3469,2,   -999.0,9,  34.3496,2,   -999.0,9,     0.91,2,  -999.00,9,     0.00,2,     0.00,2,     0.13,2, -999.000,9, -999.000,9,  -999.00,9,   1893.7,2,   -999.0,9,-999.0000,9,   -999.0,  9,  -999.00,9,   -999.0,  -999.00,9,  -999.00,9,     0.05,2,     0.03,2,   -999.0,-999.0000, -999,9,    5,  30.1285,  21.1927,   -999.0,9
       KS05-06,  165E,KS-1344,  1,     23,02-19380,2,20050709,1812,  2.9912, 165.0030, 4260,     99.7,  28.1821,  35.2210,2,   -999.0,9,  35.2253,2,   -999.0,9,  -999.00,9,  -999.00,9,  -999.00,9,  -999.00,9,  -999.00,9, -999.000,9, -999.000,9,  -999.00,9,   -999.0,9,   -999.0,9,-999.0000,9,   -999.0,  9,  -999.00,9,   -999.0,  -999.00,9,  -999.00,9,  -999.00,9,  -999.00,9,   -999.0,-999.0000, -999,9,   99,  28.1585,  22.5089,   -999.0,9
       KS05-06,  165E,KS-1344,  1,     22,02-19379,2,20050709,1810,  2.9912, 165.0030, 4260,    200.0,  14.7747,  34.6406,2,   -999.0,9,  34.6197,4,   -999.0,9,  -999.00,9,  -999.00,9,  -999.00,9,  -999.00,9,  -999.00,9, -999.000,9, -999.000,9,  -999.00,9,   -999.0,9,   -999.0,9,-999.0000,9,   -999.0,  9,  -999.00,9,   -999.0,  -999.00,9,  -999.00,9,  -999.00,9,  -999.00,9,   -999.0,-999.0000, -999,9,  199,  14.7448,  25.7505,   -999.0,9
       KS05-06,  165E,KS-1344,  1,     21,02-16027,2,20050709,1807,  2.9912, 165.0030, 4260,    300.6,  10.6453,  34.7673,2,   -999.0,9,  34.7663,2,   -999.0,9,  -999.00,9,  -999.00,9,  -999.00,9,  -999.00,9,  -999.00,9, -999.000,9, -999.000,9,  -999.00,9,   -999.0,9,   -999.0,9,-999.0000,9,   -999.0,  9,  -999.00,9,   -999.0,  -999.00,9,  -999.00,9,  -999.00,9,  -999.00,9,   -999.0,-999.0000, -999,9,  299,  10.6089,  26.6643,   -999.0,9
       KS05-06,  165E,KS-1344,  1,     20,02-16026,2,20050709,1805,  2.9912, 165.0030, 4260,    401.0,   9.2703,  34.6516,2,   -999.0,9,  34.6466,4,   -999.0,9,  -999.00,9,  -999.00,9,  -999.00,9,  -999.00,9,  -999.00,9, -999.000,9, -999.000,9,  -999.00,9,   -999.0,9,   -999.0,9,-999.0000,9,   -999.0,  9,  -999.00,9,   -999.0,  -999.00,9,  -999.00,9,  -999.00,9,  -999.00,9,   -999.0,-999.0000, -999,9,  398,   9.2256,  26.8089,   -999.0,9
       KS05-06,  165E,KS-1344,  1,     19,02-19378,3,20050709,1802,  2.9912, 165.0030, 4260,    501.6,   7.6191,  34.5710,2,   -999.0,9,  34.5718,2,   -999.0,9,  -999.00,9,  -999.00,9,  -999.00,9,  -999.00,9,  -999.00,9, -999.000,9, -999.000,9,  -999.00,9,   -999.0,9,   -999.0,9,-999.0000,9,   -999.0,  9,  -999.00,9,   -999.0,  -999.00,9,  -999.00,9,  -999.00,9,  -999.00,9,   -999.0,-999.0000, -999,9,  498,   7.5691,  27.0003,   -999.0,9
       KS05-06,  165E,KS-1344,  1,     18,02-19377,2,20050709,1800,  2.9912, 165.0030, 4260,    603.2,   6.8427,  34.5516,2,   -999.0,9,  34.5508,2,   -999.0,9,  -999.00,9,  -999.00,9,  -999.00,9,  -999.00,9,  -999.00,9, -999.000,9, -999.000,9,  -999.00,9,   -999.0,9,   -999.0,9,-999.0000,9,   -999.0,  9,  -999.00,9,   -999.0,  -999.00,9,  -999.00,9,  -999.00,9,  -999.00,9,   -999.0,-999.0000, -999,9,  599,   6.7857,  27.0949,   -999.0,9
       KS05-06,  165E,KS-1344,  1,     17,02-16023,2,20050709,1757,  2.9912, 165.0030, 4260,    704.0,   5.9407,  34.5425,2,   -999.0,9,  34.5417,2,   -999.0,9,  -999.00,9,  -999.00,9,  -999.00,9,  -999.00,9,  -999.00,9, -999.000,9, -999.000,9,  -999.00,9,   -999.0,9,   -999.0,9,-999.0000,9,   -999.0,  9,  -999.00,9,   -999.0,  -999.00,9,  -999.00,9,  -999.00,9,  -999.00,9,   -999.0,-999.0000, -999,9,  699,   5.8785,  27.2066,   -999.0,9
       KS05-06,  165E,KS-1344,  1,     16,02-16022,2,20050709,1755,  2.9912, 165.0030, 4260,    803.9,   5.3471,  34.5423,2,   -999.0,9,  34.5421,2,   -999.0,9,  -999.00,9,  -999.00,9,  -999.00,9,  -999.00,9,  -999.00,9, -999.000,9, -999.000,9,  -999.00,9,   -999.0,9,   -999.0,9,-999.0000,9,   -999.0,  9,  -999.00,9,   -999.0,  -999.00,9,  -999.00,9,  -999.00,9,  -999.00,9,   -999.0,-999.0000, -999,9,  798,   5.2791,  27.2797,   -999.0,9
       KS05-06,  165E,KS-1344,  1,     15,02-16021,2,20050709,1752,  2.9912, 165.0030, 4260,    906.7,   4.8486,  34.5486,2,   -999.0,9,  34.5478,2,   -999.0,9,  -999.00,9,  -999.00,9,  -999.00,9,  -999.00,9,  -999.00,9, -999.000,9, -999.000,9,  -999.00,9,   -999.0,9,   -999.0,9,-999.0000,9,   -999.0,  9,  -999.00,9,   -999.0,  -999.00,9,  -999.00,9,  -999.00,9,  -999.00,9,   -999.0,-999.0000, -999,9,  900,   4.7747,  27.3432,   -999.0,9
       KS05-06,  165E,KS-1344,  1,     14,02-16020,2,20050709,1750,  2.9912, 165.0030, 4260,   1006.8,   4.3705,  34.5583,2,   -999.0,9,  34.5574,2,   -999.0,9,  -999.00,9,  -999.00,9,  -999.00,9,  -999.00,9,  -999.00,9, -999.000,9, -999.000,9,  -999.00,9,   -999.0,9,   -999.0,9,-999.0000,9,   -999.0,  9,  -999.00,9,   -999.0,  -999.00,9,  -999.00,9,  -999.00,9,  -999.00,9,   -999.0,-999.0000, -999,9,  999,   4.2913,  27.4041,   -999.0,9
       KS05-06,  165E,KS-1344,  1,     13,02-16019,2,20050709,1745,  2.9912, 165.0030, 4260,   1259.5,   3.6041,  34.5806,2,   -999.0,9,  34.5787,2,   -999.0,9,  -999.00,9,  -999.00,9,  -999.00,9,  -999.00,9,  -999.00,9, -999.000,9, -999.000,9,  -999.00,9,   -999.0,9,   -999.0,9,-999.0000,9,   -999.0,  9,  -999.00,9,   -999.0,  -999.00,9,  -999.00,9,  -999.00,9,  -999.00,9,   -999.0,-999.0000, -999,9, 1249,   3.5100,  27.5020,   -999.0,9
       KS05-06,  165E,KS-1344,  1,     12,02-16018,2,20050709,1739,  2.9912, 165.0030, 4260,   1513.6,   2.9433,  34.6045,2,   -999.0,9,  34.6028,2,   -999.0,9,  -999.00,9,  -999.00,9,  -999.00,9,  -999.00,9,  -999.00,9, -999.000,9, -999.000,9,  -999.00,9,   -999.0,9,   -999.0,9,-999.0000,9,   -999.0,  9,  -999.00,9,   -999.0,  -999.00,9,  -999.00,9,  -999.00,9,  -999.00,9,   -999.0,-999.0000, -999,9, 1500,   2.8349,  27.5843,   -999.0,9
       KS05-06,  165E,KS-1344,  1,     11,02-19376,2,20050709,1734,  2.9912, 165.0030, 4260,   1765.8,   2.5434,  34.6228,2,   -999.0,9,  34.6217,2,   -999.0,9,  -999.00,9,  -999.00,9,  -999.00,9,  -999.00,9,  -999.00,9, -999.000,9, -999.000,9,  -999.00,9,   -999.0,9,   -999.0,9,-999.0000,9,   -999.0,  9,  -999.00,9,   -999.0,  -999.00,9,  -999.00,9,  -999.00,9,  -999.00,9,   -999.0,-999.0000, -999,9, 1749,   2.4189,  27.6352,   -999.0,9
       KS05-06,  165E,KS-1344,  1,     10,02-19375,9,20050709,1729,  2.9912, 165.0030, 4260,   2019.0,   2.2517,  34.6376,2,   -999.0,9,-999.0000,9,   -999.0,9,  -999.00,9,  -999.00,9,  -999.00,9,  -999.00,9,  -999.00,9, -999.000,9, -999.000,9,  -999.00,9,   -999.0,9,   -999.0,9,-999.0000,9,   -999.0,  9,  -999.00,9,   -999.0,  -999.00,9,  -999.00,9,  -999.00,9,  -999.00,9,   -999.0,-999.0000, -999,9, 1998,   2.1098,  27.6726,   -999.0,9
       KS05-06,  165E,KS-1344,  1,      9,02-16015,9,20050709,1728,  2.9912, 165.0030, 4260,   2018.6,   2.2520,  34.6375,2,   -999.0,9,-999.0000,9,   -999.0,9,  -999.00,9,  -999.00,9,  -999.00,9,  -999.00,9,  -999.00,9, -999.000,9, -999.000,9,  -999.00,9,   -999.0,9,   -999.0,9,-999.0000,9,   -999.0,  9,  -999.00,9,   -999.0,  -999.00,9,  -999.00,9,  -999.00,9,  -999.00,9,   -999.0,-999.0000, -999,9, 1998,   2.1101,  27.6725,   -999.0,9
       KS05-06,  165E,KS-1344,  1,      8,02-16014,9,20050709,1728,  2.9912, 165.0030, 4260,   2019.0,   2.2520,  34.6376,2,   -999.0,9,-999.0000,9,   -999.0,9,  -999.00,9,  -999.00,9,  -999.00,9,  -999.00,9,  -999.00,9, -999.000,9, -999.000,9,  -999.00,9,   -999.0,9,   -999.0,9,-999.0000,9,   -999.0,  9,  -999.00,9,   -999.0,  -999.00,9,  -999.00,9,  -999.00,9,  -999.00,9,   -999.0,-999.0000, -999,9, 1998,   2.1101,  27.6726,   -999.0,9
       KS05-06,  165E,KS-1344,  1,      7,02-19374,9,20050709,1728,  2.9912, 165.0030, 4260,   2019.0,   2.2524,  34.6376,2,   -999.0,9,-999.0000,9,   -999.0,9,  -999.00,9,  -999.00,9,  -999.00,9,  -999.00,9,  -999.00,9, -999.000,9, -999.000,9,  -999.00,9,   -999.0,9,   -999.0,9,-999.0000,9,   -999.0,  9,  -999.00,9,   -999.0,  -999.00,9,  -999.00,9,  -999.00,9,  -999.00,9,   -999.0,-999.0000, -999,9, 1998,   2.1105,  27.6725,   -999.0,9
       KS05-06,  165E,KS-1344,  1,      6,02-19373,9,20050709,1728,  2.9912, 165.0030, 4260,   2019.3,   2.2518,  34.6377,2,   -999.0,9,-999.0000,9,   -999.0,9,  -999.00,9,  -999.00,9,  -999.00,9,  -999.00,9,  -999.00,9, -999.000,9, -999.000,9,  -999.00,9,   -999.0,9,   -999.0,9,-999.0000,9,   -999.0,  9,  -999.00,9,   -999.0,  -999.00,9,  -999.00,9,  -999.00,9,  -999.00,9,   -999.0,-999.0000, -999,9, 1999,   2.1099,  27.6726,   -999.0,9
       KS05-06,  165E,KS-1344,  1,      5,02-16011,9,20050709,1728,  2.9912, 165.0030, 4260,   2019.3,   2.2514,  34.6376,2,   -999.0,9,-999.0000,9,   -999.0,9,  -999.00,9,  -999.00,9,  -999.00,9,  -999.00,9,  -999.00,9, -999.000,9, -999.000,9,  -999.00,9,   -999.0,9,   -999.0,9,-999.0000,9,   -999.0,  9,  -999.00,9,   -999.0,  -999.00,9,  -999.00,9,  -999.00,9,  -999.00,9,   -999.0,-999.0000, -999,9, 1998,   2.1095,  27.6726,   -999.0,9
       KS05-06,  165E,KS-1344,  1,      4,02-16010,9,20050709,1728,  2.9912, 165.0030, 4260,   2018.5,   2.2517,  34.6377,2,   -999.0,9,-999.0000,9,   -999.0,9,  -999.00,9,  -999.00,9,  -999.00,9,  -999.00,9,  -999.00,9, -999.000,9, -999.000,9,  -999.00,9,   -999.0,9,   -999.0,9,-999.0000,9,   -999.0,  9,  -999.00,9,   -999.0,  -999.00,9,  -999.00,9,  -999.00,9,  -999.00,9,   -999.0,-999.0000, -999,9, 1998,   2.1098,  27.6726,   -999.0,9
       KS05-06,  165E,KS-1344,  1,      3,02-16009,9,20050709,1728,  2.9912, 165.0030, 4260,   2018.7,   2.2506,  34.6377,2,   -999.0,9,-999.0000,9,   -999.0,9,  -999.00,9,  -999.00,9,  -999.00,9,  -999.00,9,  -999.00,9, -999.000,9, -999.000,9,  -999.00,9,   -999.0,9,   -999.0,9,-999.0000,9,   -999.0,  9,  -999.00,9,   -999.0,  -999.00,9,  -999.00,9,  -999.00,9,  -999.00,9,   -999.0,-999.0000, -999,9, 1998,   2.1087,  27.6727,   -999.0,9
       KS05-06,  165E,KS-1344,  1,      2,02-16008,9,20050709,1727,  2.9912, 165.0030, 4260,   2018.2,   2.2490,  34.6377,2,   -999.0,9,-999.0000,9,   -999.0,9,  -999.00,9,  -999.00,9,  -999.00,9,  -999.00,9,  -999.00,9, -999.000,9, -999.000,9,  -999.00,9,   -999.0,9,   -999.0,9,-999.0000,9,   -999.0,  9,  -999.00,9,   -999.0,  -999.00,9,  -999.00,9,  -999.00,9,  -999.00,9,   -999.0,-999.0000, -999,9, 1997,   2.1072,  27.6728,   -999.0,9
       KS05-06,  165E,KS-1344,  1,      1,02-16007,2,20050709,1727,  2.9912, 165.0030, 4260,   2018.5,   2.2478,  34.6378,2,   -999.0,9,  34.6364,2,   -999.0,9,  -999.00,9,  -999.00,9,  -999.00,9,  -999.00,9,  -999.00,9, -999.000,9, -999.000,9,  -999.00,9,   -999.0,9,   -999.0,9,-999.0000,9,   -999.0,  9,  -999.00,9,   -999.0,  -999.00,9,  -999.00,9,  -999.00,9,  -999.00,9,   -999.0,-999.0000, -999,9, 1998,   2.1060,  27.6730,   -999.0,9