BOTTLE,20130510GEMDJMAYT
EXPOCODE,SECT_ID,STNNBR,CASTNO,SAMPNO,BTLNBR,BTLNBR_FLAG_W,DATE,TIME,LATITUDE,LONGITUDE,DEPTH,CTDPRS,CTDTMP,CTDSAL,CTDSAL_FLAG_W,CTDOXY,CTDOXY_FLAG_W,SALNTY,SALNTY_FLAG_W,OXYGEN,OXYGEN_FLAG_W,SILCAT,SILCAT_FLAG_W,NITRAT,NITRAT_FLAG_W,NO2+NO3,NO2+NO3_FLAG_W,NITRIT,NITRIT_FLAG_W,PHSPHT,PHSPHT_FLAG_W,CFC-11,CFC-11_FLAG_W,CFC-12,CFC-12_FLAG_W,DELC13,DELC13_FLAG_W,TCARBN,TCARBN_FLAG_W,ALKALI,ALKALI_FLAG_W,PH,PH_FLAG_W,PH_TMP,PH_SCALE,PH_NBS,PH_NBS_FLAG_W,C13ERR,TOTALP,TOTALP_FLAG_W,AMMONI,AMMONI_FLAG_W,CHLORA,CHLORA_FLAG_W,PPHYTN,PPHYTN_FLAG_W,REVPRS,REVTMP,DEPTH_,DEPTH_FLAG,CTDDEP,THETA,SIGTHT,DOC,DOC_FLAG_W
,,,,,,,GMT,GMT,,,METER,DBAR,ITS-90,PSS-78,,UMOL/KG,,PSS-78,,UMOL/KG,,UMOL/KG,,UMOL/KG,,UMOL/KG,,UMOL/KG,,UMOL/KG,,PMOL/KG,,PMOL/KG,,/MILLE,,UMOL/KG,,UMOL/KG,,25_DEG_C,,DEG_C,,,,/MILLE,UMOL/KG,,UMOL/KG,,UG/L,,UG/L,,DBAR,ITS-90,METERS,,METERS,DEG_C,,UMOL/L,
       KS06-04,  137E,KS-1587,  1,     22,02-19397,2,20060501,1629,  4.9893, 136.9975, 5308,      5.0,  29.2014,  33.8345,2,   -999.0,9,  33.8316,2,    200.0,2,     2.02,2,  -999.00,9,     0.00,2,     0.00,2,     0.01,2, -999.000,9, -999.000,9,  -999.00,9,   1900.9,2,   -999.0,9,   8.1137,2,     25.0, TS,     8.22,2,   -999.0,  -999.00,9,  -999.00,9,     0.06,2,     0.03,2,   -999.0,-999.0000, -999,9,    5,  29.2002,  21.1225,   -999.0,9
       KS06-04,  137E,KS-1587,  1,     21,02-16027,2,20060501,1628,  4.9893, 136.9975, 5308,     10.4,  29.2066,  33.8343,2,   -999.0,9,-999.0000,9,    200.0,2,     1.95,2,  -999.00,9,     0.00,2,     0.00,2,     0.00,2, -999.000,9, -999.000,9,  -999.00,9,   -999.0,9,   -999.0,9,-999.0000,9,   -999.0,  9,     8.23,2,   -999.0,  -999.00,9,  -999.00,9,     0.07,2,     0.02,2,   -999.0,-999.0000, -999,9,   10,  29.2041,  21.1210,   -999.0,9
       KS06-04,  137E,KS-1587,  1,     20,02-16026,2,20060501,1627,  4.9893, 136.9975, 5308,     26.2,  29.0352,  33.8795,2,   -999.0,9,-999.0000,9,    200.0,2,     2.00,2,  -999.00,9,     0.00,2,     0.00,2,     0.01,2, -999.000,9, -999.000,9,  -999.00,9,   -999.0,9,   -999.0,9,-999.0000,9,   -999.0,  9,     8.23,2,   -999.0,  -999.00,9,  -999.00,9,     0.06,2,     0.02,2,   -999.0,-999.0000, -999,9,   26,  29.0289,  21.2134,   -999.0,9
       KS06-04,  137E,KS-1587,  1,     19,02-19378,2,20060501,1623,  4.9893, 136.9975, 5308,     51.3,  28.6266,  34.1332,2,   -999.0,9,-999.0000,9,    197.0,2,     1.46,2,  -999.00,9,     0.00,2,     0.00,2,     0.02,2, -999.000,9, -999.000,9,  -999.00,9,   -999.0,9,   -999.0,9,-999.0000,9,   -999.0,  9,     8.23,2,   -999.0,  -999.00,9,  -999.00,9,     0.21,2,     0.12,2,   -999.0,-999.0000, -999,9,   51,  28.6143,  21.5414,   -999.0,9
       KS06-04,  137E,KS-1587,  1,     18,02-19377,2,20060501,1622,  4.9893, 136.9975, 5308,     75.2,  26.4182,  34.2186,2,   -999.0,9,-999.0000,9,    174.0,2,     4.83,2,  -999.00,9,     3.72,2,     0.75,2,     0.24,2, -999.000,9, -999.000,9,  -999.00,9,   -999.0,9,   -999.0,9,-999.0000,9,   -999.0,  9,     8.16,2,   -999.0,  -999.00,9,  -999.00,9,     0.39,2,     0.37,2,   -999.0,-999.0000, -999,9,   75,  26.4013,  22.3186,   -999.0,9
       KS06-04,  137E,KS-1587,  1,     17,02-16023,2,20060501,1621,  4.9893, 136.9975, 5308,    102.5,  25.7109,  34.3801,2,   -999.0,9,  34.3580,4,    156.0,2,     6.98,2,  -999.00,9,     6.84,2,     0.22,2,     0.41,2, -999.000,9, -999.000,9,  -999.00,9,   -999.0,9,   -999.0,9,-999.0000,9,   -999.0,  9,     8.11,2,   -999.0,  -999.00,9,  -999.00,9,     0.13,2,     0.26,2,   -999.0,-999.0000, -999,9,  102,  25.6883,  22.6623,   -999.0,9
       KS06-04,  137E,KS-1587,  1,     16,02-16022,2,20060501,1620,  4.9893, 136.9975, 5308,    126.4,  26.5541,  35.0631,2,   -999.0,9,-999.0000,9,    147.0,2,     4.01,2,  -999.00,9,     7.04,2,     0.03,2,     0.50,2, -999.000,9, -999.000,9,  -999.00,9,   -999.0,9,   -999.0,9,-999.0000,9,   -999.0,  9,     8.11,2,   -999.0,  -999.00,9,  -999.00,9,     0.07,2,     0.15,2,   -999.0,-999.0000, -999,9,  126,  26.5254,  22.9160,   -999.0,9
       KS06-04,  137E,KS-1587,  1,     15,02-16021,2,20060501,1619,  4.9893, 136.9975, 5308,    151.3,  25.6740,  35.2964,2,   -999.0,9,-999.0000,9,    139.0,2,     3.37,2,  -999.00,9,     8.11,2,     0.03,2,     0.59,2, -999.000,9, -999.000,9,  -999.00,9,   -999.0,9,   -999.0,9,-999.0000,9,   -999.0,  9,     8.09,2,   -999.0,  -999.00,9,  -999.00,9,     0.03,2,     0.10,2,   -999.0,-999.0000, -999,9,  150,  25.6405,  23.3687,   -999.0,9
       KS06-04,  137E,KS-1587,  1,     14,02-16020,2,20060501,1617,  4.9893, 136.9975, 5308,    200.5,  19.1811,  34.9130,2,   -999.0,9,  34.9103,2,    143.0,2,    10.53,2,  -999.00,9,    11.51,2,     0.01,2,     0.76,2, -999.000,9, -999.000,9,  -999.00,9,   -999.0,9,   -999.0,9,-999.0000,9,   -999.0,  9,     8.00,2,   -999.0,  -999.00,9,  -999.00,9,     0.01,2,     0.02,2,   -999.0,-999.0000, -999,9,  199,  19.1451,  24.9176,   -999.0,9
       KS06-04,  137E,KS-1587,  1,     13,02-16019,2,20060501,1616,  4.9893, 136.9975, 5308,    252.1,  13.6665,  34.5521,2,   -999.0,9,-999.0000,9,    143.0,2,    17.55,2,  -999.00,9,    16.96,2,     0.00,2,     1.16,2, -999.000,9, -999.000,9,  -999.00,9,   -999.0,9,   -999.0,9,-999.0000,9,   -999.0,  9,     7.88,2,   -999.0,  -999.00,9,  -999.00,9,     0.00,2,     0.02,2,   -999.0,-999.0000, -999,9,  251,  13.6307,  25.9177,   -999.0,9
       KS06-04,  137E,KS-1587,  1,     12,02-16018,2,20060501,1614,  4.9893, 136.9975, 5308,    304.0,  10.4671,  34.5547,2,   -999.0,9,  34.5580,2,     74.0,2,    32.98,2,  -999.00,9,    29.81,2,     0.00,2,     2.14,2, -999.000,9, -999.000,9,  -999.00,9,   -999.0,9,   -999.0,9,-999.0000,9,   -999.0,  9,     7.69,2,   -999.0,  -999.00,9,  -999.00,9,     0.00,2,     0.02,2,   -999.0,-999.0000, -999,9,  302,  10.4308,  26.5299,   -999.0,9
       KS06-04,  137E,KS-1587,  1,     11,02-19376,2,20060501,1612,  4.9893, 136.9975, 5308,    403.3,   8.3259,  34.5778,2,   -999.0,9,  34.5808,2,     77.0,2,    40.67,2,  -999.00,9,    33.69,2,     0.00,2,     2.42,2, -999.000,9, -999.000,9,  -999.00,9,   -999.0,9,   -999.0,9,-999.0000,9,   -999.0,  9,     7.64,2,   -999.0,  -999.00,9,  -999.00,9,  -999.00,9,  -999.00,9,   -999.0,-999.0000, -999,9,  401,   8.2838,  26.8994,   -999.0,9
       KS06-04,  137E,KS-1587,  1,     10,02-19375,2,20060501,1609,  4.9893, 136.9975, 5308,    503.1,   7.6444,  34.5744,2,   -999.0,9,  34.5739,2,     81.0,2,    43.52,2,  -999.00,9,    34.76,2,     0.00,2,     2.51,2, -999.000,9, -999.000,9,  -999.00,9,   -999.0,9,   -999.0,9,-999.0000,9,   -999.0,  9,     7.63,2,   -999.0,  -999.00,9,  -999.00,9,  -999.00,9,  -999.00,9,   -999.0,-999.0000, -999,9,  500,   7.5941,  26.9993,   -999.0,9
       KS06-04,  137E,KS-1587,  1,      9,02-16015,2,20060501,1607,  4.9893, 136.9975, 5308,    605.6,   6.8518,  34.5502,2,   -999.0,9,  34.5496,2,     86.0,2,    50.35,2,  -999.00,9,    35.93,2,     0.00,2,     2.61,2, -999.000,9, -999.000,9,  -999.00,9,   -999.0,9,   -999.0,9,-999.0000,9,   -999.0,  9,     7.62,2,   -999.0,  -999.00,9,  -999.00,9,  -999.00,9,  -999.00,9,   -999.0,-999.0000, -999,9,  601,   6.7945,  27.0927,   -999.0,9
       KS06-04,  137E,KS-1587,  1,      8,02-16014,2,20060501,1604,  4.9893, 136.9975, 5308,    705.5,   6.1249,  34.5349,2,   -999.0,9,  34.5343,2,    105.0,2,    55.73,2,  -999.00,9,    35.34,2,     0.00,2,     2.56,2, -999.000,9, -999.000,9,  -999.00,9,   -999.0,9,   -999.0,9,-999.0000,9,   -999.0,  9,     7.64,2,   -999.0,  -999.00,9,  -999.00,9,  -999.00,9,  -999.00,9,   -999.0,-999.0000, -999,9,  700,   6.0615,  27.1773,   -999.0,9
       KS06-04,  137E,KS-1587,  1,      7,02-19374,2,20060501,1602,  4.9893, 136.9975, 5308,    806.7,   5.6549,  34.5389,2,   -999.0,9,  34.5386,2,     81.0,2,    68.74,2,  -999.00,9,    38.06,2,     0.00,2,     2.81,2, -999.000,9, -999.000,9,  -999.00,9,   -999.0,9,   -999.0,9,-999.0000,9,   -999.0,  9,     7.60,2,   -999.0,  -999.00,9,  -999.00,9,  -999.00,9,  -999.00,9,   -999.0,-999.0000, -999,9,  801,   5.5847,  27.2401,   -999.0,9
       KS06-04,  137E,KS-1587,  1,      6,02-19373,2,20060501,1559,  4.9893, 136.9975, 5308,    907.7,   5.0816,  34.5450,2,   -999.0,9,  34.5437,2,     84.0,2,    78.37,2,  -999.00,9,    38.55,2,     0.00,2,     2.85,2, -999.000,9, -999.000,9,  -999.00,9,   -999.0,9,   -999.0,9,-999.0000,9,   -999.0,  9,     7.60,2,   -999.0,  -999.00,9,  -999.00,9,  -999.00,9,  -999.00,9,   -999.0,-999.0000, -999,9,  901,   5.0060,  27.3138,   -999.0,9
       KS06-04,  137E,KS-1587,  1,      5,02-16011,2,20060501,1557,  4.9893, 136.9975, 5308,   1009.5,   4.5886,  34.5542,2,   -999.0,9,  34.5531,2,     89.0,2,    87.12,2,  -999.00,9,    38.84,2,     0.00,2,     2.86,2, -999.000,9, -999.000,9,  -999.00,9,   -999.0,9,   -999.0,9,-999.0000,9,   -999.0,  9,     7.60,2,   -999.0,  -999.00,9,  -999.00,9,  -999.00,9,  -999.00,9,   -999.0,-999.0000, -999,9, 1001,   4.5075,  27.3774,   -999.0,9
       KS06-04,  137E,KS-1587,  1,      4,02-16010,2,20060501,1552,  4.9893, 136.9975, 5308,   1262.6,   3.6479,  34.5800,2,   -999.0,9,  34.5789,2,     94.0,2,   106.04,2,  -999.00,9,    39.22,2,     0.00,2,     2.90,2, -999.000,9, -999.000,9,  -999.00,9,   -999.0,9,   -999.0,9,-999.0000,9,   -999.0,  9,     7.59,2,   -999.0,  -999.00,9,  -999.00,9,  -999.00,9,  -999.00,9,   -999.0,-999.0000, -999,9, 1252,   3.5531,  27.4973,   -999.0,9
       KS06-04,  137E,KS-1587,  1,      3,02-16009,2,20060501,1546,  4.9893, 136.9975, 5308,   1515.6,   3.0051,  34.6018,2,   -999.0,9,  34.6003,2,    100.0,2,   120.38,2,  -999.00,9,    39.22,2,     0.00,2,     2.88,2, -999.000,9, -999.000,9,  -999.00,9,   -999.0,9,   -999.0,9,-999.0000,9,   -999.0,  9,     7.60,2,   -999.0,  -999.00,9,  -999.00,9,  -999.00,9,  -999.00,9,   -999.0,-999.0000, -999,9, 1502,   2.8958,  27.5767,   -999.0,9
       KS06-04,  137E,KS-1587,  1,      2,02-16008,2,20060501,1541,  4.9893, 136.9975, 5308,   1767.6,   2.5469,  34.6219,2,   -999.0,9,  34.6203,2,    106.0,2,   129.99,2,  -999.00,9,    39.12,2,     0.00,2,     2.85,2, -999.000,9, -999.000,9,  -999.00,9,   -999.0,9,   -999.0,9,-999.0000,9,   -999.0,  9,     7.62,2,   -999.0,  -999.00,9,  -999.00,9,  -999.00,9,  -999.00,9,   -999.0,-999.0000, -999,9, 1750,   2.4222,  27.6342,   -999.0,9
       KS06-04,  137E,KS-1587,  1,      1,02-16007,2,20060501,1536,  4.9893, 136.9975, 5308,   2022.2,   2.1920,  34.6396,2,   -999.0,9,  34.6384,2,    117.0,2,   136.15,2,  -999.00,9,    38.63,2,     0.00,2,     2.81,2, -999.000,9, -999.000,9,  -999.00,9,   -999.0,9,   -999.0,9,-999.0000,9,   -999.0,  9,     7.63,2,   -999.0,  -999.00,9,  -999.00,9,  -999.00,9,  -999.00,9,   -999.0,-999.0000, -999,9, 2001,   2.0507,  27.6789,   -999.0,9