BOTTLE,20130510GEMDJMAYT
EXPOCODE,SECT_ID,STNNBR,CASTNO,SAMPNO,BTLNBR,BTLNBR_FLAG_W,DATE,TIME,LATITUDE,LONGITUDE,DEPTH,CTDPRS,CTDTMP,CTDSAL,CTDSAL_FLAG_W,CTDOXY,CTDOXY_FLAG_W,SALNTY,SALNTY_FLAG_W,OXYGEN,OXYGEN_FLAG_W,SILCAT,SILCAT_FLAG_W,NITRAT,NITRAT_FLAG_W,NO2+NO3,NO2+NO3_FLAG_W,NITRIT,NITRIT_FLAG_W,PHSPHT,PHSPHT_FLAG_W,CFC-11,CFC-11_FLAG_W,CFC-12,CFC-12_FLAG_W,DELC13,DELC13_FLAG_W,TCARBN,TCARBN_FLAG_W,ALKALI,ALKALI_FLAG_W,PH,PH_FLAG_W,PH_TMP,PH_SCALE,PH_NBS,PH_NBS_FLAG_W,C13ERR,TOTALP,TOTALP_FLAG_W,AMMONI,AMMONI_FLAG_W,CHLORA,CHLORA_FLAG_W,PPHYTN,PPHYTN_FLAG_W,REVPRS,REVTMP,DEPTH_,DEPTH_FLAG,CTDDEP,THETA,SIGTHT,DOC,DOC_FLAG_W
,,,,,,,GMT,GMT,,,METER,DBAR,ITS-90,PSS-78,,UMOL/KG,,PSS-78,,UMOL/KG,,UMOL/KG,,UMOL/KG,,UMOL/KG,,UMOL/KG,,UMOL/KG,,PMOL/KG,,PMOL/KG,,/MILLE,,UMOL/KG,,UMOL/KG,,25_DEG_C,,DEG_C,,,,/MILLE,UMOL/KG,,UMOL/KG,,UG/L,,UG/L,,DBAR,ITS-90,METERS,,METERS,DEG_C,,UMOL/L,
       KS06-04,  137E,KS-1557,  1,     24,02-16030,2,20060421,2224, 32.0097, 137.0377, 4146,      5.6,  19.6977,  34.7904,2,   -999.0,9,  34.7889,2,    228.0,2,     1.68,2,  -999.00,9,     0.10,2,     0.08,2,     0.02,2, -999.000,9, -999.000,9,  -999.00,9,   1985.9,3,   -999.0,9,   8.0543,6,     25.0, TS,  -999.00,9,   -999.0,  -999.00,9,  -999.00,9,     0.35,2,     0.16,2,   -999.0,-999.0000, -999,9,    6,  19.6967,  24.6814,   -999.0,9
       KS06-04,  137E,KS-1557,  1,     23,02-19380,2,20060421,2223, 32.0097, 137.0377, 4146,     10.9,  19.6943,  34.7902,2,   -999.0,9,-999.0000,9,    229.0,2,     1.67,2,  -999.00,9,     0.20,2,     0.08,2,     0.02,2, -999.000,9, -999.000,9,  -999.00,9,   -999.0,9,   -999.0,9,-999.0000,9,   -999.0,  9,  -999.00,9,   -999.0,  -999.00,9,  -999.00,9,     0.37,2,     0.14,2,   -999.0,-999.0000, -999,9,   11,  19.6923,  24.6823,   -999.0,9
       KS06-04,  137E,KS-1557,  1,     22,02-19397,2,20060421,2221, 32.0097, 137.0377, 4146,     27.0,  19.6946,  34.7900,2,   -999.0,9,-999.0000,9,    229.0,2,     1.66,2,  -999.00,9,     0.10,2,     0.08,2,     0.02,2, -999.000,9, -999.000,9,  -999.00,9,   -999.0,9,   -999.0,9,-999.0000,9,   -999.0,  9,  -999.00,9,   -999.0,  -999.00,9,  -999.00,9,     0.35,2,     0.14,2,   -999.0,-999.0000, -999,9,   27,  19.6897,  24.6829,   -999.0,9
       KS06-04,  137E,KS-1557,  1,     21,02-16027,2,20060421,2216, 32.0097, 137.0377, 4146,     49.5,  19.7006,  34.7894,2,   -999.0,9,-999.0000,9,    228.0,2,     1.65,2,  -999.00,9,     0.20,2,     0.08,2,     0.02,2, -999.000,9, -999.000,9,  -999.00,9,   -999.0,9,   -999.0,9,-999.0000,9,   -999.0,  9,  -999.00,9,   -999.0,  -999.00,9,  -999.00,9,     0.39,2,     0.11,2,   -999.0,-999.0000, -999,9,   49,  19.6916,  24.6819,   -999.0,9
       KS06-04,  137E,KS-1557,  1,     20,02-16026,2,20060421,2215, 32.0097, 137.0377, 4146,     75.4,  19.7056,  34.7887,2,   -999.0,9,-999.0000,9,    228.0,2,     1.64,2,  -999.00,9,     0.10,2,     0.08,2,     0.02,2, -999.000,9, -999.000,9,  -999.00,9,   -999.0,9,   -999.0,9,-999.0000,9,   -999.0,  9,  -999.00,9,   -999.0,  -999.00,9,  -999.00,9,     0.34,2,     0.15,2,   -999.0,-999.0000, -999,9,   75,  19.6919,  24.6813,   -999.0,9
       KS06-04,  137E,KS-1557,  1,     19,02-19378,2,20060421,2213, 32.0097, 137.0377, 4146,    100.0,  19.1289,  34.8078,2,   -999.0,9,  34.8082,2,    232.0,2,     1.83,2,  -999.00,9,     0.00,2,     0.01,2,     0.02,2, -999.000,9, -999.000,9,  -999.00,9,   -999.0,9,   -999.0,9,-999.0000,9,   -999.0,  9,  -999.00,9,   -999.0,  -999.00,9,  -999.00,9,     0.17,2,     0.15,2,   -999.0,-999.0000, -999,9,   99,  19.1110,  24.8459,   -999.0,9
       KS06-04,  137E,KS-1557,  1,     18,02-19377,2,20060421,2212, 32.0097, 137.0377, 4146,    124.6,  19.0242,  34.8130,2,   -999.0,9,-999.0000,9,    231.0,2,     1.93,2,  -999.00,9,     0.39,2,     0.06,2,     0.04,2, -999.000,9, -999.000,9,  -999.00,9,   -999.0,9,   -999.0,9,-999.0000,9,   -999.0,  9,  -999.00,9,   -999.0,  -999.00,9,  -999.00,9,     0.11,2,     0.09,2,   -999.0,-999.0000, -999,9,  124,  19.0020,  24.8777,   -999.0,9
       KS06-04,  137E,KS-1557,  1,     17,02-16023,2,20060421,2211, 32.0097, 137.0377, 4146,    151.5,  18.9317,  34.8499,2,   -999.0,9,-999.0000,9,    223.0,2,     2.19,2,  -999.00,9,     1.37,2,     0.12,2,     0.08,2, -999.000,9, -999.000,9,  -999.00,9,   -999.0,9,   -999.0,9,-999.0000,9,   -999.0,  9,  -999.00,9,   -999.0,  -999.00,9,  -999.00,9,     0.03,2,     0.03,2,   -999.0,-999.0000, -999,9,  150,  18.9048,  24.9307,   -999.0,9
       KS06-04,  137E,KS-1557,  1,     16,02-16022,2,20060421,2210, 32.0097, 137.0377, 4146,    200.4,  18.5673,  34.8527,2,   -999.0,9,  34.8523,2,    226.0,2,     2.22,2,  -999.00,9,     1.27,2,     0.14,2,     0.08,2, -999.000,9, -999.000,9,  -999.00,9,   -999.0,9,   -999.0,9,-999.0000,9,   -999.0,  9,  -999.00,9,   -999.0,  -999.00,9,  -999.00,9,     0.05,2,     0.05,2,   -999.0,-999.0000, -999,9,  199,  18.5322,  25.0269,   -999.0,9
       KS06-04,  137E,KS-1557,  1,     15,02-16021,2,20060421,2208, 32.0097, 137.0377, 4146,    249.4,  18.4660,  34.8562,2,   -999.0,9,-999.0000,9,    224.0,2,     2.38,2,  -999.00,9,     1.66,2,     0.03,2,     0.09,2, -999.000,9, -999.000,9,  -999.00,9,   -999.0,9,   -999.0,9,-999.0000,9,   -999.0,  9,  -999.00,9,   -999.0,  -999.00,9,  -999.00,9,     0.01,2,     0.02,2,   -999.0,-999.0000, -999,9,  248,  18.4224,  25.0571,   -999.0,9
       KS06-04,  137E,KS-1557,  1,     14,02-16020,2,20060421,2207, 32.0097, 137.0377, 4146,    300.8,  18.1594,  34.8312,2,   -999.0,9,  34.8324,2,    211.0,2,     3.37,2,  -999.00,9,     3.32,2,     0.01,2,     0.20,2, -999.000,9, -999.000,9,  -999.00,9,   -999.0,9,   -999.0,9,-999.0000,9,   -999.0,  9,  -999.00,9,   -999.0,  -999.00,9,  -999.00,9,     0.00,2,     0.01,2,   -999.0,-999.0000, -999,9,  298,  18.1074,  25.1163,   -999.0,9
       KS06-04,  137E,KS-1557,  1,     13,02-16019,2,20060421,2204, 32.0097, 137.0377, 4146,    404.4,  16.8345,  34.7417,2,   -999.0,9,  34.7431,2,    200.0,2,     5.76,2,  -999.00,9,     6.24,2,     0.00,2,     0.37,2, -999.000,9, -999.000,9,  -999.00,9,   -999.0,9,   -999.0,9,-999.0000,9,   -999.0,  9,  -999.00,9,   -999.0,  -999.00,9,  -999.00,9,  -999.00,9,  -999.00,9,   -999.0,-999.0000, -999,9,  401,  16.7680,  25.3708,   -999.0,9
       KS06-04,  137E,KS-1557,  1,     12,02-16018,2,20060421,2202, 32.0097, 137.0377, 4146,    504.9,  15.2411,  34.6117,2,   -999.0,9,  34.6158,2,    190.0,2,     9.99,2,  -999.00,9,     9.75,2,     0.00,2,     0.60,2, -999.000,9, -999.000,9,  -999.00,9,   -999.0,9,   -999.0,9,-999.0000,9,   -999.0,  9,  -999.00,9,   -999.0,  -999.00,9,  -999.00,9,  -999.00,9,  -999.00,9,   -999.0,-999.0000, -999,9,  501,  15.1633,  25.6367,   -999.0,9
       KS06-04,  137E,KS-1557,  1,     11,02-19376,2,20060421,2159, 32.0097, 137.0377, 4146,    605.8,  12.7958,  34.4307,2,   -999.0,9,  34.4328,2,    186.0,2,    17.48,2,  -999.00,9,    14.13,2,     0.00,2,     0.93,2, -999.000,9, -999.000,9,  -999.00,9,   -999.0,9,   -999.0,9,-999.0000,9,   -999.0,  9,  -999.00,9,   -999.0,  -999.00,9,  -999.00,9,  -999.00,9,  -999.00,9,   -999.0,-999.0000, -999,9,  601,  12.7125,  26.0089,   -999.0,9
       KS06-04,  137E,KS-1557,  1,     10,02-19375,2,20060421,2157, 32.0097, 137.0377, 4146,    706.3,   9.9699,  34.2226,2,   -999.0,9,  34.2209,2,    179.0,2,    29.18,2,  -999.00,9,    19.68,2,     0.00,2,     1.35,2, -999.000,9, -999.000,9,  -999.00,9,   -999.0,9,   -999.0,9,-999.0000,9,   -999.0,  9,  -999.00,9,   -999.0,  -999.00,9,  -999.00,9,  -999.00,9,  -999.00,9,   -999.0,-999.0000, -999,9,  700,   9.8868,  26.3640,   -999.0,9
       KS06-04,  137E,KS-1557,  1,      9,02-16015,2,20060421,2154, 32.0097, 137.0377, 4146,    808.3,   7.5861,  34.1175,2,   -999.0,9,  34.1193,2,    150.0,2,    49.72,2,  -999.00,9,    26.49,2,     0.00,2,     1.90,2, -999.000,9, -999.000,9,  -999.00,9,   -999.0,9,   -999.0,9,-999.0000,9,   -999.0,  9,  -999.00,9,   -999.0,  -999.00,9,  -999.00,9,  -999.00,9,  -999.00,9,   -999.0,-999.0000, -999,9,  801,   7.5046,  26.6529,   -999.0,9
       KS06-04,  137E,KS-1557,  1,      8,02-16014,2,20060421,2152, 32.0097, 137.0377, 4146,    908.4,   6.3457,  34.2012,2,   -999.0,9,  34.2032,2,    104.0,2,    71.55,2,  -999.00,9,    32.72,2,     0.00,2,     2.37,2, -999.000,9, -999.000,9,  -999.00,9,   -999.0,9,   -999.0,9,-999.0000,9,   -999.0,  9,  -999.00,9,   -999.0,  -999.00,9,  -999.00,9,  -999.00,9,  -999.00,9,   -999.0,-999.0000, -999,9,  900,   6.2618,  26.8880,   -999.0,9
       KS06-04,  137E,KS-1557,  1,      7,02-19374,2,20060421,2149, 32.0097, 137.0377, 4146,   1010.5,   5.2446,  34.2626,2,   -999.0,9,  34.2664,2,     80.0,2,    90.29,2,  -999.00,9,    36.41,2,     0.00,2,     2.66,2, -999.000,9, -999.000,9,  -999.00,9,   -999.0,9,   -999.0,9,-999.0000,9,   -999.0,  9,  -999.00,9,   -999.0,  -999.00,9,  -999.00,9,  -999.00,9,  -999.00,9,   -999.0,-999.0000, -999,9, 1001,   5.1589,  27.0722,   -999.0,9
       KS06-04,  137E,KS-1557,  1,      6,02-19373,2,20060421,2143, 32.0097, 137.0377, 4146,   1264.5,   3.7271,  34.4031,2,   -999.0,9,  34.2268,4,     68.0,2,   118.42,2,  -999.00,9,    39.81,2,     0.00,2,     2.90,2, -999.000,9, -999.000,9,  -999.00,9,   -999.0,9,   -999.0,9,-999.0000,9,   -999.0,  9,  -999.00,9,   -999.0,  -999.00,9,  -999.00,9,  -999.00,9,  -999.00,9,   -999.0,-999.0000, -999,9, 1252,   3.6318,  27.3485,   -999.0,9
       KS06-04,  137E,KS-1557,  1,      5,02-16011,2,20060421,2138, 32.0097, 137.0377, 4146,   1517.3,   2.9794,  34.4823,2,   -999.0,9,  34.4852,2,     74.0,2,   131.43,2,  -999.00,9,    40.39,2,     0.00,2,     2.92,2, -999.000,9, -999.000,9,  -999.00,9,   -999.0,9,   -999.0,9,-999.0000,9,   -999.0,  9,  -999.00,9,   -999.0,  -999.00,9,  -999.00,9,  -999.00,9,  -999.00,9,   -999.0,-999.0000, -999,9, 1501,   2.8706,  27.4835,   -999.0,9
       KS06-04,  137E,KS-1557,  1,      4,02-16010,2,20060421,2127, 32.0097, 137.0377, 4146,   2023.4,   2.1747,  34.5830,2,   -999.0,9,  34.5832,2,    101.0,2,   141.26,2,  -999.00,9,    39.22,2,     0.00,2,     2.81,2, -999.000,9, -999.000,9,  -999.00,9,   -999.0,9,   -999.0,9,-999.0000,9,   -999.0,  9,  -999.00,9,   -999.0,  -999.00,9,  -999.00,9,  -999.00,9,  -999.00,9,   -999.0,-999.0000, -999,9, 2000,   2.0338,  27.6349,   -999.0,9
       KS06-04,  137E,KS-1557,  1,      3,02-16009,2,20060421,2106, 32.0097, 137.0377, 4146,   3042.5,   1.6216,  34.6631,2,   -999.0,9,  34.6637,2,    142.0,2,   140.38,2,  -999.00,9,    36.97,2,     0.00,2,     2.61,2, -999.000,9, -999.000,9,  -999.00,9,   -999.0,9,   -999.0,9,-999.0000,9,   -999.0,  9,  -999.00,9,   -999.0,  -999.00,9,  -999.00,9,  -999.00,9,  -999.00,9,   -999.0,-999.0000, -999,9, 3000,   1.3981,  27.7471,   -999.0,9
       KS06-04,  137E,KS-1557,  1,      2,02-16008,2,20060421,2047, 32.0097, 137.0377, 4146,   4064.9,   1.5545,  34.6815,2,   -999.0,9,  34.6816,2,    156.0,2,   139.21,2,  -999.00,9,    36.10,2,     0.00,2,     2.54,2, -999.000,9, -999.000,9,  -999.00,9,   -999.0,9,   -999.0,9,-999.0000,9,   -999.0,  9,  -999.00,9,   -999.0,  -999.00,9,  -999.00,9,  -999.00,9,  -999.00,9,   -999.0,-999.0000, -999,9, 3998,   1.2270,  27.7740,   -999.0,9
       KS06-04,  137E,KS-1557,  1,      1,02-16007,2,20060421,2046, 32.0097, 137.0377, 4146,   4119.3,   1.5597,  34.6818,2,   -999.0,9,  34.6824,2,    155.0,2,   138.73,2,  -999.00,9,    36.10,2,     0.00,2,     2.54,2, -999.000,9, -999.000,9,  -999.00,9,   -999.0,9,   -999.0,9,-999.0000,9,   -999.0,  9,  -999.00,9,   -999.0,  -999.00,9,  -999.00,9,  -999.00,9,  -999.00,9,   -999.0,-999.0000, -999,9, 4051,   1.2260,  27.7743,   -999.0,9
       KS06-04,  137E,KS-1558,  1,      2,02-16008,9,20060422,0331, 31.6782, 137.0227, 4214,      5.4,  19.3659,  34.8264,2,   -999.0,9,-999.0000,9,   -999.0,9,  -999.00,9,  -999.00,9,  -999.00,9,  -999.00,9,  -999.00,9, -999.000,9, -999.000,9,  -999.00,9,   -999.0,9,   -999.0,9,-999.0000,9,   -999.0,  9,  -999.00,9,   -999.0,  -999.00,9,  -999.00,9,  -999.00,9,  -999.00,9,   -999.0,-999.0000, -999,9,    5,  19.3649,  24.7949,   -999.0,9
       KS06-04,  137E,KS-1558,  1,      1,02-16007,2,20060422,0331, 31.6782, 137.0227, 4214,      5.4,  19.3658,  34.8263,2,   -999.0,9,-999.0000,9,   -999.0,9,     1.72,2,  -999.00,9,     0.00,2,     0.01,2,     0.01,2, -999.000,9, -999.000,9,  -999.00,9,   1980.3,2,   -999.0,9,   8.0509,2,     25.0, TS,  -999.00,9,   -999.0,  -999.00,9,  -999.00,9,     0.38,2,     0.13,2,   -999.0,-999.0000, -999,9,    5,  19.3648,  24.7948,   -999.0,9
       KS06-04,  137E,KS-1559,  1,      1,02-16007,2,20060422,0851, 31.3590, 137.0447, 4142,      5.4,  19.0045,  34.8370,2,   -999.0,9,-999.0000,9,   -999.0,9,     1.54,2,  -999.00,9,     0.00,2,     0.02,2,     0.03,2, -999.000,9, -999.000,9,  -999.00,9,   1992.5,3,   -999.0,9,   8.0454,6,     25.0, TS,  -999.00,9,   -999.0,  -999.00,9,  -999.00,9,     0.43,2,     0.22,2,   -999.0,-999.0000, -999,9,    5,  19.0035,  24.8957,   -999.0,9
       KS06-04,  137E,KS-1559,  1,      2,02-16008,9,20060422,0851, 31.3590, 137.0447, 4142,      5.7,  19.0032,  34.8367,2,   -999.0,9,-999.0000,9,   -999.0,9,  -999.00,9,  -999.00,9,  -999.00,9,  -999.00,9,  -999.00,9, -999.000,9, -999.000,9,  -999.00,9,   -999.0,9,   -999.0,9,-999.0000,9,   -999.0,  9,  -999.00,9,   -999.0,  -999.00,9,  -999.00,9,  -999.00,9,  -999.00,9,   -999.0,-999.0000, -999,9,    6,  19.0022,  24.8958,   -999.0,9