BOTTLE,20130510GEMDJMAYT
EXPOCODE,SECT_ID,STNNBR,CASTNO,SAMPNO,BTLNBR,BTLNBR_FLAG_W,DATE,TIME,LATITUDE,LONGITUDE,DEPTH,CTDPRS,CTDTMP,CTDSAL,CTDSAL_FLAG_W,CTDOXY,CTDOXY_FLAG_W,SALNTY,SALNTY_FLAG_W,OXYGEN,OXYGEN_FLAG_W,SILCAT,SILCAT_FLAG_W,NITRAT,NITRAT_FLAG_W,NO2+NO3,NO2+NO3_FLAG_W,NITRIT,NITRIT_FLAG_W,PHSPHT,PHSPHT_FLAG_W,CFC-11,CFC-11_FLAG_W,CFC-12,CFC-12_FLAG_W,DELC13,DELC13_FLAG_W,TCARBN,TCARBN_FLAG_W,ALKALI,ALKALI_FLAG_W,PH,PH_FLAG_W,PH_TMP,PH_SCALE,PH_NBS,PH_NBS_FLAG_W,C13ERR,TOTALP,TOTALP_FLAG_W,AMMONI,AMMONI_FLAG_W,CHLORA,CHLORA_FLAG_W,PPHYTN,PPHYTN_FLAG_W,REVPRS,REVTMP,DEPTH_,DEPTH_FLAG,CTDDEP,THETA,SIGTHT,DOC,DOC_FLAG_W
,,,,,,,GMT,GMT,,,METER,DBAR,ITS-90,PSS-78,,UMOL/KG,,PSS-78,,UMOL/KG,,UMOL/KG,,UMOL/KG,,UMOL/KG,,UMOL/KG,,UMOL/KG,,PMOL/KG,,PMOL/KG,,/MILLE,,UMOL/KG,,UMOL/KG,,25_DEG_C,,DEG_C,,,,/MILLE,UMOL/KG,,UMOL/KG,,UG/L,,UG/L,,DBAR,ITS-90,METERS,,METERS,DEG_C,,UMOL/L,
       KS06-04,  137E,KS-1572,  1,     24,02-16030,2,20060426,0800, 20.0127, 136.9810, 4727,      5.4,  28.1554,  34.8016,2,   -999.0,9,  34.8188,4,    207.0,2,     1.12,2,  -999.00,9,     0.00,2,     0.00,2,     0.00,2, -999.000,9, -999.000,9,  -999.00,9,   1948.5,3,   -999.0,9,   8.1130,2,     25.0, TS,     8.23,2,   -999.0,  -999.00,9,  -999.00,9,     0.05,2,     0.01,2,   -999.0,-999.0000, -999,9,    5,  28.1541,  22.1950,   -999.0,9
       KS06-04,  137E,KS-1572,  1,     23,02-19380,2,20060426,0759, 20.0127, 136.9810, 4727,     11.5,  26.3626,  34.7572,2,   -999.0,9,-999.0000,9,    212.0,2,     1.10,2,  -999.00,9,     0.00,2,     0.00,2,     0.00,2, -999.000,9, -999.000,9,  -999.00,9,   1945.9,3,   -999.0,9,   8.1093,2,     25.0, TS,     8.23,2,   -999.0,  -999.00,9,  -999.00,9,     0.04,2,     0.01,2,   -999.0,-999.0000, -999,9,   11,  26.3600,  22.7375,   -999.0,9
       KS06-04,  137E,KS-1572,  1,     22,02-19397,2,20060426,0758, 20.0127, 136.9810, 4727,     25.6,  25.6495,  34.8117,2,   -999.0,9,-999.0000,9,    214.0,2,     1.09,2,  -999.00,9,     0.00,2,     0.00,2,     0.00,2, -999.000,9, -999.000,9,  -999.00,9,   1946.4,2,   -999.0,9,   8.1110,2,     25.0, TS,     8.23,2,   -999.0,  -999.00,9,  -999.00,9,     0.04,2,     0.01,2,   -999.0,-999.0000, -999,9,   25,  25.6438,  23.0017,   -999.0,9
       KS06-04,  137E,KS-1572,  1,     21,02-16027,9,20060426,0753, 20.0127, 136.9810, 4727,     50.7,  24.5589,  34.7839,2,   -999.0,9,-999.0000,9,   -999.0,9,  -999.00,9,  -999.00,9,  -999.00,9,  -999.00,9,  -999.00,9, -999.000,9, -999.000,9,  -999.00,9,   -999.0,9,   -999.0,9,-999.0000,9,   -999.0,  9,  -999.00,9,   -999.0,  -999.00,9,  -999.00,9,  -999.00,9,  -999.00,9,   -999.0,-999.0000, -999,9,   50,  24.5481,  23.3144,   -999.0,9
       KS06-04,  137E,KS-1572,  1,     20,02-16026,9,20060426,0753, 20.0127, 136.9810, 4727,     50.8,  24.5584,  34.7833,2,   -999.0,9,-999.0000,9,   -999.0,9,  -999.00,9,  -999.00,9,  -999.00,9,  -999.00,9,  -999.00,9, -999.000,9, -999.000,9,  -999.00,9,   -999.0,9,   -999.0,9,-999.0000,9,   -999.0,  9,  -999.00,9,   -999.0,  -999.00,9,  -999.00,9,  -999.00,9,  -999.00,9,   -999.0,-999.0000, -999,9,   50,  24.5475,  23.3141,   -999.0,9
       KS06-04,  137E,KS-1572,  1,     19,02-19378,2,20060426,0753, 20.0127, 136.9810, 4727,     50.9,  24.5575,  34.7823,2,   -999.0,9,-999.0000,9,    217.0,2,     1.24,2,  -999.00,9,     0.00,2,     0.00,2,     0.00,2, -999.000,9, -999.000,9,  -999.00,9,   1954.6,2,   -999.0,9,   8.0990,2,     25.0, TS,     8.22,2,   -999.0,  -999.00,9,  -999.00,9,     0.06,2,     0.02,2,   -999.0,-999.0000, -999,9,   51,  24.5466,  23.3137,   -999.0,9
       KS06-04,  137E,KS-1572,  1,     18,02-19377,2,20060426,0752, 20.0127, 136.9810, 4727,     76.1,  23.4125,  34.8179,2,   -999.0,9,-999.0000,9,    216.0,2,     1.34,2,  -999.00,9,     0.00,2,     0.00,2,     0.00,2, -999.000,9, -999.000,9,  -999.00,9,   1960.3,2,   -999.0,9,   8.0874,2,     25.0, TS,     8.20,2,   -999.0,  -999.00,9,  -999.00,9,     0.10,2,     0.05,2,   -999.0,-999.0000, -999,9,   76,  23.3968,  23.6806,   -999.0,9
       KS06-04,  137E,KS-1572,  1,     17,02-16023,2,20060426,0751, 20.0127, 136.9810, 4727,    101.6,  22.3828,  34.8657,2,   -999.0,9,  34.8668,2,    216.0,2,     1.48,2,  -999.00,9,     0.00,2,     0.00,2,     0.00,2, -999.000,9, -999.000,9,  -999.00,9,   1976.3,2,   -999.0,9,   8.0713,2,     25.0, TS,     8.18,2,   -999.0,  -999.00,9,  -999.00,9,     0.16,2,     0.13,2,   -999.0,-999.0000, -999,9,  101,  22.3625,  24.0137,   -999.0,9
       KS06-04,  137E,KS-1572,  1,     16,02-16022,2,20060426,0750, 20.0127, 136.9810, 4727,    126.2,  21.1617,  34.9262,2,   -999.0,9,-999.0000,9,    212.0,2,     1.80,2,  -999.00,9,     0.59,2,     0.15,2,     0.03,2, -999.000,9, -999.000,9,  -999.00,9,   1992.1,2,   -999.0,9,   8.0452,2,     25.0, TS,     8.16,2,   -999.0,  -999.00,9,  -999.00,9,     0.17,2,     0.35,2,   -999.0,-999.0000, -999,9,  125,  21.1374,  24.4003,   -999.0,9
       KS06-04,  137E,KS-1572,  1,     15,02-16021,2,20060426,0749, 20.0127, 136.9810, 4727,    152.1,  20.0757,  34.9229,2,   -999.0,9,-999.0000,9,    201.0,2,     2.31,2,  -999.00,9,     2.05,2,     0.02,2,     0.12,2, -999.000,9, -999.000,9,  -999.00,9,   2012.8,2,   -999.0,9,   8.0078,2,     25.0, TS,     8.12,2,   -999.0,  -999.00,9,  -999.00,9,     0.04,2,     0.10,2,   -999.0,-999.0000, -999,9,  151,  20.0475,  24.6904,   -999.0,9
       KS06-04,  137E,KS-1572,  1,     14,02-16020,2,20060426,0748, 20.0127, 136.9810, 4727,    201.3,  17.9785,  34.8282,2,   -999.0,9,  34.8290,2,    203.0,2,     3.50,2,  -999.00,9,     4.10,2,     0.00,2,     0.23,2, -999.000,9, -999.000,9,  -999.00,9,   2029.2,2,   -999.0,9,   7.9743,2,     25.0, TS,     8.09,2,   -999.0,  -999.00,9,  -999.00,9,     0.00,2,     0.01,2,   -999.0,-999.0000, -999,9,  200,  17.9440,  25.1542,   -999.0,9
       KS06-04,  137E,KS-1572,  1,     13,02-16019,2,20060426,0746, 20.0127, 136.9810, 4727,    251.3,  17.1580,  34.7750,2,   -999.0,9,-999.0000,9,    205.0,2,     4.28,2,  -999.00,9,     5.07,2,     0.00,2,     0.29,2, -999.000,9, -999.000,9,  -999.00,9,   2031.4,2,   -999.0,9,   7.9639,2,     25.0, TS,     8.08,2,   -999.0,  -999.00,9,  -999.00,9,     0.00,2,     0.00,2,   -999.0,-999.0000, -999,9,  250,  17.1163,  25.3139,   -999.0,9
       KS06-04,  137E,KS-1572,  1,     12,02-16018,2,20060426,0745, 20.0127, 136.9810, 4727,    303.4,  16.1998,  34.6919,2,   -999.0,9,  34.6962,2,    202.0,2,     6.21,2,  -999.00,9,     7.02,2,     0.00,2,     0.41,2, -999.000,9, -999.000,9,  -999.00,9,   2043.5,2,   -999.0,9,   7.9328,2,     25.0, TS,     8.05,2,   -999.0,  -999.00,9,  -999.00,9,     0.00,2,     0.00,2,   -999.0,-999.0000, -999,9,  301,  16.1513,  25.4760,   -999.0,9
       KS06-04,  137E,KS-1572,  1,     11,02-19376,2,20060426,0742, 20.0127, 136.9810, 4727,    405.3,  13.0224,  34.4306,2,   -999.0,9,  34.4361,4,    186.0,2,    14.42,2,  -999.00,9,    13.35,2,     0.00,2,     0.88,2, -999.000,9, -999.000,9,  -999.00,9,   2092.3,2,   -999.0,9,   7.8262,2,     25.0, TS,     7.94,2,   -999.0,  -999.00,9,  -999.00,9,  -999.00,9,  -999.00,9,   -999.0,-999.0000, -999,9,  402,  12.9665,  25.9585,   -999.0,9
       KS06-04,  137E,KS-1572,  1,     10,02-19375,2,20060426,0740, 20.0127, 136.9810, 4727,    505.6,   9.7482,  34.2211,2,   -999.0,9,  34.2222,2,    156.0,2,    29.51,2,  -999.00,9,    21.82,2,     0.00,2,     1.53,2, -999.000,9, -999.000,9,  -999.00,9,   2150.7,2,   -999.0,9,   7.6900,2,     25.0, TS,     7.80,2,   -999.0,  -999.00,9,  -999.00,9,  -999.00,9,  -999.00,9,   -999.0,-999.0000, -999,9,  502,   9.6901,  26.3958,   -999.0,9
       KS06-04,  137E,KS-1572,  1,      9,02-16015,2,20060426,0737, 20.0127, 136.9810, 4727,    606.3,   7.5091,  34.1833,2,   -999.0,9,  34.1821,2,    108.0,2,    50.76,2,  -999.00,9,    30.49,2,     0.00,2,     2.20,2, -999.000,9, -999.000,9,  -999.00,9,   2218.8,2,   -999.0,9,   7.5474,2,     25.0, TS,     7.66,2,   -999.0,  -999.00,9,  -999.00,9,  -999.00,9,  -999.00,9,   -999.0,-999.0000, -999,9,  602,   7.4491,  26.7125,   -999.0,9
       KS06-04,  137E,KS-1572,  1,      8,02-16014,2,20060426,0734, 20.0127, 136.9810, 4727,    707.6,   6.1545,  34.2391,2,   -999.0,9,  34.2360,2,     76.0,2,    69.95,2,  -999.00,9,    35.74,2,     0.00,2,     2.61,2, -999.000,9, -999.000,9,  -999.00,9,   2264.5,2,   -999.0,9,   7.4739,2,     25.0, TS,     7.57,2,   -999.0,  -999.00,9,  -999.00,9,  -999.00,9,  -999.00,9,   -999.0,-999.0000, -999,9,  702,   6.0911,  26.9398,   -999.0,9
       KS06-04,  137E,KS-1572,  1,      7,02-19374,2,20060426,0731, 20.0127, 136.9810, 4727,    808.3,   5.3324,  34.3058,2,   -999.0,9,  34.3056,2,     65.0,2,    83.49,2,  -999.00,9,    38.07,2,     0.00,2,     2.79,2, -999.000,9, -999.000,9,  -999.00,9,   2290.0,2,   -999.0,9,   7.4513,2,     25.0, TS,     7.55,2,   -999.0,  -999.00,9,  -999.00,9,  -999.00,9,  -999.00,9,   -999.0,-999.0000, -999,9,  802,   5.2644,  27.0940,   -999.0,9
       KS06-04,  137E,KS-1572,  1,      6,02-19373,2,20060426,0729, 20.0127, 136.9810, 4727,    909.8,   4.3102,  34.3339,2,   -999.0,9,  34.3327,2,     59.0,2,   104.00,2,  -999.00,9,    40.01,2,     0.00,2,     2.93,2, -999.000,9, -999.000,9,  -999.00,9,   2328.1,3,   -999.0,9,   7.4197,2,     25.0, TS,     7.52,2,   -999.0,  -999.00,9,  -999.00,9,  -999.00,9,  -999.00,9,   -999.0,-999.0000, -999,9,  902,   4.2401,  27.2312,   -999.0,9
       KS06-04,  137E,KS-1572,  1,      5,02-16011,2,20060426,0726, 20.0127, 136.9810, 4727,   1009.6,   3.8471,  34.4206,2,   -999.0,9,  34.4190,2,     62.0,2,   113.24,2,  -999.00,9,    40.59,2,     0.00,2,     2.96,2, -999.000,9, -999.000,9,  -999.00,9,   2317.2,3,   -999.0,9,   7.4357,2,     25.0, TS,     7.52,2,   -999.0,  -999.00,9,  -999.00,9,  -999.00,9,  -999.00,9,   -999.0,-999.0000, -999,9, 1001,   3.7720,  27.3485,   -999.0,9
       KS06-04,  137E,KS-1572,  1,      4,02-16010,2,20060426,0721, 20.0127, 136.9810, 4727,   1261.8,   2.9832,  34.5165,2,   -999.0,9,  34.5156,2,     77.0,2,   129.72,2,  -999.00,9,    40.10,2,     0.00,2,     2.91,2, -999.000,9, -999.000,9,  -999.00,9,   2338.7,2,   -999.0,9,   7.4628,2,     25.0, TS,     7.55,2,   -999.0,  -999.00,9,  -999.00,9,  -999.00,9,  -999.00,9,   -999.0,-999.0000, -999,9, 1250,   2.8951,  27.5086,   -999.0,9
       KS06-04,  137E,KS-1572,  1,      3,02-16009,2,20060426,0715, 20.0127, 136.9810, 4727,   1515.0,   2.5505,  34.5764,2,   -999.0,9,  34.5759,2,     98.0,2,   134.69,2,  -999.00,9,    39.12,2,     0.00,2,     2.80,2, -999.000,9, -999.000,9,  -999.00,9,   2336.4,2,   -999.0,9,   7.5043,2,     25.0, TS,     7.60,2,   -999.0,  -999.00,9,  -999.00,9,  -999.00,9,  -999.00,9,   -999.0,-999.0000, -999,9, 1500,   2.4466,  27.5957,   -999.0,9
       KS06-04,  137E,KS-1572,  1,      2,02-16008,2,20060426,0710, 20.0127, 136.9810, 4727,   1769.7,   2.2516,  34.6047,2,   -999.0,9,  34.6040,2,    106.0,2,   137.44,2,  -999.00,9,    38.83,2,     0.00,2,     2.76,2, -999.000,9, -999.000,9,  -999.00,9,   2339.2,6,   -999.0,9,   7.5213,2,     25.0, TS,     7.60,2,   -999.0,  -999.00,9,  -999.00,9,  -999.00,9,  -999.00,9,   -999.0,-999.0000, -999,9, 1751,   2.1307,  27.6446,   -999.0,9
       KS06-04,  137E,KS-1572,  1,      1,02-16007,2,20060426,0705, 20.0127, 136.9810, 4727,   2023.7,   2.0003,  34.6278,2,   -999.0,9,  34.6276,2,    117.0,2,   139.94,2,  -999.00,9,    38.44,2,     0.00,2,     2.72,2, -999.000,9, -999.000,9,  -999.00,9,   2339.6,2,   -999.0,9,   7.5349,6,     25.0, TS,     7.62,2,   -999.0,  -999.00,9,  -999.00,9,  -999.00,9,  -999.00,9,   -999.0,-999.0000, -999,9, 2002,   1.8619,  27.6843,   -999.0,9