BOTTLE,20130510GEMDJMAYT
EXPOCODE,SECT_ID,STNNBR,CASTNO,SAMPNO,BTLNBR,BTLNBR_FLAG_W,DATE,TIME,LATITUDE,LONGITUDE,DEPTH,CTDPRS,CTDTMP,CTDSAL,CTDSAL_FLAG_W,CTDOXY,CTDOXY_FLAG_W,SALNTY,SALNTY_FLAG_W,OXYGEN,OXYGEN_FLAG_W,SILCAT,SILCAT_FLAG_W,NITRAT,NITRAT_FLAG_W,NO2+NO3,NO2+NO3_FLAG_W,NITRIT,NITRIT_FLAG_W,PHSPHT,PHSPHT_FLAG_W,CFC-11,CFC-11_FLAG_W,CFC-12,CFC-12_FLAG_W,DELC13,DELC13_FLAG_W,TCARBN,TCARBN_FLAG_W,ALKALI,ALKALI_FLAG_W,PH,PH_FLAG_W,PH_TMP,PH_SCALE,PH_NBS,PH_NBS_FLAG_W,C13ERR,TOTALP,TOTALP_FLAG_W,AMMONI,AMMONI_FLAG_W,CHLORA,CHLORA_FLAG_W,PPHYTN,PPHYTN_FLAG_W,REVPRS,REVTMP,DEPTH_,DEPTH_FLAG,CTDDEP,THETA,SIGTHT,DOC,DOC_FLAG_W
,,,,,,,GMT,GMT,,,METER,DBAR,ITS-90,PSS-78,,UMOL/KG,,PSS-78,,UMOL/KG,,UMOL/KG,,UMOL/KG,,UMOL/KG,,UMOL/KG,,UMOL/KG,,PMOL/KG,,PMOL/KG,,/MILLE,,UMOL/KG,,UMOL/KG,,25_DEG_C,,DEG_C,,,,/MILLE,UMOL/KG,,UMOL/KG,,UG/L,,UG/L,,DBAR,ITS-90,METERS,,METERS,DEG_C,,UMOL/L,
       KS06-04,  137E,KS-1567,  1,     24,02-16030,2,20060424,2239, 25.0093, 137.0183, 4979,      5.0,  25.0704,  34.9061,2,   -999.0,9,  34.9034,2,    212.0,2,     1.33,2,  -999.00,9,     0.00,2,     0.00,2,     0.00,2, -999.000,9, -999.000,9,  -999.00,9,   1961.0,2,   -999.0,9,   8.1002,2,     25.0, TS,     8.21,2,   -999.0,  -999.00,9,  -999.00,9,     0.05,2,     0.02,2,   -999.0,-999.0000, -999,9,    5,  25.0693,  23.2492,   -999.0,9
       KS06-04,  137E,KS-1567,  1,     23,02-19380,2,20060424,2238, 25.0093, 137.0183, 4979,     10.9,  25.0782,  34.9053,2,   -999.0,9,-999.0000,9,    212.0,2,     1.32,2,  -999.00,9,     0.00,2,     0.00,2,     0.00,2, -999.000,9, -999.000,9,  -999.00,9,   1962.2,2,   -999.0,9,   8.0997,2,     25.0, TS,     8.22,2,   -999.0,  -999.00,9,  -999.00,9,     0.06,2,     0.02,2,   -999.0,-999.0000, -999,9,   11,  25.0758,  23.2466,   -999.0,9
       KS06-04,  137E,KS-1567,  1,     22,02-19397,2,20060424,2237, 25.0093, 137.0183, 4979,     25.7,  24.8571,  34.9060,2,   -999.0,9,-999.0000,9,    212.0,2,     1.27,2,  -999.00,9,     0.00,2,     0.00,2,     0.00,2, -999.000,9, -999.000,9,  -999.00,9,   1960.7,2,   -999.0,9,   8.1021,2,     25.0, TS,     8.22,2,   -999.0,  -999.00,9,  -999.00,9,     0.05,2,     0.02,2,   -999.0,-999.0000, -999,9,   26,  24.8516,  23.3152,   -999.0,9
       KS06-04,  137E,KS-1567,  1,     21,02-16027,2,20060424,2233, 25.0093, 137.0183, 4979,     49.8,  24.7191,  34.8974,2,   -999.0,9,-999.0000,9,    212.0,2,     1.32,2,  -999.00,9,     0.00,2,     0.00,2,     0.00,2, -999.000,9, -999.000,9,  -999.00,9,   1959.1,2,   -999.0,9,   8.1013,2,     25.0, TS,     8.22,2,   -999.0,  -999.00,9,  -999.00,9,     0.05,2,     0.02,2,   -999.0,-999.0000, -999,9,   49,  24.7084,  23.3520,   -999.0,9
       KS06-04,  137E,KS-1567,  1,     20,02-16026,2,20060424,2231, 25.0093, 137.0183, 4979,     75.1,  24.4311,  34.9065,2,   -999.0,9,-999.0000,9,    212.0,2,     1.32,2,  -999.00,9,     0.00,2,     0.00,2,     0.00,2, -999.000,9, -999.000,9,  -999.00,9,   1966.0,2,   -999.0,9,   8.1001,2,     25.0, TS,     8.22,2,   -999.0,  -999.00,9,  -999.00,9,     0.07,2,     0.03,2,   -999.0,-999.0000, -999,9,   75,  24.4151,  23.4470,   -999.0,9
       KS06-04,  137E,KS-1567,  1,     19,02-19378,2,20060424,2230, 25.0093, 137.0183, 4979,    100.3,  23.3989,  34.9225,2,   -999.0,9,  34.9233,2,    214.0,2,     1.37,2,  -999.00,9,     0.00,2,     0.00,2,     0.00,2, -999.000,9, -999.000,9,  -999.00,9,   1970.0,2,   -999.0,9,   8.0826,2,     25.0, TS,     8.20,2,   -999.0,  -999.00,9,  -999.00,9,     0.12,2,     0.09,2,   -999.0,-999.0000, -999,9,  100,  23.3782,  23.7653,   -999.0,9
       KS06-04,  137E,KS-1567,  1,     18,02-19377,2,20060424,2229, 25.0093, 137.0183, 4979,    125.6,  22.3602,  34.9371,2,   -999.0,9,-999.0000,9,    215.0,2,     1.52,2,  -999.00,9,     0.00,2,     0.01,2,     0.00,2, -999.000,9, -999.000,9,  -999.00,9,   2027.5,4,   -999.0,9,   8.0689,2,     25.0, TS,     8.18,2,   -999.0,  -999.00,9,  -999.00,9,     0.23,2,     0.24,2,   -999.0,-999.0000, -999,9,  125,  22.3351,  24.0757,   -999.0,9
       KS06-04,  137E,KS-1567,  1,     17,02-16023,2,20060424,2228, 25.0093, 137.0183, 4979,    151.2,  21.2777,  34.9399,2,   -999.0,9,-999.0000,9,    204.0,2,     2.04,2,  -999.00,9,     0.88,2,     0.07,2,     0.05,2, -999.000,9, -999.000,9,  -999.00,9,   1979.2,3,   -999.0,9,   8.0309,2,     25.0, TS,     8.15,2,   -999.0,  -999.00,9,  -999.00,9,     0.09,2,     0.27,2,   -999.0,-999.0000, -999,9,  150,  21.2485,  24.3803,   -999.0,9
       KS06-04,  137E,KS-1567,  1,     16,02-16022,2,20060424,2227, 25.0093, 137.0183, 4979,    202.4,  19.2362,  34.8928,2,   -999.0,9,  34.8934,2,    198.0,2,     2.93,2,  -999.00,9,     3.02,2,     0.01,2,     0.18,2, -999.000,9, -999.000,9,  -999.00,9,   2001.4,3,   -999.0,9,   7.9884,2,     25.0, TS,     8.10,2,   -999.0,  -999.00,9,  -999.00,9,     0.02,2,     0.03,2,   -999.0,-999.0000, -999,9,  201,  19.1998,  24.8881,   -999.0,9
       KS06-04,  137E,KS-1567,  1,     15,02-16021,2,20060424,2225, 25.0093, 137.0183, 4979,    252.6,  18.0117,  34.8276,2,   -999.0,9,-999.0000,9,    204.0,2,     3.65,2,  -999.00,9,     4.10,2,     0.00,2,     0.23,2, -999.000,9, -999.000,9,  -999.00,9,   2030.3,3,   -999.0,9,   7.9747,2,     25.0, TS,     8.09,2,   -999.0,  -999.00,9,  -999.00,9,     0.00,2,     0.01,2,   -999.0,-999.0000, -999,9,  251,  17.9683,  25.1478,   -999.0,9
       KS06-04,  137E,KS-1567,  1,     14,02-16020,2,20060424,2224, 25.0093, 137.0183, 4979,    303.8,  17.2071,  34.7789,2,   -999.0,9,  34.7797,2,    207.0,2,     4.48,2,  -999.00,9,     4.97,2,     0.00,2,     0.28,2, -999.000,9, -999.000,9,  -999.00,9,   2030.2,3,   -999.0,9,   7.9653,2,     25.0, TS,     8.07,2,   -999.0,  -999.00,9,  -999.00,9,     0.00,2,     0.01,2,   -999.0,-999.0000, -999,9,  302,  17.1565,  25.3073,   -999.0,9
       KS06-04,  137E,KS-1567,  1,     13,02-16019,2,20060424,2221, 25.0093, 137.0183, 4979,    403.3,  15.0480,  34.5937,2,   -999.0,9,  34.5954,2,    195.0,2,     9.42,2,  -999.00,9,     9.46,2,     0.00,2,     0.58,2, -999.000,9, -999.000,9,  -999.00,9,   2061.4,3,   -999.0,9,   7.8931,2,     25.0, TS,     8.00,2,   -999.0,  -999.00,9,  -999.00,9,  -999.00,9,  -999.00,9,   -999.0,-999.0000, -999,9,  400,  14.9866,  25.6616,   -999.0,9
       KS06-04,  137E,KS-1567,  1,     12,02-16018,2,20060424,2219, 25.0093, 137.0183, 4979,    505.4,  12.4367,  34.3950,2,   -999.0,9,  34.3974,2,    180.0,2,    17.68,2,  -999.00,9,    14.91,2,     0.00,2,     0.99,2, -999.000,9, -999.000,9,  -999.00,9,   2102.2,3,   -999.0,9,   7.8038,2,     25.0, TS,     7.91,2,   -999.0,  -999.00,9,  -999.00,9,  -999.00,9,  -999.00,9,   -999.0,-999.0000, -999,9,  502,  12.3688,  26.0484,   -999.0,9
       KS06-04,  137E,KS-1567,  1,     11,02-19376,2,20060424,2216, 25.0093, 137.0183, 4979,    605.6,   9.4659,  34.2225,2,   -999.0,9,  34.2236,2,    162.0,2,    35.30,2,  -999.00,9,    22.02,2,     0.00,2,     1.53,2, -999.000,9, -999.000,9,  -999.00,9,   2154.5,3,   -999.0,9,   7.6997,2,     25.0, TS,     7.81,2,   -999.0,  -999.00,9,  -999.00,9,  -999.00,9,  -999.00,9,   -999.0,-999.0000, -999,9,  601,   9.3972,  26.4452,   -999.0,9
       KS06-04,  137E,KS-1567,  1,     10,02-19375,2,20060424,2214, 25.0093, 137.0183, 4979,    705.7,   7.1228,  34.1382,2,   -999.0,9,  34.1397,2,    129.0,2,    57.10,2,  -999.00,9,    29.22,2,     0.00,2,     2.09,2, -999.000,9, -999.000,9,  -999.00,9,   2213.2,3,   -999.0,9,   7.5822,2,     25.0, TS,     7.70,2,   -999.0,  -999.00,9,  -999.00,9,  -999.00,9,  -999.00,9,   -999.0,-999.0000, -999,9,  700,   7.0546,  26.7324,   -999.0,9
       KS06-04,  137E,KS-1567,  1,      9,02-16015,2,20060424,2211, 25.0093, 137.0183, 4979,    808.8,   5.3957,  34.1444,2,   -999.0,9,  34.1460,2,     92.0,2,    80.08,2,  -999.00,9,    35.25,2,     0.00,2,  -999.00,4, -999.000,9, -999.000,9,  -999.00,9,   2267.7,3,   -999.0,9,   7.4798,2,     25.0, TS,     7.59,2,   -999.0,  -999.00,9,  -999.00,9,  -999.00,9,  -999.00,9,   -999.0,-999.0000, -999,9,  802,   5.3275,  26.9588,   -999.0,9
       KS06-04,  137E,KS-1567,  1,      8,02-16014,2,20060424,2209, 25.0093, 137.0183, 4979,    908.1,   4.3867,  34.2353,2,   -999.0,9,  34.2346,2,     64.0,2,   101.23,2,  -999.00,9,    39.23,2,     0.00,2,     2.86,2, -999.000,9, -999.000,9,  -999.00,9,   2314.8,3,   -999.0,9,   7.4183,2,     25.0, TS,     7.52,2,   -999.0,  -999.00,9,  -999.00,9,  -999.00,9,  -999.00,9,   -999.0,-999.0000, -999,9,  900,   4.3163,  27.1447,   -999.0,9
       KS06-04,  137E,KS-1567,  1,      7,02-19374,2,20060424,2206, 25.0093, 137.0183, 4979,   1009.3,   3.9033,  34.3142,2,   -999.0,9,  34.3168,2,     54.0,2,   112.41,2,  -999.00,9,    40.79,2,     0.00,2,     2.98,2, -999.000,9, -999.000,9,  -999.00,9,   2333.6,3,   -999.0,9,   7.4052,2,     25.0, TS,     7.50,2,   -999.0,  -999.00,9,  -999.00,9,  -999.00,9,  -999.00,9,   -999.0,-999.0000, -999,9, 1000,   3.8279,  27.2582,   -999.0,9
       KS06-04,  137E,KS-1567,  1,      6,02-19373,2,20060424,2201, 25.0093, 137.0183, 4979,   1262.1,   3.1647,  34.4498,2,   -999.0,9,  34.4500,2,     61.0,2,   128.32,2,  -999.00,9,    41.17,2,     0.00,2,     2.99,2, -999.000,9, -999.000,9,  -999.00,9,   2351.8,3,   -999.0,9,   7.4277,2,     25.0, TS,     7.52,2,   -999.0,  -999.00,9,  -999.00,9,  -999.00,9,  -999.00,9,   -999.0,-999.0000, -999,9, 1250,   3.0749,  27.4390,   -999.0,9
       KS06-04,  137E,KS-1567,  1,      5,02-16011,2,20060424,2156, 25.0093, 137.0183, 4979,   1517.1,   2.6154,  34.5245,2,   -999.0,9,  34.5250,2,     79.0,2,   135.80,2,  -999.00,9,    40.48,2,     0.00,2,     2.92,2, -999.000,9, -999.000,9,  -999.00,9,   2352.9,3,   -999.0,9,   7.4642,2,     25.0, TS,     7.55,2,   -999.0,  -999.00,9,  -999.00,9,  -999.00,9,  -999.00,9,   -999.0,-999.0000, -999,9, 1502,   2.5107,  27.5487,   -999.0,9
       KS06-04,  137E,KS-1567,  1,      4,02-16010,2,20060424,2146, 25.0093, 137.0183, 4979,   2023.9,   2.0622,  34.6137,2,   -999.0,9,  34.6144,2,    114.0,2,   139.03,2,  -999.00,9,    38.53,2,     0.00,2,     2.75,2, -999.000,9, -999.000,9,  -999.00,9,   2340.9,3,   -999.0,9,   7.5309,6,     25.0, TS,     7.62,2,   -999.0,  -999.00,9,  -999.00,9,  -999.00,9,  -999.00,9,   -999.0,-999.0000, -999,9, 2001,   1.9229,  27.6683,   -999.0,9
       KS06-04,  137E,KS-1567,  1,      3,02-16009,2,20060424,2127, 25.0093, 137.0183, 4979,   3041.1,   1.6468,  34.6628,2,   -999.0,9,  34.6624,2,    142.0,2,   140.16,2,  -999.00,9,    36.97,2,     0.00,2,     2.61,2, -999.000,9, -999.000,9,  -999.00,9,   -999.0,9,   -999.0,9,-999.0000,9,   -999.0,  9,     7.66,2,   -999.0,  -999.00,9,  -999.00,9,  -999.00,9,  -999.00,9,   -999.0,-999.0000, -999,9, 3000,   1.4229,  27.7451,   -999.0,9
       KS06-04,  137E,KS-1567,  1,      2,02-16008,2,20060424,2108, 25.0093, 137.0183, 4979,   4063.4,   1.5380,  34.6830,2,   -999.0,9,  34.6824,2,    157.0,2,   137.65,2,  -999.00,9,    36.10,2,     0.00,2,     2.53,2, -999.000,9, -999.000,9,  -999.00,9,   -999.0,9,   -999.0,9,-999.0000,9,   -999.0,  9,     7.69,2,   -999.0,  -999.00,9,  -999.00,9,  -999.00,9,  -999.00,9,   -999.0,-999.0000, -999,9, 3999,   1.2111,  27.7763,   -999.0,9
       KS06-04,  137E,KS-1567,  1,      1,02-16007,2,20060424,2052, 25.0093, 137.0183, 4979,   4940.1,   1.6137,  34.6851,2,   -999.0,9,  34.6848,2,    160.0,2,   137.18,2,  -999.00,9,    36.10,2,     0.00,2,     2.51,2, -999.000,9, -999.000,9,  -999.00,9,   -999.0,9,   -999.0,9,-999.0000,9,   -999.0,  9,     7.69,2,   -999.0,  -999.00,9,  -999.00,9,  -999.00,9,  -999.00,9,   -999.0,-999.0000, -999,9, 4852,   1.1830,  27.7800,   -999.0,9