BOTTLE,20130510GEMDJMAYT
EXPOCODE,SECT_ID,STNNBR,CASTNO,SAMPNO,BTLNBR,BTLNBR_FLAG_W,DATE,TIME,LATITUDE,LONGITUDE,DEPTH,CTDPRS,CTDTMP,CTDSAL,CTDSAL_FLAG_W,CTDOXY,CTDOXY_FLAG_W,SALNTY,SALNTY_FLAG_W,OXYGEN,OXYGEN_FLAG_W,SILCAT,SILCAT_FLAG_W,NITRAT,NITRAT_FLAG_W,NO2+NO3,NO2+NO3_FLAG_W,NITRIT,NITRIT_FLAG_W,PHSPHT,PHSPHT_FLAG_W,CFC-11,CFC-11_FLAG_W,CFC-12,CFC-12_FLAG_W,DELC13,DELC13_FLAG_W,TCARBN,TCARBN_FLAG_W,ALKALI,ALKALI_FLAG_W,PH,PH_FLAG_W,PH_TMP,PH_SCALE,PH_NBS,PH_NBS_FLAG_W,C13ERR,TOTALP,TOTALP_FLAG_W,AMMONI,AMMONI_FLAG_W,CHLORA,CHLORA_FLAG_W,PPHYTN,PPHYTN_FLAG_W,REVPRS,REVTMP,DEPTH_,DEPTH_FLAG,CTDDEP,THETA,SIGTHT,DOC,DOC_FLAG_W
,,,,,,,GMT,GMT,,,METER,DBAR,ITS-90,PSS-78,,UMOL/KG,,PSS-78,,UMOL/KG,,UMOL/KG,,UMOL/KG,,UMOL/KG,,UMOL/KG,,UMOL/KG,,PMOL/KG,,PMOL/KG,,/MILLE,,UMOL/KG,,UMOL/KG,,25_DEG_C,,DEG_C,,,,/MILLE,UMOL/KG,,UMOL/KG,,UG/L,,UG/L,,DBAR,ITS-90,METERS,,METERS,DEG_C,,UMOL/L,
       KS06-04,  137E,KS-1582,  1,     24,02-16030,9,20060430,0852,  9.9910, 136.9947, 5051,      4.9,  28.9012,  33.9605,2,   -999.0,9,-999.0000,9,   -999.0,9,  -999.00,9,  -999.00,9,  -999.00,9,  -999.00,9,  -999.00,9, -999.000,9, -999.000,9,  -999.00,9,   -999.0,9,   -999.0,9,-999.0000,9,   -999.0,  9,  -999.00,9,   -999.0,  -999.00,9,  -999.00,9,  -999.00,9,  -999.00,9,   -999.0,-999.0000, -999,9,    5,  28.9000,  21.3170,   -999.0,9
       KS06-04,  137E,KS-1582,  1,     23,02-19380,9,20060430,0852,  9.9910, 136.9947, 5051,      5.5,  28.8976,  33.9608,2,   -999.0,9,-999.0000,9,   -999.0,9,  -999.00,9,  -999.00,9,  -999.00,9,  -999.00,9,  -999.00,9, -999.000,9, -999.000,9,  -999.00,9,   -999.0,9,   -999.0,9,-999.0000,9,   -999.0,  9,  -999.00,9,   -999.0,  -999.00,9,  -999.00,9,  -999.00,9,  -999.00,9,   -999.0,-999.0000, -999,9,    5,  28.8963,  21.3186,   -999.0,9
       KS06-04,  137E,KS-1582,  1,     22,02-19397,2,20060430,0851,  9.9910, 136.9947, 5051,      5.9,  28.9011,  33.9603,2,   -999.0,9,  33.9579,2,    204.0,2,     1.48,2,  -999.00,9,     0.00,2,     0.00,2,     0.00,2, -999.000,9, -999.000,9,  -999.00,9,   1898.9,3,   -999.0,9,   8.1223,2,     25.0, TS,     8.23,2,   -999.0,  -999.00,9,  -999.00,9,     0.05,2,     0.02,2,   -999.0,-999.0000, -999,9,    6,  28.8997,  21.3171,   -999.0,9
       KS06-04,  137E,KS-1582,  1,     21,02-16027,2,20060430,0850,  9.9910, 136.9947, 5051,     10.3,  28.8940,  33.9598,2,   -999.0,9,-999.0000,9,    200.0,2,     1.46,2,  -999.00,9,     0.00,2,     0.00,2,     0.00,2, -999.000,9, -999.000,9,  -999.00,9,   1901.6,3,   -999.0,9,   8.1243,2,     25.0, TS,     8.23,2,   -999.0,  -999.00,9,  -999.00,9,     0.05,2,     0.02,2,   -999.0,-999.0000, -999,9,   10,  28.8915,  21.3194,   -999.0,9
       KS06-04,  137E,KS-1582,  1,     20,02-16026,2,20060430,0849,  9.9910, 136.9947, 5051,     26.3,  28.7814,  33.9686,2,   -999.0,9,-999.0000,9,    202.0,2,     1.56,2,  -999.00,9,     0.00,2,     0.00,2,     0.00,2, -999.000,9, -999.000,9,  -999.00,9,   1898.6,3,   -999.0,9,   8.1213,2,     25.0, TS,     8.24,2,   -999.0,  -999.00,9,  -999.00,9,     0.05,2,     0.02,2,   -999.0,-999.0000, -999,9,   26,  28.7751,  21.3646,   -999.0,9
       KS06-04,  137E,KS-1582,  1,     19,02-19378,2,20060430,0846,  9.9910, 136.9947, 5051,     51.9,  28.6522,  33.9643,2,   -999.0,9,-999.0000,9,    202.0,2,     1.55,2,  -999.00,9,     0.00,2,     0.00,2,     0.00,2, -999.000,9, -999.000,9,  -999.00,9,   1899.9,3,   -999.0,9,   8.1209,2,     25.0, TS,     8.24,2,   -999.0,  -999.00,9,  -999.00,9,     0.08,2,     0.03,2,   -999.0,-999.0000, -999,9,   52,  28.6398,  21.4061,   -999.0,9
       KS06-04,  137E,KS-1582,  1,     18,02-19377,2,20060430,0845,  9.9910, 136.9947, 5051,     75.9,  28.3568,  34.0247,2,   -999.0,9,-999.0000,9,    203.0,2,     1.43,2,  -999.00,9,     0.00,2,     0.00,2,     0.01,2, -999.000,9, -999.000,9,  -999.00,9,   1902.3,3,   -999.0,9,   8.1200,2,     25.0, TS,     8.23,2,   -999.0,  -999.00,9,  -999.00,9,     0.10,2,     0.04,2,   -999.0,-999.0000, -999,9,   75,  28.3388,  21.5507,   -999.0,9
       KS06-04,  137E,KS-1582,  1,     17,02-16023,2,20060430,0844,  9.9910, 136.9947, 5051,    101.4,  25.6364,  34.5605,2,   -999.0,9,  34.5519,4,    189.0,2,     2.37,2,  -999.00,9,     0.10,2,     0.02,2,     0.11,2, -999.000,9, -999.000,9,  -999.00,9,   1979.2,3,   -999.0,9,   8.0506,2,     25.0, TS,     8.17,2,   -999.0,  -999.00,9,  -999.00,9,     0.24,2,     0.33,2,   -999.0,-999.0000, -999,9,  101,  25.6141,  22.8213,   -999.0,9
       KS06-04,  137E,KS-1582,  1,     16,02-16022,2,20060430,0843,  9.9910, 136.9947, 5051,    126.5,  22.9973,  34.8348,2,   -999.0,9,-999.0000,9,    178.0,2,     2.87,2,  -999.00,9,     2.05,2,     0.06,2,     0.25,2, -999.000,9, -999.000,9,  -999.00,9,   2032.6,3,   -999.0,9,   7.9885,2,     25.0, TS,     8.10,2,   -999.0,  -999.00,9,  -999.00,9,     0.16,2,     0.37,2,   -999.0,-999.0000, -999,9,  126,  22.9715,  23.8165,   -999.0,9
       KS06-04,  137E,KS-1582,  1,     15,02-16021,2,20060430,0842,  9.9910, 136.9947, 5051,    151.5,  19.5003,  34.8769,2,   -999.0,9,-999.0000,9,    174.0,2,     4.01,2,  -999.00,9,     4.78,2,     0.01,2,     0.36,2, -999.000,9, -999.000,9,  -999.00,9,   2063.6,3,   -999.0,9,   7.9327,2,     25.0, TS,     8.04,2,   -999.0,  -999.00,9,  -999.00,9,     0.05,2,     0.11,2,   -999.0,-999.0000, -999,9,  151,  19.4728,  24.8055,   -999.0,9
       KS06-04,  137E,KS-1582,  1,     14,02-16020,2,20060430,0840,  9.9910, 136.9947, 5051,    201.0,  14.1559,  34.5151,2,   -999.0,9,  34.5225,4,    162.0,2,    12.54,2,  -999.00,9,    13.65,2,     0.00,2,     0.91,2, -999.000,9, -999.000,9,  -999.00,9,   2105.8,3,   -999.0,9,   7.8071,2,     25.0, TS,     7.92,2,   -999.0,  -999.00,9,  -999.00,9,     0.00,2,     0.01,2,   -999.0,-999.0000, -999,9,  200,  14.1267,  25.7857,   -999.0,9
       KS06-04,  137E,KS-1582,  1,     13,02-16019,2,20060430,0839,  9.9910, 136.9947, 5051,    251.6,  11.7710,  34.4754,2,   -999.0,9,-999.0000,9,    115.0,2,    24.96,2,  -999.00,9,    23.09,2,     0.00,2,     1.62,2, -999.000,9, -999.000,9,  -999.00,9,   2170.7,3,   -999.0,9,   7.6736,2,     25.0, TS,     7.79,2,   -999.0,  -999.00,9,  -999.00,9,     0.00,2,     0.02,2,   -999.0,-999.0000, -999,9,  250,  11.7387,  26.2310,   -999.0,9
       KS06-04,  137E,KS-1582,  1,     12,02-16018,2,20060430,0837,  9.9910, 136.9947, 5051,    302.7,  10.2985,  34.4407,2,   -999.0,9,  34.4412,2,     99.0,2,    32.13,2,  -999.00,9,    27.18,2,     0.00,2,     1.95,2, -999.000,9, -999.000,9,  -999.00,9,   2197.2,3,   -999.0,9,   7.6098,2,     25.0, TS,     7.72,2,   -999.0,  -999.00,9,  -999.00,9,     0.00,2,     0.01,2,   -999.0,-999.0000, -999,9,  301,  10.2628,  26.4701,   -999.0,9
       KS06-04,  137E,KS-1582,  1,     11,02-19376,2,20060430,0834,  9.9910, 136.9947, 5051,    405.4,   8.0584,  34.4324,2,   -999.0,9,  34.4318,2,     74.0,2,    47.99,2,  -999.00,9,    33.50,2,     0.00,2,     2.43,2, -999.000,9, -999.000,9,  -999.00,9,   2245.2,3,   -999.0,9,   7.5210,2,     25.0, TS,     7.62,2,   -999.0,  -999.00,9,  -999.00,9,  -999.00,9,  -999.00,9,   -999.0,-999.0000, -999,9,  403,   8.0170,  26.8255,   -999.0,9
       KS06-04,  137E,KS-1582,  1,     10,02-19375,2,20060430,0832,  9.9910, 136.9947, 5051,    503.0,   7.0974,  34.4685,2,   -999.0,9,  34.4685,2,     79.0,2,    55.41,2,  -999.00,9,    35.15,2,     0.00,2,     2.57,2, -999.000,9, -999.000,9,  -999.00,9,   2256.6,3,   -999.0,9,   7.5133,2,     25.0, TS,     7.61,2,   -999.0,  -999.00,9,  -999.00,9,  -999.00,9,  -999.00,9,   -999.0,-999.0000, -999,9,  500,   7.0493,  26.9933,   -999.0,9
       KS06-04,  137E,KS-1582,  1,      9,02-16015,2,20060430,0829,  9.9910, 136.9947, 5051,    605.3,   6.3845,  34.4853,2,   -999.0,9,  34.4842,2,     83.0,2,    62.12,2,  -999.00,9,    36.32,2,     0.00,2,     2.65,2, -999.000,9, -999.000,9,  -999.00,9,   2270.4,3,   -999.0,9,   7.5139,2,     25.0, TS,     7.60,2,   -999.0,  -999.00,9,  -999.00,9,  -999.00,9,  -999.00,9,   -999.0,-999.0000, -999,9,  601,   6.3294,  27.1035,   -999.0,9
       KS06-04,  137E,KS-1582,  1,      8,02-16014,2,20060430,0827,  9.9910, 136.9947, 5051,    705.2,   5.8995,  34.5047,2,   -999.0,9,  34.5029,2,     85.0,2,    67.63,2,  -999.00,9,    37.09,2,     0.00,2,     2.73,2, -999.000,9, -999.000,9,  -999.00,9,   2275.4,3,   -999.0,9,   7.5079,2,     25.0, TS,     7.60,2,   -999.0,  -999.00,9,  -999.00,9,  -999.00,9,  -999.00,9,   -999.0,-999.0000, -999,9,  700,   5.8374,  27.1818,   -999.0,9
       KS06-04,  137E,KS-1582,  1,      7,02-19374,2,20060430,0824,  9.9910, 136.9947, 5051,    806.1,   5.5378,  34.5236,2,   -999.0,9,  34.5217,2,     90.0,2,    72.05,2,  -999.00,9,    37.38,2,     0.00,2,     2.74,2, -999.000,9, -999.000,9,  -999.00,9,   2279.5,3,   -999.0,9,   7.5164,2,     25.0, TS,     7.60,2,   -999.0,  -999.00,9,  -999.00,9,  -999.00,9,  -999.00,9,   -999.0,-999.0000, -999,9,  800,   5.4684,  27.2422,   -999.0,9
       KS06-04,  137E,KS-1582,  1,      6,02-19373,2,20060430,0822,  9.9910, 136.9947, 5051,    907.2,   5.1986,  34.5299,2,   -999.0,9,  34.5286,2,     88.0,2,    78.03,2,  -999.00,9,    37.96,2,     0.00,2,     2.77,2, -999.000,9, -999.000,9,  -999.00,9,   2286.9,3,   -999.0,9,   7.5118,2,     25.0, TS,     7.60,2,   -999.0,  -999.00,9,  -999.00,9,  -999.00,9,  -999.00,9,   -999.0,-999.0000, -999,9,  900,   5.1222,  27.2883,   -999.0,9
       KS06-04,  137E,KS-1582,  1,      5,02-16011,2,20060430,0819,  9.9910, 136.9947, 5051,   1008.3,   4.7115,  34.5346,2,   -999.0,9,  34.5337,2,     80.0,2,    89.24,2,  -999.00,9,    39.13,2,     0.00,2,     2.90,2, -999.000,9, -999.000,9,  -999.00,9,   2303.9,3,   -999.0,9,   7.4950,2,     25.0, TS,     7.57,2,   -999.0,  -999.00,9,  -999.00,9,  -999.00,9,  -999.00,9,   -999.0,-999.0000, -999,9, 1000,   4.6296,  27.3482,   -999.0,9
       KS06-04,  137E,KS-1582,  1,      4,02-16010,2,20060430,0814,  9.9910, 136.9947, 5051,   1260.4,   3.6599,  34.5719,2,   -999.0,9,  34.5704,2,     94.0,2,   108.43,2,  -999.00,9,    39.12,2,     0.00,2,     2.89,2, -999.000,9, -999.000,9,  -999.00,9,   2321.8,3,   -999.0,9,   7.5107,2,     25.0, TS,     7.59,2,   -999.0,  -999.00,9,  -999.00,9,  -999.00,9,  -999.00,9,   -999.0,-999.0000, -999,9, 1250,   3.5652,  27.4896,   -999.0,9
       KS06-04,  137E,KS-1582,  1,      3,02-16009,2,20060430,0808,  9.9910, 136.9947, 5051,   1512.9,   3.0250,  34.5943,2,   -999.0,9,  34.5926,2,    101.0,2,   120.63,2,  -999.00,9,    39.12,2,     0.00,2,     2.87,2, -999.000,9, -999.000,9,  -999.00,9,   2331.1,3,   -999.0,9,   7.5167,2,     25.0, TS,     7.60,2,   -999.0,  -999.00,9,  -999.00,9,  -999.00,9,  -999.00,9,   -999.0,-999.0000, -999,9, 1499,   2.9158,  27.5689,   -999.0,9
       KS06-04,  137E,KS-1582,  1,      2,02-16008,2,20060430,0803,  9.9910, 136.9947, 5051,   1767.5,   2.5950,  34.6141,2,   -999.0,9,  34.6128,2,    108.0,2,   128.22,2,  -999.00,9,    39.02,2,     0.00,2,     2.86,2, -999.000,9, -999.000,9,  -999.00,9,   2336.3,3,   -999.0,9,   7.5261,2,     25.0, TS,     7.61,2,   -999.0,  -999.00,9,  -999.00,9,  -999.00,9,  -999.00,9,   -999.0,-999.0000, -999,9, 1750,   2.4697,  27.6239,   -999.0,9
       KS06-04,  137E,KS-1582,  1,      1,02-16007,2,20060430,0758,  9.9910, 136.9947, 5051,   2021.7,   2.3033,  34.6305,2,   -999.0,9,  34.6289,2,    115.0,2,   133.15,2,  -999.00,9,    38.73,2,     0.00,2,     2.81,2, -999.000,9, -999.000,9,  -999.00,9,   2338.2,3,   -999.0,9,   7.5394,6,     25.0, TS,     7.62,2,   -999.0,  -999.00,9,  -999.00,9,  -999.00,9,  -999.00,9,   -999.0,-999.0000, -999,9, 2001,   2.1604,  27.6627,   -999.0,9