BOTTLE,20130510GEMDJMAYT
EXPOCODE,SECT_ID,STNNBR,CASTNO,SAMPNO,BTLNBR,BTLNBR_FLAG_W,DATE,TIME,LATITUDE,LONGITUDE,DEPTH,CTDPRS,CTDTMP,CTDSAL,CTDSAL_FLAG_W,CTDOXY,CTDOXY_FLAG_W,SALNTY,SALNTY_FLAG_W,OXYGEN,OXYGEN_FLAG_W,SILCAT,SILCAT_FLAG_W,NITRAT,NITRAT_FLAG_W,NO2+NO3,NO2+NO3_FLAG_W,NITRIT,NITRIT_FLAG_W,PHSPHT,PHSPHT_FLAG_W,CFC-11,CFC-11_FLAG_W,CFC-12,CFC-12_FLAG_W,DELC13,DELC13_FLAG_W,TCARBN,TCARBN_FLAG_W,ALKALI,ALKALI_FLAG_W,PH,PH_FLAG_W,PH_TMP,PH_SCALE,PH_NBS,PH_NBS_FLAG_W,C13ERR,TOTALP,TOTALP_FLAG_W,AMMONI,AMMONI_FLAG_W,CHLORA,CHLORA_FLAG_W,PPHYTN,PPHYTN_FLAG_W,REVPRS,REVTMP,DEPTH_,DEPTH_FLAG,CTDDEP,THETA,SIGTHT,DOC,DOC_FLAG_W
,,,,,,,GMT,GMT,,,METER,DBAR,ITS-90,PSS-78,,UMOL/KG,,PSS-78,,UMOL/KG,,UMOL/KG,,UMOL/KG,,UMOL/KG,,UMOL/KG,,UMOL/KG,,PMOL/KG,,PMOL/KG,,/MILLE,,UMOL/KG,,UMOL/KG,,25_DEG_C,,DEG_C,,,,/MILLE,UMOL/KG,,UMOL/KG,,UG/L,,UG/L,,DBAR,ITS-90,METERS,,METERS,DEG_C,,UMOL/L,
       KS06-04,  137E,KS-1589,  1,     22,02-19373,2,20060502,0500,  2.9968, 136.9912, 4493,      5.6,  29.8496,  34.6214,2,   -999.0,9,  34.6146,4,    198.0,2,     1.19,2,  -999.00,9,     0.00,2,     0.00,2,     0.11,2, -999.000,9, -999.000,9,  -999.00,9,   1926.6,2,   -999.0,9,   8.1307,2,     25.0, TS,     8.24,2,   -999.0,  -999.00,9,  -999.00,9,     0.07,2,     0.03,2,   -999.0,-999.0000, -999,9,    6,  29.8482,  21.4941,   -999.0,9
       KS06-04,  137E,KS-1589,  1,     21,02-16011,2,20060502,0459,  2.9968, 136.9912, 4493,     10.8,  29.4797,  34.6322,2,   -999.0,9,-999.0000,9,    197.0,2,     1.18,2,  -999.00,9,     0.00,2,     0.00,2,     0.11,2, -999.000,9, -999.000,9,  -999.00,9,   -999.0,9,   -999.0,9,-999.0000,9,   -999.0,  9,     8.24,2,   -999.0,  -999.00,9,  -999.00,9,     0.08,2,     0.02,2,   -999.0,-999.0000, -999,9,   11,  29.4771,  21.6278,   -999.0,9
       KS06-04,  137E,KS-1589,  1,     20,02-16010,2,20060502,0457,  2.9968, 136.9912, 4493,     25.8,  29.6043,  34.8175,2,   -999.0,9,-999.0000,9,    198.0,2,     1.16,2,  -999.00,9,     0.00,2,     0.00,2,     0.12,2, -999.000,9, -999.000,9,  -999.00,9,   -999.0,9,   -999.0,9,-999.0000,9,   -999.0,  9,     8.25,2,   -999.0,  -999.00,9,  -999.00,9,     0.08,2,     0.04,2,   -999.0,-999.0000, -999,9,   26,  29.5980,  21.7260,   -999.0,9
       KS06-04,  137E,KS-1589,  1,     19,02-16009,2,20060502,0454,  2.9968, 136.9912, 4493,     50.3,  29.0906,  35.2096,2,   -999.0,9,-999.0000,9,    193.0,2,     1.58,2,  -999.00,9,     0.98,2,     0.13,2,     0.23,2, -999.000,9, -999.000,9,  -999.00,9,   -999.0,9,   -999.0,9,-999.0000,9,   -999.0,  9,     8.21,2,   -999.0,  -999.00,9,  -999.00,9,     0.38,2,     0.26,2,   -999.0,-999.0000, -999,9,   50,  29.0784,  22.1952,   -999.0,9
       KS06-04,  137E,KS-1589,  1,     18,02-16007,2,20060502,0453,  2.9968, 136.9912, 4493,     76.3,  28.3352,  35.3324,2,   -999.0,9,-999.0000,9,    177.0,2,     1.94,2,  -999.00,9,     3.33,2,     0.55,2,     0.34,2, -999.000,9, -999.000,9,  -999.00,9,   -999.0,9,   -999.0,9,-999.0000,9,   -999.0,  9,     8.17,2,   -999.0,  -999.00,9,  -999.00,9,     0.36,2,     0.49,2,   -999.0,-999.0000, -999,9,   76,  28.3170,  22.5405,   -999.0,9
       KS06-04,  137E,KS-1589,  1,     17,02-16023,2,20060502,0450,  2.9968, 136.9912, 4493,    101.5,  26.7109,  35.1707,2,   -999.0,9,  33.2133,4,    142.0,2,     2.61,2,  -999.00,9,     6.84,2,     0.06,2,     0.52,2, -999.000,9, -999.000,9,  -999.00,9,   -999.0,9,   -999.0,9,-999.0000,9,   -999.0,  9,     8.12,2,   -999.0,  -999.00,9,  -999.00,9,     0.13,2,     0.29,2,   -999.0,-999.0000, -999,9,  101,  26.6878,  22.9458,   -999.0,9
       KS06-04,  137E,KS-1589,  1,     16,02-16022,2,20060502,0449,  2.9968, 136.9912, 4493,    126.8,  25.7842,  35.0938,2,   -999.0,9,-999.0000,9,    138.0,2,     3.18,2,  -999.00,9,     7.72,2,     0.03,2,     0.55,2, -999.000,9, -999.000,9,  -999.00,9,   -999.0,9,   -999.0,9,-999.0000,9,   -999.0,  9,     8.10,2,   -999.0,  -999.00,9,  -999.00,9,     0.06,2,     0.15,2,   -999.0,-999.0000, -999,9,  126,  25.7561,  23.1800,   -999.0,9
       KS06-04,  137E,KS-1589,  1,     15,02-16021,2,20060502,0448,  2.9968, 136.9912, 4493,    152.2,  24.5512,  35.1376,2,   -999.0,9,-999.0000,9,    135.0,2,     4.02,2,  -999.00,9,     8.50,2,     0.01,2,     0.60,2, -999.000,9, -999.000,9,  -999.00,9,   -999.0,9,   -999.0,9,-999.0000,9,   -999.0,  9,     8.09,2,   -999.0,  -999.00,9,  -999.00,9,     0.03,2,     0.06,2,   -999.0,-999.0000, -999,9,  151,  24.5186,  23.5908,   -999.0,9
       KS06-04,  137E,KS-1589,  1,     14,02-16020,2,20060502,0446,  2.9968, 136.9912, 4493,    203.3,  21.5795,  35.0293,2,   -999.0,9,  33.0728,4,    139.0,2,     7.43,2,  -999.00,9,    10.05,2,     0.00,2,     0.69,2, -999.000,9, -999.000,9,  -999.00,9,   -999.0,9,   -999.0,9,-999.0000,9,   -999.0,  9,     8.04,2,   -999.0,  -999.00,9,  -999.00,9,     0.01,2,     0.02,2,   -999.0,-999.0000, -999,9,  202,  21.5398,  24.3682,   -999.0,9
       KS06-04,  137E,KS-1589,  1,     13,02-16019,2,20060502,0445,  2.9968, 136.9912, 4493,    251.7,  14.6418,  34.6460,2,   -999.0,9,-999.0000,9,    152.0,2,    14.79,2,  -999.00,9,    14.72,2,     0.00,2,     1.00,2, -999.000,9, -999.000,9,  -999.00,9,   -999.0,9,   -999.0,9,-999.0000,9,   -999.0,  9,     7.92,2,   -999.0,  -999.00,9,  -999.00,9,     0.00,2,     0.02,2,   -999.0,-999.0000, -999,9,  250,  14.6044,  25.7850,   -999.0,9
       KS06-04,  137E,KS-1589,  1,     12,02-16018,2,20060502,0443,  2.9968, 136.9912, 4493,    304.1,  11.9055,  34.5270,2,   -999.0,9,  34.5317,2,    131.0,2,    24.67,2,  -999.00,9,    21.24,2,     0.00,2,     1.49,2, -999.000,9, -999.000,9,  -999.00,9,   -999.0,9,   -999.0,9,-999.0000,9,   -999.0,  9,     7.83,2,   -999.0,  -999.00,9,  -999.00,9,     0.00,2,     0.02,2,   -999.0,-999.0000, -999,9,  302,  11.8660,  26.2471,   -999.0,9
       KS06-04,  137E,KS-1589,  1,     11,02-19376,2,20060502,0441,  2.9968, 136.9912, 4493,    403.9,   8.2419,  34.5323,2,   -999.0,9,  34.5351,2,     86.0,2,    42.70,2,  -999.00,9,    32.62,2,     0.00,2,     2.34,2, -999.000,9, -999.000,9,  -999.00,9,   -999.0,9,   -999.0,9,-999.0000,9,   -999.0,  9,     7.66,2,   -999.0,  -999.00,9,  -999.00,9,  -999.00,9,  -999.00,9,   -999.0,-999.0000, -999,9,  401,   8.2000,  26.8764,   -999.0,9
       KS06-04,  137E,KS-1589,  1,     10,02-19375,2,20060502,0439,  2.9968, 136.9912, 4493,    505.4,   7.3904,  34.5620,2,   -999.0,9,  34.5604,2,    111.0,2,    41.00,2,  -999.00,9,    32.52,2,     0.00,2,     2.31,2, -999.000,9, -999.000,9,  -999.00,9,   -999.0,9,   -999.0,9,-999.0000,9,   -999.0,  9,     7.69,2,   -999.0,  -999.00,9,  -999.00,9,  -999.00,9,  -999.00,9,   -999.0,-999.0000, -999,9,  502,   7.3409,  27.0259,   -999.0,9
       KS06-04,  137E,KS-1589,  1,      9,02-16015,2,20060502,0436,  2.9968, 136.9912, 4493,    605.5,   6.7983,  34.5438,2,   -999.0,9,  34.5429,2,    119.0,2,    44.37,2,  -999.00,9,    33.01,2,     0.00,2,     2.35,2, -999.000,9, -999.000,9,  -999.00,9,   -999.0,9,   -999.0,9,-999.0000,9,   -999.0,  9,     7.69,2,   -999.0,  -999.00,9,  -999.00,9,  -999.00,9,  -999.00,9,   -999.0,-999.0000, -999,9,  601,   6.7412,  27.0948,   -999.0,9
       KS06-04,  137E,KS-1589,  1,      8,02-16014,2,20060502,0434,  2.9968, 136.9912, 4493,    708.7,   6.0757,  34.5367,2,   -999.0,9,  34.5355,2,     96.0,2,    59.25,2,  -999.00,9,    36.22,2,     0.00,2,     2.62,2, -999.000,9, -999.000,9,  -999.00,9,   -999.0,9,   -999.0,9,-999.0000,9,   -999.0,  9,     7.64,2,   -999.0,  -999.00,9,  -999.00,9,  -999.00,9,  -999.00,9,   -999.0,-999.0000, -999,9,  704,   6.0123,  27.1850,   -999.0,9
       KS06-04,  137E,KS-1589,  1,      7,02-19374,2,20060502,0432,  2.9968, 136.9912, 4493,    808.5,   5.4617,  34.5385,2,   -999.0,9,  34.5364,2,     96.0,2,    69.00,2,  -999.00,9,    37.09,2,     0.00,2,     2.70,2, -999.000,9, -999.000,9,  -999.00,9,   -999.0,9,   -999.0,9,-999.0000,9,   -999.0,  9,     7.62,2,   -999.0,  -999.00,9,  -999.00,9,  -999.00,9,  -999.00,9,   -999.0,-999.0000, -999,9,  802,   5.3926,  27.2631,   -999.0,9
       KS06-04,  137E,KS-1589,  1,      6,02-19373,2,20060502,0429,  2.9968, 136.9912, 4493,    908.2,   4.8709,  34.5480,2,   -999.0,9,  34.5468,2,     92.0,2,    81.91,2,  -999.00,9,    38.16,2,     0.00,2,     2.78,2, -999.000,9, -999.000,9,  -999.00,9,   -999.0,9,   -999.0,9,-999.0000,9,   -999.0,  9,     7.61,2,   -999.0,  -999.00,9,  -999.00,9,  -999.00,9,  -999.00,9,   -999.0,-999.0000, -999,9,  901,   4.7967,  27.3401,   -999.0,9
       KS06-04,  137E,KS-1589,  1,      5,02-16011,2,20060502,0427,  2.9968, 136.9912, 4493,   1009.1,   4.4201,  34.5585,2,   -999.0,9,  34.5563,2,     93.0,2,    90.12,2,  -999.00,9,    38.54,2,     0.00,2,     2.83,2, -999.000,9, -999.000,9,  -999.00,9,   -999.0,9,   -999.0,9,-999.0000,9,   -999.0,  9,     7.61,2,   -999.0,  -999.00,9,  -999.00,9,  -999.00,9,  -999.00,9,   -999.0,-999.0000, -999,9, 1001,   4.3403,  27.3989,   -999.0,9
       KS06-04,  137E,KS-1589,  1,      4,02-16010,2,20060502,0422,  2.9968, 136.9912, 4493,   1262.1,   3.5866,  34.5824,2,   -999.0,9,  34.5812,2,     96.0,2,   106.82,2,  -999.00,9,    39.12,2,     0.00,2,     2.86,2, -999.000,9, -999.000,9,  -999.00,9,   -999.0,9,   -999.0,9,-999.0000,9,   -999.0,  9,     7.61,2,   -999.0,  -999.00,9,  -999.00,9,  -999.00,9,  -999.00,9,   -999.0,-999.0000, -999,9, 1251,   3.4925,  27.5051,   -999.0,9
       KS06-04,  137E,KS-1589,  1,      3,02-16009,2,20060502,0417,  2.9968, 136.9912, 4493,   1514.9,   2.9716,  34.6038,2,   -999.0,9,  34.6026,2,    103.0,2,   119.45,2,  -999.00,9,    39.02,2,     0.00,2,     2.85,2, -999.000,9, -999.000,9,  -999.00,9,   -999.0,9,   -999.0,9,-999.0000,9,   -999.0,  9,     7.62,2,   -999.0,  -999.00,9,  -999.00,9,  -999.00,9,  -999.00,9,   -999.0,-999.0000, -999,9, 1501,   2.8628,  27.5813,   -999.0,9
       KS06-04,  137E,KS-1589,  1,      2,02-16008,2,20060502,0411,  2.9968, 136.9912, 4493,   1768.5,   2.4618,  34.6259,2,   -999.0,9,  34.6242,2,    112.0,2,   129.18,2,  -999.00,9,    38.63,2,     0.00,2,     2.81,2, -999.000,9, -999.000,9,  -999.00,9,   -999.0,9,   -999.0,9,-999.0000,9,   -999.0,  9,     7.63,2,   -999.0,  -999.00,9,  -999.00,9,  -999.00,9,  -999.00,9,   -999.0,-999.0000, -999,9, 1751,   2.3381,  27.6444,   -999.0,9
       KS06-04,  137E,KS-1589,  1,      1,02-16007,2,20060502,0406,  2.9968, 136.9912, 4493,   2022.6,   2.1882,  34.6401,2,   -999.0,9,  34.6380,2,    119.0,2,   135.30,2,  -999.00,9,    38.44,2,     0.00,2,     2.78,2, -999.000,9, -999.000,9,  -999.00,9,   -999.0,9,   -999.0,9,-999.0000,9,   -999.0,  9,     7.64,2,   -999.0,  -999.00,9,  -999.00,9,  -999.00,9,  -999.00,9,   -999.0,-999.0000, -999,9, 2002,   2.0469,  27.6796,   -999.0,9