BOTTLE,20130510GEMDJMAYT
EXPOCODE,SECT_ID,STNNBR,CASTNO,SAMPNO,BTLNBR,BTLNBR_FLAG_W,DATE,TIME,LATITUDE,LONGITUDE,DEPTH,CTDPRS,CTDTMP,CTDSAL,CTDSAL_FLAG_W,CTDOXY,CTDOXY_FLAG_W,SALNTY,SALNTY_FLAG_W,OXYGEN,OXYGEN_FLAG_W,SILCAT,SILCAT_FLAG_W,NITRAT,NITRAT_FLAG_W,NO2+NO3,NO2+NO3_FLAG_W,NITRIT,NITRIT_FLAG_W,PHSPHT,PHSPHT_FLAG_W,CFC-11,CFC-11_FLAG_W,CFC-12,CFC-12_FLAG_W,DELC13,DELC13_FLAG_W,TCARBN,TCARBN_FLAG_W,ALKALI,ALKALI_FLAG_W,PH,PH_FLAG_W,PH_TMP,PH_SCALE,PH_NBS,PH_NBS_FLAG_W,C13ERR,TOTALP,TOTALP_FLAG_W,AMMONI,AMMONI_FLAG_W,CHLORA,CHLORA_FLAG_W,PPHYTN,PPHYTN_FLAG_W,REVPRS,REVTMP,DEPTH_,DEPTH_FLAG,CTDDEP,THETA,SIGTHT,DOC,DOC_FLAG_W
,,,,,,,GMT,GMT,,,METER,DBAR,ITS-90,PSS-78,,UMOL/KG,,PSS-78,,UMOL/KG,,UMOL/KG,,UMOL/KG,,UMOL/KG,,UMOL/KG,,UMOL/KG,,PMOL/KG,,PMOL/KG,,/MILLE,,UMOL/KG,,UMOL/KG,,25_DEG_C,,DEG_C,,,,/MILLE,UMOL/KG,,UMOL/KG,,UG/L,,UG/L,,DBAR,ITS-90,METERS,,METERS,DEG_C,,UMOL/L,
       KS06-04,  137E,KS-1562,  1,     24,02-16030,2,20060423,0416, 30.0413, 137.0255, 4466,      6.1,  20.0274,  34.7667,2,   -999.0,9,  34.7659,2,    228.0,2,     1.56,2,  -999.00,9,     0.10,2,     0.07,2,     0.02,2, -999.000,9, -999.000,9,  -999.00,9,   1976.0,2,   -999.0,9,   8.0558,2,     25.0, TS,     8.16,2,   -999.0,  -999.00,9,  -999.00,9,     0.48,2,     0.23,2,   -999.0,-999.0000, -999,9,    6,  20.0263,  24.5769,   -999.0,9
       KS06-04,  137E,KS-1562,  1,     23,02-19380,2,20060423,0415, 30.0413, 137.0255, 4466,     11.2,  20.0175,  34.7671,2,   -999.0,9,-999.0000,9,    228.0,2,     1.60,2,  -999.00,9,     0.10,2,     0.07,2,     0.02,2, -999.000,9, -999.000,9,  -999.00,9,   1977.6,2,   -999.0,9,   8.0555,2,     25.0, TS,     8.16,2,   -999.0,  -999.00,9,  -999.00,9,     0.53,2,     0.17,2,   -999.0,-999.0000, -999,9,   11,  20.0154,  24.5800,   -999.0,9
       KS06-04,  137E,KS-1562,  1,     22,02-19397,2,20060423,0414, 30.0413, 137.0255, 4466,     26.8,  20.0130,  34.7683,2,   -999.0,9,-999.0000,9,    228.0,2,     1.58,2,  -999.00,9,     0.10,2,     0.07,2,     0.02,2, -999.000,9, -999.000,9,  -999.00,9,   1977.2,2,   -999.0,9,   8.0535,2,     25.0, TS,     8.16,2,   -999.0,  -999.00,9,  -999.00,9,     0.48,2,     0.20,2,   -999.0,-999.0000, -999,9,   27,  20.0081,  24.5829,   -999.0,9
       KS06-04,  137E,KS-1562,  1,     21,02-16027,2,20060423,0410, 30.0413, 137.0255, 4466,     50.0,  20.0138,  34.7675,2,   -999.0,9,-999.0000,9,    228.0,2,     1.57,2,  -999.00,9,     0.10,2,     0.08,2,     0.02,2, -999.000,9, -999.000,9,  -999.00,9,   1976.9,2,   -999.0,9,   8.0569,2,     25.0, TS,     8.16,2,   -999.0,  -999.00,9,  -999.00,9,     0.50,2,     0.18,2,   -999.0,-999.0000, -999,9,   50,  20.0046,  24.5832,   -999.0,9
       KS06-04,  137E,KS-1562,  1,     20,02-16026,2,20060423,0409, 30.0413, 137.0255, 4466,     74.7,  19.6183,  34.8120,2,   -999.0,9,-999.0000,9,    221.0,2,     1.87,2,  -999.00,9,     1.07,2,     0.19,2,     0.07,2, -999.000,9, -999.000,9,  -999.00,9,   1990.4,2,   -999.0,9,   8.0414,2,     25.0, TS,     8.14,2,   -999.0,  -999.00,9,  -999.00,9,     0.10,2,     0.06,2,   -999.0,-999.0000, -999,9,   74,  19.6047,  24.7218,   -999.0,9
       KS06-04,  137E,KS-1562,  1,     19,02-19378,2,20060423,0408, 30.0413, 137.0255, 4466,    100.5,  19.3250,  34.8165,2,   -999.0,9,  34.8174,2,    221.0,2,     2.02,2,  -999.00,9,     1.37,2,     0.14,2,     0.08,2, -999.000,9, -999.000,9,  -999.00,9,   1994.0,2,   -999.0,9,   8.0364,2,     25.0, TS,     8.14,2,   -999.0,  -999.00,9,  -999.00,9,     0.03,2,     0.04,2,   -999.0,-999.0000, -999,9,  100,  19.3069,  24.8022,   -999.0,9
       KS06-04,  137E,KS-1562,  1,     18,02-19377,2,20060423,0407, 30.0413, 137.0255, 4466,    125.3,  18.9859,  34.8237,2,   -999.0,9,-999.0000,9,    228.0,2,     1.84,2,  -999.00,9,     0.88,2,     0.44,2,     0.06,2, -999.000,9, -999.000,9,  -999.00,9,   1993.3,2,   -999.0,9,   8.0380,2,     25.0, TS,     8.14,2,   -999.0,  -999.00,9,  -999.00,9,     0.05,2,     0.05,2,   -999.0,-999.0000, -999,9,  124,  18.9636,  24.8957,   -999.0,9
       KS06-04,  137E,KS-1562,  1,     17,02-16023,2,20060423,0406, 30.0413, 137.0255, 4466,    151.5,  18.8064,  34.8410,2,   -999.0,9,-999.0000,9,    228.0,2,     1.88,2,  -999.00,9,     0.98,2,     0.46,2,     0.06,2, -999.000,9, -999.000,9,  -999.00,9,   1998.1,2,   -999.0,9,   8.0375,2,     25.0, TS,     8.14,2,   -999.0,  -999.00,9,  -999.00,9,     0.06,2,     0.05,2,   -999.0,-999.0000, -999,9,  150,  18.7796,  24.9556,   -999.0,9
       KS06-04,  137E,KS-1562,  1,     16,02-16022,2,20060423,0404, 30.0413, 137.0255, 4466,    202.9,  18.5453,  34.8634,2,   -999.0,9,  34.8631,2,    226.0,2,     2.08,2,  -999.00,9,     1.37,2,     0.01,2,     0.08,2, -999.000,9, -999.000,9,  -999.00,9,   2004.9,2,   -999.0,9,   8.0226,2,     25.0, TS,     8.13,2,   -999.0,  -999.00,9,  -999.00,9,     0.01,2,     0.02,2,   -999.0,-999.0000, -999,9,  201,  18.5097,  25.0407,   -999.0,9
       KS06-04,  137E,KS-1562,  1,     15,02-16021,2,20060423,0402, 30.0413, 137.0255, 4466,    251.5,  18.4668,  34.8610,2,   -999.0,9,-999.0000,9,    224.0,2,     2.17,2,  -999.00,9,     1.66,2,     0.01,2,     0.10,2, -999.000,9, -999.000,9,  -999.00,9,   2005.8,2,   -999.0,9,   8.0236,2,     25.0, TS,     8.13,2,   -999.0,  -999.00,9,  -999.00,9,     0.01,2,     0.02,2,   -999.0,-999.0000, -999,9,  250,  18.4228,  25.0606,   -999.0,9
       KS06-04,  137E,KS-1562,  1,     14,02-16020,2,20060423,0401, 30.0413, 137.0255, 4466,    303.4,  18.2713,  34.8497,2,   -999.0,9,  34.8607,4,    219.0,2,     2.63,2,  -999.00,9,     2.54,2,     0.01,2,     0.14,2, -999.000,9, -999.000,9,  -999.00,9,   2007.5,2,   -999.0,9,   8.0117,2,     25.0, TS,     8.11,2,   -999.0,  -999.00,9,  -999.00,9,     0.00,2,     0.01,2,   -999.0,-999.0000, -999,9,  301,  18.2186,  25.1029,   -999.0,9
       KS06-04,  137E,KS-1562,  1,     13,02-16019,2,20060423,0358, 30.0413, 137.0255, 4466,    404.6,  17.0322,  34.7698,2,   -999.0,9,  34.7706,2,    209.0,2,     4.57,2,  -999.00,9,     5.27,2,     0.01,2,     0.29,2, -999.000,9, -999.000,9,  -999.00,9,   2032.7,2,   -999.0,9,   7.9674,2,     25.0, TS,     8.07,2,   -999.0,  -999.00,9,  -999.00,9,  -999.00,9,  -999.00,9,   -999.0,-999.0000, -999,9,  401,  16.9651,  25.3458,   -999.0,9
       KS06-04,  137E,KS-1562,  1,     12,02-16018,2,20060423,0355, 30.0413, 137.0255, 4466,    503.1,  15.2725,  34.6180,2,   -999.0,9,  34.6203,2,    195.0,2,     9.42,2,  -999.00,9,     9.36,2,     0.00,2,     0.58,2, -999.000,9, -999.000,9,  -999.00,9,   2059.8,2,   -999.0,9,   7.9012,2,     25.0, TS,     8.00,2,   -999.0,  -999.00,9,  -999.00,9,  -999.00,9,  -999.00,9,   -999.0,-999.0000, -999,9,  499,  15.1949,  25.6346,   -999.0,9
       KS06-04,  137E,KS-1562,  1,     11,02-19376,2,20060423,0352, 30.0413, 137.0255, 4466,    603.7,  12.8673,  34.4352,2,   -999.0,9,  34.4385,2,    188.0,2,    16.73,2,  -999.00,9,    13.84,2,     0.00,2,     0.90,2, -999.000,9, -999.000,9,  -999.00,9,   2092.5,2,   -999.0,9,   7.8265,2,     25.0, TS,     7.93,2,   -999.0,  -999.00,9,  -999.00,9,  -999.00,9,  -999.00,9,   -999.0,-999.0000, -999,9,  599,  12.7840,  25.9982,   -999.0,9
       KS06-04,  137E,KS-1562,  1,     10,02-19375,2,20060423,0349, 30.0413, 137.0255, 4466,    706.1,   9.5939,  34.2020,2,   -999.0,9,  34.2068,4,    174.0,3,    31.28,2,  -999.00,9,    20.75,2,     0.00,2,     1.43,2, -999.000,9, -999.000,9,  -999.00,9,   2145.2,2,   -999.0,9,   7.7176,2,     25.0, TS,     7.82,2,   -999.0,  -999.00,9,  -999.00,9,  -999.00,9,  -999.00,9,   -999.0,-999.0000, -999,9,  700,   9.5127,  26.4102,   -999.0,9
       KS06-04,  137E,KS-1562,  1,      9,02-16015,2,20060423,0346, 30.0413, 137.0255, 4466,    805.4,   7.1047,  34.0541,2,   -999.0,9,  34.0558,2,    153.0,3,    49.78,2,  -999.00,9,    27.08,2,     0.00,2,     1.94,2, -999.000,9, -999.000,9,  -999.00,9,   2193.1,2,   -999.0,9,   7.6107,2,     25.0, TS,     7.71,2,   -999.0,  -999.00,9,  -999.00,9,  -999.00,9,  -999.00,9,   -999.0,-999.0000, -999,9,  798,   7.0265,  26.6700,   -999.0,9
       KS06-04,  137E,KS-1562,  1,      8,02-16014,2,20060423,0343, 30.0413, 137.0255, 4466,    908.4,   6.1023,  34.2010,2,   -999.0,9,  34.2015,2,    100.0,2,    75.18,2,  -999.00,9,    33.50,2,     0.00,2,     2.42,2, -999.000,9, -999.000,9,  -999.00,9,   2254.6,2,   -999.0,9,   7.5183,2,     25.0, TS,     7.62,2,   -999.0,  -999.00,9,  -999.00,9,  -999.00,9,  -999.00,9,   -999.0,-999.0000, -999,9,  900,   6.0201,  26.9188,   -999.0,9
       KS06-04,  137E,KS-1562,  1,      7,02-19374,2,20060423,0340, 30.0413, 137.0255, 4466,   1012.4,   4.9764,  34.2640,2,   -999.0,9,  34.2597,2,     76.0,2,    94.69,2,  -999.00,9,    37.29,2,     0.00,2,     2.72,2, -999.000,9, -999.000,9,  -999.00,9,   2293.4,2,   -999.0,9,   7.4568,2,     25.0, TS,     7.55,2,   -999.0,  -999.00,9,  -999.00,9,  -999.00,9,  -999.00,9,   -999.0,-999.0000, -999,9, 1003,   4.8925,  27.1040,   -999.0,9
       KS06-04,  137E,KS-1562,  1,      6,02-19373,2,20060423,0332, 30.0413, 137.0255, 4466,   1266.1,   3.5976,  34.4167,2,   -999.0,9,  34.4159,2,     67.0,2,   121.72,2,  -999.00,9,    40.10,2,     0.00,2,     2.91,2, -999.000,9, -999.000,9,  -999.00,9,   2335.5,6,   -999.0,9,   7.4414,2,     25.0, TS,     7.53,2,   -999.0,  -999.00,9,  -999.00,9,  -999.00,9,  -999.00,9,   -999.0,-999.0000, -999,9, 1254,   3.5034,  27.3720,   -999.0,9
       KS06-04,  137E,KS-1562,  1,      5,02-16011,2,20060423,0325, 30.0413, 137.0255, 4466,   1519.0,   2.9481,  34.4860,2,   -999.0,9,  34.4866,2,     74.0,2,   132.99,2,  -999.00,9,    40.39,2,     0.00,2,     2.92,2, -999.000,9, -999.000,9,  -999.00,9,   2345.1,2,   -999.0,9,   7.4554,2,     25.0, TS,     7.55,2,   -999.0,  -999.00,9,  -999.00,9,  -999.00,9,  -999.00,9,   -999.0,-999.0000, -999,9, 1503,   2.8395,  27.4893,   -999.0,9
       KS06-04,  137E,KS-1562,  1,      4,02-16010,2,20060423,0312, 30.0413, 137.0255, 4466,   2023.3,   2.1115,  34.5909,2,   -999.0,9,  34.5906,2,    104.0,2,   142.62,2,  -999.00,9,    39.22,2,     0.00,2,     2.79,2, -999.000,9, -999.000,9,  -999.00,9,   2345.2,2,   -999.0,9,   7.5110,6,     25.0, TS,     7.59,2,   -999.0,  -999.00,9,  -999.00,9,  -999.00,9,  -999.00,9,   -999.0,-999.0000, -999,9, 2000,   1.9715,  27.6462,   -999.0,9
       KS06-04,  137E,KS-1562,  1,      3,02-16009,2,20060423,0250, 30.0413, 137.0255, 4466,   3041.3,   1.6580,  34.6592,2,   -999.0,9,  34.6582,2,    139.0,2,   141.68,2,  -999.00,9,    37.27,2,     0.00,2,     2.62,2, -999.000,9, -999.000,9,  -999.00,9,   -999.0,9,   -999.0,9,-999.0000,9,   -999.0,  9,     7.65,2,   -999.0,  -999.00,9,  -999.00,9,  -999.00,9,  -999.00,9,   -999.0,-999.0000, -999,9, 2999,   1.4338,  27.7414,   -999.0,9
       KS06-04,  137E,KS-1562,  1,      2,02-16008,2,20060423,0230, 30.0413, 137.0255, 4466,   4067.0,   1.5548,  34.6818,2,   -999.0,9,  34.6818,2,    155.0,2,   140.30,2,  -999.00,9,    36.39,2,     0.00,2,     2.54,2, -999.000,9, -999.000,9,  -999.00,9,   -999.0,9,   -999.0,9,-999.0000,9,   -999.0,  9,     7.68,2,   -999.0,  -999.00,9,  -999.00,9,  -999.00,9,  -999.00,9,   -999.0,-999.0000, -999,9, 4001,   1.2270,  27.7743,   -999.0,9
       KS06-04,  137E,KS-1562,  1,      1,02-16007,2,20060423,0228, 30.0413, 137.0255, 4466,   4165.4,   1.5625,  34.6822,2,   -999.0,9,  34.6820,2,    155.0,2,   140.10,2,  -999.00,9,    36.29,2,     0.00,2,     2.54,2, -999.000,9, -999.000,9,  -999.00,9,   -999.0,9,   -999.0,9,-999.0000,9,   -999.0,  9,     7.68,2,   -999.0,  -999.00,9,  -999.00,9,  -999.00,9,  -999.00,9,   -999.0,-999.0000, -999,9, 4097,   1.2236,  27.7748,   -999.0,9