BOTTLE,20130510GEMDJMAYT
EXPOCODE,SECT_ID,STNNBR,CASTNO,SAMPNO,BTLNBR,BTLNBR_FLAG_W,DATE,TIME,LATITUDE,LONGITUDE,DEPTH,CTDPRS,CTDTMP,CTDSAL,CTDSAL_FLAG_W,CTDOXY,CTDOXY_FLAG_W,SALNTY,SALNTY_FLAG_W,OXYGEN,OXYGEN_FLAG_W,SILCAT,SILCAT_FLAG_W,NITRAT,NITRAT_FLAG_W,NO2+NO3,NO2+NO3_FLAG_W,NITRIT,NITRIT_FLAG_W,PHSPHT,PHSPHT_FLAG_W,CFC-11,CFC-11_FLAG_W,CFC-12,CFC-12_FLAG_W,DELC13,DELC13_FLAG_W,TCARBN,TCARBN_FLAG_W,ALKALI,ALKALI_FLAG_W,PH,PH_FLAG_W,PH_TMP,PH_SCALE,PH_NBS,PH_NBS_FLAG_W,C13ERR,TOTALP,TOTALP_FLAG_W,AMMONI,AMMONI_FLAG_W,CHLORA,CHLORA_FLAG_W,PPHYTN,PPHYTN_FLAG_W,REVPRS,REVTMP,DEPTH_,DEPTH_FLAG,CTDDEP,THETA,SIGTHT,DOC,DOC_FLAG_W
,,,,,,,GMT,GMT,,,METER,DBAR,ITS-90,PSS-78,,UMOL/KG,,PSS-78,,UMOL/KG,,UMOL/KG,,UMOL/KG,,UMOL/KG,,UMOL/KG,,UMOL/KG,,PMOL/KG,,PMOL/KG,,/MILLE,,UMOL/KG,,UMOL/KG,,25_DEG_C,,DEG_C,,,,/MILLE,UMOL/KG,,UMOL/KG,,UG/L,,UG/L,,DBAR,ITS-90,METERS,,METERS,DEG_C,,UMOL/L,
       KS06-04,  137E,KS-1577,  1,     22,02-19397,2,20060427,1759, 15.0067, 137.0002, 5237,      5.4,  28.7461,  34.4841,2,   -999.0,9,  34.4813,2,    200.0,2,     1.14,2,  -999.00,9,     0.00,2,     0.00,2,     0.02,2, -999.000,9, -999.000,9,  -999.00,9,   1922.1,2,   -999.0,9,   8.1241,2,     25.0, TS,     8.24,2,   -999.0,  -999.00,9,  -999.00,9,     0.05,2,     0.02,2,   -999.0,-999.0000, -999,9,    5,  28.7448,  21.7617,   -999.0,9
       KS06-04,  137E,KS-1577,  1,     21,02-16027,2,20060427,1758, 15.0067, 137.0002, 5237,     10.2,  28.7549,  34.4829,2,   -999.0,9,-999.0000,9,    200.0,2,     1.12,2,  -999.00,9,     0.00,2,     0.00,2,     0.02,2, -999.000,9, -999.000,9,  -999.00,9,   1919.9,2,   -999.0,9,   8.1238,2,     25.0, TS,     8.23,2,   -999.0,  -999.00,9,  -999.00,9,     0.05,2,     0.02,2,   -999.0,-999.0000, -999,9,   10,  28.7525,  21.7583,   -999.0,9
       KS06-04,  137E,KS-1577,  1,     20,02-16026,2,20060427,1756, 15.0067, 137.0002, 5237,     26.1,  28.6367,  34.4916,2,   -999.0,9,-999.0000,9,    201.0,2,     1.11,2,  -999.00,9,     0.00,2,     0.00,2,     0.02,2, -999.000,9, -999.000,9,  -999.00,9,   1921.6,2,   -999.0,9,   8.1253,2,     25.0, TS,     8.24,2,   -999.0,  -999.00,9,  -999.00,9,     0.05,2,     0.02,2,   -999.0,-999.0000, -999,9,   26,  28.6305,  21.8052,   -999.0,9
       KS06-04,  137E,KS-1577,  1,     19,02-19378,2,20060427,1753, 15.0067, 137.0002, 5237,     51.7,  28.2786,  34.4965,2,   -999.0,9,-999.0000,9,    204.0,2,     1.10,2,  -999.00,9,     0.00,2,     0.00,2,     0.02,2, -999.000,9, -999.000,9,  -999.00,9,   1922.6,2,   -999.0,9,   8.1294,2,     25.0, TS,     8.24,2,   -999.0,  -999.00,9,  -999.00,9,     0.05,2,     0.02,2,   -999.0,-999.0000, -999,9,   51,  28.2664,  21.9289,   -999.0,9
       KS06-04,  137E,KS-1577,  1,     18,02-19377,2,20060427,1752, 15.0067, 137.0002, 5237,     75.6,  27.9539,  34.5615,2,   -999.0,9,-999.0000,9,    206.0,2,     1.09,2,  -999.00,9,     0.00,2,     0.00,2,     0.02,2, -999.000,9, -999.000,9,  -999.00,9,   1927.0,2,   -999.0,9,   8.1263,2,     25.0, TS,     8.24,2,   -999.0,  -999.00,9,  -999.00,9,     0.07,2,     0.03,2,   -999.0,-999.0000, -999,9,   75,  27.9361,  22.0857,   -999.0,9
       KS06-04,  137E,KS-1577,  1,     17,02-16023,2,20060427,1751, 15.0067, 137.0002, 5237,    100.8,  27.4288,  34.6998,2,   -999.0,9,  34.7009,2,    206.0,2,     1.07,2,  -999.00,9,     0.00,2,     0.00,2,     0.02,2, -999.000,9, -999.000,9,  -999.00,9,   1940.5,2,   -999.0,9,   8.1156,2,     25.0, TS,     8.23,2,   -999.0,  -999.00,9,  -999.00,9,     0.11,2,     0.05,2,   -999.0,-999.0000, -999,9,  100,  27.4054,  22.3617,   -999.0,9
       KS06-04,  137E,KS-1577,  1,     16,02-16022,2,20060427,1750, 15.0067, 137.0002, 5237,    125.0,  26.1612,  34.8806,2,   -999.0,9,-999.0000,9,    201.0,2,     1.16,2,  -999.00,9,     0.00,2,     0.00,2,     0.05,2, -999.000,9, -999.000,9,  -999.00,9,   1973.2,2,   -999.0,9,   8.0806,2,     25.0, TS,     8.19,2,   -999.0,  -999.00,9,  -999.00,9,     0.14,2,     0.16,2,   -999.0,-999.0000, -999,9,  124,  26.1332,  22.9017,   -999.0,9
       KS06-04,  137E,KS-1577,  1,     15,02-16021,2,20060427,1748, 15.0067, 137.0002, 5237,    152.4,  23.6692,  34.9970,2,   -999.0,9,-999.0000,9,    187.0,2,     1.73,2,  -999.00,9,     0.78,2,     0.08,2,     0.14,2, -999.000,9, -999.000,9,  -999.00,9,   2014.2,2,   -999.0,9,   8.0246,2,     25.0, TS,     8.14,2,   -999.0,  -999.00,9,  -999.00,9,     0.08,2,     0.32,2,   -999.0,-999.0000, -999,9,  151,  23.6374,  23.7459,   -999.0,9
       KS06-04,  137E,KS-1577,  1,     14,02-16020,2,20060427,1747, 15.0067, 137.0002, 5237,    201.8,  19.9567,  34.9557,2,   -999.0,9,  34.9575,2,    181.0,2,     3.19,2,  -999.00,9,     3.71,2,     0.01,2,     0.26,2, -999.000,9, -999.000,9,  -999.00,9,   2043.6,2,   -999.0,9,   7.9620,2,     25.0, TS,     8.08,2,   -999.0,  -999.00,9,  -999.00,9,     0.01,2,     0.03,2,   -999.0,-999.0000, -999,9,  201,  19.9194,  24.7492,   -999.0,9
       KS06-04,  137E,KS-1577,  1,     13,02-16019,2,20060427,1745, 15.0067, 137.0002, 5237,    252.6,  16.9836,  34.7473,2,   -999.0,9,-999.0000,9,    195.0,2,     5.29,2,  -999.00,9,     6.24,2,     0.00,2,     0.39,2, -999.000,9, -999.000,9,  -999.00,9,   2048.0,2,   -999.0,9,   7.9374,2,     25.0, TS,     8.05,2,   -999.0,  -999.00,9,  -999.00,9,     0.00,2,     0.01,2,   -999.0,-999.0000, -999,9,  251,  16.9420,  25.3340,   -999.0,9
       KS06-04,  137E,KS-1577,  1,     12,02-16018,2,20060427,1743, 15.0067, 137.0002, 5237,    304.2,  14.4403,  34.5303,2,   -999.0,9,  34.5372,4,    181.0,2,    10.37,2,  -999.00,9,    11.02,2,     0.00,2,     0.73,2, -999.000,9, -999.000,9,  -999.00,9,   2081.9,2,   -999.0,9,   7.8521,2,     25.0, TS,     7.96,2,   -999.0,  -999.00,9,  -999.00,9,     0.00,2,     0.01,2,   -999.0,-999.0000, -999,9,  302,  14.3954,  25.7404,   -999.0,9
       KS06-04,  137E,KS-1577,  1,     11,02-19376,2,20060427,1740, 15.0067, 137.0002, 5237,    402.5,  10.8347,  34.3136,2,   -999.0,9,  34.3148,2,    134.0,2,    25.41,2,  -999.00,9,    21.83,2,     0.00,2,     1.57,2, -999.000,9, -999.000,9,  -999.00,9,   2156.2,2,   -999.0,9,   7.6768,2,     25.0, TS,     7.79,2,   -999.0,  -999.00,9,  -999.00,9,  -999.00,9,  -999.00,9,   -999.0,-999.0000, -999,9,  400,  10.7855,  26.2794,   -999.0,9
       KS06-04,  137E,KS-1577,  1,     10,02-19375,2,20060427,1737, 15.0067, 137.0002, 5237,    506.3,   7.7812,  34.2949,2,   -999.0,9,  34.2940,2,     84.0,2,    50.59,2,  -999.00,9,    32.24,2,     0.00,2,     2.35,2, -999.000,9, -999.000,9,  -999.00,9,   2235.9,2,   -999.0,9,   7.5238,2,     25.0, TS,     7.63,2,   -999.0,  -999.00,9,  -999.00,9,  -999.00,9,  -999.00,9,   -999.0,-999.0000, -999,9,  503,   7.7303,  26.7597,   -999.0,9
       KS06-04,  137E,KS-1577,  1,      9,02-16015,2,20060427,1734, 15.0067, 137.0002, 5237,    606.0,   6.6978,  34.3873,2,   -999.0,9,  34.3670,4,     68.0,2,    63.47,2,  -999.00,9,    36.03,2,     0.00,2,     2.63,2, -999.000,9, -999.000,9,  -999.00,9,   2267.5,2,   -999.0,9,   7.4808,2,     25.0, TS,     7.58,2,   -999.0,  -999.00,9,  -999.00,9,  -999.00,9,  -999.00,9,   -999.0,-999.0000, -999,9,  602,   6.6413,  26.9849,   -999.0,9
       KS06-04,  137E,KS-1577,  1,      8,02-16014,2,20060427,1731, 15.0067, 137.0002, 5237,    705.7,   5.8403,  34.4354,2,   -999.0,9,  34.4337,2,     68.0,2,    74.85,2,  -999.00,9,    37.77,2,     0.00,2,     2.76,2, -999.000,9, -999.000,9,  -999.00,9,   2281.4,2,   -999.0,9,   7.4791,2,     25.0, TS,     7.57,2,   -999.0,  -999.00,9,  -999.00,9,  -999.00,9,  -999.00,9,   -999.0,-999.0000, -999,9,  700,   5.7786,  27.1344,   -999.0,9
       KS06-04,  137E,KS-1577,  1,      7,02-19374,2,20060427,1727, 15.0067, 137.0002, 5237,    808.3,   5.2728,  34.4752,2,   -999.0,9,  34.4740,2,     75.0,2,    82.55,2,  -999.00,9,    38.16,2,     0.00,2,     2.77,2, -999.000,9, -999.000,9,  -999.00,9,   2293.1,3,   -999.0,9,   7.4872,2,     25.0, TS,     7.58,2,   -999.0,  -999.00,9,  -999.00,9,  -999.00,9,  -999.00,9,   -999.0,-999.0000, -999,9,  802,   5.2049,  27.2352,   -999.0,9
       KS06-04,  137E,KS-1577,  1,      6,02-19373,2,20060427,1724, 15.0067, 137.0002, 5237,    909.1,   4.8537,  34.5063,2,   -999.0,9,  34.5052,2,     82.0,2,    88.84,2,  -999.00,9,    38.26,2,     0.00,2,     2.78,2, -999.000,9, -999.000,9,  -999.00,9,   2295.2,2,   -999.0,9,   7.4930,2,     25.0, TS,     7.58,2,   -999.0,  -999.00,9,  -999.00,9,  -999.00,9,  -999.00,9,   -999.0,-999.0000, -999,9,  902,   4.7796,  27.3090,   -999.0,9
       KS06-04,  137E,KS-1577,  1,      5,02-16011,2,20060427,1721, 15.0067, 137.0002, 5237,   1009.3,   4.3445,  34.5298,2,   -999.0,9,  34.5284,2,     85.0,2,    98.13,2,  -999.00,9,    38.64,2,     0.00,2,     2.79,2, -999.000,9, -999.000,9,  -999.00,9,   2303.7,2,   -999.0,9,   7.5005,2,     25.0, TS,     7.59,2,   -999.0,  -999.00,9,  -999.00,9,  -999.00,9,  -999.00,9,   -999.0,-999.0000, -999,9, 1001,   4.2654,  27.3842,   -999.0,9
       KS06-04,  137E,KS-1577,  1,      4,02-16010,2,20060427,1715, 15.0067, 137.0002, 5237,   1261.7,   3.5245,  34.5548,2,   -999.0,9,  34.5535,2,     86.0,2,   115.48,2,  -999.00,9,    39.03,2,     0.00,2,     2.81,2, -999.000,9, -999.000,9,  -999.00,9,   2323.2,2,   -999.0,9,   7.5035,2,     25.0, TS,     7.59,2,   -999.0,  -999.00,9,  -999.00,9,  -999.00,9,  -999.00,9,   -999.0,-999.0000, -999,9, 1251,   3.4311,  27.4891,   -999.0,9
       KS06-04,  137E,KS-1577,  1,      3,02-16009,2,20060427,1710, 15.0067, 137.0002, 5237,   1514.7,   2.8938,  34.5812,2,   -999.0,9,  34.5798,2,     98.0,2,   127.32,2,  -999.00,9,    38.93,2,     0.00,2,     2.80,2, -999.000,9, -999.000,9,  -999.00,9,   2335.6,3,   -999.0,9,   7.5155,2,     25.0, TS,     7.60,2,   -999.0,  -999.00,9,  -999.00,9,  -999.00,9,  -999.00,9,   -999.0,-999.0000, -999,9, 1500,   2.7860,  27.5701,   -999.0,9
       KS06-04,  137E,KS-1577,  1,      2,02-16008,2,20060427,1704, 15.0067, 137.0002, 5237,   1769.2,   2.4545,  34.6059,2,   -999.0,9,  34.6050,2,    105.0,2,   134.40,2,  -999.00,9,    38.83,2,     0.00,2,     2.78,2, -999.000,9, -999.000,9,  -999.00,9,   2340.4,2,   -999.0,9,   7.5190,2,     25.0, TS,     7.61,2,   -999.0,  -999.00,9,  -999.00,9,  -999.00,9,  -999.00,9,   -999.0,-999.0000, -999,9, 1751,   2.3309,  27.6290,   -999.0,9
       KS06-04,  137E,KS-1577,  1,      1,02-16007,2,20060427,1659, 15.0067, 137.0002, 5237,   2024.7,   2.1216,  34.6258,2,   -999.0,9,  34.5696,4,    114.0,2,   139.53,2,  -999.00,9,    38.53,2,     0.00,2,     2.75,2, -999.000,9, -999.000,9,  -999.00,9,   2338.0,2,   -999.0,9,   7.5319,6,     25.0, TS,     7.62,2,   -999.0,  -999.00,9,  -999.00,9,  -999.00,9,  -999.00,9,   -999.0,-999.0000, -999,9, 2003,   1.9812,  27.6733,   -999.0,9