BOTTLE,20131214MIRCJHATS
EXPOCODE,SECT_ID,STNNBR,CASTNO,SAMPNO,BTLNBR,BTLNBR_FLAG_W,DATE,TIME,LATITUDE,LONGITUDE,DEPTH,CTDPRS,CTDTMP,CTDSAL,CTDSAL_FLAG_W,CTDOXY,CTDOXY_FLAG_W,SALNTY,SALNTY_FLAG_W,OXYGEN,OXYGEN_FLAG_W,SILCAT,SILCAT_FLAG_W,NITRAT,NITRAT_FLAG_W,NO2+NO3,NO2+NO3_FLAG_W,NITRIT,NITRIT_FLAG_W,PHSPHT,PHSPHT_FLAG_W,CFC-11,CFC-11_FLAG_W,CFC-12,CFC-12_FLAG_W,DELC13,DELC13_FLAG_W,TCARBN,TCARBN_FLAG_W,ALKALI,ALKALI_FLAG_W,PH,PH_FLAG_W,PH_TMP,PH_SCALE,PH_NBS,PH_NBS_FLAG_W,C13ERR,TOTALP,TOTALP_FLAG_W,AMMONI,AMMONI_FLAG_W,CHLORA,CHLORA_FLAG_W,PPHYTN,PPHYTN_FLAG_W,REVPRS,REVTMP,DEPTH_,DEPTH_FLAG,CTDDEP,THETA,SIGTHT,DOC,DOC_FLAG_W
,,,,,,,GMT,GMT,,,METER,DBAR,ITS-90,PSS-78,,UMOL/KG,,PSS-78,,UMOL/KG,,UMOL/KG,,UMOL/KG,,UMOL/KG,,UMOL/KG,,UMOL/KG,,PMOL/KG,,PMOL/KG,,/MILLE,,UMOL/KG,,UMOL/KG,,25_DEG_C,,DEG_C,,,,/MILLE,UMOL/KG,,UMOL/KG,,UG/L,,UG/L,,DBAR,ITS-90,METERS,,METERS,DEG_C,,UMOL/L,
       KS06-06,  NONE,KS-1675,  1,     21,02-16027,2,20060803,2356, 24.9997, 149.3172, 5817,      5.8,  29.0492,  35.1149,2,   -999.0,9,  35.1116,2,    200.0,2,     1.28,2,  -999.00,9,     0.00,2,     0.00,2,     0.00,2, -999.000,9, -999.000,9,  -999.00,9,   -999.0,9,   -999.0,9,-999.0000,9,   -999.0,  9,  -999.00,9,   -999.0,  -999.00,9,  -999.00,9,  -999.00,9,  -999.00,9,   -999.0,-999.0000, -999,9,    6,  29.0478,  22.1344,   -999.0,9
       KS06-06,  NONE,KS-1675,  1,     20,02-16026,2,20060803,2349, 24.9997, 149.3172, 5817,     11.3,  29.0431,  35.1138,2,   -999.0,9,-999.0000,9,    199.0,2,     1.20,2,  -999.00,9,     0.00,2,     0.00,2,     0.00,2, -999.000,9, -999.000,9,  -999.00,9,   -999.0,9,   -999.0,9,-999.0000,9,   -999.0,  9,  -999.00,9,   -999.0,  -999.00,9,  -999.00,9,  -999.00,9,  -999.00,9,   -999.0,-999.0000, -999,9,   11,  29.0404,  22.1360,   -999.0,9
       KS06-06,  NONE,KS-1675,  1,     19,02-19378,2,20060803,2348, 24.9997, 149.3172, 5817,     25.3,  29.0441,  35.1130,2,   -999.0,9,-999.0000,9,    201.0,2,     1.13,2,  -999.00,9,     0.00,2,     0.00,2,     0.00,2, -999.000,9, -999.000,9,  -999.00,9,   -999.0,9,   -999.0,9,-999.0000,9,   -999.0,  9,  -999.00,9,   -999.0,  -999.00,9,  -999.00,9,  -999.00,9,  -999.00,9,   -999.0,-999.0000, -999,9,   25,  29.0380,  22.1362,   -999.0,9
       KS06-06,  NONE,KS-1675,  1,     18,02-19377,2,20060803,2343, 24.9997, 149.3172, 5817,     50.7,  24.3430,  34.9614,2,   -999.0,9,-999.0000,9,    228.0,2,     1.37,2,  -999.00,9,     0.00,2,     0.00,2,     0.00,2, -999.000,9, -999.000,9,  -999.00,9,   -999.0,9,   -999.0,9,-999.0000,9,   -999.0,  9,  -999.00,9,   -999.0,  -999.00,9,  -999.00,9,  -999.00,9,  -999.00,9,   -999.0,-999.0000, -999,9,   50,  24.3322,  23.5133,   -999.0,9
       KS06-06,  NONE,KS-1675,  1,     17,02-16023,2,20060803,2342, 24.9997, 149.3172, 5817,     75.7,  21.8193,  34.9957,2,   -999.0,9,-999.0000,9,    225.0,2,     1.55,2,  -999.00,9,     0.00,2,     0.00,2,     0.00,2, -999.000,9, -999.000,9,  -999.00,9,   -999.0,9,   -999.0,9,-999.0000,9,   -999.0,  9,  -999.00,9,   -999.0,  -999.00,9,  -999.00,9,  -999.00,9,  -999.00,9,   -999.0,-999.0000, -999,9,   75,  21.8044,  24.2692,   -999.0,9
       KS06-06,  NONE,KS-1675,  1,     16,02-16022,2,20060803,2340, 24.9997, 149.3172, 5817,    101.4,  20.3416,  34.9443,2,   -999.0,9,  34.9554,4,    217.0,2,     1.83,2,  -999.00,9,     0.00,2,     0.00,2,     0.02,2, -999.000,9, -999.000,9,  -999.00,9,   -999.0,9,   -999.0,9,-999.0000,9,   -999.0,  9,  -999.00,9,   -999.0,  -999.00,9,  -999.00,9,  -999.00,9,  -999.00,9,   -999.0,-999.0000, -999,9,  101,  20.3227,  24.6338,   -999.0,9
       KS06-06,  NONE,KS-1675,  1,     15,02-16021,2,20060803,2339, 24.9997, 149.3172, 5817,    122.9,  19.2698,  34.8854,2,   -999.0,9,-999.0000,9,    216.0,2,     2.02,2,  -999.00,9,     0.59,2,     0.07,2,     0.06,2, -999.000,9, -999.000,9,  -999.00,9,   -999.0,9,   -999.0,9,-999.0000,9,   -999.0,  9,  -999.00,9,   -999.0,  -999.00,9,  -999.00,9,  -999.00,9,  -999.00,9,   -999.0,-999.0000, -999,9,  122,  19.2477,  24.8702,   -999.0,9
       KS06-06,  NONE,KS-1675,  1,     14,02-16020,2,20060803,2337, 24.9997, 149.3172, 5817,    152.4,  18.5236,  34.8398,2,   -999.0,9,-999.0000,9,    213.0,2,     2.52,2,  -999.00,9,     2.34,2,     0.02,2,     0.16,2, -999.000,9, -999.000,9,  -999.00,9,   -999.0,9,   -999.0,9,-999.0000,9,   -999.0,  9,  -999.00,9,   -999.0,  -999.00,9,  -999.00,9,  -999.00,9,  -999.00,9,   -999.0,-999.0000, -999,9,  151,  18.4969,  25.0258,   -999.0,9
       KS06-06,  NONE,KS-1675,  1,     13,02-16019,2,20060803,2336, 24.9997, 149.3172, 5817,    199.4,  17.8158,  34.8105,2,   -999.0,9,  34.8106,2,    214.0,2,     3.00,2,  -999.00,9,     3.51,2,     0.01,2,     0.21,2, -999.000,9, -999.000,9,  -999.00,9,   -999.0,9,   -999.0,9,-999.0000,9,   -999.0,  9,  -999.00,9,   -999.0,  -999.00,9,  -999.00,9,  -999.00,9,  -999.00,9,   -999.0,-999.0000, -999,9,  198,  17.7818,  25.1805,   -999.0,9
       KS06-06,  NONE,KS-1675,  1,     12,02-16018,2,20060803,2334, 24.9997, 149.3172, 5817,    254.4,  17.0615,  34.7683,2,   -999.0,9,-999.0000,9,    208.0,2,     4.38,2,  -999.00,9,     5.17,2,     0.00,2,     0.31,2, -999.000,9, -999.000,9,  -999.00,9,   -999.0,9,   -999.0,9,-999.0000,9,   -999.0,  9,  -999.00,9,   -999.0,  -999.00,9,  -999.00,9,  -999.00,9,  -999.00,9,   -999.0,-999.0000, -999,9,  253,  17.0194,  25.3318,   -999.0,9
       KS06-06,  NONE,KS-1675,  1,     11,02-19376,2,20060803,2332, 24.9997, 149.3172, 5817,    304.2,  16.0420,  34.6794,2,   -999.0,9,  34.6837,2,    201.0,2,     6.62,2,  -999.00,9,     7.31,2,     0.00,2,     0.46,2, -999.000,9, -999.000,9,  -999.00,9,   -999.0,9,   -999.0,9,-999.0000,9,   -999.0,  9,  -999.00,9,   -999.0,  -999.00,9,  -999.00,9,  -999.00,9,  -999.00,9,   -999.0,-999.0000, -999,9,  302,  15.9937,  25.5024,   -999.0,9
       KS06-06,  NONE,KS-1675,  1,     10,02-19375,2,20060803,2329, 24.9997, 149.3172, 5817,    403.2,  13.4566,  34.4733,2,   -999.0,9,  34.4747,2,    194.0,2,    13.74,2,  -999.00,9,    12.18,2,     0.00,2,     0.80,2, -999.000,9, -999.000,9,  -999.00,9,   -999.0,9,   -999.0,9,-999.0000,9,   -999.0,  9,  -999.00,9,   -999.0,  -999.00,9,  -999.00,9,  -999.00,9,  -999.00,9,   -999.0,-999.0000, -999,9,  400,  13.3997,  25.9041,   -999.0,9
       KS06-06,  NONE,KS-1675,  1,      9,02-16015,2,20060803,2326, 24.9997, 149.3172, 5817,    502.8,  10.0655,  34.2146,2,   -999.0,9,  34.2144,2,    178.0,2,    25.80,2,  -999.00,9,    19.19,2,     0.00,2,     1.33,2, -999.000,9, -999.000,9,  -999.00,9,   -999.0,9,   -999.0,9,-999.0000,9,   -999.0,  9,  -999.00,9,   -999.0,  -999.00,9,  -999.00,9,  -999.00,9,  -999.00,9,   -999.0,-999.0000, -999,9,  499,  10.0066,  26.3376,   -999.0,9
       KS06-06,  NONE,KS-1675,  1,      8,02-16014,2,20060803,2322, 24.9997, 149.3172, 5817,    604.8,   7.8922,  34.1084,2,   -999.0,9,  34.1095,2,    147.0,2,    43.13,2,  -999.00,9,    26.20,2,     0.00,2,     1.84,2, -999.000,9, -999.000,9,  -999.00,9,   -999.0,9,   -999.0,9,-999.0000,9,   -999.0,  9,  -999.00,9,   -999.0,  -999.00,9,  -999.00,9,  -999.00,9,  -999.00,9,   -999.0,-999.0000, -999,9,  600,   7.8307,  26.5986,   -999.0,9
       KS06-06,  NONE,KS-1675,  1,      7,02-19374,2,20060803,2320, 24.9997, 149.3172, 5817,    705.7,   6.0929,  34.0900,2,   -999.0,9,  34.0905,2,    108.0,2,    66.10,2,  -999.00,9,    33.01,2,     0.00,2,     2.37,2, -999.000,9, -999.000,9,  -999.00,9,   -999.0,9,   -999.0,9,-999.0000,9,   -999.0,  9,  -999.00,9,   -999.0,  -999.00,9,  -999.00,9,  -999.00,9,  -999.00,9,   -999.0,-999.0000, -999,9,  700,   6.0302,  26.8297,   -999.0,9
       KS06-06,  NONE,KS-1675,  1,      6,02-19373,2,20060803,2317, 24.9997, 149.3172, 5817,    806.6,   4.9030,  34.1702,2,   -999.0,9,  34.1699,2,     69.0,2,    89.09,2,  -999.00,9,    38.07,2,     0.00,2,     2.76,2, -999.000,9, -999.000,9,  -999.00,9,   -999.0,9,   -999.0,9,-999.0000,9,   -999.0,  9,  -999.00,9,   -999.0,  -999.00,9,  -999.00,9,  -999.00,9,  -999.00,9,   -999.0,-999.0000, -999,9,  800,   4.8380,  27.0358,   -999.0,9
       KS06-06,  NONE,KS-1675,  1,      5,02-16011,2,20060803,2314, 24.9997, 149.3172, 5817,    906.5,   4.3148,  34.2806,2,   -999.0,9,  34.2807,2,     51.0,2,   103.94,2,  -999.00,9,    40.50,2,     0.00,2,     2.94,2, -999.000,9, -999.000,9,  -999.00,9,   -999.0,9,   -999.0,9,-999.0000,9,   -999.0,  9,  -999.00,9,   -999.0,  -999.00,9,  -999.00,9,  -999.00,9,  -999.00,9,   -999.0,-999.0000, -999,9,  899,   4.2450,  27.1883,   -999.0,9
       KS06-06,  NONE,KS-1675,  1,      4,02-16010,2,20060803,2311, 24.9997, 149.3172, 5817,   1009.0,   3.7953,  34.3610,2,   -999.0,9,  34.3597,2,     48.0,2,   116.57,2,  -999.00,9,    41.47,2,     0.00,2,     3.01,2, -999.000,9, -999.000,9,  -999.00,9,   -999.0,9,   -999.0,9,-999.0000,9,   -999.0,  9,  -999.00,9,   -999.0,  -999.00,9,  -999.00,9,  -999.00,9,  -999.00,9,   -999.0,-999.0000, -999,9, 1000,   3.7207,  27.3062,   -999.0,9
       KS06-06,  NONE,KS-1675,  1,      3,02-16009,2,20060803,2306, 24.9997, 149.3172, 5817,   1261.1,   2.9243,  34.4836,2,   -999.0,9,  34.4813,2,     55.0,2,   136.38,2,  -999.00,9,    41.85,2,     0.00,2,     3.01,2, -999.000,9, -999.000,9,  -999.00,9,   -999.0,9,   -999.0,9,-999.0000,9,   -999.0,  9,  -999.00,9,   -999.0,  -999.00,9,  -999.00,9,  -999.00,9,  -999.00,9,   -999.0,-999.0000, -999,9, 1249,   2.8369,  27.4876,   -999.0,9
       KS06-06,  NONE,KS-1675,  1,      2,02-16008,2,20060803,2300, 24.9997, 149.3172, 5817,   1514.8,   2.4662,  34.5503,2,   -999.0,9,  34.5481,2,     75.0,2,   142.86,2,  -999.00,9,    40.87,2,     0.00,2,     2.91,2, -999.000,9, -999.000,9,  -999.00,9,   -999.0,9,   -999.0,9,-999.0000,9,   -999.0,  9,  -999.00,9,   -999.0,  -999.00,9,  -999.00,9,  -999.00,9,  -999.00,9,   -999.0,-999.0000, -999,9, 1500,   2.3634,  27.5818,   -999.0,9
       KS06-06,  NONE,KS-1675,  1,      1,02-16007,2,20060803,2254, 24.9997, 149.3172, 5817,   1774.1,   2.0897,  34.5904,2,   -999.0,9,  34.5887,2,     87.0,2,   149.59,2,  -999.00,9,    40.38,2,     0.00,2,     2.85,2, -999.000,9, -999.000,9,  -999.00,9,   -999.0,9,   -999.0,9,-999.0000,9,   -999.0,  9,  -999.00,9,   -999.0,  -999.00,9,  -999.00,9,  -999.00,9,  -999.00,9,   -999.0,-999.0000, -999,9, 1755,   1.9707,  27.6458,   -999.0,9
       KS06-06,  NONE,KS-1676,  1,     20,02-16026,2,20060804,2131, 27.9948, 146.9622, 5767,      6.0,  28.5838,  34.6001,2,   -999.0,9,-999.0000,9,    203.0,2,     1.79,2,  -999.00,9,     0.00,2,     0.00,2,     0.00,2, -999.000,9, -999.000,9,  -999.00,9,   -999.0,9,   -999.0,9,-999.0000,9,   -999.0,  9,  -999.00,9,   -999.0,  -999.00,9,  -999.00,9,     0.06,2,     0.02,2,   -999.0,-999.0000, -999,9,    6,  28.5824,  21.9026,   -999.0,9
       KS06-06,  NONE,KS-1676,  1,     19,02-19378,2,20060804,2130, 27.9948, 146.9622, 5767,     10.8,  28.6539,  34.5984,2,   -999.0,9,-999.0000,9,    202.0,2,     1.78,2,  -999.00,9,     0.00,2,     0.00,2,     0.00,2, -999.000,9, -999.000,9,  -999.00,9,   -999.0,9,   -999.0,9,-999.0000,9,   -999.0,  9,  -999.00,9,   -999.0,  -999.00,9,  -999.00,9,     0.07,2,     0.01,2,   -999.0,-999.0000, -999,9,   11,  28.6513,  21.8785,   -999.0,9
       KS06-06,  NONE,KS-1676,  1,     18,02-19377,2,20060804,2122, 27.9948, 146.9622, 5767,     27.4,  23.1495,  34.7385,2,   -999.0,9,-999.0000,9,    233.0,2,     1.89,2,  -999.00,9,     0.00,2,     0.00,2,     0.00,2, -999.000,9, -999.000,9,  -999.00,9,   -999.0,9,   -999.0,9,-999.0000,9,   -999.0,  9,  -999.00,9,   -999.0,  -999.00,9,  -999.00,9,     0.08,2,     0.02,2,   -999.0,-999.0000, -999,9,   27,  23.1439,  23.6938,   -999.0,9
       KS06-06,  NONE,KS-1676,  1,     17,02-16023,2,20060804,2118, 27.9948, 146.9622, 5767,     51.2,  20.1716,  34.8609,2,   -999.0,9,-999.0000,9,    234.0,2,     2.13,2,  -999.00,9,     0.00,2,     0.00,2,     0.00,2, -999.000,9, -999.000,9,  -999.00,9,   -999.0,9,   -999.0,9,-999.0000,9,   -999.0,  9,  -999.00,9,   -999.0,  -999.00,9,  -999.00,9,     0.12,2,     0.04,2,   -999.0,-999.0000, -999,9,   51,  20.1621,  24.6128,   -999.0,9
       KS06-06,  NONE,KS-1676,  1,     16,02-16022,2,20060804,2117, 27.9948, 146.9622, 5767,     77.2,  18.9276,  34.8178,2,   -999.0,9,-999.0000,9,    233.0,2,     2.38,2,  -999.00,9,     0.00,2,     0.00,2,     0.03,2, -999.000,9, -999.000,9,  -999.00,9,   -999.0,9,   -999.0,9,-999.0000,9,   -999.0,  9,  -999.00,9,   -999.0,  -999.00,9,  -999.00,9,     0.21,2,     0.15,2,   -999.0,-999.0000, -999,9,   77,  18.9139,  24.9038,   -999.0,9
       KS06-06,  NONE,KS-1676,  1,     15,02-16021,2,20060804,2115, 27.9948, 146.9622, 5767,    101.6,  18.2198,  34.8159,2,   -999.0,9,-999.0000,9,    221.0,2,     2.84,2,  -999.00,9,     1.76,2,     0.09,2,     0.13,2, -999.000,9, -999.000,9,  -999.00,9,   -999.0,9,   -999.0,9,-999.0000,9,   -999.0,  9,  -999.00,9,   -999.0,  -999.00,9,  -999.00,9,     0.23,2,     0.26,2,   -999.0,-999.0000, -999,9,  101,  18.2023,  25.0810,   -999.0,9
       KS06-06,  NONE,KS-1676,  1,     14,02-16020,2,20060804,2114, 27.9948, 146.9622, 5767,    128.2,  17.9323,  34.8140,2,   -999.0,9,-999.0000,9,    219.0,2,     3.25,2,  -999.00,9,     2.93,2,     0.02,2,     0.18,2, -999.000,9, -999.000,9,  -999.00,9,   -999.0,9,   -999.0,9,-999.0000,9,   -999.0,  9,  -999.00,9,   -999.0,  -999.00,9,  -999.00,9,     0.07,2,     0.06,2,   -999.0,-999.0000, -999,9,  127,  17.9104,  25.1516,   -999.0,9
       KS06-06,  NONE,KS-1676,  1,     13,02-16019,2,20060804,2113, 27.9948, 146.9622, 5767,    151.4,  17.7479,  34.8118,2,   -999.0,9,-999.0000,9,    220.0,2,     3.39,2,  -999.00,9,     3.12,2,     0.01,2,     0.19,2, -999.000,9, -999.000,9,  -999.00,9,   -999.0,9,   -999.0,9,-999.0000,9,   -999.0,  9,  -999.00,9,   -999.0,  -999.00,9,  -999.00,9,     0.02,2,     0.02,2,   -999.0,-999.0000, -999,9,  150,  17.7222,  25.1960,   -999.0,9
       KS06-06,  NONE,KS-1676,  1,     12,02-16018,2,20060804,2111, 27.9948, 146.9622, 5767,    203.5,  17.5364,  34.8066,2,   -999.0,9,-999.0000,9,    219.0,2,     3.70,2,  -999.00,9,     3.51,2,     0.00,2,     0.21,2, -999.000,9, -999.000,9,  -999.00,9,   -999.0,9,   -999.0,9,-999.0000,9,   -999.0,  9,  -999.00,9,   -999.0,  -999.00,9,  -999.00,9,     0.00,2,     0.01,2,   -999.0,-999.0000, -999,9,  202,  17.5021,  25.2455,   -999.0,9
       KS06-06,  NONE,KS-1676,  1,     11,02-19376,2,20060804,2110, 27.9948, 146.9622, 5767,    253.8,  17.1180,  34.7677,2,   -999.0,9,-999.0000,9,    206.0,2,     5.23,2,  -999.00,9,     5.46,2,     0.00,2,     0.33,2, -999.000,9, -999.000,9,  -999.00,9,   -999.0,9,   -999.0,9,-999.0000,9,   -999.0,  9,  -999.00,9,   -999.0,  -999.00,9,  -999.00,9,     0.00,2,     0.01,2,   -999.0,-999.0000, -999,9,  252,  17.0759,  25.3179,   -999.0,9
       KS06-06,  NONE,KS-1676,  1,     10,02-19375,2,20060804,2108, 27.9948, 146.9622, 5767,    303.0,  16.3549,  34.7039,2,   -999.0,9,-999.0000,9,    198.0,2,     7.17,2,  -999.00,9,     7.31,2,     0.00,2,     0.45,2, -999.000,9, -999.000,9,  -999.00,9,   -999.0,9,   -999.0,9,-999.0000,9,   -999.0,  9,  -999.00,9,   -999.0,  -999.00,9,  -999.00,9,     0.00,2,     0.01,2,   -999.0,-999.0000, -999,9,  301,  16.3062,  25.4494,   -999.0,9
       KS06-06,  NONE,KS-1676,  1,      9,02-16015,2,20060804,2105, 27.9948, 146.9622, 5767,    405.3,  13.8957,  34.5075,2,   -999.0,9,-999.0000,9,    192.0,2,    13.36,2,  -999.00,9,    11.60,2,     0.00,2,     0.76,2, -999.000,9, -999.000,9,  -999.00,9,   -999.0,9,   -999.0,9,-999.0000,9,   -999.0,  9,  -999.00,9,   -999.0,  -999.00,9,  -999.00,9,  -999.00,9,  -999.00,9,   -999.0,-999.0000, -999,9,  402,  13.8373,  25.8405,   -999.0,9
       KS06-06,  NONE,KS-1676,  1,      8,02-16014,2,20060804,2103, 27.9948, 146.9622, 5767,    504.1,  10.9968,  34.2891,2,   -999.0,9,-999.0000,9,    186.0,2,    22.68,2,  -999.00,9,    16.96,2,     0.00,2,     1.15,2, -999.000,9, -999.000,9,  -999.00,9,   -999.0,9,   -999.0,9,-999.0000,9,   -999.0,  9,  -999.00,9,   -999.0,  -999.00,9,  -999.00,9,  -999.00,9,  -999.00,9,   -999.0,-999.0000, -999,9,  500,  10.9343,  26.2337,   -999.0,9
       KS06-06,  NONE,KS-1676,  1,      7,02-19374,2,20060804,2100, 27.9948, 146.9622, 5767,    606.0,   8.1663,  34.1073,2,   -999.0,9,-999.0000,9,    165.0,2,    41.14,2,  -999.00,9,    23.96,2,     0.00,2,     1.69,2, -999.000,9, -999.000,9,  -999.00,9,   -999.0,9,   -999.0,9,-999.0000,9,   -999.0,  9,  -999.00,9,   -999.0,  -999.00,9,  -999.00,9,  -999.00,9,  -999.00,9,   -999.0,-999.0000, -999,9,  601,   8.1034,  26.5573,   -999.0,9
       KS06-06,  NONE,KS-1676,  1,      6,02-19373,2,20060804,2058, 27.9948, 146.9622, 5767,    705.5,   5.9444,  34.0237,2,   -999.0,9,-999.0000,9,    136.0,2,    63.83,2,  -999.00,9,    30.68,2,     0.00,2,     2.22,2, -999.000,9, -999.000,9,  -999.00,9,   -999.0,9,   -999.0,9,-999.0000,9,   -999.0,  9,  -999.00,9,   -999.0,  -999.00,9,  -999.00,9,  -999.00,9,  -999.00,9,   -999.0,-999.0000, -999,9,  700,   5.8826,  26.7958,   -999.0,9
       KS06-06,  NONE,KS-1676,  1,      5,02-16011,2,20060804,2055, 27.9948, 146.9622, 5767,    809.2,   4.9244,  34.0845,2,   -999.0,9,-999.0000,9,     94.0,2,    83.69,2,  -999.00,9,    35.93,2,     0.00,2,     2.60,2, -999.000,9, -999.000,9,  -999.00,9,   -999.0,9,   -999.0,9,-999.0000,9,   -999.0,  9,  -999.00,9,   -999.0,  -999.00,9,  -999.00,9,  -999.00,9,  -999.00,9,   -999.0,-999.0000, -999,9,  802,   4.8591,  26.9654,   -999.0,9
       KS06-06,  NONE,KS-1676,  1,      4,02-16010,2,20060804,2053, 27.9948, 146.9622, 5767,    907.8,   4.4522,  34.1892,2,   -999.0,9,-999.0000,9,     63.0,2,    99.10,2,  -999.00,9,    39.33,2,     0.00,2,     2.84,2, -999.000,9, -999.000,9,  -999.00,9,   -999.0,9,   -999.0,9,-999.0000,9,   -999.0,  9,  -999.00,9,   -999.0,  -999.00,9,  -999.00,9,  -999.00,9,  -999.00,9,   -999.0,-999.0000, -999,9,  900,   4.3814,  27.1011,   -999.0,9
       KS06-06,  NONE,KS-1676,  1,      3,02-16009,2,20060804,2050, 27.9948, 146.9622, 5767,   1009.9,   3.8237,  34.2919,2,   -999.0,9,-999.0000,9,     46.0,2,   116.31,2,  -999.00,9,    41.18,2,     0.00,2,     3.00,2, -999.000,9, -999.000,9,  -999.00,9,   -999.0,9,   -999.0,9,-999.0000,9,   -999.0,  9,  -999.00,9,   -999.0,  -999.00,9,  -999.00,9,  -999.00,9,  -999.00,9,   -999.0,-999.0000, -999,9, 1001,   3.7489,  27.2484,   -999.0,9
       KS06-06,  NONE,KS-1676,  1,      2,02-16008,2,20060804,2045, 27.9948, 146.9622, 5767,   1263.3,   3.1214,  34.4291,2,   -999.0,9,-999.0000,9,     46.0,2,   134.22,2,  -999.00,9,    42.05,2,     0.00,2,     3.05,2, -999.000,9, -999.000,9,  -999.00,9,   -999.0,9,   -999.0,9,-999.0000,9,   -999.0,  9,  -999.00,9,   -999.0,  -999.00,9,  -999.00,9,  -999.00,9,  -999.00,9,   -999.0,-999.0000, -999,9, 1251,   3.0320,  27.4264,   -999.0,9
       KS06-06,  NONE,KS-1676,  1,      1,02-16007,2,20060804,2036, 27.9948, 146.9622, 5767,   1497.4,   2.5952,  34.5058,2,   -999.0,9,-999.0000,9,     51.0,2,   146.70,2,  -999.00,9,    41.95,2,     0.00,2,     3.04,2, -999.000,9, -999.000,9,  -999.00,9,   -999.0,9,   -999.0,9,-999.0000,9,   -999.0,  9,  -999.00,9,   -999.0,  -999.00,9,  -999.00,9,  -999.00,9,  -999.00,9,   -999.0,-999.0000, -999,9, 1482,   2.4924,  27.5354,   -999.0,9