BOTTLE,20131214MIRCJHATS
EXPOCODE,SECT_ID,STNNBR,CASTNO,SAMPNO,BTLNBR,BTLNBR_FLAG_W,DATE,TIME,LATITUDE,LONGITUDE,DEPTH,CTDPRS,CTDTMP,CTDSAL,CTDSAL_FLAG_W,CTDOXY,CTDOXY_FLAG_W,SALNTY,SALNTY_FLAG_W,OXYGEN,OXYGEN_FLAG_W,SILCAT,SILCAT_FLAG_W,NITRAT,NITRAT_FLAG_W,NO2+NO3,NO2+NO3_FLAG_W,NITRIT,NITRIT_FLAG_W,PHSPHT,PHSPHT_FLAG_W,CFC-11,CFC-11_FLAG_W,CFC-12,CFC-12_FLAG_W,DELC13,DELC13_FLAG_W,TCARBN,TCARBN_FLAG_W,ALKALI,ALKALI_FLAG_W,PH,PH_FLAG_W,PH_TMP,PH_SCALE,PH_NBS,PH_NBS_FLAG_W,C13ERR,TOTALP,TOTALP_FLAG_W,AMMONI,AMMONI_FLAG_W,CHLORA,CHLORA_FLAG_W,PPHYTN,PPHYTN_FLAG_W,REVPRS,REVTMP,DEPTH_,DEPTH_FLAG,CTDDEP,THETA,SIGTHT,DOC,DOC_FLAG_W
,,,,,,,GMT,GMT,,,METER,DBAR,ITS-90,PSS-78,,UMOL/KG,,PSS-78,,UMOL/KG,,UMOL/KG,,UMOL/KG,,UMOL/KG,,UMOL/KG,,UMOL/KG,,PMOL/KG,,PMOL/KG,,/MILLE,,UMOL/KG,,UMOL/KG,,25_DEG_C,,DEG_C,,,,/MILLE,UMOL/KG,,UMOL/KG,,UG/L,,UG/L,,DBAR,ITS-90,METERS,,METERS,DEG_C,,UMOL/L,
       KS06-06,  165E,KS-1639,  1,     22,02-19379,2,20060710,2358, -5.0017, 164.9887, 2337,      4.1,  29.8590,  34.5790,2,   -999.0,9,  34.5746,2,    197.0,2,     0.83,2,  -999.00,9,     0.00,2,     0.00,2,     0.10,2, -999.000,9, -999.000,9,  -999.00,9,   1914.3,2,   -999.0,9,-999.0000,9,   -999.0,  9,  -999.00,9,   -999.0,  -999.00,9,  -999.00,9,     0.08,2,     0.03,2,   -999.0,-999.0000, -999,9,    4,  29.8580,  21.4590,   -999.0,9
       KS06-06,  165E,KS-1639,  1,     21,02-16027,2,20060710,2357, -5.0017, 164.9887, 2337,     11.0,  29.8658,  34.5803,2,   -999.0,9,-999.0000,9,    198.0,2,     0.81,2,  -999.00,9,     0.00,2,     0.00,2,     0.09,2, -999.000,9, -999.000,9,  -999.00,9,   -999.0,9,   -999.0,9,-999.0000,9,   -999.0,  9,  -999.00,9,   -999.0,  -999.00,9,  -999.00,9,     0.08,2,     0.03,2,   -999.0,-999.0000, -999,9,   11,  29.8631,  21.4582,   -999.0,9
       KS06-06,  165E,KS-1639,  1,     20,02-16026,2,20060710,2356, -5.0017, 164.9887, 2337,     26.0,  29.8724,  34.5830,2,   -999.0,9,-999.0000,9,    196.0,2,     0.84,2,  -999.00,9,     0.00,2,     0.00,2,     0.10,2, -999.000,9, -999.000,9,  -999.00,9,   -999.0,9,   -999.0,9,-999.0000,9,   -999.0,  9,  -999.00,9,   -999.0,  -999.00,9,  -999.00,9,     0.07,2,     0.03,2,   -999.0,-999.0000, -999,9,   26,  29.8660,  21.4592,   -999.0,9
       KS06-06,  165E,KS-1639,  1,     19,02-19378,2,20060710,2353, -5.0017, 164.9887, 2337,     51.0,  30.0321,  35.0794,2,   -999.0,9,-999.0000,9,    198.0,2,     0.93,2,  -999.00,9,     0.00,2,     0.00,2,     0.17,2, -999.000,9, -999.000,9,  -999.00,9,   -999.0,9,   -999.0,9,-999.0000,9,   -999.0,  9,  -999.00,9,   -999.0,  -999.00,9,  -999.00,9,     0.14,2,     0.07,2,   -999.0,-999.0000, -999,9,   51,  30.0194,  21.7791,   -999.0,9
       KS06-06,  165E,KS-1639,  1,     18,02-19377,2,20060710,2352, -5.0017, 164.9887, 2337,     75.3,  29.6085,  35.4368,2,   -999.0,9,-999.0000,9,    194.0,2,     1.17,2,  -999.00,9,     0.98,2,     0.07,2,     0.27,2, -999.000,9, -999.000,9,  -999.00,9,   -999.0,9,   -999.0,9,-999.0000,9,   -999.0,  9,  -999.00,9,   -999.0,  -999.00,9,  -999.00,9,     0.24,2,     0.19,2,   -999.0,-999.0000, -999,9,   75,  29.5900,  22.1933,   -999.0,9
       KS06-06,  165E,KS-1639,  1,     17,02-16023,2,20060710,2351, -5.0017, 164.9887, 2337,    100.5,  28.3639,  35.5790,2,   -999.0,9,  35.5735,4,    187.0,2,     1.67,2,  -999.00,9,     4.50,2,     1.56,2,     0.47,2, -999.000,9, -999.000,9,  -999.00,9,   -999.0,9,   -999.0,9,-999.0000,9,   -999.0,  9,  -999.00,9,   -999.0,  -999.00,9,  -999.00,9,     0.16,2,     0.33,2,   -999.0,-999.0000, -999,9,  100,  28.3400,  22.7184,   -999.0,9
       KS06-06,  165E,KS-1639,  1,     16,02-16022,2,20060710,2350, -5.0017, 164.9887, 2337,    123.5,  27.4080,  35.5217,2,   -999.0,9,-999.0000,9,    178.0,2,     1.96,2,  -999.00,9,     6.35,2,     0.37,2,     0.57,2, -999.000,9, -999.000,9,  -999.00,9,   -999.0,9,   -999.0,9,-999.0000,9,   -999.0,  9,  -999.00,9,   -999.0,  -999.00,9,  -999.00,9,     0.13,2,     0.25,2,   -999.0,-999.0000, -999,9,  123,  27.3793,  22.9888,   -999.0,9
       KS06-06,  165E,KS-1639,  1,     15,02-16021,2,20060710,2349, -5.0017, 164.9887, 2337,    150.0,  26.4626,  35.8850,2,   -999.0,9,-999.0000,9,    131.0,2,     2.00,2,  -999.00,9,     8.79,2,     0.03,2,     0.75,2, -999.000,9, -999.000,9,  -999.00,9,   -999.0,9,   -999.0,9,-999.0000,9,   -999.0,  9,  -999.00,9,   -999.0,  -999.00,9,  -999.00,9,     0.05,2,     0.14,2,   -999.0,-999.0000, -999,9,  149,  26.4286,  23.5664,   -999.0,9
       KS06-06,  165E,KS-1639,  1,     14,02-16020,2,20060710,2348, -5.0017, 164.9887, 2337,    200.5,  21.3988,  35.8645,2,   -999.0,9,  35.8610,2,    126.0,2,     3.34,2,  -999.00,9,    10.93,2,     0.00,2,     0.94,2, -999.000,9, -999.000,9,  -999.00,9,   -999.0,9,   -999.0,9,-999.0000,9,   -999.0,  9,  -999.00,9,   -999.0,  -999.00,9,  -999.00,9,     0.01,2,     0.01,2,   -999.0,-999.0000, -999,9,  199,  21.3597,  25.0534,   -999.0,9
       KS06-06,  165E,KS-1639,  1,     13,02-16019,2,20060710,2346, -5.0017, 164.9887, 2337,    252.6,  15.1520,  35.2109,2,   -999.0,9,-999.0000,9,     92.0,2,    11.21,2,  -999.00,9,    20.27,2,     0.00,2,     1.57,2, -999.000,9, -999.000,9,  -999.00,9,   -999.0,9,   -999.0,9,-999.0000,9,   -999.0,  9,  -999.00,9,   -999.0,  -999.00,9,  -999.00,9,     0.00,2,     0.01,2,   -999.0,-999.0000, -999,9,  251,  15.1134,  26.1096,   -999.0,9
       KS06-06,  165E,KS-1639,  1,     12,02-16018,2,20060710,2345, -5.0017, 164.9887, 2337,    301.9,  11.3871,  34.8592,2,   -999.0,9,  34.8608,2,    105.0,2,    18.18,2,  -999.00,9,    25.52,2,     0.00,2,     1.84,2, -999.000,9, -999.000,9,  -999.00,9,   -999.0,9,   -999.0,9,-999.0000,9,   -999.0,  9,  -999.00,9,   -999.0,  -999.00,9,  -999.00,9,     0.00,2,     0.01,2,   -999.0,-999.0000, -999,9,  300,  11.3489,  26.6021,   -999.0,9
       KS06-06,  165E,KS-1639,  1,     11,02-19376,2,20060710,2342, -5.0017, 164.9887, 2337,    402.9,   9.0765,  34.6799,2,   -999.0,9,  34.6796,2,    112.0,2,    25.36,2,  -999.00,9,    29.41,2,     0.00,2,     2.06,2, -999.000,9, -999.000,9,  -999.00,9,   -999.0,9,   -999.0,9,-999.0000,9,   -999.0,  9,  -999.00,9,   -999.0,  -999.00,9,  -999.00,9,  -999.00,9,  -999.00,9,   -999.0,-999.0000, -999,9,  400,   9.0322,  26.8623,   -999.0,9
       KS06-06,  165E,KS-1639,  1,     10,02-19375,2,20060710,2340, -5.0017, 164.9887, 2337,    505.7,   7.9580,  34.6070,2,   -999.0,9,  34.6081,2,    115.0,2,    30.81,2,  -999.00,9,    31.55,2,     0.00,2,     2.20,2, -999.000,9, -999.000,9,  -999.00,9,   -999.0,9,   -999.0,9,-999.0000,9,   -999.0,  9,  -999.00,9,   -999.0,  -999.00,9,  -999.00,9,  -999.00,9,  -999.00,9,   -999.0,-999.0000, -999,9,  502,   7.9063,  26.9791,   -999.0,9
       KS06-06,  165E,KS-1639,  1,      9,02-16015,2,20060710,2338, -5.0017, 164.9887, 2337,    605.3,   6.6666,  34.5523,2,   -999.0,9,  34.5518,2,    105.0,2,    43.00,2,  -999.00,9,    35.15,2,     0.00,2,     2.47,2, -999.000,9, -999.000,9,  -999.00,9,   -999.0,9,   -999.0,9,-999.0000,9,   -999.0,  9,  -999.00,9,   -999.0,  -999.00,9,  -999.00,9,  -999.00,9,  -999.00,9,   -999.0,-999.0000, -999,9,  601,   6.6102,  27.1192,   -999.0,9
       KS06-06,  165E,KS-1639,  1,      8,02-16014,2,20060710,2335, -5.0017, 164.9887, 2337,    707.7,   5.8810,  34.5251,2,   -999.0,9,  34.5247,2,    124.0,2,    48.87,2,  -999.00,9,    34.56,2,     0.00,2,     2.44,2, -999.000,9, -999.000,9,  -999.00,9,   -999.0,9,   -999.0,9,-999.0000,9,   -999.0,  9,  -999.00,9,   -999.0,  -999.00,9,  -999.00,9,  -999.00,9,  -999.00,9,   -999.0,-999.0000, -999,9,  703,   5.8188,  27.2002,   -999.0,9
       KS06-06,  165E,KS-1639,  1,      7,02-19374,2,20060710,2333, -5.0017, 164.9887, 2337,    805.8,   5.3019,  34.5251,2,   -999.0,9,  34.5245,2,    120.0,2,    59.08,2,  -999.00,9,    35.73,2,     0.00,2,     2.53,2, -999.000,9, -999.000,9,  -999.00,9,   -999.0,9,   -999.0,9,-999.0000,9,   -999.0,  9,  -999.00,9,   -999.0,  -999.00,9,  -999.00,9,  -999.00,9,  -999.00,9,   -999.0,-999.0000, -999,9,  800,   5.2340,  27.2714,   -999.0,9
       KS06-06,  165E,KS-1639,  1,      6,02-19373,2,20060710,2330, -5.0017, 164.9887, 2337,    909.4,   4.7390,  34.5256,2,   -999.0,9,  34.5242,2,    130.0,2,    66.72,2,  -999.00,9,    35.63,2,     0.00,2,     2.53,2, -999.000,9, -999.000,9,  -999.00,9,   -999.0,9,   -999.0,9,-999.0000,9,   -999.0,  9,  -999.00,9,   -999.0,  -999.00,9,  -999.00,9,  -999.00,9,  -999.00,9,   -999.0,-999.0000, -999,9,  902,   4.6656,  27.3371,   -999.0,9
       KS06-06,  165E,KS-1639,  1,      5,02-16011,2,20060710,2328, -5.0017, 164.9887, 2337,   1007.3,   4.3575,  34.5374,2,   -999.0,9,  34.5375,2,    123.0,2,    75.76,2,  -999.00,9,    36.60,2,     0.00,2,     2.60,2, -999.000,9, -999.000,9,  -999.00,9,   -999.0,9,   -999.0,9,-999.0000,9,   -999.0,  9,  -999.00,9,   -999.0,  -999.00,9,  -999.00,9,  -999.00,9,  -999.00,9,   -999.0,-999.0000, -999,9,  999,   4.2784,  27.3888,   -999.0,9
       KS06-06,  165E,KS-1639,  1,      4,02-16010,2,20060710,2323, -5.0017, 164.9887, 2337,   1258.9,   3.4753,  34.5760,2,   -999.0,9,  34.5742,2,    110.0,2,    99.17,2,  -999.00,9,    38.54,2,     0.00,2,     2.77,2, -999.000,9, -999.000,9,  -999.00,9,   -999.0,9,   -999.0,9,-999.0000,9,   -999.0,  9,  -999.00,9,   -999.0,  -999.00,9,  -999.00,9,  -999.00,9,  -999.00,9,   -999.0,-999.0000, -999,9, 1248,   3.3825,  27.5107,   -999.0,9
       KS06-06,  165E,KS-1639,  1,      3,02-16009,2,20060710,2318, -5.0017, 164.9887, 2337,   1511.0,   2.7698,  34.6067,2,   -999.0,9,  34.6067,2,    122.0,2,   113.42,2,  -999.00,9,    37.95,2,     0.00,2,     2.70,2, -999.000,9, -999.000,9,  -999.00,9,   -999.0,9,   -999.0,9,-999.0000,9,   -999.0,  9,  -999.00,9,   -999.0,  -999.00,9,  -999.00,9,  -999.00,9,  -999.00,9,   -999.0,-999.0000, -999,9, 1497,   2.6636,  27.6013,   -999.0,9
       KS06-06,  165E,KS-1639,  1,      2,02-16008,2,20060710,2314, -5.0017, 164.9887, 2337,   1764.9,   2.3516,  34.6311,2,   -999.0,9,  34.6297,2,    127.0,2,   123.97,2,  -999.00,9,    37.76,2,     0.00,2,     2.69,2, -999.000,9, -999.000,9,  -999.00,9,   -999.0,9,   -999.0,9,-999.0000,9,   -999.0,  9,  -999.00,9,   -999.0,  -999.00,9,  -999.00,9,  -999.00,9,  -999.00,9,   -999.0,-999.0000, -999,9, 1748,   2.2297,  27.6576,   -999.0,9
       KS06-06,  165E,KS-1639,  1,      1,02-16007,2,20060710,2308, -5.0017, 164.9887, 2337,   2034.1,   2.1487,  34.6442,2,   -999.0,9,  34.6444,2,    128.0,2,   130.20,2,  -999.00,9,    37.75,2,     0.00,2,     2.68,2, -999.000,9, -999.000,9,  -999.00,9,   -999.0,9,   -999.0,9,-999.0000,9,   -999.0,  9,  -999.00,9,   -999.0,  -999.00,9,  -999.00,9,  -999.00,9,  -999.00,9,   -999.0,-999.0000, -999,9, 2013,   2.0071,  27.6861,   -999.0,9
       KS06-06,  165E,KS-1640,  1,     18,02-19377,2,20060712,0107,  0.0005, 164.6747, 4389,      4.3,  29.8114,  34.4665,2,   -999.0,9,-999.0000,9,    197.0,2,     1.28,2,  -999.00,9,     0.00,2,     0.00,2,     0.12,2, -999.000,9, -999.000,9,  -999.00,9,   1918.9,2,   -999.0,9,-999.0000,9,   -999.0,  9,     8.26,2,   -999.0,  -999.00,9,  -999.00,9,     0.08,2,     0.03,2,   -999.0,-999.0000, -999,9,    4,  29.8103,  21.3908,   -999.0,9
       KS06-06,  165E,KS-1640,  1,     17,02-16023,2,20060712,0106,  0.0005, 164.6747, 4389,     10.5,  29.7750,  34.4737,2,   -999.0,9,-999.0000,9,    196.0,2,     1.27,2,  -999.00,9,     0.00,2,     0.00,2,     0.13,2, -999.000,9, -999.000,9,  -999.00,9,   1918.4,2,   -999.0,9,-999.0000,9,   -999.0,  9,     8.28,2,   -999.0,  -999.00,9,  -999.00,9,     0.08,2,     0.02,2,   -999.0,-999.0000, -999,9,   10,  29.7724,  21.4090,   -999.0,9
       KS06-06,  165E,KS-1640,  1,     16,02-16022,2,20060712,0105,  0.0005, 164.6747, 4389,     21.1,  29.7778,  34.4996,2,   -999.0,9,-999.0000,9,    199.0,2,     1.26,2,  -999.00,9,     0.00,2,     0.00,2,     0.13,2, -999.000,9, -999.000,9,  -999.00,9,   1921.1,2,   -999.0,9,-999.0000,9,   -999.0,  9,     8.28,2,   -999.0,  -999.00,9,  -999.00,9,     0.08,2,     0.02,2,   -999.0,-999.0000, -999,9,   21,  29.7726,  21.4284,   -999.0,9
       KS06-06,  165E,KS-1640,  1,     15,02-16021,2,20060712,0104,  0.0005, 164.6747, 4389,     30.6,  29.9878,  34.6932,2,   -999.0,9,-999.0000,9,    196.0,2,     1.26,2,  -999.00,9,     0.00,2,     0.00,2,     0.13,2, -999.000,9, -999.000,9,  -999.00,9,   1922.9,2,   -999.0,9,-999.0000,9,   -999.0,  9,     8.27,2,   -999.0,  -999.00,9,  -999.00,9,  -999.00,9,  -999.00,9,   -999.0,-999.0000, -999,9,   30,  29.9802,  21.5029,   -999.0,9
       KS06-06,  165E,KS-1640,  1,     14,02-16020,2,20060712,0103,  0.0005, 164.6747, 4389,     40.7,  29.9869,  34.7266,2,   -999.0,9,-999.0000,9,    197.0,2,     1.26,2,  -999.00,9,     0.00,2,     0.00,2,     0.13,2, -999.000,9, -999.000,9,  -999.00,9,   1932.3,2,   -999.0,9,-999.0000,9,   -999.0,  9,     8.27,2,   -999.0,  -999.00,9,  -999.00,9,  -999.00,9,  -999.00,9,   -999.0,-999.0000, -999,9,   41,  29.9768,  21.5291,   -999.0,9
       KS06-06,  165E,KS-1640,  1,     13,02-16019,2,20060712,0102,  0.0005, 164.6747, 4389,     51.6,  30.0058,  34.7581,2,   -999.0,9,-999.0000,9,    196.0,2,     1.25,2,  -999.00,9,     0.00,2,     0.00,2,     0.13,2, -999.000,9, -999.000,9,  -999.00,9,   1926.9,2,   -999.0,9,-999.0000,9,   -999.0,  9,     8.27,2,   -999.0,  -999.00,9,  -999.00,9,     0.12,2,     0.05,2,   -999.0,-999.0000, -999,9,   51,  29.9930,  21.5472,   -999.0,9
       KS06-06,  165E,KS-1640,  1,     12,02-16018,2,20060712,0101,  0.0005, 164.6747, 4389,     60.8,  30.0576,  34.8224,2,   -999.0,9,-999.0000,9,    198.0,2,     1.25,2,  -999.00,9,     0.00,2,     0.00,2,     0.14,2, -999.000,9, -999.000,9,  -999.00,9,   1933.7,2,   -999.0,9,-999.0000,9,   -999.0,  9,     8.26,2,   -999.0,  -999.00,9,  -999.00,9,  -999.00,9,  -999.00,9,   -999.0,-999.0000, -999,9,   60,  30.0425,  21.5785,   -999.0,9
       KS06-06,  165E,KS-1640,  1,     11,02-19376,2,20060712,0100,  0.0005, 164.6747, 4389,     81.0,  30.0371,  34.9843,2,   -999.0,9,-999.0000,9,    198.0,2,     1.35,2,  -999.00,9,     0.00,2,     0.00,2,     0.15,2, -999.000,9, -999.000,9,  -999.00,9,   1946.3,2,   -999.0,9,-999.0000,9,   -999.0,  9,     8.25,2,   -999.0,  -999.00,9,  -999.00,9,     0.26,2,     0.16,2,   -999.0,-999.0000, -999,9,   81,  30.0170,  21.7086,   -999.0,9
       KS06-06,  165E,KS-1640,  1,     10,02-19375,2,20060712,0059,  0.0005, 164.6747, 4389,    101.3,  29.9171,  35.1837,2,   -999.0,9,-999.0000,9,    200.0,2,     1.45,2,  -999.00,9,     0.00,2,     0.00,2,     0.18,2, -999.000,9, -999.000,9,  -999.00,9,   1965.1,2,   -999.0,9,-999.0000,9,   -999.0,  9,     8.24,2,   -999.0,  -999.00,9,  -999.00,9,     0.25,2,     0.20,2,   -999.0,-999.0000, -999,9,  101,  29.8920,  21.9008,   -999.0,9
       KS06-06,  165E,KS-1640,  1,      9,02-16015,2,20060712,0058,  0.0005, 164.6747, 4389,    121.3,  28.5095,  35.5010,2,   -999.0,9,-999.0000,9,    181.0,2,     1.98,2,  -999.00,9,     4.40,2,     1.07,2,     0.45,2, -999.000,9, -999.000,9,  -999.00,9,   2019.2,2,   -999.0,9,-999.0000,9,   -999.0,  9,     8.18,2,   -999.0,  -999.00,9,  -999.00,9,     0.10,2,     0.22,2,   -999.0,-999.0000, -999,9,  121,  28.4805,  22.6133,   -999.0,9
       KS06-06,  165E,KS-1640,  1,      8,02-16014,2,20060712,0057,  0.0005, 164.6747, 4389,    140.9,  25.0035,  35.4654,2,   -999.0,9,-999.0000,9,    140.0,2,     3.49,2,  -999.00,9,     8.69,2,     0.02,2,     0.68,2, -999.000,9, -999.000,9,  -999.00,9,   2060.7,2,   -999.0,9,-999.0000,9,   -999.0,  9,     8.10,2,   -999.0,  -999.00,9,  -999.00,9,  -999.00,9,  -999.00,9,   -999.0,-999.0000, -999,9,  140,  24.9729,  23.7013,   -999.0,9
       KS06-06,  165E,KS-1640,  1,      7,02-19374,2,20060712,0055,  0.0005, 164.6747, 4389,    161.9,  23.5076,  35.6561,2,   -999.0,9,-999.0000,9,    133.0,2,     3.63,2,  -999.00,9,     9.37,2,     0.01,2,     0.75,2, -999.000,9, -999.000,9,  -999.00,9,   2087.1,3,   -999.0,9,-999.0000,9,   -999.0,  9,     8.08,2,   -999.0,  -999.00,9,  -999.00,9,     0.02,2,     0.02,2,   -999.0,-999.0000, -999,9,  161,  23.4739,  24.2934,   -999.0,9
       KS06-06,  165E,KS-1640,  1,      6,02-19373,2,20060712,0054,  0.0005, 164.6747, 4389,    181.8,  20.2583,  35.5144,2,   -999.0,9,-999.0000,9,    133.0,2,     4.93,2,  -999.00,9,    11.12,2,     0.00,2,     0.86,2, -999.000,9, -999.000,9,  -999.00,9,   2101.6,2,   -999.0,9,-999.0000,9,   -999.0,  9,     8.03,2,   -999.0,  -999.00,9,  -999.00,9,  -999.00,9,  -999.00,9,   -999.0,-999.0000, -999,9,  181,  20.2243,  25.0947,   -999.0,9
       KS06-06,  165E,KS-1640,  1,      5,02-16011,2,20060712,0052,  0.0005, 164.6747, 4389,    203.2,  15.9611,  35.1946,2,   -999.0,9,-999.0000,9,    136.0,2,     9.20,2,  -999.00,9,    15.30,2,     0.00,2,     1.13,2, -999.000,9, -999.000,9,  -999.00,9,   2135.3,2,   -999.0,9,-999.0000,9,   -999.0,  9,     7.95,2,   -999.0,  -999.00,9,  -999.00,9,     0.00,2,     0.01,2,   -999.0,-999.0000, -999,9,  202,  15.9289,  25.9136,   -999.0,9
       KS06-06,  165E,KS-1640,  1,      4,02-16010,2,20060712,0051,  0.0005, 164.6747, 4389,    226.9,  13.6633,  34.9847,2,   -999.0,9,-999.0000,9,    143.0,2,    14.15,2,  -999.00,9,    17.93,2,     0.00,2,     1.29,2, -999.000,9, -999.000,9,  -999.00,9,   2145.2,2,   -999.0,9,-999.0000,9,   -999.0,  9,     7.91,2,   -999.0,  -999.00,9,  -999.00,9,  -999.00,9,  -999.00,9,   -999.0,-999.0000, -999,9,  226,  13.6310,  26.2523,   -999.0,9
       KS06-06,  165E,KS-1640,  1,      3,02-16009,2,20060712,0048,  0.0005, 164.6747, 4389,    251.1,  13.0142,  34.9573,2,   -999.0,9,-999.0000,9,    145.0,2,    14.24,2,  -999.00,9,    18.71,2,     0.00,2,     1.33,2, -999.000,9, -999.000,9,  -999.00,9,   2143.5,2,   -999.0,9,-999.0000,9,   -999.0,  9,     7.89,2,   -999.0,  -999.00,9,  -999.00,9,     0.00,2,     0.01,2,   -999.0,-999.0000, -999,9,  250,  12.9796,  26.3639,   -999.0,9
       KS06-06,  165E,KS-1640,  1,      2,02-16008,2,20060712,0046,  0.0005, 164.6747, 4389,    302.2,  12.2816,  34.9067,2,   -999.0,9,-999.0000,9,    139.0,2,    15.91,2,  -999.00,9,    20.46,2,     0.00,2,     1.45,2, -999.000,9, -999.000,9,  -999.00,9,   2154.9,2,   -999.0,9,-999.0000,9,   -999.0,  9,     7.86,2,   -999.0,  -999.00,9,  -999.00,9,     0.00,2,     0.01,2,   -999.0,-999.0000, -999,9,  300,  12.2414,  26.4702,   -999.0,9
       KS06-06,  165E,KS-1640,  1,      1,02-16007,2,20060712,0044,  0.0005, 164.6747, 4389,    401.9,   9.2276,  34.6699,2,   -999.0,9,-999.0000,9,    103.0,2,    29.52,2,  -999.00,9,    29.70,2,     0.00,2,     2.07,2, -999.000,9, -999.000,9,  -999.00,9,   2208.1,2,   -999.0,9,-999.0000,9,   -999.0,  9,     7.73,2,   -999.0,  -999.00,9,  -999.00,9,  -999.00,9,  -999.00,9,   -999.0,-999.0000, -999,9,  399,   9.1829,  26.8302,   -999.0,9