BOTTLE,20131214MIRCJHATS
EXPOCODE,SECT_ID,STNNBR,CASTNO,SAMPNO,BTLNBR,BTLNBR_FLAG_W,DATE,TIME,LATITUDE,LONGITUDE,DEPTH,CTDPRS,CTDTMP,CTDSAL,CTDSAL_FLAG_W,CTDOXY,CTDOXY_FLAG_W,SALNTY,SALNTY_FLAG_W,OXYGEN,OXYGEN_FLAG_W,SILCAT,SILCAT_FLAG_W,NITRAT,NITRAT_FLAG_W,NO2+NO3,NO2+NO3_FLAG_W,NITRIT,NITRIT_FLAG_W,PHSPHT,PHSPHT_FLAG_W,CFC-11,CFC-11_FLAG_W,CFC-12,CFC-12_FLAG_W,DELC13,DELC13_FLAG_W,TCARBN,TCARBN_FLAG_W,ALKALI,ALKALI_FLAG_W,PH,PH_FLAG_W,PH_TMP,PH_SCALE,PH_NBS,PH_NBS_FLAG_W,C13ERR,TOTALP,TOTALP_FLAG_W,AMMONI,AMMONI_FLAG_W,CHLORA,CHLORA_FLAG_W,PPHYTN,PPHYTN_FLAG_W,REVPRS,REVTMP,DEPTH_,DEPTH_FLAG,CTDDEP,THETA,SIGTHT,DOC,DOC_FLAG_W
,,,,,,,GMT,GMT,,,METER,DBAR,ITS-90,PSS-78,,UMOL/KG,,PSS-78,,UMOL/KG,,UMOL/KG,,UMOL/KG,,UMOL/KG,,UMOL/KG,,UMOL/KG,,PMOL/KG,,PMOL/KG,,/MILLE,,UMOL/KG,,UMOL/KG,,25_DEG_C,,DEG_C,,,,/MILLE,UMOL/KG,,UMOL/KG,,UG/L,,UG/L,,DBAR,ITS-90,METERS,,METERS,DEG_C,,UMOL/L,
       KS06-06,  NONE,KS-1655,  1,     22,02-19379,2,20060722,0146,  4.9808, 147.6033, 4636,      5.6,  29.2490,  34.0815,2,   -999.0,9,  34.0835,2,    201.0,2,     1.20,2,  -999.00,9,     0.00,2,     0.00,2,     0.06,2, -999.000,9, -999.000,9,  -999.00,9,   -999.0,9,   -999.0,9,-999.0000,9,   -999.0,  9,  -999.00,9,   -999.0,  -999.00,9,  -999.00,9,  -999.00,9,  -999.00,9,   -999.0,-999.0000, -999,9,    6,  29.2476,  21.2918,   -999.0,9
       KS06-06,  NONE,KS-1655,  1,     21,02-16027,2,20060722,0145,  4.9808, 147.6033, 4636,     10.0,  29.2356,  34.0787,2,   -999.0,9,-999.0000,9,    198.0,2,     1.24,2,  -999.00,9,     0.00,2,     0.00,2,     0.05,2, -999.000,9, -999.000,9,  -999.00,9,   -999.0,9,   -999.0,9,-999.0000,9,   -999.0,  9,  -999.00,9,   -999.0,  -999.00,9,  -999.00,9,  -999.00,9,  -999.00,9,   -999.0,-999.0000, -999,9,   10,  29.2332,  21.2946,   -999.0,9
       KS06-06,  NONE,KS-1655,  1,     20,02-16026,2,20060722,0144,  4.9808, 147.6033, 4636,     25.0,  29.2163,  34.0758,2,   -999.0,9,-999.0000,9,    200.0,2,     1.18,2,  -999.00,9,     0.00,2,     0.00,2,     0.06,2, -999.000,9, -999.000,9,  -999.00,9,   -999.0,9,   -999.0,9,-999.0000,9,   -999.0,  9,  -999.00,9,   -999.0,  -999.00,9,  -999.00,9,  -999.00,9,  -999.00,9,   -999.0,-999.0000, -999,9,   25,  29.2102,  21.3001,   -999.0,9
       KS06-06,  NONE,KS-1655,  1,     19,02-19378,2,20060722,0141,  4.9808, 147.6033, 4636,     50.3,  29.2180,  34.0719,2,   -999.0,9,-999.0000,9,    199.0,2,     1.22,2,  -999.00,9,     0.00,2,     0.00,2,     0.06,2, -999.000,9, -999.000,9,  -999.00,9,   -999.0,9,   -999.0,9,-999.0000,9,   -999.0,  9,  -999.00,9,   -999.0,  -999.00,9,  -999.00,9,  -999.00,9,  -999.00,9,   -999.0,-999.0000, -999,9,   50,  29.2058,  21.2986,   -999.0,9
       KS06-06,  NONE,KS-1655,  1,     18,02-19377,2,20060722,0140,  4.9808, 147.6033, 4636,     74.8,  28.6112,  34.4004,2,   -999.0,9,-999.0000,9,    197.0,2,     1.58,2,  -999.00,9,     0.00,2,     0.00,2,     0.09,2, -999.000,9, -999.000,9,  -999.00,9,   -999.0,9,   -999.0,9,-999.0000,9,   -999.0,  9,  -999.00,9,   -999.0,  -999.00,9,  -999.00,9,  -999.00,9,  -999.00,9,   -999.0,-999.0000, -999,9,   74,  28.5933,  21.7490,   -999.0,9
       KS06-06,  NONE,KS-1655,  1,     17,02-16023,2,20060722,0139,  4.9808, 147.6033, 4636,    101.5,  24.0080,  34.6853,2,   -999.0,9,  34.7199,4,    162.0,2,     4.52,2,  -999.00,9,     4.40,2,     0.10,2,     0.38,2, -999.000,9, -999.000,9,  -999.00,9,   -999.0,9,   -999.0,9,-999.0000,9,   -999.0,  9,  -999.00,9,   -999.0,  -999.00,9,  -999.00,9,  -999.00,9,  -999.00,9,   -999.0,-999.0000, -999,9,  101,  23.9867,  23.4070,   -999.0,9
       KS06-06,  NONE,KS-1655,  1,     16,02-16022,2,20060722,0139,  4.9808, 147.6033, 4636,    125.8,  19.7994,  34.8235,2,   -999.0,9,-999.0000,9,    148.0,2,     7.92,2,  -999.00,9,     9.08,2,     0.01,2,     0.67,2, -999.000,9, -999.000,9,  -999.00,9,   -999.0,9,   -999.0,9,-999.0000,9,   -999.0,  9,  -999.00,9,   -999.0,  -999.00,9,  -999.00,9,  -999.00,9,  -999.00,9,   -999.0,-999.0000, -999,9,  125,  19.7763,  24.6858,   -999.0,9
       KS06-06,  NONE,KS-1655,  1,     15,02-16021,2,20060722,0138,  4.9808, 147.6033, 4636,    151.1,  16.1211,  34.6732,2,   -999.0,9,-999.0000,9,    133.0,2,    14.42,2,  -999.00,9,    15.31,2,     0.00,2,     1.07,2, -999.000,9, -999.000,9,  -999.00,9,   -999.0,9,   -999.0,9,-999.0000,9,   -999.0,  9,  -999.00,9,   -999.0,  -999.00,9,  -999.00,9,  -999.00,9,  -999.00,9,   -999.0,-999.0000, -999,9,  150,  16.0971,  25.4740,   -999.0,9
       KS06-06,  NONE,KS-1655,  1,     14,02-16020,2,20060722,0136,  4.9808, 147.6033, 4636,    202.1,  10.9500,  34.5817,2,   -999.0,9,  34.5872,2,     62.0,2,    30.78,2,  -999.00,9,    29.91,2,     0.00,2,     2.14,2, -999.000,9, -999.000,9,  -999.00,9,   -999.0,9,   -999.0,9,-999.0000,9,   -999.0,  9,  -999.00,9,   -999.0,  -999.00,9,  -999.00,9,  -999.00,9,  -999.00,9,   -999.0,-999.0000, -999,9,  201,  10.9253,  26.4632,   -999.0,9
       KS06-06,  NONE,KS-1655,  1,     13,02-16019,2,20060722,0135,  4.9808, 147.6033, 4636,    251.9,  10.0886,  34.6166,2,   -999.0,9,-999.0000,9,     49.0,2,    34.13,2,  -999.00,9,    32.73,2,     0.00,2,     2.34,2, -999.000,9, -999.000,9,  -999.00,9,   -999.0,9,   -999.0,9,-999.0000,9,   -999.0,  9,  -999.00,9,   -999.0,  -999.00,9,  -999.00,9,  -999.00,9,  -999.00,9,   -999.0,-999.0000, -999,9,  250,  10.0593,  26.6424,   -999.0,9
       KS06-06,  NONE,KS-1655,  1,     12,02-16018,2,20060722,0134,  4.9808, 147.6033, 4636,    304.1,   9.3677,  34.6231,2,   -999.0,9,  34.6234,2,     49.0,2,    36.59,2,  -999.00,9,    34.09,2,     0.00,2,     2.43,2, -999.000,9, -999.000,9,  -999.00,9,   -999.0,9,   -999.0,9,-999.0000,9,   -999.0,  9,  -999.00,9,   -999.0,  -999.00,9,  -999.00,9,  -999.00,9,  -999.00,9,   -999.0,-999.0000, -999,9,  302,   9.3338,  26.7689,   -999.0,9
       KS06-06,  NONE,KS-1655,  1,     11,02-19376,2,20060722,0132,  4.9808, 147.6033, 4636,    402.9,   8.1404,  34.5839,2,   -999.0,9,  34.5843,2,     65.0,2,    43.28,2,  -999.00,9,    34.96,2,     0.00,2,     2.48,2, -999.000,9, -999.000,9,  -999.00,9,   -999.0,9,   -999.0,9,-999.0000,9,   -999.0,  9,  -999.00,9,   -999.0,  -999.00,9,  -999.00,9,  -999.00,9,  -999.00,9,   -999.0,-999.0000, -999,9,  400,   8.0989,  26.9322,   -999.0,9
       KS06-06,  NONE,KS-1655,  1,     10,02-19375,2,20060722,0129,  4.9808, 147.6033, 4636,    504.2,   7.3129,  34.5607,2,   -999.0,9,  34.5610,2,     71.0,2,    49.45,2,  -999.00,9,    36.03,2,     0.00,2,     2.57,2, -999.000,9, -999.000,9,  -999.00,9,   -999.0,9,   -999.0,9,-999.0000,9,   -999.0,  9,  -999.00,9,   -999.0,  -999.00,9,  -999.00,9,  -999.00,9,  -999.00,9,   -999.0,-999.0000, -999,9,  501,   7.2638,  27.0358,   -999.0,9
       KS06-06,  NONE,KS-1655,  1,      9,02-16015,2,20060722,0127,  4.9808, 147.6033, 4636,    604.8,   6.6759,  34.5492,2,   -999.0,9,  34.5499,2,     69.0,2,    56.20,2,  -999.00,9,    37.48,2,     0.00,2,     2.70,2, -999.000,9, -999.000,9,  -999.00,9,   -999.0,9,   -999.0,9,-999.0000,9,   -999.0,  9,  -999.00,9,   -999.0,  -999.00,9,  -999.00,9,  -999.00,9,  -999.00,9,   -999.0,-999.0000, -999,9,  601,   6.6195,  27.1155,   -999.0,9
       KS06-06,  NONE,KS-1655,  1,      8,02-16014,2,20060722,0125,  4.9808, 147.6033, 4636,    705.6,   5.9311,  34.5403,2,   -999.0,9,  34.5409,2,     78.0,2,    64.69,2,  -999.00,9,    37.97,2,     0.00,2,     2.73,2, -999.000,9, -999.000,9,  -999.00,9,   -999.0,9,   -999.0,9,-999.0000,9,   -999.0,  9,  -999.00,9,   -999.0,  -999.00,9,  -999.00,9,  -999.00,9,  -999.00,9,   -999.0,-999.0000, -999,9,  701,   5.8688,  27.2060,   -999.0,9
       KS06-06,  NONE,KS-1655,  1,      7,02-19374,2,20060722,0122,  4.9808, 147.6033, 4636,    806.1,   5.2961,  34.5420,2,   -999.0,9,  34.5423,2,     79.0,2,    76.74,2,  -999.00,9,    38.45,2,     0.00,2,     2.77,2, -999.000,9, -999.000,9,  -999.00,9,   -999.0,9,   -999.0,9,-999.0000,9,   -999.0,  9,  -999.00,9,   -999.0,  -999.00,9,  -999.00,9,  -999.00,9,  -999.00,9,   -999.0,-999.0000, -999,9,  800,   5.2282,  27.2854,   -999.0,9
       KS06-06,  NONE,KS-1655,  1,      6,02-19373,2,20060722,0120,  4.9808, 147.6033, 4636,    908.4,   4.7825,  34.5505,2,   -999.0,9,  34.5505,2,     80.0,2,    85.77,2,  -999.00,9,    39.13,2,     0.00,2,     2.82,2, -999.000,9, -999.000,9,  -999.00,9,   -999.0,9,   -999.0,9,-999.0000,9,   -999.0,  9,  -999.00,9,   -999.0,  -999.00,9,  -999.00,9,  -999.00,9,  -999.00,9,   -999.0,-999.0000, -999,9,  901,   4.7089,  27.3520,   -999.0,9
       KS06-06,  NONE,KS-1655,  1,      5,02-16011,2,20060722,0118,  4.9808, 147.6033, 4636,   1008.7,   4.3097,  34.5601,2,   -999.0,9,  34.5600,2,     88.0,2,    94.77,2,  -999.00,9,    38.93,2,     0.00,2,     2.80,2, -999.000,9, -999.000,9,  -999.00,9,   -999.0,9,   -999.0,9,-999.0000,9,   -999.0,  9,  -999.00,9,   -999.0,  -999.00,9,  -999.00,9,  -999.00,9,  -999.00,9,   -999.0,-999.0000, -999,9, 1001,   4.2308,  27.4120,   -999.0,9
       KS06-06,  NONE,KS-1655,  1,      4,02-16010,2,20060722,0113,  4.9808, 147.6033, 4636,   1261.1,   3.6055,  34.5807,2,   -999.0,9,  34.5799,2,     94.0,2,   108.67,2,  -999.00,9,    39.12,2,     0.00,2,     2.81,2, -999.000,9, -999.000,9,  -999.00,9,   -999.0,9,   -999.0,9,-999.0000,9,   -999.0,  9,  -999.00,9,   -999.0,  -999.00,9,  -999.00,9,  -999.00,9,  -999.00,9,   -999.0,-999.0000, -999,9, 1250,   3.5113,  27.5019,   -999.0,9
       KS06-06,  NONE,KS-1655,  1,      3,02-16009,2,20060722,0108,  4.9808, 147.6033, 4636,   1515.6,   3.0836,  34.5992,2,   -999.0,9,  34.5985,2,    102.0,2,   119.66,2,  -999.00,9,    39.22,2,     0.00,2,     2.81,2, -999.000,9, -999.000,9,  -999.00,9,   -999.0,9,   -999.0,9,-999.0000,9,   -999.0,  9,  -999.00,9,   -999.0,  -999.00,9,  -999.00,9,  -999.00,9,  -999.00,9,   -999.0,-999.0000, -999,9, 1502,   2.9734,  27.5676,   -999.0,9
       KS06-06,  NONE,KS-1655,  1,      2,02-16008,2,20060722,0103,  4.9808, 147.6033, 4636,   1767.9,   2.5294,  34.6225,2,   -999.0,9,  34.6219,2,    107.0,2,   131.64,2,  -999.00,9,    38.92,2,     0.00,2,     2.77,2, -999.000,9, -999.000,9,  -999.00,9,   -999.0,9,   -999.0,9,-999.0000,9,   -999.0,  9,  -999.00,9,   -999.0,  -999.00,9,  -999.00,9,  -999.00,9,  -999.00,9,   -999.0,-999.0000, -999,9, 1751,   2.4049,  27.6361,   -999.0,9
       KS06-06,  NONE,KS-1655,  1,      1,02-16007,2,20060722,0058,  4.9808, 147.6033, 4636,   2031.1,   2.1659,  34.6409,2,   -999.0,9,  34.6398,2,    115.0,2,   138.04,2,  -999.00,9,    38.53,2,     0.00,2,     2.72,2, -999.000,9, -999.000,9,  -999.00,9,   -999.0,9,   -999.0,9,-999.0000,9,   -999.0,  9,  -999.00,9,   -999.0,  -999.00,9,  -999.00,9,  -999.00,9,  -999.00,9,   -999.0,-999.0000, -999,9, 2010,   2.0243,  27.6820,   -999.0,9