BOTTLE,20131214MIRCJHATS
EXPOCODE,SECT_ID,STNNBR,CASTNO,SAMPNO,BTLNBR,BTLNBR_FLAG_W,DATE,TIME,LATITUDE,LONGITUDE,DEPTH,CTDPRS,CTDTMP,CTDSAL,CTDSAL_FLAG_W,CTDOXY,CTDOXY_FLAG_W,SALNTY,SALNTY_FLAG_W,OXYGEN,OXYGEN_FLAG_W,SILCAT,SILCAT_FLAG_W,NITRAT,NITRAT_FLAG_W,NO2+NO3,NO2+NO3_FLAG_W,NITRIT,NITRIT_FLAG_W,PHSPHT,PHSPHT_FLAG_W,CFC-11,CFC-11_FLAG_W,CFC-12,CFC-12_FLAG_W,DELC13,DELC13_FLAG_W,TCARBN,TCARBN_FLAG_W,ALKALI,ALKALI_FLAG_W,PH,PH_FLAG_W,PH_TMP,PH_SCALE,PH_NBS,PH_NBS_FLAG_W,C13ERR,TOTALP,TOTALP_FLAG_W,AMMONI,AMMONI_FLAG_W,CHLORA,CHLORA_FLAG_W,PPHYTN,PPHYTN_FLAG_W,REVPRS,REVTMP,DEPTH_,DEPTH_FLAG,CTDDEP,THETA,SIGTHT,DOC,DOC_FLAG_W
,,,,,,,GMT,GMT,,,METER,DBAR,ITS-90,PSS-78,,UMOL/KG,,PSS-78,,UMOL/KG,,UMOL/KG,,UMOL/KG,,UMOL/KG,,UMOL/KG,,UMOL/KG,,PMOL/KG,,PMOL/KG,,/MILLE,,UMOL/KG,,UMOL/KG,,25_DEG_C,,DEG_C,,,,/MILLE,UMOL/KG,,UMOL/KG,,UG/L,,UG/L,,DBAR,ITS-90,METERS,,METERS,DEG_C,,UMOL/L,
       KS06-06,  142E,KS-1681,  1,     20,02-16026,2,20060806,1257, 33.5258, 141.5033, 5953,      4.7,  29.1788,  34.1969,2,   -999.0,9,-999.0000,9,    201.0,2,     1.78,2,  -999.00,9,     0.00,2,     0.00,2,     0.00,2, -999.000,9, -999.000,9,  -999.00,9,   -999.0,9,   -999.0,9,-999.0000,9,   -999.0,  9,  -999.00,9,   -999.0,  -999.00,9,  -999.00,9,     0.06,2,     0.01,2,   -999.0,-999.0000, -999,9,    5,  29.1777,  21.4019,   -999.0,9
       KS06-06,  142E,KS-1681,  1,     19,02-19378,2,20060806,1256, 33.5258, 141.5033, 5953,     10.5,  29.1903,  34.2006,2,   -999.0,9,-999.0000,9,    201.0,2,     1.71,2,  -999.00,9,     0.00,2,     0.00,2,     0.00,2, -999.000,9, -999.000,9,  -999.00,9,   -999.0,9,   -999.0,9,-999.0000,9,   -999.0,  9,  -999.00,9,   -999.0,  -999.00,9,  -999.00,9,     0.07,2,     0.00,2,   -999.0,-999.0000, -999,9,   10,  29.1878,  21.4012,   -999.0,9
       KS06-06,  142E,KS-1681,  1,     18,02-19377,2,20060806,1255, 33.5258, 141.5033, 5953,     25.6,  29.2919,  34.3386,2,   -999.0,9,-999.0000,9,    202.0,2,     1.65,2,  -999.00,9,     0.00,2,     0.00,2,     0.00,2, -999.000,9, -999.000,9,  -999.00,9,   -999.0,9,   -999.0,9,-999.0000,9,   -999.0,  9,  -999.00,9,   -999.0,  -999.00,9,  -999.00,9,     0.07,2,     0.02,2,   -999.0,-999.0000, -999,9,   25,  29.2857,  21.4720,   -999.0,9
       KS06-06,  142E,KS-1681,  1,     17,02-16023,2,20060806,1250, 33.5258, 141.5033, 5953,     50.0,  27.7953,  34.3021,2,   -999.0,9,-999.0000,9,    205.0,2,     1.64,2,  -999.00,9,     0.00,2,     0.00,2,     0.00,2, -999.000,9, -999.000,9,  -999.00,9,   -999.0,9,   -999.0,9,-999.0000,9,   -999.0,  9,  -999.00,9,   -999.0,  -999.00,9,  -999.00,9,     0.15,2,     0.08,2,   -999.0,-999.0000, -999,9,   50,  27.7836,  21.9403,   -999.0,9
       KS06-06,  142E,KS-1681,  1,     16,02-16022,2,20060806,1249, 33.5258, 141.5033, 5953,     74.3,  25.7876,  34.4354,2,   -999.0,9,-999.0000,9,    206.0,2,     1.90,2,  -999.00,9,     0.39,2,     0.19,2,     0.02,2, -999.000,9, -999.000,9,  -999.00,9,   -999.0,9,   -999.0,9,-999.0000,9,   -999.0,  9,  -999.00,9,   -999.0,  -999.00,9,  -999.00,9,     0.25,2,     0.25,2,   -999.0,-999.0000, -999,9,   74,  25.7712,  22.6784,   -999.0,9
       KS06-06,  142E,KS-1681,  1,     15,02-16021,2,20060806,1247, 33.5258, 141.5033, 5953,    102.1,  23.9220,  34.6412,2,   -999.0,9,-999.0000,9,    207.0,2,     1.89,2,  -999.00,9,     0.39,2,     0.16,2,     0.03,2, -999.000,9, -999.000,9,  -999.00,9,   -999.0,9,   -999.0,9,-999.0000,9,   -999.0,  9,  -999.00,9,   -999.0,  -999.00,9,  -999.00,9,     0.13,2,     0.16,2,   -999.0,-999.0000, -999,9,  101,  23.9006,  23.3991,   -999.0,9
       KS06-06,  142E,KS-1681,  1,     14,02-16020,2,20060806,1246, 33.5258, 141.5033, 5953,    124.3,  22.5659,  34.7377,2,   -999.0,9,-999.0000,9,    197.0,2,     3.07,2,  -999.00,9,     1.95,2,     0.09,2,     0.13,2, -999.000,9, -999.000,9,  -999.00,9,   -999.0,9,   -999.0,9,-999.0000,9,   -999.0,  9,  -999.00,9,   -999.0,  -999.00,9,  -999.00,9,     0.06,2,     0.10,2,   -999.0,-999.0000, -999,9,  123,  22.5409,  23.8660,   -999.0,9
       KS06-06,  142E,KS-1681,  1,     13,02-16019,2,20060806,1245, 33.5258, 141.5033, 5953,    152.6,  21.6394,  34.7767,2,   -999.0,9,-999.0000,9,    193.0,2,     3.68,2,  -999.00,9,     2.83,2,     0.04,2,     0.19,2, -999.000,9, -999.000,9,  -999.00,9,   -999.0,9,   -999.0,9,-999.0000,9,   -999.0,  9,  -999.00,9,   -999.0,  -999.00,9,  -999.00,9,     0.03,2,     0.07,2,   -999.0,-999.0000, -999,9,  151,  21.6096,  24.1568,   -999.0,9
       KS06-06,  142E,KS-1681,  1,     12,02-16018,2,20060806,1243, 33.5258, 141.5033, 5953,    201.5,  20.4732,  34.7858,2,   -999.0,9,-999.0000,9,    191.0,2,     4.86,2,  -999.00,9,     3.81,2,     0.03,2,     0.25,2, -999.000,9, -999.000,9,  -999.00,9,   -999.0,9,   -999.0,9,-999.0000,9,   -999.0,  9,  -999.00,9,   -999.0,  -999.00,9,  -999.00,9,     0.03,2,     0.05,2,   -999.0,-999.0000, -999,9,  200,  20.4354,  24.4829,   -999.0,9
       KS06-06,  142E,KS-1681,  1,     11,02-19376,2,20060806,1241, 33.5258, 141.5033, 5953,    252.7,  19.4262,  34.7795,2,   -999.0,9,-999.0000,9,    188.0,2,     5.99,2,  -999.00,9,     4.98,2,     0.02,2,     0.32,2, -999.000,9, -999.000,9,  -999.00,9,   -999.0,9,   -999.0,9,-999.0000,9,   -999.0,  9,  -999.00,9,   -999.0,  -999.00,9,  -999.00,9,     0.02,2,     0.03,2,   -999.0,-999.0000, -999,9,  251,  19.3804,  24.7551,   -999.0,9
       KS06-06,  142E,KS-1681,  1,     10,02-19375,2,20060806,1239, 33.5258, 141.5033, 5953,    303.8,  17.8712,  34.7699,2,   -999.0,9,-999.0000,9,    188.0,2,     7.06,2,  -999.00,9,     6.34,2,     0.00,2,     0.41,2, -999.000,9, -999.000,9,  -999.00,9,   -999.0,9,   -999.0,9,-999.0000,9,   -999.0,  9,  -999.00,9,   -999.0,  -999.00,9,  -999.00,9,     0.00,2,     0.02,2,   -999.0,-999.0000, -999,9,  301,  17.8192,  25.1402,   -999.0,9
       KS06-06,  142E,KS-1681,  1,      9,02-16015,2,20060806,1236, 33.5258, 141.5033, 5953,    402.5,  15.5007,  34.6193,2,   -999.0,9,-999.0000,9,    177.0,2,    14.82,2,  -999.00,9,    11.12,2,     0.00,2,     0.74,2, -999.000,9, -999.000,9,  -999.00,9,   -999.0,9,   -999.0,9,-999.0000,9,   -999.0,  9,  -999.00,9,   -999.0,  -999.00,9,  -999.00,9,  -999.00,9,  -999.00,9,   -999.0,-999.0000, -999,9,  399,  15.4382,  25.5816,   -999.0,9
       KS06-06,  142E,KS-1681,  1,      8,02-16014,2,20060806,1233, 33.5258, 141.5033, 5953,    505.5,  11.4954,  34.4090,2,   -999.0,9,-999.0000,9,    151.0,2,    33.73,2,  -999.00,9,    19.68,2,     0.00,2,     1.36,2, -999.000,9, -999.000,9,  -999.00,9,   -999.0,9,   -999.0,9,-999.0000,9,   -999.0,  9,  -999.00,9,   -999.0,  -999.00,9,  -999.00,9,  -999.00,9,  -999.00,9,   -999.0,-999.0000, -999,9,  501,  11.4308,  26.2367,   -999.0,9
       KS06-06,  142E,KS-1681,  1,      7,02-19374,2,20060806,1230, 33.5258, 141.5033, 5953,    605.7,   7.9060,  34.2852,2,   -999.0,9,-999.0000,9,    121.0,2,    60.57,2,  -999.00,9,    28.54,2,     0.00,2,     2.02,2, -999.000,9, -999.000,9,  -999.00,9,   -999.0,9,   -999.0,9,-999.0000,9,   -999.0,  9,  -999.00,9,   -999.0,  -999.00,9,  -999.00,9,  -999.00,9,  -999.00,9,   -999.0,-999.0000, -999,9,  601,   7.8442,  26.7355,   -999.0,9
       KS06-06,  142E,KS-1681,  1,      6,02-19373,2,20060806,1227, 33.5258, 141.5033, 5953,    706.8,   5.7862,  34.2597,2,   -999.0,9,-999.0000,9,     90.0,2,    83.63,2,  -999.00,9,    34.57,2,     0.00,2,     2.49,2, -999.000,9, -999.000,9,  -999.00,9,   -999.0,9,   -999.0,9,-999.0000,9,   -999.0,  9,  -999.00,9,   -999.0,  -999.00,9,  -999.00,9,  -999.00,9,  -999.00,9,   -999.0,-999.0000, -999,9,  701,   5.7248,  27.0020,   -999.0,9
       KS06-06,  142E,KS-1681,  1,      5,02-16011,2,20060806,1223, 33.5258, 141.5033, 5953,    809.6,   4.6870,  34.2998,2,   -999.0,9,-999.0000,9,     77.0,2,   100.93,2,  -999.00,9,    37.29,2,     0.00,2,     2.69,2, -999.000,9, -999.000,9,  -999.00,9,   -999.0,9,   -999.0,9,-999.0000,9,   -999.0,  9,  -999.00,9,   -999.0,  -999.00,9,  -999.00,9,  -999.00,9,  -999.00,9,   -999.0,-999.0000, -999,9,  802,   4.6229,  27.1626,   -999.0,9
       KS06-06,  142E,KS-1681,  1,      4,02-16010,2,20060806,1220, 33.5258, 141.5033, 5953,    912.9,   4.0939,  34.3437,2,   -999.0,9,-999.0000,9,     67.0,2,   112.60,2,  -999.00,9,    39.13,2,     0.00,2,     2.81,2, -999.000,9, -999.000,9,  -999.00,9,   -999.0,9,   -999.0,9,-999.0000,9,   -999.0,  9,  -999.00,9,   -999.0,  -999.00,9,  -999.00,9,  -999.00,9,  -999.00,9,   -999.0,-999.0000, -999,9,  904,   4.0250,  27.2615,   -999.0,9
       KS06-06,  142E,KS-1681,  1,      3,02-16009,2,20060806,1217, 33.5258, 141.5033, 5953,   1013.3,   3.4551,  34.3581,2,   -999.0,9,-999.0000,9,     51.0,2,   127.20,2,  -999.00,9,    41.17,2,     0.00,2,     2.97,2, -999.000,9, -999.000,9,  -999.00,9,   -999.0,9,   -999.0,9,-999.0000,9,   -999.0,  9,  -999.00,9,   -999.0,  -999.00,9,  -999.00,9,  -999.00,9,  -999.00,9,   -999.0,-999.0000, -999,9, 1004,   3.3829,  27.3369,   -999.0,9
       KS06-06,  142E,KS-1681,  1,      2,02-16008,2,20060806,1211, 33.5258, 141.5033, 5953,   1262.5,   2.8197,  34.4553,2,   -999.0,9,-999.0000,9,     50.0,2,   142.51,2,  -999.00,9,    41.95,2,     0.00,2,     3.03,2, -999.000,9, -999.000,9,  -999.00,9,   -999.0,9,   -999.0,9,-999.0000,9,   -999.0,  9,  -999.00,9,   -999.0,  -999.00,9,  -999.00,9,  -999.00,9,  -999.00,9,   -999.0,-999.0000, -999,9, 1250,   2.7333,  27.4741,   -999.0,9
       KS06-06,  142E,KS-1681,  1,      1,02-16007,2,20060806,1207, 33.5258, 141.5033, 5953,   1445.7,   2.4746,  34.5006,2,   -999.0,9,-999.0000,9,     50.0,2,   152.24,2,  -999.00,9,    42.24,2,     0.00,2,     3.04,2, -999.000,9, -999.000,9,  -999.00,9,   -999.0,9,   -999.0,9,-999.0000,9,   -999.0,  9,  -999.00,9,   -999.0,  -999.00,9,  -999.00,9,  -999.00,9,  -999.00,9,   -999.0,-999.0000, -999,9, 1430,   2.3773,  27.5409,   -999.0,9
       KS06-06,  142E,KS-1683,  1,     20,02-16026,2,20060806,2003, 34.1748, 141.0603, 4872,      5.3,  29.0596,  33.4975,2,   -999.0,9,  33.4986,2,    203.0,2,     2.19,2,  -999.00,9,     0.00,2,     0.00,2,     0.00,2, -999.000,9, -999.000,9,  -999.00,9,   -999.0,9,   -999.0,9,-999.0000,9,   -999.0,  9,  -999.00,9,   -999.0,  -999.00,9,  -999.00,9,     0.10,2,     0.04,2,   -999.0,-999.0000, -999,9,    5,  29.0583,  20.9170,   -999.0,9
       KS06-06,  142E,KS-1683,  1,     19,02-19378,2,20060806,2002, 34.1748, 141.0603, 4872,     10.1,  29.0528,  33.4991,2,   -999.0,9,-999.0000,9,    204.0,2,     2.18,2,  -999.00,9,     0.00,2,     0.00,2,     0.00,2, -999.000,9, -999.000,9,  -999.00,9,   -999.0,9,   -999.0,9,-999.0000,9,   -999.0,  9,  -999.00,9,   -999.0,  -999.00,9,  -999.00,9,     0.11,2,     0.03,2,   -999.0,-999.0000, -999,9,   10,  29.0504,  20.9209,   -999.0,9
       KS06-06,  142E,KS-1683,  1,     18,02-19377,2,20060806,2001, 34.1748, 141.0603, 4872,     25.3,  28.0002,  33.7334,2,   -999.0,9,-999.0000,9,    208.0,2,     2.33,2,  -999.00,9,     0.00,2,     0.00,2,     0.01,2, -999.000,9, -999.000,9,  -999.00,9,   -999.0,9,   -999.0,9,-999.0000,9,   -999.0,  9,  -999.00,9,   -999.0,  -999.00,9,  -999.00,9,     0.15,2,     0.03,2,   -999.0,-999.0000, -999,9,   25,  27.9943,  21.4443,   -999.0,9
       KS06-06,  142E,KS-1683,  1,     17,02-16023,2,20060806,1957, 34.1748, 141.0603, 4872,     49.2,  26.1145,  34.1387,2,   -999.0,9,-999.0000,9,    205.0,2,     2.52,2,  -999.00,9,     0.00,2,     0.00,2,     0.01,2, -999.000,9, -999.000,9,  -999.00,9,   -999.0,9,   -999.0,9,-999.0000,9,   -999.0,  9,  -999.00,9,   -999.0,  -999.00,9,  -999.00,9,     0.30,2,     0.20,2,   -999.0,-999.0000, -999,9,   49,  26.1035,  22.3515,   -999.0,9
       KS06-06,  142E,KS-1683,  1,     16,02-16022,2,20060806,1956, 34.1748, 141.0603, 4872,     74.2,  24.7983,  34.4514,2,   -999.0,9,-999.0000,9,    196.0,2,     3.04,2,  -999.00,9,     1.47,2,     0.18,2,     0.10,2, -999.000,9, -999.000,9,  -999.00,9,   -999.0,9,   -999.0,9,-999.0000,9,   -999.0,  9,  -999.00,9,   -999.0,  -999.00,9,  -999.00,9,     0.55,2,     0.34,2,   -999.0,-999.0000, -999,9,   74,  24.7823,  22.9925,   -999.0,9
       KS06-06,  142E,KS-1683,  1,     15,02-16021,2,20060806,1955, 34.1748, 141.0603, 4872,    101.3,  21.4729,  34.4323,2,   -999.0,9,  34.4453,4,    184.0,2,     6.76,2,  -999.00,9,     4.88,2,     0.13,2,     0.34,2, -999.000,9, -999.000,9,  -999.00,9,   -999.0,9,   -999.0,9,-999.0000,9,   -999.0,  9,  -999.00,9,   -999.0,  -999.00,9,  -999.00,9,     0.18,2,     0.12,2,   -999.0,-999.0000, -999,9,  101,  21.4533,  23.9380,   -999.0,9
       KS06-06,  142E,KS-1683,  1,     14,02-16020,2,20060806,1954, 34.1748, 141.0603, 4872,    125.9,  18.7812,  34.6461,2,   -999.0,9,-999.0000,9,    178.0,2,    10.57,2,  -999.00,9,     7.71,2,     0.02,2,     0.53,2, -999.000,9, -999.000,9,  -999.00,9,   -999.0,9,   -999.0,9,-999.0000,9,   -999.0,  9,  -999.00,9,   -999.0,  -999.00,9,  -999.00,9,     0.04,2,     0.05,2,   -999.0,-999.0000, -999,9,  125,  18.7590,  24.8118,   -999.0,9
       KS06-06,  142E,KS-1683,  1,     13,02-16019,2,20060806,1952, 34.1748, 141.0603, 4872,    152.1,  16.7129,  34.6376,2,   -999.0,9,-999.0000,9,    175.0,2,    13.44,2,  -999.00,9,     9.95,2,     0.01,2,     0.68,2, -999.000,9, -999.000,9,  -999.00,9,   -999.0,9,   -999.0,9,-999.0000,9,   -999.0,  9,  -999.00,9,   -999.0,  -999.00,9,  -999.00,9,     0.01,2,     0.04,2,   -999.0,-999.0000, -999,9,  151,  16.6882,  25.3096,   -999.0,9
       KS06-06,  142E,KS-1683,  1,     12,02-16018,2,20060806,1951, 34.1748, 141.0603, 4872,    202.2,  15.8116,  34.6214,2,   -999.0,9,  34.6238,2,    175.0,2,    14.82,2,  -999.00,9,    11.02,2,     0.00,2,     0.76,2, -999.000,9, -999.000,9,  -999.00,9,   -999.0,9,   -999.0,9,-999.0000,9,   -999.0,  9,  -999.00,9,   -999.0,  -999.00,9,  -999.00,9,     0.01,2,     0.02,2,   -999.0,-999.0000, -999,9,  201,  15.7799,  25.5063,   -999.0,9
       KS06-06,  142E,KS-1683,  1,     11,02-19376,2,20060806,1949, 34.1748, 141.0603, 4872,    254.1,  12.7559,  34.4789,2,   -999.0,9,-999.0000,9,    157.0,2,    27.61,2,  -999.00,9,    17.25,2,     0.00,2,     1.20,2, -999.000,9, -999.000,9,  -999.00,9,   -999.0,9,   -999.0,9,-999.0000,9,   -999.0,  9,  -999.00,9,   -999.0,  -999.00,9,  -999.00,9,     0.00,2,     0.02,2,   -999.0,-999.0000, -999,9,  252,  12.7215,  26.0445,   -999.0,9
       KS06-06,  142E,KS-1683,  1,     10,02-19375,2,20060806,1947, 34.1748, 141.0603, 4872,    306.0,  10.9161,  34.3942,2,   -999.0,9,  34.3987,2,    145.0,2,    37.39,2,  -999.00,9,    21.24,2,     0.00,2,     1.50,2, -999.000,9, -999.000,9,  -999.00,9,   -999.0,9,   -999.0,9,-999.0000,9,   -999.0,  9,  -999.00,9,   -999.0,  -999.00,9,  -999.00,9,     0.00,2,     0.02,2,   -999.0,-999.0000, -999,9,  304,  10.8786,  26.3255,   -999.0,9
       KS06-06,  142E,KS-1683,  1,      9,02-16015,2,20060806,1944, 34.1748, 141.0603, 4872,    404.6,   8.5799,  34.2842,2,   -999.0,9,  34.2840,2,    129.0,2,    51.97,2,  -999.00,9,    26.69,2,     0.00,2,     1.90,2, -999.000,9, -999.000,9,  -999.00,9,   -999.0,9,   -999.0,9,-999.0000,9,   -999.0,  9,  -999.00,9,   -999.0,  -999.00,9,  -999.00,9,  -999.00,9,  -999.00,9,   -999.0,-999.0000, -999,9,  401,   8.5371,  26.6302,   -999.0,9
       KS06-06,  142E,KS-1683,  1,      8,02-16014,2,20060806,1941, 34.1748, 141.0603, 4872,    504.1,   7.3618,  34.2666,2,   -999.0,9,  34.2665,2,    113.0,2,    65.28,2,  -999.00,9,    30.29,2,     0.00,2,     2.17,2, -999.000,9, -999.000,9,  -999.00,9,   -999.0,9,   -999.0,9,-999.0000,9,   -999.0,  9,  -999.00,9,   -999.0,  -999.00,9,  -999.00,9,  -999.00,9,  -999.00,9,   -999.0,-999.0000, -999,9,  500,   7.3127,  26.7974,   -999.0,9
       KS06-06,  142E,KS-1683,  1,      7,02-19374,2,20060806,1938, 34.1748, 141.0603, 4872,    606.4,   6.0279,  34.2580,2,   -999.0,9,  34.2580,2,     95.0,2,    80.62,2,  -999.00,9,    34.08,2,     0.00,2,     2.45,2, -999.000,9, -999.000,9,  -999.00,9,   -999.0,9,   -999.0,9,-999.0000,9,   -999.0,  9,  -999.00,9,   -999.0,  -999.00,9,  -999.00,9,  -999.00,9,  -999.00,9,   -999.0,-999.0000, -999,9,  601,   5.9746,  26.9695,   -999.0,9
       KS06-06,  142E,KS-1683,  1,      6,02-19373,2,20060806,1935, 34.1748, 141.0603, 4872,    707.0,   5.0660,  34.2779,2,   -999.0,9,  34.2791,2,     80.0,2,    94.65,2,  -999.00,9,    36.80,2,     0.00,2,     2.67,2, -999.000,9, -999.000,9,  -999.00,9,   -999.0,9,   -999.0,9,-999.0000,9,   -999.0,  9,  -999.00,9,   -999.0,  -999.00,9,  -999.00,9,  -999.00,9,  -999.00,9,   -999.0,-999.0000, -999,9,  701,   5.0085,  27.1017,   -999.0,9
       KS06-06,  142E,KS-1683,  1,      5,02-16011,2,20060806,1932, 34.1748, 141.0603, 4872,    808.9,   4.1761,  34.2574,2,   -999.0,9,  34.2512,4,     63.0,2,   109.15,2,  -999.00,9,    39.33,2,     0.00,2,     2.86,2, -999.000,9, -999.000,9,  -999.00,9,   -999.0,9,   -999.0,9,-999.0000,9,   -999.0,  9,  -999.00,9,   -999.0,  -999.00,9,  -999.00,9,  -999.00,9,  -999.00,9,   -999.0,-999.0000, -999,9,  802,   4.1153,  27.1835,   -999.0,9
       KS06-06,  142E,KS-1683,  1,      4,02-16010,2,20060806,1929, 34.1748, 141.0603, 4872,    910.5,   3.9704,  34.3456,2,   -999.0,9,  34.3450,2,     64.0,2,   114.72,2,  -999.00,9,    39.52,2,     0.00,2,     2.87,2, -999.000,9, -999.000,9,  -999.00,9,   -999.0,9,   -999.0,9,-999.0000,9,   -999.0,  9,  -999.00,9,   -999.0,  -999.00,9,  -999.00,9,  -999.00,9,  -999.00,9,   -999.0,-999.0000, -999,9,  902,   3.9026,  27.2756,   -999.0,9
       KS06-06,  142E,KS-1683,  1,      3,02-16009,2,20060806,1927, 34.1748, 141.0603, 4872,   1005.2,   3.6162,  34.3801,2,   -999.0,9,  34.3808,2,     61.0,2,   122.74,2,  -999.00,9,    40.40,2,     0.00,2,     2.92,2, -999.000,9, -999.000,9,  -999.00,9,   -999.0,9,   -999.0,9,-999.0000,9,   -999.0,  9,  -999.00,9,   -999.0,  -999.00,9,  -999.00,9,  -999.00,9,  -999.00,9,   -999.0,-999.0000, -999,9,  996,   3.5433,  27.3389,   -999.0,9
       KS06-06,  142E,KS-1683,  1,      2,02-16008,2,20060806,1923, 34.1748, 141.0603, 4872,   1257.5,   2.8729,  34.4468,2,   -999.0,9,  34.4482,2,     51.0,2,   141.42,2,  -999.00,9,    41.95,2,     0.00,2,     3.03,2, -999.000,9, -999.000,9,  -999.00,9,   -999.0,9,   -999.0,9,-999.0000,9,   -999.0,  9,  -999.00,9,   -999.0,  -999.00,9,  -999.00,9,  -999.00,9,  -999.00,9,   -999.0,-999.0000, -999,9, 1245,   2.7864,  27.4627,   -999.0,9
       KS06-06,  142E,KS-1683,  1,      1,02-16007,2,20060806,1916, 34.1748, 141.0603, 4872,   1499.0,   2.4119,  34.5132,2,   -999.0,9,  34.5116,2,     52.0,2,   153.11,2,  -999.00,9,    42.53,2,     0.00,2,     3.05,2, -999.000,9, -999.000,9,  -999.00,9,   -999.0,9,   -999.0,9,-999.0000,9,   -999.0,  9,  -999.00,9,   -999.0,  -999.00,9,  -999.00,9,  -999.00,9,  -999.00,9,   -999.0,-999.0000, -999,9, 1483,   2.3111,  27.5565,   -999.0,9