BOTTLE,20131214MIRCJHATS
EXPOCODE,SECT_ID,STNNBR,CASTNO,SAMPNO,BTLNBR,BTLNBR_FLAG_W,DATE,TIME,LATITUDE,LONGITUDE,DEPTH,CTDPRS,CTDTMP,CTDSAL,CTDSAL_FLAG_W,CTDOXY,CTDOXY_FLAG_W,SALNTY,SALNTY_FLAG_W,OXYGEN,OXYGEN_FLAG_W,SILCAT,SILCAT_FLAG_W,NITRAT,NITRAT_FLAG_W,NO2+NO3,NO2+NO3_FLAG_W,NITRIT,NITRIT_FLAG_W,PHSPHT,PHSPHT_FLAG_W,CFC-11,CFC-11_FLAG_W,CFC-12,CFC-12_FLAG_W,DELC13,DELC13_FLAG_W,TCARBN,TCARBN_FLAG_W,ALKALI,ALKALI_FLAG_W,PH,PH_FLAG_W,PH_TMP,PH_SCALE,PH_NBS,PH_NBS_FLAG_W,C13ERR,TOTALP,TOTALP_FLAG_W,AMMONI,AMMONI_FLAG_W,CHLORA,CHLORA_FLAG_W,PPHYTN,PPHYTN_FLAG_W,REVPRS,REVTMP,DEPTH_,DEPTH_FLAG,CTDDEP,THETA,SIGTHT,DOC,DOC_FLAG_W
,,,,,,,GMT,GMT,,,METER,DBAR,ITS-90,PSS-78,,UMOL/KG,,PSS-78,,UMOL/KG,,UMOL/KG,,UMOL/KG,,UMOL/KG,,UMOL/KG,,UMOL/KG,,PMOL/KG,,PMOL/KG,,/MILLE,,UMOL/KG,,UMOL/KG,,25_DEG_C,,DEG_C,,,,/MILLE,UMOL/KG,,UMOL/KG,,UG/L,,UG/L,,DBAR,ITS-90,METERS,,METERS,DEG_C,,UMOL/L,
       KS06-06, EQPAC,KS-1650,  1,     24,02-16030,2,20060720,1539, -0.0020, 145.0087, 3676,      4.7,  29.6492,  34.2208,2,   -999.0,9,  34.2187,2,    201.0,2,     1.16,2,  -999.00,9,     0.00,2,     0.00,2,     0.05,2, -999.000,9, -999.000,9,  -999.00,9,   1906.2,2,   -999.0,9,-999.0000,9,   -999.0,  9,  -999.00,9,   -999.0,  -999.00,9,  -999.00,9,     0.11,2,     0.03,2,   -999.0,-999.0000, -999,9,    5,  29.6481,  21.2616,   -999.0,9
       KS06-06, EQPAC,KS-1650,  1,     23,02-19380,2,20060720,1538, -0.0020, 145.0087, 3676,     10.5,  29.6493,  34.2206,2,   -999.0,9,-999.0000,9,    200.0,2,     1.19,2,  -999.00,9,     0.00,2,     0.00,2,     0.05,2, -999.000,9, -999.000,9,  -999.00,9,   -999.0,9,   -999.0,9,-999.0000,9,   -999.0,  9,  -999.00,9,   -999.0,  -999.00,9,  -999.00,9,     0.09,2,     0.03,2,   -999.0,-999.0000, -999,9,   10,  29.6467,  21.2618,   -999.0,9
       KS06-06, EQPAC,KS-1650,  1,     22,02-19379,2,20060720,1537, -0.0020, 145.0087, 3676,     25.2,  29.6542,  34.2344,2,   -999.0,9,-999.0000,9,    200.0,2,     1.14,2,  -999.00,9,     0.00,2,     0.00,2,     0.05,2, -999.000,9, -999.000,9,  -999.00,9,   -999.0,9,   -999.0,9,-999.0000,9,   -999.0,  9,  -999.00,9,   -999.0,  -999.00,9,  -999.00,9,     0.07,2,     0.03,2,   -999.0,-999.0000, -999,9,   25,  29.6480,  21.2718,   -999.0,9
       KS06-06, EQPAC,KS-1650,  1,     21,02-16027,2,20060720,1535, -0.0020, 145.0087, 3676,     50.1,  29.5785,  34.3268,2,   -999.0,9,-999.0000,9,    200.0,2,     1.13,2,  -999.00,9,     0.00,2,     0.00,2,     0.09,2, -999.000,9, -999.000,9,  -999.00,9,   -999.0,9,   -999.0,9,-999.0000,9,   -999.0,  9,  -999.00,9,   -999.0,  -999.00,9,  -999.00,9,     0.16,2,     0.11,2,   -999.0,-999.0000, -999,9,   50,  29.5662,  21.3687,   -999.0,9
       KS06-06, EQPAC,KS-1650,  1,     20,02-16026,2,20060720,1534, -0.0020, 145.0087, 3676,     75.6,  29.2961,  35.0992,2,   -999.0,9,-999.0000,9,    178.0,2,     1.69,2,  -999.00,9,     3.33,2,     0.40,2,     0.38,2, -999.000,9, -999.000,9,  -999.00,9,   -999.0,9,   -999.0,9,-999.0000,9,   -999.0,  9,  -999.00,9,   -999.0,  -999.00,9,  -999.00,9,     0.25,2,     0.27,2,   -999.0,-999.0000, -999,9,   75,  29.2777,  22.0455,   -999.0,9
       KS06-06, EQPAC,KS-1650,  1,     19,02-19378,2,20060720,1533, -0.0020, 145.0087, 3676,    100.5,  27.2856,  35.5222,2,   -999.0,9,  35.4978,4,    155.0,2,     2.36,2,  -999.00,9,     7.14,2,     0.09,2,     0.61,2, -999.000,9, -999.000,9,  -999.00,9,   -999.0,9,   -999.0,9,-999.0000,9,   -999.0,  9,  -999.00,9,   -999.0,  -999.00,9,  -999.00,9,     0.08,2,     0.26,2,   -999.0,-999.0000, -999,9,  100,  27.2623,  23.0270,   -999.0,9
       KS06-06, EQPAC,KS-1650,  1,     18,02-19377,2,20060720,1532, -0.0020, 145.0087, 3676,    124.9,  26.5176,  35.6372,2,   -999.0,9,-999.0000,9,    145.0,2,     2.40,2,  -999.00,9,     8.31,2,     0.03,2,     0.69,2, -999.000,9, -999.000,9,  -999.00,9,   -999.0,9,   -999.0,9,-999.0000,9,   -999.0,  9,  -999.00,9,   -999.0,  -999.00,9,  -999.00,9,     0.03,2,     0.05,2,   -999.0,-999.0000, -999,9,  124,  26.4893,  23.3603,   -999.0,9
       KS06-06, EQPAC,KS-1650,  1,     17,02-16023,2,20060720,1531, -0.0020, 145.0087, 3676,    150.4,  22.5074,  35.6160,2,   -999.0,9,-999.0000,9,    132.0,2,     3.69,2,  -999.00,9,    10.35,2,     0.01,2,     0.81,2, -999.000,9, -999.000,9,  -999.00,9,   -999.0,9,   -999.0,9,-999.0000,9,   -999.0,  9,  -999.00,9,   -999.0,  -999.00,9,  -999.00,9,     0.00,2,     0.02,2,   -999.0,-999.0000, -999,9,  149,  22.4771,  24.5509,   -999.0,9
       KS06-06, EQPAC,KS-1650,  1,     16,02-16022,2,20060720,1530, -0.0020, 145.0087, 3676,    200.8,  17.2329,  35.3668,2,   -999.0,9,  35.4158,4,    137.0,2,     5.81,2,  -999.00,9,    13.36,2,     0.00,2,     0.99,2, -999.000,9, -999.000,9,  -999.00,9,   -999.0,9,   -999.0,9,-999.0000,9,   -999.0,  9,  -999.00,9,   -999.0,  -999.00,9,  -999.00,9,     0.00,2,     0.01,2,   -999.0,-999.0000, -999,9,  200,  17.1994,  25.7481,   -999.0,9
       KS06-06, EQPAC,KS-1650,  1,     15,02-16021,2,20060720,1528, -0.0020, 145.0087, 3676,    251.1,  13.4947,  34.9898,2,   -999.0,9,-999.0000,9,    145.0,2,    13.65,2,  -999.00,9,    18.22,2,     0.00,2,     1.30,2, -999.000,9, -999.000,9,  -999.00,9,   -999.0,9,   -999.0,9,-999.0000,9,   -999.0,  9,  -999.00,9,   -999.0,  -999.00,9,  -999.00,9,     0.00,2,     0.02,2,   -999.0,-999.0000, -999,9,  250,  13.4592,  26.2917,   -999.0,9
       KS06-06, EQPAC,KS-1650,  1,     14,02-16020,2,20060720,1527, -0.0020, 145.0087, 3676,    301.5,  10.4279,  34.7231,2,   -999.0,9,  34.7275,2,    136.0,2,    24.02,2,  -999.00,9,    24.16,2,     0.00,2,     1.69,2, -999.000,9, -999.000,9,  -999.00,9,   -999.0,9,   -999.0,9,-999.0000,9,   -999.0,  9,  -999.00,9,   -999.0,  -999.00,9,  -999.00,9,     0.00,2,     0.02,2,   -999.0,-999.0000, -999,9,  300,  10.3919,  26.6680,   -999.0,9
       KS06-06, EQPAC,KS-1650,  1,     13,02-16019,2,20060720,1524, -0.0020, 145.0087, 3676,    402.4,   8.9152,  34.6456,2,   -999.0,9,  34.6461,2,    116.0,2,    30.07,2,  -999.00,9,    29.31,2,     0.00,2,     2.04,2, -999.000,9, -999.000,9,  -999.00,9,   -999.0,9,   -999.0,9,-999.0000,9,   -999.0,  9,  -999.00,9,   -999.0,  -999.00,9,  -999.00,9,  -999.00,9,  -999.00,9,   -999.0,-999.0000, -999,9,  400,   8.8714,  26.8612,   -999.0,9
       KS06-06, EQPAC,KS-1650,  1,     12,02-16018,2,20060720,1522, -0.0020, 145.0087, 3676,    502.9,   7.9400,  34.5912,2,   -999.0,9,  34.5906,2,    135.0,2,    31.98,2,  -999.00,9,    29.41,2,     0.00,2,     2.04,2, -999.000,9, -999.000,9,  -999.00,9,   -999.0,9,   -999.0,9,-999.0000,9,   -999.0,  9,  -999.00,9,   -999.0,  -999.00,9,  -999.00,9,  -999.00,9,  -999.00,9,   -999.0,-999.0000, -999,9,  500,   7.8886,  26.9694,   -999.0,9
       KS06-06, EQPAC,KS-1650,  1,     11,02-19376,2,20060720,1519, -0.0020, 145.0087, 3676,    603.6,   6.8286,  34.5420,2,   -999.0,9,  34.5422,2,    137.0,2,    38.82,2,  -999.00,9,    31.25,2,     0.00,2,     2.19,2, -999.000,9, -999.000,9,  -999.00,9,   -999.0,9,   -999.0,9,-999.0000,9,   -999.0,  9,  -999.00,9,   -999.0,  -999.00,9,  -999.00,9,  -999.00,9,  -999.00,9,   -999.0,-999.0000, -999,9,  599,   6.7716,  27.0893,   -999.0,9
       KS06-06, EQPAC,KS-1650,  1,     10,02-19375,2,20060720,1517, -0.0020, 145.0087, 3676,    704.8,   5.9661,  34.5384,2,   -999.0,9,  34.5392,2,    102.0,2,    56.36,2,  -999.00,9,    36.31,2,     0.00,2,     2.57,2, -999.000,9, -999.000,9,  -999.00,9,   -999.0,9,   -999.0,9,-999.0000,9,   -999.0,  9,  -999.00,9,   -999.0,  -999.00,9,  -999.00,9,  -999.00,9,  -999.00,9,   -999.0,-999.0000, -999,9,  700,   5.9036,  27.2001,   -999.0,9
       KS06-06, EQPAC,KS-1650,  1,      9,02-16015,2,20060720,1514, -0.0020, 145.0087, 3676,    806.1,   5.3935,  34.5354,2,   -999.0,9,  34.5359,2,    105.0,2,    64.64,2,  -999.00,9,    36.60,2,     0.00,2,     2.60,2, -999.000,9, -999.000,9,  -999.00,9,   -999.0,9,   -999.0,9,-999.0000,9,   -999.0,  9,  -999.00,9,   -999.0,  -999.00,9,  -999.00,9,  -999.00,9,  -999.00,9,   -999.0,-999.0000, -999,9,  800,   5.3250,  27.2688,   -999.0,9
       KS06-06, EQPAC,KS-1650,  1,      8,02-16014,2,20060720,1512, -0.0020, 145.0087, 3676,    907.0,   4.9620,  34.5405,2,   -999.0,9,  34.5409,2,    106.0,2,    72.76,2,  -999.00,9,    37.09,2,     0.00,2,     2.64,2, -999.000,9, -999.000,9,  -999.00,9,   -999.0,9,   -999.0,9,-999.0000,9,   -999.0,  9,  -999.00,9,   -999.0,  -999.00,9,  -999.00,9,  -999.00,9,  -999.00,9,   -999.0,-999.0000, -999,9,  900,   4.8873,  27.3239,   -999.0,9
       KS06-06, EQPAC,KS-1650,  1,      7,02-19374,2,20060720,1510, -0.0020, 145.0087, 3676,   1007.1,   4.6185,  34.5473,2,   -999.0,9,  34.5484,2,    106.0,2,    80.58,2,  -999.00,9,    37.38,2,     0.00,2,     2.68,2, -999.000,9, -999.000,9,  -999.00,9,   -999.0,9,   -999.0,9,-999.0000,9,   -999.0,  9,  -999.00,9,   -999.0,  -999.00,9,  -999.00,9,  -999.00,9,  -999.00,9,   -999.0,-999.0000, -999,9,  999,   4.5374,  27.3686,   -999.0,9
       KS06-06, EQPAC,KS-1650,  1,      6,02-19373,2,20060720,1504, -0.0020, 145.0087, 3676,   1259.9,   3.6613,  34.5773,2,   -999.0,9,  34.5299,4,    101.0,2,   102.15,2,  -999.00,9,    38.74,2,     0.00,2,     2.78,2, -999.000,9, -999.000,9,  -999.00,9,   -999.0,9,   -999.0,9,-999.0000,9,   -999.0,  9,  -999.00,9,   -999.0,  -999.00,9,  -999.00,9,  -999.00,9,  -999.00,9,   -999.0,-999.0000, -999,9, 1249,   3.5666,  27.4938,   -999.0,9
       KS06-06, EQPAC,KS-1650,  1,      5,02-16011,2,20060720,1500, -0.0020, 145.0087, 3676,   1513.5,   2.9681,  34.6023,2,   -999.0,9,  34.6023,2,    107.0,2,   114.77,2,  -999.00,9,    38.25,2,     0.00,2,     2.73,2, -999.000,9, -999.000,9,  -999.00,9,   -999.0,9,   -999.0,9,-999.0000,9,   -999.0,  9,  -999.00,9,   -999.0,  -999.00,9,  -999.00,9,  -999.00,9,  -999.00,9,   -999.0,-999.0000, -999,9, 1500,   2.8594,  27.5804,   -999.0,9
       KS06-06, EQPAC,KS-1650,  1,      4,02-16010,2,20060720,1455, -0.0020, 145.0087, 3676,   1766.4,   2.4664,  34.6264,2,   -999.0,9,  34.6263,2,    112.0,2,   126.43,2,  -999.00,9,    38.15,2,     0.00,2,     2.71,2, -999.000,9, -999.000,9,  -999.00,9,   -999.0,9,   -999.0,9,-999.0000,9,   -999.0,  9,  -999.00,9,   -999.0,  -999.00,9,  -999.00,9,  -999.00,9,  -999.00,9,   -999.0,-999.0000, -999,9, 1749,   2.3428,  27.6445,   -999.0,9
       KS06-06, EQPAC,KS-1650,  1,      3,02-16009,2,20060720,1450, -0.0020, 145.0087, 3676,   2020.4,   2.2209,  34.6397,2,   -999.0,9,  34.6394,2,    119.0,2,   132.98,2,  -999.00,9,    38.05,2,     0.00,2,     2.70,2, -999.000,9, -999.000,9,  -999.00,9,   -999.0,9,   -999.0,9,-999.0000,9,   -999.0,  9,  -999.00,9,   -999.0,  -999.00,9,  -999.00,9,  -999.00,9,  -999.00,9,   -999.0,-999.0000, -999,9, 2000,   2.0793,  27.6767,   -999.0,9
       KS06-06, EQPAC,KS-1650,  1,      2,02-16008,2,20060720,1432, -0.0020, 145.0087, 3676,   3038.6,   1.6064,  34.6738,2,   -999.0,9,  34.6726,2,    145.0,2,   141.36,2,  -999.00,9,    36.39,2,     0.00,2,     2.56,2, -999.000,9, -999.000,9,  -999.00,9,   -999.0,9,   -999.0,9,-999.0000,9,   -999.0,  9,  -999.00,9,   -999.0,  -999.00,9,  -999.00,9,  -999.00,9,  -999.00,9,   -999.0,-999.0000, -999,9, 3000,   1.3836,  27.7568,   -999.0,9
       KS06-06, EQPAC,KS-1650,  1,      1,02-16007,2,20060720,1420, -0.0020, 145.0087, 3676,   3653.1,   1.5456,  34.6824,2,   -999.0,9,  34.6811,2,    152.0,2,   140.87,2,  -999.00,9,    36.29,2,     0.00,2,     2.53,2, -999.000,9, -999.000,9,  -999.00,9,   -999.0,9,   -999.0,9,-999.0000,9,   -999.0,  9,  -999.00,9,   -999.0,  -999.00,9,  -999.00,9,  -999.00,9,  -999.00,9,   -999.0,-999.0000, -999,9, 3602,   1.2625,  27.7723,   -999.0,9