BOTTLE,20131214MIRCJHATS
EXPOCODE,SECT_ID,STNNBR,CASTNO,SAMPNO,BTLNBR,BTLNBR_FLAG_W,DATE,TIME,LATITUDE,LONGITUDE,DEPTH,CTDPRS,CTDTMP,CTDSAL,CTDSAL_FLAG_W,CTDOXY,CTDOXY_FLAG_W,SALNTY,SALNTY_FLAG_W,OXYGEN,OXYGEN_FLAG_W,SILCAT,SILCAT_FLAG_W,NITRAT,NITRAT_FLAG_W,NO2+NO3,NO2+NO3_FLAG_W,NITRIT,NITRIT_FLAG_W,PHSPHT,PHSPHT_FLAG_W,CFC-11,CFC-11_FLAG_W,CFC-12,CFC-12_FLAG_W,DELC13,DELC13_FLAG_W,TCARBN,TCARBN_FLAG_W,ALKALI,ALKALI_FLAG_W,PH,PH_FLAG_W,PH_TMP,PH_SCALE,PH_NBS,PH_NBS_FLAG_W,C13ERR,TOTALP,TOTALP_FLAG_W,AMMONI,AMMONI_FLAG_W,CHLORA,CHLORA_FLAG_W,PPHYTN,PPHYTN_FLAG_W,REVPRS,REVTMP,DEPTH_,DEPTH_FLAG,CTDDEP,THETA,SIGTHT,DOC,DOC_FLAG_W
,,,,,,,GMT,GMT,,,METER,DBAR,ITS-90,PSS-78,,UMOL/KG,,PSS-78,,UMOL/KG,,UMOL/KG,,UMOL/KG,,UMOL/KG,,UMOL/KG,,UMOL/KG,,PMOL/KG,,PMOL/KG,,/MILLE,,UMOL/KG,,UMOL/KG,,25_DEG_C,,DEG_C,,,,/MILLE,UMOL/KG,,UMOL/KG,,UG/L,,UG/L,,DBAR,ITS-90,METERS,,METERS,DEG_C,,UMOL/L,
       KS06-06,  165E,KS-1631,  1,     22,02-19379,2,20060708,1829,  2.9977, 165.0040, 4257,      4.7,  29.7271,  34.2395,2,   -999.0,9,  34.2364,2,    199.0,2,     1.17,2,  -999.00,9,     0.00,2,     0.00,2,     0.09,2, -999.000,9, -999.000,9,  -999.00,9,   1904.9,3,   -999.0,9,-999.0000,9,   -999.0,  9,  -999.00,9,   -999.0,  -999.00,9,  -999.00,9,     0.06,2,     0.02,2,   -999.0,-999.0000, -999,9,    5,  29.7260,  21.2492,   -999.0,9
       KS06-06,  165E,KS-1631,  1,     21,02-16027,2,20060708,1828,  2.9977, 165.0040, 4257,     10.2,  29.7290,  34.2359,2,   -999.0,9,-999.0000,9,    197.0,2,     1.20,2,  -999.00,9,     0.00,2,     0.00,2,     0.10,2, -999.000,9, -999.000,9,  -999.00,9,   -999.0,9,   -999.0,9,-999.0000,9,   -999.0,  9,  -999.00,9,   -999.0,  -999.00,9,  -999.00,9,  -999.00,9,  -999.00,9,   -999.0,-999.0000, -999,9,   10,  29.7265,  21.2464,   -999.0,9
       KS06-06,  165E,KS-1631,  1,     20,02-16026,2,20060708,1827,  2.9977, 165.0040, 4257,     25.3,  29.9622,  34.4049,2,   -999.0,9,-999.0000,9,    200.0,2,     1.15,2,  -999.00,9,     0.00,2,     0.00,2,     0.11,2, -999.000,9, -999.000,9,  -999.00,9,   -999.0,9,   -999.0,9,-999.0000,9,   -999.0,  9,  -999.00,9,   -999.0,  -999.00,9,  -999.00,9,  -999.00,9,  -999.00,9,   -999.0,-999.0000, -999,9,   25,  29.9559,  21.2951,   -999.0,9
       KS06-06,  165E,KS-1631,  1,     19,02-19378,2,20060708,1824,  2.9977, 165.0040, 4257,     50.3,  29.8992,  34.5003,2,   -999.0,9,-999.0000,9,    200.0,2,     1.29,2,  -999.00,9,     0.00,2,     0.00,2,     0.11,2, -999.000,9, -999.000,9,  -999.00,9,   -999.0,9,   -999.0,9,-999.0000,9,   -999.0,  9,  -999.00,9,   -999.0,  -999.00,9,  -999.00,9,  -999.00,9,  -999.00,9,   -999.0,-999.0000, -999,9,   50,  29.8868,  21.3902,   -999.0,9
       KS06-06,  165E,KS-1631,  1,     18,02-19377,2,20060708,1823,  2.9977, 165.0040, 4257,     75.7,  29.1693,  34.6286,2,   -999.0,9,-999.0000,9,    198.0,2,     1.44,2,  -999.00,9,     0.00,2,     0.00,2,     0.13,2, -999.000,9, -999.000,9,  -999.00,9,   -999.0,9,   -999.0,9,-999.0000,9,   -999.0,  9,  -999.00,9,   -999.0,  -999.00,9,  -999.00,9,  -999.00,9,  -999.00,9,   -999.0,-999.0000, -999,9,   75,  29.1509,  21.7348,   -999.0,9
       KS06-06,  165E,KS-1631,  1,     17,02-16023,2,20060708,1823,  2.9977, 165.0040, 4257,    101.0,  26.8800,  35.0223,2,   -999.0,9,  35.0136,4,    148.0,2,     3.74,2,  -999.00,9,     6.55,2,     0.12,2,     0.53,2, -999.000,9, -999.000,9,  -999.00,9,   -999.0,9,   -999.0,9,-999.0000,9,   -999.0,  9,  -999.00,9,   -999.0,  -999.00,9,  -999.00,9,  -999.00,9,  -999.00,9,   -999.0,-999.0000, -999,9,  100,  26.8569,  22.7802,   -999.0,9
       KS06-06,  165E,KS-1631,  1,     16,02-16022,2,20060708,1822,  2.9977, 165.0040, 4257,    125.2,  25.5021,  34.9965,2,   -999.0,9,-999.0000,9,    143.0,2,     4.47,2,  -999.00,9,     7.33,2,     0.03,2,     0.57,2, -999.000,9, -999.000,9,  -999.00,9,   -999.0,9,   -999.0,9,-999.0000,9,   -999.0,  9,  -999.00,9,   -999.0,  -999.00,9,  -999.00,9,  -999.00,9,  -999.00,9,   -999.0,-999.0000, -999,9,  124,  25.4746,  23.1934,   -999.0,9
       KS06-06,  165E,KS-1631,  1,     15,02-16021,2,20060708,1820,  2.9977, 165.0040, 4257,    150.1,  22.4996,  34.9813,2,   -999.0,9,-999.0000,9,    143.0,2,     5.87,2,  -999.00,9,     8.20,2,     0.01,2,     0.62,2, -999.000,9, -999.000,9,  -999.00,9,   -999.0,9,   -999.0,9,-999.0000,9,   -999.0,  9,  -999.00,9,   -999.0,  -999.00,9,  -999.00,9,  -999.00,9,  -999.00,9,   -999.0,-999.0000, -999,9,  149,  22.4694,  24.0712,   -999.0,9
       KS06-06,  165E,KS-1631,  1,     14,02-16020,2,20060708,1819,  2.9977, 165.0040, 4257,    201.5,  14.4424,  34.5947,2,   -999.0,9,  34.5999,2,    137.0,2,    18.00,2,  -999.00,9,    16.87,2,     0.00,2,     1.19,2, -999.000,9, -999.000,9,  -999.00,9,   -999.0,9,   -999.0,9,-999.0000,9,   -999.0,  9,  -999.00,9,   -999.0,  -999.00,9,  -999.00,9,  -999.00,9,  -999.00,9,   -999.0,-999.0000, -999,9,  200,  14.4128,  25.7865,   -999.0,9
       KS06-06,  165E,KS-1631,  1,     13,02-16019,2,20060708,1818,  2.9977, 165.0040, 4257,    251.4,  10.7510,  34.5136,2,   -999.0,9,-999.0000,9,    114.0,2,    31.20,2,  -999.00,9,    24.84,2,     0.00,2,     1.78,2, -999.000,9, -999.000,9,  -999.00,9,   -999.0,9,   -999.0,9,-999.0000,9,   -999.0,  9,  -999.00,9,   -999.0,  -999.00,9,  -999.00,9,  -999.00,9,  -999.00,9,   -999.0,-999.0000, -999,9,  250,  10.7206,  26.4467,   -999.0,9
       KS06-06,  165E,KS-1631,  1,     12,02-16018,2,20060708,1816,  2.9977, 165.0040, 4257,    300.5,   9.4535,  34.5404,2,   -999.0,9,  34.5415,2,    104.0,2,    37.02,2,  -999.00,9,    28.44,2,     0.00,2,     2.04,2, -999.000,9, -999.000,9,  -999.00,9,   -999.0,9,   -999.0,9,-999.0000,9,   -999.0,  9,  -999.00,9,   -999.0,  -999.00,9,  -999.00,9,  -999.00,9,  -999.00,9,   -999.0,-999.0000, -999,9,  299,   9.4198,  26.6901,   -999.0,9
       KS06-06,  165E,KS-1631,  1,     11,02-19376,2,20060708,1814,  2.9977, 165.0040, 4257,    402.0,   8.3739,  34.6040,2,   -999.0,9,  34.6034,2,     68.0,2,    40.11,2,  -999.00,9,    34.37,2,     0.00,2,     2.45,2, -999.000,9, -999.000,9,  -999.00,9,   -999.0,9,   -999.0,9,-999.0000,9,   -999.0,  9,  -999.00,9,   -999.0,  -999.00,9,  -999.00,9,  -999.00,9,  -999.00,9,   -999.0,-999.0000, -999,9,  399,   8.3318,  26.9126,   -999.0,9
       KS06-06,  165E,KS-1631,  1,     10,02-19375,2,20060708,1812,  2.9977, 165.0040, 4257,    502.4,   7.1879,  34.5619,2,   -999.0,9,  34.5623,2,     82.0,2,    47.91,2,  -999.00,9,    35.34,2,     0.00,2,     2.53,2, -999.000,9, -999.000,9,  -999.00,9,   -999.0,9,   -999.0,9,-999.0000,9,   -999.0,  9,  -999.00,9,   -999.0,  -999.00,9,  -999.00,9,  -999.00,9,  -999.00,9,   -999.0,-999.0000, -999,9,  499,   7.1394,  27.0542,   -999.0,9
       KS06-06,  165E,KS-1631,  1,      9,02-16015,2,20060708,1809,  2.9977, 165.0040, 4257,    604.3,   6.4571,  34.5533,2,   -999.0,9,  34.5521,2,     86.0,2,    53.48,2,  -999.00,9,    36.80,2,     0.00,2,     2.64,2, -999.000,9, -999.000,9,  -999.00,9,   -999.0,9,   -999.0,9,-999.0000,9,   -999.0,  9,  -999.00,9,   -999.0,  -999.00,9,  -999.00,9,  -999.00,9,  -999.00,9,   -999.0,-999.0000, -999,9,  600,   6.4017,  27.1477,   -999.0,9
       KS06-06,  165E,KS-1631,  1,      8,02-16014,2,20060708,1807,  2.9977, 165.0040, 4257,    705.6,   6.0131,  34.5451,2,   -999.0,9,  34.5441,2,     91.0,2,    58.53,2,  -999.00,9,    37.09,2,     0.00,2,     2.67,2, -999.000,9, -999.000,9,  -999.00,9,   -999.0,9,   -999.0,9,-999.0000,9,   -999.0,  9,  -999.00,9,   -999.0,  -999.00,9,  -999.00,9,  -999.00,9,  -999.00,9,   -999.0,-999.0000, -999,9,  701,   5.9503,  27.1995,   -999.0,9
       KS06-06,  165E,KS-1631,  1,      7,02-19374,2,20060708,1805,  2.9977, 165.0040, 4257,    805.1,   5.3493,  34.5402,2,   -999.0,9,  34.5398,2,     92.0,2,    71.58,2,  -999.00,9,    37.38,2,     0.00,2,     2.71,2, -999.000,9, -999.000,9,  -999.00,9,   -999.0,9,   -999.0,9,-999.0000,9,   -999.0,  9,  -999.00,9,   -999.0,  -999.00,9,  -999.00,9,  -999.00,9,  -999.00,9,   -999.0,-999.0000, -999,9,  799,   5.2812,  27.2778,   -999.0,9
       KS06-06,  165E,KS-1631,  1,      6,02-19373,2,20060708,1803,  2.9977, 165.0040, 4257,    907.0,   4.6602,  34.5518,2,   -999.0,9,  34.5518,2,     95.0,2,    83.47,2,  -999.00,9,    38.06,2,     0.00,2,     2.75,2, -999.000,9, -999.000,9,  -999.00,9,   -999.0,9,   -999.0,9,-999.0000,9,   -999.0,  9,  -999.00,9,   -999.0,  -999.00,9,  -999.00,9,  -999.00,9,  -999.00,9,   -999.0,-999.0000, -999,9,  900,   4.5875,  27.3666,   -999.0,9
       KS06-06,  165E,KS-1631,  1,      5,02-16011,2,20060708,1800,  2.9977, 165.0040, 4257,   1008.0,   4.3036,  34.5613,2,   -999.0,9,  34.5603,2,     96.0,2,    91.42,2,  -999.00,9,    38.54,2,     0.00,2,     2.78,2, -999.000,9, -999.000,9,  -999.00,9,   -999.0,9,   -999.0,9,-999.0000,9,   -999.0,  9,  -999.00,9,   -999.0,  -999.00,9,  -999.00,9,  -999.00,9,  -999.00,9,   -999.0,-999.0000, -999,9, 1000,   4.2248,  27.4136,   -999.0,9
       KS06-06,  165E,KS-1631,  1,      4,02-16010,2,20060708,1755,  2.9977, 165.0040, 4257,   1260.5,   3.6196,  34.5816,2,   -999.0,9,  34.5809,2,     96.0,2,   105.99,2,  -999.00,9,    39.12,2,     0.00,2,     2.84,2, -999.000,9, -999.000,9,  -999.00,9,   -999.0,9,   -999.0,9,-999.0000,9,   -999.0,  9,  -999.00,9,   -999.0,  -999.00,9,  -999.00,9,  -999.00,9,  -999.00,9,   -999.0,-999.0000, -999,9, 1250,   3.5253,  27.5013,   -999.0,9
       KS06-06,  165E,KS-1631,  1,      3,02-16009,2,20060708,1750,  2.9977, 165.0040, 4257,   1512.1,   2.9933,  34.6046,2,   -999.0,9,  34.6031,2,    101.0,2,   120.36,2,  -999.00,9,    38.83,2,     0.00,2,     2.83,2, -999.000,9, -999.000,9,  -999.00,9,   -999.0,9,   -999.0,9,-999.0000,9,   -999.0,  9,  -999.00,9,   -999.0,  -999.00,9,  -999.00,9,  -999.00,9,  -999.00,9,   -999.0,-999.0000, -999,9, 1498,   2.8845,  27.5799,   -999.0,9
       KS06-06,  165E,KS-1631,  1,      2,02-16008,2,20060708,1745,  2.9977, 165.0040, 4257,   1766.7,   2.5898,  34.6220,2,   -999.0,9,  34.6213,2,    108.0,2,   128.27,2,  -999.00,9,    38.83,2,     0.00,2,     2.79,2, -999.000,9, -999.000,9,  -999.00,9,   -999.0,9,   -999.0,9,-999.0000,9,   -999.0,  9,  -999.00,9,   -999.0,  -999.00,9,  -999.00,9,  -999.00,9,  -999.00,9,   -999.0,-999.0000, -999,9, 1750,   2.4646,  27.6307,   -999.0,9
       KS06-06,  165E,KS-1631,  1,      1,02-16007,2,20060708,1740,  2.9977, 165.0040, 4257,   2032.5,   2.2352,  34.6402,2,   -999.0,9,  34.6391,2,    115.0,2,   136.17,2,  -999.00,9,    38.44,2,     0.00,2,     2.76,2, -999.000,9, -999.000,9,  -999.00,9,   -999.0,9,   -999.0,9,-999.0000,9,   -999.0,  9,  -999.00,9,   -999.0,  -999.00,9,  -999.00,9,  -999.00,9,  -999.00,9,   -999.0,-999.0000, -999,9, 2012,   2.0924,  27.6760,   -999.0,9