BOTTLE,20131214MIRCJHATS
EXPOCODE,SECT_ID,STNNBR,CASTNO,SAMPNO,BTLNBR,BTLNBR_FLAG_W,DATE,TIME,LATITUDE,LONGITUDE,DEPTH,CTDPRS,CTDTMP,CTDSAL,CTDSAL_FLAG_W,CTDOXY,CTDOXY_FLAG_W,SALNTY,SALNTY_FLAG_W,OXYGEN,OXYGEN_FLAG_W,SILCAT,SILCAT_FLAG_W,NITRAT,NITRAT_FLAG_W,NO2+NO3,NO2+NO3_FLAG_W,NITRIT,NITRIT_FLAG_W,PHSPHT,PHSPHT_FLAG_W,CFC-11,CFC-11_FLAG_W,CFC-12,CFC-12_FLAG_W,DELC13,DELC13_FLAG_W,TCARBN,TCARBN_FLAG_W,ALKALI,ALKALI_FLAG_W,PH,PH_FLAG_W,PH_TMP,PH_SCALE,PH_NBS,PH_NBS_FLAG_W,C13ERR,TOTALP,TOTALP_FLAG_W,AMMONI,AMMONI_FLAG_W,CHLORA,CHLORA_FLAG_W,PPHYTN,PPHYTN_FLAG_W,REVPRS,REVTMP,DEPTH_,DEPTH_FLAG,CTDDEP,THETA,SIGTHT,DOC,DOC_FLAG_W
,,,,,,,GMT,GMT,,,METER,DBAR,ITS-90,PSS-78,,UMOL/KG,,PSS-78,,UMOL/KG,,UMOL/KG,,UMOL/KG,,UMOL/KG,,UMOL/KG,,UMOL/KG,,PMOL/KG,,PMOL/KG,,/MILLE,,UMOL/KG,,UMOL/KG,,25_DEG_C,,DEG_C,,,,/MILLE,UMOL/KG,,UMOL/KG,,UG/L,,UG/L,,DBAR,ITS-90,METERS,,METERS,DEG_C,,UMOL/L,
       KS06-06,  NONE,KS-1601,  1,     22,02-19379,2,20060620,0926, 27.9947, 154.9963, 5763,      4.9,  25.9546,  35.2597,2,   -999.0,9,  35.2573,2,    209.0,2,     1.27,2,  -999.00,9,     0.00,2,     0.00,2,     0.00,2, -999.000,9, -999.000,9,  -999.00,9,   -999.0,9,   -999.0,9,-999.0000,9,   -999.0,  9,  -999.00,9,   -999.0,  -999.00,9,  -999.00,9,  -999.00,9,  -999.00,9,   -999.0,-999.0000, -999,9,    5,  25.9535,  23.2438,   -999.0,9
       KS06-06,  NONE,KS-1601,  1,     21,02-16027,2,20060620,0925, 27.9947, 154.9963, 5763,     10.9,  25.9319,  35.2563,2,   -999.0,9,-999.0000,9,    212.0,2,     1.20,2,  -999.00,9,     0.00,2,     0.00,2,     0.00,2, -999.000,9, -999.000,9,  -999.00,9,   -999.0,9,   -999.0,9,-999.0000,9,   -999.0,  9,  -999.00,9,   -999.0,  -999.00,9,  -999.00,9,  -999.00,9,  -999.00,9,   -999.0,-999.0000, -999,9,   11,  25.9295,  23.2487,   -999.0,9
       KS06-06,  NONE,KS-1601,  1,     20,02-16026,2,20060620,0924, 27.9947, 154.9963, 5763,     25.6,  25.7560,  35.2481,2,   -999.0,9,-999.0000,9,    211.0,2,     1.24,2,  -999.00,9,     0.00,2,     0.00,2,     0.00,2, -999.000,9, -999.000,9,  -999.00,9,   -999.0,9,   -999.0,9,-999.0000,9,   -999.0,  9,  -999.00,9,   -999.0,  -999.00,9,  -999.00,9,  -999.00,9,  -999.00,9,   -999.0,-999.0000, -999,9,   25,  25.7503,  23.2982,   -999.0,9
       KS06-06,  NONE,KS-1601,  1,     19,02-19378,2,20060620,0920, 27.9947, 154.9963, 5763,     51.0,  24.7267,  35.2120,2,   -999.0,9,-999.0000,9,    217.0,2,     1.33,2,  -999.00,9,     0.00,2,     0.00,2,     0.00,2, -999.000,9, -999.000,9,  -999.00,9,   -999.0,9,   -999.0,9,-999.0000,9,   -999.0,  9,  -999.00,9,   -999.0,  -999.00,9,  -999.00,9,  -999.00,9,  -999.00,9,   -999.0,-999.0000, -999,9,   51,  24.7157,  23.5876,   -999.0,9
       KS06-06,  NONE,KS-1601,  1,     18,02-19377,2,20060620,0919, 27.9947, 154.9963, 5763,     76.2,  22.1991,  35.1214,2,   -999.0,9,-999.0000,9,    226.0,2,     1.57,2,  -999.00,9,     0.00,2,     0.00,2,     0.00,2, -999.000,9, -999.000,9,  -999.00,9,   -999.0,9,   -999.0,9,-999.0000,9,   -999.0,  9,  -999.00,9,   -999.0,  -999.00,9,  -999.00,9,  -999.00,9,  -999.00,9,   -999.0,-999.0000, -999,9,   76,  22.1839,  24.2584,   -999.0,9
       KS06-06,  NONE,KS-1601,  1,     17,02-16023,2,20060620,0919, 27.9947, 154.9963, 5763,     99.5,  21.2826,  35.1067,2,   -999.0,9,  35.1089,2,    226.0,2,     1.61,2,  -999.00,9,     0.00,2,     0.00,2,     0.00,2, -999.000,9, -999.000,9,  -999.00,9,   -999.0,9,   -999.0,9,-999.0000,9,   -999.0,  9,  -999.00,9,   -999.0,  -999.00,9,  -999.00,9,  -999.00,9,  -999.00,9,   -999.0,-999.0000, -999,9,   99,  21.2634,  24.5032,   -999.0,9
       KS06-06,  NONE,KS-1601,  1,     16,02-16022,2,20060620,0918, 27.9947, 154.9963, 5763,    126.0,  20.2344,  34.9964,2,   -999.0,9,-999.0000,9,    220.0,2,     1.91,2,  -999.00,9,     0.00,2,     0.00,2,     0.01,2, -999.000,9, -999.000,9,  -999.00,9,   -999.0,9,   -999.0,9,-999.0000,9,   -999.0,  9,  -999.00,9,   -999.0,  -999.00,9,  -999.00,9,  -999.00,9,  -999.00,9,   -999.0,-999.0000, -999,9,  125,  20.2109,  24.7032,   -999.0,9
       KS06-06,  NONE,KS-1601,  1,     15,02-16021,2,20060620,0916, 27.9947, 154.9963, 5763,    152.3,  19.1647,  34.8930,2,   -999.0,9,-999.0000,9,    218.0,2,     2.27,2,  -999.00,9,     0.98,2,     0.03,2,     0.07,2, -999.000,9, -999.000,9,  -999.00,9,   -999.0,9,   -999.0,9,-999.0000,9,   -999.0,  9,  -999.00,9,   -999.0,  -999.00,9,  -999.00,9,  -999.00,9,  -999.00,9,   -999.0,-999.0000, -999,9,  151,  19.1374,  24.9043,   -999.0,9
       KS06-06,  NONE,KS-1601,  1,     14,02-16020,2,20060620,0915, 27.9947, 154.9963, 5763,    201.7,  17.9538,  34.8218,2,   -999.0,9,  34.8225,2,    207.0,2,     3.37,2,  -999.00,9,     3.61,2,     0.00,2,     0.22,2, -999.000,9, -999.000,9,  -999.00,9,   -999.0,9,   -999.0,9,-999.0000,9,   -999.0,  9,  -999.00,9,   -999.0,  -999.00,9,  -999.00,9,  -999.00,9,  -999.00,9,   -999.0,-999.0000, -999,9,  200,  17.9193,  25.1555,   -999.0,9
       KS06-06,  NONE,KS-1601,  1,     13,02-16019,2,20060620,0914, 27.9947, 154.9963, 5763,    251.3,  17.2576,  34.7824,2,   -999.0,9,-999.0000,9,    210.0,2,     4.04,2,  -999.00,9,     4.58,2,     0.00,2,     0.25,2, -999.000,9, -999.000,9,  -999.00,9,   -999.0,9,   -999.0,9,-999.0000,9,   -999.0,  9,  -999.00,9,   -999.0,  -999.00,9,  -999.00,9,  -999.00,9,  -999.00,9,   -999.0,-999.0000, -999,9,  249,  17.2157,  25.2958,   -999.0,9
       KS06-06,  NONE,KS-1601,  1,     12,02-16018,2,20060620,0912, 27.9947, 154.9963, 5763,    301.9,  16.6900,  34.7343,2,   -999.0,9,  34.7365,2,    205.0,2,     5.40,2,  -999.00,9,     5.95,2,     0.00,2,     0.33,2, -999.000,9, -999.000,9,  -999.00,9,   -999.0,9,   -999.0,9,-999.0000,9,   -999.0,  9,  -999.00,9,   -999.0,  -999.00,9,  -999.00,9,  -999.00,9,  -999.00,9,   -999.0,-999.0000, -999,9,  300,  16.6408,  25.3950,   -999.0,9
       KS06-06,  NONE,KS-1601,  1,     11,02-19376,2,20060620,0910, 27.9947, 154.9963, 5763,    403.0,  14.6682,  34.5605,2,   -999.0,9,  34.5588,2,    200.0,2,    10.30,2,  -999.00,9,     9.75,2,     0.00,2,     0.60,2, -999.000,9, -999.000,9,  -999.00,9,   -999.0,9,   -999.0,9,-999.0000,9,   -999.0,  9,  -999.00,9,   -999.0,  -999.00,9,  -999.00,9,  -999.00,9,  -999.00,9,   -999.0,-999.0000, -999,9,  400,  14.6079,  25.7182,   -999.0,9
       KS06-06,  NONE,KS-1601,  1,     10,02-19375,2,20060620,0908, 27.9947, 154.9963, 5763,    505.0,  11.5308,  34.3242,2,   -999.0,9,  34.3261,2,    197.0,2,    19.18,2,  -999.00,9,    15.01,2,     0.00,2,     0.98,2, -999.000,9, -999.000,9,  -999.00,9,   -999.0,9,   -999.0,9,-999.0000,9,   -999.0,  9,  -999.00,9,   -999.0,  -999.00,9,  -999.00,9,  -999.00,9,  -999.00,9,   -999.0,-999.0000, -999,9,  501,  11.4662,  26.1642,   -999.0,9
       KS06-06,  NONE,KS-1601,  1,      9,02-16015,2,20060620,0905, 27.9947, 154.9963, 5763,    605.9,   9.1480,  34.1480,2,   -999.0,9,  34.1516,2,    180.0,2,    30.84,2,  -999.00,9,    20.75,2,     0.00,2,     1.42,2, -999.000,9, -999.000,9,  -999.00,9,   -999.0,9,   -999.0,9,-999.0000,9,   -999.0,  9,  -999.00,9,   -999.0,  -999.00,9,  -999.00,9,  -999.00,9,  -999.00,9,   -999.0,-999.0000, -999,9,  601,   9.0807,  26.4381,   -999.0,9
       KS06-06,  NONE,KS-1601,  1,      8,02-16014,2,20060620,0903, 27.9947, 154.9963, 5763,    706.9,   6.7920,  34.0445,2,   -999.0,9,  34.0462,2,    140.0,2,    53.31,2,  -999.00,9,    28.73,2,     0.00,2,     2.06,2, -999.000,9, -999.000,9,  -999.00,9,   -999.0,9,   -999.0,9,-999.0000,9,   -999.0,  9,  -999.00,9,   -999.0,  -999.00,9,  -999.00,9,  -999.00,9,  -999.00,9,   -999.0,-999.0000, -999,9,  701,   6.7255,  26.7033,   -999.0,9
       KS06-06,  NONE,KS-1601,  1,      7,02-19374,2,20060620,0901, 27.9947, 154.9963, 5763,    808.0,   5.2676,  34.0764,2,   -999.0,9,  34.0769,2,     95.0,2,    77.95,2,  -999.00,9,    35.45,2,     0.00,2,     2.57,2, -999.000,9, -999.000,9,  -999.00,9,   -999.0,9,   -999.0,9,-999.0000,9,   -999.0,  9,  -999.00,9,   -999.0,  -999.00,9,  -999.00,9,  -999.00,9,  -999.00,9,   -999.0,-999.0000, -999,9,  801,   5.2003,  26.9199,   -999.0,9
       KS06-06,  NONE,KS-1601,  1,      6,02-19373,2,20060620,0858, 27.9947, 154.9963, 5763,    907.5,   4.5393,  34.1759,2,   -999.0,9,  34.1729,2,     62.0,2,    96.62,2,  -999.00,9,    39.24,2,     0.00,2,     2.86,2, -999.000,9, -999.000,9,  -999.00,9,   -999.0,9,   -999.0,9,-999.0000,9,   -999.0,  9,  -999.00,9,   -999.0,  -999.00,9,  -999.00,9,  -999.00,9,  -999.00,9,   -999.0,-999.0000, -999,9,  899,   4.4680,  27.0812,   -999.0,9
       KS06-06,  NONE,KS-1601,  1,      5,02-16011,2,20060620,0856, 27.9947, 154.9963, 5763,   1008.9,   3.9675,  34.2659,2,   -999.0,9,  34.2578,4,     48.0,2,   112.49,2,  -999.00,9,    41.18,2,     0.00,2,     3.01,2, -999.000,9, -999.000,9,  -999.00,9,   -999.0,9,   -999.0,9,-999.0000,9,   -999.0,  9,  -999.00,9,   -999.0,  -999.00,9,  -999.00,9,  -999.00,9,  -999.00,9,   -999.0,-999.0000, -999,9, 1000,   3.8917,  27.2132,   -999.0,9
       KS06-06,  NONE,KS-1601,  1,      4,02-16010,2,20060620,0851, 27.9947, 154.9963, 5763,   1262.2,   3.1732,  34.4381,2,   -999.0,9,  34.4419,4,     47.0,2,   131.42,2,  -999.00,9,    42.24,2,     0.00,2,     3.08,2, -999.000,9, -999.000,9,  -999.00,9,   -999.0,9,   -999.0,9,-999.0000,9,   -999.0,  9,  -999.00,9,   -999.0,  -999.00,9,  -999.00,9,  -999.00,9,  -999.00,9,   -999.0,-999.0000, -999,9, 1250,   3.0834,  27.4289,   -999.0,9
       KS06-06,  NONE,KS-1601,  1,      3,02-16009,2,20060620,0846, 27.9947, 154.9963, 5763,   1517.1,   2.5940,  34.5168,2,   -999.0,9,  34.5177,2,     57.0,2,   146.49,2,  -999.00,9,    42.14,2,     0.00,2,     3.05,2, -999.000,9, -999.000,9,  -999.00,9,   -999.0,9,   -999.0,9,-999.0000,9,   -999.0,  9,  -999.00,9,   -999.0,  -999.00,9,  -999.00,9,  -999.00,9,  -999.00,9,   -999.0,-999.0000, -999,9, 1502,   2.4896,  27.5444,   -999.0,9
       KS06-06,  NONE,KS-1601,  1,      2,02-16008,2,20060620,0841, 27.9947, 154.9963, 5763,   1770.4,   2.2158,  34.5721,2,   -999.0,9,  34.5715,2,     74.0,2,   151.78,2,  -999.00,9,    41.07,2,     0.00,2,     2.96,2, -999.000,9, -999.000,9,  -999.00,9,   -999.0,9,   -999.0,9,-999.0000,9,   -999.0,  9,  -999.00,9,   -999.0,  -999.00,9,  -999.00,9,  -999.00,9,  -999.00,9,   -999.0,-999.0000, -999,9, 1751,   2.0955,  27.6213,   -999.0,9
       KS06-06,  NONE,KS-1601,  1,      1,02-16007,2,20060620,0835, 27.9947, 154.9963, 5763,   2035.0,   1.9786,  34.6078,2,   -999.0,9,  34.6076,2,     93.0,2,   152.17,2,  -999.00,9,    39.99,2,     0.00,2,     2.86,2, -999.000,9, -999.000,9,  -999.00,9,   -999.0,9,   -999.0,9,-999.0000,9,   -999.0,  9,  -999.00,9,   -999.0,  -999.00,9,  -999.00,9,  -999.00,9,  -999.00,9,   -999.0,-999.0000, -999,9, 2012,   1.8396,  27.6700,   -999.0,9