BOTTLE,20131214MIRCJHATS
EXPOCODE,SECT_ID,STNNBR,CASTNO,SAMPNO,BTLNBR,BTLNBR_FLAG_W,DATE,TIME,LATITUDE,LONGITUDE,DEPTH,CTDPRS,CTDTMP,CTDSAL,CTDSAL_FLAG_W,CTDOXY,CTDOXY_FLAG_W,SALNTY,SALNTY_FLAG_W,OXYGEN,OXYGEN_FLAG_W,SILCAT,SILCAT_FLAG_W,NITRAT,NITRAT_FLAG_W,NO2+NO3,NO2+NO3_FLAG_W,NITRIT,NITRIT_FLAG_W,PHSPHT,PHSPHT_FLAG_W,CFC-11,CFC-11_FLAG_W,CFC-12,CFC-12_FLAG_W,DELC13,DELC13_FLAG_W,TCARBN,TCARBN_FLAG_W,ALKALI,ALKALI_FLAG_W,PH,PH_FLAG_W,PH_TMP,PH_SCALE,PH_NBS,PH_NBS_FLAG_W,C13ERR,TOTALP,TOTALP_FLAG_W,AMMONI,AMMONI_FLAG_W,CHLORA,CHLORA_FLAG_W,PPHYTN,PPHYTN_FLAG_W,REVPRS,REVTMP,DEPTH_,DEPTH_FLAG,CTDDEP,THETA,SIGTHT,DOC,DOC_FLAG_W
,,,,,,,GMT,GMT,,,METER,DBAR,ITS-90,PSS-78,,UMOL/KG,,PSS-78,,UMOL/KG,,UMOL/KG,,UMOL/KG,,UMOL/KG,,UMOL/KG,,UMOL/KG,,PMOL/KG,,PMOL/KG,,/MILLE,,UMOL/KG,,UMOL/KG,,25_DEG_C,,DEG_C,,,,/MILLE,UMOL/KG,,UMOL/KG,,UG/L,,UG/L,,DBAR,ITS-90,METERS,,METERS,DEG_C,,UMOL/L,
       KS06-06,  165E,KS-1630,  1,     22,02-19379,2,20060629,1030,  4.0040, 165.0017, 4491,      4.7,  29.8715,  34.3798,2,   -999.0,9,  34.3777,2,    198.0,2,     1.11,2,  -999.00,9,     0.00,2,     0.00,2,     0.10,2, -999.000,9, -999.000,9,  -999.00,9,   1909.1,3,   -999.0,9,-999.0000,9,   -999.0,  9,  -999.00,9,   -999.0,  -999.00,9,  -999.00,9,     0.05,2,     0.02,2,   -999.0,-999.0000, -999,9,    5,  29.8703,  21.3055,   -999.0,9
       KS06-06,  165E,KS-1630,  1,     21,02-16027,2,20060629,1029,  4.0040, 165.0017, 4491,     10.5,  29.8714,  34.3799,2,   -999.0,9,-999.0000,9,    197.0,2,     1.10,2,  -999.00,9,     0.00,2,     0.00,2,     0.10,2, -999.000,9, -999.000,9,  -999.00,9,   -999.0,9,   -999.0,9,-999.0000,9,   -999.0,  9,  -999.00,9,   -999.0,  -999.00,9,  -999.00,9,  -999.00,9,  -999.00,9,   -999.0,-999.0000, -999,9,   10,  29.8688,  21.3060,   -999.0,9
       KS06-06,  165E,KS-1630,  1,     20,02-16026,2,20060629,1028,  4.0040, 165.0017, 4491,     25.7,  29.8799,  34.3786,2,   -999.0,9,-999.0000,9,    197.0,2,     1.09,2,  -999.00,9,     0.00,2,     0.00,2,     0.10,2, -999.000,9, -999.000,9,  -999.00,9,   -999.0,9,   -999.0,9,-999.0000,9,   -999.0,  9,  -999.00,9,   -999.0,  -999.00,9,  -999.00,9,  -999.00,9,  -999.00,9,   -999.0,-999.0000, -999,9,   26,  29.8736,  21.3034,   -999.0,9
       KS06-06,  165E,KS-1630,  1,     19,02-19378,2,20060629,1025,  4.0040, 165.0017, 4491,     50.6,  29.8444,  34.3837,2,   -999.0,9,-999.0000,9,    196.0,2,     1.09,2,  -999.00,9,     0.00,2,     0.00,2,     0.10,2, -999.000,9, -999.000,9,  -999.00,9,   -999.0,9,   -999.0,9,-999.0000,9,   -999.0,  9,  -999.00,9,   -999.0,  -999.00,9,  -999.00,9,  -999.00,9,  -999.00,9,   -999.0,-999.0000, -999,9,   50,  29.8319,  21.3214,   -999.0,9
       KS06-06,  165E,KS-1630,  1,     18,02-19377,2,20060629,1024,  4.0040, 165.0017, 4491,     74.5,  29.7913,  34.4535,2,   -999.0,9,-999.0000,9,    198.0,2,     1.14,2,  -999.00,9,     0.00,2,     0.00,2,     0.10,2, -999.000,9, -999.000,9,  -999.00,9,   -999.0,9,   -999.0,9,-999.0000,9,   -999.0,  9,  -999.00,9,   -999.0,  -999.00,9,  -999.00,9,  -999.00,9,  -999.00,9,   -999.0,-999.0000, -999,9,   74,  29.7730,  21.3937,   -999.0,9
       KS06-06,  165E,KS-1630,  1,     17,02-16023,2,20060629,1023,  4.0040, 165.0017, 4491,     99.0,  27.4136,  34.4234,2,   -999.0,9,  34.4674,4,    184.0,2,     2.03,2,  -999.00,9,     0.39,2,     0.07,2,     0.13,2, -999.000,9, -999.000,9,  -999.00,9,   -999.0,9,   -999.0,9,-999.0000,9,   -999.0,  9,  -999.00,9,   -999.0,  -999.00,9,  -999.00,9,  -999.00,9,  -999.00,9,   -999.0,-999.0000, -999,9,   98,  27.3907,  22.1585,   -999.0,9
       KS06-06,  165E,KS-1630,  1,     16,02-16022,2,20060629,1022,  4.0040, 165.0017, 4491,    126.3,  21.9449,  34.7811,2,   -999.0,9,-999.0000,9,    149.0,2,     6.31,2,  -999.00,9,     7.42,2,     0.03,2,     0.55,2, -999.000,9, -999.000,9,  -999.00,9,   -999.0,9,   -999.0,9,-999.0000,9,   -999.0,  9,  -999.00,9,   -999.0,  -999.00,9,  -999.00,9,  -999.00,9,  -999.00,9,   -999.0,-999.0000, -999,9,  126,  21.9200,  24.0739,   -999.0,9
       KS06-06,  165E,KS-1630,  1,     15,02-16021,2,20060629,1022,  4.0040, 165.0017, 4491,    151.9,  18.4960,  34.7634,2,   -999.0,9,-999.0000,9,    140.0,2,    10.31,2,  -999.00,9,    11.71,2,     0.00,2,     0.82,2, -999.000,9, -999.000,9,  -999.00,9,   -999.0,9,   -999.0,9,-999.0000,9,   -999.0,  9,  -999.00,9,   -999.0,  -999.00,9,  -999.00,9,  -999.00,9,  -999.00,9,   -999.0,-999.0000, -999,9,  151,  18.4695,  24.9743,   -999.0,9
       KS06-06,  165E,KS-1630,  1,     14,02-16020,2,20060629,1020,  4.0040, 165.0017, 4491,    200.5,  12.6983,  34.5506,2,   -999.0,9,  34.5601,4,     88.0,2,    22.92,2,  -999.00,9,    24.07,2,     0.00,2,     1.74,2, -999.000,9, -999.000,9,  -999.00,9,   -999.0,9,   -999.0,9,-999.0000,9,   -999.0,  9,  -999.00,9,   -999.0,  -999.00,9,  -999.00,9,  -999.00,9,  -999.00,9,   -999.0,-999.0000, -999,9,  199,  12.6713,  26.1100,   -999.0,9
       KS06-06,  165E,KS-1630,  1,     13,02-16019,2,20060629,1019,  4.0040, 165.0017, 4491,    251.3,  10.1510,  34.6181,2,   -999.0,9,-999.0000,9,     50.0,2,    33.65,2,  -999.00,9,    32.44,2,     0.00,2,     2.34,2, -999.000,9, -999.000,9,  -999.00,9,   -999.0,9,   -999.0,9,-999.0000,9,   -999.0,  9,  -999.00,9,   -999.0,  -999.00,9,  -999.00,9,  -999.00,9,  -999.00,9,   -999.0,-999.0000, -999,9,  250,  10.1216,  26.6329,   -999.0,9
       KS06-06,  165E,KS-1630,  1,     12,02-16018,2,20060629,1018,  4.0040, 165.0017, 4491,    301.1,   9.4183,  34.6398,2,   -999.0,9,  34.6389,2,     41.0,2,    36.21,2,  -999.00,9,    34.67,2,     0.00,2,     2.50,2, -999.000,9, -999.000,9,  -999.00,9,   -999.0,9,   -999.0,9,-999.0000,9,   -999.0,  9,  -999.00,9,   -999.0,  -999.00,9,  -999.00,9,  -999.00,9,  -999.00,9,   -999.0,-999.0000, -999,9,  299,   9.3846,  26.7737,   -999.0,9
       KS06-06,  165E,KS-1630,  1,     11,02-19376,2,20060629,1016,  4.0040, 165.0017, 4491,    402.2,   8.3425,  34.6070,2,   -999.0,9,  34.6064,2,     71.0,2,    39.20,2,  -999.00,9,    34.18,2,     0.00,2,     2.43,2, -999.000,9, -999.000,9,  -999.00,9,   -999.0,9,   -999.0,9,-999.0000,9,   -999.0,  9,  -999.00,9,   -999.0,  -999.00,9,  -999.00,9,  -999.00,9,  -999.00,9,   -999.0,-999.0000, -999,9,  400,   8.3005,  26.9198,   -999.0,9
       KS06-06,  165E,KS-1630,  1,     10,02-19375,2,20060629,1014,  4.0040, 165.0017, 4491,    503.3,   7.4337,  34.5743,2,   -999.0,9,  34.5748,2,     55.0,2,    48.38,2,  -999.00,9,    37.39,2,     0.00,2,     2.73,2, -999.000,9, -999.000,9,  -999.00,9,   -999.0,9,   -999.0,9,-999.0000,9,   -999.0,  9,  -999.00,9,   -999.0,  -999.00,9,  -999.00,9,  -999.00,9,  -999.00,9,   -999.0,-999.0000, -999,9,  500,   7.3842,  27.0294,   -999.0,9
       KS06-06,  165E,KS-1630,  1,      9,02-16015,2,20060629,1011,  4.0040, 165.0017, 4491,    603.3,   6.7257,  34.5559,2,   -999.0,9,  34.5554,2,     56.0,2,    56.27,2,  -999.00,9,    38.75,2,     0.00,2,     2.82,2, -999.000,9, -999.000,9,  -999.00,9,   -999.0,9,   -999.0,9,-999.0000,9,   -999.0,  9,  -999.00,9,   -999.0,  -999.00,9,  -999.00,9,  -999.00,9,  -999.00,9,   -999.0,-999.0000, -999,9,  599,   6.6692,  27.1141,   -999.0,9
       KS06-06,  165E,KS-1630,  1,      8,02-16014,2,20060629,1009,  4.0040, 165.0017, 4491,    705.9,   6.0182,  34.5439,2,   -999.0,9,  34.5444,2,     74.0,2,    62.17,2,  -999.00,9,    38.65,2,     0.00,2,     2.80,2, -999.000,9, -999.000,9,  -999.00,9,   -999.0,9,   -999.0,9,-999.0000,9,   -999.0,  9,  -999.00,9,   -999.0,  -999.00,9,  -999.00,9,  -999.00,9,  -999.00,9,   -999.0,-999.0000, -999,9,  701,   5.9554,  27.1979,   -999.0,9
       KS06-06,  165E,KS-1630,  1,      7,02-19374,2,20060629,1007,  4.0040, 165.0017, 4491,    807.1,   5.4228,  34.5417,2,   -999.0,9,  34.5416,2,     85.0,2,    70.65,2,  -999.00,9,    38.26,2,     0.00,2,     2.76,2, -999.000,9, -999.000,9,  -999.00,9,   -999.0,9,   -999.0,9,-999.0000,9,   -999.0,  9,  -999.00,9,   -999.0,  -999.00,9,  -999.00,9,  -999.00,9,  -999.00,9,   -999.0,-999.0000, -999,9,  801,   5.3540,  27.2702,   -999.0,9
       KS06-06,  165E,KS-1630,  1,      6,02-19373,2,20060629,1005,  4.0040, 165.0017, 4491,    907.3,   4.9087,  34.5466,2,   -999.0,9,  34.5470,2,    111.0,4,    79.34,2,  -999.00,9,    38.45,2,     0.00,2,     2.78,2, -999.000,9, -999.000,9,  -999.00,9,   -999.0,9,   -999.0,9,-999.0000,9,   -999.0,  9,  -999.00,9,   -999.0,  -999.00,9,  -999.00,9,  -999.00,9,  -999.00,9,   -999.0,-999.0000, -999,9,  900,   4.8343,  27.3348,   -999.0,9
       KS06-06,  165E,KS-1630,  1,      5,02-16011,2,20060629,1003,  4.0040, 165.0017, 4491,   1008.6,   4.4246,  34.5578,2,   -999.0,9,  34.5577,2,     84.0,2,    91.20,2,  -999.00,9,    39.23,2,     0.00,2,     2.86,2, -999.000,9, -999.000,9,  -999.00,9,   -999.0,9,   -999.0,9,-999.0000,9,   -999.0,  9,  -999.00,9,   -999.0,  -999.00,9,  -999.00,9,  -999.00,9,  -999.00,9,   -999.0,-999.0000, -999,9, 1001,   4.3448,  27.3979,   -999.0,9
       KS06-06,  165E,KS-1630,  1,      4,02-16010,2,20060629,0958,  4.0040, 165.0017, 4491,   1261.9,   3.5426,  34.5842,2,   -999.0,9,  34.5833,2,     87.0,2,   110.12,2,  -999.00,9,    39.90,2,     0.00,2,     2.91,2, -999.000,9, -999.000,9,  -999.00,9,   -999.0,9,   -999.0,9,-999.0000,9,   -999.0,  9,  -999.00,9,   -999.0,  -999.00,9,  -999.00,9,  -999.00,9,  -999.00,9,   -999.0,-999.0000, -999,9, 1251,   3.4489,  27.5108,   -999.0,9
       KS06-06,  165E,KS-1630,  1,      3,02-16009,2,20060629,0953,  4.0040, 165.0017, 4491,   1513.9,   2.9526,  34.6059,2,   -999.0,9,  34.6053,2,     93.0,2,   123.48,2,  -999.00,9,    40.00,2,     0.00,2,     2.90,2, -999.000,9, -999.000,9,  -999.00,9,   -999.0,9,   -999.0,9,-999.0000,9,   -999.0,  9,  -999.00,9,   -999.0,  -999.00,9,  -999.00,9,  -999.00,9,  -999.00,9,   -999.0,-999.0000, -999,9, 1500,   2.8441,  27.5847,   -999.0,9
       KS06-06,  165E,KS-1630,  1,      2,02-16008,2,20060629,0949,  4.0040, 165.0017, 4491,   1769.8,   2.5183,  34.6241,2,   -999.0,9,  34.6234,2,    106.0,2,   130.69,2,  -999.00,9,    39.12,2,     0.00,2,     2.81,2, -999.000,9, -999.000,9,  -999.00,9,   -999.0,9,   -999.0,9,-999.0000,9,   -999.0,  9,  -999.00,9,   -999.0,  -999.00,9,  -999.00,9,  -999.00,9,  -999.00,9,   -999.0,-999.0000, -999,9, 1753,   2.3938,  27.6384,   -999.0,9
       KS06-06,  165E,KS-1630,  1,      1,02-16007,2,20060629,0941,  4.0040, 165.0017, 4491,   2032.6,   2.1599,  34.6428,2,   -999.0,9,  34.6415,2,    113.0,2,   139.23,2,  -999.00,9,    38.83,2,     0.00,2,     2.78,2, -999.000,9, -999.000,9,  -999.00,9,   -999.0,9,   -999.0,9,-999.0000,9,   -999.0,  9,  -999.00,9,   -999.0,  -999.00,9,  -999.00,9,  -999.00,9,  -999.00,9,   -999.0,-999.0000, -999,9, 2012,   2.0182,  27.6840,   -999.0,9