BOTTLE,20131214MIRCJHATS
EXPOCODE,SECT_ID,STNNBR,CASTNO,SAMPNO,BTLNBR,BTLNBR_FLAG_W,DATE,TIME,LATITUDE,LONGITUDE,DEPTH,CTDPRS,CTDTMP,CTDSAL,CTDSAL_FLAG_W,CTDOXY,CTDOXY_FLAG_W,SALNTY,SALNTY_FLAG_W,OXYGEN,OXYGEN_FLAG_W,SILCAT,SILCAT_FLAG_W,NITRAT,NITRAT_FLAG_W,NO2+NO3,NO2+NO3_FLAG_W,NITRIT,NITRIT_FLAG_W,PHSPHT,PHSPHT_FLAG_W,CFC-11,CFC-11_FLAG_W,CFC-12,CFC-12_FLAG_W,DELC13,DELC13_FLAG_W,TCARBN,TCARBN_FLAG_W,ALKALI,ALKALI_FLAG_W,PH,PH_FLAG_W,PH_TMP,PH_SCALE,PH_NBS,PH_NBS_FLAG_W,C13ERR,TOTALP,TOTALP_FLAG_W,AMMONI,AMMONI_FLAG_W,CHLORA,CHLORA_FLAG_W,PPHYTN,PPHYTN_FLAG_W,REVPRS,REVTMP,DEPTH_,DEPTH_FLAG,CTDDEP,THETA,SIGTHT,DOC,DOC_FLAG_W
,,,,,,,GMT,GMT,,,METER,DBAR,ITS-90,PSS-78,,UMOL/KG,,PSS-78,,UMOL/KG,,UMOL/KG,,UMOL/KG,,UMOL/KG,,UMOL/KG,,UMOL/KG,,PMOL/KG,,PMOL/KG,,/MILLE,,UMOL/KG,,UMOL/KG,,25_DEG_C,,DEG_C,,,,/MILLE,UMOL/KG,,UMOL/KG,,UG/L,,UG/L,,DBAR,ITS-90,METERS,,METERS,DEG_C,,UMOL/L,
       KS06-06, EQPAC,KS-1646,  1,     24,02-16030,2,20060718,0642,  0.0103, 153.0833, 4198,      4.9,  29.7250,  34.2523,2,   -999.0,9,  34.2536,2,    200.0,2,     1.11,2,  -999.00,9,     0.00,2,     0.00,2,     0.05,2, -999.000,9, -999.000,9,  -999.00,9,   1906.3,2,   -999.0,9,-999.0000,9,   -999.0,  9,  -999.00,9,   -999.0,  -999.00,9,  -999.00,9,     0.11,2,     0.04,2,   -999.0,-999.0000, -999,9,    5,  29.7238,  21.2596,   -999.0,9
       KS06-06, EQPAC,KS-1646,  1,     23,02-19380,2,20060718,0641,  0.0103, 153.0833, 4198,      9.3,  29.7283,  34.2517,2,   -999.0,9,-999.0000,9,    199.0,2,     1.10,2,  -999.00,9,     0.00,2,     0.00,2,     0.05,2, -999.000,9, -999.000,9,  -999.00,9,   -999.0,9,   -999.0,9,-999.0000,9,   -999.0,  9,  -999.00,9,   -999.0,  -999.00,9,  -999.00,9,     0.10,2,     0.04,2,   -999.0,-999.0000, -999,9,    9,  29.7260,  21.2583,   -999.0,9
       KS06-06, EQPAC,KS-1646,  1,     22,02-19379,2,20060718,0640,  0.0103, 153.0833, 4198,     24.8,  29.7286,  34.2917,2,   -999.0,9,-999.0000,9,    201.0,2,     1.09,2,  -999.00,9,     0.00,2,     0.00,2,     0.05,2, -999.000,9, -999.000,9,  -999.00,9,   -999.0,9,   -999.0,9,-999.0000,9,   -999.0,  9,  -999.00,9,   -999.0,  -999.00,9,  -999.00,9,     0.12,2,     0.05,2,   -999.0,-999.0000, -999,9,   25,  29.7225,  21.2895,   -999.0,9
       KS06-06, EQPAC,KS-1646,  1,     21,02-16027,2,20060718,0637,  0.0103, 153.0833, 4198,     52.4,  29.7852,  34.5224,2,   -999.0,9,-999.0000,9,    199.0,2,     1.08,2,  -999.00,9,     0.00,2,     0.00,2,     0.09,2, -999.000,9, -999.000,9,  -999.00,9,   -999.0,9,   -999.0,9,-999.0000,9,   -999.0,  9,  -999.00,9,   -999.0,  -999.00,9,  -999.00,9,     0.23,2,     0.13,2,   -999.0,-999.0000, -999,9,   52,  29.7723,  21.4456,   -999.0,9
       KS06-06, EQPAC,KS-1646,  1,     20,02-16026,2,20060718,0636,  0.0103, 153.0833, 4198,     76.4,  27.5156,  35.4276,2,   -999.0,9,-999.0000,9,    165.0,2,     2.32,2,  -999.00,9,     5.96,2,     0.16,2,     0.54,2, -999.000,9, -999.000,9,  -999.00,9,   -999.0,9,   -999.0,9,-999.0000,9,   -999.0,  9,  -999.00,9,   -999.0,  -999.00,9,  -999.00,9,     0.30,2,     0.45,2,   -999.0,-999.0000, -999,9,   76,  27.4978,  22.8797,   -999.0,9
       KS06-06, EQPAC,KS-1646,  1,     19,02-19378,2,20060718,0635,  0.0103, 153.0833, 4198,     98.8,  27.3767,  35.4136,2,   -999.0,9,  35.4181,2,    163.0,2,     2.41,2,  -999.00,9,     6.16,2,     0.19,2,     0.56,2, -999.000,9, -999.000,9,  -999.00,9,   -999.0,9,   -999.0,9,-999.0000,9,   -999.0,  9,  -999.00,9,   -999.0,  -999.00,9,  -999.00,9,     0.19,2,     0.53,2,   -999.0,-999.0000, -999,9,   98,  27.3538,  22.9157,   -999.0,9
       KS06-06, EQPAC,KS-1646,  1,     18,02-19377,2,20060718,0634,  0.0103, 153.0833, 4198,    126.5,  25.2676,  35.3529,2,   -999.0,9,-999.0000,9,    141.0,2,     3.14,2,  -999.00,9,     8.50,2,     0.02,2,     0.68,2, -999.000,9, -999.000,9,  -999.00,9,   -999.0,9,   -999.0,9,-999.0000,9,   -999.0,  9,  -999.00,9,   -999.0,  -999.00,9,  -999.00,9,     0.06,2,     0.16,2,   -999.0,-999.0000, -999,9,  126,  25.2399,  23.5347,   -999.0,9
       KS06-06, EQPAC,KS-1646,  1,     17,02-16023,2,20060718,0633,  0.0103, 153.0833, 4198,    151.3,  22.5630,  35.1061,2,   -999.0,9,-999.0000,9,    134.0,2,     5.63,2,  -999.00,9,     9.57,2,     0.01,2,     0.71,2, -999.000,9, -999.000,9,  -999.00,9,   -999.0,9,   -999.0,9,-999.0000,9,   -999.0,  9,  -999.00,9,   -999.0,  -999.00,9,  -999.00,9,     0.00,2,     0.01,2,   -999.0,-999.0000, -999,9,  150,  22.5325,  24.1481,   -999.0,9
       KS06-06, EQPAC,KS-1646,  1,     16,02-16022,2,20060718,0631,  0.0103, 153.0833, 4198,    203.5,  16.8307,  35.3080,2,   -999.0,9,  35.3043,2,    141.0,2,     7.22,2,  -999.00,9,    13.84,2,     0.00,2,     1.02,2, -999.000,9, -999.000,9,  -999.00,9,   -999.0,9,   -999.0,9,-999.0000,9,   -999.0,  9,  -999.00,9,   -999.0,  -999.00,9,  -999.00,9,     0.00,2,     0.01,2,   -999.0,-999.0000, -999,9,  202,  16.7973,  25.7989,   -999.0,9
       KS06-06, EQPAC,KS-1646,  1,     15,02-16021,2,20060718,0629,  0.0103, 153.0833, 4198,    255.5,  11.4740,  34.7826,2,   -999.0,9,-999.0000,9,    136.0,2,    22.18,2,  -999.00,9,    22.11,2,     0.00,2,     1.57,2, -999.000,9, -999.000,9,  -999.00,9,   -999.0,9,   -999.0,9,-999.0000,9,   -999.0,  9,  -999.00,9,   -999.0,  -999.00,9,  -999.00,9,     0.00,2,     0.02,2,   -999.0,-999.0000, -999,9,  254,  11.4416,  26.5253,   -999.0,9
       KS06-06, EQPAC,KS-1646,  1,     14,02-16020,2,20060718,0626,  0.0103, 153.0833, 4198,    305.4,  10.5280,  34.7680,2,   -999.0,9,  34.7690,2,    134.0,2,    21.25,2,  -999.00,9,    24.35,2,     0.00,2,     1.69,2, -999.000,9, -999.000,9,  -999.00,9,   -999.0,9,   -999.0,9,-999.0000,9,   -999.0,  9,  -999.00,9,   -999.0,  -999.00,9,  -999.00,9,     0.00,2,     0.02,2,   -999.0,-999.0000, -999,9,  303,  10.4913,  26.6856,   -999.0,9
       KS06-06, EQPAC,KS-1646,  1,     13,02-16019,2,20060718,0622,  0.0103, 153.0833, 4198,    405.6,   8.9433,  34.6627,2,   -999.0,9,  34.6655,2,    134.0,2,    24.69,2,  -999.00,9,    27.36,2,     0.00,2,     1.90,2, -999.000,9, -999.000,9,  -999.00,9,   -999.0,9,   -999.0,9,-999.0000,9,   -999.0,  9,  -999.00,9,   -999.0,  -999.00,9,  -999.00,9,  -999.00,9,  -999.00,9,   -999.0,-999.0000, -999,9,  403,   8.8991,  26.8702,   -999.0,9
       KS06-06, EQPAC,KS-1646,  1,     12,02-16018,2,20060718,0616,  0.0103, 153.0833, 4198,    506.4,   7.8152,  34.5840,2,   -999.0,9,  34.5861,2,    110.0,2,    37.44,2,  -999.00,9,    31.84,2,     0.00,2,     2.23,2, -999.000,9, -999.000,9,  -999.00,9,   -999.0,9,   -999.0,9,-999.0000,9,   -999.0,  9,  -999.00,9,   -999.0,  -999.00,9,  -999.00,9,  -999.00,9,  -999.00,9,   -999.0,-999.0000, -999,9,  503,   7.7639,  26.9821,   -999.0,9
       KS06-06, EQPAC,KS-1646,  1,     11,02-19376,2,20060718,0612,  0.0103, 153.0833, 4198,    607.1,   6.4365,  34.5521,2,   -999.0,9,  34.5504,2,     93.0,2,    50.91,2,  -999.00,9,    36.51,2,     0.00,2,     2.58,2, -999.000,9, -999.000,9,  -999.00,9,   -999.0,9,   -999.0,9,-999.0000,9,   -999.0,  9,  -999.00,9,   -999.0,  -999.00,9,  -999.00,9,  -999.00,9,  -999.00,9,   -999.0,-999.0000, -999,9,  603,   6.3809,  27.1494,   -999.0,9
       KS06-06, EQPAC,KS-1646,  1,     10,02-19375,2,20060718,0607,  0.0103, 153.0833, 4198,    706.7,   5.7131,  34.5384,2,   -999.0,9,  34.5371,2,    102.0,2,    59.05,2,  -999.00,9,    36.70,2,     0.00,2,     2.60,2, -999.000,9, -999.000,9,  -999.00,9,   -999.0,9,   -999.0,9,-999.0000,9,   -999.0,  9,  -999.00,9,   -999.0,  -999.00,9,  -999.00,9,  -999.00,9,  -999.00,9,   -999.0,-999.0000, -999,9,  702,   5.6518,  27.2315,   -999.0,9
       KS06-06, EQPAC,KS-1646,  1,      9,02-16015,2,20060718,0602,  0.0103, 153.0833, 4198,    809.3,   5.2585,  34.5377,2,   -999.0,9,  34.5372,2,    104.0,2,    66.93,2,  -999.00,9,    36.89,2,     0.00,2,     2.62,2, -999.000,9, -999.000,9,  -999.00,9,   -999.0,9,   -999.0,9,-999.0000,9,   -999.0,  9,  -999.00,9,   -999.0,  -999.00,9,  -999.00,9,  -999.00,9,  -999.00,9,   -999.0,-999.0000, -999,9,  803,   5.1906,  27.2865,   -999.0,9
       KS06-06, EQPAC,KS-1646,  1,      8,02-16014,2,20060718,0558,  0.0103, 153.0833, 4198,    911.0,   4.8227,  34.5443,2,   -999.0,9,  34.5429,2,    104.0,2,    76.34,2,  -999.00,9,    37.18,2,     0.00,2,     2.65,2, -999.000,9, -999.000,9,  -999.00,9,   -999.0,9,   -999.0,9,-999.0000,9,   -999.0,  9,  -999.00,9,   -999.0,  -999.00,9,  -999.00,9,  -999.00,9,  -999.00,9,   -999.0,-999.0000, -999,9,  904,   4.7486,  27.3426,   -999.0,9
       KS06-06, EQPAC,KS-1646,  1,      7,02-19374,2,20060718,0553,  0.0103, 153.0833, 4198,   1012.1,   4.2709,  34.5598,2,   -999.0,9,  34.5571,2,     99.0,2,    89.27,2,  -999.00,9,    38.15,2,     0.00,2,     2.74,2, -999.000,9, -999.000,9,  -999.00,9,   -999.0,9,   -999.0,9,-999.0000,9,   -999.0,  9,  -999.00,9,   -999.0,  -999.00,9,  -999.00,9,  -999.00,9,  -999.00,9,   -999.0,-999.0000, -999,9, 1004,   4.1920,  27.4158,   -999.0,9
       KS06-06, EQPAC,KS-1646,  1,      6,02-19373,2,20060718,0542,  0.0103, 153.0833, 4198,   1265.5,   3.5696,  34.5810,2,   -999.0,9,  34.5790,2,    102.0,2,   104.23,2,  -999.00,9,    38.54,2,     0.00,2,     2.76,2, -999.000,9, -999.000,9,  -999.00,9,   -999.0,9,   -999.0,9,-999.0000,9,   -999.0,  9,  -999.00,9,   -999.0,  -999.00,9,  -999.00,9,  -999.00,9,  -999.00,9,   -999.0,-999.0000, -999,9, 1255,   3.4753,  27.5057,   -999.0,9
       KS06-06, EQPAC,KS-1646,  1,      5,02-16011,2,20060718,0532,  0.0103, 153.0833, 4198,   1518.1,   2.9268,  34.6063,2,   -999.0,9,  34.6049,2,    106.0,2,   118.56,2,  -999.00,9,    38.83,2,     0.00,2,     2.77,2, -999.000,9, -999.000,9,  -999.00,9,   -999.0,9,   -999.0,9,-999.0000,9,   -999.0,  9,  -999.00,9,   -999.0,  -999.00,9,  -999.00,9,  -999.00,9,  -999.00,9,   -999.0,-999.0000, -999,9, 1504,   2.8182,  27.5873,   -999.0,9
       KS06-06, EQPAC,KS-1646,  1,      4,02-16010,2,20060718,0525,  0.0103, 153.0833, 4198,   1769.0,   2.5442,  34.6233,2,   -999.0,9,  34.6220,2,    115.0,2,   125.95,2,  -999.00,9,    38.34,2,     0.00,2,     2.71,2, -999.000,9, -999.000,9,  -999.00,9,   -999.0,9,   -999.0,9,-999.0000,9,   -999.0,  9,  -999.00,9,   -999.0,  -999.00,9,  -999.00,9,  -999.00,9,  -999.00,9,   -999.0,-999.0000, -999,9, 1752,   2.4194,  27.6355,   -999.0,9
       KS06-06, EQPAC,KS-1646,  1,      3,02-16009,2,20060718,0520,  0.0103, 153.0833, 4198,   2018.4,   2.2746,  34.6374,2,   -999.0,9,  34.6363,2,    120.0,2,   131.70,2,  -999.00,9,    38.14,2,     0.00,2,     2.70,2, -999.000,9, -999.000,9,  -999.00,9,   -999.0,9,   -999.0,9,-999.0000,9,   -999.0,  9,  -999.00,9,   -999.0,  -999.00,9,  -999.00,9,  -999.00,9,  -999.00,9,   -999.0,-999.0000, -999,9, 1998,   2.1324,  27.6706,   -999.0,9
       KS06-06, EQPAC,KS-1646,  1,      2,02-16008,2,20060718,0512,  0.0103, 153.0833, 4198,   2519.6,   1.7647,  34.6625,2,   -999.0,9,  34.6620,2,    135.0,2,   140.30,2,  -999.00,9,    37.27,2,     0.00,2,     2.62,2, -999.000,9, -999.000,9,  -999.00,9,   -999.0,9,   -999.0,9,-999.0000,9,   -999.0,  9,  -999.00,9,   -999.0,  -999.00,9,  -999.00,9,  -999.00,9,  -999.00,9,   -999.0,-999.0000, -999,9, 2491,   1.5870,  27.7329,   -999.0,9
       KS06-06, EQPAC,KS-1646,  1,      1,02-16007,2,20060718,0509,  0.0103, 153.0833, 4198,   2728.8,   1.6534,  34.6695,2,   -999.0,9,  34.6679,2,    140.0,2,   141.05,2,  -999.00,9,    36.88,2,     0.00,2,     2.59,2, -999.000,9, -999.000,9,  -999.00,9,   -999.0,9,   -999.0,9,-999.0000,9,   -999.0,  9,  -999.00,9,   -999.0,  -999.00,9,  -999.00,9,  -999.00,9,  -999.00,9,   -999.0,-999.0000, -999,9, 2696,   1.4588,  27.7479,   -999.0,9