BOTTLE,20131214MIRCJHATS
EXPOCODE,SECT_ID,STNNBR,CASTNO,SAMPNO,BTLNBR,BTLNBR_FLAG_W,DATE,TIME,LATITUDE,LONGITUDE,DEPTH,CTDPRS,CTDTMP,CTDSAL,CTDSAL_FLAG_W,CTDOXY,CTDOXY_FLAG_W,SALNTY,SALNTY_FLAG_W,OXYGEN,OXYGEN_FLAG_W,SILCAT,SILCAT_FLAG_W,NITRAT,NITRAT_FLAG_W,NO2+NO3,NO2+NO3_FLAG_W,NITRIT,NITRIT_FLAG_W,PHSPHT,PHSPHT_FLAG_W,CFC-11,CFC-11_FLAG_W,CFC-12,CFC-12_FLAG_W,DELC13,DELC13_FLAG_W,TCARBN,TCARBN_FLAG_W,ALKALI,ALKALI_FLAG_W,PH,PH_FLAG_W,PH_TMP,PH_SCALE,PH_NBS,PH_NBS_FLAG_W,C13ERR,TOTALP,TOTALP_FLAG_W,AMMONI,AMMONI_FLAG_W,CHLORA,CHLORA_FLAG_W,PPHYTN,PPHYTN_FLAG_W,REVPRS,REVTMP,DEPTH_,DEPTH_FLAG,CTDDEP,THETA,SIGTHT,DOC,DOC_FLAG_W
,,,,,,,GMT,GMT,,,METER,DBAR,ITS-90,PSS-78,,UMOL/KG,,PSS-78,,UMOL/KG,,UMOL/KG,,UMOL/KG,,UMOL/KG,,UMOL/KG,,UMOL/KG,,PMOL/KG,,PMOL/KG,,/MILLE,,UMOL/KG,,UMOL/KG,,25_DEG_C,,DEG_C,,,,/MILLE,UMOL/KG,,UMOL/KG,,UG/L,,UG/L,,DBAR,ITS-90,METERS,,METERS,DEG_C,,UMOL/L,
       KS06-06,  165E,KS-1626,  1,     22,02-19379,2,20060628,0438,  7.9973, 163.9807, 5134,      4.8,  29.0725,  34.0958,2,   -999.0,9,  34.0937,2,    199.0,2,     1.17,2,  -999.00,9,     0.00,2,     0.00,2,     0.06,2, -999.000,9, -999.000,9,  -999.00,9,   1905.1,3,   -999.0,9,-999.0000,9,   -999.0,  9,  -999.00,9,   -999.0,  -999.00,9,  -999.00,9,     0.04,2,     0.01,2,   -999.0,-999.0000, -999,9,    5,  29.0713,  21.3615,   -999.0,9
       KS06-06,  165E,KS-1626,  1,     21,02-16027,2,20060628,0437,  7.9973, 163.9807, 5134,      9.9,  29.0547,  34.0951,2,   -999.0,9,-999.0000,9,    198.0,2,     1.22,2,  -999.00,9,     0.00,2,     0.00,2,     0.06,2, -999.000,9, -999.000,9,  -999.00,9,   -999.0,9,   -999.0,9,-999.0000,9,   -999.0,  9,  -999.00,9,   -999.0,  -999.00,9,  -999.00,9,     0.04,2,     0.01,2,   -999.0,-999.0000, -999,9,   10,  29.0523,  21.3674,   -999.0,9
       KS06-06,  165E,KS-1626,  1,     20,02-16026,2,20060628,0436,  7.9973, 163.9807, 5134,     25.2,  28.8936,  34.0921,2,   -999.0,9,-999.0000,9,    200.0,2,     1.17,2,  -999.00,9,     0.00,2,     0.00,2,     0.06,2, -999.000,9, -999.000,9,  -999.00,9,   -999.0,9,   -999.0,9,-999.0000,9,   -999.0,  9,  -999.00,9,   -999.0,  -999.00,9,  -999.00,9,     0.05,2,     0.01,2,   -999.0,-999.0000, -999,9,   25,  28.8875,  21.4200,   -999.0,9
       KS06-06,  165E,KS-1626,  1,     19,02-19378,2,20060628,0432,  7.9973, 163.9807, 5134,     49.9,  28.7674,  34.2538,2,   -999.0,9,-999.0000,9,    199.0,2,     1.10,2,  -999.00,9,     0.00,2,     0.00,2,     0.07,2, -999.000,9, -999.000,9,  -999.00,9,   -999.0,9,   -999.0,9,-999.0000,9,   -999.0,  9,  -999.00,9,   -999.0,  -999.00,9,  -999.00,9,     0.06,2,     0.02,2,   -999.0,-999.0000, -999,9,   50,  28.7554,  21.5852,   -999.0,9
       KS06-06,  165E,KS-1626,  1,     18,02-19377,2,20060628,0431,  7.9973, 163.9807, 5134,     75.9,  27.4465,  34.6471,2,   -999.0,9,-999.0000,9,    206.0,2,     1.20,2,  -999.00,9,     0.00,2,     0.00,2,     0.08,2, -999.000,9, -999.000,9,  -999.00,9,   -999.0,9,   -999.0,9,-999.0000,9,   -999.0,  9,  -999.00,9,   -999.0,  -999.00,9,  -999.00,9,     0.12,2,     0.06,2,   -999.0,-999.0000, -999,9,   75,  27.4289,  22.3145,   -999.0,9
       KS06-06,  165E,KS-1626,  1,     17,02-16023,2,20060628,0430,  7.9973, 163.9807, 5134,    101.6,  25.0236,  34.7830,2,   -999.0,9,  34.7566,4,    192.0,2,     2.04,2,  -999.00,9,     0.00,2,     0.02,2,     0.15,2, -999.000,9, -999.000,9,  -999.00,9,   -999.0,9,   -999.0,9,-999.0000,9,   -999.0,  9,  -999.00,9,   -999.0,  -999.00,9,  -999.00,9,     0.23,2,     0.30,2,   -999.0,-999.0000, -999,9,  101,  25.0016,  23.1767,   -999.0,9
       KS06-06,  165E,KS-1626,  1,     16,02-16022,2,20060628,0428,  7.9973, 163.9807, 5134,    125.0,  20.5328,  34.8475,2,   -999.0,9,-999.0000,9,    173.0,2,     3.93,2,  -999.00,9,     4.10,2,     0.27,2,     0.40,2, -999.000,9, -999.000,9,  -999.00,9,   -999.0,9,   -999.0,9,-999.0000,9,   -999.0,  9,  -999.00,9,   -999.0,  -999.00,9,  -999.00,9,     0.14,2,     0.27,2,   -999.0,-999.0000, -999,9,  124,  20.5093,  24.5101,   -999.0,9
       KS06-06,  165E,KS-1626,  1,     15,02-16021,2,20060628,0427,  7.9973, 163.9807, 5134,    152.5,  17.1752,  34.7007,2,   -999.0,9,-999.0000,9,    140.0,2,     9.42,2,  -999.00,9,    11.51,2,     0.02,2,     0.87,2, -999.000,9, -999.000,9,  -999.00,9,   -999.0,9,   -999.0,9,-999.0000,9,   -999.0,  9,  -999.00,9,   -999.0,  -999.00,9,  -999.00,9,     0.07,2,     0.19,2,   -999.0,-999.0000, -999,9,  152,  17.1499,  25.2488,   -999.0,9
       KS06-06,  165E,KS-1626,  1,     14,02-16020,2,20060628,0425,  7.9973, 163.9807, 5134,    202.1,  12.2708,  34.5348,2,   -999.0,9,  34.5321,2,     76.0,2,    23.65,2,  -999.00,9,    25.63,2,     0.00,2,     1.88,2, -999.000,9, -999.000,9,  -999.00,9,   -999.0,9,   -999.0,9,-999.0000,9,   -999.0,  9,  -999.00,9,   -999.0,  -999.00,9,  -999.00,9,     0.02,2,     0.03,2,   -999.0,-999.0000, -999,9,  201,  12.2442,  26.1810,   -999.0,9
       KS06-06,  165E,KS-1626,  1,     13,02-16019,2,20060628,0423,  7.9973, 163.9807, 5134,    252.8,  10.3119,  34.6223,2,   -999.0,9,-999.0000,9,     34.0,2,    33.32,2,  -999.00,9,    33.41,2,     0.00,2,     2.43,2, -999.000,9, -999.000,9,  -999.00,9,   -999.0,9,   -999.0,9,-999.0000,9,   -999.0,  9,  -999.00,9,   -999.0,  -999.00,9,  -999.00,9,     0.00,2,     0.02,2,   -999.0,-999.0000, -999,9,  251,  10.2820,  26.6085,   -999.0,9
       KS06-06,  165E,KS-1626,  1,     12,02-16018,2,20060628,0421,  7.9973, 163.9807, 5134,    304.4,   9.6042,  34.6408,2,   -999.0,9,  34.6397,2,     34.0,2,    36.04,2,  -999.00,9,    34.87,2,     0.00,2,     2.50,2, -999.000,9, -999.000,9,  -999.00,9,   -999.0,9,   -999.0,9,-999.0000,9,   -999.0,  9,  -999.00,9,   -999.0,  -999.00,9,  -999.00,9,     0.00,2,     0.01,2,   -999.0,-999.0000, -999,9,  302,   9.5697,  26.7439,   -999.0,9
       KS06-06,  165E,KS-1626,  1,     11,02-19376,2,20060628,0418,  7.9973, 163.9807, 5134,    404.0,   8.7516,  34.6100,2,   -999.0,9,  34.6101,2,     43.0,2,    40.40,2,  -999.00,9,    35.64,2,     0.00,2,     2.56,2, -999.000,9, -999.000,9,  -999.00,9,   -999.0,9,   -999.0,9,-999.0000,9,   -999.0,  9,  -999.00,9,   -999.0,  -999.00,9,  -999.00,9,  -999.00,9,  -999.00,9,   -999.0,-999.0000, -999,9,  401,   8.7081,  26.8590,   -999.0,9
       KS06-06,  165E,KS-1626,  1,     10,02-19375,2,20060628,0414,  7.9973, 163.9807, 5134,    506.1,   7.8678,  34.5749,2,   -999.0,9,  34.5741,2,     52.0,2,    46.66,2,  -999.00,9,    36.42,2,     0.00,2,     2.64,2, -999.000,9, -999.000,9,  -999.00,9,   -999.0,9,   -999.0,9,-999.0000,9,   -999.0,  9,  -999.00,9,   -999.0,  -999.00,9,  -999.00,9,  -999.00,9,  -999.00,9,   -999.0,-999.0000, -999,9,  503,   7.8164,  26.9672,   -999.0,9
       KS06-06,  165E,KS-1626,  1,      9,02-16015,2,20060628,0411,  7.9973, 163.9807, 5134,    607.6,   7.0764,  34.5456,2,   -999.0,9,  34.5448,2,     56.0,2,    55.08,2,  -999.00,9,    37.39,2,     0.00,2,     2.73,2, -999.000,9, -999.000,9,  -999.00,9,   -999.0,9,   -999.0,9,-999.0000,9,   -999.0,  9,  -999.00,9,   -999.0,  -999.00,9,  -999.00,9,  -999.00,9,  -999.00,9,   -999.0,-999.0000, -999,9,  603,   7.0179,  27.0584,   -999.0,9
       KS06-06,  165E,KS-1626,  1,      8,02-16014,2,20060628,0407,  7.9973, 163.9807, 5134,    707.7,   6.2868,  34.5381,2,   -999.0,9,  34.5350,2,     57.0,2,    64.44,2,  -999.00,9,    38.85,2,     0.00,2,     2.82,2, -999.000,9, -999.000,9,  -999.00,9,   -999.0,9,   -999.0,9,-999.0000,9,   -999.0,  9,  -999.00,9,   -999.0,  -999.00,9,  -999.00,9,  -999.00,9,  -999.00,9,   -999.0,-999.0000, -999,9,  703,   6.2224,  27.1592,   -999.0,9
       KS06-06,  165E,KS-1626,  1,      7,02-19374,2,20060628,0404,  7.9973, 163.9807, 5134,    807.2,   5.5891,  34.5403,2,   -999.0,9,  34.5397,2,     68.0,2,    73.49,2,  -999.00,9,    39.13,2,     0.00,2,     2.83,2, -999.000,9, -999.000,9,  -999.00,9,   -999.0,9,   -999.0,9,-999.0000,9,   -999.0,  9,  -999.00,9,   -999.0,  -999.00,9,  -999.00,9,  -999.00,9,  -999.00,9,   -999.0,-999.0000, -999,9,  801,   5.5193,  27.2492,   -999.0,9
       KS06-06,  165E,KS-1626,  1,      6,02-19373,2,20060628,0401,  7.9973, 163.9807, 5134,    908.6,   4.9949,  34.5427,2,   -999.0,9,  34.5422,2,     69.0,2,    84.96,2,  -999.00,9,    39.52,2,     0.00,2,     2.88,2, -999.000,9, -999.000,9,  -999.00,9,   -999.0,9,   -999.0,9,-999.0000,9,   -999.0,  9,  -999.00,9,   -999.0,  -999.00,9,  -999.00,9,  -999.00,9,  -999.00,9,   -999.0,-999.0000, -999,9,  902,   4.9198,  27.3219,   -999.0,9
       KS06-06,  165E,KS-1626,  1,      5,02-16011,2,20060628,0358,  7.9973, 163.9807, 5134,   1010.4,   4.4865,  34.5556,2,   -999.0,9,  34.5550,2,     79.0,2,    93.26,2,  -999.00,9,    39.42,2,     0.00,2,     2.86,2, -999.000,9, -999.000,9,  -999.00,9,   -999.0,9,   -999.0,9,-999.0000,9,   -999.0,  9,  -999.00,9,   -999.0,  -999.00,9,  -999.00,9,  -999.00,9,  -999.00,9,   -999.0,-999.0000, -999,9, 1002,   4.4061,  27.3896,   -999.0,9
       KS06-06,  165E,KS-1626,  1,      4,02-16010,2,20060628,0351,  7.9973, 163.9807, 5134,   1263.0,   3.5894,  34.5796,2,   -999.0,9,  34.5790,2,     88.0,2,   110.68,2,  -999.00,9,    39.42,2,     0.00,2,     2.85,2, -999.000,9, -999.000,9,  -999.00,9,   -999.0,9,   -999.0,9,-999.0000,9,   -999.0,  9,  -999.00,9,   -999.0,  -999.00,9,  -999.00,9,  -999.00,9,  -999.00,9,   -999.0,-999.0000, -999,9, 1252,   3.4952,  27.5027,   -999.0,9
       KS06-06,  165E,KS-1626,  1,      3,02-16009,2,20060628,0346,  7.9973, 163.9807, 5134,   1513.6,   2.9219,  34.6019,2,   -999.0,9,  34.6009,2,     92.0,2,   125.87,2,  -999.00,9,    39.70,2,     0.00,2,     2.86,2, -999.000,9, -999.000,9,  -999.00,9,   -999.0,9,   -999.0,9,-999.0000,9,   -999.0,  9,  -999.00,9,   -999.0,  -999.00,9,  -999.00,9,  -999.00,9,  -999.00,9,   -999.0,-999.0000, -999,9, 1500,   2.8138,  27.5841,   -999.0,9
       KS06-06,  165E,KS-1626,  1,      2,02-16008,2,20060628,0339,  7.9973, 163.9807, 5134,   1768.0,   2.4708,  34.6243,2,   -999.0,9,  34.6236,2,    100.0,2,   135.11,2,  -999.00,9,    39.51,2,     0.00,2,     2.83,2, -999.000,9, -999.000,9,  -999.00,9,   -999.0,9,   -999.0,9,-999.0000,9,   -999.0,  9,  -999.00,9,   -999.0,  -999.00,9,  -999.00,9,  -999.00,9,  -999.00,9,   -999.0,-999.0000, -999,9, 1751,   2.3471,  27.6425,   -999.0,9
       KS06-06,  165E,KS-1626,  1,      1,02-16007,2,20060628,0334,  7.9973, 163.9807, 5134,   2028.7,   2.1866,  34.6408,2,   -999.0,9,  34.6402,2,    107.0,2,   140.82,2,  -999.00,9,    39.12,2,     0.00,2,     2.79,2, -999.000,9, -999.000,9,  -999.00,9,   -999.0,9,   -999.0,9,-999.0000,9,   -999.0,  9,  -999.00,9,   -999.0,  -999.00,9,  -999.00,9,  -999.00,9,  -999.00,9,   -999.0,-999.0000, -999,9, 2008,   2.0448,  27.6803,   -999.0,9
       KS06-06,  165E,KS-1627,  1,      2,02-16008,9,20060628,1133,  7.0048, 164.4868, 5083,      5.7,  29.1836,  34.0663,2,   -999.0,9,-999.0000,9,   -999.0,9,  -999.00,9,  -999.00,9,  -999.00,9,  -999.00,9,  -999.00,9, -999.000,9, -999.000,9,  -999.00,9,   -999.0,9,   -999.0,9,-999.0000,9,   -999.0,  9,  -999.00,9,   -999.0,  -999.00,9,  -999.00,9,  -999.00,9,  -999.00,9,   -999.0,-999.0000, -999,9,    6,  29.1822,  21.3024,   -999.0,9
       KS06-06,  165E,KS-1627,  1,      1,02-16007,2,20060628,1133,  7.0048, 164.4868, 5083,      5.9,  29.1888,  34.0662,2,   -999.0,9,-999.0000,9,   -999.0,9,     2.37,2,  -999.00,9,     0.00,2,     0.00,2,     0.08,2, -999.000,9, -999.000,9,  -999.00,9,   1897.4,3,   -999.0,9,-999.0000,9,   -999.0,  9,  -999.00,9,   -999.0,  -999.00,9,  -999.00,9,     0.05,2,     0.02,2,   -999.0,-999.0000, -999,9,    6,  29.1874,  21.3006,   -999.0,9