BOTTLE,20131214MIRCJHATS
EXPOCODE,SECT_ID,STNNBR,CASTNO,SAMPNO,BTLNBR,BTLNBR_FLAG_W,DATE,TIME,LATITUDE,LONGITUDE,DEPTH,CTDPRS,CTDTMP,CTDSAL,CTDSAL_FLAG_W,CTDOXY,CTDOXY_FLAG_W,SALNTY,SALNTY_FLAG_W,OXYGEN,OXYGEN_FLAG_W,SILCAT,SILCAT_FLAG_W,NITRAT,NITRAT_FLAG_W,NO2+NO3,NO2+NO3_FLAG_W,NITRIT,NITRIT_FLAG_W,PHSPHT,PHSPHT_FLAG_W,CFC-11,CFC-11_FLAG_W,CFC-12,CFC-12_FLAG_W,DELC13,DELC13_FLAG_W,TCARBN,TCARBN_FLAG_W,ALKALI,ALKALI_FLAG_W,PH,PH_FLAG_W,PH_TMP,PH_SCALE,PH_NBS,PH_NBS_FLAG_W,C13ERR,TOTALP,TOTALP_FLAG_W,AMMONI,AMMONI_FLAG_W,CHLORA,CHLORA_FLAG_W,PPHYTN,PPHYTN_FLAG_W,REVPRS,REVTMP,DEPTH_,DEPTH_FLAG,CTDDEP,THETA,SIGTHT,DOC,DOC_FLAG_W
,,,,,,,GMT,GMT,,,METER,DBAR,ITS-90,PSS-78,,UMOL/KG,,PSS-78,,UMOL/KG,,UMOL/KG,,UMOL/KG,,UMOL/KG,,UMOL/KG,,UMOL/KG,,PMOL/KG,,PMOL/KG,,/MILLE,,UMOL/KG,,UMOL/KG,,25_DEG_C,,DEG_C,,,,/MILLE,UMOL/KG,,UMOL/KG,,UG/L,,UG/L,,DBAR,ITS-90,METERS,,METERS,DEG_C,,UMOL/L,
       KS06-06,  NONE,KS-1677,  1,     20,02-16026,2,20060805,1053, 30.0087, 144.9858, 5906,      5.9,  28.0819,  34.0341,2,   -999.0,9,  34.0316,2,    205.0,2,     1.70,2,  -999.00,9,     0.00,2,     0.00,2,     0.00,2, -999.000,9, -999.000,9,  -999.00,9,   -999.0,9,   -999.0,9,-999.0000,9,   -999.0,  9,  -999.00,9,   -999.0,  -999.00,9,  -999.00,9,     0.06,2,     0.02,2,   -999.0,-999.0000, -999,9,    6,  28.0805,  21.6422,   -999.0,9
       KS06-06,  NONE,KS-1677,  1,     19,02-19378,2,20060805,1052, 30.0087, 144.9858, 5906,     10.2,  28.0877,  34.0341,2,   -999.0,9,-999.0000,9,    204.0,2,     1.64,2,  -999.00,9,     0.00,2,     0.00,2,     0.00,2, -999.000,9, -999.000,9,  -999.00,9,   -999.0,9,   -999.0,9,-999.0000,9,   -999.0,  9,  -999.00,9,   -999.0,  -999.00,9,  -999.00,9,     0.07,2,     0.02,2,   -999.0,-999.0000, -999,9,   10,  28.0853,  21.6407,   -999.0,9
       KS06-06,  NONE,KS-1677,  1,     18,02-19377,2,20060805,1044, 30.0087, 144.9858, 5906,     27.7,  26.5112,  33.9568,2,   -999.0,9,-999.0000,9,    211.0,2,     1.74,2,  -999.00,9,     0.00,2,     0.00,2,     0.00,2, -999.000,9, -999.000,9,  -999.00,9,   -999.0,9,   -999.0,9,-999.0000,9,   -999.0,  9,  -999.00,9,   -999.0,  -999.00,9,  -999.00,9,     0.08,2,     0.02,2,   -999.0,-999.0000, -999,9,   27,  26.5050,  22.0888,   -999.0,9
       KS06-06,  NONE,KS-1677,  1,     17,02-16023,2,20060805,1041, 30.0087, 144.9858, 5906,     50.6,  25.5705,  34.2657,2,   -999.0,9,-999.0000,9,    211.0,2,     1.78,2,  -999.00,9,     0.00,2,     0.00,2,     0.00,2, -999.000,9, -999.000,9,  -999.00,9,   -999.0,9,   -999.0,9,-999.0000,9,   -999.0,  9,  -999.00,9,   -999.0,  -999.00,9,  -999.00,9,     0.16,2,     0.06,2,   -999.0,-999.0000, -999,9,   50,  25.5594,  22.6157,   -999.0,9
       KS06-06,  NONE,KS-1677,  1,     16,02-16022,2,20060805,1039, 30.0087, 144.9858, 5906,     74.4,  23.0950,  34.6890,2,   -999.0,9,-999.0000,9,    192.0,2,     2.95,2,  -999.00,9,     2.25,2,     0.14,2,     0.15,2, -999.000,9, -999.000,9,  -999.00,9,   -999.0,9,   -999.0,9,-999.0000,9,   -999.0,  9,  -999.00,9,   -999.0,  -999.00,9,  -999.00,9,     0.36,2,     0.49,2,   -999.0,-999.0000, -999,9,   74,  23.0798,  23.6747,   -999.0,9
       KS06-06,  NONE,KS-1677,  1,     15,02-16021,2,20060805,1038, 30.0087, 144.9858, 5906,    101.1,  21.5163,  34.7389,2,   -999.0,9,  34.7382,2,    196.0,2,     3.29,2,  -999.00,9,     2.44,2,     0.15,2,     0.17,2, -999.000,9, -999.000,9,  -999.00,9,   -999.0,9,   -999.0,9,-999.0000,9,   -999.0,  9,  -999.00,9,   -999.0,  -999.00,9,  -999.00,9,     0.16,2,     0.27,2,   -999.0,-999.0000, -999,9,  100,  21.4967,  24.1592,   -999.0,9
       KS06-06,  NONE,KS-1677,  1,     14,02-16020,2,20060805,1037, 30.0087, 144.9858, 5906,    126.9,  20.2898,  34.7624,2,   -999.0,9,-999.0000,9,    196.0,2,     4.10,2,  -999.00,9,     3.32,2,     0.02,2,     0.21,2, -999.000,9, -999.000,9,  -999.00,9,   -999.0,9,   -999.0,9,-999.0000,9,   -999.0,  9,  -999.00,9,   -999.0,  -999.00,9,  -999.00,9,     0.04,2,     0.07,2,   -999.0,-999.0000, -999,9,  126,  20.2661,  24.5101,   -999.0,9
       KS06-06,  NONE,KS-1677,  1,     13,02-16019,2,20060805,1036, 30.0087, 144.9858, 5906,    152.7,  19.5972,  34.8176,2,   -999.0,9,-999.0000,9,    204.0,2,     3.33,2,  -999.00,9,     2.73,2,     0.03,2,     0.18,2, -999.000,9, -999.000,9,  -999.00,9,   -999.0,9,   -999.0,9,-999.0000,9,   -999.0,  9,  -999.00,9,   -999.0,  -999.00,9,  -999.00,9,     0.02,2,     0.04,2,   -999.0,-999.0000, -999,9,  152,  19.5694,  24.7352,   -999.0,9
       KS06-06,  NONE,KS-1677,  1,     12,02-16018,2,20060805,1034, 30.0087, 144.9858, 5906,    203.4,  18.6320,  34.8384,2,   -999.0,9,  34.8390,2,    216.0,2,     2.71,2,  -999.00,9,     2.24,2,     0.01,2,     0.14,2, -999.000,9, -999.000,9,  -999.00,9,   -999.0,9,   -999.0,9,-999.0000,9,   -999.0,  9,  -999.00,9,   -999.0,  -999.00,9,  -999.00,9,     0.02,2,     0.03,2,   -999.0,-999.0000, -999,9,  202,  18.5962,  24.9998,   -999.0,9
       KS06-06,  NONE,KS-1677,  1,     11,02-19376,2,20060805,1033, 30.0087, 144.9858, 5906,    251.5,  18.2907,  34.8356,2,   -999.0,9,-999.0000,9,    211.0,2,     3.21,2,  -999.00,9,     3.12,2,     0.01,2,     0.19,2, -999.000,9, -999.000,9,  -999.00,9,   -999.0,9,   -999.0,9,-999.0000,9,   -999.0,  9,  -999.00,9,   -999.0,  -999.00,9,  -999.00,9,     0.00,2,     0.01,2,   -999.0,-999.0000, -999,9,  250,  18.2470,  25.0850,   -999.0,9
       KS06-06,  NONE,KS-1677,  1,     10,02-19375,2,20060805,1031, 30.0087, 144.9858, 5906,    305.6,  17.6897,  34.8086,2,   -999.0,9,  34.8102,2,    211.0,2,     3.92,2,  -999.00,9,     4.00,2,     0.00,2,     0.24,2, -999.000,9, -999.000,9,  -999.00,9,   -999.0,9,   -999.0,9,-999.0000,9,   -999.0,  9,  -999.00,9,   -999.0,  -999.00,9,  -999.00,9,     0.00,2,     0.01,2,   -999.0,-999.0000, -999,9,  303,  17.6378,  25.2140,   -999.0,9
       KS06-06,  NONE,KS-1677,  1,      9,02-16015,2,20060805,1028, 30.0087, 144.9858, 5906,    405.2,  16.0426,  34.6778,2,   -999.0,9,  34.6822,2,    195.0,2,     7.89,2,  -999.00,9,     8.00,2,     0.00,2,     0.50,2, -999.000,9, -999.000,9,  -999.00,9,   -999.0,9,   -999.0,9,-999.0000,9,   -999.0,  9,  -999.00,9,   -999.0,  -999.00,9,  -999.00,9,  -999.00,9,  -999.00,9,   -999.0,-999.0000, -999,9,  402,  15.9781,  25.5047,   -999.0,9
       KS06-06,  NONE,KS-1677,  1,      8,02-16014,2,20060805,1025, 30.0087, 144.9858, 5906,    506.0,  13.8160,  34.5146,2,   -999.0,9,  34.5171,2,    181.0,2,    16.17,2,  -999.00,9,    12.77,2,     0.00,2,     0.85,2, -999.000,9, -999.000,9,  -999.00,9,   -999.0,9,   -999.0,9,-999.0000,9,   -999.0,  9,  -999.00,9,   -999.0,  -999.00,9,  -999.00,9,  -999.00,9,  -999.00,9,   -999.0,-999.0000, -999,9,  502,  13.7431,  25.8655,   -999.0,9
       KS06-06,  NONE,KS-1677,  1,      7,02-19374,2,20060805,1022, 30.0087, 144.9858, 5906,    606.5,  11.1700,  34.3409,2,   -999.0,9,  34.3439,2,    169.0,2,    27.81,2,  -999.00,9,    18.42,2,     0.00,2,     1.27,2, -999.000,9, -999.000,9,  -999.00,9,   -999.0,9,   -999.0,9,-999.0000,9,   -999.0,  9,  -999.00,9,   -999.0,  -999.00,9,  -999.00,9,  -999.00,9,  -999.00,9,   -999.0,-999.0000, -999,9,  602,  11.0936,  26.2453,   -999.0,9
       KS06-06,  NONE,KS-1677,  1,      6,02-19373,2,20060805,1020, 30.0087, 144.9858, 5906,    706.7,   7.8780,  34.1275,2,   -999.0,9,  34.1292,2,    157.0,2,    46.50,2,  -999.00,9,    24.94,2,     0.00,2,     1.78,2, -999.000,9, -999.000,9,  -999.00,9,   -999.0,9,   -999.0,9,-999.0000,9,   -999.0,  9,  -999.00,9,   -999.0,  -999.00,9,  -999.00,9,  -999.00,9,  -999.00,9,   -999.0,-999.0000, -999,9,  701,   7.8057,  26.6172,   -999.0,9
       KS06-06,  NONE,KS-1677,  1,      5,02-16011,2,20060805,1018, 30.0087, 144.9858, 5906,    807.2,   5.8250,  34.0577,2,   -999.0,9,  34.0606,2,    127.0,2,    68.02,2,  -999.00,9,    31.46,2,     0.00,2,     2.29,2, -999.000,9, -999.000,9,  -999.00,9,   -999.0,9,   -999.0,9,-999.0000,9,   -999.0,  9,  -999.00,9,   -999.0,  -999.00,9,  -999.00,9,  -999.00,9,  -999.00,9,   -999.0,-999.0000, -999,9,  800,   5.7544,  26.8386,   -999.0,9
       KS06-06,  NONE,KS-1677,  1,      4,02-16010,2,20060805,1016, 30.0087, 144.9858, 5906,    902.6,   4.7769,  34.1357,2,   -999.0,9,  34.1352,2,     83.0,2,    90.35,2,  -999.00,9,    36.71,2,     0.00,2,     2.67,2, -999.000,9, -999.000,9,  -999.00,9,   -999.0,9,   -999.0,9,-999.0000,9,   -999.0,  9,  -999.00,9,   -999.0,  -999.00,9,  -999.00,9,  -999.00,9,  -999.00,9,   -999.0,-999.0000, -999,9,  895,   4.7044,  27.0233,   -999.0,9
       KS06-06,  NONE,KS-1677,  1,      3,02-16009,2,20060805,1014, 30.0087, 144.9858, 5906,   1006.2,   4.3850,  34.2649,2,   -999.0,9,  34.2606,2,     66.0,2,   104.12,2,  -999.00,9,    38.84,2,     0.00,2,     2.81,2, -999.000,9, -999.000,9,  -999.00,9,   -999.0,9,   -999.0,9,-999.0000,9,   -999.0,  9,  -999.00,9,   -999.0,  -999.00,9,  -999.00,9,  -999.00,9,  -999.00,9,   -999.0,-999.0000, -999,9,  997,   4.3062,  27.1693,   -999.0,9
       KS06-06,  NONE,KS-1677,  1,      2,02-16008,2,20060805,1009, 30.0087, 144.9858, 5906,   1262.6,   3.2148,  34.4045,2,   -999.0,9,  34.4034,2,     52.0,2,   130.85,2,  -999.00,9,    41.46,2,     0.00,2,     2.99,2, -999.000,9, -999.000,9,  -999.00,9,   -999.0,9,   -999.0,9,-999.0000,9,   -999.0,  9,  -999.00,9,   -999.0,  -999.00,9,  -999.00,9,  -999.00,9,  -999.00,9,   -999.0,-999.0000, -999,9, 1250,   3.1246,  27.3982,   -999.0,9
       KS06-06,  NONE,KS-1677,  1,      1,02-16007,2,20060805,1004, 30.0087, 144.9858, 5906,   1522.9,   2.6121,  34.4837,2,   -999.0,9,  34.4821,2,     51.0,2,   147.19,2,  -999.00,9,    42.24,2,     0.00,2,     3.05,2, -999.000,9, -999.000,9,  -999.00,9,   -999.0,9,   -999.0,9,-999.0000,9,   -999.0,  9,  -999.00,9,   -999.0,  -999.00,9,  -999.00,9,  -999.00,9,  -999.00,9,   -999.0,-999.0000, -999,9, 1507,   2.5071,  27.5164,   -999.0,9
       KS06-06,  NONE,KS-1678,  1,     20,02-16026,2,20060805,1800, 30.9930, 143.9923, 5753,      5.3,  28.3611,  34.0496,2,   -999.0,9,-999.0000,9,    202.0,2,     1.62,2,  -999.00,9,     0.00,2,     0.00,2,     0.00,2, -999.000,9, -999.000,9,  -999.00,9,   -999.0,9,   -999.0,9,-999.0000,9,   -999.0,  9,  -999.00,9,   -999.0,  -999.00,9,  -999.00,9,     0.07,2,     0.01,2,   -999.0,-999.0000, -999,9,    5,  28.3599,  21.5624,   -999.0,9
       KS06-06,  NONE,KS-1678,  1,     19,02-19378,2,20060805,1759, 30.9930, 143.9923, 5753,     10.2,  28.3453,  34.0500,2,   -999.0,9,-999.0000,9,    200.0,2,     1.61,2,  -999.00,9,     0.00,2,     0.00,2,     0.00,2, -999.000,9, -999.000,9,  -999.00,9,   -999.0,9,   -999.0,9,-999.0000,9,   -999.0,  9,  -999.00,9,   -999.0,  -999.00,9,  -999.00,9,     0.07,2,     0.01,2,   -999.0,-999.0000, -999,9,   10,  28.3429,  21.5683,   -999.0,9
       KS06-06,  NONE,KS-1678,  1,     18,02-19377,2,20060805,1757, 30.9930, 143.9923, 5753,     24.7,  28.1730,  34.1371,2,   -999.0,9,-999.0000,9,    202.0,2,     1.55,2,  -999.00,9,     0.00,2,     0.00,2,     0.00,2, -999.000,9, -999.000,9,  -999.00,9,   -999.0,9,   -999.0,9,-999.0000,9,   -999.0,  9,  -999.00,9,   -999.0,  -999.00,9,  -999.00,9,     0.07,2,     0.01,2,   -999.0,-999.0000, -999,9,   24,  28.1672,  21.6913,   -999.0,9
       KS06-06,  NONE,KS-1678,  1,     17,02-16023,2,20060805,1755, 30.9930, 143.9923, 5753,     51.1,  26.8270,  34.3592,2,   -999.0,9,-999.0000,9,    208.0,2,     1.58,2,  -999.00,9,     0.00,2,     0.00,2,     0.00,2, -999.000,9, -999.000,9,  -999.00,9,   -999.0,9,   -999.0,9,-999.0000,9,   -999.0,  9,  -999.00,9,   -999.0,  -999.00,9,  -999.00,9,     0.13,2,     0.04,2,   -999.0,-999.0000, -999,9,   51,  26.8154,  22.2938,   -999.0,9
       KS06-06,  NONE,KS-1678,  1,     16,02-16022,2,20060805,1753, 30.9930, 143.9923, 5753,     75.8,  24.8433,  34.5514,2,   -999.0,9,-999.0000,9,    197.0,2,     2.14,2,  -999.00,9,     0.98,2,     0.21,2,     0.06,2, -999.000,9, -999.000,9,  -999.00,9,   -999.0,9,   -999.0,9,-999.0000,9,   -999.0,  9,  -999.00,9,   -999.0,  -999.00,9,  -999.00,9,     0.47,2,     0.34,2,   -999.0,-999.0000, -999,9,   75,  24.8270,  23.0546,   -999.0,9
       KS06-06,  NONE,KS-1678,  1,     15,02-16021,2,20060805,1749, 30.9930, 143.9923, 5753,    100.2,  23.9545,  34.5948,2,   -999.0,9,-999.0000,9,    197.0,2,     2.08,2,  -999.00,9,     0.98,2,     0.25,2,     0.08,2, -999.000,9, -999.000,9,  -999.00,9,   -999.0,9,   -999.0,9,-999.0000,9,   -999.0,  9,  -999.00,9,   -999.0,  -999.00,9,  -999.00,9,     0.19,2,     0.27,2,   -999.0,-999.0000, -999,9,   99,  23.9335,  23.3543,   -999.0,9
       KS06-06,  NONE,KS-1678,  1,     14,02-16020,2,20060805,1747, 30.9930, 143.9923, 5753,    125.6,  23.0313,  34.6553,2,   -999.0,9,-999.0000,9,    195.0,2,     2.59,2,  -999.00,9,     1.95,2,     0.14,2,     0.13,2, -999.000,9, -999.000,9,  -999.00,9,   -999.0,9,   -999.0,9,-999.0000,9,   -999.0,  9,  -999.00,9,   -999.0,  -999.00,9,  -999.00,9,     0.10,2,     0.20,2,   -999.0,-999.0000, -999,9,  125,  23.0057,  23.6705,   -999.0,9
       KS06-06,  NONE,KS-1678,  1,     13,02-16019,2,20060805,1746, 30.9930, 143.9923, 5753,    149.9,  21.5764,  34.7545,2,   -999.0,9,-999.0000,9,    200.0,2,     2.79,2,  -999.00,9,     2.15,2,     0.06,2,     0.13,2, -999.000,9, -999.000,9,  -999.00,9,   -999.0,9,   -999.0,9,-999.0000,9,   -999.0,  9,  -999.00,9,   -999.0,  -999.00,9,  -999.00,9,     0.03,2,     0.14,2,   -999.0,-999.0000, -999,9,  149,  21.5472,  24.1572,   -999.0,9
       KS06-06,  NONE,KS-1678,  1,     12,02-16018,2,20060805,1744, 30.9930, 143.9923, 5753,    202.0,  19.6634,  34.8382,2,   -999.0,9,-999.0000,9,    219.0,2,     2.47,2,  -999.00,9,     1.07,2,     0.11,2,     0.08,2, -999.000,9, -999.000,9,  -999.00,9,   -999.0,9,   -999.0,9,-999.0000,9,   -999.0,  9,  -999.00,9,   -999.0,  -999.00,9,  -999.00,9,     0.01,2,     0.07,2,   -999.0,-999.0000, -999,9,  201,  19.6265,  24.7361,   -999.0,9
       KS06-06,  NONE,KS-1678,  1,     11,02-19376,2,20060805,1742, 30.9930, 143.9923, 5753,    251.5,  18.5231,  34.8350,2,   -999.0,9,-999.0000,9,    205.0,2,     3.60,2,  -999.00,9,     3.61,2,     0.01,2,     0.21,2, -999.000,9, -999.000,9,  -999.00,9,   -999.0,9,   -999.0,9,-999.0000,9,   -999.0,  9,  -999.00,9,   -999.0,  -999.00,9,  -999.00,9,     0.00,4,     0.02,4,   -999.0,-999.0000, -999,9,  250,  18.4790,  25.0267,   -999.0,9
       KS06-06,  NONE,KS-1678,  1,     10,02-19375,2,20060805,1741, 30.9930, 143.9923, 5753,    303.0,  17.7862,  34.8119,2,   -999.0,9,-999.0000,9,    213.0,2,     3.79,2,  -999.00,9,     3.71,2,     0.01,2,     0.22,2, -999.000,9, -999.000,9,  -999.00,9,   -999.0,9,   -999.0,9,-999.0000,9,   -999.0,  9,  -999.00,9,   -999.0,  -999.00,9,  -999.00,9,     0.00,4,     0.02,4,   -999.0,-999.0000, -999,9,  301,  17.7345,  25.1931,   -999.0,9
       KS06-06,  NONE,KS-1678,  1,      9,02-16015,2,20060805,1738, 30.9930, 143.9923, 5753,    402.3,  15.8363,  34.6540,2,   -999.0,9,-999.0000,9,    187.0,2,    10.00,2,  -999.00,9,     9.26,2,     0.00,2,     0.59,2, -999.000,9, -999.000,9,  -999.00,9,   -999.0,9,   -999.0,9,-999.0000,9,   -999.0,  9,  -999.00,9,   -999.0,  -999.00,9,  -999.00,9,  -999.00,9,  -999.00,9,   -999.0,-999.0000, -999,9,  399,  15.7729,  25.5331,   -999.0,9
       KS06-06,  NONE,KS-1678,  1,      8,02-16014,2,20060805,1736, 30.9930, 143.9923, 5753,    505.0,  13.4754,  34.4975,2,   -999.0,9,-999.0000,9,    174.0,2,    19.18,2,  -999.00,9,    14.23,2,     0.00,2,     0.96,2, -999.000,9, -999.000,9,  -999.00,9,   -999.0,9,   -999.0,9,-999.0000,9,   -999.0,  9,  -999.00,9,   -999.0,  -999.00,9,  -999.00,9,  -999.00,9,  -999.00,9,   -999.0,-999.0000, -999,9,  501,  13.4038,  25.9220,   -999.0,9
       KS06-06,  NONE,KS-1678,  1,      7,02-19374,2,20060805,1733, 30.9930, 143.9923, 5753,    605.6,  10.6057,  34.3020,2,   -999.0,9,-999.0000,9,    168.0,2,    30.65,2,  -999.00,9,    19.58,2,     0.00,2,     1.34,2, -999.000,9, -999.000,9,  -999.00,9,   -999.0,9,   -999.0,9,-999.0000,9,   -999.0,  9,  -999.00,9,   -999.0,  -999.00,9,  -999.00,9,  -999.00,9,  -999.00,9,   -999.0,-999.0000, -999,9,  601,  10.5319,  26.3151,   -999.0,9
       KS06-06,  NONE,KS-1678,  1,      6,02-19373,2,20060805,1730, 30.9930, 143.9923, 5753,    705.6,   7.9972,  34.1445,2,   -999.0,9,-999.0000,9,    153.0,2,    47.16,2,  -999.00,9,    25.42,2,     0.00,2,     1.79,2, -999.000,9, -999.000,9,  -999.00,9,   -999.0,9,   -999.0,9,-999.0000,9,   -999.0,  9,  -999.00,9,   -999.0,  -999.00,9,  -999.00,9,  -999.00,9,  -999.00,9,   -999.0,-999.0000, -999,9,  700,   7.9244,  26.6131,   -999.0,9
       KS06-06,  NONE,KS-1678,  1,      5,02-16011,2,20060805,1728, 30.9930, 143.9923, 5753,    806.5,   6.2927,  34.2035,2,   -999.0,9,-999.0000,9,    106.0,2,    74.37,2,  -999.00,9,    32.53,2,     0.00,2,     2.33,2, -999.000,9, -999.000,9,  -999.00,9,   -999.0,9,   -999.0,9,-999.0000,9,   -999.0,  9,  -999.00,9,   -999.0,  -999.00,9,  -999.00,9,  -999.00,9,  -999.00,9,   -999.0,-999.0000, -999,9,  799,   6.2191,  26.8953,   -999.0,9
       KS06-06,  NONE,KS-1678,  1,      4,02-16010,2,20060805,1725, 30.9930, 143.9923, 5753,    907.8,   4.7473,  34.1714,2,   -999.0,9,-999.0000,9,     79.0,2,    93.60,2,  -999.00,9,    37.19,2,     0.00,2,     2.70,2, -999.000,9, -999.000,9,  -999.00,9,   -999.0,9,   -999.0,9,-999.0000,9,   -999.0,  9,  -999.00,9,   -999.0,  -999.00,9,  -999.00,9,  -999.00,9,  -999.00,9,   -999.0,-999.0000, -999,9,  900,   4.6745,  27.0550,   -999.0,9
       KS06-06,  NONE,KS-1678,  1,      3,02-16009,3,20060805,1723, 30.9930, 143.9923, 5753,   1009.0,   4.0513,  34.2468,2,   -999.0,9,-999.0000,9,     58.0,2,   110.58,2,  -999.00,9,    39.72,2,     0.00,2,     2.90,2, -999.000,9, -999.000,9,  -999.00,9,   -999.0,9,   -999.0,9,-999.0000,9,   -999.0,  9,  -999.00,9,   -999.0,  -999.00,9,  -999.00,9,  -999.00,9,  -999.00,9,   -999.0,-999.0000, -999,9, 1000,   3.9749,  27.1895,   -999.0,9
       KS06-06,  NONE,KS-1678,  1,      2,02-16008,2,20060805,1717, 30.9930, 143.9923, 5753,   1260.5,   3.2261,  34.3885,2,   -999.0,9,-999.0000,9,     46.0,2,   132.84,2,  -999.00,9,    41.76,2,     0.00,2,     3.02,2, -999.000,9, -999.000,9,  -999.00,9,   -999.0,9,   -999.0,9,-999.0000,9,   -999.0,  9,  -999.00,9,   -999.0,  -999.00,9,  -999.00,9,  -999.00,9,  -999.00,9,   -999.0,-999.0000, -999,9, 1248,   3.1360,  27.3844,   -999.0,9
       KS06-06,  NONE,KS-1678,  1,      1,02-16007,2,20060805,1711, 30.9930, 143.9923, 5753,   1515.2,   2.6165,  34.4806,2,   -999.0,9,-999.0000,9,     47.0,2,   148.38,2,  -999.00,9,    42.14,2,     0.00,2,     3.05,2, -999.000,9, -999.000,9,  -999.00,9,   -999.0,9,   -999.0,9,-999.0000,9,   -999.0,  9,  -999.00,9,   -999.0,  -999.00,9,  -999.00,9,  -999.00,9,  -999.00,9,   -999.0,-999.0000, -999,9, 1499,   2.5121,  27.5135,   -999.0,9