BOTTLE,20131214MIRCJHATS
EXPOCODE,SECT_ID,STNNBR,CASTNO,SAMPNO,BTLNBR,BTLNBR_FLAG_W,DATE,TIME,LATITUDE,LONGITUDE,DEPTH,CTDPRS,CTDTMP,CTDSAL,CTDSAL_FLAG_W,CTDOXY,CTDOXY_FLAG_W,SALNTY,SALNTY_FLAG_W,OXYGEN,OXYGEN_FLAG_W,SILCAT,SILCAT_FLAG_W,NITRAT,NITRAT_FLAG_W,NO2+NO3,NO2+NO3_FLAG_W,NITRIT,NITRIT_FLAG_W,PHSPHT,PHSPHT_FLAG_W,CFC-11,CFC-11_FLAG_W,CFC-12,CFC-12_FLAG_W,DELC13,DELC13_FLAG_W,TCARBN,TCARBN_FLAG_W,ALKALI,ALKALI_FLAG_W,PH,PH_FLAG_W,PH_TMP,PH_SCALE,PH_NBS,PH_NBS_FLAG_W,C13ERR,TOTALP,TOTALP_FLAG_W,AMMONI,AMMONI_FLAG_W,CHLORA,CHLORA_FLAG_W,PPHYTN,PPHYTN_FLAG_W,REVPRS,REVTMP,DEPTH_,DEPTH_FLAG,CTDDEP,THETA,SIGTHT,DOC,DOC_FLAG_W
,,,,,,,GMT,GMT,,,METER,DBAR,ITS-90,PSS-78,,UMOL/KG,,PSS-78,,UMOL/KG,,UMOL/KG,,UMOL/KG,,UMOL/KG,,UMOL/KG,,UMOL/KG,,PMOL/KG,,PMOL/KG,,/MILLE,,UMOL/KG,,UMOL/KG,,25_DEG_C,,DEG_C,,,,/MILLE,UMOL/KG,,UMOL/KG,,UG/L,,UG/L,,DBAR,ITS-90,METERS,,METERS,DEG_C,,UMOL/L,
       KS06-06,  NONE,KS-1665,  1,     22,02-19379,2,20060801,0046, 15.0025, 149.3077, 5618,      4.6,  29.3551,  34.6476,2,   -999.0,9,  34.6438,2,    200.0,2,     1.28,2,  -999.00,9,     0.00,2,     0.00,2,     0.01,2, -999.000,9, -999.000,9,  -999.00,9,   -999.0,9,   -999.0,9,-999.0000,9,   -999.0,  9,  -999.00,9,   -999.0,  -999.00,9,  -999.00,9,  -999.00,9,  -999.00,9,   -999.0,-999.0000, -999,9,    5,  29.3540,  21.6808,   -999.0,9
       KS06-06,  NONE,KS-1665,  1,     21,02-16027,2,20060801,0045, 15.0025, 149.3077, 5618,      9.7,  29.3345,  34.6464,2,   -999.0,9,-999.0000,9,    199.0,2,     1.27,2,  -999.00,9,     0.00,2,     0.00,2,     0.01,2, -999.000,9, -999.000,9,  -999.00,9,   -999.0,9,   -999.0,9,-999.0000,9,   -999.0,  9,  -999.00,9,   -999.0,  -999.00,9,  -999.00,9,  -999.00,9,  -999.00,9,   -999.0,-999.0000, -999,9,   10,  29.3321,  21.6874,   -999.0,9
       KS06-06,  NONE,KS-1665,  1,     20,02-16026,2,20060801,0043, 15.0025, 149.3077, 5618,     25.0,  29.3025,  34.6462,2,   -999.0,9,-999.0000,9,    200.0,2,     1.26,2,  -999.00,9,     0.00,2,     0.00,2,     0.01,2, -999.000,9, -999.000,9,  -999.00,9,   -999.0,9,   -999.0,9,-999.0000,9,   -999.0,  9,  -999.00,9,   -999.0,  -999.00,9,  -999.00,9,  -999.00,9,  -999.00,9,   -999.0,-999.0000, -999,9,   25,  29.2964,  21.6992,   -999.0,9
       KS06-06,  NONE,KS-1665,  1,     19,02-19378,2,20060801,0039, 15.0025, 149.3077, 5618,     49.8,  29.3600,  34.6989,2,   -999.0,9,-999.0000,9,    199.0,2,     1.26,2,  -999.00,9,     0.00,2,     0.00,2,     0.02,2, -999.000,9, -999.000,9,  -999.00,9,   -999.0,9,   -999.0,9,-999.0000,9,   -999.0,  9,  -999.00,9,   -999.0,  -999.00,9,  -999.00,9,  -999.00,9,  -999.00,9,   -999.0,-999.0000, -999,9,   50,  29.3478,  21.7214,   -999.0,9
       KS06-06,  NONE,KS-1665,  1,     18,02-19377,2,20060801,0033, 15.0025, 149.3077, 5618,     75.2,  27.9713,  34.7858,2,   -999.0,9,-999.0000,9,    212.0,2,     1.31,2,  -999.00,9,     0.00,2,     0.00,2,     0.03,2, -999.000,9, -999.000,9,  -999.00,9,   -999.0,9,   -999.0,9,-999.0000,9,   -999.0,  9,  -999.00,9,   -999.0,  -999.00,9,  -999.00,9,  -999.00,9,  -999.00,9,   -999.0,-999.0000, -999,9,   75,  27.9536,  22.2487,   -999.0,9
       KS06-06,  NONE,KS-1665,  1,     17,02-16023,2,20060801,0030, 15.0025, 149.3077, 5618,    100.2,  27.0590,  34.8746,2,   -999.0,9,  34.8707,2,    210.0,2,     1.25,2,  -999.00,9,     0.00,2,     0.00,2,     0.02,2, -999.000,9, -999.000,9,  -999.00,9,   -999.0,9,   -999.0,9,-999.0000,9,   -999.0,  9,  -999.00,9,   -999.0,  -999.00,9,  -999.00,9,  -999.00,9,  -999.00,9,   -999.0,-999.0000, -999,9,  100,  27.0360,  22.6118,   -999.0,9
       KS06-06,  NONE,KS-1665,  1,     16,02-16022,2,20060801,0029, 15.0025, 149.3077, 5618,    125.5,  26.0764,  34.9108,2,   -999.0,9,-999.0000,9,    204.0,2,     1.30,2,  -999.00,9,     0.00,2,     0.00,2,     0.03,2, -999.000,9, -999.000,9,  -999.00,9,   -999.0,9,   -999.0,9,-999.0000,9,   -999.0,  9,  -999.00,9,   -999.0,  -999.00,9,  -999.00,9,  -999.00,9,  -999.00,9,   -999.0,-999.0000, -999,9,  125,  26.0483,  22.9509,   -999.0,9
       KS06-06,  NONE,KS-1665,  1,     15,02-16021,2,20060801,0027, 15.0025, 149.3077, 5618,    150.8,  25.3577,  35.0069,2,   -999.0,9,-999.0000,9,    193.0,2,     1.40,2,  -999.00,9,     0.29,2,     0.11,2,     0.07,2, -999.000,9, -999.000,9,  -999.00,9,   -999.0,9,   -999.0,9,-999.0000,9,   -999.0,  9,  -999.00,9,   -999.0,  -999.00,9,  -999.00,9,  -999.00,9,  -999.00,9,   -999.0,-999.0000, -999,9,  150,  25.3246,  23.2473,   -999.0,9
       KS06-06,  NONE,KS-1665,  1,     14,02-16020,2,20060801,0026, 15.0025, 149.3077, 5618,    200.8,  21.2477,  35.0496,2,   -999.0,9,  33.0959,4,    184.0,2,     2.31,2,  -999.00,9,     2.05,2,     0.01,2,     0.19,2, -999.000,9, -999.000,9,  -999.00,9,   -999.0,9,   -999.0,9,-999.0000,9,   -999.0,  9,  -999.00,9,   -999.0,  -999.00,9,  -999.00,9,  -999.00,9,  -999.00,9,   -999.0,-999.0000, -999,9,  199,  21.2089,  24.4746,   -999.0,9
       KS06-06,  NONE,KS-1665,  1,     13,02-16019,2,20060801,0019, 15.0025, 149.3077, 5618,    252.4,  18.1186,  34.8463,2,   -999.0,9,-999.0000,9,    195.0,2,     3.79,2,  -999.00,9,     4.29,2,     0.00,2,     0.30,2, -999.000,9, -999.000,9,  -999.00,9,   -999.0,9,   -999.0,9,-999.0000,9,   -999.0,  9,  -999.00,9,   -999.0,  -999.00,9,  -999.00,9,  -999.00,9,  -999.00,9,   -999.0,-999.0000, -999,9,  251,  18.0750,  25.1358,   -999.0,9
       KS06-06,  NONE,KS-1665,  1,     12,02-16018,2,20060801,0016, 15.0025, 149.3077, 5618,    303.0,  15.0726,  34.5716,2,   -999.0,9,  34.5792,4,    193.0,2,     8.29,2,  -999.00,9,     8.97,2,     0.00,2,     0.61,2, -999.000,9, -999.000,9,  -999.00,9,   -999.0,9,   -999.0,9,-999.0000,9,   -999.0,  9,  -999.00,9,   -999.0,  -999.00,9,  -999.00,9,  -999.00,9,  -999.00,9,   -999.0,-999.0000, -999,9,  301,  15.0266,  25.6358,   -999.0,9
       KS06-06,  NONE,KS-1665,  1,     11,02-19376,2,20060801,0013, 15.0025, 149.3077, 5618,    403.5,   9.4567,  34.2234,2,   -999.0,9,  34.2229,2,    132.0,2,    32.07,2,  -999.00,9,    24.16,2,     0.00,2,     1.78,2, -999.000,9, -999.000,9,  -999.00,9,   -999.0,9,   -999.0,9,-999.0000,9,   -999.0,  9,  -999.00,9,   -999.0,  -999.00,9,  -999.00,9,  -999.00,9,  -999.00,9,   -999.0,-999.0000, -999,9,  401,   9.4114,  26.4436,   -999.0,9
       KS06-06,  NONE,KS-1665,  1,     10,02-19375,2,20060801,0008, 15.0025, 149.3077, 5618,    504.2,   7.4137,  34.3700,2,   -999.0,9,  34.3694,2,     59.0,2,    55.13,2,  -999.00,9,    35.16,2,     0.00,2,     2.61,2, -999.000,9, -999.000,9,  -999.00,9,   -999.0,9,   -999.0,9,-999.0000,9,   -999.0,  9,  -999.00,9,   -999.0,  -999.00,9,  -999.00,9,  -999.00,9,  -999.00,9,   -999.0,-999.0000, -999,9,  501,   7.3643,  26.8715,   -999.0,9
       KS06-06,  NONE,KS-1665,  1,      9,02-16015,2,20060801,0005, 15.0025, 149.3077, 5618,    606.1,   6.5098,  34.4339,2,   -999.0,9,  34.4323,2,     56.0,2,    66.33,2,  -999.00,9,    37.39,2,     0.00,2,     2.76,2, -999.000,9, -999.000,9,  -999.00,9,   -999.0,9,   -999.0,9,-999.0000,9,   -999.0,  9,  -999.00,9,   -999.0,  -999.00,9,  -999.00,9,  -999.00,9,  -999.00,9,   -999.0,-999.0000, -999,9,  602,   6.4541,  27.0465,   -999.0,9
       KS06-06,  NONE,KS-1665,  1,      8,02-16014,2,20060801,0000, 15.0025, 149.3077, 5618,    707.3,   5.8095,  34.4759,2,   -999.0,9,  34.4726,2,     59.0,2,    75.34,2,  -999.00,9,    38.55,2,     0.00,2,     2.83,2, -999.000,9, -999.000,9,  -999.00,9,   -999.0,9,   -999.0,9,-999.0000,9,   -999.0,  9,  -999.00,9,   -999.0,  -999.00,9,  -999.00,9,  -999.00,9,  -999.00,9,   -999.0,-999.0000, -999,9,  702,   5.7477,  27.1702,   -999.0,9
       KS06-06,  NONE,KS-1665,  1,      7,02-19374,2,20060731,2357, 15.0025, 149.3077, 5618,    810.1,   5.3133,  34.4968,2,   -999.0,9,  34.4947,2,     62.0,2,    83.03,2,  -999.00,9,    39.23,2,     0.00,2,     2.87,2, -999.000,9, -999.000,9,  -999.00,9,   -999.0,9,   -999.0,9,-999.0000,9,   -999.0,  9,  -999.00,9,   -999.0,  -999.00,9,  -999.00,9,  -999.00,9,  -999.00,9,   -999.0,-999.0000, -999,9,  804,   5.2450,  27.2477,   -999.0,9
       KS06-06,  NONE,KS-1665,  1,      6,02-19373,2,20060731,2353, 15.0025, 149.3077, 5618,    908.1,   4.7782,  34.5178,2,   -999.0,9,  34.5164,2,     67.0,2,    92.10,2,  -999.00,9,    39.71,2,     0.00,2,     2.90,2, -999.000,9, -999.000,9,  -999.00,9,   -999.0,9,   -999.0,9,-999.0000,9,   -999.0,  9,  -999.00,9,   -999.0,  -999.00,9,  -999.00,9,  -999.00,9,  -999.00,9,   -999.0,-999.0000, -999,9,  901,   4.7047,  27.3266,   -999.0,9
       KS06-06,  NONE,KS-1665,  1,      5,02-16011,2,20060731,2350, 15.0025, 149.3077, 5618,   1010.6,   4.5088,  34.5279,2,   -999.0,9,  34.5269,2,     72.0,2,    96.82,2,  -999.00,9,    39.62,2,     0.00,2,     2.89,2, -999.000,9, -999.000,9,  -999.00,9,   -999.0,9,   -999.0,9,-999.0000,9,   -999.0,  9,  -999.00,9,   -999.0,  -999.00,9,  -999.00,9,  -999.00,9,  -999.00,9,   -999.0,-999.0000, -999,9, 1002,   4.4283,  27.3651,   -999.0,9
       KS06-06,  NONE,KS-1665,  1,      4,02-16010,2,20060731,2343, 15.0025, 149.3077, 5618,   1262.5,   3.6397,  34.5606,2,   -999.0,9,  34.5596,2,     82.0,2,   113.09,2,  -999.00,9,    39.71,2,     0.00,2,     2.88,2, -999.000,9, -999.000,9,  -999.00,9,   -999.0,9,   -999.0,9,-999.0000,9,   -999.0,  9,  -999.00,9,   -999.0,  -999.00,9,  -999.00,9,  -999.00,9,  -999.00,9,   -999.0,-999.0000, -999,9, 1251,   3.5451,  27.4826,   -999.0,9
       KS06-06,  NONE,KS-1665,  1,      3,02-16009,2,20060731,2337, 15.0025, 149.3077, 5618,   1513.9,   2.9806,  34.5855,2,   -999.0,9,  34.5844,2,     93.0,2,   126.03,2,  -999.00,9,    39.51,2,     0.00,2,     2.85,2, -999.000,9, -999.000,9,  -999.00,9,   -999.0,9,   -999.0,9,-999.0000,9,   -999.0,  9,  -999.00,9,   -999.0,  -999.00,9,  -999.00,9,  -999.00,9,  -999.00,9,   -999.0,-999.0000, -999,9, 1500,   2.8718,  27.5658,   -999.0,9
       KS06-06,  NONE,KS-1665,  1,      2,02-16008,2,20060731,2331, 15.0025, 149.3077, 5618,   1766.5,   2.5442,  34.6064,2,   -999.0,9,  34.6053,2,    101.0,2,   134.51,2,  -999.00,9,    39.22,2,     0.00,2,     2.81,2, -999.000,9, -999.000,9,  -999.00,9,   -999.0,9,   -999.0,9,-999.0000,9,   -999.0,  9,  -999.00,9,   -999.0,  -999.00,9,  -999.00,9,  -999.00,9,  -999.00,9,   -999.0,-999.0000, -999,9, 1749,   2.4196,  27.6220,   -999.0,9
       KS06-06,  NONE,KS-1665,  1,      1,02-16007,2,20060731,2314, 15.0025, 149.3077, 5618,   2026.2,   2.2386,  34.6272,2,   -999.0,9,  34.6265,2,    110.0,2,   138.98,2,  -999.00,9,    38.92,2,     0.00,2,     2.78,2, -999.000,9, -999.000,9,  -999.00,9,   -999.0,9,   -999.0,9,-999.0000,9,   -999.0,  9,  -999.00,9,   -999.0,  -999.00,9,  -999.00,9,  -999.00,9,  -999.00,9,   -999.0,-999.0000, -999,9, 2005,   2.0963,  27.6653,   -999.0,9