BOTTLE,20131214MIRCJHATS
EXPOCODE,SECT_ID,STNNBR,CASTNO,SAMPNO,BTLNBR,BTLNBR_FLAG_W,DATE,TIME,LATITUDE,LONGITUDE,DEPTH,CTDPRS,CTDTMP,CTDSAL,CTDSAL_FLAG_W,CTDOXY,CTDOXY_FLAG_W,SALNTY,SALNTY_FLAG_W,OXYGEN,OXYGEN_FLAG_W,SILCAT,SILCAT_FLAG_W,NITRAT,NITRAT_FLAG_W,NO2+NO3,NO2+NO3_FLAG_W,NITRIT,NITRIT_FLAG_W,PHSPHT,PHSPHT_FLAG_W,CFC-11,CFC-11_FLAG_W,CFC-12,CFC-12_FLAG_W,DELC13,DELC13_FLAG_W,TCARBN,TCARBN_FLAG_W,ALKALI,ALKALI_FLAG_W,PH,PH_FLAG_W,PH_TMP,PH_SCALE,PH_NBS,PH_NBS_FLAG_W,C13ERR,TOTALP,TOTALP_FLAG_W,AMMONI,AMMONI_FLAG_W,CHLORA,CHLORA_FLAG_W,PPHYTN,PPHYTN_FLAG_W,REVPRS,REVTMP,DEPTH_,DEPTH_FLAG,CTDDEP,THETA,SIGTHT,DOC,DOC_FLAG_W
,,,,,,,GMT,GMT,,,METER,DBAR,ITS-90,PSS-78,,UMOL/KG,,PSS-78,,UMOL/KG,,UMOL/KG,,UMOL/KG,,UMOL/KG,,UMOL/KG,,UMOL/KG,,PMOL/KG,,PMOL/KG,,/MILLE,,UMOL/KG,,UMOL/KG,,25_DEG_C,,DEG_C,,,,/MILLE,UMOL/KG,,UMOL/KG,,UG/L,,UG/L,,DBAR,ITS-90,METERS,,METERS,DEG_C,,UMOL/L,
       KS06-06,  165E,KS-1616,  1,     22,02-19379,2,20060625,0803, 18.0087, 164.9900, 5440,      5.5,  28.5281,  34.7520,2,   -999.0,9,  34.7520,2,    200.0,2,     1.05,2,  -999.00,9,     0.00,2,     0.00,2,     0.02,2, -999.000,9, -999.000,9,  -999.00,9,   1937.8,3,   -999.0,9,-999.0000,9,   -999.0,  9,     8.24,2,   -999.0,  -999.00,9,  -999.00,9,     0.06,2,     0.01,2,   -999.0,-999.0000, -999,9,    5,  28.5268,  22.0351,   -999.0,9
       KS06-06,  165E,KS-1616,  1,     21,02-16027,2,20060625,0802, 18.0087, 164.9900, 5440,     10.6,  28.5111,  34.8276,2,   -999.0,9,-999.0000,9,    200.0,2,     0.94,2,  -999.00,9,     0.00,2,     0.00,2,     0.02,2, -999.000,9, -999.000,9,  -999.00,9,   1943.4,3,   -999.0,9,-999.0000,9,   -999.0,  9,     8.25,2,   -999.0,  -999.00,9,  -999.00,9,     0.07,2,     0.01,2,   -999.0,-999.0000, -999,9,   11,  28.5086,  22.0979,   -999.0,9
       KS06-06,  165E,KS-1616,  1,     20,02-16026,2,20060625,0800, 18.0087, 164.9900, 5440,     25.4,  28.3690,  34.8697,2,   -999.0,9,-999.0000,9,    201.0,2,     1.04,2,  -999.00,9,     0.00,2,     0.00,2,     0.02,2, -999.000,9, -999.000,9,  -999.00,9,   1944.1,3,   -999.0,9,-999.0000,9,   -999.0,  9,     8.26,2,   -999.0,  -999.00,9,  -999.00,9,     0.07,2,     0.01,2,   -999.0,-999.0000, -999,9,   25,  28.3630,  22.1776,   -999.0,9
       KS06-06,  165E,KS-1616,  1,     19,02-19378,2,20060625,0756, 18.0087, 164.9900, 5440,     51.1,  27.9967,  34.9143,2,   -999.0,9,-999.0000,9,    205.0,2,     1.04,2,  -999.00,9,     0.00,2,     0.00,2,     0.02,2, -999.000,9, -999.000,9,  -999.00,9,   1946.9,3,   -999.0,9,-999.0000,9,   -999.0,  9,     8.25,2,   -999.0,  -999.00,9,  -999.00,9,     0.08,2,     0.02,2,   -999.0,-999.0000, -999,9,   51,  27.9847,  22.3352,   -999.0,9
       KS06-06,  165E,KS-1616,  1,     18,02-19377,2,20060625,0755, 18.0087, 164.9900, 5440,     74.6,  27.1706,  34.9673,2,   -999.0,9,-999.0000,9,    210.0,2,     0.98,2,  -999.00,9,     0.00,2,     0.00,2,     0.01,2, -999.000,9, -999.000,9,  -999.00,9,   1948.5,3,   -999.0,9,-999.0000,9,   -999.0,  9,     8.25,2,   -999.0,  -999.00,9,  -999.00,9,     0.13,2,     0.04,2,   -999.0,-999.0000, -999,9,   74,  27.1534,  22.6441,   -999.0,9
       KS06-06,  165E,KS-1616,  1,     17,02-16023,2,20060625,0754, 18.0087, 164.9900, 5440,    103.5,  25.6863,  35.0756,2,   -999.0,9,  35.0591,4,    206.0,2,     1.13,2,  -999.00,9,     0.00,2,     0.00,2,     0.01,2, -999.000,9, -999.000,9,  -999.00,9,   1966.3,2,   -999.0,9,-999.0000,9,   -999.0,  9,     8.23,2,   -999.0,  -999.00,9,  -999.00,9,     0.22,2,     0.12,2,   -999.0,-999.0000, -999,9,  103,  25.6634,  23.1949,   -999.0,9
       KS06-06,  165E,KS-1616,  1,     16,02-16022,2,20060625,0753, 18.0087, 164.9900, 5440,    125.5,  24.7996,  35.2552,2,   -999.0,9,-999.0000,9,    208.0,2,     1.18,2,  -999.00,9,     0.00,2,     0.00,2,     0.00,2, -999.000,9, -999.000,9,  -999.00,9,   1984.2,2,   -999.0,9,-999.0000,9,   -999.0,  9,     8.22,2,   -999.0,  -999.00,9,  -999.00,9,     0.20,2,     0.28,2,   -999.0,-999.0000, -999,9,  125,  24.7725,  23.6032,   -999.0,9
       KS06-06,  165E,KS-1616,  1,     15,02-16021,2,20060625,0752, 18.0087, 164.9900, 5440,    150.7,  23.9179,  35.2530,2,   -999.0,9,-999.0000,9,    208.0,2,     1.34,2,  -999.00,9,     0.10,2,     0.06,2,     0.01,2, -999.000,9, -999.000,9,  -999.00,9,   1991.0,2,   -999.0,9,-999.0000,9,   -999.0,  9,     8.21,2,   -999.0,  -999.00,9,  -999.00,9,     0.10,2,     0.16,2,   -999.0,-999.0000, -999,9,  150,  23.8862,  23.8666,   -999.0,9
       KS06-06,  165E,KS-1616,  1,     14,02-16020,2,20060625,0751, 18.0087, 164.9900, 5440,    204.3,  20.2866,  35.0271,2,   -999.0,9,  35.0378,4,    188.0,2,     2.49,2,  -999.00,9,     2.15,2,     0.01,2,     0.19,2, -999.000,9, -999.000,9,  -999.00,9,   2039.0,4,   -999.0,9,-999.0000,9,   -999.0,  9,     8.11,2,   -999.0,  -999.00,9,  -999.00,9,     0.02,2,     0.05,2,   -999.0,-999.0000, -999,9,  203,  20.2484,  24.7166,   -999.0,9
       KS06-06,  165E,KS-1616,  1,     13,02-16019,2,20060625,0749, 18.0087, 164.9900, 5440,    252.7,  17.5476,  34.8065,2,   -999.0,9,-999.0000,9,    202.0,2,     4.01,2,  -999.00,9,     4.39,2,     0.00,2,     0.28,2, -999.000,9, -999.000,9,  -999.00,9,   2042.3,2,   -999.0,9,-999.0000,9,   -999.0,  9,     8.09,2,   -999.0,  -999.00,9,  -999.00,9,     0.00,2,     0.01,2,   -999.0,-999.0000, -999,9,  251,  17.5050,  25.2447,   -999.0,9
       KS06-06,  165E,KS-1616,  1,     12,02-16018,2,20060625,0748, 18.0087, 164.9900, 5440,    303.3,  15.8622,  34.6494,2,   -999.0,9,  34.6541,2,    203.0,2,     6.21,2,  -999.00,9,     6.73,2,     0.00,2,     0.44,2, -999.000,9, -999.000,9,  -999.00,9,   2055.3,2,   -999.0,9,-999.0000,9,   -999.0,  9,     8.06,2,   -999.0,  -999.00,9,  -999.00,9,     0.00,2,     0.01,2,   -999.0,-999.0000, -999,9,  301,  15.8145,  25.5201,   -999.0,9
       KS06-06,  165E,KS-1616,  1,     11,02-19376,2,20060625,0745, 18.0087, 164.9900, 5440,    404.5,  11.8596,  34.2975,2,   -999.0,9,  34.3026,4,    172.0,2,    16.86,2,  -999.00,9,    15.89,2,     0.00,2,     1.14,2, -999.000,9, -999.000,9,  -999.00,9,   2113.6,2,   -999.0,9,-999.0000,9,   -999.0,  9,     7.90,2,   -999.0,  -999.00,9,  -999.00,9,  -999.00,9,  -999.00,9,   -999.0,-999.0000, -999,9,  402,  11.8072,  26.0799,   -999.0,9
       KS06-06,  165E,KS-1616,  1,     10,02-19375,2,20060625,0743, 18.0087, 164.9900, 5440,    504.9,   8.2336,  34.1928,2,   -999.0,9,  34.1948,2,    108.0,2,    42.48,2,  -999.00,9,    28.83,2,     0.00,2,     2.11,2, -999.000,9, -999.000,9,  -999.00,9,   -999.0,9,   -999.0,9,-999.0000,9,   -999.0,  9,     7.69,2,   -999.0,  -999.00,9,  -999.00,9,  -999.00,9,  -999.00,9,   -999.0,-999.0000, -999,9,  501,   8.1812,  26.6128,   -999.0,9
       KS06-06,  165E,KS-1616,  1,      9,02-16015,2,20060625,0741, 18.0087, 164.9900, 5440,    604.6,   6.5548,  34.2504,2,   -999.0,9,  34.2537,2,     67.0,2,    64.40,2,  -999.00,9,    35.74,2,     0.00,2,     2.64,2, -999.000,9, -999.000,9,  -999.00,9,   2269.6,2,   -999.0,9,-999.0000,9,   -999.0,  9,     7.58,2,   -999.0,  -999.00,9,  -999.00,9,  -999.00,9,  -999.00,9,   -999.0,-999.0000, -999,9,  600,   6.4992,  26.8958,   -999.0,9
       KS06-06,  165E,KS-1616,  1,      8,02-16014,2,20060625,0738, 18.0087, 164.9900, 5440,    707.5,   5.7135,  34.3745,2,   -999.0,9,  34.3744,2,     54.0,2,    77.70,2,  -999.00,9,    38.65,2,     0.00,2,     2.85,2, -999.000,9, -999.000,9,  -999.00,9,   -999.0,9,   -999.0,9,-999.0000,9,   -999.0,  9,     7.56,2,   -999.0,  -999.00,9,  -999.00,9,  -999.00,9,  -999.00,9,   -999.0,-999.0000, -999,9,  702,   5.6523,  27.1017,   -999.0,9
       KS06-06,  165E,KS-1616,  1,      7,02-19374,2,20060625,0736, 18.0087, 164.9900, 5440,    805.3,   5.2296,  34.4460,2,   -999.0,9,  34.4456,2,     58.0,2,    85.58,2,  -999.00,9,    39.43,2,     0.00,2,     2.89,2, -999.000,9, -999.000,9,  -999.00,9,   2303.8,2,   -999.0,9,-999.0000,9,   -999.0,  9,     7.57,2,   -999.0,  -999.00,9,  -999.00,9,  -999.00,9,  -999.00,9,   -999.0,-999.0000, -999,9,  799,   5.1623,  27.2171,   -999.0,9
       KS06-06,  165E,KS-1616,  1,      6,02-19373,2,20060625,0733, 18.0087, 164.9900, 5440,    907.4,   4.7587,  34.4922,2,   -999.0,9,  34.4912,2,     63.0,2,    93.73,2,  -999.00,9,    39.72,2,     0.00,2,     2.91,2, -999.000,9, -999.000,9,  -999.00,9,   -999.0,9,   -999.0,9,-999.0000,9,   -999.0,  9,     7.58,2,   -999.0,  -999.00,9,  -999.00,9,  -999.00,9,  -999.00,9,   -999.0,-999.0000, -999,9,  900,   4.6854,  27.3084,   -999.0,9
       KS06-06,  165E,KS-1616,  1,      5,02-16011,2,20060625,0731, 18.0087, 164.9900, 5440,   1006.2,   4.3894,  34.5170,2,   -999.0,9,  34.5166,2,     67.0,2,    99.68,2,  -999.00,9,    40.10,2,     0.00,2,     2.93,2, -999.000,9, -999.000,9,  -999.00,9,   2320.8,2,   -999.0,9,-999.0000,9,   -999.0,  9,     7.59,2,   -999.0,  -999.00,9,  -999.00,9,  -999.00,9,  -999.00,9,   -999.0,-999.0000, -999,9,  998,   4.3102,  27.3692,   -999.0,9
       KS06-06,  165E,KS-1616,  1,      4,02-16010,2,20060625,0726, 18.0087, 164.9900, 5440,   1261.5,   3.4834,  34.5567,2,   -999.0,9,  34.5559,2,     76.0,2,   117.46,2,  -999.00,9,    40.39,2,     0.00,2,     2.93,2, -999.000,9, -999.000,9,  -999.00,9,   2337.9,2,   -999.0,9,-999.0000,9,   -999.0,  9,     7.59,2,   -999.0,  -999.00,9,  -999.00,9,  -999.00,9,  -999.00,9,   -999.0,-999.0000, -999,9, 1250,   3.3904,  27.4945,   -999.0,9
       KS06-06,  165E,KS-1616,  1,      3,02-16009,2,20060625,0720, 18.0087, 164.9900, 5440,   1516.1,   2.8933,  34.5810,2,   -999.0,9,  34.5805,2,     85.0,2,   129.36,2,  -999.00,9,    40.00,2,     0.00,2,     2.90,2, -999.000,9, -999.000,9,  -999.00,9,   2341.3,2,   -999.0,9,-999.0000,9,   -999.0,  9,     7.61,2,   -999.0,  -999.00,9,  -999.00,9,  -999.00,9,  -999.00,9,   -999.0,-999.0000, -999,9, 1502,   2.7853,  27.5700,   -999.0,9
       KS06-06,  165E,KS-1616,  1,      2,02-16008,2,20060625,0715, 18.0087, 164.9900, 5440,   1768.5,   2.4749,  34.6029,2,   -999.0,9,  34.6027,2,     93.0,2,   137.54,2,  -999.00,9,    39.80,2,     0.00,2,     2.86,2, -999.000,9, -999.000,9,  -999.00,9,   -999.0,9,   -999.0,9,-999.0000,9,   -999.0,  9,     7.61,2,   -999.0,  -999.00,9,  -999.00,9,  -999.00,9,  -999.00,9,   -999.0,-999.0000, -999,9, 1750,   2.3511,  27.6250,   -999.0,9
       KS06-06,  165E,KS-1616,  1,      1,02-16007,2,20060625,0710, 18.0087, 164.9900, 5440,   2031.6,   2.1382,  34.6250,2,   -999.0,9,  34.6244,2,    105.0,2,   143.69,2,  -999.00,9,    39.31,2,     0.00,2,     2.81,2, -999.000,9, -999.000,9,  -999.00,9,   2353.0,2,   -999.0,9,-999.0000,9,   -999.0,  9,     7.62,2,   -999.0,  -999.00,9,  -999.00,9,  -999.00,9,  -999.00,9,   -999.0,-999.0000, -999,9, 2010,   1.9970,  27.6715,   -999.0,9
       KS06-06,  165E,KS-1617,  1,      2,02-16008,9,20060625,1430, 17.0020, 164.9833, 5421,      5.5,  28.5304,  34.9132,2,   -999.0,9,-999.0000,9,   -999.0,9,  -999.00,9,  -999.00,9,  -999.00,9,  -999.00,9,  -999.00,9, -999.000,9, -999.000,9,  -999.00,9,   -999.0,9,   -999.0,9,-999.0000,9,   -999.0,  9,  -999.00,9,   -999.0,  -999.00,9,  -999.00,9,  -999.00,9,  -999.00,9,   -999.0,-999.0000, -999,9,    5,  28.5291,  22.1555,   -999.0,9
       KS06-06,  165E,KS-1617,  1,      1,02-16007,2,20060625,1430, 17.0020, 164.9833, 5421,      6.1,  28.5265,  34.9132,2,   -999.0,9,-999.0000,9,   -999.0,9,     1.11,2,  -999.00,9,     0.00,2,     0.00,2,     0.02,2, -999.000,9, -999.000,9,  -999.00,9,   1951.2,2,   -999.0,9,-999.0000,9,   -999.0,  9,  -999.00,9,   -999.0,  -999.00,9,  -999.00,9,     0.06,2,     0.01,2,   -999.0,-999.0000, -999,9,    6,  28.5250,  22.1568,   -999.0,9
       KS06-06,  165E,KS-1618,  1,      1,02-16007,2,20060625,2047, 15.9910, 164.9892, 5364,      4.1,  28.7441,  34.6279,2,   -999.0,9,-999.0000,9,   -999.0,9,     1.62,2,  -999.00,9,     0.00,2,     0.00,2,     0.05,2, -999.000,9, -999.000,9,  -999.00,9,   1933.9,2,   -999.0,9,-999.0000,9,   -999.0,  9,  -999.00,9,   -999.0,  -999.00,9,  -999.00,9,     0.05,2,     0.01,2,   -999.0,-999.0000, -999,9,    4,  28.7431,  21.8702,   -999.0,9
       KS06-06,  165E,KS-1618,  1,      2,02-16008,9,20060625,2047, 15.9910, 164.9892, 5364,      4.3,  28.7446,  34.6279,2,   -999.0,9,-999.0000,9,   -999.0,9,  -999.00,9,  -999.00,9,  -999.00,9,  -999.00,9,  -999.00,9, -999.000,9, -999.000,9,  -999.00,9,   -999.0,9,   -999.0,9,-999.0000,9,   -999.0,  9,  -999.00,9,   -999.0,  -999.00,9,  -999.00,9,  -999.00,9,  -999.00,9,   -999.0,-999.0000, -999,9,    4,  28.7436,  21.8701,   -999.0,9