BOTTLE,20131214MIRCJHATS
EXPOCODE,SECT_ID,STNNBR,CASTNO,SAMPNO,BTLNBR,BTLNBR_FLAG_W,DATE,TIME,LATITUDE,LONGITUDE,DEPTH,CTDPRS,CTDTMP,CTDSAL,CTDSAL_FLAG_W,CTDOXY,CTDOXY_FLAG_W,SALNTY,SALNTY_FLAG_W,OXYGEN,OXYGEN_FLAG_W,SILCAT,SILCAT_FLAG_W,NITRAT,NITRAT_FLAG_W,NO2+NO3,NO2+NO3_FLAG_W,NITRIT,NITRIT_FLAG_W,PHSPHT,PHSPHT_FLAG_W,CFC-11,CFC-11_FLAG_W,CFC-12,CFC-12_FLAG_W,DELC13,DELC13_FLAG_W,TCARBN,TCARBN_FLAG_W,ALKALI,ALKALI_FLAG_W,PH,PH_FLAG_W,PH_TMP,PH_SCALE,PH_NBS,PH_NBS_FLAG_W,C13ERR,TOTALP,TOTALP_FLAG_W,AMMONI,AMMONI_FLAG_W,CHLORA,CHLORA_FLAG_W,PPHYTN,PPHYTN_FLAG_W,REVPRS,REVTMP,DEPTH_,DEPTH_FLAG,CTDDEP,THETA,SIGTHT,DOC,DOC_FLAG_W
,,,,,,,GMT,GMT,,,METER,DBAR,ITS-90,PSS-78,,UMOL/KG,,PSS-78,,UMOL/KG,,UMOL/KG,,UMOL/KG,,UMOL/KG,,UMOL/KG,,UMOL/KG,,PMOL/KG,,PMOL/KG,,/MILLE,,UMOL/KG,,UMOL/KG,,25_DEG_C,,DEG_C,,,,/MILLE,UMOL/KG,,UMOL/KG,,UG/L,,UG/L,,DBAR,ITS-90,METERS,,METERS,DEG_C,,UMOL/L,
       KS06-06, EQPAC,KS-1643,  1,     23,02-19380,2,20060716,0551,  0.0188, 159.0157, 2356,      5.3,  29.6177,  34.2867,2,   -999.0,9,  34.2846,2,    199.0,2,     1.33,2,  -999.00,9,     0.00,2,     0.00,2,     0.09,2, -999.000,9, -999.000,9,  -999.00,9,   1904.3,2,   -999.0,9,-999.0000,9,   -999.0,  9,  -999.00,9,   -999.0,  -999.00,9,  -999.00,9,     0.11,2,     0.05,2,   -999.0,-999.0000, -999,9,    5,  29.6164,  21.3217,   -999.0,9
       KS06-06, EQPAC,KS-1643,  1,     22,02-19379,2,20060716,0550,  0.0188, 159.0157, 2356,     10.4,  29.6255,  34.2870,2,   -999.0,9,-999.0000,9,    199.0,2,     1.32,2,  -999.00,9,     0.00,2,     0.00,2,     0.09,2, -999.000,9, -999.000,9,  -999.00,9,   -999.0,9,   -999.0,9,-999.0000,9,   -999.0,  9,  -999.00,9,   -999.0,  -999.00,9,  -999.00,9,     0.12,2,     0.05,2,   -999.0,-999.0000, -999,9,   10,  29.6229,  21.3197,   -999.0,9
       KS06-06, EQPAC,KS-1643,  1,     21,02-16027,2,20060716,0549,  0.0188, 159.0157, 2356,     25.5,  29.6700,  34.3063,2,   -999.0,9,-999.0000,9,    197.0,2,     1.31,2,  -999.00,9,     0.00,2,     0.00,2,     0.09,2, -999.000,9, -999.000,9,  -999.00,9,   -999.0,9,   -999.0,9,-999.0000,9,   -999.0,  9,  -999.00,9,   -999.0,  -999.00,9,  -999.00,9,     0.14,2,     0.06,2,   -999.0,-999.0000, -999,9,   25,  29.6637,  21.3204,   -999.0,9
       KS06-06, EQPAC,KS-1643,  1,     20,02-16026,2,20060716,0547,  0.0188, 159.0157, 2356,     51.1,  29.7221,  34.3944,2,   -999.0,9,-999.0000,9,    199.0,2,     1.31,2,  -999.00,9,     0.00,2,     0.00,2,     0.10,2, -999.000,9, -999.000,9,  -999.00,9,   -999.0,9,   -999.0,9,-999.0000,9,   -999.0,  9,  -999.00,9,   -999.0,  -999.00,9,  -999.00,9,     0.21,2,     0.10,2,   -999.0,-999.0000, -999,9,   51,  29.7095,  21.3710,   -999.0,9
       KS06-06, EQPAC,KS-1643,  1,     19,02-19378,2,20060716,0546,  0.0188, 159.0157, 2356,     77.7,  29.7431,  34.7626,2,   -999.0,9,-999.0000,9,    197.0,2,     1.41,2,  -999.00,9,     0.20,2,     0.06,2,     0.15,2, -999.000,9, -999.000,9,  -999.00,9,   -999.0,9,   -999.0,9,-999.0000,9,   -999.0,  9,  -999.00,9,   -999.0,  -999.00,9,  -999.00,9,     0.35,2,     0.22,2,   -999.0,-999.0000, -999,9,   77,  29.7240,  21.6421,   -999.0,9
       KS06-06, EQPAC,KS-1643,  1,     18,02-19377,2,20060716,0545,  0.0188, 159.0157, 2356,    101.5,  27.0358,  35.5373,2,   -999.0,9,  35.5389,2,    162.0,2,     2.44,2,  -999.00,9,     6.74,2,     0.05,2,     0.61,2, -999.000,9, -999.000,9,  -999.00,9,   -999.0,9,   -999.0,9,-999.0000,9,   -999.0,  9,  -999.00,9,   -999.0,  -999.00,9,  -999.00,9,     0.17,2,     0.33,2,   -999.0,-999.0000, -999,9,  101,  27.0124,  23.1185,   -999.0,9
       KS06-06, EQPAC,KS-1643,  1,     17,02-16023,2,20060716,0544,  0.0188, 159.0157, 2356,    126.3,  25.9012,  35.4285,2,   -999.0,9,-999.0000,9,    144.0,2,     3.22,2,  -999.00,9,     8.11,2,     0.02,2,     0.66,2, -999.000,9, -999.000,9,  -999.00,9,   -999.0,9,   -999.0,9,-999.0000,9,   -999.0,  9,  -999.00,9,   -999.0,  -999.00,9,  -999.00,9,     0.09,2,     0.24,2,   -999.0,-999.0000, -999,9,  126,  25.8730,  23.3962,   -999.0,9
       KS06-06, EQPAC,KS-1643,  1,     16,02-16022,2,20060716,0543,  0.0188, 159.0157, 2356,    152.4,  21.7332,  35.4240,2,   -999.0,9,-999.0000,9,    134.0,2,     4.99,2,  -999.00,9,    10.25,2,     0.01,2,     0.79,2, -999.000,9, -999.000,9,  -999.00,9,   -999.0,9,   -999.0,9,-999.0000,9,   -999.0,  9,  -999.00,9,   -999.0,  -999.00,9,  -999.00,9,     0.00,2,     0.01,2,   -999.0,-999.0000, -999,9,  151,  21.7033,  24.6230,   -999.0,9
       KS06-06, EQPAC,KS-1643,  1,     15,02-16021,2,20060716,0541,  0.0188, 159.0157, 2356,    203.3,  16.5451,  35.2755,2,   -999.0,9,  35.2867,4,    141.0,2,     7.58,2,  -999.00,9,    14.04,2,     0.00,2,     1.04,2, -999.000,9, -999.000,9,  -999.00,9,   -999.0,9,   -999.0,9,-999.0000,9,   -999.0,  9,  -999.00,9,   -999.0,  -999.00,9,  -999.00,9,     0.00,2,     0.01,2,   -999.0,-999.0000, -999,9,  202,  16.5121,  25.8409,   -999.0,9
       KS06-06, EQPAC,KS-1643,  1,     14,02-16020,2,20060716,0539,  0.0188, 159.0157, 2356,    255.2,  13.3763,  35.0237,2,   -999.0,9,-999.0000,9,    147.0,2,    11.58,2,  -999.00,9,    17.64,2,     0.00,2,     1.28,2, -999.000,9, -999.000,9,  -999.00,9,   -999.0,9,   -999.0,9,-999.0000,9,   -999.0,  9,  -999.00,9,   -999.0,  -999.00,9,  -999.00,9,     0.00,2,     0.02,2,   -999.0,-999.0000, -999,9,  254,  13.3404,  26.3423,   -999.0,9
       KS06-06, EQPAC,KS-1643,  1,     13,02-16019,2,20060716,0537,  0.0188, 159.0157, 2356,    305.1,  11.4413,  34.8363,2,   -999.0,9,  34.8378,2,    138.0,2,    18.76,2,  -999.00,9,    22.11,2,     0.00,2,     1.56,2, -999.000,9, -999.000,9,  -999.00,9,   -999.0,9,   -999.0,9,-999.0000,9,   -999.0,  9,  -999.00,9,   -999.0,  -999.00,9,  -999.00,9,     0.00,2,     0.01,2,   -999.0,-999.0000, -999,9,  303,  11.4026,  26.5743,   -999.0,9
       KS06-06, EQPAC,KS-1643,  1,     12,02-16018,2,20060716,0534,  0.0188, 159.0157, 2356,    405.7,   9.5221,  34.6874,2,   -999.0,9,  34.6892,2,     99.0,2,    28.94,2,  -999.00,9,    29.51,2,     0.00,2,     2.05,2, -999.000,9, -999.000,9,  -999.00,9,   -999.0,9,   -999.0,9,-999.0000,9,   -999.0,  9,  -999.00,9,   -999.0,  -999.00,9,  -999.00,9,  -999.00,9,  -999.00,9,   -999.0,-999.0000, -999,9,  403,   9.4761,  26.7959,   -999.0,9
       KS06-06, EQPAC,KS-1643,  1,     11,02-19376,2,20060716,0530,  0.0188, 159.0157, 2356,    505.7,   7.6091,  34.5814,2,   -999.0,9,  34.5832,2,    136.0,2,    32.14,2,  -999.00,9,    29.89,2,     0.00,2,     2.08,2, -999.000,9, -999.000,9,  -999.00,9,   -999.0,9,   -999.0,9,-999.0000,9,   -999.0,  9,  -999.00,9,   -999.0,  -999.00,9,  -999.00,9,  -999.00,9,  -999.00,9,   -999.0,-999.0000, -999,9,  502,   7.5587,  27.0100,   -999.0,9
       KS06-06, EQPAC,KS-1643,  1,     10,02-19375,2,20060716,0527,  0.0188, 159.0157, 2356,    607.0,   6.4853,  34.5590,2,   -999.0,9,  34.5586,2,     78.0,2,    52.70,2,  -999.00,9,    37.68,2,     0.00,2,     2.68,2, -999.000,9, -999.000,9,  -999.00,9,   -999.0,9,   -999.0,9,-999.0000,9,   -999.0,  9,  -999.00,9,   -999.0,  -999.00,9,  -999.00,9,  -999.00,9,  -999.00,9,   -999.0,-999.0000, -999,9,  603,   6.4295,  27.1486,   -999.0,9
       KS06-06, EQPAC,KS-1643,  1,      9,02-16015,2,20060716,0525,  0.0188, 159.0157, 2356,    706.2,   5.7727,  34.5417,2,   -999.0,9,  34.5409,2,     95.0,2,    59.98,2,  -999.00,9,    37.09,2,     0.00,2,     2.64,2, -999.000,9, -999.000,9,  -999.00,9,   -999.0,9,   -999.0,9,-999.0000,9,   -999.0,  9,  -999.00,9,   -999.0,  -999.00,9,  -999.00,9,  -999.00,9,  -999.00,9,   -999.0,-999.0000, -999,9,  701,   5.7112,  27.2268,   -999.0,9
       KS06-06, EQPAC,KS-1643,  1,      8,02-16014,2,20060716,0522,  0.0188, 159.0157, 2356,    806.7,   5.3192,  34.5400,2,   -999.0,9,  34.5394,2,     99.0,2,    67.03,2,  -999.00,9,    37.19,2,     0.00,2,     2.66,2, -999.000,9, -999.000,9,  -999.00,9,   -999.0,9,   -999.0,9,-999.0000,9,   -999.0,  9,  -999.00,9,   -999.0,  -999.00,9,  -999.00,9,  -999.00,9,  -999.00,9,   -999.0,-999.0000, -999,9,  801,   5.2511,  27.2811,   -999.0,9
       KS06-06, EQPAC,KS-1643,  1,      7,02-19374,2,20060716,0520,  0.0188, 159.0157, 2356,    907.0,   4.7439,  34.5471,2,   -999.0,9,  34.5460,2,    103.0,2,    78.61,2,  -999.00,9,    37.28,2,     0.00,2,     2.67,2, -999.000,9, -999.000,9,  -999.00,9,   -999.0,9,   -999.0,9,-999.0000,9,   -999.0,  9,  -999.00,9,   -999.0,  -999.00,9,  -999.00,9,  -999.00,9,  -999.00,9,   -999.0,-999.0000, -999,9,  900,   4.6707,  27.3536,   -999.0,9
       KS06-06, EQPAC,KS-1643,  1,      6,02-19373,2,20060716,0517,  0.0188, 159.0157, 2356,   1009.8,   4.5053,  34.5525,2,   -999.0,9,  34.5517,2,    102.0,2,    83.82,2,  -999.00,9,    37.57,2,     0.00,2,     2.69,2, -999.000,9, -999.000,9,  -999.00,9,   -999.0,9,   -999.0,9,-999.0000,9,   -999.0,  9,  -999.00,9,   -999.0,  -999.00,9,  -999.00,9,  -999.00,9,  -999.00,9,   -999.0,-999.0000, -999,9, 1002,   4.4248,  27.3850,   -999.0,9
       KS06-06, EQPAC,KS-1643,  1,      5,02-16011,2,20060716,0512,  0.0188, 159.0157, 2356,   1260.7,   3.5399,  34.5827,2,   -999.0,9,  34.6382,4,    101.0,2,   105.60,2,  -999.00,9,    38.54,2,     0.00,2,     2.76,2, -999.000,9, -999.000,9,  -999.00,9,   -999.0,9,   -999.0,9,-999.0000,9,   -999.0,  9,  -999.00,9,   -999.0,  -999.00,9,  -999.00,9,  -999.00,9,  -999.00,9,   -999.0,-999.0000, -999,9, 1250,   3.4463,  27.5099,   -999.0,9
       KS06-06, EQPAC,KS-1643,  1,      4,02-16010,2,20060716,0507,  0.0188, 159.0157, 2356,   1513.8,   3.0406,  34.6019,2,   -999.0,9,  34.6008,2,    104.0,2,   116.66,2,  -999.00,9,    38.73,2,     0.00,2,     2.77,2, -999.000,9, -999.000,9,  -999.00,9,   -999.0,9,   -999.0,9,-999.0000,9,   -999.0,  9,  -999.00,9,   -999.0,  -999.00,9,  -999.00,9,  -999.00,9,  -999.00,9,   -999.0,-999.0000, -999,9, 1500,   2.9311,  27.5736,   -999.0,9
       KS06-06, EQPAC,KS-1643,  1,      3,02-16009,2,20060716,0503,  0.0188, 159.0157, 2356,   1766.6,   2.5601,  34.6230,2,   -999.0,9,  34.6219,2,    114.0,2,   126.55,2,  -999.00,9,    38.24,2,     0.00,2,     2.72,2, -999.000,9, -999.000,9,  -999.00,9,   -999.0,9,   -999.0,9,-999.0000,9,   -999.0,  9,  -999.00,9,   -999.0,  -999.00,9,  -999.00,9,  -999.00,9,  -999.00,9,   -999.0,-999.0000, -999,9, 1750,   2.4353,  27.6340,   -999.0,9
       KS06-06, EQPAC,KS-1643,  1,      2,02-16008,2,20060716,0459,  0.0188, 159.0157, 2356,   2019.0,   2.2415,  34.6400,2,   -999.0,9,  34.6392,2,    117.0,2,   134.17,2,  -999.00,9,    38.24,2,     0.00,2,     2.71,2, -999.000,9, -999.000,9,  -999.00,9,   -999.0,9,   -999.0,9,-999.0000,9,   -999.0,  9,  -999.00,9,   -999.0,  -999.00,9,  -999.00,9,  -999.00,9,  -999.00,9,   -999.0,-999.0000, -999,9, 1998,   2.0997,  27.6753,   -999.0,9
       KS06-06, EQPAC,KS-1643,  1,      1,02-16007,2,20060716,0454,  0.0188, 159.0157, 2356,   2284.0,   1.9551,  34.6554,2,   -999.0,9,  34.6542,2,    126.0,2,   139.84,2,  -999.00,9,    37.85,2,     0.00,2,     2.67,2, -999.000,9, -999.000,9,  -999.00,9,   -999.0,9,   -999.0,9,-999.0000,9,   -999.0,  9,  -999.00,9,   -999.0,  -999.00,9,  -999.00,9,  -999.00,9,  -999.00,9,   -999.0,-999.0000, -999,9, 2259,   1.7949,  27.7116,   -999.0,9