BOTTLE,20131214MIRCJHATS
EXPOCODE,SECT_ID,STNNBR,CASTNO,SAMPNO,BTLNBR,BTLNBR_FLAG_W,DATE,TIME,LATITUDE,LONGITUDE,DEPTH,CTDPRS,CTDTMP,CTDSAL,CTDSAL_FLAG_W,CTDOXY,CTDOXY_FLAG_W,SALNTY,SALNTY_FLAG_W,OXYGEN,OXYGEN_FLAG_W,SILCAT,SILCAT_FLAG_W,NITRAT,NITRAT_FLAG_W,NO2+NO3,NO2+NO3_FLAG_W,NITRIT,NITRIT_FLAG_W,PHSPHT,PHSPHT_FLAG_W,CFC-11,CFC-11_FLAG_W,CFC-12,CFC-12_FLAG_W,DELC13,DELC13_FLAG_W,TCARBN,TCARBN_FLAG_W,ALKALI,ALKALI_FLAG_W,PH,PH_FLAG_W,PH_TMP,PH_SCALE,PH_NBS,PH_NBS_FLAG_W,C13ERR,TOTALP,TOTALP_FLAG_W,AMMONI,AMMONI_FLAG_W,CHLORA,CHLORA_FLAG_W,PPHYTN,PPHYTN_FLAG_W,REVPRS,REVTMP,DEPTH_,DEPTH_FLAG,CTDDEP,THETA,SIGTHT,DOC,DOC_FLAG_W
,,,,,,,GMT,GMT,,,METER,DBAR,ITS-90,PSS-78,,UMOL/KG,,PSS-78,,UMOL/KG,,UMOL/KG,,UMOL/KG,,UMOL/KG,,UMOL/KG,,UMOL/KG,,PMOL/KG,,PMOL/KG,,/MILLE,,UMOL/KG,,UMOL/KG,,25_DEG_C,,DEG_C,,,,/MILLE,UMOL/KG,,UMOL/KG,,UG/L,,UG/L,,DBAR,ITS-90,METERS,,METERS,DEG_C,,UMOL/L,
       KS06-06,  165E,KS-1621,  1,     22,02-19379,2,20060626,1905, 13.0095, 164.9607, 5194,      4.5,  28.5690,  34.5722,2,   -999.0,9,  34.5696,2,    199.0,2,     1.20,2,  -999.00,9,     0.00,2,     0.00,2,     0.06,2, -999.000,9, -999.000,9,  -999.00,9,   1934.2,3,   -999.0,9,-999.0000,9,   -999.0,  9,  -999.00,9,   -999.0,  -999.00,9,  -999.00,9,     0.04,2,     0.01,2,   -999.0,-999.0000, -999,9,    4,  28.5679,  21.8864,   -999.0,9
       KS06-06,  165E,KS-1621,  1,     21,02-16027,2,20060626,1904, 13.0095, 164.9607, 5194,     11.5,  28.5686,  34.5718,2,   -999.0,9,-999.0000,9,    198.0,2,     1.30,2,  -999.00,9,     0.00,2,     0.00,2,     0.06,2, -999.000,9, -999.000,9,  -999.00,9,   -999.0,9,   -999.0,9,-999.0000,9,   -999.0,  9,  -999.00,9,   -999.0,  -999.00,9,  -999.00,9,     0.04,2,     0.01,2,   -999.0,-999.0000, -999,9,   11,  28.5658,  21.8868,   -999.0,9
       KS06-06,  165E,KS-1621,  1,     20,02-16026,2,20060626,1903, 13.0095, 164.9607, 5194,     24.9,  28.5743,  34.5708,2,   -999.0,9,-999.0000,9,    199.0,2,     1.19,2,  -999.00,9,     0.00,2,     0.00,2,     0.06,2, -999.000,9, -999.000,9,  -999.00,9,   -999.0,9,   -999.0,9,-999.0000,9,   -999.0,  9,  -999.00,9,   -999.0,  -999.00,9,  -999.00,9,     0.05,2,     0.00,2,   -999.0,-999.0000, -999,9,   25,  28.5684,  21.8852,   -999.0,9
       KS06-06,  165E,KS-1621,  1,     19,02-19378,2,20060626,1859, 13.0095, 164.9607, 5194,     50.0,  28.5777,  34.5699,2,   -999.0,9,-999.0000,9,    198.0,2,     1.19,2,  -999.00,9,     0.00,2,     0.00,2,     0.06,2, -999.000,9, -999.000,9,  -999.00,9,   -999.0,9,   -999.0,9,-999.0000,9,   -999.0,  9,  -999.00,9,   -999.0,  -999.00,9,  -999.00,9,     0.04,2,     0.01,2,   -999.0,-999.0000, -999,9,   50,  28.5658,  21.8854,   -999.0,9
       KS06-06,  165E,KS-1621,  1,     18,02-19377,2,20060626,1858, 13.0095, 164.9607, 5194,     76.4,  28.4628,  34.6755,2,   -999.0,9,-999.0000,9,    203.0,2,     1.18,2,  -999.00,9,     0.00,2,     0.00,2,     0.05,2, -999.000,9, -999.000,9,  -999.00,9,   -999.0,9,   -999.0,9,-999.0000,9,   -999.0,  9,  -999.00,9,   -999.0,  -999.00,9,  -999.00,9,     0.06,2,     0.01,2,   -999.0,-999.0000, -999,9,   76,  28.4446,  22.0047,   -999.0,9
       KS06-06,  165E,KS-1621,  1,     17,02-16023,2,20060626,1857, 13.0095, 164.9607, 5194,    101.6,  27.5533,  34.7521,2,   -999.0,9,  34.6968,4,    210.0,2,     1.18,2,  -999.00,9,     0.00,2,     0.00,2,     0.04,2, -999.000,9, -999.000,9,  -999.00,9,   -999.0,9,   -999.0,9,-999.0000,9,   -999.0,  9,  -999.00,9,   -999.0,  -999.00,9,  -999.00,9,     0.07,2,     0.02,2,   -999.0,-999.0000, -999,9,  101,  27.5297,  22.3610,   -999.0,9
       KS06-06,  165E,KS-1621,  1,     16,02-16022,2,20060626,1857, 13.0095, 164.9607, 5194,    125.4,  26.7342,  34.9204,2,   -999.0,9,-999.0000,9,    208.0,2,     1.17,2,  -999.00,9,     0.00,2,     0.00,2,     0.04,2, -999.000,9, -999.000,9,  -999.00,9,   -999.0,9,   -999.0,9,-999.0000,9,   -999.0,  9,  -999.00,9,   -999.0,  -999.00,9,  -999.00,9,     0.11,2,     0.04,2,   -999.0,-999.0000, -999,9,  125,  26.7056,  22.7514,   -999.0,9
       KS06-06,  165E,KS-1621,  1,     15,02-16021,2,20060626,1856, 13.0095, 164.9607, 5194,    149.3,  25.5858,  35.0255,2,   -999.0,9,-999.0000,9,    203.0,2,     1.22,2,  -999.00,9,     0.00,2,     0.00,2,     0.04,2, -999.000,9, -999.000,9,  -999.00,9,   -999.0,9,   -999.0,9,-999.0000,9,   -999.0,  9,  -999.00,9,   -999.0,  -999.00,9,  -999.00,9,     0.18,2,     0.16,2,   -999.0,-999.0000, -999,9,  148,  25.5529,  23.1912,   -999.0,9
       KS06-06,  165E,KS-1621,  1,     14,02-16020,2,20060626,1854, 13.0095, 164.9607, 5194,    202.6,  19.3031,  34.9559,2,   -999.0,9,  34.9620,4,    184.0,2,     3.39,2,  -999.00,9,     3.81,2,     0.01,2,     0.29,2, -999.000,9, -999.000,9,  -999.00,9,   -999.0,9,   -999.0,9,-999.0000,9,   -999.0,  9,  -999.00,9,   -999.0,  -999.00,9,  -999.00,9,     0.03,2,     0.08,2,   -999.0,-999.0000, -999,9,  201,  19.2666,  24.9191,   -999.0,9
       KS06-06,  165E,KS-1621,  1,     13,02-16019,2,20060626,1852, 13.0095, 164.9607, 5194,    253.8,  13.7871,  34.4373,2,   -999.0,9,-999.0000,9,    157.0,2,    12.20,2,  -999.00,9,    13.55,2,     0.00,2,     1.00,2, -999.000,9, -999.000,9,  -999.00,9,   -999.0,9,   -999.0,9,-999.0000,9,   -999.0,  9,  -999.00,9,   -999.0,  -999.00,9,  -999.00,9,     0.00,2,     0.01,2,   -999.0,-999.0000, -999,9,  252,  13.7509,  25.8041,   -999.0,9
       KS06-06,  165E,KS-1621,  1,     12,02-16018,2,20060626,1851, 13.0095, 164.9607, 5194,    303.5,  11.1966,  34.3185,2,   -999.0,9,  34.3197,2,    111.0,2,    23.51,2,  -999.00,9,    22.80,2,     0.00,2,     1.73,2, -999.000,9, -999.000,9,  -999.00,9,   -999.0,9,   -999.0,9,-999.0000,9,   -999.0,  9,  -999.00,9,   -999.0,  -999.00,9,  -999.00,9,     0.00,2,     0.01,2,   -999.0,-999.0000, -999,9,  302,  11.1589,  26.2160,   -999.0,9
       KS06-06,  165E,KS-1621,  1,     11,02-19376,2,20060626,1848, 13.0095, 164.9607, 5194,    401.8,   8.2513,  34.3598,2,   -999.0,9,  34.3614,2,     61.0,2,    46.00,2,  -999.00,9,    33.31,2,     0.00,2,     2.47,2, -999.000,9, -999.000,9,  -999.00,9,   -999.0,9,   -999.0,9,-999.0000,9,   -999.0,  9,  -999.00,9,   -999.0,  -999.00,9,  -999.00,9,  -999.00,9,  -999.00,9,   -999.0,-999.0000, -999,9,  399,   8.2097,  26.7395,   -999.0,9
       KS06-06,  165E,KS-1621,  1,     10,02-19375,2,20060626,1845, 13.0095, 164.9607, 5194,    504.4,   6.8510,  34.4210,2,   -999.0,9,  34.4219,2,     54.0,2,    61.45,2,  -999.00,9,    36.81,2,     0.00,2,     2.72,2, -999.000,9, -999.000,9,  -999.00,9,   -999.0,9,   -999.0,9,-999.0000,9,   -999.0,  9,  -999.00,9,   -999.0,  -999.00,9,  -999.00,9,  -999.00,9,  -999.00,9,   -999.0,-999.0000, -999,9,  501,   6.8037,  26.9896,   -999.0,9
       KS06-06,  165E,KS-1621,  1,      9,02-16015,2,20060626,1843, 13.0095, 164.9607, 5194,    603.4,   6.2369,  34.4730,2,   -999.0,9,  34.4731,2,     68.0,2,    67.36,2,  -999.00,9,    37.19,2,     0.00,2,     2.71,2, -999.000,9, -999.000,9,  -999.00,9,   -999.0,9,   -999.0,9,-999.0000,9,   -999.0,  9,  -999.00,9,   -999.0,  -999.00,9,  -999.00,9,  -999.00,9,  -999.00,9,   -999.0,-999.0000, -999,9,  599,   6.1827,  27.1128,   -999.0,9
       KS06-06,  165E,KS-1621,  1,      8,02-16014,2,20060626,1840, 13.0095, 164.9607, 5194,    704.7,   5.7918,  34.4980,2,   -999.0,9,  34.4976,2,     66.0,2,    73.45,2,  -999.00,9,    38.36,2,     0.00,2,     2.80,2, -999.000,9, -999.000,9,  -999.00,9,   -999.0,9,   -999.0,9,-999.0000,9,   -999.0,  9,  -999.00,9,   -999.0,  -999.00,9,  -999.00,9,  -999.00,9,  -999.00,9,   -999.0,-999.0000, -999,9,  699,   5.7303,  27.1898,   -999.0,9
       KS06-06,  165E,KS-1621,  1,      7,02-19374,2,20060626,1837, 13.0095, 164.9607, 5194,    805.8,   5.3301,  34.5201,2,   -999.0,9,  34.5197,2,     56.0,2,    81.28,2,  -999.00,9,    40.20,2,     0.00,2,     2.94,2, -999.000,9, -999.000,9,  -999.00,9,   -999.0,9,   -999.0,9,-999.0000,9,   -999.0,  9,  -999.00,9,   -999.0,  -999.00,9,  -999.00,9,  -999.00,9,  -999.00,9,   -999.0,-999.0000, -999,9,  800,   5.2620,  27.2641,   -999.0,9
       KS06-06,  165E,KS-1621,  1,      6,02-19373,2,20060626,1834, 13.0095, 164.9607, 5194,    905.8,   4.9505,  34.5314,2,   -999.0,9,  34.5312,2,     56.0,2,    87.74,2,  -999.00,9,    40.88,2,     0.00,2,     3.00,2, -999.000,9, -999.000,9,  -999.00,9,   -999.0,9,   -999.0,9,-999.0000,9,   -999.0,  9,  -999.00,9,   -999.0,  -999.00,9,  -999.00,9,  -999.00,9,  -999.00,9,   -999.0,-999.0000, -999,9,  899,   4.8760,  27.3180,   -999.0,9
       KS06-06,  165E,KS-1621,  1,      5,02-16011,2,20060626,1831, 13.0095, 164.9607, 5194,   1007.7,   4.5168,  34.5453,2,   -999.0,9,  34.5449,2,     57.0,2,    95.68,2,  -999.00,9,    41.37,2,     0.00,2,     3.04,2, -999.000,9, -999.000,9,  -999.00,9,   -999.0,9,   -999.0,9,-999.0000,9,   -999.0,  9,  -999.00,9,   -999.0,  -999.00,9,  -999.00,9,  -999.00,9,  -999.00,9,   -999.0,-999.0000, -999,9,  999,   4.4364,  27.3780,   -999.0,9
       KS06-06,  165E,KS-1621,  1,      4,02-16010,2,20060626,1825, 13.0095, 164.9607, 5194,   1260.7,   3.6566,  34.5712,2,   -999.0,9,  34.5705,2,     69.0,2,   112.61,2,  -999.00,9,    41.17,2,     0.00,2,     3.01,2, -999.000,9, -999.000,9,  -999.00,9,   -999.0,9,   -999.0,9,-999.0000,9,   -999.0,  9,  -999.00,9,   -999.0,  -999.00,9,  -999.00,9,  -999.00,9,  -999.00,9,   -999.0,-999.0000, -999,9, 1250,   3.5619,  27.4894,   -999.0,9
       KS06-06,  165E,KS-1621,  1,      3,02-16009,2,20060626,1819, 13.0095, 164.9607, 5194,   1515.7,   3.0175,  34.5949,2,   -999.0,9,  34.5949,2,     81.0,2,   125.85,2,  -999.00,9,    40.68,2,     0.00,2,     2.95,2, -999.000,9, -999.000,9,  -999.00,9,   -999.0,9,   -999.0,9,-999.0000,9,   -999.0,  9,  -999.00,9,   -999.0,  -999.00,9,  -999.00,9,  -999.00,9,  -999.00,9,   -999.0,-999.0000, -999,9, 1502,   2.9081,  27.5701,   -999.0,9
       KS06-06,  165E,KS-1621,  1,      2,02-16008,2,20060626,1813, 13.0095, 164.9607, 5194,   1764.8,   2.4750,  34.6152,2,   -999.0,9,  34.6150,2,     94.0,2,   137.08,2,  -999.00,9,    39.90,2,     0.00,2,     2.86,2, -999.000,9, -999.000,9,  -999.00,9,   -999.0,9,   -999.0,9,-999.0000,9,   -999.0,  9,  -999.00,9,   -999.0,  -999.00,9,  -999.00,9,  -999.00,9,  -999.00,9,   -999.0,-999.0000, -999,9, 1747,   2.3515,  27.6348,   -999.0,9
       KS06-06,  165E,KS-1621,  1,      1,02-16007,2,20060626,1805, 13.0095, 164.9607, 5194,   2030.7,   2.1085,  34.6376,2,   -999.0,9,  34.6368,2,    107.0,2,   143.37,2,  -999.00,9,    39.21,2,     0.00,2,     2.79,2, -999.000,9, -999.000,9,  -999.00,9,   -999.0,9,   -999.0,9,-999.0000,9,   -999.0,  9,  -999.00,9,   -999.0,  -999.00,9,  -999.00,9,  -999.00,9,  -999.00,9,   -999.0,-999.0000, -999,9, 2009,   1.9678,  27.6839,   -999.0,9
       KS06-06,  165E,KS-1622,  1,      2,02-16008,9,20060627,0214, 11.9933, 164.4752, 4709,      6.5,  28.7847,  34.4905,2,   -999.0,9,-999.0000,9,   -999.0,9,  -999.00,9,  -999.00,9,  -999.00,9,  -999.00,9,  -999.00,9, -999.000,9, -999.000,9,  -999.00,9,   -999.0,9,   -999.0,9,-999.0000,9,   -999.0,  9,  -999.00,9,   -999.0,  -999.00,9,  -999.00,9,  -999.00,9,  -999.00,9,   -999.0,-999.0000, -999,9,    6,  28.7831,  21.7537,   -999.0,9
       KS06-06,  165E,KS-1622,  1,      1,02-16007,2,20060627,0214, 11.9933, 164.4752, 4709,      6.8,  28.8198,  34.4904,2,   -999.0,9,-999.0000,9,   -999.0,9,     1.31,2,  -999.00,9,     0.00,2,     0.00,2,     0.07,2, -999.000,9, -999.000,9,  -999.00,9,   1928.3,3,   -999.0,9,-999.0000,9,   -999.0,  9,  -999.00,9,   -999.0,  -999.00,9,  -999.00,9,     0.04,2,     0.01,2,   -999.0,-999.0000, -999,9,    7,  28.8182,  21.7420,   -999.0,9