BOTTLE,20131214MIRCJHATS
EXPOCODE,SECT_ID,STNNBR,CASTNO,SAMPNO,BTLNBR,BTLNBR_FLAG_W,DATE,TIME,LATITUDE,LONGITUDE,DEPTH,CTDPRS,CTDTMP,CTDSAL,CTDSAL_FLAG_W,CTDOXY,CTDOXY_FLAG_W,SALNTY,SALNTY_FLAG_W,OXYGEN,OXYGEN_FLAG_W,SILCAT,SILCAT_FLAG_W,NITRAT,NITRAT_FLAG_W,NO2+NO3,NO2+NO3_FLAG_W,NITRIT,NITRIT_FLAG_W,PHSPHT,PHSPHT_FLAG_W,CFC-11,CFC-11_FLAG_W,CFC-12,CFC-12_FLAG_W,DELC13,DELC13_FLAG_W,TCARBN,TCARBN_FLAG_W,ALKALI,ALKALI_FLAG_W,PH,PH_FLAG_W,PH_TMP,PH_SCALE,PH_NBS,PH_NBS_FLAG_W,C13ERR,TOTALP,TOTALP_FLAG_W,AMMONI,AMMONI_FLAG_W,CHLORA,CHLORA_FLAG_W,PPHYTN,PPHYTN_FLAG_W,REVPRS,REVTMP,DEPTH_,DEPTH_FLAG,CTDDEP,THETA,SIGTHT,DOC,DOC_FLAG_W
,,,,,,,GMT,GMT,,,METER,DBAR,ITS-90,PSS-78,,UMOL/KG,,PSS-78,,UMOL/KG,,UMOL/KG,,UMOL/KG,,UMOL/KG,,UMOL/KG,,UMOL/KG,,PMOL/KG,,PMOL/KG,,/MILLE,,UMOL/KG,,UMOL/KG,,25_DEG_C,,DEG_C,,,,/MILLE,UMOL/KG,,UMOL/KG,,UG/L,,UG/L,,DBAR,ITS-90,METERS,,METERS,DEG_C,,UMOL/L,
       KS06-06,  165E,KS-1606,  1,     22,02-19379,2,20060622,1154, 27.9957, 164.9772, 5668,      6.1,  23.0396,  34.8632,2,   -999.0,9,  34.8619,2,    224.0,2,     1.88,2,  -999.00,9,     0.00,2,     0.00,2,     0.00,2, -999.000,9, -999.000,9,  -999.00,9,   1995.3,2,   -999.0,9,-999.0000,9,   -999.0,  9,     8.16,2,   -999.0,  -999.00,9,  -999.00,9,     0.08,2,     0.02,2,   -999.0,-999.0000, -999,9,    6,  23.0383,  23.8188,   -999.0,9
       KS06-06,  165E,KS-1606,  1,     21,02-16027,2,20060622,1153, 27.9957, 164.9772, 5668,     11.1,  22.9829,  34.8526,2,   -999.0,9,-999.0000,9,    222.0,2,     1.87,2,  -999.00,9,     0.00,2,     0.00,2,     0.00,2, -999.000,9, -999.000,9,  -999.00,9,   1993.7,2,   -999.0,9,-999.0000,9,   -999.0,  9,     8.16,2,   -999.0,  -999.00,9,  -999.00,9,     0.09,2,     0.02,2,   -999.0,-999.0000, -999,9,   11,  22.9806,  23.8274,   -999.0,9
       KS06-06,  165E,KS-1606,  1,     20,02-16026,2,20060622,1152, 27.9957, 164.9772, 5668,     25.9,  22.3579,  34.8755,2,   -999.0,9,-999.0000,9,    226.0,2,     2.02,2,  -999.00,9,     0.00,2,     0.00,2,     0.00,2, -999.000,9, -999.000,9,  -999.00,9,   1993.6,2,   -999.0,9,-999.0000,9,   -999.0,  9,     8.16,2,   -999.0,  -999.00,9,  -999.00,9,     0.08,2,     0.03,2,   -999.0,-999.0000, -999,9,   26,  22.3527,  24.0240,   -999.0,9
       KS06-06,  165E,KS-1606,  1,     19,02-19378,2,20060622,1151, 27.9957, 164.9772, 5668,     52.2,  19.3500,  34.8281,2,   -999.0,9,-999.0000,9,    243.0,2,     2.28,2,  -999.00,9,     0.00,2,     0.00,2,     0.01,2, -999.000,9, -999.000,9,  -999.00,9,   1992.2,2,   -999.0,9,-999.0000,9,   -999.0,  9,     8.16,2,   -999.0,  -999.00,9,  -999.00,9,     0.12,2,     0.03,2,   -999.0,-999.0000, -999,9,   52,  19.3406,  24.8025,   -999.0,9
       KS06-06,  165E,KS-1606,  1,     18,02-19377,2,20060622,1150, 27.9957, 164.9772, 5668,     77.5,  18.1704,  34.7774,2,   -999.0,9,-999.0000,9,    242.0,2,     2.34,2,  -999.00,9,     0.00,2,     0.00,2,     0.03,2, -999.000,9, -999.000,9,  -999.00,9,   1994.9,2,   -999.0,9,-999.0000,9,   -999.0,  9,     8.15,2,   -999.0,  -999.00,9,  -999.00,9,     0.29,2,     0.24,2,   -999.0,-999.0000, -999,9,   77,  18.1571,  25.0628,   -999.0,9
       KS06-06,  165E,KS-1606,  1,     17,02-16023,2,20060622,1146, 27.9957, 164.9772, 5668,    101.6,  17.5857,  34.7672,2,   -999.0,9,  34.7664,2,    229.0,2,     2.97,2,  -999.00,9,     1.85,2,     0.20,2,     0.13,2, -999.000,9, -999.000,9,  -999.00,9,   2008.8,2,   -999.0,9,-999.0000,9,   -999.0,  9,     8.11,2,   -999.0,  -999.00,9,  -999.00,9,     0.16,2,     0.30,2,   -999.0,-999.0000, -999,9,  101,  17.5686,  25.1992,   -999.0,9
       KS06-06,  165E,KS-1606,  1,     16,02-16022,2,20060622,1145, 27.9957, 164.9772, 5668,    125.6,  17.3539,  34.7598,2,   -999.0,9,-999.0000,9,    226.0,2,     3.38,2,  -999.00,9,     3.02,2,     0.02,2,     0.18,2, -999.000,9, -999.000,9,  -999.00,9,   -999.0,9,   -999.0,9,-999.0000,9,   -999.0,  9,     8.10,2,   -999.0,  -999.00,9,  -999.00,9,     0.07,2,     0.10,2,   -999.0,-999.0000, -999,9,  125,  17.3329,  25.2504,   -999.0,9
       KS06-06,  165E,KS-1606,  1,     15,02-16021,2,20060622,1144, 27.9957, 164.9772, 5668,    150.8,  17.2497,  34.7671,2,   -999.0,9,-999.0000,9,    225.0,2,     3.65,2,  -999.00,9,     3.41,2,     0.01,2,     0.20,2, -999.000,9, -999.000,9,  -999.00,9,   2019.5,2,   -999.0,9,-999.0000,9,   -999.0,  9,     8.10,2,   -999.0,  -999.00,9,  -999.00,9,     0.03,2,     0.03,2,   -999.0,-999.0000, -999,9,  150,  17.2246,  25.2819,   -999.0,9
       KS06-06,  165E,KS-1606,  1,     14,02-16020,2,20060622,1142, 27.9957, 164.9772, 5668,    201.1,  16.9997,  34.7547,2,   -999.0,9,  34.7551,2,    218.0,2,     4.59,2,  -999.00,9,     4.49,2,     0.00,2,     0.27,2, -999.000,9, -999.000,9,  -999.00,9,   2028.5,2,   -999.0,9,-999.0000,9,   -999.0,  9,     8.09,2,   -999.0,  -999.00,9,  -999.00,9,     0.00,2,     0.02,2,   -999.0,-999.0000, -999,9,  200,  16.9666,  25.3339,   -999.0,9
       KS06-06,  165E,KS-1606,  1,     13,02-16019,2,20060622,1141, 27.9957, 164.9772, 5668,    252.8,  16.5201,  34.7141,2,   -999.0,9,-999.0000,9,    214.0,2,     5.54,2,  -999.00,9,     5.56,2,     0.00,2,     0.33,2, -999.000,9, -999.000,9,  -999.00,9,   2037.4,2,   -999.0,9,-999.0000,9,   -999.0,  9,     8.07,2,   -999.0,  -999.00,9,  -999.00,9,     0.00,2,     0.01,2,   -999.0,-999.0000, -999,9,  251,  16.4792,  25.4172,   -999.0,9
       KS06-06,  165E,KS-1606,  1,     12,02-16018,2,20060622,1139, 27.9957, 164.9772, 5668,    304.3,  15.6778,  34.6416,2,   -999.0,9,  34.6442,2,    210.0,2,     7.07,2,  -999.00,9,     7.02,2,     0.00,2,     0.43,2, -999.000,9, -999.000,9,  -999.00,9,   2043.8,2,   -999.0,9,-999.0000,9,   -999.0,  9,     8.04,2,   -999.0,  -999.00,9,  -999.00,9,     0.00,2,     0.01,2,   -999.0,-999.0000, -999,9,  302,  15.6303,  25.5557,   -999.0,9
       KS06-06,  165E,KS-1606,  1,     11,02-19376,2,20060622,1136, 27.9957, 164.9772, 5668,    405.0,  13.2922,  34.4689,2,   -999.0,9,  34.4710,2,    208.0,2,    13.11,2,  -999.00,9,    11.01,2,     0.00,2,     0.72,2, -999.000,9, -999.000,9,  -999.00,9,   2076.2,2,   -999.0,9,-999.0000,9,   -999.0,  9,     7.97,2,   -999.0,  -999.00,9,  -999.00,9,  -999.00,9,  -999.00,9,   -999.0,-999.0000, -999,9,  402,  13.2355,  25.9340,   -999.0,9
       KS06-06,  165E,KS-1606,  1,     10,02-19375,2,20060622,1134, 27.9957, 164.9772, 5668,    505.7,  10.6254,  34.2533,2,   -999.0,9,  34.2554,2,    207.0,2,    21.31,2,  -999.00,9,    15.69,2,     0.00,2,     1.06,2, -999.000,9, -999.000,9,  -999.00,9,   2105.4,3,   -999.0,9,-999.0000,9,   -999.0,  9,     7.90,2,   -999.0,  -999.00,9,  -999.00,9,  -999.00,9,  -999.00,9,   -999.0,-999.0000, -999,9,  502,  10.5641,  26.2715,   -999.0,9
       KS06-06,  165E,KS-1606,  1,      9,02-16015,2,20060622,1131, 27.9957, 164.9772, 5668,    605.2,   7.7929,  34.0524,2,   -999.0,9,  34.0543,2,    177.0,2,    39.70,2,  -999.00,9,    23.57,2,     0.00,2,     1.68,2, -999.000,9, -999.000,9,  -999.00,9,   2160.5,3,   -999.0,9,-999.0000,9,   -999.0,  9,     7.77,2,   -999.0,  -999.00,9,  -999.00,9,  -999.00,9,  -999.00,9,   -999.0,-999.0000, -999,9,  600,   7.7318,  26.5690,   -999.0,9
       KS06-06,  165E,KS-1606,  1,      8,02-16014,2,20060622,1129, 27.9957, 164.9772, 5668,    707.0,   5.4969,  33.9916,2,   -999.0,9,  33.9915,2,    132.0,2,    67.05,2,  -999.00,9,    31.75,2,     0.00,2,     2.32,2, -999.000,9, -999.000,9,  -999.00,9,   2227.4,3,   -999.0,9,-999.0000,9,   -999.0,  9,     7.62,2,   -999.0,  -999.00,9,  -999.00,9,  -999.00,9,  -999.00,9,   -999.0,-999.0000, -999,9,  701,   5.4374,  26.8248,   -999.0,9
       KS06-06,  165E,KS-1606,  1,      7,02-19374,2,20060622,1126, 27.9957, 164.9772, 5668,    807.7,   4.6795,  34.0995,2,   -999.0,9,  34.0981,2,     83.0,2,    89.23,2,  -999.00,9,    37.20,2,     0.00,2,     2.72,2, -999.000,9, -999.000,9,  -999.00,9,   2273.4,3,   -999.0,9,-999.0000,9,   -999.0,  9,     7.52,2,   -999.0,  -999.00,9,  -999.00,9,  -999.00,9,  -999.00,9,   -999.0,-999.0000, -999,9,  801,   4.6159,  27.0044,   -999.0,9
       KS06-06,  165E,KS-1606,  1,      6,02-19373,2,20060622,1123, 27.9957, 164.9772, 5668,    910.5,   4.0655,  34.2186,2,   -999.0,9,  34.2182,2,     53.0,2,   108.72,2,  -999.00,9,    40.60,2,     0.00,2,     2.96,2, -999.000,9, -999.000,9,  -999.00,9,   2322.3,3,   -999.0,9,-999.0000,9,   -999.0,  9,     7.46,2,   -999.0,  -999.00,9,  -999.00,9,  -999.00,9,  -999.00,9,   -999.0,-999.0000, -999,9,  902,   3.9972,  27.1648,   -999.0,9
       KS06-06,  165E,KS-1606,  1,      5,02-16011,2,20060622,1121, 27.9957, 164.9772, 5668,   1013.2,   3.6083,  34.3042,2,   -999.0,9,  34.3019,2,     41.0,2,   121.69,2,  -999.00,9,    42.05,2,     0.00,2,     3.08,2, -999.000,9, -999.000,9,  -999.00,9,   2350.9,3,   -999.0,9,-999.0000,9,   -999.0,  9,     7.45,2,   -999.0,  -999.00,9,  -999.00,9,  -999.00,9,  -999.00,9,   -999.0,-999.0000, -999,9, 1004,   3.5349,  27.2793,   -999.0,9
       KS06-06,  165E,KS-1606,  1,      4,02-16010,2,20060622,1115, 27.9957, 164.9772, 5668,   1262.9,   2.8040,  34.4473,2,   -999.0,9,  34.4462,2,     39.0,2,   144.12,2,  -999.00,9,    43.12,2,     0.00,2,     3.13,2, -999.000,9, -999.000,9,  -999.00,9,   2370.5,3,   -999.0,9,-999.0000,9,   -999.0,  9,     7.45,2,   -999.0,  -999.00,9,  -999.00,9,  -999.00,9,  -999.00,9,   -999.0,-999.0000, -999,9, 1251,   2.7177,  27.4691,   -999.0,9
       KS06-06,  165E,KS-1606,  1,      3,02-16009,2,20060622,1110, 27.9957, 164.9772, 5668,   1514.8,   2.3855,  34.5219,2,   -999.0,9,  34.5213,2,     48.0,2,   154.30,2,  -999.00,9,    42.82,2,     0.00,2,     3.09,2, -999.000,9, -999.000,9,  -999.00,9,   2380.6,3,   -999.0,9,-999.0000,9,   -999.0,  9,     7.48,2,   -999.0,  -999.00,9,  -999.00,9,  -999.00,9,  -999.00,9,   -999.0,-999.0000, -999,9, 1499,   2.2837,  27.5658,   -999.0,9
       KS06-06,  165E,KS-1606,  1,      2,02-16008,2,20060622,1104, 27.9957, 164.9772, 5668,   1769.5,   2.0897,  34.5762,2,   -999.0,9,  34.5751,2,     68.0,2,   158.39,2,  -999.00,9,    41.84,2,     0.00,2,     3.00,2, -999.000,9, -999.000,9,  -999.00,9,   2373.5,6,   -999.0,9,-999.0000,9,   -999.0,  9,     7.51,2,   -999.0,  -999.00,9,  -999.00,9,  -999.00,9,  -999.00,9,   -999.0,-999.0000, -999,9, 1750,   1.9711,  27.6344,   -999.0,9
       KS06-06,  165E,KS-1606,  1,      1,02-16007,2,20060622,1059, 27.9957, 164.9772, 5668,   2034.1,   1.8449,  34.6185,2,   -999.0,9,  34.6178,2,     93.0,2,   157.10,2,  -999.00,9,    40.19,2,     0.00,2,     2.87,2, -999.000,9, -999.000,9,  -999.00,9,   2362.9,3,   -999.0,9,-999.0000,9,   -999.0,  9,     7.57,2,   -999.0,  -999.00,9,  -999.00,9,  -999.00,9,  -999.00,9,   -999.0,-999.0000, -999,9, 2011,   1.7080,  27.6886,   -999.0,9
       KS06-06,  165E,KS-1607,  1,      1,02-16007,2,20060622,1821, 26.9982, 164.9712, 5794,      5.2,  23.3638,  34.7771,2,   -999.0,9,-999.0000,9,   -999.0,9,     1.90,2,  -999.00,9,     0.00,2,     0.00,2,     0.00,2, -999.000,9, -999.000,9,  -999.00,9,   1983.3,3,   -999.0,9,-999.0000,9,   -999.0,  9,  -999.00,9,   -999.0,  -999.00,9,  -999.00,9,     0.10,2,     0.04,2,   -999.0,-999.0000, -999,9,    5,  23.3627,  23.6596,   -999.0,9
       KS06-06,  165E,KS-1607,  1,      2,02-16008,9,20060622,1822, 26.9982, 164.9712, 5794,      5.6,  23.3850,  34.7769,2,   -999.0,9,-999.0000,9,   -999.0,9,  -999.00,9,  -999.00,9,  -999.00,9,  -999.00,9,  -999.00,9, -999.000,9, -999.000,9,  -999.00,9,   -999.0,9,   -999.0,9,-999.0000,9,   -999.0,  9,  -999.00,9,   -999.0,  -999.00,9,  -999.00,9,  -999.00,9,  -999.00,9,   -999.0,-999.0000, -999,9,    6,  23.3839,  23.6533,   -999.0,9
       KS06-06,  165E,KS-1608,  1,      1,02-16007,2,20060623,0051, 26.0100, 164.9850, 5723,      5.5,  25.7368,  35.2486,2,   -999.0,9,-999.0000,9,   -999.0,9,     1.42,2,  -999.00,9,     0.00,2,     0.00,2,     0.00,2, -999.000,9, -999.000,9,  -999.00,9,   1986.0,3,   -999.0,9,-999.0000,9,   -999.0,  9,  -999.00,9,   -999.0,  -999.00,9,  -999.00,9,     0.05,2,     0.01,2,   -999.0,-999.0000, -999,9,    6,  25.7356,  23.3032,   -999.0,9
       KS06-06,  165E,KS-1608,  1,      2,02-16008,9,20060623,0051, 26.0100, 164.9850, 5723,      5.7,  25.7547,  35.2479,2,   -999.0,9,-999.0000,9,   -999.0,9,  -999.00,9,  -999.00,9,  -999.00,9,  -999.00,9,  -999.00,9, -999.000,9, -999.000,9,  -999.00,9,   -999.0,9,   -999.0,9,-999.0000,9,   -999.0,  9,  -999.00,9,   -999.0,  -999.00,9,  -999.00,9,  -999.00,9,  -999.00,9,   -999.0,-999.0000, -999,9,    6,  25.7534,  23.2971,   -999.0,9