BOTTLE,20131214MIRCJHATS
EXPOCODE,SECT_ID,STNNBR,CASTNO,SAMPNO,BTLNBR,BTLNBR_FLAG_W,DATE,TIME,LATITUDE,LONGITUDE,DEPTH,CTDPRS,CTDTMP,CTDSAL,CTDSAL_FLAG_W,CTDOXY,CTDOXY_FLAG_W,SALNTY,SALNTY_FLAG_W,OXYGEN,OXYGEN_FLAG_W,SILCAT,SILCAT_FLAG_W,NITRAT,NITRAT_FLAG_W,NO2+NO3,NO2+NO3_FLAG_W,NITRIT,NITRIT_FLAG_W,PHSPHT,PHSPHT_FLAG_W,CFC-11,CFC-11_FLAG_W,CFC-12,CFC-12_FLAG_W,DELC13,DELC13_FLAG_W,TCARBN,TCARBN_FLAG_W,ALKALI,ALKALI_FLAG_W,PH,PH_FLAG_W,PH_TMP,PH_SCALE,PH_NBS,PH_NBS_FLAG_W,C13ERR,TOTALP,TOTALP_FLAG_W,AMMONI,AMMONI_FLAG_W,CHLORA,CHLORA_FLAG_W,PPHYTN,PPHYTN_FLAG_W,REVPRS,REVTMP,DEPTH_,DEPTH_FLAG,CTDDEP,THETA,SIGTHT,DOC,DOC_FLAG_W
,,,,,,,GMT,GMT,,,METER,DBAR,ITS-90,PSS-78,,UMOL/KG,,PSS-78,,UMOL/KG,,UMOL/KG,,UMOL/KG,,UMOL/KG,,UMOL/KG,,UMOL/KG,,PMOL/KG,,PMOL/KG,,/MILLE,,UMOL/KG,,UMOL/KG,,25_DEG_C,,DEG_C,,,,/MILLE,UMOL/KG,,UMOL/KG,,UG/L,,UG/L,,DBAR,ITS-90,METERS,,METERS,DEG_C,,UMOL/L,
       KS06-06,  NONE,KS-1670,  1,     22,02-19379,2,20060802,1129, 19.9920, 149.3318, 4222,      5.1,  28.9858,  35.0884,2,   -999.0,9,  35.0859,2,    202.0,2,     1.08,2,  -999.00,9,     0.00,2,     0.00,2,     0.00,2, -999.000,9, -999.000,9,  -999.00,9,   -999.0,9,   -999.0,9,-999.0000,9,   -999.0,  9,  -999.00,9,   -999.0,  -999.00,9,  -999.00,9,  -999.00,9,  -999.00,9,   -999.0,-999.0000, -999,9,    5,  28.9846,  22.1356,   -999.0,9
       KS06-06,  NONE,KS-1670,  1,     21,02-16027,2,20060802,1128, 19.9920, 149.3318, 4222,      9.9,  28.9843,  35.0874,2,   -999.0,9,-999.0000,9,    200.0,2,     1.06,2,  -999.00,9,     0.00,2,     0.00,2,     0.00,2, -999.000,9, -999.000,9,  -999.00,9,   -999.0,9,   -999.0,9,-999.0000,9,   -999.0,  9,  -999.00,9,   -999.0,  -999.00,9,  -999.00,9,  -999.00,9,  -999.00,9,   -999.0,-999.0000, -999,9,   10,  28.9819,  22.1358,   -999.0,9
       KS06-06,  NONE,KS-1670,  1,     20,02-16026,2,20060802,1126, 19.9920, 149.3318, 4222,     25.0,  28.5964,  35.1025,2,   -999.0,9,-999.0000,9,    204.0,2,     1.19,2,  -999.00,9,     0.00,2,     0.00,2,     0.00,2, -999.000,9, -999.000,9,  -999.00,9,   -999.0,9,   -999.0,9,-999.0000,9,   -999.0,  9,  -999.00,9,   -999.0,  -999.00,9,  -999.00,9,  -999.00,9,  -999.00,9,   -999.0,-999.0000, -999,9,   25,  28.5904,  22.2774,   -999.0,9
       KS06-06,  NONE,KS-1670,  1,     19,02-19378,2,20060802,1123, 19.9920, 149.3318, 4222,     50.8,  24.5229,  35.0790,2,   -999.0,9,-999.0000,9,    224.0,2,     1.33,2,  -999.00,9,     0.00,2,     0.00,2,     0.00,2, -999.000,9, -999.000,9,  -999.00,9,   -999.0,9,   -999.0,9,-999.0000,9,   -999.0,  9,  -999.00,9,   -999.0,  -999.00,9,  -999.00,9,  -999.00,9,  -999.00,9,   -999.0,-999.0000, -999,9,   50,  24.5120,  23.5484,   -999.0,9
       KS06-06,  NONE,KS-1670,  1,     18,02-19377,2,20060802,1122, 19.9920, 149.3318, 4222,     75.6,  23.4368,  35.0561,2,   -999.0,9,-999.0000,9,    221.0,2,     1.42,2,  -999.00,9,     0.00,2,     0.00,2,     0.00,2, -999.000,9, -999.000,9,  -999.00,9,   -999.0,9,   -999.0,9,-999.0000,9,   -999.0,  9,  -999.00,9,   -999.0,  -999.00,9,  -999.00,9,  -999.00,9,  -999.00,9,   -999.0,-999.0000, -999,9,   75,  23.4212,  23.8540,   -999.0,9
       KS06-06,  NONE,KS-1670,  1,     17,02-16023,2,20060802,1120, 19.9920, 149.3318, 4222,    101.2,  21.1115,  34.9879,2,   -999.0,9,  34.9925,2,    207.0,2,     1.86,2,  -999.00,9,     0.10,2,     0.01,2,     0.04,2, -999.000,9, -999.000,9,  -999.00,9,   -999.0,9,   -999.0,9,-999.0000,9,   -999.0,  9,  -999.00,9,   -999.0,  -999.00,9,  -999.00,9,  -999.00,9,  -999.00,9,   -999.0,-999.0000, -999,9,  101,  21.0921,  24.4596,   -999.0,9
       KS06-06,  NONE,KS-1670,  1,     16,02-16022,2,20060802,1119, 19.9920, 149.3318, 4222,    126.0,  19.9371,  34.9402,2,   -999.0,9,-999.0000,9,    203.0,2,     2.36,2,  -999.00,9,     1.76,2,     0.09,2,     0.13,2, -999.000,9, -999.000,9,  -999.00,9,   -999.0,9,   -999.0,9,-999.0000,9,   -999.0,  9,  -999.00,9,   -999.0,  -999.00,9,  -999.00,9,  -999.00,9,  -999.00,9,   -999.0,-999.0000, -999,9,  125,  19.9139,  24.7388,   -999.0,9
       KS06-06,  NONE,KS-1670,  1,     15,02-16021,2,20060802,1118, 19.9920, 149.3318, 4222,    151.0,  18.6909,  34.8514,2,   -999.0,9,-999.0000,9,    216.0,2,     2.29,2,  -999.00,9,     1.56,2,     0.08,2,     0.12,2, -999.000,9, -999.000,9,  -999.00,9,   -999.0,9,   -999.0,9,-999.0000,9,   -999.0,  9,  -999.00,9,   -999.0,  -999.00,9,  -999.00,9,  -999.00,9,  -999.00,9,   -999.0,-999.0000, -999,9,  150,  18.6643,  24.9927,   -999.0,9
       KS06-06,  NONE,KS-1670,  1,     14,02-16020,2,20060802,1116, 19.9920, 149.3318, 4222,    201.6,  17.5698,  34.8019,2,   -999.0,9,  34.8021,2,    215.0,2,     3.51,2,  -999.00,9,     3.90,2,     0.01,2,     0.23,2, -999.000,9, -999.000,9,  -999.00,9,   -999.0,9,   -999.0,9,-999.0000,9,   -999.0,  9,  -999.00,9,   -999.0,  -999.00,9,  -999.00,9,  -999.00,9,  -999.00,9,   -999.0,-999.0000, -999,9,  200,  17.5358,  25.2337,   -999.0,9
       KS06-06,  NONE,KS-1670,  1,     13,02-16019,2,20060802,1114, 19.9920, 149.3318, 4222,    251.7,  16.8231,  34.7463,2,   -999.0,9,-999.0000,9,    206.0,2,     4.83,2,  -999.00,9,     5.75,2,     0.00,2,     0.35,2, -999.000,9, -999.000,9,  -999.00,9,   -999.0,9,   -999.0,9,-999.0000,9,   -999.0,  9,  -999.00,9,   -999.0,  -999.00,9,  -999.00,9,  -999.00,9,  -999.00,9,   -999.0,-999.0000, -999,9,  250,  16.7819,  25.3711,   -999.0,9
       KS06-06,  NONE,KS-1670,  1,     12,02-16018,2,20060802,1112, 19.9920, 149.3318, 4222,    302.8,  15.1871,  34.6024,2,   -999.0,9,  34.6043,2,    200.0,2,     8.41,2,  -999.00,9,     8.68,2,     0.00,2,     0.56,2, -999.000,9, -999.000,9,  -999.00,9,   -999.0,9,   -999.0,9,-999.0000,9,   -999.0,  9,  -999.00,9,   -999.0,  -999.00,9,  -999.00,9,  -999.00,9,  -999.00,9,   -999.0,-999.0000, -999,9,  301,  15.1409,  25.6344,   -999.0,9
       KS06-06,  NONE,KS-1670,  1,     11,02-19376,2,20060802,1109, 19.9920, 149.3318, 4222,    403.7,  11.6709,  34.3280,2,   -999.0,9,  34.3293,2,    191.0,2,    18.52,2,  -999.00,9,    15.30,2,     0.00,2,     1.03,2, -999.000,9, -999.000,9,  -999.00,9,   -999.0,9,   -999.0,9,-999.0000,9,   -999.0,  9,  -999.00,9,   -999.0,  -999.00,9,  -999.00,9,  -999.00,9,  -999.00,9,   -999.0,-999.0000, -999,9,  401,  11.6191,  26.1388,   -999.0,9
       KS06-06,  NONE,KS-1670,  1,     10,02-19375,2,20060802,1107, 19.9920, 149.3318, 4222,    503.6,   8.5567,  34.1281,2,   -999.0,9,  34.1278,2,    162.0,2,    36.82,2,  -999.00,9,    23.67,2,     0.00,2,     1.67,2, -999.000,9, -999.000,9,  -999.00,9,   -999.0,9,   -999.0,9,-999.0000,9,   -999.0,  9,  -999.00,9,   -999.0,  -999.00,9,  -999.00,9,  -999.00,9,  -999.00,9,   -999.0,-999.0000, -999,9,  500,   8.5033,  26.5131,   -999.0,9
       KS06-06,  NONE,KS-1670,  1,      9,02-16015,2,20060802,1104, 19.9920, 149.3318, 4222,    604.6,   6.5305,  34.0869,2,   -999.0,9,  34.0875,2,    116.0,2,    59.53,2,  -999.00,9,    31.46,2,     0.00,2,     2.27,2, -999.000,9, -999.000,9,  -999.00,9,   -999.0,9,   -999.0,9,-999.0000,9,   -999.0,  9,  -999.00,9,   -999.0,  -999.00,9,  -999.00,9,  -999.00,9,  -999.00,9,   -999.0,-999.0000, -999,9,  600,   6.4752,  26.7699,   -999.0,9
       KS06-06,  NONE,KS-1670,  1,      8,02-16014,2,20060802,1101, 19.9920, 149.3318, 4222,    706.6,   5.2492,  34.2020,2,   -999.0,9,  34.2004,2,     65.0,2,    84.01,2,  -999.00,9,    38.07,2,     0.00,2,     2.78,2, -999.000,9, -999.000,9,  -999.00,9,   -999.0,9,   -999.0,9,-999.0000,9,   -999.0,  9,  -999.00,9,   -999.0,  -999.00,9,  -999.00,9,  -999.00,9,  -999.00,9,   -999.0,-999.0000, -999,9,  701,   5.1908,  27.0205,   -999.0,9
       KS06-06,  NONE,KS-1670,  1,      7,02-19374,2,20060802,1058, 19.9920, 149.3318, 4222,    806.7,   4.7078,  34.3259,2,   -999.0,9,  34.3259,2,     54.0,2,    96.12,2,  -999.00,9,    39.92,2,     0.00,2,     2.91,2, -999.000,9, -999.000,9,  -999.00,9,   -999.0,9,   -999.0,9,-999.0000,9,   -999.0,  9,  -999.00,9,   -999.0,  -999.00,9,  -999.00,9,  -999.00,9,  -999.00,9,   -999.0,-999.0000, -999,9,  800,   4.6438,  27.1811,   -999.0,9
       KS06-06,  NONE,KS-1670,  1,      6,02-19373,2,20060802,1055, 19.9920, 149.3318, 4222,    908.6,   4.4376,  34.4056,2,   -999.0,9,  34.4044,2,     58.0,2,   101.66,2,  -999.00,9,    40.11,2,     0.00,2,     2.92,2, -999.000,9, -999.000,9,  -999.00,9,   -999.0,9,   -999.0,9,-999.0000,9,   -999.0,  9,  -999.00,9,   -999.0,  -999.00,9,  -999.00,9,  -999.00,9,  -999.00,9,   -999.0,-999.0000, -999,9,  901,   4.3666,  27.2746,   -999.0,9
       KS06-06,  NONE,KS-1670,  1,      5,02-16011,2,20060802,1053, 19.9920, 149.3318, 4222,   1009.1,   4.0074,  34.4654,2,   -999.0,9,  34.4643,2,     67.0,2,   110.19,2,  -999.00,9,    40.01,2,     0.00,2,     2.90,2, -999.000,9, -999.000,9,  -999.00,9,   -999.0,9,   -999.0,9,-999.0000,9,   -999.0,  9,  -999.00,9,   -999.0,  -999.00,9,  -999.00,9,  -999.00,9,  -999.00,9,   -999.0,-999.0000, -999,9, 1001,   3.9310,  27.3680,   -999.0,9
       KS06-06,  NONE,KS-1670,  1,      4,02-16010,2,20060802,1047, 19.9920, 149.3318, 4222,   1262.2,   3.0271,  34.5488,2,   -999.0,9,  34.5476,2,     85.0,2,   127.65,2,  -999.00,9,    39.71,2,     0.00,2,     2.85,2, -999.000,9, -999.000,9,  -999.00,9,   -999.0,9,   -999.0,9,-999.0000,9,   -999.0,  9,  -999.00,9,   -999.0,  -999.00,9,  -999.00,9,  -999.00,9,  -999.00,9,   -999.0,-999.0000, -999,9, 1251,   2.9385,  27.5305,   -999.0,9
       KS06-06,  NONE,KS-1670,  1,      3,02-16009,2,20060802,1042, 19.9920, 149.3318, 4222,   1515.4,   2.6055,  34.5809,2,   -999.0,9,  34.5800,2,     93.0,2,   134.93,2,  -999.00,9,    39.51,2,     0.00,2,     2.82,2, -999.000,9, -999.000,9,  -999.00,9,   -999.0,9,   -999.0,9,-999.0000,9,   -999.0,  9,  -999.00,9,   -999.0,  -999.00,9,  -999.00,9,  -999.00,9,  -999.00,9,   -999.0,-999.0000, -999,9, 1501,   2.5010,  27.5947,   -999.0,9
       KS06-06,  NONE,KS-1670,  1,      2,02-16008,2,20060802,1037, 19.9920, 149.3318, 4222,   1769.3,   2.2581,  34.6030,2,   -999.0,9,  34.6022,2,    101.0,2,   140.37,2,  -999.00,9,    39.22,2,     0.00,2,     2.79,2, -999.000,9, -999.000,9,  -999.00,9,   -999.0,9,   -999.0,9,-999.0000,9,   -999.0,  9,  -999.00,9,   -999.0,  -999.00,9,  -999.00,9,  -999.00,9,  -999.00,9,   -999.0,-999.0000, -999,9, 1751,   2.1372,  27.6426,   -999.0,9
       KS06-06,  NONE,KS-1670,  1,      1,02-16007,2,20060802,1032, 19.9920, 149.3318, 4222,   1985.0,   2.0223,  34.6246,2,   -999.0,9,  34.6237,2,    111.0,2,   144.08,2,  -999.00,9,    38.83,2,     0.00,2,     2.74,2, -999.000,9, -999.000,9,  -999.00,9,   -999.0,9,   -999.0,9,-999.0000,9,   -999.0,  9,  -999.00,9,   -999.0,  -999.00,9,  -999.00,9,  -999.00,9,  -999.00,9,   -999.0,-999.0000, -999,9, 1964,   1.8868,  27.6798,   -999.0,9
       KS06-06,  NONE,KS-1673,  1,     21,02-16027,2,20060803,1026, 22.9950, 149.3290, 5733,      4.8,  29.2258,  35.0631,2,   -999.0,9,-999.0000,9,    199.0,2,     0.88,2,  -999.00,9,     0.00,2,     0.00,2,     0.00,2, -999.000,9, -999.000,9,  -999.00,9,   -999.0,9,   -999.0,9,-999.0000,9,   -999.0,  9,  -999.00,9,   -999.0,  -999.00,9,  -999.00,9,  -999.00,9,  -999.00,9,   -999.0,-999.0000, -999,9,    5,  29.2246,  22.0362,   -999.0,9
       KS06-06,  NONE,KS-1673,  1,     20,02-16026,2,20060803,1026, 22.9950, 149.3290, 5733,     11.6,  29.2340,  35.0621,2,   -999.0,9,-999.0000,9,    200.0,2,     0.91,2,  -999.00,9,     0.00,2,     0.00,2,     0.00,2, -999.000,9, -999.000,9,  -999.00,9,   -999.0,9,   -999.0,9,-999.0000,9,   -999.0,  9,  -999.00,9,   -999.0,  -999.00,9,  -999.00,9,  -999.00,9,  -999.00,9,   -999.0,-999.0000, -999,9,   12,  29.2312,  22.0332,   -999.0,9
       KS06-06,  NONE,KS-1673,  1,     19,02-19378,2,20060803,1025, 22.9950, 149.3290, 5733,     26.7,  28.8971,  35.0417,2,   -999.0,9,-999.0000,9,    204.0,2,     0.90,2,  -999.00,9,     0.00,2,     0.00,2,     0.00,2, -999.000,9, -999.000,9,  -999.00,9,   -999.0,9,   -999.0,9,-999.0000,9,   -999.0,  9,  -999.00,9,   -999.0,  -999.00,9,  -999.00,9,  -999.00,9,  -999.00,9,   -999.0,-999.0000, -999,9,   27,  28.8907,  22.1319,   -999.0,9
       KS06-06,  NONE,KS-1673,  1,     18,02-19377,2,20060803,1022, 22.9950, 149.3290, 5733,     51.3,  25.1401,  35.0462,2,   -999.0,9,-999.0000,9,    224.0,2,     1.09,2,  -999.00,9,     0.00,2,     0.00,2,     0.00,2, -999.000,9, -999.000,9,  -999.00,9,   -999.0,9,   -999.0,9,-999.0000,9,   -999.0,  9,  -999.00,9,   -999.0,  -999.00,9,  -999.00,9,  -999.00,9,  -999.00,9,   -999.0,-999.0000, -999,9,   51,  25.1289,  23.3368,   -999.0,9
       KS06-06,  NONE,KS-1673,  1,     17,02-16023,2,20060803,1021, 22.9950, 149.3290, 5733,     77.5,  22.6924,  35.0472,2,   -999.0,9,-999.0000,9,    225.0,2,     1.34,2,  -999.00,9,     0.00,2,     0.00,2,     0.00,2, -999.000,9, -999.000,9,  -999.00,9,   -999.0,9,   -999.0,9,-999.0000,9,   -999.0,  9,  -999.00,9,   -999.0,  -999.00,9,  -999.00,9,  -999.00,9,  -999.00,9,   -999.0,-999.0000, -999,9,   77,  22.6767,  24.0622,   -999.0,9
       KS06-06,  NONE,KS-1673,  1,     16,02-16022,2,20060803,1020, 22.9950, 149.3290, 5733,    102.1,  20.0374,  34.9172,2,   -999.0,9,-999.0000,9,    229.0,2,     1.63,2,  -999.00,9,     0.00,2,     0.00,2,     0.01,2, -999.000,9, -999.000,9,  -999.00,9,   -999.0,9,   -999.0,9,-999.0000,9,   -999.0,  9,  -999.00,9,   -999.0,  -999.00,9,  -999.00,9,  -999.00,9,  -999.00,9,   -999.0,-999.0000, -999,9,  101,  20.0185,  24.6937,   -999.0,9
       KS06-06,  NONE,KS-1673,  1,     15,02-16021,2,20060803,1019, 22.9950, 149.3290, 5733,    125.6,  18.7563,  34.8469,2,   -999.0,9,-999.0000,9,    220.0,2,     2.08,2,  -999.00,9,     0.78,2,     0.12,2,     0.08,2, -999.000,9, -999.000,9,  -999.00,9,   -999.0,9,   -999.0,9,-999.0000,9,   -999.0,  9,  -999.00,9,   -999.0,  -999.00,9,  -999.00,9,  -999.00,9,  -999.00,9,   -999.0,-999.0000, -999,9,  125,  18.7342,  24.9716,   -999.0,9
       KS06-06,  NONE,KS-1673,  1,     14,02-16020,2,20060803,1018, 22.9950, 149.3290, 5733,    152.9,  18.4960,  34.8329,2,   -999.0,9,-999.0000,9,    218.0,2,     2.27,2,  -999.00,9,     1.85,2,     0.06,2,     0.13,2, -999.000,9, -999.000,9,  -999.00,9,   -999.0,9,   -999.0,9,-999.0000,9,   -999.0,  9,  -999.00,9,   -999.0,  -999.00,9,  -999.00,9,  -999.00,9,  -999.00,9,   -999.0,-999.0000, -999,9,  152,  18.4693,  25.0276,   -999.0,9
       KS06-06,  NONE,KS-1673,  1,     13,02-16019,2,20060803,1016, 22.9950, 149.3290, 5733,    202.3,  17.8053,  34.8075,2,   -999.0,9,-999.0000,9,    219.0,2,     2.98,2,  -999.00,9,     3.22,2,     0.01,2,     0.20,2, -999.000,9, -999.000,9,  -999.00,9,   -999.0,9,   -999.0,9,-999.0000,9,   -999.0,  9,  -999.00,9,   -999.0,  -999.00,9,  -999.00,9,  -999.00,9,  -999.00,9,   -999.0,-999.0000, -999,9,  201,  17.7709,  25.1808,   -999.0,9
       KS06-06,  NONE,KS-1673,  1,     12,02-16018,2,20060803,1015, 22.9950, 149.3290, 5733,    253.2,  17.0637,  34.7676,2,   -999.0,9,-999.0000,9,    208.0,2,     4.40,2,  -999.00,9,     5.27,2,     0.00,2,     0.32,2, -999.000,9, -999.000,9,  -999.00,9,   -999.0,9,   -999.0,9,-999.0000,9,   -999.0,  9,  -999.00,9,   -999.0,  -999.00,9,  -999.00,9,  -999.00,9,  -999.00,9,   -999.0,-999.0000, -999,9,  251,  17.0218,  25.3307,   -999.0,9
       KS06-06,  NONE,KS-1673,  1,     11,02-19376,2,20060803,1013, 22.9950, 149.3290, 5733,    305.3,  15.9918,  34.6744,2,   -999.0,9,-999.0000,9,    200.0,2,     6.65,2,  -999.00,9,     7.31,2,     0.00,2,     0.46,2, -999.000,9, -999.000,9,  -999.00,9,   -999.0,9,   -999.0,9,-999.0000,9,   -999.0,  9,  -999.00,9,   -999.0,  -999.00,9,  -999.00,9,  -999.00,9,  -999.00,9,   -999.0,-999.0000, -999,9,  303,  15.9435,  25.5100,   -999.0,9
       KS06-06,  NONE,KS-1673,  1,     10,02-19375,2,20060803,1011, 22.9950, 149.3290, 5733,    404.8,  13.1489,  34.4434,2,   -999.0,9,-999.0000,9,    194.0,2,    14.00,2,  -999.00,9,    12.48,2,     0.00,2,     0.83,2, -999.000,9, -999.000,9,  -999.00,9,   -999.0,9,   -999.0,9,-999.0000,9,   -999.0,  9,  -999.00,9,   -999.0,  -999.00,9,  -999.00,9,  -999.00,9,  -999.00,9,   -999.0,-999.0000, -999,9,  402,  13.0927,  25.9430,   -999.0,9
       KS06-06,  NONE,KS-1673,  1,      9,02-16015,2,20060803,1008, 22.9950, 149.3290, 5733,    504.6,  10.5387,  34.2491,2,   -999.0,9,-999.0000,9,    184.0,2,    23.59,2,  -999.00,9,    17.93,2,     0.00,2,     1.23,2, -999.000,9, -999.000,9,  -999.00,9,   -999.0,9,   -999.0,9,-999.0000,9,   -999.0,  9,  -999.00,9,   -999.0,  -999.00,9,  -999.00,9,  -999.00,9,  -999.00,9,   -999.0,-999.0000, -999,9,  501,  10.4778,  26.2833,   -999.0,9
       KS06-06,  NONE,KS-1673,  1,      8,02-16014,2,20060803,1006, 22.9950, 149.3290, 5733,    606.8,   7.4552,  34.1018,2,   -999.0,9,-999.0000,9,    134.0,2,    47.57,2,  -999.00,9,    27.95,2,     0.00,2,     2.00,2, -999.000,9, -999.000,9,  -999.00,9,   -999.0,9,   -999.0,9,-999.0000,9,   -999.0,  9,  -999.00,9,   -999.0,  -999.00,9,  -999.00,9,  -999.00,9,  -999.00,9,   -999.0,-999.0000, -999,9,  602,   7.3954,  26.6561,   -999.0,9
       KS06-06,  NONE,KS-1673,  1,      7,02-19374,2,20060803,1003, 22.9950, 149.3290, 5733,    708.4,   5.7546,  34.1401,2,   -999.0,9,-999.0000,9,     82.0,2,    73.27,2,  -999.00,9,    35.74,2,     0.00,2,     2.59,2, -999.000,9, -999.000,9,  -999.00,9,   -999.0,9,   -999.0,9,-999.0000,9,   -999.0,  9,  -999.00,9,   -999.0,  -999.00,9,  -999.00,9,  -999.00,9,  -999.00,9,   -999.0,-999.0000, -999,9,  703,   5.6934,  26.9113,   -999.0,9
       KS06-06,  NONE,KS-1673,  1,      6,02-19373,2,20060803,1001, 22.9950, 149.3290, 5733,    808.2,   4.9256,  34.2442,2,   -999.0,9,-999.0000,9,     56.0,2,    90.82,2,  -999.00,9,    39.24,2,     0.00,2,     2.87,2, -999.000,9, -999.000,9,  -999.00,9,   -999.0,9,   -999.0,9,-999.0000,9,   -999.0,  9,  -999.00,9,   -999.0,  -999.00,9,  -999.00,9,  -999.00,9,  -999.00,9,   -999.0,-999.0000, -999,9,  802,   4.8602,  27.0920,   -999.0,9
       KS06-06,  NONE,KS-1673,  1,      5,02-16011,2,20060803,0958, 22.9950, 149.3290, 5733,    909.3,   4.2565,  34.3407,2,   -999.0,9,-999.0000,9,     51.0,2,   105.36,2,  -999.00,9,    40.79,2,     0.00,2,     2.96,2, -999.000,9, -999.000,9,  -999.00,9,   -999.0,9,   -999.0,9,-999.0000,9,   -999.0,  9,  -999.00,9,   -999.0,  -999.00,9,  -999.00,9,  -999.00,9,  -999.00,9,   -999.0,-999.0000, -999,9,  902,   4.1868,  27.2422,   -999.0,9
       KS06-06,  NONE,KS-1673,  1,      4,02-16010,2,20060803,0956, 22.9950, 149.3290, 5733,   1008.9,   3.7535,  34.4092,2,   -999.0,9,-999.0000,9,     54.0,2,   116.86,2,  -999.00,9,    41.17,2,     0.00,2,     2.99,2, -999.000,9, -999.000,9,  -999.00,9,   -999.0,9,   -999.0,9,-999.0000,9,   -999.0,  9,  -999.00,9,   -999.0,  -999.00,9,  -999.00,9,  -999.00,9,  -999.00,9,   -999.0,-999.0000, -999,9, 1000,   3.6792,  27.3487,   -999.0,9
       KS06-06,  NONE,KS-1673,  1,      3,02-16009,2,20060803,0951, 22.9950, 149.3290, 5733,   1261.2,   3.0127,  34.4943,2,   -999.0,9,-999.0000,9,     63.0,2,   132.84,2,  -999.00,9,    41.27,2,     0.00,2,     2.97,2, -999.000,9, -999.000,9,  -999.00,9,   -999.0,9,   -999.0,9,-999.0000,9,   -999.0,  9,  -999.00,9,   -999.0,  -999.00,9,  -999.00,9,  -999.00,9,  -999.00,9,   -999.0,-999.0000, -999,9, 1250,   2.9244,  27.4883,   -999.0,9
       KS06-06,  NONE,KS-1673,  1,      2,02-16008,2,20060803,0946, 22.9950, 149.3290, 5733,   1513.8,   2.4995,  34.5496,2,   -999.0,9,-999.0000,9,     79.0,2,   142.08,2,  -999.00,9,    40.48,2,     0.00,2,     2.90,2, -999.000,9, -999.000,9,  -999.00,9,   -999.0,9,   -999.0,9,-999.0000,9,   -999.0,  9,  -999.00,9,   -999.0,  -999.00,9,  -999.00,9,  -999.00,9,  -999.00,9,   -999.0,-999.0000, -999,9, 1499,   2.3964,  27.5785,   -999.0,9
       KS06-06,  NONE,KS-1673,  1,      1,02-16007,2,20060803,0941, 22.9950, 149.3290, 5733,   1769.5,   2.1556,  34.5984,2,   -999.0,9,-999.0000,9,     99.0,2,   143.93,2,  -999.00,9,    39.61,2,     0.00,2,     2.80,2, -999.000,9, -999.000,9,  -999.00,9,   -999.0,9,   -999.0,9,-999.0000,9,   -999.0,  9,  -999.00,9,   -999.0,  -999.00,9,  -999.00,9,  -999.00,9,  -999.00,9,   -999.0,-999.0000, -999,9, 1751,   2.0361,  27.6471,   -999.0,9