BOTTLE,20131214MIRCJHATS
EXPOCODE,SECT_ID,STNNBR,CASTNO,SAMPNO,BTLNBR,BTLNBR_FLAG_W,DATE,TIME,LATITUDE,LONGITUDE,DEPTH,CTDPRS,CTDTMP,CTDSAL,CTDSAL_FLAG_W,CTDOXY,CTDOXY_FLAG_W,SALNTY,SALNTY_FLAG_W,OXYGEN,OXYGEN_FLAG_W,SILCAT,SILCAT_FLAG_W,NITRAT,NITRAT_FLAG_W,NO2+NO3,NO2+NO3_FLAG_W,NITRIT,NITRIT_FLAG_W,PHSPHT,PHSPHT_FLAG_W,CFC-11,CFC-11_FLAG_W,CFC-12,CFC-12_FLAG_W,DELC13,DELC13_FLAG_W,TCARBN,TCARBN_FLAG_W,ALKALI,ALKALI_FLAG_W,PH,PH_FLAG_W,PH_TMP,PH_SCALE,PH_NBS,PH_NBS_FLAG_W,C13ERR,TOTALP,TOTALP_FLAG_W,AMMONI,AMMONI_FLAG_W,CHLORA,CHLORA_FLAG_W,PPHYTN,PPHYTN_FLAG_W,REVPRS,REVTMP,DEPTH_,DEPTH_FLAG,CTDDEP,THETA,SIGTHT,DOC,DOC_FLAG_W
,,,,,,,GMT,GMT,,,METER,DBAR,ITS-90,PSS-78,,UMOL/KG,,PSS-78,,UMOL/KG,,UMOL/KG,,UMOL/KG,,UMOL/KG,,UMOL/KG,,UMOL/KG,,PMOL/KG,,PMOL/KG,,/MILLE,,UMOL/KG,,UMOL/KG,,25_DEG_C,,DEG_C,,,,/MILLE,UMOL/KG,,UMOL/KG,,UG/L,,UG/L,,DBAR,ITS-90,METERS,,METERS,DEG_C,,UMOL/L,
       KS06-06,  NONE,KS-1660,  1,     22,02-19379,2,20060723,1910, 10.0033, 149.3137, 5519,      3.9,  29.0513,  34.0029,2,   -999.0,9,  34.0053,2,    199.0,2,     1.16,2,  -999.00,9,     0.00,2,     0.00,2,     0.04,2, -999.000,9, -999.000,9,  -999.00,9,   -999.0,9,   -999.0,9,-999.0000,9,   -999.0,  9,  -999.00,9,   -999.0,  -999.00,9,  -999.00,9,  -999.00,9,  -999.00,9,   -999.0,-999.0000, -999,9,    4,  29.0503,  21.2988,   -999.0,9
       KS06-06,  NONE,KS-1660,  1,     21,02-16027,2,20060723,1909, 10.0033, 149.3137, 5519,      9.3,  29.0592,  34.0029,2,   -999.0,9,-999.0000,9,    199.0,2,     1.05,2,  -999.00,9,     0.00,2,     0.00,2,     0.04,2, -999.000,9, -999.000,9,  -999.00,9,   -999.0,9,   -999.0,9,-999.0000,9,   -999.0,  9,  -999.00,9,   -999.0,  -999.00,9,  -999.00,9,  -999.00,9,  -999.00,9,   -999.0,-999.0000, -999,9,    9,  29.0569,  21.2966,   -999.0,9
       KS06-06,  NONE,KS-1660,  1,     20,02-16026,2,20060723,1907, 10.0033, 149.3137, 5519,     25.0,  29.1279,  34.0471,2,   -999.0,9,-999.0000,9,    198.0,2,     1.14,2,  -999.00,9,     0.00,2,     0.00,2,     0.04,2, -999.000,9, -999.000,9,  -999.00,9,   -999.0,9,   -999.0,9,-999.0000,9,   -999.0,  9,  -999.00,9,   -999.0,  -999.00,9,  -999.00,9,  -999.00,9,  -999.00,9,   -999.0,-999.0000, -999,9,   25,  29.1218,  21.3082,   -999.0,9
       KS06-06,  NONE,KS-1660,  1,     19,02-19378,2,20060723,1904, 10.0033, 149.3137, 5519,     51.0,  29.1303,  34.1761,2,   -999.0,9,-999.0000,9,    199.0,2,     1.14,2,  -999.00,9,     0.00,2,     0.00,2,     0.04,2, -999.000,9, -999.000,9,  -999.00,9,   -999.0,9,   -999.0,9,-999.0000,9,   -999.0,  9,  -999.00,9,   -999.0,  -999.00,9,  -999.00,9,  -999.00,9,  -999.00,9,   -999.0,-999.0000, -999,9,   51,  29.1179,  21.4063,   -999.0,9
       KS06-06,  NONE,KS-1660,  1,     18,02-19377,2,20060723,1903, 10.0033, 149.3137, 5519,     75.0,  27.8164,  34.4427,2,   -999.0,9,-999.0000,9,    208.0,2,     1.13,2,  -999.00,9,     0.00,2,     0.00,2,     0.05,2, -999.000,9, -999.000,9,  -999.00,9,   -999.0,9,   -999.0,9,-999.0000,9,   -999.0,  9,  -999.00,9,   -999.0,  -999.00,9,  -999.00,9,  -999.00,9,  -999.00,9,   -999.0,-999.0000, -999,9,   75,  27.7988,  22.0410,   -999.0,9
       KS06-06,  NONE,KS-1660,  1,     17,02-16023,2,20060723,1902, 10.0033, 149.3137, 5519,    100.8,  26.8093,  34.6699,2,   -999.0,9,  34.6794,4,    204.0,2,     1.22,2,  -999.00,9,     0.00,2,     0.00,2,     0.07,2, -999.000,9, -999.000,9,  -999.00,9,   -999.0,9,   -999.0,9,-999.0000,9,   -999.0,  9,  -999.00,9,   -999.0,  -999.00,9,  -999.00,9,  -999.00,9,  -999.00,9,   -999.0,-999.0000, -999,9,  100,  26.7863,  22.5371,   -999.0,9
       KS06-06,  NONE,KS-1660,  1,     16,02-16022,2,20060723,1900, 10.0033, 149.3137, 5519,    126.4,  24.9086,  34.8598,2,   -999.0,9,-999.0000,9,    200.0,2,     1.42,2,  -999.00,9,     0.00,2,     0.00,2,     0.10,2, -999.000,9, -999.000,9,  -999.00,9,   -999.0,9,   -999.0,9,-999.0000,9,   -999.0,  9,  -999.00,9,   -999.0,  -999.00,9,  -999.00,9,  -999.00,9,  -999.00,9,   -999.0,-999.0000, -999,9,  126,  24.8813,  23.2713,   -999.0,9
       KS06-06,  NONE,KS-1660,  1,     15,02-16021,2,20060723,1859, 10.0033, 149.3137, 5519,    152.1,  20.9490,  34.8971,2,   -999.0,9,-999.0000,9,    176.0,2,     3.02,2,  -999.00,9,     2.93,2,     0.05,2,     0.32,2, -999.000,9, -999.000,9,  -999.00,9,   -999.0,9,   -999.0,9,-999.0000,9,   -999.0,  9,  -999.00,9,   -999.0,  -999.00,9,  -999.00,9,  -999.00,9,  -999.00,9,   -999.0,-999.0000, -999,9,  151,  20.9200,  24.4373,   -999.0,9
       KS06-06,  NONE,KS-1660,  1,     14,02-16020,2,20060723,1857, 10.0033, 149.3137, 5519,    202.7,  13.4482,  34.4723,2,   -999.0,9,  34.4769,2,    129.0,2,    16.43,2,  -999.00,9,    17.84,2,     0.00,2,     1.31,2, -999.000,9, -999.000,9,  -999.00,9,   -999.0,9,   -999.0,9,-999.0000,9,   -999.0,  9,  -999.00,9,   -999.0,  -999.00,9,  -999.00,9,  -999.00,9,  -999.00,9,   -999.0,-999.0000, -999,9,  201,  13.4198,  25.8992,   -999.0,9
       KS06-06,  NONE,KS-1660,  1,     13,02-16019,2,20060723,1855, 10.0033, 149.3137, 5519,    253.9,  10.6866,  34.3942,2,   -999.0,9,-999.0000,9,     93.0,2,    28.62,2,  -999.00,9,    26.31,2,     0.00,2,     1.93,2, -999.000,9, -999.000,9,  -999.00,9,   -999.0,9,   -999.0,9,-999.0000,9,   -999.0,  9,  -999.00,9,   -999.0,  -999.00,9,  -999.00,9,  -999.00,9,  -999.00,9,   -999.0,-999.0000, -999,9,  252,  10.6560,  26.3652,   -999.0,9
       KS06-06,  NONE,KS-1660,  1,     12,02-16018,2,20060723,1854, 10.0033, 149.3137, 5519,    303.8,   9.5489,  34.4806,2,   -999.0,9,  34.4826,2,     71.0,2,    36.76,2,  -999.00,9,    31.07,2,     0.00,2,     2.24,2, -999.000,9, -999.000,9,  -999.00,9,   -999.0,9,   -999.0,9,-999.0000,9,   -999.0,  9,  -999.00,9,   -999.0,  -999.00,9,  -999.00,9,  -999.00,9,  -999.00,9,   -999.0,-999.0000, -999,9,  302,   9.5147,  26.6277,   -999.0,9
       KS06-06,  NONE,KS-1660,  1,     11,02-19376,2,20060723,1850, 10.0033, 149.3137, 5519,    405.0,   8.2653,  34.5185,2,   -999.0,9,  34.5189,2,     72.0,2,    45.17,2,  -999.00,9,    33.79,2,     0.00,2,     2.41,2, -999.000,9, -999.000,9,  -999.00,9,   -999.0,9,   -999.0,9,-999.0000,9,   -999.0,  9,  -999.00,9,   -999.0,  -999.00,9,  -999.00,9,  -999.00,9,  -999.00,9,   -999.0,-999.0000, -999,9,  402,   8.2232,  26.8621,   -999.0,9
       KS06-06,  NONE,KS-1660,  1,     10,02-19375,2,20060723,1847, 10.0033, 149.3137, 5519,    505.4,   7.1100,  34.5088,2,   -999.0,9,  34.5183,4,     73.0,2,    48.60,2,  -999.00,9,    34.47,2,     0.00,2,     2.46,2, -999.000,9, -999.000,9,  -999.00,9,   -999.0,9,   -999.0,9,-999.0000,9,   -999.0,  9,  -999.00,9,   -999.0,  -999.00,9,  -999.00,9,  -999.00,9,  -999.00,9,   -999.0,-999.0000, -999,9,  502,   7.0616,  27.0233,   -999.0,9
       KS06-06,  NONE,KS-1660,  1,      9,02-16015,2,20060723,1845, 10.0033, 149.3137, 5519,    605.0,   6.3748,  34.5306,2,   -999.0,9,  34.5311,2,     73.0,2,    62.55,2,  -999.00,9,    37.29,2,     0.00,2,     2.69,2, -999.000,9, -999.000,9,  -999.00,9,   -999.0,9,   -999.0,9,-999.0000,9,   -999.0,  9,  -999.00,9,   -999.0,  -999.00,9,  -999.00,9,  -999.00,9,  -999.00,9,   -999.0,-999.0000, -999,9,  601,   6.3197,  27.1405,   -999.0,9
       KS06-06,  NONE,KS-1660,  1,      8,02-16014,2,20060723,1842, 10.0033, 149.3137, 5519,    706.1,   6.0017,  34.5313,2,   -999.0,9,  34.5323,2,     73.0,2,    67.74,2,  -999.00,9,    37.97,2,     0.00,2,     2.75,2, -999.000,9, -999.000,9,  -999.00,9,   -999.0,9,   -999.0,9,-999.0000,9,   -999.0,  9,  -999.00,9,   -999.0,  -999.00,9,  -999.00,9,  -999.00,9,  -999.00,9,   -999.0,-999.0000, -999,9,  701,   5.9390,  27.1900,   -999.0,9
       KS06-06,  NONE,KS-1660,  1,      7,02-19374,2,20060723,1840, 10.0033, 149.3137, 5519,    807.6,   5.5191,  34.5281,2,   -999.0,9,  34.5290,2,     82.0,2,    74.90,2,  -999.00,9,    37.87,2,     0.00,2,     2.74,2, -999.000,9, -999.000,9,  -999.00,9,   -999.0,9,   -999.0,9,-999.0000,9,   -999.0,  9,  -999.00,9,   -999.0,  -999.00,9,  -999.00,9,  -999.00,9,  -999.00,9,   -999.0,-999.0000, -999,9,  801,   5.4497,  27.2479,   -999.0,9
       KS06-06,  NONE,KS-1660,  1,      6,02-19373,2,20060723,1837, 10.0033, 149.3137, 5519,    907.4,   5.0306,  34.5352,2,   -999.0,9,  34.5367,2,     81.0,2,    83.76,2,  -999.00,9,    38.55,2,     0.00,2,     2.78,2, -999.000,9, -999.000,9,  -999.00,9,   -999.0,9,   -999.0,9,-999.0000,9,   -999.0,  9,  -999.00,9,   -999.0,  -999.00,9,  -999.00,9,  -999.00,9,  -999.00,9,   -999.0,-999.0000, -999,9,  900,   4.9554,  27.3119,   -999.0,9
       KS06-06,  NONE,KS-1660,  1,      5,02-16011,2,20060723,1835, 10.0033, 149.3137, 5519,   1008.0,   4.5491,  34.5475,2,   -999.0,9,  34.5487,2,     85.0,2,    92.58,2,  -999.00,9,    38.84,2,     0.00,2,     2.80,2, -999.000,9, -999.000,9,  -999.00,9,   -999.0,9,   -999.0,9,-999.0000,9,   -999.0,  9,  -999.00,9,   -999.0,  -999.00,9,  -999.00,9,  -999.00,9,  -999.00,9,   -999.0,-999.0000, -999,9, 1000,   4.4685,  27.3763,   -999.0,9
       KS06-06,  NONE,KS-1660,  1,      4,02-16010,2,20060723,1830, 10.0033, 149.3137, 5519,   1261.2,   3.5900,  34.5737,2,   -999.0,9,  34.5740,2,     92.0,2,   111.56,2,  -999.00,9,    39.12,2,     0.00,2,     2.82,2, -999.000,9, -999.000,9,  -999.00,9,   -999.0,9,   -999.0,9,-999.0000,9,   -999.0,  9,  -999.00,9,   -999.0,  -999.00,9,  -999.00,9,  -999.00,9,  -999.00,9,   -999.0,-999.0000, -999,9, 1250,   3.4959,  27.4978,   -999.0,9
       KS06-06,  NONE,KS-1660,  1,      3,02-16009,2,20060723,1825, 10.0033, 149.3137, 5519,   1515.0,   2.9553,  34.5984,2,   -999.0,9,  34.5993,2,    101.0,2,   123.19,2,  -999.00,9,    39.02,2,     0.00,2,     2.79,2, -999.000,9, -999.000,9,  -999.00,9,   -999.0,9,   -999.0,9,-999.0000,9,   -999.0,  9,  -999.00,9,   -999.0,  -999.00,9,  -999.00,9,  -999.00,9,  -999.00,9,   -999.0,-999.0000, -999,9, 1501,   2.8467,  27.5784,   -999.0,9
       KS06-06,  NONE,KS-1660,  1,      2,02-16008,2,20060723,1820, 10.0033, 149.3137, 5519,   1768.4,   2.4888,  34.6189,2,   -999.0,9,  34.6192,2,    108.0,2,   132.56,2,  -999.00,9,    38.73,2,     0.00,2,     2.77,2, -999.000,9, -999.000,9,  -999.00,9,   -999.0,9,   -999.0,9,-999.0000,9,   -999.0,  9,  -999.00,9,   -999.0,  -999.00,9,  -999.00,9,  -999.00,9,  -999.00,9,   -999.0,-999.0000, -999,9, 1751,   2.3648,  27.6366,   -999.0,9
       KS06-06,  NONE,KS-1660,  1,      1,02-16007,2,20060723,1815, 10.0033, 149.3137, 5519,   2031.0,   2.1753,  34.6356,2,   -999.0,9,  34.6357,2,    116.0,2,   138.46,2,  -999.00,9,    38.53,2,     0.00,2,     2.73,2, -999.000,9, -999.000,9,  -999.00,9,   -999.0,9,   -999.0,9,-999.0000,9,   -999.0,  9,  -999.00,9,   -999.0,  -999.00,9,  -999.00,9,  -999.00,9,  -999.00,9,   -999.0,-999.0000, -999,9, 2010,   2.0335,  27.6771,   -999.0,9