BOTTLE,20131214MIRCJHATS
EXPOCODE,SECT_ID,STNNBR,CASTNO,SAMPNO,BTLNBR,BTLNBR_FLAG_W,DATE,TIME,LATITUDE,LONGITUDE,DEPTH,CTDPRS,CTDTMP,CTDSAL,CTDSAL_FLAG_W,CTDOXY,CTDOXY_FLAG_W,SALNTY,SALNTY_FLAG_W,OXYGEN,OXYGEN_FLAG_W,SILCAT,SILCAT_FLAG_W,NITRAT,NITRAT_FLAG_W,NO2+NO3,NO2+NO3_FLAG_W,NITRIT,NITRIT_FLAG_W,PHSPHT,PHSPHT_FLAG_W,CFC-11,CFC-11_FLAG_W,CFC-12,CFC-12_FLAG_W,DELC13,DELC13_FLAG_W,TCARBN,TCARBN_FLAG_W,ALKALI,ALKALI_FLAG_W,PH,PH_FLAG_W,PH_TMP,PH_SCALE,PH_NBS,PH_NBS_FLAG_W,C13ERR,TOTALP,TOTALP_FLAG_W,AMMONI,AMMONI_FLAG_W,CHLORA,CHLORA_FLAG_W,PPHYTN,PPHYTN_FLAG_W,REVPRS,REVTMP,DEPTH_,DEPTH_FLAG,CTDDEP,THETA,SIGTHT,DOC,DOC_FLAG_W
,,,,,,,GMT,GMT,,,METER,DBAR,ITS-90,PSS-78,,UMOL/KG,,PSS-78,,UMOL/KG,,UMOL/KG,,UMOL/KG,,UMOL/KG,,UMOL/KG,,UMOL/KG,,PMOL/KG,,PMOL/KG,,/MILLE,,UMOL/KG,,UMOL/KG,,25_DEG_C,,DEG_C,,,,/MILLE,UMOL/KG,,UMOL/KG,,UG/L,,UG/L,,DBAR,ITS-90,METERS,,METERS,DEG_C,,UMOL/L,
       KS06-06,  NONE,KS-1597,  1,     22,02-19379,2,20060618,1900, 28.0133, 146.9868, 5737,      4.9,  27.2500,  34.9013,2,   -999.0,9,  34.9004,2,    207.0,2,     1.67,2,  -999.00,9,     0.00,2,     0.00,2,     0.00,2, -999.000,9, -999.000,9,  -999.00,9,   -999.0,9,   -999.0,9,-999.0000,9,   -999.0,  9,  -999.00,9,   -999.0,  -999.00,9,  -999.00,9,  -999.00,9,  -999.00,9,   -999.0,-999.0000, -999,9,    5,  27.2489,  22.5638,   -999.0,9
       KS06-06,  NONE,KS-1597,  1,     21,02-16027,2,20060618,1859, 28.0133, 146.9868, 5737,      9.9,  26.9591,  34.8882,2,   -999.0,9,-999.0000,9,    211.0,2,     1.60,2,  -999.00,9,     0.00,2,     0.00,2,     0.00,2, -999.000,9, -999.000,9,  -999.00,9,   -999.0,9,   -999.0,9,-999.0000,9,   -999.0,  9,  -999.00,9,   -999.0,  -999.00,9,  -999.00,9,  -999.00,9,  -999.00,9,   -999.0,-999.0000, -999,9,   10,  26.9568,  22.6473,   -999.0,9
       KS06-06,  NONE,KS-1597,  1,     20,02-16026,2,20060618,1857, 28.0133, 146.9868, 5737,     25.4,  24.4832,  34.9140,2,   -999.0,9,-999.0000,9,    224.0,2,     1.65,2,  -999.00,9,     0.00,2,     0.00,2,     0.00,2, -999.000,9, -999.000,9,  -999.00,9,   -999.0,9,   -999.0,9,-999.0000,9,   -999.0,  9,  -999.00,9,   -999.0,  -999.00,9,  -999.00,9,  -999.00,9,  -999.00,9,   -999.0,-999.0000, -999,9,   25,  24.4778,  23.4339,   -999.0,9
       KS06-06,  NONE,KS-1597,  1,     19,02-19378,2,20060618,1854, 28.0133, 146.9868, 5737,     50.9,  20.5868,  34.8654,2,   -999.0,9,-999.0000,9,    233.0,2,     1.85,2,  -999.00,9,     0.00,2,     0.00,2,     0.00,2, -999.000,9, -999.000,9,  -999.00,9,   -999.0,9,   -999.0,9,-999.0000,9,   -999.0,  9,  -999.00,9,   -999.0,  -999.00,9,  -999.00,9,  -999.00,9,  -999.00,9,   -999.0,-999.0000, -999,9,   51,  20.5772,  24.5056,   -999.0,9
       KS06-06,  NONE,KS-1597,  1,     18,02-19377,2,20060618,1853, 28.0133, 146.9868, 5737,     76.4,  19.8328,  34.8712,2,   -999.0,9,-999.0000,9,    229.0,2,     1.95,2,  -999.00,9,     0.00,2,     0.00,2,     0.00,2, -999.000,9, -999.000,9,  -999.00,9,   -999.0,9,   -999.0,9,-999.0000,9,   -999.0,  9,  -999.00,9,   -999.0,  -999.00,9,  -999.00,9,  -999.00,9,  -999.00,9,   -999.0,-999.0000, -999,9,   76,  19.8188,  24.7111,   -999.0,9
       KS06-06,  NONE,KS-1597,  1,     17,02-16023,2,20060618,1852, 28.0133, 146.9868, 5737,    100.9,  19.1183,  34.8523,2,   -999.0,9,  34.8511,2,    224.0,2,     2.21,2,  -999.00,9,     0.29,2,     0.08,2,     0.02,2, -999.000,9, -999.000,9,  -999.00,9,   -999.0,9,   -999.0,9,-999.0000,9,   -999.0,  9,  -999.00,9,   -999.0,  -999.00,9,  -999.00,9,  -999.00,9,  -999.00,9,   -999.0,-999.0000, -999,9,  100,  19.1003,  24.8827,   -999.0,9
       KS06-06,  NONE,KS-1597,  1,     16,02-16022,2,20060618,1851, 28.0133, 146.9868, 5737,    126.1,  18.6188,  34.8414,2,   -999.0,9,-999.0000,9,    213.0,2,     2.79,2,  -999.00,9,     2.44,2,     0.08,2,     0.11,2, -999.000,9, -999.000,9,  -999.00,9,   -999.0,9,   -999.0,9,-999.0000,9,   -999.0,  9,  -999.00,9,   -999.0,  -999.00,9,  -999.00,9,  -999.00,9,  -999.00,9,   -999.0,-999.0000, -999,9,  125,  18.5967,  25.0020,   -999.0,9
       KS06-06,  NONE,KS-1597,  1,     15,02-16021,2,20060618,1849, 28.0133, 146.9868, 5737,    150.4,  18.1475,  34.8219,2,   -999.0,9,-999.0000,9,    214.0,2,     3.04,2,  -999.00,9,     3.02,2,     0.02,2,     0.15,2, -999.000,9, -999.000,9,  -999.00,9,   -999.0,9,   -999.0,9,-999.0000,9,   -999.0,  9,  -999.00,9,   -999.0,  -999.00,9,  -999.00,9,  -999.00,9,  -999.00,9,   -999.0,-999.0000, -999,9,  149,  18.1216,  25.1056,   -999.0,9
       KS06-06,  NONE,KS-1597,  1,     14,02-16020,2,20060618,1848, 28.0133, 146.9868, 5737,    200.0,  17.6605,  34.8076,2,   -999.0,9,  34.8070,2,    209.0,2,     3.89,2,  -999.00,9,     4.19,2,     0.01,2,     0.20,2, -999.000,9, -999.000,9,  -999.00,9,   -999.0,9,   -999.0,9,-999.0000,9,   -999.0,  9,  -999.00,9,   -999.0,  -999.00,9,  -999.00,9,  -999.00,9,  -999.00,9,   -999.0,-999.0000, -999,9,  199,  17.6266,  25.2160,   -999.0,9
       KS06-06,  NONE,KS-1597,  1,     13,02-16019,2,20060618,1846, 28.0133, 146.9868, 5737,    251.3,  17.0324,  34.7660,2,   -999.0,9,-999.0000,9,    207.0,2,     4.68,2,  -999.00,9,     5.36,2,     0.00,2,     0.27,2, -999.000,9, -999.000,9,  -999.00,9,   -999.0,9,   -999.0,9,-999.0000,9,   -999.0,  9,  -999.00,9,   -999.0,  -999.00,9,  -999.00,9,  -999.00,9,  -999.00,9,   -999.0,-999.0000, -999,9,  249,  16.9909,  25.3368,   -999.0,9
       KS06-06,  NONE,KS-1597,  1,     12,02-16018,2,20060618,1845, 28.0133, 146.9868, 5737,    302.2,  16.1271,  34.6870,2,   -999.0,9,  34.6871,2,    201.0,2,     6.69,2,  -999.00,9,     7.22,2,     0.00,2,     0.40,2, -999.000,9, -999.000,9,  -999.00,9,   -999.0,9,   -999.0,9,-999.0000,9,   -999.0,  9,  -999.00,9,   -999.0,  -999.00,9,  -999.00,9,  -999.00,9,  -999.00,9,   -999.0,-999.0000, -999,9,  300,  16.0790,  25.4888,   -999.0,9
       KS06-06,  NONE,KS-1597,  1,     11,02-19376,2,20060618,1842, 28.0133, 146.9868, 5737,    403.2,  14.2327,  34.5275,2,   -999.0,9,  34.5287,2,    197.0,2,    11.30,2,  -999.00,9,    10.43,2,     0.00,2,     0.63,2, -999.000,9, -999.000,9,  -999.00,9,   -999.0,9,   -999.0,9,-999.0000,9,   -999.0,  9,  -999.00,9,   -999.0,  -999.00,9,  -999.00,9,  -999.00,9,  -999.00,9,   -999.0,-999.0000, -999,9,  400,  14.1736,  25.7854,   -999.0,9
       KS06-06,  NONE,KS-1597,  1,     10,02-19375,2,20060618,1840, 28.0133, 146.9868, 5737,    504.3,  11.4084,  34.3173,2,   -999.0,9,  34.3186,2,    189.0,2,    20.69,2,  -999.00,9,    15.88,2,     0.01,2,     1.03,2, -999.000,9, -999.000,9,  -999.00,9,   -999.0,9,   -999.0,9,-999.0000,9,   -999.0,  9,  -999.00,9,   -999.0,  -999.00,9,  -999.00,9,  -999.00,9,  -999.00,9,   -999.0,-999.0000, -999,9,  500,  11.3444,  26.1813,   -999.0,9
       KS06-06,  NONE,KS-1597,  1,      9,02-16015,2,20060618,1837, 28.0133, 146.9868, 5737,    604.7,   8.8993,  34.1412,2,   -999.0,9,  34.1440,2,    175.0,2,    34.25,2,  -999.00,9,    21.72,2,     0.01,2,     1.49,2, -999.000,9, -999.000,9,  -999.00,9,   -999.0,9,   -999.0,9,-999.0000,9,   -999.0,  9,  -999.00,9,   -999.0,  -999.00,9,  -999.00,9,  -999.00,9,  -999.00,9,   -999.0,-999.0000, -999,9,  600,   8.8333,  26.4720,   -999.0,9
       KS06-06,  NONE,KS-1597,  1,      8,02-16014,2,20060618,1835, 28.0133, 146.9868, 5737,    705.3,   6.7723,  34.0605,2,   -999.0,9,  34.0626,2,    135.0,2,    55.24,2,  -999.00,9,    29.32,2,     0.01,2,     2.10,2, -999.000,9, -999.000,9,  -999.00,9,   -999.0,9,   -999.0,9,-999.0000,9,   -999.0,  9,  -999.00,9,   -999.0,  -999.00,9,  -999.00,9,  -999.00,9,  -999.00,9,   -999.0,-999.0000, -999,9,  699,   6.7060,  26.7185,   -999.0,9
       KS06-06,  NONE,KS-1597,  1,      7,02-19374,2,20060618,1832, 28.0133, 146.9868, 5737,    806.2,   5.1907,  34.1109,2,   -999.0,9,  34.1122,2,    129.0,4,    81.83,2,  -999.00,9,    36.13,2,     0.00,2,     2.66,2, -999.000,9, -999.000,9,  -999.00,9,   -999.0,9,   -999.0,9,-999.0000,9,   -999.0,  9,  -999.00,9,   -999.0,  -999.00,9,  -999.00,9,  -999.00,9,  -999.00,9,   -999.0,-999.0000, -999,9,  799,   5.1240,  26.9561,   -999.0,9
       KS06-06,  NONE,KS-1597,  1,      6,02-19373,2,20060618,1830, 28.0133, 146.9868, 5737,    907.7,   4.5264,  34.1854,2,   -999.0,9,  34.1851,2,     62.0,2,    97.68,2,  -999.00,9,    39.24,2,     0.00,2,     2.88,2, -999.000,9, -999.000,9,  -999.00,9,   -999.0,9,   -999.0,9,-999.0000,9,   -999.0,  9,  -999.00,9,   -999.0,  -999.00,9,  -999.00,9,  -999.00,9,  -999.00,9,   -999.0,-999.0000, -999,9,  900,   4.4551,  27.0902,   -999.0,9
       KS06-06,  NONE,KS-1597,  1,      5,02-16011,2,20060618,1828, 28.0133, 146.9868, 5737,   1008.4,   3.9442,  34.2774,2,   -999.0,9,  34.2787,2,     46.0,2,   113.71,2,  -999.00,9,    41.28,2,     0.00,2,     3.04,2, -999.000,9, -999.000,9,  -999.00,9,   -999.0,9,   -999.0,9,-999.0000,9,   -999.0,  9,  -999.00,9,   -999.0,  -999.00,9,  -999.00,9,  -999.00,9,  -999.00,9,   -999.0,-999.0000, -999,9,  999,   3.8687,  27.2247,   -999.0,9
       KS06-06,  NONE,KS-1597,  1,      4,02-16010,2,20060618,1822, 28.0133, 146.9868, 5737,   1262.7,   3.1313,  34.4279,2,   -999.0,9,  34.4278,2,     43.0,2,   134.82,2,  -999.00,9,    42.44,2,     0.00,2,     3.11,2, -999.000,9, -999.000,9,  -999.00,9,   -999.0,9,   -999.0,9,-999.0000,9,   -999.0,  9,  -999.00,9,   -999.0,  -999.00,9,  -999.00,9,  -999.00,9,  -999.00,9,   -999.0,-999.0000, -999,9, 1251,   3.0419,  27.4245,   -999.0,9
       KS06-06,  NONE,KS-1597,  1,      3,02-16009,2,20060618,1817, 28.0133, 146.9868, 5737,   1514.6,   2.6304,  34.5050,2,   -999.0,9,  34.5047,2,     53.0,2,   146.54,2,  -999.00,9,    42.24,2,     0.00,2,     3.09,2, -999.000,9, -999.000,9,  -999.00,9,   -999.0,9,   -999.0,9,-999.0000,9,   -999.0,  9,  -999.00,9,   -999.0,  -999.00,9,  -999.00,9,  -999.00,9,  -999.00,9,   -999.0,-999.0000, -999,9, 1499,   2.5258,  27.5319,   -999.0,9
       KS06-06,  NONE,KS-1597,  1,      2,02-16008,2,20060618,1811, 28.0133, 146.9868, 5737,   1768.5,   2.2176,  34.5615,2,   -999.0,9,  34.5610,2,     67.0,2,   154.49,2,  -999.00,9,    41.65,2,     0.00,2,     3.02,2, -999.000,9, -999.000,9,  -999.00,9,   -999.0,9,   -999.0,9,-999.0000,9,   -999.0,  9,  -999.00,9,   -999.0,  -999.00,9,  -999.00,9,  -999.00,9,  -999.00,9,   -999.0,-999.0000, -999,9, 1749,   2.0974,  27.6126,   -999.0,9
       KS06-06,  NONE,KS-1597,  1,      1,02-16007,2,20060618,1806, 28.0133, 146.9868, 5737,   2034.9,   1.9740,  34.6029,2,   -999.0,9,  34.6024,2,     91.0,2,   153.35,2,  -999.00,9,    40.19,2,     0.00,2,     2.89,2, -999.000,9, -999.000,9,  -999.00,9,   -999.0,9,   -999.0,9,-999.0000,9,   -999.0,  9,  -999.00,9,   -999.0,  -999.00,9,  -999.00,9,  -999.00,9,  -999.00,9,   -999.0,-999.0000, -999,9, 2012,   1.8351,  27.6664,   -999.0,9