BOTTLE,20131214MIRCJHATS
EXPOCODE,SECT_ID,STNNBR,CASTNO,SAMPNO,BTLNBR,BTLNBR_FLAG_W,DATE,TIME,LATITUDE,LONGITUDE,DEPTH,CTDPRS,CTDTMP,CTDSAL,CTDSAL_FLAG_W,CTDOXY,CTDOXY_FLAG_W,SALNTY,SALNTY_FLAG_W,OXYGEN,OXYGEN_FLAG_W,SILCAT,SILCAT_FLAG_W,NITRAT,NITRAT_FLAG_W,NO2+NO3,NO2+NO3_FLAG_W,NITRIT,NITRIT_FLAG_W,PHSPHT,PHSPHT_FLAG_W,CFC-11,CFC-11_FLAG_W,CFC-12,CFC-12_FLAG_W,DELC13,DELC13_FLAG_W,TCARBN,TCARBN_FLAG_W,ALKALI,ALKALI_FLAG_W,PH,PH_FLAG_W,PH_TMP,PH_SCALE,PH_NBS,PH_NBS_FLAG_W,C13ERR,TOTALP,TOTALP_FLAG_W,AMMONI,AMMONI_FLAG_W,CHLORA,CHLORA_FLAG_W,PPHYTN,PPHYTN_FLAG_W,REVPRS,REVTMP,DEPTH_,DEPTH_FLAG,CTDDEP,THETA,SIGTHT,DOC,DOC_FLAG_W
,,,,,,,GMT,GMT,,,METER,DBAR,ITS-90,PSS-78,,UMOL/KG,,PSS-78,,UMOL/KG,,UMOL/KG,,UMOL/KG,,UMOL/KG,,UMOL/KG,,UMOL/KG,,PMOL/KG,,PMOL/KG,,/MILLE,,UMOL/KG,,UMOL/KG,,25_DEG_C,,DEG_C,,,,/MILLE,UMOL/KG,,UMOL/KG,,UG/L,,UG/L,,DBAR,ITS-90,METERS,,METERS,DEG_C,,UMOL/L,
       KS06-06,  142E,KS-1679,  1,     20,02-16026,2,20060806,0130, 32.0050, 142.9827, 5644,      5.8,  28.2188,  34.0615,2,   -999.0,9,  34.0603,2,    204.0,2,     1.60,2,  -999.00,9,     0.00,2,     0.00,2,     0.00,2, -999.000,9, -999.000,9,  -999.00,9,   -999.0,9,   -999.0,9,-999.0000,9,   -999.0,  9,  -999.00,9,   -999.0,  -999.00,9,  -999.00,9,  -999.00,9,  -999.00,9,   -999.0,-999.0000, -999,9,    6,  28.2174,  21.6181,   -999.0,9
       KS06-06,  142E,KS-1679,  1,     19,02-19378,2,20060806,0129, 32.0050, 142.9827, 5644,     10.1,  28.2056,  34.0607,2,   -999.0,9,-999.0000,9,    203.0,2,     1.59,2,  -999.00,9,     0.00,2,     0.00,2,     0.00,2, -999.000,9, -999.000,9,  -999.00,9,   -999.0,9,   -999.0,9,-999.0000,9,   -999.0,  9,  -999.00,9,   -999.0,  -999.00,9,  -999.00,9,  -999.00,9,  -999.00,9,   -999.0,-999.0000, -999,9,   10,  28.2032,  21.6221,   -999.0,9
       KS06-06,  142E,KS-1679,  1,     18,02-19377,2,20060806,0127, 32.0050, 142.9827, 5644,     25.5,  28.0016,  34.0453,2,   -999.0,9,-999.0000,9,    204.0,2,     1.57,2,  -999.00,9,     0.00,2,     0.00,2,     0.00,2, -999.000,9, -999.000,9,  -999.00,9,   -999.0,9,   -999.0,9,-999.0000,9,   -999.0,  9,  -999.00,9,   -999.0,  -999.00,9,  -999.00,9,  -999.00,9,  -999.00,9,   -999.0,-999.0000, -999,9,   25,  27.9956,  21.6783,   -999.0,9
       KS06-06,  142E,KS-1679,  1,     17,02-16023,2,20060806,0123, 32.0050, 142.9827, 5644,     49.5,  26.4977,  34.2548,2,   -999.0,9,-999.0000,9,    208.0,2,     1.65,2,  -999.00,9,     0.00,2,     0.00,2,     0.00,2, -999.000,9, -999.000,9,  -999.00,9,   -999.0,9,   -999.0,9,-999.0000,9,   -999.0,  9,  -999.00,9,   -999.0,  -999.00,9,  -999.00,9,  -999.00,9,  -999.00,9,   -999.0,-999.0000, -999,9,   49,  26.4865,  22.3191,   -999.0,9
       KS06-06,  142E,KS-1679,  1,     16,02-16022,2,20060806,0122, 32.0050, 142.9827, 5644,     74.4,  25.3171,  34.4350,2,   -999.0,9,-999.0000,9,    202.0,2,     1.85,2,  -999.00,9,     0.39,2,     0.19,2,     0.04,2, -999.000,9, -999.000,9,  -999.00,9,   -999.0,9,   -999.0,9,-999.0000,9,   -999.0,  9,  -999.00,9,   -999.0,  -999.00,9,  -999.00,9,  -999.00,9,  -999.00,9,   -999.0,-999.0000, -999,9,   74,  25.3009,  22.8227,   -999.0,9
       KS06-06,  142E,KS-1679,  1,     15,02-16021,2,20060806,0120, 32.0050, 142.9827, 5644,    101.1,  24.3481,  34.6219,2,   -999.0,9,  34.5695,4,    196.0,2,     2.09,2,  -999.00,9,     1.27,2,     0.18,2,     0.08,2, -999.000,9, -999.000,9,  -999.00,9,   -999.0,9,   -999.0,9,-999.0000,9,   -999.0,  9,  -999.00,9,   -999.0,  -999.00,9,  -999.00,9,  -999.00,9,  -999.00,9,   -999.0,-999.0000, -999,9,  100,  24.3266,  23.2581,   -999.0,9
       KS06-06,  142E,KS-1679,  1,     14,02-16020,2,20060806,0119, 32.0050, 142.9827, 5644,    124.9,  22.9891,  34.7366,2,   -999.0,9,-999.0000,9,    191.0,2,     2.65,2,  -999.00,9,     2.25,2,     0.04,2,     0.14,2, -999.000,9, -999.000,9,  -999.00,9,   -999.0,9,   -999.0,9,-999.0000,9,   -999.0,  9,  -999.00,9,   -999.0,  -999.00,9,  -999.00,9,  -999.00,9,  -999.00,9,   -999.0,-999.0000, -999,9,  124,  22.9636,  23.7443,   -999.0,9
       KS06-06,  142E,KS-1679,  1,     13,02-16019,2,20060806,0117, 32.0050, 142.9827, 5644,    153.0,  21.6273,  34.8004,2,   -999.0,9,-999.0000,9,    192.0,2,     2.94,2,  -999.00,9,     2.64,2,     0.02,2,     0.17,2, -999.000,9, -999.000,9,  -999.00,9,   -999.0,9,   -999.0,9,-999.0000,9,   -999.0,  9,  -999.00,9,   -999.0,  -999.00,9,  -999.00,9,  -999.00,9,  -999.00,9,   -999.0,-999.0000, -999,9,  152,  21.5974,  24.1782,   -999.0,9
       KS06-06,  142E,KS-1679,  1,     12,02-16018,2,20060806,0116, 32.0050, 142.9827, 5644,    202.3,  19.5898,  34.8365,2,   -999.0,9,  34.8354,2,    215.0,2,     2.56,2,  -999.00,9,     1.46,2,     0.05,2,     0.11,2, -999.000,9, -999.000,9,  -999.00,9,   -999.0,9,   -999.0,9,-999.0000,9,   -999.0,  9,  -999.00,9,   -999.0,  -999.00,9,  -999.00,9,  -999.00,9,  -999.00,9,   -999.0,-999.0000, -999,9,  201,  19.5530,  24.7539,   -999.0,9
       KS06-06,  142E,KS-1679,  1,     11,02-19376,2,20060806,0114, 32.0050, 142.9827, 5644,    254.2,  18.4564,  34.8313,2,   -999.0,9,-999.0000,9,    210.0,2,     3.32,2,  -999.00,9,     3.12,2,     0.01,2,     0.20,2, -999.000,9, -999.000,9,  -999.00,9,   -999.0,9,   -999.0,9,-999.0000,9,   -999.0,  9,  -999.00,9,   -999.0,  -999.00,9,  -999.00,9,  -999.00,9,  -999.00,9,   -999.0,-999.0000, -999,9,  252,  18.4120,  25.0407,   -999.0,9
       KS06-06,  142E,KS-1679,  1,     10,02-19375,2,20060806,0111, 32.0050, 142.9827, 5644,    304.3,  18.1303,  34.8243,2,   -999.0,9,  34.8253,2,    211.0,2,     3.46,2,  -999.00,9,     3.41,2,     0.00,2,     0.21,2, -999.000,9, -999.000,9,  -999.00,9,   -999.0,9,   -999.0,9,-999.0000,9,   -999.0,  9,  -999.00,9,   -999.0,  -999.00,9,  -999.00,9,  -999.00,9,  -999.00,9,   -999.0,-999.0000, -999,9,  302,  18.0777,  25.1183,   -999.0,9
       KS06-06,  142E,KS-1679,  1,      9,02-16015,2,20060806,0108, 32.0050, 142.9827, 5644,    403.6,  16.7136,  34.7294,2,   -999.0,9,  34.7342,2,    198.0,2,     6.27,2,  -999.00,9,     6.73,2,     0.00,2,     0.41,2, -999.000,9, -999.000,9,  -999.00,9,   -999.0,9,   -999.0,9,-999.0000,9,   -999.0,  9,  -999.00,9,   -999.0,  -999.00,9,  -999.00,9,  -999.00,9,  -999.00,9,   -999.0,-999.0000, -999,9,  400,  16.6475,  25.3896,   -999.0,9
       KS06-06,  142E,KS-1679,  1,      8,02-16014,2,20060806,0105, 32.0050, 142.9827, 5644,    507.0,  14.3851,  34.5566,2,   -999.0,9,  34.5573,2,    180.0,2,    15.13,2,  -999.00,9,    12.19,2,     0.00,2,     0.81,2, -999.000,9, -999.000,9,  -999.00,9,   -999.0,9,   -999.0,9,-999.0000,9,   -999.0,  9,  -999.00,9,   -999.0,  -999.00,9,  -999.00,9,  -999.00,9,  -999.00,9,   -999.0,-999.0000, -999,9,  503,  14.3100,  25.7790,   -999.0,9
       KS06-06,  142E,KS-1679,  1,      7,02-19374,2,20060806,0101, 32.0050, 142.9827, 5644,    607.4,  12.3796,  34.4231,2,   -999.0,9,  34.4247,2,    173.0,2,    22.49,2,  -999.00,9,    16.08,2,     0.00,2,     1.09,2, -999.000,9, -999.000,9,  -999.00,9,   -999.0,9,   -999.0,9,-999.0000,9,   -999.0,  9,  -999.00,9,   -999.0,  -999.00,9,  -999.00,9,  -999.00,9,  -999.00,9,   -999.0,-999.0000, -999,9,  602,  12.2979,  26.0839,   -999.0,9
       KS06-06,  142E,KS-1679,  1,      6,02-19373,2,20060806,0058, 32.0050, 142.9827, 5644,    706.9,   9.5500,  34.2382,2,   -999.0,9,  34.2439,4,    163.0,2,    36.98,2,  -999.00,9,    21.73,2,     0.00,2,     1.53,2, -999.000,9, -999.000,9,  -999.00,9,   -999.0,9,   -999.0,9,-999.0000,9,   -999.0,  9,  -999.00,9,   -999.0,  -999.00,9,  -999.00,9,  -999.00,9,  -999.00,9,   -999.0,-999.0000, -999,9,  701,   9.4689,  26.4457,   -999.0,9
       KS06-06,  142E,KS-1679,  1,      5,02-16011,2,20060806,0055, 32.0050, 142.9827, 5644,    808.0,   7.2259,  34.1175,2,   -999.0,9,  34.1166,2,    145.0,2,    54.49,2,  -999.00,9,    27.56,2,     0.00,2,     1.98,2, -999.000,9, -999.000,9,  -999.00,9,   -999.0,9,   -999.0,9,-999.0000,9,   -999.0,  9,  -999.00,9,   -999.0,  -999.00,9,  -999.00,9,  -999.00,9,  -999.00,9,   -999.0,-999.0000, -999,9,  801,   7.1466,  26.7033,   -999.0,9
       KS06-06,  142E,KS-1679,  1,      4,02-16010,2,20060806,0052, 32.0050, 142.9827, 5644,    906.9,   5.6157,  34.1588,2,   -999.0,9,  34.1580,2,    100.0,2,    79.36,2,  -999.00,9,    34.18,2,     0.00,2,     2.46,2, -999.000,9, -999.000,9,  -999.00,9,   -999.0,9,   -999.0,9,-999.0000,9,   -999.0,  9,  -999.00,9,   -999.0,  -999.00,9,  -999.00,9,  -999.00,9,  -999.00,9,   -999.0,-999.0000, -999,9,  899,   5.5370,  26.9451,   -999.0,9
       KS06-06,  142E,KS-1679,  1,      3,02-16009,2,20060806,0049, 32.0050, 142.9827, 5644,   1011.2,   4.8109,  34.2282,2,   -999.0,9,  34.2272,2,     76.0,2,    96.31,2,  -999.00,9,    37.48,2,     0.00,2,     2.72,2, -999.000,9, -999.000,9,  -999.00,9,   -999.0,9,   -999.0,9,-999.0000,9,   -999.0,  9,  -999.00,9,   -999.0,  -999.00,9,  -999.00,9,  -999.00,9,  -999.00,9,   -999.0,-999.0000, -999,9, 1002,   4.7285,  27.0940,   -999.0,9
       KS06-06,  142E,KS-1679,  1,      2,02-16008,2,20060806,0043, 32.0050, 142.9827, 5644,   1261.5,   3.5524,  34.3494,2,   -999.0,9,  34.3483,2,     50.0,2,   124.76,2,  -999.00,9,    41.17,2,     0.00,2,     2.98,2, -999.000,9, -999.000,9,  -999.00,9,   -999.0,9,   -999.0,9,-999.0000,9,   -999.0,  9,  -999.00,9,   -999.0,  -999.00,9,  -999.00,9,  -999.00,9,  -999.00,9,   -999.0,-999.0000, -999,9, 1249,   3.4591,  27.3227,   -999.0,9
       KS06-06,  142E,KS-1679,  1,      1,02-16007,2,20060806,0040, 32.0050, 142.9827, 5644,   1392.5,   3.0952,  34.4087,2,   -999.0,9,  34.4072,2,     46.0,2,   135.76,2,  -999.00,9,    42.05,2,     0.00,2,     3.05,2, -999.000,9, -999.000,9,  -999.00,9,   -999.0,9,   -999.0,9,-999.0000,9,   -999.0,  9,  -999.00,9,   -999.0,  -999.00,9,  -999.00,9,  -999.00,9,  -999.00,9,   -999.0,-999.0000, -999,9, 1378,   2.9956,  27.4134,   -999.0,9
       KS06-06,  142E,KS-1680,  1,     20,02-16026,2,20060806,0812, 33.0082, 141.9830, 8353,      5.6,  29.1273,  34.6827,2,   -999.0,9,-999.0000,9,    200.0,2,     1.85,2,  -999.00,9,     0.00,2,     0.00,2,     0.00,2, -999.000,9, -999.000,9,  -999.00,9,   -999.0,9,   -999.0,9,-999.0000,9,   -999.0,  9,  -999.00,9,   -999.0,  -999.00,9,  -999.00,9,  -999.00,9,  -999.00,9,   -999.0,-999.0000, -999,9,    6,  29.1259,  21.7838,   -999.0,9
       KS06-06,  142E,KS-1680,  1,     19,02-19378,2,20060806,0811, 33.0082, 141.9830, 8353,     11.1,  29.1332,  34.6829,2,   -999.0,9,-999.0000,9,    200.0,2,     1.84,2,  -999.00,9,     0.00,2,     0.00,2,     0.00,2, -999.000,9, -999.000,9,  -999.00,9,   -999.0,9,   -999.0,9,-999.0000,9,   -999.0,  9,  -999.00,9,   -999.0,  -999.00,9,  -999.00,9,  -999.00,9,  -999.00,9,   -999.0,-999.0000, -999,9,   11,  29.1305,  21.7824,   -999.0,9
       KS06-06,  142E,KS-1680,  1,     18,02-19377,2,20060806,0810, 33.0082, 141.9830, 8353,     26.7,  28.9325,  34.6855,2,   -999.0,9,-999.0000,9,    202.0,2,     1.83,2,  -999.00,9,     0.00,2,     0.00,2,     0.00,2, -999.000,9, -999.000,9,  -999.00,9,   -999.0,9,   -999.0,9,-999.0000,9,   -999.0,  9,  -999.00,9,   -999.0,  -999.00,9,  -999.00,9,  -999.00,9,  -999.00,9,   -999.0,-999.0000, -999,9,   27,  28.9261,  21.8526,   -999.0,9
       KS06-06,  142E,KS-1680,  1,     17,02-16023,2,20060806,0806, 33.0082, 141.9830, 8353,     49.2,  23.5376,  34.6818,2,   -999.0,9,-999.0000,9,    230.0,2,     2.03,2,  -999.00,9,     0.00,2,     0.00,2,     0.00,2, -999.000,9, -999.000,9,  -999.00,9,   -999.0,9,   -999.0,9,-999.0000,9,   -999.0,  9,  -999.00,9,   -999.0,  -999.00,9,  -999.00,9,  -999.00,9,  -999.00,9,   -999.0,-999.0000, -999,9,   49,  23.5274,  23.5394,   -999.0,9
       KS06-06,  142E,KS-1680,  1,     16,02-16022,2,20060806,0805, 33.0082, 141.9830, 8353,     74.9,  21.2976,  34.7525,2,   -999.0,9,-999.0000,9,    231.0,2,     1.82,2,  -999.00,9,     0.00,2,     0.00,2,     0.01,2, -999.000,9, -999.000,9,  -999.00,9,   -999.0,9,   -999.0,9,-999.0000,9,   -999.0,  9,  -999.00,9,   -999.0,  -999.00,9,  -999.00,9,  -999.00,9,  -999.00,9,   -999.0,-999.0000, -999,9,   74,  21.2832,  24.2283,   -999.0,9
       KS06-06,  142E,KS-1680,  1,     15,02-16021,2,20060806,0804, 33.0082, 141.9830, 8353,    100.4,  20.0582,  34.8110,2,   -999.0,9,-999.0000,9,    222.0,2,     2.64,2,  -999.00,9,     0.68,2,     0.12,2,     0.06,2, -999.000,9, -999.000,9,  -999.00,9,   -999.0,9,   -999.0,9,-999.0000,9,   -999.0,  9,  -999.00,9,   -999.0,  -999.00,9,  -999.00,9,  -999.00,9,  -999.00,9,   -999.0,-999.0000, -999,9,  100,  20.0397,  24.6071,   -999.0,9
       KS06-06,  142E,KS-1680,  1,     14,02-16020,2,20060806,0803, 33.0082, 141.9830, 8353,    125.4,  19.3094,  34.8484,2,   -999.0,9,-999.0000,9,    219.0,2,     2.73,2,  -999.00,9,     1.07,2,     0.19,2,     0.08,2, -999.000,9, -999.000,9,  -999.00,9,   -999.0,9,   -999.0,9,-999.0000,9,   -999.0,  9,  -999.00,9,   -999.0,  -999.00,9,  -999.00,9,  -999.00,9,  -999.00,9,   -999.0,-999.0000, -999,9,  124,  19.2868,  24.8318,   -999.0,9
       KS06-06,  142E,KS-1680,  1,     13,02-16019,2,20060806,0802, 33.0082, 141.9830, 8353,    151.6,  18.7412,  34.8283,2,   -999.0,9,-999.0000,9,    216.0,2,     2.99,2,  -999.00,9,     2.15,2,     0.03,2,     0.13,2, -999.000,9, -999.000,9,  -999.00,9,   -999.0,9,   -999.0,9,-999.0000,9,   -999.0,  9,  -999.00,9,   -999.0,  -999.00,9,  -999.00,9,  -999.00,9,  -999.00,9,   -999.0,-999.0000, -999,9,  151,  18.7145,  24.9624,   -999.0,9
       KS06-06,  142E,KS-1680,  1,     12,02-16018,2,20060806,0800, 33.0082, 141.9830, 8353,    201.6,  18.2414,  34.8313,2,   -999.0,9,-999.0000,9,    214.0,2,     3.39,2,  -999.00,9,     3.02,2,     0.01,2,     0.18,2, -999.000,9, -999.000,9,  -999.00,9,   -999.0,9,   -999.0,9,-999.0000,9,   -999.0,  9,  -999.00,9,   -999.0,  -999.00,9,  -999.00,9,  -999.00,9,  -999.00,9,   -999.0,-999.0000, -999,9,  200,  18.2065,  25.0918,   -999.0,9
       KS06-06,  142E,KS-1680,  1,     11,02-19376,2,20060806,0759, 33.0082, 141.9830, 8353,    250.3,  17.9069,  34.8199,2,   -999.0,9,-999.0000,9,    221.0,2,     3.33,2,  -999.00,9,     2.83,2,     0.00,2,     0.18,2, -999.000,9, -999.000,9,  -999.00,9,   -999.0,9,   -999.0,9,-999.0000,9,   -999.0,  9,  -999.00,9,   -999.0,  -999.00,9,  -999.00,9,  -999.00,9,  -999.00,9,   -999.0,-999.0000, -999,9,  248,  17.8641,  25.1675,   -999.0,9
       KS06-06,  142E,KS-1680,  1,     10,02-19375,2,20060806,0757, 33.0082, 141.9830, 8353,    302.7,  17.5046,  34.7975,2,   -999.0,9,-999.0000,9,    210.0,2,     4.40,2,  -999.00,9,     4.39,2,     0.00,2,     0.27,2, -999.000,9, -999.000,9,  -999.00,9,   -999.0,9,   -999.0,9,-999.0000,9,   -999.0,  9,  -999.00,9,   -999.0,  -999.00,9,  -999.00,9,  -999.00,9,  -999.00,9,   -999.0,-999.0000, -999,9,  300,  17.4535,  25.2502,   -999.0,9
       KS06-06,  142E,KS-1680,  1,      9,02-16015,2,20060806,0754, 33.0082, 141.9830, 8353,    403.7,  16.2260,  34.6920,2,   -999.0,9,-999.0000,9,    197.0,2,     7.79,2,  -999.00,9,     7.61,2,     0.00,2,     0.47,2, -999.000,9, -999.000,9,  -999.00,9,   -999.0,9,   -999.0,9,-999.0000,9,   -999.0,  9,  -999.00,9,   -999.0,  -999.00,9,  -999.00,9,  -999.00,9,  -999.00,9,   -999.0,-999.0000, -999,9,  400,  16.1613,  25.4738,   -999.0,9
       KS06-06,  142E,KS-1680,  1,      8,02-16014,2,20060806,0752, 33.0082, 141.9830, 8353,    504.9,  14.0357,  34.5287,2,   -999.0,9,-999.0000,9,    182.0,2,    15.40,2,  -999.00,9,    12.38,2,     0.00,2,     0.82,2, -999.000,9, -999.000,9,  -999.00,9,   -999.0,9,   -999.0,9,-999.0000,9,   -999.0,  9,  -999.00,9,   -999.0,  -999.00,9,  -999.00,9,  -999.00,9,  -999.00,9,   -999.0,-999.0000, -999,9,  501,  13.9622,  25.8308,   -999.0,9
       KS06-06,  142E,KS-1680,  1,      7,02-19374,2,20060806,0749, 33.0082, 141.9830, 8353,    605.9,  11.2432,  34.3597,2,   -999.0,9,-999.0000,9,    165.0,2,    29.63,2,  -999.00,9,    18.81,2,     0.00,2,     1.30,2, -999.000,9, -999.000,9,  -999.00,9,   -999.0,9,   -999.0,9,-999.0000,9,   -999.0,  9,  -999.00,9,   -999.0,  -999.00,9,  -999.00,9,  -999.00,9,  -999.00,9,   -999.0,-999.0000, -999,9,  601,  11.1666,  26.2467,   -999.0,9
       KS06-06,  142E,KS-1680,  1,      6,02-19373,2,20060806,0746, 33.0082, 141.9830, 8353,    706.3,   8.9386,  34.2541,2,   -999.0,9,-999.0000,9,    143.0,2,    46.67,2,  -999.00,9,    24.74,2,     0.00,2,     1.74,2, -999.000,9, -999.000,9,  -999.00,9,   -999.0,9,   -999.0,9,-999.0000,9,   -999.0,  9,  -999.00,9,   -999.0,  -999.00,9,  -999.00,9,  -999.00,9,  -999.00,9,   -999.0,-999.0000, -999,9,  700,   8.8607,  26.5561,   -999.0,9
       KS06-06,  142E,KS-1680,  1,      5,02-16011,2,20060806,0744, 33.0082, 141.9830, 8353,    808.8,   6.9196,  34.1827,2,   -999.0,9,-999.0000,9,    123.0,2,    64.73,2,  -999.00,9,    29.90,2,     0.00,2,     2.15,2, -999.000,9, -999.000,9,  -999.00,9,   -999.0,9,   -999.0,9,-999.0000,9,   -999.0,  9,  -999.00,9,   -999.0,  -999.00,9,  -999.00,9,  -999.00,9,  -999.00,9,   -999.0,-999.0000, -999,9,  802,   6.8420,  26.7965,   -999.0,9
       KS06-06,  142E,KS-1680,  1,      4,02-16010,2,20060806,0741, 33.0082, 141.9830, 8353,    908.6,   5.4858,  34.2406,2,   -999.0,9,-999.0000,9,     89.0,2,    87.19,2,  -999.00,9,    35.15,2,     0.00,2,     2.53,2, -999.000,9, -999.000,9,  -999.00,9,   -999.0,9,   -999.0,9,-999.0000,9,   -999.0,  9,  -999.00,9,   -999.0,  -999.00,9,  -999.00,9,  -999.00,9,  -999.00,9,   -999.0,-999.0000, -999,9,  900,   5.4077,  27.0254,   -999.0,9
       KS06-06,  142E,KS-1680,  1,      3,02-16009,2,20060806,0739, 33.0082, 141.9830, 8353,   1010.7,   4.4991,  34.2954,2,   -999.0,9,-999.0000,9,     70.0,2,   104.35,2,  -999.00,9,    38.16,2,     0.00,2,     2.77,2, -999.000,9, -999.000,9,  -999.00,9,   -999.0,9,   -999.0,9,-999.0000,9,   -999.0,  9,  -999.00,9,   -999.0,  -999.00,9,  -999.00,9,  -999.00,9,  -999.00,9,   -999.0,-999.0000, -999,9, 1001,   4.4190,  27.1814,   -999.0,9
       KS06-06,  142E,KS-1680,  1,      2,02-16008,2,20060806,0733, 33.0082, 141.9830, 8353,   1262.2,   3.1947,  34.3977,2,   -999.0,9,-999.0000,9,     49.0,2,   133.63,2,  -999.00,9,    41.56,2,     0.00,2,     3.00,2, -999.000,9, -999.000,9,  -999.00,9,   -999.0,9,   -999.0,9,-999.0000,9,   -999.0,  9,  -999.00,9,   -999.0,  -999.00,9,  -999.00,9,  -999.00,9,  -999.00,9,   -999.0,-999.0000, -999,9, 1249,   3.1048,  27.3947,   -999.0,9
       KS06-06,  142E,KS-1680,  1,      1,02-16007,2,20060806,0729, 33.0082, 141.9830, 8353,   1446.5,   2.8015,  34.4632,2,   -999.0,9,-999.0000,9,     44.0,2,   143.84,2,  -999.00,9,    42.43,2,     0.00,2,     3.07,2, -999.000,9, -999.000,9,  -999.00,9,   -999.0,9,   -999.0,9,-999.0000,9,   -999.0,  9,  -999.00,9,   -999.0,  -999.00,9,  -999.00,9,  -999.00,9,  -999.00,9,   -999.0,-999.0000, -999,9, 1431,   2.7006,  27.4833,   -999.0,9