BOTTLE,20131214MIRCJHATS
EXPOCODE,SECT_ID,STNNBR,CASTNO,SAMPNO,BTLNBR,BTLNBR_FLAG_W,DATE,TIME,LATITUDE,LONGITUDE,DEPTH,CTDPRS,CTDTMP,CTDSAL,CTDSAL_FLAG_W,CTDOXY,CTDOXY_FLAG_W,SALNTY,SALNTY_FLAG_W,OXYGEN,OXYGEN_FLAG_W,SILCAT,SILCAT_FLAG_W,NITRAT,NITRAT_FLAG_W,NO2+NO3,NO2+NO3_FLAG_W,NITRIT,NITRIT_FLAG_W,PHSPHT,PHSPHT_FLAG_W,CFC-11,CFC-11_FLAG_W,CFC-12,CFC-12_FLAG_W,DELC13,DELC13_FLAG_W,TCARBN,TCARBN_FLAG_W,ALKALI,ALKALI_FLAG_W,PH,PH_FLAG_W,PH_TMP,PH_SCALE,PH_NBS,PH_NBS_FLAG_W,C13ERR,TOTALP,TOTALP_FLAG_W,AMMONI,AMMONI_FLAG_W,CHLORA,CHLORA_FLAG_W,PPHYTN,PPHYTN_FLAG_W,REVPRS,REVTMP,DEPTH_,DEPTH_FLAG,CTDDEP,THETA,SIGTHT,DOC,DOC_FLAG_W
,,,,,,,GMT,GMT,,,METER,DBAR,ITS-90,PSS-78,,UMOL/KG,,PSS-78,,UMOL/KG,,UMOL/KG,,UMOL/KG,,UMOL/KG,,UMOL/KG,,UMOL/KG,,PMOL/KG,,PMOL/KG,,/MILLE,,UMOL/KG,,UMOL/KG,,25_DEG_C,,DEG_C,,,,/MILLE,UMOL/KG,,UMOL/KG,,UG/L,,UG/L,,DBAR,ITS-90,METERS,,METERS,DEG_C,,UMOL/L,
       KS06-06,  165E,KS-1611,  1,     22,02-19379,2,20060623,2010, 23.0085, 164.9797, 5803,      4.6,  27.5380,  34.8690,2,   -999.0,9,  34.8698,2,    202.0,2,     1.02,2,  -999.00,9,     0.00,2,     0.00,2,     0.00,2, -999.000,9, -999.000,9,  -999.00,9,   1951.0,3,   -999.0,9,-999.0000,9,   -999.0,  9,     8.24,2,   -999.0,  -999.00,9,  -999.00,9,     0.12,2,     0.04,2,   -999.0,-999.0000, -999,9,    5,  27.5369,  22.4466,   -999.0,9
       KS06-06,  165E,KS-1611,  1,     21,02-16027,2,20060623,2009, 23.0085, 164.9797, 5803,     11.3,  27.5558,  34.8824,2,   -999.0,9,-999.0000,9,    203.0,2,     1.02,2,  -999.00,9,     0.00,2,     0.00,2,     0.00,2, -999.000,9, -999.000,9,  -999.00,9,   1942.2,3,   -999.0,9,-999.0000,9,   -999.0,  9,     8.24,2,   -999.0,  -999.00,9,  -999.00,9,     0.12,2,     0.06,2,   -999.0,-999.0000, -999,9,   11,  27.5532,  22.4515,   -999.0,9
       KS06-06,  165E,KS-1611,  1,     20,02-16026,2,20060623,2008, 23.0085, 164.9797, 5803,     25.6,  27.8272,  35.0814,2,   -999.0,9,-999.0000,9,    203.0,2,     1.06,2,  -999.00,9,     0.00,2,     0.00,2,     0.00,2, -999.000,9, -999.000,9,  -999.00,9,   1963.0,3,   -999.0,9,-999.0000,9,   -999.0,  9,     8.24,2,   -999.0,  -999.00,9,  -999.00,9,     0.15,2,     0.05,2,   -999.0,-999.0000, -999,9,   25,  27.8212,  22.5142,   -999.0,9
       KS06-06,  165E,KS-1611,  1,     19,02-19378,2,20060623,2004, 23.0085, 164.9797, 5803,     51.3,  26.6628,  35.1545,2,   -999.0,9,-999.0000,9,    211.0,2,     1.06,2,  -999.00,9,     0.00,2,     0.00,2,     0.00,2, -999.000,9, -999.000,9,  -999.00,9,   1969.5,3,   -999.0,9,-999.0000,9,   -999.0,  9,     8.24,2,   -999.0,  -999.00,9,  -999.00,9,     0.16,2,     0.06,2,   -999.0,-999.0000, -999,9,   51,  26.6511,  22.9452,   -999.0,9
       KS06-06,  165E,KS-1611,  1,     18,02-19377,2,20060623,2003, 23.0085, 164.9797, 5803,     73.7,  25.2664,  35.2271,2,   -999.0,9,-999.0000,9,    213.0,2,     1.21,2,  -999.00,9,     0.00,2,     0.00,2,     0.00,2, -999.000,9, -999.000,9,  -999.00,9,   1978.5,3,   -999.0,9,-999.0000,9,   -999.0,  9,     8.23,2,   -999.0,  -999.00,9,  -999.00,9,     0.14,2,     0.08,2,   -999.0,-999.0000, -999,9,   73,  25.2503,  23.4364,   -999.0,9
       KS06-06,  165E,KS-1611,  1,     17,02-16023,2,20060623,2002, 23.0085, 164.9797, 5803,    101.1,  24.4537,  35.2917,2,   -999.0,9,  35.2925,2,    217.0,2,     1.26,2,  -999.00,9,     0.00,2,     0.00,2,     0.00,2, -999.000,9, -999.000,9,  -999.00,9,   1984.3,3,   -999.0,9,-999.0000,9,   -999.0,  9,     8.22,2,   -999.0,  -999.00,9,  -999.00,9,     0.14,2,     0.10,2,   -999.0,-999.0000, -999,9,  100,  24.4321,  23.7333,   -999.0,9
       KS06-06,  165E,KS-1611,  1,     16,02-16022,2,20060623,2001, 23.0085, 164.9797, 5803,    123.7,  23.3881,  35.2320,2,   -999.0,9,-999.0000,9,    213.0,2,     1.41,2,  -999.00,9,     0.00,2,     0.00,2,     0.00,2, -999.000,9, -999.000,9,  -999.00,9,   1998.5,3,   -999.0,9,-999.0000,9,   -999.0,  9,     8.20,2,   -999.0,  -999.00,9,  -999.00,9,     0.13,2,     0.10,2,   -999.0,-999.0000, -999,9,  123,  23.3625,  24.0044,   -999.0,9
       KS06-06,  165E,KS-1611,  1,     15,02-16021,2,20060623,2000, 23.0085, 164.9797, 5803,    151.6,  21.2022,  35.0987,2,   -999.0,9,-999.0000,9,    201.0,2,     2.04,2,  -999.00,9,     0.10,2,     0.10,2,     0.05,2, -999.000,9, -999.000,9,  -999.00,9,   2030.9,3,   -999.0,9,-999.0000,9,   -999.0,  9,     8.13,2,   -999.0,  -999.00,9,  -999.00,9,     0.08,2,     0.18,2,   -999.0,-999.0000, -999,9,  151,  21.1730,  24.5218,   -999.0,9
       KS06-06,  165E,KS-1611,  1,     14,02-16020,2,20060623,1958, 23.0085, 164.9797, 5803,    202.5,  18.7454,  34.9279,2,   -999.0,9,  34.9299,2,    194.0,2,     3.25,2,  -999.00,9,     3.22,2,     0.01,2,     0.22,2, -999.000,9, -999.000,9,  -999.00,9,   2048.1,3,   -999.0,9,-999.0000,9,   -999.0,  9,     8.08,2,   -999.0,  -999.00,9,  -999.00,9,     0.03,2,     0.09,2,   -999.0,-999.0000, -999,9,  201,  18.7096,  25.0398,   -999.0,9
       KS06-06,  165E,KS-1611,  1,     13,02-16019,2,20060623,1956, 23.0085, 164.9797, 5803,    257.0,  16.8731,  34.7432,2,   -999.0,9,-999.0000,9,    195.0,2,     4.88,2,  -999.00,9,     5.56,2,     0.00,2,     0.38,2, -999.000,9, -999.000,9,  -999.00,9,   2056.2,3,   -999.0,9,-999.0000,9,   -999.0,  9,     8.04,2,   -999.0,  -999.00,9,  -999.00,9,     0.00,2,     0.01,2,   -999.0,-999.0000, -999,9,  255,  16.8309,  25.3571,   -999.0,9
       KS06-06,  165E,KS-1611,  1,     12,02-16018,2,20060623,1954, 23.0085, 164.9797, 5803,    306.3,  15.0000,  34.5704,2,   -999.0,9,  34.5730,2,    200.0,2,     7.93,2,  -999.00,9,     8.29,2,     0.00,2,     0.55,2, -999.000,9, -999.000,9,  -999.00,9,   2064.5,3,   -999.0,9,-999.0000,9,   -999.0,  9,     8.00,2,   -999.0,  -999.00,9,  -999.00,9,     0.00,2,     0.00,2,   -999.0,-999.0000, -999,9,  304,  14.9536,  25.6508,   -999.0,9
       KS06-06,  165E,KS-1611,  1,     11,02-19376,2,20060623,1951, 23.0085, 164.9797, 5803,    405.4,  12.1861,  34.3365,2,   -999.0,9,  34.3371,2,    198.0,2,    14.81,2,  -999.00,9,    13.25,2,     0.00,2,     0.90,2, -999.000,9, -999.000,9,  -999.00,9,   2095.2,3,   -999.0,9,-999.0000,9,   -999.0,  9,     7.93,2,   -999.0,  -999.00,9,  -999.00,9,  -999.00,9,  -999.00,9,   -999.0,-999.0000, -999,9,  402,  12.1326,  26.0484,   -999.0,9
       KS06-06,  165E,KS-1611,  1,     10,02-19375,2,20060623,1948, 23.0085, 164.9797, 5803,    504.0,   9.3181,  34.1485,2,   -999.0,9,  34.1496,2,    173.0,2,    29.02,2,  -999.00,9,    21.04,2,     0.00,2,     1.47,2, -999.000,9, -999.000,9,  -999.00,9,   -999.0,9,   -999.0,9,-999.0000,9,   -999.0,  9,     7.81,2,   -999.0,  -999.00,9,  -999.00,9,  -999.00,9,  -999.00,9,   -999.0,-999.0000, -999,9,  500,   9.2618,  26.4093,   -999.0,9
       KS06-06,  165E,KS-1611,  1,      9,02-16015,2,20060623,1946, 23.0085, 164.9797, 5803,    604.7,   7.0341,  34.0920,2,   -999.0,9,  34.0935,2,    116.0,2,    52.63,2,  -999.00,9,    30.49,2,     0.00,2,     2.19,2, -999.000,9, -999.000,9,  -999.00,9,   2221.8,3,   -999.0,9,-999.0000,9,   -999.0,  9,     7.64,2,   -999.0,  -999.00,9,  -999.00,9,  -999.00,9,  -999.00,9,   -999.0,-999.0000, -999,9,  600,   6.9765,  26.7067,   -999.0,9
       KS06-06,  165E,KS-1611,  1,      8,02-16014,2,20060623,1943, 23.0085, 164.9797, 5803,    708.0,   5.6726,  34.1565,2,   -999.0,9,  34.1557,2,     72.0,2,    75.37,2,  -999.00,9,    36.71,2,     0.00,2,     2.69,2, -999.000,9, -999.000,9,  -999.00,9,   -999.0,9,   -999.0,9,-999.0000,9,   -999.0,  9,     7.53,2,   -999.0,  -999.00,9,  -999.00,9,  -999.00,9,  -999.00,9,   -999.0,-999.0000, -999,9,  702,   5.6119,  26.9342,   -999.0,9
       KS06-06,  165E,KS-1611,  1,      7,02-19374,2,20060623,1940, 23.0085, 164.9797, 5803,    806.3,   5.0221,  34.2467,2,   -999.0,9,  34.2459,2,     51.0,2,    89.41,2,  -999.00,9,    39.53,2,     0.00,2,     2.92,2, -999.000,9, -999.000,9,  -999.00,9,   2312.6,3,   -999.0,9,-999.0000,9,   -999.0,  9,     7.49,2,   -999.0,  -999.00,9,  -999.00,9,  -999.00,9,  -999.00,9,   -999.0,-999.0000, -999,9,  800,   4.9563,  27.0830,   -999.0,9
       KS06-06,  165E,KS-1611,  1,      6,02-19373,2,20060623,1938, 23.0085, 164.9797, 5803,    906.6,   4.4102,  34.3105,2,   -999.0,9,  34.3097,2,     46.0,2,   102.83,2,  -999.00,9,    40.89,2,     0.00,2,     3.01,2, -999.000,9, -999.000,9,  -999.00,9,   -999.0,9,   -999.0,9,-999.0000,9,   -999.0,  9,     7.48,2,   -999.0,  -999.00,9,  -999.00,9,  -999.00,9,  -999.00,9,   -999.0,-999.0000, -999,9,  899,   4.3397,  27.2020,   -999.0,9
       KS06-06,  165E,KS-1611,  1,      5,02-16011,2,20060623,1935, 23.0085, 164.9797, 5803,   1008.2,   4.0362,  34.4167,2,   -999.0,9,  34.4159,2,     51.0,2,   110.69,2,  -999.00,9,    41.08,2,     0.00,2,     3.02,2, -999.000,9, -999.000,9,  -999.00,9,   2339.9,3,   -999.0,9,-999.0000,9,   -999.0,  9,     7.50,2,   -999.0,  -999.00,9,  -999.00,9,  -999.00,9,  -999.00,9,   -999.0,-999.0000, -999,9,  999,   3.9597,  27.3263,   -999.0,9
       KS06-06,  165E,KS-1611,  1,      4,02-16010,2,20060623,1930, 23.0085, 164.9797, 5803,   1259.7,   3.2998,  34.5199,2,   -999.0,9,  34.5190,2,     70.0,2,   124.32,2,  -999.00,9,    40.58,2,     0.00,2,     2.95,2, -999.000,9, -999.000,9,  -999.00,9,   2343.9,3,   -999.0,9,-999.0000,9,   -999.0,  9,     7.54,2,   -999.0,  -999.00,9,  -999.00,9,  -999.00,9,  -999.00,9,   -999.0,-999.0000, -999,9, 1248,   3.2088,  27.4824,   -999.0,9
       KS06-06,  165E,KS-1611,  1,      3,02-16009,2,20060623,1925, 23.0085, 164.9797, 5803,   1513.4,   2.7449,  34.5540,2,   -999.0,9,  34.5530,2,     79.0,2,   135.48,2,  -999.00,9,    40.39,2,     0.00,2,     2.92,2, -999.000,9, -999.000,9,  -999.00,9,   2356.9,3,   -999.0,9,-999.0000,9,   -999.0,  9,     7.56,2,   -999.0,  -999.00,9,  -999.00,9,  -999.00,9,  -999.00,9,   -999.0,-999.0000, -999,9, 1498,   2.6390,  27.5613,   -999.0,9
       KS06-06,  165E,KS-1611,  1,      2,02-16008,2,20060623,1920, 23.0085, 164.9797, 5803,   1766.6,   2.3581,  34.5892,2,   -999.0,9,  34.5886,2,     91.0,2,   142.32,2,  -999.00,9,    39.80,2,     0.00,2,     2.86,2, -999.000,9, -999.000,9,  -999.00,9,   -999.0,9,   -999.0,9,-999.0000,9,   -999.0,  9,     7.58,2,   -999.0,  -999.00,9,  -999.00,9,  -999.00,9,  -999.00,9,   -999.0,-999.0000, -999,9, 1748,   2.2361,  27.6236,   -999.0,9
       KS06-06,  165E,KS-1611,  1,      1,02-16007,2,20060623,1914, 23.0085, 164.9797, 5803,   2031.4,   2.0672,  34.6183,2,   -999.0,9,  34.6174,2,    103.0,2,   146.50,2,  -999.00,9,    39.31,2,     0.00,2,     2.81,2, -999.000,9, -999.000,9,  -999.00,9,   2359.8,6,   -999.0,9,-999.0000,9,   -999.0,  9,     7.60,2,   -999.0,  -999.00,9,  -999.00,9,  -999.00,9,  -999.00,9,   -999.0,-999.0000, -999,9, 2009,   1.9271,  27.6716,   -999.0,9
       KS06-06,  165E,KS-1612,  1,      2,02-16008,9,20060624,0300, 22.0190, 164.9700, 5466,      5.1,  27.5337,  35.2187,2,   -999.0,9,-999.0000,9,   -999.0,9,  -999.00,9,  -999.00,9,  -999.00,9,  -999.00,9,  -999.00,9, -999.000,9, -999.000,9,  -999.00,9,   -999.0,9,   -999.0,9,-999.0000,9,   -999.0,  9,  -999.00,9,   -999.0,  -999.00,9,  -999.00,9,  -999.00,9,  -999.00,9,   -999.0,-999.0000, -999,9,    5,  27.5325,  22.7112,   -999.0,9
       KS06-06,  165E,KS-1612,  1,      1,02-16007,2,20060624,0300, 22.0190, 164.9700, 5466,      5.4,  27.5457,  35.2181,2,   -999.0,9,-999.0000,9,   -999.0,9,     1.09,2,  -999.00,9,     0.00,2,     0.00,2,     0.00,2, -999.000,9, -999.000,9,  -999.00,9,   1971.4,3,   -999.0,9,-999.0000,9,   -999.0,  9,  -999.00,9,   -999.0,  -999.00,9,  -999.00,9,     0.08,2,     0.02,2,   -999.0,-999.0000, -999,9,    5,  27.5445,  22.7069,   -999.0,9
       KS06-06,  165E,KS-1613,  1,      1,02-16007,2,20060624,1011, 21.0157, 164.9502, 5499,      4.7,  27.9148,  34.8123,2,   -999.0,9,-999.0000,9,   -999.0,9,     0.98,2,  -999.00,9,     0.00,2,     0.00,2,     0.00,2, -999.000,9, -999.000,9,  -999.00,9,   1946.1,3,   -999.0,9,-999.0000,9,   -999.0,  9,  -999.00,9,   -999.0,  -999.00,9,  -999.00,9,     0.08,2,     0.03,2,   -999.0,-999.0000, -999,9,    5,  27.9137,  22.2816,   -999.0,9
       KS06-06,  165E,KS-1613,  1,      2,02-16008,9,20060624,1012, 21.0157, 164.9502, 5499,      5.0,  27.9077,  34.8113,2,   -999.0,9,-999.0000,9,   -999.0,9,  -999.00,9,  -999.00,9,  -999.00,9,  -999.00,9,  -999.00,9, -999.000,9, -999.000,9,  -999.00,9,   -999.0,9,   -999.0,9,-999.0000,9,   -999.0,  9,  -999.00,9,   -999.0,  -999.00,9,  -999.00,9,  -999.00,9,  -999.00,9,   -999.0,-999.0000, -999,9,    5,  27.9065,  22.2833,   -999.0,9