BOTTLE,20131214MIRCJHATS
EXPOCODE,SECT_ID,STNNBR,CASTNO,SAMPNO,BTLNBR,BTLNBR_FLAG_W,DATE,TIME,LATITUDE,LONGITUDE,DEPTH,CTDPRS,CTDTMP,CTDSAL,CTDSAL_FLAG_W,CTDOXY,CTDOXY_FLAG_W,SALNTY,SALNTY_FLAG_W,OXYGEN,OXYGEN_FLAG_W,SILCAT,SILCAT_FLAG_W,NITRAT,NITRAT_FLAG_W,NO2+NO3,NO2+NO3_FLAG_W,NITRIT,NITRIT_FLAG_W,PHSPHT,PHSPHT_FLAG_W,CFC-11,CFC-11_FLAG_W,CFC-12,CFC-12_FLAG_W,DELC13,DELC13_FLAG_W,TCARBN,TCARBN_FLAG_W,ALKALI,ALKALI_FLAG_W,PH,PH_FLAG_W,PH_TMP,PH_SCALE,PH_NBS,PH_NBS_FLAG_W,C13ERR,TOTALP,TOTALP_FLAG_W,AMMONI,AMMONI_FLAG_W,CHLORA,CHLORA_FLAG_W,PPHYTN,PPHYTN_FLAG_W,REVPRS,REVTMP,DEPTH_,DEPTH_FLAG,CTDDEP,THETA,SIGTHT,DOC,DOC_FLAG_W
,,,,,,,GMT,GMT,,,METER,DBAR,ITS-90,PSS-78,,UMOL/KG,,PSS-78,,UMOL/KG,,UMOL/KG,,UMOL/KG,,UMOL/KG,,UMOL/KG,,UMOL/KG,,PMOL/KG,,PMOL/KG,,/MILLE,,UMOL/KG,,UMOL/KG,,25_DEG_C,,DEG_C,,,,/MILLE,UMOL/KG,,UMOL/KG,,UG/L,,UG/L,,DBAR,ITS-90,METERS,,METERS,DEG_C,,UMOL/L,
       KS06-06,  NONE,KS-1686,  1,     20,02-16026,2,20060807,0649, 34.9317, 140.2210, 2023,      4.1,  24.0369,  33.5290,2,   -999.0,9,  33.5380,4,    258.0,2,     1.72,2,  -999.00,9,     0.00,2,     0.00,2,     0.01,2, -999.000,9, -999.000,9,  -999.00,9,   -999.0,9,   -999.0,9,-999.0000,9,   -999.0,  9,  -999.00,9,   -999.0,  -999.00,9,  -999.00,9,     0.39,2,     0.08,2,   -999.0,-999.0000, -999,9,    4,  24.0360,  22.5175,   -999.0,9
       KS06-06,  NONE,KS-1686,  1,     19,02-19378,2,20060807,0648, 34.9317, 140.2210, 2023,     10.9,  22.1407,  33.7029,2,   -999.0,9,-999.0000,9,    269.0,2,     2.74,2,  -999.00,9,     0.00,2,     0.00,2,     0.02,2, -999.000,9, -999.000,9,  -999.00,9,   -999.0,9,   -999.0,9,-999.0000,9,   -999.0,  9,  -999.00,9,   -999.0,  -999.00,9,  -999.00,9,     1.00,2,     0.14,2,   -999.0,-999.0000, -999,9,   11,  22.1386,  23.1939,   -999.0,9
       KS06-06,  NONE,KS-1686,  1,     18,02-19377,2,20060807,0647, 34.9317, 140.2210, 2023,     24.4,  17.9732,  34.1683,2,   -999.0,9,-999.0000,9,    162.0,2,    15.14,2,  -999.00,9,     0.10,2,     0.06,2,     0.11,2, -999.000,9, -999.000,9,  -999.00,9,   -999.0,9,   -999.0,9,-999.0000,9,   -999.0,  9,  -999.00,9,   -999.0,  -999.00,9,  -999.00,9,     0.31,2,     0.28,2,   -999.0,-999.0000, -999,9,   24,  17.9691,  24.6427,   -999.0,9
       KS06-06,  NONE,KS-1686,  1,     17,02-16023,2,20060807,0645, 34.9317, 140.2210, 2023,     51.0,  15.4403,  34.4602,2,   -999.0,9,-999.0000,9,    159.0,2,    20.25,2,  -999.00,9,    11.12,2,     0.84,2,     0.82,2, -999.000,9, -999.000,9,  -999.00,9,   -999.0,9,   -999.0,9,-999.0000,9,   -999.0,  9,  -999.00,9,   -999.0,  -999.00,9,  -999.00,9,     0.14,2,     0.17,2,   -999.0,-999.0000, -999,9,   51,  15.4325,  25.4603,   -999.0,9
       KS06-06,  NONE,KS-1686,  1,     16,02-16022,2,20060807,0643, 34.9317, 140.2210, 2023,     76.6,  13.8655,  34.4844,2,   -999.0,9,-999.0000,9,    156.0,2,    24.67,2,  -999.00,9,    15.21,2,     0.51,2,     1.08,2, -999.000,9, -999.000,9,  -999.00,9,   -999.0,9,   -999.0,9,-999.0000,9,   -999.0,  9,  -999.00,9,   -999.0,  -999.00,9,  -999.00,9,     0.07,2,     0.17,2,   -999.0,-999.0000, -999,9,   76,  13.8546,  25.8190,   -999.0,9
       KS06-06,  NONE,KS-1686,  1,     15,02-16021,2,20060807,0638, 34.9317, 140.2210, 2023,    101.5,  12.9420,  34.4594,2,   -999.0,9,  34.4637,2,    154.0,2,    27.75,2,  -999.00,9,    17.06,2,     0.25,2,     1.20,2, -999.000,9, -999.000,9,  -999.00,9,   -999.0,9,   -999.0,9,-999.0000,9,   -999.0,  9,  -999.00,9,   -999.0,  -999.00,9,  -999.00,9,     0.06,2,     0.12,2,   -999.0,-999.0000, -999,9,  101,  12.9282,  25.9884,   -999.0,9
       KS06-06,  NONE,KS-1686,  1,     14,02-16020,2,20060807,0637, 34.9317, 140.2210, 2023,    124.4,  12.1003,  34.4281,2,   -999.0,9,-999.0000,9,    154.0,2,    31.08,2,  -999.00,9,    18.61,2,     0.04,2,     1.31,2, -999.000,9, -999.000,9,  -999.00,9,   -999.0,9,   -999.0,9,-999.0000,9,   -999.0,  9,  -999.00,9,   -999.0,  -999.00,9,  -999.00,9,     0.04,2,     0.10,2,   -999.0,-999.0000, -999,9,  124,  12.0841,  26.1289,   -999.0,9
       KS06-06,  NONE,KS-1686,  1,     13,02-16019,2,20060807,0637, 34.9317, 140.2210, 2023,    151.0,  11.3064,  34.3936,2,   -999.0,9,-999.0000,9,    150.0,2,    35.04,2,  -999.00,9,    20.27,2,     0.01,2,     1.43,2, -999.000,9, -999.000,9,  -999.00,9,   -999.0,9,   -999.0,9,-999.0000,9,   -999.0,  9,  -999.00,9,   -999.0,  -999.00,9,  -999.00,9,     0.04,2,     0.08,2,   -999.0,-999.0000, -999,9,  150,  11.2876,  26.2510,   -999.0,9
       KS06-06,  NONE,KS-1686,  1,     12,02-16018,2,20060807,0635, 34.9317, 140.2210, 2023,    201.6,   9.9813,  34.3428,2,   -999.0,9,  34.3465,2,    139.0,2,    42.96,2,  -999.00,9,    23.38,2,     0.01,2,     1.66,2, -999.000,9, -999.000,9,  -999.00,9,   -999.0,9,   -999.0,9,-999.0000,9,   -999.0,  9,  -999.00,9,   -999.0,  -999.00,9,  -999.00,9,     0.03,2,     0.10,2,   -999.0,-999.0000, -999,9,  200,   9.9581,  26.4459,   -999.0,9
       KS06-06,  NONE,KS-1686,  1,     11,02-19376,2,20060807,0634, 34.9317, 140.2210, 2023,    251.2,   8.5399,  34.2854,2,   -999.0,9,-999.0000,9,    128.0,2,    53.10,2,  -999.00,9,    26.79,2,     0.01,2,     1.91,2, -999.000,9, -999.000,9,  -999.00,9,   -999.0,9,   -999.0,9,-999.0000,9,   -999.0,  9,  -999.00,9,   -999.0,  -999.00,9,  -999.00,9,     0.02,2,     0.08,2,   -999.0,-999.0000, -999,9,  249,   8.5136,  26.6348,   -999.0,9
       KS06-06,  NONE,KS-1686,  1,     10,02-19375,2,20060807,0632, 34.9317, 140.2210, 2023,    301.9,   7.8082,  34.2628,2,   -999.0,9,  34.2641,2,    120.0,2,    59.57,2,  -999.00,9,    28.73,2,     0.00,2,     2.06,2, -999.000,9, -999.000,9,  -999.00,9,   -999.0,9,   -999.0,9,-999.0000,9,   -999.0,  9,  -999.00,9,   -999.0,  -999.00,9,  -999.00,9,     0.02,2,     0.06,2,   -999.0,-999.0000, -999,9,  299,   7.7782,  26.7275,   -999.0,9
       KS06-06,  NONE,KS-1686,  1,      9,02-16015,2,20060807,0630, 34.9317, 140.2210, 2023,    402.6,   5.8300,  34.2298,2,   -999.0,9,  34.2317,2,     94.0,2,    82.23,2,  -999.00,9,    34.37,2,     0.00,2,     2.47,2, -999.000,9, -999.000,9,  -999.00,9,   -999.0,9,   -999.0,9,-999.0000,9,   -999.0,  9,  -999.00,9,   -999.0,  -999.00,9,  -999.00,9,  -999.00,9,  -999.00,9,   -999.0,-999.0000, -999,9,  399,   5.7958,  26.9696,   -999.0,9
       KS06-06,  NONE,KS-1686,  1,      8,02-16014,2,20060807,0628, 34.9317, 140.2210, 2023,    501.4,   5.4293,  34.2443,2,   -999.0,9,  34.2436,2,     87.0,2,    87.49,2,  -999.00,9,    35.73,2,     0.00,2,     2.57,2, -999.000,9, -999.000,9,  -999.00,9,   -999.0,9,   -999.0,9,-999.0000,9,   -999.0,  9,  -999.00,9,   -999.0,  -999.00,9,  -999.00,9,  -999.00,9,  -999.00,9,   -999.0,-999.0000, -999,9,  497,   5.3879,  27.0307,   -999.0,9
       KS06-06,  NONE,KS-1686,  1,      7,02-19374,2,20060807,0626, 34.9317, 140.2210, 2023,    603.2,   5.3258,  34.2687,2,   -999.0,9,  34.2679,2,     84.0,2,    89.88,2,  -999.00,9,    35.93,2,     0.00,2,     2.60,2, -999.000,9, -999.000,9,  -999.00,9,   -999.0,9,   -999.0,9,-999.0000,9,   -999.0,  9,  -999.00,9,   -999.0,  -999.00,9,  -999.00,9,  -999.00,9,  -999.00,9,   -999.0,-999.0000, -999,9,  598,   5.2760,  27.0633,   -999.0,9
       KS06-06,  NONE,KS-1686,  1,      6,02-19373,2,20060807,0624, 34.9317, 140.2210, 2023,    705.4,   4.9055,  34.2821,2,   -999.0,9,  34.2819,2,     78.0,2,    96.93,2,  -999.00,9,    37.29,2,     0.01,2,     2.70,2, -999.000,9, -999.000,9,  -999.00,9,   -999.0,9,   -999.0,9,-999.0000,9,   -999.0,  9,  -999.00,9,   -999.0,  -999.00,9,  -999.00,9,  -999.00,9,  -999.00,9,   -999.0,-999.0000, -999,9,  699,   4.8490,  27.1233,   -999.0,9
       KS06-06,  NONE,KS-1686,  1,      5,02-16011,2,20060807,0621, 34.9317, 140.2210, 2023,    805.8,   4.2281,  34.3113,2,   -999.0,9,  34.3024,4,     67.0,2,   109.54,2,  -999.00,9,    39.13,2,     0.00,2,     2.83,2, -999.000,9, -999.000,9,  -999.00,9,   -999.0,9,   -999.0,9,-999.0000,9,   -999.0,  9,  -999.00,9,   -999.0,  -999.00,9,  -999.00,9,  -999.00,9,  -999.00,9,   -999.0,-999.0000, -999,9,  798,   4.1671,  27.2209,   -999.0,9
       KS06-06,  NONE,KS-1686,  1,      4,02-16010,2,20060807,0619, 34.9317, 140.2210, 2023,    908.2,   3.8057,  34.3422,2,   -999.0,9,  34.3392,2,     60.0,2,   118.53,2,  -999.00,9,    40.20,2,     0.00,2,     2.91,2, -999.000,9, -999.000,9,  -999.00,9,   -999.0,9,   -999.0,9,-999.0000,9,   -999.0,  9,  -999.00,9,   -999.0,  -999.00,9,  -999.00,9,  -999.00,9,  -999.00,9,   -999.0,-999.0000, -999,9,  900,   3.7392,  27.2894,   -999.0,9
       KS06-06,  NONE,KS-1686,  1,      3,02-16009,2,20060807,0617, 34.9317, 140.2210, 2023,   1010.1,   3.4349,  34.3903,2,   -999.0,9,  34.3910,2,     58.0,2,   127.25,2,  -999.00,9,    40.59,2,     0.00,2,     2.95,2, -999.000,9, -999.000,9,  -999.00,9,   -999.0,9,   -999.0,9,-999.0000,9,   -999.0,  9,  -999.00,9,   -999.0,  -999.00,9,  -999.00,9,  -999.00,9,  -999.00,9,   -999.0,-999.0000, -999,9, 1000,   3.3630,  27.3645,   -999.0,9
       KS06-06,  NONE,KS-1686,  1,      2,02-16008,2,20060807,0612, 34.9317, 140.2210, 2023,   1260.4,   2.6873,  34.4618,2,   -999.0,9,  34.4620,2,     49.0,2,   146.50,2,  -999.00,9,    42.14,2,     0.00,2,     3.05,2, -999.000,9, -999.000,9,  -999.00,9,   -999.0,9,   -999.0,9,-999.0000,9,   -999.0,  9,  -999.00,9,   -999.0,  -999.00,9,  -999.00,9,  -999.00,9,  -999.00,9,   -999.0,-999.0000, -999,9, 1248,   2.6023,  27.4908,   -999.0,9
       KS06-06,  NONE,KS-1686,  1,      1,02-16007,2,20060807,0606, 34.9317, 140.2210, 2023,   1518.6,   2.4214,  34.5080,2,   -999.0,9,  34.5068,2,     54.0,2,   152.06,2,  -999.00,9,    41.94,2,     0.00,2,     3.04,2, -999.000,9, -999.000,9,  -999.00,9,   -999.0,9,   -999.0,9,-999.0000,9,   -999.0,  9,  -999.00,9,   -999.0,  -999.00,9,  -999.00,9,  -999.00,9,  -999.00,9,   -999.0,-999.0000, -999,9, 1502,   2.3189,  27.5517,   -999.0,9