BOTTLE,20131214MIRCJHATS
EXPOCODE,SECT_ID,STNNBR,CASTNO,SAMPNO,BTLNBR,BTLNBR_FLAG_W,DATE,TIME,LATITUDE,LONGITUDE,DEPTH,CTDPRS,CTDTMP,CTDSAL,CTDSAL_FLAG_W,CTDOXY,CTDOXY_FLAG_W,SALNTY,SALNTY_FLAG_W,OXYGEN,OXYGEN_FLAG_W,SILCAT,SILCAT_FLAG_W,NITRAT,NITRAT_FLAG_W,NO2+NO3,NO2+NO3_FLAG_W,NITRIT,NITRIT_FLAG_W,PHSPHT,PHSPHT_FLAG_W,CFC-11,CFC-11_FLAG_W,CFC-12,CFC-12_FLAG_W,DELC13,DELC13_FLAG_W,TCARBN,TCARBN_FLAG_W,ALKALI,ALKALI_FLAG_W,PH,PH_FLAG_W,PH_TMP,PH_SCALE,PH_NBS,PH_NBS_FLAG_W,C13ERR,TOTALP,TOTALP_FLAG_W,AMMONI,AMMONI_FLAG_W,CHLORA,CHLORA_FLAG_W,PPHYTN,PPHYTN_FLAG_W,REVPRS,REVTMP,DEPTH_,DEPTH_FLAG,CTDDEP,THETA,SIGTHT,DOC,DOC_FLAG_W
,,,,,,,GMT,GMT,,,METER,DBAR,ITS-90,PSS-78,,UMOL/KG,,PSS-78,,UMOL/KG,,UMOL/KG,,UMOL/KG,,UMOL/KG,,UMOL/KG,,UMOL/KG,,PMOL/KG,,PMOL/KG,,/MILLE,,UMOL/KG,,UMOL/KG,,25_DEG_C,,DEG_C,,,,/MILLE,UMOL/KG,,UMOL/KG,,UG/L,,UG/L,,DBAR,ITS-90,METERS,,METERS,DEG_C,,UMOL/L,
       KS06-06,  NONE,KS-1593,  1,     22,02-19379,2,20060616,2147, 25.0010, 138.9887, 4908,      5.5,  27.7192,  34.8957,2,   -999.0,9,  34.9011,4,    205.0,2,     1.12,2,  -999.00,9,     0.00,2,     0.00,2,     0.00,2, -999.000,9, -999.000,9,  -999.00,9,   -999.0,9,   -999.0,9,-999.0000,9,   -999.0,  9,  -999.00,9,   -999.0,  -999.00,9,  -999.00,9,  -999.00,9,  -999.00,9,   -999.0,-999.0000, -999,9,    5,  27.7179,  22.4081,   -999.0,9
       KS06-06,  NONE,KS-1593,  1,     21,02-16027,2,20060616,2147, 25.0010, 138.9887, 4908,     10.4,  27.7141,  34.8932,2,   -999.0,9,-999.0000,9,    203.0,2,     1.12,2,  -999.00,9,     0.00,2,     0.00,2,     0.00,2, -999.000,9, -999.000,9,  -999.00,9,   -999.0,9,   -999.0,9,-999.0000,9,   -999.0,  9,  -999.00,9,   -999.0,  -999.00,9,  -999.00,9,  -999.00,9,  -999.00,9,   -999.0,-999.0000, -999,9,   10,  27.7117,  22.4082,   -999.0,9
       KS06-06,  NONE,KS-1593,  1,     20,02-16026,2,20060616,2145, 25.0010, 138.9887, 4908,     25.5,  26.3015,  34.9197,2,   -999.0,9,-999.0000,9,    210.0,2,     1.10,2,  -999.00,9,     0.00,2,     0.00,2,     0.00,2, -999.000,9, -999.000,9,  -999.00,9,   -999.0,9,   -999.0,9,-999.0000,9,   -999.0,  9,  -999.00,9,   -999.0,  -999.00,9,  -999.00,9,  -999.00,9,  -999.00,9,   -999.0,-999.0000, -999,9,   25,  26.2958,  22.8802,   -999.0,9
       KS06-06,  NONE,KS-1593,  1,     19,02-19378,2,20060616,2142, 25.0010, 138.9887, 4908,     48.8,  24.4928,  34.9196,2,   -999.0,9,-999.0000,9,    218.0,2,     1.20,2,  -999.00,9,     0.00,2,     0.00,2,     0.00,2, -999.000,9, -999.000,9,  -999.00,9,   -999.0,9,   -999.0,9,-999.0000,9,   -999.0,  9,  -999.00,9,   -999.0,  -999.00,9,  -999.00,9,  -999.00,9,  -999.00,9,   -999.0,-999.0000, -999,9,   48,  24.4824,  23.4368,   -999.0,9
       KS06-06,  NONE,KS-1593,  1,     18,02-19377,2,20060616,2141, 25.0010, 138.9887, 4908,     75.4,  23.4693,  34.9449,2,   -999.0,9,-999.0000,9,    216.0,2,     1.24,2,  -999.00,9,     0.00,2,     0.00,2,     0.00,2, -999.000,9, -999.000,9,  -999.00,9,   -999.0,9,   -999.0,9,-999.0000,9,   -999.0,  9,  -999.00,9,   -999.0,  -999.00,9,  -999.00,9,  -999.00,9,  -999.00,9,   -999.0,-999.0000, -999,9,   75,  23.4537,  23.7602,   -999.0,9
       KS06-06,  NONE,KS-1593,  1,     17,02-16023,2,20060616,2140, 25.0010, 138.9887, 4908,    101.4,  22.7542,  34.9461,2,   -999.0,9,  34.9465,2,    214.0,2,     1.40,2,  -999.00,9,     0.00,2,     0.00,2,     0.00,2, -999.000,9, -999.000,9,  -999.00,9,   -999.0,9,   -999.0,9,-999.0000,9,   -999.0,  9,  -999.00,9,   -999.0,  -999.00,9,  -999.00,9,  -999.00,9,  -999.00,9,   -999.0,-999.0000, -999,9,  101,  22.7337,  23.9692,   -999.0,9
       KS06-06,  NONE,KS-1593,  1,     16,02-16022,2,20060616,2139, 25.0010, 138.9887, 4908,    126.4,  22.1219,  34.9420,2,   -999.0,9,-999.0000,9,    214.0,2,     1.54,2,  -999.00,9,     0.00,2,     0.00,2,     0.00,2, -999.000,9, -999.000,9,  -999.00,9,   -999.0,9,   -999.0,9,-999.0000,9,   -999.0,  9,  -999.00,9,   -999.0,  -999.00,9,  -999.00,9,  -999.00,9,  -999.00,9,   -999.0,-999.0000, -999,9,  126,  22.0968,  24.1466,   -999.0,9
       KS06-06,  NONE,KS-1593,  1,     15,02-16021,2,20060616,2138, 25.0010, 138.9887, 4908,    151.5,  21.0967,  34.9320,2,   -999.0,9,-999.0000,9,    211.0,2,     1.75,2,  -999.00,9,     0.59,2,     0.09,2,     0.03,2, -999.000,9, -999.000,9,  -999.00,9,   -999.0,9,   -999.0,9,-999.0000,9,   -999.0,  9,  -999.00,9,   -999.0,  -999.00,9,  -999.00,9,  -999.00,9,  -999.00,9,   -999.0,-999.0000, -999,9,  150,  21.0676,  24.4238,   -999.0,9
       KS06-06,  NONE,KS-1593,  1,     14,02-16020,2,20060616,2136, 25.0010, 138.9887, 4908,    201.2,  19.4724,  34.8663,2,   -999.0,9,  34.8663,2,    217.0,2,     2.16,2,  -999.00,9,     1.17,2,     0.03,2,     0.07,2, -999.000,9, -999.000,9,  -999.00,9,   -999.0,9,   -999.0,9,-999.0000,9,   -999.0,  9,  -999.00,9,   -999.0,  -999.00,9,  -999.00,9,  -999.00,9,  -999.00,9,   -999.0,-999.0000, -999,9,  200,  19.4359,  24.8071,   -999.0,9
       KS06-06,  NONE,KS-1593,  1,     13,02-16019,2,20060616,2135, 25.0010, 138.9887, 4908,    251.8,  18.5766,  34.8528,2,   -999.0,9,-999.0000,9,    212.0,2,     2.79,2,  -999.00,9,     2.54,2,     0.00,2,     0.15,2, -999.000,9, -999.000,9,  -999.00,9,   -999.0,9,   -999.0,9,-999.0000,9,   -999.0,  9,  -999.00,9,   -999.0,  -999.00,9,  -999.00,9,  -999.00,9,  -999.00,9,   -999.0,-999.0000, -999,9,  250,  18.5324,  25.0270,   -999.0,9
       KS06-06,  NONE,KS-1593,  1,     12,02-16018,2,20060616,2134, 25.0010, 138.9887, 4908,    303.1,  17.6017,  34.8019,2,   -999.0,9,  34.8021,2,    204.0,2,     4.00,2,  -999.00,9,     4.68,2,     0.00,2,     0.27,2, -999.000,9, -999.000,9,  -999.00,9,   -999.0,9,   -999.0,9,-999.0000,9,   -999.0,  9,  -999.00,9,   -999.0,  -999.00,9,  -999.00,9,  -999.00,9,  -999.00,9,   -999.0,-999.0000, -999,9,  301,  17.5504,  25.2301,   -999.0,9
       KS06-06,  NONE,KS-1593,  1,     11,02-19376,2,20060616,2131, 25.0010, 138.9887, 4908,    403.2,  15.9070,  34.6673,2,   -999.0,9,  34.6665,2,    199.0,2,     7.54,2,  -999.00,9,     7.80,2,     0.00,2,     0.48,2, -999.000,9, -999.000,9,  -999.00,9,   -999.0,9,   -999.0,9,-999.0000,9,   -999.0,  9,  -999.00,9,   -999.0,  -999.00,9,  -999.00,9,  -999.00,9,  -999.00,9,   -999.0,-999.0000, -999,9,  400,  15.8432,  25.5274,   -999.0,9
       KS06-06,  NONE,KS-1593,  1,     10,02-19375,2,20060616,2129, 25.0010, 138.9887, 4908,    505.0,  12.7696,  34.4175,2,   -999.0,9,  34.4134,4,    187.0,2,    16.63,2,  -999.00,9,    13.94,2,     0.00,2,     0.93,2, -999.000,9, -999.000,9,  -999.00,9,   -999.0,9,   -999.0,9,-999.0000,9,   -999.0,  9,  -999.00,9,   -999.0,  -999.00,9,  -999.00,9,  -999.00,9,  -999.00,9,   -999.0,-999.0000, -999,9,  501,  12.7005,  26.0010,   -999.0,9
       KS06-06,  NONE,KS-1593,  1,      9,02-16015,2,20060616,2126, 25.0010, 138.9887, 4908,    606.2,   9.5315,  34.2110,2,   -999.0,9,  34.2117,2,    165.0,2,    33.59,2,  -999.00,9,    21.53,2,     0.00,2,     1.50,2, -999.000,9, -999.000,9,  -999.00,9,   -999.0,9,   -999.0,9,-999.0000,9,   -999.0,  9,  -999.00,9,   -999.0,  -999.00,9,  -999.00,9,  -999.00,9,  -999.00,9,   -999.0,-999.0000, -999,9,  601,   9.4624,  26.4255,   -999.0,9
       KS06-06,  NONE,KS-1593,  1,      8,02-16014,2,20060616,2124, 25.0010, 138.9887, 4908,    705.8,   7.3472,  34.1216,2,   -999.0,9,  34.1244,2,    137.0,2,    52.54,2,  -999.00,9,    28.05,2,     0.00,2,     2.01,2, -999.000,9, -999.000,9,  -999.00,9,   -999.0,9,   -999.0,9,-999.0000,9,   -999.0,  9,  -999.00,9,   -999.0,  -999.00,9,  -999.00,9,  -999.00,9,  -999.00,9,   -999.0,-999.0000, -999,9,  700,   7.2778,  26.6882,   -999.0,9
       KS06-06,  NONE,KS-1593,  1,      7,02-19374,2,20060616,2121, 25.0010, 138.9887, 4908,    807.3,   5.5292,  34.1281,2,   -999.0,9,  34.1293,2,     99.0,2,    78.09,2,  -999.00,9,    34.57,2,     0.00,2,     2.53,2, -999.000,9, -999.000,9,  -999.00,9,   -999.0,9,   -999.0,9,-999.0000,9,   -999.0,  9,  -999.00,9,   -999.0,  -999.00,9,  -999.00,9,  -999.00,9,  -999.00,9,   -999.0,-999.0000, -999,9,  801,   5.4603,  26.9301,   -999.0,9
       KS06-06,  NONE,KS-1593,  1,      6,02-19373,2,20060616,2119, 25.0010, 138.9887, 4908,    908.0,   4.6776,  34.2335,2,   -999.0,9,  34.2336,2,     66.0,2,    96.21,2,  -999.00,9,    38.55,2,     0.00,2,     2.84,2, -999.000,9, -999.000,9,  -999.00,9,   -999.0,9,   -999.0,9,-999.0000,9,   -999.0,  9,  -999.00,9,   -999.0,  -999.00,9,  -999.00,9,  -999.00,9,  -999.00,9,   -999.0,-999.0000, -999,9,  900,   4.6052,  27.1119,   -999.0,9
       KS06-06,  NONE,KS-1593,  1,      5,02-16011,2,20060616,2116, 25.0010, 138.9887, 4908,   1011.4,   4.0630,  34.3206,2,   -999.0,9,  34.3186,2,     57.0,2,   110.11,2,  -999.00,9,    40.30,2,     0.00,2,     2.97,2, -999.000,9, -999.000,9,  -999.00,9,   -999.0,9,   -999.0,9,-999.0000,9,   -999.0,  9,  -999.00,9,   -999.0,  -999.00,9,  -999.00,9,  -999.00,9,  -999.00,9,   -999.0,-999.0000, -999,9, 1002,   3.9862,  27.2471,   -999.0,9
       KS06-06,  NONE,KS-1593,  1,      4,02-16010,2,20060616,2111, 25.0010, 138.9887, 4908,   1262.7,   3.1592,  34.4322,2,   -999.0,9,  34.4322,2,     56.0,2,   131.15,2,  -999.00,9,    41.56,2,     0.00,2,     3.04,2, -999.000,9, -999.000,9,  -999.00,9,   -999.0,9,   -999.0,9,-999.0000,9,   -999.0,  9,  -999.00,9,   -999.0,  -999.00,9,  -999.00,9,  -999.00,9,  -999.00,9,   -999.0,-999.0000, -999,9, 1251,   3.0695,  27.4255,   -999.0,9
       KS06-06,  NONE,KS-1593,  1,      3,02-16009,2,20060616,2106, 25.0010, 138.9887, 4908,   1515.7,   2.5875,  34.5202,2,   -999.0,9,  34.5196,2,     75.0,2,   140.17,2,  -999.00,9,    40.78,2,     0.00,2,     2.97,2, -999.000,9, -999.000,9,  -999.00,9,   -999.0,9,   -999.0,9,-999.0000,9,   -999.0,  9,  -999.00,9,   -999.0,  -999.00,9,  -999.00,9,  -999.00,9,  -999.00,9,   -999.0,-999.0000, -999,9, 1501,   2.4833,  27.5476,   -999.0,9
       KS06-06,  NONE,KS-1593,  1,      2,02-16008,2,20060616,2101, 25.0010, 138.9887, 4908,   1768.2,   2.2161,  34.5734,2,   -999.0,9,  34.5728,2,     92.0,2,   143.88,2,  -999.00,9,    39.70,2,     0.00,2,     2.88,2, -999.000,9, -999.000,9,  -999.00,9,   -999.0,9,   -999.0,9,-999.0000,9,   -999.0,  9,  -999.00,9,   -999.0,  -999.00,9,  -999.00,9,  -999.00,9,  -999.00,9,   -999.0,-999.0000, -999,9, 1749,   2.0959,  27.6223,   -999.0,9
       KS06-06,  NONE,KS-1593,  1,      1,02-16007,2,20060616,2055, 25.0010, 138.9887, 4908,   2032.7,   1.9790,  34.6111,2,   -999.0,9,  34.6108,2,    110.0,2,   143.58,2,  -999.00,9,    38.83,2,     0.00,2,     2.78,2, -999.000,9, -999.000,9,  -999.00,9,   -999.0,9,   -999.0,9,-999.0000,9,   -999.0,  9,  -999.00,9,   -999.0,  -999.00,9,  -999.00,9,  -999.00,9,  -999.00,9,   -999.0,-999.0000, -999,9, 2010,   1.8402,  27.6726,   -999.0,9