BOTTLE,20130510GEMDJMAYT
EXPOCODE,SECT_ID,STNNBR,CASTNO,SAMPNO,BTLNBR,BTLNBR_FLAG_W,DATE,TIME,LATITUDE,LONGITUDE,DEPTH,CTDPRS,CTDTMP,CTDSAL,CTDSAL_FLAG_W,CTDOXY,CTDOXY_FLAG_W,SALNTY,SALNTY_FLAG_W,OXYGEN,OXYGEN_FLAG_W,SILCAT,SILCAT_FLAG_W,NITRAT,NITRAT_FLAG_W,NO2+NO3,NO2+NO3_FLAG_W,NITRIT,NITRIT_FLAG_W,PHSPHT,PHSPHT_FLAG_W,CFC-11,CFC-11_FLAG_W,CFC-12,CFC-12_FLAG_W,DELC13,DELC13_FLAG_W,TCARBN,TCARBN_FLAG_W,ALKALI,ALKALI_FLAG_W,PH,PH_FLAG_W,PH_TMP,PH_SCALE,PH_NBS,PH_NBS_FLAG_W,C13ERR,TOTALP,TOTALP_FLAG_W,AMMONI,AMMONI_FLAG_W,CHLORA,CHLORA_FLAG_W,PPHYTN,PPHYTN_FLAG_W,REVPRS,REVTMP,DEPTH_,DEPTH_FLAG,CTDDEP,THETA,SIGTHT,DOC,DOC_FLAG_W
,,,,,,,GMT,GMT,,,METER,DBAR,ITS-90,PSS-78,,UMOL/KG,,PSS-78,,UMOL/KG,,UMOL/KG,,UMOL/KG,,UMOL/KG,,UMOL/KG,,UMOL/KG,,PMOL/KG,,PMOL/KG,,/MILLE,,UMOL/KG,,UMOL/KG,,25_DEG_C,,DEG_C,,,,/MILLE,UMOL/KG,,UMOL/KG,,UG/L,,UG/L,,DBAR,ITS-90,METERS,,METERS,DEG_C,,UMOL/L,
       KS07-01,  NONE,KS-1824,  1,     -9,      -9,5,20070222,0920, 31.7642, 133.6540, 4415,      0.0,  21.6263,  34.6970,2,   -999.0,9,-999.0000,9,    222.0,2,     1.82,2,  -999.00,9,     0.29,2,     0.07,2,     0.05,2, -999.000,9, -999.000,9,  -999.00,9,   -999.0,9,   -999.0,9,-999.0000,9,   -999.0,  9,  -999.00,9,   -999.0,  -999.00,9,  -999.00,9,     0.66,2,     0.29,2,   -999.0,-999.0000, -999,9,    0,  21.6261,  24.0917,   -999.0,9
       KS07-01,  NONE,KS-1824,  1,     21,02-16027,2,20070222,0948, 31.7642, 133.6540, 4415,     10.7,  21.6239,  34.6971,2,   -999.0,9,  34.6974,2,    220.0,2,     1.85,2,  -999.00,9,     0.29,2,     0.08,2,     0.04,2, -999.000,9, -999.000,9,  -999.00,9,   -999.0,9,   -999.0,9,-999.0000,9,   -999.0,  9,  -999.00,9,   -999.0,  -999.00,9,  -999.00,9,     0.58,2,     0.32,2,   -999.0,-999.0000, -999,9,   11,  21.6218,  24.0929,   -999.0,9
       KS07-01,  NONE,KS-1824,  1,     20,02-16026,2,20070222,0940, 31.7642, 133.6540, 4415,     25.7,  21.6338,  34.6963,2,   -999.0,9,-999.0000,9,    219.0,2,     1.93,2,  -999.00,9,     0.29,2,     0.07,2,     0.04,2, -999.000,9, -999.000,9,  -999.00,9,   -999.0,9,   -999.0,9,-999.0000,9,   -999.0,  9,  -999.00,9,   -999.0,  -999.00,9,  -999.00,9,     0.60,2,     0.33,2,   -999.0,-999.0000, -999,9,   25,  21.6288,  24.0903,   -999.0,9
       KS07-01,  NONE,KS-1824,  1,     19,02-19378,2,20070222,0936, 31.7642, 133.6540, 4415,     49.3,  21.6427,  34.6968,2,   -999.0,9,-999.0000,9,    218.0,2,     1.78,2,  -999.00,9,     0.29,2,     0.07,2,     0.05,2, -999.000,9, -999.000,9,  -999.00,9,   -999.0,9,   -999.0,9,-999.0000,9,   -999.0,  9,  -999.00,9,   -999.0,  -999.00,9,  -999.00,9,     0.57,2,     0.32,2,   -999.0,-999.0000, -999,9,   49,  21.6331,  24.0895,   -999.0,9
       KS07-01,  NONE,KS-1824,  1,     18,02-19377,2,20070222,0935, 31.7642, 133.6540, 4415,     74.7,  21.3450,  34.7452,2,   -999.0,9,-999.0000,9,    213.0,2,     1.91,2,  -999.00,9,     0.88,2,     0.26,2,     0.07,2, -999.000,9, -999.000,9,  -999.00,9,   -999.0,9,   -999.0,9,-999.0000,9,   -999.0,  9,  -999.00,9,   -999.0,  -999.00,9,  -999.00,9,     0.07,2,     0.06,2,   -999.0,-999.0000, -999,9,   74,  21.3306,  24.2097,   -999.0,9
       KS07-01,  NONE,KS-1824,  1,     17,02-16023,2,20070222,0934, 31.7642, 133.6540, 4415,     99.7,  20.9595,  34.7716,2,   -999.0,9,  34.7716,2,    208.0,2,     2.34,2,  -999.00,9,     1.66,2,     0.12,2,     0.12,2, -999.000,9, -999.000,9,  -999.00,9,   -999.0,9,   -999.0,9,-999.0000,9,   -999.0,  9,  -999.00,9,   -999.0,  -999.00,9,  -999.00,9,     0.04,2,     0.04,2,   -999.0,-999.0000, -999,9,   99,  20.9405,  24.3362,   -999.0,9
       KS07-01,  NONE,KS-1824,  1,     16,02-16022,2,20070222,0933, 31.7642, 133.6540, 4415,    125.3,  20.2809,  34.8052,2,   -999.0,9,-999.0000,9,    203.0,2,     2.78,2,  -999.00,9,     2.44,2,     0.04,2,     0.16,2, -999.000,9, -999.000,9,  -999.00,9,   -999.0,9,   -999.0,9,-999.0000,9,   -999.0,  9,  -999.00,9,   -999.0,  -999.00,9,  -999.00,9,     0.01,2,     0.03,2,   -999.0,-999.0000, -999,9,  124,  20.2576,  24.5451,   -999.0,9
       KS07-01,  NONE,KS-1824,  1,     15,02-16021,2,20070222,0931, 31.7642, 133.6540, 4415,    152.8,  19.5229,  34.8692,2,   -999.0,9,-999.0000,9,    203.0,2,     2.52,2,  -999.00,9,     2.24,2,     0.02,2,     0.15,2, -999.000,9, -999.000,9,  -999.00,9,   -999.0,9,   -999.0,9,-999.0000,9,   -999.0,  9,  -999.00,9,   -999.0,  -999.00,9,  -999.00,9,     0.02,2,     0.05,2,   -999.0,-999.0000, -999,9,  152,  19.4952,  24.7939,   -999.0,9
       KS07-01,  NONE,KS-1824,  1,     14,02-16020,2,20070222,0929, 31.7642, 133.6540, 4415,    202.7,  18.2540,  34.8301,2,   -999.0,9,  34.8310,2,   -999.0,4,     3.25,2,  -999.00,9,     3.71,2,     0.01,2,     0.23,2, -999.000,9, -999.000,9,  -999.00,9,   -999.0,9,   -999.0,9,-999.0000,9,   -999.0,  9,  -999.00,9,   -999.0,  -999.00,9,  -999.00,9,     0.00,2,     0.01,2,   -999.0,-999.0000, -999,9,  201,  18.2189,  25.0878,   -999.0,9
       KS07-01,  NONE,KS-1824,  1,     13,02-16019,2,20070222,0928, 31.7642, 133.6540, 4415,    253.4,  17.5639,  34.7952,2,   -999.0,9,-999.0000,9,    201.0,2,     4.37,2,  -999.00,9,     4.97,2,     0.01,2,     0.32,2, -999.000,9, -999.000,9,  -999.00,9,   -999.0,9,   -999.0,9,-999.0000,9,   -999.0,  9,  -999.00,9,   -999.0,  -999.00,9,  -999.00,9,     0.00,2,     0.01,2,   -999.0,-999.0000, -999,9,  251,  17.5211,  25.2321,   -999.0,9
       KS07-01,  NONE,KS-1824,  1,     12,02-16018,2,20070222,0926, 31.7642, 133.6540, 4415,    302.5,  16.7980,  34.7427,2,   -999.0,9,  34.7424,2,    200.0,2,     5.64,2,  -999.00,9,     6.34,2,     0.01,2,     0.40,2, -999.000,9, -999.000,9,  -999.00,9,   -999.0,9,   -999.0,9,-999.0000,9,   -999.0,  9,  -999.00,9,   -999.0,  -999.00,9,  -999.00,9,     0.00,2,     0.00,2,   -999.0,-999.0000, -999,9,  300,  16.7484,  25.3762,   -999.0,9
       KS07-01,  NONE,KS-1824,  1,     11,02-19376,2,20070222,0922, 31.7642, 133.6540, 4415,    404.6,  14.7907,  34.5798,2,   -999.0,9,  34.5819,2,    192.0,2,    10.71,2,  -999.00,9,    10.24,2,     0.00,2,     0.67,2, -999.000,9, -999.000,9,  -999.00,9,   -999.0,9,   -999.0,9,-999.0000,9,   -999.0,  9,  -999.00,9,   -999.0,  -999.00,9,  -999.00,9,  -999.00,9,  -999.00,9,   -999.0,-999.0000, -999,9,  401,  14.7298,  25.7068,   -999.0,9
       KS07-01,  NONE,KS-1824,  1,     10,02-19375,2,20070222,0919, 31.7642, 133.6540, 4415,    504.9,  11.7884,  34.3778,2,   -999.0,9,  34.3824,2,    169.0,2,    23.37,2,  -999.00,9,    17.15,2,     0.00,2,     1.17,2, -999.000,9, -999.000,9,  -999.00,9,   -999.0,9,   -999.0,9,-999.0000,9,   -999.0,  9,  -999.00,9,   -999.0,  -999.00,9,  -999.00,9,  -999.00,9,  -999.00,9,   -999.0,-999.0000, -999,9,  501,  11.7229,  26.1582,   -999.0,9
       KS07-01,  NONE,KS-1824,  1,      9,02-16015,2,20070222,0916, 31.7642, 133.6540, 4415,    604.2,   9.4709,  34.2388,2,   -999.0,9,  34.2402,2,    155.0,2,    36.94,2,  -999.00,9,    22.50,2,     0.00,2,     1.58,2, -999.000,9, -999.000,9,  -999.00,9,   -999.0,9,   -999.0,9,-999.0000,9,   -999.0,  9,  -999.00,9,   -999.0,  -999.00,9,  -999.00,9,  -999.00,9,  -999.00,9,   -999.0,-999.0000, -999,9,  599,   9.4023,  26.4571,   -999.0,9
       KS07-01,  NONE,KS-1824,  1,      8,02-16014,2,20070222,0914, 31.7642, 133.6540, 4415,    704.7,   8.0047,  34.3391,2,   -999.0,9,  34.3391,2,    113.0,2,    63.44,2,  -999.00,9,    29.02,2,     0.00,2,     2.05,2, -999.000,9, -999.000,9,  -999.00,9,   -999.0,9,   -999.0,9,-999.0000,9,   -999.0,  9,  -999.00,9,   -999.0,  -999.00,9,  -999.00,9,  -999.00,9,  -999.00,9,   -999.0,-999.0000, -999,9,  699,   7.9317,  26.7649,   -999.0,9
       KS07-01,  NONE,KS-1824,  1,      7,02-19374,2,20070222,0911, 31.7642, 133.6540, 4415,    806.9,   5.5386,  34.2142,2,   -999.0,9,  34.2148,2,     88.0,2,    84.18,2,  -999.00,9,    35.44,2,     0.00,2,     2.53,2, -999.000,9, -999.000,9,  -999.00,9,   -999.0,9,   -999.0,9,-999.0000,9,   -999.0,  9,  -999.00,9,   -999.0,  -999.00,9,  -999.00,9,  -999.00,9,  -999.00,9,   -999.0,-999.0000, -999,9,  800,   5.4696,  26.9970,   -999.0,9
       KS07-01,  NONE,KS-1824,  1,      6,02-19373,2,20070222,0908, 31.7642, 133.6540, 4415,    908.8,   4.8049,  34.2967,2,   -999.0,9,  34.2962,2,     75.0,2,    98.92,2,  -999.00,9,    37.39,2,     0.00,2,     2.70,2, -999.000,9, -999.000,9,  -999.00,9,   -999.0,9,   -999.0,9,-999.0000,9,   -999.0,  9,  -999.00,9,   -999.0,  -999.00,9,  -999.00,9,  -999.00,9,  -999.00,9,   -999.0,-999.0000, -999,9,  901,   4.7314,  27.1481,   -999.0,9
       KS07-01,  NONE,KS-1824,  1,      5,02-16011,2,20070222,0905, 31.7642, 133.6540, 4415,   1008.5,   4.1251,  34.3465,2,   -999.0,9,  34.3463,2,     66.0,2,   112.10,2,  -999.00,9,    39.52,2,     0.00,2,     2.81,2, -999.000,9, -999.000,9,  -999.00,9,   -999.0,9,   -999.0,9,-999.0000,9,   -999.0,  9,  -999.00,9,   -999.0,  -999.00,9,  -999.00,9,  -999.00,9,  -999.00,9,   -999.0,-999.0000, -999,9,  999,   4.0480,  27.2613,   -999.0,9
       KS07-01,  NONE,KS-1824,  1,      4,02-16010,2,20070222,0900, 31.7642, 133.6540, 4415,   1263.4,   3.1799,  34.4592,2,   -999.0,9,  34.4590,2,     70.0,2,   130.16,2,  -999.00,9,    40.39,2,     0.00,2,     2.86,2, -999.000,9, -999.000,9,  -999.00,9,   -999.0,9,   -999.0,9,-999.0000,9,   -999.0,  9,  -999.00,9,   -999.0,  -999.00,9,  -999.00,9,  -999.00,9,  -999.00,9,   -999.0,-999.0000, -999,9, 1251,   3.0899,  27.4451,   -999.0,9
       KS07-01,  NONE,KS-1824,  1,      3,02-16009,2,20070222,0855, 31.7642, 133.6540, 4415,   1517.0,   2.6754,  34.5182,2,   -999.0,9,  34.5182,2,     81.0,2,   137.51,2,  -999.00,9,    39.80,2,     0.00,2,     2.84,2, -999.000,9, -999.000,9,  -999.00,9,   -999.0,9,   -999.0,9,-999.0000,9,   -999.0,  9,  -999.00,9,   -999.0,  -999.00,9,  -999.00,9,  -999.00,9,  -999.00,9,   -999.0,-999.0000, -999,9, 1501,   2.5701,  27.5387,   -999.0,9
       KS07-01,  NONE,KS-1824,  1,      2,02-16008,2,20070222,0849, 31.7642, 133.6540, 4415,   1766.8,   2.3185,  34.5633,2,   -999.0,9,  34.5633,2,     93.0,2,   142.73,2,  -999.00,9,    39.70,2,     0.00,2,     2.78,2, -999.000,9, -999.000,9,  -999.00,9,   -999.0,9,   -999.0,9,-999.0000,9,   -999.0,  9,  -999.00,9,   -999.0,  -999.00,9,  -999.00,9,  -999.00,9,  -999.00,9,   -999.0,-999.0000, -999,9, 1747,   2.1971,  27.6060,   -999.0,9
       KS07-01,  NONE,KS-1824,  1,      1,02-16007,2,20070222,0844, 31.7642, 133.6540, 4415,   2026.4,   2.0669,  34.5977,2,   -999.0,9,  34.5976,2,    108.0,2,   142.47,2,  -999.00,9,    38.44,2,     0.00,2,     2.72,2, -999.000,9, -999.000,9,  -999.00,9,   -999.0,9,   -999.0,9,-999.0000,9,   -999.0,  9,  -999.00,9,   -999.0,  -999.00,9,  -999.00,9,  -999.00,9,  -999.00,9,   -999.0,-999.0000, -999,9, 2003,   1.9273,  27.6551,   -999.0,9
       KS07-01,  NONE,KS-1829,  1,      9,02-16015,2,20070223,1023, 32.5765, 133.1962,  574,     10.7,  18.8156,  34.6458,2,   -999.0,9,  34.6460,2,   -999.0,9,  -999.00,9,  -999.00,9,  -999.00,9,  -999.00,9,  -999.00,9, -999.000,9, -999.000,9,  -999.00,9,   -999.0,9,   -999.0,9,-999.0000,9,   -999.0,  9,  -999.00,9,   -999.0,  -999.00,9,  -999.00,9,  -999.00,9,  -999.00,9,   -999.0,-999.0000, -999,9,   11,  18.8137,  24.7977,   -999.0,9
       KS07-01,  NONE,KS-1829,  1,      8,02-16014,2,20070223,1016, 32.5765, 133.1962,  574,    102.3,  17.2607,  34.6451,2,   -999.0,9,  34.6434,2,   -999.0,9,  -999.00,9,  -999.00,9,  -999.00,9,  -999.00,9,  -999.00,9, -999.000,9, -999.000,9,  -999.00,9,   -999.0,9,   -999.0,9,-999.0000,9,   -999.0,  9,  -999.00,9,   -999.0,  -999.00,9,  -999.00,9,  -999.00,9,  -999.00,9,   -999.0,-999.0000, -999,9,  102,  17.2437,  25.1838,   -999.0,9
       KS07-01,  NONE,KS-1829,  1,      7,02-19374,2,20070223,1014, 32.5765, 133.1962,  574,    202.0,  13.7472,  34.5265,2,   -999.0,9,  34.5266,2,   -999.0,9,  -999.00,9,  -999.00,9,  -999.00,9,  -999.00,9,  -999.00,9, -999.000,9, -999.000,9,  -999.00,9,   -999.0,9,   -999.0,9,-999.0000,9,   -999.0,  9,  -999.00,9,   -999.0,  -999.00,9,  -999.00,9,  -999.00,9,  -999.00,9,   -999.0,-999.0000, -999,9,  201,  13.7185,  25.8798,   -999.0,9
       KS07-01,  NONE,KS-1829,  1,      6,02-19373,2,20070223,1012, 32.5765, 133.1962,  574,    253.7,  12.5334,  34.4675,2,   -999.0,9,  34.4680,2,   -999.0,9,  -999.00,9,  -999.00,9,  -999.00,9,  -999.00,9,  -999.00,9, -999.000,9, -999.000,9,  -999.00,9,   -999.0,9,   -999.0,9,-999.0000,9,   -999.0,  9,  -999.00,9,   -999.0,  -999.00,9,  -999.00,9,  -999.00,9,  -999.00,9,   -999.0,-999.0000, -999,9,  252,  12.4994,  26.0792,   -999.0,9
       KS07-01,  NONE,KS-1829,  1,      5,02-16011,2,20070223,1011, 32.5765, 133.1962,  574,    302.5,  11.1377,  34.4081,2,   -999.0,9,  34.4129,2,   -999.0,9,  -999.00,9,  -999.00,9,  -999.00,9,  -999.00,9,  -999.00,9, -999.000,9, -999.000,9,  -999.00,9,   -999.0,9,   -999.0,9,-999.0000,9,   -999.0,  9,  -999.00,9,   -999.0,  -999.00,9,  -999.00,9,  -999.00,9,  -999.00,9,   -999.0,-999.0000, -999,9,  300,  11.1002,  26.2965,   -999.0,9
       KS07-01,  NONE,KS-1829,  1,      4,02-16010,2,20070223,1009, 32.5765, 133.1962,  574,    352.8,   9.8218,  34.3505,2,   -999.0,9,  34.3522,2,   -999.0,9,  -999.00,9,  -999.00,9,  -999.00,9,  -999.00,9,  -999.00,9, -999.000,9, -999.000,9,  -999.00,9,   -999.0,9,   -999.0,9,-999.0000,9,   -999.0,  9,  -999.00,9,   -999.0,  -999.00,9,  -999.00,9,  -999.00,9,  -999.00,9,   -999.0,-999.0000, -999,9,  350,   9.7813,  26.4817,   -999.0,9
       KS07-01,  NONE,KS-1829,  1,      3,02-16009,2,20070223,1008, 32.5765, 133.1962,  574,    402.9,   8.6529,  34.3082,2,   -999.0,9,  34.3099,2,   -999.0,9,  -999.00,9,  -999.00,9,  -999.00,9,  -999.00,9,  -999.00,9, -999.000,9, -999.000,9,  -999.00,9,   -999.0,9,   -999.0,9,-999.0000,9,   -999.0,  9,  -999.00,9,   -999.0,  -999.00,9,  -999.00,9,  -999.00,9,  -999.00,9,   -999.0,-999.0000, -999,9,  400,   8.6100,  26.6377,   -999.0,9
       KS07-01,  NONE,KS-1829,  1,      2,02-16008,2,20070223,1006, 32.5765, 133.1962,  574,    452.6,   7.3781,  34.2615,2,   -999.0,9,  34.2643,2,   -999.0,9,  -999.00,9,  -999.00,9,  -999.00,9,  -999.00,9,  -999.00,9, -999.000,9, -999.000,9,  -999.00,9,   -999.0,9,   -999.0,9,-999.0000,9,   -999.0,  9,  -999.00,9,   -999.0,  -999.00,9,  -999.00,9,  -999.00,9,  -999.00,9,   -999.0,-999.0000, -999,9,  449,   7.3341,  26.7904,   -999.0,9
       KS07-01,  NONE,KS-1829,  1,      1,02-16007,2,20070223,1004, 32.5765, 133.1962,  574,    505.8,   6.0100,  34.2398,2,   -999.0,9,  34.2410,2,   -999.0,9,  -999.00,9,  -999.00,9,  -999.00,9,  -999.00,9,  -999.00,9, -999.000,9, -999.000,9,  -999.00,9,   -999.0,9,   -999.0,9,-999.0000,9,   -999.0,  9,  -999.00,9,   -999.0,  -999.00,9,  -999.00,9,  -999.00,9,  -999.00,9,   -999.0,-999.0000, -999,9,  502,   5.9660,  26.9562,   -999.0,9
       KS07-01,  NONE,KS-1830,  1,     -9,      -9,5,20070223,1156, 32.7447, 133.1063,  183,      0.0,  18.7861,  34.6210,2,   -999.0,9,-999.0000,9,    235.0,2,     3.44,2,  -999.00,9,     1.27,2,     0.18,2,     0.12,2, -999.000,9, -999.000,9,  -999.00,9,   -999.0,9,   -999.0,9,-999.0000,9,   -999.0,  9,     8.14,2,   -999.0,  -999.00,9,  -999.00,9,     0.85,2,     0.33,2,   -999.0,-999.0000, -999,9,    0,  18.7859,  24.7858,   -999.0,9
       KS07-01,  NONE,KS-1830,  1,      7,02-19374,2,20070223,1205, 32.7447, 133.1063,  183,     10.8,  18.8014,  34.6212,2,   -999.0,9,-999.0000,9,    234.0,2,     3.33,2,  -999.00,9,     1.27,2,     0.18,2,     0.11,2, -999.000,9, -999.000,9,  -999.00,9,   -999.0,9,   -999.0,9,-999.0000,9,   -999.0,  9,     8.14,2,   -999.0,  -999.00,9,  -999.00,9,     0.88,2,     0.24,2,   -999.0,-999.0000, -999,9,   11,  18.7995,  24.7825,   -999.0,9
       KS07-01,  NONE,KS-1830,  1,      6,02-19373,2,20070223,1204, 32.7447, 133.1063,  183,     26.4,  18.8111,  34.6230,2,   -999.0,9,-999.0000,9,    233.0,2,     3.16,2,  -999.00,9,     1.17,2,     0.18,2,     0.11,2, -999.000,9, -999.000,9,  -999.00,9,   -999.0,9,   -999.0,9,-999.0000,9,   -999.0,  9,     8.15,2,   -999.0,  -999.00,9,  -999.00,9,     0.82,2,     0.31,2,   -999.0,-999.0000, -999,9,   26,  18.8065,  24.7821,   -999.0,9
       KS07-01,  NONE,KS-1830,  1,      5,02-16011,2,20070223,1201, 32.7447, 133.1063,  183,     51.7,  18.6227,  34.6924,2,   -999.0,9,-999.0000,9,    222.0,2,     3.89,2,  -999.00,9,     2.63,2,     0.53,2,     0.19,2, -999.000,9, -999.000,9,  -999.00,9,   -999.0,9,   -999.0,9,-999.0000,9,   -999.0,  9,     8.12,2,   -999.0,  -999.00,9,  -999.00,9,     0.25,2,     0.17,2,   -999.0,-999.0000, -999,9,   51,  18.6137,  24.8839,   -999.0,9
       KS07-01,  NONE,KS-1830,  1,      4,02-16010,2,20070223,1200, 32.7447, 133.1063,  183,     76.5,  17.8329,  34.6607,2,   -999.0,9,-999.0000,9,    210.0,2,     6.49,2,  -999.00,9,     4.78,2,     0.31,2,     0.32,2, -999.000,9, -999.000,9,  -999.00,9,   -999.0,9,   -999.0,9,-999.0000,9,   -999.0,  9,     8.09,2,   -999.0,  -999.00,9,  -999.00,9,     0.10,2,     0.13,2,   -999.0,-999.0000, -999,9,   76,  17.8199,  25.0564,   -999.0,9
       KS07-01,  NONE,KS-1830,  1,      3,02-16009,2,20070223,1158, 32.7447, 133.1063,  183,    102.1,  16.8703,  34.6468,2,   -999.0,9,-999.0000,9,    190.0,2,    10.90,2,  -999.00,9,     8.00,2,     0.15,2,     0.54,2, -999.000,9, -999.000,9,  -999.00,9,   -999.0,9,   -999.0,9,-999.0000,9,   -999.0,  9,     8.04,2,   -999.0,  -999.00,9,  -999.00,9,     0.09,2,     0.11,2,   -999.0,-999.0000, -999,9,  101,  16.8536,  25.2778,   -999.0,9
       KS07-01,  NONE,KS-1830,  1,      2,02-16008,2,20070223,1156, 32.7447, 133.1063,  183,    126.5,  16.0816,  34.6348,2,   -999.0,9,-999.0000,9,    183.0,2,    13.09,2,  -999.00,9,     9.65,2,     0.20,2,     0.66,2, -999.000,9, -999.000,9,  -999.00,9,   -999.0,9,   -999.0,9,-999.0000,9,   -999.0,  9,     8.01,2,   -999.0,  -999.00,9,  -999.00,9,     0.08,2,     0.15,2,   -999.0,-999.0000, -999,9,  126,  16.0616,  25.4526,   -999.0,9
       KS07-01,  NONE,KS-1830,  1,      1,02-16007,2,20070223,1154, 32.7447, 133.1063,  183,    153.6,  15.8188,  34.6204,2,   -999.0,9,-999.0000,9,    181.0,2,    14.54,2,  -999.00,9,    10.43,2,     0.14,2,     0.71,2, -999.000,9, -999.000,9,  -999.00,9,   -999.0,9,   -999.0,9,-999.0000,9,   -999.0,  9,     8.00,2,   -999.0,  -999.00,9,  -999.00,9,     0.09,2,     0.10,2,   -999.0,-999.0000, -999,9,  152,  15.7948,  25.5022,   -999.0,9