BOTTLE,20130510GEMDJMAYT
EXPOCODE,SECT_ID,STNNBR,CASTNO,SAMPNO,BTLNBR,BTLNBR_FLAG_W,DATE,TIME,LATITUDE,LONGITUDE,DEPTH,CTDPRS,CTDTMP,CTDSAL,CTDSAL_FLAG_W,CTDOXY,CTDOXY_FLAG_W,SALNTY,SALNTY_FLAG_W,OXYGEN,OXYGEN_FLAG_W,SILCAT,SILCAT_FLAG_W,NITRAT,NITRAT_FLAG_W,NO2+NO3,NO2+NO3_FLAG_W,NITRIT,NITRIT_FLAG_W,PHSPHT,PHSPHT_FLAG_W,CFC-11,CFC-11_FLAG_W,CFC-12,CFC-12_FLAG_W,DELC13,DELC13_FLAG_W,TCARBN,TCARBN_FLAG_W,ALKALI,ALKALI_FLAG_W,PH,PH_FLAG_W,PH_TMP,PH_SCALE,PH_NBS,PH_NBS_FLAG_W,C13ERR,TOTALP,TOTALP_FLAG_W,AMMONI,AMMONI_FLAG_W,CHLORA,CHLORA_FLAG_W,PPHYTN,PPHYTN_FLAG_W,REVPRS,REVTMP,DEPTH_,DEPTH_FLAG,CTDDEP,THETA,SIGTHT,DOC,DOC_FLAG_W
,,,,,,,GMT,GMT,,,METER,DBAR,ITS-90,PSS-78,,UMOL/KG,,PSS-78,,UMOL/KG,,UMOL/KG,,UMOL/KG,,UMOL/KG,,UMOL/KG,,UMOL/KG,,PMOL/KG,,PMOL/KG,,/MILLE,,UMOL/KG,,UMOL/KG,,25_DEG_C,,DEG_C,,,,/MILLE,UMOL/KG,,UMOL/KG,,UG/L,,UG/L,,DBAR,ITS-90,METERS,,METERS,DEG_C,,UMOL/L,
       KS07-01,  137E,KS-1763,  1,     -9,      -9,5,20070124,0346, 15.0020, 136.9568, 5493,      0.0,  27.9146,  34.4676,2,   -999.0,9,-999.0000,9,    209.0,2,     1.41,2,  -999.00,9,     0.00,2,     0.00,2,     0.04,2, -999.000,9, -999.000,9,  -999.00,9,   -999.0,9,   -999.0,9,   8.1256,2,     25.0, TS,     8.24,2,   -999.0,  -999.00,9,  -999.00,9,     0.04,2,     0.03,2,   -999.0,-999.0000, -999,9,    0,  27.9143,  22.0222,   -999.0,9
       KS07-01,  137E,KS-1763,  1,     24,02-16030,2,20070124,0415, 15.0020, 136.9568, 5493,     10.3,  27.9035,  34.4668,2,   -999.0,9,  34.4662,2,    202.0,2,     1.35,2,  -999.00,9,     0.00,2,     0.00,2,     0.03,2, -999.000,9, -999.000,9,  -999.00,9,   1924.4,2,   -999.0,9,   8.1235,2,     25.0, TS,     8.24,2,   -999.0,  -999.00,9,  -999.00,9,     0.04,2,     0.03,2,   -999.0,-999.0000, -999,9,   10,  27.9011,  22.0259,   -999.0,9
       KS07-01,  137E,KS-1763,  1,     23,02-19380,2,20070124,0407, 15.0020, 136.9568, 5493,     26.4,  27.9042,  34.4663,2,   -999.0,9,-999.0000,9,    202.0,2,     1.35,2,  -999.00,9,     0.00,2,     0.00,2,     0.03,2, -999.000,9, -999.000,9,  -999.00,9,   1927.2,2,   -999.0,9,   8.1260,2,     25.0, TS,     8.24,2,   -999.0,  -999.00,9,  -999.00,9,     0.04,2,     0.02,2,   -999.0,-999.0000, -999,9,   26,  27.8980,  22.0265,   -999.0,9
       KS07-01,  137E,KS-1763,  1,     22,02-10977,2,20070124,0402, 15.0020, 136.9568, 5493,     49.4,  27.8901,  34.4649,2,   -999.0,9,-999.0000,9,    203.0,2,     1.35,2,  -999.00,9,     0.00,2,     0.00,2,     0.03,2, -999.000,9, -999.000,9,  -999.00,9,   1924.9,2,   -999.0,9,   8.1267,2,     25.0, TS,     8.24,2,   -999.0,  -999.00,9,  -999.00,9,     0.05,2,     0.03,2,   -999.0,-999.0000, -999,9,   49,  27.8785,  22.0318,   -999.0,9
       KS07-01,  137E,KS-1763,  1,     21,02-16027,2,20070124,0401, 15.0020, 136.9568, 5493,     75.7,  27.8751,  34.4867,2,   -999.0,9,-999.0000,9,    204.0,2,     1.29,2,  -999.00,9,     0.00,2,     0.00,2,     0.02,2, -999.000,9, -999.000,9,  -999.00,9,   1926.4,2,   -999.0,9,   8.1290,2,     25.0, TS,     8.24,2,   -999.0,  -999.00,9,  -999.00,9,     0.07,2,     0.03,2,   -999.0,-999.0000, -999,9,   75,  27.8574,  22.0551,   -999.0,9
       KS07-01,  137E,KS-1763,  1,     20,02-16026,2,20070124,0400, 15.0020, 136.9568, 5493,    100.6,  27.7913,  34.5495,2,   -999.0,9,  34.5505,2,    203.0,2,     1.29,2,  -999.00,9,     0.00,2,     0.00,2,     0.00,2, -999.000,9, -999.000,9,  -999.00,9,   1927.1,2,   -999.0,9,   8.1327,2,     25.0, TS,     8.25,2,   -999.0,  -999.00,9,  -999.00,9,     0.14,2,     0.06,2,   -999.0,-999.0000, -999,9,  100,  27.7678,  22.1315,   -999.0,9
       KS07-01,  137E,KS-1763,  1,     19,02-19378,2,20070124,0359, 15.0020, 136.9568, 5493,    124.6,  26.0405,  34.8831,2,   -999.0,9,-999.0000,9,    204.0,2,     1.46,2,  -999.00,9,     0.00,2,     0.00,2,     0.01,2, -999.000,9, -999.000,9,  -999.00,9,   1966.6,2,   -999.0,9,   8.0926,2,     25.0, TS,     8.20,2,   -999.0,  -999.00,9,  -999.00,9,     0.19,2,     0.20,2,   -999.0,-999.0000, -999,9,  124,  26.0127,  22.9412,   -999.0,9
       KS07-01,  137E,KS-1763,  1,     18,02-19377,2,20070124,0357, 15.0020, 136.9568, 5493,    151.3,  24.0821,  34.9687,2,   -999.0,9,-999.0000,9,    192.0,2,     1.62,2,  -999.00,9,     0.10,2,     0.13,2,     0.05,2, -999.000,9, -999.000,9,  -999.00,9,   1995.3,2,   -999.0,9,   8.0556,2,     25.0, TS,     8.17,2,   -999.0,  -999.00,9,  -999.00,9,     0.16,2,     0.29,2,   -999.0,-999.0000, -999,9,  150,  24.0502,  23.6028,   -999.0,9
       KS07-01,  137E,KS-1763,  1,     17,02-16023,2,20070124,0355, 15.0020, 136.9568, 5493,    200.3,  20.5208,  34.9656,2,   -999.0,9,  34.9668,2,    190.0,2,     2.83,2,  -999.00,9,     2.44,2,     0.01,2,     0.19,2, -999.000,9, -999.000,9,  -999.00,9,   2029.8,2,   -999.0,9,   7.9911,2,     25.0, TS,     8.10,2,   -999.0,  -999.00,9,  -999.00,9,     0.01,2,     0.01,2,   -999.0,-999.0000, -999,9,  199,  20.4831,  24.6072,   -999.0,9
       KS07-01,  137E,KS-1763,  1,     16,02-16022,2,20070124,0354, 15.0020, 136.9568, 5493,    252.7,  17.8478,  34.8139,2,   -999.0,9,-999.0000,9,    198.0,2,     4.26,2,  -999.00,9,     4.78,2,     0.00,2,     0.31,2, -999.000,9, -999.000,9,  -999.00,9,   2040.8,2,   -999.0,9,   7.9609,2,     25.0, TS,     8.07,2,   -999.0,  -999.00,9,  -999.00,9,     0.00,2,     0.01,2,   -999.0,-999.0000, -999,9,  251,  17.8047,  25.1774,   -999.0,9
       KS07-01,  137E,KS-1763,  1,     15,02-16021,2,20070124,0352, 15.0020, 136.9568, 5493,    300.7,  16.3821,  34.6987,2,   -999.0,9,  34.7001,2,    195.0,2,     6.41,2,  -999.00,9,     7.22,2,     0.00,2,     0.47,2, -999.000,9, -999.000,9,  -999.00,9,   2055.2,2,   -999.0,9,   7.9200,2,     25.0, TS,     8.03,2,   -999.0,  -999.00,9,  -999.00,9,     0.00,2,     0.00,2,   -999.0,-999.0000, -999,9,  299,  16.3337,  25.4391,   -999.0,9
       KS07-01,  137E,KS-1763,  1,     14,02-16020,2,20070124,0349, 15.0020, 136.9568, 5493,    402.6,  11.0460,  34.3202,2,   -999.0,9,  34.3292,4,    149.0,2,    23.78,2,  -999.00,9,    20.07,2,     0.00,2,     1.43,2, -999.000,9, -999.000,9,  -999.00,9,   2147.7,2,   -999.0,9,   7.7070,2,     25.0, TS,     7.81,2,   -999.0,  -999.00,9,  -999.00,9,  -999.00,9,  -999.00,9,   -999.0,-999.0000, -999,9,  400,  10.9962,  26.2468,   -999.0,9
       KS07-01,  137E,KS-1763,  1,     13,02-16019,2,20070124,0346, 15.0020, 136.9568, 5493,    504.3,   7.8159,  34.2536,2,   -999.0,9,  34.2525,2,     96.0,2,    50.26,2,  -999.00,9,    31.07,2,     0.00,2,     2.25,2, -999.000,9, -999.000,9,  -999.00,9,   2230.0,2,   -999.0,9,   7.5300,2,     25.0, TS,     7.63,2,   -999.0,  -999.00,9,  -999.00,9,  -999.00,9,  -999.00,9,   -999.0,-999.0000, -999,9,  501,   7.7651,  26.7222,   -999.0,9
       KS07-01,  137E,KS-1763,  1,     12,02-16018,2,20070124,0342, 15.0020, 136.9568, 5493,    605.5,   6.4774,  34.3365,2,   -999.0,9,  34.3323,2,     70.0,2,    66.93,2,  -999.00,9,    35.93,2,     0.00,2,     2.62,2, -999.000,9, -999.000,9,  -999.00,9,   2271.9,2,   -999.0,9,   7.4687,2,     25.0, TS,     7.57,2,   -999.0,  -999.00,9,  -999.00,9,  -999.00,9,  -999.00,9,   -999.0,-999.0000, -999,9,  601,   6.4220,  26.9739,   -999.0,9
       KS07-01,  137E,KS-1763,  1,     11,02-19376,2,20070124,0339, 15.0020, 136.9568, 5493,    706.7,   5.6474,  34.4103,2,   -999.0,9,  34.4105,2,     72.0,2,    80.07,2,  -999.00,9,    37.58,2,     0.00,2,     2.73,2, -999.000,9, -999.000,9,  -999.00,9,   2287.6,2,   -999.0,9,   7.4649,2,     25.0, TS,     7.56,2,   -999.0,  -999.00,9,  -999.00,9,  -999.00,9,  -999.00,9,   -999.0,-999.0000, -999,9,  701,   5.5866,  27.1381,   -999.0,9
       KS07-01,  137E,KS-1763,  1,     10,02-19375,2,20070124,0335, 15.0020, 136.9568, 5493,    808.6,   5.1745,  34.4627,2,   -999.0,9,  34.4614,2,     77.0,2,    86.20,2,  -999.00,9,    38.16,2,     0.00,2,     2.75,2, -999.000,9, -999.000,9,  -999.00,9,   2295.6,2,   -999.0,9,   7.4735,2,     25.0, TS,     7.56,2,   -999.0,  -999.00,9,  -999.00,9,  -999.00,9,  -999.00,9,   -999.0,-999.0000, -999,9,  802,   5.1072,  27.2368,   -999.0,9
       KS07-01,  137E,KS-1763,  1,      9,02-16015,2,20070124,0332, 15.0020, 136.9568, 5493,    907.8,   4.7479,  34.5076,2,   -999.0,9,  34.5071,2,     79.0,2,    91.53,2,  -999.00,9,    38.64,2,     0.00,2,     2.79,2, -999.000,9, -999.000,9,  -999.00,9,   2306.6,2,   -999.0,9,   7.4792,2,     25.0, TS,     7.57,2,   -999.0,  -999.00,9,  -999.00,9,  -999.00,9,  -999.00,9,   -999.0,-999.0000, -999,9,  901,   4.6746,  27.3218,   -999.0,9
       KS07-01,  137E,KS-1763,  1,      8,02-16014,2,20070124,0328, 15.0020, 136.9568, 5493,   1009.6,   4.3292,  34.5283,2,   -999.0,9,  34.4960,4,     86.0,2,   100.01,2,  -999.00,9,    38.84,2,     0.00,2,     2.78,2, -999.000,9, -999.000,9,  -999.00,9,   2312.1,2,   -999.0,9,   7.4832,2,     25.0, TS,     7.58,2,   -999.0,  -999.00,9,  -999.00,9,  -999.00,9,  -999.00,9,   -999.0,-999.0000, -999,9, 1001,   4.2501,  27.3846,   -999.0,9
       KS07-01,  137E,KS-1763,  1,      7,02-19374,2,20070124,0322, 15.0020, 136.9568, 5493,   1262.9,   3.4058,  34.5594,2,   -999.0,9,  34.5587,2,     92.0,2,   119.72,2,  -999.00,9,    38.93,2,     0.00,2,     2.78,2, -999.000,9, -999.000,9,  -999.00,9,   2329.5,2,   -999.0,9,   7.4986,2,     25.0, TS,     7.60,2,   -999.0,  -999.00,9,  -999.00,9,  -999.00,9,  -999.00,9,   -999.0,-999.0000, -999,9, 1252,   3.3134,  27.5041,   -999.0,9
       KS07-01,  137E,KS-1763,  1,      6,02-19373,2,20070124,0315, 15.0020, 136.9568, 5493,   1516.6,   2.8232,  34.5844,2,   -999.0,9,  34.5842,2,    100.0,2,   130.46,2,  -999.00,9,    39.02,2,     0.00,2,     2.77,2, -999.000,9, -999.000,9,  -999.00,9,   2337.2,2,   -999.0,9,   7.5025,6,     25.0, TS,     7.60,2,   -999.0,  -999.00,9,  -999.00,9,  -999.00,9,  -999.00,9,   -999.0,-999.0000, -999,9, 1502,   2.7160,  27.5789,   -999.0,9
       KS07-01,  137E,KS-1763,  1,      5,02-16011,2,20070124,0309, 15.0020, 136.9568, 5493,   1769.4,   2.3537,  34.6097,2,   -999.0,9,  34.6104,2,    108.0,2,   137.88,2,  -999.00,9,    39.02,2,     0.00,2,     2.75,2, -999.000,9, -999.000,9,  -999.00,9,   2343.3,6,   -999.0,9,   7.5119,2,     25.0, TS,     7.61,2,   -999.0,  -999.00,9,  -999.00,9,  -999.00,9,  -999.00,9,   -999.0,-999.0000, -999,9, 1752,   2.2315,  27.6404,   -999.0,9
       KS07-01,  137E,KS-1763,  1,      4,02-16010,2,20070124,0302, 15.0020, 136.9568, 5493,   2024.6,   2.0510,  34.6311,2,   -999.0,9,  34.6311,2,    118.0,2,   141.50,2,  -999.00,9,    38.34,2,     0.00,2,     2.71,2, -999.000,9, -999.000,9,  -999.00,9,   2345.7,2,   -999.0,9,   7.5310,2,     25.0, TS,     7.62,2,   -999.0,  -999.00,9,  -999.00,9,  -999.00,9,  -999.00,9,   -999.0,-999.0000, -999,9, 2003,   1.9117,  27.6830,   -999.0,9
       KS07-01,  137E,KS-1763,  1,      3,02-16009,2,20070124,0241, 15.0020, 136.9568, 5493,   3036.0,   1.6514,  34.6682,2,   -999.0,9,  34.6677,2,    140.0,2,   145.68,2,  -999.00,9,    37.27,2,     0.00,2,     2.59,2, -999.000,9, -999.000,9,  -999.00,9,   -999.0,9,   -999.0,9,-999.0000,9,   -999.0,  9,     7.66,2,   -999.0,  -999.00,9,  -999.00,9,  -999.00,9,  -999.00,9,   -999.0,-999.0000, -999,9, 2997,   1.4278,  27.7491,   -999.0,9
       KS07-01,  137E,KS-1763,  1,      2,02-16008,2,20070124,0220, 15.0020, 136.9568, 5493,   4063.5,   1.5124,  34.6860,2,   -999.0,9,  34.6855,2,    160.0,2,   140.82,2,  -999.00,9,    35.71,2,     0.00,2,     2.49,2, -999.000,9, -999.000,9,  -999.00,9,   -999.0,9,   -999.0,9,-999.0000,9,   -999.0,  9,     7.69,2,   -999.0,  -999.00,9,  -999.00,9,  -999.00,9,  -999.00,9,   -999.0,-999.0000, -999,9, 4001,   1.1862,  27.7804,   -999.0,9
       KS07-01,  137E,KS-1763,  1,      1,02-16007,2,20070124,0154, 15.0020, 136.9568, 5493,   5504.5,   1.6420,  34.6892,2,   -999.0,9,  34.6890,2,    165.0,2,   139.23,2,  -999.00,9,    35.32,2,     0.00,2,     2.46,2, -999.000,9, -999.000,9,  -999.00,9,   -999.0,9,   -999.0,9,-999.0000,9,   -999.0,  9,     7.70,2,   -999.0,  -999.00,9,  -999.00,9,  -999.00,9,  -999.00,9,   -999.0,-999.0000, -999,9, 5403,   1.1397,  27.7862,   -999.0,9