BOTTLE,20130510GEMDJMAYT
EXPOCODE,SECT_ID,STNNBR,CASTNO,SAMPNO,BTLNBR,BTLNBR_FLAG_W,DATE,TIME,LATITUDE,LONGITUDE,DEPTH,CTDPRS,CTDTMP,CTDSAL,CTDSAL_FLAG_W,CTDOXY,CTDOXY_FLAG_W,SALNTY,SALNTY_FLAG_W,OXYGEN,OXYGEN_FLAG_W,SILCAT,SILCAT_FLAG_W,NITRAT,NITRAT_FLAG_W,NO2+NO3,NO2+NO3_FLAG_W,NITRIT,NITRIT_FLAG_W,PHSPHT,PHSPHT_FLAG_W,CFC-11,CFC-11_FLAG_W,CFC-12,CFC-12_FLAG_W,DELC13,DELC13_FLAG_W,TCARBN,TCARBN_FLAG_W,ALKALI,ALKALI_FLAG_W,PH,PH_FLAG_W,PH_TMP,PH_SCALE,PH_NBS,PH_NBS_FLAG_W,C13ERR,TOTALP,TOTALP_FLAG_W,AMMONI,AMMONI_FLAG_W,CHLORA,CHLORA_FLAG_W,PPHYTN,PPHYTN_FLAG_W,REVPRS,REVTMP,DEPTH_,DEPTH_FLAG,CTDDEP,THETA,SIGTHT,DOC,DOC_FLAG_W
,,,,,,,GMT,GMT,,,METER,DBAR,ITS-90,PSS-78,,UMOL/KG,,PSS-78,,UMOL/KG,,UMOL/KG,,UMOL/KG,,UMOL/KG,,UMOL/KG,,UMOL/KG,,PMOL/KG,,PMOL/KG,,/MILLE,,UMOL/KG,,UMOL/KG,,25_DEG_C,,DEG_C,,,,/MILLE,UMOL/KG,,UMOL/KG,,UG/L,,UG/L,,DBAR,ITS-90,METERS,,METERS,DEG_C,,UMOL/L,
       KS07-01,  137E,KS-1809,  1,     -9,      -9,5,20070220,0528, 26.9967, 136.1043, 4435,      0.0,  21.1017,  34.8067,2,   -999.0,9,-999.0000,9,    225.0,2,     1.69,2,  -999.00,9,     0.00,2,     0.00,2,     0.01,2, -999.000,9, -999.000,9,  -999.00,9,   -999.0,9,   -999.0,9,-999.0000,9,   -999.0,  9,  -999.00,9,   -999.0,  -999.00,9,  -999.00,9,     0.15,2,     0.06,2,   -999.0,-999.0000, -999,9,    0,  21.1015,  24.3192,   -999.0,9
       KS07-01,  137E,KS-1809,  1,     21,02-16027,2,20070220,0548, 26.9967, 136.1043, 4435,     10.1,  20.8978,  34.8017,2,   -999.0,9,  34.7852,4,    224.0,2,     1.72,2,  -999.00,9,     0.00,2,     0.00,2,     0.01,2, -999.000,9, -999.000,9,  -999.00,9,   -999.0,9,   -999.0,9,-999.0000,9,   -999.0,  9,  -999.00,9,   -999.0,  -999.00,9,  -999.00,9,     0.15,2,     0.07,2,   -999.0,-999.0000, -999,9,   10,  20.8959,  24.3712,   -999.0,9
       KS07-01,  137E,KS-1809,  1,     20,02-16026,2,20070220,0547, 26.9967, 136.1043, 4435,     24.7,  20.8272,  34.8006,2,   -999.0,9,-999.0000,9,    224.0,2,     1.70,2,  -999.00,9,     0.00,2,     0.00,2,     0.01,2, -999.000,9, -999.000,9,  -999.00,9,   -999.0,9,   -999.0,9,-999.0000,9,   -999.0,  9,  -999.00,9,   -999.0,  -999.00,9,  -999.00,9,     0.17,2,     0.07,2,   -999.0,-999.0000, -999,9,   25,  20.8225,  24.3902,   -999.0,9
       KS07-01,  137E,KS-1809,  1,     19,02-19378,2,20070220,0544, 26.9967, 136.1043, 4435,     49.4,  20.8086,  34.8007,2,   -999.0,9,-999.0000,9,    224.0,2,     1.68,2,  -999.00,9,     0.00,2,     0.00,2,     0.01,2, -999.000,9, -999.000,9,  -999.00,9,   -999.0,9,   -999.0,9,-999.0000,9,   -999.0,  9,  -999.00,9,   -999.0,  -999.00,9,  -999.00,9,     0.19,2,     0.09,2,   -999.0,-999.0000, -999,9,   49,  20.7992,  24.3965,   -999.0,9
       KS07-01,  137E,KS-1809,  1,     18,02-19377,2,20070220,0542, 26.9967, 136.1043, 4435,     74.7,  20.7805,  34.7991,2,   -999.0,9,-999.0000,9,    224.0,2,     1.71,2,  -999.00,9,     0.00,2,     0.00,2,     0.01,2, -999.000,9, -999.000,9,  -999.00,9,   -999.0,9,   -999.0,9,-999.0000,9,   -999.0,  9,  -999.00,9,   -999.0,  -999.00,9,  -999.00,9,     0.24,2,     0.13,2,   -999.0,-999.0000, -999,9,   74,  20.7664,  24.4043,   -999.0,9
       KS07-01,  137E,KS-1809,  1,     17,02-16023,2,20070220,0541, 26.9967, 136.1043, 4435,    101.5,  20.7405,  34.7988,2,   -999.0,9,  34.7994,2,    223.0,2,     1.73,2,  -999.00,9,     0.00,2,     0.00,2,     0.01,2, -999.000,9, -999.000,9,  -999.00,9,   -999.0,9,   -999.0,9,-999.0000,9,   -999.0,  9,  -999.00,9,   -999.0,  -999.00,9,  -999.00,9,     0.25,2,     0.14,2,   -999.0,-999.0000, -999,9,  101,  20.7213,  24.4162,   -999.0,9
       KS07-01,  137E,KS-1809,  1,     16,02-16022,2,20070220,0540, 26.9967, 136.1043, 4435,    126.8,  19.9184,  34.8026,2,   -999.0,9,-999.0000,9,    208.0,2,     2.44,2,  -999.00,9,     1.95,2,     0.07,2,     0.13,2, -999.000,9, -999.000,9,  -999.00,9,   -999.0,9,   -999.0,9,-999.0000,9,   -999.0,  9,  -999.00,9,   -999.0,  -999.00,9,  -999.00,9,     0.10,2,     0.13,2,   -999.0,-999.0000, -999,9,  126,  19.8951,  24.6388,   -999.0,9
       KS07-01,  137E,KS-1809,  1,     15,02-16021,2,20070220,0538, 26.9967, 136.1043, 4435,    151.1,  18.8397,  34.8293,2,   -999.0,9,-999.0000,9,    203.0,2,     3.04,2,  -999.00,9,     3.22,2,     0.02,2,     0.20,2, -999.000,9, -999.000,9,  -999.00,9,   -999.0,9,   -999.0,9,-999.0000,9,   -999.0,  9,  -999.00,9,   -999.0,  -999.00,9,  -999.00,9,     0.02,2,     0.04,2,   -999.0,-999.0000, -999,9,  150,  18.8130,  24.9383,   -999.0,9
       KS07-01,  137E,KS-1809,  1,     14,02-16020,2,20070220,0536, 26.9967, 136.1043, 4435,    202.2,  17.9723,  34.8120,2,   -999.0,9,  34.8118,2,    204.0,2,     3.61,2,  -999.00,9,     4.10,2,     0.01,2,     0.26,2, -999.000,9, -999.000,9,  -999.00,9,   -999.0,9,   -999.0,9,-999.0000,9,   -999.0,  9,  -999.00,9,   -999.0,  -999.00,9,  -999.00,9,     0.00,2,     0.01,2,   -999.0,-999.0000, -999,9,  201,  17.9377,  25.1434,   -999.0,9
       KS07-01,  137E,KS-1809,  1,     13,02-16019,2,20070220,0535, 26.9967, 136.1043, 4435,    252.4,  17.2943,  34.7766,2,   -999.0,9,-999.0000,9,    203.0,2,     4.31,2,  -999.00,9,     5.36,2,     0.00,2,     0.33,2, -999.000,9, -999.000,9,  -999.00,9,   -999.0,9,   -999.0,9,-999.0000,9,   -999.0,  9,  -999.00,9,   -999.0,  -999.00,9,  -999.00,9,     0.00,2,     0.01,2,   -999.0,-999.0000, -999,9,  251,  17.2522,  25.2827,   -999.0,9
       KS07-01,  137E,KS-1809,  1,     12,02-16018,2,20070220,0533, 26.9967, 136.1043, 4435,    301.0,  16.4742,  34.7148,2,   -999.0,9,  34.7138,2,    197.0,2,     6.48,2,  -999.00,9,     7.12,2,     0.00,2,     0.45,2, -999.000,9, -999.000,9,  -999.00,9,   -999.0,9,   -999.0,9,-999.0000,9,   -999.0,  9,  -999.00,9,   -999.0,  -999.00,9,  -999.00,9,     0.00,2,     0.01,2,   -999.0,-999.0000, -999,9,  299,  16.4256,  25.4302,   -999.0,9
       KS07-01,  137E,KS-1809,  1,     11,02-19376,2,20070220,0529, 26.9967, 136.1043, 4435,    404.8,  13.4039,  34.4827,2,   -999.0,9,  34.4823,2,    183.0,2,    16.48,2,  -999.00,9,    13.26,2,     0.00,2,     0.90,2, -999.000,9, -999.000,9,  -999.00,9,   -999.0,9,   -999.0,9,-999.0000,9,   -999.0,  9,  -999.00,9,   -999.0,  -999.00,9,  -999.00,9,  -999.00,9,  -999.00,9,   -999.0,-999.0000, -999,9,  402,  13.3469,  25.9221,   -999.0,9
       KS07-01,  137E,KS-1809,  1,     10,02-19375,2,20070220,0526, 26.9967, 136.1043, 4435,    505.2,  10.6092,  34.2915,2,   -999.0,9,  34.2923,2,    172.0,2,    28.94,2,  -999.00,9,    19.00,2,     0.00,2,     1.32,2, -999.000,9, -999.000,9,  -999.00,9,   -999.0,9,   -999.0,9,-999.0000,9,   -999.0,  9,  -999.00,9,   -999.0,  -999.00,9,  -999.00,9,  -999.00,9,  -999.00,9,   -999.0,-999.0000, -999,9,  501,  10.5480,  26.3041,   -999.0,9
       KS07-01,  137E,KS-1809,  1,      9,02-16015,2,20070220,0523, 26.9967, 136.1043, 4435,    605.4,   7.6327,  34.1227,2,   -999.0,9,  34.1231,2,    148.0,2,    49.86,2,  -999.00,9,    26.40,2,     0.00,2,     1.88,2, -999.000,9, -999.000,9,  -999.00,9,   -999.0,9,   -999.0,9,-999.0000,9,   -999.0,  9,  -999.00,9,   -999.0,  -999.00,9,  -999.00,9,  -999.00,9,  -999.00,9,   -999.0,-999.0000, -999,9,  601,   7.5723,  26.6473,   -999.0,9
       KS07-01,  137E,KS-1809,  1,      8,02-16014,2,20070220,0520, 26.9967, 136.1043, 4435,    706.0,   6.0259,  34.1480,2,   -999.0,9,  34.1470,2,    108.0,2,    71.88,2,  -999.00,9,    32.82,2,     0.00,2,     2.35,2, -999.000,9, -999.000,9,  -999.00,9,   -999.0,9,   -999.0,9,-999.0000,9,   -999.0,  9,  -999.00,9,   -999.0,  -999.00,9,  -999.00,9,  -999.00,9,  -999.00,9,   -999.0,-999.0000, -999,9,  700,   5.9635,  26.8840,   -999.0,9
       KS07-01,  137E,KS-1809,  1,      7,02-19374,2,20070220,0517, 26.9967, 136.1043, 4435,    807.6,   4.6813,  34.1819,2,   -999.0,9,  34.1826,2,     74.0,2,    94.24,2,  -999.00,9,    37.68,2,     0.00,2,     2.72,2, -999.000,9, -999.000,9,  -999.00,9,   -999.0,9,   -999.0,9,-999.0000,9,   -999.0,  9,  -999.00,9,   -999.0,  -999.00,9,  -999.00,9,  -999.00,9,  -999.00,9,   -999.0,-999.0000, -999,9,  801,   4.6175,  27.0696,   -999.0,9
       KS07-01,  137E,KS-1809,  1,      6,02-19373,2,20070220,0514, 26.9967, 136.1043, 4435,    909.2,   4.0197,  34.2751,2,   -999.0,9,  34.2737,2,     54.0,2,   111.17,2,  -999.00,9,    40.40,2,     0.00,2,     2.90,2, -999.000,9, -999.000,9,  -999.00,9,   -999.0,9,   -999.0,9,-999.0000,9,   -999.0,  9,  -999.00,9,   -999.0,  -999.00,9,  -999.00,9,  -999.00,9,  -999.00,9,   -999.0,-999.0000, -999,9,  901,   3.9517,  27.2145,   -999.0,9
       KS07-01,  137E,KS-1809,  1,      5,02-16011,2,20070220,0511, 26.9967, 136.1043, 4435,   1009.0,   3.6314,  34.3577,2,   -999.0,9,  34.3593,2,     54.0,2,   121.19,2,  -999.00,9,    40.88,2,     0.00,2,     2.93,2, -999.000,9, -999.000,9,  -999.00,9,   -999.0,9,   -999.0,9,-999.0000,9,   -999.0,  9,  -999.00,9,   -999.0,  -999.00,9,  -999.00,9,  -999.00,9,  -999.00,9,   -999.0,-999.0000, -999,9, 1000,   3.5581,  27.3197,   -999.0,9
       KS07-01,  137E,KS-1809,  1,      4,02-16010,2,20070220,0505, 26.9967, 136.1043, 4435,   1264.1,   2.8213,  34.4741,2,   -999.0,9,  34.4738,2,     62.0,2,   138.39,2,  -999.00,9,    41.27,2,     0.00,2,     2.94,2, -999.000,9, -999.000,9,  -999.00,9,   -999.0,9,   -999.0,9,-999.0000,9,   -999.0,  9,  -999.00,9,   -999.0,  -999.00,9,  -999.00,9,  -999.00,9,  -999.00,9,   -999.0,-999.0000, -999,9, 1252,   2.7347,  27.4890,   -999.0,9
       KS07-01,  137E,KS-1809,  1,      3,02-16009,2,20070220,0459, 26.9967, 136.1043, 4435,   1516.6,   2.4217,  34.5383,2,   -999.0,9,  34.5376,2,     79.0,2,   142.50,2,  -999.00,9,    40.48,2,     0.00,2,     2.87,2, -999.000,9, -999.000,9,  -999.00,9,   -999.0,9,   -999.0,9,-999.0000,9,   -999.0,  9,  -999.00,9,   -999.0,  -999.00,9,  -999.00,9,  -999.00,9,  -999.00,9,   -999.0,-999.0000, -999,9, 1501,   2.3193,  27.5759,   -999.0,9
       KS07-01,  137E,KS-1809,  1,      2,02-16008,2,20070220,0454, 26.9967, 136.1043, 4435,   1769.6,   2.0892,  34.5911,2,   -999.0,9,  34.5909,2,    102.0,2,   142.86,2,  -999.00,9,    39.12,2,     0.00,2,     2.75,2, -999.000,9, -999.000,9,  -999.00,9,   -999.0,9,   -999.0,9,-999.0000,9,   -999.0,  9,  -999.00,9,   -999.0,  -999.00,9,  -999.00,9,  -999.00,9,  -999.00,9,   -999.0,-999.0000, -999,9, 1751,   1.9706,  27.6464,   -999.0,9
       KS07-01,  137E,KS-1809,  1,      1,02-16007,2,20070220,0448, 26.9967, 136.1043, 4435,   2034.6,   1.9181,  34.6184,2,   -999.0,9,  34.6185,2,    115.0,2,   143.23,2,  -999.00,9,    38.44,2,     0.00,2,     2.70,2, -999.000,9, -999.000,9,  -999.00,9,   -999.0,9,   -999.0,9,-999.0000,9,   -999.0,  9,  -999.00,9,   -999.0,  -999.00,9,  -999.00,9,  -999.00,9,  -999.00,9,   -999.0,-999.0000, -999,9, 2011,   1.7801,  27.6830,   -999.0,9