BOTTLE,20130510GEMDJMAYT
EXPOCODE,SECT_ID,STNNBR,CASTNO,SAMPNO,BTLNBR,BTLNBR_FLAG_W,DATE,TIME,LATITUDE,LONGITUDE,DEPTH,CTDPRS,CTDTMP,CTDSAL,CTDSAL_FLAG_W,CTDOXY,CTDOXY_FLAG_W,SALNTY,SALNTY_FLAG_W,OXYGEN,OXYGEN_FLAG_W,SILCAT,SILCAT_FLAG_W,NITRAT,NITRAT_FLAG_W,NO2+NO3,NO2+NO3_FLAG_W,NITRIT,NITRIT_FLAG_W,PHSPHT,PHSPHT_FLAG_W,CFC-11,CFC-11_FLAG_W,CFC-12,CFC-12_FLAG_W,DELC13,DELC13_FLAG_W,TCARBN,TCARBN_FLAG_W,ALKALI,ALKALI_FLAG_W,PH,PH_FLAG_W,PH_TMP,PH_SCALE,PH_NBS,PH_NBS_FLAG_W,C13ERR,TOTALP,TOTALP_FLAG_W,AMMONI,AMMONI_FLAG_W,CHLORA,CHLORA_FLAG_W,PPHYTN,PPHYTN_FLAG_W,REVPRS,REVTMP,DEPTH_,DEPTH_FLAG,CTDDEP,THETA,SIGTHT,DOC,DOC_FLAG_W
,,,,,,,GMT,GMT,,,METER,DBAR,ITS-90,PSS-78,,UMOL/KG,,PSS-78,,UMOL/KG,,UMOL/KG,,UMOL/KG,,UMOL/KG,,UMOL/KG,,UMOL/KG,,PMOL/KG,,PMOL/KG,,/MILLE,,UMOL/KG,,UMOL/KG,,25_DEG_C,,DEG_C,,,,/MILLE,UMOL/KG,,UMOL/KG,,UG/L,,UG/L,,DBAR,ITS-90,METERS,,METERS,DEG_C,,UMOL/L,
       KS07-01,  137E,KS-1748,  1,     -9,      -9,5,20070119,1828, 29.9755, 136.9837, 4521,      0.0,  20.7898,  34.7370,2,   -999.0,9,-999.0000,9,    223.0,2,     1.63,2,  -999.00,9,     0.29,2,     0.16,2,     0.01,2, -999.000,9, -999.000,9,  -999.00,9,   -999.0,9,   -999.0,9,   8.0701,2,     25.0, TS,     8.18,2,   -999.0,  -999.00,9,  -999.00,9,     0.23,2,     0.17,2,   -999.0,-999.0000, -999,9,    0,  20.7896,  24.3506,   -999.0,9
       KS07-01,  137E,KS-1748,  1,     24,02-16030,2,20070119,1838, 29.9755, 136.9837, 4521,     10.7,  20.7902,  34.7384,2,   -999.0,9,  34.7387,2,    222.0,2,     1.73,2,  -999.00,9,     0.20,2,     0.15,2,     0.01,2, -999.000,9, -999.000,9,  -999.00,9,   1972.9,2,   -999.0,9,   8.0701,2,     25.0, TS,     8.19,2,   -999.0,  -999.00,9,  -999.00,9,     0.24,2,     0.16,2,   -999.0,-999.0000, -999,9,   11,  20.7882,  24.3521,   -999.0,9
       KS07-01,  137E,KS-1748,  1,     23,02-19380,2,20070119,1837, 29.9755, 136.9837, 4521,     26.1,  20.7906,  34.7380,2,   -999.0,9,-999.0000,9,    222.0,2,     1.67,2,  -999.00,9,     0.20,2,     0.16,2,     0.01,2, -999.000,9, -999.000,9,  -999.00,9,   1968.0,2,   -999.0,9,   8.0662,2,     25.0, TS,     8.18,2,   -999.0,  -999.00,9,  -999.00,9,     0.26,2,     0.17,2,   -999.0,-999.0000, -999,9,   26,  20.7857,  24.3525,   -999.0,9
       KS07-01,  137E,KS-1748,  1,     22,02-10977,2,20070119,1833, 29.9755, 136.9837, 4521,     48.5,  20.7992,  34.7392,2,   -999.0,9,-999.0000,9,    222.0,2,     1.66,2,  -999.00,9,     0.20,2,     0.15,2,     0.01,2, -999.000,9, -999.000,9,  -999.00,9,   1966.8,2,   -999.0,9,   8.0695,2,     25.0, TS,     8.18,2,   -999.0,  -999.00,9,  -999.00,9,     0.24,2,     0.18,2,   -999.0,-999.0000, -999,9,   48,  20.7900,  24.3523,   -999.0,9
       KS07-01,  137E,KS-1748,  1,     21,02-16027,2,20070119,1832, 29.9755, 136.9837, 4521,     75.9,  20.8037,  34.7395,2,   -999.0,9,-999.0000,9,    222.0,2,     1.71,2,  -999.00,9,     0.20,2,     0.16,2,     0.01,2, -999.000,9, -999.000,9,  -999.00,9,   1970.8,2,   -999.0,9,   8.0698,2,     25.0, TS,     8.19,2,   -999.0,  -999.00,9,  -999.00,9,     0.23,2,     0.17,2,   -999.0,-999.0000, -999,9,   75,  20.7893,  24.3526,   -999.0,9
       KS07-01,  137E,KS-1748,  1,     20,02-16026,2,20070119,1831, 29.9755, 136.9837, 4521,     99.6,  20.7996,  34.7380,2,   -999.0,9,  34.7389,2,    221.0,2,     1.71,2,  -999.00,9,     0.20,2,     0.16,2,     0.01,2, -999.000,9, -999.000,9,  -999.00,9,   1968.6,2,   -999.0,9,   8.0696,2,     25.0, TS,     8.16,2,   -999.0,  -999.00,9,  -999.00,9,     0.26,2,     0.16,2,   -999.0,-999.0000, -999,9,   99,  20.7807,  24.3538,   -999.0,9
       KS07-01,  137E,KS-1748,  1,     19,02-19378,2,20070119,1830, 29.9755, 136.9837, 4521,    125.0,  20.3831,  34.7105,2,   -999.0,9,-999.0000,9,    222.0,2,     1.81,2,  -999.00,9,     0.49,2,     0.27,2,     0.03,2, -999.000,9, -999.000,9,  -999.00,9,   1974.8,2,   -999.0,9,   8.0599,2,     25.0, TS,     8.17,2,   -999.0,  -999.00,9,  -999.00,9,     0.07,2,     0.08,2,   -999.0,-999.0000, -999,9,  124,  20.3597,  24.4457,   -999.0,9
       KS07-01,  137E,KS-1748,  1,     18,02-19377,2,20070119,1829, 29.9755, 136.9837, 4521,    150.9,  20.2016,  34.7044,2,   -999.0,9,-999.0000,9,    223.0,2,     1.75,2,  -999.00,9,     0.39,2,     0.24,2,     0.03,2, -999.000,9, -999.000,9,  -999.00,9,   1975.6,2,   -999.0,9,   8.0573,2,     25.0, TS,     8.17,2,   -999.0,  -999.00,9,  -999.00,9,     0.05,2,     0.06,2,   -999.0,-999.0000, -999,9,  150,  20.1736,  24.4904,   -999.0,9
       KS07-01,  137E,KS-1748,  1,     17,02-16023,2,20070119,1827, 29.9755, 136.9837, 4521,    201.8,  19.4102,  34.8688,2,   -999.0,9,  34.8686,2,    201.0,2,     2.71,2,  -999.00,9,     2.54,2,     0.02,2,     0.15,2, -999.000,9, -999.000,9,  -999.00,9,   2021.2,2,   -999.0,9,   8.0008,2,     25.0, TS,     8.12,2,   -999.0,  -999.00,9,  -999.00,9,     0.01,2,     0.03,2,   -999.0,-999.0000, -999,9,  200,  19.3737,  24.8250,   -999.0,9
       KS07-01,  137E,KS-1748,  1,     16,02-16022,2,20070119,1826, 29.9755, 136.9837, 4521,    252.2,  18.4888,  34.8440,2,   -999.0,9,-999.0000,9,    209.0,2,     2.98,2,  -999.00,9,     3.02,2,     0.01,2,     0.18,2, -999.000,9, -999.000,9,  -999.00,9,   2016.1,2,   -999.0,9,   8.0019,2,     25.0, TS,     8.12,2,   -999.0,  -999.00,9,  -999.00,9,     0.00,2,     0.01,2,   -999.0,-999.0000, -999,9,  250,  18.4447,  25.0422,   -999.0,9
       KS07-01,  137E,KS-1748,  1,     15,02-16021,2,20070119,1824, 29.9755, 136.9837, 4521,    302.7,  17.9977,  34.8270,2,   -999.0,9,  34.8269,2,    210.0,2,     3.40,2,  -999.00,9,     3.61,2,     0.00,2,     0.20,2, -999.000,9, -999.000,9,  -999.00,9,   2025.6,2,   -999.0,9,   7.9934,2,     25.0, TS,     8.11,2,   -999.0,  -999.00,9,  -999.00,9,     0.00,2,     0.01,2,   -999.0,-999.0000, -999,9,  300,  17.9457,  25.1529,   -999.0,9
       KS07-01,  137E,KS-1748,  1,     14,02-16020,2,20070119,1821, 29.9755, 136.9837, 4521,    403.2,  16.7382,  34.7346,2,   -999.0,9,  34.7303,2,    196.0,2,     6.27,2,  -999.00,9,     6.92,2,     0.00,2,     0.41,2, -999.000,9, -999.000,9,  -999.00,9,   2044.7,2,   -999.0,9,   7.9395,2,     25.0, TS,     8.05,2,   -999.0,  -999.00,9,  -999.00,9,  -999.00,9,  -999.00,9,   -999.0,-999.0000, -999,9,  400,  16.6721,  25.3879,   -999.0,9
       KS07-01,  137E,KS-1748,  1,     13,02-16019,2,20070119,1819, 29.9755, 136.9837, 4521,    503.3,  14.7709,  34.5801,2,   -999.0,9,  34.5765,2,    187.0,2,    11.79,2,  -999.00,9,    10.82,2,     0.00,2,     0.69,2, -999.000,9, -999.000,9,  -999.00,9,   2074.8,2,   -999.0,9,   7.8754,2,     25.0, TS,     7.99,2,   -999.0,  -999.00,9,  -999.00,9,  -999.00,9,  -999.00,9,   -999.0,-999.0000, -999,9,  499,  14.6950,  25.7146,   -999.0,9
       KS07-01,  137E,KS-1748,  1,     12,02-16018,2,20070119,1817, 29.9755, 136.9837, 4521,    604.8,  12.0733,  34.3828,2,   -999.0,9,  34.3817,2,    178.0,2,    21.31,2,  -999.00,9,    15.98,2,     0.00,2,     1.07,2, -999.000,9, -999.000,9,  -999.00,9,   2107.6,2,   -999.0,9,   7.7928,2,     25.0, TS,     7.90,2,   -999.0,  -999.00,9,  -999.00,9,  -999.00,9,  -999.00,9,   -999.0,-999.0000, -999,9,  600,  11.9933,  26.1110,   -999.0,9
       KS07-01,  137E,KS-1748,  1,     11,02-19376,2,20070119,1814, 29.9755, 136.9837, 4521,    706.2,   9.6656,  34.2431,2,   -999.0,9,  34.2393,2,    158.0,2,    36.67,2,  -999.00,9,    22.21,2,     0.00,2,     1.55,2, -999.000,9, -999.000,9,  -999.00,9,   2159.5,2,   -999.0,9,   7.6929,2,     25.0, TS,     7.80,2,   -999.0,  -999.00,9,  -999.00,9,  -999.00,9,  -999.00,9,   -999.0,-999.0000, -999,9,  700,   9.5840,  26.4306,   -999.0,9
       KS07-01,  137E,KS-1748,  1,     10,02-19375,2,20070119,1812, 29.9755, 136.9837, 4521,    806.8,   7.3171,  34.1493,2,   -999.0,9,  34.1507,2,    130.0,2,    56.88,2,  -999.00,9,    28.83,2,     0.00,2,     2.06,2, -999.000,9, -999.000,9,  -999.00,9,   2212.3,2,   -999.0,9,   7.5823,2,     25.0, TS,     7.69,2,   -999.0,  -999.00,9,  -999.00,9,  -999.00,9,  -999.00,9,   -999.0,-999.0000, -999,9,  800,   7.2374,  26.7157,   -999.0,9
       KS07-01,  137E,KS-1748,  1,      9,02-16015,2,20070119,1809, 29.9755, 136.9837, 4521,    908.4,   6.0870,  34.1648,2,   -999.0,9,  34.1686,2,    105.0,2,    74.04,2,  -999.00,9,    33.01,2,     0.00,2,     2.37,2, -999.000,9, -999.000,9,  -999.00,9,   2250.9,2,   -999.0,9,   7.5148,2,     25.0, TS,     7.61,2,   -999.0,  -999.00,9,  -999.00,9,  -999.00,9,  -999.00,9,   -999.0,-999.0000, -999,9,  900,   6.0049,  26.8921,   -999.0,9
       KS07-01,  137E,KS-1748,  1,      8,02-16014,2,20070119,1807, 29.9755, 136.9837, 4521,   1008.7,   4.8715,  34.2647,2,   -999.0,9,  34.2654,2,     76.0,2,    96.83,2,  -999.00,9,    37.39,2,     0.00,2,     2.70,2, -999.000,9, -999.000,9,  -999.00,9,   2295.3,2,   -999.0,9,   7.4466,2,     25.0, TS,     7.54,2,   -999.0,  -999.00,9,  -999.00,9,  -999.00,9,  -999.00,9,   -999.0,-999.0000, -999,9,  999,   4.7888,  27.1163,   -999.0,9
       KS07-01,  137E,KS-1748,  1,      7,02-19374,2,20070119,1801, 29.9755, 136.9837, 4521,   1262.9,   3.3322,  34.4399,2,   -999.0,9,  34.4401,2,     68.0,2,   126.96,2,  -999.00,9,    40.10,2,     0.00,2,     2.89,2, -999.000,9, -999.000,9,  -999.00,9,   2347.0,2,   -999.0,9,   7.4312,2,     25.0, TS,     7.53,2,   -999.0,  -999.00,9,  -999.00,9,  -999.00,9,  -999.00,9,   -999.0,-999.0000, -999,9, 1250,   3.2408,  27.4156,   -999.0,9
       KS07-01,  137E,KS-1748,  1,      6,02-19373,2,20070119,1756, 29.9755, 136.9837, 4521,   1514.9,   2.6451,  34.5206,2,   -999.0,9,  34.5209,2,     81.0,2,   138.16,2,  -999.00,9,    40.10,2,     0.00,2,     2.85,2, -999.000,9, -999.000,9,  -999.00,9,   2343.8,3,   -999.0,9,   7.4561,2,     25.0, TS,     7.55,2,   -999.0,  -999.00,9,  -999.00,9,  -999.00,9,  -999.00,9,   -999.0,-999.0000, -999,9, 1499,   2.5403,  27.5432,   -999.0,9
       KS07-01,  137E,KS-1748,  1,      5,02-16011,2,20070119,1751, 29.9755, 136.9837, 4521,   1768.7,   2.2191,  34.5729,2,   -999.0,9,  34.5734,2,     96.0,2,   143.57,2,  -999.00,9,    39.70,2,     0.00,2,     2.80,2, -999.000,9, -999.000,9,  -999.00,9,   2354.2,6,   -999.0,9,   7.4827,2,     25.0, TS,     7.58,2,   -999.0,  -999.00,9,  -999.00,9,  -999.00,9,  -999.00,9,   -999.0,-999.0000, -999,9, 1749,   2.0989,  27.6216,   -999.0,9
       KS07-01,  137E,KS-1748,  1,      4,02-16010,2,20070119,1745, 29.9755, 136.9837, 4521,   2023.9,   1.9550,  34.6082,2,   -999.0,9,  34.6079,2,    108.0,2,   145.92,2,  -999.00,9,    39.02,2,     0.00,2,     2.74,2, -999.000,9, -999.000,9,  -999.00,9,   2347.3,2,   -999.0,9,   7.5039,2,     25.0, TS,     7.61,2,   -999.0,  -999.00,9,  -999.00,9,  -999.00,9,  -999.00,9,   -999.0,-999.0000, -999,9, 2000,   1.8173,  27.6720,   -999.0,9
       KS07-01,  137E,KS-1748,  1,      3,02-16009,2,20070119,1726, 29.9755, 136.9837, 4521,   3041.9,   1.6083,  34.6649,2,   -999.0,9,  34.6650,2,    143.0,2,   142.21,2,  -999.00,9,    37.07,2,     0.00,2,     2.57,2, -999.000,9, -999.000,9,  -999.00,9,   -999.0,9,   -999.0,9,-999.0000,9,   -999.0,  9,     7.67,2,   -999.0,  -999.00,9,  -999.00,9,  -999.00,9,  -999.00,9,   -999.0,-999.0000, -999,9, 3000,   1.3852,  27.7495,   -999.0,9
       KS07-01,  137E,KS-1748,  1,      2,02-16008,2,20070119,1707, 29.9755, 136.9837, 4521,   4065.9,   1.5499,  34.6828,2,   -999.0,9,  34.6826,2,    155.0,2,   140.54,2,  -999.00,9,    36.19,2,     0.00,2,     2.50,2, -999.000,9, -999.000,9,  -999.00,9,   -999.0,9,   -999.0,9,-999.0000,9,   -999.0,  9,     7.70,2,   -999.0,  -999.00,9,  -999.00,9,  -999.00,9,  -999.00,9,   -999.0,-999.0000, -999,9, 4000,   1.2224,  27.7754,   -999.0,9
       KS07-01,  137E,KS-1748,  1,      1,02-16007,2,20070119,1659, 29.9755, 136.9837, 4521,   4500.5,   1.5834,  34.6842,2,   -999.0,9,  34.6844,2,    157.0,2,   139.55,2,  -999.00,9,    36.00,2,     0.00,2,     2.49,2, -999.000,9, -999.000,9,  -999.00,9,   -999.0,9,   -999.0,9,-999.0000,9,   -999.0,  9,     7.70,2,   -999.0,  -999.00,9,  -999.00,9,  -999.00,9,  -999.00,9,   -999.0,-999.0000, -999,9, 4423,   1.2058,  27.7776,   -999.0,9