BOTTLE,20130510GEMDJMAYT
EXPOCODE,SECT_ID,STNNBR,CASTNO,SAMPNO,BTLNBR,BTLNBR_FLAG_W,DATE,TIME,LATITUDE,LONGITUDE,DEPTH,CTDPRS,CTDTMP,CTDSAL,CTDSAL_FLAG_W,CTDOXY,CTDOXY_FLAG_W,SALNTY,SALNTY_FLAG_W,OXYGEN,OXYGEN_FLAG_W,SILCAT,SILCAT_FLAG_W,NITRAT,NITRAT_FLAG_W,NO2+NO3,NO2+NO3_FLAG_W,NITRIT,NITRIT_FLAG_W,PHSPHT,PHSPHT_FLAG_W,CFC-11,CFC-11_FLAG_W,CFC-12,CFC-12_FLAG_W,DELC13,DELC13_FLAG_W,TCARBN,TCARBN_FLAG_W,ALKALI,ALKALI_FLAG_W,PH,PH_FLAG_W,PH_TMP,PH_SCALE,PH_NBS,PH_NBS_FLAG_W,C13ERR,TOTALP,TOTALP_FLAG_W,AMMONI,AMMONI_FLAG_W,CHLORA,CHLORA_FLAG_W,PPHYTN,PPHYTN_FLAG_W,REVPRS,REVTMP,DEPTH_,DEPTH_FLAG,CTDDEP,THETA,SIGTHT,DOC,DOC_FLAG_W
,,,,,,,GMT,GMT,,,METER,DBAR,ITS-90,PSS-78,,UMOL/KG,,PSS-78,,UMOL/KG,,UMOL/KG,,UMOL/KG,,UMOL/KG,,UMOL/KG,,UMOL/KG,,PMOL/KG,,PMOL/KG,,/MILLE,,UMOL/KG,,UMOL/KG,,25_DEG_C,,DEG_C,,,,/MILLE,UMOL/KG,,UMOL/KG,,UG/L,,UG/L,,DBAR,ITS-90,METERS,,METERS,DEG_C,,UMOL/L,
       KS07-01,  NONE,KS-1778,  1,     -9,      -9,5,20070208,0051,  2.3998, 139.9782, 4148,      0.0,  28.7948,  34.4703,2,   -999.0,9,-999.0000,9,    198.0,2,     0.95,2,  -999.00,9,     0.00,2,     0.01,2,     0.09,2, -999.000,9, -999.000,9,  -999.00,9,   -999.0,9,   -999.0,9,-999.0000,9,   -999.0,  9,  -999.00,9,   -999.0,  -999.00,9,  -999.00,9,     0.17,2,     0.07,2,   -999.0,-999.0000, -999,9,    0,  28.7945,  21.7348,   -999.0,9
       KS07-01,  NONE,KS-1778,  1,     21,02-16027,2,20070208,0104,  2.3998, 139.9782, 4148,     11.4,  28.7577,  34.5015,2,   -999.0,9,  34.5320,4,    199.0,2,     0.94,2,  -999.00,9,     0.10,2,     0.01,2,     0.09,2, -999.000,9, -999.000,9,  -999.00,9,   -999.0,9,   -999.0,9,-999.0000,9,   -999.0,  9,  -999.00,9,   -999.0,  -999.00,9,  -999.00,9,     0.22,2,     0.10,2,   -999.0,-999.0000, -999,9,   11,  28.7550,  21.7714,   -999.0,9
       KS07-01,  NONE,KS-1778,  1,     20,02-16026,2,20070208,0103,  2.3998, 139.9782, 4148,     25.9,  28.1345,  34.8280,2,   -999.0,9,-999.0000,9,    189.0,2,     1.09,2,  -999.00,9,     1.27,2,     0.12,2,     0.21,2, -999.000,9, -999.000,9,  -999.00,9,   -999.0,9,   -999.0,9,-999.0000,9,   -999.0,  9,  -999.00,9,   -999.0,  -999.00,9,  -999.00,9,     0.34,2,     0.29,2,   -999.0,-999.0000, -999,9,   26,  28.1284,  22.2233,   -999.0,9
       KS07-01,  NONE,KS-1778,  1,     19,02-19378,2,20070208,0059,  2.3998, 139.9782, 4148,     48.0,  27.1134,  34.9474,2,   -999.0,9,-999.0000,9,    162.0,2,     2.28,2,  -999.00,9,     4.69,2,     0.61,2,     0.41,2, -999.000,9, -999.000,9,  -999.00,9,   -999.0,9,   -999.0,9,-999.0000,9,   -999.0,  9,  -999.00,9,   -999.0,  -999.00,9,  -999.00,9,     0.30,2,     0.50,2,   -999.0,-999.0000, -999,9,   48,  27.1024,  22.6454,   -999.0,9
       KS07-01,  NONE,KS-1778,  1,     18,02-19377,2,20070208,0058,  2.3998, 139.9782, 4148,     73.7,  25.2063,  35.1503,2,   -999.0,9,-999.0000,9,    138.0,2,     3.51,2,  -999.00,9,     8.31,2,     0.08,2,     0.64,2, -999.000,9, -999.000,9,  -999.00,9,   -999.0,9,   -999.0,9,-999.0000,9,   -999.0,  9,  -999.00,9,   -999.0,  -999.00,9,  -999.00,9,     0.09,2,     0.29,2,   -999.0,-999.0000, -999,9,   73,  25.1902,  23.3968,   -999.0,9
       KS07-01,  NONE,KS-1778,  1,     17,02-16023,2,20070208,0056,  2.3998, 139.9782, 4148,     99.5,  24.2585,  35.2085,2,   -999.0,9,  35.2082,2,    135.0,2,     4.00,2,  -999.00,9,     9.08,2,     0.04,2,     0.68,2, -999.000,9, -999.000,9,  -999.00,9,   -999.0,9,   -999.0,9,-999.0000,9,   -999.0,  9,  -999.00,9,   -999.0,  -999.00,9,  -999.00,9,     0.04,2,     0.19,2,   -999.0,-999.0000, -999,9,   99,  24.2374,  23.7286,   -999.0,9
       KS07-01,  NONE,KS-1778,  1,     16,02-16022,2,20070208,0055,  2.3998, 139.9782, 4148,    125.9,  22.5893,  35.1033,2,   -999.0,9,-999.0000,9,    142.0,2,     5.33,2,  -999.00,9,     8.89,2,     0.03,2,     0.67,2, -999.000,9, -999.000,9,  -999.00,9,   -999.0,9,   -999.0,9,-999.0000,9,   -999.0,  9,  -999.00,9,   -999.0,  -999.00,9,  -999.00,9,     0.02,2,     0.09,2,   -999.0,-999.0000, -999,9,  125,  22.5639,  24.1370,   -999.0,9
       KS07-01,  NONE,KS-1778,  1,     15,02-16021,2,20070208,0054,  2.3998, 139.9782, 4148,    151.2,  19.9753,  34.7619,2,   -999.0,9,-999.0000,9,    152.0,2,     9.74,2,  -999.00,9,     9.66,2,     0.01,2,     0.70,2, -999.000,9, -999.000,9,  -999.00,9,   -999.0,9,   -999.0,9,-999.0000,9,   -999.0,  9,  -999.00,9,   -999.0,  -999.00,9,  -999.00,9,     0.01,2,     0.04,2,   -999.0,-999.0000, -999,9,  150,  19.9474,  24.5939,   -999.0,9
       KS07-01,  NONE,KS-1778,  1,     14,02-16020,2,20070208,0053,  2.3998, 139.9782, 4148,    201.8,  15.4936,  34.6131,2,   -999.0,9,  34.6043,4,    149.0,2,    14.24,2,  -999.00,9,    13.85,2,     0.01,2,     1.00,2, -999.000,9, -999.000,9,  -999.00,9,   -999.0,9,   -999.0,9,-999.0000,9,   -999.0,  9,  -999.00,9,   -999.0,  -999.00,9,  -999.00,9,     0.02,2,     0.04,2,   -999.0,-999.0000, -999,9,  201,  15.4624,  25.5713,   -999.0,9
       KS07-01,  NONE,KS-1778,  1,     13,02-16019,2,20070208,0051,  2.3998, 139.9782, 4148,    252.7,  10.6603,  34.5798,2,   -999.0,9,-999.0000,9,    122.0,2,    31.17,2,  -999.00,9,    24.74,2,     0.00,2,     1.76,2, -999.000,9, -999.000,9,  -999.00,9,   -999.0,9,   -999.0,9,-999.0000,9,   -999.0,  9,  -999.00,9,   -999.0,  -999.00,9,  -999.00,9,     0.00,2,     0.03,2,   -999.0,-999.0000, -999,9,  251,  10.6298,  26.5144,   -999.0,9
       KS07-01,  NONE,KS-1778,  1,     12,02-16018,2,20070208,0050,  2.3998, 139.9782, 4148,    303.7,   9.9658,  34.7071,2,   -999.0,9,  34.7052,2,    132.0,2,    25.52,2,  -999.00,9,    25.62,2,     0.00,2,     1.80,2, -999.000,9, -999.000,9,  -999.00,9,   -999.0,9,   -999.0,9,-999.0000,9,   -999.0,  9,  -999.00,9,   -999.0,  -999.00,9,  -999.00,9,     0.00,2,     0.03,2,   -999.0,-999.0000, -999,9,  302,   9.9306,  26.7350,   -999.0,9
       KS07-01,  NONE,KS-1778,  1,     11,02-19376,2,20070208,0047,  2.3998, 139.9782, 4148,    403.6,   9.2488,  34.6569,2,   -999.0,9,  34.6555,2,    129.0,2,    29.26,2,  -999.00,9,    27.56,2,     0.00,2,     1.93,2, -999.000,9, -999.000,9,  -999.00,9,   -999.0,9,   -999.0,9,-999.0000,9,   -999.0,  9,  -999.00,9,   -999.0,  -999.00,9,  -999.00,9,  -999.00,9,  -999.00,9,   -999.0,-999.0000, -999,9,  401,   9.2039,  26.8166,   -999.0,9
       KS07-01,  NONE,KS-1778,  1,     10,02-19375,2,20070208,0045,  2.3998, 139.9782, 4148,    503.7,   7.9561,  34.5920,2,   -999.0,9,  34.6111,4,    118.0,2,    35.29,2,  -999.00,9,    30.87,2,     0.00,2,     2.17,2, -999.000,9, -999.000,9,  -999.00,9,   -999.0,9,   -999.0,9,-999.0000,9,   -999.0,  9,  -999.00,9,   -999.0,  -999.00,9,  -999.00,9,  -999.00,9,  -999.00,9,   -999.0,-999.0000, -999,9,  500,   7.9046,  26.9676,   -999.0,9
       KS07-01,  NONE,KS-1778,  1,      9,02-16015,2,20070208,0042,  2.3998, 139.9782, 4148,    605.8,   7.2099,  34.5605,2,   -999.0,9,  34.5602,2,    110.0,2,    41.87,2,  -999.00,9,    33.10,2,     0.00,2,     2.34,2, -999.000,9, -999.000,9,  -999.00,9,   -999.0,9,   -999.0,9,-999.0000,9,   -999.0,  9,  -999.00,9,   -999.0,  -999.00,9,  -999.00,9,  -999.00,9,  -999.00,9,   -999.0,-999.0000, -999,9,  602,   7.1509,  27.0515,   -999.0,9
       KS07-01,  NONE,KS-1778,  1,      8,02-16014,2,20070208,0039,  2.3998, 139.9782, 4148,    706.9,   6.1909,  34.5345,2,   -999.0,9,  34.5334,2,    117.0,2,    51.72,2,  -999.00,9,    34.46,2,     0.00,2,     2.43,2, -999.000,9, -999.000,9,  -999.00,9,   -999.0,9,   -999.0,9,-999.0000,9,   -999.0,  9,  -999.00,9,   -999.0,  -999.00,9,  -999.00,9,  -999.00,9,  -999.00,9,   -999.0,-999.0000, -999,9,  702,   6.1271,  27.1686,   -999.0,9
       KS07-01,  NONE,KS-1778,  1,      7,02-19374,2,20070208,0036,  2.3998, 139.9782, 4148,    808.3,   5.7866,  34.5352,2,   -999.0,9,  34.5343,2,    108.0,2,    58.55,2,  -999.00,9,    35.92,2,     0.00,2,     2.55,2, -999.000,9, -999.000,9,  -999.00,9,   -999.0,9,   -999.0,9,-999.0000,9,   -999.0,  9,  -999.00,9,   -999.0,  -999.00,9,  -999.00,9,  -999.00,9,  -999.00,9,   -999.0,-999.0000, -999,9,  802,   5.7155,  27.2210,   -999.0,9
       KS07-01,  NONE,KS-1778,  1,      6,02-19373,2,20070208,0034,  2.3998, 139.9782, 4148,    907.1,   5.3891,  34.5398,2,   -999.0,9,  34.5392,2,    104.0,2,    68.32,2,  -999.00,9,    36.50,2,     0.00,2,     2.61,2, -999.000,9, -999.000,9,  -999.00,9,   -999.0,9,   -999.0,9,-999.0000,9,   -999.0,  9,  -999.00,9,   -999.0,  -999.00,9,  -999.00,9,  -999.00,9,  -999.00,9,   -999.0,-999.0000, -999,9,  900,   5.3114,  27.2739,   -999.0,9
       KS07-01,  NONE,KS-1778,  1,      5,02-16011,2,20070208,0031,  2.3998, 139.9782, 4148,   1007.6,   4.6779,  34.5537,2,   -999.0,9,  34.5531,2,     95.0,2,    86.56,2,  -999.00,9,    38.16,2,     0.00,2,     2.74,2, -999.000,9, -999.000,9,  -999.00,9,   -999.0,9,   -999.0,9,-999.0000,9,   -999.0,  9,  -999.00,9,   -999.0,  -999.00,9,  -999.00,9,  -999.00,9,  -999.00,9,   -999.0,-999.0000, -999,9, 1000,   4.5963,  27.3671,   -999.0,9
       KS07-01,  NONE,KS-1778,  1,      4,02-16010,2,20070208,0025,  2.3998, 139.9782, 4148,   1262.5,   3.6775,  34.5795,2,   -999.0,9,  34.5792,2,     96.0,2,   106.86,2,  -999.00,9,    39.12,2,     0.00,2,     2.81,2, -999.000,9, -999.000,9,  -999.00,9,   -999.0,9,   -999.0,9,-999.0000,9,   -999.0,  9,  -999.00,9,   -999.0,  -999.00,9,  -999.00,9,  -999.00,9,  -999.00,9,   -999.0,-999.0000, -999,9, 1252,   3.5825,  27.4940,   -999.0,9
       KS07-01,  NONE,KS-1778,  1,      3,02-16009,2,20070208,0020,  2.3998, 139.9782, 4148,   1512.8,   2.9858,  34.6027,2,   -999.0,9,  34.6025,2,    103.0,2,   119.97,2,  -999.00,9,    38.93,2,     0.00,2,     2.78,2, -999.000,9, -999.000,9,  -999.00,9,   -999.0,9,   -999.0,9,-999.0000,9,   -999.0,  9,  -999.00,9,   -999.0,  -999.00,9,  -999.00,9,  -999.00,9,  -999.00,9,   -999.0,-999.0000, -999,9, 1499,   2.8770,  27.5791,   -999.0,9
       KS07-01,  NONE,KS-1778,  1,      2,02-16008,2,20070208,0015,  2.3998, 139.9782, 4148,   1763.9,   2.5097,  34.6230,2,   -999.0,9,  34.6227,2,    111.0,2,   130.04,2,  -999.00,9,    38.73,2,     0.00,2,     2.74,2, -999.000,9, -999.000,9,  -999.00,9,   -999.0,9,   -999.0,9,-999.0000,9,   -999.0,  9,  -999.00,9,   -999.0,  -999.00,9,  -999.00,9,  -999.00,9,  -999.00,9,   -999.0,-999.0000, -999,9, 1747,   2.3858,  27.6382,   -999.0,9
       KS07-01,  NONE,KS-1778,  1,      1,02-16007,2,20070208,0010,  2.3998, 139.9782, 4148,   2024.0,   2.1600,  34.6407,2,   -999.0,9,  34.6409,2,    120.0,2,   136.82,2,  -999.00,9,    38.34,2,     0.00,2,     2.71,2, -999.000,9, -999.000,9,  -999.00,9,   -999.0,9,   -999.0,9,-999.0000,9,   -999.0,  9,  -999.00,9,   -999.0,  -999.00,9,  -999.00,9,  -999.00,9,  -999.00,9,   -999.0,-999.0000, -999,9, 2003,   2.0191,  27.6823,   -999.0,9