BOTTLE,20130510GEMDJMAYT
EXPOCODE,SECT_ID,STNNBR,CASTNO,SAMPNO,BTLNBR,BTLNBR_FLAG_W,DATE,TIME,LATITUDE,LONGITUDE,DEPTH,CTDPRS,CTDTMP,CTDSAL,CTDSAL_FLAG_W,CTDOXY,CTDOXY_FLAG_W,SALNTY,SALNTY_FLAG_W,OXYGEN,OXYGEN_FLAG_W,SILCAT,SILCAT_FLAG_W,NITRAT,NITRAT_FLAG_W,NO2+NO3,NO2+NO3_FLAG_W,NITRIT,NITRIT_FLAG_W,PHSPHT,PHSPHT_FLAG_W,CFC-11,CFC-11_FLAG_W,CFC-12,CFC-12_FLAG_W,DELC13,DELC13_FLAG_W,TCARBN,TCARBN_FLAG_W,ALKALI,ALKALI_FLAG_W,PH,PH_FLAG_W,PH_TMP,PH_SCALE,PH_NBS,PH_NBS_FLAG_W,C13ERR,TOTALP,TOTALP_FLAG_W,AMMONI,AMMONI_FLAG_W,CHLORA,CHLORA_FLAG_W,PPHYTN,PPHYTN_FLAG_W,REVPRS,REVTMP,DEPTH_,DEPTH_FLAG,CTDDEP,THETA,SIGTHT,DOC,DOC_FLAG_W
,,,,,,,GMT,GMT,,,METER,DBAR,ITS-90,PSS-78,,UMOL/KG,,PSS-78,,UMOL/KG,,UMOL/KG,,UMOL/KG,,UMOL/KG,,UMOL/KG,,UMOL/KG,,PMOL/KG,,PMOL/KG,,/MILLE,,UMOL/KG,,UMOL/KG,,25_DEG_C,,DEG_C,,,,/MILLE,UMOL/KG,,UMOL/KG,,UG/L,,UG/L,,DBAR,ITS-90,METERS,,METERS,DEG_C,,UMOL/L,
       KS07-01,  137E,KS-1758,  1,     -9,      -9,5,20070122,1537, 19.9798, 136.9823, 4763,      0.0,  25.7177,  34.7257,2,   -999.0,9,-999.0000,9,    209.0,2,     1.29,2,  -999.00,9,     0.00,2,     0.00,2,     0.00,2, -999.000,9, -999.000,9,  -999.00,9,   -999.0,9,   -999.0,9,   8.1160,2,     25.0, TS,     8.23,2,   -999.0,  -999.00,9,  -999.00,9,     0.06,2,     0.01,2,   -999.0,-999.0000, -999,9,    0,  25.7175,  22.9140,   -999.0,9
       KS07-01,  137E,KS-1758,  1,     24,02-16030,2,20070122,1556, 19.9798, 136.9823, 4763,      9.8,  25.7265,  34.7294,2,   -999.0,9,  34.7298,2,    208.0,2,     1.51,2,  -999.00,9,     0.00,2,     0.00,2,     0.00,2, -999.000,9, -999.000,9,  -999.00,9,   1942.5,2,   -999.0,9,   8.1178,2,     25.0, TS,     8.23,2,   -999.0,  -999.00,9,  -999.00,9,     0.05,2,     0.02,2,   -999.0,-999.0000, -999,9,   10,  25.7243,  22.9147,   -999.0,9
       KS07-01,  137E,KS-1758,  1,     23,02-19380,2,20070122,1554, 19.9798, 136.9823, 4763,     25.3,  25.7146,  34.7276,2,   -999.0,9,-999.0000,9,    209.0,2,     1.33,2,  -999.00,9,     0.00,2,     0.00,2,     0.00,2, -999.000,9, -999.000,9,  -999.00,9,   1942.2,2,   -999.0,9,   8.1160,2,     25.0, TS,     8.23,2,   -999.0,  -999.00,9,  -999.00,9,     0.06,2,     0.02,2,   -999.0,-999.0000, -999,9,   25,  25.7090,  22.9181,   -999.0,9
       KS07-01,  137E,KS-1758,  1,     22,02-10977,2,20070122,1550, 19.9798, 136.9823, 4763,     49.8,  25.7039,  34.7261,2,   -999.0,9,-999.0000,9,    208.0,2,     1.32,2,  -999.00,9,     0.00,2,     0.00,2,     0.00,2, -999.000,9, -999.000,9,  -999.00,9,   1941.7,2,   -999.0,9,   8.1166,2,     25.0, TS,     8.23,2,   -999.0,  -999.00,9,  -999.00,9,     0.07,2,     0.04,2,   -999.0,-999.0000, -999,9,   49,  25.6929,  22.9220,   -999.0,9
       KS07-01,  137E,KS-1758,  1,     21,02-16027,2,20070122,1549, 19.9798, 136.9823, 4763,     73.2,  25.5665,  34.7164,2,   -999.0,9,-999.0000,9,    208.0,2,     1.32,2,  -999.00,9,     0.00,2,     0.00,2,     0.00,2, -999.000,9, -999.000,9,  -999.00,9,   1943.3,2,   -999.0,9,   8.1149,2,     25.0, TS,     8.23,2,   -999.0,  -999.00,9,  -999.00,9,     0.11,2,     0.06,2,   -999.0,-999.0000, -999,9,   73,  25.5504,  22.9586,   -999.0,9
       KS07-01,  137E,KS-1758,  1,     20,02-16026,2,20070122,1548, 19.9798, 136.9823, 4763,     99.3,  24.5125,  34.7595,2,   -999.0,9,  34.7526,4,    202.0,2,     1.48,2,  -999.00,9,     0.00,2,     0.00,2,     0.00,2, -999.000,9, -999.000,9,  -999.00,9,   1959.4,2,   -999.0,9,   8.0941,2,     25.0, TS,     8.21,2,   -999.0,  -999.00,9,  -999.00,9,     0.14,2,     0.08,2,   -999.0,-999.0000, -999,9,   99,  24.4913,  23.3130,   -999.0,9
       KS07-01,  137E,KS-1758,  1,     19,02-19378,2,20070122,1547, 19.9798, 136.9823, 4763,    126.1,  21.5158,  34.8979,2,   -999.0,9,-999.0000,9,    202.0,2,     2.07,2,  -999.00,9,     0.49,2,     0.08,2,     0.05,2, -999.000,9, -999.000,9,  -999.00,9,   2004.1,2,   -999.0,9,   8.0281,2,     25.0, TS,     8.14,2,   -999.0,  -999.00,9,  -999.00,9,     0.15,2,     0.31,2,   -999.0,-999.0000, -999,9,  125,  21.4913,  24.2816,   -999.0,9
       KS07-01,  137E,KS-1758,  1,     18,02-19377,2,20070122,1545, 19.9798, 136.9823, 4763,    151.5,  19.4791,  34.8618,2,   -999.0,9,-999.0000,9,    205.0,2,     2.71,2,  -999.00,9,     2.24,2,     0.02,2,     0.15,2, -999.000,9, -999.000,9,  -999.00,9,   2018.8,2,   -999.0,9,   8.0028,2,     25.0, TS,     8.11,2,   -999.0,  -999.00,9,  -999.00,9,     0.05,2,     0.12,2,   -999.0,-999.0000, -999,9,  151,  19.4516,  24.7995,   -999.0,9
       KS07-01,  137E,KS-1758,  1,     17,02-16023,2,20070122,1544, 19.9798, 136.9823, 4763,    200.0,  18.5082,  34.8472,2,   -999.0,9,  34.8470,2,    203.0,2,     3.19,2,  -999.00,9,     3.51,2,     0.00,2,     0.21,2, -999.000,9, -999.000,9,  -999.00,9,   2024.8,2,   -999.0,9,   7.9873,2,     25.0, TS,     8.10,2,   -999.0,  -999.00,9,  -999.00,9,     0.01,2,     0.01,2,   -999.0,-999.0000, -999,9,  199,  18.4732,  25.0375,   -999.0,9
       KS07-01,  137E,KS-1758,  1,     16,02-16022,2,20070122,1542, 19.9798, 136.9823, 4763,    252.0,  17.0038,  34.7586,2,   -999.0,9,-999.0000,9,    199.0,2,     5.32,2,  -999.00,9,     6.05,2,     0.00,2,     0.37,2, -999.000,9, -999.000,9,  -999.00,9,   2040.7,2,   -999.0,9,   7.9496,2,     25.0, TS,     8.06,2,   -999.0,  -999.00,9,  -999.00,9,     0.00,2,     0.00,2,   -999.0,-999.0000, -999,9,  250,  16.9622,  25.3380,   -999.0,9
       KS07-01,  137E,KS-1758,  1,     15,02-16021,2,20070122,1540, 19.9798, 136.9823, 4763,    302.8,  15.8207,  34.6606,2,   -999.0,9,  34.6599,2,    195.0,2,     7.65,2,  -999.00,9,     8.19,2,     0.00,2,     0.52,2, -999.000,9, -999.000,9,  -999.00,9,   2056.9,2,   -999.0,9,   7.9119,2,     25.0, TS,     8.03,2,   -999.0,  -999.00,9,  -999.00,9,     0.00,2,     0.00,2,   -999.0,-999.0000, -999,9,  301,  15.7731,  25.5381,   -999.0,9
       KS07-01,  137E,KS-1758,  1,     14,02-16020,2,20070122,1538, 19.9798, 136.9823, 4763,    404.5,  12.4546,  34.3979,2,   -999.0,9,  34.4002,2,    182.0,2,    17.62,2,  -999.00,9,    14.72,2,     0.00,2,     0.99,2, -999.000,9, -999.000,9,  -999.00,9,   2105.6,2,   -999.0,9,   7.8041,2,     25.0, TS,     7.91,2,   -999.0,  -999.00,9,  -999.00,9,  -999.00,9,  -999.00,9,   -999.0,-999.0000, -999,9,  402,  12.4004,  26.0445,   -999.0,9
       KS07-01,  137E,KS-1758,  1,     13,02-16019,2,20070122,1535, 19.9798, 136.9823, 4763,    505.4,   9.5135,  34.2036,2,   -999.0,9,  34.2069,2,    162.0,2,    31.11,2,  -999.00,9,    21.73,2,     0.00,2,     1.52,2, -999.000,9, -999.000,9,  -999.00,9,   2150.5,2,   -999.0,9,   7.6884,2,     25.0, TS,     7.80,2,   -999.0,  -999.00,9,  -999.00,9,  -999.00,9,  -999.00,9,   -999.0,-999.0000, -999,9,  502,   9.4563,  26.4207,   -999.0,9
       KS07-01,  137E,KS-1758,  1,     12,02-16018,2,20070122,1532, 19.9798, 136.9823, 4763,    607.5,   7.3000,  34.1387,2,   -999.0,9,  34.1416,2,    120.0,2,    52.71,2,  -999.00,9,    29.61,2,     0.00,2,     2.11,2, -999.000,9, -999.000,9,  -999.00,9,   2212.3,2,   -999.0,9,   7.5570,2,     25.0, TS,     7.66,2,   -999.0,  -999.00,9,  -999.00,9,  -999.00,9,  -999.00,9,   -999.0,-999.0000, -999,9,  603,   7.2408,  26.7069,   -999.0,9
       KS07-01,  137E,KS-1758,  1,     11,02-19376,2,20070122,1530, 19.9798, 136.9823, 4763,    705.7,   5.7563,  34.2072,2,   -999.0,9,  34.2075,2,     77.0,2,    76.24,2,  -999.00,9,    36.03,2,     0.00,2,     2.62,2, -999.000,9, -999.000,9,  -999.00,9,   2275.4,2,   -999.0,9,   7.4526,2,     25.0, TS,     7.55,2,   -999.0,  -999.00,9,  -999.00,9,  -999.00,9,  -999.00,9,   -999.0,-999.0000, -999,9,  700,   5.6953,  26.9641,   -999.0,9
       KS07-01,  137E,KS-1758,  1,     10,02-19375,2,20070122,1527, 19.9798, 136.9823, 4763,    806.6,   5.0171,  34.3137,2,   -999.0,9,  34.3143,2,     62.0,2,    90.56,2,  -999.00,9,    39.04,2,     0.00,2,     2.81,2, -999.000,9, -999.000,9,  -999.00,9,   2305.0,2,   -999.0,9,   7.4229,2,     25.0, TS,     7.52,2,   -999.0,  -999.00,9,  -999.00,9,  -999.00,9,  -999.00,9,   -999.0,-999.0000, -999,9,  800,   4.9512,  27.1367,   -999.0,9
       KS07-01,  137E,KS-1758,  1,      9,02-16015,2,20070122,1524, 19.9798, 136.9823, 4763,    910.7,   4.4494,  34.3915,2,   -999.0,9,  34.3890,2,     61.0,2,   101.79,2,  -999.00,9,    39.81,2,     0.00,2,     2.87,2, -999.000,9, -999.000,9,  -999.00,9,   2317.9,2,   -999.0,9,   7.4284,2,     25.0, TS,     7.55,2,   -999.0,  -999.00,9,  -999.00,9,  -999.00,9,  -999.00,9,   -999.0,-999.0000, -999,9,  903,   4.3781,  27.2622,   -999.0,9
       KS07-01,  137E,KS-1758,  1,      8,02-16014,2,20070122,1521, 19.9798, 136.9823, 4763,   1010.5,   3.9683,  34.4521,2,   -999.0,9,  34.4525,2,     68.0,2,   111.40,2,  -999.00,9,    40.01,2,     0.00,2,     2.87,2, -999.000,9, -999.000,9,  -999.00,9,   2330.1,2,   -999.0,9,   7.4417,2,     25.0, TS,     7.56,2,   -999.0,  -999.00,9,  -999.00,9,  -999.00,9,  -999.00,9,   -999.0,-999.0000, -999,9, 1002,   3.8921,  27.3614,   -999.0,9
       KS07-01,  137E,KS-1758,  1,      7,02-19374,2,20070122,1516, 19.9798, 136.9823, 4763,   1261.4,   3.1056,  34.5142,2,   -999.0,9,  34.5130,2,     78.0,2,   129.00,2,  -999.00,9,    40.10,2,     0.00,2,     2.86,2, -999.000,9, -999.000,9,  -999.00,9,   2346.2,3,   -999.0,9,   7.4527,2,     25.0, TS,     7.57,2,   -999.0,  -999.00,9,  -999.00,9,  -999.00,9,  -999.00,9,   -999.0,-999.0000, -999,9, 1250,   3.0163,  27.4958,   -999.0,9
       KS07-01,  137E,KS-1758,  1,      6,02-19373,2,20070122,1511, 19.9798, 136.9823, 4763,   1514.0,   2.6266,  34.5660,2,   -999.0,9,  34.5663,2,     94.0,2,   135.26,2,  -999.00,9,    39.41,2,     0.00,2,     2.79,2, -999.000,9, -999.000,9,  -999.00,9,   2341.3,2,   -999.0,9,   7.4845,2,     25.0, TS,     7.60,2,   -999.0,  -999.00,9,  -999.00,9,  -999.00,9,  -999.00,9,   -999.0,-999.0000, -999,9, 1499,   2.5220,  27.5810,   -999.0,9
       KS07-01,  137E,KS-1758,  1,      5,02-16011,2,20070122,1505, 19.9798, 136.9823, 4763,   1770.0,   2.2588,  34.6047,2,   -999.0,9,  34.6048,2,    109.0,2,   138.12,2,  -999.00,9,    38.63,2,     0.00,2,     2.73,2, -999.000,9, -999.000,9,  -999.00,9,   2345.5,6,   -999.0,9,   7.5103,2,     25.0, TS,     7.63,2,   -999.0,  -999.00,9,  -999.00,9,  -999.00,9,  -999.00,9,   -999.0,-999.0000, -999,9, 1752,   2.1378,  27.6439,   -999.0,9
       KS07-01,  137E,KS-1758,  1,      4,02-16010,2,20070122,1500, 19.9798, 136.9823, 4763,   2024.8,   2.0170,  34.6304,2,   -999.0,9,  34.6311,2,    118.0,2,   141.58,2,  -999.00,9,    38.34,2,     0.00,2,     2.70,2, -999.000,9, -999.000,9,  -999.00,9,   2343.3,2,   -999.0,9,   7.5244,2,     25.0, TS,     7.65,2,   -999.0,  -999.00,9,  -999.00,9,  -999.00,9,  -999.00,9,   -999.0,-999.0000, -999,9, 2003,   1.8782,  27.6851,   -999.0,9
       KS07-01,  137E,KS-1758,  1,      3,02-16009,2,20070122,1440, 19.9798, 136.9823, 4763,   3039.9,   1.6266,  34.6681,2,   -999.0,9,  34.6676,2,    142.0,2,   142.53,2,  -999.00,9,    36.88,2,     0.00,2,     2.57,2, -999.000,9, -999.000,9,  -999.00,9,   -999.0,9,   -999.0,9,-999.0000,9,   -999.0,  9,     7.69,2,   -999.0,  -999.00,9,  -999.00,9,  -999.00,9,  -999.00,9,   -999.0,-999.0000, -999,9, 3000,   1.4032,  27.7508,   -999.0,9
       KS07-01,  137E,KS-1758,  1,      2,02-16008,2,20070122,1420, 19.9798, 136.9823, 4763,   4064.5,   1.5320,  34.6843,2,   -999.0,9,  34.6837,2,    157.0,2,   139.95,2,  -999.00,9,    36.10,2,     0.00,2,     2.49,2, -999.000,9, -999.000,9,  -999.00,9,   -999.0,9,   -999.0,9,-999.0000,9,   -999.0,  9,     7.71,2,   -999.0,  -999.00,9,  -999.00,9,  -999.00,9,  -999.00,9,   -999.0,-999.0000, -999,9, 4001,   1.2051,  27.7778,   -999.0,9
       KS07-01,  137E,KS-1758,  1,      1,02-16007,2,20070122,1408, 19.9798, 136.9823, 4763,   4778.4,   1.5740,  34.6876,2,   -999.0,9,  34.6871,2,    169.0,4,   138.26,2,  -999.00,9,    35.90,2,     0.00,2,     2.47,2, -999.000,9, -999.000,9,  -999.00,9,   -999.0,9,   -999.0,9,-999.0000,9,   -999.0,  9,     7.72,2,   -999.0,  -999.00,9,  -999.00,9,  -999.00,9,  -999.00,9,   -999.0,-999.0000, -999,9, 4697,   1.1640,  27.7833,   -999.0,9