BOTTLE,20130510GEMDJMAYT
EXPOCODE,SECT_ID,STNNBR,CASTNO,SAMPNO,BTLNBR,BTLNBR_FLAG_W,DATE,TIME,LATITUDE,LONGITUDE,DEPTH,CTDPRS,CTDTMP,CTDSAL,CTDSAL_FLAG_W,CTDOXY,CTDOXY_FLAG_W,SALNTY,SALNTY_FLAG_W,OXYGEN,OXYGEN_FLAG_W,SILCAT,SILCAT_FLAG_W,NITRAT,NITRAT_FLAG_W,NO2+NO3,NO2+NO3_FLAG_W,NITRIT,NITRIT_FLAG_W,PHSPHT,PHSPHT_FLAG_W,CFC-11,CFC-11_FLAG_W,CFC-12,CFC-12_FLAG_W,DELC13,DELC13_FLAG_W,TCARBN,TCARBN_FLAG_W,ALKALI,ALKALI_FLAG_W,PH,PH_FLAG_W,PH_TMP,PH_SCALE,PH_NBS,PH_NBS_FLAG_W,C13ERR,TOTALP,TOTALP_FLAG_W,AMMONI,AMMONI_FLAG_W,CHLORA,CHLORA_FLAG_W,PPHYTN,PPHYTN_FLAG_W,REVPRS,REVTMP,DEPTH_,DEPTH_FLAG,CTDDEP,THETA,SIGTHT,DOC,DOC_FLAG_W
,,,,,,,GMT,GMT,,,METER,DBAR,ITS-90,PSS-78,,UMOL/KG,,PSS-78,,UMOL/KG,,UMOL/KG,,UMOL/KG,,UMOL/KG,,UMOL/KG,,UMOL/KG,,PMOL/KG,,PMOL/KG,,/MILLE,,UMOL/KG,,UMOL/KG,,25_DEG_C,,DEG_C,,,,/MILLE,UMOL/KG,,UMOL/KG,,UG/L,,UG/L,,DBAR,ITS-90,METERS,,METERS,DEG_C,,UMOL/L,
       KS07-01,  NONE,KS-1797,  1,     15,02-16021,2,20070215,1228,  8.0110, 143.9905, 3432,      9.8,  28.2727,  34.1601,2,   -999.0,9,  34.1601,2,   -999.0,9,  -999.00,9,  -999.00,9,  -999.00,9,  -999.00,9,  -999.00,9, -999.000,9, -999.000,9,  -999.00,9,   -999.0,9,   -999.0,9,-999.0000,9,   -999.0,  9,  -999.00,9,   -999.0,  -999.00,9,  -999.00,9,  -999.00,9,  -999.00,9,   -999.0,-999.0000, -999,9,   10,  28.2704,  21.6748,   -999.0,9
       KS07-01,  NONE,KS-1797,  1,     20,02-16026,2,20070215,1229,  8.0110, 143.9905, 3432,     10.0,  28.2751,  34.1599,2,   -999.0,9,-999.0000,9,   -999.0,9,  -999.00,9,  -999.00,9,  -999.00,9,  -999.00,9,  -999.00,9, -999.000,9, -999.000,9,  -999.00,9,   -999.0,9,   -999.0,9,-999.0000,9,   -999.0,  9,  -999.00,9,   -999.0,  -999.00,9,  -999.00,9,  -999.00,9,  -999.00,9,   -999.0,-999.0000, -999,9,   10,  28.2727,  21.6739,   -999.0,9
       KS07-01,  NONE,KS-1797,  1,     16,02-16022,2,20070215,1228,  8.0110, 143.9905, 3432,     10.2,  28.2746,  34.1599,2,   -999.0,9,-999.0000,9,   -999.0,9,  -999.00,9,  -999.00,9,  -999.00,9,  -999.00,9,  -999.00,9, -999.000,9, -999.000,9,  -999.00,9,   -999.0,9,   -999.0,9,-999.0000,9,   -999.0,  9,  -999.00,9,   -999.0,  -999.00,9,  -999.00,9,  -999.00,9,  -999.00,9,   -999.0,-999.0000, -999,9,   10,  28.2722,  21.6741,   -999.0,9
       KS07-01,  NONE,KS-1797,  1,     17,02-16023,2,20070215,1228,  8.0110, 143.9905, 3432,     10.3,  28.2734,  34.1601,2,   -999.0,9,-999.0000,9,   -999.0,9,  -999.00,9,  -999.00,9,  -999.00,9,  -999.00,9,  -999.00,9, -999.000,9, -999.000,9,  -999.00,9,   -999.0,9,   -999.0,9,-999.0000,9,   -999.0,  9,  -999.00,9,   -999.0,  -999.00,9,  -999.00,9,  -999.00,9,  -999.00,9,   -999.0,-999.0000, -999,9,   10,  28.2710,  21.6746,   -999.0,9
       KS07-01,  NONE,KS-1797,  1,     19,02-19378,2,20070215,1228,  8.0110, 143.9905, 3432,     10.4,  28.2728,  34.1600,2,   -999.0,9,-999.0000,9,   -999.0,9,  -999.00,9,  -999.00,9,  -999.00,9,  -999.00,9,  -999.00,9, -999.000,9, -999.000,9,  -999.00,9,   -999.0,9,   -999.0,9,-999.0000,9,   -999.0,  9,  -999.00,9,   -999.0,  -999.00,9,  -999.00,9,  -999.00,9,  -999.00,9,   -999.0,-999.0000, -999,9,   10,  28.2703,  21.6748,   -999.0,9
       KS07-01,  NONE,KS-1797,  1,     18,02-19377,2,20070215,1228,  8.0110, 143.9905, 3432,     10.4,  28.2741,  34.1600,2,   -999.0,9,-999.0000,9,   -999.0,9,  -999.00,9,  -999.00,9,  -999.00,9,  -999.00,9,  -999.00,9, -999.000,9, -999.000,9,  -999.00,9,   -999.0,9,   -999.0,9,-999.0000,9,   -999.0,  9,  -999.00,9,   -999.0,  -999.00,9,  -999.00,9,  -999.00,9,  -999.00,9,   -999.0,-999.0000, -999,9,   10,  28.2716,  21.6743,   -999.0,9
       KS07-01,  NONE,KS-1797,  1,     21,02-16027,2,20070215,1229,  8.0110, 143.9905, 3432,     10.6,  28.2755,  34.1600,2,   -999.0,9,-999.0000,9,   -999.0,9,  -999.00,9,  -999.00,9,  -999.00,9,  -999.00,9,  -999.00,9, -999.000,9, -999.000,9,  -999.00,9,   -999.0,9,   -999.0,9,-999.0000,9,   -999.0,  9,  -999.00,9,   -999.0,  -999.00,9,  -999.00,9,  -999.00,9,  -999.00,9,   -999.0,-999.0000, -999,9,   11,  28.2730,  21.6739,   -999.0,9
       KS07-01,  NONE,KS-1797,  1,     14,02-16020,2,20070215,1223,  8.0110, 143.9905, 3432,    102.0,  20.8600,  34.7740,2,   -999.0,9,  34.7742,2,   -999.0,9,  -999.00,9,  -999.00,9,  -999.00,9,  -999.00,9,  -999.00,9, -999.000,9, -999.000,9,  -999.00,9,   -999.0,9,   -999.0,9,-999.0000,9,   -999.0,  9,  -999.00,9,   -999.0,  -999.00,9,  -999.00,9,  -999.00,9,  -999.00,9,   -999.0,-999.0000, -999,9,  101,  20.8406,  24.3650,   -999.0,9
       KS07-01,  NONE,KS-1797,  1,     13,02-16019,2,20070215,1220,  8.0110, 143.9905, 3432,    201.9,  11.8706,  34.5521,2,   -999.0,9,  34.5529,2,   -999.0,9,  -999.00,9,  -999.00,9,  -999.00,9,  -999.00,9,  -999.00,9, -999.000,9, -999.000,9,  -999.00,9,   -999.0,9,   -999.0,9,-999.0000,9,   -999.0,  9,  -999.00,9,   -999.0,  -999.00,9,  -999.00,9,  -999.00,9,  -999.00,9,   -999.0,-999.0000, -999,9,  201,  11.8446,  26.2707,   -999.0,9
       KS07-01,  NONE,KS-1797,  1,     12,02-16018,2,20070215,1218,  8.0110, 143.9905, 3432,    302.4,   9.5477,  34.5973,2,   -999.0,9,  34.5970,2,   -999.0,9,  -999.00,9,  -999.00,9,  -999.00,9,  -999.00,9,  -999.00,9, -999.000,9, -999.000,9,  -999.00,9,   -999.0,9,   -999.0,9,-999.0000,9,   -999.0,  9,  -999.00,9,   -999.0,  -999.00,9,  -999.00,9,  -999.00,9,  -999.00,9,   -999.0,-999.0000, -999,9,  300,   9.5136,  26.7192,   -999.0,9
       KS07-01,  NONE,KS-1797,  1,     11,02-19376,2,20070215,1215,  8.0110, 143.9905, 3432,    402.8,   8.5998,  34.5862,2,   -999.0,9,  34.5856,2,   -999.0,9,  -999.00,9,  -999.00,9,  -999.00,9,  -999.00,9,  -999.00,9, -999.000,9, -999.000,9,  -999.00,9,   -999.0,9,   -999.0,9,-999.0000,9,   -999.0,  9,  -999.00,9,   -999.0,  -999.00,9,  -999.00,9,  -999.00,9,  -999.00,9,   -999.0,-999.0000, -999,9,  400,   8.5569,  26.8640,   -999.0,9
       KS07-01,  NONE,KS-1797,  1,     10,02-19375,2,20070215,1213,  8.0110, 143.9905, 3432,    506.4,   7.7374,  34.5615,2,   -999.0,9,  34.5608,2,   -999.0,9,  -999.00,9,  -999.00,9,  -999.00,9,  -999.00,9,  -999.00,9, -999.000,9, -999.000,9,  -999.00,9,   -999.0,9,   -999.0,9,-999.0000,9,   -999.0,  9,  -999.00,9,   -999.0,  -999.00,9,  -999.00,9,  -999.00,9,  -999.00,9,   -999.0,-999.0000, -999,9,  503,   7.6864,  26.9757,   -999.0,9
       KS07-01,  NONE,KS-1797,  1,      9,02-16015,2,20070215,1211,  8.0110, 143.9905, 3432,    605.2,   6.9462,  34.5342,2,   -999.0,9,  34.5337,2,   -999.0,9,  -999.00,9,  -999.00,9,  -999.00,9,  -999.00,9,  -999.00,9, -999.000,9, -999.000,9,  -999.00,9,   -999.0,9,   -999.0,9,-999.0000,9,   -999.0,  9,  -999.00,9,   -999.0,  -999.00,9,  -999.00,9,  -999.00,9,  -999.00,9,   -999.0,-999.0000, -999,9,  601,   6.8885,  27.0672,   -999.0,9
       KS07-01,  NONE,KS-1797,  1,      8,02-16014,2,20070215,1208,  8.0110, 143.9905, 3432,    707.3,   6.2943,  34.5280,2,   -999.0,9,  34.5275,2,   -999.0,9,  -999.00,9,  -999.00,9,  -999.00,9,  -999.00,9,  -999.00,9, -999.000,9, -999.000,9,  -999.00,9,   -999.0,9,   -999.0,9,-999.0000,9,   -999.0,  9,  -999.00,9,   -999.0,  -999.00,9,  -999.00,9,  -999.00,9,  -999.00,9,   -999.0,-999.0000, -999,9,  702,   6.2299,  27.1502,   -999.0,9
       KS07-01,  NONE,KS-1797,  1,      7,02-19374,2,20070215,1206,  8.0110, 143.9905, 3432,    806.9,   5.6982,  34.5339,2,   -999.0,9,  34.5335,2,   -999.0,9,  -999.00,9,  -999.00,9,  -999.00,9,  -999.00,9,  -999.00,9, -999.000,9, -999.000,9,  -999.00,9,   -999.0,9,   -999.0,9,-999.0000,9,   -999.0,  9,  -999.00,9,   -999.0,  -999.00,9,  -999.00,9,  -999.00,9,  -999.00,9,   -999.0,-999.0000, -999,9,  801,   5.6278,  27.2309,   -999.0,9
       KS07-01,  NONE,KS-1797,  1,      6,02-19373,2,20070215,1203,  8.0110, 143.9905, 3432,    908.1,   5.1967,  34.5383,2,   -999.0,9,  34.5390,2,   -999.0,9,  -999.00,9,  -999.00,9,  -999.00,9,  -999.00,9,  -999.00,9, -999.000,9, -999.000,9,  -999.00,9,   -999.0,9,   -999.0,9,-999.0000,9,   -999.0,  9,  -999.00,9,   -999.0,  -999.00,9,  -999.00,9,  -999.00,9,  -999.00,9,   -999.0,-999.0000, -999,9,  901,   5.1202,  27.2953,   -999.0,9
       KS07-01,  NONE,KS-1797,  1,      5,02-16011,2,20070215,1201,  8.0110, 143.9905, 3432,   1010.0,   4.5364,  34.5533,2,   -999.0,9,  34.5532,2,   -999.0,9,  -999.00,9,  -999.00,9,  -999.00,9,  -999.00,9,  -999.00,9, -999.000,9, -999.000,9,  -999.00,9,   -999.0,9,   -999.0,9,-999.0000,9,   -999.0,  9,  -999.00,9,   -999.0,  -999.00,9,  -999.00,9,  -999.00,9,  -999.00,9,   -999.0,-999.0000, -999,9, 1002,   4.4557,  27.3823,   -999.0,9
       KS07-01,  NONE,KS-1797,  1,      4,02-16010,2,20070215,1156,  8.0110, 143.9905, 3432,   1263.1,   3.5688,  34.5796,2,   -999.0,9,  34.5804,2,   -999.0,9,  -999.00,9,  -999.00,9,  -999.00,9,  -999.00,9,  -999.00,9, -999.000,9, -999.000,9,  -999.00,9,   -999.0,9,   -999.0,9,-999.0000,9,   -999.0,  9,  -999.00,9,   -999.0,  -999.00,9,  -999.00,9,  -999.00,9,  -999.00,9,   -999.0,-999.0000, -999,9, 1252,   3.4748,  27.5046,   -999.0,9
       KS07-01,  NONE,KS-1797,  1,      3,02-16009,2,20070215,1151,  8.0110, 143.9905, 3432,   1515.4,   3.0370,  34.5979,2,   -999.0,9,  34.5985,2,   -999.0,9,  -999.00,9,  -999.00,9,  -999.00,9,  -999.00,9,  -999.00,9, -999.000,9, -999.000,9,  -999.00,9,   -999.0,9,   -999.0,9,-999.0000,9,   -999.0,  9,  -999.00,9,   -999.0,  -999.00,9,  -999.00,9,  -999.00,9,  -999.00,9,   -999.0,-999.0000, -999,9, 1501,   2.9274,  27.5707,   -999.0,9
       KS07-01,  NONE,KS-1797,  1,      2,02-16008,2,20070215,1145,  8.0110, 143.9905, 3432,   1770.3,   2.6590,  34.6152,2,   -999.0,9,  34.6166,2,   -999.0,9,  -999.00,9,  -999.00,9,  -999.00,9,  -999.00,9,  -999.00,9, -999.000,9, -999.000,9,  -999.00,9,   -999.0,9,   -999.0,9,-999.0000,9,   -999.0,  9,  -999.00,9,   -999.0,  -999.00,9,  -999.00,9,  -999.00,9,  -999.00,9,   -999.0,-999.0000, -999,9, 1753,   2.5326,  27.6194,   -999.0,9
       KS07-01,  NONE,KS-1797,  1,      1,02-16007,2,20070215,1140,  8.0110, 143.9905, 3432,   2026.2,   2.3392,  34.6299,2,   -999.0,9,  34.6313,2,   -999.0,9,  -999.00,9,  -999.00,9,  -999.00,9,  -999.00,9,  -999.00,9, -999.000,9, -999.000,9,  -999.00,9,   -999.0,9,   -999.0,9,-999.0000,9,   -999.0,  9,  -999.00,9,   -999.0,  -999.00,9,  -999.00,9,  -999.00,9,  -999.00,9,   -999.0,-999.0000, -999,9, 2005,   2.1954,  27.6594,   -999.0,9