BOTTLE,20130510GEMDJMAYT
EXPOCODE,SECT_ID,STNNBR,CASTNO,SAMPNO,BTLNBR,BTLNBR_FLAG_W,DATE,TIME,LATITUDE,LONGITUDE,DEPTH,CTDPRS,CTDTMP,CTDSAL,CTDSAL_FLAG_W,CTDOXY,CTDOXY_FLAG_W,SALNTY,SALNTY_FLAG_W,OXYGEN,OXYGEN_FLAG_W,SILCAT,SILCAT_FLAG_W,NITRAT,NITRAT_FLAG_W,NO2+NO3,NO2+NO3_FLAG_W,NITRIT,NITRIT_FLAG_W,PHSPHT,PHSPHT_FLAG_W,CFC-11,CFC-11_FLAG_W,CFC-12,CFC-12_FLAG_W,DELC13,DELC13_FLAG_W,TCARBN,TCARBN_FLAG_W,ALKALI,ALKALI_FLAG_W,PH,PH_FLAG_W,PH_TMP,PH_SCALE,PH_NBS,PH_NBS_FLAG_W,C13ERR,TOTALP,TOTALP_FLAG_W,AMMONI,AMMONI_FLAG_W,CHLORA,CHLORA_FLAG_W,PPHYTN,PPHYTN_FLAG_W,REVPRS,REVTMP,DEPTH_,DEPTH_FLAG,CTDDEP,THETA,SIGTHT,DOC,DOC_FLAG_W
,,,,,,,GMT,GMT,,,METER,DBAR,ITS-90,PSS-78,,UMOL/KG,,PSS-78,,UMOL/KG,,UMOL/KG,,UMOL/KG,,UMOL/KG,,UMOL/KG,,UMOL/KG,,PMOL/KG,,PMOL/KG,,/MILLE,,UMOL/KG,,UMOL/KG,,25_DEG_C,,DEG_C,,,,/MILLE,UMOL/KG,,UMOL/KG,,UG/L,,UG/L,,DBAR,ITS-90,METERS,,METERS,DEG_C,,UMOL/L,
       KS07-01,  NONE,KS-1819,  1,     -9,      -9,5,20070221,1753, 30.4808, 134.3235, 4540,      0.0,  20.0434,  34.7964,2,   -999.0,9,-999.0000,9,    227.0,2,     1.35,2,  -999.00,9,     0.00,2,     0.02,2,     0.02,2, -999.000,9, -999.000,9,  -999.00,9,   -999.0,9,   -999.0,9,-999.0000,9,   -999.0,  9,  -999.00,9,   -999.0,  -999.00,9,  -999.00,9,     0.35,2,     0.26,2,   -999.0,-999.0000, -999,9,    0,  20.0432,  24.5950,   -999.0,9
       KS07-01,  NONE,KS-1819,  1,     21,02-16027,2,20070221,1807, 30.4808, 134.3235, 4540,     10.6,  20.0570,  34.7952,2,   -999.0,9,  34.7954,2,    227.0,2,     1.27,2,  -999.00,9,     0.00,2,     0.02,2,     0.01,2, -999.000,9, -999.000,9,  -999.00,9,   -999.0,9,   -999.0,9,-999.0000,9,   -999.0,  9,  -999.00,9,   -999.0,  -999.00,9,  -999.00,9,     0.37,2,     0.23,2,   -999.0,-999.0000, -999,9,   11,  20.0550,  24.5910,   -999.0,9
       KS07-01,  NONE,KS-1819,  1,     20,02-16026,2,20070221,1806, 30.4808, 134.3235, 4540,     25.2,  20.0578,  34.7964,2,   -999.0,9,-999.0000,9,    226.0,2,     1.34,2,  -999.00,9,     0.00,2,     0.02,2,     0.01,2, -999.000,9, -999.000,9,  -999.00,9,   -999.0,9,   -999.0,9,-999.0000,9,   -999.0,  9,  -999.00,9,   -999.0,  -999.00,9,  -999.00,9,     0.34,2,     0.24,2,   -999.0,-999.0000, -999,9,   25,  20.0531,  24.5924,   -999.0,9
       KS07-01,  NONE,KS-1819,  1,     19,02-19378,2,20070221,1802, 30.4808, 134.3235, 4540,     50.8,  20.0223,  34.7889,2,   -999.0,9,-999.0000,9,    226.0,2,     1.42,2,  -999.00,9,     0.10,2,     0.06,2,     0.02,2, -999.000,9, -999.000,9,  -999.00,9,   -999.0,9,   -999.0,9,-999.0000,9,   -999.0,  9,  -999.00,9,   -999.0,  -999.00,9,  -999.00,9,     0.37,2,     0.27,2,   -999.0,-999.0000, -999,9,   50,  20.0129,  24.5973,   -999.0,9
       KS07-01,  NONE,KS-1819,  1,     18,02-19377,2,20070221,1801, 30.4808, 134.3235, 4540,     75.4,  19.9099,  34.7848,2,   -999.0,9,-999.0000,9,    225.0,2,     1.39,2,  -999.00,9,     0.29,2,     0.21,2,     0.03,2, -999.000,9, -999.000,9,  -999.00,9,   -999.0,9,   -999.0,9,-999.0000,9,   -999.0,  9,  -999.00,9,   -999.0,  -999.00,9,  -999.00,9,     0.25,2,     0.20,2,   -999.0,-999.0000, -999,9,   75,  19.8961,  24.6249,   -999.0,9
       KS07-01,  NONE,KS-1819,  1,     17,02-16023,2,20070221,1800, 30.4808, 134.3235, 4540,    100.6,  19.8982,  34.7898,2,   -999.0,9,  34.7895,2,    226.0,2,     1.41,2,  -999.00,9,     0.10,2,     0.09,2,     0.02,2, -999.000,9, -999.000,9,  -999.00,9,   -999.0,9,   -999.0,9,-999.0000,9,   -999.0,  9,  -999.00,9,   -999.0,  -999.00,9,  -999.00,9,     0.36,2,     0.27,2,   -999.0,-999.0000, -999,9,  100,  19.8797,  24.6330,   -999.0,9
       KS07-01,  NONE,KS-1819,  1,     16,02-16022,2,20070221,1759, 30.4808, 134.3235, 4540,    126.6,  19.8724,  34.7926,2,   -999.0,9,-999.0000,9,    225.0,2,     1.42,2,  -999.00,9,     0.29,2,     0.22,2,     0.03,2, -999.000,9, -999.000,9,  -999.00,9,   -999.0,9,   -999.0,9,-999.0000,9,   -999.0,  9,  -999.00,9,   -999.0,  -999.00,9,  -999.00,9,     0.21,2,     0.15,2,   -999.0,-999.0000, -999,9,  126,  19.8491,  24.6432,   -999.0,9
       KS07-01,  NONE,KS-1819,  1,     15,02-16021,2,20070221,1758, 30.4808, 134.3235, 4540,    151.1,  19.8640,  34.7925,2,   -999.0,9,-999.0000,9,    224.0,2,     1.45,2,  -999.00,9,     0.29,2,     0.23,2,     0.03,2, -999.000,9, -999.000,9,  -999.00,9,   -999.0,9,   -999.0,9,-999.0000,9,   -999.0,  9,  -999.00,9,   -999.0,  -999.00,9,  -999.00,9,     0.18,2,     0.12,2,   -999.0,-999.0000, -999,9,  150,  19.8362,  24.6465,   -999.0,9
       KS07-01,  NONE,KS-1819,  1,     14,02-16020,2,20070221,1757, 30.4808, 134.3235, 4540,    202.3,  19.6503,  34.7899,2,   -999.0,9,  34.7894,2,    215.0,2,     1.72,2,  -999.00,9,     1.27,2,     0.11,2,     0.09,2, -999.000,9, -999.000,9,  -999.00,9,   -999.0,9,   -999.0,9,-999.0000,9,   -999.0,  9,  -999.00,9,   -999.0,  -999.00,9,  -999.00,9,     0.05,2,     0.05,2,   -999.0,-999.0000, -999,9,  201,  19.6134,  24.7027,   -999.0,9
       KS07-01,  NONE,KS-1819,  1,     13,02-16019,2,20070221,1755, 30.4808, 134.3235, 4540,    252.4,  18.8217,  34.8460,2,   -999.0,9,-999.0000,9,    208.0,2,     2.34,2,  -999.00,9,     2.73,2,     0.01,2,     0.17,2, -999.000,9, -999.000,9,  -999.00,9,   -999.0,9,   -999.0,9,-999.0000,9,   -999.0,  9,  -999.00,9,   -999.0,  -999.00,9,  -999.00,9,     0.00,2,     0.02,2,   -999.0,-999.0000, -999,9,  251,  18.7770,  24.9601,   -999.0,9
       KS07-01,  NONE,KS-1819,  1,     12,02-16018,2,20070221,1754, 30.4808, 134.3235, 4540,    306.1,  18.4197,  34.8467,2,   -999.0,9,  34.8456,2,    210.0,2,     2.65,2,  -999.00,9,     2.93,2,     0.01,2,     0.19,2, -999.000,9, -999.000,9,  -999.00,9,   -999.0,9,   -999.0,9,-999.0000,9,   -999.0,  9,  -999.00,9,   -999.0,  -999.00,9,  -999.00,9,     0.01,2,     0.00,2,   -999.0,-999.0000, -999,9,  304,  18.3662,  25.0638,   -999.0,9
       KS07-01,  NONE,KS-1819,  1,     11,02-19376,2,20070221,1751, 30.4808, 134.3235, 4540,    404.7,  17.3285,  34.7812,2,   -999.0,9,  34.7803,2,    201.0,2,     4.52,2,  -999.00,9,     5.46,2,     0.00,2,     0.34,2, -999.000,9, -999.000,9,  -999.00,9,   -999.0,9,   -999.0,9,-999.0000,9,   -999.0,  9,  -999.00,9,   -999.0,  -999.00,9,  -999.00,9,  -999.00,9,  -999.00,9,   -999.0,-999.0000, -999,9,  402,  17.2606,  25.2841,   -999.0,9
       KS07-01,  NONE,KS-1819,  1,     10,02-19375,2,20070221,1748, 30.4808, 134.3235, 4540,    505.1,  15.9115,  34.6678,2,   -999.0,9,  34.6662,2,    194.0,2,     7.62,2,  -999.00,9,     8.19,2,     0.00,2,     0.53,2, -999.000,9, -999.000,9,  -999.00,9,   -999.0,9,   -999.0,9,-999.0000,9,   -999.0,  9,  -999.00,9,   -999.0,  -999.00,9,  -999.00,9,  -999.00,9,  -999.00,9,   -999.0,-999.0000, -999,9,  501,  15.8314,  25.5304,   -999.0,9
       KS07-01,  NONE,KS-1819,  1,      9,02-16015,2,20070221,1745, 30.4808, 134.3235, 4540,    604.6,  13.2763,  34.4696,2,   -999.0,9,  34.4709,2,    180.0,2,    16.57,2,  -999.00,9,    13.65,2,     0.00,2,     0.94,2, -999.000,9, -999.000,9,  -999.00,9,   -999.0,9,   -999.0,9,-999.0000,9,   -999.0,  9,  -999.00,9,   -999.0,  -999.00,9,  -999.00,9,  -999.00,9,  -999.00,9,   -999.0,-999.0000, -999,9,  600,  13.1912,  25.9436,   -999.0,9
       KS07-01,  NONE,KS-1819,  1,      8,02-16014,2,20070221,1742, 30.4808, 134.3235, 4540,    707.1,  10.6456,  34.3016,2,   -999.0,9,  34.3055,2,    167.0,2,    29.63,2,  -999.00,9,    19.49,2,     0.00,2,     1.34,2, -999.000,9, -999.000,9,  -999.00,9,   -999.0,9,   -999.0,9,-999.0000,9,   -999.0,  9,  -999.00,9,   -999.0,  -999.00,9,  -999.00,9,  -999.00,9,  -999.00,9,   -999.0,-999.0000, -999,9,  701,  10.5589,  26.3100,   -999.0,9
       KS07-01,  NONE,KS-1819,  1,      7,02-19374,2,20070221,1739, 30.4808, 134.3235, 4540,    807.6,   8.1532,  34.1727,2,   -999.0,9,  34.1728,2,    143.0,2,    47.28,2,  -999.00,9,    25.72,2,     0.00,2,     1.85,2, -999.000,9, -999.000,9,  -999.00,9,   -999.0,9,   -999.0,9,-999.0000,9,   -999.0,  9,  -999.00,9,   -999.0,  -999.00,9,  -999.00,9,  -999.00,9,  -999.00,9,   -999.0,-999.0000, -999,9,  801,   8.0684,  26.6139,   -999.0,9
       KS07-01,  NONE,KS-1819,  1,      6,02-19373,2,20070221,1736, 30.4808, 134.3235, 4540,    909.3,   6.8467,  34.2251,2,   -999.0,9,  34.2242,2,    109.0,2,    67.35,2,  -999.00,9,    31.46,2,     0.00,2,     2.25,2, -999.000,9, -999.000,9,  -999.00,9,   -999.0,9,   -999.0,9,-999.0000,9,   -999.0,  9,  -999.00,9,   -999.0,  -999.00,9,  -999.00,9,  -999.00,9,  -999.00,9,   -999.0,-999.0000, -999,9,  901,   6.7593,  26.8411,   -999.0,9
       KS07-01,  NONE,KS-1819,  1,      5,02-16011,2,20070221,1733, 30.4808, 134.3235, 4540,   1009.8,   5.4493,  34.2761,2,   -999.0,9,  34.2777,2,     83.0,2,    88.85,2,  -999.00,9,    35.83,2,     0.00,2,     2.58,2, -999.000,9, -999.000,9,  -999.00,9,   -999.0,9,   -999.0,9,-999.0000,9,   -999.0,  9,  -999.00,9,   -999.0,  -999.00,9,  -999.00,9,  -999.00,9,  -999.00,9,   -999.0,-999.0000, -999,9, 1000,   5.3620,  27.0590,   -999.0,9
       KS07-01,  NONE,KS-1819,  1,      4,02-16010,2,20070221,1727, 30.4808, 134.3235, 4540,   1264.9,   3.5554,  34.4208,2,   -999.0,9,  34.4209,2,     67.0,2,   122.71,2,  -999.00,9,    40.00,2,     0.00,2,     2.87,2, -999.000,9, -999.000,9,  -999.00,9,   -999.0,9,   -999.0,9,-999.0000,9,   -999.0,  9,  -999.00,9,   -999.0,  -999.00,9,  -999.00,9,  -999.00,9,  -999.00,9,   -999.0,-999.0000, -999,9, 1252,   3.4617,  27.3793,   -999.0,9
       KS07-01,  NONE,KS-1819,  1,      3,02-16009,2,20070221,1721, 30.4808, 134.3235, 4540,   1516.7,   2.9467,  34.4874,2,   -999.0,9,  34.4877,2,     73.0,2,   133.65,2,  -999.00,9,    39.90,2,     0.00,2,     2.87,2, -999.000,9, -999.000,9,  -999.00,9,   -999.0,9,   -999.0,9,-999.0000,9,   -999.0,  9,  -999.00,9,   -999.0,  -999.00,9,  -999.00,9,  -999.00,9,  -999.00,9,   -999.0,-999.0000, -999,9, 1501,   2.8383,  27.4905,   -999.0,9
       KS07-01,  NONE,KS-1819,  1,      2,02-16008,2,20070221,1715, 30.4808, 134.3235, 4540,   1770.6,   2.4859,  34.5412,2,   -999.0,9,  34.5413,2,     85.0,2,   141.35,2,  -999.00,9,    39.90,2,     0.00,2,     2.83,2, -999.000,9, -999.000,9,  -999.00,9,   -999.0,9,   -999.0,9,-999.0000,9,   -999.0,  9,  -999.00,9,   -999.0,  -999.00,9,  -999.00,9,  -999.00,9,  -999.00,9,   -999.0,-999.0000, -999,9, 1751,   2.3620,  27.5747,   -999.0,9
       KS07-01,  NONE,KS-1819,  1,      1,02-16007,2,20070221,1709, 30.4808, 134.3235, 4540,   2032.7,   2.1627,  34.5841,2,   -999.0,9,  34.5844,2,    100.0,2,   143.23,2,  -999.00,9,    39.31,2,     0.00,2,     2.77,2, -999.000,9, -999.000,9,  -999.00,9,   -999.0,9,   -999.0,9,-999.0000,9,   -999.0,  9,  -999.00,9,   -999.0,  -999.00,9,  -999.00,9,  -999.00,9,  -999.00,9,   -999.0,-999.0000, -999,9, 2009,   2.0212,  27.6368,   -999.0,9