BOTTLE,20130510GEMDJMAYT
EXPOCODE,SECT_ID,STNNBR,CASTNO,SAMPNO,BTLNBR,BTLNBR_FLAG_W,DATE,TIME,LATITUDE,LONGITUDE,DEPTH,CTDPRS,CTDTMP,CTDSAL,CTDSAL_FLAG_W,CTDOXY,CTDOXY_FLAG_W,SALNTY,SALNTY_FLAG_W,OXYGEN,OXYGEN_FLAG_W,SILCAT,SILCAT_FLAG_W,NITRAT,NITRAT_FLAG_W,NO2+NO3,NO2+NO3_FLAG_W,NITRIT,NITRIT_FLAG_W,PHSPHT,PHSPHT_FLAG_W,CFC-11,CFC-11_FLAG_W,CFC-12,CFC-12_FLAG_W,DELC13,DELC13_FLAG_W,TCARBN,TCARBN_FLAG_W,ALKALI,ALKALI_FLAG_W,PH,PH_FLAG_W,PH_TMP,PH_SCALE,PH_NBS,PH_NBS_FLAG_W,C13ERR,TOTALP,TOTALP_FLAG_W,AMMONI,AMMONI_FLAG_W,CHLORA,CHLORA_FLAG_W,PPHYTN,PPHYTN_FLAG_W,REVPRS,REVTMP,DEPTH_,DEPTH_FLAG,CTDDEP,THETA,SIGTHT,DOC,DOC_FLAG_W
,,,,,,,GMT,GMT,,,METER,DBAR,ITS-90,PSS-78,,UMOL/KG,,PSS-78,,UMOL/KG,,UMOL/KG,,UMOL/KG,,UMOL/KG,,UMOL/KG,,UMOL/KG,,PMOL/KG,,PMOL/KG,,/MILLE,,UMOL/KG,,UMOL/KG,,25_DEG_C,,DEG_C,,,,/MILLE,UMOL/KG,,UMOL/KG,,UG/L,,UG/L,,DBAR,ITS-90,METERS,,METERS,DEG_C,,UMOL/L,
       KS07-01,  137E,KS-1805,  1,     -9,      -9,5,20070219,1205, 24.9900, 136.9910, 5182,      0.0,  23.5371,  34.8464,2,   -999.0,9,-999.0000,9,    215.0,2,     1.54,2,  -999.00,9,     0.00,2,     0.00,2,     0.00,2, -999.000,9, -999.000,9,  -999.00,9,   -999.0,9,   -999.0,9,-999.0000,9,   -999.0,  9,  -999.00,9,   -999.0,  -999.00,9,  -999.00,9,     0.07,2,     0.03,2,   -999.0,-999.0000, -999,9,    0,  23.5368,  23.6613,   -999.0,9
       KS07-01,  137E,KS-1805,  1,     21,02-16027,2,20070219,1217, 24.9900, 136.9910, 5182,     10.8,  23.5443,  34.8457,2,   -999.0,9,  34.8450,2,    214.0,2,     1.53,2,  -999.00,9,     0.00,2,     0.00,2,     0.00,2, -999.000,9, -999.000,9,  -999.00,9,   -999.0,9,   -999.0,9,-999.0000,9,   -999.0,  9,  -999.00,9,   -999.0,  -999.00,9,  -999.00,9,     0.06,2,     0.02,2,   -999.0,-999.0000, -999,9,   11,  23.5421,  23.6593,   -999.0,9
       KS07-01,  137E,KS-1805,  1,     20,02-16026,2,20070219,1216, 24.9900, 136.9910, 5182,     25.8,  23.5358,  34.8452,2,   -999.0,9,-999.0000,9,    214.0,2,     1.52,2,  -999.00,9,     0.00,2,     0.00,2,     0.00,2, -999.000,9, -999.000,9,  -999.00,9,   -999.0,9,   -999.0,9,-999.0000,9,   -999.0,  9,  -999.00,9,   -999.0,  -999.00,9,  -999.00,9,     0.06,2,     0.02,2,   -999.0,-999.0000, -999,9,   26,  23.5304,  23.6623,   -999.0,9
       KS07-01,  137E,KS-1805,  1,     19,02-19378,2,20070219,1214, 24.9900, 136.9910, 5182,     51.1,  23.4728,  34.8461,2,   -999.0,9,-999.0000,9,    215.0,2,     1.47,2,  -999.00,9,     0.00,2,     0.00,2,     0.00,2, -999.000,9, -999.000,9,  -999.00,9,   -999.0,9,   -999.0,9,-999.0000,9,   -999.0,  9,  -999.00,9,   -999.0,  -999.00,9,  -999.00,9,     0.07,2,     0.02,2,   -999.0,-999.0000, -999,9,   51,  23.4622,  23.6829,   -999.0,9
       KS07-01,  137E,KS-1805,  1,     18,02-19377,2,20070219,1213, 24.9900, 136.9910, 5182,     74.9,  23.4158,  34.8457,2,   -999.0,9,-999.0000,9,    214.0,2,     1.55,2,  -999.00,9,     0.00,2,     0.00,2,     0.00,2, -999.000,9, -999.000,9,  -999.00,9,   -999.0,9,   -999.0,9,-999.0000,9,   -999.0,  9,  -999.00,9,   -999.0,  -999.00,9,  -999.00,9,     0.09,2,     0.03,2,   -999.0,-999.0000, -999,9,   74,  23.4003,  23.7006,   -999.0,9
       KS07-01,  137E,KS-1805,  1,     17,02-16023,2,20070219,1212, 24.9900, 136.9910, 5182,    100.1,  23.2227,  34.8297,2,   -999.0,9,  34.8330,2,    215.0,2,     1.59,2,  -999.00,9,     0.00,2,     0.00,2,     0.00,2, -999.000,9, -999.000,9,  -999.00,9,   -999.0,9,   -999.0,9,-999.0000,9,   -999.0,  9,  -999.00,9,   -999.0,  -999.00,9,  -999.00,9,     0.13,2,     0.06,2,   -999.0,-999.0000, -999,9,   99,  23.2022,  23.7460,   -999.0,9
       KS07-01,  137E,KS-1805,  1,     16,02-16022,2,20070219,1211, 24.9900, 136.9910, 5182,    126.3,  21.5175,  34.7938,2,   -999.0,9,-999.0000,9,    224.0,2,     1.78,2,  -999.00,9,     0.00,2,     0.00,2,     0.01,2, -999.000,9, -999.000,9,  -999.00,9,   -999.0,9,   -999.0,9,-999.0000,9,   -999.0,  9,  -999.00,9,   -999.0,  -999.00,9,  -999.00,9,     0.19,2,     0.12,2,   -999.0,-999.0000, -999,9,  125,  21.4930,  24.2020,   -999.0,9
       KS07-01,  137E,KS-1805,  1,     15,02-16021,2,20070219,1210, 24.9900, 136.9910, 5182,    150.9,  20.6838,  34.7651,2,   -999.0,9,-999.0000,9,    225.0,2,     1.82,2,  -999.00,9,     0.00,2,     0.00,2,     0.01,2, -999.000,9, -999.000,9,  -999.00,9,   -999.0,9,   -999.0,9,-999.0000,9,   -999.0,  9,  -999.00,9,   -999.0,  -999.00,9,  -999.00,9,     0.24,2,     0.15,2,   -999.0,-999.0000, -999,9,  150,  20.6553,  24.4082,   -999.0,9
       KS07-01,  137E,KS-1805,  1,     14,02-16020,2,20070219,1209, 24.9900, 136.9910, 5182,    201.7,  19.2304,  34.8337,2,   -999.0,9,  34.8435,4,    203.0,2,     3.02,2,  -999.00,9,     2.83,2,     0.01,2,     0.19,2, -999.000,9, -999.000,9,  -999.00,9,   -999.0,9,   -999.0,9,-999.0000,9,   -999.0,  9,  -999.00,9,   -999.0,  -999.00,9,  -999.00,9,     0.01,2,     0.03,2,   -999.0,-999.0000, -999,9,  200,  19.1942,  24.8444,   -999.0,9
       KS07-01,  137E,KS-1805,  1,     13,02-16019,2,20070219,1207, 24.9900, 136.9910, 5182,    251.4,  18.1928,  34.8250,2,   -999.0,9,-999.0000,9,    206.0,2,     3.69,2,  -999.00,9,     3.90,2,     0.01,2,     0.24,2, -999.000,9, -999.000,9,  -999.00,9,   -999.0,9,   -999.0,9,-999.0000,9,   -999.0,  9,  -999.00,9,   -999.0,  -999.00,9,  -999.00,9,     0.00,2,     0.01,2,   -999.0,-999.0000, -999,9,  250,  18.1493,  25.1011,   -999.0,9
       KS07-01,  137E,KS-1805,  1,     12,02-16018,2,20070219,1206, 24.9900, 136.9910, 5182,    302.1,  17.3246,  34.7816,2,   -999.0,9,  34.7779,2,    204.0,2,     4.69,2,  -999.00,9,     5.17,2,     0.00,2,     0.33,2, -999.000,9, -999.000,9,  -999.00,9,   -999.0,9,   -999.0,9,-999.0000,9,   -999.0,  9,  -999.00,9,   -999.0,  -999.00,9,  -999.00,9,     0.00,2,     0.01,2,   -999.0,-999.0000, -999,9,  300,  17.2740,  25.2812,   -999.0,9
       KS07-01,  137E,KS-1805,  1,     11,02-19376,2,20070219,1204, 24.9900, 136.9910, 5182,    403.5,  15.2042,  34.6086,2,   -999.0,9,  34.6018,4,    191.0,2,    10.48,2,  -999.00,9,     9.85,2,     0.00,2,     0.64,2, -999.000,9, -999.000,9,  -999.00,9,   -999.0,9,   -999.0,9,-999.0000,9,   -999.0,  9,  -999.00,9,   -999.0,  -999.00,9,  -999.00,9,  -999.00,9,  -999.00,9,   -999.0,-999.0000, -999,9,  400,  15.1423,  25.6389,   -999.0,9
       KS07-01,  137E,KS-1805,  1,     10,02-19375,2,20070219,1201, 24.9900, 136.9910, 5182,    503.3,  12.6409,  34.3976,2,   -999.0,9,  34.3922,4,    190.0,2,    15.97,2,  -999.00,9,    13.84,2,     0.00,2,     0.95,2, -999.000,9, -999.000,9,  -999.00,9,   -999.0,9,   -999.0,9,-999.0000,9,   -999.0,  9,  -999.00,9,   -999.0,  -999.00,9,  -999.00,9,  -999.00,9,  -999.00,9,   -999.0,-999.0000, -999,9,  499,  12.5726,  26.0107,   -999.0,9
       KS07-01,  137E,KS-1805,  1,      9,02-16015,2,20070219,1159, 24.9900, 136.9910, 5182,    606.1,   9.5726,  34.1994,2,   -999.0,9,  34.1951,2,    168.0,2,    32.72,2,  -999.00,9,    21.34,2,     0.00,2,     1.49,2, -999.000,9, -999.000,9,  -999.00,9,   -999.0,9,   -999.0,9,-999.0000,9,   -999.0,  9,  -999.00,9,   -999.0,  -999.00,9,  -999.00,9,  -999.00,9,  -999.00,9,   -999.0,-999.0000, -999,9,  601,   9.5034,  26.4097,   -999.0,9
       KS07-01,  137E,KS-1805,  1,      8,02-16014,2,20070219,1157, 24.9900, 136.9910, 5182,    706.1,   7.2998,  34.1146,2,   -999.0,9,  34.1149,2,    134.0,2,    51.66,2,  -999.00,9,    28.44,2,     0.00,2,     2.03,2, -999.000,9, -999.000,9,  -999.00,9,   -999.0,9,   -999.0,9,-999.0000,9,   -999.0,  9,  -999.00,9,   -999.0,  -999.00,9,  -999.00,9,  -999.00,9,  -999.00,9,   -999.0,-999.0000, -999,9,  700,   7.2306,  26.6893,   -999.0,9
       KS07-01,  137E,KS-1805,  1,      7,02-19374,2,20070219,1154, 24.9900, 136.9910, 5182,    807.0,   5.9130,  34.1543,2,   -999.0,9,  34.1562,2,     97.0,2,    73.49,2,  -999.00,9,    33.69,2,     0.00,2,     2.44,2, -999.000,9, -999.000,9,  -999.00,9,   -999.0,9,   -999.0,9,-999.0000,9,   -999.0,  9,  -999.00,9,   -999.0,  -999.00,9,  -999.00,9,  -999.00,9,  -999.00,9,   -999.0,-999.0000, -999,9,  800,   5.8417,  26.9042,   -999.0,9
       KS07-01,  137E,KS-1805,  1,      6,02-19373,2,20070219,1152, 24.9900, 136.9910, 5182,    907.7,   4.7318,  34.2220,2,   -999.0,9,  34.2222,2,     71.0,2,    95.27,2,  -999.00,9,    37.58,2,     0.00,2,     2.74,2, -999.000,9, -999.000,9,  -999.00,9,   -999.0,9,   -999.0,9,-999.0000,9,   -999.0,  9,  -999.00,9,   -999.0,  -999.00,9,  -999.00,9,  -999.00,9,  -999.00,9,   -999.0,-999.0000, -999,9,  900,   4.6591,  27.0968,   -999.0,9
       KS07-01,  137E,KS-1805,  1,      5,02-16011,2,20070219,1149, 24.9900, 136.9910, 5182,   1008.8,   4.1619,  34.2953,2,   -999.0,9,  34.2932,2,     60.0,2,   108.39,2,  -999.00,9,    39.62,2,     0.00,2,     2.86,2, -999.000,9, -999.000,9,  -999.00,9,   -999.0,9,   -999.0,9,-999.0000,9,   -999.0,  9,  -999.00,9,   -999.0,  -999.00,9,  -999.00,9,  -999.00,9,  -999.00,9,   -999.0,-999.0000, -999,9, 1000,   4.0846,  27.2168,   -999.0,9
       KS07-01,  137E,KS-1805,  1,      4,02-16010,2,20070219,1144, 24.9900, 136.9910, 5182,   1261.7,   3.2417,  34.4454,2,   -999.0,9,  34.4437,2,     61.0,2,   128.23,2,  -999.00,9,    40.98,2,     0.00,2,     2.93,2, -999.000,9, -999.000,9,  -999.00,9,   -999.0,9,   -999.0,9,-999.0000,9,   -999.0,  9,  -999.00,9,   -999.0,  -999.00,9,  -999.00,9,  -999.00,9,  -999.00,9,   -999.0,-999.0000, -999,9, 1250,   3.1512,  27.4284,   -999.0,9
       KS07-01,  137E,KS-1805,  1,      3,02-16009,2,20070219,1139, 24.9900, 136.9910, 5182,   1515.1,   2.6666,  34.5203,2,   -999.0,9,  34.5218,2,     79.0,2,   138.03,2,  -999.00,9,    40.00,2,     0.00,2,     2.86,2, -999.000,9, -999.000,9,  -999.00,9,   -999.0,9,   -999.0,9,-999.0000,9,   -999.0,  9,  -999.00,9,   -999.0,  -999.00,9,  -999.00,9,  -999.00,9,  -999.00,9,   -999.0,-999.0000, -999,9, 1500,   2.5615,  27.5411,   -999.0,9
       KS07-01,  137E,KS-1805,  1,      2,02-16008,2,20070219,1134, 24.9900, 136.9910, 5182,   1767.7,   2.2985,  34.5789,2,   -999.0,9,  34.5786,2,    101.0,2,   140.17,2,  -999.00,9,    39.31,2,     0.00,2,     2.76,2, -999.000,9, -999.000,9,  -999.00,9,   -999.0,9,   -999.0,9,-999.0000,9,   -999.0,  9,  -999.00,9,   -999.0,  -999.00,9,  -999.00,9,  -999.00,9,  -999.00,9,   -999.0,-999.0000, -999,9, 1749,   2.1772,  27.6201,   -999.0,9
       KS07-01,  137E,KS-1805,  1,      1,02-16007,2,20070219,1129, 24.9900, 136.9910, 5182,   2023.2,   2.0939,  34.6113,2,   -999.0,9,  34.6115,2,    113.0,2,   140.25,2,  -999.00,9,    38.14,2,     0.00,2,     2.71,2, -999.000,9, -999.000,9,  -999.00,9,   -999.0,9,   -999.0,9,-999.0000,9,   -999.0,  9,  -999.00,9,   -999.0,  -999.00,9,  -999.00,9,  -999.00,9,  -999.00,9,   -999.0,-999.0000, -999,9, 2000,   1.9541,  27.6639,   -999.0,9