BOTTLE,20130510GEMDJMAYT
EXPOCODE,SECT_ID,STNNBR,CASTNO,SAMPNO,BTLNBR,BTLNBR_FLAG_W,DATE,TIME,LATITUDE,LONGITUDE,DEPTH,CTDPRS,CTDTMP,CTDSAL,CTDSAL_FLAG_W,CTDOXY,CTDOXY_FLAG_W,SALNTY,SALNTY_FLAG_W,OXYGEN,OXYGEN_FLAG_W,SILCAT,SILCAT_FLAG_W,NITRAT,NITRAT_FLAG_W,NO2+NO3,NO2+NO3_FLAG_W,NITRIT,NITRIT_FLAG_W,PHSPHT,PHSPHT_FLAG_W,CFC-11,CFC-11_FLAG_W,CFC-12,CFC-12_FLAG_W,DELC13,DELC13_FLAG_W,TCARBN,TCARBN_FLAG_W,ALKALI,ALKALI_FLAG_W,PH,PH_FLAG_W,PH_TMP,PH_SCALE,PH_NBS,PH_NBS_FLAG_W,C13ERR,TOTALP,TOTALP_FLAG_W,AMMONI,AMMONI_FLAG_W,CHLORA,CHLORA_FLAG_W,PPHYTN,PPHYTN_FLAG_W,REVPRS,REVTMP,DEPTH_,DEPTH_FLAG,CTDDEP,THETA,SIGTHT,DOC,DOC_FLAG_W
,,,,,,,GMT,GMT,,,METER,DBAR,ITS-90,PSS-78,,UMOL/KG,,PSS-78,,UMOL/KG,,UMOL/KG,,UMOL/KG,,UMOL/KG,,UMOL/KG,,UMOL/KG,,PMOL/KG,,PMOL/KG,,/MILLE,,UMOL/KG,,UMOL/KG,,25_DEG_C,,DEG_C,,,,/MILLE,UMOL/KG,,UMOL/KG,,UG/L,,UG/L,,DBAR,ITS-90,METERS,,METERS,DEG_C,,UMOL/L,
       KS07-01,  142E,KS-1784,  1,     -9,      -9,5,20070209,1555, -2.0060, 142.0260, 3594,      0.0,  28.1614,  34.6293,2,   -999.0,9,-999.0000,9,    199.0,2,     0.39,2,  -999.00,9,     0.10,2,     0.03,2,     0.11,2, -999.000,9, -999.000,9,  -999.00,9,   -999.0,9,   -999.0,9,-999.0000,9,   -999.0,  9,  -999.00,9,   -999.0,  -999.00,9,  -999.00,9,     1.02,2,     0.42,2,   -999.0,-999.0000, -999,9,    0,  28.1611,  22.0632,   -999.0,9
       KS07-01,  142E,KS-1784,  1,     21,02-16027,2,20070209,1614, -2.0060, 142.0260, 3594,     10.7,  28.1614,  34.6293,2,   -999.0,9,  34.6278,2,    200.0,2,     0.33,2,  -999.00,9,     0.10,2,     0.03,2,     0.11,2, -999.000,9, -999.000,9,  -999.00,9,   -999.0,9,   -999.0,9,-999.0000,9,   -999.0,  9,  -999.00,9,   -999.0,  -999.00,9,  -999.00,9,     1.05,2,     0.38,2,   -999.0,-999.0000, -999,9,   11,  28.1589,  22.0639,   -999.0,9
       KS07-01,  142E,KS-1784,  1,     20,02-16026,2,20070209,1613, -2.0060, 142.0260, 3594,     26.1,  28.1686,  34.6289,2,   -999.0,9,-999.0000,9,    199.0,2,     0.32,2,  -999.00,9,     0.10,2,     0.03,2,     0.11,2, -999.000,9, -999.000,9,  -999.00,9,   -999.0,9,   -999.0,9,-999.0000,9,   -999.0,  9,  -999.00,9,   -999.0,  -999.00,9,  -999.00,9,     1.07,2,     0.24,2,   -999.0,-999.0000, -999,9,   26,  28.1624,  22.0625,   -999.0,9
       KS07-01,  142E,KS-1784,  1,     19,02-19378,2,20070209,1608, -2.0060, 142.0260, 3594,     50.2,  27.5705,  34.7907,2,   -999.0,9,-999.0000,9,    172.0,2,     1.46,2,  -999.00,9,     3.03,2,     0.33,2,     0.31,2, -999.000,9, -999.000,9,  -999.00,9,   -999.0,9,   -999.0,9,-999.0000,9,   -999.0,  9,  -999.00,9,   -999.0,  -999.00,9,  -999.00,9,     0.55,2,     0.37,2,   -999.0,-999.0000, -999,9,   50,  27.5588,  22.3807,   -999.0,9
       KS07-01,  142E,KS-1784,  1,     18,02-19377,2,20070209,1606, -2.0060, 142.0260, 3594,     76.4,  25.6488,  35.2352,2,   -999.0,9,-999.0000,9,    135.0,2,     3.52,2,  -999.00,9,     8.50,2,     0.07,2,     0.66,2, -999.000,9, -999.000,9,  -999.00,9,   -999.0,9,   -999.0,9,-999.0000,9,   -999.0,  9,  -999.00,9,   -999.0,  -999.00,9,  -999.00,9,     0.05,2,     0.20,2,   -999.0,-999.0000, -999,9,   76,  25.6319,  23.3252,   -999.0,9
       KS07-01,  142E,KS-1784,  1,     17,02-16023,2,20070209,1605, -2.0060, 142.0260, 3594,    101.9,  25.1729,  35.4159,2,   -999.0,9,  35.4060,4,    132.0,2,     3.45,2,  -999.00,9,     9.09,2,     0.05,2,     0.71,2, -999.000,9, -999.000,9,  -999.00,9,   -999.0,9,   -999.0,9,-999.0000,9,   -999.0,  9,  -999.00,9,   -999.0,  -999.00,9,  -999.00,9,     0.04,2,     0.16,2,   -999.0,-999.0000, -999,9,  101,  25.1507,  23.6096,   -999.0,9
       KS07-01,  142E,KS-1784,  1,     16,02-16022,2,20070209,1604, -2.0060, 142.0260, 3594,    128.0,  24.2274,  35.5142,2,   -999.0,9,-999.0000,9,    132.0,2,     3.14,2,  -999.00,9,     8.98,2,     0.03,2,     0.71,2, -999.000,9, -999.000,9,  -999.00,9,   -999.0,9,   -999.0,9,-999.0000,9,   -999.0,  9,  -999.00,9,   -999.0,  -999.00,9,  -999.00,9,     0.03,2,     0.11,2,   -999.0,-999.0000, -999,9,  127,  24.2002,  23.9711,   -999.0,9
       KS07-01,  142E,KS-1784,  1,     15,02-16021,2,20070209,1602, -2.0060, 142.0260, 3594,    153.0,  22.0384,  35.5767,2,   -999.0,9,-999.0000,9,    132.0,2,     3.29,2,  -999.00,9,     9.76,2,     0.02,2,     0.76,2, -999.000,9, -999.000,9,  -999.00,9,   -999.0,9,   -999.0,9,-999.0000,9,   -999.0,  9,  -999.00,9,   -999.0,  -999.00,9,  -999.00,9,     0.01,2,     0.05,2,   -999.0,-999.0000, -999,9,  152,  22.0080,  24.6539,   -999.0,9
       KS07-01,  142E,KS-1784,  1,     14,02-16020,2,20070209,1600, -2.0060, 142.0260, 3594,    203.8,  17.3516,  35.3800,2,   -999.0,9,  35.4219,4,    138.0,2,     5.29,2,  -999.00,9,    12.58,2,     0.01,2,     0.96,2, -999.000,9, -999.000,9,  -999.00,9,   -999.0,9,   -999.0,9,-999.0000,9,   -999.0,  9,  -999.00,9,   -999.0,  -999.00,9,  -999.00,9,     0.00,2,     0.02,2,   -999.0,-999.0000, -999,9,  203,  17.3174,  25.7299,   -999.0,9
       KS07-01,  142E,KS-1784,  1,     13,02-16019,2,20070209,1558, -2.0060, 142.0260, 3594,    254.1,  13.6750,  35.0802,2,   -999.0,9,-999.0000,9,    150.0,2,     8.96,2,  -999.00,9,    16.76,2,     0.00,2,     1.22,2, -999.000,9, -999.000,9,  -999.00,9,   -999.0,9,   -999.0,9,-999.0000,9,   -999.0,  9,  -999.00,9,   -999.0,  -999.00,9,  -999.00,9,     0.00,2,     0.02,2,   -999.0,-999.0000, -999,9,  252,  13.6388,  26.3246,   -999.0,9
       KS07-01,  142E,KS-1784,  1,     12,02-16018,2,20070209,1556, -2.0060, 142.0260, 3594,    307.2,  11.6456,  34.8966,2,   -999.0,9,  34.9023,4,    157.0,2,    11.75,2,  -999.00,9,    19.68,2,     0.00,2,     1.38,2, -999.000,9, -999.000,9,  -999.00,9,   -999.0,9,   -999.0,9,-999.0000,9,   -999.0,  9,  -999.00,9,   -999.0,  -999.00,9,  -999.00,9,     0.00,2,     0.02,2,   -999.0,-999.0000, -999,9,  305,  11.6062,  26.5833,   -999.0,9
       KS07-01,  142E,KS-1784,  1,     11,02-19376,2,20070209,1553, -2.0060, 142.0260, 3594,    405.0,   9.5917,  34.6970,2,   -999.0,9,  34.6965,2,    147.0,2,    27.51,2,  -999.00,9,    29.12,2,     0.00,2,     2.04,2, -999.000,9, -999.000,9,  -999.00,9,   -999.0,9,   -999.0,9,-999.0000,9,   -999.0,  9,  -999.00,9,   -999.0,  -999.00,9,  -999.00,9,  -999.00,9,  -999.00,9,   -999.0,-999.0000, -999,9,  402,   9.5456,  26.7918,   -999.0,9
       KS07-01,  142E,KS-1784,  1,     10,02-19375,2,20070209,1550, -2.0060, 142.0260, 3594,    505.1,   8.8616,  34.6526,2,   -999.0,9,  34.6734,4,    133.0,4,    25.38,4,  -999.00,9,    27.66,4,     0.00,4,     1.91,4, -999.000,9, -999.000,9,  -999.00,9,   -999.0,9,   -999.0,9,-999.0000,9,   -999.0,  9,  -999.00,9,   -999.0,  -999.00,9,  -999.00,9,  -999.00,9,  -999.00,9,   -999.0,-999.0000, -999,9,  502,   8.8065,  26.8769,   -999.0,9
       KS07-01,  142E,KS-1784,  1,      9,02-16015,2,20070209,1547, -2.0060, 142.0260, 3594,    605.5,   7.2761,  34.5611,2,   -999.0,9,  34.5609,2,    147.0,2,    31.32,2,  -999.00,9,    29.60,2,     0.00,2,     2.05,2, -999.000,9, -999.000,9,  -999.00,9,   -999.0,9,   -999.0,9,-999.0000,9,   -999.0,  9,  -999.00,9,   -999.0,  -999.00,9,  -999.00,9,  -999.00,9,  -999.00,9,   -999.0,-999.0000, -999,9,  601,   7.2169,  27.0427,   -999.0,9
       KS07-01,  142E,KS-1784,  1,      8,02-16014,2,20070209,1544, -2.0060, 142.0260, 3594,    706.8,   6.1581,  34.5417,2,   -999.0,9,  34.5415,2,    106.0,2,    51.45,2,  -999.00,9,    35.63,2,     0.00,2,     2.51,2, -999.000,9, -999.000,9,  -999.00,9,   -999.0,9,   -999.0,9,-999.0000,9,   -999.0,  9,  -999.00,9,   -999.0,  -999.00,9,  -999.00,9,  -999.00,9,  -999.00,9,   -999.0,-999.0000, -999,9,  702,   6.0944,  27.1785,   -999.0,9
       KS07-01,  142E,KS-1784,  1,      7,02-19374,2,20070209,1541, -2.0060, 142.0260, 3594,    807.7,   5.3069,  34.5386,2,   -999.0,9,  34.5384,2,    108.0,2,    65.96,2,  -999.00,9,    36.50,2,     0.00,2,     2.59,2, -999.000,9, -999.000,9,  -999.00,9,   -999.0,9,   -999.0,9,-999.0000,9,   -999.0,  9,  -999.00,9,   -999.0,  -999.00,9,  -999.00,9,  -999.00,9,  -999.00,9,   -999.0,-999.0000, -999,9,  802,   5.2388,  27.2815,   -999.0,9
       KS07-01,  142E,KS-1784,  1,      6,02-19373,2,20070209,1539, -2.0060, 142.0260, 3594,    909.8,   4.9507,  34.5385,2,   -999.0,9,  34.5397,2,    113.0,2,    70.77,2,  -999.00,9,    36.21,2,     0.00,2,     2.58,2, -999.000,9, -999.000,9,  -999.00,9,   -999.0,9,   -999.0,9,-999.0000,9,   -999.0,  9,  -999.00,9,   -999.0,  -999.00,9,  -999.00,9,  -999.00,9,  -999.00,9,   -999.0,-999.0000, -999,9,  903,   4.8758,  27.3236,   -999.0,9
       KS07-01,  142E,KS-1784,  1,      5,02-16011,2,20070209,1536, -2.0060, 142.0260, 3594,   1009.9,   4.4134,  34.5531,2,   -999.0,9,  34.5531,2,    106.0,2,    83.62,2,  -999.00,9,    37.67,2,     0.00,2,     2.69,2, -999.000,9, -999.000,9,  -999.00,9,   -999.0,9,   -999.0,9,-999.0000,9,   -999.0,  9,  -999.00,9,   -999.0,  -999.00,9,  -999.00,9,  -999.00,9,  -999.00,9,   -999.0,-999.0000, -999,9, 1002,   4.3336,  27.3954,   -999.0,9
       KS07-01,  142E,KS-1784,  1,      4,02-16010,2,20070209,1530, -2.0060, 142.0260, 3594,   1262.2,   3.9458,  34.5686,2,   -999.0,9,  34.5684,2,    100.0,2,    95.41,2,  -999.00,9,    38.74,2,     0.00,2,     2.76,2, -999.000,9, -999.000,9,  -999.00,9,   -999.0,9,   -999.0,9,-999.0000,9,   -999.0,  9,  -999.00,9,   -999.0,  -999.00,9,  -999.00,9,  -999.00,9,  -999.00,9,   -999.0,-999.0000, -999,9, 1251,   3.8482,  27.4586,   -999.0,9
       KS07-01,  142E,KS-1784,  1,      3,02-16009,2,20070209,1525, -2.0060, 142.0260, 3594,   1514.3,   3.1310,  34.5978,2,   -999.0,9,  34.5984,2,    107.0,2,   113.78,2,  -999.00,9,    38.64,2,     0.00,2,     2.75,2, -999.000,9, -999.000,9,  -999.00,9,   -999.0,9,   -999.0,9,-999.0000,9,   -999.0,  9,  -999.00,9,   -999.0,  -999.00,9,  -999.00,9,  -999.00,9,  -999.00,9,   -999.0,-999.0000, -999,9, 1500,   3.0204,  27.5622,   -999.0,9
       KS07-01,  142E,KS-1784,  1,      2,02-16008,2,20070209,1520, -2.0060, 142.0260, 3594,   1767.6,   2.5912,  34.6214,2,   -999.0,9,  34.6223,2,    114.0,2,   124.85,2,  -999.00,9,    38.34,2,     0.00,2,     2.72,2, -999.000,9, -999.000,9,  -999.00,9,   -999.0,9,   -999.0,9,-999.0000,9,   -999.0,  9,  -999.00,9,   -999.0,  -999.00,9,  -999.00,9,  -999.00,9,  -999.00,9,   -999.0,-999.0000, -999,9, 1750,   2.4659,  27.6301,   -999.0,9
       KS07-01,  142E,KS-1784,  1,      1,02-16007,2,20070209,1516, -2.0060, 142.0260, 3594,   2023.4,   2.1724,  34.6411,2,   -999.0,9,  34.6418,2,    122.0,2,   132.37,2,  -999.00,9,    38.05,2,     0.00,2,     2.69,2, -999.000,9, -999.000,9,  -999.00,9,   -999.0,9,   -999.0,9,-999.0000,9,   -999.0,  9,  -999.00,9,   -999.0,  -999.00,9,  -999.00,9,  -999.00,9,  -999.00,9,   -999.0,-999.0000, -999,9, 2003,   2.0313,  27.6816,   -999.0,9