BOTTLE,20130510GEMDJMAYT
EXPOCODE,SECT_ID,STNNBR,CASTNO,SAMPNO,BTLNBR,BTLNBR_FLAG_W,DATE,TIME,LATITUDE,LONGITUDE,DEPTH,CTDPRS,CTDTMP,CTDSAL,CTDSAL_FLAG_W,CTDOXY,CTDOXY_FLAG_W,SALNTY,SALNTY_FLAG_W,OXYGEN,OXYGEN_FLAG_W,SILCAT,SILCAT_FLAG_W,NITRAT,NITRAT_FLAG_W,NO2+NO3,NO2+NO3_FLAG_W,NITRIT,NITRIT_FLAG_W,PHSPHT,PHSPHT_FLAG_W,CFC-11,CFC-11_FLAG_W,CFC-12,CFC-12_FLAG_W,DELC13,DELC13_FLAG_W,TCARBN,TCARBN_FLAG_W,ALKALI,ALKALI_FLAG_W,PH,PH_FLAG_W,PH_TMP,PH_SCALE,PH_NBS,PH_NBS_FLAG_W,C13ERR,TOTALP,TOTALP_FLAG_W,AMMONI,AMMONI_FLAG_W,CHLORA,CHLORA_FLAG_W,PPHYTN,PPHYTN_FLAG_W,REVPRS,REVTMP,DEPTH_,DEPTH_FLAG,CTDDEP,THETA,SIGTHT,DOC,DOC_FLAG_W
,,,,,,,GMT,GMT,,,METER,DBAR,ITS-90,PSS-78,,UMOL/KG,,PSS-78,,UMOL/KG,,UMOL/KG,,UMOL/KG,,UMOL/KG,,UMOL/KG,,UMOL/KG,,PMOL/KG,,PMOL/KG,,/MILLE,,UMOL/KG,,UMOL/KG,,25_DEG_C,,DEG_C,,,,/MILLE,UMOL/KG,,UMOL/KG,,UG/L,,UG/L,,DBAR,ITS-90,METERS,,METERS,DEG_C,,UMOL/L,
       KS07-01,  NONE,KS-1814,  1,     -9,      -9,5,20070221,0034, 28.9892, 135.1110, 4821,      0.0,  20.4419,  34.7954,2,   -999.0,9,-999.0000,9,    228.0,2,     1.51,2,  -999.00,9,     0.00,2,     0.00,2,     0.01,2, -999.000,9, -999.000,9,  -999.00,9,   -999.0,9,   -999.0,9,-999.0000,9,   -999.0,  9,     8.17,2,   -999.0,  -999.00,9,  -999.00,9,     0.27,2,     0.16,2,   -999.0,-999.0000, -999,9,    0,  20.4417,  24.4886,   -999.0,9
       KS07-01,  NONE,KS-1814,  1,     21,02-16027,2,20070221,0045, 28.9892, 135.1110, 4821,     10.8,  20.4553,  34.7998,2,   -999.0,9,  34.7986,2,    226.0,2,     1.63,2,  -999.00,9,     0.00,2,     0.00,2,     0.01,2, -999.000,9, -999.000,9,  -999.00,9,   -999.0,9,   -999.0,9,-999.0000,9,   -999.0,  9,     8.18,2,   -999.0,  -999.00,9,  -999.00,9,     0.28,2,     0.17,2,   -999.0,-999.0000, -999,9,   11,  20.4533,  24.4888,   -999.0,9
       KS07-01,  NONE,KS-1814,  1,     20,02-16026,2,20070221,0044, 28.9892, 135.1110, 4821,     26.3,  20.4100,  34.7948,2,   -999.0,9,-999.0000,9,    226.0,2,     1.60,2,  -999.00,9,     0.00,2,     0.03,2,     0.01,2, -999.000,9, -999.000,9,  -999.00,9,   -999.0,9,   -999.0,9,-999.0000,9,   -999.0,  9,     8.17,2,   -999.0,  -999.00,9,  -999.00,9,     0.37,2,     0.20,2,   -999.0,-999.0000, -999,9,   26,  20.4051,  24.4979,   -999.0,9
       KS07-01,  NONE,KS-1814,  1,     19,02-19378,2,20070221,0042, 28.9892, 135.1110, 4821,     51.7,  19.9283,  34.7724,2,   -999.0,9,-999.0000,9,    227.0,2,     1.73,2,  -999.00,9,     0.29,2,     0.15,2,     0.03,2, -999.000,9, -999.000,9,  -999.00,9,   -999.0,9,   -999.0,9,-999.0000,9,   -999.0,  9,     8.17,2,   -999.0,  -999.00,9,  -999.00,9,     0.51,2,     0.29,2,   -999.0,-999.0000, -999,9,   51,  19.9188,  24.6095,   -999.0,9
       KS07-01,  NONE,KS-1814,  1,     18,02-19377,2,20070221,0041, 28.9892, 135.1110, 4821,     75.9,  19.7427,  34.7653,2,   -999.0,9,-999.0000,9,    227.0,2,     1.75,2,  -999.00,9,     0.59,2,     0.31,2,     0.05,2, -999.000,9, -999.000,9,  -999.00,9,   -999.0,9,   -999.0,9,-999.0000,9,   -999.0,  9,     8.16,2,   -999.0,  -999.00,9,  -999.00,9,     0.30,2,     0.17,2,   -999.0,-999.0000, -999,9,   75,  19.7288,  24.6538,   -999.0,9
       KS07-01,  NONE,KS-1814,  1,     17,02-16023,2,20070221,0039, 28.9892, 135.1110, 4821,    101.8,  19.7328,  34.7643,2,   -999.0,9,  34.7636,2,    226.0,2,     1.83,2,  -999.00,9,     0.68,2,     0.36,2,     0.05,2, -999.000,9, -999.000,9,  -999.00,9,   -999.0,9,   -999.0,9,-999.0000,9,   -999.0,  9,     8.16,2,   -999.0,  -999.00,9,  -999.00,9,     0.19,2,     0.11,2,   -999.0,-999.0000, -999,9,  101,  19.7142,  24.6569,   -999.0,9
       KS07-01,  NONE,KS-1814,  1,     16,02-16022,2,20070221,0038, 28.9892, 135.1110, 4821,    127.7,  19.7342,  34.7646,2,   -999.0,9,-999.0000,9,    226.0,2,     1.80,2,  -999.00,9,     0.68,2,     0.37,2,     0.06,2, -999.000,9, -999.000,9,  -999.00,9,   -999.0,9,   -999.0,9,-999.0000,9,   -999.0,  9,     8.16,2,   -999.0,  -999.00,9,  -999.00,9,     0.15,2,     0.10,2,   -999.0,-999.0000, -999,9,  127,  19.7109,  24.6579,   -999.0,9
       KS07-01,  NONE,KS-1814,  1,     15,02-16021,2,20070221,0037, 28.9892, 135.1110, 4821,    150.6,  19.7363,  34.7650,2,   -999.0,9,-999.0000,9,    225.0,2,     1.78,2,  -999.00,9,     0.68,2,     0.37,2,     0.06,2, -999.000,9, -999.000,9,  -999.00,9,   -999.0,9,   -999.0,9,-999.0000,9,   -999.0,  9,     8.16,2,   -999.0,  -999.00,9,  -999.00,9,     0.15,2,     0.08,2,   -999.0,-999.0000, -999,9,  150,  19.7088,  24.6588,   -999.0,9
       KS07-01,  NONE,KS-1814,  1,     14,02-16020,2,20070221,0036, 28.9892, 135.1110, 4821,    203.3,  19.3769,  34.8044,2,   -999.0,9,  34.8196,4,    206.0,2,     2.63,2,  -999.00,9,     2.54,2,     0.09,2,     0.17,2, -999.000,9, -999.000,9,  -999.00,9,   -999.0,9,   -999.0,9,-999.0000,9,   -999.0,  9,     8.12,2,   -999.0,  -999.00,9,  -999.00,9,     0.04,2,     0.03,2,   -999.0,-999.0000, -999,9,  202,  19.3402,  24.7845,   -999.0,9
       KS07-01,  NONE,KS-1814,  1,     13,02-16019,2,20070221,0034, 28.9892, 135.1110, 4821,    253.3,  18.2372,  34.8176,2,   -999.0,9,-999.0000,9,    203.0,2,     3.79,2,  -999.00,9,     4.10,2,     0.01,2,     0.26,2, -999.000,9, -999.000,9,  -999.00,9,   -999.0,9,   -999.0,9,-999.0000,9,   -999.0,  9,     8.09,2,   -999.0,  -999.00,9,  -999.00,9,     0.00,2,     0.01,2,   -999.0,-999.0000, -999,9,  251,  18.1933,  25.0846,   -999.0,9
       KS07-01,  NONE,KS-1814,  1,     12,02-16018,2,20070221,0032, 28.9892, 135.1110, 4821,    304.3,  17.4896,  34.7854,2,   -999.0,9,  34.7872,2,    202.0,2,     4.59,2,  -999.00,9,     5.27,2,     0.00,2,     0.33,2, -999.000,9, -999.000,9,  -999.00,9,   -999.0,9,   -999.0,9,-999.0000,9,   -999.0,  9,     8.08,2,   -999.0,  -999.00,9,  -999.00,9,     0.00,2,     0.01,2,   -999.0,-999.0000, -999,9,  302,  17.4383,  25.2446,   -999.0,9
       KS07-01,  NONE,KS-1814,  1,     11,02-19376,2,20070221,0030, 28.9892, 135.1110, 4821,    404.2,  15.7822,  34.6573,2,   -999.0,9,  34.6557,2,    191.0,2,     8.75,2,  -999.00,9,     8.78,2,     0.00,2,     0.58,2, -999.000,9, -999.000,9,  -999.00,9,   -999.0,9,   -999.0,9,-999.0000,9,   -999.0,  9,     8.02,2,   -999.0,  -999.00,9,  -999.00,9,  -999.00,9,  -999.00,9,   -999.0,-999.0000, -999,9,  401,  15.7186,  25.5478,   -999.0,9
       KS07-01,  NONE,KS-1814,  1,     10,02-19375,2,20070221,0028, 28.9892, 135.1110, 4821,    503.0,  13.3186,  34.4773,2,   -999.0,9,  34.4760,2,    181.0,2,    16.52,2,  -999.00,9,    13.65,2,     0.00,2,     0.92,2, -999.000,9, -999.000,9,  -999.00,9,   -999.0,9,   -999.0,9,-999.0000,9,   -999.0,  9,     7.94,2,   -999.0,  -999.00,9,  -999.00,9,  -999.00,9,  -999.00,9,   -999.0,-999.0000, -999,9,  499,  13.2479,  25.9380,   -999.0,9
       KS07-01,  NONE,KS-1814,  1,      9,02-16015,2,20070221,0025, 28.9892, 135.1110, 4821,    605.6,  10.7311,  34.3067,2,   -999.0,9,  34.3026,2,    167.0,2,    29.58,2,  -999.00,9,    19.29,2,     0.00,2,     1.35,2, -999.000,9, -999.000,9,  -999.00,9,   -999.0,9,   -999.0,9,-999.0000,9,   -999.0,  9,     7.85,2,   -999.0,  -999.00,9,  -999.00,9,  -999.00,9,  -999.00,9,   -999.0,-999.0000, -999,9,  601,  10.6568,  26.2968,   -999.0,9
       KS07-01,  NONE,KS-1814,  1,      8,02-16014,2,20070221,0023, 28.9892, 135.1110, 4821,    705.4,   7.9539,  34.1731,2,   -999.0,9,  34.1728,2,    143.0,2,    49.51,2,  -999.00,9,    26.49,2,     0.00,2,     1.88,2, -999.000,9, -999.000,9,  -999.00,9,   -999.0,9,   -999.0,9,-999.0000,9,   -999.0,  9,     7.73,2,   -999.0,  -999.00,9,  -999.00,9,  -999.00,9,  -999.00,9,   -999.0,-999.0000, -999,9,  699,   7.8813,  26.6420,   -999.0,9
       KS07-01,  NONE,KS-1814,  1,      7,02-19374,2,20070221,0021, 28.9892, 135.1110, 4821,    806.2,   6.1314,  34.1697,2,   -999.0,9,  34.1701,2,    107.0,2,    72.70,2,  -999.00,9,    32.72,2,     0.00,2,     2.35,2, -999.000,9, -999.000,9,  -999.00,9,   -999.0,9,   -999.0,9,-999.0000,9,   -999.0,  9,     7.62,2,   -999.0,  -999.00,9,  -999.00,9,  -999.00,9,  -999.00,9,   -999.0,-999.0000, -999,9,  799,   6.0589,  26.8891,   -999.0,9
       KS07-01,  NONE,KS-1814,  1,      6,02-19373,2,20070221,0018, 28.9892, 135.1110, 4821,    907.5,   5.0739,  34.2421,2,   -999.0,9,  34.2468,2,     80.0,2,    92.84,2,  -999.00,9,    36.80,2,     0.00,2,     2.64,2, -999.000,9, -999.000,9,  -999.00,9,   -999.0,9,   -999.0,9,-999.0000,9,   -999.0,  9,     7.55,2,   -999.0,  -999.00,9,  -999.00,9,  -999.00,9,  -999.00,9,   -999.0,-999.0000, -999,9,  899,   4.9988,  27.0745,   -999.0,9
       KS07-01,  NONE,KS-1814,  1,      5,02-16011,2,20070221,0016, 28.9892, 135.1110, 4821,   1008.7,   4.1850,  34.3319,2,   -999.0,9,  34.3320,2,     63.0,2,   110.43,2,  -999.00,9,    39.23,2,     0.00,2,     2.81,2, -999.000,9, -999.000,9,  -999.00,9,   -999.0,9,   -999.0,9,-999.0000,9,   -999.0,  9,     7.52,2,   -999.0,  -999.00,9,  -999.00,9,  -999.00,9,  -999.00,9,   -999.0,-999.0000, -999,9,  999,   4.1075,  27.2435,   -999.0,9
       KS07-01,  NONE,KS-1814,  1,      4,02-16010,2,20070221,0011, 28.9892, 135.1110, 4821,   1261.4,   3.0478,  34.4721,2,   -999.0,9,  34.4716,2,     72.0,2,   132.92,2,  -999.00,9,    40.20,2,     0.00,2,     2.86,2, -999.000,9, -999.000,9,  -999.00,9,   -999.0,9,   -999.0,9,-999.0000,9,   -999.0,  9,     7.54,2,   -999.0,  -999.00,9,  -999.00,9,  -999.00,9,  -999.00,9,   -999.0,-999.0000, -999,9, 1249,   2.9592,  27.4674,   -999.0,9
       KS07-01,  NONE,KS-1814,  1,      3,02-16009,2,20070221,0005, 28.9892, 135.1110, 4821,   1515.5,   2.5088,  34.5273,2,   -999.0,9,  34.5278,2,     78.0,2,   141.19,2,  -999.00,9,    40.48,2,     0.00,2,     2.87,2, -999.000,9, -999.000,9,  -999.00,9,   -999.0,9,   -999.0,9,-999.0000,9,   -999.0,  9,     7.55,2,   -999.0,  -999.00,9,  -999.00,9,  -999.00,9,  -999.00,9,   -999.0,-999.0000, -999,9, 1500,   2.4055,  27.5599,   -999.0,9
       KS07-01,  NONE,KS-1814,  1,      2,02-16008,2,20070221,0000, 28.9892, 135.1110, 4821,   1769.4,   2.1946,  34.5776,2,   -999.0,9,  34.5772,2,     98.0,2,   142.96,2,  -999.00,9,    39.22,2,     0.00,2,     2.77,2, -999.000,9, -999.000,9,  -999.00,9,   -999.0,9,   -999.0,9,-999.0000,9,   -999.0,  9,     7.59,2,   -999.0,  -999.00,9,  -999.00,9,  -999.00,9,  -999.00,9,   -999.0,-999.0000, -999,9, 1750,   2.0746,  27.6273,   -999.0,9
       KS07-01,  NONE,KS-1814,  1,      1,02-16007,2,20070220,2354, 28.9892, 135.1110, 4821,   2023.5,   1.9672,  34.6108,2,   -999.0,9,  34.6110,2,    115.0,2,   141.76,2,  -999.00,9,    38.44,2,     0.00,2,     2.71,2, -999.000,9, -999.000,9,  -999.00,9,   -999.0,9,   -999.0,9,-999.0000,9,   -999.0,  9,     7.62,2,   -999.0,  -999.00,9,  -999.00,9,  -999.00,9,  -999.00,9,   -999.0,-999.0000, -999,9, 2000,   1.8294,  27.6732,   -999.0,9