BOTTLE,20130510GEMDJMAYT
EXPOCODE,SECT_ID,STNNBR,CASTNO,SAMPNO,BTLNBR,BTLNBR_FLAG_W,DATE,TIME,LATITUDE,LONGITUDE,DEPTH,CTDPRS,CTDTMP,CTDSAL,CTDSAL_FLAG_W,CTDOXY,CTDOXY_FLAG_W,SALNTY,SALNTY_FLAG_W,OXYGEN,OXYGEN_FLAG_W,SILCAT,SILCAT_FLAG_W,NITRAT,NITRAT_FLAG_W,NO2+NO3,NO2+NO3_FLAG_W,NITRIT,NITRIT_FLAG_W,PHSPHT,PHSPHT_FLAG_W,CFC-11,CFC-11_FLAG_W,CFC-12,CFC-12_FLAG_W,DELC13,DELC13_FLAG_W,TCARBN,TCARBN_FLAG_W,ALKALI,ALKALI_FLAG_W,PH,PH_FLAG_W,PH_TMP,PH_SCALE,PH_NBS,PH_NBS_FLAG_W,C13ERR,TOTALP,TOTALP_FLAG_W,AMMONI,AMMONI_FLAG_W,CHLORA,CHLORA_FLAG_W,PPHYTN,PPHYTN_FLAG_W,REVPRS,REVTMP,DEPTH_,DEPTH_FLAG,CTDDEP,THETA,SIGTHT,DOC,DOC_FLAG_W
,,,,,,,GMT,GMT,,,METER,DBAR,ITS-90,PSS-78,,UMOL/KG,,PSS-78,,UMOL/KG,,UMOL/KG,,UMOL/KG,,UMOL/KG,,UMOL/KG,,UMOL/KG,,PMOL/KG,,PMOL/KG,,/MILLE,,UMOL/KG,,UMOL/KG,,25_DEG_C,,DEG_C,,,,/MILLE,UMOL/KG,,UMOL/KG,,UG/L,,UG/L,,DBAR,ITS-90,METERS,,METERS,DEG_C,,UMOL/L,
       KS07-01,  NONE,KS-1804,  1,     24,02-16030,2,20070217,0801, 14.9967, 143.9867, 4074,     10.6,  27.7074,  34.4255,2,   -999.0,9,  34.4353,4,   -999.0,9,  -999.00,9,  -999.00,9,  -999.00,9,  -999.00,9,  -999.00,9, -999.000,9, -999.000,9,  -999.00,9,   -999.0,9,   -999.0,9,-999.0000,9,   -999.0,  9,  -999.00,9,   -999.0,  -999.00,9,  -999.00,9,  -999.00,9,  -999.00,9,   -999.0,-999.0000, -999,9,   11,  27.7049,  22.0586,   -999.0,9
       KS07-01,  NONE,KS-1804,  1,     23,02-19380,2,20070217,0756, 14.9967, 143.9867, 4074,    100.6,  27.4406,  34.6189,2,   -999.0,9,  34.6462,4,   -999.0,9,  -999.00,9,  -999.00,9,  -999.00,9,  -999.00,9,  -999.00,9, -999.000,9, -999.000,9,  -999.00,9,   -999.0,9,   -999.0,9,-999.0000,9,   -999.0,  9,  -999.00,9,   -999.0,  -999.00,9,  -999.00,9,  -999.00,9,  -999.00,9,   -999.0,-999.0000, -999,9,  100,  27.4173,  22.2970,   -999.0,9
       KS07-01,  NONE,KS-1804,  1,     22,02-10977,2,20070217,0753, 14.9967, 143.9867, 4074,    202.0,  21.4096,  35.0175,2,   -999.0,9,  35.0277,4,   -999.0,9,  -999.00,9,  -999.00,9,  -999.00,9,  -999.00,9,  -999.00,9, -999.000,9, -999.000,9,  -999.00,9,   -999.0,9,   -999.0,9,-999.0000,9,   -999.0,  9,  -999.00,9,   -999.0,  -999.00,9,  -999.00,9,  -999.00,9,  -999.00,9,   -999.0,-999.0000, -999,9,  201,  21.3704,  24.4060,   -999.0,9
       KS07-01,  NONE,KS-1804,  1,     21,02-16027,2,20070217,0751, 14.9967, 143.9867, 4074,    301.0,  16.6737,  34.7198,2,   -999.0,9,  34.7188,2,   -999.0,9,  -999.00,9,  -999.00,9,  -999.00,9,  -999.00,9,  -999.00,9, -999.000,9, -999.000,9,  -999.00,9,   -999.0,9,   -999.0,9,-999.0000,9,   -999.0,  9,  -999.00,9,   -999.0,  -999.00,9,  -999.00,9,  -999.00,9,  -999.00,9,   -999.0,-999.0000, -999,9,  299,  16.6247,  25.3876,   -999.0,9
       KS07-01,  NONE,KS-1804,  1,     20,02-16026,2,20070217,0748, 14.9967, 143.9867, 4074,    401.6,  10.8353,  34.2986,2,   -999.0,9,  34.2989,2,   -999.0,9,  -999.00,9,  -999.00,9,  -999.00,9,  -999.00,9,  -999.00,9, -999.000,9, -999.000,9,  -999.00,9,   -999.0,9,   -999.0,9,-999.0000,9,   -999.0,  9,  -999.00,9,   -999.0,  -999.00,9,  -999.00,9,  -999.00,9,  -999.00,9,   -999.0,-999.0000, -999,9,  399,  10.7862,  26.2675,   -999.0,9
       KS07-01,  NONE,KS-1804,  1,     19,02-19378,2,20070217,0745, 14.9967, 143.9867, 4074,    503.8,   7.5441,  34.2758,2,   -999.0,9,  34.2746,2,   -999.0,9,  -999.00,9,  -999.00,9,  -999.00,9,  -999.00,9,  -999.00,9, -999.000,9, -999.000,9,  -999.00,9,   -999.0,9,   -999.0,9,-999.0000,9,   -999.0,  9,  -999.00,9,   -999.0,  -999.00,9,  -999.00,9,  -999.00,9,  -999.00,9,   -999.0,-999.0000, -999,9,  500,   7.4944,  26.7789,   -999.0,9
       KS07-01,  NONE,KS-1804,  1,     18,02-19377,2,20070217,0743, 14.9967, 143.9867, 4074,    604.3,   6.4533,  34.4057,2,   -999.0,9,  34.4067,2,   -999.0,9,  -999.00,9,  -999.00,9,  -999.00,9,  -999.00,9,  -999.00,9, -999.000,9, -999.000,9,  -999.00,9,   -999.0,9,   -999.0,9,-999.0000,9,   -999.0,  9,  -999.00,9,   -999.0,  -999.00,9,  -999.00,9,  -999.00,9,  -999.00,9,   -999.0,-999.0000, -999,9,  600,   6.3981,  27.0316,   -999.0,9
       KS07-01,  NONE,KS-1804,  1,     17,02-16023,2,20070217,0740, 14.9967, 143.9867, 4074,    704.6,   5.5874,  34.4585,2,   -999.0,9,  34.4575,2,   -999.0,9,  -999.00,9,  -999.00,9,  -999.00,9,  -999.00,9,  -999.00,9, -999.000,9, -999.000,9,  -999.00,9,   -999.0,9,   -999.0,9,-999.0000,9,   -999.0,  9,  -999.00,9,   -999.0,  -999.00,9,  -999.00,9,  -999.00,9,  -999.00,9,   -999.0,-999.0000, -999,9,  699,   5.5271,  27.1835,   -999.0,9
       KS07-01,  NONE,KS-1804,  1,     16,02-16022,2,20070217,0738, 14.9967, 143.9867, 4074,    807.1,   5.1730,  34.4892,2,   -999.0,9,  34.4882,2,   -999.0,9,  -999.00,9,  -999.00,9,  -999.00,9,  -999.00,9,  -999.00,9, -999.000,9, -999.000,9,  -999.00,9,   -999.0,9,   -999.0,9,-999.0000,9,   -999.0,  9,  -999.00,9,   -999.0,  -999.00,9,  -999.00,9,  -999.00,9,  -999.00,9,   -999.0,-999.0000, -999,9,  801,   5.1058,  27.2580,   -999.0,9
       KS07-01,  NONE,KS-1804,  1,      6,02-19373,2,20070217,0732, 14.9967, 143.9867, 4074,    907.6,   4.8776,  34.5056,2,   -999.0,9,  34.5039,2,   -999.0,9,  -999.00,9,  -999.00,9,  -999.00,9,  -999.00,9,  -999.00,9, -999.000,9, -999.000,9,  -999.00,9,   -999.0,9,   -999.0,9,-999.0000,9,   -999.0,  9,  -999.00,9,   -999.0,  -999.00,9,  -999.00,9,  -999.00,9,  -999.00,9,   -999.0,-999.0000, -999,9,  900,   4.8034,  27.3058,   -999.0,9
       KS07-01,  NONE,KS-1804,  1,      8,02-16014,2,20070217,0733, 14.9967, 143.9867, 4074,    908.0,   4.8773,  34.5057,2,   -999.0,9,-999.0000,9,   -999.0,9,  -999.00,9,  -999.00,9,  -999.00,9,  -999.00,9,  -999.00,9, -999.000,9, -999.000,9,  -999.00,9,   -999.0,9,   -999.0,9,-999.0000,9,   -999.0,  9,  -999.00,9,   -999.0,  -999.00,9,  -999.00,9,  -999.00,9,  -999.00,9,   -999.0,-999.0000, -999,9,  901,   4.8031,  27.3058,   -999.0,9
       KS07-01,  NONE,KS-1804,  1,      7,02-19374,2,20070217,0733, 14.9967, 143.9867, 4074,    908.1,   4.8777,  34.5057,2,   -999.0,9,-999.0000,9,   -999.0,9,  -999.00,9,  -999.00,9,  -999.00,9,  -999.00,9,  -999.00,9, -999.000,9, -999.000,9,  -999.00,9,   -999.0,9,   -999.0,9,-999.0000,9,   -999.0,  9,  -999.00,9,   -999.0,  -999.00,9,  -999.00,9,  -999.00,9,  -999.00,9,   -999.0,-999.0000, -999,9,  901,   4.8035,  27.3059,   -999.0,9
       KS07-01,  NONE,KS-1804,  1,      9,02-16015,2,20070217,0733, 14.9967, 143.9867, 4074,    908.5,   4.8779,  34.5058,2,   -999.0,9,-999.0000,9,   -999.0,9,  -999.00,9,  -999.00,9,  -999.00,9,  -999.00,9,  -999.00,9, -999.000,9, -999.000,9,  -999.00,9,   -999.0,9,   -999.0,9,-999.0000,9,   -999.0,  9,  -999.00,9,   -999.0,  -999.00,9,  -999.00,9,  -999.00,9,  -999.00,9,   -999.0,-999.0000, -999,9,  901,   4.8037,  27.3059,   -999.0,9
       KS07-01,  NONE,KS-1804,  1,     10,02-19375,2,20070217,0734, 14.9967, 143.9867, 4074,    909.0,   4.8777,  34.5057,2,   -999.0,9,-999.0000,9,   -999.0,9,  -999.00,9,  -999.00,9,  -999.00,9,  -999.00,9,  -999.00,9, -999.000,9, -999.000,9,  -999.00,9,   -999.0,9,   -999.0,9,-999.0000,9,   -999.0,  9,  -999.00,9,   -999.0,  -999.00,9,  -999.00,9,  -999.00,9,  -999.00,9,   -999.0,-999.0000, -999,9,  902,   4.8034,  27.3059,   -999.0,9
       KS07-01,  NONE,KS-1804,  1,     11,02-19376,2,20070217,0734, 14.9967, 143.9867, 4074,    909.1,   4.8772,  34.5057,2,   -999.0,9,-999.0000,9,   -999.0,9,  -999.00,9,  -999.00,9,  -999.00,9,  -999.00,9,  -999.00,9, -999.000,9, -999.000,9,  -999.00,9,   -999.0,9,   -999.0,9,-999.0000,9,   -999.0,  9,  -999.00,9,   -999.0,  -999.00,9,  -999.00,9,  -999.00,9,  -999.00,9,   -999.0,-999.0000, -999,9,  902,   4.8029,  27.3059,   -999.0,9
       KS07-01,  NONE,KS-1804,  1,     12,02-16018,2,20070217,0734, 14.9967, 143.9867, 4074,    909.3,   4.8765,  34.5055,2,   -999.0,9,-999.0000,9,   -999.0,9,  -999.00,9,  -999.00,9,  -999.00,9,  -999.00,9,  -999.00,9, -999.000,9, -999.000,9,  -999.00,9,   -999.0,9,   -999.0,9,-999.0000,9,   -999.0,  9,  -999.00,9,   -999.0,  -999.00,9,  -999.00,9,  -999.00,9,  -999.00,9,   -999.0,-999.0000, -999,9,  902,   4.8022,  27.3059,   -999.0,9
       KS07-01,  NONE,KS-1804,  1,     14,02-16020,2,20070217,0735, 14.9967, 143.9867, 4074,    910.1,   4.8761,  34.5056,2,   -999.0,9,-999.0000,9,   -999.0,9,  -999.00,9,  -999.00,9,  -999.00,9,  -999.00,9,  -999.00,9, -999.000,9, -999.000,9,  -999.00,9,   -999.0,9,   -999.0,9,-999.0000,9,   -999.0,  9,  -999.00,9,   -999.0,  -999.00,9,  -999.00,9,  -999.00,9,  -999.00,9,   -999.0,-999.0000, -999,9,  903,   4.8017,  27.3059,   -999.0,9
       KS07-01,  NONE,KS-1804,  1,     13,02-16019,2,20070217,0735, 14.9967, 143.9867, 4074,    910.2,   4.8764,  34.5057,2,   -999.0,9,-999.0000,9,   -999.0,9,  -999.00,9,  -999.00,9,  -999.00,9,  -999.00,9,  -999.00,9, -999.000,9, -999.000,9,  -999.00,9,   -999.0,9,   -999.0,9,-999.0000,9,   -999.0,  9,  -999.00,9,   -999.0,  -999.00,9,  -999.00,9,  -999.00,9,  -999.00,9,   -999.0,-999.0000, -999,9,  903,   4.8020,  27.3060,   -999.0,9
       KS07-01,  NONE,KS-1804,  1,     15,02-16021,2,20070217,0735, 14.9967, 143.9867, 4074,    910.5,   4.8755,  34.5056,2,   -999.0,9,-999.0000,9,   -999.0,9,  -999.00,9,  -999.00,9,  -999.00,9,  -999.00,9,  -999.00,9, -999.000,9, -999.000,9,  -999.00,9,   -999.0,9,   -999.0,9,-999.0000,9,   -999.0,  9,  -999.00,9,   -999.0,  -999.00,9,  -999.00,9,  -999.00,9,  -999.00,9,   -999.0,-999.0000, -999,9,  903,   4.8011,  27.3060,   -999.0,9
       KS07-01,  NONE,KS-1804,  1,      5,02-16011,2,20070217,0730, 14.9967, 143.9867, 4074,   1009.5,   4.5326,  34.5226,2,   -999.0,9,  34.5209,2,   -999.0,9,  -999.00,9,  -999.00,9,  -999.00,9,  -999.00,9,  -999.00,9, -999.000,9, -999.000,9,  -999.00,9,   -999.0,9,   -999.0,9,-999.0000,9,   -999.0,  9,  -999.00,9,   -999.0,  -999.00,9,  -999.00,9,  -999.00,9,  -999.00,9,   -999.0,-999.0000, -999,9, 1001,   4.4520,  27.3583,   -999.0,9
       KS07-01,  NONE,KS-1804,  1,      4,02-16010,2,20070217,0724, 14.9967, 143.9867, 4074,   1261.3,   3.7027,  34.5567,2,   -999.0,9,  34.5541,2,   -999.0,9,  -999.00,9,  -999.00,9,  -999.00,9,  -999.00,9,  -999.00,9, -999.000,9, -999.000,9,  -999.00,9,   -999.0,9,   -999.0,9,-999.0000,9,   -999.0,  9,  -999.00,9,   -999.0,  -999.00,9,  -999.00,9,  -999.00,9,  -999.00,9,   -999.0,-999.0000, -999,9, 1250,   3.6076,  27.4733,   -999.0,9
       KS07-01,  NONE,KS-1804,  1,      3,02-16009,2,20070217,0719, 14.9967, 143.9867, 4074,   1515.6,   3.0230,  34.5826,2,   -999.0,9,  34.5807,2,   -999.0,9,  -999.00,9,  -999.00,9,  -999.00,9,  -999.00,9,  -999.00,9, -999.000,9, -999.000,9,  -999.00,9,   -999.0,9,   -999.0,9,-999.0000,9,   -999.0,  9,  -999.00,9,   -999.0,  -999.00,9,  -999.00,9,  -999.00,9,  -999.00,9,   -999.0,-999.0000, -999,9, 1501,   2.9136,  27.5597,   -999.0,9
       KS07-01,  NONE,KS-1804,  1,      2,02-16008,2,20070217,0713, 14.9967, 143.9867, 4074,   1768.3,   2.4910,  34.6066,2,   -999.0,9,  34.6044,2,   -999.0,9,  -999.00,9,  -999.00,9,  -999.00,9,  -999.00,9,  -999.00,9, -999.000,9, -999.000,9,  -999.00,9,   -999.0,9,   -999.0,9,-999.0000,9,   -999.0,  9,  -999.00,9,   -999.0,  -999.00,9,  -999.00,9,  -999.00,9,  -999.00,9,   -999.0,-999.0000, -999,9, 1751,   2.3670,  27.6266,   -999.0,9
       KS07-01,  NONE,KS-1804,  1,      1,02-16007,2,20070217,0707, 14.9967, 143.9867, 4074,   2032.5,   2.0853,  34.6324,2,   -999.0,9,  34.6306,2,   -999.0,9,  -999.00,9,  -999.00,9,  -999.00,9,  -999.00,9,  -999.00,9, -999.000,9, -999.000,9,  -999.00,9,   -999.0,9,   -999.0,9,-999.0000,9,   -999.0,  9,  -999.00,9,   -999.0,  -999.00,9,  -999.00,9,  -999.00,9,  -999.00,9,   -999.0,-999.0000, -999,9, 2011,   1.9448,  27.6815,   -999.0,9