BOTTLE,20130510GEMDJMAYT
EXPOCODE,SECT_ID,STNNBR,CASTNO,SAMPNO,BTLNBR,BTLNBR_FLAG_W,DATE,TIME,LATITUDE,LONGITUDE,DEPTH,CTDPRS,CTDTMP,CTDSAL,CTDSAL_FLAG_W,CTDOXY,CTDOXY_FLAG_W,SALNTY,SALNTY_FLAG_W,OXYGEN,OXYGEN_FLAG_W,SILCAT,SILCAT_FLAG_W,NITRAT,NITRAT_FLAG_W,NO2+NO3,NO2+NO3_FLAG_W,NITRIT,NITRIT_FLAG_W,PHSPHT,PHSPHT_FLAG_W,CFC-11,CFC-11_FLAG_W,CFC-12,CFC-12_FLAG_W,DELC13,DELC13_FLAG_W,TCARBN,TCARBN_FLAG_W,ALKALI,ALKALI_FLAG_W,PH,PH_FLAG_W,PH_TMP,PH_SCALE,PH_NBS,PH_NBS_FLAG_W,C13ERR,TOTALP,TOTALP_FLAG_W,AMMONI,AMMONI_FLAG_W,CHLORA,CHLORA_FLAG_W,PPHYTN,PPHYTN_FLAG_W,REVPRS,REVTMP,DEPTH_,DEPTH_FLAG,CTDDEP,THETA,SIGTHT,DOC,DOC_FLAG_W
,,,,,,,GMT,GMT,,,METER,DBAR,ITS-90,PSS-78,,UMOL/KG,,PSS-78,,UMOL/KG,,UMOL/KG,,UMOL/KG,,UMOL/KG,,UMOL/KG,,UMOL/KG,,PMOL/KG,,PMOL/KG,,/MILLE,,UMOL/KG,,UMOL/KG,,25_DEG_C,,DEG_C,,,,/MILLE,UMOL/KG,,UMOL/KG,,UG/L,,UG/L,,DBAR,ITS-90,METERS,,METERS,DEG_C,,UMOL/L,
       KS07-01,  137E,KS-1743,  1,     -9,      -9,5,20070118,2241, 31.9833, 137.0225, 4180,      0.0,  20.7718,  34.6766,2,   -999.0,9,-999.0000,9,    224.0,2,     1.92,2,  -999.00,9,     0.49,2,     0.21,2,     0.04,2, -999.000,9, -999.000,9,  -999.00,9,   -999.0,9,   -999.0,9,   8.0684,6,     25.0, TS,  -999.00,9,   -999.0,  -999.00,9,  -999.00,9,     0.25,2,     0.16,2,   -999.0,-999.0000, -999,9,    0,  20.7716,  24.3095,   -999.0,9
       KS07-01,  137E,KS-1743,  1,     21,02-16027,2,20070118,2251, 31.9833, 137.0225, 4180,     10.6,  20.7792,  34.7418,2,   -999.0,9,  34.7417,2,    220.0,2,     1.92,2,  -999.00,9,     0.39,2,     0.21,2,     0.05,2, -999.000,9, -999.000,9,  -999.00,9,   -999.0,9,   -999.0,9,-999.0000,9,   -999.0,  9,  -999.00,9,   -999.0,  -999.00,9,  -999.00,9,     0.26,2,     0.14,2,   -999.0,-999.0000, -999,9,   11,  20.7772,  24.3577,   -999.0,9
       KS07-01,  137E,KS-1743,  1,     20,02-16026,2,20070118,2250, 31.9833, 137.0225, 4180,     26.6,  20.7935,  34.7414,2,   -999.0,9,-999.0000,9,    221.0,2,     1.81,2,  -999.00,9,     0.39,2,     0.21,2,     0.04,2, -999.000,9, -999.000,9,  -999.00,9,   -999.0,9,   -999.0,9,-999.0000,9,   -999.0,  9,  -999.00,9,   -999.0,  -999.00,9,  -999.00,9,     0.23,2,     0.18,2,   -999.0,-999.0000, -999,9,   26,  20.7885,  24.3543,   -999.0,9
       KS07-01,  137E,KS-1743,  1,     19,02-19378,2,20070118,2246, 31.9833, 137.0225, 4180,     50.1,  20.7816,  34.7414,2,   -999.0,9,-999.0000,9,    220.0,2,     1.86,2,  -999.00,9,     0.39,2,     0.22,2,     0.04,2, -999.000,9, -999.000,9,  -999.00,9,   -999.0,9,   -999.0,9,-999.0000,9,   -999.0,  9,  -999.00,9,   -999.0,  -999.00,9,  -999.00,9,     0.22,2,     0.18,2,   -999.0,-999.0000, -999,9,   50,  20.7721,  24.3587,   -999.0,9
       KS07-01,  137E,KS-1743,  1,     18,02-19377,2,20070118,2245, 31.9833, 137.0225, 4180,     73.5,  20.7562,  34.7409,2,   -999.0,9,-999.0000,9,    221.0,2,     1.85,2,  -999.00,9,     0.39,2,     0.22,2,     0.04,2, -999.000,9, -999.000,9,  -999.00,9,   -999.0,9,   -999.0,9,-999.0000,9,   -999.0,  9,  -999.00,9,   -999.0,  -999.00,9,  -999.00,9,     0.20,2,     0.16,2,   -999.0,-999.0000, -999,9,   73,  20.7423,  24.3664,   -999.0,9
       KS07-01,  137E,KS-1743,  1,     17,02-16023,2,20070118,2244, 31.9833, 137.0225, 4180,    101.4,  20.6419,  34.7366,2,   -999.0,9,  34.7370,2,    220.0,2,     1.85,2,  -999.00,9,     0.49,2,     0.25,2,     0.05,2, -999.000,9, -999.000,9,  -999.00,9,   -999.0,9,   -999.0,9,-999.0000,9,   -999.0,  9,  -999.00,9,   -999.0,  -999.00,9,  -999.00,9,     0.16,2,     0.13,2,   -999.0,-999.0000, -999,9,  101,  20.6228,  24.3953,   -999.0,9
       KS07-01,  137E,KS-1743,  1,     16,02-16022,2,20070118,2243, 31.9833, 137.0225, 4180,    125.6,  20.3693,  34.7387,2,   -999.0,9,-999.0000,9,    218.0,2,     1.95,2,  -999.00,9,     0.68,2,     0.20,2,     0.06,2, -999.000,9, -999.000,9,  -999.00,9,   -999.0,9,   -999.0,9,-999.0000,9,   -999.0,  9,  -999.00,9,   -999.0,  -999.00,9,  -999.00,9,     0.08,2,     0.08,2,   -999.0,-999.0000, -999,9,  125,  20.3458,  24.4709,   -999.0,9
       KS07-01,  137E,KS-1743,  1,     15,02-16021,2,20070118,2242, 31.9833, 137.0225, 4180,    151.9,  20.1163,  34.8007,2,   -999.0,9,-999.0000,9,    209.0,2,     2.32,2,  -999.00,9,     1.46,2,     0.09,2,     0.11,2, -999.000,9, -999.000,9,  -999.00,9,   -999.0,9,   -999.0,9,-999.0000,9,   -999.0,  9,  -999.00,9,   -999.0,  -999.00,9,  -999.00,9,     0.04,2,     0.05,2,   -999.0,-999.0000, -999,9,  151,  20.0881,  24.5865,   -999.0,9
       KS07-01,  137E,KS-1743,  1,     14,02-16020,2,20070118,2241, 31.9833, 137.0225, 4180,    202.6,  18.9811,  34.8441,2,   -999.0,9,  34.8450,2,    203.0,2,     3.19,2,  -999.00,9,     3.12,2,     0.01,2,     0.20,2, -999.000,9, -999.000,9,  -999.00,9,   -999.0,9,   -999.0,9,-999.0000,9,   -999.0,  9,  -999.00,9,   -999.0,  -999.00,9,  -999.00,9,     0.00,2,     0.02,2,   -999.0,-999.0000, -999,9,  201,  18.9450,  24.9160,   -999.0,9
       KS07-01,  137E,KS-1743,  1,     13,02-16019,2,20070118,2239, 31.9833, 137.0225, 4180,    253.4,  18.3480,  34.8352,2,   -999.0,9,-999.0000,9,    205.0,2,     3.39,2,  -999.00,9,     3.61,2,     0.01,2,     0.22,2, -999.000,9, -999.000,9,  -999.00,9,   -999.0,9,   -999.0,9,-999.0000,9,   -999.0,  9,  -999.00,9,   -999.0,  -999.00,9,  -999.00,9,     0.00,2,     0.01,2,   -999.0,-999.0000, -999,9,  251,  18.3039,  25.0706,   -999.0,9
       KS07-01,  137E,KS-1743,  1,     12,02-16018,2,20070118,2237, 31.9833, 137.0225, 4180,    303.5,  17.7013,  34.8061,2,   -999.0,9,  34.8071,2,    203.0,2,     4.15,2,  -999.00,9,     4.68,2,     0.00,2,     0.29,2, -999.000,9, -999.000,9,  -999.00,9,   -999.0,9,   -999.0,9,-999.0000,9,   -999.0,  9,  -999.00,9,   -999.0,  -999.00,9,  -999.00,9,     0.00,2,     0.01,2,   -999.0,-999.0000, -999,9,  301,  17.6497,  25.2093,   -999.0,9
       KS07-01,  137E,KS-1743,  1,     11,02-19376,2,20070118,2235, 31.9833, 137.0225, 4180,    403.9,  16.1603,  34.6870,2,   -999.0,9,  34.6878,2,    192.0,2,     7.98,2,  -999.00,9,     8.09,2,     0.00,2,     0.52,2, -999.000,9, -999.000,9,  -999.00,9,   -999.0,9,   -999.0,9,-999.0000,9,   -999.0,  9,  -999.00,9,   -999.0,  -999.00,9,  -999.00,9,  -999.00,9,  -999.00,9,   -999.0,-999.0000, -999,9,  401,  16.0957,  25.4849,   -999.0,9
       KS07-01,  137E,KS-1743,  1,     10,02-19375,2,20070118,2232, 31.9833, 137.0225, 4180,    505.3,  13.8579,  34.5168,2,   -999.0,9,  34.5170,2,    181.0,2,    15.19,2,  -999.00,9,    12.77,2,     0.00,2,     0.85,2, -999.000,9, -999.000,9,  -999.00,9,   -999.0,9,   -999.0,9,-999.0000,9,   -999.0,  9,  -999.00,9,   -999.0,  -999.00,9,  -999.00,9,  -999.00,9,  -999.00,9,   -999.0,-999.0000, -999,9,  501,  13.7849,  25.8585,   -999.0,9
       KS07-01,  137E,KS-1743,  1,      9,02-16015,2,20070118,2229, 31.9833, 137.0225, 4180,    606.8,  11.2004,  34.3287,2,   -999.0,9,  34.3309,2,    174.0,2,    25.69,2,  -999.00,9,    17.83,2,     0.00,2,     1.23,2, -999.000,9, -999.000,9,  -999.00,9,   -999.0,9,   -999.0,9,-999.0000,9,   -999.0,  9,  -999.00,9,   -999.0,  -999.00,9,  -999.00,9,  -999.00,9,  -999.00,9,   -999.0,-999.0000, -999,9,  602,  11.1239,  26.2304,   -999.0,9
       KS07-01,  137E,KS-1743,  1,      8,02-16014,2,20070118,2226, 31.9833, 137.0225, 4180,    706.5,   8.6907,  34.1870,2,   -999.0,9,  34.1888,2,    154.0,2,    42.16,2,  -999.00,9,    24.06,2,     0.00,2,     1.70,2, -999.000,9, -999.000,9,  -999.00,9,   -999.0,9,   -999.0,9,-999.0000,9,   -999.0,  9,  -999.00,9,   -999.0,  -999.00,9,  -999.00,9,  -999.00,9,  -999.00,9,   -999.0,-999.0000, -999,9,  700,   8.6141,  26.5421,   -999.0,9
       KS07-01,  137E,KS-1743,  1,      7,02-19374,2,20070118,2223, 31.9833, 137.0225, 4180,    809.3,   6.7030,  34.1440,2,   -999.0,9,  34.1444,2,    122.0,2,    63.46,2,  -999.00,9,    30.19,2,     0.00,2,     2.19,2, -999.000,9, -999.000,9,  -999.00,9,   -999.0,9,   -999.0,9,-999.0000,9,   -999.0,  9,  -999.00,9,   -999.0,  -999.00,9,  -999.00,9,  -999.00,9,  -999.00,9,   -999.0,-999.0000, -999,9,  802,   6.6267,  26.7950,   -999.0,9
       KS07-01,  137E,KS-1743,  1,      6,02-19373,2,20070118,2220, 31.9833, 137.0225, 4180,    906.6,   5.6535,  34.2161,2,   -999.0,9,  34.2157,2,     89.0,2,    82.10,2,  -999.00,9,    34.57,2,     0.00,2,     2.53,2, -999.000,9, -999.000,9,  -999.00,9,   -999.0,9,   -999.0,9,-999.0000,9,   -999.0,  9,  -999.00,9,   -999.0,  -999.00,9,  -999.00,9,  -999.00,9,  -999.00,9,   -999.0,-999.0000, -999,9,  898,   5.5745,  26.9859,   -999.0,9
       KS07-01,  137E,KS-1743,  1,      5,02-16011,2,20070118,2217, 31.9833, 137.0225, 4180,   1009.8,   4.6907,  34.2899,2,   -999.0,9,  34.2907,2,     71.0,2,    99.94,2,  -999.00,9,    38.26,2,     0.00,2,     2.76,2, -999.000,9, -999.000,9,  -999.00,9,   -999.0,9,   -999.0,9,-999.0000,9,   -999.0,  9,  -999.00,9,   -999.0,  -999.00,9,  -999.00,9,  -999.00,9,  -999.00,9,   -999.0,-999.0000, -999,9, 1000,   4.6092,  27.1563,   -999.0,9
       KS07-01,  137E,KS-1743,  1,      4,02-16010,2,20070118,2212, 31.9833, 137.0225, 4180,   1262.0,   3.4730,  34.4209,2,   -999.0,9,  34.4224,2,     65.0,2,   124.27,2,  -999.00,9,    40.49,2,     0.00,2,     2.91,2, -999.000,9, -999.000,9,  -999.00,9,   -999.0,9,   -999.0,9,-999.0000,9,   -999.0,  9,  -999.00,9,   -999.0,  -999.00,9,  -999.00,9,  -999.00,9,  -999.00,9,   -999.0,-999.0000, -999,9, 1249,   3.3803,  27.3873,   -999.0,9
       KS07-01,  137E,KS-1743,  1,      3,02-16009,2,20070118,2206, 31.9833, 137.0225, 4180,   1514.6,   2.7760,  34.5049,2,   -999.0,9,  34.5049,2,     77.0,2,   135.93,2,  -999.00,9,    40.19,2,     0.00,2,     2.89,2, -999.000,9, -999.000,9,  -999.00,9,   -999.0,9,   -999.0,9,-999.0000,9,   -999.0,  9,  -999.00,9,   -999.0,  -999.00,9,  -999.00,9,  -999.00,9,  -999.00,9,   -999.0,-999.0000, -999,9, 1499,   2.6697,  27.5194,   -999.0,9
       KS07-01,  137E,KS-1743,  1,      2,02-16008,2,20070118,2201, 31.9833, 137.0225, 4180,   1768.0,   2.3525,  34.5571,2,   -999.0,9,  34.5577,2,     91.0,2,   141.06,2,  -999.00,9,    39.51,2,     0.00,2,     2.84,2, -999.000,9, -999.000,9,  -999.00,9,   -999.0,9,   -999.0,9,-999.0000,9,   -999.0,  9,  -999.00,9,   -999.0,  -999.00,9,  -999.00,9,  -999.00,9,  -999.00,9,   -999.0,-999.0000, -999,9, 1748,   2.2306,  27.5983,   -999.0,9
       KS07-01,  137E,KS-1743,  1,      1,02-16007,2,20070118,2156, 31.9833, 137.0225, 4180,   2031.4,   2.0696,  34.5962,2,   -999.0,9,  34.5973,2,    107.0,2,   143.23,2,  -999.00,9,    38.92,2,     0.00,2,     2.76,2, -999.000,9, -999.000,9,  -999.00,9,   -999.0,9,   -999.0,9,-999.0000,9,   -999.0,  9,  -999.00,9,   -999.0,  -999.00,9,  -999.00,9,  -999.00,9,  -999.00,9,   -999.0,-999.0000, -999,9, 2008,   1.9296,  27.6537,   -999.0,9