BOTTLE,20130510GEMDJMAYT
EXPOCODE,SECT_ID,STNNBR,CASTNO,SAMPNO,BTLNBR,BTLNBR_FLAG_W,DATE,TIME,LATITUDE,LONGITUDE,DEPTH,CTDPRS,CTDTMP,CTDSAL,CTDSAL_FLAG_W,CTDOXY,CTDOXY_FLAG_W,SALNTY,SALNTY_FLAG_W,OXYGEN,OXYGEN_FLAG_W,SILCAT,SILCAT_FLAG_W,NITRAT,NITRAT_FLAG_W,NO2+NO3,NO2+NO3_FLAG_W,NITRIT,NITRIT_FLAG_W,PHSPHT,PHSPHT_FLAG_W,CFC-11,CFC-11_FLAG_W,CFC-12,CFC-12_FLAG_W,DELC13,DELC13_FLAG_W,TCARBN,TCARBN_FLAG_W,ALKALI,ALKALI_FLAG_W,PH,PH_FLAG_W,PH_TMP,PH_SCALE,PH_NBS,PH_NBS_FLAG_W,C13ERR,TOTALP,TOTALP_FLAG_W,AMMONI,AMMONI_FLAG_W,CHLORA,CHLORA_FLAG_W,PPHYTN,PPHYTN_FLAG_W,REVPRS,REVTMP,DEPTH_,DEPTH_FLAG,CTDDEP,THETA,SIGTHT,DOC,DOC_FLAG_W
,,,,,,,GMT,GMT,,,METER,DBAR,ITS-90,PSS-78,,UMOL/KG,,PSS-78,,UMOL/KG,,UMOL/KG,,UMOL/KG,,UMOL/KG,,UMOL/KG,,UMOL/KG,,PMOL/KG,,PMOL/KG,,/MILLE,,UMOL/KG,,UMOL/KG,,25_DEG_C,,DEG_C,,,,/MILLE,UMOL/KG,,UMOL/KG,,UG/L,,UG/L,,DBAR,ITS-90,METERS,,METERS,DEG_C,,UMOL/L,
       KS07-01,  137E,KS-1773,  1,     -9,      -9,5,20070127,0728,  5.0077, 137.0443, 5118,      0.0,  28.7789,  34.0578,2,   -999.0,9,-999.0000,9,    202.0,2,     2.36,2,  -999.00,9,     0.00,2,     0.00,2,     0.03,2, -999.000,9, -999.000,9,  -999.00,9,   -999.0,9,   -999.0,9,   8.1101,2,     25.0, TS,     8.21,2,   -999.0,  -999.00,9,  -999.00,9,     0.13,2,     0.05,2,   -999.0,-999.0000, -999,9,    0,  28.7787,  21.4304,   -999.0,9
       KS07-01,  137E,KS-1773,  1,     24,02-16030,2,20070127,0742,  5.0077, 137.0443, 5118,     10.1,  28.7176,  34.1268,2,   -999.0,9,  34.1252,2,    201.0,2,     2.41,2,  -999.00,9,     0.00,2,     0.00,2,     0.03,2, -999.000,9, -999.000,9,  -999.00,9,   1918.9,2,   -999.0,9,   8.1121,2,     25.0, TS,     8.21,2,   -999.0,  -999.00,9,  -999.00,9,     0.11,2,     0.04,2,   -999.0,-999.0000, -999,9,   10,  28.7152,  21.5032,   -999.0,9
       KS07-01,  137E,KS-1773,  1,     23,02-19380,2,20070127,0741,  5.0077, 137.0443, 5118,     25.1,  28.5060,  34.1044,2,   -999.0,9,-999.0000,9,    201.0,2,     2.41,2,  -999.00,9,     0.00,2,     0.00,2,     0.02,2, -999.000,9, -999.000,9,  -999.00,9,   1913.2,2,   -999.0,9,   8.1147,2,     25.0, TS,     8.21,2,   -999.0,  -999.00,9,  -999.00,9,     0.10,2,     0.05,2,   -999.0,-999.0000, -999,9,   25,  28.5000,  21.5575,   -999.0,9
       KS07-01,  137E,KS-1773,  1,     22,02-10977,2,20070127,0737,  5.0077, 137.0443, 5118,     50.1,  27.6155,  34.2601,2,   -999.0,9,-999.0000,9,    203.0,2,     2.47,2,  -999.00,9,     0.00,2,     0.00,2,     0.04,2, -999.000,9, -999.000,9,  -999.00,9,   1931.8,2,   -999.0,9,   8.1008,2,     25.0, TS,     8.21,2,   -999.0,  -999.00,9,  -999.00,9,     0.28,2,     0.19,2,   -999.0,-999.0000, -999,9,   50,  27.6039,  21.9669,   -999.0,9
       KS07-01,  137E,KS-1773,  1,     21,02-16027,2,20070127,0736,  5.0077, 137.0443, 5118,     74.6,  24.6075,  34.5907,2,   -999.0,9,-999.0000,9,    179.0,2,     5.77,2,  -999.00,9,     3.32,2,     0.24,2,     0.26,2, -999.000,9, -999.000,9,  -999.00,9,   1994.9,2,   -999.0,9,   8.0219,2,     25.0, TS,     8.12,2,   -999.0,  -999.00,9,  -999.00,9,     0.46,2,     0.50,2,   -999.0,-999.0000, -999,9,   74,  24.5915,  23.1552,   -999.0,9
       KS07-01,  137E,KS-1773,  1,     20,02-16026,2,20070127,0735,  5.0077, 137.0443, 5118,    100.1,  22.5908,  34.7433,2,   -999.0,9,  34.7425,2,    169.0,2,     6.50,2,  -999.00,9,     4.69,2,     0.21,2,     0.37,2, -999.000,9, -999.000,9,  -999.00,9,   2024.0,2,   -999.0,9,   7.9797,2,     25.0, TS,     8.08,2,   -999.0,  -999.00,9,  -999.00,9,     0.26,2,     0.41,2,   -999.0,-999.0000, -999,9,  100,  22.5707,  23.8618,   -999.0,9
       KS07-01,  137E,KS-1773,  1,     19,02-19378,2,20070127,0734,  5.0077, 137.0443, 5118,    125.6,  20.9389,  34.6559,2,   -999.0,9,-999.0000,9,    154.0,2,    10.89,2,  -999.00,9,     8.98,2,     0.05,2,     0.63,2, -999.000,9, -999.000,9,  -999.00,9,   2052.4,2,   -999.0,9,   7.9301,2,     25.0, TS,     8.04,2,   -999.0,  -999.00,9,  -999.00,9,     0.13,2,     0.16,2,   -999.0,-999.0000, -999,9,  125,  20.9150,  24.2550,   -999.0,9
       KS07-01,  137E,KS-1773,  1,     18,02-19377,2,20070127,0733,  5.0077, 137.0443, 5118,    150.3,  19.0332,  35.0510,2,   -999.0,9,-999.0000,9,    143.0,2,     9.68,2,  -999.00,9,    11.71,2,     0.02,2,     0.85,2, -999.000,9, -999.000,9,  -999.00,9,   2093.4,2,   -999.0,9,   7.8833,2,     25.0, TS,     7.99,2,   -999.0,  -999.00,9,  -999.00,9,     0.03,2,     0.07,2,   -999.0,-999.0000, -999,9,  149,  19.0064,  25.0585,   -999.0,9
       KS07-01,  137E,KS-1773,  1,     17,02-16023,2,20070127,0731,  5.0077, 137.0443, 5118,    200.3,  12.8791,  34.4974,2,   -999.0,9,  34.4983,2,    135.0,2,    21.61,2,  -999.00,9,    19.01,2,     0.00,2,     1.34,2, -999.000,9, -999.000,9,  -999.00,9,   2141.1,2,   -999.0,9,   7.7329,2,     25.0, TS,     7.83,2,   -999.0,  -999.00,9,  -999.00,9,     0.01,2,     0.03,2,   -999.0,-999.0000, -999,9,  199,  12.8518,  26.0330,   -999.0,9
       KS07-01,  137E,KS-1773,  1,     16,02-16022,2,20070127,0730,  5.0077, 137.0443, 5118,    251.9,  10.3621,  34.5493,2,   -999.0,9,-999.0000,9,    117.0,2,    33.17,2,  -999.00,9,    25.72,2,     0.00,2,     1.82,2, -999.000,9, -999.000,9,  -999.00,9,   2190.5,2,   -999.0,9,   7.6516,2,     25.0, TS,     7.74,2,   -999.0,  -999.00,9,  -999.00,9,     0.00,2,     0.04,2,   -999.0,-999.0000, -999,9,  250,  10.3323,  26.5428,   -999.0,9
       KS07-01,  137E,KS-1773,  1,     15,02-16021,2,20070127,0728,  5.0077, 137.0443, 5118,    305.1,   9.2240,  34.5749,2,   -999.0,9,  34.5723,2,     65.0,2,    38.21,2,  -999.00,9,    32.63,2,     0.00,2,     2.31,2, -999.000,9, -999.000,9,  -999.00,9,   2242.7,2,   -999.0,9,   7.5267,2,     25.0, TS,     7.62,2,   -999.0,  -999.00,9,  -999.00,9,     0.00,2,     0.03,2,   -999.0,-999.0000, -999,9,  303,   9.1903,  26.7546,   -999.0,9
       KS07-01,  137E,KS-1773,  1,     14,02-16020,2,20070127,0726,  5.0077, 137.0443, 5118,    403.3,   8.3121,  34.5885,2,   -999.0,9,  34.5879,2,     74.0,2,    40.72,2,  -999.00,9,    33.99,2,     0.00,2,     2.39,2, -999.000,9, -999.000,9,  -999.00,9,   2246.0,2,   -999.0,9,   7.5234,2,     25.0, TS,     7.62,2,   -999.0,  -999.00,9,  -999.00,9,  -999.00,9,  -999.00,9,   -999.0,-999.0000, -999,9,  401,   8.2700,  26.9099,   -999.0,9
       KS07-01,  137E,KS-1773,  1,     13,02-16019,2,20070127,0723,  5.0077, 137.0443, 5118,    503.3,   7.3263,  34.5592,2,   -999.0,9,  34.5588,2,     95.0,2,    44.81,2,  -999.00,9,    34.08,2,     0.00,2,     2.40,2, -999.000,9, -999.000,9,  -999.00,9,   2246.8,2,   -999.0,9,   7.5455,2,     25.0, TS,     7.64,2,   -999.0,  -999.00,9,  -999.00,9,  -999.00,9,  -999.00,9,   -999.0,-999.0000, -999,9,  500,   7.2772,  27.0328,   -999.0,9
       KS07-01,  137E,KS-1773,  1,     12,02-16018,2,20070127,0720,  5.0077, 137.0443, 5118,    605.0,   6.6345,  34.5327,2,   -999.0,9,  34.5316,2,     93.0,2,    54.49,2,  -999.00,9,    35.24,2,     0.00,2,     2.49,2, -999.000,9, -999.000,9,  -999.00,9,   2259.8,2,   -999.0,9,   7.5271,2,     25.0, TS,     7.62,2,   -999.0,  -999.00,9,  -999.00,9,  -999.00,9,  -999.00,9,   -999.0,-999.0000, -999,9,  601,   6.5783,  27.1080,   -999.0,9
       KS07-01,  137E,KS-1773,  1,     11,02-19376,2,20070127,0718,  5.0077, 137.0443, 5118,    706.2,   5.9629,  34.5368,2,   -999.0,9,  34.5363,2,     99.0,2,    61.74,2,  -999.00,9,    36.02,2,     0.00,2,     2.55,2, -999.000,9, -999.000,9,  -999.00,9,   2266.5,2,   -999.0,9,   7.5291,2,     25.0, TS,     7.63,2,   -999.0,  -999.00,9,  -999.00,9,  -999.00,9,  -999.00,9,   -999.0,-999.0000, -999,9,  701,   5.9003,  27.1992,   -999.0,9
       KS07-01,  137E,KS-1773,  1,     10,02-19375,2,20070127,0715,  5.0077, 137.0443, 5118,    808.0,   5.4994,  34.5383,2,   -999.0,9,  34.5380,2,     91.0,2,    70.12,2,  -999.00,9,    37.38,2,     0.00,2,     2.66,2, -999.000,9, -999.000,9,  -999.00,9,   2278.7,2,   -999.0,9,   7.5131,2,     25.0, TS,     7.60,2,   -999.0,  -999.00,9,  -999.00,9,  -999.00,9,  -999.00,9,   -999.0,-999.0000, -999,9,  802,   5.4301,  27.2584,   -999.0,9
       KS07-01,  137E,KS-1773,  1,      9,02-16015,2,20070127,0712,  5.0077, 137.0443, 5118,    907.2,   4.8205,  34.5494,2,   -999.0,9,  34.5485,2,     93.0,2,    83.13,2,  -999.00,9,    38.06,2,     0.00,2,     2.72,2, -999.000,9, -999.000,9,  -999.00,9,   2296.4,2,   -999.0,9,   7.5113,2,     25.0, TS,     7.60,2,   -999.0,  -999.00,9,  -999.00,9,  -999.00,9,  -999.00,9,   -999.0,-999.0000, -999,9,  900,   4.7467,  27.3469,   -999.0,9
       KS07-01,  137E,KS-1773,  1,      8,02-16014,2,20070127,0709,  5.0077, 137.0443, 5118,   1010.5,   4.3445,  34.5595,2,   -999.0,9,  34.5594,2,     92.0,2,    92.67,2,  -999.00,9,    38.54,2,     0.00,2,     2.75,2, -999.000,9, -999.000,9,  -999.00,9,   2307.3,2,   -999.0,9,   7.5045,2,     25.0, TS,     7.60,2,   -999.0,  -999.00,9,  -999.00,9,  -999.00,9,  -999.00,9,   -999.0,-999.0000, -999,9, 1003,   4.2652,  27.4078,   -999.0,9
       KS07-01,  137E,KS-1773,  1,      7,02-19374,2,20070127,0703,  5.0077, 137.0443, 5118,   1262.4,   3.5336,  34.5832,2,   -999.0,9,  34.5828,2,     97.0,2,   109.33,2,  -999.00,9,    38.93,2,     0.00,2,     2.77,2, -999.000,9, -999.000,9,  -999.00,9,   2324.7,2,   -999.0,9,   7.5065,2,     25.0, TS,     7.60,2,   -999.0,  -999.00,9,  -999.00,9,  -999.00,9,  -999.00,9,   -999.0,-999.0000, -999,9, 1252,   3.4399,  27.5109,   -999.0,9
       KS07-01,  137E,KS-1773,  1,      6,02-19373,2,20070127,0656,  5.0077, 137.0443, 5118,   1515.9,   3.0542,  34.5998,2,   -999.0,9,  34.5998,2,    103.0,2,   119.46,2,  -999.00,9,    39.02,2,     0.00,2,     2.76,2, -999.000,9, -999.000,9,  -999.00,9,   2330.0,2,   -999.0,9,   7.5111,6,     25.0, TS,     7.61,2,   -999.0,  -999.00,9,  -999.00,9,  -999.00,9,  -999.00,9,   -999.0,-999.0000, -999,9, 1502,   2.9443,  27.5707,   -999.0,9
       KS07-01,  137E,KS-1773,  1,      5,02-16011,2,20070127,0650,  5.0077, 137.0443, 5118,   1769.0,   2.6166,  34.6184,2,   -999.0,9,  34.6180,2,    110.0,2,   128.40,2,  -999.00,9,    38.73,2,     0.00,2,     2.74,2, -999.000,9, -999.000,9,  -999.00,9,   2336.4,6,   -999.0,9,   7.5207,2,     25.0, TS,     7.60,2,   -999.0,  -999.00,9,  -999.00,9,  -999.00,9,  -999.00,9,   -999.0,-999.0000, -999,9, 1752,   2.4908,  27.6256,   -999.0,9
       KS07-01,  137E,KS-1773,  1,      4,02-16010,2,20070127,0644,  5.0077, 137.0443, 5118,   2025.8,   2.2885,  34.6343,2,   -999.0,9,  34.6341,2,    115.0,2,   134.88,2,  -999.00,9,    38.63,2,     0.00,2,     2.71,2, -999.000,9, -999.000,9,  -999.00,9,   2338.4,2,   -999.0,9,   7.5282,2,     25.0, TS,     7.60,2,   -999.0,  -999.00,9,  -999.00,9,  -999.00,9,  -999.00,9,   -999.0,-999.0000, -999,9, 2005,   2.1455,  27.6671,   -999.0,9
       KS07-01,  137E,KS-1773,  1,      3,02-16009,2,20070127,0622,  5.0077, 137.0443, 5118,   3038.4,   1.6233,  34.6722,2,   -999.0,9,  34.6718,2,    144.0,2,   142.00,2,  -999.00,9,    36.78,2,     0.00,2,     2.56,2, -999.000,9, -999.000,9,  -999.00,9,   -999.0,9,   -999.0,9,-999.0000,9,   -999.0,  9,     7.67,2,   -999.0,  -999.00,9,  -999.00,9,  -999.00,9,  -999.00,9,   -999.0,-999.0000, -999,9, 3000,   1.4001,  27.7544,   -999.0,9
       KS07-01,  137E,KS-1773,  1,      2,02-16008,2,20070127,0602,  5.0077, 137.0443, 5118,   4059.6,   1.5250,  34.6863,2,   -999.0,9,  34.6860,2,    157.0,2,   140.34,2,  -999.00,9,    35.90,2,     0.00,2,     2.48,2, -999.000,9, -999.000,9,  -999.00,9,   -999.0,9,   -999.0,9,-999.0000,9,   -999.0,  9,     7.68,2,   -999.0,  -999.00,9,  -999.00,9,  -999.00,9,  -999.00,9,   -999.0,-999.0000, -999,9, 3999,   1.1989,  27.7798,   -999.0,9
       KS07-01,  137E,KS-1773,  1,      1,02-16007,2,20070127,0542,  5.0077, 137.0443, 5118,   5111.0,   1.5846,  34.6904,2,   -999.0,9,  34.6904,2,    163.0,2,   137.48,2,  -999.00,9,    35.61,2,     0.00,2,     2.45,2, -999.000,9, -999.000,9,  -999.00,9,   -999.0,9,   -999.0,9,-999.0000,9,   -999.0,  9,     7.68,2,   -999.0,  -999.00,9,  -999.00,9,  -999.00,9,  -999.00,9,   -999.0,-999.0000, -999,9, 5023,   1.1339,  27.7876,   -999.0,9