BOTTLE,20130510GEMDJMAYT
EXPOCODE,SECT_ID,STNNBR,CASTNO,SAMPNO,BTLNBR,BTLNBR_FLAG_W,DATE,TIME,LATITUDE,LONGITUDE,DEPTH,CTDPRS,CTDTMP,CTDSAL,CTDSAL_FLAG_W,CTDOXY,CTDOXY_FLAG_W,SALNTY,SALNTY_FLAG_W,OXYGEN,OXYGEN_FLAG_W,SILCAT,SILCAT_FLAG_W,NITRAT,NITRAT_FLAG_W,NO2+NO3,NO2+NO3_FLAG_W,NITRIT,NITRIT_FLAG_W,PHSPHT,PHSPHT_FLAG_W,CFC-11,CFC-11_FLAG_W,CFC-12,CFC-12_FLAG_W,DELC13,DELC13_FLAG_W,TCARBN,TCARBN_FLAG_W,ALKALI,ALKALI_FLAG_W,PH,PH_FLAG_W,PH_TMP,PH_SCALE,PH_NBS,PH_NBS_FLAG_W,C13ERR,TOTALP,TOTALP_FLAG_W,AMMONI,AMMONI_FLAG_W,CHLORA,CHLORA_FLAG_W,PPHYTN,PPHYTN_FLAG_W,REVPRS,REVTMP,DEPTH_,DEPTH_FLAG,CTDDEP,THETA,SIGTHT,DOC,DOC_FLAG_W
,,,,,,,GMT,GMT,,,METER,DBAR,ITS-90,PSS-78,,UMOL/KG,,PSS-78,,UMOL/KG,,UMOL/KG,,UMOL/KG,,UMOL/KG,,UMOL/KG,,UMOL/KG,,PMOL/KG,,PMOL/KG,,/MILLE,,UMOL/KG,,UMOL/KG,,25_DEG_C,,DEG_C,,,,/MILLE,UMOL/KG,,UMOL/KG,,UG/L,,UG/L,,DBAR,ITS-90,METERS,,METERS,DEG_C,,UMOL/L,
       KS07-04,  137E,KS-1863,  1,     -9,      -9,5,20070503,0240,  9.9947, 136.9792, 5069,      0.0,  29.3256,  34.2585,2,   -999.0,9,-999.0000,9,    199.0,2,     1.78,2,  -999.00,9,     0.00,2,     0.00,2,     0.05,2, -999.000,9, -999.000,9,  -999.00,9,   -999.0,9,   -999.0,9,   8.0976,2,     25.0, TS,  -999.00,9,   -999.0,  -999.00,9,  -999.00,9,     0.08,2,     0.03,2,   -999.0,-999.0000, -999,9,    0,  29.3253,  21.3986,   -999.0,9
       KS07-04,  137E,KS-1863,  1,     21,02-16027,2,20070503,0257,  9.9947, 136.9792, 5069,     10.4,  29.0723,  34.2558,2,   -999.0,9,  34.2551,2,    199.0,2,     1.60,2,  -999.00,9,     0.00,2,     0.00,2,     0.04,2, -999.000,9, -999.000,9,  -999.00,9,   1925.1,2,   -999.0,9,   8.0852,2,     25.0, TS,  -999.00,9,   -999.0,  -999.00,9,  -999.00,9,     0.07,2,     0.03,2,   -999.0,-999.0000, -999,9,   10,  29.0698,  21.4821,   -999.0,9
       KS07-04,  137E,KS-1863,  1,     20,02-16026,2,20070503,0255,  9.9947, 136.9792, 5069,     24.9,  29.0419,  34.2555,2,   -999.0,9,-999.0000,9,    199.0,2,     1.47,2,  -999.00,9,     0.00,2,     0.00,2,     0.04,2, -999.000,9, -999.000,9,  -999.00,9,   1926.0,2,   -999.0,9,   8.0845,2,     25.0, TS,  -999.00,9,   -999.0,  -999.00,9,  -999.00,9,     0.09,2,     0.03,2,   -999.0,-999.0000, -999,9,   25,  29.0359,  21.4933,   -999.0,9
       KS07-04,  137E,KS-1863,  1,     19,02-19378,2,20070503,0250,  9.9947, 136.9792, 5069,     50.0,  29.0413,  34.2665,2,   -999.0,9,-999.0000,9,    199.0,2,     1.48,2,  -999.00,9,     0.00,2,     0.00,2,     0.04,2, -999.000,9, -999.000,9,  -999.00,9,   1927.0,2,   -999.0,9,   8.0893,2,     25.0, TS,  -999.00,9,   -999.0,  -999.00,9,  -999.00,9,     0.09,2,     0.05,2,   -999.0,-999.0000, -999,9,   50,  29.0292,  21.5037,   -999.0,9
       KS07-04,  137E,KS-1863,  1,     18,02-19377,2,20070503,0250,  9.9947, 136.9792, 5069,     74.2,  27.9121,  34.4197,2,   -999.0,9,-999.0000,9,    198.0,2,     1.73,2,  -999.00,9,     0.00,2,     0.00,2,     0.07,2, -999.000,9, -999.000,9,  -999.00,9,   1944.1,2,   -999.0,9,-999.0000,9,   -999.0,  9,  -999.00,9,   -999.0,  -999.00,9,  -999.00,9,     0.19,2,     0.19,2,   -999.0,-999.0000, -999,9,   74,  27.8947,  21.9926,   -999.0,9
       KS07-04,  137E,KS-1863,  1,     17,02-16023,2,20070503,0249,  9.9947, 136.9792, 5069,    101.2,  24.3751,  34.7126,2,   -999.0,9,  34.7124,2,    184.0,2,     2.69,2,  -999.00,9,     0.98,2,     0.25,2,     0.21,2, -999.000,9, -999.000,9,  -999.00,9,   2002.6,2,   -999.0,9,   8.0161,2,     25.0, TS,  -999.00,9,   -999.0,  -999.00,9,  -999.00,9,     0.19,2,     0.34,2,   -999.0,-999.0000, -999,9,  101,  24.3536,  23.3187,   -999.0,9
       KS07-04,  137E,KS-1863,  1,     16,02-16022,2,20070503,0248,  9.9947, 136.9792, 5069,    125.6,  20.4293,  34.7613,2,   -999.0,9,-999.0000,9,    161.0,2,     6.31,2,  -999.00,9,     5.95,2,     0.20,2,     0.54,2, -999.000,9, -999.000,9,  -999.00,9,   2062.8,2,   -999.0,9,   7.9231,2,     25.0, TS,  -999.00,9,   -999.0,  -999.00,9,  -999.00,9,     0.08,2,     0.17,2,   -999.0,-999.0000, -999,9,  125,  20.4058,  24.4721,   -999.0,9
       KS07-04,  137E,KS-1863,  1,     15,02-16021,2,20070503,0247,  9.9947, 136.9792, 5069,    150.3,  17.4637,  34.6955,2,   -999.0,9,-999.0000,9,    144.0,2,    10.06,2,  -999.00,9,    11.61,2,     0.03,2,     0.87,2, -999.000,9, -999.000,9,  -999.00,9,   2095.4,2,   -999.0,9,   7.8372,2,     25.0, TS,  -999.00,9,   -999.0,  -999.00,9,  -999.00,9,     0.04,2,     0.15,2,   -999.0,-999.0000, -999,9,  149,  17.4385,  25.1756,   -999.0,9
       KS07-04,  137E,KS-1863,  1,     14,02-16020,2,20070503,0245,  9.9947, 136.9792, 5069,    201.7,  13.5313,  34.5760,2,   -999.0,9,  34.5766,2,    111.0,2,    20.93,2,  -999.00,9,    20.57,2,     0.00,2,     1.48,2, -999.000,9, -999.000,9,  -999.00,9,   2153.8,2,   -999.0,9,   7.7096,2,     25.0, TS,  -999.00,9,   -999.0,  -999.00,9,  -999.00,9,     0.02,2,     0.06,2,   -999.0,-999.0000, -999,9,  200,  13.5029,  25.9625,   -999.0,9
       KS07-04,  137E,KS-1863,  1,     13,02-16019,2,20070503,0244,  9.9947, 136.9792, 5069,    252.4,  11.3211,  34.5143,2,   -999.0,9,-999.0000,9,     93.0,2,    27.91,2,  -999.00,9,    25.72,2,     0.00,2,     1.85,2, -999.000,9, -999.000,9,  -999.00,9,   2192.1,2,   -999.0,9,   7.6273,2,     25.0, TS,  -999.00,9,   -999.0,  -999.00,9,  -999.00,9,     0.00,2,     0.03,2,   -999.0,-999.0000, -999,9,  251,  11.2895,  26.3446,   -999.0,9
       KS07-04,  137E,KS-1863,  1,     12,02-16018,2,20070503,0242,  9.9947, 136.9792, 5069,    302.6,   9.2665,  34.4472,2,   -999.0,9,  34.4465,2,     79.0,2,    37.72,2,  -999.00,9,    30.39,2,     0.00,2,     2.19,2, -999.000,9, -999.000,9,  -999.00,9,   2219.3,2,   -999.0,9,   7.5515,2,     25.0, TS,  -999.00,9,   -999.0,  -999.00,9,  -999.00,9,     0.00,2,     0.02,2,   -999.0,-999.0000, -999,9,  301,   9.2331,  26.6477,   -999.0,9
       KS07-04,  137E,KS-1863,  1,     11,02-19376,2,20070503,0239,  9.9947, 136.9792, 5069,    404.6,   8.2705,  34.5420,2,   -999.0,9,  34.5409,2,     77.0,2,    42.49,2,  -999.00,9,    33.01,2,     0.00,2,     2.36,2, -999.000,9, -999.000,9,  -999.00,9,   2239.2,2,   -999.0,9,   7.5340,2,     25.0, TS,  -999.00,9,   -999.0,  -999.00,9,  -999.00,9,  -999.00,9,  -999.00,9,   -999.0,-999.0000, -999,9,  402,   8.2285,  26.8797,   -999.0,9
       KS07-04,  137E,KS-1863,  1,     10,02-19375,2,20070503,0236,  9.9947, 136.9792, 5069,    504.8,   6.9951,  34.4794,2,   -999.0,9,  34.4781,2,     83.0,2,    54.91,2,  -999.00,9,    34.18,2,     0.00,2,     2.49,2, -999.000,9, -999.000,9,  -999.00,9,   2248.4,2,   -999.0,9,   7.5223,2,     25.0, TS,  -999.00,9,   -999.0,  -999.00,9,  -999.00,9,  -999.00,9,  -999.00,9,   -999.0,-999.0000, -999,9,  501,   6.9472,  27.0159,   -999.0,9
       KS07-04,  137E,KS-1863,  1,      9,02-16015,2,20070503,0233,  9.9947, 136.9792, 5069,    608.9,   6.4035,  34.4977,2,   -999.0,9,  34.4955,2,     78.0,2,    61.20,2,  -999.00,9,    36.02,2,     0.00,2,     2.60,2, -999.000,9, -999.000,9,  -999.00,9,   2263.5,2,   -999.0,9,   7.5085,2,     25.0, TS,  -999.00,9,   -999.0,  -999.00,9,  -999.00,9,  -999.00,9,  -999.00,9,   -999.0,-999.0000, -999,9,  605,   6.3480,  27.1109,   -999.0,9
       KS07-04,  137E,KS-1863,  1,      8,02-16014,2,20070503,0230,  9.9947, 136.9792, 5069,    707.6,   5.8020,  34.5162,2,   -999.0,9,  34.5124,4,     87.0,2,    65.04,4,  -999.00,9,    36.60,2,     0.00,2,     2.63,2, -999.000,9, -999.000,9,  -999.00,9,   2275.5,2,   -999.0,9,   7.5141,2,     25.0, TS,  -999.00,9,   -999.0,  -999.00,9,  -999.00,9,  -999.00,9,  -999.00,9,   -999.0,-999.0000, -999,9,  702,   5.7402,  27.2030,   -999.0,9
       KS07-04,  137E,KS-1863,  1,      7,02-19374,2,20070503,0227,  9.9947, 136.9792, 5069,    807.3,   5.4275,  34.5184,2,   -999.0,9,  34.5169,2,     84.0,2,    74.56,2,  -999.00,9,    37.28,2,     0.00,2,     2.69,2, -999.000,9, -999.000,9,  -999.00,9,   2282.1,2,   -999.0,9,   7.5082,2,     25.0, TS,  -999.00,9,   -999.0,  -999.00,9,  -999.00,9,  -999.00,9,  -999.00,9,   -999.0,-999.0000, -999,9,  801,   5.3587,  27.2513,   -999.0,9
       KS07-04,  137E,KS-1863,  1,      6,02-19373,2,20070503,0225,  9.9947, 136.9792, 5069,    907.7,   4.9364,  34.5329,2,   -999.0,9,  34.5324,2,     86.0,2,    82.92,2,  -999.00,9,    37.77,2,     0.00,2,     2.72,2, -999.000,9, -999.000,9,  -999.00,9,   2293.7,2,   -999.0,9,   7.5077,2,     25.0, TS,  -999.00,9,   -999.0,  -999.00,9,  -999.00,9,  -999.00,9,  -999.00,9,   -999.0,-999.0000, -999,9,  901,   4.8618,  27.3208,   -999.0,9
       KS07-04,  137E,KS-1863,  1,      5,02-16011,2,20070503,0223,  9.9947, 136.9792, 5069,   1007.1,   4.5486,  34.5472,2,   -999.0,9,  34.5465,2,     90.0,2,    90.31,2,  -999.00,9,    38.06,2,     0.00,2,     2.74,2, -999.000,9, -999.000,9,  -999.00,9,   2300.9,2,   -999.0,9,   7.5094,2,     25.0, TS,  -999.00,9,   -999.0,  -999.00,9,  -999.00,9,  -999.00,9,  -999.00,9,   -999.0,-999.0000, -999,9,  999,   4.4680,  27.3761,   -999.0,9
       KS07-04,  137E,KS-1863,  1,      4,02-16010,2,20070503,0218,  9.9947, 136.9792, 5069,   1260.7,   3.7883,  34.5674,2,   -999.0,9,  34.5670,2,     93.0,2,   104.84,2,  -999.00,9,    38.44,2,     0.00,2,     2.77,2, -999.000,9, -999.000,9,  -999.00,9,   2309.0,2,   -999.0,9,   7.5180,2,     25.0, TS,  -999.00,9,   -999.0,  -999.00,9,  -999.00,9,  -999.00,9,  -999.00,9,   -999.0,-999.0000, -999,9, 1250,   3.6924,  27.4734,   -999.0,9
       KS07-04,  137E,KS-1863,  1,      3,02-16009,2,20070503,0213,  9.9947, 136.9792, 5069,   1513.4,   3.0313,  34.5917,2,   -999.0,9,  34.5911,2,     99.0,2,   123.15,2,  -999.00,9,    38.63,2,     0.00,2,     2.76,2, -999.000,9, -999.000,9,  -999.00,9,   2329.3,2,   -999.0,9,   7.5216,2,     25.0, TS,  -999.00,9,   -999.0,  -999.00,9,  -999.00,9,  -999.00,9,  -999.00,9,   -999.0,-999.0000, -999,9, 1499,   2.9219,  27.5662,   -999.0,9
       KS07-04,  137E,KS-1863,  1,      2,02-16008,2,20070503,0209,  9.9947, 136.9792, 5069,   1764.9,   2.5669,  34.6133,2,   -999.0,9,  34.6126,2,    107.0,2,   129.56,2,  -999.00,9,    38.44,2,     0.00,2,     2.74,2, -999.000,9, -999.000,9,  -999.00,9,   2333.3,6,   -999.0,9,   7.5350,2,     25.0, TS,  -999.00,9,   -999.0,  -999.00,9,  -999.00,9,  -999.00,9,  -999.00,9,   -999.0,-999.0000, -999,9, 1748,   2.4422,  27.6256,   -999.0,9
       KS07-04,  137E,KS-1863,  1,      1,02-16007,2,20070503,0204,  9.9947, 136.9792, 5069,   2031.2,   2.2328,  34.6316,2,   -999.0,9,  34.6307,2,    115.0,2,   134.87,2,  -999.00,9,    37.85,2,     0.00,2,     2.71,2, -999.000,9, -999.000,9,  -999.00,9,   2332.3,2,   -999.0,9,   7.5405,6,     25.0, TS,  -999.00,9,   -999.0,  -999.00,9,  -999.00,9,  -999.00,9,  -999.00,9,   -999.0,-999.0000, -999,9, 2010,   2.0902,  27.6693,   -999.0,9