BOTTLE,20130510GEMDJMAYT
# 05/09/2013: Correct the error of converted time from JST to GMT.
#BOTTLE,20121206MIRCJHATS
# 12/06/2012: Change BTLNBR_FLAG_W: 8 to 5 at lines of BTLNBR = -9.
# 08/13/2008: reported
# 08/14/2008: pH(TOTAL HYDROGEN SCALE) data reviced
# 09/10/2008: QF of TCARBN were revised for SAMPNO 22, 17 and 16 of STNNBR KS-1848.
# 11/26/2008: pH(TOTAL HYDROGEN SCALE) data for SAMPNO -9 of stations KS-1863 and KS-1867 were revised; +0.0005 and +0.0003 respectively.
# 02/19/2009 : pH scale specified in header.
# 02/19/2009 : NO2+NO3 label corrected in header.
# 10/01/2009 : QF of TCARBN at KS-1853, KS-1858 revised.
# 04/05/2010 : pH scale specified in header, corrected for QF of CTDSAL (5 -> 2), converted time from JST to GMT
EXPOCODE,SECT_ID,STNNBR,CASTNO,SAMPNO,BTLNBR,BTLNBR_FLAG_W,DATE,TIME,LATITUDE,LONGITUDE,DEPTH,CTDPRS,CTDTMP,CTDSAL,CTDSAL_FLAG_W,CTDOXY,CTDOXY_FLAG_W,SALNTY,SALNTY_FLAG_W,OXYGEN,OXYGEN_FLAG_W,SILCAT,SILCAT_FLAG_W,NITRAT,NITRAT_FLAG_W,NO2+NO3,NO2+NO3_FLAG_W,NITRIT,NITRIT_FLAG_W,PHSPHT,PHSPHT_FLAG_W,CFC-11,CFC-11_FLAG_W,CFC-12,CFC-12_FLAG_W,DELC13,DELC13_FLAG_W,TCARBN,TCARBN_FLAG_W,ALKALI,ALKALI_FLAG_W,PH,PH_FLAG_W,PH_TMP,PH_SCALE,PH_NBS,PH_NBS_FLAG_W,C13ERR,TOTALP,TOTALP_FLAG_W,AMMONI,AMMONI_FLAG_W,CHLORA,CHLORA_FLAG_W,PPHYTN,PPHYTN_FLAG_W,REVPRS,REVTMP,DEPTH_,DEPTH_FLAG,CTDDEP,THETA,SIGTHT,DOC,DOC_FLAG_W
,,,,,,,GMT,GMT,,,METER,DBAR,ITS-90,PSS-78,,UMOL/KG,,PSS-78,,UMOL/KG,,UMOL/KG,,UMOL/KG,,UMOL/KG,,UMOL/KG,,UMOL/KG,,PMOL/KG,,PMOL/KG,,/MILLE,,UMOL/KG,,UMOL/KG,,25_DEG_C,,DEG_C,,,,/MILLE,UMOL/KG,,UMOL/KG,,UG/L,,UG/L,,DBAR,ITS-90,METERS,,METERS,DEG_C,,UMOL/L,
       KS07-04,  137E,KS-1832,  1,     -9,      -9,5,20070424,2236, 33.9772, 136.9858, 1064,      0.0,  17.7161,  34.6674,2,   -999.0,9,-999.0000,9,    247.0,2,     2.32,2,  -999.00,9,     0.20,2,     0.04,2,     0.05,2, -999.000,9, -999.000,9,  -999.00,9,   -999.0,9,   -999.0,9,   8.0485,6,     25.0, TS,  -999.00,9,   -999.0,  -999.00,9,  -999.00,9,     0.64,2,     0.37,2,   -999.0,-999.0000, -999,9,    0,  17.7159,  25.0869,   -999.0,9
       KS07-04,  137E,KS-1832,  1,     19,02-19378,2,20070424,2255, 33.9772, 136.9858, 1064,     10.4,  17.7227,  34.7058,2,   -999.0,9,  34.7062,2,    249.0,2,     2.20,2,  -999.00,9,     0.10,2,     0.02,2,     0.04,2, -999.000,9, -999.000,9,  -999.00,9,   -999.0,9,   -999.0,9,-999.0000,9,   -999.0,  9,  -999.00,9,   -999.0,  -999.00,9,  -999.00,9,     0.49,2,     0.29,2,   -999.0,-999.0000, -999,9,   10,  17.7210,  25.1150,   -999.0,9
       KS07-04,  137E,KS-1832,  1,     18,02-19377,2,20070424,2253, 33.9772, 136.9858, 1064,     26.0,  17.6613,  34.7193,2,   -999.0,9,-999.0000,9,    243.0,2,     3.10,2,  -999.00,9,     0.78,2,     0.18,2,     0.10,2, -999.000,9, -999.000,9,  -999.00,9,   -999.0,9,   -999.0,9,-999.0000,9,   -999.0,  9,  -999.00,9,   -999.0,  -999.00,9,  -999.00,9,     0.79,2,     0.48,2,   -999.0,-999.0000, -999,9,   26,  17.6569,  25.1410,   -999.0,9
       KS07-04,  137E,KS-1832,  1,     17,02-16023,2,20070424,2249, 33.9772, 136.9858, 1064,     50.9,  17.3542,  34.7352,2,   -999.0,9,-999.0000,9,    231.0,2,     3.95,2,  -999.00,9,     2.34,2,     0.43,2,     0.20,2, -999.000,9, -999.000,9,  -999.00,9,   -999.0,9,   -999.0,9,-999.0000,9,   -999.0,  9,  -999.00,9,   -999.0,  -999.00,9,  -999.00,9,     0.46,2,     0.33,2,   -999.0,-999.0000, -999,9,   51,  17.3457,  25.2284,   -999.0,9
       KS07-04,  137E,KS-1832,  1,     16,02-16022,2,20070424,2247, 33.9772, 136.9858, 1064,     75.1,  17.2347,  34.7254,2,   -999.0,9,-999.0000,9,    229.0,2,     4.74,2,  -999.00,9,     3.02,2,     0.40,2,     0.23,2, -999.000,9, -999.000,9,  -999.00,9,   -999.0,9,   -999.0,9,-999.0000,9,   -999.0,  9,  -999.00,9,   -999.0,  -999.00,9,  -999.00,9,     0.39,2,     0.25,2,   -999.0,-999.0000, -999,9,   75,  17.2223,  25.2505,   -999.0,9
       KS07-04,  137E,KS-1832,  1,     15,02-16021,2,20070424,2246, 33.9772, 136.9858, 1064,    100.8,  16.7640,  34.6742,2,   -999.0,9,  34.6737,2,    221.0,2,     5.94,2,  -999.00,9,     4.10,2,     0.21,2,     0.31,2, -999.000,9, -999.000,9,  -999.00,9,   -999.0,9,   -999.0,9,-999.0000,9,   -999.0,  9,  -999.00,9,   -999.0,  -999.00,9,  -999.00,9,     0.49,2,     0.25,2,   -999.0,-999.0000, -999,9,  100,  16.7476,  25.3237,   -999.0,9
       KS07-04,  137E,KS-1832,  1,     14,02-16020,2,20070424,2244, 33.9772, 136.9858, 1064,    126.3,  15.5206,  34.6213,2,   -999.0,9,-999.0000,9,    187.0,2,    13.59,2,  -999.00,9,     9.85,2,     0.03,2,     0.66,2, -999.000,9, -999.000,9,  -999.00,9,   -999.0,9,   -999.0,9,-999.0000,9,   -999.0,  9,  -999.00,9,   -999.0,  -999.00,9,  -999.00,9,     0.12,2,     0.17,2,   -999.0,-999.0000, -999,9,  125,  15.5011,  25.5690,   -999.0,9
       KS07-04,  137E,KS-1832,  1,     13,02-16019,2,20070424,2243, 33.9772, 136.9858, 1064,    152.5,  14.4307,  34.5632,2,   -999.0,9,-999.0000,9,    176.0,2,    19.82,2,  -999.00,9,    12.67,2,     0.02,2,     0.86,2, -999.000,9, -999.000,9,  -999.00,9,   -999.0,9,   -999.0,9,-999.0000,9,   -999.0,  9,  -999.00,9,   -999.0,  -999.00,9,  -999.00,9,     0.04,2,     0.08,2,   -999.0,-999.0000, -999,9,  151,  14.4083,  25.7631,   -999.0,9
       KS07-04,  137E,KS-1832,  1,     12,02-16018,2,20070424,2241, 33.9772, 136.9858, 1064,    202.8,  12.8518,  34.4790,2,   -999.0,9,  34.4786,2,    162.0,2,    26.65,2,  -999.00,9,    16.37,2,     0.01,2,     1.12,2, -999.000,9, -999.000,9,  -999.00,9,   -999.0,9,   -999.0,9,-999.0000,9,   -999.0,  9,  -999.00,9,   -999.0,  -999.00,9,  -999.00,9,     0.02,2,     0.08,2,   -999.0,-999.0000, -999,9,  201,  12.8243,  26.0242,   -999.0,9
       KS07-04,  137E,KS-1832,  1,     11,02-19376,2,20070424,2239, 33.9772, 136.9858, 1064,    251.6,  11.0997,  34.3873,2,   -999.0,9,-999.0000,9,    149.0,2,    35.60,2,  -999.00,9,    20.36,2,     0.01,2,     1.43,2, -999.000,9, -999.000,9,  -999.00,9,   -999.0,9,   -999.0,9,-999.0000,9,   -999.0,  9,  -999.00,9,   -999.0,  -999.00,9,  -999.00,9,     0.01,2,     0.06,2,   -999.0,-999.0000, -999,9,  250,  11.0686,  26.2860,   -999.0,9
       KS07-04,  137E,KS-1832,  1,     10,02-19375,2,20070424,2237, 33.9772, 136.9858, 1064,    304.2,   9.1326,  34.3092,2,   -999.0,9,  34.3090,2,    134.0,2,    49.54,2,  -999.00,9,    25.23,2,     0.00,2,     1.79,2, -999.000,9, -999.000,9,  -999.00,9,   -999.0,9,   -999.0,9,-999.0000,9,   -999.0,  9,  -999.00,9,   -999.0,  -999.00,9,  -999.00,9,     0.02,2,     0.05,2,   -999.0,-999.0000, -999,9,  302,   9.0993,  26.5613,   -999.0,9
       KS07-04,  137E,KS-1832,  1,      9,02-16015,2,20070424,2234, 33.9772, 136.9858, 1064,    405.2,   6.9413,  34.2298,2,   -999.0,9,  34.2309,2,    110.0,2,    66.51,2,  -999.00,9,    30.97,2,     0.00,2,     2.23,2, -999.000,9, -999.000,9,  -999.00,9,   -999.0,9,   -999.0,9,-999.0000,9,   -999.0,  9,  -999.00,9,   -999.0,  -999.00,9,  -999.00,9,  -999.00,9,  -999.00,9,   -999.0,-999.0000, -999,9,  402,   6.9034,  26.8253,   -999.0,9
       KS07-04,  137E,KS-1832,  1,      8,02-16014,2,20070424,2231, 33.9772, 136.9858, 1064,    505.5,   5.9519,  34.2561,2,   -999.0,9,  34.2569,2,     92.0,2,    81.30,2,  -999.00,9,    33.98,2,     0.00,2,     2.46,2, -999.000,9, -999.000,9,  -999.00,9,   -999.0,9,   -999.0,9,-999.0000,9,   -999.0,  9,  -999.00,9,   -999.0,  -999.00,9,  -999.00,9,  -999.00,9,  -999.00,9,   -999.0,-999.0000, -999,9,  501,   5.9081,  26.9764,   -999.0,9
       KS07-04,  137E,KS-1832,  1,      7,02-19374,2,20070424,2229, 33.9772, 136.9858, 1064,    605.8,   4.9668,  34.2925,2,   -999.0,9,  34.2928,2,     79.0,2,    97.92,2,  -999.00,9,    36.80,2,     0.00,2,     2.67,2, -999.000,9, -999.000,9,  -999.00,9,   -999.0,9,   -999.0,9,-999.0000,9,   -999.0,  9,  -999.00,9,   -999.0,  -999.00,9,  -999.00,9,  -999.00,9,  -999.00,9,   -999.0,-999.0000, -999,9,  601,   4.9184,  27.1236,   -999.0,9
       KS07-04,  137E,KS-1832,  1,      6,02-19373,2,20070424,2226, 33.9772, 136.9858, 1064,    707.0,   4.3607,  34.3241,2,   -999.0,9,  34.3248,2,     70.0,2,   107.84,2,  -999.00,9,    38.65,2,     0.00,2,     2.78,2, -999.000,9, -999.000,9,  -999.00,9,   -999.0,9,   -999.0,9,-999.0000,9,   -999.0,  9,  -999.00,9,   -999.0,  -999.00,9,  -999.00,9,  -999.00,9,  -999.00,9,   -999.0,-999.0000, -999,9,  701,   4.3070,  27.2163,   -999.0,9
       KS07-04,  137E,KS-1832,  1,      5,02-16011,2,20070424,2223, 33.9772, 136.9858, 1064,    808.7,   3.9148,  34.3597,2,   -999.0,9,  34.3596,2,     65.0,2,   115.46,2,  -999.00,9,    39.52,2,     0.00,2,     2.86,2, -999.000,9, -999.000,9,  -999.00,9,   -999.0,9,   -999.0,9,-999.0000,9,   -999.0,  9,  -999.00,9,   -999.0,  -999.00,9,  -999.00,9,  -999.00,9,  -999.00,9,   -999.0,-999.0000, -999,9,  801,   3.8555,  27.2916,   -999.0,9
       KS07-04,  137E,KS-1832,  1,      4,02-16010,2,20070424,2220, 33.9772, 136.9858, 1064,    908.2,   3.7513,  34.3692,2,   -999.0,9,  34.3703,2,     64.0,2,   119.53,2,  -999.00,9,    40.01,2,     0.00,2,     2.89,2, -999.000,9, -999.000,9,  -999.00,9,   -999.0,9,   -999.0,9,-999.0000,9,   -999.0,  9,  -999.00,9,   -999.0,  -999.00,9,  -999.00,9,  -999.00,9,  -999.00,9,   -999.0,-999.0000, -999,9,  900,   3.6852,  27.3163,   -999.0,9
       KS07-04,  137E,KS-1832,  1,      3,02-16009,9,20070424,2220, 33.9772, 136.9858, 1064,    909.1,   3.7513,  34.3696,2,   -999.0,9,-999.0000,9,   -999.0,9,  -999.00,9,  -999.00,9,  -999.00,9,  -999.00,9,  -999.00,9, -999.000,9, -999.000,9,  -999.00,9,   -999.0,9,   -999.0,9,-999.0000,9,   -999.0,  9,  -999.00,9,   -999.0,  -999.00,9,  -999.00,9,  -999.00,9,  -999.00,9,   -999.0,-999.0000, -999,9,  901,   3.6851,  27.3166,   -999.0,9
       KS07-04,  137E,KS-1832,  1,      2,02-16008,9,20070424,2220, 33.9772, 136.9858, 1064,    909.7,   3.7483,  34.3692,2,   -999.0,9,-999.0000,9,   -999.0,9,  -999.00,9,  -999.00,9,  -999.00,9,  -999.00,9,  -999.00,9, -999.000,9, -999.000,9,  -999.00,9,   -999.0,9,   -999.0,9,-999.0000,9,   -999.0,  9,  -999.00,9,   -999.0,  -999.00,9,  -999.00,9,  -999.00,9,  -999.00,9,   -999.0,-999.0000, -999,9,  901,   3.6821,  27.3166,   -999.0,9
       KS07-04,  137E,KS-1832,  1,      1,02-16007,2,20070424,2216, 33.9772, 136.9858, 1064,   1017.8,   3.4009,  34.4142,2,   -999.0,9,  34.4151,2,     64.0,2,   125.75,2,  -999.00,9,    40.39,2,     0.00,2,     2.91,2, -999.000,9, -999.000,9,  -999.00,9,   -999.0,9,   -999.0,9,-999.0000,9,   -999.0,  9,  -999.00,9,   -999.0,  -999.00,9,  -999.00,9,  -999.00,9,  -999.00,9,   -999.0,-999.0000, -999,9, 1008,   3.3286,  27.3869,   -999.0,9