BOTTLE,20130510GEMDJMAYT
EXPOCODE,SECT_ID,STNNBR,CASTNO,SAMPNO,BTLNBR,BTLNBR_FLAG_W,DATE,TIME,LATITUDE,LONGITUDE,DEPTH,CTDPRS,CTDTMP,CTDSAL,CTDSAL_FLAG_W,CTDOXY,CTDOXY_FLAG_W,SALNTY,SALNTY_FLAG_W,OXYGEN,OXYGEN_FLAG_W,SILCAT,SILCAT_FLAG_W,NITRAT,NITRAT_FLAG_W,NO2+NO3,NO2+NO3_FLAG_W,NITRIT,NITRIT_FLAG_W,PHSPHT,PHSPHT_FLAG_W,CFC-11,CFC-11_FLAG_W,CFC-12,CFC-12_FLAG_W,DELC13,DELC13_FLAG_W,TCARBN,TCARBN_FLAG_W,ALKALI,ALKALI_FLAG_W,PH,PH_FLAG_W,PH_TMP,PH_SCALE,PH_NBS,PH_NBS_FLAG_W,C13ERR,TOTALP,TOTALP_FLAG_W,AMMONI,AMMONI_FLAG_W,CHLORA,CHLORA_FLAG_W,PPHYTN,PPHYTN_FLAG_W,REVPRS,REVTMP,DEPTH_,DEPTH_FLAG,CTDDEP,THETA,SIGTHT,DOC,DOC_FLAG_W
,,,,,,,GMT,GMT,,,METER,DBAR,ITS-90,PSS-78,,UMOL/KG,,PSS-78,,UMOL/KG,,UMOL/KG,,UMOL/KG,,UMOL/KG,,UMOL/KG,,UMOL/KG,,PMOL/KG,,PMOL/KG,,/MILLE,,UMOL/KG,,UMOL/KG,,25_DEG_C,,DEG_C,,,,/MILLE,UMOL/KG,,UMOL/KG,,UG/L,,UG/L,,DBAR,ITS-90,METERS,,METERS,DEG_C,,UMOL/L,
       KS07-04,  137E,KS-1838,  1,     -9,      -9,5,20070426,0421, 31.9793, 137.0410, 4084,      0.0,  21.2788,  34.7489,2,   -999.0,9,-999.0000,9,    224.0,2,     1.46,2,  -999.00,9,     0.00,2,     0.00,2,     0.01,2, -999.000,9, -999.000,9,  -999.00,9,   -999.0,9,   -999.0,9,   8.0666,6,     25.0, TS,  -999.00,9,   -999.0,  -999.00,9,  -999.00,9,     0.17,2,     0.07,2,   -999.0,-999.0000, -999,9,    0,  21.2786,  24.2268,   -999.0,9
       KS07-04,  137E,KS-1838,  1,     24,02-16030,2,20070426,0436, 31.9793, 137.0410, 4084,     10.9,  21.1981,  34.7465,2,   -999.0,9,  34.7463,2,    223.0,2,     1.53,2,  -999.00,9,     0.00,2,     0.00,2,     0.01,2, -999.000,9, -999.000,9,  -999.00,9,   -999.0,9,   -999.0,9,-999.0000,9,   -999.0,  9,  -999.00,9,   -999.0,  -999.00,9,  -999.00,9,     0.17,2,     0.06,2,   -999.0,-999.0000, -999,9,   11,  21.1960,  24.2475,   -999.0,9
       KS07-04,  137E,KS-1838,  1,     23,02-19380,2,20070426,0433, 31.9793, 137.0410, 4084,     25.9,  20.8192,  34.7429,2,   -999.0,9,-999.0000,9,    225.0,2,     1.56,2,  -999.00,9,     0.00,2,     0.00,2,     0.01,2, -999.000,9, -999.000,9,  -999.00,9,   -999.0,9,   -999.0,9,-999.0000,9,   -999.0,  9,  -999.00,9,   -999.0,  -999.00,9,  -999.00,9,     0.15,2,     0.07,2,   -999.0,-999.0000, -999,9,   26,  20.8143,  24.3485,   -999.0,9
       KS07-04,  137E,KS-1838,  1,     22,02-10977,2,20070426,0427, 31.9793, 137.0410, 4084,     49.3,  20.1417,  34.8133,2,   -999.0,9,-999.0000,9,    228.0,2,     1.64,2,  -999.00,9,     0.00,2,     0.01,2,     0.01,2, -999.000,9, -999.000,9,  -999.00,9,   -999.0,9,   -999.0,9,-999.0000,9,   -999.0,  9,  -999.00,9,   -999.0,  -999.00,9,  -999.00,9,     0.24,2,     0.17,2,   -999.0,-999.0000, -999,9,   49,  20.1326,  24.5844,   -999.0,9
       KS07-04,  137E,KS-1838,  1,     21,02-16027,2,20070426,0426, 31.9793, 137.0410, 4084,     74.1,  19.9788,  34.8296,2,   -999.0,9,-999.0000,9,    228.0,2,     1.61,2,  -999.00,9,     0.00,2,     0.01,2,     0.01,2, -999.000,9, -999.000,9,  -999.00,9,   -999.0,9,   -999.0,9,-999.0000,9,   -999.0,  9,  -999.00,9,   -999.0,  -999.00,9,  -999.00,9,     0.33,2,     0.24,2,   -999.0,-999.0000, -999,9,   74,  19.9651,  24.6410,   -999.0,9
       KS07-04,  137E,KS-1838,  1,     20,02-16026,2,20070426,0425, 31.9793, 137.0410, 4084,     99.5,  19.8492,  34.8339,2,   -999.0,9,  34.8325,2,    226.0,2,     1.68,2,  -999.00,9,     0.20,2,     0.09,2,     0.02,2, -999.000,9, -999.000,9,  -999.00,9,   -999.0,9,   -999.0,9,-999.0000,9,   -999.0,  9,  -999.00,9,   -999.0,  -999.00,9,  -999.00,9,     0.22,2,     0.15,2,   -999.0,-999.0000, -999,9,   99,  19.8310,  24.6794,   -999.0,9
       KS07-04,  137E,KS-1838,  1,     19,02-19378,2,20070426,0424, 31.9793, 137.0410, 4084,    125.3,  19.5769,  34.8065,2,   -999.0,9,-999.0000,9,    216.0,2,     2.12,2,  -999.00,9,     1.46,2,     0.06,2,     0.09,2, -999.000,9, -999.000,9,  -999.00,9,   -999.0,9,   -999.0,9,-999.0000,9,   -999.0,  9,  -999.00,9,   -999.0,  -999.00,9,  -999.00,9,     0.05,2,     0.04,2,   -999.0,-999.0000, -999,9,  124,  19.5541,  24.7307,   -999.0,9
       KS07-04,  137E,KS-1838,  1,     18,02-19377,2,20070426,0422, 31.9793, 137.0410, 4084,    150.5,  19.4333,  34.8063,2,   -999.0,9,-999.0000,9,    222.0,2,     1.93,2,  -999.00,9,     0.98,2,     0.07,2,     0.07,2, -999.000,9, -999.000,9,  -999.00,9,   -999.0,9,   -999.0,9,-999.0000,9,   -999.0,  9,  -999.00,9,   -999.0,  -999.00,9,  -999.00,9,     0.05,2,     0.04,2,   -999.0,-999.0000, -999,9,  149,  19.4061,  24.7689,   -999.0,9
       KS07-04,  137E,KS-1838,  1,     17,02-16023,2,20070426,0421, 31.9793, 137.0410, 4084,    200.1,  19.0759,  34.8014,2,   -999.0,9,  34.8018,2,    221.0,2,     2.16,2,  -999.00,9,     1.27,2,     0.02,2,     0.08,2, -999.000,9, -999.000,9,  -999.00,9,   -999.0,9,   -999.0,9,-999.0000,9,   -999.0,  9,  -999.00,9,   -999.0,  -999.00,9,  -999.00,9,     0.02,2,     0.03,2,   -999.0,-999.0000, -999,9,  199,  19.0402,  24.8591,   -999.0,9
       KS07-04,  137E,KS-1838,  1,     16,02-16022,2,20070426,0420, 31.9793, 137.0410, 4084,    251.1,  18.2920,  34.8149,2,   -999.0,9,-999.0000,9,    201.0,2,     3.63,2,  -999.00,9,     4.19,2,     0.00,2,     0.25,2, -999.000,9, -999.000,9,  -999.00,9,   -999.0,9,   -999.0,9,-999.0000,9,   -999.0,  9,  -999.00,9,   -999.0,  -999.00,9,  -999.00,9,     0.00,2,     0.01,2,   -999.0,-999.0000, -999,9,  249,  18.2484,  25.0688,   -999.0,9
       KS07-04,  137E,KS-1838,  1,     15,02-16021,2,20070426,0418, 31.9793, 137.0410, 4084,    301.9,  17.4544,  34.7763,2,   -999.0,9,  34.7752,2,    199.0,2,     5.00,2,  -999.00,9,     5.66,2,     0.00,2,     0.35,2, -999.000,9, -999.000,9,  -999.00,9,   -999.0,9,   -999.0,9,-999.0000,9,   -999.0,  9,  -999.00,9,   -999.0,  -999.00,9,  -999.00,9,     0.00,2,     0.01,2,   -999.0,-999.0000, -999,9,  300,  17.4036,  25.2460,   -999.0,9
       KS07-04,  137E,KS-1838,  1,     14,02-16020,2,20070426,0416, 31.9793, 137.0410, 4084,    402.4,  15.7786,  34.6584,2,   -999.0,9,  34.6581,2,    192.0,2,     8.47,2,  -999.00,9,     8.68,2,     0.00,2,     0.56,2, -999.000,9, -999.000,9,  -999.00,9,   -999.0,9,   -999.0,9,-999.0000,9,   -999.0,  9,  -999.00,9,   -999.0,  -999.00,9,  -999.00,9,  -999.00,9,  -999.00,9,   -999.0,-999.0000, -999,9,  399,  15.7153,  25.5494,   -999.0,9
       KS07-04,  137E,KS-1838,  1,     13,02-16019,2,20070426,0413, 31.9793, 137.0410, 4084,    504.0,  13.1011,  34.4624,2,   -999.0,9,  34.4633,2,    179.0,2,    17.57,2,  -999.00,9,    14.13,2,     0.00,2,     0.95,2, -999.000,9, -999.000,9,  -999.00,9,   -999.0,9,   -999.0,9,-999.0000,9,   -999.0,  9,  -999.00,9,   -999.0,  -999.00,9,  -999.00,9,  -999.00,9,  -999.00,9,   -999.0,-999.0000, -999,9,  500,  13.0310,  25.9702,   -999.0,9
       KS07-04,  137E,KS-1838,  1,     12,02-16018,2,20070426,0411, 31.9793, 137.0410, 4084,    605.5,  10.2833,  34.2835,2,   -999.0,9,  34.2867,2,    162.0,2,    31.06,2,  -999.00,9,    20.46,2,     0.00,2,     1.42,2, -999.000,9, -999.000,9,  -999.00,9,   -999.0,9,   -999.0,9,-999.0000,9,   -999.0,  9,  -999.00,9,   -999.0,  -999.00,9,  -999.00,9,  -999.00,9,  -999.00,9,   -999.0,-999.0000, -999,9,  600,  10.2110,  26.3564,   -999.0,9
       KS07-04,  137E,KS-1838,  1,     11,02-19376,2,20070426,0407, 31.9793, 137.0410, 4084,    707.3,   7.8496,  34.1758,2,   -999.0,9,  34.1771,2,    139.0,2,    49.71,4,  -999.00,9,    26.88,2,     0.00,2,     1.91,2, -999.000,9, -999.000,9,  -999.00,9,   -999.0,9,   -999.0,9,-999.0000,9,   -999.0,  9,  -999.00,9,   -999.0,  -999.00,9,  -999.00,9,  -999.00,9,  -999.00,9,   -999.0,-999.0000, -999,9,  701,   7.7773,  26.6593,   -999.0,9
       KS07-04,  137E,KS-1838,  1,     10,02-19375,2,20070426,0404, 31.9793, 137.0410, 4084,    807.8,   6.0924,  34.1824,2,   -999.0,9,  34.1848,2,    105.0,2,    73.44,2,  -999.00,9,    32.82,2,     0.00,2,     2.36,2, -999.000,9, -999.000,9,  -999.00,9,   -999.0,9,   -999.0,9,-999.0000,9,   -999.0,  9,  -999.00,9,   -999.0,  -999.00,9,  -999.00,9,  -999.00,9,  -999.00,9,   -999.0,-999.0000, -999,9,  801,   6.0199,  26.9041,   -999.0,9
       KS07-04,  137E,KS-1838,  1,      9,02-16015,2,20070426,0401, 31.9793, 137.0410, 4084,    907.6,   5.3059,  34.2872,2,   -999.0,9,  34.2907,2,     81.0,2,    90.06,2,  -999.00,9,    36.12,2,     0.00,2,     2.60,2, -999.000,9, -999.000,9,  -999.00,9,   -999.0,9,   -999.0,9,-999.0000,9,   -999.0,  9,  -999.00,9,   -999.0,  -999.00,9,  -999.00,9,  -999.00,9,  -999.00,9,   -999.0,-999.0000, -999,9,  899,   5.2291,  27.0835,   -999.0,9
       KS07-04,  137E,KS-1838,  1,      8,02-16014,2,20070426,0356, 31.9793, 137.0410, 4084,   1010.3,   4.2971,  34.3301,2,   -999.0,9,  34.3297,2,     67.0,2,   107.14,2,  -999.00,9,    39.04,2,     0.00,2,     2.80,2, -999.000,9, -999.000,9,  -999.00,9,   -999.0,9,   -999.0,9,-999.0000,9,   -999.0,  9,  -999.00,9,   -999.0,  -999.00,9,  -999.00,9,  -999.00,9,  -999.00,9,   -999.0,-999.0000, -999,9, 1001,   4.2186,  27.2304,   -999.0,9
       KS07-04,  137E,KS-1838,  1,      7,02-19374,2,20070426,0350, 31.9793, 137.0410, 4084,   1263.0,   3.2842,  34.4422,2,   -999.0,9,  34.4429,2,     68.0,2,   125.90,2,  -999.00,9,    40.10,2,     0.00,2,     2.87,2, -999.000,9, -999.000,9,  -999.00,9,   -999.0,9,   -999.0,9,-999.0000,9,   -999.0,  9,  -999.00,9,   -999.0,  -999.00,9,  -999.00,9,  -999.00,9,  -999.00,9,   -999.0,-999.0000, -999,9, 1250,   3.1932,  27.4219,   -999.0,9
       KS07-04,  137E,KS-1838,  1,      6,02-19373,2,20070426,0342, 31.9793, 137.0410, 4084,   1517.8,   2.6413,  34.5186,2,   -999.0,9,  34.5185,2,     80.0,2,   137.12,2,  -999.00,9,    40.00,2,     0.00,2,     2.85,2, -999.000,9, -999.000,9,  -999.00,9,   -999.0,9,   -999.0,9,-999.0000,9,   -999.0,  9,  -999.00,9,   -999.0,  -999.00,9,  -999.00,9,  -999.00,9,  -999.00,9,   -999.0,-999.0000, -999,9, 1502,   2.5363,  27.5419,   -999.0,9
       KS07-04,  137E,KS-1838,  1,      5,02-16011,2,20070426,0336, 31.9793, 137.0410, 4084,   1768.1,   2.2873,  34.5661,2,   -999.0,9,  34.5670,2,     95.0,2,   140.59,2,  -999.00,9,    39.51,2,     0.00,2,     2.79,2, -999.000,9, -999.000,9,  -999.00,9,   -999.0,9,   -999.0,9,-999.0000,9,   -999.0,  9,  -999.00,9,   -999.0,  -999.00,9,  -999.00,9,  -999.00,9,  -999.00,9,   -999.0,-999.0000, -999,9, 1748,   2.1662,  27.6107,   -999.0,9
       KS07-04,  137E,KS-1838,  1,      4,02-16010,2,20070426,0330, 31.9793, 137.0410, 4084,   2025.1,   2.0751,  34.5962,2,   -999.0,9,  34.5964,2,    107.0,2,   141.49,2,  -999.00,9,    38.73,2,     0.00,2,     2.74,2, -999.000,9, -999.000,9,  -999.00,9,   -999.0,9,   -999.0,9,-999.0000,9,   -999.0,  9,  -999.00,9,   -999.0,  -999.00,9,  -999.00,9,  -999.00,9,  -999.00,9,   -999.0,-999.0000, -999,9, 2001,   1.9355,  27.6532,   -999.0,9
       KS07-04,  137E,KS-1838,  1,      3,02-16009,2,20070426,0309, 31.9793, 137.0410, 4084,   3042.0,   1.5881,  34.6668,2,   -999.0,9,  34.6681,2,    144.0,2,   138.70,2,  -999.00,9,    36.68,2,     0.00,2,     2.56,2, -999.000,9, -999.000,9,  -999.00,9,   -999.0,9,   -999.0,9,-999.0000,9,   -999.0,  9,  -999.00,9,   -999.0,  -999.00,9,  -999.00,9,  -999.00,9,  -999.00,9,   -999.0,-999.0000, -999,9, 2999,   1.3654,  27.7525,   -999.0,9
       KS07-04,  137E,KS-1838,  1,      2,02-16008,2,20070426,0251, 31.9793, 137.0410, 4084,   4072.3,   1.5535,  34.6822,2,   -999.0,9,  34.6834,2,    154.0,2,   138.61,2,  -999.00,9,    35.90,2,     0.00,2,     2.50,2, -999.000,9, -999.000,9,  -999.00,9,   -999.0,9,   -999.0,9,-999.0000,9,   -999.0,  9,  -999.00,9,   -999.0,  -999.00,9,  -999.00,9,  -999.00,9,  -999.00,9,   -999.0,-999.0000, -999,9, 4006,   1.2252,  27.7747,   -999.0,9
       KS07-04,  137E,KS-1838,  1,      1,02-16007,9,20070426,0250, 31.9793, 137.0410, 4084,   4076.9,   1.5540,  34.6821,2,   -999.0,9,-999.0000,9,   -999.0,9,  -999.00,9,  -999.00,9,  -999.00,9,  -999.00,9,  -999.00,9, -999.000,9, -999.000,9,  -999.00,9,   -999.0,9,   -999.0,9,-999.0000,9,   -999.0,  9,  -999.00,9,   -999.0,  -999.00,9,  -999.00,9,  -999.00,9,  -999.00,9,   -999.0,-999.0000, -999,9, 4010,   1.2252,  27.7746,   -999.0,9