BOTTLE,20130510GEMDJMAYT
EXPOCODE,SECT_ID,STNNBR,CASTNO,SAMPNO,BTLNBR,BTLNBR_FLAG_W,DATE,TIME,LATITUDE,LONGITUDE,DEPTH,CTDPRS,CTDTMP,CTDSAL,CTDSAL_FLAG_W,CTDOXY,CTDOXY_FLAG_W,SALNTY,SALNTY_FLAG_W,OXYGEN,OXYGEN_FLAG_W,SILCAT,SILCAT_FLAG_W,NITRAT,NITRAT_FLAG_W,NO2+NO3,NO2+NO3_FLAG_W,NITRIT,NITRIT_FLAG_W,PHSPHT,PHSPHT_FLAG_W,CFC-11,CFC-11_FLAG_W,CFC-12,CFC-12_FLAG_W,DELC13,DELC13_FLAG_W,TCARBN,TCARBN_FLAG_W,ALKALI,ALKALI_FLAG_W,PH,PH_FLAG_W,PH_TMP,PH_SCALE,PH_NBS,PH_NBS_FLAG_W,C13ERR,TOTALP,TOTALP_FLAG_W,AMMONI,AMMONI_FLAG_W,CHLORA,CHLORA_FLAG_W,PPHYTN,PPHYTN_FLAG_W,REVPRS,REVTMP,DEPTH_,DEPTH_FLAG,CTDDEP,THETA,SIGTHT,DOC,DOC_FLAG_W
,,,,,,,GMT,GMT,,,METER,DBAR,ITS-90,PSS-78,,UMOL/KG,,PSS-78,,UMOL/KG,,UMOL/KG,,UMOL/KG,,UMOL/KG,,UMOL/KG,,UMOL/KG,,PMOL/KG,,PMOL/KG,,/MILLE,,UMOL/KG,,UMOL/KG,,25_DEG_C,,DEG_C,,,,/MILLE,UMOL/KG,,UMOL/KG,,UG/L,,UG/L,,DBAR,ITS-90,METERS,,METERS,DEG_C,,UMOL/L,
       KS07-04,  137E,KS-1858,  1,     -9,      -9,5,20070501,1824, 14.9985, 136.9780, 5506,      0.0,  28.4481,  34.5248,2,   -999.0,9,-999.0000,9,    201.0,2,     1.23,2,  -999.00,9,     0.00,2,     0.00,2,     0.03,2, -999.000,9, -999.000,9,  -999.00,9,   -999.0,9,   -999.0,9,   8.1078,2,     25.0, TS,  -999.00,9,   -999.0,  -999.00,9,  -999.00,9,     0.05,2,     0.02,2,   -999.0,-999.0000, -999,9,    0,  28.4478,  21.8904,   -999.0,9
       KS07-04,  137E,KS-1858,  1,     21,02-16027,2,20070501,1842, 14.9985, 136.9780, 5506,     10.7,  28.4438,  34.5232,2,   -999.0,9,  34.5215,2,    200.0,2,     1.17,2,  -999.00,9,     0.00,2,     0.00,2,     0.03,2, -999.000,9, -999.000,9,  -999.00,9,   1927.7,2,   -999.0,9,   8.0938,2,     25.0, TS,  -999.00,9,   -999.0,  -999.00,9,  -999.00,9,     0.05,2,     0.02,2,   -999.0,-999.0000, -999,9,   11,  28.4413,  21.8914,   -999.0,9
       KS07-04,  137E,KS-1858,  1,     20,02-16026,2,20070501,1841, 14.9985, 136.9780, 5506,     26.6,  28.4713,  34.5571,2,   -999.0,9,-999.0000,9,    200.0,2,     1.22,2,  -999.00,9,     0.00,2,     0.00,2,     0.02,2, -999.000,9, -999.000,9,  -999.00,9,   1932.2,2,   -999.0,9,   8.0976,2,     25.0, TS,  -999.00,9,   -999.0,  -999.00,9,  -999.00,9,     0.05,2,     0.01,2,   -999.0,-999.0000, -999,9,   26,  28.4650,  21.9091,   -999.0,9
       KS07-04,  137E,KS-1858,  1,     19,02-19378,2,20070501,1836, 14.9985, 136.9780, 5506,     51.9,  28.3568,  34.6774,2,   -999.0,9,-999.0000,9,    202.0,2,     1.16,2,  -999.00,9,     0.00,2,     0.00,2,     0.02,2, -999.000,9, -999.000,9,  -999.00,9,   1934.8,2,   -999.0,9,   8.1120,2,     25.0, TS,  -999.00,9,   -999.0,  -999.00,9,  -999.00,9,     0.17,4,     0.02,4,   -999.0,-999.0000, -999,9,   52,  28.3445,  22.0391,   -999.0,9
       KS07-04,  137E,KS-1858,  1,     18,02-19377,2,20070501,1835, 14.9985, 136.9780, 5506,     75.7,  27.2898,  34.7387,2,   -999.0,9,-999.0000,9,    208.0,2,     1.16,2,  -999.00,9,     0.00,2,     0.00,2,     0.01,2, -999.000,9, -999.000,9,  -999.00,9,   1938.6,2,   -999.0,9,   8.1153,2,     25.0, TS,  -999.00,9,   -999.0,  -999.00,9,  -999.00,9,     0.06,2,     0.02,2,   -999.0,-999.0000, -999,9,   75,  27.2723,  22.4338,   -999.0,9
       KS07-04,  137E,KS-1858,  1,     17,02-16023,2,20070501,1834, 14.9985, 136.9780, 5506,    101.6,  26.7725,  34.7947,2,   -999.0,9,  34.7951,2,    207.0,2,     1.15,2,  -999.00,9,     0.00,2,     0.00,2,     0.01,2, -999.000,9, -999.000,9,  -999.00,9,   1945.1,2,   -999.0,9,   8.1088,2,     25.0, TS,  -999.00,9,   -999.0,  -999.00,9,  -999.00,9,     0.09,2,     0.05,2,   -999.0,-999.0000, -999,9,  101,  26.7494,  22.6429,   -999.0,9
       KS07-04,  137E,KS-1858,  1,     16,02-16022,2,20070501,1833, 14.9985, 136.9780, 5506,    126.9,  26.1679,  34.8149,2,   -999.0,9,-999.0000,9,    203.0,2,     1.15,2,  -999.00,9,     0.00,2,     0.00,2,     0.01,2, -999.000,9, -999.000,9,  -999.00,9,   1953.0,2,   -999.0,9,   8.0963,2,     25.0, TS,  -999.00,9,   -999.0,  -999.00,9,  -999.00,9,     0.16,2,     0.13,2,   -999.0,-999.0000, -999,9,  126,  26.1395,  22.8502,   -999.0,9
       KS07-04,  137E,KS-1858,  1,     15,02-16021,2,20070501,1832, 14.9985, 136.9780, 5506,    152.0,  24.7042,  34.9214,2,   -999.0,9,-999.0000,9,    199.0,2,     1.29,2,  -999.00,9,     0.00,2,     0.00,2,     0.02,2, -999.000,9, -999.000,9,  -999.00,9,   1974.4,2,   -999.0,9,   8.0741,2,     25.0, TS,  -999.00,9,   -999.0,  -999.00,9,  -999.00,9,     0.16,2,     0.28,2,   -999.0,-999.0000, -999,9,  151,  24.6715,  23.3812,   -999.0,9
       KS07-04,  137E,KS-1858,  1,     14,02-16020,2,20070501,1830, 14.9985, 136.9780, 5506,    202.1,  20.4050,  34.9553,2,   -999.0,9,  34.9582,2,    190.0,2,     2.47,2,  -999.00,9,     2.34,2,     0.01,2,     0.18,2, -999.000,9, -999.000,9,  -999.00,9,   2030.0,2,   -999.0,9,   7.9896,2,     25.0, TS,  -999.00,9,   -999.0,  -999.00,9,  -999.00,9,     0.02,2,     0.03,2,   -999.0,-999.0000, -999,9,  201,  20.3671,  24.6303,   -999.0,9
       KS07-04,  137E,KS-1858,  1,     13,02-16019,2,20070501,1829, 14.9985, 136.9780, 5506,    253.1,  17.6432,  34.7946,2,   -999.0,9,-999.0000,9,    194.0,2,     4.33,2,  -999.00,9,     5.27,2,     0.00,2,     0.35,2, -999.000,9, -999.000,9,  -999.00,9,   2044.6,2,   -999.0,9,   7.9364,2,     25.0, TS,  -999.00,9,   -999.0,  -999.00,9,  -999.00,9,     0.00,2,     0.01,2,   -999.0,-999.0000, -999,9,  251,  17.6003,  25.2125,   -999.0,9
       KS07-04,  137E,KS-1858,  1,     12,02-16018,2,20070501,1827, 14.9985, 136.9780, 5506,    302.9,  15.3074,  34.5971,2,   -999.0,9,  34.5972,2,    186.0,2,     8.41,2,  -999.00,9,     9.36,2,     0.00,2,     0.64,2, -999.000,9, -999.000,9,  -999.00,9,   2073.1,2,   -999.0,9,   7.8747,2,     25.0, TS,  -999.00,9,   -999.0,  -999.00,9,  -999.00,9,     0.00,2,     0.00,2,   -999.0,-999.0000, -999,9,  301,  15.2609,  25.6038,   -999.0,9
       KS07-04,  137E,KS-1858,  1,     11,02-19376,2,20070501,1824, 14.9985, 136.9780, 5506,    404.3,  10.8535,  34.2863,2,   -999.0,9,  34.2875,2,    161.0,2,    23.12,2,  -999.00,9,    19.00,2,     0.00,2,     1.36,2, -999.000,9, -999.000,9,  -999.00,9,   2136.8,2,   -999.0,9,   7.7185,2,     25.0, TS,  -999.00,9,   -999.0,  -999.00,9,  -999.00,9,  -999.00,9,  -999.00,9,   -999.0,-999.0000, -999,9,  402,  10.8040,  26.2548,   -999.0,9
       KS07-04,  137E,KS-1858,  1,     10,02-19375,2,20070501,1822, 14.9985, 136.9780, 5506,    499.9,   7.9699,  34.2430,2,   -999.0,9,  34.2424,2,    100.0,2,    46.76,2,  -999.00,9,    30.00,2,     0.00,2,     2.19,2, -999.000,9, -999.000,9,  -999.00,9,   2220.4,2,   -999.0,9,   7.5472,2,     25.0, TS,  -999.00,9,   -999.0,  -999.00,9,  -999.00,9,  -999.00,9,  -999.00,9,   -999.0,-999.0000, -999,9,  496,   7.9190,  26.6913,   -999.0,9
       KS07-04,  137E,KS-1858,  1,      9,02-16015,2,20070501,1819, 14.9985, 136.9780, 5506,    605.6,   6.6161,  34.3510,2,   -999.0,9,  34.3495,2,     68.0,2,    63.28,2,  -999.00,9,    35.54,2,     0.00,2,     2.61,2, -999.000,9, -999.000,9,  -999.00,9,   2265.1,2,   -999.0,9,   7.4764,2,     25.0, TS,  -999.00,9,   -999.0,  -999.00,9,  -999.00,9,  -999.00,9,  -999.00,9,   -999.0,-999.0000, -999,9,  601,   6.5601,  26.9671,   -999.0,9
       KS07-04,  137E,KS-1858,  1,      8,02-16014,2,20070501,1816, 14.9985, 136.9780, 5506,    706.6,   5.7296,  34.4476,2,   -999.0,9,  34.4470,2,     71.0,2,    74.70,2,  -999.00,9,    37.19,2,     0.00,2,     2.71,2, -999.000,9, -999.000,9,  -999.00,9,   2283.7,2,   -999.0,9,   7.4622,2,     25.0, TS,  -999.00,9,   -999.0,  -999.00,9,  -999.00,9,  -999.00,9,  -999.00,9,   -999.0,-999.0000, -999,9,  701,   5.6684,  27.1576,   -999.0,9
       KS07-04,  137E,KS-1858,  1,      7,02-19374,2,20070501,1814, 14.9985, 136.9780, 5506,    807.8,   5.1927,  34.4895,2,   -999.0,9,  34.4891,2,     78.0,2,    81.90,2,  -999.00,9,    37.58,2,     0.00,2,     2.74,2, -999.000,9, -999.000,9,  -999.00,9,   2293.5,2,   -999.0,9,   7.4941,3,     25.0, TS,  -999.00,9,   -999.0,  -999.00,9,  -999.00,9,  -999.00,9,  -999.00,9,   -999.0,-999.0000, -999,9,  802,   5.1253,  27.2560,   -999.0,9
       KS07-04,  137E,KS-1858,  1,      6,02-19373,2,20070501,1811, 14.9985, 136.9780, 5506,    907.8,   4.6686,  34.5167,2,   -999.0,9,  34.5173,2,     83.0,2,    90.53,2,  -999.00,9,    37.96,2,     0.00,2,     2.74,2, -999.000,9, -999.000,9,  -999.00,9,   2303.0,3,   -999.0,9,   7.4847,2,     25.0, TS,  -999.00,9,   -999.0,  -999.00,9,  -999.00,9,  -999.00,9,  -999.00,9,   -999.0,-999.0000, -999,9,  901,   4.5959,  27.3378,   -999.0,9
       KS07-04,  137E,KS-1858,  1,      5,02-16011,2,20070501,1808, 14.9985, 136.9780, 5506,   1009.3,   4.2653,  34.5348,2,   -999.0,9,  34.5351,2,     87.0,2,    98.82,2,  -999.00,9,    38.15,2,     0.00,2,     2.76,2, -999.000,9, -999.000,9,  -999.00,9,   2306.3,2,   -999.0,9,   7.5108,2,     25.0, TS,  -999.00,9,   -999.0,  -999.00,9,  -999.00,9,  -999.00,9,  -999.00,9,   -999.0,-999.0000, -999,9, 1001,   4.1868,  27.3965,   -999.0,9
       KS07-04,  137E,KS-1858,  1,      4,02-16010,2,20070501,1803, 14.9985, 136.9780, 5506,   1262.3,   3.4439,  34.5587,2,   -999.0,9,  34.5585,2,     92.0,2,   114.97,2,  -999.00,9,    38.44,2,     0.00,2,     2.77,2, -999.000,9, -999.000,9,  -999.00,9,   2321.8,2,   -999.0,9,   7.5179,2,     25.0, TS,  -999.00,9,   -999.0,  -999.00,9,  -999.00,9,  -999.00,9,  -999.00,9,   -999.0,-999.0000, -999,9, 1251,   3.3512,  27.4999,   -999.0,9
       KS07-04,  137E,KS-1858,  1,      3,02-16009,2,20070501,1758, 14.9985, 136.9780, 5506,   1512.9,   2.8417,  34.5830,2,   -999.0,9,  34.5347,4,     99.0,2,   126.58,2,  -999.00,9,    38.44,2,     0.00,2,     2.76,2, -999.000,9, -999.000,9,  -999.00,9,   2334.4,3,   -999.0,9,   7.5296,2,     25.0, TS,  -999.00,9,   -999.0,  -999.00,9,  -999.00,9,  -999.00,9,  -999.00,9,   -999.0,-999.0000, -999,9, 1499,   2.7346,  27.5761,   -999.0,9
       KS07-04,  137E,KS-1858,  1,      2,02-16008,2,20070501,1753, 14.9985, 136.9780, 5506,   1767.5,   2.4085,  34.6078,2,   -999.0,9,  34.6077,2,    107.0,2,   133.19,2,  -999.00,9,    38.44,2,     0.00,2,     2.74,2, -999.000,9, -999.000,9,  -999.00,9,   2335.9,6,   -999.0,9,   7.5357,2,     25.0, TS,  -999.00,9,   -999.0,  -999.00,9,  -999.00,9,  -999.00,9,  -999.00,9,   -999.0,-999.0000, -999,9, 1750,   2.2857,  27.6343,   -999.0,9
       KS07-04,  137E,KS-1858,  1,      1,02-16007,2,20070501,1747, 14.9985, 136.9780, 5506,   2027.5,   2.1007,  34.6306,2,   -999.0,9,  34.6307,2,    117.0,2,   138.61,2,  -999.00,9,    37.95,2,     0.00,2,     2.71,2, -999.000,9, -999.000,9,  -999.00,9,   2341.7,2,   -999.0,9,   7.5413,2,     25.0, TS,  -999.00,9,   -999.0,  -999.00,9,  -999.00,9,  -999.00,9,  -999.00,9,   -999.0,-999.0000, -999,9, 2006,   1.9604,  27.6789,   -999.0,9