BOTTLE,20130510GEMDJMAYT
EXPOCODE,SECT_ID,STNNBR,CASTNO,SAMPNO,BTLNBR,BTLNBR_FLAG_W,DATE,TIME,LATITUDE,LONGITUDE,DEPTH,CTDPRS,CTDTMP,CTDSAL,CTDSAL_FLAG_W,CTDOXY,CTDOXY_FLAG_W,SALNTY,SALNTY_FLAG_W,OXYGEN,OXYGEN_FLAG_W,SILCAT,SILCAT_FLAG_W,NITRAT,NITRAT_FLAG_W,NO2+NO3,NO2+NO3_FLAG_W,NITRIT,NITRIT_FLAG_W,PHSPHT,PHSPHT_FLAG_W,CFC-11,CFC-11_FLAG_W,CFC-12,CFC-12_FLAG_W,DELC13,DELC13_FLAG_W,TCARBN,TCARBN_FLAG_W,ALKALI,ALKALI_FLAG_W,PH,PH_FLAG_W,PH_TMP,PH_SCALE,PH_NBS,PH_NBS_FLAG_W,C13ERR,TOTALP,TOTALP_FLAG_W,AMMONI,AMMONI_FLAG_W,CHLORA,CHLORA_FLAG_W,PPHYTN,PPHYTN_FLAG_W,REVPRS,REVTMP,DEPTH_,DEPTH_FLAG,CTDDEP,THETA,SIGTHT,DOC,DOC_FLAG_W
,,,,,,,GMT,GMT,,,METER,DBAR,ITS-90,PSS-78,,UMOL/KG,,PSS-78,,UMOL/KG,,UMOL/KG,,UMOL/KG,,UMOL/KG,,UMOL/KG,,UMOL/KG,,PMOL/KG,,PMOL/KG,,/MILLE,,UMOL/KG,,UMOL/KG,,25_DEG_C,,DEG_C,,,,/MILLE,UMOL/KG,,UMOL/KG,,UG/L,,UG/L,,DBAR,ITS-90,METERS,,METERS,DEG_C,,UMOL/L,
       KS07-04,  137E,KS-1853,  1,     -9,      -9,5,20070430,1010, 19.9857, 136.9998, 4768,      0.0,  28.3547,  34.8074,2,   -999.0,9,-999.0000,9,    205.0,2,     1.11,2,  -999.00,9,     0.00,2,     0.00,2,     0.02,2, -999.000,9, -999.000,9,  -999.00,9,   -999.0,9,   -999.0,9,   8.1140,2,     25.0, TS,  -999.00,9,   -999.0,  -999.00,9,  -999.00,9,     0.04,2,     0.01,2,   -999.0,-999.0000, -999,9,    0,  28.3544,  22.1336,   -999.0,9
       KS07-04,  137E,KS-1853,  1,     21,02-16027,2,20070430,1036, 19.9857, 136.9998, 4768,     10.8,  28.3563,  34.8074,2,   -999.0,9,  34.8063,2,    202.0,2,     1.34,2,  -999.00,9,     0.00,2,     0.00,2,     0.01,2, -999.000,9, -999.000,9,  -999.00,9,   1942.0,2,   -999.0,9,   8.0594,3,     25.0, TS,  -999.00,9,   -999.0,  -999.00,9,  -999.00,9,     0.04,2,     0.01,2,   -999.0,-999.0000, -999,9,   11,  28.3537,  22.1338,   -999.0,9
       KS07-04,  137E,KS-1853,  1,     20,02-16026,2,20070430,1034, 19.9857, 136.9998, 4768,     24.8,  28.0226,  34.8124,2,   -999.0,9,-999.0000,9,    208.0,2,     1.17,2,  -999.00,9,     0.00,2,     0.00,2,     0.01,2, -999.000,9, -999.000,9,  -999.00,9,   1942.9,2,   -999.0,9,   8.1106,2,     25.0, TS,  -999.00,9,   -999.0,  -999.00,9,  -999.00,9,     0.04,2,     0.01,2,   -999.0,-999.0000, -999,9,   25,  28.0167,  22.2481,   -999.0,9
       KS07-04,  137E,KS-1853,  1,     19,02-19378,2,20070430,1030, 19.9857, 136.9998, 4768,     50.7,  27.0256,  34.8020,2,   -999.0,9,-999.0000,9,    208.0,2,     1.11,2,  -999.00,9,     0.00,2,     0.00,2,     0.01,2, -999.000,9, -999.000,9,  -999.00,9,   1944.3,2,   -999.0,9,   8.1089,2,     25.0, TS,  -999.00,9,   -999.0,  -999.00,9,  -999.00,9,     0.05,2,     0.02,2,   -999.0,-999.0000, -999,9,   50,  27.0140,  22.5642,   -999.0,9
       KS07-04,  137E,KS-1853,  1,     18,02-19377,2,20070430,1029, 19.9857, 136.9998, 4768,     76.0,  26.6759,  34.7948,2,   -999.0,9,-999.0000,9,    208.0,2,     1.09,2,  -999.00,9,     0.00,2,     0.00,2,     0.01,2, -999.000,9, -999.000,9,  -999.00,9,   1934.8,2,   -999.0,9,   8.1054,2,     25.0, TS,  -999.00,9,   -999.0,  -999.00,9,  -999.00,9,     0.07,2,     0.03,2,   -999.0,-999.0000, -999,9,   76,  26.6586,  22.6717,   -999.0,9
       KS07-04,  137E,KS-1853,  1,     17,02-16023,2,20070430,1028, 19.9857, 136.9998, 4768,    101.0,  26.3954,  34.7883,2,   -999.0,9,  34.7908,2,    207.0,2,     1.12,2,  -999.00,9,     0.00,2,     0.00,2,     0.00,2, -999.000,9, -999.000,9,  -999.00,9,   1948.6,2,   -999.0,9,   8.1080,2,     25.0, TS,  -999.00,9,   -999.0,  -999.00,9,  -999.00,9,     0.08,2,     0.06,2,   -999.0,-999.0000, -999,9,  100,  26.3726,  22.7570,   -999.0,9
       KS07-04,  137E,KS-1853,  1,     16,02-16022,2,20070430,1027, 19.9857, 136.9998, 4768,    125.1,  25.3631,  34.8863,2,   -999.0,9,-999.0000,9,    201.0,2,     1.25,2,  -999.00,9,     0.00,2,     0.00,2,     0.02,2, -999.000,9, -999.000,9,  -999.00,9,   1967.5,2,   -999.0,9,   8.0737,2,     25.0, TS,  -999.00,9,   -999.0,  -999.00,9,  -999.00,9,     0.16,2,     0.23,2,   -999.0,-999.0000, -999,9,  124,  25.3357,  23.1528,   -999.0,9
       KS07-04,  137E,KS-1853,  1,     15,02-16021,2,20070430,1026, 19.9857, 136.9998, 4768,    151.6,  23.7127,  34.8436,2,   -999.0,9,-999.0000,9,    214.0,2,     1.39,2,  -999.00,9,     0.00,2,     0.00,2,     0.00,2, -999.000,9, -999.000,9,  -999.00,9,   2026.9,3,   -999.0,9,   7.9860,2,     25.0, TS,  -999.00,9,   -999.0,  -999.00,9,  -999.00,9,     0.21,2,     0.18,2,   -999.0,-999.0000, -999,9,  151,  23.6811,  23.6169,   -999.0,9
       KS07-04,  137E,KS-1853,  1,     14,02-16020,2,20070430,1024, 19.9857, 136.9998, 4768,    201.4,  19.7241,  34.8960,2,   -999.0,9,  34.9006,4,    196.0,2,     2.65,2,  -999.00,9,     2.83,2,     0.01,2,     0.19,2, -999.000,9, -999.000,9,  -999.00,9,   2030.1,3,   -999.0,9,   7.9681,2,     25.0, TS,  -999.00,9,   -999.0,  -999.00,9,  -999.00,9,     0.02,2,     0.05,2,   -999.0,-999.0000, -999,9,  200,  19.6872,  24.7644,   -999.0,9
       KS07-04,  137E,KS-1853,  1,     13,02-16019,2,20070430,1023, 19.9857, 136.9998, 4768,    251.4,  18.0426,  34.8231,2,   -999.0,9,-999.0000,9,    203.0,2,     3.48,2,  -999.00,9,     4.19,2,     0.00,2,     0.27,2, -999.000,9, -999.000,9,  -999.00,9,   2026.4,2,   -999.0,9,   7.9721,2,     25.0, TS,  -999.00,9,   -999.0,  -999.00,9,  -999.00,9,     0.00,2,     0.00,2,   -999.0,-999.0000, -999,9,  250,  17.9993,  25.1367,   -999.0,9
       KS07-04,  137E,KS-1853,  1,     12,02-16018,2,20070430,1022, 19.9857, 136.9998, 4768,    302.0,  16.8432,  34.7449,2,   -999.0,9,  34.7443,2,    199.0,2,     5.25,2,  -999.00,9,     6.34,2,     0.00,2,     0.40,2, -999.000,9, -999.000,9,  -999.00,9,   2044.7,2,   -999.0,9,   7.9371,2,     25.0, TS,  -999.00,9,   -999.0,  -999.00,9,  -999.00,9,     0.00,2,     0.00,2,   -999.0,-999.0000, -999,9,  300,  16.7936,  25.3672,   -999.0,9
       KS07-04,  137E,KS-1853,  1,     11,02-19376,2,20070430,1019, 19.9857, 136.9998, 4768,    403.2,  13.6833,  34.4845,2,   -999.0,9,  34.4828,2,    189.0,2,    13.31,2,  -999.00,9,    12.18,2,     0.00,2,     0.82,2, -999.000,9, -999.000,9,  -999.00,9,   2084.3,2,   -999.0,9,   7.8452,2,     25.0, TS,  -999.00,9,   -999.0,  -999.00,9,  -999.00,9,  -999.00,9,  -999.00,9,   -999.0,-999.0000, -999,9,  400,  13.6258,  25.8664,   -999.0,9
       KS07-04,  137E,KS-1853,  1,     10,02-19375,2,20070430,1017, 19.9857, 136.9998, 4768,    503.5,   9.9565,  34.2319,2,   -999.0,9,  34.2312,2,    159.0,2,    28.58,2,  -999.00,9,    21.14,2,     0.00,2,     1.49,2, -999.000,9, -999.000,9,  -999.00,9,   2150.0,2,   -999.0,9,   7.6891,2,     25.0, TS,  -999.00,9,   -999.0,  -999.00,9,  -999.00,9,  -999.00,9,  -999.00,9,   -999.0,-999.0000, -999,9,  500,   9.8979,  26.3694,   -999.0,9
       KS07-04,  137E,KS-1853,  1,      9,02-16015,2,20070430,1014, 19.9857, 136.9998, 4768,    605.1,   7.8436,  34.1753,2,   -999.0,9,  34.1768,2,    118.0,2,    46.27,2,  -999.00,9,    28.73,2,     0.00,2,     2.06,2, -999.000,9, -999.000,9,  -999.00,9,   2207.3,2,   -999.0,9,   7.5666,2,     25.0, TS,  -999.00,9,   -999.0,  -999.00,9,  -999.00,9,  -999.00,9,  -999.00,9,   -999.0,-999.0000, -999,9,  601,   7.7822,  26.6582,   -999.0,9
       KS07-04,  137E,KS-1853,  1,      8,02-16014,2,20070430,1012, 19.9857, 136.9998, 4768,    706.1,   6.0481,  34.1956,2,   -999.0,9,  34.1975,2,     81.0,2,    70.07,2,  -999.00,9,    35.15,2,     0.00,2,     2.56,2, -999.000,9, -999.000,9,  -999.00,9,   2265.8,2,   -999.0,9,   7.4765,2,     25.0, TS,  -999.00,9,   -999.0,  -999.00,9,  -999.00,9,  -999.00,9,  -999.00,9,   -999.0,-999.0000, -999,9,  701,   5.9855,  26.9189,   -999.0,9
       KS07-04,  137E,KS-1853,  1,      7,02-19374,2,20070430,1010, 19.9857, 136.9998, 4768,    805.9,   4.9618,  34.3066,2,   -999.0,9,  34.3079,2,     62.0,2,    90.59,2,  -999.00,9,    38.85,2,     0.00,2,     2.82,2, -999.000,9, -999.000,9,  -999.00,9,   2307.1,2,   -999.0,9,   7.4247,2,     25.0, TS,  -999.00,9,   -999.0,  -999.00,9,  -999.00,9,  -999.00,9,  -999.00,9,   -999.0,-999.0000, -999,9,  799,   4.8963,  27.1374,   -999.0,9
       KS07-04,  137E,KS-1853,  1,      6,02-19373,2,20070430,1007, 19.9857, 136.9998, 4768,    907.8,   4.4690,  34.3917,2,   -999.0,9,  34.3925,2,     61.0,2,   100.68,2,  -999.00,9,    39.62,2,     0.00,2,     2.86,2, -999.000,9, -999.000,9,  -999.00,9,   2315.9,2,   -999.0,9,   7.4545,2,     25.0, TS,  -999.00,9,   -999.0,  -999.00,9,  -999.00,9,  -999.00,9,  -999.00,9,   -999.0,-999.0000, -999,9,  900,   4.3978,  27.2602,   -999.0,9
       KS07-04,  137E,KS-1853,  1,      5,02-16011,2,20070430,1005, 19.9857, 136.9998, 4768,   1008.1,   3.8740,  34.4492,2,   -999.0,9,  34.4494,2,     66.0,2,   112.61,2,  -999.00,9,    40.10,2,     0.00,2,     2.89,2, -999.000,9, -999.000,9,  -999.00,9,   2329.6,2,   -999.0,9,   7.4516,2,     25.0, TS,  -999.00,9,   -999.0,  -999.00,9,  -999.00,9,  -999.00,9,  -999.00,9,   -999.0,-999.0000, -999,9,  999,   3.7987,  27.3686,   -999.0,9
       KS07-04,  137E,KS-1853,  1,      4,02-16010,2,20070430,1000, 19.9857, 136.9998, 4768,   1261.1,   3.0858,  34.5120,2,   -999.0,9,  34.5120,2,     78.0,2,   126.37,2,  -999.00,9,    40.10,2,     0.00,2,     2.87,2, -999.000,9, -999.000,9,  -999.00,9,   2339.5,2,   -999.0,9,   7.4591,2,     25.0, TS,  -999.00,9,   -999.0,  -999.00,9,  -999.00,9,  -999.00,9,  -999.00,9,   -999.0,-999.0000, -999,9, 1250,   2.9968,  27.4958,   -999.0,9
       KS07-04,  137E,KS-1853,  1,      3,02-16009,2,20070430,0954, 19.9857, 136.9998, 4768,   1514.6,   2.6582,  34.5717,2,   -999.0,9,  34.5717,2,     96.0,2,   133.33,2,  -999.00,9,    38.93,2,     0.00,2,     2.77,2, -999.000,9, -999.000,9,  -999.00,9,   2339.6,2,   -999.0,9,   7.5046,2,     25.0, TS,  -999.00,9,   -999.0,  -999.00,9,  -999.00,9,  -999.00,9,  -999.00,9,   -999.0,-999.0000, -999,9, 1500,   2.5531,  27.5829,   -999.0,9
       KS07-04,  137E,KS-1853,  1,      2,02-16008,2,20070430,0949, 19.9857, 136.9998, 4768,   1767.4,   2.3397,  34.6046,2,   -999.0,9,  34.6042,2,    107.0,2,   136.91,2,  -999.00,9,    38.63,2,     0.00,2,     2.73,2, -999.000,9, -999.000,9,  -999.00,9,   2340.0,6,   -999.0,9,   7.5266,2,     25.0, TS,  -999.00,9,   -999.0,  -999.00,9,  -999.00,9,  -999.00,9,  -999.00,9,   -999.0,-999.0000, -999,9, 1749,   2.2178,  27.6374,   -999.0,9
       KS07-04,  137E,KS-1853,  1,      1,02-16007,2,20070430,0944, 19.9857, 136.9998, 4768,   2030.6,   2.0766,  34.6247,2,   -999.0,9,  34.6240,2,    116.0,2,   139.84,2,  -999.00,9,    38.24,2,     0.00,2,     2.71,2, -999.000,9, -999.000,9,  -999.00,9,   2340.5,2,   -999.0,9,   7.5367,2,     25.0, TS,  -999.00,9,   -999.0,  -999.00,9,  -999.00,9,  -999.00,9,  -999.00,9,   -999.0,-999.0000, -999,9, 2008,   1.9364,  27.6760,   -999.0,9