BOTTLE,20130510GEMDJMAYT
EXPOCODE,SECT_ID,STNNBR,CASTNO,SAMPNO,BTLNBR,BTLNBR_FLAG_W,DATE,TIME,LATITUDE,LONGITUDE,DEPTH,CTDPRS,CTDTMP,CTDSAL,CTDSAL_FLAG_W,CTDOXY,CTDOXY_FLAG_W,SALNTY,SALNTY_FLAG_W,OXYGEN,OXYGEN_FLAG_W,SILCAT,SILCAT_FLAG_W,NITRAT,NITRAT_FLAG_W,NO2+NO3,NO2+NO3_FLAG_W,NITRIT,NITRIT_FLAG_W,PHSPHT,PHSPHT_FLAG_W,CFC-11,CFC-11_FLAG_W,CFC-12,CFC-12_FLAG_W,DELC13,DELC13_FLAG_W,TCARBN,TCARBN_FLAG_W,ALKALI,ALKALI_FLAG_W,PH,PH_FLAG_W,PH_TMP,PH_SCALE,PH_NBS,PH_NBS_FLAG_W,C13ERR,TOTALP,TOTALP_FLAG_W,AMMONI,AMMONI_FLAG_W,CHLORA,CHLORA_FLAG_W,PPHYTN,PPHYTN_FLAG_W,REVPRS,REVTMP,DEPTH_,DEPTH_FLAG,CTDDEP,THETA,SIGTHT,DOC,DOC_FLAG_W
,,,,,,,GMT,GMT,,,METER,DBAR,ITS-90,PSS-78,,UMOL/KG,,PSS-78,,UMOL/KG,,UMOL/KG,,UMOL/KG,,UMOL/KG,,UMOL/KG,,UMOL/KG,,PMOL/KG,,PMOL/KG,,/MILLE,,UMOL/KG,,UMOL/KG,,25_DEG_C,,DEG_C,,,,/MILLE,UMOL/KG,,UMOL/KG,,UG/L,,UG/L,,DBAR,ITS-90,METERS,,METERS,DEG_C,,UMOL/L,
       KS07-04,  137E,KS-1870,  1,     -9,      -9,5,20070505,0730,  2.9882, 137.0045, 4499,      0.0,  29.8234,  34.1885,2,   -999.0,9,-999.0000,9,    198.0,2,     0.88,2,  -999.00,9,     0.00,2,     0.00,2,     0.05,2, -999.000,9, -999.000,9,  -999.00,9,   -999.0,9,   -999.0,9,   8.1221,2,     25.0, TS,  -999.00,9,   -999.0,  -999.00,9,  -999.00,9,     0.09,2,     0.04,2,   -999.0,-999.0000, -999,9,    0,  29.8231,  21.1781,   -999.0,9
       KS07-04,  137E,KS-1870,  1,     21,02-16027,2,20070505,0747,  2.9882, 137.0045, 4499,     10.4,  29.7374,  34.2316,2,   -999.0,9,  34.2313,2,    198.0,2,     0.87,2,  -999.00,9,     0.00,2,     0.00,2,     0.05,2, -999.000,9, -999.000,9,  -999.00,9,   -999.0,9,   -999.0,9,-999.0000,9,   -999.0,  9,  -999.00,9,   -999.0,  -999.00,9,  -999.00,9,     0.09,2,     0.03,2,   -999.0,-999.0000, -999,9,   10,  29.7348,  21.2403,   -999.0,9
       KS07-04,  137E,KS-1870,  1,     20,02-16026,2,20070505,0746,  2.9882, 137.0045, 4499,     25.6,  29.6220,  34.2470,2,   -999.0,9,-999.0000,9,    199.0,2,     0.86,2,  -999.00,9,     0.00,2,     0.00,2,     0.05,2, -999.000,9, -999.000,9,  -999.00,9,   -999.0,9,   -999.0,9,-999.0000,9,   -999.0,  9,  -999.00,9,   -999.0,  -999.00,9,  -999.00,9,     0.12,2,     0.05,2,   -999.0,-999.0000, -999,9,   25,  29.6157,  21.2922,   -999.0,9
       KS07-04,  137E,KS-1870,  1,     19,02-19378,2,20070505,0741,  2.9882, 137.0045, 4499,     49.9,  28.4663,  34.5990,2,   -999.0,9,-999.0000,9,    197.0,2,     0.91,2,  -999.00,9,     0.00,2,     0.00,2,     0.13,2, -999.000,9, -999.000,9,  -999.00,9,   -999.0,9,   -999.0,9,-999.0000,9,   -999.0,  9,  -999.00,9,   -999.0,  -999.00,9,  -999.00,9,     0.22,2,     0.15,2,   -999.0,-999.0000, -999,9,   50,  28.4544,  21.9440,   -999.0,9
       KS07-04,  137E,KS-1870,  1,     18,02-19377,2,20070505,0740,  2.9882, 137.0045, 4499,     76.1,  27.3986,  35.0624,2,   -999.0,9,-999.0000,9,    165.0,2,     2.42,2,  -999.00,9,     3.72,2,     0.53,2,     0.40,2, -999.000,9, -999.000,9,  -999.00,9,   -999.0,9,   -999.0,9,-999.0000,9,   -999.0,  9,  -999.00,9,   -999.0,  -999.00,9,  -999.00,9,     0.34,2,     0.38,2,   -999.0,-999.0000, -999,9,   76,  27.3810,  22.6425,   -999.0,9
       KS07-04,  137E,KS-1870,  1,     17,02-16023,2,20070505,0739,  2.9882, 137.0045, 4499,    101.3,  25.7734,  35.0822,2,   -999.0,9,  35.0771,4,    138.0,2,     3.24,2,  -999.00,9,     7.82,2,     0.62,2,     0.61,2, -999.000,9, -999.000,9,  -999.00,9,   -999.0,9,   -999.0,9,-999.0000,9,   -999.0,  9,  -999.00,9,   -999.0,  -999.00,9,  -999.00,9,     0.19,2,     0.24,2,   -999.0,-999.0000, -999,9,  101,  25.7509,  23.1728,   -999.0,9
       KS07-04,  137E,KS-1870,  1,     16,02-16022,2,20070505,0738,  2.9882, 137.0045, 4499,    125.7,  24.4968,  35.1713,2,   -999.0,9,-999.0000,9,    130.0,2,     4.15,2,  -999.00,9,     9.28,2,     0.04,2,     0.70,2, -999.000,9, -999.000,9,  -999.00,9,   -999.0,9,   -999.0,9,-999.0000,9,   -999.0,  9,  -999.00,9,   -999.0,  -999.00,9,  -999.00,9,     0.10,2,     0.13,2,   -999.0,-999.0000, -999,9,  125,  24.4699,  23.6309,   -999.0,9
       KS07-04,  137E,KS-1870,  1,     15,02-16021,2,20070505,0737,  2.9882, 137.0045, 4499,    150.9,  23.8424,  35.2089,2,   -999.0,9,-999.0000,9,    130.0,2,     4.73,2,  -999.00,9,     9.67,2,     0.02,2,     0.73,2, -999.000,9, -999.000,9,  -999.00,9,   -999.0,9,   -999.0,9,-999.0000,9,   -999.0,  9,  -999.00,9,   -999.0,  -999.00,9,  -999.00,9,     0.04,2,     0.08,2,   -999.0,-999.0000, -999,9,  150,  23.8108,  23.8555,   -999.0,9
       KS07-04,  137E,KS-1870,  1,     14,02-16020,2,20070505,0736,  2.9882, 137.0045, 4499,    201.4,  21.4192,  35.2185,2,   -999.0,9,  35.2754,4,    135.0,2,     5.50,2,  -999.00,9,    10.25,2,     0.01,2,     0.78,2, -999.000,9, -999.000,9,  -999.00,9,   -999.0,9,   -999.0,9,-999.0000,9,   -999.0,  9,  -999.00,9,   -999.0,  -999.00,9,  -999.00,9,     0.01,2,     0.02,2,   -999.0,-999.0000, -999,9,  200,  21.3801,  24.5562,   -999.0,9
       KS07-04,  137E,KS-1870,  1,     13,02-16019,2,20070505,0734,  2.9882, 137.0045, 4499,    252.7,  15.4627,  34.8125,2,   -999.0,9,-999.0000,9,    137.0,2,    16.81,2,  -999.00,9,    15.99,2,     0.00,2,     1.15,2, -999.000,9, -999.000,9,  -999.00,9,   -999.0,9,   -999.0,9,-999.0000,9,   -999.0,  9,  -999.00,9,   -999.0,  -999.00,9,  -999.00,9,     0.00,2,     0.03,2,   -999.0,-999.0000, -999,9,  251,  15.4236,  25.7336,   -999.0,9
       KS07-04,  137E,KS-1870,  1,     12,02-16018,2,20070505,0733,  2.9882, 137.0045, 4499,    302.1,  11.4841,  34.6252,2,   -999.0,9,  34.6247,2,    123.0,2,    30.22,2,  -999.00,9,    23.38,2,     0.00,2,     1.69,2, -999.000,9, -999.000,9,  -999.00,9,   -999.0,9,   -999.0,9,-999.0000,9,   -999.0,  9,  -999.00,9,   -999.0,  -999.00,9,  -999.00,9,     0.00,2,     0.02,2,   -999.0,-999.0000, -999,9,  300,  11.4458,  26.4021,   -999.0,9
       KS07-04,  137E,KS-1870,  1,     11,02-19376,2,20070505,0730,  2.9882, 137.0045, 4499,    402.7,   9.6053,  34.6249,2,   -999.0,9,  34.6227,2,    117.0,2,    32.22,2,  -999.00,9,    27.37,2,     0.00,2,     1.93,2, -999.000,9, -999.000,9,  -999.00,9,   -999.0,9,   -999.0,9,-999.0000,9,   -999.0,  9,  -999.00,9,   -999.0,  -999.00,9,  -999.00,9,  -999.00,9,  -999.00,9,   -999.0,-999.0000, -999,9,  400,   9.5595,  26.7332,   -999.0,9
       KS07-04,  137E,KS-1870,  1,     10,02-19375,2,20070505,0728,  2.9882, 137.0045, 4499,    503.5,   7.9560,  34.5854,2,   -999.0,9,  34.5847,2,    121.0,2,    35.90,2,  -999.00,9,    30.19,2,     0.00,2,     2.12,2, -999.000,9, -999.000,9,  -999.00,9,   -999.0,9,   -999.0,9,-999.0000,9,   -999.0,  9,  -999.00,9,   -999.0,  -999.00,9,  -999.00,9,  -999.00,9,  -999.00,9,   -999.0,-999.0000, -999,9,  500,   7.9045,  26.9624,   -999.0,9
       KS07-04,  137E,KS-1870,  1,      9,02-16015,2,20070505,0725,  2.9882, 137.0045, 4499,    604.3,   6.9903,  34.5476,2,   -999.0,9,  34.5475,2,    115.0,2,    43.29,2,  -999.00,9,    32.71,2,     0.00,2,     2.30,2, -999.000,9, -999.000,9,  -999.00,9,   -999.0,9,   -999.0,9,-999.0000,9,   -999.0,  9,  -999.00,9,   -999.0,  -999.00,9,  -999.00,9,  -999.00,9,  -999.00,9,   -999.0,-999.0000, -999,9,  600,   6.9325,  27.0717,   -999.0,9
       KS07-04,  137E,KS-1870,  1,      8,02-16014,2,20070505,0723,  2.9882, 137.0045, 4499,    705.8,   5.9839,  34.5311,2,   -999.0,9,  34.5306,2,    104.0,2,    60.60,2,  -999.00,9,    35.14,2,     0.00,2,     2.50,2, -999.000,9, -999.000,9,  -999.00,9,   -999.0,9,   -999.0,9,-999.0000,9,   -999.0,  9,  -999.00,9,   -999.0,  -999.00,9,  -999.00,9,  -999.00,9,  -999.00,9,   -999.0,-999.0000, -999,9,  701,   5.9213,  27.1922,   -999.0,9
       KS07-04,  137E,KS-1870,  1,      7,02-19374,2,20070505,0720,  2.9882, 137.0045, 4499,    806.5,   5.4394,  34.5377,2,   -999.0,9,  34.5370,2,     96.0,2,    71.16,2,  -999.00,9,    36.41,2,     0.00,2,     2.61,2, -999.000,9, -999.000,9,  -999.00,9,   -999.0,9,   -999.0,9,-999.0000,9,   -999.0,  9,  -999.00,9,   -999.0,  -999.00,9,  -999.00,9,  -999.00,9,  -999.00,9,   -999.0,-999.0000, -999,9,  800,   5.3706,  27.2651,   -999.0,9
       KS07-04,  137E,KS-1870,  1,      6,02-19373,2,20070505,0718,  2.9882, 137.0045, 4499,    907.8,   4.8839,  34.5466,2,   -999.0,9,  34.5462,2,     97.0,2,    79.98,2,  -999.00,9,    37.48,2,     0.00,2,     2.67,2, -999.000,9, -999.000,9,  -999.00,9,   -999.0,9,   -999.0,9,-999.0000,9,   -999.0,  9,  -999.00,9,   -999.0,  -999.00,9,  -999.00,9,  -999.00,9,  -999.00,9,   -999.0,-999.0000, -999,9,  901,   4.8096,  27.3376,   -999.0,9
       KS07-04,  137E,KS-1870,  1,      5,02-16011,2,20070505,0715,  2.9882, 137.0045, 4499,   1007.9,   4.4341,  34.5574,2,   -999.0,9,  34.5568,2,     99.0,2,    88.28,2,  -999.00,9,    37.77,2,     0.00,2,     2.70,2, -999.000,9, -999.000,9,  -999.00,9,   -999.0,9,   -999.0,9,-999.0000,9,   -999.0,  9,  -999.00,9,   -999.0,  -999.00,9,  -999.00,9,  -999.00,9,  -999.00,9,   -999.0,-999.0000, -999,9, 1000,   4.3543,  27.3966,   -999.0,9
       KS07-04,  137E,KS-1870,  1,      4,02-16010,2,20070505,0710,  2.9882, 137.0045, 4499,   1260.3,   3.6750,  34.5783,2,   -999.0,9,  34.5776,2,     96.0,2,   105.38,2,  -999.00,9,    38.93,2,     0.00,2,     2.77,2, -999.000,9, -999.000,9,  -999.00,9,   -999.0,9,   -999.0,9,-999.0000,9,   -999.0,  9,  -999.00,9,   -999.0,  -999.00,9,  -999.00,9,  -999.00,9,  -999.00,9,   -999.0,-999.0000, -999,9, 1250,   3.5802,  27.4933,   -999.0,9
       KS07-04,  137E,KS-1870,  1,      3,02-16009,2,20070505,0705,  2.9882, 137.0045, 4499,   1513.9,   2.9492,  34.6033,2,   -999.0,9,  34.6028,2,    103.0,2,   120.12,2,  -999.00,9,    38.83,2,     0.00,2,     2.76,2, -999.000,9, -999.000,9,  -999.00,9,   -999.0,9,   -999.0,9,-999.0000,9,   -999.0,  9,  -999.00,9,   -999.0,  -999.00,9,  -999.00,9,  -999.00,9,  -999.00,9,   -999.0,-999.0000, -999,9, 1500,   2.8407,  27.5829,   -999.0,9
       KS07-04,  137E,KS-1870,  1,      2,02-16008,2,20070505,0659,  2.9882, 137.0045, 4499,   1766.9,   2.5167,  34.6219,2,   -999.0,9,  34.6217,2,    111.0,2,   128.44,2,  -999.00,9,    38.54,2,     0.00,2,     2.72,2, -999.000,9, -999.000,9,  -999.00,9,   -999.0,9,   -999.0,9,-999.0000,9,   -999.0,  9,  -999.00,9,   -999.0,  -999.00,9,  -999.00,9,  -999.00,9,  -999.00,9,   -999.0,-999.0000, -999,9, 1750,   2.3924,  27.6367,   -999.0,9
       KS07-04,  137E,KS-1870,  1,      1,02-16007,2,20070505,0654,  2.9882, 137.0045, 4499,   2032.4,   2.1903,  34.6385,2,   -999.0,9,  34.6387,2,    117.0,2,   134.83,2,  -999.00,9,    38.34,2,     0.00,2,     2.71,2, -999.000,9, -999.000,9,  -999.00,9,   -999.0,9,   -999.0,9,-999.0000,9,   -999.0,  9,  -999.00,9,   -999.0,  -999.00,9,  -999.00,9,  -999.00,9,  -999.00,9,   -999.0,-999.0000, -999,9, 2011,   2.0482,  27.6782,   -999.0,9