BOTTLE,20130510GEMDJMAYT
EXPOCODE,SECT_ID,STNNBR,CASTNO,SAMPNO,BTLNBR,BTLNBR_FLAG_W,DATE,TIME,LATITUDE,LONGITUDE,DEPTH,CTDPRS,CTDTMP,CTDSAL,CTDSAL_FLAG_W,CTDOXY,CTDOXY_FLAG_W,SALNTY,SALNTY_FLAG_W,OXYGEN,OXYGEN_FLAG_W,SILCAT,SILCAT_FLAG_W,NITRAT,NITRAT_FLAG_W,NO2+NO3,NO2+NO3_FLAG_W,NITRIT,NITRIT_FLAG_W,PHSPHT,PHSPHT_FLAG_W,CFC-11,CFC-11_FLAG_W,CFC-12,CFC-12_FLAG_W,DELC13,DELC13_FLAG_W,TCARBN,TCARBN_FLAG_W,ALKALI,ALKALI_FLAG_W,PH,PH_FLAG_W,PH_TMP,PH_SCALE,PH_NBS,PH_NBS_FLAG_W,C13ERR,TOTALP,TOTALP_FLAG_W,AMMONI,AMMONI_FLAG_W,CHLORA,CHLORA_FLAG_W,PPHYTN,PPHYTN_FLAG_W,REVPRS,REVTMP,DEPTH_,DEPTH_FLAG,CTDDEP,THETA,SIGTHT,DOC,DOC_FLAG_W
,,,,,,,GMT,GMT,,,METER,DBAR,ITS-90,PSS-78,,UMOL/KG,,PSS-78,,UMOL/KG,,UMOL/KG,,UMOL/KG,,UMOL/KG,,UMOL/KG,,UMOL/KG,,PMOL/KG,,PMOL/KG,,/MILLE,,UMOL/KG,,UMOL/KG,,25_DEG_C,,DEG_C,,,,/MILLE,UMOL/KG,,UMOL/KG,,UG/L,,UG/L,,DBAR,ITS-90,METERS,,METERS,DEG_C,,UMOL/L,
       KS07-04,  137E,KS-1848,  1,     -9,      -9,5,20070429,0134, 24.9675, 136.9490, 5032,      0.0,  23.1919,  34.8800,2,   -999.0,9,-999.0000,9,    218.0,2,     1.61,2,  -999.00,9,     0.00,2,     0.00,2,     0.00,2, -999.000,9, -999.000,9,  -999.00,9,   -999.0,9,   -999.0,9,   8.0775,2,     25.0, TS,  -999.00,9,   -999.0,  -999.00,9,  -999.00,9,     0.06,2,     0.01,2,   -999.0,-999.0000, -999,9,    0,  23.1916,  23.7873,   -999.0,9
       KS07-04,  137E,KS-1848,  1,     24,02-16030,2,20070429,0155, 24.9675, 136.9490, 5032,     10.5,  23.1699,  34.8987,2,   -999.0,9,  34.8984,2,    218.0,2,     1.54,2,  -999.00,9,     0.00,2,     0.00,2,     0.00,2, -999.000,9, -999.000,9,  -999.00,9,   1970.6,2,   -999.0,9,   8.0760,2,     25.0, TS,  -999.00,9,   -999.0,  -999.00,9,  -999.00,9,     0.06,2,     0.01,2,   -999.0,-999.0000, -999,9,   10,  23.1678,  23.8083,   -999.0,9
       KS07-04,  137E,KS-1848,  1,     23,02-19380,2,20070429,0154, 24.9675, 136.9490, 5032,     25.1,  23.1285,  34.8980,2,   -999.0,9,-999.0000,9,    218.0,2,     1.44,2,  -999.00,9,     0.00,2,     0.00,2,     0.00,2, -999.000,9, -999.000,9,  -999.00,9,   1969.2,2,   -999.0,9,   8.0784,2,     25.0, TS,  -999.00,9,   -999.0,  -999.00,9,  -999.00,9,     0.06,2,     0.01,2,   -999.0,-999.0000, -999,9,   25,  23.1234,  23.8206,   -999.0,9
       KS07-04,  137E,KS-1848,  1,     22,02-10977,2,20070429,0150, 24.9675, 136.9490, 5032,     49.4,  22.5674,  34.8942,2,   -999.0,9,-999.0000,9,    220.0,2,     1.43,2,  -999.00,9,     0.00,2,     0.00,2,     0.00,2, -999.000,9, -999.000,9,  -999.00,9,   2001.5,4,   -999.0,9,   8.0789,2,     25.0, TS,  -999.00,9,   -999.0,  -999.00,9,  -999.00,9,     0.08,2,     0.02,2,   -999.0,-999.0000, -999,9,   49,  22.5575,  23.9800,   -999.0,9
       KS07-04,  137E,KS-1848,  1,     21,02-16027,2,20070429,0149, 24.9675, 136.9490, 5032,     73.8,  22.1125,  34.8850,2,   -999.0,9,-999.0000,9,    220.0,2,     1.56,2,  -999.00,9,     0.00,2,     0.00,2,     0.00,2, -999.000,9, -999.000,9,  -999.00,9,   1973.3,2,   -999.0,9,   8.0735,2,     25.0, TS,  -999.00,9,   -999.0,  -999.00,9,  -999.00,9,     0.17,2,     0.07,2,   -999.0,-999.0000, -999,9,   73,  22.0979,  24.1030,   -999.0,9
       KS07-04,  137E,KS-1848,  1,     20,02-16026,2,20070429,0147, 24.9675, 136.9490, 5032,     99.7,  21.4831,  34.8632,2,   -999.0,9,  34.8625,2,    218.0,2,     1.50,2,  -999.00,9,     0.10,2,     0.03,2,     0.00,2, -999.000,9, -999.000,9,  -999.00,9,   1980.3,2,   -999.0,9,   8.0624,2,     25.0, TS,  -999.00,9,   -999.0,  -999.00,9,  -999.00,9,     0.30,2,     0.27,2,   -999.0,-999.0000, -999,9,   99,  21.4637,  24.2628,   -999.0,9
       KS07-04,  137E,KS-1848,  1,     19,02-19378,2,20070429,0146, 24.9675, 136.9490, 5032,    126.5,  20.8513,  34.8452,2,   -999.0,9,-999.0000,9,    216.0,2,     1.74,2,  -999.00,9,     0.39,2,     0.09,2,     0.02,2, -999.000,9, -999.000,9,  -999.00,9,   1986.5,2,   -999.0,9,   8.0475,2,     25.0, TS,  -999.00,9,   -999.0,  -999.00,9,  -999.00,9,     0.14,2,     0.20,2,   -999.0,-999.0000, -999,9,  126,  20.8272,  24.4229,   -999.0,9
       KS07-04,  137E,KS-1848,  1,     18,02-19377,2,20070429,0145, 24.9675, 136.9490, 5032,    151.3,  20.2221,  34.8343,2,   -999.0,9,-999.0000,9,    216.0,2,     1.98,2,  -999.00,9,     0.78,2,     0.07,2,     0.05,2, -999.000,9, -999.000,9,  -999.00,9,   1997.7,2,   -999.0,9,   8.0350,2,     25.0, TS,  -999.00,9,   -999.0,  -999.00,9,  -999.00,9,     0.08,2,     0.08,2,   -999.0,-999.0000, -999,9,  150,  20.1940,  24.5841,   -999.0,9
       KS07-04,  137E,KS-1848,  1,     17,02-16023,2,20070429,0143, 24.9675, 136.9490, 5032,    201.0,  18.9468,  34.8394,2,   -999.0,9,  34.8394,2,    203.0,2,     2.93,2,  -999.00,9,     3.02,2,     0.01,2,     0.18,2, -999.000,9, -999.000,9,  -999.00,9,   1268.4,4,   -999.0,9,   7.9945,2,     25.0, TS,  -999.00,9,   -999.0,  -999.00,9,  -999.00,9,     0.01,2,     0.02,2,   -999.0,-999.0000, -999,9,  200,  18.9111,  24.9210,   -999.0,9
       KS07-04,  137E,KS-1848,  1,     16,02-16022,2,20070429,0141, 24.9675, 136.9490, 5032,    252.3,  18.1046,  34.8218,2,   -999.0,9,-999.0000,9,    203.0,2,     3.62,2,  -999.00,9,     4.10,2,     0.00,2,     0.23,2, -999.000,9, -999.000,9,  -999.00,9,   2030.2,2,   -999.0,9,   7.9796,2,     25.0, TS,  -999.00,9,   -999.0,  -999.00,9,  -999.00,9,     0.00,2,     0.01,2,   -999.0,-999.0000, -999,9,  250,  18.0611,  25.1205,   -999.0,9
       KS07-04,  137E,KS-1848,  1,     15,02-16021,2,20070429,0139, 24.9675, 136.9490, 5032,    303.5,  16.9765,  34.7518,2,   -999.0,9,  34.7518,2,    198.0,2,     5.68,2,  -999.00,9,     6.24,2,     0.00,2,     0.37,2, -999.000,9, -999.000,9,  -999.00,9,   2043.0,2,   -999.0,9,   7.9471,2,     25.0, TS,  -999.00,9,   -999.0,  -999.00,9,  -999.00,9,     0.00,2,     0.00,2,   -999.0,-999.0000, -999,9,  301,  16.9264,  25.3412,   -999.0,9
       KS07-04,  137E,KS-1848,  1,     14,02-16020,2,20070429,0136, 24.9675, 136.9490, 5032,    402.7,  15.0433,  34.5990,2,   -999.0,9,  34.5995,2,    191.0,2,    10.09,2,  -999.00,9,     9.94,2,     0.00,2,     0.61,2, -999.000,9, -999.000,9,  -999.00,9,   2065.3,2,   -999.0,9,   7.8879,2,     25.0, TS,  -999.00,9,   -999.0,  -999.00,9,  -999.00,9,  -999.00,9,  -999.00,9,   -999.0,-999.0000, -999,9,  400,  14.9820,  25.6667,   -999.0,9
       KS07-04,  137E,KS-1848,  1,     13,02-16019,2,20070429,0132, 24.9675, 136.9490, 5032,    504.5,  12.2704,  34.3960,2,   -999.0,9,  34.3962,2,    179.0,2,    20.06,2,  -999.00,9,    15.30,2,     0.00,2,     1.02,2, -999.000,9, -999.000,9,  -999.00,9,   2111.0,2,   -999.0,9,   7.8010,2,     25.0, TS,  -999.00,9,   -999.0,  -999.00,9,  -999.00,9,  -999.00,9,  -999.00,9,   -999.0,-999.0000, -999,9,  501,  12.2032,  26.0811,   -999.0,9
       KS07-04,  137E,KS-1848,  1,     12,02-16018,2,20070429,0129, 24.9675, 136.9490, 5032,    607.0,   9.1931,  34.2030,2,   -999.0,9,  34.2059,2,    160.0,2,    36.56,2,  -999.00,9,    22.50,2,     0.00,2,     1.57,2, -999.000,9, -999.000,9,  -999.00,9,   2159.9,2,   -999.0,9,   7.6912,2,     25.0, TS,  -999.00,9,   -999.0,  -999.00,9,  -999.00,9,  -999.00,9,  -999.00,9,   -999.0,-999.0000, -999,9,  602,   9.1254,  26.4740,   -999.0,9
       KS07-04,  137E,KS-1848,  1,     11,02-19376,2,20070429,0125, 24.9675, 136.9490, 5032,    707.0,   6.9233,  34.1197,2,   -999.0,9,  34.1204,2,    128.0,2,    58.30,2,  -999.00,9,    29.41,2,     0.00,2,     2.11,2, -999.000,9, -999.000,9,  -999.00,9,   2217.0,2,   -999.0,9,   7.5793,2,     25.0, TS,  -999.00,9,   -999.0,  -999.00,9,  -999.00,9,  -999.00,9,  -999.00,9,   -999.0,-999.0000, -999,9,  701,   6.8560,  26.7449,   -999.0,9
       KS07-04,  137E,KS-1848,  1,     10,02-19375,2,20070429,0122, 24.9675, 136.9490, 5032,    809.9,   5.3129,  34.1688,2,   -999.0,9,  34.1687,2,     87.0,2,    82.06,4,  -999.00,9,    35.83,2,     0.00,2,     2.60,2, -999.000,9, -999.000,9,  -999.00,9,   2276.4,2,   -999.0,9,   7.4675,2,     25.0, TS,  -999.00,9,   -999.0,  -999.00,9,  -999.00,9,  -999.00,9,  -999.00,9,   -999.0,-999.0000, -999,9,  803,   5.2450,  26.9878,   -999.0,9
       KS07-04,  137E,KS-1848,  1,      9,02-16015,2,20070429,0118, 24.9675, 136.9490, 5032,    910.5,   4.5135,  34.2461,2,   -999.0,9,  34.2468,2,     66.0,2,    99.96,2,  -999.00,9,    38.65,2,     0.00,2,     2.82,2, -999.000,9, -999.000,9,  -999.00,9,   2307.7,2,   -999.0,9,   7.4394,2,     25.0, TS,  -999.00,9,   -999.0,  -999.00,9,  -999.00,9,  -999.00,9,  -999.00,9,   -999.0,-999.0000, -999,9,  903,   4.4420,  27.1398,   -999.0,9
       KS07-04,  137E,KS-1848,  1,      8,02-16014,2,20070429,0115, 24.9675, 136.9490, 5032,   1010.0,   3.9170,  34.3263,2,   -999.0,9,  34.3262,2,     56.0,2,   113.25,2,  -999.00,9,    40.30,2,     0.00,2,     2.94,2, -999.000,9, -999.000,9,  -999.00,9,   2327.9,2,   -999.0,9,   7.4235,2,     25.0, TS,  -999.00,9,   -999.0,  -999.00,9,  -999.00,9,  -999.00,9,  -999.00,9,   -999.0,-999.0000, -999,9, 1001,   3.8415,  27.2664,   -999.0,9
       KS07-04,  137E,KS-1848,  1,      7,02-19374,2,20070429,0107, 24.9675, 136.9490, 5032,   1265.0,   3.0515,  34.4435,2,   -999.0,9,  34.4435,2,     59.0,2,   132.97,2,  -999.00,9,    41.07,2,     0.00,2,     2.98,2, -999.000,9, -999.000,9,  -999.00,9,   2353.8,2,   -999.0,9,   7.4367,2,     25.0, TS,  -999.00,9,   -999.0,  -999.00,9,  -999.00,9,  -999.00,9,  -999.00,9,   -999.0,-999.0000, -999,9, 1253,   2.9626,  27.4442,   -999.0,9
       KS07-04,  137E,KS-1848,  1,      6,02-19373,2,20070429,0100, 24.9675, 136.9490, 5032,   1516.1,   2.5205,  34.5237,2,   -999.0,9,  34.5244,2,     75.0,2,   141.83,2,  -999.00,9,    40.48,2,     0.00,2,     2.92,2, -999.000,9, -999.000,9,  -999.00,9,   2357.8,2,   -999.0,9,   7.4694,2,     25.0, TS,  -999.00,9,   -999.0,  -999.00,9,  -999.00,9,  -999.00,9,  -999.00,9,   -999.0,-999.0000, -999,9, 1501,   2.4170,  27.5560,   -999.0,9
       KS07-04,  137E,KS-1848,  1,      5,02-16011,2,20070429,0053, 24.9675, 136.9490, 5032,   1770.5,   2.1550,  34.5842,2,   -999.0,9,  34.5839,2,    100.0,2,   142.90,2,  -999.00,9,    39.12,2,     0.00,2,     2.80,2, -999.000,9, -999.000,9,  -999.00,9,   2347.4,6,   -999.0,9,   7.5237,2,     25.0, TS,  -999.00,9,   -999.0,  -999.00,9,  -999.00,9,  -999.00,9,  -999.00,9,   -999.0,-999.0000, -999,9, 1752,   2.0354,  27.6357,   -999.0,9
       KS07-04,  137E,KS-1848,  1,      4,02-16010,2,20070429,0046, 24.9675, 136.9490, 5032,   2028.2,   1.9618,  34.6150,2,   -999.0,9,  34.6149,2,    114.0,2,   143.91,2,  -999.00,9,    38.24,2,     0.00,2,     2.72,2, -999.000,9, -999.000,9,  -999.00,9,   2341.9,2,   -999.0,9,   7.5358,6,     25.0, TS,  -999.00,9,   -999.0,  -999.00,9,  -999.00,9,  -999.00,9,  -999.00,9,   -999.0,-999.0000, -999,9, 2005,   1.8236,  27.6770,   -999.0,9
       KS07-04,  137E,KS-1848,  1,      3,02-16009,2,20070429,0021, 24.9675, 136.9490, 5032,   3042.8,   1.6192,  34.6658,2,   -999.0,9,  34.6652,2,    143.0,2,   141.55,2,  -999.00,9,    36.78,2,     0.00,2,     2.59,2, -999.000,9, -999.000,9,  -999.00,9,   -999.0,9,   -999.0,9,-999.0000,9,   -999.0,  9,  -999.00,9,   -999.0,  -999.00,9,  -999.00,9,  -999.00,9,  -999.00,9,   -999.0,-999.0000, -999,9, 3002,   1.3957,  27.7495,   -999.0,9
       KS07-04,  137E,KS-1848,  1,      2,02-16008,2,20070429,0001, 24.9675, 136.9490, 5032,   4063.4,   1.5367,  34.6839,2,   -999.0,9,  34.6828,2,    157.0,2,   139.23,2,  -999.00,9,    35.81,2,     0.00,2,     2.51,2, -999.000,9, -999.000,9,  -999.00,9,   -999.0,9,   -999.0,9,-999.0000,9,   -999.0,  9,  -999.00,9,   -999.0,  -999.00,9,  -999.00,9,  -999.00,9,  -999.00,9,   -999.0,-999.0000, -999,9, 3999,   1.2098,  27.7771,   -999.0,9
       KS07-04,  137E,KS-1848,  1,      1,02-16007,2,20070428,2346, 24.9675, 136.9490, 5032,   4990.7,   1.6254,  34.6856,2,   -999.0,9,  34.6845,2,    159.0,2,   139.33,2,  -999.00,9,    35.51,2,     0.00,2,     2.49,2, -999.000,9, -999.000,9,  -999.00,9,   -999.0,9,   -999.0,9,-999.0000,9,   -999.0,  9,  -999.00,9,   -999.0,  -999.00,9,  -999.00,9,  -999.00,9,  -999.00,9,   -999.0,-999.0000, -999,9, 4901,   1.1881,  27.7800,   -999.0,9