BOTTLE,20130510GEMDJMAYT
EXPOCODE,SECT_ID,STNNBR,CASTNO,SAMPNO,BTLNBR,BTLNBR_FLAG_W,DATE,TIME,LATITUDE,LONGITUDE,DEPTH,CTDPRS,CTDTMP,CTDSAL,CTDSAL_FLAG_W,CTDOXY,CTDOXY_FLAG_W,SALNTY,SALNTY_FLAG_W,OXYGEN,OXYGEN_FLAG_W,SILCAT,SILCAT_FLAG_W,NITRAT,NITRAT_FLAG_W,NO2+NO3,NO2+NO3_FLAG_W,NITRIT,NITRIT_FLAG_W,PHSPHT,PHSPHT_FLAG_W,CFC-11,CFC-11_FLAG_W,CFC-12,CFC-12_FLAG_W,DELC13,DELC13_FLAG_W,TCARBN,TCARBN_FLAG_W,ALKALI,ALKALI_FLAG_W,PH,PH_FLAG_W,PH_TMP,PH_SCALE,PH_NBS,PH_NBS_FLAG_W,C13ERR,TOTALP,TOTALP_FLAG_W,AMMONI,AMMONI_FLAG_W,CHLORA,CHLORA_FLAG_W,PPHYTN,PPHYTN_FLAG_W,REVPRS,REVTMP,DEPTH_,DEPTH_FLAG,CTDDEP,THETA,SIGTHT,DOC,DOC_FLAG_W
,,,,,,,GMT,GMT,,,METER,DBAR,ITS-90,PSS-78,,UMOL/KG,,PSS-78,,UMOL/KG,,UMOL/KG,,UMOL/KG,,UMOL/KG,,UMOL/KG,,UMOL/KG,,PMOL/KG,,PMOL/KG,,/MILLE,,UMOL/KG,,UMOL/KG,,25_DEG_C,,DEG_C,,,,/MILLE,UMOL/KG,,UMOL/KG,,UG/L,,UG/L,,DBAR,ITS-90,METERS,,METERS,DEG_C,,UMOL/L,
       KS07-04,  137E,KS-1868,  1,     -9,      -9,5,20070504,1601,  5.0043, 137.0168, 5141,      0.0,  29.5606,  34.3378,2,   -999.0,9,-999.0000,9,    197.0,2,     0.94,2,  -999.00,9,     0.00,2,     0.00,2,     0.06,2, -999.000,9, -999.000,9,  -999.00,9,   -999.0,9,   -999.0,9,   8.1007,2,     25.0, TS,  -999.00,9,   -999.0,  -999.00,9,  -999.00,9,     0.09,2,     0.03,2,   -999.0,-999.0000, -999,9,    0,  29.5603,  21.3790,   -999.0,9
       KS07-04,  137E,KS-1868,  1,     21,02-16027,2,20070504,1613,  5.0043, 137.0168, 5141,     11.4,  29.5769,  34.3459,2,   -999.0,9,  34.4443,4,    198.0,2,     0.94,2,  -999.00,9,     0.00,2,     0.00,2,     0.06,2, -999.000,9, -999.000,9,  -999.00,9,   -999.0,9,   -999.0,9,-999.0000,9,   -999.0,  9,  -999.00,9,   -999.0,  -999.00,9,  -999.00,9,     0.06,2,     0.03,2,   -999.0,-999.0000, -999,9,   11,  29.5741,  21.3804,   -999.0,9
       KS07-04,  137E,KS-1868,  1,     20,02-16026,2,20070504,1611,  5.0043, 137.0168, 5141,     26.4,  27.8466,  34.4347,2,   -999.0,9,-999.0000,9,    203.0,2,     0.94,2,  -999.00,9,     0.00,2,     0.00,2,     0.06,2, -999.000,9, -999.000,9,  -999.00,9,   -999.0,9,   -999.0,9,-999.0000,9,   -999.0,  9,  -999.00,9,   -999.0,  -999.00,9,  -999.00,9,     0.14,2,     0.09,2,   -999.0,-999.0000, -999,9,   26,  27.8404,  22.0215,   -999.0,9
       KS07-04,  137E,KS-1868,  1,     19,02-19378,2,20070504,1608,  5.0043, 137.0168, 5141,     50.5,  26.8109,  34.5081,2,   -999.0,9,-999.0000,9,    194.0,2,     1.33,2,  -999.00,9,     0.88,2,     0.06,2,     0.16,2, -999.000,9, -999.000,9,  -999.00,9,   -999.0,9,   -999.0,9,-999.0000,9,   -999.0,  9,  -999.00,9,   -999.0,  -999.00,9,  -999.00,9,     0.45,2,     0.45,2,   -999.0,-999.0000, -999,9,   50,  26.7994,  22.4111,   -999.0,9
       KS07-04,  137E,KS-1868,  1,     18,02-19377,2,20070504,1606,  5.0043, 137.0168, 5141,     76.2,  25.4978,  34.9710,2,   -999.0,9,-999.0000,9,    146.0,2,     2.95,2,  -999.00,9,     7.13,2,     0.27,2,     0.56,2, -999.000,9, -999.000,9,  -999.00,9,   -999.0,9,   -999.0,9,-999.0000,9,   -999.0,  9,  -999.00,9,   -999.0,  -999.00,9,  -999.00,9,     0.46,2,     0.47,2,   -999.0,-999.0000, -999,9,   76,  25.4811,  23.1722,   -999.0,9
       KS07-04,  137E,KS-1868,  1,     17,02-16023,2,20070504,1605,  5.0043, 137.0168, 5141,    100.8,  24.9779,  35.1011,2,   -999.0,9,  35.1059,4,    136.0,2,     3.34,2,  -999.00,9,     8.50,2,     0.12,2,     0.65,2, -999.000,9, -999.000,9,  -999.00,9,   -999.0,9,   -999.0,9,-999.0000,9,   -999.0,  9,  -999.00,9,   -999.0,  -999.00,9,  -999.00,9,     0.19,2,     0.28,2,   -999.0,-999.0000, -999,9,  100,  24.9561,  23.4310,   -999.0,9
       KS07-04,  137E,KS-1868,  1,     16,02-16022,2,20070504,1604,  5.0043, 137.0168, 5141,    123.2,  23.3096,  35.2858,2,   -999.0,9,-999.0000,9,    132.0,2,     4.12,2,  -999.00,9,     9.67,2,     0.03,2,     0.75,2, -999.000,9, -999.000,9,  -999.00,9,   -999.0,9,   -999.0,9,-999.0000,9,   -999.0,  9,  -999.00,9,   -999.0,  -999.00,9,  -999.00,9,     0.06,2,     0.10,2,   -999.0,-999.0000, -999,9,  123,  23.2842,  24.0680,   -999.0,9
       KS07-04,  137E,KS-1868,  1,     15,02-16021,2,20070504,1603,  5.0043, 137.0168, 5141,    151.2,  21.7291,  35.1094,2,   -999.0,9,-999.0000,9,    138.0,2,     6.27,2,  -999.00,9,    10.15,2,     0.02,2,     0.77,2, -999.000,9, -999.000,9,  -999.00,9,   -999.0,9,   -999.0,9,-999.0000,9,   -999.0,  9,  -999.00,9,   -999.0,  -999.00,9,  -999.00,9,     0.03,2,     0.05,2,   -999.0,-999.0000, -999,9,  150,  21.6994,  24.3849,   -999.0,9
       KS07-04,  137E,KS-1868,  1,     14,02-16020,2,20070504,1602,  5.0043, 137.0168, 5141,    202.1,  15.6238,  34.6720,2,   -999.0,9,  34.6770,4,    141.0,2,    15.79,2,  -999.00,9,    15.11,2,     0.01,2,     1.09,2, -999.000,9, -999.000,9,  -999.00,9,   -999.0,9,   -999.0,9,-999.0000,9,   -999.0,  9,  -999.00,9,   -999.0,  -999.00,9,  -999.00,9,     0.03,2,     0.05,2,   -999.0,-999.0000, -999,9,  201,  15.5924,  25.5876,   -999.0,9
       KS07-04,  137E,KS-1868,  1,     13,02-16019,2,20070504,1600,  5.0043, 137.0168, 5141,    252.2,  11.1676,  34.4625,2,   -999.0,9,-999.0000,9,    110.0,2,    28.15,2,  -999.00,9,    24.46,2,     0.00,2,     1.74,2, -999.000,9, -999.000,9,  -999.00,9,   -999.0,9,   -999.0,9,-999.0000,9,   -999.0,  9,  -999.00,9,   -999.0,  -999.00,9,  -999.00,9,     0.00,2,     0.04,2,   -999.0,-999.0000, -999,9,  251,  11.1363,  26.3322,   -999.0,9
       KS07-04,  137E,KS-1868,  1,     12,02-16018,2,20070504,1558,  5.0043, 137.0168, 5141,    302.2,   9.6675,  34.5174,2,   -999.0,9,  34.5181,2,    103.0,2,    34.95,2,  -999.00,9,    27.96,2,     0.00,2,     1.99,2, -999.000,9, -999.000,9,  -999.00,9,   -999.0,9,   -999.0,9,-999.0000,9,   -999.0,  9,  -999.00,9,   -999.0,  -999.00,9,  -999.00,9,     0.00,2,     0.03,2,   -999.0,-999.0000, -999,9,  300,   9.6332,  26.6368,   -999.0,9
       KS07-04,  137E,KS-1868,  1,     11,02-19376,2,20070504,1556,  5.0043, 137.0168, 5141,    402.7,   8.8153,  34.5950,2,   -999.0,9,  34.5946,2,    111.0,2,    35.85,2,  -999.00,9,    29.51,2,     0.00,2,     2.07,2, -999.000,9, -999.000,9,  -999.00,9,   -999.0,9,   -999.0,9,-999.0000,9,   -999.0,  9,  -999.00,9,   -999.0,  -999.00,9,  -999.00,9,  -999.00,9,  -999.00,9,   -999.0,-999.0000, -999,9,  400,   8.7718,  26.8372,   -999.0,9
       KS07-04,  137E,KS-1868,  1,     10,02-19375,2,20070504,1553,  5.0043, 137.0168, 5141,    504.3,   7.6861,  34.5655,2,   -999.0,9,  34.5654,2,     85.0,2,    43.11,2,  -999.00,9,    33.98,2,     0.00,2,     2.41,2, -999.000,9, -999.000,9,  -999.00,9,   -999.0,9,   -999.0,9,-999.0000,9,   -999.0,  9,  -999.00,9,   -999.0,  -999.00,9,  -999.00,9,  -999.00,9,  -999.00,9,   -999.0,-999.0000, -999,9,  501,   7.6356,  26.9863,   -999.0,9
       KS07-04,  137E,KS-1868,  1,      9,02-16015,2,20070504,1551,  5.0043, 137.0168, 5141,    603.1,   6.8852,  34.5477,2,   -999.0,9,  34.5471,2,     78.0,2,    51.72,4,  -999.00,9,    36.12,4,     0.00,4,     2.73,4, -999.000,9, -999.000,9,  -999.00,9,   -999.0,9,   -999.0,9,-999.0000,9,   -999.0,  9,  -999.00,9,   -999.0,  -999.00,9,  -999.00,9,  -999.00,9,  -999.00,9,   -999.0,-999.0000, -999,9,  599,   6.8280,  27.0861,   -999.0,9
       KS07-04,  137E,KS-1868,  1,      8,02-16014,2,20070504,1548,  5.0043, 137.0168, 5141,    705.2,   6.0684,  34.5331,2,   -999.0,9,  34.5329,2,     93.0,2,    59.41,2,  -999.00,9,    35.83,2,     0.00,2,     2.57,2, -999.000,9, -999.000,9,  -999.00,9,   -999.0,9,   -999.0,9,-999.0000,9,   -999.0,  9,  -999.00,9,   -999.0,  -999.00,9,  -999.00,9,  -999.00,9,  -999.00,9,   -999.0,-999.0000, -999,9,  700,   6.0054,  27.1831,   -999.0,9
       KS07-04,  137E,KS-1868,  1,      7,02-19374,2,20070504,1546,  5.0043, 137.0168, 5141,    805.5,   5.5441,  34.5333,2,   -999.0,9,  34.5328,2,     96.0,2,    68.15,2,  -999.00,9,    36.80,2,     0.00,2,     2.61,2, -999.000,9, -999.000,9,  -999.00,9,   -999.0,9,   -999.0,9,-999.0000,9,   -999.0,  9,  -999.00,9,   -999.0,  -999.00,9,  -999.00,9,  -999.00,9,  -999.00,9,   -999.0,-999.0000, -999,9,  800,   5.4747,  27.2491,   -999.0,9
       KS07-04,  137E,KS-1868,  1,      6,02-19373,2,20070504,1543,  5.0043, 137.0168, 5141,    907.8,   4.9177,  34.5463,2,   -999.0,9,  34.5459,2,     89.0,2,    79.68,2,  -999.00,9,    37.87,2,     0.00,2,     2.73,2, -999.000,9, -999.000,9,  -999.00,9,   -999.0,9,   -999.0,9,-999.0000,9,   -999.0,  9,  -999.00,9,   -999.0,  -999.00,9,  -999.00,9,  -999.00,9,  -999.00,9,   -999.0,-999.0000, -999,9,  901,   4.8432,  27.3335,   -999.0,9
       KS07-04,  137E,KS-1868,  1,      5,02-16011,2,20070504,1541,  5.0043, 137.0168, 5141,   1007.7,   4.5365,  34.5542,2,   -999.0,9,  34.5544,2,     91.0,2,    87.55,2,  -999.00,9,    38.35,2,     0.00,2,     2.74,2, -999.000,9, -999.000,9,  -999.00,9,   -999.0,9,   -999.0,9,-999.0000,9,   -999.0,  9,  -999.00,9,   -999.0,  -999.00,9,  -999.00,9,  -999.00,9,  -999.00,9,   -999.0,-999.0000, -999,9, 1000,   4.4560,  27.3830,   -999.0,9
       KS07-04,  137E,KS-1868,  1,      4,02-16010,2,20070504,1535,  5.0043, 137.0168, 5141,   1260.6,   3.5393,  34.5815,2,   -999.0,9,  34.5806,2,     97.0,2,   108.33,2,  -999.00,9,    38.35,2,     0.00,2,     2.76,2, -999.000,9, -999.000,9,  -999.00,9,   -999.0,9,   -999.0,9,-999.0000,9,   -999.0,  9,  -999.00,9,   -999.0,  -999.00,9,  -999.00,9,  -999.00,9,  -999.00,9,   -999.0,-999.0000, -999,9, 1250,   3.4457,  27.5090,   -999.0,9
       KS07-04,  137E,KS-1868,  1,      3,02-16009,2,20070504,1530,  5.0043, 137.0168, 5141,   1513.7,   3.0153,  34.5994,2,   -999.0,9,  34.5990,2,    103.0,2,   119.34,2,  -999.00,9,    38.44,2,     0.00,2,     2.75,2, -999.000,9, -999.000,9,  -999.00,9,   -999.0,9,   -999.0,9,-999.0000,9,   -999.0,  9,  -999.00,9,   -999.0,  -999.00,9,  -999.00,9,  -999.00,9,  -999.00,9,   -999.0,-999.0000, -999,9, 1500,   2.9061,  27.5739,   -999.0,9
       KS07-04,  137E,KS-1868,  1,      2,02-16008,2,20070504,1524,  5.0043, 137.0168, 5141,   1766.6,   2.4808,  34.6235,2,   -999.0,9,  34.6232,2,    108.0,2,   130.80,2,  -999.00,9,    38.83,2,     0.00,2,     2.74,2, -999.000,9, -999.000,9,  -999.00,9,   -999.0,9,   -999.0,9,-999.0000,9,   -999.0,  9,  -999.00,9,   -999.0,  -999.00,9,  -999.00,9,  -999.00,9,  -999.00,9,   -999.0,-999.0000, -999,9, 1749,   2.3570,  27.6409,   -999.0,9
       KS07-04,  137E,KS-1868,  1,      1,02-16007,2,20070504,1519,  5.0043, 137.0168, 5141,   2032.6,   2.1613,  34.6399,2,   -999.0,9,  34.6398,2,    117.0,2,   135.34,2,  -999.00,9,    38.44,2,     0.00,2,     2.71,2, -999.000,9, -999.000,9,  -999.00,9,   -999.0,9,   -999.0,9,-999.0000,9,   -999.0,  9,  -999.00,9,   -999.0,  -999.00,9,  -999.00,9,  -999.00,9,  -999.00,9,   -999.0,-999.0000, -999,9, 2012,   2.0196,  27.6816,   -999.0,9