BOTTLE,20130510GEMDJMAYT
EXPOCODE,SECT_ID,STNNBR,CASTNO,SAMPNO,BTLNBR,BTLNBR_FLAG_W,DATE,TIME,LATITUDE,LONGITUDE,DEPTH,CTDPRS,CTDTMP,CTDSAL,CTDSAL_FLAG_W,CTDOXY,CTDOXY_FLAG_W,SALNTY,SALNTY_FLAG_W,OXYGEN,OXYGEN_FLAG_W,SILCAT,SILCAT_FLAG_W,NITRAT,NITRAT_FLAG_W,NO2+NO3,NO2+NO3_FLAG_W,NITRIT,NITRIT_FLAG_W,PHSPHT,PHSPHT_FLAG_W,CFC-11,CFC-11_FLAG_W,CFC-12,CFC-12_FLAG_W,DELC13,DELC13_FLAG_W,TCARBN,TCARBN_FLAG_W,ALKALI,ALKALI_FLAG_W,PH,PH_FLAG_W,PH_TMP,PH_SCALE,PH_NBS,PH_NBS_FLAG_W,C13ERR,TOTALP,TOTALP_FLAG_W,AMMONI,AMMONI_FLAG_W,CHLORA,CHLORA_FLAG_W,PPHYTN,PPHYTN_FLAG_W,REVPRS,REVTMP,DEPTH_,DEPTH_FLAG,CTDDEP,THETA,SIGTHT,DOC,DOC_FLAG_W
,,,,,,,GMT,GMT,,,METER,DBAR,ITS-90,PSS-78,,UMOL/KG,,PSS-78,,UMOL/KG,,UMOL/KG,,UMOL/KG,,UMOL/KG,,UMOL/KG,,UMOL/KG,,PMOL/KG,,PMOL/KG,,/MILLE,,UMOL/KG,,UMOL/KG,,25_DEG_C,,DEG_C,,,,/MILLE,UMOL/KG,,UMOL/KG,,UG/L,,UG/L,,DBAR,ITS-90,METERS,,METERS,DEG_C,,UMOL/L,
       KS07-04,  137E,KS-1843,  1,     -9,      -9,5,20070427,0833, 29.9788, 136.9773, 4521,      0.0,  20.1662,  34.7919,2,   -999.0,9,-999.0000,9,    231.0,2,     1.58,2,  -999.00,9,     0.00,2,     0.00,2,     0.01,2, -999.000,9, -999.000,9,  -999.00,9,   -999.0,9,   -999.0,9,   8.0530,2,     25.0, TS,  -999.00,9,   -999.0,  -999.00,9,  -999.00,9,     0.22,2,     0.08,2,   -999.0,-999.0000, -999,9,    0,  20.1660,  24.5592,   -999.0,9
       KS07-04,  137E,KS-1843,  1,     24,02-16030,2,20070427,0855, 29.9788, 136.9773, 4521,     10.4,  20.1303,  34.7898,2,   -999.0,9,  34.7890,2,    231.0,2,     1.66,2,  -999.00,9,     0.00,2,     0.00,2,     0.01,2, -999.000,9, -999.000,9,  -999.00,9,   1984.7,2,   -999.0,9,   8.0528,2,     25.0, TS,  -999.00,9,   -999.0,  -999.00,9,  -999.00,9,     0.22,2,     0.07,2,   -999.0,-999.0000, -999,9,   10,  20.1284,  24.5675,   -999.0,9
       KS07-04,  137E,KS-1843,  1,     23,02-19380,2,20070427,0854, 29.9788, 136.9773, 4521,     26.0,  19.9238,  34.7812,2,   -999.0,9,-999.0000,9,    230.0,2,     1.38,2,  -999.00,9,     0.00,2,     0.00,2,     0.01,2, -999.000,9, -999.000,9,  -999.00,9,   1981.7,2,   -999.0,9,   8.0497,2,     25.0, TS,  -999.00,9,   -999.0,  -999.00,9,  -999.00,9,     0.20,2,     0.07,2,   -999.0,-999.0000, -999,9,   26,  19.9190,  24.6161,   -999.0,9
       KS07-04,  137E,KS-1843,  1,     22,02-10977,2,20070427,0850, 29.9788, 136.9773, 4521,     50.0,  19.8926,  34.7806,2,   -999.0,9,-999.0000,9,    230.0,2,     1.44,2,  -999.00,9,     0.00,2,     0.00,2,     0.01,2, -999.000,9, -999.000,9,  -999.00,9,   1982.9,2,   -999.0,9,   8.0550,2,     25.0, TS,  -999.00,9,   -999.0,  -999.00,9,  -999.00,9,     0.26,2,     0.11,2,   -999.0,-999.0000, -999,9,   50,  19.8834,  24.6250,   -999.0,9
       KS07-04,  137E,KS-1843,  1,     21,02-16027,2,20070427,0849, 29.9788, 136.9773, 4521,     73.5,  19.7753,  34.7906,2,   -999.0,9,-999.0000,9,    228.0,2,     1.62,2,  -999.00,9,     0.20,2,     0.09,2,     0.02,2, -999.000,9, -999.000,9,  -999.00,9,   1987.6,2,   -999.0,9,   8.0502,2,     25.0, TS,  -999.00,9,   -999.0,  -999.00,9,  -999.00,9,     0.40,2,     0.16,2,   -999.0,-999.0000, -999,9,   73,  19.7619,  24.6645,   -999.0,9
       KS07-04,  137E,KS-1843,  1,     20,02-16026,2,20070427,0848, 29.9788, 136.9773, 4521,     99.7,  19.5170,  34.8033,2,   -999.0,9,  34.8063,2,    223.0,2,     1.89,2,  -999.00,9,     0.78,2,     0.15,2,     0.05,2, -999.000,9, -999.000,9,  -999.00,9,   1992.0,2,   -999.0,9,   8.0374,2,     25.0, TS,  -999.00,9,   -999.0,  -999.00,9,  -999.00,9,     0.10,2,     0.08,2,   -999.0,-999.0000, -999,9,   99,  19.4989,  24.7426,   -999.0,9
       KS07-04,  137E,KS-1843,  1,     19,02-19378,2,20070427,0847, 29.9788, 136.9773, 4521,    124.8,  19.4363,  34.7995,2,   -999.0,9,-999.0000,9,    224.0,2,     1.96,2,  -999.00,9,     0.98,2,     0.02,2,     0.06,2, -999.000,9, -999.000,9,  -999.00,9,   1992.7,2,   -999.0,9,   8.0380,2,     25.0, TS,  -999.00,9,   -999.0,  -999.00,9,  -999.00,9,     0.04,2,     0.04,2,   -999.0,-999.0000, -999,9,  124,  19.4137,  24.7617,   -999.0,9
       KS07-04,  137E,KS-1843,  1,     18,02-19377,2,20070427,0846, 29.9788, 136.9773, 4521,    150.8,  19.4011,  34.8009,2,   -999.0,9,-999.0000,9,    221.0,2,     1.99,2,  -999.00,9,     1.07,2,     0.01,2,     0.07,2, -999.000,9, -999.000,9,  -999.00,9,   1998.7,2,   -999.0,9,   8.0364,2,     25.0, TS,  -999.00,9,   -999.0,  -999.00,9,  -999.00,9,     0.02,2,     0.02,2,   -999.0,-999.0000, -999,9,  150,  19.3739,  24.7731,   -999.0,9
       KS07-04,  137E,KS-1843,  1,     17,02-16023,2,20070427,0844, 29.9788, 136.9773, 4521,    201.1,  19.2740,  34.8112,2,   -999.0,9,  34.8116,2,    219.0,2,     2.01,2,  -999.00,9,     1.27,2,     0.01,2,     0.08,2, -999.000,9, -999.000,9,  -999.00,9,   1999.4,2,   -999.0,9,   8.0285,2,     25.0, TS,  -999.00,9,   -999.0,  -999.00,9,  -999.00,9,     0.01,2,     0.02,2,   -999.0,-999.0000, -999,9,  200,  19.2378,  24.8160,   -999.0,9
       KS07-04,  137E,KS-1843,  1,     16,02-16022,2,20070427,0843, 29.9788, 136.9773, 4521,    251.7,  18.6730,  34.8218,2,   -999.0,9,-999.0000,9,    204.0,2,     3.14,2,  -999.00,9,     3.41,2,     0.01,2,     0.20,2, -999.000,9, -999.000,9,  -999.00,9,   2023.7,2,   -999.0,9,   7.9887,2,     25.0, TS,  -999.00,9,   -999.0,  -999.00,9,  -999.00,9,     0.01,2,     0.02,2,   -999.0,-999.0000, -999,9,  250,  18.6286,  24.9790,   -999.0,9
       KS07-04,  137E,KS-1843,  1,     15,02-16021,2,20070427,0841, 29.9788, 136.9773, 4521,    301.7,  18.0094,  34.8170,2,   -999.0,9,  34.8162,2,    204.0,2,     3.61,2,  -999.00,9,     4.29,2,     0.00,2,     0.24,2, -999.000,9, -999.000,9,  -999.00,9,   2030.6,2,   -999.0,9,   7.9788,2,     25.0, TS,  -999.00,9,   -999.0,  -999.00,9,  -999.00,9,     0.00,2,     0.01,2,   -999.0,-999.0000, -999,9,  299,  17.9575,  25.1424,   -999.0,9
       KS07-04,  137E,KS-1843,  1,     14,02-16020,2,20070427,0839, 29.9788, 136.9773, 4521,    401.9,  16.6535,  34.7294,2,   -999.0,9,  34.7308,2,    197.0,2,     6.10,2,  -999.00,9,     6.92,2,     0.00,2,     0.42,2, -999.000,9, -999.000,9,  -999.00,9,   2049.7,2,   -999.0,9,   7.9330,2,     25.0, TS,  -999.00,9,   -999.0,  -999.00,9,  -999.00,9,  -999.00,9,  -999.00,9,   -999.0,-999.0000, -999,9,  399,  16.5879,  25.4036,   -999.0,9
       KS07-04,  137E,KS-1843,  1,     13,02-16019,2,20070427,0836, 29.9788, 136.9773, 4521,    504.7,  14.2928,  34.5456,2,   -999.0,9,  34.5465,2,    185.0,2,    12.91,2,  -999.00,9,    11.70,2,     0.00,2,     0.75,2, -999.000,9, -999.000,9,  -999.00,9,   2082.6,2,   -999.0,9,   7.8564,2,     25.0, TS,  -999.00,9,   -999.0,  -999.00,9,  -999.00,9,  -999.00,9,  -999.00,9,   -999.0,-999.0000, -999,9,  501,  14.2184,  25.7899,   -999.0,9
       KS07-04,  137E,KS-1843,  1,     12,02-16018,2,20070427,0834, 29.9788, 136.9773, 4521,    604.6,  11.7233,  34.3722,2,   -999.0,9,  34.3727,2,    174.0,2,    24.03,2,  -999.00,9,    17.25,2,     0.00,2,     1.17,2, -999.000,9, -999.000,9,  -999.00,9,   2123.0,3,   -999.0,9,   7.7777,2,     25.0, TS,  -999.00,9,   -999.0,  -999.00,9,  -999.00,9,  -999.00,9,  -999.00,9,   -999.0,-999.0000, -999,9,  600,  11.6448,  26.1684,   -999.0,9
       KS07-04,  137E,KS-1843,  1,     11,02-19376,2,20070427,0831, 29.9788, 136.9773, 4521,    706.9,   9.0443,  34.2158,2,   -999.0,9,  34.2168,2,    153.0,2,    39.31,2,  -999.00,9,    23.67,2,     0.00,2,     1.67,2, -999.000,9, -999.000,9,  -999.00,9,   2173.8,3,   -999.0,9,   7.6744,2,     25.0, TS,  -999.00,9,   -999.0,  -999.00,9,  -999.00,9,  -999.00,9,  -999.00,9,   -999.0,-999.0000, -999,9,  701,   8.9658,  26.5095,   -999.0,9
       KS07-04,  137E,KS-1843,  1,     10,02-19375,2,20070427,0828, 29.9788, 136.9773, 4521,    808.5,   7.1351,  34.1766,2,   -999.0,9,  34.1779,2,    125.0,2,    59.78,2,  -999.00,9,    29.41,2,     0.00,2,     2.11,2, -999.000,9, -999.000,9,  -999.00,9,   2221.8,2,   -999.0,9,   7.5824,2,     25.0, TS,  -999.00,9,   -999.0,  -999.00,9,  -999.00,9,  -999.00,9,  -999.00,9,   -999.0,-999.0000, -999,9,  801,   7.0563,  26.7623,   -999.0,9
       KS07-04,  137E,KS-1843,  1,      9,02-16015,2,20070427,0825, 29.9788, 136.9773, 4521,    908.7,   5.6651,  34.2010,2,   -999.0,9,  34.1905,4,     93.0,2,    79.92,2,  -999.00,9,    34.86,2,     0.00,2,     2.51,2, -999.000,9, -999.000,9,  -999.00,9,   2269.5,3,   -999.0,9,   7.4798,2,     25.0, TS,  -999.00,9,   -999.0,  -999.00,9,  -999.00,9,  -999.00,9,  -999.00,9,   -999.0,-999.0000, -999,9,  901,   5.5859,  26.9726,   -999.0,9
       KS07-04,  137E,KS-1843,  1,      8,02-16014,2,20070427,0822, 29.9788, 136.9773, 4521,   1010.8,   4.7180,  34.3087,2,   -999.0,9,  34.3086,2,     74.0,2,    99.86,2,  -999.00,9,    37.77,2,     0.00,2,     2.74,2, -999.000,9, -999.000,9,  -999.00,9,   2307.7,3,   -999.0,9,   7.4702,2,     25.0, TS,  -999.00,9,   -999.0,  -999.00,9,  -999.00,9,  -999.00,9,  -999.00,9,   -999.0,-999.0000, -999,9, 1002,   4.6362,  27.1682,   -999.0,9
       KS07-04,  137E,KS-1843,  1,      7,02-19374,2,20070427,0816, 29.9788, 136.9773, 4521,   1263.1,   3.4003,  34.4292,2,   -999.0,9,  34.4292,2,     68.0,2,   123.66,2,  -999.00,9,    40.10,2,     0.00,2,     2.90,2, -999.000,9, -999.000,9,  -999.00,9,   2344.6,3,   -999.0,9,   7.4509,2,     25.0, TS,  -999.00,9,   -999.0,  -999.00,9,  -999.00,9,  -999.00,9,  -999.00,9,   -999.0,-999.0000, -999,9, 1251,   3.3082,  27.4007,   -999.0,9
       KS07-04,  137E,KS-1843,  1,      6,02-19373,2,20070427,0810, 29.9788, 136.9773, 4521,   1517.5,   2.6789,  34.5021,2,   -999.0,9,  34.5026,2,     70.0,2,   139.85,2,  -999.00,9,    40.78,2,     0.00,2,     2.93,2, -999.000,9, -999.000,9,  -999.00,9,   2359.9,2,   -999.0,9,   7.4550,2,     25.0, TS,  -999.00,9,   -999.0,  -999.00,9,  -999.00,9,  -999.00,9,  -999.00,9,   -999.0,-999.0000, -999,9, 1502,   2.5735,  27.5255,   -999.0,9
       KS07-04,  137E,KS-1843,  1,      5,02-16011,2,20070427,0804, 29.9788, 136.9773, 4521,   1768.5,   2.3508,  34.5547,2,   -999.0,9,  34.5539,2,     89.0,2,   141.99,2,  -999.00,9,    39.80,2,     0.00,2,     2.84,2, -999.000,9, -999.000,9,  -999.00,9,   2352.6,6,   -999.0,9,   7.4802,2,     25.0, TS,  -999.00,9,   -999.0,  -999.00,9,  -999.00,9,  -999.00,9,  -999.00,9,   -999.0,-999.0000, -999,9, 1749,   2.2288,  27.5965,   -999.0,9
       KS07-04,  137E,KS-1843,  1,      4,02-16010,2,20070427,0759, 29.9788, 136.9773, 4521,   2025.9,   2.0759,  34.5939,2,   -999.0,9,  34.5939,2,    105.0,2,   143.40,2,  -999.00,9,    38.92,2,     0.00,2,     2.77,2, -999.000,9, -999.000,9,  -999.00,9,   2348.3,2,   -999.0,9,   7.5191,2,     25.0, TS,  -999.00,9,   -999.0,  -999.00,9,  -999.00,9,  -999.00,9,  -999.00,9,   -999.0,-999.0000, -999,9, 2002,   1.9362,  27.6514,   -999.0,9
       KS07-04,  137E,KS-1843,  1,      3,02-16009,2,20070427,0740, 29.9788, 136.9773, 4521,   3041.2,   1.6102,  34.6646,2,   -999.0,9,  34.6638,2,    143.0,2,   141.04,2,  -999.00,9,    36.78,2,     0.00,2,     2.57,2, -999.000,9, -999.000,9,  -999.00,9,   -999.0,9,   -999.0,9,-999.0000,9,   -999.0,  9,  -999.00,9,   -999.0,  -999.00,9,  -999.00,9,  -999.00,9,  -999.00,9,   -999.0,-999.0000, -999,9, 2999,   1.3871,  27.7492,   -999.0,9
       KS07-04,  137E,KS-1843,  1,      2,02-16008,2,20070427,0721, 29.9788, 136.9773, 4521,   4063.9,   1.5503,  34.6827,2,   -999.0,9,  34.6816,2,    156.0,2,   139.75,2,  -999.00,9,    35.90,2,     0.00,2,     2.51,2, -999.000,9, -999.000,9,  -999.00,9,   -999.0,9,   -999.0,9,-999.0000,9,   -999.0,  9,  -999.00,9,   -999.0,  -999.00,9,  -999.00,9,  -999.00,9,  -999.00,9,   -999.0,-999.0000, -999,9, 3998,   1.2230,  27.7753,   -999.0,9
       KS07-04,  137E,KS-1843,  1,      1,02-16007,2,20070427,0713, 29.9788, 136.9773, 4521,   4478.4,   1.5823,  34.6840,2,   -999.0,9,  34.6817,2,    157.0,2,   139.27,2,  -999.00,9,    35.71,2,     0.00,2,     2.50,2, -999.000,9, -999.000,9,  -999.00,9,   -999.0,9,   -999.0,9,-999.0000,9,   -999.0,  9,  -999.00,9,   -999.0,  -999.00,9,  -999.00,9,  -999.00,9,  -999.00,9,   -999.0,-999.0000, -999,9, 4402,   1.2073,  27.7774,   -999.0,9