BOTTLE,20121206MIRCJHATS
EXPOCODE,SECT_ID,STNNBR,CASTNO,SAMPNO,BTLNBR,BTLNBR_FLAG_W,DATE,TIME,LATITUDE,LONGITUDE,DEPTH,CTDPRS,CTDTMP,CTDSAL,CTDSAL_FLAG_W,CTDOXY,CTDOXY_FLAG_W,SALNTY,SALNTY_FLAG_W,OXYGEN,OXYGEN_FLAG_W,SILCAT,SILCAT_FLAG_W,NITRAT,NITRAT_FLAG_W,NO2+NO3,NO2+NO3_FLAG_W,NITRIT,NITRIT_FLAG_W,PHSPHT,PHSPHT_FLAG_W,CFC-11,CFC-11_FLAG_W,CFC-12,CFC-12_FLAG_W,DELC13,DELC13_FLAG_W,TCARBN,TCARBN_FLAG_W,ALKALI,ALKALI_FLAG_W,PH,PH_FLAG_W,PH_TMP,PH_SCALE,PH_NBS,PH_NBS_FLAG_W,C13ERR,TOTALP,TOTALP_FLAG_W,AMMONI,AMMONI_FLAG_W,CHLORA,CHLORA_FLAG_W,PPHYTN,PPHYTN_FLAG_W,REVPRS,REVTMP,DEPTH,DEPTH_FLAG,CTDDEP,THETA,SIGTHT,DOC,DOC_FLAG_W
,,,,,,,GMT,GMT,,,METERS,DBAR,ITS-90,PSS-78,,UMOL/KG,,PSS-78,,UMOL/KG,,UMOL/KG,,UMOL/KG,,UMOL/KG,,UMOL/KG, ,UMOL/KG,,PMOL/KG,,PMOL/KG,,/MILLE,,UMOL/KG,,UMOL/KG,,25_DEG_C,,DEG_C,,,,/MILLE,UMOL/KG,,UMOL/KG,,UG/L,,UG/L,,DBAR,ITS-90,METERS,,METERS,DEG_C,,UMOL/L
KS07-10,137E,KS-1987,1,-9,-9,5,20071104,1058,6.0112,137.0253,4248,0,29.874,33.8967,2,-999,9,-999,9,200,2,-999,9,-999,9,-999,9,-999,9,-999,9,-999,9,-999,9,-999,9,-999,9,-999,9,8.1328,6,     25.0, TS,-999,9,-999,-999,9,-999,9,0.11,2,0.04,2,-999,-999,-999,9,0,29.8737,20.9422,-999,9
KS07-10,137E,KS-1987,1,21,02-16027,2,20071104,1128,6.0112,137.0253,4248,10.5,29.8867,33.8965,2,-999,9,-999,9,198,2,-999,9,-999,9,-999,9,-999,9,-999,9,-999,9,-999,9,-999,9,-999,9,-999,9,-999,9,   -999.0,  9,-999,9,-999,-999,9,-999,9,0.1,2,0.03,2,-999,-999,-999,9,10,29.8841,20.9386,-999,9
KS07-10,137E,KS-1987,1,20,02-16026,2,20071104,1127,6.0112,137.0253,4248,25.1,29.8774,33.8959,2,-999,9,-999,9,199,2,-999,9,-999,9,-999,9,-999,9,-999,9,-999,9,-999,9,-999,9,-999,9,-999,9,-999,9,   -999.0,  9,-999,9,-999,-999,9,-999,9,0.1,2,0.03,2,-999,-999,-999,9,25,29.8712,20.9424,-999,9
KS07-10,137E,KS-1987,1,19,02-19378,2,20071104,1123,6.0112,137.0253,4248,49.9,29.3546,34.0287,2,-999,9,-999,9,200,2,-999,9,-999,9,-999,9,-999,9,-999,9,-999,9,-999,9,-999,9,-999,9,-999,9,-999,9,   -999.0,  9,-999,9,-999,-999,9,-999,9,0.17,2,0.09,2,-999,-999,-999,9,50,29.3425,21.2205,-999,9
KS07-10,137E,KS-1987,1,18,02-19377,2,20071104,1122,6.0112,137.0253,4248,74.9,28.6126,34.2859,2,-999,9,-999,9,200,2,-999,9,-999,9,-999,9,-999,9,-999,9,-999,9,-999,9,-999,9,-999,9,-999,9,-999,9,   -999.0,  9,-999,9,-999,-999,9,-999,9,0.27,2,0.2,2,-999,-999,-999,9,74,28.5947,21.6625,-999,9
KS07-10,137E,KS-1987,1,17,02-16023,2,20071104,1121,6.0112,137.0253,4248,102,26.6044,34.511,2,-999,9,-999,9,188,2,-999,9,-999,9,-999,9,-999,9,-999,9,-999,9,-999,9,-999,9,-999,9,-999,9,-999,9,   -999.0,  9,-999,9,-999,-999,9,-999,9,0.25,2,0.29,2,-999,-999,-999,9,101,26.5813,22.4823,-999,9
KS07-10,137E,KS-1987,1,16,02-16022,2,20071104,1120,6.0112,137.0253,4248,126.5,22.7202,34.7864,2,-999,9,-999,9,157,2,-999,9,-999,9,-999,9,-999,9,-999,9,-999,9,-999,9,-999,9,-999,9,-999,9,-999,9,   -999.0,  9,-999,9,-999,-999,9,-999,9,0.11,2,0.23,2,-999,-999,-999,9,126,22.6946,23.8591,-999,9
KS07-10,137E,KS-1987,1,15,02-16021,2,20071104,1119,6.0112,137.0253,4248,152.6,19.4982,34.7456,2,-999,9,-999,9,148,2,-999,9,-999,9,-999,9,-999,9,-999,9,-999,9,-999,9,-999,9,-999,9,-999,9,-999,9,   -999.0,  9,-999,9,-999,-999,9,-999,9,0.07,2,0.15,2,-999,-999,-999,9,152,19.4705,24.7059,-999,9
KS07-10,137E,KS-1987,1,14,02-16020,2,20071104,1118,6.0112,137.0253,4248,203,12.8827,34.5585,2,-999,9,-999,9,101,2,-999,9,-999,9,-999,9,-999,9,-999,9,-999,9,-999,9,-999,9,-999,9,-999,9,-999,9,   -999.0,  9,-999,9,-999,-999,9,-999,9,0,2,0.02,2,-999,-999,-999,9,202,12.8551,26.0798,-999,9
KS07-10,137E,KS-1987,1,13,02-16019,2,20071104,1116,6.0112,137.0253,4248,253.4,10.47,34.568,2,-999,9,-999,9,68,2,-999,9,-999,9,-999,9,-999,9,-999,9,-999,9,-999,9,-999,9,-999,9,-999,9,-999,9,   -999.0,  9,-999,9,-999,-999,9,-999,9,0,2,0.02,2,-999,-999,-999,9,252,10.4398,26.5387,-999,9
KS07-10,137E,KS-1987,1,12,02-16018,2,20071104,1114,6.0112,137.0253,4248,305.8,9.5293,34.6103,2,-999,9,-999,9,54,2,-999,9,-999,9,-999,9,-999,9,-999,9,-999,9,-999,9,-999,9,-999,9,-999,9,-999,9,   -999.0,  9,-999,9,-999,-999,9,-999,9,0,2,0.02,2,-999,-999,-999,9,304,9.4948,26.7324,-999,9
KS07-10,137E,KS-1987,1,11,02-19376,2,20071104,1111,6.0112,137.0253,4248,404.3,8.4542,34.5846,2,-999,9,-999,9,64,2,-999,9,-999,9,-999,9,-999,9,-999,9,-999,9,-999,9,-999,9,-999,9,-999,9,-999,9,   -999.0,  9,-999,9,-999,-999,9,-999,9,-999,9,-999,9,-999,-999,-999,9,402,8.4116,26.8852,-999,9
KS07-10,137E,KS-1987,1,10,02-19375,2,20071104,1108,6.0112,137.0253,4248,505.7,7.7202,34.5649,2,-999,9,-999,9,71,2,-999,9,-999,9,-999,9,-999,9,-999,9,-999,9,-999,9,-999,9,-999,9,-999,9,-999,9,   -999.0,  9,-999,9,-999,-999,9,-999,9,-999,9,-999,9,-999,-999,-999,9,502,7.6694,26.9809,-999,9
KS07-10,137E,KS-1987,1,9,02-16015,2,20071104,1105,6.0112,137.0253,4248,606.2,6.8745,34.5355,2,-999,9,-999,9,85,2,-999,9,-999,9,-999,9,-999,9,-999,9,-999,9,-999,9,-999,9,-999,9,-999,9,-999,9,   -999.0,  9,-999,9,-999,-999,9,-999,9,-999,9,-999,9,-999,-999,-999,9,602,6.817,27.078,-999,9
KS07-10,137E,KS-1987,1,8,02-16014,2,20071104,1102,6.0112,137.0253,4248,707.3,6.2342,34.5288,2,-999,9,-999,9,85,2,-999,9,-999,9,-999,9,-999,9,-999,9,-999,9,-999,9,-999,9,-999,9,-999,9,-999,9,   -999.0,  9,-999,9,-999,-999,9,-999,9,-999,9,-999,9,-999,-999,-999,9,702,6.1701,27.1586,-999,9
KS07-10,137E,KS-1987,1,7,02-19374,2,20071104,1059,6.0112,137.0253,4248,807.9,5.6476,34.5317,2,-999,9,-999,9,87,2,-999,9,-999,9,-999,9,-999,9,-999,9,-999,9,-999,9,-999,9,-999,9,-999,9,-999,9,   -999.0,  9,-999,9,-999,-999,9,-999,9,-999,9,-999,9,-999,-999,-999,9,802,5.5774,27.2353,-999,9
KS07-10,137E,KS-1987,1,6,02-19373,2,20071104,1056,6.0112,137.0253,4248,908.5,5.1179,34.5404,2,-999,9,-999,9,87,2,-999,9,-999,9,-999,9,-999,9,-999,9,-999,9,-999,9,-999,9,-999,9,-999,9,-999,9,   -999.0,  9,-999,9,-999,-999,9,-999,9,-999,9,-999,9,-999,-999,-999,9,902,5.0419,27.306,-999,9
KS07-10,137E,KS-1987,1,5,02-16011,2,20071104,1053,6.0112,137.0253,4248,1010.4,4.4119,34.5536,2,-999,9,-999,9,99,2,-999,9,-999,9,-999,9,-999,9,-999,9,-999,9,-999,9,-999,9,-999,9,-999,9,-999,9,   -999.0,  9,-999,9,-999,-999,9,-999,9,-999,9,-999,9,-999,-999,-999,9,1002,4.3321,27.396,-999,9
KS07-10,137E,KS-1987,1,4,02-16010,2,20071104,1047,6.0112,137.0253,4248,1261.6,3.4707,34.5816,2,-999,9,-999,9,96,2,-999,9,-999,9,-999,9,-999,9,-999,9,-999,9,-999,9,-999,9,-999,9,-999,9,-999,9,   -999.0,  9,-999,9,-999,-999,9,-999,9,-999,9,-999,9,-999,-999,-999,9,1251,3.3777,27.5156,-999,9
KS07-10,137E,KS-1987,1,3,02-16009,2,20071104,1042,6.0112,137.0253,4248,1513,2.8788,34.6054,2,-999,9,-999,9,100,2,-999,9,-999,9,-999,9,-999,9,-999,9,-999,9,-999,9,-999,9,-999,9,-999,9,-999,9,   -999.0,  9,-999,9,-999,-999,9,-999,9,-999,9,-999,9,-999,-999,-999,9,1499,2.7712,27.5907,-999,9
KS07-10,137E,KS-1987,1,2,02-16008,2,20071104,1037,6.0112,137.0253,4248,1766.1,2.4353,34.6249,2,-999,9,-999,9,108,2,-999,9,-999,9,-999,9,-999,9,-999,9,-999,9,-999,9,-999,9,-999,9,-999,9,-999,9,   -999.0,  9,-999,9,-999,-999,9,-999,9,-999,9,-999,9,-999,-999,-999,9,1749,2.3122,27.6458,-999,9
KS07-10,137E,KS-1987,1,1,02-16007,2,20071104,1032,6.0112,137.0253,4248,2024,2.153,34.6397,2,-999,9,-999,9,116,2,-999,9,-999,9,-999,9,-999,9,-999,9,-999,9,-999,9,-999,9,-999,9,-999,9,-999,9,   -999.0,  9,-999,9,-999,-999,9,-999,9,-999,9,-999,9,-999,-999,-999,9,2003, 2.0122,27.682,-999,9
KS07-10,137E,KS-1988,1,-9,-9,5,20071104,1801,5.0017,137.0335,5129,0,30.1228,34.034,2,-999,9,-999,9,200,2,1.1,2,-999,9,0,2,0,2,0.04,2,-999,9,-999,9,-999,9,-999,9,-999,9,8.134,2,     25.0, TS,-999,9,-999,-999,9,-999,9,0.08,2,0.05,2,-999,-999,-999,9,0,30.1225,20.9604,-999,9
KS07-10,137E,KS-1988,1,21,02-16027,2,20071104,1818,5.0017,137.0335,5129,10,30.1388,34.0333,2,-999,9,34.0338,2,198,2,1.09,2,-999,9,0,2,0,2,0.03,2,-999,9,-999,9,-999,9,-999,9,-999,9,-999,9,   -999.0,  9,-999,9,-999,-999,9,-999,9,0.1,2,0.05,2,-999,-999,-999,9,10,30.1363,20.9551,-999,9
KS07-10,137E,KS-1988,1,20,02-16026,2,20071104,1817,5.0017,137.0335,5129,25.2,30.1736,34.0743,2,-999,9,-999,9,199,2,0.99,2,-999,9,0,2,0,2,0.03,2,-999,9,-999,9,-999,9,-999,9,-999,9,-999,9,   -999.0,  9,-999,9,-999,-999,9,-999,9,0.09,2,0.05,2,-999,-999,-999,9,25,30.1673,20.9753,-999,9
KS07-10,137E,KS-1988,1,19,02-19378,2,20071104,1814,5.0017,137.0335,5129,50.1,30.105,34.2209,2,-999,9,-999,9,200,2,1.16,2,-999,9,0,2,0,2,0.05,2,-999,9,-999,9,-999,9,-999,9,-999,9,-999,9,   -999.0,  9,-999,9,-999,-999,9,-999,9,0.15,2,0.07,2,-999,-999,-999,9,50,30.0926,21.1107,-999,9
KS07-10,137E,KS-1988,1,18,02-19377,2,20071104,1813,5.0017,137.0335,5129,75.5,29.7173,34.1664,2,-999,9,-999,9,200,2,1.24,2,-999,9,0,2,0,2,0.05,2,-999,9,-999,9,-999,9,-999,9,-999,9,-999,9,   -999.0,  9,-999,9,-999,-999,9,-999,9,0.2,2,0.14,2,-999,-999,-999,9,75,29.6987,21.2036,-999,9
KS07-10,137E,KS-1988,1,17,02-16023,2,20071104,1812,5.0017,137.0335,5129,100.6,29.8326,34.4889,2,-999,9,34.2223,4,203,2,1.22,2,-999,9,0,2,0,2,0.05,2,-999,9,-999,9,-999,9,-999,9,-999,9,-999,9,   -999.0,  9,-999,9,-999,-999,9,-999,9,0.18,2,0.14,2,-999,-999,-999,9,100,29.8078,21.4085,-999,9
KS07-10,137E,KS-1988,1,16,02-16022,2,20071104,1811,5.0017,137.0335,5129,125.9,28.4015,34.6247,2,-999,9,-999,9,188,2,1.47,2,-999,9,0.59,2,0.24,2,0.16,2,-999,9,-999,9,-999,9,-999,9,-999,9,-999,9,   -999.0,  9,-999,9,-999,-999,9,-999,9,0.24,2,0.32,2,-999,-999,-999,9,125,28.3715,21.9907,-999,9
KS07-10,137E,KS-1988,1,15,02-16021,2,20071104,1810,5.0017,137.0335,5129,152.1,23.8162,34.7913,2,-999,9,-999,9,171,2,3.3,2,-999,9,2.44,2,0.33,2,0.3,2,-999,9,-999,9,-999,9,-999,9,-999,9,-999,9,   -999.0,  9,-999,9,-999,-999,9,-999,9,0.09,2,0.2,2,-999,-999,-999,9,151,23.7844,23.547,-999,9
KS07-10,137E,KS-1988,1,14,02-16020,2,20071104,1808,5.0017,137.0335,5129,202.6,14.9843,34.6301,2,-999,9,34.6389,4,138,2,14.92,2,-999,9,15.6,2,0.01,2,1.09,2,-999,9,-999,9,-999,9,-999,9,-999,9,-999,9,   -999.0,  9,-999,9,-999,-999,9,-999,9,0.03,2,0.06,2,-999,-999,-999,9,201,14.9537,25.6969,-999,9
KS07-10,137E,KS-1988,1,13,02-16019,2,20071104,1807,5.0017,137.0335,5129,251.5,10.7759,34.5588,2,-999,9,-999,9,75,2,30.49,2,-999,9,28.84,2,0,2,2.03,2,-999,9,-999,9,-999,9,-999,9,-999,9,-999,9,   -999.0,  9,-999,9,-999,-999,9,-999,9,0,2,0.03,2,-999,-999,-999,9,250,10.7454,26.4776,-999,9
KS07-10,137E,KS-1988,1,12,02-16018,2,20071104,1805,5.0017,137.0335,5129,302.7,9.6627,34.5997,2,-999,9,34.6029,2,55,2,34.9,2,-999,9,32.92,2,0,2,2.32,2,-999,9,-999,9,-999,9,-999,9,-999,9,-999,9,   -999.0,  9,-999,9,-999,-999,9,-999,9,0,2,0.02,2,-999,-999,-999,9,301,9.6283,26.702,-999,9
KS07-10,137E,KS-1988,1,11,02-19376,2,20071104,1803,5.0017,137.0335,5129,400.4,8.2676,34.5866,2,-999,9,34.5878,2,74,2,40.18,2,-999,9,33.99,2,0,2,2.38,2,-999,9,-999,9,-999,9,-999,9,-999,9,-999,9,   -999.0,  9,-999,9,-999,-999,9,-999,9,-999,9,-999,9,-999,-999,-999,9,398,8.226,26.9151,-999,9
KS07-10,137E,KS-1988,1,10,02-19375,2,20071104,1801,5.0017,137.0335,5129,502.1,7.5664,34.5674,2,-999,9,34.5691,2,83,2,43.45,2,-999,9,34.57,2,0,2,2.41,2,-999,9,-999,9,-999,9,-999,9,-999,9,-999,9,   -999.0,  9,-999,9,-999,-999,9,-999,9,-999,9,-999,9,-999,-999,-999,9,499,7.5165,27.005,-999,9
KS07-10,137E,KS-1988,1,9,02-16015,2,20071104,1759,5.0017,137.0335,5129,604.5,6.7549,34.548,2,-999,9,34.5473,2,76,2,53.35,2,-999,9,36.61,2,0,2,2.58,2,-999,9,-999,9,-999,9,-999,9,-999,9,-999,9,   -999.0,  9,-999,9,-999,-999,9,-999,9,-999,9,-999,9,-999,-999,-999,9,600,6.6981,27.1039,-999,9
KS07-10,137E,KS-1988,1,8,02-16014,2,20071104,1756,5.0017,137.0335,5129,706.3,5.9357,34.5362,2,-999,9,34.5355,2,81,2,64.6,2,-999,9,37.48,2,0,2,2.65,2,-999,9,-999,9,-999,9,-999,9,-999,9,-999,9,   -999.0,  9,-999,9,-999,-999,9,-999,9,-999,9,-999,9,-999,-999,-999,9,701,5.8733,27.2022,-999,9
KS07-10,137E,KS-1988,1,7,02-19374,2,20071104,1753,5.0017,137.0335,5129,808.2,5.4748,34.537,2,-999,9,34.5363,2,85,2,71.59,2,-999,9,37.77,2,0,2,2.67,2,-999,9,-999,9,-999,9,-999,9,-999,9,-999,9,   -999.0,  9,-999,9,-999,-999,9,-999,9,-999,9,-999,9,-999,-999,-999,9,802,5.4056,27.2603,-999,9
KS07-10,137E,KS-1988,1,6,02-19373,2,20071104,1750,5.0017,137.0335,5129,908.9,4.9546,34.5455,2,-999,9,34.545,2,89,2,78.75,2,-999,9,38.16,2,0,2,2.69,2,-999,9,-999,9,-999,9,-999,9,-999,9,-999,9,   -999.0,  9,-999,9,-999,-999,9,-999,9,-999,9,-999,9,-999,-999,-999,9,902,4.8797,27.3287,-999,9
KS07-10,137E,KS-1988,1,5,02-16011,2,20071104,1747,5.0017,137.0335,5129,1008.7,4.6622,34.5517,2,-999,9,34.5508,2,91,2,84.17,2,-999,9,38.25,2,0,2,2.71,2,-999,9,-999,9,-999,9,-999,9,-999,9,-999,9,   -999.0,  9,-999,9,-999,-999,9,-999,9,-999,9,-999,9,-999,-999,-999,9,1001,4.5806,27.3673,-999,9
KS07-10,137E,KS-1988,1,4,02-16010,2,20071104,1733,5.0017,137.0335,5129,1262.4,3.6399,34.5767,2,-999,9,34.5758,2,95,2,106.6,2,-999,9,38.93,2,0,2,2.74,2,-999,9,-999,9,-999,9,-999,9,-999,9,-999,9,   -999.0,  9,-999,9,-999,-999,9,-999,9,-999,9,-999,9,-999,-999,-999,9,1252,3.5452,27.4954,-999,9
KS07-10,137E,KS-1988,1,3,02-16009,2,20071104,1726,5.0017,137.0335,5129,1515.3,3.0357,34.5986,2,-999,9,34.5983,2,101,2,119.43,2,-999,9,39.02,2,0,2,2.74,2,-999,9,-999,9,-999,9,-999,9,-999,9,-999,9,   -999.0,  9,-999,9,-999,-999,9,-999,9,-999,9,-999,9,-999,-999,-999,9,1501,2.9261,27.5714,-999,9
KS07-10,137E,KS-1988,1,2,02-16008,2,20071104,1719,5.0017,137.0335,5129,1769.4,2.5745,34.6191,2,-999,9,34.6188,2,106,2,128.13,2,-999,9,38.92,2,0,2,2.72,2,-999,9,-999,9,-999,9,-999,9,-999,9,-999,9,   -999.0,  9,-999,9,-999,-999,9,-999,9,-999,9,-999,9,-999,-999,-999,9,1752, 2.4493,27.6297,-999,9
KS07-10,137E,KS-1988,1,1,02-16007,2,20071104,1712,5.0017,137.0335,5129,2038.5,2.194,34.6378,2,-999,9,34.6378,2,116,2,134.84,2,-999,9,38.44,2,0,2,2.68,2,-999,9,-999,9,-999,9,-999,9,-999,9,-999,9,   -999.0,  9,-999,9,-999,-999,9,-999,9,-999,9,-999,9,-999,-999,-999,9,2017,2.0513,27.6774,-999,9
KS07-10,137E,KS-1989,1,-9,-9,5,20071105,0010,3.9927,137.0082,4633,0,30.1375,34.0511,2,-999,9,-999,9,199,2,0.98,2,-999,9,0,2,0,2,0.04,2,-999,9,-999,9,-999,9,-999,9,-999,9,8.1391,6,     25.0, TS,-999,9,-999,-999,9,-999,9,0.11,2,0.07,2,-999,-999,-999,9,0,30.1372,20.9682,-999,9
KS07-10,137E,KS-1989,1,21,02-16027,2,20071105,0027,3.9927,137.0082,4633,10.5,30.1064,34.0456,2,-999,9,-999,9,199,2,1.02,2,-999,9,0,2,0,2,0.02,2,-999,9,-999,9,-999,9,-999,9,-999,9,-999,9,   -999.0,  9,-999,9,-999,-999,9,-999,9,0.12,2,0.06,2,-999,-999,-999,9,10,30.1038,20.9755,-999,9
KS07-10,137E,KS-1989,1,20,02-16026,2,20071105,0025,3.9927,137.0082,4633,25.7,30.0827,34.048,2,-999,9,-999,9,199,2,1.06,2,-999,9,0,2,0,2,0.02,2,-999,9,-999,9,-999,9,-999,9,-999,9,-999,9,   -999.0,  9,-999,9,-999,-999,9,-999,9,0.12,2,0.07,2,-999,-999,-999,9,26,30.0763,20.9866,-999,9
KS07-10,137E,KS-1989,1,19,02-19378,2,20071105,0021,3.9927,137.0082,4633,50.6,29.9561,34.1093,2,-999,9,-999,9,201,2,0.99,2,-999,9,0,2,0,2,0.03,2,-999,9,-999,9,-999,9,-999,9,-999,9,-999,9,   -999.0,  9,-999,9,-999,-999,9,-999,9,0.17,2,0.11,2,-999,-999,-999,9,50,29.9436,21.0778,-999,9
KS07-10,137E,KS-1989,1,18,02-19377,2,20071105,0020,3.9927,137.0082,4633,74.5,29.4447,34.3809,2,-999,9,-999,9,200,2,1.03,2,-999,9,0,2,0,2,0.07,2,-999,9,-999,9,-999,9,-999,9,-999,9,-999,9,   -999.0,  9,-999,9,-999,-999,9,-999,9,0.3,2,0.21,2,-999,-999,-999,9,74,29.4265,21.4564,-999,9
KS07-10,137E,KS-1989,1,17,02-16023,2,20071105,0019,3.9927,137.0082,4633,101,28.7765,34.6303,2,-999,9,-999,9,193,2,1.13,2,-999,9,0,2,0,2,0.11,2,-999,9,-999,9,-999,9,-999,9,-999,9,-999,9,   -999.0,  9,-999,9,-999,-999,9,-999,9,0.21,2,0.23,2,-999,-999,-999,9,100,28.7522,21.869,-999,9
KS07-10,137E,KS-1989,1,16,02-16022,2,20071105,0018,3.9927,137.0082,4633,126.2,27.7537,34.7954,2,-999,9,-999,9,179,2,1.37,2,-999,9,1.08,2,0.34,2,0.22,2,-999,9,-999,9,-999,9,-999,9,-999,9,-999,9,   -999.0,  9,-999,9,-999,-999,9,-999,9,0.15,2,0.25,2,-999,-999,-999,9,125,27.7242,22.3306,-999,9
KS07-10,137E,KS-1989,1,15,02-16021,2,20071105,0017,3.9927,137.0082,4633,151.7,26.0632,34.9167,2,-999,9,-999,9,160,2,2.62,2,-999,9,4.3,2,0.17,2,0.38,2,-999,9,-999,9,-999,9,-999,9,-999,9,-999,9,   -999.0,  9,-999,9,-999,-999,9,-999,9,0.09,2,0.22,2,-999,-999,-999,9,151,26.0293,22.9614,-999,9
KS07-10,137E,KS-1989,1,14,02-16020,2,20071105,0016,3.9927,137.0082,4633,202.2,16.5884,34.6801,2,-999,9,-999,9,155,2,10.22,2,-999,9,11.12,2,0.01,2,0.78,2,-999,9,-999,9,-999,9,-999,9,-999,9,-999,9,   -999.0,  9,-999,9,-999,-999,9,-999,9,0.02,2,0.05,2,-999,-999,-999,9,201,16.5557,25.3733,-999,9
KS07-10,137E,KS-1989,1,13,02-16019,2,20071105,0014,3.9927,137.0082,4633,251.6,12.9848,34.5597,2,-999,9,-999,9,119,2,22.27,2,-999,9,20.95,2,0,2,1.47,2,-999,9,-999,9,-999,9,-999,9,-999,9,-999,9,   -999.0,  9,-999,9,-999,-999,9,-999,9,0.01,2,0.03,2,-999,-999,-999,9,250,12.9503,26.0617,-999,9
KS07-10,137E,KS-1989,1,12,02-16018,2,20071105,0013,3.9927,137.0082,4633,303.2,9.7649,34.5888,2,-999,9,-999,9,75,2,-999,4,-999,9,30.97,2,0,2,2.17,2,-999,9,-999,9,-999,9,-999,9,-999,9,-999,9,   -999.0,  9,-999,9,-999,-999,9,-999,9,0,2,0.02,2,-999,-999,-999,9,301,9.7302,26.6765,-999,9
KS07-10,137E,KS-1989,1,11,02-19376,2,20071105,0010,3.9927,137.0082,4633,402.8,8.1035,34.5841,2,-999,9,-999,9,70,2,-999,4,-999,9,34.67,2,0,2,2.41,2,-999,9,-999,9,-999,9,-999,9,-999,9,-999,9,   -999.0,  9,-999,9,-999,-999,9,-999,9,-999,9,-999,9,-999,-999,-999,9,400,8.0621,26.9379,-999,9
KS07-10,137E,KS-1989,1,10,02-19375,2,20071105,0008,3.9927,137.0082,4633,503.2,7.3834,34.5649,2,-999,9,-999,9,86,2,-999,4,-999,9,34.76,2,0,2,2.42,2,-999,9,-999,9,-999,9,-999,9,-999,9,-999,9,   -999.0,  9,-999,9,-999,-999,9,-999,9,-999,9,-999,9,-999,-999,-999,9,500,7.3341,27.0292,-999,9
KS07-10,137E,KS-1989,1,9,02-16015,2,20071105,0006,3.9927,137.0082,4633,604.7,6.6369,34.5469,2,-999,9,-999,9,79,2,-999,4,-999,9,36.8,2,0,2,2.58,2,-999,9,-999,9,-999,9,-999,9,-999,9,-999,9,   -999.0,  9,-999,9,-999,-999,9,-999,9,-999,9,-999,9,-999,-999,-999,9,600,6.5807,27.1189,-999,9
KS07-10,137E,KS-1989,1,8,02-16014,2,20071105,0003,3.9927,137.0082,4633,705.6,5.9143,34.5361,2,-999,9,-999,9,83,2,-999,4,-999,9,37.48,2,0,2,2.64,2,-999,9,-999,9,-999,9,-999,9,-999,9,-999,9,   -999.0,  9,-999,9,-999,-999,9,-999,9,-999,9,-999,9,-999,-999,-999,9,701, 5.8521,27.2047,-999,9
KS07-10,137E,KS-1989,1,7,02-19374,2,20071105,0001,3.9927,137.0082,4633,806,5.4161,34.5382,2,-999,9,-999,9,84,2,-999,4,-999,9,38.06,2,0,2,2.68,2,-999,9,-999,9,-999,9,-999,9,-999,9,-999,9,   -999.0,  9,-999,9,-999,-999,9,-999,9,-999,9,-999,9,-999,-999,-999,9,800,5.3475,27.2683,-999,9
KS07-10,137E,KS-1989,1,6,02-19373,2,20071104,2359,3.9927,137.0082,4633,907.1,4.8903,34.5453,2,-999,9,-999,9,88,2,-999,4,-999,9,38.35,2,0,2,2.71,2,-999,9,-999,9,-999,9,-999,9,-999,9,-999,9,   -999.0,  9,-999,9,-999,-999,9,-999,9,-999,9,-999,9,-999,-999,-999,9,900,4.816,27.3358,-999,9
KS07-10,137E,KS-1989,1,5,02-16011,2,20071104,2356,3.9927,137.0082,4633,1008.3,4.4688,34.5557,2,-999,9,-999,9,90,2,-999,4,-999,9,38.64,2,0,2,2.72,2,-999,9,-999,9,-999,9,-999,9,-999,9,-999,9,   -999.0,  9,-999,9,-999,-999,9,-999,9,-999,9,-999,9,-999,-999,-999,9,1000,4.3887,27.3915,-999,9
KS07-10,137E,KS-1989,1,4,02-16010,2,20071104,2351,3.9927,137.0082,4633,1260.7,3.6732,34.5782,2,-999,9,-999,9,95,2,-999,4,-999,9,39.03,2,0,2,2.75,2,-999,9,-999,9,-999,9,-999,9,-999,9,-999,9,   -999.0,  9,-999,9,-999,-999,9,-999,9,-999,9,-999,9,-999,-999,-999,9,1250, 3.5784,27.4933,-999,9
KS07-10,137E,KS-1989,1,3,02-16009,2,20071104,2346,3.9927,137.0082,4633,1513.5,3.042,34.5997,2,-999,9,-999,9,105,2,-999,4,-999,9,38.73,2,0,2,2.72,2,-999,9,-999,9,-999,9,-999,9,-999,9,-999,9,   -999.0,  9,-999,9,-999,-999,9,-999,9,-999,9,-999,9,-999,-999,-999,9,1500,2.9325,27.5717,-999,9
KS07-10,137E,KS-1989,1,2,02-16008,2,20071104,2341,3.9927,137.0082,4633,1768.2,2.6739,34.615,2,-999,9,-999,9,107,2,-999,4,-999,9,38.92,2,0,2,2.72,2,-999,9,-999,9,-999,9,-999,9,-999,9,-999,9,   -999.0,  9,-999,9,-999,-999,9,-999,9,-999,9,-999,9,-999,-999,-999,9,1751,2.5474,27.618,-999,9
KS07-10,137E,KS-1989,1,1,02-16007,2,20071104,2336,3.9927,137.0082,4633,2030.9,2.2898,34.6336,2,-999,9,-999,9,114,2,-999,4,-999,9,38.53,2,0,2,2.69,2,-999,9,-999,9,-999,9,-999,9,-999,9,-999,9,   -999.0,  9,-999,9,-999,-999,9,-999,9,-999,9,-999,9,-999,-999,-999,9,2010,2.1463,27.6664,-999,9