BOTTLE,20121206MIRCJHATS
EXPOCODE,SECT_ID,STNNBR,CASTNO,SAMPNO,BTLNBR,BTLNBR_FLAG_W,DATE,TIME,LATITUDE,LONGITUDE,DEPTH,CTDPRS,CTDTMP,CTDSAL,CTDSAL_FLAG_W,CTDOXY,CTDOXY_FLAG_W,SALNTY,SALNTY_FLAG_W,OXYGEN,OXYGEN_FLAG_W,SILCAT,SILCAT_FLAG_W,NITRAT,NITRAT_FLAG_W,NO2+NO3,NO2+NO3_FLAG_W,NITRIT,NITRIT_FLAG_W,PHSPHT,PHSPHT_FLAG_W,CFC-11,CFC-11_FLAG_W,CFC-12,CFC-12_FLAG_W,DELC13,DELC13_FLAG_W,TCARBN,TCARBN_FLAG_W,ALKALI,ALKALI_FLAG_W,PH,PH_FLAG_W,PH_TMP,PH_SCALE,PH_NBS,PH_NBS_FLAG_W,C13ERR,TOTALP,TOTALP_FLAG_W,AMMONI,AMMONI_FLAG_W,CHLORA,CHLORA_FLAG_W,PPHYTN,PPHYTN_FLAG_W,REVPRS,REVTMP,DEPTH,DEPTH_FLAG,CTDDEP,THETA,SIGTHT,DOC,DOC_FLAG_W
,,,,,,,GMT,GMT,,,METERS,DBAR,ITS-90,PSS-78,,UMOL/KG,,PSS-78,,UMOL/KG,,UMOL/KG,,UMOL/KG,,UMOL/KG,,UMOL/KG, ,UMOL/KG,,PMOL/KG,,PMOL/KG,,/MILLE,,UMOL/KG,,UMOL/KG,,25_DEG_C,,DEG_C,,,,/MILLE,UMOL/KG,,UMOL/KG,,UG/L,,UG/L,,DBAR,ITS-90,METERS,,METERS,DEG_C,,UMOL/L
KS07-10,137E,KS-2002,7,18,02-19377,2,20071122,0311,29.9802,136.9957,4520,12.2,24.6566,34.7123,2,-999,9,34.7105,2,-999,9,-999,9,-999,9,-999,9,-999,9,-999,9,-999,9,-999,9,-999,9,-999,9,-999,9,-999,9,   -999.0,  9,-999,9,-999,-999,9,-999,9,-999,9,-999,9,-999,-999,-999,9,12,24.654,23.2284,-999,9
KS07-10,137E,KS-2002,7,17,02-16023,2,20071122,0304,29.9802,136.9957,4520,100.4,22.1873,34.7626,2,-999,9,34.7609,2,-999,9,-999,9,-999,9,-999,9,-999,9,-999,9,-999,9,-999,9,-999,9,-999,9,-999,9,-999,9,   -999.0,  9,-999,9,-999,-999,9,-999,9,-999,9,-999,9,-999,-999,-999,9,100,22.1674,23.9905,-999,9
KS07-10,137E,KS-2002,7,16,02-16022,2,20071122,0301,29.9802,136.9957,4520,201.8,18.6782,34.8012,2,-999,9,34.8,2,-999,9,-999,9,-999,9,-999,9,-999,9,-999,9,-999,9,-999,9,-999,9,-999,9,-999,9,-999,9,   -999.0,  9,-999,9,-999,-999,9,-999,9,-999,9,-999,9,-999,-999,-999,9,200,18.6427,24.9597,-999,9
KS07-10,137E,KS-2002,7,15,02-16021,2,20071122,0259,29.9802,136.9957,4520,301.7,16.8405,34.7335,2,-999,9,34.7329,2,-999,9,-999,9,-999,9,-999,9,-999,9,-999,9,-999,9,-999,9,-999,9,-999,9,-999,9,-999,9,   -999.0,  9,-999,9,-999,-999,9,-999,9,-999,9,-999,9,-999,-999,-999,9,299,16.791,25.3591,-999,9
KS07-10,137E,KS-2002,7,14,02-16020,2,20071122,0256,29.9802,136.9957,4520,403,13.9305,34.5201,2,-999,9,34.5192,2,-999,9,-999,9,-999,9,-999,9,-999,9,-999,9,-999,9,-999,9,-999,9,-999,9,-999,9,-999,9,   -999.0,  9,-999,9,-999,-999,9,-999,9,-999,9,-999,9,-999,-999,-999,9,400,13.8723,25.8429,-999,9
KS07-10,137E,KS-2002,7,13,02-16019,2,20071122,0254,29.9802,136.9957,4520,503,11.2261,34.3319,2,-999,9,34.3305,2,-999,9,-999,9,-999,9,-999,9,-999,9,-999,9,-999,9,-999,9,-999,9,-999,9,-999,9,-999,9,   -999.0,  9,-999,9,-999,-999,9,-999,9,-999,9,-999,9,-999,-999,-999,9,499,11.1629,26.2258,-999,9
KS07-10,137E,KS-2002,7,12,02-16018,2,20071122,0251,29.9802,136.9957,4520,604.2,8.3084,34.1498,2,-999,9,34.1499,2,-999,9,-999,9,-999,9,-999,9,-999,9,-999,9,-999,9,-999,9,-999,9,-999,9,-999,9,-999,9,   -999.0,  9,-999,9,-999,-999,9,-999,9,-999,9,-999,9,-999,-999,-999,9,599,8.245,26.5694,-999,9
KS07-10,137E,KS-2002,7,11,02-19376,2,20071122,0249,29.9802,136.9957,4520,704.9,6.9941,34.1783,2,-999,9,34.1788,2,-999,9,-999,9,-999,9,-999,9,-999,9,-999,9,-999,9,-999,9,-999,9,-999,9,-999,9,-999,9,   -999.0,  9,-999,9,-999,-999,9,-999,9,-999,9,-999,9,-999,-999,-999,9,699,6.9266,26.7815,-999,9
KS07-10,137E,KS-2002,7,10,02-19375,2,20071122,0246,29.9802,136.9957,4520,805.9,5.4586,34.1816,2,-999,9,34.1815,2,-999,9,-999,9,-999,9,-999,9,-999,9,-999,9,-999,9,-999,9,-999,9,-999,9,-999,9,-999,9,   -999.0,  9,-999,9,-999,-999,9,-999,9,-999,9,-999,9,-999,-999,-999,9,799,5.3902,26.9808,-999,9
KS07-10,137E,KS-2002,7,9,02-16015,2,20071122,0244,29.9802,136.9957,4520,905.1,4.5379,34.2388,2,-999,9,34.2387,2,-999,9,-999,9,-999,9,-999,9,-999,9,-999,9,-999,9,-999,9,-999,9,-999,9,-999,9,-999,9,   -999.0,  9,-999,9,-999,-999,9,-999,9,-999,9,-999,9,-999,-999,-999,9,897,4.4667,27.1313,-999,9
KS07-10,137E,KS-2002,7,8,02-16014,2,20071122,0242,29.9802,136.9957,4520,1007.7,4.1086,34.339,2,-999,9,34.3371,2,-999,9,-999,9,-999,9,-999,9,-999,9,-999,9,-999,9,-999,9,-999,9,-999,9,-999,9,-999,9,   -999.0,  9,-999,9,-999,-999,9,-999,9,-999,9,-999,9,-999,-999,-999,9,998,4.0317,27.2571,-999,9
KS07-10,137E,KS-2002,7,7,02-19374,2,20071122,0236,29.9802,136.9957,4520,1261.1,3.1157,34.4523,2,-999,9,34.4516,2,-999,9,-999,9,-999,9,-999,9,-999,9,-999,9,-999,9,-999,9,-999,9,-999,9,-999,9,-999,9,   -999.0,  9,-999,9,-999,-999,9,-999,9,-999,9,-999,9,-999,-999,-999,9,1249,3.0265,27.4454,-999,9
KS07-10,137E,KS-2002,7,6,02-19373,2,20071122,0231,29.9802,136.9957,4520,1511.6,2.5834,34.5176,2,-999,9,34.5178,2,-999,9,-999,9,-999,9,-999,9,-999,9,-999,9,-999,9,-999,9,-999,9,-999,9,-999,9,-999,9,   -999.0,  9,-999,9,-999,-999,9,-999,9,-999,9,-999,9,-999,-999,-999,9,1496,2.4796,27.5459,-999,9
KS07-10,137E,KS-2002,7,5,02-16011,2,20071122,0226,29.9802,136.9957,4520,1769,2.1511,34.5721,2,-999,9,34.5714,2,-999,9,-999,9,-999,9,-999,9,-999,9,-999,9,-999,9,-999,9,-999,9,-999,9,-999,9,-999,9,   -999.0,  9,-999,9,-999,-999,9,-999,9,-999,9,-999,9,-999,-999,-999,9,1750, 2.0318,27.6263,-999,9
KS07-10,137E,KS-2002,7,4,02-16010,2,20071122,0221,29.9802,136.9957,4520,2022.7,1.9342,34.6042,2,-999,9,34.6038,2,-999,9,-999,9,-999,9,-999,9,-999,9,-999,9,-999,9,-999,9,-999,9,-999,9,-999,9,-999,9,   -999.0,  9,-999,9,-999,-999,9,-999,9,-999,9,-999,9,-999,-999,-999,9,1999, 1.7970,27.6704,-999,9
KS07-10,137E,KS-2002,7,3,02-16009,2,20071122,0201,29.9802,136.9957,4520,3041.2,1.7008,34.6532,2,-999,9,34.6525,2,-999,9,-999,9,-999,9,-999,9,-999,9,-999,9,-999,9,-999,9,-999,9,-999,9,-999,9,-999,9,   -999.0,  9,-999,9,-999,-999,9,-999,9,-999,9,-999,9,-999,-999,-999,9,2999,1.4757,27.7336,-999,9
KS07-10,137E,KS-2002,7,2,02-16008,2,20071122,0141,29.9802,136.9957,4520,4064.4,1.5518,34.6815,2,-999,9,34.6809,2,-999,9,-999,9,-999,9,-999,9,-999,9,-999,9,-999,9,-999,9,-999,9,-999,9,-999,9,-999,9,   -999.0,  9,-999,9,-999,-999,9,-999,9,-999,9,-999,9,-999,-999,-999,9,3998, 1.2244,27.7742,-999,9
KS07-10,137E,KS-2002,7,1,02-16007,2,20071122,0132,29.9802,136.9957,4520,4531.9,1.5857,34.6834,2,-999,9,34.6829,2,-999,9,-999,9,-999,9,-999,9,-999,9,-999,9,-999,9,-999,9,-999,9,-999,9,-999,9,-999,9,   -999.0,  9,-999,9,-999,-999,9,-999,9,-999,9,-999,9,-999,-999,-999,9,4454, 1.2044,27.7771,-999,9
KS07-10,NONE,KS-2007,1,15,02-16021,2,20071123,0650,32.2935,138.5547,3340,10.3,22.6636,34.7217,2,-999,9,34.72,2,-999,9,-999,9,-999,9,-999,9,-999,9,-999,9,-999,9,-999,9,-999,9,-999,9,-999,9,-999,9,   -999.0,  9,-999,9,-999,-999,9,-999,9,-999,9,-999,9,-999,-999,-999,9,10,22.6615,23.8195,-999,9
KS07-10,NONE,KS-2007,1,14,02-16020,2,20071123,0643,32.2935,138.5547,3340,101.3,20.6888,34.8185,2,-999,9,34.8198,2,-999,9,-999,9,-999,9,-999,9,-999,9,-999,9,-999,9,-999,9,-999,9,-999,9,-999,9,-999,9,   -999.0,  9,-999,9,-999,-999,9,-999,9,-999,9,-999,9,-999,-999,-999,9,101,20.6697,24.445,-999,9
KS07-10,NONE,KS-2007,1,13,02-16019,2,20071123,0640,32.2935,138.5547,3340,203.8,18.4549,34.8122,2,-999,9,34.8107,2,-999,9,-999,9,-999,9,-999,9,-999,9,-999,9,-999,9,-999,9,-999,9,-999,9,-999,9,-999,9,   -999.0,  9,-999,9,-999,-999,9,-999,9,-999,9,-999,9,-999,-999,-999,9,202,18.4193,25.0242,-999,9
KS07-10,NONE,KS-2007,1,12,02-16018,2,20071123,0636,32.2935,138.5547,3340,304.9,16.7706,34.7307,2,-999,9,34.7326,2,-999,9,-999,9,-999,9,-999,9,-999,9,-999,9,-999,9,-999,9,-999,9,-999,9,-999,9,-999,9,   -999.0,  9,-999,9,-999,-999,9,-999,9,-999,9,-999,9,-999,-999,-999,9,303,16.7207,25.3735,-999,9
KS07-10,NONE,KS-2007,1,11,02-19376,2,20071123,0632,32.2935,138.5547,3340,406.4,14.3721,34.5547,2,-999,9,34.5546,2,-999,9,-999,9,-999,9,-999,9,-999,9,-999,9,-999,9,-999,9,-999,9,-999,9,-999,9,-999,9,   -999.0,  9,-999,9,-999,-999,9,-999,9,-999,9,-999,9,-999,-999,-999,9,403,14.3121,25.7771,-999,9
KS07-10,NONE,KS-2007,1,10,02-19375,2,20071123,0628,32.2935,138.5547,3340,506.6,10.9624,34.3225,2,-999,9,34.3248,2,-999,9,-999,9,-999,9,-999,9,-999,9,-999,9,-999,9,-999,9,-999,9,-999,9,-999,9,-999,9,   -999.0,  9,-999,9,-999,-999,9,-999,9,-999,9,-999,9,-999,-999,-999,9,502,10.8997,26.2659,-999,9
KS07-10,NONE,KS-2007,1,9,02-16015,2,20071123,0623,32.2935,138.5547,3340,608.4,8.1078,34.1772,2,-999,9,34.1778,2,-999,9,-999,9,-999,9,-999,9,-999,9,-999,9,-999,9,-999,9,-999,9,-999,9,-999,9,-999,9,   -999.0,  9,-999,9,-999,-999,9,-999,9,-999,9,-999,9,-999,-999,-999,9,603,8.0449,26.6209,-999,9
KS07-10,NONE,KS-2007,1,8,02-16014,2,20071123,0619,32.2935,138.5547,3340,708.2,6.4144,34.1515,2,-999,9,34.15,2,-999,9,-999,9,-999,9,-999,9,-999,9,-999,9,-999,9,-999,9,-999,9,-999,9,-999,9,-999,9,   -999.0,  9,-999,9,-999,-999,9,-999,9,-999,9,-999,9,-999,-999,-999,9,702,6.3497,26.8373,-999,9
KS07-10,NONE,KS-2007,1,7,02-19374,2,20071123,0615,32.2935,138.5547,3340,811.3,5.3561,34.2097,2,-999,9,34.2,4,-999,9,-999,9,-999,9,-999,9,-999,9,-999,9,-999,9,-999,9,-999,9,-999,9,-999,9,-999,9,   -999.0,  9,-999,9,-999,-999,9,-999,9,-999,9,-999,9,-999,-999,-999,9,804,5.2878,27.0151,-999,9
KS07-10,NONE,KS-2007,1,6,02-19373,2,20071123,0611,32.2935,138.5547,3340,911.9,4.4753,34.2919,2,-999,9,34.2889,2,-999,9,-999,9,-999,9,-999,9,-999,9,-999,9,-999,9,-999,9,-999,9,-999,9,-999,9,-999,9,   -999.0,  9,-999,9,-999,-999,9,-999,9,-999,9,-999,9,-999,-999,-999,9,904,4.4039,27.1802,-999,9
KS07-10,NONE,KS-2007,1,5,02-16011,2,20071123,0606,32.2935,138.5547,3340,1011.1,3.8054,34.38,2,-999,9,34.3782,2,-999,9,-999,9,-999,9,-999,9,-999,9,-999,9,-999,9,-999,9,-999,9,-999,9,-999,9,-999,9,   -999.0,  9,-999,9,-999,-999,9,-999,9,-999,9,-999,9,-999,-999,-999,9,1002,3.7305,27.3204,-999,9
KS07-10,NONE,KS-2007,1,4,02-16010,2,20071123,0557,32.2935,138.5547,3340,1265.3,2.905,34.4827,2,-999,9,34.4827,2,-999,9,-999,9,-999,9,-999,9,-999,9,-999,9,-999,9,-999,9,-999,9,-999,9,-999,9,-999,9,   -999.0,  9,-999,9,-999,-999,9,-999,9,-999,9,-999,9,-999,-999,-999,9,1253, 2.8175,27.4886,-999,9
KS07-10,NONE,KS-2007,1,3,02-16009,2,20071123,0551,32.2935,138.5547,3340,1516.8,2.5295,34.5321,2,-999,9,34.5322,2,-999,9,-999,9,-999,9,-999,9,-999,9,-999,9,-999,9,-999,9,-999,9,-999,9,-999,9,-999,9,   -999.0,  9,-999,9,-999,-999,9,-999,9,-999,9,-999,9,-999,-999,-999,9,1501,2.4258,27.5621,-999,9
KS07-10,NONE,KS-2007,1,2,02-16008,2,20071123,0546,32.2935,138.5547,3340,1766.5,2.2905,34.5647,2,-999,9,34.5655,2,-999,9,-999,9,-999,9,-999,9,-999,9,-999,9,-999,9,-999,9,-999,9,-999,9,-999,9,-999,9,   -999.0,  9,-999,9,-999,-999,9,-999,9,-999,9,-999,9,-999,-999,-999,9,1747,2.1695,27.6093,-999,9
KS07-10,NONE,KS-2007,1,1,02-16007,2,20071123,0542,32.2935,138.5547,3340,2023.8,2.0887,34.5928,2,-999,9,34.5936,2,-999,9,-999,9,-999,9,-999,9,-999,9,-999,9,-999,9,-999,9,-999,9,-999,9,-999,9,-999,9,   -999.0,  9,-999,9,-999,-999,9,-999,9,-999,9,-999,9,-999,-999,-999,9,2000,1.949,27.6494,-999,9
KS07-10,NONE,KS-2013,1,15,02-16021,2,20071124,0453,34.3443,138.4872,2906,11.6,21.0723,34.5674,2,-999,9,34.5658,2,-999,9,-999,9,-999,9,-999,9,-999,9,-999,9,-999,9,-999,9,-999,9,-999,9,-999,9,-999,9,   -999.0,  9,-999,9,-999,-999,9,-999,9,-999,9,-999,9,-999,-999,-999,9,12,21.0701,24.1456,-999,9
KS07-10,NONE,KS-2013,1,14,02-16020,2,20071124,0447,34.3443,138.4872,2906,101.4,18.947,34.5729,2,-999,9,34.5744,2,-999,9,-999,9,-999,9,-999,9,-999,9,-999,9,-999,9,-999,9,-999,9,-999,9,-999,9,-999,9,   -999.0,  9,-999,9,-999,-999,9,-999,9,-999,9,-999,9,-999,-999,-999,9,101,18.929,24.7128,-999,9
KS07-10,NONE,KS-2013,1,13,02-16019,2,20071124,0444,34.3443,138.4872,2906,202.5,13.6242,34.4942,2,-999,9,34.4935,2,-999,9,-999,9,-999,9,-999,9,-999,9,-999,9,-999,9,-999,9,-999,9,-999,9,-999,9,-999,9,   -999.0,  9,-999,9,-999,-999,9,-999,9,-999,9,-999,9,-999,-999,-999,9,201,13.5956,25.8802,-999,9
KS07-10,NONE,KS-2013,1,12,02-16018,2,20071124,0442,34.3443,138.4872,2906,304.9,9.1984,34.3172,2,-999,9,34.3199,2,-999,9,-999,9,-999,9,-999,9,-999,9,-999,9,-999,9,-999,9,-999,9,-999,9,-999,9,-999,9,   -999.0,  9,-999,9,-999,-999,9,-999,9,-999,9,-999,9,-999,-999,-999,9,302,9.1649,26.557,-999,9
KS07-10,NONE,KS-2013,1,11,02-19376,2,20071124,0439,34.3443,138.4872,2906,404.3,7.0121,34.2542,2,-999,9,34.254,2,-999,9,-999,9,-999,9,-999,9,-999,9,-999,9,-999,9,-999,9,-999,9,-999,9,-999,9,-999,9,   -999.0,  9,-999,9,-999,-999,9,-999,9,-999,9,-999,9,-999,-999,-999,9,401,6.9741,26.8349,-999,9
KS07-10,NONE,KS-2013,1,10,02-19375,2,20071124,0437,34.3443,138.4872,2906,504.3,5.695,34.2823,2,-999,9,34.2833,2,-999,9,-999,9,-999,9,-999,9,-999,9,-999,9,-999,9,-999,9,-999,9,-999,9,-999,9,-999,9,   -999.0,  9,-999,9,-999,-999,9,-999,9,-999,9,-999,9,-999,-999,-999,9,500,5.6523,27.0288,-999,9
KS07-10,NONE,KS-2013,1,9,02-16015,2,20071124,0435,34.3443,138.4872,2906,605.9,4.557,34.3116,2,-999,9,34.3117,2,-999,9,-999,9,-999,9,-999,9,-999,9,-999,9,-999,9,-999,9,-999,9,-999,9,-999,9,-999,9,   -999.0,  9,-999,9,-999,-999,9,-999,9,-999,9,-999,9,-999,-999,-999,9,601,4.5105,27.1844,-999,9
KS07-10,NONE,KS-2013,1,8,02-16014,2,20071124,0432,34.3443,138.4872,2906,706.8,3.9714,34.3557,2,-999,9,34.3559,2,-999,9,-999,9,-999,9,-999,9,-999,9,-999,9,-999,9,-999,9,-999,9,-999,9,-999,9,-999,9,   -999.0,  9,-999,9,-999,-999,9,-999,9,-999,9,-999,9,-999,-999,-999,9,701,3.9198,27.2819,-999,9
KS07-10,NONE,KS-2013,1,7,02-19374,2,20071124,0430,34.3443,138.4872,2906,807.9,3.5557,34.3948,2,-999,9,34.3995,4,-999,9,-999,9,-999,9,-999,9,-999,9,-999,9,-999,9,-999,9,-999,9,-999,9,-999,9,-999,9,   -999.0,  9,-999,9,-999,-999,9,-999,9,-999,9,-999,9,-999,-999,-999,9,801,3.4987,27.355,-999,9
KS07-10,NONE,KS-2013,1,6,02-19373,2,20071124,0428,34.3443,138.4872,2906,907.6,3.3374,34.4208,2,-999,9,34.4202,2,-999,9,-999,9,-999,9,-999,9,-999,9,-999,9,-999,9,-999,9,-999,9,-999,9,-999,9,-999,9,   -999.0,  9,-999,9,-999,-999,9,-999,9,-999,9,-999,9,-999,-999,-999,9,899,3.2742,27.3972,-999,9
KS07-10,NONE,KS-2013,1,5,02-16011,2,20071124,0425,34.3443,138.4872,2906,1009.5,3.0684,34.4558,2,-999,9,34.4562,2,-999,9,-999,9,-999,9,-999,9,-999,9,-999,9,-999,9,-999,9,-999,9,-999,9,-999,9,-999,9,   -999.0,  9,-999,9,-999,-999,9,-999,9,-999,9,-999,9,-999,-999,-999,9,1000,2.9993,27.4507,-999,9
KS07-10,NONE,KS-2013,1,4,02-16010,2,20071124,0420,34.3443,138.4872,2906,1262.7,2.6764,34.5097,2,-999,9,34.5104,2,-999,9,-999,9,-999,9,-999,9,-999,9,-999,9,-999,9,-999,9,-999,9,-999,9,-999,9,-999,9,   -999.0,  9,-999,9,-999,-999,9,-999,9,-999,9,-999,9,-999,-999,-999,9,1250,2.5912,27.53,-999,9
KS07-10,NONE,KS-2013,1,3,02-16009,2,20071124,0415,34.3443,138.4872,2906,1515.8,2.4116,34.547,2,-999,9,34.5471,2,-999,9,-999,9,-999,9,-999,9,-999,9,-999,9,-999,9,-999,9,-999,9,-999,9,-999,9,-999,9,   -999.0,  9,-999,9,-999,-999,9,-999,9,-999,9,-999,9,-999,-999,-999,9,1500,2.3094,27.5837,-999,9
KS07-10,NONE,KS-2013,1,2,02-16008,2,20071124,0409,34.3443,138.4872,2906,1770.5,2.1866,34.5775,2,-999,9,34.5781,2,-999,9,-999,9,-999,9,-999,9,-999,9,-999,9,-999,9,-999,9,-999,9,-999,9,-999,9,-999,9,   -999.0,  9,-999,9,-999,-999,9,-999,9,-999,9,-999,9,-999,-999,-999,9,1750,2.0666,27.6279,-999,9
KS07-10,NONE,KS-2013,1,1,02-16007,2,20071124,0404,34.3443,138.4872,2906,2035.1,2.0585,34.5965,2,-999,9,34.5972,2,-999,9,-999,9,-999,9,-999,9,-999,9,-999,9,-999,9,-999,9,-999,9,-999,9,-999,9,-999,9,   -999.0,  9,-999,9,-999,-999,9,-999,9,-999,9,-999,9,-999,-999,-999,9,2011,1.9183,27.6548,-999,9