BOTTLE,20121206MIRCJHATS
EXPOCODE,SECT_ID,STNNBR,CASTNO,SAMPNO,BTLNBR,BTLNBR_FLAG_W,DATE,TIME,LATITUDE,LONGITUDE,DEPTH,CTDPRS,CTDTMP,CTDSAL,CTDSAL_FLAG_W,CTDOXY,CTDOXY_FLAG_W,SALNTY,SALNTY_FLAG_W,OXYGEN,OXYGEN_FLAG_W,SILCAT,SILCAT_FLAG_W,NITRAT,NITRAT_FLAG_W,NO2+NO3,NO2+NO3_FLAG_W,NITRIT,NITRIT_FLAG_W,PHSPHT,PHSPHT_FLAG_W,CFC-11,CFC-11_FLAG_W,CFC-12,CFC-12_FLAG_W,DELC13,DELC13_FLAG_W,TCARBN,TCARBN_FLAG_W,ALKALI,ALKALI_FLAG_W,PH,PH_FLAG_W,PH_TMP,PH_SCALE,PH_NBS,PH_NBS_FLAG_W,C13ERR,TOTALP,TOTALP_FLAG_W,AMMONI,AMMONI_FLAG_W,CHLORA,CHLORA_FLAG_W,PPHYTN,PPHYTN_FLAG_W,REVPRS,REVTMP,DEPTH,DEPTH_FLAG,CTDDEP,THETA,SIGTHT,DOC,DOC_FLAG_W
,,,,,,,GMT,GMT,,,METERS,DBAR,ITS-90,PSS-78,,UMOL/KG,,PSS-78,,UMOL/KG,,UMOL/KG,,UMOL/KG,,UMOL/KG,,UMOL/KG, ,UMOL/KG,,PMOL/KG,,PMOL/KG,,/MILLE,,UMOL/KG,,UMOL/KG,,25_DEG_C,,DEG_C,,,,/MILLE,UMOL/KG,,UMOL/KG,,UG/L,,UG/L,,DBAR,ITS-90,METERS,,METERS,DEG_C,,UMOL/L
KS07-10,137E,KS-1978,1,-9,-9,5,20071102,0403,15.001,136.993,5356,0,29.6568,34.0879,2,-999,9,-999,9,208,2,1.11,2,-999,9,0,2,0,2,0,2,-999,9,-999,9,-999,9,-999,9,-999,9,8.1367,2,     25.0, TS,-999,9,-999,-999,9,-999,9,0.06,2,0.02,2,-999,-999,-999,9,0,29.6565,21.1591,-999,9
KS07-10,137E,KS-1978,1,21,02-16027,2,20071102,0418,15.001,136.993,5356,10.6,29.3091,34.0755,2,-999,9,34.0751,2,202,2,1.04,2,-999,9,0,2,0,2,0,2,-999,9,-999,9,-999,9,1897.3,2,-999,9,8.1359,2,     25.0, TS,-999,9,-999,-999,9,-999,9,0.06,2,0.02,2,-999,-999,-999,9,11,29.3065,21.2676,-999,9
KS07-10,137E,KS-1978,1,20,02-16026,2,20071102,0417,15.001,136.993,5356,25.5,29.2904,34.0762,2,-999,9,-999,9,199,2,1.29,2,-999,9,0,2,0,2,0,2,-999,9,-999,9,-999,9,1900.2,2,-999,9,8.1373,2,     25.0, TS,-999,9,-999,-999,9,-999,9,0.06,2,0.03,2,-999,-999,-999,9,25,29.2842,21.2757,-999,9
KS07-10,137E,KS-1978,1,19,02-19378,2,20071102,0412,15.001,136.993,5356,49.8,29.2836,34.0788,2,-999,9,-999,9,200,2,1.12,2,-999,9,0,2,0,2,0,2,-999,9,-999,9,-999,9,1893.5,2,-999,9,8.1372,2,     25.0, TS,-999,9,-999,-999,9,-999,9,0.07,2,0.03,2,-999,-999,-999,9,49,29.2715,21.2819,-999,9
KS07-10,137E,KS-1978,1,18,02-19377,2,20071102,0411,15.001,136.993,5356,75.3,28.2208,34.6914,2,-999,9,-999,9,209,2,1.06,2,-999,9,0,2,0,2,0.01,2,-999,9,-999,9,-999,9,1940,2,-999,9,8.1227,2,     25.0, TS,-999,9,-999,-999,9,-999,9,0.1,2,0.07,2,-999,-999,-999,9,75,28.203,22.0961,-999,9
KS07-10,137E,KS-1978,1,17,02-16023,2,20071102,0410,15.001,136.993,5356,100.4,27.0804,34.8137,2,-999,9,34.8226,4,206,2,1.14,2,-999,9,0,2,0,2,0.02,2,-999,9,-999,9,-999,9,1955.7,2,-999,9,8.1065,2,     25.0, TS,-999,9,-999,-999,9,-999,9,0.16,2,0.14,2,-999,-999,-999,9,100,27.0573,22.5591,-999,9
KS07-10,137E,KS-1978,1,16,02-16022,2,20071102,0409,15.001,136.993,5356,125.9,25.8897,34.9093,2,-999,9,-999,9,194,2,1.13,2,-999,9,0.1,2,0.08,2,0.04,2,-999,9,-999,9,-999,9,1977.1,2,-999,9,8.0781,2,     25.0, TS,-999,9,-999,-999,9,-999,9,0.18,2,0.35,2,-999,-999,-999,9,125,25.8617,23.0079,-999,9
KS07-10,137E,KS-1978,1,15,02-16021,2,20071102,0408,15.001,136.993,5356,150.4,23.8424,34.9701,2,-999,9,-999,9,188,2,1.39,2,-999,9,0.88,2,0.04,2,0.08,2,-999,9,-999,9,-999,9,2002.1,2,-999,9,8.046,2,     25.0, TS,-999,9,-999,-999,9,-999,9,0.09,2,0.24,2,-999,-999,-999,9,149,23.8109,23.6746,-999,9
KS07-10,137E,KS-1978,1,14,02-16020,2,20071102,0407,15.001,136.993,5356,200.8,19.6121,34.8975,2,-999,9,34.8999,2,190,2,2.82,2,-999,9,3.32,2,0.01,2,0.22,2,-999,9,-999,9,-999,9,2036.4,2,-999,9,7.9771,2,     25.0, TS,-999,9,-999,-999,9,-999,9,0.01,2,0.01,2,-999,-999,-999,9,200,19.5755,24.7947,-999,9
KS07-10,137E,KS-1978,1,13,02-16019,2,20071102,0405,15.001,136.993,5356,250.4,17.3593,34.7759,2,-999,9,-999,9,199,2,4.36,2,-999,9,5.46,2,0,2,0.34,2,-999,9,-999,9,-999,9,2041.2,2,-999,9,7.954,2,     25.0, TS,-999,9,-999,-999,9,-999,9,0,2,0.01,2,-999,-999,-999,9,249,17.3174,25.2664,-999,9
KS07-10,137E,KS-1978,1,12,02-16018,2,20071102,0404,15.001,136.993,5356,303,14.4023,34.5336,2,-999,9,34.5186,4,189,2,11.04,2,-999,9,11.11,2,0,2,0.75,2,-999,9,-999,9,-999,9,2081.5,2,-999,9,7.859,2,     25.0, TS,-999,9,-999,-999,9,-999,9,0,2,0.01,2,-999,-999,-999,9,301,14.3577,25.751,-999,9
KS07-10,137E,KS-1978,1,11,02-19376,2,20071102,0402,15.001,136.993,5356,403.5,9.8532,34.2428,2,-999,9,34.2414,2,144,2,31.4,2,-999,9,23.19,2,0,2,1.65,2,-999,9,-999,9,-999,9,2168.3,2,-999,9,7.6619,2,     25.0, TS,-999,9,-999,-999,9,-999,9,-999,9,-999,9,-999,-999,-999,9,401,9.8068,26.3933,-999,9
KS07-10,137E,KS-1978,1,10,02-19375,2,20071102,0359,15.001,136.993,5356,503.9,7.2991,34.2571,2,-999,9,34.2578,2,86,2,54.74,2,-999,9,32.72,2,0,2,2.35,2,-999,9,-999,9,-999,9,2241.3,2,-999,9,7.5117,2,     25.0, TS,-999,9,-999,-999,9,-999,9,-999,9,-999,9,-999,-999,-999,9,500,7.2503,26.7987,-999,9
KS07-10,137E,KS-1978,1,9,02-16015,2,20071102,0357,15.001,136.993,5356,604.2,6.1391,34.3489,2,-999,9,34.3537,2,68,2,71.29,2,-999,9,36.51,2,0,2,2.62,2,-999,9,-999,9,-999,9,2277.6,2,-999,9,7.4763,2,     25.0, TS,-999,9,-999,-999,9,-999,9,-999,9,-999,9,-999,-999,-999,9,600,6.0854,27.0273,-999,9
KS07-10,137E,KS-1978,1,8,02-16014,2,20071102,0354,15.001,136.993,5356,705.5,5.4626,34.4247,2,-999,9,34.4274,2,72,2,80.89,2,-999,9,37.77,2,0,2,2.7,2,-999,9,-999,9,-999,9,2292.3,2,-999,9,7.4754,2,     25.0, TS,-999,9,-999,-999,9,-999,9,-999,9,-999,9,-999,-999,-999,9,700,5.4029,27.1717,-999,9
KS07-10,137E,KS-1978,1,7,02-19374,2,20071102,0352,15.001,136.993,5356,805.9,4.944,34.4732,2,-999,9,34.4719,2,77,2,88.04,2,-999,9,38.26,2,0,2,2.72,2,-999,9,-999,9,-999,9,2303.4,2,-999,9,7.4872,2,     25.0, TS,-999,9,-999,-999,9,-999,9,-999,9,-999,9,-999,-999,-999,9,800,4.8784,27.2716,-999,9
KS07-10,137E,KS-1978,1,6,02-19373,2,20071102,0350,15.001,136.993,5356,907.5,4.4309,34.5088,2,-999,9,34.5086,2,81,2,97.02,2,-999,9,38.45,2,0,2,2.74,2,-999,9,-999,9,-999,9,2310.3,2,-999,9,7.4901,2,     25.0, TS,-999,9,-999,-999,9,-999,9,-999,9,-999,9,-999,-999,-999,9,900, 4.3599,27.3574,-999,9
KS07-10,137E,KS-1978,1,5,02-16011,2,20071102,0347,15.001,136.993,5356,1008.4,3.9934,34.5305,2,-999,9,34.5289,2,85,2,104.07,2,-999,9,38.74,2,0,2,2.74,2,-999,9,-999,9,-999,9,2323.6,3,-999,9,7.497,2,     25.0, TS,-999,9,-999,-999,9,-999,9,-999,9,-999,9,-999,-999,-999,9,1000,3.917,27.4213,-999,9
KS07-10,137E,KS-1978,1,4,02-16010,2,20071102,0342,15.001,136.993,5356,1261.1,3.2503,34.5627,2,-999,9,34.5619,2,94,2,119.03,2,-999,9,38.73,2,0,2,2.73,2,-999,9,-999,9,-999,9,2328,2,-999,9,7.5043,2,     25.0, TS,-999,9,-999,-999,9,-999,9,-999,9,-999,9,-999,-999,-999,9,1250,3.1595,27.5212,-999,9
KS07-10,137E,KS-1978,1,3,02-16009,2,20071102,0336,15.001,136.993,5356,1514.1,2.6917,34.5893,2,-999,9,34.5883,2,102,2,129.24,2,-999,9,38.73,2,0,2,2.72,2,-999,9,-999,9,-999,9,2336.9,2,-999,9,7.5199,2,     25.0, TS,-999,9,-999,-999,9,-999,9,-999,9,-999,9,-999,-999,-999,9,1500,2.5862,27.5941,-999,9
KS07-10,137E,KS-1978,1,2,02-16008,2,20071102,0331,15.001,136.993,5356,1767.8,2.2919,34.6149,2,-999,9,34.6148,2,111,2,135.22,2,-999,9,38.63,2,0,2,2.71,2,-999,9,-999,9,-999,9,2341.1,6,-999,9,7.5259,2,     25.0, TS,-999,9,-999,-999,9,-999,9,-999,9,-999,9,-999,-999,-999,9,1750,2.1706,27.6495,-999,9
KS07-10,137E,KS-1978,1,1,02-16007,2,20071102,0325,15.001,136.993,5356,2032.1,2.0033,34.6355,2,-999,9,34.6359,2,121,2,138.91,2,-999,9,38.14,2,0,2,2.66,2,-999,9,-999,9,-999,9,2342.5,2,-999,9,7.54,6,     25.0, TS,-999,9,-999,-999,9,-999,9,-999,9,-999,9,-999,-999,-999,9,2010,1.8641,27.6903,-999,9
KS07-10,137E,KS-1979,1,-9,-9,5,20071102,1003,13.9965,136.9995,4696,0,29.7558,34.0678,2,-999,9,-999,9,199,2,1.09,2,-999,9,0,2,0,2,0,2,-999,9,-999,9,-999,9,-999,9,-999,9,8.1365,2,     25.0, TS,-999,9,-999,-999,9,-999,9,-999,9,-999,9,-999,-999,-999,9,0,29.7555,21.1105,-999,9
KS07-10,137E,KS-1979,1,21,02-16027,2,20071102,1022,13.9965,136.9995,4696,10.6,29.7159,34.0704,2,-999,9,-999,9,198,2,1.5,2,-999,9,0,2,0,2,0,2,-999,9,-999,9,-999,9,-999,9,-999,9,-999,9,   -999.0,  9,-999,9,-999,-999,9,-999,9,-999,9,-999,9,-999,-999,-999,9,11,29.7133,21.1267,-999,9
KS07-10,137E,KS-1979,1,20,02-16026,2,20071102,1020,13.9965,136.9995,4696,25.9,29.7124,34.0763,2,-999,9,-999,9,199,2,1.1,2,-999,9,0,2,0,2,0,2,-999,9,-999,9,-999,9,-999,9,-999,9,-999,9,   -999.0,  9,-999,9,-999,-999,9,-999,9,-999,9,-999,9,-999,-999,-999,9,26,29.706,21.1337,-999,9
KS07-10,137E,KS-1979,1,19,02-19378,2,20071102,1016,13.9965,136.9995,4696,51.1,29.2456,34.5284,2,-999,9,-999,9,207,2,1.09,2,-999,9,0,2,0,2,0,2,-999,9,-999,9,-999,9,-999,9,-999,9,-999,9,   -999.0,  9,-999,9,-999,-999,9,-999,9,-999,9,-999,9,-999,-999,-999,9,51,29.2332,21.632,-999,9
KS07-10,137E,KS-1979,1,18,02-19377,2,20071102,1015,13.9965,136.9995,4696,74.7,27.976,34.7618,2,-999,9,-999,9,208,2,1.02,2,-999,9,0,2,0,2,0.02,2,-999,9,-999,9,-999,9,-999,9,-999,9,-999,9,   -999.0,  9,-999,9,-999,-999,9,-999,9,-999,9,-999,9,-999,-999,-999,9,74,27.9584,22.2291,-999,9
KS07-10,137E,KS-1979,1,17,02-16023,2,20071102,1014,13.9965,136.9995,4696,100.7,26.1629,34.8999,2,-999,9,-999,9,195,2,1.1,2,-999,9,0,2,0.01,2,0.03,2,-999,9,-999,9,-999,9,-999,9,-999,9,-999,9,   -999.0,  9,-999,9,-999,-999,9,-999,9,-999,9,-999,9,-999,-999,-999,9,100,26.1403,22.914,-999,9
KS07-10,137E,KS-1979,1,16,02-16022,2,20071102,1013,13.9965,136.9995,4696,126.3,25.0182,34.9596,2,-999,9,-999,9,188,2,1.3,2,-999,9,0.59,2,0.05,2,0.07,2,-999,9,-999,9,-999,9,-999,9,-999,9,-999,9,   -999.0,  9,-999,9,-999,-999,9,-999,9,-999,9,-999,9,-999,-999,-999,9,126,24.9908,23.3135,-999,9
KS07-10,137E,KS-1979,1,15,02-16021,2,20071102,1012,13.9965,136.9995,4696,151.2,22.3932,34.9704,2,-999,9,-999,9,182,2,2.08,2,-999,9,2.05,2,0.01,2,0.16,2,-999,9,-999,9,-999,9,-999,9,-999,9,-999,9,   -999.0,  9,-999,9,-999,-999,9,-999,9,-999,9,-999,9,-999,-999,-999,9,150,22.3629,24.0932,-999,9
KS07-10,137E,KS-1979,1,14,02-16020,2,20071102,1010,13.9965,136.9995,4696,201.8,18.1859,34.8273,2,-999,9,-999,9,195,2,3.55,2,-999,9,4.49,2,0,2,0.29,2,-999,9,-999,9,-999,9,-999,9,-999,9,-999,9,   -999.0,  9,-999,9,-999,-999,9,-999,9,-999,9,-999,9,-999,-999,-999,9,201,18.151,25.1025,-999,9
KS07-10,137E,KS-1979,1,13,02-16019,2,20071102,1009,13.9965,136.9995,4696,252.4,16.4623,34.7002,2,-999,9,-999,9,193,2,5.93,2,-999,9,7.12,2,0,2,0.47,2,-999,9,-999,9,-999,9,-999,9,-999,9,-999,9,   -999.0,  9,-999,9,-999,-999,9,-999,9,-999,9,-999,9,-999,-999,-999,9,251,16.4216,25.4199,-999,9
KS07-10,137E,KS-1979,1,12,02-16018,2,20071102,1007,13.9965,136.9995,4696,301.7,14.2173,34.5215,2,-999,9,-999,9,183,2,10.91,2,-999,9,11.31,2,0,2,0.77,2,-999,9,-999,9,-999,9,-999,9,-999,9,-999,9,   -999.0,  9,-999,9,-999,-999,9,-999,9,-999,9,-999,9,-999,-999,-999,9,300,14.1733,25.7808,-999,9
KS07-10,137E,KS-1979,1,11,02-19376,2,20071102,1005,13.9965,136.9995,4696,402.9,9.5169,34.2629,2,-999,9,-999,9,127,2,33.02,2,-999,9,24.75,2,0,2,1.75,2,-999,9,-999,9,-999,9,-999,9,-999,9,-999,9,   -999.0,  9,-999,9,-999,-999,9,-999,9,-999,9,-999,9,-999,-999,-999,9,400,9.4715,26.4647,-999,9
KS07-10,137E,KS-1979,1,10,02-19375,2,20071102,1002,13.9965,136.9995,4696,502.9,7.316,34.3101,2,-999,9,-999,9,77,2,54.64,2,-999,9,33.5,2,0,2,2.42,2,-999,9,-999,9,-999,9,-999,9,-999,9,-999,9,   -999.0,  9,-999,9,-999,-999,9,-999,9,-999,9,-999,9,-999,-999,-999,9,499,7.2672,26.8381,-999,9
KS07-10,137E,KS-1979,1,9,02-16015,2,20071102,1000,13.9965,136.9995,4696,602.6,6.3423,34.4085,2,-999,9,-999,9,67,2,66.48,2,-999,9,36.51,2,0,2,2.61,2,-999,9,-999,9,-999,9,-999,9,-999,9,-999,9,   -999.0,  9,-999,9,-999,-999,9,-999,9,-999,9,-999,9,-999,-999,-999,9,598,6.2877,27.0483,-999,9
KS07-10,137E,KS-1979,1,8,02-16014,2,20071102,0957,13.9965,136.9995,4696,704.2,5.6976,34.458,2,-999,9,-999,9,72,2,74.3,2,-999,9,37.38,2,0,2,2.67,2,-999,9,-999,9,-999,9,-999,9,-999,9,-999,9,   -999.0,  9,-999,9,-999,-999,9,-999,9,-999,9,-999,9,-999,-999,-999,9,699,5.6367,27.1697,-999,9
KS07-10,137E,KS-1979,1,7,02-19374,2,20071102,0955,13.9965,136.9995,4696,807.9,5.0903,34.4963,2,-999,9,-999,9,76,2,83.68,2,-999,9,38.26,2,0,2,2.72,2,-999,9,-999,9,-999,9,-999,9,-999,9,-999,9,   -999.0,  9,-999,9,-999,-999,9,-999,9,-999,9,-999,9,-999,-999,-999,9,802,5.0236,27.2732,-999,9
KS07-10,137E,KS-1979,1,6,02-19373,2,20071102,0953,13.9965,136.9995,4696,907.8,4.5952,34.5228,2,-999,9,-999,9,82,2,91.5,2,-999,9,38.45,2,0,2,2.73,2,-999,9,-999,9,-999,9,-999,9,-999,9,-999,9,   -999.0,  9,-999,9,-999,-999,9,-999,9,-999,9,-999,9,-999,-999,-999,9,901, 4.5230,27.3507,-999,9
KS07-10,137E,KS-1979,1,5,02-16011,2,20071102,0950,13.9965,136.9995,4696,1008.3,4.2806,34.5357,2,-999,9,-999,9,85,2,97.15,2,-999,9,38.64,2,0,2,2.74,2,-999,9,-999,9,-999,9,-999,9,-999,9,-999,9,   -999.0,  9,-999,9,-999,-999,9,-999,9,-999,9,-999,9,-999,-999,-999,9,1000,4.202,27.3956,-999,9
KS07-10,137E,KS-1979,1,4,02-16010,2,20071102,0945,13.9965,136.9995,4696,1261.5,3.4159,34.5641,2,-999,9,-999,9,93,2,114.44,2,-999,9,38.73,2,0,2,2.73,2,-999,9,-999,9,-999,9,-999,9,-999,9,-999,9,   -999.0,  9,-999,9,-999,-999,9,-999,9,-999,9,-999,9,-999,-999,-999,9,1250,3.3235,27.5068,-999,9
KS07-10,137E,KS-1979,1,3,02-16009,2,20071102,0940,13.9965,136.9995,4696,1513.9,2.8332,34.5875,2,-999,9,-999,9,100,2,125.75,2,-999,9,38.73,2,0,2,2.72,2,-999,9,-999,9,-999,9,-999,9,-999,9,-999,9,   -999.0,  9,-999,9,-999,-999,9,-999,9,-999,9,-999,9,-999,-999,-999,9,1500,2.7261,27.5805,-999,9
KS07-10,137E,KS-1979,1,2,02-16008,2,20071102,0935,13.9965,136.9995,4696,1765.5,2.4403,34.6136,2,-999,9,-999,9,107,2,131.98,2,-999,9,38.63,2,0,2,2.71,2,-999,9,-999,9,-999,9,-999,9,-999,9,-999,9,   -999.0,  9,-999,9,-999,-999,9,-999,9,-999,9,-999,9,-999,-999,-999,9,1748,2.3172,27.6364,-999,9
KS07-10,137E,KS-1979,1,1,02-16007,2,20071102,0929,13.9965,136.9995,4696,2027.4,2.1549,34.6283,2,-999,9,-999,9,116,2,137.05,2,-999,9,38.34,2,0,2,2.68,2,-999,9,-999,9,-999,9,-999,9,-999,9,-999,9,   -999.0,  9,-999,9,-999,-999,9,-999,9,-999,9,-999,9,-999,-999,-999,9,2006,2.0138,27.6728,-999,9
KS07-10,137E,KS-1980,1,-9,-9,5,20071102,1601,12.9927,136.9958,4919,0,29.6661,34.2056,2,-999,9,-999,9,201,2,1.17,2,-999,9,0,2,0,2,0,2,-999,9,-999,9,-999,9,-999,9,-999,9,8.1389,6,     25.0, TS,-999,9,-999,-999,9,-999,9,0.05,2,0.03,2,-999,-999,-999,9,0,29.6658,21.2442,-999,9
KS07-10,137E,KS-1980,1,21,02-16027,2,20071102,1619,12.9927,136.9958,4919,9.7,29.6765,34.2059,2,-999,9,-999,9,198,2,1.2,2,-999,9,0,2,0,2,0,2,-999,9,-999,9,-999,9,-999,9,-999,9,-999,9,   -999.0,  9,-999,9,-999,-999,9,-999,9,0.04,2,0.02,2,-999,-999,-999,9,10,29.6741,21.2416,-999,9
KS07-10,137E,KS-1980,1,20,02-16026,2,20071102,1617,12.9927,136.9958,4919,24.7,29.5845,34.1936,2,-999,9,-999,9,198,2,1.29,2,-999,9,0,2,0,2,0,2,-999,9,-999,9,-999,9,-999,9,-999,9,-999,9,   -999.0,  9,-999,9,-999,-999,9,-999,9,0.05,2,0.02,2,-999,-999,-999,9,25,29.5785,21.2647,-999,9
KS07-10,137E,KS-1980,1,19,02-19378,2,20071102,1614,12.9927,136.9958,4919,51.2,29.4846,34.3222,2,-999,9,-999,9,204,2,1.17,2,-999,9,0,2,0,2,0,2,-999,9,-999,9,-999,9,-999,9,-999,9,-999,9,   -999.0,  9,-999,9,-999,-999,9,-999,9,0.07,2,0.04,2,-999,-999,-999,9,51,29.4721,21.397,-999,9
KS07-10,137E,KS-1980,1,18,02-19377,2,20071102,1613,12.9927,136.9958,4919,75.7,28.046,34.7653,2,-999,9,-999,9,210,2,1.04,2,-999,9,0,2,0,2,0.01,2,-999,9,-999,9,-999,9,-999,9,-999,9,-999,9,   -999.0,  9,-999,9,-999,-999,9,-999,9,0.09,2,0.05,2,-999,-999,-999,9,75,28.0281,22.2089,-999,9
KS07-10,137E,KS-1980,1,17,02-16023,2,20071102,1612,12.9927,136.9958,4919,100.9,26.3661,34.9033,2,-999,9,-999,9,196,2,1.12,2,-999,9,0,2,0,2,0.04,2,-999,9,-999,9,-999,9,-999,9,-999,9,-999,9,   -999.0,  9,-999,9,-999,-999,9,-999,9,0.17,2,0.32,2,-999,-999,-999,9,100,26.3434,22.853,-999,9
KS07-10,137E,KS-1980,1,16,02-16022,2,20071102,1611,12.9927,136.9958,4919,125.6,24.9629,34.9584,2,-999,9,-999,9,188,2,1.38,2,-999,9,0.59,2,0.03,2,0.07,2,-999,9,-999,9,-999,9,-999,9,-999,9,-999,9,   -999.0,  9,-999,9,-999,-999,9,-999,9,0.2,2,0.29,2,-999,-999,-999,9,125,24.9357,23.3294,-999,9
KS07-10,137E,KS-1980,1,15,02-16021,2,20071102,1610,12.9927,136.9958,4919,149.5,22.6813,34.9763,2,-999,9,-999,9,185,2,1.79,2,-999,9,1.56,2,0.02,2,0.13,2,-999,9,-999,9,-999,9,-999,9,-999,9,-999,9,   -999.0,  9,-999,9,-999,-999,9,-999,9,0.05,2,0.09,2,-999,-999,-999,9,149,22.6511,24.0157,-999,9
KS07-10,137E,KS-1980,1,14,02-16020,2,20071102,1608,12.9927,136.9958,4919,201.4,17.8434,34.8074,2,-999,9,-999,9,197,2,3.86,2,-999,9,4.88,2,0,2,0.31,2,-999,9,-999,9,-999,9,-999,9,-999,9,-999,9,   -999.0,  9,-999,9,-999,-999,9,-999,9,0,2,0.01,2,-999,-999,-999,9,200,17.8091,25.1714,-999,9
KS07-10,137E,KS-1980,1,13,02-16019,2,20071102,1607,12.9927,136.9958,4919,252.5,15.6937,34.6391,2,-999,9,-999,9,191,2,7.37,2,-999,9,8.39,2,0,2,0.56,2,-999,9,-999,9,-999,9,-999,9,-999,9,-999,9,   -999.0,  9,-999,9,-999,-999,9,-999,9,0,2,0.01,2,-999,-999,-999,9,251,15.6543,25.5483,-999,9
KS07-10,137E,KS-1980,1,12,02-16018,2,20071102,1605,12.9927,136.9958,4919,304,13.3142,34.4507,2,-999,9,-999,9,167,2,14.64,2,-999,9,14.62,2,0,2,1.03,2,-999,9,-999,9,-999,9,-999,9,-999,9,-999,9,   -999.0,  9,-999,9,-999,-999,9,-999,9,0,2,0.01,2,-999,-999,-999,9,302,13.2718,25.9126,-999,9
KS07-10,137E,KS-1980,1,11,02-19376,2,20071102,1603,12.9927,136.9958,4919,402.2,9.2189,34.4166,2,-999,9,-999,9,128,2,38.11,2,-999,9,30.1,2,0,2,2.15,2,-999,9,-999,9,-999,9,-999,9,-999,9,-999,9,   -999.0,  9,-999,9,-999,-999,9,-999,9,-999,9,-999,9,-999,-999,-999,9,400,9.1744,26.6333,-999,9
KS07-10,137E,KS-1980,1,10,02-19375,2,20071102,1600,12.9927,136.9958,4919,503.6,7.8503,34.4831,2,-999,9,-999,9,66,2,48.57,2,-999,9,34.57,2,0,2,2.45,2,-999,9,-999,9,-999,9,-999,9,-999,9,-999,9,   -999.0,  9,-999,9,-999,-999,9,-999,9,-999,9,-999,9,-999,-999,-999,9,500,7.7993,26.8976,-999,9
KS07-10,137E,KS-1980,1,9,02-16015,2,20071102,1558,12.9927,136.9958,4919,604.1,6.7155,34.4781,2,-999,9,-999,9,76,2,59.4,2,-999,9,35.93,2,0,2,2.55,2,-999,9,-999,9,-999,9,-999,9,-999,9,-999,9,   -999.0,  9,-999,9,-999,-999,9,-999,9,-999,9,-999,9,-999,-999,-999,9,600,6.659,27.0541,-999,9
KS07-10,137E,KS-1980,1,8,02-16014,2,20071102,1555,12.9927,136.9958,4919,704.3,6.1718,34.4669,2,-999,9,-999,9,82,2,66.66,2,-999,9,36.32,2,0,2,2.58,2,-999,9,-999,9,-999,9,-999,9,-999,9,-999,9,   -999.0,  9,-999,9,-999,-999,9,-999,9,-999,9,-999,9,-999,-999,-999,9,699,6.1084,27.1176,-999,9
KS07-10,137E,KS-1980,1,7,02-19374,2,20071102,1553,12.9927,136.9958,4919,806.8,5.8514,34.5006,2,-999,9,-999,9,80,2,69.63,2,-999,9,37.29,2,0,2,2.65,2,-999,9,-999,9,-999,9,-999,9,-999,9,-999,9,   -999.0,  9,-999,9,-999,-999,9,-999,9,-999,9,-999,9,-999,-999,-999,9,801,5.7801,27.1857,-999,9
KS07-10,137E,KS-1980,1,6,02-19373,2,20071102,1550,12.9927,136.9958,4919,907.5,5.2357,34.5187,2,-999,9,-999,9,79,2,79.4,2,-999,9,38.35,2,0,2,2.73,2,-999,9,-999,9,-999,9,-999,9,-999,9,-999,9,   -999.0,  9,-999,9,-999,-999,9,-999,9,-999,9,-999,9,-999,-999,-999,9,900, 5.1591,27.2751,-999,9
KS07-10,137E,KS-1980,1,5,02-16011,2,20071102,1548,12.9927,136.9958,4919,1007.9,4.7151,34.5328,2,-999,9,-999,9,83,2,88.96,2,-999,9,38.64,2,0,2,2.74,2,-999,9,-999,9,-999,9,-999,9,-999,9,-999,9,   -999.0,  9,-999,9,-999,-999,9,-999,9,-999,9,-999,9,-999,-999,-999,9,1000,4.6332,27.3464,-999,9
KS07-10,137E,KS-1980,1,4,02-16010,2,20071102,1542,12.9927,136.9958,4919,1262,3.7765,34.5597,2,-999,9,-999,9,88,2,107.55,2,-999,9,39.22,2,0,2,2.77,2,-999,9,-999,9,-999,9,-999,9,-999,9,-999,9,   -999.0,  9,-999,9,-999,-999,9,-999,9,-999,9,-999,9,-999,-999,-999,9,1251,3.6806,27.4685,-999,9
KS07-10,137E,KS-1980,1,3,02-16009,2,20071102,1537,12.9927,136.9958,4919,1513.9,3.0614,34.5839,2,-999,9,-999,9,97,2,121.96,2,-999,9,39.12,2,0,2,2.76,2,-999,9,-999,9,-999,9,-999,9,-999,9,-999,9,   -999.0,  9,-999,9,-999,-999,9,-999,9,-999,9,-999,9,-999,-999,-999,9,1500,2.9517,27.5574,-999,9
KS07-10,137E,KS-1980,1,2,02-16008,2,20071102,1532,12.9927,136.9958,4919,1768.2,2.5799,34.6083,2,-999,9,-999,9,105,2,130.33,2,-999,9,38.92,2,0,2,2.73,2,-999,9,-999,9,-999,9,-999,9,-999,9,-999,9,   -999.0,  9,-999,9,-999,-999,9,-999,9,-999,9,-999,9,-999,-999,-999,9,1751,2.4547,27.6206,-999,9
KS07-10,137E,KS-1980,1,1,02-16007,2,20071102,1526,12.9927,136.9958,4919,2032.6,2.2468,34.6268,2,-999,9,-999,9,114,2,136.35,2,-999,9,38.53,2,0,2,2.7,2,-999,9,-999,9,-999,9,-999,9,-999,9,-999,9,   -999.0,  9,-999,9,-999,-999,9,-999,9,-999,9,-999,9,-999,-999,-999,9,2011,2.1038,27.6644,-999,9