BOTTLE,20121206MIRCJHATS
EXPOCODE,SECT_ID,STNNBR,CASTNO,SAMPNO,BTLNBR,BTLNBR_FLAG_W,DATE,TIME,LATITUDE,LONGITUDE,DEPTH,CTDPRS,CTDTMP,CTDSAL,CTDSAL_FLAG_W,CTDOXY,CTDOXY_FLAG_W,SALNTY,SALNTY_FLAG_W,OXYGEN,OXYGEN_FLAG_W,SILCAT,SILCAT_FLAG_W,NITRAT,NITRAT_FLAG_W,NO2+NO3,NO2+NO3_FLAG_W,NITRIT,NITRIT_FLAG_W,PHSPHT,PHSPHT_FLAG_W,CFC-11,CFC-11_FLAG_W,CFC-12,CFC-12_FLAG_W,DELC13,DELC13_FLAG_W,TCARBN,TCARBN_FLAG_W,ALKALI,ALKALI_FLAG_W,PH,PH_FLAG_W,PH_TMP,PH_SCALE,PH_NBS,PH_NBS_FLAG_W,C13ERR,TOTALP,TOTALP_FLAG_W,AMMONI,AMMONI_FLAG_W,CHLORA,CHLORA_FLAG_W,PPHYTN,PPHYTN_FLAG_W,REVPRS,REVTMP,DEPTH,DEPTH_FLAG,CTDDEP,THETA,SIGTHT,DOC,DOC_FLAG_W
,,,,,,,GMT,GMT,,,METERS,DBAR,ITS-90,PSS-78,,UMOL/KG,,PSS-78,,UMOL/KG,,UMOL/KG,,UMOL/KG,,UMOL/KG,,UMOL/KG, ,UMOL/KG,,PMOL/KG,,PMOL/KG,,/MILLE,,UMOL/KG,,UMOL/KG,,25_DEG_C,,DEG_C,,,,/MILLE,UMOL/KG,,UMOL/KG,,UG/L,,UG/L,,DBAR,ITS-90,METERS,,METERS,DEG_C,,UMOL/L
KS07-10,137E,KS-1981,1,-9,-9,5,20071102,2203,11.9902,136.9982,5204,0,29.8404,33.9335,2,-999,9,-999,9,197,2,1.05,2,-999,9,0,2,0,2,0,2,-999,9,-999,9,-999,9,-999,9,-999,9,8.1395,2,     25.0, TS,-999,9,-999,-999,9,-999,9,-999,9,-999,9,-999,-999,-999,9,0,29.8401,20.9812,-999,9
KS07-10,137E,KS-1981,1,21,02-16027,2,20071102,2219,11.9902,136.9982,5204,10.9,29.839,33.9332,2,-999,9,-999,9,196,2,1.04,2,-999,9,0,2,0,2,0,2,-999,9,-999,9,-999,9,-999,9,-999,9,-999,9,   -999.0,  9,-999,9,-999,-999,9,-999,9,-999,9,-999,9,-999,-999,-999,9,11,29.8363,20.9823,-999,9
KS07-10,137E,KS-1981,1,20,02-16026,2,20071102,2218,11.9902,136.9982,5204,26.4,29.843,33.9372,2,-999,9,-999,9,198,2,1.12,2,-999,9,0,2,0,2,0,2,-999,9,-999,9,-999,9,-999,9,-999,9,-999,9,   -999.0,  9,-999,9,-999,-999,9,-999,9,-999,9,-999,9,-999,-999,-999,9,26,29.8365,20.9852,-999,9
KS07-10,137E,KS-1981,1,19,02-19378,2,20071102,2214,11.9902,136.9982,5204,51.5,29.8261,34.1109,2,-999,9,-999,9,200,2,0.99,2,-999,9,0,2,0,2,0,2,-999,9,-999,9,-999,9,-999,9,-999,9,-999,9,   -999.0,  9,-999,9,-999,-999,9,-999,9,-999,9,-999,9,-999,-999,-999,9,51,29.8134,21.1232,-999,9
KS07-10,137E,KS-1981,1,18,02-19377,2,20071102,2212,11.9902,136.9982,5204,74.3,28.8526,34.5222,2,-999,9,-999,9,208,2,1.03,2,-999,9,0,2,0,2,0.03,2,-999,9,-999,9,-999,9,-999,9,-999,9,-999,9,   -999.0,  9,-999,9,-999,-999,9,-999,9,-999,9,-999,9,-999,-999,-999,9,74,28.8347,21.7605,-999,9
KS07-10,137E,KS-1981,1,17,02-16023,2,20071102,2211,11.9902,136.9982,5204,101.6,27.3539,34.944,2,-999,9,-999,9,204,2,1.06,2,-999,9,0,2,0,2,0.03,2,-999,9,-999,9,-999,9,-999,9,-999,9,-999,9,   -999.0,  9,-999,9,-999,-999,9,-999,9,-999,9,-999,9,-999,-999,-999,9,101,27.3304,22.5697,-999,9
KS07-10,137E,KS-1981,1,16,02-16022,2,20071102,2210,11.9902,136.9982,5204,125.6,25.2065,35.0167,2,-999,9,-999,9,187,2,1.36,2,-999,9,0.39,2,0.07,2,0.1,2,-999,9,-999,9,-999,9,-999,9,-999,9,-999,9,   -999.0,  9,-999,9,-999,-999,9,-999,9,-999,9,-999,9,-999,-999,-999,9,125,25.1791,23.2993,-999,9
KS07-10,137E,KS-1981,1,15,02-16021,2,20071102,2209,11.9902,136.9982,5204,151.9,22.277,34.9726,2,-999,9,-999,9,173,2,2.56,2,-999,9,2.34,2,0.02,2,0.26,2,-999,9,-999,9,-999,9,-999,9,-999,9,-999,9,   -999.0,  9,-999,9,-999,-999,9,-999,9,-999,9,-999,9,-999,-999,-999,9,151,22.2467,24.1277,-999,9
KS07-10,137E,KS-1981,1,14,02-16020,2,20071102,2207,11.9902,136.9982,5204,202.4,15.7406,34.6171,2,-999,9,-999,9,139,2,12.35,2,-999,9,13.94,2,0,2,1.02,2,-999,9,-999,9,-999,9,-999,9,-999,9,-999,9,   -999.0,  9,-999,9,-999,-999,9,-999,9,-999,9,-999,9,-999,-999,-999,9,201,15.709,25.5191,-999,9
KS07-10,137E,KS-1981,1,13,02-16019,2,20071102,2206,11.9902,136.9982,5204,250.3,12.4708,34.4541,2,-999,9,-999,9,120,2,20.57,2,-999,9,20.37,2,0,2,1.47,2,-999,9,-999,9,-999,9,-999,9,-999,9,-999,9,   -999.0,  9,-999,9,-999,-999,9,-999,9,-999,9,-999,9,-999,-999,-999,9,249,12.4374,26.0809,-999,9
KS07-10,137E,KS-1981,1,12,02-16018,2,20071102,2204,11.9902,136.9982,5204,304.6,10.2345,34.3896,2,-999,9,-999,9,96,2,30.71,2,-999,9,26.69,2,0,2,1.93,2,-999,9,-999,9,-999,9,-999,9,-999,9,-999,9,   -999.0,  9,-999,9,-999,-999,9,-999,9,-999,9,-999,9,-999,-999,-999,9,303,10.1987,26.4413,-999,9
KS07-10,137E,KS-1981,1,11,02-19376,2,20071102,2202,11.9902,136.9982,5204,403,8.2948,34.4522,2,-999,9,-999,9,66,2,45.2,2,-999,9,33.4,2,0,2,2.39,2,-999,9,-999,9,-999,9,-999,9,-999,9,-999,9,   -999.0,  9,-999,9,-999,-999,9,-999,9,-999,9,-999,9,-999,-999,-999,9,400,8.2529,26.8055,-999,9
KS07-10,137E,KS-1981,1,10,02-19375,2,20071102,2159,11.9902,136.9982,5204,503,7.447,34.4935,2,-999,9,-999,9,66,2,51.58,2,-999,9,35.25,2,0,2,2.5,2,-999,9,-999,9,-999,9,-999,9,-999,9,-999,9,   -999.0,  9,-999,9,-999,-999,9,-999,9,-999,9,-999,9,-999,-999,-999,9,499,7.3975,26.964,-999,9
KS07-10,137E,KS-1981,1,9,02-16015,2,20071102,2157,11.9902,136.9982,5204,605.1,6.4695,34.4916,2,-999,9,-999,9,71,2,61.92,2,-999,9,36.71,2,0,2,2.62,2,-999,9,-999,9,-999,9,-999,9,-999,9,-999,9,   -999.0,  9,-999,9,-999,-999,9,-999,9,-999,9,-999,9,-999,-999,-999,9,601,6.414,27.0973,-999,9
KS07-10,137E,KS-1981,1,8,02-16014,2,20071102,2154,11.9902,136.9982,5204,705.8,5.913,34.5014,2,-999,9,-999,9,73,2,69.06,2,-999,9,37.58,2,0,2,2.68,2,-999,9,-999,9,-999,9,-999,9,-999,9,-999,9,   -999.0,  9,-999,9,-999,-999,9,-999,9,-999,9,-999,9,-999,-999,-999,9,701,5.8508,27.1775,-999,9
KS07-10,137E,KS-1981,1,7,02-19374,2,20071102,2152,11.9902,136.9982,5204,806.8,5.4374,34.5104,2,-999,9,-999,9,74,2,76.37,2,-999,9,38.26,2,0,2,2.72,2,-999,9,-999,9,-999,9,-999,9,-999,9,-999,9,   -999.0,  9,-999,9,-999,-999,9,-999,9,-999,9,-999,9,-999,-999,-999,9,801,5.3686,27.2437,-999,9
KS07-10,137E,KS-1981,1,6,02-19373,2,20071102,2150,11.9902,136.9982,5204,907.2,4.9618,34.5272,2,-999,9,-999,9,72,2,84.42,2,-999,9,39.23,2,0,2,2.78,2,-999,9,-999,9,-999,9,-999,9,-999,9,-999,9,   -999.0,  9,-999,9,-999,-999,9,-999,9,-999,9,-999,9,-999,-999,-999,9,900, 4.8871,27.3134,-999,9
KS07-10,137E,KS-1981,1,5,02-16011,2,20071102,2147,11.9902,136.9982,5204,1009.2,4.4943,34.5407,2,-999,9,-999,9,76,2,93.16,2,-999,9,39.62,2,0,2,2.81,2,-999,9,-999,9,-999,9,-999,9,-999,9,-999,9,   -999.0,  9,-999,9,-999,-999,9,-999,9,-999,9,-999,9,-999,-999,-999,9,1001,4.414,27.3768,-999,9
KS07-10,137E,KS-1981,1,4,02-16010,2,20071102,2142,11.9902,136.9982,5204,1261.4,3.6457,34.5659,2,-999,9,-999,9,84,2,110.19,2,-999,9,39.61,2,0,2,2.8,2,-999,9,-999,9,-999,9,-999,9,-999,9,-999,9,   -999.0,  9,-999,9,-999,-999,9,-999,9,-999,9,-999,9,-999,-999,-999,9,1250,3.5511,27.4862,-999,9
KS07-10,137E,KS-1981,1,3,02-16009,2,20071102,2137,11.9902,136.9982,5204,1514.9,3.0857,34.5867,2,-999,9,-999,9,94,2,120.66,2,-999,9,39.32,2,0,2,2.77,2,-999,9,-999,9,-999,9,-999,9,-999,9,-999,9,   -999.0,  9,-999,9,-999,-999,9,-999,9,-999,9,-999,9,-999,-999,-999,9,1501,2.9756,27.5574,-999,9
KS07-10,137E,KS-1981,1,2,02-16008,2,20071102,2131,11.9902,136.9982,5204,1766.7,2.6024,34.6088,2,-999,9,-999,9,103,2,129.44,2,-999,9,39.02,2,0,2,2.73,2,-999,9,-999,9,-999,9,-999,9,-999,9,-999,9,   -999.0,  9,-999,9,-999,-999,9,-999,9,-999,9,-999,9,-999,-999,-999,9,1749,2.477,27.6191,-999,9
KS07-10,137E,KS-1981,1,1,02-16007,2,20071102,2126,11.9902,136.9982,5204,2025.8,2.2589,34.6252,2,-999,9,-999,9,112,2,135.57,2,-999,9,38.53,2,0,2,2.7,2,-999,9,-999,9,-999,9,-999,9,-999,9,-999,9,   -999.0,  9,-999,9,-999,-999,9,-999,9,-999,9,-999,9,-999,-999,-999,9,2004,2.1163,27.6621,-999,9
KS07-10,137E,KS-1982,1,-9,-9,5,20071103,0405,10.9947,136.983,5023,0,29.9731,33.7608,2,-999,9,-999,9,198,2,1,2,-999,9,0,2,0,2,0.01,2,-999,9,-999,9,-999,9,-999,9,-999,9,8.1386,6,     25.0, TS,-999,9,-999,-999,9,-999,9,-999,9,-999,9,-999,-999,-999,9,0,29.9728,20.8067,-999,9
KS07-10,137E,KS-1982,1,21,02-16027,2,20071103,0423,10.9947,136.983,5023,10.3,29.9362,33.7574,2,-999,9,-999,9,196,2,1.03,2,-999,9,0,2,0,2,0.01,2,-999,9,-999,9,-999,9,-999,9,-999,9,-999,9,   -999.0,  9,-999,9,-999,-999,9,-999,9,-999,9,-999,9,-999,-999,-999,9,10,29.9337,20.8175,-999,9
KS07-10,137E,KS-1982,1,20,02-16026,2,20071103,0421,10.9947,136.983,5023,25.1,29.853,33.7586,2,-999,9,-999,9,198,2,1.06,2,-999,9,0,2,0,2,0.01,2,-999,9,-999,9,-999,9,-999,9,-999,9,-999,9,   -999.0,  9,-999,9,-999,-999,9,-999,9,-999,9,-999,9,-999,-999,-999,9,25,29.8468,20.8479,-999,9
KS07-10,137E,KS-1982,1,19,02-19378,2,20071103,0417,10.9947,136.983,5023,50.6,29.9386,33.8923,2,-999,9,-999,9,200,2,0.99,2,-999,9,0,2,0,2,0.01,2,-999,9,-999,9,-999,9,-999,9,-999,9,-999,9,   -999.0,  9,-999,9,-999,-999,9,-999,9,-999,9,-999,9,-999,-999,-999,9,50,29.9261,20.9211,-999,9
KS07-10,137E,KS-1982,1,18,02-19377,2,20071103,0416,10.9947,136.983,5023,75.6,29.0693,34.5958,2,-999,9,-999,9,211,2,0.97,2,-999,9,0,2,0,2,0.02,2,-999,9,-999,9,-999,9,-999,9,-999,9,-999,9,   -999.0,  9,-999,9,-999,-999,9,-999,9,-999,9,-999,9,-999,-999,-999,9,75,29.051,21.7436,-999,9
KS07-10,137E,KS-1982,1,17,02-16023,2,20071103,0415,10.9947,136.983,5023,100.8,26.5452,34.8062,2,-999,9,-999,9,199,2,1.43,2,-999,9,0,2,0,2,0.08,2,-999,9,-999,9,-999,9,-999,9,-999,9,-999,9,   -999.0,  9,-999,9,-999,-999,9,-999,9,-999,9,-999,9,-999,-999,-999,9,100,26.5224,22.7234,-999,9
KS07-10,137E,KS-1982,1,16,02-16022,2,20071103,0414,10.9947,136.983,5023,125.2,24.8357,34.9457,2,-999,9,-999,9,189,2,1.73,2,-999,9,0.39,2,0.08,2,0.13,2,-999,9,-999,9,-999,9,-999,9,-999,9,-999,9,   -999.0,  9,-999,9,-999,-999,9,-999,9,-999,9,-999,9,-999,-999,-999,9,124,24.8087,23.3582,-999,9
KS07-10,137E,KS-1982,1,15,02-16021,2,20071103,0413,10.9947,136.983,5023,152.1,22.5991,34.9603,2,-999,9,-999,9,176,2,2.56,2,-999,9,1.86,2,0.14,2,0.24,2,-999,9,-999,9,-999,9,-999,9,-999,9,-999,9,   -999.0,  9,-999,9,-999,-999,9,-999,9,-999,9,-999,9,-999,-999,-999,9,151,22.5684,24.0271,-999,9
KS07-10,137E,KS-1982,1,14,02-16020,2,20071103,0411,10.9947,136.983,5023,201,15.5621,34.5938,2,-999,9,-999,9,149,2,11.76,2,-999,9,12.97,2,0,2,0.96,2,-999,9,-999,9,-999,9,-999,9,-999,9,-999,9,   -999.0,  9,-999,9,-999,-999,9,-999,9,-999,9,-999,9,-999,-999,-999,9,200,15.531,25.5411,-999,9
KS07-10,137E,KS-1982,1,13,02-16019,2,20071103,0410,10.9947,136.983,5023,252.2,11.519,34.4136,2,-999,9,-999,9,118,2,23.87,2,-999,9,22.22,2,0,2,1.61,2,-999,9,-999,9,-999,9,-999,9,-999,9,-999,9,   -999.0,  9,-999,9,-999,-999,9,-999,9,-999,9,-999,9,-999,-999,-999,9,251,11.4871,26.2299,-999,9
KS07-10,137E,KS-1982,1,12,02-16018,2,20071103,0408,10.9947,136.983,5023,304.1,10.2502,34.4242,2,-999,9,-999,9,95,2,31.34,2,-999,9,26.99,2,0,2,1.93,2,-999,9,-999,9,-999,9,-999,9,-999,9,-999,9,   -999.0,  9,-999,9,-999,-999,9,-999,9,-999,9,-999,9,-999,-999,-999,9,302,10.2144,26.4656,-999,9
KS07-10,137E,KS-1982,1,11,02-19376,2,20071103,0406,10.9947,136.983,5023,402.6,8.8369,34.4989,2,-999,9,-999,9,75,2,40.68,2,-999,9,31.95,2,0,2,2.26,2,-999,9,-999,9,-999,9,-999,9,-999,9,-999,9,   -999.0,  9,-999,9,-999,-999,9,-999,9,-999,9,-999,9,-999,-999,-999,9,400,8.7934,26.7585,-999,9
KS07-10,137E,KS-1982,1,10,02-19375,2,20071103,0404,10.9947,136.983,5023,502.6,7.575,34.489,2,-999,9,-999,9,72,2,49.96,2,-999,9,34.57,2,0,2,2.44,2,-999,9,-999,9,-999,9,-999,9,-999,9,-999,9,   -999.0,  9,-999,9,-999,-999,9,-999,9,-999,9,-999,9,-999,-999,-999,9,499,7.5251,26.9421,-999,9
KS07-10,137E,KS-1982,1,9,02-16015,2,20071103,0401,10.9947,136.983,5023,604.3,6.6677,34.5018,2,-999,9,-999,9,71,2,58.98,2,-999,9,36.41,2,0,2,2.59,2,-999,9,-999,9,-999,9,-999,9,-999,9,-999,9,   -999.0,  9,-999,9,-999,-999,9,-999,9,-999,9,-999,9,-999,-999,-999,9,600,6.6114,27.0792,-999,9
KS07-10,137E,KS-1982,1,8,02-16014,2,20071103,0359,10.9947,136.983,5023,704.5,5.9048,34.5137,2,-999,9,-999,9,77,2,67.73,2,-999,9,37.38,2,0,2,2.65,2,-999,9,-999,9,-999,9,-999,9,-999,9,-999,9,   -999.0,  9,-999,9,-999,-999,9,-999,9,-999,9,-999,9,-999,-999,-999,9,699,5.8427,27.1882,-999,9
KS07-10,137E,KS-1982,1,7,02-19374,2,20071103,0356,10.9947,136.983,5023,806.3,5.3085,34.5244,2,-999,9,-999,9,77,2,77.33,2,-999,9,38.35,2,0,2,2.72,2,-999,9,-999,9,-999,9,-999,9,-999,9,-999,9,   -999.0,  9,-999,9,-999,-999,9,-999,9,-999,9,-999,9,-999,-999,-999,9,800,5.2405,27.27,-999,9
KS07-10,137E,KS-1982,1,6,02-19373,2,20071103,0354,10.9947,136.983,5023,906.8,5.0223,34.5317,2,-999,9,-999,9,79,2,82.09,2,-999,9,38.55,2,0,2,2.73,2,-999,9,-999,9,-999,9,-999,9,-999,9,-999,9,   -999.0,  9,-999,9,-999,-999,9,-999,9,-999,9,-999,9,-999,-999,-999,9,900,4.9472,27.31,-999,9
KS07-10,137E,KS-1982,1,5,02-16011,2,20071103,0351,10.9947,136.983,5023,1007.8,4.6065,34.5414,2,-999,9,-999,9,81,2,90.15,2,-999,9,38.93,2,0,2,2.77,2,-999,9,-999,9,-999,9,-999,9,-999,9,-999,9,   -999.0,  9,-999,9,-999,-999,9,-999,9,-999,9,-999,9,-999,-999,-999,9,1000,4.5254,27.3652,-999,9
KS07-10,137E,KS-1982,1,4,02-16010,2,20071103,0346,10.9947,136.983,5023,1261.2,3.6239,34.5681,2,-999,9,-999,9,90,2,109.23,2,-999,9,39.03,2,0,2,2.76,2,-999,9,-999,9,-999,9,-999,9,-999,9,-999,9,   -999.0,  9,-999,9,-999,-999,9,-999,9,-999,9,-999,9,-999,-999,-999,9,1250,3.5295,27.4901,-999,9
KS07-10,137E,KS-1982,1,3,02-16009,2,20071103,0340,10.9947,136.983,5023,1516.7,2.9643,34.591,2,-999,9,-999,9,92,2,122.54,2,-999,9,39.12,2,0,2,2.75,2,-999,9,-999,9,-999,9,-999,9,-999,9,-999,9,   -999.0,  9,-999,9,-999,-999,9,-999,9,-999,9,-999,9,-999,-999,-999,9,1503,2.8554,27.5717,-999,9
KS07-10,137E,KS-1982,1,2,02-16008,2,20071103,0333,10.9947,136.983,5023,1769.7,2.5113,34.6127,2,-999,9,-999,9,107,2,130.81,2,-999,9,38.73,2,0,2,2.71,2,-999,9,-999,9,-999,9,-999,9,-999,9,-999,9,   -999.0,  9,-999,9,-999,-999,9,-999,9,-999,9,-999,9,-999,-999,-999,9,1752,2.3869,27.6298,-999,9
KS07-10,137E,KS-1982,1,1,02-16007,2,20071103,0327,10.9947,136.983,5023,2032.7,2.2042,34.6306,2,-999,9,-999,9,116,2,135.4,2,-999,9,38.34,2,0,2,2.68,2,-999,9,-999,9,-999,9,-999,9,-999,9,-999,9,   -999.0,  9,-999,9,-999,-999,9,-999,9,-999,9,-999,9,-999,-999,-999,9,2011, 2.0619,27.6708,-999,9
KS07-10,137E,KS-1983,1,-9,-9,5,20071103,1021,9.9843,136.998,5007,0,29.9105,33.6934,2,-999,9,-999,9,198,2,0.97,2,-999,9,0,2,0,2,0.01,2,-999,9,-999,9,-999,9,-999,9,-999,9,8.1429,2,     25.0, TS,-999,9,-999,-999,9,-999,9,0.03,2,0.01,2,-999,-999,-999,9,0,29.9102,20.7775,-999,9
KS07-10,137E,KS-1983,1,21,02-16027,2,20071103,1047,9.9843,136.998,5007,11.9,29.9247,33.6922,2,-999,9,33.6917,2,195,2,0.95,2,-999,9,0,2,0,2,0.01,2,-999,9,-999,9,-999,9,1877.8,2,-999,9,8.1402,2,     25.0, TS,-999,9,-999,-999,9,-999,9,0.04,2,0,2,-999,-999,-999,9,12,29.9218,20.7727,-999,9
KS07-10,137E,KS-1983,1,20,02-16026,2,20071103,1045,9.9843,136.998,5007,26.3,29.9212,33.6902,2,-999,9,-999,9,197,2,0.98,2,-999,9,0,2,0,2,0.01,2,-999,9,-999,9,-999,9,1876.9,2,-999,9,8.1424,2,     25.0, TS,-999,9,-999,-999,9,-999,9,0.04,2,0.01,2,-999,-999,-999,9,26,29.9147,20.7735,-999,9
KS07-10,137E,KS-1983,1,19,02-19378,2,20071103,1041,9.9843,136.998,5007,50.8,29.8037,34.0792,2,-999,9,-999,9,202,2,1.01,2,-999,9,0,2,0,2,0.01,2,-999,9,-999,9,-999,9,1905.5,2,-999,9,8.1355,2,     25.0, TS,-999,9,-999,-999,9,-999,9,0.05,2,0.02,2,-999,-999,-999,9,51,29.7912,21.1069,-999,9
KS07-10,137E,KS-1983,1,18,02-19377,2,20071103,1040,9.9843,136.998,5007,76.5,28.1641,34.4352,2,-999,9,-999,9,200,2,1.2,2,-999,9,0,2,0,2,0.05,2,-999,9,-999,9,-999,9,1941,2,-999,9,8.1042,2,     25.0, TS,-999,9,-999,-999,9,-999,9,0.09,2,0.06,2,-999,-999,-999,9,76,28.146,21.9223,-999,9
KS07-10,137E,KS-1983,1,17,02-16023,2,20071103,1038,9.9843,136.998,5007,101.9,25.208,34.7313,2,-999,9,34.7325,2,183,2,2.25,2,-999,9,0.78,2,0.07,2,0.18,2,-999,9,-999,9,-999,9,2001.5,2,-999,9,8.0356,2,     25.0, TS,-999,9,-999,-999,9,-999,9,0.22,2,0.33,2,-999,-999,-999,9,101,25.1858,23.0816,-999,9
KS07-10,137E,KS-1983,1,16,02-16022,2,20071103,1037,9.9843,136.998,5007,126.2,22.9454,34.8021,2,-999,9,-999,9,170,2,3.6,2,-999,9,3.32,2,0.17,2,0.33,2,-999,9,-999,9,-999,9,2029.2,2,-999,9,7.9811,2,     25.0, TS,-999,9,-999,-999,9,-999,9,0.14,2,0.31,2,-999,-999,-999,9,125,22.9197,23.8066,-999,9
KS07-10,137E,KS-1983,1,15,02-16021,2,20071103,1036,9.9843,136.998,5007,149.8,18.7167,34.7455,2,-999,9,-999,9,156,2,7.03,2,-999,9,8.29,2,0.01,2,0.62,2,-999,9,-999,9,-999,9,2076.7,2,-999,9,7.8856,2,     25.0, TS,-999,9,-999,-999,9,-999,9,0.07,2,0.15,2,-999,-999,-999,9,149,18.6903,24.9051,-999,9
KS07-10,137E,KS-1983,1,14,02-16020,2,20071103,1035,9.9843,136.998,5007,203.4,14.2061,34.5333,2,-999,9,34.5338,2,135,2,15.28,2,-999,9,16.18,2,0,2,1.17,2,-999,9,-999,9,-999,9,2126.6,2,-999,9,7.7609,2,     25.0, TS,-999,9,-999,-999,9,-999,9,0.01,2,0.03,2,-999,-999,-999,9,202,14.1765,25.7893,-999,9
KS07-10,137E,KS-1983,1,13,02-16019,2,20071103,1033,9.9843,136.998,5007,253.5,11.1921,34.3628,2,-999,9,-999,9,129,2,23.98,2,-999,9,21.53,2,0,2,1.53,2,-999,9,-999,9,-999,9,2156.4,2,-999,9,7.6788,2,     25.0, TS,-999,9,-999,-999,9,-999,9,0,2,0.01,2,-999,-999,-999,9,252,11.1606,26.2502,-999,9
KS07-10,137E,KS-1983,1,12,02-16018,2,20071103,1031,9.9843,136.998,5007,304.5,10.0137,34.5081,2,-999,9,34.5091,2,78,2,33.75,2,-999,9,29.32,2,0,2,2.07,2,-999,9,-999,9,-999,9,2215.4,2,-999,9,7.5706,2,     25.0, TS,-999,9,-999,-999,9,-999,9,0,2,0.01,2,-999,-999,-999,9,303,9.9784,26.5715,-999,9
KS07-10,137E,KS-1983,1,11,02-19376,2,20071103,1029,9.9843,136.998,5007,403.8,8.0055,34.4705,2,-999,9,34.4681,2,75,2,46.74,2,-999,9,33.01,2,0,2,2.35,2,-999,9,-999,9,-999,9,2240,2,-999,9,7.5247,2,     25.0, TS,-999,9,-999,-999,9,-999,9,-999,9,-999,9,-999,-999,-999,9,401,7.9644,26.8633,-999,9
KS07-10,137E,KS-1983,1,10,02-19375,2,20071103,1026,9.9843,136.998,5007,504.5,7.1847,34.4918,2,-999,9,34.4906,2,81,2,51.83,2,-999,9,34.37,2,0,2,2.42,2,-999,9,-999,9,-999,9,2249,2,-999,9,7.5263,2,     25.0, TS,-999,9,-999,-999,9,-999,9,-999,9,-999,9,-999,-999,-999,9,501,7.1361,26.9995,-999,9
KS07-10,137E,KS-1983,1,9,02-16015,2,20071103,1024,9.9843,136.998,5007,605.6,6.5309,34.4999,2,-999,9,34.499,2,84,2,58.05,2,-999,9,35.54,2,0,2,2.5,2,-999,9,-999,9,-999,9,2260.9,2,-999,9,7.5215,2,     25.0, TS,-999,9,-999,-999,9,-999,9,-999,9,-999,9,-999,-999,-999,9,601,6.4751,27.0959,-999,9
KS07-10,137E,KS-1983,1,8,02-16014,2,20071103,1021,9.9843,136.998,5007,706.5,6.1165,34.5129,2,-999,9,34.5123,2,86,2,62.57,2,-999,9,36.22,2,0,2,2.56,2,-999,9,-999,9,-999,9,2267.7,2,-999,9,7.5178,2,     25.0, TS,-999,9,-999,-999,9,-999,9,-999,9,-999,9,-999,-999,-999,9,701,6.0531,27.161,-999,9
KS07-10,137E,KS-1983,1,7,02-19374,2,20071103,1019,9.9843,136.998,5007,807.7,5.5868,34.5166,2,-999,9,34.5159,2,81,2,71.7,2,-999,9,37.28,2,0,2,2.64,2,-999,9,-999,9,-999,9,2279.9,2,-999,9,7.5053,2,     25.0, TS,-999,9,-999,-999,9,-999,9,-999,9,-999,9,-999,-999,-999,9,802,5.517,27.2308,-999,9
KS07-10,137E,KS-1983,1,6,02-19373,2,20071103,1016,9.9843,136.998,5007,907,5.1511,34.5347,2,-999,9,34.5342,2,83,2,78.76,2,-999,9,37.96,2,0,2,2.68,2,-999,9,-999,9,-999,9,2289.2,2,-999,9,7.5023,2,     25.0, TS,-999,9,-999,-999,9,-999,9,-999,9,-999,9,-999,-999,-999,9,900, 5.0751,27.2976,-999,9
KS07-10,137E,KS-1983,1,5,02-16011,2,20071103,1014,9.9843,136.998,5007,1008.6,4.6473,34.5443,2,-999,9,34.5439,2,88,2,88.04,2,-999,9,37.77,2,0,2,2.7,2,-999,9,-999,9,-999,9,2298.7,2,-999,9,7.5103,2,     25.0, TS,-999,9,-999,-999,9,-999,9,-999,9,-999,9,-999,-999,-999,9,1000, 4.5659,27.3631,-999,9
KS07-10,137E,KS-1983,1,4,02-16010,2,20071103,1008,9.9843,136.998,5007,1260.6,3.7248,34.57,2,-999,9,34.5698,2,92,2,105.94,2,-999,9,38.35,2,0,2,2.73,2,-999,9,-999,9,-999,9,2316.7,2,-999,9,7.5155,2,     25.0, TS,-999,9,-999,-999,9,-999,9,-999,9,-999,9,-999,-999,-999,9,1250,3.6295,27.4818,-999,9
KS07-10,137E,KS-1983,1,3,02-16009,2,20071103,1002,9.9843,136.998,5007,1515.1,3.1435,34.5869,2,-999,9,34.5866,2,99,2,117.79,2,-999,9,38.64,2,0,2,2.72,2,-999,9,-999,9,-999,9,2323.1,2,-999,9,7.5135,2,     25.0, TS,-999,9,-999,-999,9,-999,9,-999,9,-999,9,-999,-999,-999,9,1501,3.0327,27.5523,-999,9
KS07-10,137E,KS-1983,1,2,02-16008,2,20071103,0957,9.9843,136.998,5007,1767.6,2.6173,34.612,2,-999,9,34.6123,2,107,2,126.9,2,-999,9,38.54,2,0,2,2.71,2,-999,9,-999,9,-999,9,2334.1,6,-999,9,7.5257,2,     25.0, TS,-999,9,-999,-999,9,-999,9,-999,9,-999,9,-999,-999,-999,9,1750, 2.4917,27.6204,-999,9
KS07-10,137E,KS-1983,1,1,02-16007,2,20071103,0952,9.9843,136.998,5007,2027,2.2558,34.6305,2,-999,9,34.6303,2,115,2,133.48,2,-999,9,37.85,2,0,2,2.66,2,-999,9,-999,9,-999,9,2335.7,2,-999,9,7.5397,6,     25.0, TS,-999,9,-999,-999,9,-999,9,-999,9,-999,9,-999,-999,-999,9,2006, 2.1132,27.6666,-999,9