BOTTLE,20121206MIRCJHATS
EXPOCODE,SECT_ID,STNNBR,CASTNO,SAMPNO,BTLNBR,BTLNBR_FLAG_W,DATE,TIME,LATITUDE,LONGITUDE,DEPTH,CTDPRS,CTDTMP,CTDSAL,CTDSAL_FLAG_W,CTDOXY,CTDOXY_FLAG_W,SALNTY,SALNTY_FLAG_W,OXYGEN,OXYGEN_FLAG_W,SILCAT,SILCAT_FLAG_W,NITRAT,NITRAT_FLAG_W,NO2+NO3,NO2+NO3_FLAG_W,NITRIT,NITRIT_FLAG_W,PHSPHT,PHSPHT_FLAG_W,CFC-11,CFC-11_FLAG_W,CFC-12,CFC-12_FLAG_W,DELC13,DELC13_FLAG_W,TCARBN,TCARBN_FLAG_W,ALKALI,ALKALI_FLAG_W,PH,PH_FLAG_W,PH_TMP,PH_SCALE,PH_NBS,PH_NBS_FLAG_W,C13ERR,TOTALP,TOTALP_FLAG_W,AMMONI,AMMONI_FLAG_W,CHLORA,CHLORA_FLAG_W,PPHYTN,PPHYTN_FLAG_W,REVPRS,REVTMP,DEPTH,DEPTH_FLAG,CTDDEP,THETA,SIGTHT,DOC,DOC_FLAG_W
,,,,,,,GMT,GMT,,,METERS,DBAR,ITS-90,PSS-78,,UMOL/KG,,PSS-78,,UMOL/KG,,UMOL/KG,,UMOL/KG,,UMOL/KG,,UMOL/KG, ,UMOL/KG,,PMOL/KG,,PMOL/KG,,/MILLE,,UMOL/KG,,UMOL/KG,,25_DEG_C,,DEG_C,,,,/MILLE,UMOL/KG,,UMOL/KG,,UG/L,,UG/L,,DBAR,ITS-90,METERS,,METERS,DEG_C,,UMOL/L
KS07-10,137E,KS-1967,1,-9,-9,5,20071030,0333,26.0052,136.9872,5553,0,27.3887,34.6243,2,-999,9,-999,9,205,2,1.41,2,-999,9,0,2,0,2,0,2,-999,9,-999,9,-999,9,-999,9,-999,9,8.1015,6,     25.0, TS,-999,9,-999,-999,9,-999,9,-999,9,-999,9,-999,-999,-999,9,0,27.3884,22.3104,-999,9
KS07-10,137E,KS-1967,1,21,02-16027,2,20071030,0352,26.0052,136.9872,5553,10.2,27.3338,34.6293,2,-999,9,-999,9,206,2,1.4,2,-999,9,0,2,0,2,0,2,-999,9,-999,9,-999,9,-999,9,-999,9,-999,9,   -999.0,  9,-999,9,-999,-999,9,-999,9,-999,9,-999,9,-999,-999,-999,9,10,27.3315,22.3325,-999,9
KS07-10,137E,KS-1967,1,20,02-16026,2,20071030,0351,26.0052,136.9872,5553,24.6,27.2993,34.6416,2,-999,9,-999,9,206,2,1.7,2,-999,9,0,2,0,2,0,2,-999,9,-999,9,-999,9,-999,9,-999,9,-999,9,   -999.0,  9,-999,9,-999,-999,9,-999,9,-999,9,-999,9,-999,-999,-999,9,24,27.2936,22.3539,-999,9
KS07-10,137E,KS-1967,1,19,02-19378,2,20071030,0347,26.0052,136.9872,5553,49.8,25.78,34.7304,2,-999,9,-999,9,218,2,1.69,2,-999,9,0,2,0,2,0,2,-999,9,-999,9,-999,9,-999,9,-999,9,-999,9,   -999.0,  9,-999,9,-999,-999,9,-999,9,-999,9,-999,9,-999,-999,-999,9,49,25.769,22.9017,-999,9
KS07-10,137E,KS-1967,1,18,02-19377,2,20071030,0346,26.0052,136.9872,5553,75,23.3531,34.816,2,-999,9,-999,9,225,2,1.48,2,-999,9,0,2,0,2,0,2,-999,9,-999,9,-999,9,-999,9,-999,9,-999,9,   -999.0,  9,-999,9,-999,-999,9,-999,9,-999,9,-999,9,-999,-999,-999,9,74,23.3377,23.6964,-999,9
KS07-10,137E,KS-1967,1,17,02-16023,2,20071030,0345,26.0052,136.9872,5553,99.6,22.1195,34.8446,2,-999,9,-999,9,221,2,1.62,2,-999,9,0,2,0.01,2,0,2,-999,9,-999,9,-999,9,-999,9,-999,9,-999,9,   -999.0,  9,-999,9,-999,-999,9,-999,9,-999,9,-999,9,-999,-999,-999,9,99,22.0997,24.0718,-999,9
KS07-10,137E,KS-1967,1,16,02-16022,2,20071030,0344,26.0052,136.9872,5553,126.5,20.6693,34.8497,2,-999,9,-999,9,214,2,1.87,2,-999,9,0.39,2,0.09,2,0.02,2,-999,9,-999,9,-999,9,-999,9,-999,9,-999,9,   -999.0,  9,-999,9,-999,-999,9,-999,9,-999,9,-999,9,-999,-999,-999,9,126,20.6454,24.4753,-999,9
KS07-10,137E,KS-1967,1,15,02-16021,2,20071030,0343,26.0052,136.9872,5553,150.9,19.8088,34.8479,2,-999,9,-999,9,206,2,2.18,2,-999,9,1.46,2,0.02,2,0.09,2,-999,9,-999,9,-999,9,-999,9,-999,9,-999,9,   -999.0,  9,-999,9,-999,-999,9,-999,9,-999,9,-999,9,-999,-999,-999,9,150,19.7811,24.7032,-999,9
KS07-10,137E,KS-1967,1,14,02-16020,2,20071030,0342,26.0052,136.9872,5553,198.1,18.8631,34.8185,2,-999,9,-999,9,206,2,2.8,2,-999,9,2.93,2,0.01,2,0.17,2,-999,9,-999,9,-999,9,-999,9,-999,9,-999,9,   -999.0,  9,-999,9,-999,-999,9,-999,9,-999,9,-999,9,-999,-999,-999,9,197,18.828,24.9262,-999,9
KS07-10,137E,KS-1967,1,13,02-16019,2,20071030,0340,26.0052,136.9872,5553,251.7,18.0472,34.8051,2,-999,9,-999,9,203,2,3.63,2,-999,9,4.29,2,0,2,0.24,2,-999,9,-999,9,-999,9,-999,9,-999,9,-999,9,   -999.0,  9,-999,9,-999,-999,9,-999,9,-999,9,-999,9,-999,-999,-999,9,250,18.0039,25.1218,-999,9
KS07-10,137E,KS-1967,1,12,02-16018,2,20071030,0338,26.0052,136.9872,5553,302.7,17.4511,34.7794,2,-999,9,-999,9,201,2,4.47,2,-999,9,5.36,2,0,2,0.3,2,-999,9,-999,9,-999,9,-999,9,-999,9,-999,9,   -999.0,  9,-999,9,-999,-999,9,-999,9,-999,9,-999,9,-999,-999,-999,9,301,17.4002,25.2492,-999,9
KS07-10,137E,KS-1967,1,11,02-19376,2,20071030,0336,26.0052,136.9872,5553,404.2,15.2981,34.6198,2,-999,9,-999,9,190,2,9.76,2,-999,9,9.56,2,0,2,0.59,2,-999,9,-999,9,-999,9,-999,9,-999,9,-999,9,   -999.0,  9,-999,9,-999,-999,9,-999,9,-999,9,-999,9,-999,-999,-999,9,401,15.2359,25.6268,-999,9
KS07-10,137E,KS-1967,1,10,02-19375,2,20071030,0333,26.0052,136.9872,5553,502.4,12.0763,34.3781,2,-999,9,-999,9,184,2,19.88,2,-999,9,15.5,2,0,2,1.01,2,-999,9,-999,9,-999,9,-999,9,-999,9,-999,9,   -999.0,  9,-999,9,-999,-999,9,-999,9,-999,9,-999,9,-999,-999,-999,9,498,12.0101,26.1041,-999,9
KS07-10,137E,KS-1967,1,9,02-16015,2,20071030,0331,26.0052,136.9872,5553,604.4,9.4274,34.2118,2,-999,9,-999,9,165,2,34.78,2,-999,9,21.82,2,0,2,1.49,2,-999,9,-999,9,-999,9,-999,9,-999,9,-999,9,   -999.0,  9,-999,9,-999,-999,9,-999,9,-999,9,-999,9,-999,-999,-999,9,600,9.359,26.4431,-999,9
KS07-10,137E,KS-1967,1,8,02-16014,2,20071030,0328,26.0052,136.9872,5553,706.6,6.6692,34.1236,2,-999,9,-999,9,126,2,61.95,2,-999,9,30.19,2,0,2,2.13,2,-999,9,-999,9,-999,9,-999,9,-999,9,-999,9,   -999.0,  9,-999,9,-999,-999,9,-999,9,-999,9,-999,9,-999,-999,-999,9,701,6.6033,26.782,-999,9
KS07-10,137E,KS-1967,1,7,02-19374,2,20071030,0325,26.0052,136.9872,5553,805.7,5.2174,34.1627,2,-999,9,-999,9,90,2,84.48,2,-999,9,35.83,2,0,2,2.54,2,-999,9,-999,9,-999,9,-999,9,-999,9,-999,9,   -999.0,  9,-999,9,-999,-999,9,-999,9,-999,9,-999,9,-999,-999,-999,9,799,5.1505,26.9941,-999,9
KS07-10,137E,KS-1967,1,6,02-19373,2,20071030,0323,26.0052,136.9872,5553,906.7,4.5056,34.2385,2,-999,9,-999,9,70,2,100.13,2,-999,9,38.75,2,0,2,2.76,2,-999,9,-999,9,-999,9,-999,9,-999,9,-999,9,   -999.0,  9,-999,9,-999,-999,9,-999,9,-999,9,-999,9,-999,-999,-999,9,899,4.4345,27.1345,-999,9
KS07-10,137E,KS-1967,1,5,02-16011,2,20071030,0320,26.0052,136.9872,5553,1006.2,3.9523,34.3158,2,-999,9,-999,9,60,2,112.45,2,-999,9,40.4,2,0,2,2.86,2,-999,9,-999,9,-999,9,-999,9,-999,9,-999,9,   -999.0,  9,-999,9,-999,-999,9,-999,9,-999,9,-999,9,-999,-999,-999,9,997,3.8768,27.2545,-999,9
KS07-10,137E,KS-1967,1,4,02-16010,2,20071030,0315,26.0052,136.9872,5553,1258.8,2.9379,34.4618,2,-999,9,-999,9,63,2,133.77,2,-999,9,41.27,2,0,2,2.91,2,-999,9,-999,9,-999,9,-999,9,-999,9,-999,9,   -999.0,  9,-999,9,-999,-999,9,-999,9,-999,9,-999,9,-999,-999,-999,9,1247,2.8506,27.469,-999,9
KS07-10,137E,KS-1967,1,3,02-16009,2,20071030,0309,26.0052,136.9872,5553,1514.6,2.4483,34.5319,2,-999,9,-999,9,78,2,142.13,2,-999,9,40.58,2,0,2,2.86,2,-999,9,-999,9,-999,9,-999,9,-999,9,-999,9,   -999.0,  9,-999,9,-999,-999,9,-999,9,-999,9,-999,9,-999,-999,-999,9,1499,2.3458,27.5686,-999,9
KS07-10,137E,KS-1967,1,2,02-16008,2,20071030,0303,26.0052,136.9872,5553,1768.8,2.1535,34.5808,2,-999,9,-999,9,97,2,143.37,2,-999,9,39.61,2,0,2,2.77,2,-999,9,-999,9,-999,9,-999,9,-999,9,-999,9,   -999.0,  9,-999,9,-999,-999,9,-999,9,-999,9,-999,9,-999,-999,-999,9,1750,2.0341,27.6331,-999,9
KS07-10,137E,KS-1967,1,1,02-16007,2,20071030,0258,26.0052,136.9872,5553,2032.7,1.9765,34.6119,2,-999,9,-999,9,115,2,141.47,2,-999,9,38.63,2,0,2,2.69,2,-999,9,-999,9,-999,9,-999,9,-999,9,-999,9,   -999.0,  9,-999,9,-999,-999,9,-999,9,-999,9,-999,9,-999,-999,-999,9,2010,1.8377,27.6734,-999,9
KS07-10,137E,KS-1968,1,-9,-9,5,20071030,0950,24.9983,136.9803,5352,0,27.6108,34.7,2,-999,9,-999,9,203,2,1.68,2,-999,9,0,2,0,2,0,2,-999,9,-999,9,-999,9,-999,9,-999,9,8.1091,2,     25.0, TS,-999,9,-999,-999,9,-999,9,0.05,2,0.02,2,-999,-999,-999,9,0,27.6105,22.2957,-999,9
KS07-10,137E,KS-1968,1,21,02-16027,2,20071030,1014,24.9983,136.9803,5352,11,27.6146,34.7018,2,-999,9,34.7002,2,202,2,1.88,2,-999,9,0,2,0,2,0,2,-999,9,-999,9,-999,9,1943.4,2,-999,9,8.1059,2,     25.0, TS,-999,9,-999,-999,9,-999,9,0.04,2,0.03,2,-999,-999,-999,9,11,27.612,22.2965,-999,9
KS07-10,137E,KS-1968,1,20,02-16026,2,20071030,1013,24.9983,136.9803,5352,25.6,27.4947,34.7056,2,-999,9,-999,9,202,2,1.75,2,-999,9,0,2,0,2,0,2,-999,9,-999,9,-999,9,1942.4,2,-999,9,8.1076,2,     25.0, TS,-999,9,-999,-999,9,-999,9,0.05,2,0.02,2,-999,-999,-999,9,25,27.4888,22.3392,-999,9
KS07-10,137E,KS-1968,1,19,02-19378,2,20071030,1009,24.9983,136.9803,5352,48.8,26.536,34.7396,2,-999,9,-999,9,211,2,1.79,2,-999,9,0,2,0,2,0,2,-999,9,-999,9,-999,9,1954.3,2,-999,9,8.102,2,     25.0, TS,-999,9,-999,-999,9,-999,9,0.08,2,0.05,2,-999,-999,-999,9,49,26.525,22.6723,-999,9
KS07-10,137E,KS-1968,1,18,02-19377,2,20071030,1007,24.9983,136.9803,5352,74.5,23.826,34.8346,2,-999,9,-999,9,222,2,1.67,2,-999,9,0,2,0,2,0,2,-999,9,-999,9,-999,9,1968.3,2,-999,9,8.0804,2,     25.0, TS,-999,9,-999,-999,9,-999,9,0.13,2,0.09,2,-999,-999,-999,9,74,23.8104,23.5722,-999,9
KS07-10,137E,KS-1968,1,17,02-16023,2,20071030,1006,24.9983,136.9803,5352,98.7,21.7587,34.8612,2,-999,9,34.8646,2,223,2,1.66,2,-999,9,0,2,0,2,0,2,-999,9,-999,9,-999,9,1985.5,2,-999,9,8.0566,2,     25.0, TS,-999,9,-999,-999,9,-999,9,0.2,2,0.21,2,-999,-999,-999,9,98,21.7394,24.1851,-999,9
KS07-10,137E,KS-1968,1,16,02-16022,2,20071030,1005,24.9983,136.9803,5352,125.5,20.2668,34.8291,2,-999,9,-999,9,212,2,1.9,2,-999,9,0.49,2,0.06,2,0.03,2,-999,9,-999,9,-999,9,1998.4,2,-999,9,8.0313,2,     25.0, TS,-999,9,-999,-999,9,-999,9,0.12,2,0.21,2,-999,-999,-999,9,125,20.2434,24.5671,-999,9
KS07-10,137E,KS-1968,1,15,02-16021,2,20071030,1004,24.9983,136.9803,5352,150.6,19.5428,34.8189,2,-999,9,-999,9,208,2,2.25,2,-999,9,1.85,2,0.01,2,0.1,2,-999,9,-999,9,-999,9,2005,2,-999,9,8.018,2,     25.0, TS,-999,9,-999,-999,9,-999,9,0.03,2,0.08,2,-999,-999,-999,9,150,19.5155,24.7502,-999,9
KS07-10,137E,KS-1968,1,14,02-16020,2,20071030,1002,24.9983,136.9803,5352,203.1,18.7695,34.8136,2,-999,9,34.8121,2,206,2,2.82,2,-999,9,3.02,2,0.01,2,0.17,2,-999,9,-999,9,-999,9,2016.1,2,-999,9,7.9993,2,     25.0, TS,-999,9,-999,-999,9,-999,9,0,2,0.01,2,-999,-999,-999,9,202,18.7336,24.9463,-999,9
KS07-10,137E,KS-1968,1,13,02-16019,2,20071030,1000,24.9983,136.9803,5352,249,17.9885,34.7969,2,-999,9,-999,9,204,2,3.64,2,-999,9,4.19,2,0,2,0.23,2,-999,9,-999,9,-999,9,2025.6,2,-999,9,7.9792,2,     25.0, TS,-999,9,-999,-999,9,-999,9,0,2,0.01,2,-999,-999,-999,9,247,17.9458,25.1298,-999,9
KS07-10,137E,KS-1968,1,12,02-16018,2,20071030,0959,24.9983,136.9803,5352,303.2,17.1526,34.7586,2,-999,9,34.7581,2,199,2,4.98,2,-999,9,5.75,2,0,2,0.34,2,-999,9,-999,9,-999,9,2040.5,2,-999,9,7.9536,2,     25.0, TS,-999,9,-999,-999,9,-999,9,0,2,0.01,2,-999,-999,-999,9,301,17.1022,25.3046,-999,9
KS07-10,137E,KS-1968,1,11,02-19376,2,20071030,0956,24.9983,136.9803,5352,403.5,14.7574,34.5741,2,-999,9,34.5747,2,190,2,10.74,2,-999,9,10.24,2,0,2,0.64,2,-999,9,-999,9,-999,9,2070.3,2,-999,9,7.8823,2,     25.0, TS,-999,9,-999,-999,9,-999,9,-999,9,-999,9,-999,-999,-999,9,401,14.6968,25.7095,-999,9
KS07-10,137E,KS-1968,1,10,02-19375,2,20071030,0953,24.9983,136.9803,5352,503.5,11.9475,34.3685,2,-999,9,34.3715,2,181,2,20.42,2,-999,9,15.69,2,0,2,1.04,2,-999,9,-999,9,-999,9,2109.4,2,-999,9,7.7958,2,     25.0, TS,-999,9,-999,-999,9,-999,9,-999,9,-999,9,-999,-999,-999,9,500,11.8816,26.1211,-999,9
KS07-10,137E,KS-1968,1,9,02-16015,2,20071030,0951,24.9983,136.9803,5352,603.2,9.1872,34.2096,2,-999,9,34.2107,2,157,2,37.68,2,-999,9,22.8,2,0,2,1.57,2,-999,9,-999,9,-999,9,2163.1,2,-999,9,7.6849,2,     25.0, TS,-999,9,-999,-999,9,-999,9,-999,9,-999,9,-999,-999,-999,9,598,9.12,26.48,-999,9
KS07-10,137E,KS-1968,1,8,02-16014,2,20071030,0948,24.9983,136.9803,5352,706,6.8028,34.1182,2,-999,9,34.1198,2,125,2,59.74,2,-999,9,29.8,2,0,2,2.1,2,-999,9,-999,9,-999,9,2219.7,2,-999,9,7.565,2,     25.0, TS,-999,9,-999,-999,9,-999,9,-999,9,-999,9,-999,-999,-999,9,700, 6.7363,26.7599,-999,9
KS07-10,137E,KS-1968,1,7,02-19374,2,20071030,0946,24.9983,136.9803,5352,805.2,5.4383,34.1589,2,-999,9,34.1593,2,89,2,80.23,2,-999,9,35.35,2,0,2,2.51,2,-999,9,-999,9,-999,9,2268,2,-999,9,7.4793,2,     25.0, TS,-999,9,-999,-999,9,-999,9,-999,9,-999,9,-999,-999,-999,9,798,5.3701,26.9652,-999,9
KS07-10,137E,KS-1968,1,6,02-19373,2,20071030,0943,24.9983,136.9803,5352,906.5,4.6065,34.2297,2,-999,9,34.2313,2,70,2,98.29,2,-999,9,38.46,2,0,2,2.74,2,-999,9,-999,9,-999,9,2304.2,2,-999,9,7.4391,2,     25.0, TS,-999,9,-999,-999,9,-999,9,-999,9,-999,9,-999,-999,-999,9,899,4.5347,27.1167,-999,9
KS07-10,137E,KS-1968,1,5,02-16011,2,20071030,0941,24.9983,136.9803,5352,1008.8,4.0502,34.2884,2,-999,9,34.2883,2,59,2,110.13,2,-999,9,40.21,2,0,2,2.86,2,-999,9,-999,9,-999,9,2323.9,2,-999,9,7.4128,2,     25.0, TS,-999,9,-999,-999,9,-999,9,-999,9,-999,9,-999,-999,-999,9,1000,3.9738,27.2228,-999,9
KS07-10,137E,KS-1968,1,4,02-16010,2,20071030,0935,24.9983,136.9803,5352,1261.4,3.025,34.4492,2,-999,9,34.4494,2,71,4,132.83,2,-999,9,41.46,2,0,2,2.93,2,-999,9,-999,9,-999,9,2353.7,2,-999,9,7.4211,2,     25.0, TS,-999,9,-999,-999,9,-999,9,-999,9,-999,9,-999,-999,-999,9,1250, 2.9367,27.4511,-999,9
KS07-10,137E,KS-1968,1,3,02-16009,2,20071030,0930,24.9983,136.9803,5352,1515.1,2.4552,34.5355,2,-999,9,34.5354,2,81,2,141.04,2,-999,9,40.58,2,0,2,2.85,2,-999,9,-999,9,-999,9,2356.6,2,-999,9,7.4635,2,     25.0, TS,-999,9,-999,-999,9,-999,9,-999,9,-999,9,-999,-999,-999,9,1500,2.3525,27.5709,-999,9
KS07-10,137E,KS-1968,1,2,02-16008,2,20071030,0924,24.9983,136.9803,5352,1768.7,2.1525,34.5851,2,-999,9,34.5858,2,102,2,140.94,2,-999,9,39.22,2,0,2,2.74,2,-999,9,-999,9,-999,9,2348.8,6,-999,9,7.5038,2,     25.0, TS,-999,9,-999,-999,9,-999,9,-999,9,-999,9,-999,-999,-999,9,1750,2.0331,27.6366,-999,9
KS07-10,137E,KS-1968,1,1,02-16007,2,20071030,0919,24.9983,136.9803,5352,2027.3,1.9835,34.6172,2,-999,9,34.6184,2,117,2,140.92,2,-999,9,38.44,2,0,2,2.68,2,-999,9,-999,9,-999,9,2342.5,2,-999,9,7.5357,6,     25.0, TS,-999,9,-999,-999,9,-999,9,-999,9,-999,9,-999,-999,-999,9,2005, 1.8451,27.6771,-999,9
KS07-10,137E,KS-1969,1,-9,-9,5,20071030,1622,24,136.9787,3957,0,28.6264,34.6742,2,-999,9,-999,9,201,2,1.27,2,-999,9,0,2,0,2,0,2,-999,9,-999,9,-999,9,-999,9,-999,9,8.1256,2,     25.0, TS,-999,9,-999,-999,9,-999,9,-999,9,-999,9,-999,-999,-999,9,0,28.6261,21.9438,-999,9
KS07-10,137E,KS-1969,1,21,02-16027,2,20071030,1640,24,136.9787,3957,10.3,28.6281,34.6724,2,-999,9,-999,9,200,2,1.11,2,-999,9,0,2,0,2,0,2,-999,9,-999,9,-999,9,-999,9,-999,9,-999,9,   -999.0,  9,-999,9,-999,-999,9,-999,9,-999,9,-999,9,-999,-999,-999,9,10,28.6256,21.9426,-999,9
KS07-10,137E,KS-1969,1,20,02-16026,2,20071030,1639,24,136.9787,3957,25.3,28.6292,34.6799,2,-999,9,-999,9,201,2,1.39,2,-999,9,0,2,0,2,0,2,-999,9,-999,9,-999,9,-999,9,-999,9,-999,9,   -999.0,  9,-999,9,-999,-999,9,-999,9,-999,9,-999,9,-999,-999,-999,9,25,28.6232,21.9491,-999,9
KS07-10,137E,KS-1969,1,19,02-19378,2,20071030,1635,24,136.9787,3957,48,27.294,34.8327,2,-999,9,-999,9,215,2,1.26,2,-999,9,0,2,0,2,0,2,-999,9,-999,9,-999,9,-999,9,-999,9,-999,9,   -999.0,  9,-999,9,-999,-999,9,-999,9,-999,9,-999,9,-999,-999,-999,9,48,27.2829,22.5012,-999,9
KS07-10,137E,KS-1969,1,18,02-19377,2,20071030,1634,24,136.9787,3957,74,25.4034,34.8853,2,-999,9,-999,9,221,2,1.51,2,-999,9,0,2,0,2,0,2,-999,9,-999,9,-999,9,-999,9,-999,9,-999,9,   -999.0,  9,-999,9,-999,-999,9,-999,9,-999,9,-999,9,-999,-999,-999,9,73,25.3872,23.1363,-999,9
KS07-10,137E,KS-1969,1,17,02-16023,2,20071030,1633,24,136.9787,3957,100.6,23.5426,34.9487,2,-999,9,-999,9,209,2,1.69,2,-999,9,0,2,0,2,0,2,-999,9,-999,9,-999,9,-999,9,-999,9,-999,9,   -999.0,  9,-999,9,-999,-999,9,-999,9,-999,9,-999,9,-999,-999,-999,9,100,23.5217,23.7433,-999,9
KS07-10,137E,KS-1969,1,16,02-16022,2,20071030,1632,24,136.9787,3957,125.3,22.0614,34.9372,2,-999,9,-999,9,207,2,1.72,2,-999,9,0.1,2,0.07,2,0.01,2,-999,9,-999,9,-999,9,-999,9,-999,9,-999,9,   -999.0,  9,-999,9,-999,-999,9,-999,9,-999,9,-999,9,-999,-999,-999,9,125,22.0366,24.1599,-999,9
KS07-10,137E,KS-1969,1,15,02-16021,2,20071030,1631,24,136.9787,3957,150.2,20.5019,34.8528,2,-999,9,-999,9,212,2,2.07,2,-999,9,0.49,2,0.1,2,0.03,2,-999,9,-999,9,-999,9,-999,9,-999,9,-999,9,   -999.0,  9,-999,9,-999,-999,9,-999,9,-999,9,-999,9,-999,-999,-999,9,149,20.4737,24.5238,-999,9
KS07-10,137E,KS-1969,1,14,02-16020,2,20071030,1630,24,136.9787,3957,201.3,18.9524,34.819,2,-999,9,-999,9,207,2,2.73,2,-999,9,2.73,2,0.01,2,0.15,2,-999,9,-999,9,-999,9,-999,9,-999,9,-999,9,   -999.0,  9,-999,9,-999,-999,9,-999,9,-999,9,-999,9,-999,-999,-999,9,200,18.9166,24.9041,-999,9
KS07-10,137E,KS-1969,1,13,02-16019,2,20071030,1628,24,136.9787,3957,252.8,18.1424,34.7947,2,-999,9,-999,9,208,2,3.39,2,-999,9,3.71,2,0,2,0.2,2,-999,9,-999,9,-999,9,-999,9,-999,9,-999,9,   -999.0,  9,-999,9,-999,-999,9,-999,9,-999,9,-999,9,-999,-999,-999,9,251,18.0987,25.0904,-999,9
KS07-10,137E,KS-1969,1,12,02-16018,2,20071030,1626,24,136.9787,3957,303.7,17.2294,34.7608,2,-999,9,-999,9,201,2,5.15,2,-999,9,5.75,2,0,2,0.34,2,-999,9,-999,9,-999,9,-999,9,-999,9,-999,9,   -999.0,  9,-999,9,-999,-999,9,-999,9,-999,9,-999,9,-999,-999,-999,9,302,17.1788,25.2881,-999,9
KS07-10,137E,KS-1969,1,11,02-19376,2,20071030,1624,24,136.9787,3957,403.4,15.2398,34.6147,2,-999,9,-999,9,191,2,10.33,2,-999,9,9.85,2,0,2,0.61,2,-999,9,-999,9,-999,9,-999,9,-999,9,-999,9,   -999.0,  9,-999,9,-999,-999,9,-999,9,-999,9,-999,9,-999,-999,-999,9,400,15.1779,25.6357,-999,9
KS07-10,137E,KS-1969,1,10,02-19375,2,20071030,1621,24,136.9787,3957,504.4,11.7764,34.3606,2,-999,9,-999,9,181,2,21.9,2,-999,9,16.27,2,0,2,1.08,2,-999,9,-999,9,-999,9,-999,9,-999,9,-999,9,   -999.0,  9,-999,9,-999,-999,9,-999,9,-999,9,-999,9,-999,-999,-999,9,501,11.711,26.147,-999,9
KS07-10,137E,KS-1969,1,9,02-16015,2,20071030,1618,24,136.9787,3957,605.3,8.6703,34.163,2,-999,9,-999,9,158,2,38.1,2,-999,9,23.57,2,0,2,1.64,2,-999,9,-999,9,-999,9,-999,9,-999,9,-999,9,   -999.0,  9,-999,9,-999,-999,9,-999,9,-999,9,-999,9,-999,-999,-999,9,601,8.6052,26.5246,-999,9
KS07-10,137E,KS-1969,1,8,02-16014,2,20071030,1615,24,136.9787,3957,706.8,7.0089,34.1296,2,-999,9,-999,9,128,2,57.44,2,-999,9,29.41,2,0,2,2.07,2,-999,9,-999,9,-999,9,-999,9,-999,9,-999,9,   -999.0,  9,-999,9,-999,-999,9,-999,9,-999,9,-999,9,-999,-999,-999,9,701,6.9412,26.7411,-999,9
KS07-10,137E,KS-1969,1,7,02-19374,2,20071030,1612,24,136.9787,3957,802.9,5.5022,34.1602,2,-999,9,-999,9,96,2,79.58,2,-999,9,35.15,2,0,2,2.49,2,-999,9,-999,9,-999,9,-999,9,-999,9,-999,9,   -999.0,  9,-999,9,-999,-999,9,-999,9,-999,9,-999,9,-999,-999,-999,9,796,5.4338,26.9586,-999,9
KS07-10,137E,KS-1969,1,6,02-19373,2,20071030,1610,24,136.9787,3957,911.2,4.5136,34.2442,2,-999,9,-999,9,69,2,99.4,2,-999,9,38.75,2,0,2,2.76,2,-999,9,-999,9,-999,9,-999,9,-999,9,-999,9,   -999.0,  9,-999,9,-999,-999,9,-999,9,-999,9,-999,9,-999,-999,-999,9,903, 4.4421,27.1382,-999,9
KS07-10,137E,KS-1969,1,5,02-16011,2,20071030,1607,24,136.9787,3957,1007.9,3.9011,34.3285,2,-999,9,-999,9,58,2,113.45,2,-999,9,40.59,2,0,2,2.88,2,-999,9,-999,9,-999,9,-999,9,-999,9,-999,9,   -999.0,  9,-999,9,-999,-999,9,-999,9,-999,9,-999,9,-999,-999,-999,9,999,3.8258,27.2698,-999,9
KS07-10,137E,KS-1969,1,4,02-16010,2,20071030,1601,24,136.9787,3957,1260.8,3.1364,34.4459,2,-999,9,-999,9,65,2,128.97,2,-999,9,40.78,2,0,2,2.91,2,-999,9,-999,9,-999,9,-999,9,-999,9,-999,9,   -999.0,  9,-999,9,-999,-999,9,-999,9,-999,9,-999,9,-999,-999,-999,9,1249,3.047,27.4385,-999,9
KS07-10,137E,KS-1969,1,3,02-16009,2,20071030,1556,24,136.9787,3957,1514.6,2.4674,34.5409,2,-999,9,-999,9,86,2,138.29,2,-999,9,40.29,2,0,2,2.82,2,-999,9,-999,9,-999,9,-999,9,-999,9,-999,9,   -999.0,  9,-999,9,-999,-999,9,-999,9,-999,9,-999,9,-999,-999,-999,9,1499,2.3646,27.5742,-999,9
KS07-10,137E,KS-1969,1,2,02-16008,2,20071030,1550,24,136.9787,3957,1769.1,2.1984,34.5859,2,-999,9,-999,9,103,2,139.21,2,-999,9,39.12,2,0,2,2.73,2,-999,9,-999,9,-999,9,-999,9,-999,9,-999,9,   -999.0,  9,-999,9,-999,-999,9,-999,9,-999,9,-999,9,-999,-999,-999,9,1750, 2.0784,27.6336,-999,9
KS07-10,137E,KS-1969,1,1,02-16007,2,20071030,1545,24,136.9787,3957,2032.3,1.9797,34.6132,2,-999,9,-999,9,117,2,139.53,2,-999,9,38.53,2,0,2,2.68,2,-999,9,-999,9,-999,9,-999,9,-999,9,-999,9,   -999.0,  9,-999,9,-999,-999,9,-999,9,-999,9,-999,9,-999,-999,-999,9,2010,1.8409,27.6742,-999,9