BOTTLE,20121206MIRCJHATS
EXPOCODE,SECT_ID,STNNBR,CASTNO,SAMPNO,BTLNBR,BTLNBR_FLAG_W,DATE,TIME,LATITUDE,LONGITUDE,DEPTH,CTDPRS,CTDTMP,CTDSAL,CTDSAL_FLAG_W,CTDOXY,CTDOXY_FLAG_W,SALNTY,SALNTY_FLAG_W,OXYGEN,OXYGEN_FLAG_W,SILCAT,SILCAT_FLAG_W,NITRAT,NITRAT_FLAG_W,NO2+NO3,NO2+NO3_FLAG_W,NITRIT,NITRIT_FLAG_W,PHSPHT,PHSPHT_FLAG_W,CFC-11,CFC-11_FLAG_W,CFC-12,CFC-12_FLAG_W,DELC13,DELC13_FLAG_W,TCARBN,TCARBN_FLAG_W,ALKALI,ALKALI_FLAG_W,PH,PH_FLAG_W,PH_TMP,PH_SCALE,PH_NBS,PH_NBS_FLAG_W,C13ERR,TOTALP,TOTALP_FLAG_W,AMMONI,AMMONI_FLAG_W,CHLORA,CHLORA_FLAG_W,PPHYTN,PPHYTN_FLAG_W,REVPRS,REVTMP,DEPTH,DEPTH_FLAG,CTDDEP,THETA,SIGTHT,DOC,DOC_FLAG_W
,,,,,,,GMT,GMT,,,METERS,DBAR,ITS-90,PSS-78,,UMOL/KG,,PSS-78,,UMOL/KG,,UMOL/KG,,UMOL/KG,,UMOL/KG,,UMOL/KG, ,UMOL/KG,,PMOL/KG,,PMOL/KG,,/MILLE,,UMOL/KG,,UMOL/KG,,25_DEG_C,,DEG_C,,,,/MILLE,UMOL/KG,,UMOL/KG,,UG/L,,UG/L,,DBAR,ITS-90,METERS,,METERS,DEG_C,,UMOL/L
KS07-10,137E,KS-1958,1,-9,-9,5,20071028,0659,31.9922,136.9925,4238,0,25.8491,34.5383,2,-999,9,-999,9,207,2,1.63,2,-999,9,0.1,2,0,2,0.01,2,-999,9,-999,9,-999,9,-999,9,-999,9,8.0969,6,     25.0, TS,-999,9,-999,-999,9,-999,9,0.1,2,0.07,2,-999,-999,-999,9,0,25.8488,22.732,-999,9
KS07-10,137E,KS-1958,1,21,02-16027,2,20071028,0717,31.9922,136.9925,4238,10.3,25.8444,34.5373,2,-999,9,34.5366,2,206,2,1.52,2,-999,9,0,2,0,2,0,2,-999,9,-999,9,-999,9,-999,9,-999,9,-999,9,   -999.0,  9,-999,9,-999,-999,9,-999,9,0.13,2,0.07,2,-999,-999,-999,9,10,25.8421,22.7333,-999,9
KS07-10,137E,KS-1958,1,20,02-16026,2,20071028,0716,31.9922,136.9925,4238,25.6,25.743,34.5415,2,-999,9,-999,9,206,2,1.56,2,-999,9,0,2,0,2,0,2,-999,9,-999,9,-999,9,-999,9,-999,9,-999,9,   -999.0,  9,-999,9,-999,-999,9,-999,9,0.13,2,0.08,2,-999,-999,-999,9,25,25.7373,22.7689,-999,9
KS07-10,137E,KS-1958,1,19,02-19378,2,20071028,0712,31.9922,136.9925,4238,49.7,25.6465,34.5655,2,-999,9,-999,9,207,2,1.55,2,-999,9,0,2,0,2,0.02,2,-999,9,-999,9,-999,9,-999,9,-999,9,-999,9,   -999.0,  9,-999,9,-999,-999,9,-999,9,0.16,2,0.16,2,-999,-999,-999,9,49,25.6355,22.8184,-999,9
KS07-10,137E,KS-1958,1,18,02-19377,2,20071028,0711,31.9922,136.9925,4238,75.5,24.1282,34.7053,2,-999,9,-999,9,214,2,1.65,2,-999,9,0,2,0,2,0.01,2,-999,9,-999,9,-999,9,-999,9,-999,9,-999,9,   -999.0,  9,-999,9,-999,-999,9,-999,9,0.29,2,0.24,2,-999,-999,-999,9,75,24.1123,23.385,-999,9
KS07-10,137E,KS-1958,1,17,02-16023,2,20071028,0710,31.9922,136.9925,4238,99.1,22.6741,34.8128,2,-999,9,34.8137,2,192,2,2.33,2,-999,9,1.66,2,0.04,2,0.12,2,-999,9,-999,9,-999,9,-999,9,-999,9,-999,9,   -999.0,  9,-999,9,-999,-999,9,-999,9,0.1,2,0.16,2,-999,-999,-999,9,98,22.6541,23.8908,-999,9
KS07-10,137E,KS-1958,1,16,02-16022,2,20071028,0708,31.9922,136.9925,4238,125.7,21.1467,34.8147,2,-999,9,-999,9,211,2,2,2,-999,9,0.78,2,0.09,2,0.06,2,-999,9,-999,9,-999,9,-999,9,-999,9,-999,9,   -999.0,  9,-999,9,-999,-999,9,-999,9,0.08,2,0.16,2,-999,-999,-999,9,125,21.1226,24.3195,-999,9
KS07-10,137E,KS-1958,1,15,02-16021,2,20071028,0707,31.9922,136.9925,4238,151.2,19.9834,34.8176,2,-999,9,-999,9,211,2,1.94,2,-999,9,0.78,2,0.05,2,0.06,2,-999,9,-999,9,-999,9,-999,9,-999,9,-999,9,   -999.0,  9,-999,9,-999,-999,9,-999,9,0.06,2,0.14,2,-999,-999,-999,9,150,19.9555,24.6343,-999,9
KS07-10,137E,KS-1958,1,14,02-16020,2,20071028,0706,31.9922,136.9925,4238,201.1,19.3969,34.8076,2,-999,9,34.8066,2,212,2,2.15,2,-999,9,1.76,2,0.01,2,0.11,2,-999,9,-999,9,-999,9,-999,9,-999,9,-999,9,   -999.0,  9,-999,9,-999,-999,9,-999,9,0.01,2,0.02,2,-999,-999,-999,9,200,19.3605,24.7817,-999,9
KS07-10,137E,KS-1958,1,13,02-16019,2,20071028,0703,31.9922,136.9925,4238,251.5,19.1444,34.8136,2,-999,9,-999,9,211,2,2.35,2,-999,9,1.95,2,0,2,0.12,2,-999,9,-999,9,-999,9,-999,9,-999,9,-999,9,   -999.0,  9,-999,9,-999,-999,9,-999,9,0,2,0.01,2,-999,-999,-999,9,250,19.0993,24.8534,-999,9
KS07-10,137E,KS-1958,1,12,02-16018,2,20071028,0700,31.9922,136.9925,4238,304,18.662,34.8246,2,-999,9,34.8222,2,202,2,3.14,2,-999,9,3.51,2,0,2,0.21,2,-999,9,-999,9,-999,9,-999,9,-999,9,-999,9,   -999.0,  9,-999,9,-999,-999,9,-999,9,0,2,0.01,2,-999,-999,-999,9,302,18.6084,24.9862,-999,9
KS07-10,137E,KS-1958,1,11,02-19376,2,20071028,0657,31.9922,136.9925,4238,403.2,17.3935,34.7795,2,-999,9,34.7778,2,199,2,4.67,2,-999,9,5.46,2,0,2,0.34,2,-999,9,-999,9,-999,9,-999,9,-999,9,-999,9,   -999.0,  9,-999,9,-999,-999,9,-999,9,-999,9,-999,9,-999,-999,-999,9,400,17.3257,25.2672,-999,9
KS07-10,137E,KS-1958,1,10,02-19375,2,20071028,0654,31.9922,136.9925,4238,504.5,15.7207,34.651,2,-999,9,34.6493,2,189,2,8.8,2,-999,9,8.97,2,0,2,0.58,2,-999,9,-999,9,-999,9,-999,9,-999,9,-999,9,   -999.0,  9,-999,9,-999,-999,9,-999,9,-999,9,-999,9,-999,-999,-999,9,500,15.6413,25.5604,-999,9
KS07-10,137E,KS-1958,1,9,02-16015,2,20071028,0651,31.9922,136.9925,4238,605.1,13.1855,34.4648,2,-999,9,34.4646,2,179,2,16.95,2,-999,9,13.94,2,0,2,0.93,2,-999,9,-999,9,-999,9,-999,9,-999,9,-999,9,   -999.0,  9,-999,9,-999,-999,9,-999,9,-999,9,-999,9,-999,-999,-999,9,600,13.1007,25.9581,-999,9
KS07-10,137E,KS-1958,1,8,02-16014,2,20071028,0648,31.9922,136.9925,4238,706.6,10.5237,34.293,2,-999,9,34.2927,2,165,2,29.81,2,-999,9,19.68,2,0,2,1.36,2,-999,9,-999,9,-999,9,-999,9,-999,9,-999,9,   -999.0,  9,-999,9,-999,-999,9,-999,9,-999,9,-999,9,-999,-999,-999,9,700,10.4377,26.3246,-999,9
KS07-10,137E,KS-1958,1,7,02-19374,2,20071028,0645,31.9922,136.9925,4238,804.3,7.7997,34.1507,2,-999,9,-999,4,142,2,49.33,2,-999,9,26.49,2,0,2,1.88,2,-999,9,-999,9,-999,9,-999,9,-999,9,-999,9,   -999.0,  9,-999,9,-999,-999,9,-999,9,-999,9,-999,9,-999,-999,-999,9,797, 7.7174,26.6483,-999,9
KS07-10,137E,KS-1958,1,6,02-19373,2,20071028,0642,31.9922,136.9925,4238,908.9,6.8361,34.2746,2,-999,9,34.2758,2,98,2,67.82,2,-999,9,32.23,2,0,2,2.3,2,-999,9,-999,9,-999,9,-999,9,-999,9,-999,9,   -999.0,  9,-999,9,-999,-999,9,-999,9,-999,9,-999,9,-999,-999,-999,9,901,6.7487,26.8815,-999,9
KS07-10,137E,KS-1958,1,5,02-16011,2,20071028,0640,31.9922,136.9925,4238,1009.9,5.0199,34.2239,2,-999,9,34.2261,2,78,2,90.29,2,-999,9,37,2,0,2,2.65,2,-999,9,-999,9,-999,9,-999,9,-999,9,-999,9,   -999.0,  9,-999,9,-999,-999,9,-999,9,-999,9,-999,9,-999,-999,-999,9,1000,4.936,27.0673,-999,9
KS07-10,137E,KS-1958,1,4,02-16010,2,20071028,0634,31.9922,136.9925,4238,1261.3,3.6669,34.4002,2,-999,9,34.399,2,65,2,118.71,2,-999,9,40.01,2,0,2,2.85,2,-999,9,-999,9,-999,9,-999,9,-999,9,-999,9,   -999.0,  9,-999,9,-999,-999,9,-999,9,-999,9,-999,9,-999,-999,-999,9,1249,3.5724,27.3521,-999,9
KS07-10,137E,KS-1958,1,3,02-16009,2,20071028,0628,31.9922,136.9925,4238,1517,2.8832,34.49,2,-999,9,34.4977,4,75,2,133.37,2,-999,9,40.39,2,0,2,2.85,2,-999,9,-999,9,-999,9,-999,9,-999,9,-999,9,   -999.0,  9,-999,9,-999,-999,9,-999,9,-999,9,-999,9,-999,-999,-999,9,1501,2.7755,27.4981,-999,9
KS07-10,137E,KS-1958,1,2,02-16008,2,20071028,0622,31.9922,136.9925,4238,1768,2.4414,34.5453,2,-999,9,34.5455,2,87,2,138.73,2,-999,9,39.8,2,0,2,2.81,2,-999,9,-999,9,-999,9,-999,9,-999,9,-999,9,   -999.0,  9,-999,9,-999,-999,9,-999,9,-999,9,-999,9,-999,-999,-999,9,1748,2.3183,27.5816,-999,9
KS07-10,137E,KS-1958,1,1,02-16007,2,20071028,0616,31.9922,136.9925,4238,2034.2,2.1295,34.5878,2,-999,9,34.5881,2,103,2,142.04,2,-999,9,39.02,2,0,2,2.73,2,-999,9,-999,9,-999,9,-999,9,-999,9,-999,9,   -999.0,  9,-999,9,-999,-999,9,-999,9,-999,9,-999,9,-999,-999,-999,9,2010,1.9883,27.6423,-999,9
KS07-10,137E,KS-1961,1,-9,-9,5,20071028,1729,31.003,136.9808,4347,0,25.8243,34.5402,2,-999,9,-999,9,210,2,1.53,2,-999,9,0,2,0,2,0,2,-999,9,-999,9,-999,9,-999,9,-999,9,8.1011,2,     25.0, TS,-999,9,-999,-999,9,-999,9,0.19,2,0.12,2,-999,-999,-999,9,0,25.824,22.7411,-999,9
KS07-10,137E,KS-1961,1,21,02-16027,2,20071028,1754,31.003,136.9808,4347,9.9,25.8328,34.5406,2,-999,9,-999,9,206,2,1.53,2,-999,9,0,2,0,2,0,2,-999,9,-999,9,-999,9,-999,9,-999,9,-999,9,   -999.0,  9,-999,9,-999,-999,9,-999,9,0.2,2,0.12,2,-999,-999,-999,9,10,25.8306,22.7394,-999,9
KS07-10,137E,KS-1961,1,20,02-16026,2,20071028,1750,31.003,136.9808,4347,24.8,25.84,34.54,2,-999,9,-999,9,206,2,1.47,2,-999,9,0,2,0,2,0,2,-999,9,-999,9,-999,9,-999,9,-999,9,-999,9,   -999.0,  9,-999,9,-999,-999,9,-999,9,0.17,2,0.12,2,-999,-999,-999,9,25,25.8345,22.7377,-999,9
KS07-10,137E,KS-1961,1,19,02-19378,2,20071028,1746,31.003,136.9808,4347,50,25.8445,34.5399,2,-999,9,-999,9,205,2,1.46,2,-999,9,0,2,0,2,0,2,-999,9,-999,9,-999,9,-999,9,-999,9,-999,9,   -999.0,  9,-999,9,-999,-999,9,-999,9,0.18,2,0.13,2,-999,-999,-999,9,50,25.8334,22.738,-999,9
KS07-10,137E,KS-1961,1,18,02-19377,2,20071028,1744,31.003,136.9808,4347,74.6,24.3074,34.6579,2,-999,9,-999,9,195,2,2.31,2,-999,9,1.17,2,0.1,2,0.08,2,-999,9,-999,9,-999,9,-999,9,-999,9,-999,9,   -999.0,  9,-999,9,-999,-999,9,-999,9,0.29,2,0.35,2,-999,-999,-999,9,74,24.2916,23.2959,-999,9
KS07-10,137E,KS-1961,1,17,02-16023,2,20071028,1742,31.003,136.9808,4347,99.6,22.8104,34.7937,2,-999,9,-999,9,199,2,2.34,2,-999,9,1.86,2,0.03,2,0.12,2,-999,9,-999,9,-999,9,-999,9,-999,9,-999,9,   -999.0,  9,-999,9,-999,-999,9,-999,9,0.08,2,0.12,2,-999,-999,-999,9,99,22.7902,23.8374,-999,9
KS07-10,137E,KS-1961,1,16,02-16022,2,20071028,1741,31.003,136.9808,4347,124.7,21.7417,34.8236,2,-999,9,-999,9,194,2,2.34,2,-999,9,1.86,2,0.03,2,0.12,2,-999,9,-999,9,-999,9,-999,9,-999,9,-999,9,   -999.0,  9,-999,9,-999,-999,9,-999,9,0.06,2,0.11,2,-999,-999,-999,9,124,21.7173,24.1626,-999,9
KS07-10,137E,KS-1961,1,15,02-16021,2,20071028,1739,31.003,136.9808,4347,151.2,20.7016,34.8084,2,-999,9,-999,9,190,2,3.4,2,-999,9,3.03,2,0.01,2,0.2,2,-999,9,-999,9,-999,9,-999,9,-999,9,-999,9,   -999.0,  9,-999,9,-999,-999,9,-999,9,0.02,2,0.04,2,-999,-999,-999,9,150,20.673,24.4365,-999,9
KS07-10,137E,KS-1961,1,14,02-16020,2,20071028,1737,31.003,136.9808,4347,202.3,19.4926,34.8092,2,-999,9,-999,9,196,2,3.49,2,-999,9,3.32,2,0,2,0.21,2,-999,9,-999,9,-999,9,-999,9,-999,9,-999,9,   -999.0,  9,-999,9,-999,-999,9,-999,9,0.01,2,0.02,2,-999,-999,-999,9,201,19.4559,24.7582,-999,9
KS07-10,137E,KS-1961,1,13,02-16019,2,20071028,1735,31.003,136.9808,4347,251.7,18.9771,34.8249,2,-999,9,-999,9,200,2,3.01,2,-999,9,3.22,2,0,2,0.2,2,-999,9,-999,9,-999,9,-999,9,-999,9,-999,9,   -999.0,  9,-999,9,-999,-999,9,-999,9,0,2,0.01,2,-999,-999,-999,9,250,18.9322,24.9046,-999,9
KS07-10,137E,KS-1961,1,12,02-16018,2,20071028,1733,31.003,136.9808,4347,302.6,17.9907,34.7836,2,-999,9,-999,9,192,2,5.08,2,-999,9,5.46,2,0,2,0.34,2,-999,9,-999,9,-999,9,-999,9,-999,9,-999,9,   -999.0,  9,-999,9,-999,-999,9,-999,9,0,2,0.01,2,-999,-999,-999,9,300,17.9387,25.1214,-999,9
KS07-10,137E,KS-1961,1,11,02-19376,2,20071028,1730,31.003,136.9808,4347,401.4,16.7191,34.7204,2,-999,9,-999,9,192,2,6.98,2,-999,9,7.22,2,0,2,0.46,2,-999,9,-999,9,-999,9,-999,9,-999,9,-999,9,   -999.0,  9,-999,9,-999,-999,9,-999,9,-999,9,-999,9,-999,-999,-999,9,398,16.6534,25.3814,-999,9
KS07-10,137E,KS-1961,1,10,02-19375,2,20071028,1728,31.003,136.9808,4347,503.8,14.9058,34.5867,2,-999,9,-999,9,185,2,11.07,2,-999,9,10.53,2,0,2,0.68,2,-999,9,-999,9,-999,9,-999,9,-999,9,-999,9,   -999.0,  9,-999,9,-999,-999,9,-999,9,-999,9,-999,9,-999,-999,-999,9,500,14.8294,25.6905,-999,9
KS07-10,137E,KS-1961,1,9,02-16015,2,20071028,1725,31.003,136.9808,4347,605.1,12.4975,34.4151,2,-999,9,-999,9,178,2,19.45,2,-999,9,15.11,2,0,2,1.01,2,-999,9,-999,9,-999,9,-999,9,-999,9,-999,9,   -999.0,  9,-999,9,-999,-999,9,-999,9,-999,9,-999,9,-999,-999,-999,9,600,12.4156,26.0549,-999,9
KS07-10,137E,KS-1961,1,8,02-16014,2,20071028,1722,31.003,136.9808,4347,706.6,10.04,34.2716,2,-999,9,-999,9,158,2,32.99,2,-999,9,21.14,2,0,2,1.47,2,-999,9,-999,9,-999,9,-999,9,-999,9,-999,9,   -999.0,  9,-999,9,-999,-999,9,-999,9,-999,9,-999,9,-999,-999,-999,9,701,9.9564,26.3905,-999,9
KS07-10,137E,KS-1961,1,7,02-19374,2,20071028,1719,31.003,136.9808,4347,807.2,7.9738,34.2752,2,-999,9,-999,9,120,2,56.65,2,-999,9,28.15,2,0,2,2.01,2,-999,9,-999,9,-999,9,-999,9,-999,9,-999,9,   -999.0,  9,-999,9,-999,-999,9,-999,9,-999,9,-999,9,-999,-999,-999,9,800, 7.8900,26.7209,-999,9
KS07-10,137E,KS-1961,1,6,02-19373,2,20071028,1717,31.003,136.9808,4347,907.7,6.3602,34.2263,2,-999,9,-999,9,101,2,72.73,2,-999,9,32.72,2,0,2,2.33,2,-999,9,-999,9,-999,9,-999,9,-999,9,-999,9,   -999.0,  9,-999,9,-999,-999,9,-999,9,-999,9,-999,9,-999,-999,-999,9,899, 6.2763,26.906,-999,9
KS07-10,137E,KS-1961,1,5,02-16011,2,20071028,1714,31.003,136.9808,4347,1009.4,4.9657,34.2497,2,-999,9,-999,9,77,2,93.29,2,-999,9,37.09,2,0,2,2.65,2,-999,9,-999,9,-999,9,-999,9,-999,9,-999,9,   -999.0,  9,-999,9,-999,-999,9,-999,9,-999,9,-999,9,-999,-999,-999,9,1000,4.8822,27.0938,-999,9
KS07-10,137E,KS-1961,1,4,02-16010,2,20071028,1707,31.003,136.9808,4347,1260.8,3.5294,34.4118,2,-999,9,-999,9,65,2,122.05,2,-999,9,40.2,2,0,2,2.85,2,-999,9,-999,9,-999,9,-999,9,-999,9,-999,9,   -999.0,  9,-999,9,-999,-999,9,-999,9,-999,9,-999,9,-999,-999,-999,9,1248,3.4363,27.3746,-999,9
KS07-10,137E,KS-1961,1,3,02-16009,2,20071028,1702,31.003,136.9808,4347,1514.8,2.848,34.4933,2,-999,9,-999,9,75,2,134.08,2,-999,9,40.29,2,0,2,2.85,2,-999,9,-999,9,-999,9,-999,9,-999,9,-999,9,   -999.0,  9,-999,9,-999,-999,9,-999,9,-999,9,-999,9,-999,-999,-999,9,1499,2.7409,27.5038,-999,9
KS07-10,137E,KS-1961,1,2,02-16008,2,20071028,1656,31.003,136.9808,4347,1769.2,2.4102,34.5479,2,-999,9,-999,9,86,2,139.98,2,-999,9,39.8,2,0,2,2.8,2,-999,9,-999,9,-999,9,-999,9,-999,9,-999,9,   -999.0,  9,-999,9,-999,-999,9,-999,9,-999,9,-999,9,-999,-999,-999,9,1750,2.2874,27.5863,-999,9
KS07-10,137E,KS-1961,1,1,02-16007,2,20071028,1651,31.003,136.9808,4347,2036.8,2.14,34.5868,2,-999,9,-999,9,103,2,140.94,2,-999,9,38.63,2,0,2,2.73,2,-999,9,-999,9,-999,9,-999,9,-999,9,-999,9,   -999.0,  9,-999,9,-999,-999,9,-999,9,-999,9,-999,9,-999,-999,-999,9,2013, 1.9985,27.6408,-999,9
KS07-10,137E,KS-1963,1,-9,-9,5,20071029,0200,30.0023,136.9822,4530,0,25.5226,34.5691,2,-999,9,-999,9,222,2,1.83,2,-999,9,0,2,0,2,0,2,-999,9,-999,9,-999,9,-999,9,-999,9,8.0924,2,     25.0, TS,-999,9,-999,-999,9,-999,9,0.09,2,0.06,2,-999,-999,-999,9,0,25.5223,22.8561,-999,9
KS07-10,137E,KS-1963,1,21,02-16027,2,20071029,0219,30.0023,136.9822,4530,11,25.4999,34.5681,2,-999,9,34.5668,2,210,2,1.65,2,-999,9,0,2,0,2,0,2,-999,9,-999,9,-999,9,1953.1,2,-999,9,8.0915,2,     25.0, TS,-999,9,-999,-999,9,-999,9,0.1,2,0.06,2,-999,-999,-999,9,11,25.4975,22.8629,-999,9
KS07-10,137E,KS-1963,1,20,02-16026,2,20071029,0218,30.0023,136.9822,4530,26.1,25.4598,34.566,2,-999,9,-999,9,211,2,1.8,2,-999,9,0,2,0,2,0,2,-999,9,-999,9,-999,9,1950.4,2,-999,9,8.0891,2,     25.0, TS,-999,9,-999,-999,9,-999,9,0.09,2,0.06,2,-999,-999,-999,9,26,25.4541,22.8747,-999,9
KS07-10,137E,KS-1963,1,19,02-19378,2,20071029,0213,30.0023,136.9822,4530,51.1,25.452,34.5655,2,-999,9,-999,9,209,2,1.47,2,-999,9,0,2,0,2,0,2,-999,9,-999,9,-999,9,1944.5,2,-999,9,8.0928,2,     25.0, TS,-999,9,-999,-999,9,-999,9,0.04,2,0.17,2,-999,-999,-999,9,51,25.4408,22.8784,-999,9
KS07-10,137E,KS-1963,1,18,02-19377,2,20071029,0212,30.0023,136.9822,4530,75.8,23.6023,34.7178,2,-999,9,-999,9,211,2,1.72,2,-999,9,0.29,2,0.03,2,0.02,2,-999,9,-999,9,-999,9,1971.8,2,-999,9,8.0592,2,     25.0, TS,-999,9,-999,-999,9,-999,9,0.33,2,0.37,2,-999,-999,-999,9,75,23.5866,23.5493,-999,9
KS07-10,137E,KS-1963,1,17,02-16023,2,20071029,0211,30.0023,136.9822,4530,101.1,21.7439,34.7994,2,-999,9,34.8002,2,199,2,2.46,2,-999,9,1.95,2,0.04,2,0.11,2,-999,9,-999,9,-999,9,1995.7,2,-999,9,8.0273,2,     25.0, TS,-999,9,-999,-999,9,-999,9,0.15,2,0.22,2,-999,-999,-999,9,100,21.7241,24.1423,-999,9
KS07-10,137E,KS-1963,1,16,02-16022,2,20071029,0210,30.0023,136.9822,4530,126,20.5799,34.7907,2,-999,9,-999,9,216,2,2.07,2,-999,9,0.78,2,0.16,2,0.05,2,-999,9,-999,9,-999,9,1994.6,2,-999,9,8.0296,2,     25.0, TS,-999,9,-999,-999,9,-999,9,0.07,2,0.13,2,-999,-999,-999,9,125,20.5562,24.4543,-999,9
KS07-10,137E,KS-1963,1,15,02-16021,2,20071029,0209,30.0023,136.9822,4530,152.2,19.4068,34.817,2,-999,9,-999,9,202,2,2.91,2,-999,9,2.93,2,0.01,2,0.17,2,-999,9,-999,9,-999,9,2011.7,2,-999,9,7.9989,2,     25.0, TS,-999,9,-999,-999,9,-999,9,0.01,2,0.02,2,-999,-999,-999,9,151,19.3793,24.784,-999,9
KS07-10,137E,KS-1963,1,14,02-16020,2,20071029,0207,30.0023,136.9822,4530,202.4,18.3216,34.791,2,-999,9,34.7897,2,215,2,2.79,2,-999,9,2.73,2,0.01,2,0.16,2,-999,9,-999,9,-999,9,2011.6,2,-999,9,8.0003,2,     25.0, TS,-999,9,-999,-999,9,-999,9,0.01,2,0.02,2,-999,-999,-999,9,201,18.2864,25.0411,-999,9
KS07-10,137E,KS-1963,1,13,02-16019,2,20071029,0205,30.0023,136.9822,4530,252.2,18.0494,34.79,2,-999,9,-999,9,212,2,3.26,2,-999,9,3.51,2,0.01,2,0.2,2,-999,9,-999,9,-999,9,2020,2,-999,9,7.9864,2,     25.0, TS,-999,9,-999,-999,9,-999,9,0.01,2,0.02,2,-999,-999,-999,9,250,18.006,25.1098,-999,9
KS07-10,137E,KS-1963,1,12,02-16018,2,20071029,0204,30.0023,136.9822,4530,305,17.6658,34.7792,2,-999,9,34.7791,2,207,2,3.82,2,-999,9,4.49,2,0.01,2,0.25,2,-999,9,-999,9,-999,9,2030.8,2,-999,9,7.9737,2,     25.0, TS,-999,9,-999,-999,9,-999,9,0.01,2,0,2,-999,-999,-999,9,303,17.6141,25.1973,-999,9
KS07-10,137E,KS-1963,1,11,02-19376,2,20071029,0201,30.0023,136.9822,4530,404.4,15.7586,34.6517,2,-999,9,34.6501,2,194,2,8.78,2,-999,9,8.68,2,0,2,0.54,2,-999,9,-999,9,-999,9,2056.1,2,-999,9,7.9085,2,     25.0, TS,-999,9,-999,-999,9,-999,9,-999,9,-999,9,-999,-999,-999,9,401,15.6951,25.5489,-999,9
KS07-10,137E,KS-1963,1,10,02-19375,2,20071029,0159,30.0023,136.9822,4530,505.7,13.1111,34.4625,2,-999,9,34.4651,2,185,3,17.22,2,-999,9,13.74,2,0,2,0.9,2,-999,9,-999,9,-999,9,2096.6,2,-999,9,7.8279,2,     25.0, TS,-999,9,-999,-999,9,-999,9,-999,9,-999,9,-999,-999,-999,9,502,13.0407,25.9683,-999,9
KS07-10,137E,KS-1963,1,9,02-16015,2,20071029,0156,30.0023,136.9822,4530,607.1,9.8662,34.268,2,-999,9,34.269,2,160,2,34.94,2,-999,9,21.53,2,0,2,1.48,2,-999,9,-999,9,-999,9,2155.3,2,-999,9,7.7051,2,     25.0, TS,-999,9,-999,-999,9,-999,9,-999,9,-999,9,-999,-999,-999,9,602,9.7955,26.4149,-999,9
KS07-10,137E,KS-1963,1,8,02-16014,2,20071029,0153,30.0023,136.9822,4530,707.4,7.7328,34.2021,2,-999,9,34.2031,2,131,2,54.96,2,-999,9,28.05,2,0,2,1.97,2,-999,9,-999,9,-999,9,2204.9,3,-999,9,7.6026,2,     25.0, TS,-999,9,-999,-999,9,-999,9,-999,9,-999,9,-999,-999,-999,9,701,7.6611,26.6969,-999,9
KS07-10,137E,KS-1963,1,7,02-19374,2,20071029,0151,30.0023,136.9822,4530,807.9,5.9625,34.2166,2,-999,9,34.2206,2,97,2,78.34,2,-999,9,33.98,2,0,2,2.41,2,-999,9,-999,9,-999,9,2261.2,2,-999,9,7.5047,2,     25.0, TS,-999,9,-999,-999,9,-999,9,-999,9,-999,9,-999,-999,-999,9,801,5.8908,26.9473,-999,9
KS07-10,137E,KS-1963,1,6,02-19373,2,20071029,0148,30.0023,136.9822,4530,908.8,4.8013,34.2911,2,-999,9,34.2922,2,75,2,97.59,2,-999,9,37.68,2,0,2,2.68,2,-999,9,-999,9,-999,9,2299.9,2,-999,9,7.4575,2,     25.0, TS,-999,9,-999,-999,9,-999,9,-999,9,-999,9,-999,-999,-999,9,901,4.7279,27.144,-999,9
KS07-10,137E,KS-1963,1,5,02-16011,2,20071029,0146,30.0023,136.9822,4530,1011.3,4.0329,34.3586,2,-999,9,34.3585,2,68,2,112.38,2,-999,9,39.42,2,0,2,2.8,2,-999,9,-999,9,-999,9,2321.1,2,-999,9,7.4429,2,     25.0, TS,-999,9,-999,-999,9,-999,9,-999,9,-999,9,-999,-999,-999,9,1002,3.9563,27.2804,-999,9
KS07-10,137E,KS-1963,1,4,02-16010,2,20071029,0141,30.0023,136.9822,4530,1261.2,3.0248,34.4647,2,-999,9,34.4653,2,70,2,131.62,2,-999,9,40.68,2,0,2,2.88,2,-999,9,-999,9,-999,9,2345,2,-999,9,7.4361,2,     25.0, TS,-999,9,-999,-999,9,-999,9,-999,9,-999,9,-999,-999,-999,9,1249,2.9364,27.4635,-999,9
KS07-10,137E,KS-1963,1,3,02-16009,2,20071029,0135,30.0023,136.9822,4530,1516.5,2.624,34.5196,2,-999,9,34.5208,2,82,2,137.25,2,-999,9,40.29,2,0,2,2.84,2,-999,9,-999,9,-999,9,2349.4,2,-999,9,7.4668,2,     25.0, TS,-999,9,-999,-999,9,-999,9,-999,9,-999,9,-999,-999,-999,9,1501,2.5193,27.5441,-999,9
KS07-10,137E,KS-1963,1,2,02-16008,2,20071029,0130,30.0023,136.9822,4530,1767.4,2.164,34.5691,2,-999,9,34.5688,2,87,3,147.08,2,-999,9,40.38,2,0,2,2.83,2,-999,9,-999,9,-999,9,2348.4,2,-999,9,7.47,2,     25.0, TS,-999,9,-999,-999,9,-999,9,-999,9,-999,9,-999,-999,-999,9,1748,2.0446,27.6229,-999,9
KS07-10,137E,KS-1963,1,1,02-16007,2,20071029,0125,30.0023,136.9822,4530,2031.5,1.9997,34.6021,2,-999,9,34.6025,2,107,2,143.42,2,-999,9,39.02,2,0,2,2.72,2,-999,9,-999,9,-999,9,2344.2,2,-999,9,7.5117,6,     25.0, TS,-999,9,-999,-999,9,-999,9,-999,9,-999,9,-999,-999,-999,9,2008,1.8607,27.6638,-999,9