BOTTLE,20121206MIRCJHATS
EXPOCODE,SECT_ID,STNNBR,CASTNO,SAMPNO,BTLNBR,BTLNBR_FLAG_W,DATE,TIME,LATITUDE,LONGITUDE,DEPTH,CTDPRS,CTDTMP,CTDSAL,CTDSAL_FLAG_W,CTDOXY,CTDOXY_FLAG_W,SALNTY,SALNTY_FLAG_W,OXYGEN,OXYGEN_FLAG_W,SILCAT,SILCAT_FLAG_W,NITRAT,NITRAT_FLAG_W,NO2+NO3,NO2+NO3_FLAG_W,NITRIT,NITRIT_FLAG_W,PHSPHT,PHSPHT_FLAG_W,CFC-11,CFC-11_FLAG_W,CFC-12,CFC-12_FLAG_W,DELC13,DELC13_FLAG_W,TCARBN,TCARBN_FLAG_W,ALKALI,ALKALI_FLAG_W,PH,PH_FLAG_W,PH_TMP,PH_SCALE,PH_NBS,PH_NBS_FLAG_W,C13ERR,TOTALP,TOTALP_FLAG_W,AMMONI,AMMONI_FLAG_W,CHLORA,CHLORA_FLAG_W,PPHYTN,PPHYTN_FLAG_W,REVPRS,REVTMP,DEPTH,DEPTH_FLAG,CTDDEP,THETA,SIGTHT,DOC,DOC_FLAG_W
,,,,,,,GMT,GMT,,,METERS,DBAR,ITS-90,PSS-78,,UMOL/KG,,PSS-78,,UMOL/KG,,UMOL/KG,,UMOL/KG,,UMOL/KG,,UMOL/KG, ,UMOL/KG,,PMOL/KG,,PMOL/KG,,/MILLE,,UMOL/KG,,UMOL/KG,,25_DEG_C,,DEG_C,,,,/MILLE,UMOL/KG,,UMOL/KG,,UG/L,,UG/L,,DBAR,ITS-90,METERS,,METERS,DEG_C,,UMOL/L
KS07-10,137E,KS-1972,1,-9,-9,5,20071031,1226,21.013,136.9697,4760,0,28.399,34.58,2,-999,9,-999,9,199,2,1.05,2,-999,9,0,2,0,2,0,2,-999,9,-999,9,-999,9,-999,9,-999,9,8.1185,6,     25.0, TS,-999,9,-999,-999,9,-999,9,-999,9,-999,9,-999,-999,-999,9,0,28.3987,21.9481,-999,9
KS07-10,137E,KS-1972,1,21,02-16027,2,20071031,1247,21.013,136.9697,4760,10.3,28.4083,34.5801,2,-999,9,-999,9,199,2,1.03,2,-999,9,0,2,0,2,0,2,-999,9,-999,9,-999,9,-999,9,-999,9,-999,9,   -999.0,  9,-999,9,-999,-999,9,-999,9,-999,9,-999,9,-999,-999,-999,9,10,28.4058,21.9458,-999,9
KS07-10,137E,KS-1972,1,20,02-16026,2,20071031,1241,21.013,136.9697,4760,24.8,28.4071,34.5758,2,-999,9,-999,9,199,2,1.01,2,-999,9,0,2,0,2,0,2,-999,9,-999,9,-999,9,-999,9,-999,9,-999,9,   -999.0,  9,-999,9,-999,-999,9,-999,9,-999,9,-999,9,-999,-999,-999,9,25,28.4012,21.9441,-999,9
KS07-10,137E,KS-1972,1,19,02-19378,2,20071031,1237,21.013,136.9697,4760,49.4,28.4224,34.5976,2,-999,9,-999,9,199,2,1.04,2,-999,9,0,2,0,2,0,2,-999,9,-999,9,-999,9,-999,9,-999,9,-999,9,   -999.0,  9,-999,9,-999,-999,9,-999,9,-999,9,-999,9,-999,-999,-999,9,49,28.4106,21.9574,-999,9
KS07-10,137E,KS-1972,1,18,02-19377,2,20071031,1236,21.013,136.9697,4760,76.1,24.6055,34.9343,2,-999,9,-999,9,225,2,1.22,2,-999,9,0,2,0,2,0,2,-999,9,-999,9,-999,9,-999,9,-999,9,-999,9,   -999.0,  9,-999,9,-999,-999,9,-999,9,-999,9,-999,9,-999,-999,-999,9,76,24.5892,23.4158,-999,9
KS07-10,137E,KS-1972,1,17,02-16023,2,20071031,1235,21.013,136.9697,4760,102.4,22.9807,34.9744,2,-999,9,-999,9,213,2,1.3,2,-999,9,0,2,0,2,0,2,-999,9,-999,9,-999,9,-999,9,-999,9,-999,9,   -999.0,  9,-999,9,-999,-999,9,-999,9,-999,9,-999,9,-999,-999,-999,9,102,22.9598,23.9258,-999,9
KS07-10,137E,KS-1972,1,16,02-16022,2,20071031,1234,21.013,136.9697,4760,126.4,21.2794,34.9343,2,-999,9,-999,9,206,2,1.7,2,-999,9,0,2,0,2,0.01,2,-999,9,-999,9,-999,9,-999,9,-999,9,-999,9,   -999.0,  9,-999,9,-999,-999,9,-999,9,-999,9,-999,9,-999,-999,-999,9,126,21.255,24.3743,-999,9
KS07-10,137E,KS-1972,1,15,02-16021,2,20071031,1233,21.013,136.9697,4760,152.6,19.9281,34.8882,2,-999,9,-999,9,200,2,2.15,2,-999,9,1.07,2,0.04,2,0.08,2,-999,9,-999,9,-999,9,-999,9,-999,9,-999,9,   -999.0,  9,-999,9,-999,-999,9,-999,9,-999,9,-999,9,-999,-999,-999,9,152,19.9,24.7028,-999,9
KS07-10,137E,KS-1972,1,14,02-16020,2,20071031,1231,21.013,136.9697,4760,201.5,18.3504,34.8222,2,-999,9,-999,9,200,2,3.06,2,-999,9,3.8,2,0,2,0.22,2,-999,9,-999,9,-999,9,-999,9,-999,9,-999,9,   -999.0,  9,-999,9,-999,-999,9,-999,9,-999,9,-999,9,-999,-999,-999,9,200,18.3154,25.0578,-999,9
KS07-10,137E,KS-1972,1,13,02-16019,2,20071031,1230,21.013,136.9697,4760,252.9,16.9842,34.7499,2,-999,9,-999,9,198,2,4.93,2,-999,9,6.05,2,0,2,0.36,2,-999,9,-999,9,-999,9,-999,9,-999,9,-999,9,   -999.0,  9,-999,9,-999,-999,9,-999,9,-999,9,-999,9,-999,-999,-999,9,251,16.9425,25.3359,-999,9
KS07-10,137E,KS-1972,1,12,02-16018,2,20071031,1228,21.013,136.9697,4760,305.6,15.917,34.6618,2,-999,9,-999,9,195,2,6.9,2,-999,9,7.8,2,0,2,0.48,2,-999,9,-999,9,-999,9,-999,9,-999,9,-999,9,   -999.0,  9,-999,9,-999,-999,9,-999,9,-999,9,-999,9,-999,-999,-999,9,303,15.8688,25.5173,-999,9
KS07-10,137E,KS-1972,1,11,02-19376,2,20071031,1226,21.013,136.9697,4760,406.5,12.2513,34.3656,2,-999,9,-999,9,189,2,15.8,2,-999,9,14.03,2,0,2,0.94,2,-999,9,-999,9,-999,9,-999,9,-999,9,-999,9,   -999.0,  9,-999,9,-999,-999,9,-999,9,-999,9,-999,9,-999,-999,-999,9,404,12.1974,26.0586,-999,9
KS07-10,137E,KS-1972,1,10,02-19375,2,20071031,1224,21.013,136.9697,4760,504,9.4511,34.19,2,-999,9,-999,9,164,2,30.6,2,-999,9,21.43,2,0,2,1.47,2,-999,9,-999,9,-999,9,-999,9,-999,9,-999,9,   -999.0,  9,-999,9,-999,-999,9,-999,9,-999,9,-999,9,-999,-999,-999,9,500,9.3943,26.4202,-999,9
KS07-10,137E,KS-1972,1,9,02-16015,2,20071031,1221,21.013,136.9697,4760,605.8,6.7782,34.1256,2,-999,9,-999,9,110,2,57.61,2,-999,9,31.17,2,0,2,2.21,2,-999,9,-999,9,-999,9,-999,9,-999,9,-999,9,   -999.0,  9,-999,9,-999,-999,9,-999,9,-999,9,-999,9,-999,-999,-999,9,601,6.7216,26.7677,-999,9
KS07-10,137E,KS-1972,1,8,02-16014,2,20071031,1218,21.013,136.9697,4760,708.1,5.604,34.2044,2,-999,9,-999,9,75,2,76.88,2,-999,9,36.42,2,0,2,2.61,2,-999,9,-999,9,-999,9,-999,9,-999,9,-999,9,   -999.0,  9,-999,9,-999,-999,9,-999,9,-999,9,-999,9,-999,-999,-999,9,703,5.5436,26.9804,-999,9
KS07-10,137E,KS-1972,1,7,02-19374,2,20071031,1215,21.013,136.9697,4760,807.3,4.8344,34.2961,2,-999,9,-999,9,60,2,92.48,2,-999,9,39.24,2,0,2,2.8,2,-999,9,-999,9,-999,9,-999,9,-999,9,-999,9,   -999.0,  9,-999,9,-999,-999,9,-999,9,-999,9,-999,9,-999,-999,-999,9,801,4.7696,27.1434,-999,9
KS07-10,137E,KS-1972,1,6,02-19373,2,20071031,1213,21.013,136.9697,4760,907.2,4.2081,34.3865,2,-999,9,-999,9,59,2,105.21,2,-999,9,40.01,2,0,2,2.86,2,-999,9,-999,9,-999,9,-999,9,-999,9,-999,9,   -999.0,  9,-999,9,-999,-999,9,-999,9,-999,9,-999,9,-999,-999,-999,9,900,4.1388,27.2837,-999,9
KS07-10,137E,KS-1972,1,5,02-16011,2,20071031,1210,21.013,136.9697,4760,1010.2,3.6356,34.4171,2,-999,9,-999,9,59,2,117.06,2,-999,9,40.78,2,0,2,2.9,2,-999,9,-999,9,-999,9,-999,9,-999,9,-999,9,   -999.0,  9,-999,9,-999,-999,9,-999,9,-999,9,-999,9,-999,-999,-999,9,1002,3.5621,27.3666,-999,9
KS07-10,137E,KS-1972,1,4,02-16010,2,20071031,1203,21.013,136.9697,4760,1264.4,2.8314,34.4986,2,-999,9,-999,9,68,2,133.66,2,-999,9,40.78,2,0,2,2.89,2,-999,9,-999,9,-999,9,-999,9,-999,9,-999,9,   -999.0,  9,-999,9,-999,-999,9,-999,9,-999,9,-999,9,-999,-999,-999,9,1253,2.7446,27.5077,-999,9
KS07-10,137E,KS-1972,1,3,02-16009,2,20071031,1158,21.013,136.9697,4760,1514.5,2.4679,34.5584,2,-999,9,-999,9,88,2,137.17,2,-999,9,39.41,2,0,2,2.79,2,-999,9,-999,9,-999,9,-999,9,-999,9,-999,9,   -999.0,  9,-999,9,-999,-999,9,-999,9,-999,9,-999,9,-999,-999,-999,9,1500,2.3651,27.5882,-999,9
KS07-10,137E,KS-1972,1,2,02-16008,2,20071031,1153,21.013,136.9697,4760,1768.1,2.2264,34.6041,2,-999,9,-999,9,108,2,137.08,2,-999,9,38.63,2,0,2,2.7,2,-999,9,-999,9,-999,9,-999,9,-999,9,-999,9,   -999.0,  9,-999,9,-999,-999,9,-999,9,-999,9,-999,9,-999,-999,-999,9,1750,2.106,27.646,-999,9
KS07-10,137E,KS-1972,1,1,02-16007,2,20071031,1148,21.013,136.9697,4760,2028.5,2.0095,34.6256,2,-999,9,-999,9,118,2,139.26,2,-999,9,38.24,2,0,2,2.66,2,-999,9,-999,9,-999,9,-999,9,-999,9,-999,9,   -999.0,  9,-999,9,-999,-999,9,-999,9,-999,9,-999,9,-999,-999,-999,9,2006,1.8705,27.6818,-999,9
KS07-10,137E,KS-1973,1,-9,-9,5,20071031,1925,20.0095,136.9998,4772,0,28.3901,34.4482,2,-999,9,-999,9,198,2,0.62,2,-999,9,0,2,0,2,0,2,-999,9,-999,9,-999,9,-999,9,-999,9,8.1221,2,     25.0, TS,-999,9,-999,-999,9,-999,9,0.05,2,0.03,2,-999,-999,-999,9,0,28.3898,21.852,-999,9
KS07-10,137E,KS-1973,1,21,02-16027,2,20071031,1942,20.0095,136.9998,4772,10.3,28.3958,34.4494,2,-999,9,34.4491,2,200,2,0.6,2,-999,9,0,2,0,2,0,2,-999,9,-999,9,-999,9,1913.4,2,-999,9,8.1212,2,     25.0, TS,-999,9,-999,-999,9,-999,9,0.06,2,0.03,2,-999,-999,-999,9,10,28.3933,21.8517,-999,9
KS07-10,137E,KS-1973,1,20,02-16026,2,20071031,1940,20.0095,136.9998,4772,24.9,28.3772,34.4829,2,-999,9,-999,9,203,2,0.64,2,-999,9,0,2,0,2,0,2,-999,9,-999,9,-999,9,1927.9,2,-999,9,8.1237,2,     25.0, TS,-999,9,-999,-999,9,-999,9,0.06,2,0.02,2,-999,-999,-999,9,25,28.3713,21.8842,-999,9
KS07-10,137E,KS-1973,1,19,02-19378,2,20071031,1936,20.0095,136.9998,4772,52,26.8782,34.8426,2,-999,9,-999,9,213,2,0.67,2,-999,9,0,2,0,2,0,2,-999,9,-999,9,-999,9,1953.8,2,-999,9,8.1135,2,     25.0, TS,-999,9,-999,-999,9,-999,9,0.08,2,0.04,2,-999,-999,-999,9,52,26.8663,22.6418,-999,9
KS07-10,137E,KS-1973,1,18,02-19377,2,20071031,1934,20.0095,136.9998,4772,76.2,23.1836,34.9613,2,-999,9,-999,9,221,2,0.92,2,-999,9,0,2,0,2,0,2,-999,9,-999,9,-999,9,1946.9,2,-999,9,8.0728,2,     25.0, TS,-999,9,-999,-999,9,-999,9,0.17,2,0.12,2,-999,-999,-999,9,76,23.168,23.8557,-999,9
KS07-10,137E,KS-1973,1,17,02-16023,2,20071031,1933,20.0095,136.9998,4772,101.8,21.5527,34.9267,2,-999,9,34.9269,2,211,3,1.21,2,-999,9,0,2,0,2,0,2,-999,9,-999,9,-999,9,2006.9,2,-999,9,8.0417,2,     25.0, TS,-999,9,-999,-999,9,-999,9,0.16,2,0.26,2,-999,-999,-999,9,101,21.5329,24.292,-999,9
KS07-10,137E,KS-1973,1,16,02-16022,2,20071031,1932,20.0095,136.9998,4772,126.4,20.1666,34.895,2,-999,9,-999,9,200,2,1.61,2,-999,9,0.88,2,0.07,2,0.07,2,-999,9,-999,9,-999,9,2016.4,2,-999,9,8.005,2,     25.0, TS,-999,9,-999,-999,9,-999,9,0.14,2,0.23,2,-999,-999,-999,9,126,20.1431,24.6439,-999,9
KS07-10,137E,KS-1973,1,15,02-16021,2,20071031,1931,20.0095,136.9998,4772,150.7,19.1353,34.8492,2,-999,9,-999,9,201,2,2.07,2,-999,9,2.63,2,0.02,2,0.16,2,-999,9,-999,9,-999,9,2023.5,2,-999,9,7.9904,2,     25.0, TS,-999,9,-999,-999,9,-999,9,0.07,2,0.14,2,-999,-999,-999,9,150,19.1083,24.8783,-999,9
KS07-10,137E,KS-1973,1,14,02-16020,2,20071031,1930,20.0095,136.9998,4772,202.9,18.1531,34.8154,2,-999,9,34.8155,2,200,2,2.89,2,-999,9,4.1,2,0.01,2,0.23,2,-999,9,-999,9,-999,9,2032.8,2,-999,9,7.9716,2,     25.0, TS,-999,9,-999,-999,9,-999,9,0.01,2,0.04,2,-999,-999,-999,9,202,18.1181,25.1015,-999,9
KS07-10,137E,KS-1973,1,13,02-16019,2,20071031,1928,20.0095,136.9998,4772,251.1,17.0208,34.7542,2,-999,9,-999,9,198,2,4.44,2,-999,9,5.85,2,0,2,0.35,2,-999,9,-999,9,-999,9,2046.5,2,-999,9,7.9471,2,     25.0, TS,-999,9,-999,-999,9,-999,9,0,2,0.01,2,-999,-999,-999,9,249,16.9793,25.3305,-999,9
KS07-10,137E,KS-1973,1,12,02-16018,2,20071031,1927,20.0095,136.9998,4772,302.5,15.693,34.6438,2,-999,9,34.6448,2,195,2,6.87,2,-999,9,8.09,2,0,2,0.51,2,-999,9,-999,9,-999,9,2064.3,3,-999,9,7.908,2,     25.0, TS,-999,9,-999,-999,9,-999,9,0,2,0.01,2,-999,-999,-999,9,300,15.6457,25.5539,-999,9
KS07-10,137E,KS-1973,1,11,02-19376,2,20071031,1924,20.0095,136.9998,4772,402.3,12.5098,34.3892,2,-999,9,34.3891,2,188,2,15.2,2,-999,9,13.74,2,0,2,0.91,2,-999,9,-999,9,-999,9,2096.8,2,-999,9,7.8138,2,     25.0, TS,-999,9,-999,-999,9,-999,9,-999,9,-999,9,-999,-999,-999,9,399,12.4558,26.027,-999,9
KS07-10,137E,KS-1973,1,10,02-19375,2,20071031,1922,20.0095,136.9998,4772,504,9.6389,34.1983,2,-999,9,34.1999,2,166,2,29.42,2,-999,9,20.95,2,0,2,1.44,2,-999,9,-999,9,-999,9,2147,2,-999,9,7.702,2,     25.0, TS,-999,9,-999,-999,9,-999,9,-999,9,-999,9,-999,-999,-999,9,500,9.5814,26.396,-999,9
KS07-10,137E,KS-1973,1,9,02-16015,2,20071031,1919,20.0095,136.9998,4772,603.7,6.6482,34.117,2,-999,9,34.1181,2,112,2,58.25,2,-999,9,31.46,2,0,2,2.23,2,-999,9,-999,9,-999,9,2232,2,-999,9,7.5319,2,     25.0, TS,-999,9,-999,-999,9,-999,9,-999,9,-999,9,-999,-999,-999,9,599,6.5924,26.7782,-999,9
KS07-10,137E,KS-1973,1,8,02-16014,2,20071031,1917,20.0095,136.9998,4772,706.7,5.186,34.2003,2,-999,9,34.2,2,75,2,83.7,2,-999,9,36.81,2,0,2,2.65,2,-999,9,-999,9,-999,9,2288,3,-999,9,7.4505,2,     25.0, TS,-999,9,-999,-999,9,-999,9,-999,9,-999,9,-999,-999,-999,9,701,5.128,27.0264,-999,9
KS07-10,137E,KS-1973,1,7,02-19374,2,20071031,1915,20.0095,136.9998,4772,806.1,4.4601,34.2997,2,-999,9,34.2983,2,59,2,99.03,2,-999,9,39.53,2,0,2,2.81,2,-999,9,-999,9,-999,9,2319.8,3,-999,9,7.4233,2,     25.0, TS,-999,9,-999,-999,9,-999,9,-999,9,-999,9,-999,-999,-999,9,800,4.3977,27.1871,-999,9
KS07-10,137E,KS-1973,1,6,02-19373,2,20071031,1912,20.0095,136.9998,4772,906,3.9672,34.3831,2,-999,9,34.3783,2,59,2,109.78,2,-999,9,40.4,2,0,2,2.87,2,-999,9,-999,9,-999,9,2334.7,3,-999,9,7.4216,2,     25.0, TS,-999,9,-999,-999,9,-999,9,-999,9,-999,9,-999,-999,-999,9,898,3.8997,27.3057,-999,9
KS07-10,137E,KS-1973,1,5,02-16011,2,20071031,1910,20.0095,136.9998,4772,1008.9,3.6506,34.4494,2,-999,9,34.4474,2,66,2,115.94,2,-999,9,40.39,2,0,2,2.86,2,-999,9,-999,9,-999,9,2342.3,3,-999,9,7.4405,2,     25.0, TS,-999,9,-999,-999,9,-999,9,-999,9,-999,9,-999,-999,-999,9,1000,3.577,27.3908,-999,9
KS07-10,137E,KS-1973,1,4,02-16010,2,20071031,1904,20.0095,136.9998,4772,1261.4,3.0382,34.534,2,-999,9,34.5331,2,85,2,125.29,2,-999,9,39.51,2,0,2,2.78,2,-999,9,-999,9,-999,9,2340,2,-999,9,7.4845,2,     25.0, TS,-999,9,-999,-999,9,-999,9,-999,9,-999,9,-999,-999,-999,9,1250,2.9495,27.5177,-999,9
KS07-10,137E,KS-1973,1,3,02-16009,2,20071031,1859,20.0095,136.9998,4772,1515.5,2.5509,34.5836,2,-999,9,34.5836,2,101,2,132.5,2,-999,9,38.73,2,0,2,2.72,2,-999,9,-999,9,-999,9,2343.4,2,-999,9,7.5122,2,     25.0, TS,-999,9,-999,-999,9,-999,9,-999,9,-999,9,-999,-999,-999,9,1501,2.447,27.6015,-999,9
KS07-10,137E,KS-1973,1,2,02-16008,2,20071031,1854,20.0095,136.9998,4772,1768.8,2.2683,34.6086,2,-999,9,34.6082,2,109,2,135.91,2,-999,9,38.53,2,0,2,2.69,2,-999,9,-999,9,-999,9,2342.7,6,-999,9,7.5256,2,     25.0, TS,-999,9,-999,-999,9,-999,9,-999,9,-999,9,-999,-999,-999,9,1751, 2.1473,27.6463,-999,9
KS07-10,137E,KS-1973,1,1,02-16007,2,20071031,1848,20.0095,136.9998,4772,2031.2,2.0471,34.6269,2,-999,9,34.6274,2,117,2,137.82,2,-999,9,38.24,2,0,2,2.66,2,-999,9,-999,9,-999,9,2345.5,2,-999,9,7.5379,6,     25.0, TS,-999,9,-999,-999,9,-999,9,-999,9,-999,9,-999,-999,-999,9,2009,1.9073,27.68,-999,9
KS07-10,137E,KS-1974,1,-9,-9,5,20071101,0304,19.0177,137.011,4858,0,29.3342,34.2378,2,-999,9,-999,9,200,2,0.97,2,-999,9,0,2,0,2,0,2,-999,9,-999,9,-999,9,-999,9,-999,9,8.1303,2,     25.0, TS,-999,9,-999,-999,9,-999,9,-999,9,-999,9,-999,-999,-999,9,0,29.3339,21.3802,-999,9
KS07-10,137E,KS-1974,1,21,02-16027,2,20071101,0320,19.0177,137.011,4858,10,29.3339,34.2385,2,-999,9,-999,9,199,2,0.97,2,-999,9,0,2,0,2,0,2,-999,9,-999,9,-999,9,-999,9,-999,9,-999,9,   -999.0,  9,-999,9,-999,-999,9,-999,9,-999,9,-999,9,-999,-999,-999,9,10,29.3315,21.3815,-999,9
KS07-10,137E,KS-1974,1,20,02-16026,2,20071101,0319,19.0177,137.011,4858,24.4,29.3359,34.2389,2,-999,9,-999,9,199,2,0.96,2,-999,9,0,2,0,2,0,2,-999,9,-999,9,-999,9,-999,9,-999,9,-999,9,   -999.0,  9,-999,9,-999,-999,9,-999,9,-999,9,-999,9,-999,-999,-999,9,24,29.33,21.3823,-999,9
KS07-10,137E,KS-1974,1,19,02-19378,2,20071101,0314,19.0177,137.011,4858,49.1,29.3287,34.2458,2,-999,9,-999,9,199,2,0.96,2,-999,9,0,2,0,2,0,2,-999,9,-999,9,-999,9,-999,9,-999,9,-999,9,   -999.0,  9,-999,9,-999,-999,9,-999,9,-999,9,-999,9,-999,-999,-999,9,49,29.3168,21.392,-999,9
KS07-10,137E,KS-1974,1,18,02-19377,2,20071101,0313,19.0177,137.011,4858,73.6,28.3214,34.6303,2,-999,9,-999,9,207,2,1.01,2,-999,9,0,2,0,2,0,2,-999,9,-999,9,-999,9,-999,9,-999,9,-999,9,   -999.0,  9,-999,9,-999,-999,9,-999,9,-999,9,-999,9,-999,-999,-999,9,73,28.3039,22.0171,-999,9
KS07-10,137E,KS-1974,1,17,02-16023,2,20071101,0312,19.0177,137.011,4858,99.5,26.8969,34.8015,2,-999,9,-999,9,205,2,1.06,2,-999,9,0,2,0,2,0.01,2,-999,9,-999,9,-999,9,-999,9,-999,9,-999,9,   -999.0,  9,-999,9,-999,-999,9,-999,9,-999,9,-999,9,-999,-999,-999,9,99,26.8742,22.6083,-999,9
KS07-10,137E,KS-1974,1,16,02-16022,2,20071101,0311,19.0177,137.011,4858,122.8,25.5609,34.8892,2,-999,9,-999,9,196,2,1.1,2,-999,9,0,2,0.04,2,0.02,2,-999,9,-999,9,-999,9,-999,9,-999,9,-999,9,   -999.0,  9,-999,9,-999,-999,9,-999,9,-999,9,-999,9,-999,-999,-999,9,122,25.5338,23.0942,-999,9
KS07-10,137E,KS-1974,1,15,02-16021,2,20071101,0310,19.0177,137.011,4858,150.6,23.9876,34.9557,2,-999,9,-999,9,188,2,1.37,2,-999,9,0.68,2,0.05,2,0.07,2,-999,9,-999,9,-999,9,-999,9,-999,9,-999,9,   -999.0,  9,-999,9,-999,-999,9,-999,9,-999,9,-999,9,-999,-999,-999,9,150,23.9559,23.6209,-999,9
KS07-10,137E,KS-1974,1,14,02-16020,2,20071101,0309,19.0177,137.011,4858,201.8,21.0364,34.915,2,-999,9,-999,9,196,2,1.95,2,-999,9,0.88,2,0.02,2,0.08,2,-999,9,-999,9,-999,9,-999,9,-999,9,-999,9,   -999.0,  9,-999,9,-999,-999,9,-999,9,-999,9,-999,9,-999,-999,-999,9,201,20.9977,24.4298,-999,9
KS07-10,137E,KS-1974,1,13,02-16019,2,20071101,0307,19.0177,137.011,4858,250.5,18.3285,34.8314,2,-999,9,-999,9,197,2,3.34,2,-999,9,4.19,2,0,2,0.26,2,-999,9,-999,9,-999,9,-999,9,-999,9,-999,9,   -999.0,  9,-999,9,-999,-999,9,-999,9,-999,9,-999,9,-999,-999,-999,9,249,18.2849,25.0724,-999,9
KS07-10,137E,KS-1974,1,12,02-16018,2,20071101,0306,19.0177,137.011,4858,301.6,16.9831,34.7497,2,-999,9,-999,9,199,2,5.04,2,-999,9,6.05,2,0,2,0.38,2,-999,9,-999,9,-999,9,-999,9,-999,9,-999,9,   -999.0,  9,-999,9,-999,-999,9,-999,9,-999,9,-999,9,-999,-999,-999,9,300,16.9333,25.3379,-999,9
KS07-10,137E,KS-1974,1,11,02-19376,2,20071101,0303,19.0177,137.011,4858,402.6,13.668,34.4716,2,-999,9,-999,9,193,2,12.09,2,-999,9,11.5,2,0,2,0.77,2,-999,9,-999,9,-999,9,-999,9,-999,9,-999,9,   -999.0,  9,-999,9,-999,-999,9,-999,9,-999,9,-999,9,-999,-999,-999,9,400,13.6106,25.8596,-999,9
KS07-10,137E,KS-1974,1,10,02-19375,2,20071101,0301,19.0177,137.011,4858,503.8,10.031,34.2219,2,-999,9,-999,9,172,2,26.97,2,-999,9,19.78,2,0,2,1.37,2,-999,9,-999,9,-999,9,-999,9,-999,9,-999,9,   -999.0,  9,-999,9,-999,-999,9,-999,9,-999,9,-999,9,-999,-999,-999,9,500,9.9721,26.3491,-999,9
KS07-10,137E,KS-1974,1,9,02-16015,2,20071101,0258,19.0177,137.011,4858,606,6.8662,34.1166,2,-999,9,-999,9,120,2,56.5,2,-999,9,30.29,2,0,2,2.15,2,-999,9,-999,9,-999,9,-999,9,-999,9,-999,9,   -999.0,  9,-999,9,-999,-999,9,-999,9,-999,9,-999,9,-999,-999,-999,9,601,6.8092,26.7489,-999,9
KS07-10,137E,KS-1974,1,8,02-16014,2,20071101,0256,19.0177,137.011,4858,706.5,5.5427,34.1827,2,-999,9,-999,9,82,2,77.89,2,-999,9,35.93,2,0,2,2.57,2,-999,9,-999,9,-999,9,-999,9,-999,9,-999,9,   -999.0,  9,-999,9,-999,-999,9,-999,9,-999,9,-999,9,-999,-999,-999,9,701,5.4828,26.9706,-999,9
KS07-10,137E,KS-1974,1,7,02-19374,2,20071101,0253,19.0177,137.011,4858,808.2,4.9045,34.3387,2,-999,9,-999,9,63,2,91.66,2,-999,9,38.84,2,0,2,2.78,2,-999,9,-999,9,-999,9,-999,9,-999,9,-999,9,   -999.0,  9,-999,9,-999,-999,9,-999,9,-999,9,-999,9,-999,-999,-999,9,802,4.8391,27.1693,-999,9
KS07-10,137E,KS-1974,1,6,02-19373,2,20071101,0251,19.0177,137.011,4858,909.7,4.2902,34.4229,2,-999,9,-999,9,69,2,103.41,2,-999,9,39.42,2,0,2,2.81,2,-999,9,-999,9,-999,9,-999,9,-999,9,-999,9,   -999.0,  9,-999,9,-999,-999,9,-999,9,-999,9,-999,9,-999,-999,-999,9,902,4.2201,27.304,-999,9
KS07-10,137E,KS-1974,1,5,02-16011,2,20071101,0249,19.0177,137.011,4858,1006.6,3.8886,34.4673,2,-999,9,-999,9,75,2,110.94,2,-999,9,39.42,2,0,2,2.81,2,-999,9,-999,9,-999,9,-999,9,-999,9,-999,9,   -999.0,  9,-999,9,-999,-999,9,-999,9,-999,9,-999,9,-999,-999,-999,9,998,3.8133,27.3815,-999,9
KS07-10,137E,KS-1974,1,4,02-16010,2,20071101,0243,19.0177,137.011,4858,1259.4,3.1006,34.5399,2,-999,9,-999,9,89,2,125.3,2,-999,9,39.03,2,0,2,2.76,2,-999,9,-999,9,-999,9,-999,9,-999,9,-999,9,   -999.0,  9,-999,9,-999,-999,9,-999,9,-999,9,-999,9,-999,-999,-999,9,1248,3.0115,27.5167,-999,9
KS07-10,137E,KS-1974,1,3,02-16009,2,20071101,0238,19.0177,137.011,4858,1514.3,2.6018,34.5852,2,-999,9,-999,9,103,2,131.71,2,-999,9,38.63,2,0,2,2.72,2,-999,9,-999,9,-999,9,-999,9,-999,9,-999,9,   -999.0,  9,-999,9,-999,-999,9,-999,9,-999,9,-999,9,-999,-999,-999,9,1500,2.4974,27.5985,-999,9
KS07-10,137E,KS-1974,1,2,02-16008,2,20071101,0233,19.0177,137.011,4858,1767.9,2.2736,34.609,2,-999,9,-999,9,111,2,135.84,2,-999,9,38.44,2,0,2,2.7,2,-999,9,-999,9,-999,9,-999,9,-999,9,-999,9,   -999.0,  9,-999,9,-999,-999,9,-999,9,-999,9,-999,9,-999,-999,-999,9,1750,2.1526,27.6462,-999,9
KS07-10,137E,KS-1974,1,1,02-16007,2,20071101,0228,19.0177,137.011,4858,2032.6,2.0366,34.6266,2,-999,9,-999,9,119,2,138.11,2,-999,9,38.14,2,0,2,2.67,2,-999,9,-999,9,-999,9,-999,9,-999,9,-999,9,   -999.0,  9,-999,9,-999,-999,9,-999,9,-999,9,-999,9,-999,-999,-999,9,2011, 1.8969,27.6806,-999,9