BOTTLE,20121206MIRCJHATS
EXPOCODE,SECT_ID,STNNBR,CASTNO,SAMPNO,BTLNBR,BTLNBR_FLAG_W,DATE,TIME,LATITUDE,LONGITUDE,DEPTH,CTDPRS,CTDTMP,CTDSAL,CTDSAL_FLAG_W,CTDOXY,CTDOXY_FLAG_W,SALNTY,SALNTY_FLAG_W,OXYGEN,OXYGEN_FLAG_W,SILCAT,SILCAT_FLAG_W,NITRAT,NITRAT_FLAG_W,NO2+NO3,NO2+NO3_FLAG_W,NITRIT,NITRIT_FLAG_W,PHSPHT,PHSPHT_FLAG_W,CFC-11,CFC-11_FLAG_W,CFC-12,CFC-12_FLAG_W,DELC13,DELC13_FLAG_W,TCARBN,TCARBN_FLAG_W,ALKALI,ALKALI_FLAG_W,PH,PH_FLAG_W,PH_TMP,PH_SCALE,PH_NBS,PH_NBS_FLAG_W,C13ERR,TOTALP,TOTALP_FLAG_W,AMMONI,AMMONI_FLAG_W,CHLORA,CHLORA_FLAG_W,PPHYTN,PPHYTN_FLAG_W,REVPRS,REVTMP,DEPTH,DEPTH_FLAG,CTDDEP,THETA,SIGTHT,DOC,DOC_FLAG_W
,,,,,,,GMT,GMT,,,METERS,DBAR,ITS-90,PSS-78,,UMOL/KG,,PSS-78,,UMOL/KG,,UMOL/KG,,UMOL/KG,,UMOL/KG,,UMOL/KG, ,UMOL/KG,,PMOL/KG,,PMOL/KG,,/MILLE,,UMOL/KG,,UMOL/KG,,25_DEG_C,,DEG_C,,,,/MILLE,UMOL/KG,,UMOL/KG,,UG/L,,UG/L,,DBAR,ITS-90,METERS,,METERS,DEG_C,,UMOL/L
KS07-10,137E,KS-1990,1,-9,-9,5,20071105,0627,2.9948,137.0132,4521,0,30.1535,34.0063,2,-999,9,-999,9,200,2,1.11,2,-999,9,0,2,0,2,0.02,2,-999,9,-999,9,-999,9,-999,9,-999,9,8.1414,2,     25.0, TS,-999,9,-999,-999,9,-999,9,0.12,2,0.05,2,-999,-999,-999,9,0,30.1532,20.9292,-999,9
KS07-10,137E,KS-1990,1,21,02-16027,2,20071105,0650,2.9948,137.0132,4521,10,30.157,34.0049,2,-999,9,34.0042,2,201,2,1.1,2,-999,9,0,2,0,2,0.02,2,-999,9,-999,9,-999,9,-999,9,-999,9,-999,9,   -999.0,  9,-999,9,-999,-999,9,-999,9,0.1,2,0.05,2,-999,-999,-999,9,10,30.1545,20.9277,-999,9
KS07-10,137E,KS-1990,1,20,02-16026,2,20071105,0649,2.9948,137.0132,4521,25,30.0986,34.1085,2,-999,9,-999,9,202,2,1.29,2,-999,9,0,2,0,2,0.03,2,-999,9,-999,9,-999,9,-999,9,-999,9,-999,9,   -999.0,  9,-999,9,-999,-999,9,-999,9,0.11,2,0.06,2,-999,-999,-999,9,25,30.0924,21.0265,-999,9
KS07-10,137E,KS-1990,1,19,02-19378,2,20071105,0645,2.9948,137.0132,4521,50.4,29.31,34.3621,2,-999,9,-999,9,199,2,1.17,2,-999,9,0,2,0,2,0.06,2,-999,9,-999,9,-999,9,-999,9,-999,9,-999,9,   -999.0,  9,-999,9,-999,-999,9,-999,9,0.26,2,0.21,2,-999,-999,-999,9,50,29.2977,21.4856,-999,9
KS07-10,137E,KS-1990,1,18,02-19377,2,20071105,0644,2.9948,137.0132,4521,75.2,28.859,34.5899,2,-999,9,-999,9,194,2,1.22,2,-999,9,0,2,0,2,0.1,2,-999,9,-999,9,-999,9,-999,9,-999,9,-999,9,   -999.0,  9,-999,9,-999,-999,9,-999,9,0.39,2,0.34,2,-999,-999,-999,9,75,28.8409,21.8092,-999,9
KS07-10,137E,KS-1990,1,17,02-16023,2,20071105,0642,2.9948,137.0132,4521,101.1,27.9954,34.7986,2,-999,9,34.8015,2,185,2,1.31,2,-999,9,0.39,2,0.32,2,0.18,2,-999,9,-999,9,-999,9,-999,9,-999,9,-999,9,   -999.0,  9,-999,9,-999,-999,9,-999,9,0.18,2,0.25,2,-999,-999,-999,9,101,27.9716,22.2524,-999,9
KS07-10,137E,KS-1990,1,16,02-16022,2,20071105,0641,2.9948,137.0132,4521,125.3,25.4065,35.1628,2,-999,9,-999,9,146,2,2.81,2,-999,9,6.84,2,0.09,2,0.53,2,-999,9,-999,9,-999,9,-999,9,-999,9,-999,9,   -999.0,  9,-999,9,-999,-999,9,-999,9,0.05,2,0.2,2,-999,-999,-999,9,125,25.379,23.3484,-999,9
KS07-10,137E,KS-1990,1,15,02-16021,2,20071105,0640,2.9948,137.0132,4521,151.5,22.091,35.1103,2,-999,9,-999,9,143,2,5.15,2,-999,9,8.59,2,0.02,2,0.63,2,-999,9,-999,9,-999,9,-999,9,-999,9,-999,9,   -999.0,  9,-999,9,-999,-999,9,-999,9,0.06,2,0.09,2,-999,-999,-999,9,151,22.0609,24.2846,-999,9
KS07-10,137E,KS-1990,1,14,02-16020,2,20071105,0638,2.9948,137.0132,4521,200.8,20.2321,35.2945,2,-999,9,35.2918,2,142,2,5.08,2,-999,9,9.95,2,0.01,2,0.74,2,-999,9,-999,9,-999,9,-999,9,-999,9,-999,9,   -999.0,  9,-999,9,-999,-999,9,-999,9,0.02,2,0.04,2,-999,-999,-999,9,200,20.1946,24.9348,-999,9
KS07-10,137E,KS-1990,1,13,02-16019,2,20071105,0636,2.9948,137.0132,4521,251.3,14.8986,34.6607,2,-999,9,-999,9,136,2,15.82,2,-999,9,16.09,2,0,2,1.13,2,-999,9,-999,9,-999,9,-999,9,-999,9,-999,9,   -999.0,  9,-999,9,-999,-999,9,-999,9,0.01,2,0.03,2,-999,-999,-999,9,250,14.8608,25.7408,-999,9
KS07-10,137E,KS-1990,1,12,02-16018,2,20071105,0634,2.9948,137.0132,4521,303.6,10.8585,34.5308,2,-999,9,34.5299,2,100,2,30.07,2,-999,9,26.3,2,0,2,1.85,2,-999,9,-999,9,-999,9,-999,9,-999,9,-999,9,   -999.0,  9,-999,9,-999,-999,9,-999,9,0,2,0.02,2,-999,-999,-999,9,302,10.8214,26.4422,-999,9
KS07-10,137E,KS-1990,1,11,02-19376,2,20071105,0632,2.9948,137.0132,4521,403.2,8.3921,34.5702,2,-999,9,34.5687,2,90,2,41.08,2,-999,9,32.14,2,0,2,2.24,2,-999,9,-999,9,-999,9,-999,9,-999,9,-999,9,   -999.0,  9,-999,9,-999,-999,9,-999,9,-999,9,-999,9,-999,-999,-999,9,401,8.3498,26.8834,-999,9
KS07-10,137E,KS-1990,1,10,02-19375,2,20071105,0629,2.9948,137.0132,4521,503.6,7.3594,34.5611,2,-999,9,34.5595,2,101,2,42.08,2,-999,9,33.2,2,0,2,2.31,2,-999,9,-999,9,-999,9,-999,9,-999,9,-999,9,   -999.0,  9,-999,9,-999,-999,9,-999,9,-999,9,-999,9,-999,-999,-999,9,500,7.3102,27.0296,-999,9
KS07-10,137E,KS-1990,1,9,02-16015,2,20071105,0626,2.9948,137.0132,4521,604.6,6.8265,34.5492,2,-999,9,34.5474,2,109,2,44.15,2,-999,9,33.78,2,0,2,2.35,2,-999,9,-999,9,-999,9,-999,9,-999,9,-999,9,   -999.0,  9,-999,9,-999,-999,9,-999,9,-999,9,-999,9,-999,-999,-999,9,600,6.7694,27.0952,-999,9
KS07-10,137E,KS-1990,1,8,02-16014,2,20071105,0623,2.9948,137.0132,4521,705.6,6.2498,34.5346,2,-999,9,34.5341,2,109,2,52.16,2,-999,9,34.66,2,0,2,2.42,2,-999,9,-999,9,-999,9,-999,9,-999,9,-999,9,   -999.0,  9,-999,9,-999,-999,9,-999,9,-999,9,-999,9,-999,-999,-999,9,700,6.1858,27.1611,-999,9
KS07-10,137E,KS-1990,1,7,02-19374,2,20071105,0620,2.9948,137.0132,4521,806.4,5.4942,34.5389,2,-999,9,34.5378,2,100,2,67.4,2,-999,9,36.41,2,0,2,2.56,2,-999,9,-999,9,-999,9,-999,9,-999,9,-999,9,   -999.0,  9,-999,9,-999,-999,9,-999,9,-999,9,-999,9,-999,-999,-999,9,800, 5.4251,27.2595,-999,9
KS07-10,137E,KS-1990,1,6,02-19373,2,20071105,0617,2.9948,137.0132,4521,907.5,4.8377,34.5514,2,-999,9,34.5499,2,98,2,81.17,2,-999,9,37.28,2,0,2,2.65,2,-999,9,-999,9,-999,9,-999,9,-999,9,-999,9,   -999.0,  9,-999,9,-999,-999,9,-999,9,-999,9,-999,9,-999,-999,-999,9,901, 4.7638,27.3466,-999,9
KS07-10,137E,KS-1990,1,5,02-16011,2,20071105,0614,2.9948,137.0132,4521,1008.8,4.3469,34.5603,2,-999,9,34.5585,2,96,2,90.2,2,-999,9,38.35,2,0,2,2.7,2,-999,9,-999,9,-999,9,-999,9,-999,9,-999,9,   -999.0,  9,-999,9,-999,-999,9,-999,9,-999,9,-999,9,-999,-999,-999,9,1001,4.2677,27.4081,-999,9
KS07-10,137E,KS-1990,1,4,02-16010,2,20071105,0609,2.9948,137.0132,4521,1261.1,3.5343,34.5828,2,-999,9,34.5811,2,97,2,106.84,2,-999,9,38.93,2,0,2,2.75,2,-999,9,-999,9,-999,9,-999,9,-999,9,-999,9,   -999.0,  9,-999,9,-999,-999,9,-999,9,-999,9,-999,9,-999,-999,-999,9,1250, 3.4408,27.5105,-999,9
KS07-10,137E,KS-1990,1,3,02-16009,2,20071105,0603,2.9948,137.0132,4521,1514,3.1192,34.5971,2,-999,9,34.5962,2,101,2,115.6,2,-999,9,38.93,2,0,2,2.74,2,-999,9,-999,9,-999,9,-999,9,-999,9,-999,9,   -999.0,  9,-999,9,-999,-999,9,-999,9,-999,9,-999,9,-999,-999,-999,9,1500, 3.0088,27.5627,-999,9
KS07-10,137E,KS-1990,1,2,02-16008,2,20071105,0558,2.9948,137.0132,4521,1767.3,2.6543,34.616,2,-999,9,34.616,2,110,2,124.9,2,-999,9,38.73,2,0,2,2.72,2,-999,9,-999,9,-999,9,-999,9,-999,9,-999,9,   -999.0,  9,-999,9,-999,-999,9,-999,9,-999,9,-999,9,-999,-999,-999,9,1750,2.5282,27.6204,-999,9
KS07-10,137E,KS-1990,1,1,02-16007,2,20071105,0553,2.9948,137.0132,4521,2031,2.3067,34.6326,2,-999,9,34.6323,2,117,2,131.54,2,-999,9,38.44,2,0,2,2.68,2,-999,9,-999,9,-999,9,-999,9,-999,9,-999,9,   -999.0,  9,-999,9,-999,-999,9,-999,9,-999,9,-999,9,-999,-999,-999,9,2010,2.1629,27.6643,-999,9
KS07-10,NONE,KS-1994,1,13,02-16019,2,20071117,1137,31.049,131.7357,1444,10.3,24.7677,34.6157,2,-999,9,34.6152,2,-999,9,-999,9,-999,9,-999,9,-999,9,-999,9,-999,9,-999,9,-999,9,-999,9,-999,9,-999,9,   -999.0,  9,-999,9,-999,-999,9,-999,9,-999,9,-999,9,-999,-999,-999,9,10,24.7655,23.1218,-999,9
KS07-10,NONE,KS-1994,1,12,02-16018,2,20071117,1130,31.049,131.7357,1444,99.8,24.7969,34.6109,2,-999,9,34.6147,2,-999,9,-999,9,-999,9,-999,9,-999,9,-999,9,-999,9,-999,9,-999,9,-999,9,-999,9,-999,9,   -999.0,  9,-999,9,-999,-999,9,-999,9,-999,9,-999,9,-999,-999,-999,9,99,24.7754,23.1151,-999,9
KS07-10,NONE,KS-1994,1,11,02-19376,2,20071117,1128,31.049,131.7357,1444,200.9,18.9137,34.7792,2,-999,9,34.7808,2,-999,9,-999,9,-999,9,-999,9,-999,9,-999,9,-999,9,-999,9,-999,9,-999,9,-999,9,-999,9,   -999.0,  9,-999,9,-999,-999,9,-999,9,-999,9,-999,9,-999,-999,-999,9,199,18.878,24.8834,-999,9
KS07-10,NONE,KS-1994,1,10,02-19375,2,20071117,1126,31.049,131.7357,1444,302.8,15.4418,34.6293,2,-999,9,34.629,2,-999,9,-999,9,-999,9,-999,9,-999,9,-999,9,-999,9,-999,9,-999,9,-999,9,-999,9,-999,9,   -999.0,  9,-999,9,-999,-999,9,-999,9,-999,9,-999,9,-999,-999,-999,9,300,15.395,25.5989,-999,9
KS07-10,NONE,KS-1994,1,9,02-16015,2,20071117,1124,31.049,131.7357,1444,403.5,11.4019,34.3848,2,-999,9,34.384,2,-999,9,-999,9,-999,9,-999,9,-999,9,-999,9,-999,9,-999,9,-999,9,-999,9,-999,9,-999,9,   -999.0,  9,-999,9,-999,-999,9,-999,9,-999,9,-999,9,-999,-999,-999,9,400,11.3509,26.2326,-999,9
KS07-10,NONE,KS-1994,1,8,02-16014,2,20071117,1121,31.049,131.7357,1444,504.3,9.4557,34.3486,2,-999,9,34.3487,2,-999,9,-999,9,-999,9,-999,9,-999,9,-999,9,-999,9,-999,9,-999,9,-999,9,-999,9,-999,9,   -999.0,  9,-999,9,-999,-999,9,-999,9,-999,9,-999,9,-999,-999,-999,9,500,9.3987,26.5436,-999,9
KS07-10,NONE,KS-1994,1,7,02-19374,2,20071117,1118,31.049,131.7357,1444,606.6,6.5862,34.2686,2,-999,9,34.269,2,-999,9,-999,9,-999,9,-999,9,-999,9,-999,9,-999,9,-999,9,-999,9,-999,9,-999,9,-999,9,   -999.0,  9,-999,9,-999,-999,9,-999,9,-999,9,-999,9,-999,-999,-999,9,602,6.5303,26.9061,-999,9
KS07-10,NONE,KS-1994,1,6,02-19373,2,20071117,1116,31.049,131.7357,1444,708.2,5.1816,34.2487,2,-999,9,34.2489,2,-999,9,-999,9,-999,9,-999,9,-999,9,-999,9,-999,9,-999,9,-999,9,-999,9,-999,9,-999,9,   -999.0,  9,-999,9,-999,-999,9,-999,9,-999,9,-999,9,-999,-999,-999,9,702,5.1234,27.0653,-999,9
KS07-10,NONE,KS-1994,1,5,02-16011,2,20071117,1113,31.049,131.7357,1444,808.6,4.4182,34.3348,2,-999,9,34.3348,2,-999,9,-999,9,-999,9,-999,9,-999,9,-999,9,-999,9,-999,9,-999,9,-999,9,-999,9,-999,9,   -999.0,  9,-999,9,-999,-999,9,-999,9,-999,9,-999,9,-999,-999,-999,9,801,4.3558,27.2195,-999,9
KS07-10,NONE,KS-1994,1,4,02-16010,4,20071117,1110,31.049,131.7357,1444,910.3,3.8342,34.3921,2,-999,9,34.3936,4,-999,9,-999,9,-999,9,-999,9,-999,9,-999,9,-999,9,-999,9,-999,9,-999,9,-999,9,-999,9,   -999.0,  9,-999,9,-999,-999,9,-999,9,-999,9,-999,9,-999,-999,-999,9,902,3.7673,27.3263,-999,9
KS07-10,NONE,KS-1994,1,3,02-16009,2,20071117,1107,31.049,131.7357,1444,1010.8,3.4572,34.4313,2,-999,9,34.4323,2,-999,9,-999,9,-999,9,-999,9,-999,9,-999,9,-999,9,-999,9,-999,9,-999,9,-999,9,-999,9,   -999.0,  9,-999,9,-999,-999,9,-999,9,-999,9,-999,9,-999,-999,-999,9,1001,3.385,27.3951,-999,9
KS07-10,NONE,KS-1994,1,2,02-16008,2,20071117,1102,31.049,131.7357,1444,1260.4,2.9735,34.4801,2,-999,9,34.4815,2,-999,9,-999,9,-999,9,-999,9,-999,9,-999,9,-999,9,-999,9,-999,9,-999,9,-999,9,-999,9,   -999.0,  9,-999,9,-999,-999,9,-999,9,-999,9,-999,9,-999,-999,-999,9,1248,2.8857,27.4804,-999,9
KS07-10,NONE,KS-1994,1,1,02-16007,2,20071117,1100,31.049,131.7357,1444,1318.2,2.8801,34.4904,2,-999,9,34.4922,2,-999,9,-999,9,-999,9,-999,9,-999,9,-999,9,-999,9,-999,9,-999,9,-999,9,-999,9,-999,9,   -999.0,  9,-999,9,-999,-999,9,-999,9,-999,9,-999,9,-999,-999,-999,9,1305,2.7886,27.4973,-999,9
KS07-10,NONE,KS-1998,1,15,02-16021,2,20071118,0359,29.9277,132.9645,3938,11.7,24.4218,34.6089,2,-999,9,34.608,2,-999,9,-999,9,-999,9,-999,9,-999,9,-999,9,-999,9,-999,9,-999,9,-999,9,-999,9,-999,9,   -999.0,  9,-999,9,-999,-999,9,-999,9,-999,9,-999,9,-999,-999,-999,9,12,24.4193,23.2207,-999,9
KS07-10,NONE,KS-1998,1,14,02-16020,2,20071118,0353,29.9277,132.9645,3938,98.9,20.37,34.8071,2,-999,9,34.807,2,-999,9,-999,9,-999,9,-999,9,-999,9,-999,9,-999,9,-999,9,-999,9,-999,9,-999,9,-999,9,   -999.0,  9,-999,9,-999,-999,9,-999,9,-999,9,-999,9,-999,-999,-999,9,98,20.3515,24.5215,-999,9
KS07-10,NONE,KS-1998,1,13,02-16019,2,20071118,0350,29.9277,132.9645,3938,201.2,17.8319,34.7787,2,-999,9,34.7785,2,-999,9,-999,9,-999,9,-999,9,-999,9,-999,9,-999,9,-999,9,-999,9,-999,9,-999,9,-999,9,   -999.0,  9,-999,9,-999,-999,9,-999,9,-999,9,-999,9,-999,-999,-999,9,200,17.7976,25.1522,-999,9
KS07-10,NONE,KS-1998,1,12,02-16018,2,20071118,0347,29.9277,132.9645,3938,302,15.909,34.6636,2,-999,9,34.6636,2,-999,9,-999,9,-999,9,-999,9,-999,9,-999,9,-999,9,-999,9,-999,9,-999,9,-999,9,-999,9,   -999.0,  9,-999,9,-999,-999,9,-999,9,-999,9,-999,9,-999,-999,-999,9,300,15.8614,25.5204,-999,9
KS07-10,NONE,KS-1998,1,11,02-19376,2,20071118,0344,29.9277,132.9645,3938,404.8,13.0879,34.4629,2,-999,9,34.4662,2,-999,9,-999,9,-999,9,-999,9,-999,9,-999,9,-999,9,-999,9,-999,9,-999,9,-999,9,-999,9,   -999.0,  9,-999,9,-999,-999,9,-999,9,-999,9,-999,9,-999,-999,-999,9,402,13.0318,25.9704,-999,9
KS07-10,NONE,KS-1998,1,10,02-19375,2,20071118,0341,29.9277,132.9645,3938,507.4,9.7958,34.2763,2,-999,9,34.2774,2,-999,9,-999,9,-999,9,-999,9,-999,9,-999,9,-999,9,-999,9,-999,9,-999,9,-999,9,-999,9,   -999.0,  9,-999,9,-999,-999,9,-999,9,-999,9,-999,9,-999,-999,-999,9,503,9.7373,26.4311,-999,9
KS07-10,NONE,KS-1998,1,9,02-16015,2,20071118,0337,29.9277,132.9645,3938,606.5,7.7685,34.2124,2,-999,9,34.2104,2,-999,9,-999,9,-999,9,-999,9,-999,9,-999,9,-999,9,-999,9,-999,9,-999,9,-999,9,-999,9,   -999.0,  9,-999,9,-999,-999,9,-999,9,-999,9,-999,9,-999,-999,-999,9,601,7.7073,26.6983,-999,9
KS07-10,NONE,KS-1998,1,8,02-16014,2,20071118,0334,29.9277,132.9645,3938,709.8,6.096,34.2318,2,-999,9,34.2321,2,-999,9,-999,9,-999,9,-999,9,-999,9,-999,9,-999,9,-999,9,-999,9,-999,9,-999,9,-999,9,   -999.0,  9,-999,9,-999,-999,9,-999,9,-999,9,-999,9,-999,-999,-999,9,704,6.0327,26.9414,-999,9
KS07-10,NONE,KS-1998,1,7,02-19374,2,20071118,0330,29.9277,132.9645,3938,810.5,4.9913,34.2711,2,-999,9,34.2698,2,-999,9,-999,9,-999,9,-999,9,-999,9,-999,9,-999,9,-999,9,-999,9,-999,9,-999,9,-999,9,   -999.0,  9,-999,9,-999,-999,9,-999,9,-999,9,-999,9,-999,-999,-999,9,803,4.9252,27.1059,-999,9
KS07-10,NONE,KS-1998,1,6,02-19373,2,20071118,0327,29.9277,132.9645,3938,909.9,4.1632,34.3347,2,-999,9,34.3353,2,-999,9,-999,9,-999,9,-999,9,-999,9,-999,9,-999,9,-999,9,-999,9,-999,9,-999,9,-999,9,   -999.0,  9,-999,9,-999,-999,9,-999,9,-999,9,-999,9,-999,-999,-999,9,902,4.0941,27.2472,-999,9
KS07-10,NONE,KS-1998,1,5,02-16011,2,20071118,0324,29.9277,132.9645,3938,1011.2,3.6531,34.3887,2,-999,9,34.39,2,-999,9,-999,9,-999,9,-999,9,-999,9,-999,9,-999,9,-999,9,-999,9,-999,9,-999,9,-999,9,   -999.0,  9,-999,9,-999,-999,9,-999,9,-999,9,-999,9,-999,-999,-999,9,1002,3.5794,27.3422,-999,9
KS07-10,NONE,KS-1998,1,4,02-16010,2,20071118,0319,29.9277,132.9645,3938,1261.3,3.0342,34.4691,2,-999,9,34.4695,2,-999,9,-999,9,-999,9,-999,9,-999,9,-999,9,-999,9,-999,9,-999,9,-999,9,-999,9,-999,9,   -999.0,  9,-999,9,-999,-999,9,-999,9,-999,9,-999,9,-999,-999,-999,9,1249,2.9457,27.4662,-999,9
KS07-10,NONE,KS-1998,1,3,02-16009,2,20071118,0313,29.9277,132.9645,3938,1514.6,2.5442,34.5292,2,-999,9,34.5297,2,-999,9,-999,9,-999,9,-999,9,-999,9,-999,9,-999,9,-999,9,-999,9,-999,9,-999,9,-999,9,   -999.0,  9,-999,9,-999,-999,9,-999,9,-999,9,-999,9,-999,-999,-999,9,1499, 2.4406,27.5585,-999,9
KS07-10,NONE,KS-1998,1,2,02-16008,2,20071118,0309,29.9277,132.9645,3938,1767.7,2.1671,34.5786,2,-999,9,34.5799,2,-999,9,-999,9,-999,9,-999,9,-999,9,-999,9,-999,9,-999,9,-999,9,-999,9,-999,9,-999,9,   -999.0,  9,-999,9,-999,-999,9,-999,9,-999,9,-999,9,-999,-999,-999,9,1748,2.0476,27.6303,-999,9
KS07-10,NONE,KS-1998,1,1,02-16007,2,20071118,0304,29.9277,132.9645,3938,2027.6,1.9394,34.6112,2,-999,9,34.6125,2,-999,9,-999,9,-999,9,-999,9,-999,9,-999,9,-999,9,-999,9,-999,9,-999,9,-999,9,-999,9,   -999.0,  9,-999,9,-999,-999,9,-999,9,-999,9,-999,9,-999,-999,-999,9,2004,1.8016,27.6756,-999,9