BOTTLE,20130510GEMDJMAYT
EXPOCODE,SECT_ID,STNNBR,CASTNO,SAMPNO,BTLNBR,BTLNBR_FLAG_W,DATE,TIME,LATITUDE,LONGITUDE,DEPTH,CTDPRS,CTDTMP,CTDSAL,CTDSAL_FLAG_W,CTDOXY,CTDOXY_FLAG_W,SALNTY,SALNTY_FLAG_W,OXYGEN,OXYGEN_FLAG_W,SILCAT,SILCAT_FLAG_W,NITRAT,NITRAT_FLAG_W,NO2+NO3,NO2+NO3_FLAG_W,NITRIT,NITRIT_FLAG_W,PHSPHT,PHSPHT_FLAG_W,CFC-11,CFC-11_FLAG_W,CFC-12,CFC-12_FLAG_W,DELC13,DELC13_FLAG_W,TCARBN,TCARBN_FLAG_W,ALKALI,ALKALI_FLAG_W,PH,PH_FLAG_W,PH_TMP,PH_SCALE,PH_NBS,PH_NBS_FLAG_W,C13ERR,TOTALP,TOTALP_FLAG_W,AMMONI,AMMONI_FLAG_W,CHLORA,CHLORA_FLAG_W,PPHYTN,PPHYTN_FLAG_W,REVPRS,REVTMP,DEPTH_,DEPTH_FLAG,CTDDEP,THETA,SIGTHT,DOC,DOC_FLAG_W
,,,,,,,GMT,GMT,,,METER,DBAR,ITS-90,PSS-78,,UMOL/KG,,PSS-78,,UMOL/KG,,UMOL/KG,,UMOL/KG,,UMOL/KG,,UMOL/KG,,UMOL/KG,,PMOL/KG,,PMOL/KG,,/MILLE,,UMOL/KG,,UMOL/KG,,25_DEG_C,,DEG_C,,,,/MILLE,UMOL/KG,,UMOL/KG,,UG/L,,UG/L,,DBAR,ITS-90,METERS,,METERS,DEG_C,,UMOL/L,
       KS08-01,  165E,KS-2049,  1,     -9,      -9,5,20080126,1628, 22.9940, 165.0125, 5805,      0.0,  25.5350,  35.2118,2,   -999.0,9,-999.0000,9,    208.0,2,     0.93,2,  -999.00,9,     0.00,2,     0.00,2,     0.00,2, -999.000,9, -999.000,9,  -999.00,9,   -999.0,9,   -999.0,9,-999.0000,9,   -999.0,  9,  -999.00,9,   -999.0,  -999.00,9,  -999.00,9,     0.06,2,     0.03,2,   -999.0,-999.0000, -999,9,    0,  25.5349,  23.3374,   -999.0,9
       KS08-01,  165E,KS-2049,  1,     21,02-16027,2,20080126,1644, 22.9940, 165.0125, 5805,     10.9,  25.5413,  35.2116,2,   -999.0,9,  35.2113,2,    207.0,2,     0.96,2,  -999.00,9,     0.00,2,     0.00,2,     0.00,2, -999.000,9, -999.000,9,  -999.00,9,   -999.0,9,   -999.0,9,-999.0000,9,   -999.0,  9,  -999.00,9,   -999.0,  -999.00,9,  -999.00,9,     0.06,2,     0.02,2,   -999.0,-999.0000, -999,9,   11,  25.5389,  23.3361,   -999.0,9
       KS08-01,  165E,KS-2049,  1,     20,02-16026,2,20080126,1643, 22.9940, 165.0125, 5805,     25.1,  25.5412,  35.2115,2,   -999.0,9,-999.0000,9,    207.0,2,     0.94,2,  -999.00,9,     0.00,2,     0.00,2,     0.00,2, -999.000,9, -999.000,9,  -999.00,9,   -999.0,9,   -999.0,9,-999.0000,9,   -999.0,  9,  -999.00,9,   -999.0,  -999.00,9,  -999.00,9,     0.06,2,     0.02,2,   -999.0,-999.0000, -999,9,   25,  25.5357,  23.3370,   -999.0,9
       KS08-01,  165E,KS-2049,  1,     19,02-19378,2,20080126,1640, 22.9940, 165.0125, 5805,     49.1,  25.5525,  35.2113,2,   -999.0,9,-999.0000,9,    207.0,2,     0.97,2,  -999.00,9,     0.00,2,     0.00,2,     0.00,2, -999.000,9, -999.000,9,  -999.00,9,   -999.0,9,   -999.0,9,-999.0000,9,   -999.0,  9,  -999.00,9,   -999.0,  -999.00,9,  -999.00,9,     0.06,2,     0.02,2,   -999.0,-999.0000, -999,9,   49,  25.5417,  23.3350,   -999.0,9
       KS08-01,  165E,KS-2049,  1,     18,02-19377,2,20080126,1639, 22.9940, 165.0125, 5805,     73.7,  25.5580,  35.2106,2,   -999.0,9,-999.0000,9,    207.0,2,     0.95,2,  -999.00,9,     0.00,2,     0.00,2,     0.00,2, -999.000,9, -999.000,9,  -999.00,9,   -999.0,9,   -999.0,9,-999.0000,9,   -999.0,  9,  -999.00,9,   -999.0,  -999.00,9,  -999.00,9,     0.06,2,     0.02,2,   -999.0,-999.0000, -999,9,   73,  25.5418,  23.3344,   -999.0,9
       KS08-01,  165E,KS-2049,  1,     17,02-16023,2,20080126,1638, 22.9940, 165.0125, 5805,    100.1,  23.4616,  35.1048,2,   -999.0,9,  35.0886,4,    219.0,2,     1.35,2,  -999.00,9,     0.00,2,     0.00,2,     0.00,2, -999.000,9, -999.000,9,  -999.00,9,   -999.0,9,   -999.0,9,-999.0000,9,   -999.0,  9,  -999.00,9,   -999.0,  -999.00,9,  -999.00,9,     0.13,2,     0.09,2,   -999.0,-999.0000, -999,9,   99,  23.4409,  23.8852,   -999.0,9
       KS08-01,  165E,KS-2049,  1,     16,02-16022,2,20080126,1637, 22.9940, 165.0125, 5805,    126.0,  20.6728,  34.9583,2,   -999.0,9,-999.0000,9,    210.0,2,     1.85,2,  -999.00,9,     0.10,2,     0.06,2,     0.04,2, -999.000,9, -999.000,9,  -999.00,9,   -999.0,9,   -999.0,9,-999.0000,9,   -999.0,  9,  -999.00,9,   -999.0,  -999.00,9,  -999.00,9,     0.16,2,     0.29,2,   -999.0,-999.0000, -999,9,  125,  20.6490,  24.5571,   -999.0,9
       KS08-01,  165E,KS-2049,  1,     15,02-16021,2,20080126,1635, 22.9940, 165.0125, 5805,    150.1,  19.2795,  34.8959,2,   -999.0,9,-999.0000,9,    194.0,2,     2.58,2,  -999.00,9,     2.34,2,     0.01,2,     0.18,2, -999.000,9, -999.000,9,  -999.00,9,   -999.0,9,   -999.0,9,-999.0000,9,   -999.0,  9,  -999.00,9,   -999.0,  -999.00,9,  -999.00,9,     0.05,2,     0.13,2,   -999.0,-999.0000, -999,9,  149,  19.2525,  24.8769,   -999.0,9
       KS08-01,  165E,KS-2049,  1,     14,02-16020,2,20080126,1634, 22.9940, 165.0125, 5805,    204.2,  17.2037,  34.7519,2,   -999.0,9,  34.7526,2,    191.0,2,     3.98,2,  -999.00,9,     4.88,2,     0.00,2,     0.30,2, -999.000,9, -999.000,9,  -999.00,9,   -999.0,9,   -999.0,9,-999.0000,9,   -999.0,  9,  -999.00,9,   -999.0,  -999.00,9,  -999.00,9,     0.00,2,     0.01,2,   -999.0,-999.0000, -999,9,  203,  17.1698,  25.2834,   -999.0,9
       KS08-01,  165E,KS-2049,  1,     13,02-16019,2,20080126,1632, 22.9940, 165.0125, 5805,    251.3,  16.0165,  34.6638,2,   -999.0,9,-999.0000,9,    199.0,2,     6.13,2,  -999.00,9,     7.12,2,     0.00,2,     0.45,2, -999.000,9, -999.000,9,  -999.00,9,   -999.0,9,   -999.0,9,-999.0000,9,   -999.0,  9,  -999.00,9,   -999.0,  -999.00,9,  -999.00,9,     0.00,2,     0.00,2,   -999.0,-999.0000, -999,9,  250,  15.9767,  25.4943,   -999.0,9
       KS08-01,  165E,KS-2049,  1,     12,02-16018,2,20080126,1631, 22.9940, 165.0125, 5805,    302.0,  14.4709,  34.5325,2,   -999.0,9,-999.0000,9,    205.0,2,     8.92,2,  -999.00,9,     8.87,2,     0.00,2,     0.58,2, -999.000,9, -999.000,9,  -999.00,9,   -999.0,9,   -999.0,9,-999.0000,9,   -999.0,  9,  -999.00,9,   -999.0,  -999.00,9,  -999.00,9,     0.00,2,     0.00,2,   -999.0,-999.0000, -999,9,  300,  14.4263,  25.7356,   -999.0,9
       KS08-01,  165E,KS-2049,  1,     11,02-19376,2,20080126,1628, 22.9940, 165.0125, 5805,    402.7,  11.8028,  34.3261,2,   -999.0,9,  34.3240,2,    199.0,2,    16.15,2,  -999.00,9,    13.94,2,     0.00,2,     0.94,2, -999.000,9, -999.000,9,  -999.00,9,   -999.0,9,   -999.0,9,-999.0000,9,   -999.0,  9,  -999.00,9,   -999.0,  -999.00,9,  -999.00,9,  -999.00,9,  -999.00,9,   -999.0,-999.0000, -999,9,  400,  11.7508,  26.1127,   -999.0,9
       KS08-01,  165E,KS-2049,  1,     10,02-19375,2,20080126,1626, 22.9940, 165.0125, 5805,    504.1,   8.8200,  34.1267,2,   -999.0,9,  34.1289,2,    172.0,2,    32.01,2,  -999.00,9,    21.92,2,     0.00,2,     1.51,2, -999.000,9, -999.000,9,  -999.00,9,   -999.0,9,   -999.0,9,-999.0000,9,   -999.0,  9,  -999.00,9,   -999.0,  -999.00,9,  -999.00,9,  -999.00,9,  -999.00,9,   -999.0,-999.0000, -999,9,  500,   8.7656,  26.4712,   -999.0,9
       KS08-01,  165E,KS-2049,  1,      9,02-16015,2,20080126,1623, 22.9940, 165.0125, 5805,    605.0,   6.5769,  34.0549,2,   -999.0,9,-999.0000,9,    127.0,2,    55.44,2,  -999.00,9,    30.10,2,     0.00,2,     2.13,2, -999.000,9, -999.000,9,  -999.00,9,   -999.0,9,   -999.0,9,-999.0000,9,   -999.0,  9,  -999.00,9,   -999.0,  -999.00,9,  -999.00,9,  -999.00,9,  -999.00,9,   -999.0,-999.0000, -999,9,  600,   6.5214,  26.7386,   -999.0,9
       KS08-01,  165E,KS-2049,  1,      8,02-16014,2,20080126,1621, 22.9940, 165.0125, 5805,    703.9,   5.3277,  34.1630,2,   -999.0,9,  34.1663,2,     67.0,2,    80.22,2,  -999.00,9,    37.59,2,     0.00,2,     2.70,2, -999.000,9, -999.000,9,  -999.00,9,   -999.0,9,   -999.0,9,-999.0000,9,   -999.0,  9,  -999.00,9,   -999.0,  -999.00,9,  -999.00,9,  -999.00,9,  -999.00,9,   -999.0,-999.0000, -999,9,  698,   5.2692,  26.9804,   -999.0,9
       KS08-01,  165E,KS-2049,  1,      7,02-19374,2,20080126,1618, 22.9940, 165.0125, 5805,    805.4,   4.8207,  34.2817,2,   -999.0,9,  34.2817,2,     49.0,2,    91.80,2,  -999.00,9,    40.01,2,     0.00,2,     2.88,2, -999.000,9, -999.000,9,  -999.00,9,   -999.0,9,   -999.0,9,-999.0000,9,   -999.0,  9,  -999.00,9,   -999.0,  -999.00,9,  -999.00,9,  -999.00,9,  -999.00,9,   -999.0,-999.0000, -999,9,  799,   4.7561,  27.1334,   -999.0,9
       KS08-01,  165E,KS-2049,  1,      6,02-19373,2,20080126,1616, 22.9940, 165.0125, 5805,    907.2,   4.3824,  34.3579,2,   -999.0,9,  34.3602,2,     49.0,2,   100.92,2,  -999.00,9,    40.89,2,     0.00,2,     2.94,2, -999.000,9, -999.000,9,  -999.00,9,   -999.0,9,   -999.0,9,-999.0000,9,   -999.0,  9,  -999.00,9,   -999.0,  -999.00,9,  -999.00,9,  -999.00,9,  -999.00,9,   -999.0,-999.0000, -999,9,  900,   4.3119,  27.2426,   -999.0,9
       KS08-01,  165E,KS-2049,  1,      5,02-16011,2,20080126,1613, 22.9940, 165.0125, 5805,   1008.2,   4.1493,  34.4490,2,   -999.0,9,  34.4483,2,     56.0,2,   105.44,2,  -999.00,9,    40.78,2,     0.00,2,     2.92,2, -999.000,9, -999.000,9,  -999.00,9,   -999.0,9,   -999.0,9,-999.0000,9,   -999.0,  9,  -999.00,9,   -999.0,  -999.00,9,  -999.00,9,  -999.00,9,  -999.00,9,   -999.0,-999.0000, -999,9,  999,   4.0719,  27.3404,   -999.0,9
       KS08-01,  165E,KS-2049,  1,      4,02-16010,2,20080126,1608, 22.9940, 165.0125, 5805,   1264.8,   3.1930,  34.5098,2,   -999.0,9,  34.5096,2,     68.0,2,   125.27,2,  -999.00,9,    40.68,2,     0.00,2,     2.89,2, -999.000,9, -999.000,9,  -999.00,9,   -999.0,9,   -999.0,9,-999.0000,9,   -999.0,  9,  -999.00,9,   -999.0,  -999.00,9,  -999.00,9,  -999.00,9,  -999.00,9,   -999.0,-999.0000, -999,9, 1253,   3.1026,  27.4843,   -999.0,9
       KS08-01,  165E,KS-2049,  1,      3,02-16009,2,20080126,1603, 22.9940, 165.0125, 5805,   1517.4,   2.6532,  34.5605,2,   -999.0,9,  34.5610,2,     81.0,2,   134.90,2,  -999.00,9,    40.39,2,     0.00,2,     2.83,2, -999.000,9, -999.000,9,  -999.00,9,   -999.0,9,   -999.0,9,-999.0000,9,   -999.0,  9,  -999.00,9,   -999.0,  -999.00,9,  -999.00,9,  -999.00,9,  -999.00,9,   -999.0,-999.0000, -999,9, 1502,   2.5480,  27.5743,   -999.0,9
       KS08-01,  165E,KS-2049,  1,      2,02-16008,2,20080126,1558, 22.9940, 165.0125, 5805,   1768.7,   2.2558,  34.5924,2,   -999.0,9,  34.5931,2,     93.0,2,   141.97,2,  -999.00,9,    39.70,2,     0.00,2,     2.79,2, -999.000,9, -999.000,9,  -999.00,9,   -999.0,9,   -999.0,9,-999.0000,9,   -999.0,  9,  -999.00,9,   -999.0,  -999.00,9,  -999.00,9,  -999.00,9,  -999.00,9,   -999.0,-999.0000, -999,9, 1750,   2.1350,  27.6343,   -999.0,9
       KS08-01,  165E,KS-2049,  1,      1,02-16007,2,20080126,1552, 22.9940, 165.0125, 5805,   2032.8,   1.9702,  34.6203,2,   -999.0,9,  34.6211,2,    104.0,2,   146.49,2,  -999.00,9,    39.02,2,     0.00,2,     2.73,2, -999.000,9, -999.000,9,  -999.00,9,   -999.0,9,   -999.0,9,-999.0000,9,   -999.0,  9,  -999.00,9,   -999.0,  -999.00,9,  -999.00,9,  -999.00,9,  -999.00,9,   -999.0,-999.0000, -999,9, 2010,   1.8315,  27.6806,   -999.0,9