BOTTLE,20130510GEMDJMAYT
EXPOCODE,SECT_ID,STNNBR,CASTNO,SAMPNO,BTLNBR,BTLNBR_FLAG_W,DATE,TIME,LATITUDE,LONGITUDE,DEPTH,CTDPRS,CTDTMP,CTDSAL,CTDSAL_FLAG_W,CTDOXY,CTDOXY_FLAG_W,SALNTY,SALNTY_FLAG_W,OXYGEN,OXYGEN_FLAG_W,SILCAT,SILCAT_FLAG_W,NITRAT,NITRAT_FLAG_W,NO2+NO3,NO2+NO3_FLAG_W,NITRIT,NITRIT_FLAG_W,PHSPHT,PHSPHT_FLAG_W,CFC-11,CFC-11_FLAG_W,CFC-12,CFC-12_FLAG_W,DELC13,DELC13_FLAG_W,TCARBN,TCARBN_FLAG_W,ALKALI,ALKALI_FLAG_W,PH,PH_FLAG_W,PH_TMP,PH_SCALE,PH_NBS,PH_NBS_FLAG_W,C13ERR,TOTALP,TOTALP_FLAG_W,AMMONI,AMMONI_FLAG_W,CHLORA,CHLORA_FLAG_W,PPHYTN,PPHYTN_FLAG_W,REVPRS,REVTMP,DEPTH_,DEPTH_FLAG,CTDDEP,THETA,SIGTHT,DOC,DOC_FLAG_W
,,,,,,,GMT,GMT,,,METER,DBAR,ITS-90,PSS-78,,UMOL/KG,,PSS-78,,UMOL/KG,,UMOL/KG,,UMOL/KG,,UMOL/KG,,UMOL/KG,,UMOL/KG,,PMOL/KG,,PMOL/KG,,/MILLE,,UMOL/KG,,UMOL/KG,,25_DEG_C,,DEG_C,,,,/MILLE,UMOL/KG,,UMOL/KG,,UG/L,,UG/L,,DBAR,ITS-90,METERS,,METERS,DEG_C,,UMOL/L,
       KS08-01,  165E,KS-2054,  1,     -9,      -9,5,20080127,2313, 17.9998, 164.9923, 5425,      0.0,  27.0390,  35.0261,2,   -999.0,9,-999.0000,9,    203.0,2,     0.74,2,  -999.00,9,     0.00,2,     0.00,2,     0.01,2, -999.000,9, -999.000,9,  -999.00,9,   -999.0,9,   -999.0,9,-999.0000,9,   -999.0,  9,  -999.00,9,   -999.0,  -999.00,9,  -999.00,9,     0.04,2,     0.01,2,   -999.0,-999.0000, -999,9,    0,  27.0388,  22.7250,   -999.0,9
       KS08-01,  165E,KS-2054,  1,     21,02-16027,2,20080127,2331, 17.9998, 164.9923, 5425,     10.3,  27.0370,  35.0255,2,   -999.0,9,  35.0248,2,    203.0,2,     0.77,2,  -999.00,9,     0.00,2,     0.00,2,     0.01,2, -999.000,9, -999.000,9,  -999.00,9,   -999.0,9,   -999.0,9,-999.0000,9,   -999.0,  9,  -999.00,9,   -999.0,  -999.00,9,  -999.00,9,     0.03,2,     0.01,2,   -999.0,-999.0000, -999,9,   10,  27.0346,  22.7259,   -999.0,9
       KS08-01,  165E,KS-2054,  1,     20,02-16026,2,20080127,2329, 17.9998, 164.9923, 5425,     24.7,  26.9956,  35.0411,2,   -999.0,9,-999.0000,9,    205.0,2,     0.75,2,  -999.00,9,     0.00,2,     0.00,2,     0.01,2, -999.000,9, -999.000,9,  -999.00,9,   -999.0,9,   -999.0,9,-999.0000,9,   -999.0,  9,  -999.00,9,   -999.0,  -999.00,9,  -999.00,9,     0.04,2,     0.01,2,   -999.0,-999.0000, -999,9,   25,  26.9899,  22.7519,   -999.0,9
       KS08-01,  165E,KS-2054,  1,     19,02-19378,2,20080127,2325, 17.9998, 164.9923, 5425,     50.8,  26.9778,  35.0466,2,   -999.0,9,-999.0000,9,    203.0,2,     0.78,2,  -999.00,9,     0.00,2,     0.00,2,     0.01,2, -999.000,9, -999.000,9,  -999.00,9,   -999.0,9,   -999.0,9,-999.0000,9,   -999.0,  9,  -999.00,9,   -999.0,  -999.00,9,  -999.00,9,     0.05,2,     0.01,2,   -999.0,-999.0000, -999,9,   50,  26.9662,  22.7636,   -999.0,9
       KS08-01,  165E,KS-2054,  1,     18,02-19377,2,20080127,2324, 17.9998, 164.9923, 5425,     76.3,  26.9519,  35.0478,2,   -999.0,9,-999.0000,9,    203.0,2,     0.75,2,  -999.00,9,     0.00,2,     0.00,2,     0.01,2, -999.000,9, -999.000,9,  -999.00,9,   -999.0,9,   -999.0,9,-999.0000,9,   -999.0,  9,  -999.00,9,   -999.0,  -999.00,9,  -999.00,9,     0.05,2,     0.02,2,   -999.0,-999.0000, -999,9,   76,  26.9344,  22.7747,   -999.0,9
       KS08-01,  165E,KS-2054,  1,     17,02-16023,2,20080127,2323, 17.9998, 164.9923, 5425,     99.7,  26.9088,  35.0446,2,   -999.0,9,  35.0429,2,    204.0,2,     0.73,2,  -999.00,9,     0.00,2,     0.00,2,     0.01,2, -999.000,9, -999.000,9,  -999.00,9,   -999.0,9,   -999.0,9,-999.0000,9,   -999.0,  9,  -999.00,9,   -999.0,  -999.00,9,  -999.00,9,     0.09,2,     0.03,2,   -999.0,-999.0000, -999,9,   99,  26.8860,  22.7877,   -999.0,9
       KS08-01,  165E,KS-2054,  1,     16,02-16022,2,20080127,2322, 17.9998, 164.9923, 5425,    124.1,  26.7516,  35.0730,2,   -999.0,9,-999.0000,9,    203.0,2,     0.76,2,  -999.00,9,     0.00,2,     0.00,2,     0.01,2, -999.000,9, -999.000,9,  -999.00,9,   -999.0,9,   -999.0,9,-999.0000,9,   -999.0,  9,  -999.00,9,   -999.0,  -999.00,9,  -999.00,9,     0.12,2,     0.07,2,   -999.0,-999.0000, -999,9,  123,  26.7233,  22.8608,   -999.0,9
       KS08-01,  165E,KS-2054,  1,     15,02-16021,2,20080127,2321, 17.9998, 164.9923, 5425,    150.9,  24.5151,  35.1955,2,   -999.0,9,-999.0000,9,    196.0,2,     0.95,2,  -999.00,9,     0.20,2,     0.11,2,     0.04,2, -999.000,9, -999.000,9,  -999.00,9,   -999.0,9,   -999.0,9,-999.0000,9,   -999.0,  9,  -999.00,9,   -999.0,  -999.00,9,  -999.00,9,     0.16,2,     0.24,2,   -999.0,-999.0000, -999,9,  150,  24.4828,  23.6453,   -999.0,9
       KS08-01,  165E,KS-2054,  1,     14,02-16020,2,20080127,2320, 17.9998, 164.9923, 5425,    200.8,  20.9883,  35.0311,2,   -999.0,9,  35.0322,2,    187.0,2,     1.88,2,  -999.00,9,     1.76,2,     0.01,2,     0.14,2, -999.000,9, -999.000,9,  -999.00,9,   -999.0,9,   -999.0,9,-999.0000,9,   -999.0,  9,  -999.00,9,   -999.0,  -999.00,9,  -999.00,9,     0.02,2,     0.03,2,   -999.0,-999.0000, -999,9,  199,  20.9499,  24.5312,   -999.0,9
       KS08-01,  165E,KS-2054,  1,     13,02-16019,2,20080127,2318, 17.9998, 164.9923, 5425,    251.4,  17.8683,  34.7947,2,   -999.0,9,-999.0000,9,    195.0,2,     3.56,2,  -999.00,9,     4.49,2,     0.00,2,     0.28,2, -999.000,9, -999.000,9,  -999.00,9,   -999.0,9,   -999.0,9,-999.0000,9,   -999.0,  9,  -999.00,9,   -999.0,  -999.00,9,  -999.00,9,     0.00,2,     0.01,2,   -999.0,-999.0000, -999,9,  250,  17.8253,  25.1577,   -999.0,9
       KS08-01,  165E,KS-2054,  1,     12,02-16018,2,20080127,2317, 17.9998, 164.9923, 5425,    301.0,  15.9096,  34.6258,2,   -999.0,9,-999.0000,9,    193.0,2,     6.08,2,  -999.00,9,     7.31,2,     0.00,2,     0.48,2, -999.000,9, -999.000,9,  -999.00,9,   -999.0,9,   -999.0,9,-999.0000,9,   -999.0,  9,  -999.00,9,   -999.0,  -999.00,9,  -999.00,9,     0.00,2,     0.01,2,   -999.0,-999.0000, -999,9,  299,  15.8621,  25.4911,   -999.0,9
       KS08-01,  165E,KS-2054,  1,     11,02-19376,2,20080127,2314, 17.9998, 164.9923, 5425,    402.3,  11.6724,  34.2827,2,   -999.0,9,  34.2830,2,    178.0,2,    16.39,2,  -999.00,9,    15.40,2,     0.00,2,     1.06,2, -999.000,9, -999.000,9,  -999.00,9,   -999.0,9,   -999.0,9,-999.0000,9,   -999.0,  9,  -999.00,9,   -999.0,  -999.00,9,  -999.00,9,  -999.00,9,  -999.00,9,   -999.0,-999.0000, -999,9,  400,  11.6208,  26.1033,   -999.0,9
       KS08-01,  165E,KS-2054,  1,     10,02-19375,2,20080127,2312, 17.9998, 164.9923, 5425,    504.2,   8.5934,  34.1428,2,   -999.0,9,  34.1425,2,    138.0,2,    36.07,2,  -999.00,9,    25.23,2,     0.00,2,     1.78,2, -999.000,9, -999.000,9,  -999.00,9,   -999.0,9,   -999.0,9,-999.0000,9,   -999.0,  9,  -999.00,9,   -999.0,  -999.00,9,  -999.00,9,  -999.00,9,  -999.00,9,   -999.0,-999.0000, -999,9,  501,   8.5398,  26.5190,   -999.0,9
       KS08-01,  165E,KS-2054,  1,      9,02-16015,2,20080127,2309, 17.9998, 164.9923, 5425,    606.3,   6.4512,  34.1584,2,   -999.0,9,  34.1635,4,     80.0,2,    62.31,2,  -999.00,9,    34.28,2,     0.00,2,     2.48,2, -999.000,9, -999.000,9,  -999.00,9,   -999.0,9,   -999.0,9,-999.0000,9,   -999.0,  9,  -999.00,9,   -999.0,  -999.00,9,  -999.00,9,  -999.00,9,  -999.00,9,   -999.0,-999.0000, -999,9,  602,   6.3960,  26.8368,   -999.0,9
       KS08-01,  165E,KS-2054,  1,      8,02-16014,2,20080127,2307, 17.9998, 164.9923, 5425,    706.8,   5.3851,  34.2866,2,   -999.0,9,  34.2867,2,     55.0,2,    81.46,2,  -999.00,9,    38.75,2,     0.00,2,     2.80,2, -999.000,9, -999.000,9,  -999.00,9,   -999.0,9,   -999.0,9,-999.0000,9,   -999.0,  9,  -999.00,9,   -999.0,  -999.00,9,  -999.00,9,  -999.00,9,  -999.00,9,   -999.0,-999.0000, -999,9,  701,   5.3259,  27.0716,   -999.0,9
       KS08-01,  165E,KS-2054,  1,      7,02-19374,2,20080127,2305, 17.9998, 164.9923, 5425,    808.1,   4.9017,  34.4011,2,   -999.0,9,  34.4000,2,     56.0,2,    90.53,2,  -999.00,9,    39.72,2,     0.00,2,     2.85,2, -999.000,9, -999.000,9,  -999.00,9,   -999.0,9,   -999.0,9,-999.0000,9,   -999.0,  9,  -999.00,9,   -999.0,  -999.00,9,  -999.00,9,  -999.00,9,  -999.00,9,   -999.0,-999.0000, -999,9,  802,   4.8362,  27.2192,   -999.0,9
       KS08-01,  165E,KS-2054,  1,      6,02-19373,2,20080127,2302, 17.9998, 164.9923, 5425,    910.8,   4.4408,  34.4639,2,   -999.0,9,  34.4632,2,     61.0,2,    98.91,2,  -999.00,9,    40.10,2,     0.00,2,     2.87,2, -999.000,9, -999.000,9,  -999.00,9,   -999.0,9,   -999.0,9,-999.0000,9,   -999.0,  9,  -999.00,9,   -999.0,  -999.00,9,  -999.00,9,  -999.00,9,  -999.00,9,   -999.0,-999.0000, -999,9,  903,   4.3695,  27.3206,   -999.0,9
       KS08-01,  165E,KS-2054,  1,      5,02-16011,2,20080127,2300, 17.9998, 164.9923, 5425,   1008.1,   4.1321,  34.4972,2,   -999.0,9,  34.4965,2,     66.0,2,   104.33,2,  -999.00,9,    40.30,2,     0.00,2,     2.87,2, -999.000,9, -999.000,9,  -999.00,9,   -999.0,9,   -999.0,9,-999.0000,9,   -999.0,  9,  -999.00,9,   -999.0,  -999.00,9,  -999.00,9,  -999.00,9,  -999.00,9,   -999.0,-999.0000, -999,9, 1000,   4.0548,  27.3805,   -999.0,9
       KS08-01,  165E,KS-2054,  1,      4,02-16010,2,20080127,2254, 17.9998, 164.9923, 5425,   1261.2,   3.3408,  34.5525,2,   -999.0,9,  34.5524,2,     80.0,2,   118.97,2,  -999.00,9,    39.81,2,     0.00,2,     2.83,2, -999.000,9, -999.000,9,  -999.00,9,   -999.0,9,   -999.0,9,-999.0000,9,   -999.0,  9,  -999.00,9,   -999.0,  -999.00,9,  -999.00,9,  -999.00,9,  -999.00,9,   -999.0,-999.0000, -999,9, 1250,   3.2492,  27.5047,   -999.0,9
       KS08-01,  165E,KS-2054,  1,      3,02-16009,2,20080127,2249, 17.9998, 164.9923, 5425,   1514.0,   2.7716,  34.5803,2,   -999.0,9,-999.0000,9,     87.0,2,   130.04,2,  -999.00,9,    40.19,2,     0.00,2,     2.82,2, -999.000,9, -999.000,9,  -999.00,9,   -999.0,9,   -999.0,9,-999.0000,9,   -999.0,  9,  -999.00,9,   -999.0,  -999.00,9,  -999.00,9,  -999.00,9,  -999.00,9,   -999.0,-999.0000, -999,9, 1500,   2.6652,  27.5800,   -999.0,9
       KS08-01,  165E,KS-2054,  1,      2,02-16008,2,20080127,2243, 17.9998, 164.9923, 5425,   1768.3,   2.3614,  34.6054,2,   -999.0,9,  34.6059,2,     96.0,2,   138.59,2,  -999.00,9,    39.61,2,     0.00,2,     2.78,2, -999.000,9, -999.000,9,  -999.00,9,   -999.0,9,   -999.0,9,-999.0000,9,   -999.0,  9,  -999.00,9,   -999.0,  -999.00,9,  -999.00,9,  -999.00,9,  -999.00,9,   -999.0,-999.0000, -999,9, 1750,   2.2392,  27.6363,   -999.0,9
       KS08-01,  165E,KS-2054,  1,      1,02-16007,2,20080127,2238, 17.9998, 164.9923, 5425,   2032.2,   2.1091,  34.6234,2,   -999.0,9,  34.6241,2,    104.0,2,   143.06,2,  -999.00,9,    39.31,2,     0.00,2,     2.74,2, -999.000,9, -999.000,9,  -999.00,9,   -999.0,9,   -999.0,9,-999.0000,9,   -999.0,  9,  -999.00,9,   -999.0,  -999.00,9,  -999.00,9,  -999.00,9,  -999.00,9,   -999.0,-999.0000, -999,9, 2010,   1.9683,  27.6725,   -999.0,9