BOTTLE,20130510GEMDJMAYT
EXPOCODE,SECT_ID,STNNBR,CASTNO,SAMPNO,BTLNBR,BTLNBR_FLAG_W,DATE,TIME,LATITUDE,LONGITUDE,DEPTH,CTDPRS,CTDTMP,CTDSAL,CTDSAL_FLAG_W,CTDOXY,CTDOXY_FLAG_W,SALNTY,SALNTY_FLAG_W,OXYGEN,OXYGEN_FLAG_W,SILCAT,SILCAT_FLAG_W,NITRAT,NITRAT_FLAG_W,NO2+NO3,NO2+NO3_FLAG_W,NITRIT,NITRIT_FLAG_W,PHSPHT,PHSPHT_FLAG_W,CFC-11,CFC-11_FLAG_W,CFC-12,CFC-12_FLAG_W,DELC13,DELC13_FLAG_W,TCARBN,TCARBN_FLAG_W,ALKALI,ALKALI_FLAG_W,PH,PH_FLAG_W,PH_TMP,PH_SCALE,PH_NBS,PH_NBS_FLAG_W,C13ERR,TOTALP,TOTALP_FLAG_W,AMMONI,AMMONI_FLAG_W,CHLORA,CHLORA_FLAG_W,PPHYTN,PPHYTN_FLAG_W,REVPRS,REVTMP,DEPTH_,DEPTH_FLAG,CTDDEP,THETA,SIGTHT,DOC,DOC_FLAG_W
,,,,,,,GMT,GMT,,,METER,DBAR,ITS-90,PSS-78,,UMOL/KG,,PSS-78,,UMOL/KG,,UMOL/KG,,UMOL/KG,,UMOL/KG,,UMOL/KG,,UMOL/KG,,PMOL/KG,,PMOL/KG,,/MILLE,,UMOL/KG,,UMOL/KG,,25_DEG_C,,DEG_C,,,,/MILLE,UMOL/KG,,UMOL/KG,,UG/L,,UG/L,,DBAR,ITS-90,METERS,,METERS,DEG_C,,UMOL/L,
       KS08-01,  NONE,KS-2035,  1,     -9,      -9,5,20080121,1010, 28.0132, 147.0033, 5640,      0.0,  22.3270,  34.8627,2,   -999.0,9,-999.0000,9,    218.0,2,     1.57,2,  -999.00,9,     0.00,2,     0.00,2,     0.00,2, -999.000,9, -999.000,9,  -999.00,9,   -999.0,9,   -999.0,9,-999.0000,9,   -999.0,  9,  -999.00,9,   -999.0,  -999.00,9,  -999.00,9,     0.13,2,     0.05,2,   -999.0,-999.0000, -999,9,    0,  22.3267,  24.0216,   -999.0,9
       KS08-01,  NONE,KS-2035,  1,     21,02-16027,2,20080121,1028, 28.0132, 147.0033, 5640,     10.1,  22.3312,  34.8628,2,   -999.0,9,  34.8618,2,    218.0,2,     1.54,2,  -999.00,9,     0.00,2,     0.00,2,     0.00,2, -999.000,9, -999.000,9,  -999.00,9,   -999.0,9,   -999.0,9,-999.0000,9,   -999.0,  9,  -999.00,9,   -999.0,  -999.00,9,  -999.00,9,     0.11,2,     0.05,2,   -999.0,-999.0000, -999,9,   10,  22.3292,  24.0209,   -999.0,9
       KS08-01,  NONE,KS-2035,  1,     20,02-16026,2,20080121,1027, 28.0132, 147.0033, 5640,     25.6,  22.3196,  34.8575,2,   -999.0,9,-999.0000,9,    217.0,2,     1.52,2,  -999.00,9,     0.00,2,     0.00,2,     0.00,2, -999.000,9, -999.000,9,  -999.00,9,   -999.0,9,   -999.0,9,-999.0000,9,   -999.0,  9,  -999.00,9,   -999.0,  -999.00,9,  -999.00,9,     0.12,2,     0.05,2,   -999.0,-999.0000, -999,9,   25,  22.3145,  24.0211,   -999.0,9
       KS08-01,  NONE,KS-2035,  1,     19,02-19378,2,20080121,1023, 28.0132, 147.0033, 5640,     50.0,  21.9483,  34.7727,2,   -999.0,9,-999.0000,9,    219.0,2,     1.60,2,  -999.00,9,     0.00,2,     0.00,2,     0.00,2, -999.000,9, -999.000,9,  -999.00,9,   -999.0,9,   -999.0,9,-999.0000,9,   -999.0,  9,  -999.00,9,   -999.0,  -999.00,9,  -999.00,9,     0.17,2,     0.07,2,   -999.0,-999.0000, -999,9,   50,  21.9385,  24.0623,   -999.0,9
       KS08-01,  NONE,KS-2035,  1,     18,02-19377,2,20080121,1021, 28.0132, 147.0033, 5640,     75.0,  21.6651,  34.6990,2,   -999.0,9,-999.0000,9,    219.0,2,     1.64,2,  -999.00,9,     0.00,2,     0.00,2,     0.00,2, -999.000,9, -999.000,9,  -999.00,9,   -999.0,9,   -999.0,9,-999.0000,9,   -999.0,  9,  -999.00,9,   -999.0,  -999.00,9,  -999.00,9,     0.25,2,     0.13,2,   -999.0,-999.0000, -999,9,   75,  21.6505,  24.0864,   -999.0,9
       KS08-01,  NONE,KS-2035,  1,     17,02-16023,2,20080121,1020, 28.0132, 147.0033, 5640,    100.6,  21.4578,  34.7249,2,   -999.0,9,  34.7267,2,    217.0,2,     1.72,2,  -999.00,9,     0.29,2,     0.01,2,     0.02,2, -999.000,9, -999.000,9,  -999.00,9,   -999.0,9,   -999.0,9,-999.0000,9,   -999.0,  9,  -999.00,9,   -999.0,  -999.00,9,  -999.00,9,     0.22,2,     0.13,2,   -999.0,-999.0000, -999,9,  100,  21.4383,  24.1647,   -999.0,9
       KS08-01,  NONE,KS-2035,  1,     16,02-16022,2,20080121,1019, 28.0132, 147.0033, 5640,    126.0,  19.5667,  34.8116,2,   -999.0,9,-999.0000,9,    203.0,2,     2.69,2,  -999.00,9,     2.34,2,     0.01,2,     0.16,2, -999.000,9, -999.000,9,  -999.00,9,   -999.0,9,   -999.0,9,-999.0000,9,   -999.0,  9,  -999.00,9,   -999.0,  -999.00,9,  -999.00,9,     0.04,2,     0.07,2,   -999.0,-999.0000, -999,9,  125,  19.5438,  24.7373,   -999.0,9
       KS08-01,  NONE,KS-2035,  1,     15,02-16021,2,20080121,1018, 28.0132, 147.0033, 5640,    149.7,  18.7991,  34.8095,2,   -999.0,9,-999.0000,9,    205.0,2,     2.88,2,  -999.00,9,     2.73,2,     0.00,2,     0.18,2, -999.000,9, -999.000,9,  -999.00,9,   -999.0,9,   -999.0,9,-999.0000,9,   -999.0,  9,  -999.00,9,   -999.0,  -999.00,9,  -999.00,9,     0.01,2,     0.02,2,   -999.0,-999.0000, -999,9,  149,  18.7726,  24.9333,   -999.0,9
       KS08-01,  NONE,KS-2035,  1,     14,02-16020,2,20080121,1016, 28.0132, 147.0033, 5640,    202.1,  18.0737,  34.7956,2,   -999.0,9,  34.7949,2,    211.0,2,     3.06,2,  -999.00,9,     3.12,2,     0.00,2,     0.20,2, -999.000,9, -999.000,9,  -999.00,9,   -999.0,9,   -999.0,9,-999.0000,9,   -999.0,  9,  -999.00,9,   -999.0,  -999.00,9,  -999.00,9,     0.00,2,     0.01,2,   -999.0,-999.0000, -999,9,  201,  18.0389,  25.1059,   -999.0,9
       KS08-01,  NONE,KS-2035,  1,     13,02-16019,2,20080121,1014, 28.0132, 147.0033, 5640,    252.0,  17.6463,  34.7793,2,   -999.0,9,-999.0000,9,    211.0,2,     3.51,2,  -999.00,9,     3.71,2,     0.00,2,     0.23,2, -999.000,9, -999.000,9,  -999.00,9,   -999.0,9,   -999.0,9,-999.0000,9,   -999.0,  9,  -999.00,9,   -999.0,  -999.00,9,  -999.00,9,     0.00,2,     0.01,2,   -999.0,-999.0000, -999,9,  250,  17.6036,  25.1999,   -999.0,9
       KS08-01,  NONE,KS-2035,  1,     12,02-16018,2,20080121,1013, 28.0132, 147.0033, 5640,    304.0,  17.0015,  34.7416,2,   -999.0,9,-999.0000,9,    198.0,2,     5.48,2,  -999.00,9,     6.05,2,     0.00,2,     0.38,2, -999.000,9, -999.000,9,  -999.00,9,   -999.0,9,   -999.0,9,-999.0000,9,   -999.0,  9,  -999.00,9,   -999.0,  -999.00,9,  -999.00,9,     0.00,2,     0.01,2,   -999.0,-999.0000, -999,9,  302,  16.9513,  25.3275,   -999.0,9
       KS08-01,  NONE,KS-2035,  1,     11,02-19376,2,20080121,1010, 28.0132, 147.0033, 5640,    403.3,  14.9535,  34.5888,2,   -999.0,9,  34.5877,2,    198.0,2,     9.85,2,  -999.00,9,     9.26,2,     0.00,2,     0.60,2, -999.000,9, -999.000,9,  -999.00,9,   -999.0,9,   -999.0,9,-999.0000,9,   -999.0,  9,  -999.00,9,   -999.0,  -999.00,9,  -999.00,9,  -999.00,9,  -999.00,9,   -999.0,-999.0000, -999,9,  400,  14.8924,  25.6784,   -999.0,9
       KS08-01,  NONE,KS-2035,  1,     10,02-19375,2,20080121,1008, 28.0132, 147.0033, 5640,    504.6,  12.2090,  34.3868,2,   -999.0,9,  34.3907,2,    188.0,2,    18.24,2,  -999.00,9,    14.52,2,     0.00,2,     0.98,2, -999.000,9, -999.000,9,  -999.00,9,   -999.0,9,   -999.0,9,-999.0000,9,   -999.0,  9,  -999.00,9,   -999.0,  -999.00,9,  -999.00,9,  -999.00,9,  -999.00,9,   -999.0,-999.0000, -999,9,  501,  12.1420,  26.0857,   -999.0,9
       KS08-01,  NONE,KS-2035,  1,      9,02-16015,2,20080121,1005, 28.0132, 147.0033, 5640,    606.1,   9.3896,  34.1831,2,   -999.0,9,  34.1841,2,    174.0,2,    31.43,2,  -999.00,9,    20.56,2,     0.00,2,     1.44,2, -999.000,9, -999.000,9,  -999.00,9,   -999.0,9,   -999.0,9,-999.0000,9,   -999.0,  9,  -999.00,9,   -999.0,  -999.00,9,  -999.00,9,  -999.00,9,  -999.00,9,   -999.0,-999.0000, -999,9,  601,   9.3212,  26.4268,   -999.0,9
       KS08-01,  NONE,KS-2035,  1,      8,02-16014,2,20080121,1002, 28.0132, 147.0033, 5640,    706.3,   7.2181,  34.0702,2,   -999.0,9,  34.0675,2,    145.0,2,    48.79,2,  -999.00,9,    27.18,2,     0.00,2,     1.94,2, -999.000,9, -999.000,9,  -999.00,9,   -999.0,9,   -999.0,9,-999.0000,9,   -999.0,  9,  -999.00,9,   -999.0,  -999.00,9,  -999.00,9,  -999.00,9,  -999.00,9,   -999.0,-999.0000, -999,9,  700,   7.1494,  26.6657,   -999.0,9
       KS08-01,  NONE,KS-2035,  1,      7,02-19374,2,20080121,1000, 28.0132, 147.0033, 5640,    807.2,   5.3463,  34.0625,2,   -999.0,9,  34.0618,2,    106.0,2,    74.14,2,  -999.00,9,    33.99,2,     0.00,2,     2.45,2, -999.000,9, -999.000,9,  -999.00,9,   -999.0,9,   -999.0,9,-999.0000,9,   -999.0,  9,  -999.00,9,   -999.0,  -999.00,9,  -999.00,9,  -999.00,9,  -999.00,9,   -999.0,-999.0000, -999,9,  800,   5.2786,  26.8997,   -999.0,9
       KS08-01,  NONE,KS-2035,  1,      6,02-19373,2,20080121,0957, 28.0132, 147.0033, 5640,    908.4,   4.5362,  34.1597,2,   -999.0,9,  34.1582,2,     67.0,2,    94.66,2,  -999.00,9,    38.46,2,     0.00,2,     2.77,2, -999.000,9, -999.000,9,  -999.00,9,   -999.0,9,   -999.0,9,-999.0000,9,   -999.0,  9,  -999.00,9,   -999.0,  -999.00,9,  -999.00,9,  -999.00,9,  -999.00,9,   -999.0,-999.0000, -999,9,  900,   4.4649,  27.0687,   -999.0,9
       KS08-01,  NONE,KS-2035,  1,      5,02-16011,2,20080121,0955, 28.0132, 147.0033, 5640,   1009.2,   4.0650,  34.2358,2,   -999.0,9,  34.2361,2,     51.0,2,   108.03,2,  -999.00,9,    40.50,2,     0.00,2,     2.90,2, -999.000,9, -999.000,9,  -999.00,9,   -999.0,9,   -999.0,9,-999.0000,9,   -999.0,  9,  -999.00,9,   -999.0,  -999.00,9,  -999.00,9,  -999.00,9,  -999.00,9,   -999.0,-999.0000, -999,9, 1000,   3.9885,  27.1794,   -999.0,9
       KS08-01,  NONE,KS-2035,  1,      4,02-16010,2,20080121,0949, 28.0132, 147.0033, 5640,   1262.2,   3.1391,  34.4225,2,   -999.0,9,  34.4224,2,     42.0,2,   132.85,2,  -999.00,9,    42.24,2,     0.00,2,     3.02,2, -999.000,9, -999.000,9,  -999.00,9,   -999.0,9,   -999.0,9,-999.0000,9,   -999.0,  9,  -999.00,9,   -999.0,  -999.00,9,  -999.00,9,  -999.00,9,  -999.00,9,   -999.0,-999.0000, -999,9, 1250,   3.0496,  27.4195,   -999.0,9
       KS08-01,  NONE,KS-2035,  1,      3,02-16009,2,20080121,0944, 28.0132, 147.0033, 5640,   1513.7,   2.5974,  34.5071,2,   -999.0,9,  34.5069,2,     53.0,2,   145.37,2,  -999.00,9,    42.04,2,     0.00,2,     2.99,2, -999.000,9, -999.000,9,  -999.00,9,   -999.0,9,   -999.0,9,-999.0000,9,   -999.0,  9,  -999.00,9,   -999.0,  -999.00,9,  -999.00,9,  -999.00,9,  -999.00,9,   -999.0,-999.0000, -999,9, 1498,   2.4933,  27.5363,   -999.0,9
       KS08-01,  NONE,KS-2035,  1,      2,02-16008,2,20080121,0938, 28.0132, 147.0033, 5640,   1766.7,   2.1743,  34.5685,2,   -999.0,9,  34.5693,2,     71.0,2,   152.26,2,  -999.00,9,    41.16,2,     0.00,2,     2.90,2, -999.000,9, -999.000,9,  -999.00,9,   -999.0,9,   -999.0,9,-999.0000,9,   -999.0,  9,  -999.00,9,   -999.0,  -999.00,9,  -999.00,9,  -999.00,9,  -999.00,9,   -999.0,-999.0000, -999,9, 1748,   2.0548,  27.6217,   -999.0,9
       KS08-01,  NONE,KS-2035,  1,      1,02-16007,2,20080121,0933, 28.0132, 147.0033, 5640,   2035.2,   1.9185,  34.6087,2,   -999.0,9,  34.6089,2,     93.0,2,   152.13,2,  -999.00,9,    39.80,2,     0.00,2,     2.79,2, -999.000,9, -999.000,9,  -999.00,9,   -999.0,9,   -999.0,9,-999.0000,9,   -999.0,  9,  -999.00,9,   -999.0,  -999.00,9,  -999.00,9,  -999.00,9,  -999.00,9,   -999.0,-999.0000, -999,9, 2012,   1.7804,  27.6753,   -999.0,9