BOTTLE,20130510GEMDJMAYT
EXPOCODE,SECT_ID,STNNBR,CASTNO,SAMPNO,BTLNBR,BTLNBR_FLAG_W,DATE,TIME,LATITUDE,LONGITUDE,DEPTH,CTDPRS,CTDTMP,CTDSAL,CTDSAL_FLAG_W,CTDOXY,CTDOXY_FLAG_W,SALNTY,SALNTY_FLAG_W,OXYGEN,OXYGEN_FLAG_W,SILCAT,SILCAT_FLAG_W,NITRAT,NITRAT_FLAG_W,NO2+NO3,NO2+NO3_FLAG_W,NITRIT,NITRIT_FLAG_W,PHSPHT,PHSPHT_FLAG_W,CFC-11,CFC-11_FLAG_W,CFC-12,CFC-12_FLAG_W,DELC13,DELC13_FLAG_W,TCARBN,TCARBN_FLAG_W,ALKALI,ALKALI_FLAG_W,PH,PH_FLAG_W,PH_TMP,PH_SCALE,PH_NBS,PH_NBS_FLAG_W,C13ERR,TOTALP,TOTALP_FLAG_W,AMMONI,AMMONI_FLAG_W,CHLORA,CHLORA_FLAG_W,PPHYTN,PPHYTN_FLAG_W,REVPRS,REVTMP,DEPTH_,DEPTH_FLAG,CTDDEP,THETA,SIGTHT,DOC,DOC_FLAG_W
,,,,,,,GMT,GMT,,,METER,DBAR,ITS-90,PSS-78,,UMOL/KG,,PSS-78,,UMOL/KG,,UMOL/KG,,UMOL/KG,,UMOL/KG,,UMOL/KG,,UMOL/KG,,PMOL/KG,,PMOL/KG,,/MILLE,,UMOL/KG,,UMOL/KG,,25_DEG_C,,DEG_C,,,,/MILLE,UMOL/KG,,UMOL/KG,,UG/L,,UG/L,,DBAR,ITS-90,METERS,,METERS,DEG_C,,UMOL/L,
       KS08-01,  NONE,KS-2090,  1,     -9,      -9,5,20080306,1830, 29.9830, 134.6082, 4637,      0.0,  18.8115,  34.7936,2,   -999.0,9,-999.0000,9,    226.0,2,     1.98,2,  -999.00,9,     1.07,2,     0.16,2,     0.07,2, -999.000,9, -999.000,9,  -999.00,9,   -999.0,9,   -999.0,9,-999.0000,9,   -999.0,  9,  -999.00,9,   -999.0,  -999.00,9,  -999.00,9,     0.25,2,     0.10,2,   -999.0,-999.0000, -999,9,    0,  18.8114,  24.9113,   -999.0,9
       KS08-01,  NONE,KS-2090,  1,     21,02-16027,2,20080306,1851, 29.9830, 134.6082, 4637,     10.5,  18.8297,  34.8243,2,   -999.0,9,  34.8245,2,    224.0,2,     1.96,2,  -999.00,9,     1.07,2,     0.15,2,     0.07,2, -999.000,9, -999.000,9,  -999.00,9,   -999.0,9,   -999.0,9,-999.0000,9,   -999.0,  9,  -999.00,9,   -999.0,  -999.00,9,  -999.00,9,     0.29,2,     0.11,2,   -999.0,-999.0000, -999,9,   10,  18.8279,  24.9306,   -999.0,9
       KS08-01,  NONE,KS-2090,  1,     20,02-16026,2,20080306,1849, 29.9830, 134.6082, 4637,     26.2,  18.8355,  34.8242,2,   -999.0,9,-999.0000,9,    225.0,2,     1.95,2,  -999.00,9,     1.07,2,     0.15,2,     0.07,2, -999.000,9, -999.000,9,  -999.00,9,   -999.0,9,   -999.0,9,-999.0000,9,   -999.0,  9,  -999.00,9,   -999.0,  -999.00,9,  -999.00,9,     0.29,2,     0.11,2,   -999.0,-999.0000, -999,9,   26,  18.8309,  24.9298,   -999.0,9
       KS08-01,  NONE,KS-2090,  1,     19,02-16025,2,20080306,1845, 29.9830, 134.6082, 4637,     51.0,  18.8376,  34.8239,2,   -999.0,9,-999.0000,9,    225.0,2,     2.10,2,  -999.00,9,     1.07,2,     0.15,2,     0.07,2, -999.000,9, -999.000,9,  -999.00,9,   -999.0,9,   -999.0,9,-999.0000,9,   -999.0,  9,  -999.00,9,   -999.0,  -999.00,9,  -999.00,9,     0.28,2,     0.10,2,   -999.0,-999.0000, -999,9,   51,  18.8286,  24.9301,   -999.0,9
       KS08-01,  NONE,KS-2090,  1,     18,02-16024,2,20080306,1843, 29.9830, 134.6082, 4637,     75.8,  18.8352,  34.8230,2,   -999.0,9,-999.0000,9,    225.0,2,     1.98,2,  -999.00,9,     1.07,2,     0.15,2,     0.07,2, -999.000,9, -999.000,9,  -999.00,9,   -999.0,9,   -999.0,9,-999.0000,9,   -999.0,  9,  -999.00,9,   -999.0,  -999.00,9,  -999.00,9,     0.27,2,     0.11,2,   -999.0,-999.0000, -999,9,   75,  18.8218,  24.9312,   -999.0,9
       KS08-01,  NONE,KS-2090,  1,     17,02-16023,2,20080306,1842, 29.9830, 134.6082, 4637,    101.2,  18.8386,  34.8225,2,   -999.0,9,  34.8349,4,    225.0,2,     1.97,2,  -999.00,9,     1.07,2,     0.15,2,     0.07,2, -999.000,9, -999.000,9,  -999.00,9,   -999.0,9,   -999.0,9,-999.0000,9,   -999.0,  9,  -999.00,9,   -999.0,  -999.00,9,  -999.00,9,     0.29,2,     0.10,2,   -999.0,-999.0000, -999,9,  101,  18.8207,  24.9311,   -999.0,9
       KS08-01,  NONE,KS-2090,  1,     16,02-16022,3,20080306,1840, 29.9830, 134.6082, 4637,    125.2,  18.8063,  34.8186,2,   -999.0,9,-999.0000,9,    225.0,4,     1.96,4,  -999.00,9,     1.07,4,     0.15,4,     0.08,4, -999.000,9, -999.000,9,  -999.00,9,   -999.0,9,   -999.0,9,-999.0000,9,   -999.0,  9,  -999.00,9,   -999.0,  -999.00,9,  -999.00,9,     0.23,4,     0.09,4,   -999.0,-999.0000, -999,9,  124,  18.7842,  24.9373,   -999.0,9
       KS08-01,  NONE,KS-2090,  1,     15,02-16021,2,20080306,1839, 29.9830, 134.6082, 4637,    150.3,  18.7811,  34.8170,2,   -999.0,9,-999.0000,9,    225.0,2,     1.95,2,  -999.00,9,     1.17,2,     0.13,2,     0.08,2, -999.000,9, -999.000,9,  -999.00,9,   -999.0,9,   -999.0,9,-999.0000,9,   -999.0,  9,  -999.00,9,   -999.0,  -999.00,9,  -999.00,9,     0.19,2,     0.08,2,   -999.0,-999.0000, -999,9,  149,  18.7546,  24.9436,   -999.0,9
       KS08-01,  NONE,KS-2090,  1,     14,02-16020,2,20080306,1837, 29.9830, 134.6082, 4637,    200.9,  18.7841,  34.8183,2,   -999.0,9,  34.8180,2,    225.0,2,     1.94,2,  -999.00,9,     1.07,2,     0.14,2,     0.09,2, -999.000,9, -999.000,9,  -999.00,9,   -999.0,9,   -999.0,9,-999.0000,9,   -999.0,  9,  -999.00,9,   -999.0,  -999.00,9,  -999.00,9,     0.23,2,     0.09,2,   -999.0,-999.0000, -999,9,  199,  18.7486,  24.9461,   -999.0,9
       KS08-01,  NONE,KS-2090,  1,     13,02-16019,2,20080306,1835, 29.9830, 134.6082, 4637,    252.7,  18.7676,  34.8176,2,   -999.0,9,-999.0000,9,    225.0,2,     1.93,2,  -999.00,9,     1.17,2,     0.13,2,     0.08,2, -999.000,9, -999.000,9,  -999.00,9,   -999.0,9,   -999.0,9,-999.0000,9,   -999.0,  9,  -999.00,9,   -999.0,  -999.00,9,  -999.00,9,     0.21,2,     0.09,2,   -999.0,-999.0000, -999,9,  251,  18.7229,  24.9521,   -999.0,9
       KS08-01,  NONE,KS-2090,  1,     12,02-16018,2,20080306,1833, 29.9830, 134.6082, 4637,    302.4,  18.7262,  34.8187,2,   -999.0,9,  34.8187,2,    225.0,2,     1.92,2,  -999.00,9,     1.17,2,     0.13,2,     0.08,2, -999.000,9, -999.000,9,  -999.00,9,   -999.0,9,   -999.0,9,-999.0000,9,   -999.0,  9,  -999.00,9,   -999.0,  -999.00,9,  -999.00,9,     0.20,2,     0.09,2,   -999.0,-999.0000, -999,9,  300,  18.6728,  24.9656,   -999.0,9
       KS08-01,  NONE,KS-2090,  1,     11,02-16017,3,20080306,1831, 29.9830, 134.6082, 4637,    403.0,  18.0829,  34.8155,2,   -999.0,9,  34.8166,2,    205.0,4,     3.36,4,  -999.00,9,     4.00,4,     0.01,4,     0.24,4, -999.000,9, -999.000,9,  -999.00,9,   -999.0,9,   -999.0,9,-999.0000,9,   -999.0,  9,  -999.00,9,   -999.0,  -999.00,9,  -999.00,9,  -999.00,9,  -999.00,9,   -999.0,-999.0000, -999,9,  400,  18.0132,  25.1275,   -999.0,9
       KS08-01,  NONE,KS-2090,  1,     10,02-16016,2,20080306,1828, 29.9830, 134.6082, 4637,    503.8,  17.1865,  34.7667,2,   -999.0,9,  34.7672,2,    201.0,2,     4.89,2,  -999.00,9,     5.75,2,     0.00,2,     0.35,2, -999.000,9, -999.000,9,  -999.00,9,   -999.0,9,   -999.0,9,-999.0000,9,   -999.0,  9,  -999.00,9,   -999.0,  -999.00,9,  -999.00,9,  -999.00,9,  -999.00,9,   -999.0,-999.0000, -999,9,  500,  17.1022,  25.3109,   -999.0,9
       KS08-01,  NONE,KS-2090,  1,      9,02-16015,2,20080306,1826, 29.9830, 134.6082, 4637,    604.3,  15.0063,  34.6013,2,   -999.0,9,  34.6027,2,    188.0,2,    10.90,2,  -999.00,9,    10.24,2,     0.00,2,     0.66,2, -999.000,9, -999.000,9,  -999.00,9,   -999.0,9,   -999.0,9,-999.0000,9,   -999.0,  9,  -999.00,9,   -999.0,  -999.00,9,  -999.00,9,  -999.00,9,  -999.00,9,   -999.0,-999.0000, -999,9,  599,  14.9139,  25.6833,   -999.0,9
       KS08-01,  NONE,KS-2090,  1,      8,02-16014,2,20080306,1823, 29.9830, 134.6082, 4637,    706.9,  11.9660,  34.3857,2,   -999.0,9,  34.3888,2,    175.0,2,    22.09,2,  -999.00,9,    16.18,2,     0.00,2,     1.10,2, -999.000,9, -999.000,9,  -999.00,9,   -999.0,9,   -999.0,9,-999.0000,9,   -999.0,  9,  -999.00,9,   -999.0,  -999.00,9,  -999.00,9,  -999.00,9,  -999.00,9,   -999.0,-999.0000, -999,9,  701,  11.8726,  26.1361,   -999.0,9
       KS08-01,  NONE,KS-2090,  1,      7,02-16013,2,20080306,1820, 29.9830, 134.6082, 4637,    808.0,   9.3159,  34.2378,2,   -999.0,9,  34.2392,2,    152.0,2,    38.89,2,  -999.00,9,    22.99,2,     0.00,2,     1.61,2, -999.000,9, -999.000,9,  -999.00,9,   -999.0,9,   -999.0,9,-999.0000,9,   -999.0,  9,  -999.00,9,   -999.0,  -999.00,9,  -999.00,9,  -999.00,9,  -999.00,9,   -999.0,-999.0000, -999,9,  801,   9.2241,  26.4853,   -999.0,9
       KS08-01,  NONE,KS-2090,  1,      6,02-16012,2,20080306,1817, 29.9830, 134.6082, 4637,    908.7,   6.5880,  34.1635,2,   -999.0,9,  34.1636,2,    116.0,2,    65.33,2,  -999.00,9,    31.07,2,     0.00,2,     2.22,2, -999.000,9, -999.000,9,  -999.00,9,   -999.0,9,   -999.0,9,-999.0000,9,   -999.0,  9,  -999.00,9,   -999.0,  -999.00,9,  -999.00,9,  -999.00,9,  -999.00,9,   -999.0,-999.0000, -999,9,  901,   6.5025,  26.8268,   -999.0,9
       KS08-01,  NONE,KS-2090,  1,      5,02-16011,2,20080306,1815, 29.9830, 134.6082, 4637,   1010.5,   4.9767,  34.1225,2,   -999.0,9,  34.1216,2,     89.0,2,    84.66,2,  -999.00,9,    36.12,2,     0.00,2,     2.60,2, -999.000,9, -999.000,9,  -999.00,9,   -999.0,9,   -999.0,9,-999.0000,9,   -999.0,  9,  -999.00,9,   -999.0,  -999.00,9,  -999.00,9,  -999.00,9,  -999.00,9,   -999.0,-999.0000, -999,9, 1001,   4.8932,  26.9917,   -999.0,9
       KS08-01,  NONE,KS-2090,  1,      4,02-16010,2,20080306,1808, 29.9830, 134.6082, 4637,   1262.3,   3.7353,  34.3453,2,   -999.0,9,  34.3469,2,     54.0,2,   117.96,2,  -999.00,9,    40.69,2,     0.00,2,     2.90,2, -999.000,9, -999.000,9,  -999.00,9,   -999.0,9,   -999.0,9,-999.0000,9,   -999.0,  9,  -999.00,9,   -999.0,  -999.00,9,  -999.00,9,  -999.00,9,  -999.00,9,   -999.0,-999.0000, -999,9, 1250,   3.6402,  27.3017,   -999.0,9
       KS08-01,  NONE,KS-2090,  1,      3,02-16009,2,20080306,1802, 29.9830, 134.6082, 4637,   1515.7,   3.0055,  34.4719,2,   -999.0,9,  34.4719,2,     69.0,2,   131.72,2,  -999.00,9,    40.49,2,     0.00,2,     2.88,2, -999.000,9, -999.000,9,  -999.00,9,   -999.0,9,   -999.0,9,-999.0000,9,   -999.0,  9,  -999.00,9,   -999.0,  -999.00,9,  -999.00,9,  -999.00,9,  -999.00,9,   -999.0,-999.0000, -999,9, 1500,   2.8966,  27.4729,   -999.0,9
       KS08-01,  NONE,KS-2090,  1,      2,02-16008,2,20080306,1756, 29.9830, 134.6082, 4637,   1767.6,   2.5344,  34.5308,2,   -999.0,9,  34.5315,2,     80.0,2,   139.39,2,  -999.00,9,    40.19,2,     0.00,2,     2.84,2, -999.000,9, -999.000,9,  -999.00,9,   -999.0,9,   -999.0,9,-999.0000,9,   -999.0,  9,  -999.00,9,   -999.0,  -999.00,9,  -999.00,9,  -999.00,9,  -999.00,9,   -999.0,-999.0000, -999,9, 1748,   2.4101,  27.5624,   -999.0,9
       KS08-01,  NONE,KS-2090,  1,      1,02-16007,2,20080306,1750, 29.9830, 134.6082, 4637,   2032.0,   2.2089,  34.5754,2,   -999.0,9,  34.5760,2,     96.0,2,   142.04,2,  -999.00,9,    39.51,2,     0.00,2,     2.79,2, -999.000,9, -999.000,9,  -999.00,9,   -999.0,9,   -999.0,9,-999.0000,9,   -999.0,  9,  -999.00,9,   -999.0,  -999.00,9,  -999.00,9,  -999.00,9,  -999.00,9,   -999.0,-999.0000, -999,9, 2008,   2.0667,  27.6262,   -999.0,9