BOTTLE,20130510GEMDJMAYT
EXPOCODE,SECT_ID,STNNBR,CASTNO,SAMPNO,BTLNBR,BTLNBR_FLAG_W,DATE,TIME,LATITUDE,LONGITUDE,DEPTH,CTDPRS,CTDTMP,CTDSAL,CTDSAL_FLAG_W,CTDOXY,CTDOXY_FLAG_W,SALNTY,SALNTY_FLAG_W,OXYGEN,OXYGEN_FLAG_W,SILCAT,SILCAT_FLAG_W,NITRAT,NITRAT_FLAG_W,NO2+NO3,NO2+NO3_FLAG_W,NITRIT,NITRIT_FLAG_W,PHSPHT,PHSPHT_FLAG_W,CFC-11,CFC-11_FLAG_W,CFC-12,CFC-12_FLAG_W,DELC13,DELC13_FLAG_W,TCARBN,TCARBN_FLAG_W,ALKALI,ALKALI_FLAG_W,PH,PH_FLAG_W,PH_TMP,PH_SCALE,PH_NBS,PH_NBS_FLAG_W,C13ERR,TOTALP,TOTALP_FLAG_W,AMMONI,AMMONI_FLAG_W,CHLORA,CHLORA_FLAG_W,PPHYTN,PPHYTN_FLAG_W,REVPRS,REVTMP,DEPTH_,DEPTH_FLAG,CTDDEP,THETA,SIGTHT,DOC,DOC_FLAG_W
,,,,,,,GMT,GMT,,,METER,DBAR,ITS-90,PSS-78,,UMOL/KG,,PSS-78,,UMOL/KG,,UMOL/KG,,UMOL/KG,,UMOL/KG,,UMOL/KG,,UMOL/KG,,PMOL/KG,,PMOL/KG,,/MILLE,,UMOL/KG,,UMOL/KG,,25_DEG_C,,DEG_C,,,,/MILLE,UMOL/KG,,UMOL/KG,,UG/L,,UG/L,,DBAR,ITS-90,METERS,,METERS,DEG_C,,UMOL/L,
       KS08-01,  165E,KS-2068,  1,     -9,      -9,5,20080211,0717,  4.0083, 164.9698, 4491,      0.0,  27.7634,  35.0131,2,   -999.0,9,-999.0000,9,    194.0,2,     1.90,2,  -999.00,9,     3.13,2,     0.36,2,     0.35,2, -999.000,9, -999.000,9,  -999.00,9,   -999.0,9,   -999.0,9,-999.0000,9,   -999.0,  9,  -999.00,9,   -999.0,  -999.00,9,  -999.00,9,  -999.00,9,  -999.00,9,   -999.0,-999.0000, -999,9,    0,  27.7632,  22.4817,   -999.0,9
       KS08-01,  165E,KS-2068,  1,     21,02-16027,2,20080211,0750,  4.0083, 164.9698, 4491,     11.0,  27.7807,  35.0982,2,   -999.0,9,  35.1002,2,    191.0,2,     1.89,2,  -999.00,9,     3.13,2,     0.36,2,     0.35,2, -999.000,9, -999.000,9,  -999.00,9,   -999.0,9,   -999.0,9,-999.0000,9,   -999.0,  9,  -999.00,9,   -999.0,  -999.00,9,  -999.00,9,  -999.00,9,  -999.00,9,   -999.0,-999.0000, -999,9,   11,  27.7781,  22.5408,   -999.0,9
       KS08-01,  165E,KS-2068,  1,     20,02-16026,2,20080211,0748,  4.0083, 164.9698, 4491,     25.9,  27.8124,  35.1753,2,   -999.0,9,-999.0000,9,    190.0,2,     1.94,2,  -999.00,9,     3.13,2,     0.35,2,     0.36,2, -999.000,9, -999.000,9,  -999.00,9,   -999.0,9,   -999.0,9,-999.0000,9,   -999.0,  9,  -999.00,9,   -999.0,  -999.00,9,  -999.00,9,  -999.00,9,  -999.00,9,   -999.0,-999.0000, -999,9,   26,  27.8063,  22.5897,   -999.0,9
       KS08-01,  165E,KS-2068,  1,     19,02-19378,2,20080211,0743,  4.0083, 164.9698, 4491,     49.0,  27.7799,  35.2077,2,   -999.0,9,-999.0000,9,    186.0,2,     1.94,2,  -999.00,9,     3.32,2,     0.35,2,     0.38,2, -999.000,9, -999.000,9,  -999.00,9,   -999.0,9,   -999.0,9,-999.0000,9,   -999.0,  9,  -999.00,9,   -999.0,  -999.00,9,  -999.00,9,  -999.00,9,  -999.00,9,   -999.0,-999.0000, -999,9,   49,  27.7684,  22.6264,   -999.0,9
       KS08-01,  165E,KS-2068,  1,     18,02-19377,2,20080211,0742,  4.0083, 164.9698, 4491,     74.5,  27.7495,  35.2031,2,   -999.0,9,-999.0000,9,    187.0,2,     1.98,2,  -999.00,9,     3.32,2,     0.29,2,     0.37,2, -999.000,9, -999.000,9,  -999.00,9,   -999.0,9,   -999.0,9,-999.0000,9,   -999.0,  9,  -999.00,9,   -999.0,  -999.00,9,  -999.00,9,  -999.00,9,  -999.00,9,   -999.0,-999.0000, -999,9,   74,  27.7320,  22.6347,   -999.0,9
       KS08-01,  165E,KS-2068,  1,     17,02-16023,2,20080211,0740,  4.0083, 164.9698, 4491,     99.1,  27.7232,  35.1968,2,   -999.0,9,  35.1959,2,    188.0,2,     1.98,2,  -999.00,9,     3.23,2,     0.25,2,     0.38,2, -999.000,9, -999.000,9,  -999.00,9,   -999.0,9,   -999.0,9,-999.0000,9,   -999.0,  9,  -999.00,9,   -999.0,  -999.00,9,  -999.00,9,  -999.00,9,  -999.00,9,   -999.0,-999.0000, -999,9,   99,  27.7000,  22.6404,   -999.0,9
       KS08-01,  165E,KS-2068,  1,     16,02-16022,2,20080211,0739,  4.0083, 164.9698, 4491,    126.6,  27.7217,  35.2326,2,   -999.0,9,-999.0000,9,    186.0,2,     2.02,2,  -999.00,9,     3.42,2,     0.28,2,     0.40,2, -999.000,9, -999.000,9,  -999.00,9,   -999.0,9,   -999.0,9,-999.0000,9,   -999.0,  9,  -999.00,9,   -999.0,  -999.00,9,  -999.00,9,  -999.00,9,  -999.00,9,   -999.0,-999.0000, -999,9,  126,  27.6921,  22.6700,   -999.0,9
       KS08-01,  165E,KS-2068,  1,     15,02-16021,2,20080211,0738,  4.0083, 164.9698, 4491,    150.9,  26.2409,  35.4030,2,   -999.0,9,-999.0000,9,    158.0,2,     2.76,2,  -999.00,9,     6.84,2,     0.04,2,     0.60,2, -999.000,9, -999.000,9,  -999.00,9,   -999.0,9,   -999.0,9,-999.0000,9,   -999.0,  9,  -999.00,9,   -999.0,  -999.00,9,  -999.00,9,  -999.00,9,  -999.00,9,   -999.0,-999.0000, -999,9,  150,  26.2069,  23.2726,   -999.0,9
       KS08-01,  165E,KS-2068,  1,     14,02-16020,2,20080211,0736,  4.0083, 164.9698, 4491,    202.8,  16.4301,  34.7073,2,   -999.0,9,  34.7123,2,    135.0,2,    12.75,2,  -999.00,9,    13.95,2,     0.00,2,     1.00,2, -999.000,9, -999.000,9,  -999.00,9,   -999.0,9,   -999.0,9,-999.0000,9,   -999.0,  9,  -999.00,9,   -999.0,  -999.00,9,  -999.00,9,  -999.00,9,  -999.00,9,   -999.0,-999.0000, -999,9,  202,  16.3975,  25.4310,   -999.0,9
       KS08-01,  165E,KS-2068,  1,     13,02-16019,2,20080211,0734,  4.0083, 164.9698, 4491,    254.6,  10.6599,  34.5892,2,   -999.0,9,-999.0000,9,     68.0,2,    30.77,2,  -999.00,9,    29.52,2,     0.00,2,     2.09,2, -999.000,9, -999.000,9,  -999.00,9,   -999.0,9,   -999.0,9,-999.0000,9,   -999.0,  9,  -999.00,9,   -999.0,  -999.00,9,  -999.00,9,  -999.00,9,  -999.00,9,   -999.0,-999.0000, -999,9,  253,  10.6292,  26.5219,   -999.0,9
       KS08-01,  165E,KS-2068,  1,     12,02-16018,2,20080211,0732,  4.0083, 164.9698, 4491,    303.4,   9.6628,  34.6473,2,   -999.0,9,  34.6468,2,     38.0,2,    34.31,2,  -999.00,9,    34.38,2,     0.00,2,     2.43,2, -999.000,9, -999.000,9,  -999.00,9,   -999.0,9,   -999.0,9,-999.0000,9,   -999.0,  9,  -999.00,9,   -999.0,  -999.00,9,  -999.00,9,  -999.00,9,  -999.00,9,   -999.0,-999.0000, -999,9,  302,   9.6283,  26.7392,   -999.0,9
       KS08-01,  165E,KS-2068,  1,     11,02-19376,2,20080211,0728,  4.0083, 164.9698, 4491,    404.4,   8.5474,  34.6112,2,   -999.0,9,  34.6102,2,     67.0,2,    37.76,2,  -999.00,9,    33.89,2,     0.00,2,     2.39,2, -999.000,9, -999.000,9,  -999.00,9,   -999.0,9,   -999.0,9,-999.0000,9,   -999.0,  9,  -999.00,9,   -999.0,  -999.00,9,  -999.00,9,  -999.00,9,  -999.00,9,   -999.0,-999.0000, -999,9,  402,   8.5045,  26.8917,   -999.0,9
       KS08-01,  165E,KS-2068,  1,     10,02-19375,2,20080211,0725,  4.0083, 164.9698, 4491,    507.3,   7.6370,  34.5816,2,   -999.0,9,  34.5810,2,     61.0,2,    44.80,2,  -999.00,9,    36.32,2,     0.00,2,     2.58,2, -999.000,9, -999.000,9,  -999.00,9,   -999.0,9,   -999.0,9,-999.0000,9,   -999.0,  9,  -999.00,9,   -999.0,  -999.00,9,  -999.00,9,  -999.00,9,  -999.00,9,   -999.0,-999.0000, -999,9,  504,   7.5863,  27.0061,   -999.0,9
       KS08-01,  165E,KS-2068,  1,      9,02-16015,2,20080211,0721,  4.0083, 164.9698, 4491,    608.7,   6.7668,  34.5575,2,   -999.0,9,  34.5415,4,     78.0,2,    58.98,4,  -999.00,9,    37.48,4,     0.00,4,     2.66,4, -999.000,9, -999.000,9,  -999.00,9,   -999.0,9,   -999.0,9,-999.0000,9,   -999.0,  9,  -999.00,9,   -999.0,  -999.00,9,  -999.00,9,  -999.00,9,  -999.00,9,   -999.0,-999.0000, -999,9,  604,   6.7096,  27.1099,   -999.0,9
       KS08-01,  165E,KS-2068,  1,      8,02-16014,2,20080211,0717,  4.0083, 164.9698, 4491,    707.7,   6.0266,  34.5423,2,   -999.0,9,  34.5418,2,     83.0,2,    58.90,2,  -999.00,9,    37.48,2,     0.00,2,     2.66,2, -999.000,9, -999.000,9,  -999.00,9,   -999.0,9,   -999.0,9,-999.0000,9,   -999.0,  9,  -999.00,9,   -999.0,  -999.00,9,  -999.00,9,  -999.00,9,  -999.00,9,   -999.0,-999.0000, -999,9,  703,   5.9636,  27.1956,   -999.0,9
       KS08-01,  165E,KS-2068,  1,      7,02-19374,2,20080211,0714,  4.0083, 164.9698, 4491,    807.1,   5.4837,  34.5402,2,   -999.0,9,  34.5398,2,     87.0,2,    67.56,2,  -999.00,9,    37.67,2,     0.00,2,     2.69,2, -999.000,9, -999.000,9,  -999.00,9,   -999.0,9,   -999.0,9,-999.0000,9,   -999.0,  9,  -999.00,9,   -999.0,  -999.00,9,  -999.00,9,  -999.00,9,  -999.00,9,   -999.0,-999.0000, -999,9,  801,   5.4146,  27.2618,   -999.0,9
       KS08-01,  165E,KS-2068,  1,      6,02-19373,2,20080211,0710,  4.0083, 164.9698, 4491,    910.0,   4.9255,  34.5465,2,   -999.0,9,  34.5465,2,     89.0,2,    78.20,2,  -999.00,9,    38.35,2,     0.00,2,     2.73,2, -999.000,9, -999.000,9,  -999.00,9,   -999.0,9,   -999.0,9,-999.0000,9,   -999.0,  9,  -999.00,9,   -999.0,  -999.00,9,  -999.00,9,  -999.00,9,  -999.00,9,   -999.0,-999.0000, -999,9,  903,   4.8507,  27.3329,   -999.0,9
       KS08-01,  165E,KS-2068,  1,      5,02-16011,2,20080211,0707,  4.0083, 164.9698, 4491,   1008.4,   4.5990,  34.5530,2,   -999.0,9,  34.5532,2,     89.0,2,    84.70,2,  -999.00,9,    38.74,2,     0.00,2,     2.75,2, -999.000,9, -999.000,9,  -999.00,9,   -999.0,9,   -999.0,9,-999.0000,9,   -999.0,  9,  -999.00,9,   -999.0,  -999.00,9,  -999.00,9,  -999.00,9,  -999.00,9,   -999.0,-999.0000, -999,9, 1000,   4.5179,  27.3753,   -999.0,9
       KS08-01,  165E,KS-2068,  1,      4,02-16010,2,20080211,0701,  4.0083, 164.9698, 4491,   1259.3,   3.6301,  34.5796,2,   -999.0,9,  34.5793,2,     90.0,2,   106.17,2,  -999.00,9,    39.51,2,     0.00,2,     2.81,2, -999.000,9, -999.000,9,  -999.00,9,   -999.0,9,   -999.0,9,-999.0000,9,   -999.0,  9,  -999.00,9,   -999.0,  -999.00,9,  -999.00,9,  -999.00,9,  -999.00,9,   -999.0,-999.0000, -999,9, 1249,   3.5358,  27.4987,   -999.0,9
       KS08-01,  165E,KS-2068,  1,      3,02-16009,2,20080211,0656,  4.0083, 164.9698, 4491,   1513.1,   3.0229,  34.6017,2,   -999.0,9,  34.6024,2,     94.0,2,   119.05,2,  -999.00,9,    39.71,2,     0.00,2,     2.82,2, -999.000,9, -999.000,9,  -999.00,9,   -999.0,9,   -999.0,9,-999.0000,9,   -999.0,  9,  -999.00,9,   -999.0,  -999.00,9,  -999.00,9,  -999.00,9,  -999.00,9,   -999.0,-999.0000, -999,9, 1499,   2.9136,  27.5750,   -999.0,9
       KS08-01,  165E,KS-2068,  1,      2,02-16008,2,20080211,0651,  4.0083, 164.9698, 4491,   1763.2,   2.6539,  34.6170,2,   -999.0,9,  34.6180,2,    105.0,2,   125.22,2,  -999.00,9,    39.02,2,     0.00,2,     2.76,2, -999.000,9, -999.000,9,  -999.00,9,   -999.0,9,   -999.0,9,-999.0000,9,   -999.0,  9,  -999.00,9,   -999.0,  -999.00,9,  -999.00,9,  -999.00,9,  -999.00,9,   -999.0,-999.0000, -999,9, 1746,   2.5281,  27.6213,   -999.0,9
       KS08-01,  165E,KS-2068,  1,      1,02-16007,2,20080211,0647,  4.0083, 164.9698, 4491,   2029.0,   2.3210,  34.6329,2,   -999.0,9,  34.6339,2,    110.0,2,   132.76,2,  -999.00,9,    38.92,2,     0.00,2,     2.73,2, -999.000,9, -999.000,9,  -999.00,9,   -999.0,9,   -999.0,9,-999.0000,9,   -999.0,  9,  -999.00,9,   -999.0,  -999.00,9,  -999.00,9,  -999.00,9,  -999.00,9,   -999.0,-999.0000, -999,9, 2008,   2.1772,  27.6633,   -999.0,9