BOTTLE,20130510GEMDJMAYT
EXPOCODE,SECT_ID,STNNBR,CASTNO,SAMPNO,BTLNBR,BTLNBR_FLAG_W,DATE,TIME,LATITUDE,LONGITUDE,DEPTH,CTDPRS,CTDTMP,CTDSAL,CTDSAL_FLAG_W,CTDOXY,CTDOXY_FLAG_W,SALNTY,SALNTY_FLAG_W,OXYGEN,OXYGEN_FLAG_W,SILCAT,SILCAT_FLAG_W,NITRAT,NITRAT_FLAG_W,NO2+NO3,NO2+NO3_FLAG_W,NITRIT,NITRIT_FLAG_W,PHSPHT,PHSPHT_FLAG_W,CFC-11,CFC-11_FLAG_W,CFC-12,CFC-12_FLAG_W,DELC13,DELC13_FLAG_W,TCARBN,TCARBN_FLAG_W,ALKALI,ALKALI_FLAG_W,PH,PH_FLAG_W,PH_TMP,PH_SCALE,PH_NBS,PH_NBS_FLAG_W,C13ERR,TOTALP,TOTALP_FLAG_W,AMMONI,AMMONI_FLAG_W,CHLORA,CHLORA_FLAG_W,PPHYTN,PPHYTN_FLAG_W,REVPRS,REVTMP,DEPTH_,DEPTH_FLAG,CTDDEP,THETA,SIGTHT,DOC,DOC_FLAG_W
,,,,,,,GMT,GMT,,,METER,DBAR,ITS-90,PSS-78,,UMOL/KG,,PSS-78,,UMOL/KG,,UMOL/KG,,UMOL/KG,,UMOL/KG,,UMOL/KG,,UMOL/KG,,PMOL/KG,,PMOL/KG,,/MILLE,,UMOL/KG,,UMOL/KG,,25_DEG_C,,DEG_C,,,,/MILLE,UMOL/KG,,UMOL/KG,,UG/L,,UG/L,,DBAR,ITS-90,METERS,,METERS,DEG_C,,UMOL/L,
       KS08-01,  165E,KS-2044,  1,     -9,      -9,5,20080125,0355, 28.0135, 164.9892, 5694,      0.0,  21.5203,  34.7906,2,   -999.0,9,-999.0000,9,    222.0,2,     1.79,2,  -999.00,9,     0.00,2,     0.00,2,     0.01,2, -999.000,9, -999.000,9,  -999.00,9,   -999.0,9,   2279.3,3,   8.0628,2,     25.0, TS,  -999.00,9,   -999.0,  -999.00,9,  -999.00,9,     0.24,2,     0.09,2,   -999.0,-999.0000, -999,9,    0,  21.5201,  24.1921,   -999.0,9
       KS08-01,  165E,KS-2044,  1,     21,02-16027,2,20080125,0415, 28.0135, 164.9892, 5694,     10.9,  21.5214,  34.7904,2,   -999.0,9,  34.7891,2,    221.0,2,     1.76,2,  -999.00,9,     0.00,2,     0.00,2,     0.01,2, -999.000,9, -999.000,9,  -999.00,9,   1979.6,2,   2214.7,4,   8.0638,2,     25.0, TS,  -999.00,9,   -999.0,  -999.00,9,  -999.00,9,     0.24,2,     0.09,2,   -999.0,-999.0000, -999,9,   11,  21.5193,  24.1921,   -999.0,9
       KS08-01,  165E,KS-2044,  1,     20,02-16026,2,20080125,0409, 28.0135, 164.9892, 5694,     25.1,  21.5256,  34.7900,2,   -999.0,9,-999.0000,9,    221.0,2,     1.79,2,  -999.00,9,     0.00,2,     0.00,2,     0.01,2, -999.000,9, -999.000,9,  -999.00,9,   1979.8,2,   2277.4,2,   8.0630,2,     25.0, TS,  -999.00,9,   -999.0,  -999.00,9,  -999.00,9,     0.24,2,     0.08,2,   -999.0,-999.0000, -999,9,   25,  21.5207,  24.1914,   -999.0,9
       KS08-01,  165E,KS-2044,  1,     19,02-19378,2,20080125,0405, 28.0135, 164.9892, 5694,     49.2,  21.5113,  34.7887,2,   -999.0,9,-999.0000,9,    221.0,2,     1.77,2,  -999.00,9,     0.00,2,     0.00,2,     0.01,2, -999.000,9, -999.000,9,  -999.00,9,   1979.1,2,   2277.5,2,   8.0652,2,     25.0, TS,  -999.00,9,   -999.0,  -999.00,9,  -999.00,9,     0.26,2,     0.10,2,   -999.0,-999.0000, -999,9,   49,  21.5018,  24.1957,   -999.0,9
       KS08-01,  165E,KS-2044,  1,     18,02-19377,2,20080125,0404, 28.0135, 164.9892, 5694,     74.1,  21.5109,  34.7890,2,   -999.0,9,-999.0000,9,    220.0,2,     1.80,2,  -999.00,9,     0.00,2,     0.00,2,     0.01,2, -999.000,9, -999.000,9,  -999.00,9,   1978.1,2,   2276.0,2,   8.0643,2,     25.0, TS,  -999.00,9,   -999.0,  -999.00,9,  -999.00,9,     0.28,2,     0.11,2,   -999.0,-999.0000, -999,9,   74,  21.4965,  24.1974,   -999.0,9
       KS08-01,  165E,KS-2044,  1,     17,02-16023,2,20080125,0403, 28.0135, 164.9892, 5694,    100.4,  21.4761,  34.7866,2,   -999.0,9,  34.7909,2,    220.0,2,     1.83,2,  -999.00,9,     0.10,2,     0.01,2,     0.02,2, -999.000,9, -999.000,9,  -999.00,9,   1980.9,2,   2279.0,2,   8.0597,2,     25.0, TS,  -999.00,9,   -999.0,  -999.00,9,  -999.00,9,     0.24,2,     0.11,2,   -999.0,-999.0000, -999,9,  100,  21.4566,  24.2066,   -999.0,9
       KS08-01,  165E,KS-2044,  1,     16,02-16022,2,20080125,0402, 28.0135, 164.9892, 5694,    125.3,  19.2024,  34.8142,2,   -999.0,9,-999.0000,9,    208.0,2,     2.91,2,  -999.00,9,     2.15,2,     0.02,2,     0.15,2, -999.000,9, -999.000,9,  -999.00,9,   2017.8,2,   2277.0,2,   7.9975,2,     25.0, TS,  -999.00,9,   -999.0,  -999.00,9,  -999.00,9,     0.05,2,     0.13,2,   -999.0,-999.0000, -999,9,  124,  19.1799,  24.8331,   -999.0,9
       KS08-01,  165E,KS-2044,  1,     15,02-16021,2,20080125,0401, 28.0135, 164.9892, 5694,    151.0,  18.4916,  34.7973,2,   -999.0,9,-999.0000,9,    207.0,2,     3.25,2,  -999.00,9,     2.83,2,     0.01,2,     0.19,2, -999.000,9, -999.000,9,  -999.00,9,   2022.7,2,   2278.8,2,   7.9897,2,     25.0, TS,  -999.00,9,   -999.0,  -999.00,9,  -999.00,9,     0.02,2,     0.02,2,   -999.0,-999.0000, -999,9,  150,  18.4652,  25.0013,   -999.0,9
       KS08-01,  165E,KS-2044,  1,     14,02-16020,2,20080125,0359, 28.0135, 164.9892, 5694,    200.2,  17.7451,  34.7792,2,   -999.0,9,  34.7782,2,    208.0,2,     3.65,2,  -999.00,9,     4.00,2,     0.00,2,     0.24,2, -999.000,9, -999.000,9,  -999.00,9,   2027.1,2,   2276.6,2,   7.9718,2,     25.0, TS,  -999.00,9,   -999.0,  -999.00,9,  -999.00,9,     0.00,2,     0.01,2,   -999.0,-999.0000, -999,9,  199,  17.7111,  25.1737,   -999.0,9
       KS08-01,  165E,KS-2044,  1,     13,02-16019,2,20080125,0358, 28.0135, 164.9892, 5694,    252.4,  17.0950,  34.7428,2,   -999.0,9,-999.0000,9,    206.0,2,     4.78,2,  -999.00,9,     5.27,2,     0.00,2,     0.32,2, -999.000,9, -999.000,9,  -999.00,9,   2036.9,2,   2275.2,2,   7.9589,2,     25.0, TS,  -999.00,9,   -999.0,  -999.00,9,  -999.00,9,     0.00,2,     0.01,2,   -999.0,-999.0000, -999,9,  251,  17.0532,  25.3042,   -999.0,9
       KS08-01,  165E,KS-2044,  1,     12,02-16018,2,20080125,0356, 28.0135, 164.9892, 5694,    300.1,  16.3585,  34.6894,2,   -999.0,9,  34.6899,2,    199.0,2,     6.69,2,  -999.00,9,     7.02,2,     0.00,2,     0.44,2, -999.000,9, -999.000,9,  -999.00,9,   2048.4,3,   2274.1,2,   7.9291,2,     25.0, TS,  -999.00,9,   -999.0,  -999.00,9,  -999.00,9,     0.00,2,     0.01,2,   -999.0,-999.0000, -999,9,  298,  16.3102,  25.4374,   -999.0,9
       KS08-01,  165E,KS-2044,  1,     11,02-19376,2,20080125,0354, 28.0135, 164.9892, 5694,    402.3,  13.6597,  34.4947,2,   -999.0,9,  34.4956,2,    194.0,2,    14.25,2,  -999.00,9,    11.60,2,     0.00,2,     0.77,2, -999.000,9, -999.000,9,  -999.00,9,   2082.2,2,   2272.2,2,   7.8574,2,     25.0, TS,  -999.00,9,   -999.0,  -999.00,9,  -999.00,9,  -999.00,9,  -999.00,9,   -999.0,-999.0000, -999,9,  399,  13.6024,  25.8792,   -999.0,9
       KS08-01,  165E,KS-2044,  1,     10,02-19375,2,20080125,0351, 28.0135, 164.9892, 5694,    504.3,  10.7029,  34.2637,2,   -999.0,9,  34.2650,2,    196.0,2,    22.01,2,  -999.00,9,    16.37,2,     0.00,2,     1.12,2, -999.000,9, -999.000,9,  -999.00,9,   2115.7,2,   2264.0,2,   7.7737,2,     25.0, TS,  -999.00,9,   -999.0,  -999.00,9,  -999.00,9,  -999.00,9,  -999.00,9,   -999.0,-999.0000, -999,9,  500,  10.6414,  26.2660,   -999.0,9
       KS08-01,  165E,KS-2044,  1,      9,02-16015,2,20080125,0349, 28.0135, 164.9892, 5694,    606.0,   8.0615,  34.0797,2,   -999.0,9,-999.0000,9,    174.0,2,    37.19,2,  -999.00,9,    22.79,2,     0.00,2,     1.62,2, -999.000,9, -999.000,9,  -999.00,9,   2163.7,2,   2270.7,2,   7.6672,2,     25.0, TS,  -999.00,9,   -999.0,  -999.00,9,  -999.00,9,  -999.00,9,  -999.00,9,   -999.0,-999.0000, -999,9,  601,   7.9991,  26.5512,   -999.0,9
       KS08-01,  165E,KS-2044,  1,      8,02-16014,2,20080125,0346, 28.0135, 164.9892, 5694,    706.6,   5.8700,  34.0115,2,   -999.0,9,  34.0124,2,    132.0,2,    62.34,2,  -999.00,9,    30.87,2,     0.00,2,     2.22,2, -999.000,9, -999.000,9,  -999.00,9,   2228.8,2,   2285.1,2,   7.5369,2,     25.0, TS,  -999.00,9,   -999.0,  -999.00,9,  -999.00,9,  -999.00,9,  -999.00,9,   -999.0,-999.0000, -999,9,  701,   5.8085,  26.7954,   -999.0,9
       KS08-01,  165E,KS-2044,  1,      7,02-19374,2,20080125,0344, 28.0135, 164.9892, 5694,    807.1,   4.7370,  34.0995,2,   -999.0,9,  34.0997,2,     84.0,2,    87.14,2,  -999.00,9,    37.00,2,     0.00,2,     2.66,2, -999.000,9, -999.000,9,  -999.00,9,   2286.6,2,   2309.4,2,   7.4341,2,     25.0, TS,  -999.00,9,   -999.0,  -999.00,9,  -999.00,9,  -999.00,9,  -999.00,9,   -999.0,-999.0000, -999,9,  800,   4.6730,  26.9981,   -999.0,9
       KS08-01,  165E,KS-2044,  1,      6,02-19373,2,20080125,0341, 28.0135, 164.9892, 5694,    907.8,   4.1530,  34.2058,2,   -999.0,9,  34.2061,2,     54.0,2,   104.73,2,  -999.00,9,    40.21,2,     0.00,2,     2.88,2, -999.000,9, -999.000,9,  -999.00,9,   2323.7,2,   2326.4,2,   7.3818,2,     25.0, TS,  -999.00,9,   -999.0,  -999.00,9,  -999.00,9,  -999.00,9,  -999.00,9,   -999.0,-999.0000, -999,9,  900,   4.0843,  27.1457,   -999.0,9
       KS08-01,  165E,KS-2044,  1,      5,02-16011,2,20080125,0339, 28.0135, 164.9892, 5694,   1008.2,   3.7330,  34.2788,2,   -999.0,9,  34.2797,2,     43.0,2,   116.99,2,  -999.00,9,    41.57,2,     0.00,2,     2.98,2, -999.000,9, -999.000,9,  -999.00,9,   2335.9,3,   2340.3,2,   7.3751,2,     25.0, TS,  -999.00,9,   -999.0,  -999.00,9,  -999.00,9,  -999.00,9,  -999.00,9,   -999.0,-999.0000, -999,9,  999,   3.6591,  27.2469,   -999.0,9
       KS08-01,  165E,KS-2044,  1,      4,02-16010,2,20080125,0333, 28.0135, 164.9892, 5694,   1262.7,   2.9417,  34.4246,2,   -999.0,9,  34.4250,2,     35.0,2,   139.79,2,  -999.00,9,    43.12,2,     0.00,2,     3.08,2, -999.000,9, -999.000,9,  -999.00,9,   2375.6,2,   2363.9,2,   7.3641,2,     25.0, TS,  -999.00,9,   -999.0,  -999.00,9,  -999.00,9,  -999.00,9,  -999.00,9,   -999.0,-999.0000, -999,9, 1251,   2.8541,  27.4389,   -999.0,9
       KS08-01,  165E,KS-2044,  1,      3,02-16009,2,20080125,0328, 28.0135, 164.9892, 5694,   1514.6,   2.4642,  34.5074,2,   -999.0,9,  34.5071,2,     44.0,2,   151.36,2,  -999.00,9,    42.92,2,     0.00,2,     3.05,2, -999.000,9, -999.000,9,  -999.00,9,   2383.0,2,   2383.2,2,   7.3858,2,     25.0, TS,  -999.00,9,   -999.0,  -999.00,9,  -999.00,9,  -999.00,9,  -999.00,9,   -999.0,-999.0000, -999,9, 1499,   2.3616,  27.5476,   -999.0,9
       KS08-01,  165E,KS-2044,  1,      2,02-16008,2,20080125,0323, 28.0135, 164.9892, 5694,   1767.7,   2.1607,  34.5636,2,   -999.0,9,  34.5637,2,     61.0,2,   155.74,2,  -999.00,9,    42.04,2,     0.00,2,     2.96,2, -999.000,9, -999.000,9,  -999.00,9,   2380.2,2,   2391.6,2,   7.4250,2,     25.0, TS,  -999.00,9,   -999.0,  -999.00,9,  -999.00,9,  -999.00,9,  -999.00,9,   -999.0,-999.0000, -999,9, 1749,   2.0414,  27.6188,   -999.0,9
       KS08-01,  165E,KS-2044,  1,      1,02-16007,2,20080125,0318, 28.0135, 164.9892, 5694,   2033.0,   1.9218,  34.6050,2,   -999.0,9,-999.0000,9,     84.0,2,   156.94,2,  -999.00,9,    40.58,2,     0.00,2,     2.85,2, -999.000,9, -999.000,9,  -999.00,9,   2365.7,3,   2396.4,2,   7.4686,2,     25.0, TS,  -999.00,9,   -999.0,  -999.00,9,  -999.00,9,  -999.00,9,  -999.00,9,   -999.0,-999.0000, -999,9, 2010,   1.7839,  27.6720,   -999.0,9