BOTTLE,20130510GEMDJMAYT
EXPOCODE,SECT_ID,STNNBR,CASTNO,SAMPNO,BTLNBR,BTLNBR_FLAG_W,DATE,TIME,LATITUDE,LONGITUDE,DEPTH,CTDPRS,CTDTMP,CTDSAL,CTDSAL_FLAG_W,CTDOXY,CTDOXY_FLAG_W,SALNTY,SALNTY_FLAG_W,OXYGEN,OXYGEN_FLAG_W,SILCAT,SILCAT_FLAG_W,NITRAT,NITRAT_FLAG_W,NO2+NO3,NO2+NO3_FLAG_W,NITRIT,NITRIT_FLAG_W,PHSPHT,PHSPHT_FLAG_W,CFC-11,CFC-11_FLAG_W,CFC-12,CFC-12_FLAG_W,DELC13,DELC13_FLAG_W,TCARBN,TCARBN_FLAG_W,ALKALI,ALKALI_FLAG_W,PH,PH_FLAG_W,PH_TMP,PH_SCALE,PH_NBS,PH_NBS_FLAG_W,C13ERR,TOTALP,TOTALP_FLAG_W,AMMONI,AMMONI_FLAG_W,CHLORA,CHLORA_FLAG_W,PPHYTN,PPHYTN_FLAG_W,REVPRS,REVTMP,DEPTH_,DEPTH_FLAG,CTDDEP,THETA,SIGTHT,DOC,DOC_FLAG_W
,,,,,,,GMT,GMT,,,METER,DBAR,ITS-90,PSS-78,,UMOL/KG,,PSS-78,,UMOL/KG,,UMOL/KG,,UMOL/KG,,UMOL/KG,,UMOL/KG,,UMOL/KG,,PMOL/KG,,PMOL/KG,,/MILLE,,UMOL/KG,,UMOL/KG,,25_DEG_C,,DEG_C,,,,/MILLE,UMOL/KG,,UMOL/KG,,UG/L,,UG/L,,DBAR,ITS-90,METERS,,METERS,DEG_C,,UMOL/L,
       KS08-01,  165E,KS-2077,  1,     -9,      -9,5,20080213,1920, -5.0073, 164.9913, 2335,      0.0,  29.0187,  34.6380,2,   -999.0,9,-999.0000,9,    196.0,2,     1.06,2,  -999.00,9,     0.00,2,     0.00,2,     0.12,2, -999.000,9, -999.000,9,  -999.00,9,   -999.0,9,   -999.0,9,-999.0000,9,   -999.0,  9,  -999.00,9,   -999.0,  -999.00,9,  -999.00,9,     0.07,2,     0.02,2,   -999.0,-999.0000, -999,9,    0,  29.0185,  21.7861,   -999.0,9
       KS08-01,  165E,KS-2077,  1,     21,02-16027,2,20080213,1941, -5.0073, 164.9913, 2335,     10.5,  29.0188,  34.6377,2,   -999.0,9,  34.6360,2,    199.0,2,     1.05,2,  -999.00,9,     0.00,2,     0.00,2,     0.12,2, -999.000,9, -999.000,9,  -999.00,9,   -999.0,9,   -999.0,9,-999.0000,9,   -999.0,  9,  -999.00,9,   -999.0,  -999.00,9,  -999.00,9,     0.07,2,     0.02,2,   -999.0,-999.0000, -999,9,   10,  29.0163,  21.7866,   -999.0,9
       KS08-01,  165E,KS-2077,  1,     20,02-16026,2,20080213,1940, -5.0073, 164.9913, 2335,     26.4,  29.0278,  34.6375,2,   -999.0,9,-999.0000,9,    197.0,2,     1.03,2,  -999.00,9,     0.00,2,     0.00,2,     0.12,2, -999.000,9, -999.000,9,  -999.00,9,   -999.0,9,   -999.0,9,-999.0000,9,   -999.0,  9,  -999.00,9,   -999.0,  -999.00,9,  -999.00,9,     0.07,2,     0.02,2,   -999.0,-999.0000, -999,9,   26,  29.0214,  21.7848,   -999.0,9
       KS08-01,  165E,KS-2077,  1,     19,02-19378,2,20080213,1936, -5.0073, 164.9913, 2335,     50.2,  29.0395,  34.6897,2,   -999.0,9,-999.0000,9,    196.0,2,     1.08,2,  -999.00,9,     0.00,2,     0.00,2,     0.13,2, -999.000,9, -999.000,9,  -999.00,9,   -999.0,9,   -999.0,9,-999.0000,9,   -999.0,  9,  -999.00,9,   -999.0,  -999.00,9,  -999.00,9,     0.08,2,     0.04,2,   -999.0,-999.0000, -999,9,   50,  29.0274,  21.8219,   -999.0,9
       KS08-01,  165E,KS-2077,  1,     18,02-19377,2,20080213,1935, -5.0073, 164.9913, 2335,     76.0,  29.4140,  35.1684,2,   -999.0,9,-999.0000,9,    193.0,2,     1.07,2,  -999.00,9,     0.00,2,     0.00,2,     0.19,2, -999.000,9, -999.000,9,  -999.00,9,   -999.0,9,   -999.0,9,-999.0000,9,   -999.0,  9,  -999.00,9,   -999.0,  -999.00,9,  -999.00,9,     0.20,2,     0.17,2,   -999.0,-999.0000, -999,9,   76,  29.3954,  22.0577,   -999.0,9
       KS08-01,  165E,KS-2077,  1,     17,02-16023,2,20080213,1934, -5.0073, 164.9913, 2335,    100.6,  28.9965,  35.4478,2,   -999.0,9,  35.4423,4,    175.0,2,     1.48,2,  -999.00,9,     2.45,2,     0.39,2,     0.39,2, -999.000,9, -999.000,9,  -999.00,9,   -999.0,9,   -999.0,9,-999.0000,9,   -999.0,  9,  -999.00,9,   -999.0,  -999.00,9,  -999.00,9,     0.23,2,     0.30,2,   -999.0,-999.0000, -999,9,  100,  28.9721,  22.4097,   -999.0,9
       KS08-01,  165E,KS-2077,  1,     16,02-16022,2,20080213,1933, -5.0073, 164.9913, 2335,    125.6,  28.3943,  35.5627,2,   -999.0,9,-999.0000,9,    159.0,2,     1.67,2,  -999.00,9,     4.69,2,     0.38,2,     0.52,2, -999.000,9, -999.000,9,  -999.00,9,   -999.0,9,   -999.0,9,-999.0000,9,   -999.0,  9,  -999.00,9,   -999.0,  -999.00,9,  -999.00,9,     0.16,2,     0.29,2,   -999.0,-999.0000, -999,9,  125,  28.3643,  22.6981,   -999.0,9
       KS08-01,  165E,KS-2077,  1,     15,02-16021,2,20080213,1932, -5.0073, 164.9913, 2335,    149.5,  27.6412,  35.6646,2,   -999.0,9,-999.0000,9,    144.0,2,     1.82,2,  -999.00,9,     6.74,2,     0.22,2,     0.63,2, -999.000,9, -999.000,9,  -999.00,9,   -999.0,9,   -999.0,9,-999.0000,9,   -999.0,  9,  -999.00,9,   -999.0,  -999.00,9,  -999.00,9,     0.08,2,     0.17,2,   -999.0,-999.0000, -999,9,  149,  27.6062,  23.0230,   -999.0,9
       KS08-01,  165E,KS-2077,  1,     14,02-16020,2,20080213,1930, -5.0073, 164.9913, 2335,    201.6,  23.6841,  36.1029,2,   -999.0,9,  36.1018,2,    131.0,2,     1.81,2,  -999.00,9,     8.00,2,     0.01,2,     0.74,2, -999.000,9, -999.000,9,  -999.00,9,   -999.0,9,   -999.0,9,-999.0000,9,   -999.0,  9,  -999.00,9,   -999.0,  -999.00,9,  -999.00,9,     0.01,2,     0.02,2,   -999.0,-999.0000, -999,9,  200,  23.6418,  24.5827,   -999.0,9
       KS08-01,  165E,KS-2077,  1,     13,02-16019,2,20080213,1928, -5.0073, 164.9913, 2335,    251.8,  16.3200,  35.3358,2,   -999.0,9,-999.0000,9,    108.0,2,     7.94,2,  -999.00,9,    16.67,2,     0.00,2,     1.34,2, -999.000,9, -999.000,9,  -999.00,9,   -999.0,9,   -999.0,9,-999.0000,9,   -999.0,  9,  -999.00,9,   -999.0,  -999.00,9,  -999.00,9,     0.00,2,     0.01,2,   -999.0,-999.0000, -999,9,  250,  16.2794,  25.9416,   -999.0,9
       KS08-01,  165E,KS-2077,  1,     12,02-16018,2,20080213,1926, -5.0073, 164.9913, 2335,    302.8,  10.6156,  34.7956,2,   -999.0,9,  34.8037,4,    140.0,2,    15.69,2,  -999.00,9,    23.08,2,     0.00,2,     1.63,2, -999.000,9, -999.000,9,  -999.00,9,   -999.0,9,   -999.0,9,-999.0000,9,   -999.0,  9,  -999.00,9,   -999.0,  -999.00,9,  -999.00,9,     0.00,2,     0.02,2,   -999.0,-999.0000, -999,9,  301,  10.5790,  26.6917,   -999.0,9
       KS08-01,  165E,KS-2077,  1,     11,02-19376,2,20080213,1924, -5.0073, 164.9913, 2335,    402.9,   9.2830,  34.6887,2,   -999.0,9,  34.6890,2,    133.0,2,    21.39,2,  -999.00,9,    26.78,2,     0.00,2,     1.85,2, -999.000,9, -999.000,9,  -999.00,9,   -999.0,9,   -999.0,9,-999.0000,9,   -999.0,  9,  -999.00,9,   -999.0,  -999.00,9,  -999.00,9,  -999.00,9,  -999.00,9,   -999.0,-999.0000, -999,9,  400,   9.2380,  26.8360,   -999.0,9
       KS08-01,  165E,KS-2077,  1,     10,02-19375,2,20080213,1921, -5.0073, 164.9913, 2335,    503.6,   8.1962,  34.6217,2,   -999.0,9,  34.6223,2,    109.0,2,    29.55,2,  -999.00,9,    31.45,2,     0.00,2,     2.17,2, -999.000,9, -999.000,9,  -999.00,9,   -999.0,9,   -999.0,9,-999.0000,9,   -999.0,  9,  -999.00,9,   -999.0,  -999.00,9,  -999.00,9,  -999.00,9,  -999.00,9,   -999.0,-999.0000, -999,9,  500,   8.1438,  26.9551,   -999.0,9
       KS08-01,  165E,KS-2077,  1,      9,02-16015,2,20080213,1918, -5.0073, 164.9913, 2335,    604.2,   7.3862,  34.5730,2,   -999.0,9,  34.5731,2,    115.0,2,    34.10,2,  -999.00,9,    32.62,2,     0.00,2,     2.26,2, -999.000,9, -999.000,9,  -999.00,9,   -999.0,9,   -999.0,9,-999.0000,9,   -999.0,  9,  -999.00,9,   -999.0,  -999.00,9,  -999.00,9,  -999.00,9,  -999.00,9,   -999.0,-999.0000, -999,9,  600,   7.3266,  27.0366,   -999.0,9
       KS08-01,  165E,KS-2077,  1,      8,02-16014,2,20080213,1915, -5.0073, 164.9913, 2335,    705.0,   6.4516,  34.5403,2,   -999.0,9,  34.5411,2,    113.0,2,    43.15,2,  -999.00,9,    34.85,2,     0.00,2,     2.41,2, -999.000,9, -999.000,9,  -999.00,9,   -999.0,9,   -999.0,9,-999.0000,9,   -999.0,  9,  -999.00,9,   -999.0,  -999.00,9,  -999.00,9,  -999.00,9,  -999.00,9,   -999.0,-999.0000, -999,9,  700,   6.3865,  27.1395,   -999.0,9
       KS08-01,  165E,KS-2077,  1,      7,02-19374,2,20080213,1912, -5.0073, 164.9913, 2335,    807.7,   5.7888,  34.5257,2,   -999.0,9,  34.5253,2,    116.0,2,    51.21,2,  -999.00,9,    35.53,2,     0.00,2,     2.47,2, -999.000,9, -999.000,9,  -999.00,9,   -999.0,9,   -999.0,9,-999.0000,9,   -999.0,  9,  -999.00,9,   -999.0,  -999.00,9,  -999.00,9,  -999.00,9,  -999.00,9,   -999.0,-999.0000, -999,9,  802,   5.7178,  27.2133,   -999.0,9
       KS08-01,  165E,KS-2077,  1,      6,02-19373,2,20080213,1910, -5.0073, 164.9913, 2335,    907.8,   5.1891,  34.5225,2,   -999.0,9,  34.5235,2,    122.0,2,    59.15,2,  -999.00,9,    35.53,2,     0.00,2,     2.48,2, -999.000,9, -999.000,9,  -999.00,9,   -999.0,9,   -999.0,9,-999.0000,9,   -999.0,  9,  -999.00,9,   -999.0,  -999.00,9,  -999.00,9,  -999.00,9,  -999.00,9,   -999.0,-999.0000, -999,9,  901,   5.1127,  27.2836,   -999.0,9
       KS08-01,  165E,KS-2077,  1,      5,02-16011,2,20080213,1907, -5.0073, 164.9913, 2335,   1007.9,   4.7281,  34.5307,2,   -999.0,9,  34.5301,2,    116.0,2,    68.41,2,  -999.00,9,    36.99,2,     0.00,2,     2.58,2, -999.000,9, -999.000,9,  -999.00,9,   -999.0,9,   -999.0,9,-999.0000,9,   -999.0,  9,  -999.00,9,   -999.0,  -999.00,9,  -999.00,9,  -999.00,9,  -999.00,9,   -999.0,-999.0000, -999,9, 1000,   4.6461,  27.3434,   -999.0,9
       KS08-01,  165E,KS-2077,  1,      4,02-16010,2,20080213,1902, -5.0073, 164.9913, 2335,   1259.5,   3.6033,  34.5683,2,   -999.0,9,  34.5683,2,    112.0,2,    93.91,2,  -999.00,9,    38.25,2,     0.00,2,     2.69,2, -999.000,9, -999.000,9,  -999.00,9,   -999.0,9,   -999.0,9,-999.0000,9,   -999.0,  9,  -999.00,9,   -999.0,  -999.00,9,  -999.00,9,  -999.00,9,  -999.00,9,   -999.0,-999.0000, -999,9, 1249,   3.5092,  27.4922,   -999.0,9
       KS08-01,  165E,KS-2077,  1,      3,02-16009,2,20080213,1857, -5.0073, 164.9913, 2335,   1511.8,   2.8853,  34.6004,2,   -999.0,9,  34.6007,2,    118.0,2,   110.01,2,  -999.00,9,    38.05,2,     0.00,2,     2.68,2, -999.000,9, -999.000,9,  -999.00,9,   -999.0,9,   -999.0,9,-999.0000,9,   -999.0,  9,  -999.00,9,   -999.0,  -999.00,9,  -999.00,9,  -999.00,9,  -999.00,9,   -999.0,-999.0000, -999,9, 1498,   2.7777,  27.5861,   -999.0,9
       KS08-01,  165E,KS-2077,  1,      2,02-16008,2,20080213,1851, -5.0073, 164.9913, 2335,   1766.0,   2.4613,  34.6233,2,   -999.0,9,  34.6234,2,    125.0,2,   120.03,2,  -999.00,9,    38.05,2,     0.00,2,     2.66,2, -999.000,9, -999.000,9,  -999.00,9,   -999.0,9,   -999.0,9,-999.0000,9,   -999.0,  9,  -999.00,9,   -999.0,  -999.00,9,  -999.00,9,  -999.00,9,  -999.00,9,   -999.0,-999.0000, -999,9, 1749,   2.3379,  27.6424,   -999.0,9
       KS08-01,  165E,KS-2077,  1,      1,02-16007,2,20080213,1846, -5.0073, 164.9913, 2335,   2033.9,   2.1248,  34.6432,2,   -999.0,9,  34.6434,2,    129.0,2,   128.54,2,  -999.00,9,    37.85,2,     0.00,2,     2.63,2, -999.000,9, -999.000,9,  -999.00,9,   -999.0,9,   -999.0,9,-999.0000,9,   -999.0,  9,  -999.00,9,   -999.0,  -999.00,9,  -999.00,9,  -999.00,9,  -999.00,9,   -999.0,-999.0000, -999,9, 2013,   1.9835,  27.6871,   -999.0,9
       KS08-01,  165E,KS-2078,  1,     -9,      -9,5,20080215,0256, -0.0030, 164.9803, 4405,      0.0,  27.2010,  35.4165,2,   -999.0,9,-999.0000,9,    197.0,2,     2.43,2,  -999.00,9,     4.99,2,     0.43,2,     0.49,2, -999.000,9, -999.000,9,  -999.00,9,   -999.0,9,   -999.0,9,-999.0000,9,   -999.0,  9,  -999.00,9,   -999.0,  -999.00,9,  -999.00,9,     0.18,2,     0.04,2,   -999.0,-999.0000, -999,9,    0,  27.2008,  22.9672,   -999.0,9
       KS08-01,  165E,KS-2078,  1,     17,02-16023,2,20080215,0327, -0.0030, 164.9803, 4405,      9.5,  26.7725,  35.4099,2,   -999.0,9,-999.0000,9,    197.0,2,     2.48,2,  -999.00,9,     4.89,2,     0.42,2,     0.48,2, -999.000,9, -999.000,9,  -999.00,9,   -999.0,9,   -999.0,9,-999.0000,9,   -999.0,  9,  -999.00,9,   -999.0,  -999.00,9,  -999.00,9,     0.20,2,     0.06,2,   -999.0,-999.0000, -999,9,    9,  26.7703,  23.0998,   -999.0,9
       KS08-01,  165E,KS-2078,  1,     16,02-16022,2,20080215,0326, -0.0030, 164.9803, 4405,     20.1,  26.7066,  35.4059,2,   -999.0,9,-999.0000,9,    197.0,2,     2.47,2,  -999.00,9,     4.98,2,     0.43,2,     0.48,2, -999.000,9, -999.000,9,  -999.00,9,   -999.0,9,   -999.0,9,-999.0000,9,   -999.0,  9,  -999.00,9,   -999.0,  -999.00,9,  -999.00,9,  -999.00,9,  -999.00,9,   -999.0,-999.0000, -999,9,   20,  26.7020,  23.1185,   -999.0,9
       KS08-01,  165E,KS-2078,  1,     15,02-16021,2,20080215,0325, -0.0030, 164.9803, 4405,     29.4,  26.6334,  35.3960,2,   -999.0,9,-999.0000,9,    196.0,2,     2.46,2,  -999.00,9,     4.98,2,     0.44,2,     0.49,2, -999.000,9, -999.000,9,  -999.00,9,   -999.0,9,   -999.0,9,-999.0000,9,   -999.0,  9,  -999.00,9,   -999.0,  -999.00,9,  -999.00,9,     0.27,2,     0.09,2,   -999.0,-999.0000, -999,9,   29,  26.6267,  23.1350,   -999.0,9
       KS08-01,  165E,KS-2078,  1,     14,02-16020,2,20080215,0324, -0.0030, 164.9803, 4405,     40.2,  26.5629,  35.3871,2,   -999.0,9,-999.0000,9,    194.0,2,     2.51,2,  -999.00,9,     5.18,2,     0.48,2,     0.49,2, -999.000,9, -999.000,9,  -999.00,9,   -999.0,9,   -999.0,9,-999.0000,9,   -999.0,  9,  -999.00,9,   -999.0,  -999.00,9,  -999.00,9,  -999.00,9,  -999.00,9,   -999.0,-999.0000, -999,9,   40,  26.5538,  23.1513,   -999.0,9
       KS08-01,  165E,KS-2078,  1,     13,02-16019,2,20080215,0323, -0.0030, 164.9803, 4405,     50.7,  26.4937,  35.3869,2,   -999.0,9,-999.0000,9,    192.0,2,     2.56,2,  -999.00,9,     5.38,2,     0.60,2,     0.50,2, -999.000,9, -999.000,9,  -999.00,9,   -999.0,9,   -999.0,9,-999.0000,9,   -999.0,  9,  -999.00,9,   -999.0,  -999.00,9,  -999.00,9,     0.31,2,     0.16,2,   -999.0,-999.0000, -999,9,   50,  26.4822,  23.1738,   -999.0,9
       KS08-01,  165E,KS-2078,  1,     12,02-16018,2,20080215,0316, -0.0030, 164.9803, 4405,     59.7,  26.4297,  35.3995,2,   -999.0,9,-999.0000,9,    188.0,2,     2.50,2,  -999.00,9,     5.67,2,     0.82,2,     0.53,2, -999.000,9, -999.000,9,  -999.00,9,   -999.0,9,   -999.0,9,-999.0000,9,   -999.0,  9,  -999.00,9,   -999.0,  -999.00,9,  -999.00,9,  -999.00,9,  -999.00,9,   -999.0,-999.0000, -999,9,   59,  26.4162,  23.2042,   -999.0,9
       KS08-01,  165E,KS-2078,  1,     11,02-19376,2,20080215,0315, -0.0030, 164.9803, 4405,     80.6,  26.3912,  35.4358,2,   -999.0,9,-999.0000,9,    181.0,2,     2.50,2,  -999.00,9,     6.16,2,     0.91,2,     0.56,2, -999.000,9, -999.000,9,  -999.00,9,   -999.0,9,   -999.0,9,-999.0000,9,   -999.0,  9,  -999.00,9,   -999.0,  -999.00,9,  -999.00,9,     0.23,2,     0.12,2,   -999.0,-999.0000, -999,9,   80,  26.3730,  23.2452,   -999.0,9
       KS08-01,  165E,KS-2078,  1,     10,02-19375,2,20080215,0314, -0.0030, 164.9803, 4405,    100.9,  26.3802,  35.4329,2,   -999.0,9,-999.0000,9,    180.0,2,     2.54,2,  -999.00,9,     6.25,2,     0.75,2,     0.57,2, -999.000,9, -999.000,9,  -999.00,9,   -999.0,9,   -999.0,9,-999.0000,9,   -999.0,  9,  -999.00,9,   -999.0,  -999.00,9,  -999.00,9,     0.20,2,     0.10,2,   -999.0,-999.0000, -999,9,  100,  26.3574,  23.2479,   -999.0,9
       KS08-01,  165E,KS-2078,  1,      9,02-16015,2,20080215,0312, -0.0030, 164.9803, 4405,    121.1,  26.2247,  35.4743,2,   -999.0,9,-999.0000,9,    174.0,2,     2.59,2,  -999.00,9,     6.55,2,     0.39,2,     0.59,2, -999.000,9, -999.000,9,  -999.00,9,   -999.0,9,   -999.0,9,-999.0000,9,   -999.0,  9,  -999.00,9,   -999.0,  -999.00,9,  -999.00,9,     0.05,2,     0.04,2,   -999.0,-999.0000, -999,9,  120,  26.1974,  23.3294,   -999.0,9
       KS08-01,  165E,KS-2078,  1,      8,02-16014,2,20080215,0311, -0.0030, 164.9803, 4405,    141.5,  26.0105,  35.5348,2,   -999.0,9,-999.0000,9,    171.0,2,     2.64,2,  -999.00,9,     6.94,2,     0.13,2,     0.62,2, -999.000,9, -999.000,9,  -999.00,9,   -999.0,9,   -999.0,9,-999.0000,9,   -999.0,  9,  -999.00,9,   -999.0,  -999.00,9,  -999.00,9,  -999.00,9,  -999.00,9,   -999.0,-999.0000, -999,9,  141,  25.9788,  23.4435,   -999.0,9
       KS08-01,  165E,KS-2078,  1,      7,02-19374,2,20080215,0309, -0.0030, 164.9803, 4405,    163.1,  23.4004,  35.4118,2,   -999.0,9,-999.0000,9,    146.0,2,     3.88,2,  -999.00,9,     8.98,2,     0.02,2,     0.71,2, -999.000,9, -999.000,9,  -999.00,9,   -999.0,9,   -999.0,9,-999.0000,9,   -999.0,  9,  -999.00,9,   -999.0,  -999.00,9,  -999.00,9,     0.02,2,     0.02,2,   -999.0,-999.0000, -999,9,  162,  23.3666,  24.1395,   -999.0,9
       KS08-01,  165E,KS-2078,  1,      6,02-19373,2,20080215,0305, -0.0030, 164.9803, 4405,    183.9,  18.0677,  35.1380,2,   -999.0,9,-999.0000,9,    141.0,2,     9.03,2,  -999.00,9,    12.00,2,     0.01,2,     0.89,2, -999.000,9, -999.000,9,  -999.00,9,   -999.0,9,   -999.0,9,-999.0000,9,   -999.0,  9,  -999.00,9,   -999.0,  -999.00,9,  -999.00,9,  -999.00,9,  -999.00,9,   -999.0,-999.0000, -999,9,  183,  18.0360,  25.3689,   -999.0,9
       KS08-01,  165E,KS-2078,  1,      5,02-16011,2,20080215,0300, -0.0030, 164.9803, 4405,    201.9,  16.6875,  35.1272,2,   -999.0,9,-999.0000,9,    141.0,2,    11.40,2,  -999.00,9,    14.14,2,     0.01,2,     1.02,2, -999.000,9, -999.000,9,  -999.00,9,   -999.0,9,   -999.0,9,-999.0000,9,   -999.0,  9,  -999.00,9,   -999.0,  -999.00,9,  -999.00,9,     0.01,2,     0.01,2,   -999.0,-999.0000, -999,9,  201,  16.6546,  25.6936,   -999.0,9
       KS08-01,  165E,KS-2078,  1,      4,02-16010,2,20080215,0259, -0.0030, 164.9803, 4405,    226.3,  15.5063,  35.0405,2,   -999.0,9,-999.0000,9,    140.0,2,    12.31,2,  -999.00,9,    15.69,2,     0.00,2,     1.13,2, -999.000,9, -999.000,9,  -999.00,9,   -999.0,9,   -999.0,9,-999.0000,9,   -999.0,  9,  -999.00,9,   -999.0,  -999.00,9,  -999.00,9,  -999.00,9,  -999.00,9,   -999.0,-999.0000, -999,9,  225,  15.4712,  25.8986,   -999.0,9
       KS08-01,  165E,KS-2078,  1,      3,02-16009,2,20080215,0258, -0.0030, 164.9803, 4405,    252.0,  14.9855,  35.1365,2,   -999.0,9,-999.0000,9,    145.0,2,     9.88,2,  -999.00,9,    15.89,2,     0.00,2,     1.15,2, -999.000,9, -999.000,9,  -999.00,9,   -999.0,9,   -999.0,9,-999.0000,9,   -999.0,  9,  -999.00,9,   -999.0,  -999.00,9,  -999.00,9,     0.00,2,     0.01,2,   -999.0,-999.0000, -999,9,  250,  14.9473,  26.0888,   -999.0,9
       KS08-01,  165E,KS-2078,  1,      2,02-16008,2,20080215,0257, -0.0030, 164.9803, 4405,    302.9,  12.3889,  34.9046,2,   -999.0,9,-999.0000,9,    134.0,2,    16.23,2,  -999.00,9,    20.95,2,     0.00,2,     1.47,2, -999.000,9, -999.000,9,  -999.00,9,   -999.0,9,   -999.0,9,-999.0000,9,   -999.0,  9,  -999.00,9,   -999.0,  -999.00,9,  -999.00,9,     0.00,2,     0.01,2,   -999.0,-999.0000, -999,9,  301,  12.3484,  26.4478,   -999.0,9
       KS08-01,  165E,KS-2078,  1,      1,02-16007,2,20080215,0254, -0.0030, 164.9803, 4405,    402.2,   9.8029,  34.7117,2,   -999.0,9,-999.0000,9,     69.0,2,    29.33,2,  -999.00,9,    32.33,2,     0.00,2,     2.22,2, -999.000,9, -999.000,9,  -999.00,9,   -999.0,9,   -999.0,9,-999.0000,9,   -999.0,  9,  -999.00,9,   -999.0,  -999.00,9,  -999.00,9,  -999.00,9,  -999.00,9,   -999.0,-999.0000, -999,9,  400,   9.7565,  26.7681,   -999.0,9