BOTTLE,20130510GEMDJMAYT
EXPOCODE,SECT_ID,STNNBR,CASTNO,SAMPNO,BTLNBR,BTLNBR_FLAG_W,DATE,TIME,LATITUDE,LONGITUDE,DEPTH,CTDPRS,CTDTMP,CTDSAL,CTDSAL_FLAG_W,CTDOXY,CTDOXY_FLAG_W,SALNTY,SALNTY_FLAG_W,OXYGEN,OXYGEN_FLAG_W,SILCAT,SILCAT_FLAG_W,NITRAT,NITRAT_FLAG_W,NO2+NO3,NO2+NO3_FLAG_W,NITRIT,NITRIT_FLAG_W,PHSPHT,PHSPHT_FLAG_W,CFC-11,CFC-11_FLAG_W,CFC-12,CFC-12_FLAG_W,DELC13,DELC13_FLAG_W,TCARBN,TCARBN_FLAG_W,ALKALI,ALKALI_FLAG_W,PH,PH_FLAG_W,PH_TMP,PH_SCALE,PH_NBS,PH_NBS_FLAG_W,C13ERR,TOTALP,TOTALP_FLAG_W,AMMONI,AMMONI_FLAG_W,CHLORA,CHLORA_FLAG_W,PPHYTN,PPHYTN_FLAG_W,REVPRS,REVTMP,DEPTH_,DEPTH_FLAG,CTDDEP,THETA,SIGTHT,DOC,DOC_FLAG_W
,,,,,,,GMT,GMT,,,METER,DBAR,ITS-90,PSS-78,,UMOL/KG,,PSS-78,,UMOL/KG,,UMOL/KG,,UMOL/KG,,UMOL/KG,,UMOL/KG,,UMOL/KG,,PMOL/KG,,PMOL/KG,,/MILLE,,UMOL/KG,,UMOL/KG,,25_DEG_C,,DEG_C,,,,/MILLE,UMOL/KG,,UMOL/KG,,UG/L,,UG/L,,DBAR,ITS-90,METERS,,METERS,DEG_C,,UMOL/L,
       KS08-01, EQPAC,KS-2089,  1,     -9,      -9,5,20080222,1238, -0.0007, 144.9847, 3677,      0.0,  29.6753,  34.9346,2,   -999.0,9,-999.0000,9,    198.0,2,     0.97,2,  -999.00,9,     0.00,2,     0.00,2,     0.14,2, -999.000,9, -999.000,9,  -999.00,9,   -999.0,9,   -999.0,9,-999.0000,9,   -999.0,  9,  -999.00,9,   -999.0,  -999.00,9,  -999.00,9,     0.12,2,     0.04,2,   -999.0,-999.0000, -999,9,    0,  29.6751,  21.7877,   -999.0,9
       KS08-01, EQPAC,KS-2089,  1,     21,02-16027,2,20080222,1254, -0.0007, 144.9847, 3677,     10.1,  29.6815,  34.9359,2,   -999.0,9,  34.9359,2,    199.0,2,     0.89,2,  -999.00,9,     0.00,2,     0.00,2,     0.14,2, -999.000,9, -999.000,9,  -999.00,9,   -999.0,9,   -999.0,9,-999.0000,9,   -999.0,  9,  -999.00,9,   -999.0,  -999.00,9,  -999.00,9,     0.08,2,     0.06,2,   -999.0,-999.0000, -999,9,   10,  29.6790,  21.7873,   -999.0,9
       KS08-01, EQPAC,KS-2089,  1,     20,02-16026,2,20080222,1253, -0.0007, 144.9847, 3677,     25.7,  29.6642,  34.9756,2,   -999.0,9,-999.0000,9,    199.0,2,     0.98,2,  -999.00,9,     0.00,2,     0.00,2,     0.14,2, -999.000,9, -999.000,9,  -999.00,9,   -999.0,9,   -999.0,9,-999.0000,9,   -999.0,  9,  -999.00,9,   -999.0,  -999.00,9,  -999.00,9,     0.11,2,     0.04,2,   -999.0,-999.0000, -999,9,   26,  29.6579,  21.8243,   -999.0,9
       KS08-01, EQPAC,KS-2089,  1,     19,02-19378,2,20080222,1249, -0.0007, 144.9847, 3677,     50.1,  29.5710,  35.1358,2,   -999.0,9,-999.0000,9,    199.0,2,     0.96,2,  -999.00,9,     0.00,2,     0.00,2,     0.16,2, -999.000,9, -999.000,9,  -999.00,9,   -999.0,9,   -999.0,9,-999.0000,9,   -999.0,  9,  -999.00,9,   -999.0,  -999.00,9,  -999.00,9,     0.23,2,     0.13,2,   -999.0,-999.0000, -999,9,   50,  29.5587,  21.9781,   -999.0,9
       KS08-01, EQPAC,KS-2089,  1,     18,02-19377,2,20080222,1249, -0.0007, 144.9847, 3677,     74.0,  29.4537,  35.1982,2,   -999.0,9,-999.0000,9,    197.0,2,     0.93,2,  -999.00,9,     0.00,2,     0.01,2,     0.19,2, -999.000,9, -999.000,9,  -999.00,9,   -999.0,9,   -999.0,9,-999.0000,9,   -999.0,  9,  -999.00,9,   -999.0,  -999.00,9,  -999.00,9,     0.30,2,     0.24,2,   -999.0,-999.0000, -999,9,   74,  29.4356,  22.0665,   -999.0,9
       KS08-01, EQPAC,KS-2089,  1,     17,02-16023,2,20080222,1248, -0.0007, 144.9847, 3677,     98.9,  28.7727,  35.3829,2,   -999.0,9,  35.3801,2,    187.0,2,     1.28,2,  -999.00,9,     2.05,2,     0.74,2,     0.34,2, -999.000,9, -999.000,9,  -999.00,9,   -999.0,9,   -999.0,9,-999.0000,9,   -999.0,  9,  -999.00,9,   -999.0,  -999.00,9,  -999.00,9,     0.16,2,     0.20,2,   -999.0,-999.0000, -999,9,   98,  28.7489,  22.4355,   -999.0,9
       KS08-01, EQPAC,KS-2089,  1,     16,02-16022,2,20080222,1247, -0.0007, 144.9847, 3677,    125.2,  28.5322,  35.4363,2,   -999.0,9,-999.0000,9,    188.0,2,     1.41,2,  -999.00,9,     2.93,2,     0.98,2,     0.39,2, -999.000,9, -999.000,9,  -999.00,9,   -999.0,9,   -999.0,9,-999.0000,9,   -999.0,  9,  -999.00,9,   -999.0,  -999.00,9,  -999.00,9,     0.10,2,     0.14,2,   -999.0,-999.0000, -999,9,  124,  28.5022,  22.5574,   -999.0,9
       KS08-01, EQPAC,KS-2089,  1,     15,02-16021,2,20080222,1246, -0.0007, 144.9847, 3677,    152.6,  25.6933,  35.5868,2,   -999.0,9,-999.0000,9,    157.0,2,     2.28,2,  -999.00,9,     7.13,2,     0.03,2,     0.63,2, -999.000,9, -999.000,9,  -999.00,9,   -999.0,9,   -999.0,9,-999.0000,9,   -999.0,  9,  -999.00,9,   -999.0,  -999.00,9,  -999.00,9,     0.03,2,     0.04,2,   -999.0,-999.0000, -999,9,  152,  25.6595,  23.5821,   -999.0,9
       KS08-01, EQPAC,KS-2089,  1,     14,02-16020,2,20080222,1244, -0.0007, 144.9847, 3677,    202.8,  19.2628,  35.1906,2,   -999.0,9,  35.1289,4,    143.0,2,     7.07,2,  -999.00,9,    10.83,2,     0.01,2,     0.81,2, -999.000,9, -999.000,9,  -999.00,9,   -999.0,9,   -999.0,9,-999.0000,9,   -999.0,  9,  -999.00,9,   -999.0,  -999.00,9,  -999.00,9,     0.00,2,     0.01,2,   -999.0,-999.0000, -999,9,  202,  19.2262,  25.1089,   -999.0,9
       KS08-01, EQPAC,KS-2089,  1,     13,02-16019,2,20080222,1243, -0.0007, 144.9847, 3677,    251.4,  16.5295,  35.2753,2,   -999.0,9,-999.0000,9,    147.0,2,     6.51,2,  -999.00,9,    13.16,2,     0.01,2,     0.97,2, -999.000,9, -999.000,9,  -999.00,9,   -999.0,9,   -999.0,9,-999.0000,9,   -999.0,  9,  -999.00,9,   -999.0,  -999.00,9,  -999.00,9,     0.00,2,     0.02,2,   -999.0,-999.0000, -999,9,  250,  16.4887,  25.8463,   -999.0,9
       KS08-01, EQPAC,KS-2089,  1,     12,02-16018,2,20080222,1241, -0.0007, 144.9847, 3677,    302.3,  13.4363,  35.0288,2,   -999.0,9,  35.0296,2,    153.0,2,    10.62,2,  -999.00,9,    17.15,2,     0.00,2,     1.23,2, -999.000,9, -999.000,9,  -999.00,9,   -999.0,9,   -999.0,9,-999.0000,9,   -999.0,  9,  -999.00,9,   -999.0,  -999.00,9,  -999.00,9,     0.00,2,     0.01,2,   -999.0,-999.0000, -999,9,  300,  13.3936,  26.3353,   -999.0,9
       KS08-01, EQPAC,KS-2089,  1,     11,02-19376,2,20080222,1238, -0.0007, 144.9847, 3677,    405.9,  10.0049,  34.7256,2,   -999.0,9,  34.7269,2,    117.0,2,    23.80,2,  -999.00,9,    26.78,2,     0.00,2,     1.86,2, -999.000,9, -999.000,9,  -999.00,9,   -999.0,9,   -999.0,9,-999.0000,9,   -999.0,  9,  -999.00,9,   -999.0,  -999.00,9,  -999.00,9,  -999.00,9,  -999.00,9,   -999.0,-999.0000, -999,9,  403,   9.9574,  26.7449,   -999.0,9
       KS08-01, EQPAC,KS-2089,  1,     10,02-19375,2,20080222,1235, -0.0007, 144.9847, 3677,    503.7,   8.3176,  34.6071,2,   -999.0,9,  34.6063,2,    113.0,2,    33.17,2,  -999.00,9,    30.38,2,     0.00,2,     2.11,2, -999.000,9, -999.000,9,  -999.00,9,   -999.0,9,   -999.0,9,-999.0000,9,   -999.0,  9,  -999.00,9,   -999.0,  -999.00,9,  -999.00,9,  -999.00,9,  -999.00,9,   -999.0,-999.0000, -999,9,  500,   8.2647,  26.9253,   -999.0,9
       KS08-01, EQPAC,KS-2089,  1,      9,02-16015,2,20080222,1232, -0.0007, 144.9847, 3677,    605.8,   6.9796,  34.5572,2,   -999.0,9,  34.5554,2,    115.0,2,    40.13,2,  -999.00,9,    33.49,2,     0.00,2,     2.32,2, -999.000,9, -999.000,9,  -999.00,9,   -999.0,9,   -999.0,9,-999.0000,9,   -999.0,  9,  -999.00,9,   -999.0,  -999.00,9,  -999.00,9,  -999.00,9,  -999.00,9,   -999.0,-999.0000, -999,9,  602,   6.9217,  27.0808,   -999.0,9
       KS08-01, EQPAC,KS-2089,  1,      8,02-16014,2,20080222,1229, -0.0007, 144.9847, 3677,    706.7,   6.5866,  34.5454,2,   -999.0,9,  34.5462,2,    109.0,2,    44.85,2,  -999.00,9,    34.85,2,     0.00,2,     2.40,2, -999.000,9, -999.000,9,  -999.00,9,   -999.0,9,   -999.0,9,-999.0000,9,   -999.0,  9,  -999.00,9,   -999.0,  -999.00,9,  -999.00,9,  -999.00,9,  -999.00,9,   -999.0,-999.0000, -999,9,  702,   6.5207,  27.1257,   -999.0,9
       KS08-01, EQPAC,KS-2089,  1,      7,02-19374,2,20080222,1226, -0.0007, 144.9847, 3677,    805.5,   5.7760,  34.5356,2,   -999.0,9,  34.5345,2,    105.0,2,    57.51,2,  -999.00,9,    36.31,2,     0.00,2,     2.54,2, -999.000,9, -999.000,9,  -999.00,9,   -999.0,9,   -999.0,9,-999.0000,9,   -999.0,  9,  -999.00,9,   -999.0,  -999.00,9,  -999.00,9,  -999.00,9,  -999.00,9,   -999.0,-999.0000, -999,9,  800,   5.7052,  27.2227,   -999.0,9
       KS08-01, EQPAC,KS-2089,  1,      6,02-19373,2,20080222,1224, -0.0007, 144.9847, 3677,    906.8,   5.0630,  34.5377,2,   -999.0,9,  34.5362,2,    111.0,2,    69.02,2,  -999.00,9,    36.50,2,     0.00,2,     2.55,2, -999.000,9, -999.000,9,  -999.00,9,   -999.0,9,   -999.0,9,-999.0000,9,   -999.0,  9,  -999.00,9,   -999.0,  -999.00,9,  -999.00,9,  -999.00,9,  -999.00,9,   -999.0,-999.0000, -999,9,  900,   4.9876,  27.3101,   -999.0,9
       KS08-01, EQPAC,KS-2089,  1,      5,02-16011,2,20080222,1221, -0.0007, 144.9847, 3677,   1008.2,   4.6180,  34.5468,2,   -999.0,9,  34.5453,2,    108.0,2,    78.47,2,  -999.00,9,    37.57,2,     0.00,2,     2.62,2, -999.000,9, -999.000,9,  -999.00,9,   -999.0,9,   -999.0,9,-999.0000,9,   -999.0,  9,  -999.00,9,   -999.0,  -999.00,9,  -999.00,9,  -999.00,9,  -999.00,9,   -999.0,-999.0000, -999,9, 1000,   4.5368,  27.3682,   -999.0,9
       KS08-01, EQPAC,KS-2089,  1,      4,02-16010,2,20080222,1215, -0.0007, 144.9847, 3677,   1261.7,   3.8155,  34.5730,2,   -999.0,9,  34.5720,2,     99.0,2,    97.97,2,  -999.00,9,    38.93,2,     0.00,2,     2.74,2, -999.000,9, -999.000,9,  -999.00,9,   -999.0,9,   -999.0,9,-999.0000,9,   -999.0,  9,  -999.00,9,   -999.0,  -999.00,9,  -999.00,9,  -999.00,9,  -999.00,9,   -999.0,-999.0000, -999,9, 1251,   3.7192,  27.4752,   -999.0,9
       KS08-01, EQPAC,KS-2089,  1,      3,02-16009,2,20080222,1210, -0.0007, 144.9847, 3677,   1513.4,   3.0303,  34.5995,2,   -999.0,9,  34.5995,2,    111.0,2,   113.11,2,  -999.00,9,    38.63,2,     0.00,2,     2.71,2, -999.000,9, -999.000,9,  -999.00,9,   -999.0,9,   -999.0,9,-999.0000,9,   -999.0,  9,  -999.00,9,   -999.0,  -999.00,9,  -999.00,9,  -999.00,9,  -999.00,9,   -999.0,-999.0000, -999,9, 1500,   2.9209,  27.5726,   -999.0,9
       KS08-01, EQPAC,KS-2089,  1,      2,02-16008,2,20080222,1205, -0.0007, 144.9847, 3677,   1765.0,   2.4880,  34.6241,2,   -999.0,9,  34.6245,2,    115.0,2,   125.85,2,  -999.00,9,    38.34,2,     0.00,2,     2.69,2, -999.000,9, -999.000,9,  -999.00,9,   -999.0,9,   -999.0,9,-999.0000,9,   -999.0,  9,  -999.00,9,   -999.0,  -999.00,9,  -999.00,9,  -999.00,9,  -999.00,9,   -999.0,-999.0000, -999,9, 1748,   2.3643,  27.6408,   -999.0,9
       KS08-01, EQPAC,KS-2089,  1,      1,02-16007,2,20080222,1201, -0.0007, 144.9847, 3677,   2029.8,   2.2589,  34.6362,2,   -999.0,9,  34.6363,2,    121.0,2,   130.56,2,  -999.00,9,    38.24,2,     0.00,2,     2.67,2, -999.000,9, -999.000,9,  -999.00,9,   -999.0,9,   -999.0,9,-999.0000,9,   -999.0,  9,  -999.00,9,   -999.0,  -999.00,9,  -999.00,9,  -999.00,9,  -999.00,9,   -999.0,-999.0000, -999,9, 2009,   2.1160,  27.6709,   -999.0,9