BOTTLE,20130510GEMDJMAYT
EXPOCODE,SECT_ID,STNNBR,CASTNO,SAMPNO,BTLNBR,BTLNBR_FLAG_W,DATE,TIME,LATITUDE,LONGITUDE,DEPTH,CTDPRS,CTDTMP,CTDSAL,CTDSAL_FLAG_W,CTDOXY,CTDOXY_FLAG_W,SALNTY,SALNTY_FLAG_W,OXYGEN,OXYGEN_FLAG_W,SILCAT,SILCAT_FLAG_W,NITRAT,NITRAT_FLAG_W,NO2+NO3,NO2+NO3_FLAG_W,NITRIT,NITRIT_FLAG_W,PHSPHT,PHSPHT_FLAG_W,CFC-11,CFC-11_FLAG_W,CFC-12,CFC-12_FLAG_W,DELC13,DELC13_FLAG_W,TCARBN,TCARBN_FLAG_W,ALKALI,ALKALI_FLAG_W,PH,PH_FLAG_W,PH_TMP,PH_SCALE,PH_NBS,PH_NBS_FLAG_W,C13ERR,TOTALP,TOTALP_FLAG_W,AMMONI,AMMONI_FLAG_W,CHLORA,CHLORA_FLAG_W,PPHYTN,PPHYTN_FLAG_W,REVPRS,REVTMP,DEPTH_,DEPTH_FLAG,CTDDEP,THETA,SIGTHT,DOC,DOC_FLAG_W
,,,,,,,GMT,GMT,,,METER,DBAR,ITS-90,PSS-78,,UMOL/KG,,PSS-78,,UMOL/KG,,UMOL/KG,,UMOL/KG,,UMOL/KG,,UMOL/KG,,UMOL/KG,,PMOL/KG,,PMOL/KG,,/MILLE,,UMOL/KG,,UMOL/KG,,25_DEG_C,,DEG_C,,,,/MILLE,UMOL/KG,,UMOL/KG,,UG/L,,UG/L,,DBAR,ITS-90,METERS,,METERS,DEG_C,,UMOL/L,
       KS08-01,  NONE,KS-2039,  1,     -9,      -9,5,20080123,0203, 27.9800, 155.0037, 5765,      0.0,  21.4744,  34.8154,2,   -999.0,9,-999.0000,9,    223.0,2,     1.49,2,  -999.00,9,     0.00,2,     0.00,2,     0.01,2, -999.000,9, -999.000,9,  -999.00,9,   -999.0,9,   -999.0,9,-999.0000,9,   -999.0,  9,  -999.00,9,   -999.0,  -999.00,9,  -999.00,9,  -999.00,9,  -999.00,9,   -999.0,-999.0000, -999,9,    0,  21.4742,  24.2236,   -999.0,9
       KS08-01,  NONE,KS-2039,  1,     21,02-16027,2,20080123,0223, 27.9800, 155.0037, 5765,     10.3,  21.4736,  34.8148,2,   -999.0,9,  34.8137,2,    222.0,2,     1.52,2,  -999.00,9,     0.00,2,     0.00,2,     0.00,2, -999.000,9, -999.000,9,  -999.00,9,   -999.0,9,   -999.0,9,-999.0000,9,   -999.0,  9,  -999.00,9,   -999.0,  -999.00,9,  -999.00,9,  -999.00,9,  -999.00,9,   -999.0,-999.0000, -999,9,   10,  21.4716,  24.2239,   -999.0,9
       KS08-01,  NONE,KS-2039,  1,     20,02-16026,2,20080123,0221, 27.9800, 155.0037, 5765,     26.1,  21.4641,  34.8145,2,   -999.0,9,-999.0000,9,    221.0,2,     1.50,2,  -999.00,9,     0.00,2,     0.00,2,     0.01,2, -999.000,9, -999.000,9,  -999.00,9,   -999.0,9,   -999.0,9,-999.0000,9,   -999.0,  9,  -999.00,9,   -999.0,  -999.00,9,  -999.00,9,  -999.00,9,  -999.00,9,   -999.0,-999.0000, -999,9,   26,  21.4591,  24.2271,   -999.0,9
       KS08-01,  NONE,KS-2039,  1,     19,02-19378,2,20080123,0216, 27.9800, 155.0037, 5765,     50.6,  21.4369,  34.8149,2,   -999.0,9,-999.0000,9,    222.0,2,     1.53,2,  -999.00,9,     0.00,2,     0.00,2,     0.01,2, -999.000,9, -999.000,9,  -999.00,9,   -999.0,9,   -999.0,9,-999.0000,9,   -999.0,  9,  -999.00,9,   -999.0,  -999.00,9,  -999.00,9,  -999.00,9,  -999.00,9,   -999.0,-999.0000, -999,9,   50,  21.4271,  24.2362,   -999.0,9
       KS08-01,  NONE,KS-2039,  1,     18,02-19377,2,20080123,0215, 27.9800, 155.0037, 5765,     74.0,  21.4224,  34.8215,2,   -999.0,9,-999.0000,9,    221.0,2,     1.56,2,  -999.00,9,     0.00,2,     0.00,2,     0.01,2, -999.000,9, -999.000,9,  -999.00,9,   -999.0,9,   -999.0,9,-999.0000,9,   -999.0,  9,  -999.00,9,   -999.0,  -999.00,9,  -999.00,9,  -999.00,9,  -999.00,9,   -999.0,-999.0000, -999,9,   73,  21.4081,  24.2464,   -999.0,9
       KS08-01,  NONE,KS-2039,  1,     17,02-16023,2,20080123,0214, 27.9800, 155.0037, 5765,     97.8,  20.5156,  34.8655,2,   -999.0,9,  34.8597,4,    219.0,2,     1.90,2,  -999.00,9,     0.29,2,     0.08,2,     0.04,2, -999.000,9, -999.000,9,  -999.00,9,   -999.0,9,   -999.0,9,-999.0000,9,   -999.0,  9,  -999.00,9,   -999.0,  -999.00,9,  -999.00,9,  -999.00,9,  -999.00,9,   -999.0,-999.0000, -999,9,   97,  20.4972,  24.5271,   -999.0,9
       KS08-01,  NONE,KS-2039,  1,     16,02-16022,2,20080123,0213, 27.9800, 155.0037, 5765,    125.5,  19.4970,  34.7821,2,   -999.0,9,-999.0000,9,    204.0,2,     2.83,2,  -999.00,9,     2.63,2,     0.02,2,     0.17,2, -999.000,9, -999.000,9,  -999.00,9,   -999.0,9,   -999.0,9,-999.0000,9,   -999.0,  9,  -999.00,9,   -999.0,  -999.00,9,  -999.00,9,  -999.00,9,  -999.00,9,   -999.0,-999.0000, -999,9,  125,  19.4743,  24.7328,   -999.0,9
       KS08-01,  NONE,KS-2039,  1,     15,02-16021,2,20080123,0212, 27.9800, 155.0037, 5765,    149.8,  18.9091,  34.8096,2,   -999.0,9,-999.0000,9,    204.0,2,     3.07,2,  -999.00,9,     2.93,2,     0.01,2,     0.20,2, -999.000,9, -999.000,9,  -999.00,9,   -999.0,9,   -999.0,9,-999.0000,9,   -999.0,  9,  -999.00,9,   -999.0,  -999.00,9,  -999.00,9,  -999.00,9,  -999.00,9,   -999.0,-999.0000, -999,9,  149,  18.8825,  24.9055,   -999.0,9
       KS08-01,  NONE,KS-2039,  1,     14,02-16020,2,20080123,0211, 27.9800, 155.0037, 5765,    202.8,  18.0176,  34.7881,2,   -999.0,9,  34.7874,2,    205.0,2,     3.52,2,  -999.00,9,     3.90,2,     0.01,2,     0.24,2, -999.000,9, -999.000,9,  -999.00,9,   -999.0,9,   -999.0,9,-999.0000,9,   -999.0,  9,  -999.00,9,   -999.0,  -999.00,9,  -999.00,9,  -999.00,9,  -999.00,9,   -999.0,-999.0000, -999,9,  201,  17.9828,  25.1140,   -999.0,9
       KS08-01,  NONE,KS-2039,  1,     13,02-16019,2,20080123,0209, 27.9800, 155.0037, 5765,    254.6,  17.4335,  34.7660,2,   -999.0,9,-999.0000,9,    204.0,2,     4.23,2,  -999.00,9,     4.88,2,     0.01,2,     0.30,2, -999.000,9, -999.000,9,  -999.00,9,   -999.0,9,   -999.0,9,-999.0000,9,   -999.0,  9,  -999.00,9,   -999.0,  -999.00,9,  -999.00,9,  -999.00,9,  -999.00,9,   -999.0,-999.0000, -999,9,  253,  17.3908,  25.2412,   -999.0,9
       KS08-01,  NONE,KS-2039,  1,     12,02-16018,2,20080123,0207, 27.9800, 155.0037, 5765,    303.1,  16.7238,  34.7231,2,   -999.0,9,  34.7225,2,    196.0,2,     6.32,2,  -999.00,9,     6.83,2,     0.01,2,     0.43,2, -999.000,9, -999.000,9,  -999.00,9,   -999.0,9,   -999.0,9,-999.0000,9,   -999.0,  9,  -999.00,9,   -999.0,  -999.00,9,  -999.00,9,  -999.00,9,  -999.00,9,   -999.0,-999.0000, -999,9,  301,  16.6743,  25.3785,   -999.0,9
       KS08-01,  NONE,KS-2039,  1,     11,02-19376,2,20080123,0204, 27.9800, 155.0037, 5765,    404.7,  14.2657,  34.5454,2,   -999.0,9,  34.5475,2,    193.0,2,    12.58,2,  -999.00,9,    10.82,2,     0.00,2,     0.72,2, -999.000,9, -999.000,9,  -999.00,9,   -999.0,9,   -999.0,9,-999.0000,9,   -999.0,  9,  -999.00,9,   -999.0,  -999.00,9,  -999.00,9,  -999.00,9,  -999.00,9,   -999.0,-999.0000, -999,9,  402,  14.2063,  25.7923,   -999.0,9
       KS08-01,  NONE,KS-2039,  1,     10,02-19375,2,20080123,0202, 27.9800, 155.0037, 5765,    504.8,  11.6460,  34.3509,2,   -999.0,9,  34.3528,2,    186.0,2,    21.51,2,  -999.00,9,    15.79,2,     0.00,2,     1.08,2, -999.000,9, -999.000,9,  -999.00,9,   -999.0,9,   -999.0,9,-999.0000,9,   -999.0,  9,  -999.00,9,   -999.0,  -999.00,9,  -999.00,9,  -999.00,9,  -999.00,9,   -999.0,-999.0000, -999,9,  501,  11.5810,  26.1637,   -999.0,9
       KS08-01,  NONE,KS-2039,  1,      9,02-16015,2,20080123,0159, 27.9800, 155.0037, 5765,    608.5,   8.0872,  34.0985,2,   -999.0,9,  34.0979,2,    172.0,2,    40.09,2,  -999.00,9,    23.38,2,     0.00,2,     1.66,2, -999.000,9, -999.000,9,  -999.00,9,   -999.0,9,   -999.0,9,-999.0000,9,   -999.0,  9,  -999.00,9,   -999.0,  -999.00,9,  -999.00,9,  -999.00,9,  -999.00,9,   -999.0,-999.0000, -999,9,  604,   8.0244,  26.5622,   -999.0,9
       KS08-01,  NONE,KS-2039,  1,      8,02-16014,2,20080123,0153, 27.9800, 155.0037, 5765,    708.2,   5.5077,  34.0200,2,   -999.0,9,  34.0182,2,    126.0,2,    67.77,2,  -999.00,9,    32.14,2,     0.00,2,     2.32,2, -999.000,9, -999.000,9,  -999.00,9,   -999.0,9,   -999.0,9,-999.0000,9,   -999.0,  9,  -999.00,9,   -999.0,  -999.00,9,  -999.00,9,  -999.00,9,  -999.00,9,   -999.0,-999.0000, -999,9,  702,   5.4480,  26.8459,   -999.0,9
       KS08-01,  NONE,KS-2039,  1,      7,02-19374,2,20080123,0150, 27.9800, 155.0037, 5765,    807.2,   4.6566,  34.1154,2,   -999.0,9,  34.1150,2,     81.0,2,    89.16,2,  -999.00,9,    37.20,2,     0.00,2,     2.68,2, -999.000,9, -999.000,9,  -999.00,9,   -999.0,9,   -999.0,9,-999.0000,9,   -999.0,  9,  -999.00,9,   -999.0,  -999.00,9,  -999.00,9,  -999.00,9,  -999.00,9,   -999.0,-999.0000, -999,9,  800,   4.5931,  27.0195,   -999.0,9
       KS08-01,  NONE,KS-2039,  1,      6,02-19373,2,20080123,0147, 27.9800, 155.0037, 5765,    910.0,   4.1192,  34.2168,2,   -999.0,9,-999.0000,9,     54.0,2,   105.55,2,  -999.00,9,    40.31,2,     0.00,2,     2.88,2, -999.000,9, -999.000,9,  -999.00,9,   -999.0,9,   -999.0,9,-999.0000,9,   -999.0,  9,  -999.00,9,   -999.0,  -999.00,9,  -999.00,9,  -999.00,9,  -999.00,9,   -999.0,-999.0000, -999,9,  902,   4.0506,  27.1579,   -999.0,9
       KS08-01,  NONE,KS-2039,  1,      5,02-16011,2,20080123,0145, 27.9800, 155.0037, 5765,   1010.4,   3.6798,  34.2970,2,   -999.0,9,  34.2971,2,     42.0,2,   118.63,2,  -999.00,9,    41.86,2,     0.00,2,     2.99,2, -999.000,9, -999.000,9,  -999.00,9,   -999.0,9,   -999.0,9,-999.0000,9,   -999.0,  9,  -999.00,9,   -999.0,  -999.00,9,  -999.00,9,  -999.00,9,  -999.00,9,   -999.0,-999.0000, -999,9, 1001,   3.6061,  27.2666,   -999.0,9
       KS08-01,  NONE,KS-2039,  1,      4,02-16010,2,20080123,0139, 27.9800, 155.0037, 5765,   1264.3,   2.9379,  34.4415,2,   -999.0,9,  34.4415,2,     39.0,2,   139.13,2,  -999.00,9,    42.82,2,     0.00,2,     3.06,2, -999.000,9, -999.000,9,  -999.00,9,   -999.0,9,   -999.0,9,-999.0000,9,   -999.0,  9,  -999.00,9,   -999.0,  -999.00,9,  -999.00,9,  -999.00,9,  -999.00,9,   -999.0,-999.0000, -999,9, 1252,   2.8502,  27.4528,   -999.0,9
       KS08-01,  NONE,KS-2039,  1,      3,02-16009,2,20080123,0133, 27.9800, 155.0037, 5765,   1515.7,   2.4594,  34.5243,2,   -999.0,9,  34.5246,2,     53.0,2,   150.13,2,  -999.00,9,    42.24,2,     0.00,2,     3.00,2, -999.000,9, -999.000,9,  -999.00,9,   -999.0,9,   -999.0,9,-999.0000,9,   -999.0,  9,  -999.00,9,   -999.0,  -999.00,9,  -999.00,9,  -999.00,9,  -999.00,9,   -999.0,-999.0000, -999,9, 1500,   2.3567,  27.5616,   -999.0,9
       KS08-01,  NONE,KS-2039,  1,      2,02-16008,2,20080123,0128, 27.9800, 155.0037, 5765,   1769.2,   2.1565,  34.5772,2,   -999.0,9,  34.5774,2,     75.0,2,   151.14,2,  -999.00,9,    40.97,2,     0.00,2,     2.89,2, -999.000,9, -999.000,9,  -999.00,9,   -999.0,9,   -999.0,9,-999.0000,9,   -999.0,  9,  -999.00,9,   -999.0,  -999.00,9,  -999.00,9,  -999.00,9,  -999.00,9,   -999.0,-999.0000, -999,9, 1750,   2.0370,  27.6300,   -999.0,9
       KS08-01,  NONE,KS-2039,  1,      1,02-16007,2,20080123,0122, 27.9800, 155.0037, 5765,   2032.8,   1.9428,  34.6093,2,   -999.0,9,  34.6098,2,     94.0,2,   151.70,2,  -999.00,9,    39.99,2,     0.00,2,     2.79,2, -999.000,9, -999.000,9,  -999.00,9,   -999.0,9,   -999.0,9,-999.0000,9,   -999.0,  9,  -999.00,9,   -999.0,  -999.00,9,  -999.00,9,  -999.00,9,  -999.00,9,   -999.0,-999.0000, -999,9, 2009,   1.8046,  27.6739,   -999.0,9