BOTTLE,20130510GEMDJMAYT
EXPOCODE,SECT_ID,STNNBR,CASTNO,SAMPNO,BTLNBR,BTLNBR_FLAG_W,DATE,TIME,LATITUDE,LONGITUDE,DEPTH,CTDPRS,CTDTMP,CTDSAL,CTDSAL_FLAG_W,CTDOXY,CTDOXY_FLAG_W,SALNTY,SALNTY_FLAG_W,OXYGEN,OXYGEN_FLAG_W,SILCAT,SILCAT_FLAG_W,NITRAT,NITRAT_FLAG_W,NO2+NO3,NO2+NO3_FLAG_W,NITRIT,NITRIT_FLAG_W,PHSPHT,PHSPHT_FLAG_W,CFC-11,CFC-11_FLAG_W,CFC-12,CFC-12_FLAG_W,DELC13,DELC13_FLAG_W,TCARBN,TCARBN_FLAG_W,ALKALI,ALKALI_FLAG_W,PH,PH_FLAG_W,PH_TMP,PH_SCALE,PH_NBS,PH_NBS_FLAG_W,C13ERR,TOTALP,TOTALP_FLAG_W,AMMONI,AMMONI_FLAG_W,CHLORA,CHLORA_FLAG_W,PPHYTN,PPHYTN_FLAG_W,REVPRS,REVTMP,DEPTH_,DEPTH_FLAG,CTDDEP,THETA,SIGTHT,DOC,DOC_FLAG_W
,,,,,,,GMT,GMT,,,METER,DBAR,ITS-90,PSS-78,,UMOL/KG,,PSS-78,,UMOL/KG,,UMOL/KG,,UMOL/KG,,UMOL/KG,,UMOL/KG,,UMOL/KG,,PMOL/KG,,PMOL/KG,,/MILLE,,UMOL/KG,,UMOL/KG,,25_DEG_C,,DEG_C,,,,/MILLE,UMOL/KG,,UMOL/KG,,UG/L,,UG/L,,DBAR,ITS-90,METERS,,METERS,DEG_C,,UMOL/L,
       KS08-01,  NONE,KS-2029,  1,     -9,      -9,5,20080120,0432, 30.9828, 143.9877, 5758,      0.0,  19.3156,  34.7696,2,   -999.0,9,-999.0000,9,    227.0,2,     2.37,2,  -999.00,9,     1.27,2,     0.30,2,     0.09,2, -999.000,9, -999.000,9,  -999.00,9,   -999.0,9,   -999.0,9,-999.0000,9,   -999.0,  9,  -999.00,9,   -999.0,  -999.00,9,  -999.00,9,     0.25,2,     0.11,2,   -999.0,-999.0000, -999,9,    0,  19.3154,  24.7643,   -999.0,9
       KS08-01,  NONE,KS-2029,  1,     21,02-16027,2,20080120,0450, 30.9828, 143.9877, 5758,     10.2,  19.3171,  34.7694,2,   -999.0,9,  34.7681,2,    225.0,2,     2.31,2,  -999.00,9,     1.27,2,     0.30,2,     0.09,2, -999.000,9, -999.000,9,  -999.00,9,   -999.0,9,   -999.0,9,-999.0000,9,   -999.0,  9,  -999.00,9,   -999.0,  -999.00,9,  -999.00,9,     0.28,2,     0.11,2,   -999.0,-999.0000, -999,9,   10,  19.3153,  24.7642,   -999.0,9
       KS08-01,  NONE,KS-2029,  1,     20,02-16026,2,20080120,0449, 30.9828, 143.9877, 5758,     24.7,  19.3196,  34.7693,2,   -999.0,9,-999.0000,9,    225.0,2,     2.36,2,  -999.00,9,     1.27,2,     0.30,2,     0.09,2, -999.000,9, -999.000,9,  -999.00,9,   -999.0,9,   -999.0,9,-999.0000,9,   -999.0,  9,  -999.00,9,   -999.0,  -999.00,9,  -999.00,9,     0.28,2,     0.13,2,   -999.0,-999.0000, -999,9,   24,  19.3152,  24.7641,   -999.0,9
       KS08-01,  NONE,KS-2029,  1,     19,02-19378,2,20080120,0445, 30.9828, 143.9877, 5758,     50.3,  19.3192,  34.7689,2,   -999.0,9,-999.0000,9,    224.0,2,     2.36,2,  -999.00,9,     1.27,2,     0.31,2,     0.09,2, -999.000,9, -999.000,9,  -999.00,9,   -999.0,9,   -999.0,9,-999.0000,9,   -999.0,  9,  -999.00,9,   -999.0,  -999.00,9,  -999.00,9,     0.27,2,     0.14,2,   -999.0,-999.0000, -999,9,   50,  19.3102,  24.7651,   -999.0,9
       KS08-01,  NONE,KS-2029,  1,     18,02-19377,2,20080120,0444, 30.9828, 143.9877, 5758,     75.0,  19.3198,  34.7689,2,   -999.0,9,-999.0000,9,    224.0,2,     2.36,2,  -999.00,9,     1.37,2,     0.31,2,     0.09,2, -999.000,9, -999.000,9,  -999.00,9,   -999.0,9,   -999.0,9,-999.0000,9,   -999.0,  9,  -999.00,9,   -999.0,  -999.00,9,  -999.00,9,     0.28,2,     0.13,2,   -999.0,-999.0000, -999,9,   74,  19.3063,  24.7661,   -999.0,9
       KS08-01,  NONE,KS-2029,  1,     17,02-16023,2,20080120,0443, 30.9828, 143.9877, 5758,    100.9,  19.3186,  34.7687,2,   -999.0,9,  34.7676,2,    224.0,2,     2.35,2,  -999.00,9,     1.37,2,     0.31,2,     0.09,2, -999.000,9, -999.000,9,  -999.00,9,   -999.0,9,   -999.0,9,-999.0000,9,   -999.0,  9,  -999.00,9,   -999.0,  -999.00,9,  -999.00,9,     0.25,2,     0.12,2,   -999.0,-999.0000, -999,9,  100,  19.3005,  24.7675,   -999.0,9
       KS08-01,  NONE,KS-2029,  1,     16,02-16022,2,20080120,0442, 30.9828, 143.9877, 5758,    124.3,  19.3158,  34.7688,2,   -999.0,9,-999.0000,9,    225.0,2,     2.35,2,  -999.00,9,     1.37,2,     0.31,2,     0.09,2, -999.000,9, -999.000,9,  -999.00,9,   -999.0,9,   -999.0,9,-999.0000,9,   -999.0,  9,  -999.00,9,   -999.0,  -999.00,9,  -999.00,9,     0.23,2,     0.12,2,   -999.0,-999.0000, -999,9,  123,  19.2934,  24.7693,   -999.0,9
       KS08-01,  NONE,KS-2029,  1,     15,02-16021,2,20080120,0441, 30.9828, 143.9877, 5758,    150.6,  19.3136,  34.7686,2,   -999.0,9,-999.0000,9,    224.0,2,     2.29,2,  -999.00,9,     1.27,2,     0.31,2,     0.09,2, -999.000,9, -999.000,9,  -999.00,9,   -999.0,9,   -999.0,9,-999.0000,9,   -999.0,  9,  -999.00,9,   -999.0,  -999.00,9,  -999.00,9,     0.23,2,     0.12,2,   -999.0,-999.0000, -999,9,  150,  19.2865,  24.7709,   -999.0,9
       KS08-01,  NONE,KS-2029,  1,     14,02-16020,2,20080120,0440, 30.9828, 143.9877, 5758,    201.3,  18.5967,  34.8012,2,   -999.0,9,  34.8012,2,    206.0,2,     3.12,2,  -999.00,9,     3.41,2,     0.01,2,     0.20,2, -999.000,9, -999.000,9,  -999.00,9,   -999.0,9,   -999.0,9,-999.0000,9,   -999.0,  9,  -999.00,9,   -999.0,  -999.00,9,  -999.00,9,     0.00,2,     0.02,2,   -999.0,-999.0000, -999,9,  200,  18.5614,  24.9802,   -999.0,9
       KS08-01,  NONE,KS-2029,  1,     13,02-16019,2,20080120,0439, 30.9828, 143.9877, 5758,    252.3,  17.5716,  34.7731,2,   -999.0,9,-999.0000,9,    203.0,2,     4.42,2,  -999.00,9,     5.07,2,     0.01,2,     0.31,2, -999.000,9, -999.000,9,  -999.00,9,   -999.0,9,   -999.0,9,-999.0000,9,   -999.0,  9,  -999.00,9,   -999.0,  -999.00,9,  -999.00,9,     0.00,2,     0.01,2,   -999.0,-999.0000, -999,9,  250,  17.5290,  25.2132,   -999.0,9
       KS08-01,  NONE,KS-2029,  1,     12,02-16018,2,20080120,0437, 30.9828, 143.9877, 5758,    303.9,  16.6576,  34.6965,2,   -999.0,9,  34.6991,2,    189.0,2,     8.16,2,  -999.00,9,     7.70,2,     0.01,2,     0.49,2, -999.000,9, -999.000,9,  -999.00,9,   -999.0,9,   -999.0,9,-999.0000,9,   -999.0,  9,  -999.00,9,   -999.0,  -999.00,9,  -999.00,9,     0.00,2,     0.02,2,   -999.0,-999.0000, -999,9,  302,  16.6081,  25.3736,   -999.0,9
       KS08-01,  NONE,KS-2029,  1,     11,02-19376,2,20080120,0435, 30.9828, 143.9877, 5758,    404.4,  15.3410,  34.6092,2,   -999.0,9,  34.6077,2,    180.0,2,    13.51,2,  -999.00,9,    10.82,2,     0.00,2,     0.71,2, -999.000,9, -999.000,9,  -999.00,9,   -999.0,9,   -999.0,9,-999.0000,9,   -999.0,  9,  -999.00,9,   -999.0,  -999.00,9,  -999.00,9,  -999.00,9,  -999.00,9,   -999.0,-999.0000, -999,9,  401,  15.2786,  25.6092,   -999.0,9
       KS08-01,  NONE,KS-2029,  1,     10,02-19375,2,20080120,0432, 30.9828, 143.9877, 5758,    504.8,  13.8568,  34.5153,2,   -999.0,9,  34.5139,2,    182.0,2,    16.00,2,  -999.00,9,    12.77,2,     0.00,2,     0.86,2, -999.000,9, -999.000,9,  -999.00,9,   -999.0,9,   -999.0,9,-999.0000,9,   -999.0,  9,  -999.00,9,   -999.0,  -999.00,9,  -999.00,9,  -999.00,9,  -999.00,9,   -999.0,-999.0000, -999,9,  501,  13.7839,  25.8576,   -999.0,9
       KS08-01,  NONE,KS-2029,  1,      9,02-16015,2,20080120,0430, 30.9828, 143.9877, 5758,    608.7,  10.0740,  34.2400,2,   -999.0,9,  34.2420,2,    179.0,2,    29.30,2,  -999.00,9,    19.19,2,     0.00,2,     1.33,2, -999.000,9, -999.000,9,  -999.00,9,   -999.0,9,   -999.0,9,-999.0000,9,   -999.0,  9,  -999.00,9,   -999.0,  -999.00,9,  -999.00,9,  -999.00,9,  -999.00,9,   -999.0,-999.0000, -999,9,  604,  10.0022,  26.3581,   -999.0,9
       KS08-01,  NONE,KS-2029,  1,      8,02-16014,2,20080120,0427, 30.9828, 143.9877, 5758,    708.0,   6.7843,  34.0547,2,   -999.0,9,-999.0000,9,    149.0,2,    53.13,2,  -999.00,9,    27.56,2,     0.00,2,     2.00,2, -999.000,9, -999.000,9,  -999.00,9,   -999.0,9,   -999.0,9,-999.0000,9,   -999.0,  9,  -999.00,9,   -999.0,  -999.00,9,  -999.00,9,  -999.00,9,  -999.00,9,   -999.0,-999.0000, -999,9,  702,   6.7177,  26.7124,   -999.0,9
       KS08-01,  NONE,KS-2029,  1,      7,02-19374,2,20080120,0419, 30.9828, 143.9877, 5758,    808.6,   5.2058,  34.0364,2,   -999.0,9,  34.0360,2,    118.0,2,    74.40,2,  -999.00,9,    33.40,2,     0.00,2,     2.42,2, -999.000,9, -999.000,9,  -999.00,9,   -999.0,9,   -999.0,9,-999.0000,9,   -999.0,  9,  -999.00,9,   -999.0,  -999.00,9,  -999.00,9,  -999.00,9,  -999.00,9,   -999.0,-999.0000, -999,9,  802,   5.1389,  26.8953,   -999.0,9
       KS08-01,  NONE,KS-2029,  1,      6,02-19373,2,20080120,0417, 30.9828, 143.9877, 5758,    910.0,   4.6753,  34.2118,2,   -999.0,9,-999.0000,9,     75.0,2,    95.31,2,  -999.00,9,    37.58,2,     0.00,2,     2.72,2, -999.000,9, -999.000,9,  -999.00,9,   -999.0,9,   -999.0,9,-999.0000,9,   -999.0,  9,  -999.00,9,   -999.0,  -999.00,9,  -999.00,9,  -999.00,9,  -999.00,9,   -999.0,-999.0000, -999,9,  902,   4.6028,  27.0950,   -999.0,9
       KS08-01,  NONE,KS-2029,  1,      5,02-16011,2,20080120,0414, 30.9828, 143.9877, 5758,   1010.2,   3.9916,  34.2966,2,   -999.0,9,  34.2956,2,     59.0,2,   112.00,2,  -999.00,9,    39.72,2,     0.00,2,     2.88,2, -999.000,9, -999.000,9,  -999.00,9,   -999.0,9,   -999.0,9,-999.0000,9,   -999.0,  9,  -999.00,9,   -999.0,  -999.00,9,  -999.00,9,  -999.00,9,  -999.00,9,   -999.0,-999.0000, -999,9, 1001,   3.9155,  27.2353,   -999.0,9
       KS08-01,  NONE,KS-2029,  1,      4,02-16010,2,20080120,0409, 30.9828, 143.9877, 5758,   1261.9,   3.1184,  34.3934,2,   -999.0,9,  34.3933,2,     46.0,2,   132.80,2,  -999.00,9,    41.76,2,     0.00,2,     3.03,2, -999.000,9, -999.000,9,  -999.00,9,   -999.0,9,   -999.0,9,-999.0000,9,   -999.0,  9,  -999.00,9,   -999.0,  -999.00,9,  -999.00,9,  -999.00,9,  -999.00,9,   -999.0,-999.0000, -999,9, 1249,   3.0292,  27.3981,   -999.0,9
       KS08-01,  NONE,KS-2029,  1,      3,02-16009,2,20080120,0403, 30.9828, 143.9877, 5758,   1515.5,   2.5372,  34.4890,2,   -999.0,9,  34.4886,2,     47.0,2,   148.40,2,  -999.00,9,    42.33,2,     0.00,2,     3.05,2, -999.000,9, -999.000,9,  -999.00,9,   -999.0,9,   -999.0,9,-999.0000,9,   -999.0,  9,  -999.00,9,   -999.0,  -999.00,9,  -999.00,9,  -999.00,9,  -999.00,9,   -999.0,-999.0000, -999,9, 1500,   2.4337,  27.5269,   -999.0,9
       KS08-01,  NONE,KS-2029,  1,      2,02-16008,2,20080120,0358, 30.9828, 143.9877, 5758,   1770.2,   2.2357,  34.5467,2,   -999.0,9,  34.5465,2,     59.0,2,   154.83,2,  -999.00,9,    41.94,2,     0.00,2,     2.99,2, -999.000,9, -999.000,9,  -999.00,9,   -999.0,9,   -999.0,9,-999.0000,9,   -999.0,  9,  -999.00,9,   -999.0,  -999.00,9,  -999.00,9,  -999.00,9,  -999.00,9,   -999.0,-999.0000, -999,9, 1751,   2.1152,  27.5993,   -999.0,9
       KS08-01,  NONE,KS-2029,  1,      1,02-16007,2,20080120,0353, 30.9828, 143.9877, 5758,   2032.7,   1.9883,  34.5899,2,   -999.0,9,  34.5900,2,     76.0,2,   156.33,2,  -999.00,9,    40.97,2,     0.00,2,     2.92,2, -999.000,9, -999.000,9,  -999.00,9,   -999.0,9,   -999.0,9,-999.0000,9,   -999.0,  9,  -999.00,9,   -999.0,  -999.00,9,  -999.00,9,  -999.00,9,  -999.00,9,   -999.0,-999.0000, -999,9, 2009,   1.8494,  27.6548,   -999.0,9