BOTTLE,20130510GEMDJMAYT
EXPOCODE,SECT_ID,STNNBR,CASTNO,SAMPNO,BTLNBR,BTLNBR_FLAG_W,DATE,TIME,LATITUDE,LONGITUDE,DEPTH,CTDPRS,CTDTMP,CTDSAL,CTDSAL_FLAG_W,CTDOXY,CTDOXY_FLAG_W,SALNTY,SALNTY_FLAG_W,OXYGEN,OXYGEN_FLAG_W,SILCAT,SILCAT_FLAG_W,NITRAT,NITRAT_FLAG_W,NO2+NO3,NO2+NO3_FLAG_W,NITRIT,NITRIT_FLAG_W,PHSPHT,PHSPHT_FLAG_W,CFC-11,CFC-11_FLAG_W,CFC-12,CFC-12_FLAG_W,DELC13,DELC13_FLAG_W,TCARBN,TCARBN_FLAG_W,ALKALI,ALKALI_FLAG_W,PH,PH_FLAG_W,PH_TMP,PH_SCALE,PH_NBS,PH_NBS_FLAG_W,C13ERR,TOTALP,TOTALP_FLAG_W,AMMONI,AMMONI_FLAG_W,CHLORA,CHLORA_FLAG_W,PPHYTN,PPHYTN_FLAG_W,REVPRS,REVTMP,DEPTH_,DEPTH_FLAG,CTDDEP,THETA,SIGTHT,DOC,DOC_FLAG_W
,,,,,,,GMT,GMT,,,METER,DBAR,ITS-90,PSS-78,,UMOL/KG,,PSS-78,,UMOL/KG,,UMOL/KG,,UMOL/KG,,UMOL/KG,,UMOL/KG,,UMOL/KG,,PMOL/KG,,PMOL/KG,,/MILLE,,UMOL/KG,,UMOL/KG,,25_DEG_C,,DEG_C,,,,/MILLE,UMOL/KG,,UMOL/KG,,UG/L,,UG/L,,DBAR,ITS-90,METERS,,METERS,DEG_C,,UMOL/L,
       KS08-01,  165E,KS-2067,  1,     -9,      -9,5,20080131,1213,  4.9470, 164.9787, 4755,      0.0,  28.4903,  34.7510,2,   -999.0,9,-999.0000,9,    199.0,2,     1.32,2,  -999.00,9,     0.49,2,     0.09,2,     0.16,2, -999.000,9, -999.000,9,  -999.00,9,   -999.0,9,   2270.9,2,-999.0000,9,   -999.0,  9,  -999.00,9,   -999.0,  -999.00,9,  -999.00,9,     0.18,2,     0.08,2,   -999.0,-999.0000, -999,9,    0,  28.4901,  22.0464,   -999.0,9
       KS08-01,  165E,KS-2067,  1,     21,02-16027,2,20080131,1236,  4.9470, 164.9787, 4755,     11.2,  28.4973,  34.7499,2,   -999.0,9,  34.7479,2,    196.0,2,     1.35,2,  -999.00,9,     0.49,2,     0.09,2,     0.16,2, -999.000,9, -999.000,9,  -999.00,9,   1959.0,2,   2270.1,2,-999.0000,9,   -999.0,  9,  -999.00,9,   -999.0,  -999.00,9,  -999.00,9,     0.18,2,     0.09,2,   -999.0,-999.0000, -999,9,   11,  28.4946,  22.0442,   -999.0,9
       KS08-01,  165E,KS-2067,  1,     20,02-16026,2,20080131,1235,  4.9470, 164.9787, 4755,     25.7,  28.5007,  34.7579,2,   -999.0,9,-999.0000,9,    197.0,2,     1.32,2,  -999.00,9,     0.49,2,     0.10,2,     0.16,2, -999.000,9, -999.000,9,  -999.00,9,   1960.7,2,   2270.3,2,-999.0000,9,   -999.0,  9,  -999.00,9,   -999.0,  -999.00,9,  -999.00,9,     0.21,2,     0.10,2,   -999.0,-999.0000, -999,9,   26,  28.4946,  22.0501,   -999.0,9
       KS08-01,  165E,KS-2067,  1,     19,02-19378,2,20080131,1231,  4.9470, 164.9787, 4755,     53.6,  28.3960,  35.0463,2,   -999.0,9,-999.0000,9,    195.0,2,     1.40,2,  -999.00,9,     1.17,2,     0.19,2,     0.22,2, -999.000,9, -999.000,9,  -999.00,9,   1981.1,2,   2285.1,3,-999.0000,9,   -999.0,  9,  -999.00,9,   -999.0,  -999.00,9,  -999.00,9,     0.21,2,     0.12,2,   -999.0,-999.0000, -999,9,   53,  28.3832,  22.3036,   -999.0,9
       KS08-01,  165E,KS-2067,  1,     18,02-19377,2,20080131,1230,  4.9470, 164.9787, 4755,     78.0,  28.1826,  35.2332,2,   -999.0,9,-999.0000,9,    198.0,2,     1.54,2,  -999.00,9,     2.15,2,     0.25,2,     0.30,2, -999.000,9, -999.000,9,  -999.00,9,   2002.6,2,   2299.9,2,-999.0000,9,   -999.0,  9,  -999.00,9,   -999.0,  -999.00,9,  -999.00,9,     0.18,2,     0.13,2,   -999.0,-999.0000, -999,9,   78,  28.1641,  22.5162,   -999.0,9
       KS08-01,  165E,KS-2067,  1,     17,02-16023,2,20080131,1228,  4.9470, 164.9787, 4755,    102.5,  28.1637,  35.2770,2,   -999.0,9,  35.2767,2,    198.0,2,     1.56,2,  -999.00,9,     2.44,2,     0.24,2,     0.32,2, -999.000,9, -999.000,9,  -999.00,9,   2006.2,2,   2301.1,2,-999.0000,9,   -999.0,  9,  -999.00,9,   -999.0,  -999.00,9,  -999.00,9,     0.12,2,     0.11,2,   -999.0,-999.0000, -999,9,  102,  28.1394,  22.5573,   -999.0,9
       KS08-01,  165E,KS-2067,  1,     16,02-16022,2,20080131,1227,  4.9470, 164.9787, 4755,    128.5,  28.1155,  35.3011,2,   -999.0,9,-999.0000,9,    188.0,2,     1.75,2,  -999.00,9,     3.23,2,     0.36,2,     0.38,2, -999.000,9, -999.000,9,  -999.00,9,   2013.7,2,   2302.5,2,-999.0000,9,   -999.0,  9,  -999.00,9,   -999.0,  -999.00,9,  -999.00,9,     0.16,2,     0.17,2,   -999.0,-999.0000, -999,9,  128,  28.0851,  22.5932,   -999.0,9
       KS08-01,  165E,KS-2067,  1,     15,02-16021,2,20080131,1226,  4.9470, 164.9787, 4755,    148.7,  24.0286,  34.7406,2,   -999.0,9,-999.0000,9,    156.0,2,     3.74,2,  -999.00,9,     4.59,2,     0.03,2,     0.42,2, -999.000,9, -999.000,9,  -999.00,9,   2028.6,2,   2270.9,2,-999.0000,9,   -999.0,  9,  -999.00,9,   -999.0,  -999.00,9,  -999.00,9,     0.04,2,     0.11,2,   -999.0,-999.0000, -999,9,  148,  23.9973,  23.4458,   -999.0,9
       KS08-01,  165E,KS-2067,  1,     14,02-16020,2,20080131,1224,  4.9470, 164.9787, 4755,    201.2,  15.8250,  34.6432,2,   -999.0,9,  34.6453,2,    124.0,2,    13.39,2,  -999.00,9,    15.41,2,     0.01,2,     1.12,2, -999.000,9, -999.000,9,  -999.00,9,   2127.5,2,   2270.8,2,-999.0000,9,   -999.0,  9,  -999.00,9,   -999.0,  -999.00,9,  -999.00,9,     0.01,2,     0.03,2,   -999.0,-999.0000, -999,9,  200,  15.7935,  25.5201,   -999.0,9
       KS08-01,  165E,KS-2067,  1,     13,02-16019,2,20080131,1222,  4.9470, 164.9787, 4755,    253.8,  11.3515,  34.5769,2,   -999.0,9,-999.0000,9,     57.0,2,    27.78,2,  -999.00,9,    29.23,2,     0.00,2,     2.09,2, -999.000,9, -999.000,9,  -999.00,9,   2219.7,2,   2275.5,2,-999.0000,9,   -999.0,  9,  -999.00,9,   -999.0,  -999.00,9,  -999.00,9,     0.00,2,     0.02,2,   -999.0,-999.0000, -999,9,  252,  11.3196,  26.3878,   -999.0,9
       KS08-01,  165E,KS-2067,  1,     12,02-16018,2,20080131,1220,  4.9470, 164.9787, 4755,    304.7,  10.0661,  34.6456,2,   -999.0,9,  34.6414,2,     38.0,2,    32.90,2,  -999.00,9,    33.51,2,     0.00,2,     2.37,2, -999.000,9, -999.000,9,  -999.00,9,   2249.6,2,   2285.8,2,-999.0000,9,   -999.0,  9,  -999.00,9,   -999.0,  -999.00,9,  -999.00,9,     0.00,2,     0.02,2,   -999.0,-999.0000, -999,9,  303,  10.0306,  26.6700,   -999.0,9
       KS08-01,  165E,KS-2067,  1,     11,02-19376,2,20080131,1217,  4.9470, 164.9787, 4755,    405.0,   8.5032,  34.6098,2,   -999.0,9,-999.0000,9,     56.0,2,    39.04,2,  -999.00,9,    35.06,2,     0.00,2,     2.46,2, -999.000,9, -999.000,9,  -999.00,9,   2256.1,2,   2292.5,2,-999.0000,9,   -999.0,  9,  -999.00,9,   -999.0,  -999.00,9,  -999.00,9,  -999.00,9,  -999.00,9,   -999.0,-999.0000, -999,9,  402,   8.4604,  26.8974,   -999.0,9
       KS08-01,  165E,KS-2067,  1,     10,02-19375,2,20080131,1214,  4.9470, 164.9787, 4755,    505.3,   7.8390,  34.5854,2,   -999.0,9,  34.5845,2,     70.0,2,    42.07,2,  -999.00,9,    35.15,2,     0.00,2,     2.48,2, -999.000,9, -999.000,9,  -999.00,9,   2252.3,2,   2293.4,2,-999.0000,9,   -999.0,  9,  -999.00,9,   -999.0,  -999.00,9,  -999.00,9,  -999.00,9,  -999.00,9,   -999.0,-999.0000, -999,9,  502,   7.7878,  26.9797,   -999.0,9
       KS08-01,  165E,KS-2067,  1,      9,02-16015,2,20080131,1211,  4.9470, 164.9787, 4755,    607.4,   7.0309,  34.5606,2,   -999.0,9,  34.5594,2,     80.0,2,    47.21,2,  -999.00,9,    36.02,2,     0.00,2,     2.52,2, -999.000,9, -999.000,9,  -999.00,9,   2257.5,2,   2300.0,2,-999.0000,9,   -999.0,  9,  -999.00,9,   -999.0,  -999.00,9,  -999.00,9,  -999.00,9,  -999.00,9,   -999.0,-999.0000, -999,9,  603,   6.9726,  27.0764,   -999.0,9
       KS08-01,  165E,KS-2067,  1,      8,02-16014,2,20080131,1208,  4.9470, 164.9787, 4755,    707.2,   6.3749,  34.5459,2,   -999.0,9,  34.5448,2,     71.0,2,    57.53,2,  -999.00,9,    37.97,2,     0.00,2,     2.68,2, -999.000,9, -999.000,9,  -999.00,9,   2278.3,2,   2308.7,2,-999.0000,9,   -999.0,  9,  -999.00,9,   -999.0,  -999.00,9,  -999.00,9,  -999.00,9,  -999.00,9,   -999.0,-999.0000, -999,9,  702,   6.3100,  27.1538,   -999.0,9
       KS08-01,  165E,KS-2067,  1,      7,02-19374,2,20080131,1205,  4.9470, 164.9787, 4755,    806.3,   5.7482,  34.5406,2,   -999.0,9,  34.5398,2,     77.0,2,    66.31,2,  -999.00,9,    38.36,2,     0.00,2,     2.72,2, -999.000,9, -999.000,9,  -999.00,9,   2286.2,2,   2317.7,2,-999.0000,9,   -999.0,  9,  -999.00,9,   -999.0,  -999.00,9,  -999.00,9,  -999.00,9,  -999.00,9,   -999.0,-999.0000, -999,9,  800,   5.6775,  27.2301,   -999.0,9
       KS08-01,  165E,KS-2067,  1,      6,02-19373,2,20080131,1202,  4.9470, 164.9787, 4755,    908.2,   5.1246,  34.5448,2,   -999.0,9,  34.5444,2,     77.0,2,    78.25,2,  -999.00,9,    39.23,2,     0.00,2,     2.76,2, -999.000,9, -999.000,9,  -999.00,9,   2298.9,2,   2330.6,2,-999.0000,9,   -999.0,  9,  -999.00,9,   -999.0,  -999.00,9,  -999.00,9,  -999.00,9,  -999.00,9,   -999.0,-999.0000, -999,9,  901,   5.0486,  27.3087,   -999.0,9
       KS08-01,  165E,KS-2067,  1,      5,02-16011,2,20080131,1159,  4.9470, 164.9787, 4755,   1010.0,   4.4841,  34.5567,2,   -999.0,9,-999.0000,9,     82.0,2,    89.88,2,  -999.00,9,    39.42,2,     0.00,2,     2.79,2, -999.000,9, -999.000,9,  -999.00,9,   2310.6,2,   2342.4,2,-999.0000,9,   -999.0,  9,  -999.00,9,   -999.0,  -999.00,9,  -999.00,9,  -999.00,9,  -999.00,9,   -999.0,-999.0000, -999,9, 1002,   4.4038,  27.3906,   -999.0,9
       KS08-01,  165E,KS-2067,  1,      4,02-16010,2,20080131,1153,  4.9470, 164.9787, 4755,   1258.3,   3.6439,  34.5794,2,   -999.0,9,  34.5793,2,     88.0,2,   106.57,2,  -999.00,9,    39.81,2,     0.00,2,     2.81,2, -999.000,9, -999.000,9,  -999.00,9,   2327.0,2,   2359.5,2,-999.0000,9,   -999.0,  9,  -999.00,9,   -999.0,  -999.00,9,  -999.00,9,  -999.00,9,  -999.00,9,   -999.0,-999.0000, -999,9, 1248,   3.5495,  27.4972,   -999.0,9
       KS08-01,  165E,KS-2067,  1,      3,02-16009,2,20080131,1148,  4.9470, 164.9787, 4755,   1514.4,   3.0796,  34.5994,2,   -999.0,9,  34.5995,2,     92.0,2,   118.81,2,  -999.00,9,    39.90,2,     0.00,2,     2.81,2, -999.000,9, -999.000,9,  -999.00,9,   2339.7,2,   2371.0,2,-999.0000,9,   -999.0,  9,  -999.00,9,   -999.0,  -999.00,9,  -999.00,9,  -999.00,9,  -999.00,9,   -999.0,-999.0000, -999,9, 1501,   2.9696,  27.5681,   -999.0,9
       KS08-01,  165E,KS-2067,  1,      2,02-16008,2,20080131,1142,  4.9470, 164.9787, 4755,   1767.2,   2.5805,  34.6204,2,   -999.0,9,  34.6208,2,    101.0,2,   129.37,2,  -999.00,9,    39.51,2,     0.00,2,     2.76,2, -999.000,9, -999.000,9,  -999.00,9,   2344.6,2,   2383.7,2,-999.0000,9,   -999.0,  9,  -999.00,9,   -999.0,  -999.00,9,  -999.00,9,  -999.00,9,  -999.00,9,   -999.0,-999.0000, -999,9, 1750,   2.4554,  27.6302,   -999.0,9
       KS08-01,  165E,KS-2067,  1,      1,02-16007,2,20080131,1137,  4.9470, 164.9787, 4755,   2029.3,   2.2082,  34.6392,2,   -999.0,9,  34.6402,2,    109.0,2,   137.24,2,  -999.00,9,    39.12,2,     0.00,2,     2.72,2, -999.000,9, -999.000,9,  -999.00,9,   2349.0,2,   2392.3,2,-999.0000,9,   -999.0,  9,  -999.00,9,   -999.0,  -999.00,9,  -999.00,9,  -999.00,9,  -999.00,9,   -999.0,-999.0000, -999,9, 2008,   2.0661,  27.6774,   -999.0,9