BOTTLE,20130510GEMDJMAYT
EXPOCODE,SECT_ID,STNNBR,CASTNO,SAMPNO,BTLNBR,BTLNBR_FLAG_W,DATE,TIME,LATITUDE,LONGITUDE,DEPTH,CTDPRS,CTDTMP,CTDSAL,CTDSAL_FLAG_W,CTDOXY,CTDOXY_FLAG_W,SALNTY,SALNTY_FLAG_W,OXYGEN,OXYGEN_FLAG_W,SILCAT,SILCAT_FLAG_W,NITRAT,NITRAT_FLAG_W,NO2+NO3,NO2+NO3_FLAG_W,NITRIT,NITRIT_FLAG_W,PHSPHT,PHSPHT_FLAG_W,CFC-11,CFC-11_FLAG_W,CFC-12,CFC-12_FLAG_W,DELC13,DELC13_FLAG_W,TCARBN,TCARBN_FLAG_W,ALKALI,ALKALI_FLAG_W,PH,PH_FLAG_W,PH_TMP,PH_SCALE,PH_NBS,PH_NBS_FLAG_W,C13ERR,TOTALP,TOTALP_FLAG_W,AMMONI,AMMONI_FLAG_W,CHLORA,CHLORA_FLAG_W,PPHYTN,PPHYTN_FLAG_W,REVPRS,REVTMP,DEPTH_,DEPTH_FLAG,CTDDEP,THETA,SIGTHT,DOC,DOC_FLAG_W
,,,,,,,GMT,GMT,,,METER,DBAR,ITS-90,PSS-78,,UMOL/KG,,PSS-78,,UMOL/KG,,UMOL/KG,,UMOL/KG,,UMOL/KG,,UMOL/KG,,UMOL/KG,,PMOL/KG,,PMOL/KG,,/MILLE,,UMOL/KG,,UMOL/KG,,25_DEG_C,,DEG_C,,,,/MILLE,UMOL/KG,,UMOL/KG,,UG/L,,UG/L,,DBAR,ITS-90,METERS,,METERS,DEG_C,,UMOL/L,
       KS08-01,  165E,KS-2072,  1,     -9,      -9,5,20080212,1108, -0.0222, 164.9635, 4390,      0.0,  26.9086,  35.3904,2,   -999.0,9,-999.0000,9,    199.0,2,     2.32,2,  -999.00,9,     4.69,2,     0.76,2,     0.43,2, -999.000,9, -999.000,9,  -999.00,9,   -999.0,9,   -999.0,9,-999.0000,9,   -999.0,  9,  -999.00,9,   -999.0,  -999.00,9,  -999.00,9,     0.42,2,     0.09,2,   -999.0,-999.0000, -999,9,    0,  26.9084,  23.0411,   -999.0,9
       KS08-01,  165E,KS-2072,  1,     21,02-16027,2,20080212,1128, -0.0222, 164.9635, 4390,     10.3,  26.9289,  35.3900,2,   -999.0,9,  35.3890,2,    198.0,2,     2.03,2,  -999.00,9,     4.69,2,     0.76,2,     0.43,2, -999.000,9, -999.000,9,  -999.00,9,   -999.0,9,   -999.0,9,-999.0000,9,   -999.0,  9,  -999.00,9,   -999.0,  -999.00,9,  -999.00,9,     0.31,2,     0.09,2,   -999.0,-999.0000, -999,9,   10,  26.9266,  23.0350,   -999.0,9
       KS08-01,  165E,KS-2072,  1,     20,02-16026,2,20080212,1127, -0.0222, 164.9635, 4390,     25.0,  26.7717,  35.3864,2,   -999.0,9,-999.0000,9,    197.0,2,     2.00,2,  -999.00,9,     4.69,2,     0.78,2,     0.44,2, -999.000,9, -999.000,9,  -999.00,9,   -999.0,9,   -999.0,9,-999.0000,9,   -999.0,  9,  -999.00,9,   -999.0,  -999.00,9,  -999.00,9,     0.36,2,     0.13,2,   -999.0,-999.0000, -999,9,   25,  26.7660,  23.0835,   -999.0,9
       KS08-01,  165E,KS-2072,  1,     19,02-19378,2,20080212,1124, -0.0222, 164.9635, 4390,     49.5,  26.7473,  35.3901,2,   -999.0,9,-999.0000,9,    194.0,2,     2.25,2,  -999.00,9,     4.89,2,     0.85,2,     0.45,2, -999.000,9, -999.000,9,  -999.00,9,   -999.0,9,   -999.0,9,-999.0000,9,   -999.0,  9,  -999.00,9,   -999.0,  -999.00,9,  -999.00,9,     0.44,2,     0.21,2,   -999.0,-999.0000, -999,9,   49,  26.7360,  23.0958,   -999.0,9
       KS08-01,  165E,KS-2072,  1,     18,02-19377,2,20080212,1123, -0.0222, 164.9635, 4390,     74.4,  26.7600,  35.4016,2,   -999.0,9,-999.0000,9,    193.0,2,     2.07,2,  -999.00,9,     5.08,2,     0.94,2,     0.46,2, -999.000,9, -999.000,9,  -999.00,9,   -999.0,9,   -999.0,9,-999.0000,9,   -999.0,  9,  -999.00,9,   -999.0,  -999.00,9,  -999.00,9,     0.40,2,     0.17,2,   -999.0,-999.0000, -999,9,   74,  26.7430,  23.1022,   -999.0,9
       KS08-01,  165E,KS-2072,  1,     17,02-16023,2,20080212,1122, -0.0222, 164.9635, 4390,    100.7,  26.7850,  35.4171,2,   -999.0,9,  35.4046,4,    190.0,2,     2.10,2,  -999.00,9,     5.18,2,     1.00,2,     0.48,2, -999.000,9, -999.000,9,  -999.00,9,   -999.0,9,   -999.0,9,-999.0000,9,   -999.0,  9,  -999.00,9,   -999.0,  -999.00,9,  -999.00,9,     0.32,2,     0.12,2,   -999.0,-999.0000, -999,9,  100,  26.7620,  23.1079,   -999.0,9
       KS08-01,  165E,KS-2072,  1,     16,02-16022,2,20080212,1121, -0.0222, 164.9635, 4390,    127.3,  26.8754,  35.4859,2,   -999.0,9,-999.0000,9,    190.0,2,     2.02,2,  -999.00,9,     5.28,2,     1.04,2,     0.49,2, -999.000,9, -999.000,9,  -999.00,9,   -999.0,9,   -999.0,9,-999.0000,9,   -999.0,  9,  -999.00,9,   -999.0,  -999.00,9,  -999.00,9,     0.14,2,     0.07,2,   -999.0,-999.0000, -999,9,  127,  26.8462,  23.1329,   -999.0,9
       KS08-01,  165E,KS-2072,  1,     15,02-16021,2,20080212,1119, -0.0222, 164.9635, 4390,    154.9,  23.3797,  35.4676,2,   -999.0,9,-999.0000,9,    147.0,2,     3.37,2,  -999.00,9,     8.98,2,     0.01,2,     0.69,2, -999.000,9, -999.000,9,  -999.00,9,   -999.0,9,   -999.0,9,-999.0000,9,   -999.0,  9,  -999.00,9,   -999.0,  -999.00,9,  -999.00,9,     0.02,2,     0.03,2,   -999.0,-999.0000, -999,9,  154,  23.3476,  24.1874,   -999.0,9
       KS08-01,  165E,KS-2072,  1,     14,02-16020,2,20080212,1116, -0.0222, 164.9635, 4390,    202.0,  16.4765,  35.1378,2,   -999.0,9,  35.1067,4,    141.0,2,    10.29,2,  -999.00,9,    14.33,2,     0.01,2,     1.02,2, -999.000,9, -999.000,9,  -999.00,9,   -999.0,9,   -999.0,9,-999.0000,9,   -999.0,  9,  -999.00,9,   -999.0,  -999.00,9,  -999.00,9,     0.00,2,     0.02,2,   -999.0,-999.0000, -999,9,  201,  16.4438,  25.7510,   -999.0,9
       KS08-01,  165E,KS-2072,  1,     13,02-16019,2,20080212,1115, -0.0222, 164.9635, 4390,    251.4,  14.6073,  35.1027,2,   -999.0,9,-999.0000,9,    146.0,2,     9.88,2,  -999.00,9,    16.08,2,     0.00,2,     1.15,2, -999.000,9, -999.000,9,  -999.00,9,   -999.0,9,   -999.0,9,-999.0000,9,   -999.0,  9,  -999.00,9,   -999.0,  -999.00,9,  -999.00,9,     0.00,2,     0.02,2,   -999.0,-999.0000, -999,9,  250,  14.5698,  26.1449,   -999.0,9
       KS08-01,  165E,KS-2072,  1,     12,02-16018,2,20080212,1112, -0.0222, 164.9635, 4390,    303.7,  12.2379,  34.8974,2,   -999.0,9,  34.8972,2,    130.0,2,    16.47,2,  -999.00,9,    21.43,2,     0.00,2,     1.51,2, -999.000,9, -999.000,9,  -999.00,9,   -999.0,9,   -999.0,9,-999.0000,9,   -999.0,  9,  -999.00,9,   -999.0,  -999.00,9,  -999.00,9,     0.00,2,     0.02,2,   -999.0,-999.0000, -999,9,  302,  12.1976,  26.4714,   -999.0,9
       KS08-01,  165E,KS-2072,  1,     11,02-19376,2,20080212,1108, -0.0222, 164.9635, 4390,    404.8,   9.7504,  34.7083,2,   -999.0,9,  34.7101,2,    102.0,2,    26.36,2,  -999.00,9,    28.34,2,     0.00,2,     1.98,2, -999.000,9, -999.000,9,  -999.00,9,   -999.0,9,   -999.0,9,-999.0000,9,   -999.0,  9,  -999.00,9,   -999.0,  -999.00,9,  -999.00,9,  -999.00,9,  -999.00,9,   -999.0,-999.0000, -999,9,  402,   9.7038,  26.7743,   -999.0,9
       KS08-01,  165E,KS-2072,  1,     10,02-19375,2,20080212,1105, -0.0222, 164.9635, 4390,    505.0,   8.0028,  34.6062,2,   -999.0,9,  34.6057,2,    103.0,2,    33.98,2,  -999.00,9,    32.23,2,     0.00,2,     2.24,2, -999.000,9, -999.000,9,  -999.00,9,   -999.0,9,   -999.0,9,-999.0000,9,   -999.0,  9,  -999.00,9,   -999.0,  -999.00,9,  -999.00,9,  -999.00,9,  -999.00,9,   -999.0,-999.0000, -999,9,  502,   7.9510,  26.9719,   -999.0,9
       KS08-01,  165E,KS-2072,  1,      9,02-16015,2,20080212,1101, -0.0222, 164.9635, 4390,    606.9,   6.8437,  34.5642,2,   -999.0,9,  34.5592,4,     94.0,2,    44.08,2,  -999.00,9,    35.44,2,     0.00,2,     2.50,2, -999.000,9, -999.000,9,  -999.00,9,   -999.0,9,   -999.0,9,-999.0000,9,   -999.0,  9,  -999.00,9,   -999.0,  -999.00,9,  -999.00,9,  -999.00,9,  -999.00,9,   -999.0,-999.0000, -999,9,  603,   6.7863,  27.1048,   -999.0,9
       KS08-01,  165E,KS-2072,  1,      8,02-16014,2,20080212,1058, -0.0222, 164.9635, 4390,    708.0,   6.1972,  34.5469,2,   -999.0,9,  34.5461,2,     90.0,2,    53.12,2,  -999.00,9,    36.99,2,     0.00,2,     2.63,2, -999.000,9, -999.000,9,  -999.00,9,   -999.0,9,   -999.0,9,-999.0000,9,   -999.0,  9,  -999.00,9,   -999.0,  -999.00,9,  -999.00,9,  -999.00,9,  -999.00,9,   -999.0,-999.0000, -999,9,  703,   6.1332,  27.1776,   -999.0,9
       KS08-01,  165E,KS-2072,  1,      7,02-19374,2,20080212,1054, -0.0222, 164.9635, 4390,    805.3,   5.7770,  34.5395,2,   -999.0,9,  34.5386,2,     92.0,2,    58.06,2,  -999.00,9,    37.09,2,     0.00,2,     2.64,2, -999.000,9, -999.000,9,  -999.00,9,   -999.0,9,   -999.0,9,-999.0000,9,   -999.0,  9,  -999.00,9,   -999.0,  -999.00,9,  -999.00,9,  -999.00,9,  -999.00,9,   -999.0,-999.0000, -999,9,  799,   5.7062,  27.2256,   -999.0,9
       KS08-01,  165E,KS-2072,  1,      6,02-19373,2,20080212,1051, -0.0222, 164.9635, 4390,    908.0,   4.9974,  34.5444,2,   -999.0,9,  34.5420,2,     96.0,2,    69.93,2,  -999.00,9,    37.96,2,     0.00,2,     2.72,2, -999.000,9, -999.000,9,  -999.00,9,   -999.0,9,   -999.0,9,-999.0000,9,   -999.0,  9,  -999.00,9,   -999.0,  -999.00,9,  -999.00,9,  -999.00,9,  -999.00,9,   -999.0,-999.0000, -999,9,  901,   4.9223,  27.3230,   -999.0,9
       KS08-01,  165E,KS-2072,  1,      5,02-16011,2,20080212,1048, -0.0222, 164.9635, 4390,   1009.9,   4.4619,  34.5540,2,   -999.0,9,  34.5535,2,     97.0,2,    82.73,2,  -999.00,9,    38.54,2,     0.00,2,     2.76,2, -999.000,9, -999.000,9,  -999.00,9,   -999.0,9,   -999.0,9,-999.0000,9,   -999.0,  9,  -999.00,9,   -999.0,  -999.00,9,  -999.00,9,  -999.00,9,  -999.00,9,   -999.0,-999.0000, -999,9, 1002,   4.3817,  27.3909,   -999.0,9
       KS08-01,  165E,KS-2072,  1,      4,02-16010,2,20080212,1042, -0.0222, 164.9635, 4390,   1259.8,   3.6309,  34.5788,2,   -999.0,9,  34.5788,2,     97.0,2,   101.46,2,  -999.00,9,    39.03,2,     0.00,2,     2.81,2, -999.000,9, -999.000,9,  -999.00,9,   -999.0,9,   -999.0,9,-999.0000,9,   -999.0,  9,  -999.00,9,   -999.0,  -999.00,9,  -999.00,9,  -999.00,9,  -999.00,9,   -999.0,-999.0000, -999,9, 1249,   3.5365,  27.4979,   -999.0,9
       KS08-01,  165E,KS-2072,  1,      3,02-16009,2,20080212,1036, -0.0222, 164.9635, 4390,   1514.1,   3.0318,  34.6018,2,   -999.0,9,  34.6022,2,    101.0,2,   115.46,2,  -999.00,9,    39.22,2,     0.00,2,     2.83,2, -999.000,9, -999.000,9,  -999.00,9,   -999.0,9,   -999.0,9,-999.0000,9,   -999.0,  9,  -999.00,9,   -999.0,  -999.00,9,  -999.00,9,  -999.00,9,  -999.00,9,   -999.0,-999.0000, -999,9, 1500,   2.9224,  27.5743,   -999.0,9
       KS08-01,  165E,KS-2072,  1,      2,02-16008,2,20080212,1031, -0.0222, 164.9635, 4390,   1768.9,   2.6205,  34.6185,2,   -999.0,9,  34.6195,2,    110.0,2,   123.11,2,  -999.00,9,    38.63,2,     0.00,2,     2.76,2, -999.000,9, -999.000,9,  -999.00,9,   -999.0,9,   -999.0,9,-999.0000,9,   -999.0,  9,  -999.00,9,   -999.0,  -999.00,9,  -999.00,9,  -999.00,9,  -999.00,9,   -999.0,-999.0000, -999,9, 1752,   2.4947,  27.6253,   -999.0,9
       KS08-01,  165E,KS-2072,  1,      1,02-16007,2,20080212,1027, -0.0222, 164.9635, 4390,   2025.6,   2.2824,  34.6360,2,   -999.0,9,  34.6371,2,    117.0,2,   130.51,2,  -999.00,9,    38.24,2,     0.00,2,     2.73,2, -999.000,9, -999.000,9,  -999.00,9,   -999.0,9,   -999.0,9,-999.0000,9,   -999.0,  9,  -999.00,9,   -999.0,  -999.00,9,  -999.00,9,  -999.00,9,  -999.00,9,   -999.0,-999.0000, -999,9, 2005,   2.1395,  27.6689,   -999.0,9