BOTTLE,20130510GEMDJMAYT
EXPOCODE,SECT_ID,STNNBR,CASTNO,SAMPNO,BTLNBR,BTLNBR_FLAG_W,DATE,TIME,LATITUDE,LONGITUDE,DEPTH,CTDPRS,CTDTMP,CTDSAL,CTDSAL_FLAG_W,CTDOXY,CTDOXY_FLAG_W,SALNTY,SALNTY_FLAG_W,OXYGEN,OXYGEN_FLAG_W,SILCAT,SILCAT_FLAG_W,NITRAT,NITRAT_FLAG_W,NO2+NO3,NO2+NO3_FLAG_W,NITRIT,NITRIT_FLAG_W,PHSPHT,PHSPHT_FLAG_W,CFC-11,CFC-11_FLAG_W,CFC-12,CFC-12_FLAG_W,DELC13,DELC13_FLAG_W,TCARBN,TCARBN_FLAG_W,ALKALI,ALKALI_FLAG_W,PH,PH_FLAG_W,PH_TMP,PH_SCALE,PH_NBS,PH_NBS_FLAG_W,C13ERR,TOTALP,TOTALP_FLAG_W,AMMONI,AMMONI_FLAG_W,CHLORA,CHLORA_FLAG_W,PPHYTN,PPHYTN_FLAG_W,REVPRS,REVTMP,DEPTH_,DEPTH_FLAG,CTDDEP,THETA,SIGTHT,DOC,DOC_FLAG_W
,,,,,,,GMT,GMT,,,METER,DBAR,ITS-90,PSS-78,,UMOL/KG,,PSS-78,,UMOL/KG,,UMOL/KG,,UMOL/KG,,UMOL/KG,,UMOL/KG,,UMOL/KG,,PMOL/KG,,PMOL/KG,,/MILLE,,UMOL/KG,,UMOL/KG,,25_DEG_C,,DEG_C,,,,/MILLE,UMOL/KG,,UMOL/KG,,UG/L,,UG/L,,DBAR,ITS-90,METERS,,METERS,DEG_C,,UMOL/L,
       KS08-01,  142E,KS-2024,  1,     -9,      -9,5,20080119,0408, 33.4982, 141.5005, 5808,      0.0,  20.4693,  34.7557,2,   -999.0,9,-999.0000,9,    223.0,2,     1.79,2,  -999.00,9,     0.88,2,     0.26,2,     0.07,2, -999.000,9, -999.000,9,  -999.00,9,   -999.0,9,   -999.0,9,-999.0000,9,   -999.0,  9,  -999.00,9,   -999.0,  -999.00,9,  -999.00,9,     0.40,2,     0.11,2,   -999.0,-999.0000, -999,9,    0,  20.4691,  24.4510,   -999.0,9
       KS08-01,  142E,KS-2024,  1,     21,02-16027,2,20080119,0425, 33.4982, 141.5005, 5808,     12.3,  20.4932,  34.7544,2,   -999.0,9,  34.7535,2,    220.0,2,     1.75,2,  -999.00,9,     0.78,2,     0.26,2,     0.06,2, -999.000,9, -999.000,9,  -999.00,9,   -999.0,9,   -999.0,9,-999.0000,9,   -999.0,  9,  -999.00,9,   -999.0,  -999.00,9,  -999.00,9,     0.35,2,     0.11,2,   -999.0,-999.0000, -999,9,   12,  20.4909,  24.4441,   -999.0,9
       KS08-01,  142E,KS-2024,  1,     20,02-16026,2,20080119,0424, 33.4982, 141.5005, 5808,     25.8,  20.4903,  34.7547,2,   -999.0,9,-999.0000,9,    220.0,2,     1.73,2,  -999.00,9,     0.78,2,     0.26,2,     0.06,2, -999.000,9, -999.000,9,  -999.00,9,   -999.0,9,   -999.0,9,-999.0000,9,   -999.0,  9,  -999.00,9,   -999.0,  -999.00,9,  -999.00,9,     0.35,2,     0.14,2,   -999.0,-999.0000, -999,9,   26,  20.4855,  24.4458,   -999.0,9
       KS08-01,  142E,KS-2024,  1,     19,02-19378,2,20080119,0421, 33.4982, 141.5005, 5808,     50.1,  20.4989,  34.7542,2,   -999.0,9,-999.0000,9,    221.0,2,     1.75,2,  -999.00,9,     0.78,2,     0.26,2,     0.11,2, -999.000,9, -999.000,9,  -999.00,9,   -999.0,9,   -999.0,9,-999.0000,9,   -999.0,  9,  -999.00,9,   -999.0,  -999.00,9,  -999.00,9,     0.37,2,     0.13,2,   -999.0,-999.0000, -999,9,   50,  20.4895,  24.4444,   -999.0,9
       KS08-01,  142E,KS-2024,  1,     18,02-19377,2,20080119,0420, 33.4982, 141.5005, 5808,     76.0,  20.5017,  34.7536,2,   -999.0,9,-999.0000,9,    221.0,2,     1.73,2,  -999.00,9,     0.78,2,     0.26,2,     0.06,2, -999.000,9, -999.000,9,  -999.00,9,   -999.0,9,   -999.0,9,-999.0000,9,   -999.0,  9,  -999.00,9,   -999.0,  -999.00,9,  -999.00,9,     0.36,2,     0.12,2,   -999.0,-999.0000, -999,9,   75,  20.4874,  24.4445,   -999.0,9
       KS08-01,  142E,KS-2024,  1,     17,02-16023,2,20080119,0419, 33.4982, 141.5005, 5808,    102.6,  20.0910,  34.7738,2,   -999.0,9,  34.7609,4,    199.0,2,     3.34,2,  -999.00,9,     2.93,2,     0.09,2,     0.20,2, -999.000,9, -999.000,9,  -999.00,9,   -999.0,9,   -999.0,9,-999.0000,9,   -999.0,  9,  -999.00,9,   -999.0,  -999.00,9,  -999.00,9,     0.05,2,     0.04,2,   -999.0,-999.0000, -999,9,  102,  20.0720,  24.5702,   -999.0,9
       KS08-01,  142E,KS-2024,  1,     16,02-16022,2,20080119,0418, 33.4982, 141.5005, 5808,    126.0,  19.7968,  34.7743,2,   -999.0,9,-999.0000,9,    205.0,2,     2.99,2,  -999.00,9,     2.64,2,     0.10,2,     0.18,2, -999.000,9, -999.000,9,  -999.00,9,   -999.0,9,   -999.0,9,-999.0000,9,   -999.0,  9,  -999.00,9,   -999.0,  -999.00,9,  -999.00,9,     0.05,2,     0.05,2,   -999.0,-999.0000, -999,9,  125,  19.7737,  24.6490,   -999.0,9
       KS08-01,  142E,KS-2024,  1,     15,02-16021,2,20080119,0417, 33.4982, 141.5005, 5808,    150.3,  19.6375,  34.7825,2,   -999.0,9,-999.0000,9,    210.0,2,     2.49,2,  -999.00,9,     2.05,2,     0.12,2,     0.14,2, -999.000,9, -999.000,9,  -999.00,9,   -999.0,9,   -999.0,9,-999.0000,9,   -999.0,  9,  -999.00,9,   -999.0,  -999.00,9,  -999.00,9,     0.05,2,     0.04,2,   -999.0,-999.0000, -999,9,  149,  19.6101,  24.6978,   -999.0,9
       KS08-01,  142E,KS-2024,  1,     14,02-16020,2,20080119,0415, 33.4982, 141.5005, 5808,    200.3,  19.0175,  34.8083,2,   -999.0,9,  34.8078,2,    208.0,2,     2.78,2,  -999.00,9,     3.12,2,     0.02,2,     0.20,2, -999.000,9, -999.000,9,  -999.00,9,   -999.0,9,   -999.0,9,-999.0000,9,   -999.0,  9,  -999.00,9,   -999.0,  -999.00,9,  -999.00,9,     0.01,2,     0.02,2,   -999.0,-999.0000, -999,9,  199,  18.9818,  24.8793,   -999.0,9
       KS08-01,  142E,KS-2024,  1,     13,02-16019,2,20080119,0414, 33.4982, 141.5005, 5808,    251.4,  18.2046,  34.7944,2,   -999.0,9,-999.0000,9,    207.0,2,     3.18,2,  -999.00,9,     3.80,2,     0.01,2,     0.24,2, -999.000,9, -999.000,9,  -999.00,9,   -999.0,9,   -999.0,9,-999.0000,9,   -999.0,  9,  -999.00,9,   -999.0,  -999.00,9,  -999.00,9,     0.00,2,     0.01,2,   -999.0,-999.0000, -999,9,  249,  18.1611,  25.0748,   -999.0,9
       KS08-01,  142E,KS-2024,  1,     12,02-16018,2,20080119,0412, 33.4982, 141.5005, 5808,    304.0,  17.6507,  34.7767,2,   -999.0,9,-999.0000,9,    206.0,2,     3.83,2,  -999.00,9,     4.58,2,     0.01,2,     0.29,2, -999.000,9, -999.000,9,  -999.00,9,   -999.0,9,   -999.0,9,-999.0000,9,   -999.0,  9,  -999.00,9,   -999.0,  -999.00,9,  -999.00,9,     0.00,2,     0.01,2,   -999.0,-999.0000, -999,9,  302,  17.5991,  25.1990,   -999.0,9
       KS08-01,  142E,KS-2024,  1,     11,02-19376,2,20080119,0410, 33.4982, 141.5005, 5808,    401.3,  16.1163,  34.6781,2,   -999.0,9,  34.6790,2,    194.0,2,     7.65,2,  -999.00,9,     8.09,2,     0.00,2,     0.53,2, -999.000,9, -999.000,9,  -999.00,9,   -999.0,9,   -999.0,9,-999.0000,9,   -999.0,  9,  -999.00,9,   -999.0,  -999.00,9,  -999.00,9,  -999.00,9,  -999.00,9,   -999.0,-999.0000, -999,9,  398,  16.0523,  25.4881,   -999.0,9
       KS08-01,  142E,KS-2024,  1,     10,02-19375,2,20080119,0407, 33.4982, 141.5005, 5808,    503.8,  13.3630,  34.4827,2,   -999.0,9,  34.4829,2,    183.0,2,    16.62,2,  -999.00,9,    13.35,2,     0.00,2,     0.91,2, -999.000,9, -999.000,9,  -999.00,9,   -999.0,9,   -999.0,9,-999.0000,9,   -999.0,  9,  -999.00,9,   -999.0,  -999.00,9,  -999.00,9,  -999.00,9,  -999.00,9,   -999.0,-999.0000, -999,9,  500,  13.2920,  25.9333,   -999.0,9
       KS08-01,  142E,KS-2024,  1,      9,02-16015,2,20080119,0405, 33.4982, 141.5005, 5808,    605.2,   9.9542,  34.2367,2,   -999.0,9,  34.2368,2,    175.0,2,    30.78,2,  -999.00,9,    19.68,2,     0.00,2,     1.38,2, -999.000,9, -999.000,9,  -999.00,9,   -999.0,9,   -999.0,9,-999.0000,9,   -999.0,  9,  -999.00,9,   -999.0,  -999.00,9,  -999.00,9,  -999.00,9,  -999.00,9,   -999.0,-999.0000, -999,9,  600,   9.8834,  26.3756,   -999.0,9
       KS08-01,  142E,KS-2024,  1,      8,02-16014,2,20080119,0403, 33.4982, 141.5005, 5808,    704.2,   7.0926,  34.0665,2,   -999.0,9,  34.0663,2,    154.0,2,    50.92,2,  -999.00,9,    26.69,2,     0.00,2,     1.93,2, -999.000,9, -999.000,9,  -999.00,9,   -999.0,9,   -999.0,9,-999.0000,9,   -999.0,  9,  -999.00,9,   -999.0,  -999.00,9,  -999.00,9,  -999.00,9,  -999.00,9,   -999.0,-999.0000, -999,9,  698,   7.0248,  26.6800,   -999.0,9
       KS08-01,  142E,KS-2024,  1,      7,02-19374,2,20080119,0400, 33.4982, 141.5005, 5808,    804.8,   5.8573,  34.1697,2,   -999.0,9,  34.1720,2,    106.0,2,    75.41,2,  -999.00,9,    33.21,2,     0.00,2,     2.39,2, -999.000,9, -999.000,9,  -999.00,9,   -999.0,9,   -999.0,9,-999.0000,9,   -999.0,  9,  -999.00,9,   -999.0,  -999.00,9,  -999.00,9,  -999.00,9,  -999.00,9,   -999.0,-999.0000, -999,9,  798,   5.7866,  26.9232,   -999.0,9
       KS08-01,  142E,KS-2024,  1,      6,02-19373,2,20080119,0358, 33.4982, 141.5005, 5808,    908.2,   4.9663,  34.2569,2,   -999.0,9,  34.2577,2,     79.0,2,    93.66,2,  -999.00,9,    36.71,2,     0.00,2,     2.65,2, -999.000,9, -999.000,9,  -999.00,9,   -999.0,9,   -999.0,9,-999.0000,9,   -999.0,  9,  -999.00,9,   -999.0,  -999.00,9,  -999.00,9,  -999.00,9,  -999.00,9,   -999.0,-999.0000, -999,9,  900,   4.8918,  27.0985,   -999.0,9
       KS08-01,  142E,KS-2024,  1,      5,02-16011,2,20080119,0356, 33.4982, 141.5005, 5808,   1009.0,   4.2681,  34.3159,2,   -999.0,9,-999.0000,9,     68.0,2,   106.69,2,  -999.00,9,    38.75,2,     0.00,2,     2.78,2, -999.000,9, -999.000,9,  -999.00,9,   -999.0,9,   -999.0,9,-999.0000,9,   -999.0,  9,  -999.00,9,   -999.0,  -999.00,9,  -999.00,9,  -999.00,9,  -999.00,9,   -999.0,-999.0000, -999,9,  999,   4.1899,  27.2222,   -999.0,9
       KS08-01,  142E,KS-2024,  1,      4,02-16010,2,20080119,0351, 33.4982, 141.5005, 5808,   1262.8,   3.1291,  34.4026,2,   -999.0,9,  34.4023,2,     46.0,2,   133.39,2,  -999.00,9,    41.66,2,     0.00,2,     3.00,2, -999.000,9, -999.000,9,  -999.00,9,   -999.0,9,   -999.0,9,-999.0000,9,   -999.0,  9,  -999.00,9,   -999.0,  -999.00,9,  -999.00,9,  -999.00,9,  -999.00,9,   -999.0,-999.0000, -999,9, 1250,   3.0397,  27.4046,   -999.0,9
       KS08-01,  142E,KS-2024,  1,      3,02-16009,2,20080119,0346, 33.4982, 141.5005, 5808,   1516.3,   2.5695,  34.5056,2,   -999.0,9,  34.5063,2,     62.0,2,   144.37,2,  -999.00,9,    41.07,2,     0.00,2,     2.94,2, -999.000,9, -999.000,9,  -999.00,9,   -999.0,9,   -999.0,9,-999.0000,9,   -999.0,  9,  -999.00,9,   -999.0,  -999.00,9,  -999.00,9,  -999.00,9,  -999.00,9,   -999.0,-999.0000, -999,9, 1500,   2.4655,  27.5375,   -999.0,9
       KS08-01,  142E,KS-2024,  1,      2,02-16008,2,20080119,0340, 33.4982, 141.5005, 5808,   1770.2,   2.1818,  34.5587,2,   -999.0,9,  34.5591,2,     68.0,2,   153.21,2,  -999.00,9,    41.07,2,     0.00,2,     2.94,2, -999.000,9, -999.000,9,  -999.00,9,   -999.0,9,   -999.0,9,-999.0000,9,   -999.0,  9,  -999.00,9,   -999.0,  -999.00,9,  -999.00,9,  -999.00,9,  -999.00,9,   -999.0,-999.0000, -999,9, 1750,   2.0620,  27.6132,   -999.0,9
       KS08-01,  142E,KS-2024,  1,      1,02-16007,2,20080119,0335, 33.4982, 141.5005, 5808,   2034.8,   1.9452,  34.5962,2,   -999.0,9,  34.5964,2,     82.0,2,   156.89,2,  -999.00,9,    40.19,2,     0.00,2,     2.86,2, -999.000,9, -999.000,9,  -999.00,9,   -999.0,9,   -999.0,9,-999.0000,9,   -999.0,  9,  -999.00,9,   -999.0,  -999.00,9,  -999.00,9,  -999.00,9,  -999.00,9,   -999.0,-999.0000, -999,9, 2011,   1.8068,  27.6632,   -999.0,9