BOTTLE,20130510GEMDJMAYT
EXPOCODE,SECT_ID,STNNBR,CASTNO,SAMPNO,BTLNBR,BTLNBR_FLAG_W,DATE,TIME,LATITUDE,LONGITUDE,DEPTH,CTDPRS,CTDTMP,CTDSAL,CTDSAL_FLAG_W,CTDOXY,CTDOXY_FLAG_W,SALNTY,SALNTY_FLAG_W,OXYGEN,OXYGEN_FLAG_W,SILCAT,SILCAT_FLAG_W,NITRAT,NITRAT_FLAG_W,NO2+NO3,NO2+NO3_FLAG_W,NITRIT,NITRIT_FLAG_W,PHSPHT,PHSPHT_FLAG_W,CFC-11,CFC-11_FLAG_W,CFC-12,CFC-12_FLAG_W,DELC13,DELC13_FLAG_W,TCARBN,TCARBN_FLAG_W,ALKALI,ALKALI_FLAG_W,PH,PH_FLAG_W,PH_TMP,PH_SCALE,PH_NBS,PH_NBS_FLAG_W,C13ERR,TOTALP,TOTALP_FLAG_W,AMMONI,AMMONI_FLAG_W,CHLORA,CHLORA_FLAG_W,PPHYTN,PPHYTN_FLAG_W,REVPRS,REVTMP,DEPTH_,DEPTH_FLAG,CTDDEP,THETA,SIGTHT,DOC,DOC_FLAG_W
,,,,,,,GMT,GMT,,,METER,DBAR,ITS-90,PSS-78,,UMOL/KG,,PSS-78,,UMOL/KG,,UMOL/KG,,UMOL/KG,,UMOL/KG,,UMOL/KG,,UMOL/KG,,PMOL/KG,,PMOL/KG,,/MILLE,,UMOL/KG,,UMOL/KG,,25_DEG_C,,DEG_C,,,,/MILLE,UMOL/KG,,UMOL/KG,,UG/L,,UG/L,,DBAR,ITS-90,METERS,,METERS,DEG_C,,UMOL/L,
       KS08-01,  NONE,KS-2094,  1,     -9,      -9,5,20080307,0831, 30.9875, 134.0972, 4439,      0.0,  18.7708,  34.8205,2,   -999.0,9,-999.0000,9,    228.0,2,     1.96,2,  -999.00,9,     1.27,2,     0.13,2,     0.08,2, -999.000,9, -999.000,9,  -999.00,9,   -999.0,9,   -999.0,9,-999.0000,9,   -999.0,  9,  -999.00,9,   -999.0,  -999.00,9,  -999.00,9,     0.30,2,     0.11,2,   -999.0,-999.0000, -999,9,    0,  18.7707,  24.9422,   -999.0,9
       KS08-01,  NONE,KS-2094,  1,     22,02-16028,2,20080307,0850, 30.9875, 134.0972, 4439,     10.0,  18.7815,  34.8200,2,   -999.0,9,  34.8196,2,    226.0,2,     1.88,2,  -999.00,9,     1.17,2,     0.14,2,     0.08,2, -999.000,9, -999.000,9,  -999.00,9,   -999.0,9,   -999.0,9,-999.0000,9,   -999.0,  9,  -999.00,9,   -999.0,  -999.00,9,  -999.00,9,     0.29,2,     0.10,2,   -999.0,-999.0000, -999,9,   10,  18.7797,  24.9396,   -999.0,9
       KS08-01,  NONE,KS-2094,  1,     21,02-16027,2,20080307,0849, 30.9875, 134.0972, 4439,     25.6,  18.7820,  34.8201,2,   -999.0,9,-999.0000,9,    226.0,2,     1.91,2,  -999.00,9,     1.17,2,     0.14,2,     0.08,2, -999.000,9, -999.000,9,  -999.00,9,   -999.0,9,   -999.0,9,-999.0000,9,   -999.0,  9,  -999.00,9,   -999.0,  -999.00,9,  -999.00,9,     0.28,2,     0.11,2,   -999.0,-999.0000, -999,9,   25,  18.7775,  24.9402,   -999.0,9
       KS08-01,  NONE,KS-2094,  1,     20,02-16026,2,20080307,0845, 30.9875, 134.0972, 4439,     50.0,  18.7852,  34.8197,2,   -999.0,9,-999.0000,9,    226.0,2,     2.21,2,  -999.00,9,     1.17,2,     0.14,2,     0.08,2, -999.000,9, -999.000,9,  -999.00,9,   -999.0,9,   -999.0,9,-999.0000,9,   -999.0,  9,  -999.00,9,   -999.0,  -999.00,9,  -999.00,9,     0.30,2,     0.11,2,   -999.0,-999.0000, -999,9,   50,  18.7764,  24.9402,   -999.0,9
       KS08-01,  NONE,KS-2094,  1,     19,02-16025,2,20080307,0844, 30.9875, 134.0972, 4439,     74.2,  18.7904,  34.8197,2,   -999.0,9,-999.0000,9,    227.0,2,     1.98,2,  -999.00,9,     1.17,2,     0.14,2,     0.08,2, -999.000,9, -999.000,9,  -999.00,9,   -999.0,9,   -999.0,9,-999.0000,9,   -999.0,  9,  -999.00,9,   -999.0,  -999.00,9,  -999.00,9,     0.29,2,     0.12,2,   -999.0,-999.0000, -999,9,   74,  18.7773,  24.9399,   -999.0,9
       KS08-01,  NONE,KS-2094,  1,     18,02-16024,2,20080307,0843, 30.9875, 134.0972, 4439,    100.3,  18.7886,  34.8196,2,   -999.0,9,  34.8184,2,    225.0,2,     1.91,2,  -999.00,9,     1.17,2,     0.14,2,     0.08,2, -999.000,9, -999.000,9,  -999.00,9,   -999.0,9,   -999.0,9,-999.0000,9,   -999.0,  9,  -999.00,9,   -999.0,  -999.00,9,  -999.00,9,     0.32,2,     0.11,2,   -999.0,-999.0000, -999,9,  100,  18.7709,  24.9414,   -999.0,9
       KS08-01,  NONE,KS-2094,  1,     17,02-16023,2,20080307,0843, 30.9875, 134.0972, 4439,    125.2,  18.7913,  34.8201,2,   -999.0,9,-999.0000,9,    226.0,2,     1.94,2,  -999.00,9,     1.17,2,     0.14,2,     0.08,2, -999.000,9, -999.000,9,  -999.00,9,   -999.0,9,   -999.0,9,-999.0000,9,   -999.0,  9,  -999.00,9,   -999.0,  -999.00,9,  -999.00,9,     0.30,2,     0.11,2,   -999.0,-999.0000, -999,9,  124,  18.7692,  24.9423,   -999.0,9
       KS08-01,  NONE,KS-2094,  1,     16,02-16022,2,20080307,0842, 30.9875, 134.0972, 4439,    151.1,  18.7947,  34.8202,2,   -999.0,9,-999.0000,9,    225.0,2,     1.92,2,  -999.00,9,     1.17,2,     0.14,2,     0.08,2, -999.000,9, -999.000,9,  -999.00,9,   -999.0,9,   -999.0,9,-999.0000,9,   -999.0,  9,  -999.00,9,   -999.0,  -999.00,9,  -999.00,9,     0.27,2,     0.11,2,   -999.0,-999.0000, -999,9,  150,  18.7680,  24.9427,   -999.0,9
       KS08-01,  NONE,KS-2094,  1,     15,02-16021,2,20080307,0840, 30.9875, 134.0972, 4439,    201.9,  18.7996,  34.8199,2,   -999.0,9,  34.8188,2,    225.0,2,     1.95,2,  -999.00,9,     1.17,2,     0.14,2,     0.09,2, -999.000,9, -999.000,9,  -999.00,9,   -999.0,9,   -999.0,9,-999.0000,9,   -999.0,  9,  -999.00,9,   -999.0,  -999.00,9,  -999.00,9,     0.24,2,     0.09,2,   -999.0,-999.0000, -999,9,  200,  18.7639,  24.9435,   -999.0,9
       KS08-01,  NONE,KS-2094,  1,     14,02-16020,2,20080307,0839, 30.9875, 134.0972, 4439,    252.6,  18.8047,  34.8197,2,   -999.0,9,-999.0000,9,    225.0,2,     1.93,2,  -999.00,9,     1.27,2,     0.14,2,     0.09,2, -999.000,9, -999.000,9,  -999.00,9,   -999.0,9,   -999.0,9,-999.0000,9,   -999.0,  9,  -999.00,9,   -999.0,  -999.00,9,  -999.00,9,     0.23,2,     0.10,2,   -999.0,-999.0000, -999,9,  251,  18.7600,  24.9443,   -999.0,9
       KS08-01,  NONE,KS-2094,  1,     13,02-16019,2,20080307,0837, 30.9875, 134.0972, 4439,    304.8,  18.7831,  34.8179,2,   -999.0,9,  34.8176,2,    222.0,2,     2.07,2,  -999.00,9,     1.46,2,     0.14,2,     0.10,2, -999.000,9, -999.000,9,  -999.00,9,   -999.0,9,   -999.0,9,-999.0000,9,   -999.0,  9,  -999.00,9,   -999.0,  -999.00,9,  -999.00,9,     0.21,2,     0.08,2,   -999.0,-999.0000, -999,9,  302,  18.7291,  24.9507,   -999.0,9
       KS08-01,  NONE,KS-2094,  1,     12,02-16018,2,20080307,0834, 30.9875, 134.0972, 4439,    404.5,  17.5867,  34.7837,2,   -999.0,9,  34.7836,2,    201.0,2,     4.21,2,  -999.00,9,     5.07,2,     0.00,2,     0.30,2, -999.000,9, -999.000,9,  -999.00,9,   -999.0,9,   -999.0,9,-999.0000,9,   -999.0,  9,  -999.00,9,   -999.0,  -999.00,9,  -999.00,9,  -999.00,9,  -999.00,9,   -999.0,-999.0000, -999,9,  401,  17.5181,  25.2240,   -999.0,9
       KS08-01,  NONE,KS-2094,  1,     10,02-16016,2,20080307,0832, 30.9875, 134.0972, 4439,    504.3,  15.9686,  34.6701,2,   -999.0,9,  34.6713,2,    192.0,2,     8.11,2,  -999.00,9,     8.39,2,     0.00,2,     0.53,2, -999.000,9, -999.000,9,  -999.00,9,   -999.0,9,   -999.0,9,-999.0000,9,   -999.0,  9,  -999.00,9,   -999.0,  -999.00,9,  -999.00,9,  -999.00,9,  -999.00,9,   -999.0,-999.0000, -999,9,  500,  15.8884,  25.5193,   -999.0,9
       KS08-01,  NONE,KS-2094,  1,      9,02-16015,2,20080307,0829, 30.9875, 134.0972, 4439,    608.0,  13.1779,  34.4705,2,   -999.0,9,  34.4730,2,    179.0,2,    17.38,2,  -999.00,9,    13.94,2,     0.00,2,     0.93,2, -999.000,9, -999.000,9,  -999.00,9,   -999.0,9,   -999.0,9,-999.0000,9,   -999.0,  9,  -999.00,9,   -999.0,  -999.00,9,  -999.00,9,  -999.00,9,  -999.00,9,   -999.0,-999.0000, -999,9,  603,  13.0927,  25.9641,   -999.0,9
       KS08-01,  NONE,KS-2094,  1,      8,02-16014,2,20080307,0825, 30.9875, 134.0972, 4439,    707.8,  10.0600,  34.2724,2,   -999.0,9,  34.2727,2,    162.0,2,    33.03,2,  -999.00,9,    20.75,2,     0.00,2,     1.43,2, -999.000,9, -999.000,9,  -999.00,9,   -999.0,9,   -999.0,9,-999.0000,9,   -999.0,  9,  -999.00,9,   -999.0,  -999.00,9,  -999.00,9,  -999.00,9,  -999.00,9,   -999.0,-999.0000, -999,9,  702,   9.9762,  26.3878,   -999.0,9
       KS08-01,  NONE,KS-2094,  1,      7,02-16013,2,20080307,0822, 30.9875, 134.0972, 4439,    808.0,   7.5158,  34.1629,2,   -999.0,9,  34.1618,2,    137.0,2,    53.09,2,  -999.00,9,    27.56,2,     0.00,2,     1.97,2, -999.000,9, -999.000,9,  -999.00,9,   -999.0,9,   -999.0,9,-999.0000,9,   -999.0,  9,  -999.00,9,   -999.0,  -999.00,9,  -999.00,9,  -999.00,9,  -999.00,9,   -999.0,-999.0000, -999,9,  801,   7.4347,  26.6986,   -999.0,9
       KS08-01,  NONE,KS-2094,  1,      6,02-16012,2,20080307,0819, 30.9875, 134.0972, 4439,    910.3,   5.6219,  34.1157,2,   -999.0,9,  34.1123,4,    105.0,2,    74.45,2,  -999.00,9,    33.69,2,     0.00,2,     2.43,2, -999.000,9, -999.000,9,  -999.00,9,   -999.0,9,   -999.0,9,-999.0000,9,   -999.0,  9,  -999.00,9,   -999.0,  -999.00,9,  -999.00,9,  -999.00,9,  -999.00,9,   -999.0,-999.0000, -999,9,  902,   5.5429,  26.9103,   -999.0,9
       KS08-01,  NONE,KS-2094,  1,      5,02-16011,2,20080307,0816, 30.9875, 134.0972, 4439,   1011.4,   5.2071,  34.2855,2,   -999.0,9,  34.2863,2,     78.0,2,    90.32,2,  -999.00,9,    36.61,2,     0.00,2,     2.62,2, -999.000,9, -999.000,9,  -999.00,9,   -999.0,9,   -999.0,9,-999.0000,9,   -999.0,  9,  -999.00,9,   -999.0,  -999.00,9,  -999.00,9,  -999.00,9,  -999.00,9,   -999.0,-999.0000, -999,9, 1002,   5.1215,  27.0947,   -999.0,9
       KS08-01,  NONE,KS-2094,  1,      4,02-16010,2,20080307,0810, 30.9875, 134.0972, 4439,   1263.9,   3.5918,  34.4062,2,   -999.0,9,  34.4058,2,     64.0,2,   120.90,2,  -999.00,9,    40.20,2,     0.00,2,     2.86,2, -999.000,9, -999.000,9,  -999.00,9,   -999.0,9,   -999.0,9,-999.0000,9,   -999.0,  9,  -999.00,9,   -999.0,  -999.00,9,  -999.00,9,  -999.00,9,  -999.00,9,   -999.0,-999.0000, -999,9, 1251,   3.4978,  27.3641,   -999.0,9
       KS08-01,  NONE,KS-2094,  1,      3,02-16009,2,20080307,0804, 30.9875, 134.0972, 4439,   1517.3,   2.8899,  34.4900,2,   -999.0,9,  34.4892,2,     73.0,2,   133.47,2,  -999.00,9,    40.39,2,     0.00,2,     2.87,2, -999.000,9, -999.000,9,  -999.00,9,   -999.0,9,   -999.0,9,-999.0000,9,   -999.0,  9,  -999.00,9,   -999.0,  -999.00,9,  -999.00,9,  -999.00,9,  -999.00,9,   -999.0,-999.0000, -999,9, 1501,   2.7821,  27.4976,   -999.0,9
       KS08-01,  NONE,KS-2094,  1,      2,02-16008,2,20080307,0759, 30.9875, 134.0972, 4439,   1769.9,   2.4634,  34.5441,2,   -999.0,9,  34.5436,2,     86.0,2,   138.84,2,  -999.00,9,    40.00,2,     0.00,2,     2.81,2, -999.000,9, -999.000,9,  -999.00,9,   -999.0,9,   -999.0,9,-999.0000,9,   -999.0,  9,  -999.00,9,   -999.0,  -999.00,9,  -999.00,9,  -999.00,9,  -999.00,9,   -999.0,-999.0000, -999,9, 1750,   2.3398,  27.5789,   -999.0,9
       KS08-01,  NONE,KS-2094,  1,     11,02-16017,9,20080307,0754, 30.9875, 134.0972, 4439,   2027.4,   2.2081,  34.5777,2,   -999.0,9,-999.0000,9,   -999.0,9,  -999.00,9,  -999.00,9,  -999.00,9,  -999.00,9,  -999.00,9, -999.000,9, -999.000,9,  -999.00,9,   -999.0,9,   -999.0,9,-999.0000,9,   -999.0,  9,  -999.00,9,   -999.0,  -999.00,9,  -999.00,9,  -999.00,9,  -999.00,9,   -999.0,-999.0000, -999,9, 2004,   2.0663,  27.6281,   -999.0,9
       KS08-01,  NONE,KS-2094,  1,      1,02-16007,2,20080307,0754, 30.9875, 134.0972, 4439,   2029.0,   2.2068,  34.5780,2,   -999.0,9,  34.5778,2,     97.0,2,   141.71,2,  -999.00,9,    39.41,2,     0.00,2,     2.77,2, -999.000,9, -999.000,9,  -999.00,9,   -999.0,9,   -999.0,9,-999.0000,9,   -999.0,  9,  -999.00,9,   -999.0,  -999.00,9,  -999.00,9,  -999.00,9,  -999.00,9,   -999.0,-999.0000, -999,9, 2005,   2.0649,  27.6284,   -999.0,9
       KS08-01,  NONE,KS-2102,  1,     10,02-16016,2,20080308,0722, 32.5923, 133.2063,  763,      9.9,  18.2208,  34.6956,2,   -999.0,9,  34.6949,2,   -999.0,9,  -999.00,9,  -999.00,9,  -999.00,9,  -999.00,9,  -999.00,9, -999.000,9, -999.000,9,  -999.00,9,   -999.0,9,   -999.0,9,-999.0000,9,   -999.0,  9,  -999.00,9,   -999.0,  -999.00,9,  -999.00,9,  -999.00,9,  -999.00,9,   -999.0,-999.0000, -999,9,   10,  18.2191,  24.9848,   -999.0,9
       KS08-01,  NONE,KS-2102,  1,      9,02-16015,2,20080308,0717, 32.5923, 133.2063,  763,    100.8,  17.3457,  34.6591,2,   -999.0,9,  34.6586,2,   -999.0,9,  -999.00,9,  -999.00,9,  -999.00,9,  -999.00,9,  -999.00,9, -999.000,9, -999.000,9,  -999.00,9,   -999.0,9,   -999.0,9,-999.0000,9,   -999.0,  9,  -999.00,9,   -999.0,  -999.00,9,  -999.00,9,  -999.00,9,  -999.00,9,   -999.0,-999.0000, -999,9,  100,  17.3289,  25.1741,   -999.0,9
       KS08-01,  NONE,KS-2102,  1,      8,02-16014,2,20080308,0715, 32.5923, 133.2063,  763,    202.9,  14.3301,  34.5475,2,   -999.0,9,  34.5493,2,   -999.0,9,  -999.00,9,  -999.00,9,  -999.00,9,  -999.00,9,  -999.00,9, -999.000,9, -999.000,9,  -999.00,9,   -999.0,9,   -999.0,9,-999.0000,9,   -999.0,  9,  -999.00,9,   -999.0,  -999.00,9,  -999.00,9,  -999.00,9,  -999.00,9,   -999.0,-999.0000, -999,9,  201,  14.3004,  25.7740,   -999.0,9
       KS08-01,  NONE,KS-2102,  1,      7,02-16013,2,20080308,0712, 32.5923, 133.2063,  763,    303.4,   9.4107,  34.3435,2,   -999.0,9,  34.3441,2,   -999.0,9,  -999.00,9,  -999.00,9,  -999.00,9,  -999.00,9,  -999.00,9, -999.000,9, -999.000,9,  -999.00,9,   -999.0,9,   -999.0,9,-999.0000,9,   -999.0,  9,  -999.00,9,   -999.0,  -999.00,9,  -999.00,9,  -999.00,9,  -999.00,9,   -999.0,-999.0000, -999,9,  301,   9.3769,  26.5432,   -999.0,9
       KS08-01,  NONE,KS-2102,  1,      6,02-16012,2,20080308,0710, 32.5923, 133.2063,  763,    404.4,   7.4091,  34.2750,2,   -999.0,9,  34.2751,2,   -999.0,9,  -999.00,9,  -999.00,9,  -999.00,9,  -999.00,9,  -999.00,9, -999.000,9, -999.000,9,  -999.00,9,   -999.0,9,   -999.0,9,-999.0000,9,   -999.0,  9,  -999.00,9,   -999.0,  -999.00,9,  -999.00,9,  -999.00,9,  -999.00,9,   -999.0,-999.0000, -999,9,  401,   7.3699,  26.7959,   -999.0,9
       KS08-01,  NONE,KS-2102,  1,      5,02-16011,2,20080308,0707, 32.5923, 133.2063,  763,    503.0,   6.0799,  34.2628,2,   -999.0,9,  34.2620,2,   -999.0,9,  -999.00,9,  -999.00,9,  -999.00,9,  -999.00,9,  -999.00,9, -999.000,9, -999.000,9,  -999.00,9,   -999.0,9,   -999.0,9,-999.0000,9,   -999.0,  9,  -999.00,9,   -999.0,  -999.00,9,  -999.00,9,  -999.00,9,  -999.00,9,   -999.0,-999.0000, -999,9,  499,   6.0358,  26.9655,   -999.0,9
       KS08-01,  NONE,KS-2102,  1,      4,02-16010,2,20080308,0705, 32.5923, 133.2063,  763,    605.5,   5.3513,  34.3080,2,   -999.0,9,  34.3084,2,   -999.0,9,  -999.00,9,  -999.00,9,  -999.00,9,  -999.00,9,  -999.00,9, -999.000,9, -999.000,9,  -999.00,9,   -999.0,9,   -999.0,9,-999.0000,9,   -999.0,  9,  -999.00,9,   -999.0,  -999.00,9,  -999.00,9,  -999.00,9,  -999.00,9,   -999.0,-999.0000, -999,9,  600,   5.3011,  27.0914,   -999.0,9
       KS08-01,  NONE,KS-2102,  1,      3,02-16009,2,20080308,0702, 32.5923, 133.2063,  763,    705.9,   4.8776,  34.3280,2,   -999.0,9,  34.3280,2,   -999.0,9,  -999.00,9,  -999.00,9,  -999.00,9,  -999.00,9,  -999.00,9, -999.000,9, -999.000,9,  -999.00,9,   -999.0,9,   -999.0,9,-999.0000,9,   -999.0,  9,  -999.00,9,   -999.0,  -999.00,9,  -999.00,9,  -999.00,9,  -999.00,9,   -999.0,-999.0000, -999,9,  700,   4.8212,  27.1628,   -999.0,9
       KS08-01,  NONE,KS-2102,  1,      1,02-16007,9,20080308,0700, 32.5923, 133.2063,  763,    758.4,   4.5097,  34.3449,2,   -999.0,9,-999.0000,9,   -999.0,9,  -999.00,9,  -999.00,9,  -999.00,9,  -999.00,9,  -999.00,9, -999.000,9, -999.000,9,  -999.00,9,   -999.0,9,   -999.0,9,-999.0000,9,   -999.0,  9,  -999.00,9,   -999.0,  -999.00,9,  -999.00,9,  -999.00,9,  -999.00,9,   -999.0,-999.0000, -999,9,  752,   4.4509,  27.2173,   -999.0,9
       KS08-01,  NONE,KS-2102,  1,      2,02-16008,2,20080308,0701, 32.5923, 133.2063,  763,    758.8,   4.5026,  34.3451,2,   -999.0,9,  34.3446,2,   -999.0,9,  -999.00,9,  -999.00,9,  -999.00,9,  -999.00,9,  -999.00,9, -999.000,9, -999.000,9,  -999.00,9,   -999.0,9,   -999.0,9,-999.0000,9,   -999.0,  9,  -999.00,9,   -999.0,  -999.00,9,  -999.00,9,  -999.00,9,  -999.00,9,   -999.0,-999.0000, -999,9,  752,   4.4438,  27.2182,   -999.0,9
       KS08-01,  NONE,KS-2103,  1,     -9,      -9,5,20080308,0846, 32.7502, 133.0860,  139,      0.0,  18.0665,  34.7335,2,   -999.0,9,-999.0000,9,    239.0,2,     3.17,2,  -999.00,9,     1.56,2,     0.17,2,     0.14,2, -999.000,9, -999.000,9,  -999.00,9,   -999.0,9,   -999.0,9,-999.0000,9,   -999.0,  9,  -999.00,9,   -999.0,  -999.00,9,  -999.00,9,     1.39,2,     0.22,2,   -999.0,-999.0000, -999,9,    0,  18.0664,  25.0516,   -999.0,9
       KS08-01,  NONE,KS-2103,  1,      7,02-16013,2,20080308,0855, 32.7502, 133.0860,  139,     10.6,  18.0672,  34.7317,2,   -999.0,9,-999.0000,9,    239.0,2,     3.04,2,  -999.00,9,     1.56,2,     0.17,2,     0.14,2, -999.000,9, -999.000,9,  -999.00,9,   -999.0,9,   -999.0,9,-999.0000,9,   -999.0,  9,  -999.00,9,   -999.0,  -999.00,9,  -999.00,9,     1.09,2,     0.15,2,   -999.0,-999.0000, -999,9,   10,  18.0654,  25.0505,   -999.0,9
       KS08-01,  NONE,KS-2103,  1,      6,02-16012,2,20080308,0854, 32.7502, 133.0860,  139,     25.4,  17.8342,  34.7180,2,   -999.0,9,-999.0000,9,    239.0,2,     3.17,2,  -999.00,9,     1.76,2,     0.20,2,     0.15,2, -999.000,9, -999.000,9,  -999.00,9,   -999.0,9,   -999.0,9,-999.0000,9,   -999.0,  9,  -999.00,9,   -999.0,  -999.00,9,  -999.00,9,     1.55,2,     0.27,2,   -999.0,-999.0000, -999,9,   25,  17.8299,  25.0978,   -999.0,9
       KS08-01,  NONE,KS-2103,  1,      5,02-16011,2,20080308,0852, 32.7502, 133.0860,  139,     50.5,  17.7248,  34.7147,2,   -999.0,9,-999.0000,9,    231.0,2,     3.40,2,  -999.00,9,     2.24,2,     0.21,2,     0.17,2, -999.000,9, -999.000,9,  -999.00,9,   -999.0,9,   -999.0,9,-999.0000,9,   -999.0,  9,  -999.00,9,   -999.0,  -999.00,9,  -999.00,9,     1.56,2,     0.30,2,   -999.0,-999.0000, -999,9,   50,  17.7163,  25.1230,   -999.0,9
       KS08-01,  NONE,KS-2103,  1,      4,02-16010,2,20080308,0851, 32.7502, 133.0860,  139,     75.6,  17.2575,  34.6863,2,   -999.0,9,-999.0000,9,    210.0,2,     6.22,2,  -999.00,9,     5.07,2,     0.20,2,     0.33,2, -999.000,9, -999.000,9,  -999.00,9,   -999.0,9,   -999.0,9,-999.0000,9,   -999.0,  9,  -999.00,9,   -999.0,  -999.00,9,  -999.00,9,     0.76,2,     0.29,2,   -999.0,-999.0000, -999,9,   75,  17.2450,  25.2151,   -999.0,9
       KS08-01,  NONE,KS-2103,  1,      3,02-16009,2,20080308,0849, 32.7502, 133.0860,  139,    101.6,  16.5256,  34.6595,2,   -999.0,9,-999.0000,9,    187.0,2,    10.29,2,  -999.00,9,     8.48,2,     0.11,2,     0.56,2, -999.000,9, -999.000,9,  -999.00,9,   -999.0,9,   -999.0,9,-999.0000,9,   -999.0,  9,  -999.00,9,   -999.0,  -999.00,9,  -999.00,9,     0.12,2,     0.10,2,   -999.0,-999.0000, -999,9,  101,  16.5092,  25.3683,   -999.0,9
       KS08-01,  NONE,KS-2103,  1,      1,02-16007,9,20080308,0847, 32.7502, 133.0860,  139,    122.7,  15.8518,  34.6203,2,   -999.0,9,-999.0000,9,   -999.0,9,  -999.00,9,  -999.00,9,  -999.00,9,  -999.00,9,  -999.00,9, -999.000,9, -999.000,9,  -999.00,9,   -999.0,9,   -999.0,9,-999.0000,9,   -999.0,  9,  -999.00,9,   -999.0,  -999.00,9,  -999.00,9,  -999.00,9,  -999.00,9,   -999.0,-999.0000, -999,9,  122,  15.8326,  25.4936,   -999.0,9
       KS08-01,  NONE,KS-2103,  1,      2,02-16008,2,20080308,0847, 32.7502, 133.0860,  139,    122.9,  15.8482,  34.6203,2,   -999.0,9,-999.0000,9,    182.0,2,    12.89,2,  -999.00,9,     9.85,2,     0.11,2,     0.65,2, -999.000,9, -999.000,9,  -999.00,9,   -999.0,9,   -999.0,9,-999.0000,9,   -999.0,  9,  -999.00,9,   -999.0,  -999.00,9,  -999.00,9,     0.15,2,     0.13,2,   -999.0,-999.0000, -999,9,  122,  15.8290,  25.4944,   -999.0,9