BOTTLE,20130510GEMDJMAYT
EXPOCODE,SECT_ID,STNNBR,CASTNO,SAMPNO,BTLNBR,BTLNBR_FLAG_W,DATE,TIME,LATITUDE,LONGITUDE,DEPTH,CTDPRS,CTDTMP,CTDSAL,CTDSAL_FLAG_W,CTDOXY,CTDOXY_FLAG_W,SALNTY,SALNTY_FLAG_W,OXYGEN,OXYGEN_FLAG_W,SILCAT,SILCAT_FLAG_W,NITRAT,NITRAT_FLAG_W,NO2+NO3,NO2+NO3_FLAG_W,NITRIT,NITRIT_FLAG_W,PHSPHT,PHSPHT_FLAG_W,CFC-11,CFC-11_FLAG_W,CFC-12,CFC-12_FLAG_W,DELC13,DELC13_FLAG_W,TCARBN,TCARBN_FLAG_W,ALKALI,ALKALI_FLAG_W,PH,PH_FLAG_W,PH_TMP,PH_SCALE,PH_NBS,PH_NBS_FLAG_W,C13ERR,TOTALP,TOTALP_FLAG_W,AMMONI,AMMONI_FLAG_W,CHLORA,CHLORA_FLAG_W,PPHYTN,PPHYTN_FLAG_W,REVPRS,REVTMP,DEPTH_,DEPTH_FLAG,CTDDEP,THETA,SIGTHT,DOC,DOC_FLAG_W
,,,,,,,GMT,GMT,,,METER,DBAR,ITS-90,PSS-78,,UMOL/KG,,PSS-78,,UMOL/KG,,UMOL/KG,,UMOL/KG,,UMOL/KG,,UMOL/KG,,UMOL/KG,,PMOL/KG,,PMOL/KG,,/MILLE,,UMOL/KG,,UMOL/KG,,25_DEG_C,,DEG_C,,,,/MILLE,UMOL/KG,,UMOL/KG,,UG/L,,UG/L,,DBAR,ITS-90,METERS,,METERS,DEG_C,,UMOL/L,
       KS08-01,  165E,KS-2064,  1,     -9,      -9,5,20080130,1525,  7.9920, 163.9817, 5133,      0.0,  28.0640,  34.1882,2,   -999.0,9,-999.0000,9,    199.0,2,     1.08,2,  -999.00,9,     0.00,2,     0.00,2,     0.06,2, -999.000,9, -999.000,9,  -999.00,9,   -999.0,9,   -999.0,9,-999.0000,9,   -999.0,  9,  -999.00,9,   -999.0,  -999.00,9,  -999.00,9,     0.05,2,     0.02,2,   -999.0,-999.0000, -999,9,    0,  28.0638,  21.7635,   -999.0,9
       KS08-01,  165E,KS-2064,  1,     21,02-16027,2,20080130,1538,  7.9920, 163.9817, 5133,     10.0,  28.0732,  34.1876,2,   -999.0,9,-999.0000,9,    199.0,2,     1.11,2,  -999.00,9,     0.00,2,     0.00,2,     0.05,2, -999.000,9, -999.000,9,  -999.00,9,   -999.0,9,   -999.0,9,-999.0000,9,   -999.0,  9,  -999.00,9,   -999.0,  -999.00,9,  -999.00,9,     0.04,2,     0.02,2,   -999.0,-999.0000, -999,9,   10,  28.0708,  21.7607,   -999.0,9
       KS08-01,  165E,KS-2064,  1,     20,02-16026,2,20080130,1537,  7.9920, 163.9817, 5133,     25.2,  28.0829,  34.1880,2,   -999.0,9,-999.0000,9,    200.0,2,     1.09,2,  -999.00,9,     0.00,2,     0.00,2,     0.06,2, -999.000,9, -999.000,9,  -999.00,9,   -999.0,9,   -999.0,9,-999.0000,9,   -999.0,  9,  -999.00,9,   -999.0,  -999.00,9,  -999.00,9,     0.05,2,     0.02,2,   -999.0,-999.0000, -999,9,   25,  28.0770,  21.7590,   -999.0,9
       KS08-01,  165E,KS-2064,  1,     19,02-19378,2,20080130,1534,  7.9920, 163.9817, 5133,     50.4,  28.0847,  34.1857,2,   -999.0,9,-999.0000,9,    199.0,2,     1.06,2,  -999.00,9,     0.00,2,     0.00,2,     0.06,2, -999.000,9, -999.000,9,  -999.00,9,   -999.0,9,   -999.0,9,-999.0000,9,   -999.0,  9,  -999.00,9,   -999.0,  -999.00,9,  -999.00,9,     0.05,2,     0.02,2,   -999.0,-999.0000, -999,9,   50,  28.0728,  21.7586,   -999.0,9
       KS08-01,  165E,KS-2064,  1,     18,02-19377,2,20080130,1533,  7.9920, 163.9817, 5133,     74.6,  28.0926,  34.1904,2,   -999.0,9,-999.0000,9,    200.0,2,     1.09,2,  -999.00,9,     0.00,2,     0.00,2,     0.06,2, -999.000,9, -999.000,9,  -999.00,9,   -999.0,9,   -999.0,9,-999.0000,9,   -999.0,  9,  -999.00,9,   -999.0,  -999.00,9,  -999.00,9,     0.05,2,     0.02,2,   -999.0,-999.0000, -999,9,   74,  28.0750,  21.7615,   -999.0,9
       KS08-01,  165E,KS-2064,  1,     17,02-16023,2,20080130,1531,  7.9920, 163.9817, 5133,    101.6,  27.0090,  34.7505,2,   -999.0,9,  34.7562,4,    205.0,2,     1.07,2,  -999.00,9,     0.00,2,     0.00,2,     0.08,2, -999.000,9, -999.000,9,  -999.00,9,   -999.0,9,   -999.0,9,-999.0000,9,   -999.0,  9,  -999.00,9,   -999.0,  -999.00,9,  -999.00,9,     0.12,2,     0.09,2,   -999.0,-999.0000, -999,9,  101,  26.9857,  22.5344,   -999.0,9
       KS08-01,  165E,KS-2064,  1,     16,02-16022,2,20080130,1530,  7.9920, 163.9817, 5133,    124.3,  24.2974,  34.9079,2,   -999.0,9,-999.0000,9,    199.0,2,     1.47,2,  -999.00,9,     0.10,2,     0.03,2,     0.12,2, -999.000,9, -999.000,9,  -999.00,9,   -999.0,9,   -999.0,9,-999.0000,9,   -999.0,  9,  -999.00,9,   -999.0,  -999.00,9,  -999.00,9,     0.20,2,     0.33,2,   -999.0,-999.0000, -999,9,  124,  24.2710,  23.4911,   -999.0,9
       KS08-01,  165E,KS-2064,  1,     15,02-16021,2,20080130,1529,  7.9920, 163.9817, 5133,    149.6,  18.7705,  34.7598,2,   -999.0,9,-999.0000,9,    167.0,2,     4.86,2,  -999.00,9,     6.05,2,     0.04,2,     0.50,2, -999.000,9, -999.000,9,  -999.00,9,   -999.0,9,   -999.0,9,-999.0000,9,   -999.0,  9,  -999.00,9,   -999.0,  -999.00,9,  -999.00,9,     0.09,2,     0.28,2,   -999.0,-999.0000, -999,9,  149,  18.7441,  24.9025,   -999.0,9
       KS08-01,  165E,KS-2064,  1,     14,02-16020,2,20080130,1527,  7.9920, 163.9817, 5133,    201.6,  11.5545,  34.3655,2,   -999.0,9,  34.3503,4,    126.0,2,    21.05,2,  -999.00,9,    20.76,2,     0.00,2,     1.51,2, -999.000,9, -999.000,9,  -999.00,9,   -999.0,9,   -999.0,9,-999.0000,9,   -999.0,  9,  -999.00,9,   -999.0,  -999.00,9,  -999.00,9,     0.00,2,     0.01,2,   -999.0,-999.0000, -999,9,  200,  11.5290,  26.1847,   -999.0,9
       KS08-01,  165E,KS-2064,  1,     13,02-16019,2,20080130,1526,  7.9920, 163.9817, 5133,    250.7,  10.3550,  34.6213,2,   -999.0,9,-999.0000,9,     36.0,2,    32.21,2,  -999.00,9,    33.12,2,     0.00,2,     2.36,2, -999.000,9, -999.000,9,  -999.00,9,   -999.0,9,   -999.0,9,-999.0000,9,   -999.0,  9,  -999.00,9,   -999.0,  -999.00,9,  -999.00,9,     0.00,2,     0.02,2,   -999.0,-999.0000, -999,9,  249,  10.3253,  26.6002,   -999.0,9
       KS08-01,  165E,KS-2064,  1,     12,02-16018,2,20080130,1524,  7.9920, 163.9817, 5133,    302.3,   9.4981,  34.6245,2,   -999.0,9,  34.6234,2,     46.0,2,    35.33,2,  -999.00,9,    33.80,2,     0.00,2,     2.39,2, -999.000,9, -999.000,9,  -999.00,9,   -999.0,9,   -999.0,9,-999.0000,9,   -999.0,  9,  -999.00,9,   -999.0,  -999.00,9,  -999.00,9,     0.00,2,     0.01,2,   -999.0,-999.0000, -999,9,  300,   9.4641,  26.7487,   -999.0,9
       KS08-01,  165E,KS-2064,  1,     11,02-19376,2,20080130,1521,  7.9920, 163.9817, 5133,    403.2,   8.5071,  34.5987,2,   -999.0,9,  34.5986,2,     48.0,2,    40.72,2,  -999.00,9,    35.54,2,     0.00,2,     2.51,2, -999.000,9, -999.000,9,  -999.00,9,   -999.0,9,   -999.0,9,-999.0000,9,   -999.0,  9,  -999.00,9,   -999.0,  -999.00,9,  -999.00,9,  -999.00,9,  -999.00,9,   -999.0,-999.0000, -999,9,  401,   8.4645,  26.8881,   -999.0,9
       KS08-01,  165E,KS-2064,  1,     10,02-19375,2,20080130,1519,  7.9920, 163.9817, 5133,    503.2,   7.8022,  34.5739,2,   -999.0,9,  34.5728,2,     48.0,2,    46.70,2,  -999.00,9,    36.90,2,     0.00,2,     2.63,2, -999.000,9, -999.000,9,  -999.00,9,   -999.0,9,   -999.0,9,-999.0000,9,   -999.0,  9,  -999.00,9,   -999.0,  -999.00,9,  -999.00,9,  -999.00,9,  -999.00,9,   -999.0,-999.0000, -999,9,  500,   7.7513,  26.9760,   -999.0,9
       KS08-01,  165E,KS-2064,  1,      9,02-16015,2,20080130,1516,  7.9920, 163.9817, 5133,    604.4,   6.8860,  34.5573,2,   -999.0,9,  34.5570,2,     38.0,2,    56.72,2,  -999.00,9,    39.72,2,     0.00,2,     2.87,2, -999.000,9, -999.000,9,  -999.00,9,   -999.0,9,   -999.0,9,-999.0000,9,   -999.0,  9,  -999.00,9,   -999.0,  -999.00,9,  -999.00,9,  -999.00,9,  -999.00,9,   -999.0,-999.0000, -999,9,  600,   6.8286,  27.0936,   -999.0,9
       KS08-01,  165E,KS-2064,  1,      8,02-16014,2,20080130,1513,  7.9920, 163.9817, 5133,    704.8,   5.9553,  34.5448,2,   -999.0,9,  34.5443,2,     48.0,2,    67.27,2,  -999.00,9,    40.79,2,     0.00,2,     2.91,2, -999.000,9, -999.000,9,  -999.00,9,   -999.0,9,   -999.0,9,-999.0000,9,   -999.0,  9,  -999.00,9,   -999.0,  -999.00,9,  -999.00,9,  -999.00,9,  -999.00,9,   -999.0,-999.0000, -999,9,  700,   5.8929,  27.2065,   -999.0,9
       KS08-01,  165E,KS-2064,  1,      7,02-19374,2,20080130,1511,  7.9920, 163.9817, 5133,    806.6,   5.3276,  34.5437,2,   -999.0,9,  34.5423,2,     61.0,2,    76.04,2,  -999.00,9,    40.30,2,     0.00,2,     2.88,2, -999.000,9, -999.000,9,  -999.00,9,   -999.0,9,   -999.0,9,-999.0000,9,   -999.0,  9,  -999.00,9,   -999.0,  -999.00,9,  -999.00,9,  -999.00,9,  -999.00,9,   -999.0,-999.0000, -999,9,  801,   5.2595,  27.2831,   -999.0,9
       KS08-01,  165E,KS-2064,  1,      6,02-19373,2,20080130,1508,  7.9920, 163.9817, 5133,    907.8,   4.9334,  34.5483,2,   -999.0,9,  34.5475,2,     71.0,2,    81.84,2,  -999.00,9,    39.91,2,     0.00,2,     2.84,2, -999.000,9, -999.000,9,  -999.00,9,   -999.0,9,   -999.0,9,-999.0000,9,   -999.0,  9,  -999.00,9,   -999.0,  -999.00,9,  -999.00,9,  -999.00,9,  -999.00,9,   -999.0,-999.0000, -999,9,  901,   4.8588,  27.3333,   -999.0,9
       KS08-01,  165E,KS-2064,  1,      5,02-16011,2,20080130,1505,  7.9920, 163.9817, 5133,   1007.6,   4.5701,  34.5556,2,   -999.0,9,  34.5548,2,     72.0,2,    88.98,2,  -999.00,9,    40.30,2,     0.00,2,     2.87,2, -999.000,9, -999.000,9,  -999.00,9,   -999.0,9,   -999.0,9,-999.0000,9,   -999.0,  9,  -999.00,9,   -999.0,  -999.00,9,  -999.00,9,  -999.00,9,  -999.00,9,   -999.0,-999.0000, -999,9, 1000,   4.4893,  27.3805,   -999.0,9
       KS08-01,  165E,KS-2064,  1,      4,02-16010,2,20080130,1500,  7.9920, 163.9817, 5133,   1261.4,   3.7945,  34.5757,2,   -999.0,9,  34.5753,2,     77.0,2,   105.17,2,  -999.00,9,    40.39,2,     0.00,2,     2.89,2, -999.000,9, -999.000,9,  -999.00,9,   -999.0,9,   -999.0,9,-999.0000,9,   -999.0,  9,  -999.00,9,   -999.0,  -999.00,9,  -999.00,9,  -999.00,9,  -999.00,9,   -999.0,-999.0000, -999,9, 1251,   3.6984,  27.4794,   -999.0,9
       KS08-01,  165E,KS-2064,  1,      3,02-16009,2,20080130,1454,  7.9920, 163.9817, 5133,   1513.5,   3.1530,  34.5934,2,   -999.0,9,  34.5939,2,     91.0,2,   119.24,2,  -999.00,9,    39.80,2,     0.00,2,     2.81,2, -999.000,9, -999.000,9,  -999.00,9,   -999.0,9,   -999.0,9,-999.0000,9,   -999.0,  9,  -999.00,9,   -999.0,  -999.00,9,  -999.00,9,  -999.00,9,  -999.00,9,   -999.0,-999.0000, -999,9, 1500,   3.0422,  27.5567,   -999.0,9
       KS08-01,  165E,KS-2064,  1,      2,02-16008,2,20080130,1449,  7.9920, 163.9817, 5133,   1767.3,   2.6147,  34.6159,2,   -999.0,9,  34.6167,2,     96.0,2,   130.95,2,  -999.00,9,    39.80,2,     0.00,2,     2.79,2, -999.000,9, -999.000,9,  -999.00,9,   -999.0,9,   -999.0,9,-999.0000,9,   -999.0,  9,  -999.00,9,   -999.0,  -999.00,9,  -999.00,9,  -999.00,9,  -999.00,9,   -999.0,-999.0000, -999,9, 1750,   2.4891,  27.6237,   -999.0,9
       KS08-01,  165E,KS-2064,  1,      1,02-16007,2,20080130,1444,  7.9920, 163.9817, 5133,   2030.7,   2.2540,  34.6341,2,   -999.0,9,  34.6349,2,    104.0,2,   138.57,2,  -999.00,9,    39.31,2,     0.00,2,     2.75,2, -999.000,9, -999.000,9,  -999.00,9,   -999.0,9,   -999.0,9,-999.0000,9,   -999.0,  9,  -999.00,9,   -999.0,  -999.00,9,  -999.00,9,  -999.00,9,  -999.00,9,   -999.0,-999.0000, -999,9, 2010,   2.1111,  27.6697,   -999.0,9