BOTTLE,20130510GEMDJMAYT
EXPOCODE,SECT_ID,STNNBR,CASTNO,SAMPNO,BTLNBR,BTLNBR_FLAG_W,DATE,TIME,LATITUDE,LONGITUDE,DEPTH,CTDPRS,CTDTMP,CTDSAL,CTDSAL_FLAG_W,CTDOXY,CTDOXY_FLAG_W,SALNTY,SALNTY_FLAG_W,OXYGEN,OXYGEN_FLAG_W,SILCAT,SILCAT_FLAG_W,NITRAT,NITRAT_FLAG_W,NO2+NO3,NO2+NO3_FLAG_W,NITRIT,NITRIT_FLAG_W,PHSPHT,PHSPHT_FLAG_W,CFC-11,CFC-11_FLAG_W,CFC-12,CFC-12_FLAG_W,DELC13,DELC13_FLAG_W,TCARBN,TCARBN_FLAG_W,ALKALI,ALKALI_FLAG_W,PH,PH_FLAG_W,PH_TMP,PH_SCALE,PH_NBS,PH_NBS_FLAG_W,C13ERR,TOTALP,TOTALP_FLAG_W,AMMONI,AMMONI_FLAG_W,CHLORA,CHLORA_FLAG_W,PPHYTN,PPHYTN_FLAG_W,REVPRS,REVTMP,DEPTH_,DEPTH_FLAG,CTDDEP,THETA,SIGTHT,DOC,DOC_FLAG_W
,,,,,,,GMT,GMT,,,METER,DBAR,ITS-90,PSS-78,,UMOL/KG,,PSS-78,,UMOL/KG,,UMOL/KG,,UMOL/KG,,UMOL/KG,,UMOL/KG,,UMOL/KG,,PMOL/KG,,PMOL/KG,,/MILLE,,UMOL/KG,,UMOL/KG,,25_DEG_C,,DEG_C,,,,/MILLE,UMOL/KG,,UMOL/KG,,UG/L,,UG/L,,DBAR,ITS-90,METERS,,METERS,DEG_C,,UMOL/L,
       KS08-01, EQPAC,KS-2085,  1,     -9,      -9,5,20080220,2059, -0.0177, 152.9963, 4192,      0.0,  28.8593,  35.0645,2,   -999.0,9,-999.0000,9,    198.0,2,     1.34,2,  -999.00,9,     0.78,2,     0.14,2,     0.23,2, -999.000,9, -999.000,9,  -999.00,9,   -999.0,9,   -999.0,9,-999.0000,9,   -999.0,  9,  -999.00,9,   -999.0,  -999.00,9,  -999.00,9,     0.17,2,     0.05,2,   -999.0,-999.0000, -999,9,    0,  28.8591,  22.1595,   -999.0,9
       KS08-01, EQPAC,KS-2085,  1,     21,02-16027,2,20080220,2126, -0.0177, 152.9963, 4192,     10.3,  28.8284,  35.0931,2,   -999.0,9,  35.0999,4,    196.0,2,     1.47,2,  -999.00,9,     1.08,2,     0.15,2,     0.24,2, -999.000,9, -999.000,9,  -999.00,9,   -999.0,9,   -999.0,9,-999.0000,9,   -999.0,  9,  -999.00,9,   -999.0,  -999.00,9,  -999.00,9,     0.17,2,     0.05,2,   -999.0,-999.0000, -999,9,   10,  28.8259,  22.1921,   -999.0,9
       KS08-01, EQPAC,KS-2085,  1,     20,02-16026,2,20080220,2125, -0.0177, 152.9963, 4192,     26.2,  28.3906,  35.3710,2,   -999.0,9,-999.0000,9,    199.0,2,     1.65,2,  -999.00,9,     2.15,2,     0.19,2,     0.31,2, -999.000,9, -999.000,9,  -999.00,9,   -999.0,9,   -999.0,9,-999.0000,9,   -999.0,  9,  -999.00,9,   -999.0,  -999.00,9,  -999.00,9,     0.24,2,     0.14,2,   -999.0,-999.0000, -999,9,   26,  28.3844,  22.5474,   -999.0,9
       KS08-01, EQPAC,KS-2085,  1,     19,02-19378,2,20080220,2121, -0.0177, 152.9963, 4192,     50.6,  28.1431,  35.4005,2,   -999.0,9,-999.0000,9,    200.0,2,     1.73,2,  -999.00,9,     2.64,2,     0.30,2,     0.35,2, -999.000,9, -999.000,9,  -999.00,9,   -999.0,9,   -999.0,9,-999.0000,9,   -999.0,  9,  -999.00,9,   -999.0,  -999.00,9,  -999.00,9,     0.25,2,     0.16,2,   -999.0,-999.0000, -999,9,   50,  28.1311,  22.6529,   -999.0,9
       KS08-01, EQPAC,KS-2085,  1,     18,02-19377,2,20080220,2120, -0.0177, 152.9963, 4192,     74.7,  28.0248,  35.4282,2,   -999.0,9,-999.0000,9,    197.0,2,     1.76,2,  -999.00,9,     3.03,2,     0.42,2,     0.37,2, -999.000,9, -999.000,9,  -999.00,9,   -999.0,9,   -999.0,9,-999.0000,9,   -999.0,  9,  -999.00,9,   -999.0,  -999.00,9,  -999.00,9,     0.27,2,     0.26,2,   -999.0,-999.0000, -999,9,   74,  28.0072,  22.7143,   -999.0,9
       KS08-01, EQPAC,KS-2085,  1,     17,02-16023,2,20080220,2118, -0.0177, 152.9963, 4192,    100.5,  27.9518,  35.4058,2,   -999.0,9,  35.4050,2,    197.0,2,     1.79,2,  -999.00,9,     3.03,2,     0.34,2,     0.38,2, -999.000,9, -999.000,9,  -999.00,9,   -999.0,9,   -999.0,9,-999.0000,9,   -999.0,  9,  -999.00,9,   -999.0,  -999.00,9,  -999.00,9,     0.25,2,     0.25,2,   -999.0,-999.0000, -999,9,  100,  27.9281,  22.7234,   -999.0,9
       KS08-01, EQPAC,KS-2085,  1,     16,02-16022,2,20080220,2117, -0.0177, 152.9963, 4192,    127.1,  27.8169,  35.4240,2,   -999.0,9,-999.0000,9,    192.0,2,     1.87,2,  -999.00,9,     3.62,2,     0.66,2,     0.43,2, -999.000,9, -999.000,9,  -999.00,9,   -999.0,9,   -999.0,9,-999.0000,9,   -999.0,  9,  -999.00,9,   -999.0,  -999.00,9,  -999.00,9,     0.14,2,     0.17,2,   -999.0,-999.0000, -999,9,  126,  27.7870,  22.7831,   -999.0,9
       KS08-01, EQPAC,KS-2085,  1,     15,02-16021,2,20080220,2115, -0.0177, 152.9963, 4192,    156.0,  25.9415,  35.5231,2,   -999.0,9,-999.0000,9,    170.0,2,     2.52,2,  -999.00,9,     5.96,2,     0.74,2,     0.56,2, -999.000,9, -999.000,9,  -999.00,9,   -999.0,9,   -999.0,9,-999.0000,9,   -999.0,  9,  -999.00,9,   -999.0,  -999.00,9,  -999.00,9,     0.04,2,     0.04,2,   -999.0,-999.0000, -999,9,  155,  25.9067,  23.4572,   -999.0,9
       KS08-01, EQPAC,KS-2085,  1,     14,02-16020,2,20080220,2111, -0.0177, 152.9963, 4192,    205.8,  20.7386,  35.3706,2,   -999.0,9,  35.3739,2,    139.0,2,     4.81,2,  -999.00,9,    10.05,2,     0.01,2,     0.77,2, -999.000,9, -999.000,9,  -999.00,9,   -999.0,9,   -999.0,9,-999.0000,9,   -999.0,  9,  -999.00,9,   -999.0,  -999.00,9,  -999.00,9,     0.01,2,     0.03,2,   -999.0,-999.0000, -999,9,  205,  20.6995,  24.8576,   -999.0,9
       KS08-01, EQPAC,KS-2085,  1,     13,02-16019,2,20080220,2108, -0.0177, 152.9963, 4192,    253.8,  15.5069,  35.2151,2,   -999.0,9,-999.0000,9,    148.0,2,     7.42,2,  -999.00,9,    14.42,2,     0.00,2,     1.05,2, -999.000,9, -999.000,9,  -999.00,9,   -999.0,9,   -999.0,9,-999.0000,9,   -999.0,  9,  -999.00,9,   -999.0,  -999.00,9,  -999.00,9,     0.00,2,     0.02,2,   -999.0,-999.0000, -999,9,  252,  15.4674,  26.0339,   -999.0,9
       KS08-01, EQPAC,KS-2085,  1,     12,02-16018,2,20080220,2106, -0.0177, 152.9963, 4192,    305.6,  11.3608,  34.7834,2,   -999.0,9,  34.7934,4,    136.0,2,    21.58,2,  -999.00,9,    22.50,2,     0.00,2,     1.58,2, -999.000,9, -999.000,9,  -999.00,9,   -999.0,9,   -999.0,9,-999.0000,9,   -999.0,  9,  -999.00,9,   -999.0,  -999.00,9,  -999.00,9,     0.00,2,     0.02,2,   -999.0,-999.0000, -999,9,  304,  11.3222,  26.5480,   -999.0,9
       KS08-01, EQPAC,KS-2085,  1,     11,02-19376,2,20080220,2102, -0.0177, 152.9963, 4192,    405.2,  10.3382,  34.7542,2,   -999.0,9,  34.7533,2,    132.0,2,    23.54,2,  -999.00,9,    27.76,2,     0.00,2,     1.91,2, -999.000,9, -999.000,9,  -999.00,9,   -999.0,9,   -999.0,9,-999.0000,9,   -999.0,  9,  -999.00,9,   -999.0,  -999.00,9,  -999.00,9,  -999.00,9,  -999.00,9,   -999.0,-999.0000, -999,9,  403,  10.2898,  26.7101,   -999.0,9
       KS08-01, EQPAC,KS-2085,  1,     10,02-19375,2,20080220,2058, -0.0177, 152.9963, 4192,    505.7,   8.3948,  34.6228,2,   -999.0,9,  34.6228,2,    126.0,2,    28.46,2,  -999.00,9,    28.92,2,     0.00,2,     2.00,2, -999.000,9, -999.000,9,  -999.00,9,   -999.0,9,   -999.0,9,-999.0000,9,   -999.0,  9,  -999.00,9,   -999.0,  -999.00,9,  -999.00,9,  -999.00,9,  -999.00,9,   -999.0,-999.0000, -999,9,  502,   8.3414,  26.9259,   -999.0,9
       KS08-01, EQPAC,KS-2085,  1,      9,02-16015,2,20080220,2055, -0.0177, 152.9963, 4192,    605.3,   7.2145,  34.5767,2,   -999.0,9,  34.5745,2,     86.0,2,    42.92,2,  -999.00,9,    35.64,2,     0.00,2,     2.47,2, -999.000,9, -999.000,9,  -999.00,9,   -999.0,9,   -999.0,9,-999.0000,9,   -999.0,  9,  -999.00,9,   -999.0,  -999.00,9,  -999.00,9,  -999.00,9,  -999.00,9,   -999.0,-999.0000, -999,9,  601,   7.1555,  27.0637,   -999.0,9
       KS08-01, EQPAC,KS-2085,  1,      8,02-16014,2,20080220,2052, -0.0177, 152.9963, 4192,    705.8,   6.2529,  34.5454,2,   -999.0,9,  34.5442,2,     97.0,2,    51.59,2,  -999.00,9,    36.31,2,     0.00,2,     2.53,2, -999.000,9, -999.000,9,  -999.00,9,   -999.0,9,   -999.0,9,-999.0000,9,   -999.0,  9,  -999.00,9,   -999.0,  -999.00,9,  -999.00,9,  -999.00,9,  -999.00,9,   -999.0,-999.0000, -999,9,  701,   6.1888,  27.1692,   -999.0,9
       KS08-01, EQPAC,KS-2085,  1,      7,02-19374,2,20080220,2050, -0.0177, 152.9963, 4192,    805.6,   5.8716,  34.5343,2,   -999.0,9,  34.5352,2,    105.0,2,    55.21,2,  -999.00,9,    36.21,2,     0.00,2,     2.52,2, -999.000,9, -999.000,9,  -999.00,9,   -999.0,9,   -999.0,9,-999.0000,9,   -999.0,  9,  -999.00,9,   -999.0,  -999.00,9,  -999.00,9,  -999.00,9,  -999.00,9,   -999.0,-999.0000, -999,9,  800,   5.8002,  27.2098,   -999.0,9
       KS08-01, EQPAC,KS-2085,  1,      6,02-19373,2,20080220,2047, -0.0177, 152.9963, 4192,    905.8,   5.0355,  34.5406,2,   -999.0,9,  34.5395,2,    105.0,2,    71.57,2,  -999.00,9,    36.99,2,     0.00,2,     2.59,2, -999.000,9, -999.000,9,  -999.00,9,   -999.0,9,   -999.0,9,-999.0000,9,   -999.0,  9,  -999.00,9,   -999.0,  -999.00,9,  -999.00,9,  -999.00,9,  -999.00,9,   -999.0,-999.0000, -999,9,  899,   4.9604,  27.3156,   -999.0,9
       KS08-01, EQPAC,KS-2085,  1,      5,02-16011,2,20080220,2045, -0.0177, 152.9963, 4192,   1006.1,   4.5210,  34.5498,2,   -999.0,9,  34.5492,2,    103.0,2,    81.48,2,  -999.00,9,    37.77,2,     0.00,2,     2.66,2, -999.000,9, -999.000,9,  -999.00,9,   -999.0,9,   -999.0,9,-999.0000,9,   -999.0,  9,  -999.00,9,   -999.0,  -999.00,9,  -999.00,9,  -999.00,9,  -999.00,9,   -999.0,-999.0000, -999,9,  998,   4.4407,  27.3812,   -999.0,9
       KS08-01, EQPAC,KS-2085,  1,      4,02-16010,2,20080220,2041, -0.0177, 152.9963, 4192,   1257.7,   3.7010,  34.5765,2,   -999.0,9,  34.5760,2,     98.0,2,   100.35,2,  -999.00,9,    38.74,2,     0.00,2,     2.75,2, -999.000,9, -999.000,9,  -999.00,9,   -999.0,9,   -999.0,9,-999.0000,9,   -999.0,  9,  -999.00,9,   -999.0,  -999.00,9,  -999.00,9,  -999.00,9,  -999.00,9,   -999.0,-999.0000, -999,9, 1247,   3.6061,  27.4892,   -999.0,9
       KS08-01, EQPAC,KS-2085,  1,      3,02-16009,2,20080220,2037, -0.0177, 152.9963, 4192,   1509.5,   3.0185,  34.5997,2,   -999.0,9,  34.5997,2,    108.0,2,   113.69,2,  -999.00,9,    38.54,2,     0.00,2,     2.71,2, -999.000,9, -999.000,9,  -999.00,9,   -999.0,9,   -999.0,9,-999.0000,9,   -999.0,  9,  -999.00,9,   -999.0,  -999.00,9,  -999.00,9,  -999.00,9,  -999.00,9,   -999.0,-999.0000, -999,9, 1496,   2.9096,  27.5738,   -999.0,9
       KS08-01, EQPAC,KS-2085,  1,      2,02-16008,2,20080220,2032, -0.0177, 152.9963, 4192,   1761.7,   2.5854,  34.6196,2,   -999.0,9,  34.6197,2,    114.0,2,   123.45,2,  -999.00,9,    38.34,2,     0.00,2,     2.69,2, -999.000,9, -999.000,9,  -999.00,9,   -999.0,9,   -999.0,9,-999.0000,9,   -999.0,  9,  -999.00,9,   -999.0,  -999.00,9,  -999.00,9,  -999.00,9,  -999.00,9,   -999.0,-999.0000, -999,9, 1745,   2.4607,  27.6291,   -999.0,9
       KS08-01, EQPAC,KS-2085,  1,      1,02-16007,2,20080220,2027, -0.0177, 152.9963, 4192,   2030.3,   2.2206,  34.6383,2,   -999.0,9,  34.6386,2,    120.0,2,   131.50,2,  -999.00,9,    38.24,2,     0.00,2,     2.66,2, -999.000,9, -999.000,9,  -999.00,9,   -999.0,9,   -999.0,9,-999.0000,9,   -999.0,  9,  -999.00,9,   -999.0,  -999.00,9,  -999.00,9,  -999.00,9,  -999.00,9,   -999.0,-999.0000, -999,9, 2009,   2.0782,  27.6756,   -999.0,9