BOTTLE,20130510GEMDJMAYT
EXPOCODE,SECT_ID,STNNBR,CASTNO,SAMPNO,BTLNBR,BTLNBR_FLAG_W,DATE,TIME,LATITUDE,LONGITUDE,DEPTH,CTDPRS,CTDTMP,CTDSAL,CTDSAL_FLAG_W,CTDOXY,CTDOXY_FLAG_W,SALNTY,SALNTY_FLAG_W,OXYGEN,OXYGEN_FLAG_W,SILCAT,SILCAT_FLAG_W,NITRAT,NITRAT_FLAG_W,NO2+NO3,NO2+NO3_FLAG_W,NITRIT,NITRIT_FLAG_W,PHSPHT,PHSPHT_FLAG_W,CFC-11,CFC-11_FLAG_W,CFC-12,CFC-12_FLAG_W,DELC13,DELC13_FLAG_W,TCARBN,TCARBN_FLAG_W,ALKALI,ALKALI_FLAG_W,PH,PH_FLAG_W,PH_TMP,PH_SCALE,PH_NBS,PH_NBS_FLAG_W,C13ERR,TOTALP,TOTALP_FLAG_W,AMMONI,AMMONI_FLAG_W,CHLORA,CHLORA_FLAG_W,PPHYTN,PPHYTN_FLAG_W,REVPRS,REVTMP,DEPTH_,DEPTH_FLAG,CTDDEP,THETA,SIGTHT,DOC,DOC_FLAG_W
,,,,,,,GMT,GMT,,,METER,DBAR,ITS-90,PSS-78,,UMOL/KG,,PSS-78,,UMOL/KG,,UMOL/KG,,UMOL/KG,,UMOL/KG,,UMOL/KG,,UMOL/KG,,PMOL/KG,,PMOL/KG,,/MILLE,,UMOL/KG,,UMOL/KG,,25_DEG_C,,DEG_C,,,,/MILLE,UMOL/KG,,UMOL/KG,,UG/L,,UG/L,,DBAR,ITS-90,METERS,,METERS,DEG_C,,UMOL/L,
       KS08-01,  165E,KS-2059,  1,     -9,      -9,5,20080129,0643, 12.9925, 164.9757, 5194,      0.0,  27.0929,  34.6428,2,   -999.0,9,-999.0000,9,    203.0,2,     1.05,2,  -999.00,9,     0.00,2,     0.00,2,     0.09,2, -999.000,9, -999.000,9,  -999.00,9,   -999.0,9,   -999.0,9,-999.0000,9,   -999.0,  9,  -999.00,9,   -999.0,  -999.00,9,  -999.00,9,     0.04,2,     0.01,2,   -999.0,-999.0000, -999,9,    0,  27.0927,  22.4191,   -999.0,9
       KS08-01,  165E,KS-2059,  1,     21,02-16027,2,20080129,0702, 12.9925, 164.9757, 5194,     11.4,  27.0933,  34.6435,2,   -999.0,9,  34.6426,2,    202.0,2,     1.10,2,  -999.00,9,     0.00,2,     0.00,2,     0.09,2, -999.000,9, -999.000,9,  -999.00,9,   -999.0,9,   -999.0,9,-999.0000,9,   -999.0,  9,  -999.00,9,   -999.0,  -999.00,9,  -999.00,9,     0.04,2,     0.02,2,   -999.0,-999.0000, -999,9,   11,  27.0907,  22.4203,   -999.0,9
       KS08-01,  165E,KS-2059,  1,     20,02-16026,2,20080129,0701, 12.9925, 164.9757, 5194,     25.5,  27.1060,  34.6429,2,   -999.0,9,-999.0000,9,    202.0,2,     1.09,2,  -999.00,9,     0.00,2,     0.00,2,     0.09,2, -999.000,9, -999.000,9,  -999.00,9,   -999.0,9,   -999.0,9,-999.0000,9,   -999.0,  9,  -999.00,9,   -999.0,  -999.00,9,  -999.00,9,     0.04,2,     0.02,2,   -999.0,-999.0000, -999,9,   25,  27.1001,  22.4168,   -999.0,9
       KS08-01,  165E,KS-2059,  1,     19,02-19378,2,20080129,0658, 12.9925, 164.9757, 5194,     50.1,  27.0874,  34.7213,2,   -999.0,9,-999.0000,9,    202.0,2,     1.03,2,  -999.00,9,     0.00,2,     0.00,2,     0.08,2, -999.000,9, -999.000,9,  -999.00,9,   -999.0,9,   -999.0,9,-999.0000,9,   -999.0,  9,  -999.00,9,   -999.0,  -999.00,9,  -999.00,9,     0.04,2,     0.02,2,   -999.0,-999.0000, -999,9,   50,  27.0759,  22.4836,   -999.0,9
       KS08-01,  165E,KS-2059,  1,     18,02-19377,2,20080129,0657, 12.9925, 164.9757, 5194,     75.2,  27.0762,  34.7648,2,   -999.0,9,-999.0000,9,    202.0,2,     1.02,2,  -999.00,9,     0.00,2,     0.00,2,     0.07,2, -999.000,9, -999.000,9,  -999.00,9,   -999.0,9,   -999.0,9,-999.0000,9,   -999.0,  9,  -999.00,9,   -999.0,  -999.00,9,  -999.00,9,     0.05,2,     0.02,2,   -999.0,-999.0000, -999,9,   75,  27.0589,  22.5218,   -999.0,9
       KS08-01,  165E,KS-2059,  1,     17,02-16023,2,20080129,0656, 12.9925, 164.9757, 5194,    100.2,  26.8937,  34.7905,2,   -999.0,9,  34.7954,2,    203.0,2,     1.02,2,  -999.00,9,     0.00,2,     0.00,2,     0.07,2, -999.000,9, -999.000,9,  -999.00,9,   -999.0,9,   -999.0,9,-999.0000,9,   -999.0,  9,  -999.00,9,   -999.0,  -999.00,9,  -999.00,9,     0.10,2,     0.05,2,   -999.0,-999.0000, -999,9,  100,  26.8708,  22.6011,   -999.0,9
       KS08-01,  165E,KS-2059,  1,     16,02-16022,2,20080129,0655, 12.9925, 164.9757, 5194,    125.3,  25.2572,  35.1274,2,   -999.0,9,-999.0000,9,    198.0,2,     1.01,2,  -999.00,9,     0.10,2,     0.05,2,     0.05,2, -999.000,9, -999.000,9,  -999.00,9,   -999.0,9,   -999.0,9,-999.0000,9,   -999.0,  9,  -999.00,9,   -999.0,  -999.00,9,  -999.00,9,     0.15,2,     0.21,2,   -999.0,-999.0000, -999,9,  125,  25.2298,  23.3674,   -999.0,9
       KS08-01,  165E,KS-2059,  1,     15,02-16021,2,20080129,0654, 12.9925, 164.9757, 5194,    149.6,  23.4108,  35.0716,2,   -999.0,9,-999.0000,9,    188.0,2,     1.43,2,  -999.00,9,     0.68,2,     0.11,2,     0.13,2, -999.000,9, -999.000,9,  -999.00,9,   -999.0,9,   -999.0,9,-999.0000,9,   -999.0,  9,  -999.00,9,   -999.0,  -999.00,9,  -999.00,9,     0.09,2,     0.15,2,   -999.0,-999.0000, -999,9,  149,  23.3798,  23.8778,   -999.0,9
       KS08-01,  165E,KS-2059,  1,     14,02-16020,2,20080129,0652, 12.9925, 164.9757, 5194,    202.7,  19.2650,  34.8304,2,   -999.0,9,  34.8343,2,    172.0,2,     3.73,2,  -999.00,9,     4.78,2,     0.01,2,     0.40,2, -999.000,9, -999.000,9,  -999.00,9,   -999.0,9,   -999.0,9,-999.0000,9,   -999.0,  9,  -999.00,9,   -999.0,  -999.00,9,  -999.00,9,     0.03,2,     0.05,2,   -999.0,-999.0000, -999,9,  201,  19.2285,  24.8330,   -999.0,9
       KS08-01,  165E,KS-2059,  1,     13,02-16019,2,20080129,0650, 12.9925, 164.9757, 5194,    253.7,  13.5076,  34.3795,2,   -999.0,9,-999.0000,9,    147.0,2,    12.92,2,  -999.00,9,    14.62,2,     0.00,2,     1.08,2, -999.000,9, -999.000,9,  -999.00,9,   -999.0,9,   -999.0,9,-999.0000,9,   -999.0,  9,  -999.00,9,   -999.0,  -999.00,9,  -999.00,9,     0.01,2,     0.02,2,   -999.0,-999.0000, -999,9,  252,  13.4719,  25.8168,   -999.0,9
       KS08-01,  165E,KS-2059,  1,     12,02-16018,2,20080129,0648, 12.9925, 164.9757, 5194,    305.3,  11.0318,  34.2646,2,   -999.0,9,  34.2657,2,    149.0,2,    21.04,2,  -999.00,9,    19.10,2,     0.00,2,     1.38,2, -999.000,9, -999.000,9,  -999.00,9,   -999.0,9,   -999.0,9,-999.0000,9,   -999.0,  9,  -999.00,9,   -999.0,  -999.00,9,  -999.00,9,     0.00,2,     0.01,2,   -999.0,-999.0000, -999,9,  303,  10.9942,  26.2038,   -999.0,9
       KS08-01,  165E,KS-2059,  1,     11,02-19376,2,20080129,0644, 12.9925, 164.9757, 5194,    403.2,   8.1112,  34.3391,2,   -999.0,9,  34.3393,2,     66.0,2,    46.18,2,  -999.00,9,    32.63,2,     0.00,2,     2.39,2, -999.000,9, -999.000,9,  -999.00,9,   -999.0,9,   -999.0,9,-999.0000,9,   -999.0,  9,  -999.00,9,   -999.0,  -999.00,9,  -999.00,9,  -999.00,9,  -999.00,9,   -999.0,-999.0000, -999,9,  400,   8.0699,  26.7443,   -999.0,9
       KS08-01,  165E,KS-2059,  1,     10,02-19375,2,20080129,0640, 12.9925, 164.9757, 5194,    504.9,   7.2556,  34.4762,2,   -999.0,9,  34.4739,2,     53.0,2,    55.00,2,  -999.00,9,    36.22,2,     0.00,2,     2.62,2, -999.000,9, -999.000,9,  -999.00,9,   -999.0,9,   -999.0,9,-999.0000,9,   -999.0,  9,  -999.00,9,   -999.0,  -999.00,9,  -999.00,9,  -999.00,9,  -999.00,9,   -999.0,-999.0000, -999,9,  501,   7.2067,  26.9774,   -999.0,9
       KS08-01,  165E,KS-2059,  1,      9,02-16015,2,20080129,0637, 12.9925, 164.9757, 5194,    605.8,   6.5997,  34.4929,2,   -999.0,9,  34.4903,2,     58.0,2,    61.85,2,  -999.00,9,    37.29,2,     0.00,2,     2.69,2, -999.000,9, -999.000,9,  -999.00,9,   -999.0,9,   -999.0,9,-999.0000,9,   -999.0,  9,  -999.00,9,   -999.0,  -999.00,9,  -999.00,9,  -999.00,9,  -999.00,9,   -999.0,-999.0000, -999,9,  601,   6.5436,  27.0813,   -999.0,9
       KS08-01,  165E,KS-2059,  1,      8,02-16014,2,20080129,0634, 12.9925, 164.9757, 5194,    708.0,   5.8954,  34.4972,2,   -999.0,9,-999.0000,9,     59.0,2,    71.45,2,  -999.00,9,    38.45,2,     0.00,2,     2.77,2, -999.000,9, -999.000,9,  -999.00,9,   -999.0,9,   -999.0,9,-999.0000,9,   -999.0,  9,  -999.00,9,   -999.0,  -999.00,9,  -999.00,9,  -999.00,9,  -999.00,9,   -999.0,-999.0000, -999,9,  703,   5.8331,  27.1764,   -999.0,9
       KS08-01,  165E,KS-2059,  1,      7,02-19374,2,20080129,0631, 12.9925, 164.9757, 5194,    808.2,   5.4138,  34.5060,2,   -999.0,9,  34.5048,2,     62.0,2,    78.68,2,  -999.00,9,    39.04,2,     0.00,2,     2.81,2, -999.000,9, -999.000,9,  -999.00,9,   -999.0,9,   -999.0,9,-999.0000,9,   -999.0,  9,  -999.00,9,   -999.0,  -999.00,9,  -999.00,9,  -999.00,9,  -999.00,9,   -999.0,-999.0000, -999,9,  802,   5.3450,  27.2430,   -999.0,9
       KS08-01,  165E,KS-2059,  1,      6,02-19373,2,20080129,0628, 12.9925, 164.9757, 5194,    908.3,   4.8614,  34.5186,2,   -999.0,9,  34.5186,2,     66.0,2,    87.90,2,  -999.00,9,    39.52,2,     0.00,2,     2.82,2, -999.000,9, -999.000,9,  -999.00,9,   -999.0,9,   -999.0,9,-999.0000,9,   -999.0,  9,  -999.00,9,   -999.0,  -999.00,9,  -999.00,9,  -999.00,9,  -999.00,9,   -999.0,-999.0000, -999,9,  901,   4.7873,  27.3179,   -999.0,9
       KS08-01,  165E,KS-2059,  1,      5,02-16011,2,20080129,0626, 12.9925, 164.9757, 5194,   1010.8,   4.4051,  34.5361,2,   -999.0,9,  34.5352,2,     68.0,2,    96.54,2,  -999.00,9,    39.91,2,     0.00,2,     2.87,2, -999.000,9, -999.000,9,  -999.00,9,   -999.0,9,   -999.0,9,-999.0000,9,   -999.0,  9,  -999.00,9,   -999.0,  -999.00,9,  -999.00,9,  -999.00,9,  -999.00,9,   -999.0,-999.0000, -999,9, 1003,   4.3253,  27.3828,   -999.0,9
       KS08-01,  165E,KS-2059,  1,      4,02-16010,2,20080129,0620, 12.9925, 164.9757, 5194,   1259.1,   3.5436,  34.5699,2,   -999.0,9,  34.5696,2,     74.0,2,   113.48,2,  -999.00,9,    40.10,2,     0.00,2,     2.89,2, -999.000,9, -999.000,9,  -999.00,9,   -999.0,9,   -999.0,9,-999.0000,9,   -999.0,  9,  -999.00,9,   -999.0,  -999.00,9,  -999.00,9,  -999.00,9,  -999.00,9,   -999.0,-999.0000, -999,9, 1248,   3.4502,  27.4993,   -999.0,9
       KS08-01,  165E,KS-2059,  1,      3,02-16009,2,20080129,0614, 12.9925, 164.9757, 5194,   1514.2,   2.9141,  34.5916,2,   -999.0,9,  34.5919,2,     85.0,2,   126.57,2,  -999.00,9,    39.61,2,     0.00,2,     2.84,2, -999.000,9, -999.000,9,  -999.00,9,   -999.0,9,   -999.0,9,-999.0000,9,   -999.0,  9,  -999.00,9,   -999.0,  -999.00,9,  -999.00,9,  -999.00,9,  -999.00,9,   -999.0,-999.0000, -999,9, 1500,   2.8060,  27.5766,   -999.0,9
       KS08-01,  165E,KS-2059,  1,      2,02-16008,2,20080129,0610, 12.9925, 164.9757, 5194,   1763.6,   2.4988,  34.6160,2,   -999.0,9,  34.6164,2,     95.0,2,   134.52,2,  -999.00,9,    39.31,2,     0.00,2,     2.78,2, -999.000,9, -999.000,9,  -999.00,9,   -999.0,9,   -999.0,9,-999.0000,9,   -999.0,  9,  -999.00,9,   -999.0,  -999.00,9,  -999.00,9,  -999.00,9,  -999.00,9,   -999.0,-999.0000, -999,9, 1746,   2.3751,  27.6334,   -999.0,9
       KS08-01,  165E,KS-2059,  1,      1,02-16007,2,20080129,0605, 12.9925, 164.9757, 5194,   2028.0,   2.1924,  34.6303,2,   -999.0,9,-999.0000,9,    105.0,2,   140.07,2,  -999.00,9,    39.02,2,     0.00,2,     2.73,2, -999.000,9, -999.000,9,  -999.00,9,   -999.0,9,   -999.0,9,-999.0000,9,   -999.0,  9,  -999.00,9,   -999.0,  -999.00,9,  -999.00,9,  -999.00,9,  -999.00,9,   -999.0,-999.0000, -999,9, 2007,   2.0507,  27.6715,   -999.0,9