BOTTLE,20130510GEMDJMAYT
EXPOCODE,SECT_ID,STNNBR,CASTNO,SAMPNO,BTLNBR,BTLNBR_FLAG_W,DATE,TIME,LATITUDE,LONGITUDE,DEPTH,CTDPRS,CTDTMP,CTDSAL,CTDSAL_FLAG_W,CTDOXY,CTDOXY_FLAG_W,SALNTY,SALNTY_FLAG_W,OXYGEN,OXYGEN_FLAG_W,SILCAT,SILCAT_FLAG_W,NITRAT,NITRAT_FLAG_W,NO2+NO3,NO2+NO3_FLAG_W,NITRIT,NITRIT_FLAG_W,PHSPHT,PHSPHT_FLAG_W,CFC-11,CFC-11_FLAG_W,CFC-12,CFC-12_FLAG_W,DELC13,DELC13_FLAG_W,TCARBN,TCARBN_FLAG_W,ALKALI,ALKALI_FLAG_W,PH,PH_FLAG_W,PH_TMP,PH_SCALE,PH_NBS,PH_NBS_FLAG_W,C13ERR,TOTALP,TOTALP_FLAG_W,AMMONI,AMMONI_FLAG_W,CHLORA,CHLORA_FLAG_W,PPHYTN,PPHYTN_FLAG_W,REVPRS,REVTMP,DEPTH_,DEPTH_FLAG,CTDDEP,THETA,SIGTHT,DOC,DOC_FLAG_W
,,,,,,,GMT,GMT,,,METER,DBAR,ITS-90,PSS-78,,UMOL/KG,,PSS-78,,UMOL/KG,,UMOL/KG,,UMOL/KG,,UMOL/KG,,UMOL/KG,,UMOL/KG,,PMOL/KG,,PMOL/KG,,/MILLE,,UMOL/KG,,UMOL/KG,,25_DEG_C,,DEG_C,,,,/MILLE,UMOL/KG,,UMOL/KG,,UG/L,,UG/L,,DBAR,ITS-90,METERS,,METERS,DEG_C,,UMOL/L,
       KS08-04,  137E,KS-2111,  1,     -9,      -9,5,20080424,0215, 32.0437, 137.0373, 4126,      0.0,  20.0538,  34.8204,2,   -999.0,9,-999.0000,9,    229.0,2,     1.27,2,  -999.00,9,     0.10,2,     0.00,2,     0.01,2, -999.000,9, -999.000,9,  -999.00,9,   -999.0,9,   -999.0,9,   8.0527,6,     25.0, TS,  -999.00,9,   -999.0,  -999.00,9,  -999.00,9,     0.19,2,     0.07,2,   -999.0,-999.0000, -999,9,    0,  20.0536,  24.6106,   -999.0,9
       KS08-04,  137E,KS-2111,  1,     24,02-16030,2,20080424,0305, 32.0437, 137.0373, 4126,     10.4,  20.0523,  34.8219,2,   -999.0,9,  34.8208,2,    230.0,2,     1.36,2,  -999.00,9,     0.00,2,     0.00,2,     0.00,2, -999.000,9, -999.000,9,  -999.00,9,   -999.0,9,   -999.0,9,-999.0000,9,   -999.0,  9,  -999.00,9,   -999.0,  -999.00,9,  -999.00,9,     0.15,2,     0.06,2,   -999.0,-999.0000, -999,9,   10,  20.0504,  24.6126,   -999.0,9
       KS08-04,  137E,KS-2111,  1,     23,02-19380,2,20080424,0252, 32.0437, 137.0373, 4126,     26.5,  20.0751,  34.8218,2,   -999.0,9,-999.0000,9,    229.0,2,     1.28,2,  -999.00,9,     0.00,2,     0.00,2,     0.00,2, -999.000,9, -999.000,9,  -999.00,9,   -999.0,9,   -999.0,9,-999.0000,9,   -999.0,  9,  -999.00,9,   -999.0,  -999.00,9,  -999.00,9,     0.14,2,     0.06,2,   -999.0,-999.0000, -999,9,   26,  20.0702,  24.6073,   -999.0,9
       KS08-04,  137E,KS-2111,  1,     22,02-16028,2,20080424,0251, 32.0437, 137.0373, 4126,     50.9,  20.0438,  34.8198,2,   -999.0,9,-999.0000,9,    229.0,2,     1.32,2,  -999.00,9,     0.00,2,     0.00,2,     0.00,2, -999.000,9, -999.000,9,  -999.00,9,   -999.0,9,   -999.0,9,-999.0000,9,   -999.0,  9,  -999.00,9,   -999.0,  -999.00,9,  -999.00,9,     0.18,2,     0.07,2,   -999.0,-999.0000, -999,9,   51,  20.0344,  24.6152,   -999.0,9
       KS08-04,  137E,KS-2111,  1,     21,02-16027,2,20080424,0249, 32.0437, 137.0373, 4126,     75.7,  19.5253,  34.8015,2,   -999.0,9,-999.0000,9,    230.0,2,     1.45,2,  -999.00,9,     0.10,2,     0.02,2,     0.02,2, -999.000,9, -999.000,9,  -999.00,9,   -999.0,9,   -999.0,9,-999.0000,9,   -999.0,  9,  -999.00,9,   -999.0,  -999.00,9,  -999.00,9,     0.30,2,     0.26,2,   -999.0,-999.0000, -999,9,   75,  19.5116,  24.7380,   -999.0,9
       KS08-04,  137E,KS-2111,  1,     20,02-16026,2,20080424,0245, 32.0437, 137.0373, 4126,    100.1,  19.2776,  34.8273,2,   -999.0,9,  34.8264,2,    219.0,2,     1.81,2,  -999.00,9,     1.27,2,     0.12,2,     0.08,2, -999.000,9, -999.000,9,  -999.00,9,   -999.0,9,   -999.0,9,-999.0000,9,   -999.0,  9,  -999.00,9,   -999.0,  -999.00,9,  -999.00,9,     0.14,2,     0.09,2,   -999.0,-999.0000, -999,9,   99,  19.2596,  24.8227,   -999.0,9
       KS08-04,  137E,KS-2111,  1,     19,02-19378,2,20080424,0244, 32.0437, 137.0373, 4126,    125.4,  18.9838,  34.8201,2,   -999.0,9,-999.0000,9,    223.0,2,     1.84,2,  -999.00,9,     1.37,2,     0.08,2,     0.08,2, -999.000,9, -999.000,9,  -999.00,9,   -999.0,9,   -999.0,9,-999.0000,9,   -999.0,  9,  -999.00,9,   -999.0,  -999.00,9,  -999.00,9,     0.06,2,     0.05,2,   -999.0,-999.0000, -999,9,  124,  18.9615,  24.8934,   -999.0,9
       KS08-04,  137E,KS-2111,  1,     18,02-19377,2,20080424,0242, 32.0437, 137.0373, 4126,    151.6,  18.8753,  34.8199,2,   -999.0,9,-999.0000,9,    225.0,2,     1.72,2,  -999.00,9,     1.17,2,     0.08,2,     0.07,2, -999.000,9, -999.000,9,  -999.00,9,   -999.0,9,   -999.0,9,-999.0000,9,   -999.0,  9,  -999.00,9,   -999.0,  -999.00,9,  -999.00,9,     0.03,2,     0.05,2,   -999.0,-999.0000, -999,9,  150,  18.8484,  24.9220,   -999.0,9
       KS08-04,  137E,KS-2111,  1,     17,02-16023,2,20080424,0240, 32.0437, 137.0373, 4126,    203.2,  18.7326,  34.8174,2,   -999.0,9,  34.8165,2,    220.0,2,     2.18,2,  -999.00,9,     1.85,2,     0.02,2,     0.11,2, -999.000,9, -999.000,9,  -999.00,9,   -999.0,9,   -999.0,9,-999.0000,9,   -999.0,  9,  -999.00,9,   -999.0,  -999.00,9,  -999.00,9,     0.01,2,     0.04,2,   -999.0,-999.0000, -999,9,  202,  18.6968,  24.9585,   -999.0,9
       KS08-04,  137E,KS-2111,  1,     16,02-16022,2,20080424,0238, 32.0437, 137.0373, 4126,    256.6,  18.2134,  34.7981,2,   -999.0,9,-999.0000,9,    201.0,2,     3.59,2,  -999.00,9,     4.29,2,     0.00,2,     0.24,2, -999.000,9, -999.000,9,  -999.00,9,   -999.0,9,   -999.0,9,-999.0000,9,   -999.0,  9,  -999.00,9,   -999.0,  -999.00,9,  -999.00,9,     0.00,2,     0.03,2,   -999.0,-999.0000, -999,9,  255,  18.1690,  25.0757,   -999.0,9
       KS08-04,  137E,KS-2111,  1,     15,02-16021,2,20080424,0236, 32.0437, 137.0373, 4126,    303.6,  17.1894,  34.7430,2,   -999.0,9,  34.7420,2,    193.0,2,     5.85,2,  -999.00,9,     6.44,2,     0.01,2,     0.38,2, -999.000,9, -999.000,9,  -999.00,9,   -999.0,9,   -999.0,9,-999.0000,9,   -999.0,  9,  -999.00,9,   -999.0,  -999.00,9,  -999.00,9,     0.00,2,     0.02,2,   -999.0,-999.0000, -999,9,  301,  17.1389,  25.2840,   -999.0,9
       KS08-04,  137E,KS-2111,  1,     14,02-16020,2,20080424,0232, 32.0437, 137.0373, 4126,    407.3,  15.4404,  34.6290,2,   -999.0,9,  34.6287,2,    186.0,2,    10.35,2,  -999.00,9,     9.85,2,     0.00,2,     0.61,2, -999.000,9, -999.000,9,  -999.00,9,   -999.0,9,   -999.0,9,-999.0000,9,   -999.0,  9,  -999.00,9,   -999.0,  -999.00,9,  -999.00,9,  -999.00,9,  -999.00,9,   -999.0,-999.0000, -999,9,  404,  15.3773,  25.6026,   -999.0,9
       KS08-04,  137E,KS-2111,  1,     13,02-16019,2,20080424,0228, 32.0437, 137.0373, 4126,    505.3,  13.1444,  34.4674,2,   -999.0,9,  34.4675,2,    179.0,2,    17.50,2,  -999.00,9,    14.13,2,     0.00,2,     0.92,2, -999.000,9, -999.000,9,  -999.00,9,   -999.0,9,   -999.0,9,-999.0000,9,   -999.0,  9,  -999.00,9,   -999.0,  -999.00,9,  -999.00,9,  -999.00,9,  -999.00,9,   -999.0,-999.0000, -999,9,  501,  13.0740,  25.9654,   -999.0,9
       KS08-04,  137E,KS-2111,  1,     12,02-16018,2,20080424,0224, 32.0437, 137.0373, 4126,    606.3,  10.2308,  34.2752,2,   -999.0,9,  34.2766,2,    166.0,2,    31.52,2,  -999.00,9,    20.17,2,     0.00,2,     1.37,2, -999.000,9, -999.000,9,  -999.00,9,   -999.0,9,   -999.0,9,-999.0000,9,   -999.0,  9,  -999.00,9,   -999.0,  -999.00,9,  -999.00,9,  -999.00,9,  -999.00,9,   -999.0,-999.0000, -999,9,  601,  10.1586,  26.3589,   -999.0,9
       KS08-04,  137E,KS-2111,  1,     11,02-19376,2,20080424,0221, 32.0437, 137.0373, 4126,    708.5,   7.3898,  34.1379,2,   -999.0,9,  34.1379,2,    139.0,2,    53.16,2,  -999.00,9,    27.56,2,     0.00,2,     1.96,2, -999.000,9, -999.000,9,  -999.00,9,   -999.0,9,   -999.0,9,-999.0000,9,   -999.0,  9,  -999.00,9,   -999.0,  -999.00,9,  -999.00,9,  -999.00,9,  -999.00,9,   -999.0,-999.0000, -999,9,  702,   7.3199,  26.6951,   -999.0,9
       KS08-04,  137E,KS-2111,  1,     10,02-19375,2,20080424,0217, 32.0437, 137.0373, 4126,    809.5,   5.7878,  34.2129,2,   -999.0,9,  34.2133,2,     95.0,2,    79.06,2,  -999.00,9,    34.08,2,     0.00,2,     2.45,2, -999.000,9, -999.000,9,  -999.00,9,   -999.0,9,   -999.0,9,-999.0000,9,   -999.0,  9,  -999.00,9,   -999.0,  -999.00,9,  -999.00,9,  -999.00,9,  -999.00,9,   -999.0,-999.0000, -999,9,  802,   5.7170,  26.9659,   -999.0,9
       KS08-04,  137E,KS-2111,  1,      9,02-16015,2,20080424,0214, 32.0437, 137.0373, 4126,    908.6,   4.5413,  34.2850,2,   -999.0,9,  34.2856,2,     69.0,2,   101.44,2,  -999.00,9,    38.16,2,     0.00,2,     2.76,2, -999.000,9, -999.000,9,  -999.00,9,   -999.0,9,   -999.0,9,-999.0000,9,   -999.0,  9,  -999.00,9,   -999.0,  -999.00,9,  -999.00,9,  -999.00,9,  -999.00,9,   -999.0,-999.0000, -999,9,  900,   4.4697,  27.1677,   -999.0,9
       KS08-04,  137E,KS-2111,  1,      8,02-16014,2,20080424,0211, 32.0437, 137.0373, 4126,   1011.5,   3.9962,  34.3839,2,   -999.0,9,  34.3839,2,     68.0,2,   112.87,2,  -999.00,9,    38.94,2,     0.00,2,     2.81,2, -999.000,9, -999.000,9,  -999.00,9,   -999.0,9,   -999.0,9,-999.0000,9,   -999.0,  9,  -999.00,9,   -999.0,  -999.00,9,  -999.00,9,  -999.00,9,  -999.00,9,   -999.0,-999.0000, -999,9, 1002,   3.9198,  27.3043,   -999.0,9
       KS08-04,  137E,KS-2111,  1,      7,02-19374,2,20080424,0204, 32.0437, 137.0373, 4126,   1262.6,   3.1683,  34.4559,2,   -999.0,9,  34.4560,2,     68.0,2,   128.53,2,  -999.00,9,    40.20,2,     0.00,2,     2.88,2, -999.000,9, -999.000,9,  -999.00,9,   -999.0,9,   -999.0,9,-999.0000,9,   -999.0,  9,  -999.00,9,   -999.0,  -999.00,9,  -999.00,9,  -999.00,9,  -999.00,9,   -999.0,-999.0000, -999,9, 1250,   3.0785,  27.4435,   -999.0,9
       KS08-04,  137E,KS-2111,  1,      6,02-19373,2,20080424,0158, 32.0437, 137.0373, 4126,   1515.7,   2.7763,  34.5027,2,   -999.0,9,  34.5017,2,     76.0,2,   135.23,2,  -999.00,9,    40.10,2,     0.00,2,     2.86,2, -999.000,9, -999.000,9,  -999.00,9,   -999.0,9,   -999.0,9,-999.0000,9,   -999.0,  9,  -999.00,9,   -999.0,  -999.00,9,  -999.00,9,  -999.00,9,  -999.00,9,   -999.0,-999.0000, -999,9, 1500,   2.6699,  27.5176,   -999.0,9
       KS08-04,  137E,KS-2111,  1,      5,02-16011,2,20080424,0152, 32.0437, 137.0373, 4126,   1768.9,   2.3883,  34.5520,2,   -999.0,9,  34.5527,2,     90.0,2,   140.40,2,  -999.00,9,    39.51,2,     0.00,2,     2.81,2, -999.000,9, -999.000,9,  -999.00,9,   -999.0,9,   -999.0,9,-999.0000,9,   -999.0,  9,  -999.00,9,   -999.0,  -999.00,9,  -999.00,9,  -999.00,9,  -999.00,9,   -999.0,-999.0000, -999,9, 1749,   2.2658,  27.5913,   -999.0,9
       KS08-04,  137E,KS-2111,  1,      4,02-16010,2,20080424,0146, 32.0437, 137.0373, 4126,   2022.7,   2.0927,  34.5925,2,   -999.0,9,  34.5936,2,    106.0,2,   142.22,2,  -999.00,9,    38.73,2,     0.00,2,     2.73,2, -999.000,9, -999.000,9,  -999.00,9,   -999.0,9,   -999.0,9,-999.0000,9,   -999.0,  9,  -999.00,9,   -999.0,  -999.00,9,  -999.00,9,  -999.00,9,  -999.00,9,   -999.0,-999.0000, -999,9, 1999,   1.9531,  27.6489,   -999.0,9
       KS08-04,  137E,KS-2111,  1,      3,02-16009,2,20080424,0126, 32.0437, 137.0373, 4126,   3041.9,   1.5686,  34.6681,2,   -999.0,9,  34.6695,2,    146.0,2,   140.71,2,  -999.00,9,    36.49,2,     0.00,2,     2.54,2, -999.000,9, -999.000,9,  -999.00,9,   -999.0,9,   -999.0,9,-999.0000,9,   -999.0,  9,  -999.00,9,   -999.0,  -999.00,9,  -999.00,9,  -999.00,9,  -999.00,9,   -999.0,-999.0000, -999,9, 2999,   1.3463,  27.7549,   -999.0,9
       KS08-04,  137E,KS-2111,  1,      2,02-16008,2,20080424,0109, 32.0437, 137.0373, 4126,   4062.2,   1.5448,  34.6823,2,   -999.0,9,  34.6826,2,    156.0,2,   139.12,2,  -999.00,9,    35.81,2,     0.00,2,     2.48,2, -999.000,9, -999.000,9,  -999.00,9,   -999.0,9,   -999.0,9,-999.0000,9,   -999.0,  9,  -999.00,9,   -999.0,  -999.00,9,  -999.00,9,  -999.00,9,  -999.00,9,   -999.0,-999.0000, -999,9, 3996,   1.2178,  27.7753,   -999.0,9
       KS08-04,  137E,KS-2111,  1,      1,02-16007,2,20080424,0108, 32.0437, 137.0373, 4126,   4116.6,   1.5477,  34.6826,2,   -999.0,9,  34.6824,2,    156.0,2,   139.07,2,  -999.00,9,    35.90,2,     0.00,2,     2.48,2, -999.000,9, -999.000,9,  -999.00,9,   -999.0,9,   -999.0,9,-999.0000,9,   -999.0,  9,  -999.00,9,   -999.0,  -999.00,9,  -999.00,9,  -999.00,9,  -999.00,9,   -999.0,-999.0000, -999,9, 4049,   1.2147,  27.7758,   -999.0,9