BOTTLE,20130510GEMDJMAYT
EXPOCODE,SECT_ID,STNNBR,CASTNO,SAMPNO,BTLNBR,BTLNBR_FLAG_W,DATE,TIME,LATITUDE,LONGITUDE,DEPTH,CTDPRS,CTDTMP,CTDSAL,CTDSAL_FLAG_W,CTDOXY,CTDOXY_FLAG_W,SALNTY,SALNTY_FLAG_W,OXYGEN,OXYGEN_FLAG_W,SILCAT,SILCAT_FLAG_W,NITRAT,NITRAT_FLAG_W,NO2+NO3,NO2+NO3_FLAG_W,NITRIT,NITRIT_FLAG_W,PHSPHT,PHSPHT_FLAG_W,CFC-11,CFC-11_FLAG_W,CFC-12,CFC-12_FLAG_W,DELC13,DELC13_FLAG_W,TCARBN,TCARBN_FLAG_W,ALKALI,ALKALI_FLAG_W,PH,PH_FLAG_W,PH_TMP,PH_SCALE,PH_NBS,PH_NBS_FLAG_W,C13ERR,TOTALP,TOTALP_FLAG_W,AMMONI,AMMONI_FLAG_W,CHLORA,CHLORA_FLAG_W,PPHYTN,PPHYTN_FLAG_W,REVPRS,REVTMP,DEPTH_,DEPTH_FLAG,CTDDEP,THETA,SIGTHT,DOC,DOC_FLAG_W
,,,,,,,GMT,GMT,,,METER,DBAR,ITS-90,PSS-78,,UMOL/KG,,PSS-78,,UMOL/KG,,UMOL/KG,,UMOL/KG,,UMOL/KG,,UMOL/KG,,UMOL/KG,,PMOL/KG,,PMOL/KG,,/MILLE,,UMOL/KG,,UMOL/KG,,25_DEG_C,,DEG_C,,,,/MILLE,UMOL/KG,,UMOL/KG,,UG/L,,UG/L,,DBAR,ITS-90,METERS,,METERS,DEG_C,,UMOL/L,
       KS08-04,  137E,KS-2121,  1,     -9,      -9,5,20080427,0301, 24.9883, 137.0337, 5115,      0.0,  24.9399,  34.8381,2,   -999.0,9,-999.0000,9,    213.0,2,     0.78,2,  -999.00,9,     0.00,2,     0.00,2,     0.00,2, -999.000,9, -999.000,9,  -999.00,9,   -999.0,9,   -999.0,9,   8.1019,2,     25.0, TS,  -999.00,9,   -999.0,  -999.00,9,  -999.00,9,     0.08,2,     0.02,2,   -999.0,-999.0000, -999,9,    0,  24.9397,  23.2372,   -999.0,9
       KS08-04,  137E,KS-2121,  1,     24,02-16030,2,20080427,0323, 24.9883, 137.0337, 5115,     10.5,  24.9192,  34.8346,2,   -999.0,9,  34.8379,2,    211.0,2,     0.91,2,  -999.00,9,     0.00,2,     0.00,2,     0.00,2, -999.000,9, -999.000,9,  -999.00,9,   1956.8,2,   -999.0,9,   8.1008,2,     25.0, TS,  -999.00,9,   -999.0,  -999.00,9,  -999.00,9,     0.08,2,     0.04,2,   -999.0,-999.0000, -999,9,   10,  24.9169,  23.2414,   -999.0,9
       KS08-04,  137E,KS-2121,  1,     23,02-19380,2,20080427,0322, 24.9883, 137.0337, 5115,     25.1,  23.7998,  34.8724,2,   -999.0,9,-999.0000,9,    215.0,2,     0.89,2,  -999.00,9,     0.00,2,     0.00,2,     0.00,2, -999.000,9, -999.000,9,  -999.00,9,   1968.9,2,   -999.0,9,   8.0924,2,     25.0, TS,  -999.00,9,   -999.0,  -999.00,9,  -999.00,9,     0.09,2,     0.02,2,   -999.0,-999.0000, -999,9,   25,  23.7945,  23.6054,   -999.0,9
       KS08-04,  137E,KS-2121,  1,     22,02-16028,2,20080427,0319, 24.9883, 137.0337, 5115,     52.4,  21.8733,  34.8481,2,   -999.0,9,-999.0000,9,    222.0,2,     1.12,2,  -999.00,9,     0.00,2,     0.00,2,     0.00,2, -999.000,9, -999.000,9,  -999.00,9,   1978.2,2,   -999.0,9,   8.0672,2,     25.0, TS,  -999.00,9,   -999.0,  -999.00,9,  -999.00,9,     0.16,2,     0.07,2,   -999.0,-999.0000, -999,9,   52,  21.8630,  24.1407,   -999.0,9
       KS08-04,  137E,KS-2121,  1,     21,02-16027,2,20080427,0318, 24.9883, 137.0337, 5115,     76.5,  20.9129,  34.8638,2,   -999.0,9,-999.0000,9,    217.0,2,     1.31,2,  -999.00,9,     0.00,2,     0.01,2,     0.01,2, -999.000,9, -999.000,9,  -999.00,9,   1998.0,2,   -999.0,9,   8.0469,2,     25.0, TS,  -999.00,9,   -999.0,  -999.00,9,  -999.00,9,     0.24,2,     0.23,2,   -999.0,-999.0000, -999,9,   76,  20.8983,  24.4178,   -999.0,9
       KS08-04,  137E,KS-2121,  1,     20,02-16026,2,20080427,0317, 24.9883, 137.0337, 5115,    101.6,  20.5495,  34.8617,2,   -999.0,9,  34.8599,2,    223.0,2,     1.28,2,  -999.00,9,     0.20,2,     0.06,2,     0.01,2, -999.000,9, -999.000,9,  -999.00,9,   1989.8,2,   -999.0,9,   8.0515,2,     25.0, TS,  -999.00,9,   -999.0,  -999.00,9,  -999.00,9,     0.28,2,     0.20,2,   -999.0,-999.0000, -999,9,  101,  20.5304,  24.5154,   -999.0,9
       KS08-04,  137E,KS-2121,  1,     19,02-19378,2,20080427,0316, 24.9883, 137.0337, 5115,    126.9,  20.3003,  34.8553,2,   -999.0,9,-999.0000,9,    222.0,2,     1.31,2,  -999.00,9,     0.39,2,     0.18,2,     0.02,2, -999.000,9, -999.000,9,  -999.00,9,   1996.4,2,   -999.0,9,   8.0495,2,     25.0, TS,  -999.00,9,   -999.0,  -999.00,9,  -999.00,9,     0.17,2,     0.19,2,   -999.0,-999.0000, -999,9,  126,  20.2766,  24.5782,   -999.0,9
       KS08-04,  137E,KS-2121,  1,     18,02-19377,2,20080427,0314, 24.9883, 137.0337, 5115,    151.8,  19.7966,  34.8535,2,   -999.0,9,-999.0000,9,    205.0,2,     1.91,2,  -999.00,9,     1.95,2,     0.02,2,     0.12,2, -999.000,9, -999.000,9,  -999.00,9,   2013.0,2,   -999.0,9,   8.0128,2,     25.0, TS,  -999.00,9,   -999.0,  -999.00,9,  -999.00,9,     0.07,2,     0.10,2,   -999.0,-999.0000, -999,9,  151,  19.7688,  24.7106,   -999.0,9
       KS08-04,  137E,KS-2121,  1,     17,02-16023,2,20080427,0312, 24.9883, 137.0337, 5115,    203.0,  18.7456,  34.8252,2,   -999.0,9,  34.8231,2,    199.0,2,     2.78,2,  -999.00,9,     3.61,2,     0.01,2,     0.20,2, -999.000,9, -999.000,9,  -999.00,9,   2027.8,2,   -999.0,9,   7.9811,2,     25.0, TS,  -999.00,9,   -999.0,  -999.00,9,  -999.00,9,     0.01,2,     0.01,2,   -999.0,-999.0000, -999,9,  202,  18.7098,  24.9612,   -999.0,9
       KS08-04,  137E,KS-2121,  1,     16,02-16022,2,20080427,0311, 24.9883, 137.0337, 5115,    252.8,  17.8542,  34.7874,2,   -999.0,9,-999.0000,9,    200.0,2,     3.70,2,  -999.00,9,     4.78,2,     0.00,2,     0.27,2, -999.000,9, -999.000,9,  -999.00,9,   2033.0,2,   -999.0,9,   7.9681,2,     25.0, TS,  -999.00,9,   -999.0,  -999.00,9,  -999.00,9,     0.00,2,     0.01,2,   -999.0,-999.0000, -999,9,  251,  17.8110,  25.1556,   -999.0,9
       KS08-04,  137E,KS-2121,  1,     15,02-16021,2,20080427,0309, 24.9883, 137.0337, 5115,    304.8,  16.7990,  34.7294,2,   -999.0,9,  34.7280,2,    194.0,2,     5.72,2,  -999.00,9,     6.83,2,     0.00,2,     0.40,2, -999.000,9, -999.000,9,  -999.00,9,   2048.6,2,   -999.0,9,   7.9361,2,     25.0, TS,  -999.00,9,   -999.0,  -999.00,9,  -999.00,9,     0.00,2,     0.01,2,   -999.0,-999.0000, -999,9,  303,  16.7491,  25.3658,   -999.0,9
       KS08-04,  137E,KS-2121,  1,     14,02-16020,2,20080427,0307, 24.9883, 137.0337, 5115,    404.8,  14.6421,  34.5690,2,   -999.0,9,  34.5674,2,    187.0,2,    11.73,2,  -999.00,9,    10.82,2,     0.00,2,     0.69,2, -999.000,9, -999.000,9,  -999.00,9,   2077.8,2,   -999.0,9,   7.8712,2,     25.0, TS,  -999.00,9,   -999.0,  -999.00,9,  -999.00,9,  -999.00,9,  -999.00,9,   -999.0,-999.0000, -999,9,  402,  14.5816,  25.7305,   -999.0,9
       KS08-04,  137E,KS-2121,  1,     13,02-16019,2,20080427,0304, 24.9883, 137.0337, 5115,    504.5,  11.7546,  34.3687,2,   -999.0,9,  34.3698,2,    173.0,2,    22.98,2,  -999.00,9,    16.86,2,     0.00,2,     1.13,2, -999.000,9, -999.000,9,  -999.00,9,   2117.1,2,   -999.0,9,   7.7735,2,     25.0, TS,  -999.00,9,   -999.0,  -999.00,9,  -999.00,9,  -999.00,9,  -999.00,9,   -999.0,-999.0000, -999,9,  501,  11.6893,  26.1574,   -999.0,9
       KS08-04,  137E,KS-2121,  1,     12,02-16018,2,20080427,0301, 24.9883, 137.0337, 5115,    606.9,   8.5479,  34.2005,2,   -999.0,9,  34.2004,2,    143.0,2,    44.51,2,  -999.00,9,    25.03,2,     0.00,2,     1.77,2, -999.000,9, -999.000,9,  -999.00,9,   2183.5,2,   -999.0,9,   7.6393,2,     25.0, TS,  -999.00,9,   -999.0,  -999.00,9,  -999.00,9,  -999.00,9,  -999.00,9,   -999.0,-999.0000, -999,9,  602,   8.4831,  26.5729,   -999.0,9
       KS08-04,  137E,KS-2121,  1,     11,02-19376,2,20080427,0259, 24.9883, 137.0337, 5115,    707.0,   6.1493,  34.1720,2,   -999.0,9,  34.1745,2,    103.0,2,    71.88,2,  -999.00,9,    32.82,2,     0.00,2,     2.36,2, -999.000,9, -999.000,9,  -999.00,9,   2244.8,3,   -999.0,9,   7.5103,2,     25.0, TS,  -999.00,9,   -999.0,  -999.00,9,  -999.00,9,  -999.00,9,  -999.00,9,   -999.0,-999.0000, -999,9,  701,   6.0861,  26.8874,   -999.0,9
       KS08-04,  137E,KS-2121,  1,     10,02-19375,2,20080427,0256, 24.9883, 137.0337, 5115,    808.5,   5.1364,  34.2123,2,   -999.0,9,  34.2132,2,     82.0,2,    87.45,2,  -999.00,9,    36.22,2,     0.00,2,     2.62,2, -999.000,9, -999.000,9,  -999.00,9,   2285.3,2,   -999.0,9,   7.4536,2,     25.0, TS,  -999.00,9,   -999.0,  -999.00,9,  -999.00,9,  -999.00,9,  -999.00,9,   -999.0,-999.0000, -999,9,  802,   5.0697,  27.0428,   -999.0,9
       KS08-04,  137E,KS-2121,  1,      9,02-16015,2,20080427,0254, 24.9883, 137.0337, 5115,    909.8,   4.4123,  34.2750,2,   -999.0,9,  34.2751,2,     67.0,2,   101.80,2,  -999.00,9,    38.55,2,     0.00,2,     2.76,2, -999.000,9, -999.000,9,  -999.00,9,   2310.8,2,   -999.0,9,   7.4296,2,     25.0, TS,  -999.00,9,   -999.0,  -999.00,9,  -999.00,9,  -999.00,9,  -999.00,9,   -999.0,-999.0000, -999,9,  902,   4.3415,  27.1735,   -999.0,9
       KS08-04,  137E,KS-2121,  1,      8,02-16014,2,20080427,0251, 24.9883, 137.0337, 5115,   1010.9,   3.8188,  34.3349,2,   -999.0,9,  34.3346,2,     58.0,2,   114.38,2,  -999.00,9,    40.01,2,     0.00,2,     2.88,2, -999.000,9, -999.000,9,  -999.00,9,   2333.1,2,   -999.0,9,   7.4063,2,     25.0, TS,  -999.00,9,   -999.0,  -999.00,9,  -999.00,9,  -999.00,9,  -999.00,9,   -999.0,-999.0000, -999,9, 1002,   3.7439,  27.2831,   -999.0,9
       KS08-04,  137E,KS-2121,  1,      7,02-19374,2,20080427,0245, 24.9883, 137.0337, 5115,   1263.3,   2.9718,  34.4598,2,   -999.0,9,  34.4612,2,     64.0,2,   132.35,2,  -999.00,9,    40.59,2,     0.00,2,     2.91,2, -999.000,9, -999.000,9,  -999.00,9,   2352.3,2,   -999.0,9,   7.4219,2,     25.0, TS,  -999.00,9,   -999.0,  -999.00,9,  -999.00,9,  -999.00,9,  -999.00,9,   -999.0,-999.0000, -999,9, 1251,   2.8838,  27.4644,   -999.0,9
       KS08-04,  137E,KS-2121,  1,      6,02-19373,2,20080427,0240, 24.9883, 137.0337, 5115,   1516.2,   2.4680,  34.5420,2,   -999.0,9,  34.5421,2,     85.0,2,   137.67,2,  -999.00,9,    39.71,2,     0.00,2,     2.82,2, -999.000,9, -999.000,9,  -999.00,9,   2349.5,2,   -999.0,9,   7.4634,2,     25.0, TS,  -999.00,9,   -999.0,  -999.00,9,  -999.00,9,  -999.00,9,  -999.00,9,   -999.0,-999.0000, -999,9, 1501,   2.3651,  27.5751,   -999.0,9
       KS08-04,  137E,KS-2121,  1,      5,02-16011,2,20080427,0235, 24.9883, 137.0337, 5115,   1767.9,   2.1825,  34.5885,2,   -999.0,9,  34.5897,2,    104.0,2,   139.13,2,  -999.00,9,    38.63,2,     0.00,2,     2.73,2, -999.000,9, -999.000,9,  -999.00,9,   2348.0,2,   -999.0,9,   7.5017,2,     25.0, TS,  -999.00,9,   -999.0,  -999.00,9,  -999.00,9,  -999.00,9,  -999.00,9,   -999.0,-999.0000, -999,9, 1749,   2.0628,  27.6370,   -999.0,9
       KS08-04,  137E,KS-2121,  1,      4,02-16010,2,20080427,0229, 24.9883, 137.0337, 5115,   2022.6,   1.9612,  34.6159,2,   -999.0,9,  34.6169,2,    116.0,2,   139.51,2,  -999.00,9,    38.05,2,     0.00,2,     2.68,2, -999.000,9, -999.000,9,  -999.00,9,   2340.4,2,   -999.0,9,   7.5230,6,     25.0, TS,  -999.00,9,   -999.0,  -999.00,9,  -999.00,9,  -999.00,9,  -999.00,9,   -999.0,-999.0000, -999,9, 2000,   1.8235,  27.6777,   -999.0,9
       KS08-04,  137E,KS-2121,  1,      3,02-16009,2,20080427,0209, 24.9883, 137.0337, 5115,   3041.8,   1.6446,  34.6626,2,   -999.0,9,  34.6631,2,    141.0,2,   139.89,2,  -999.00,9,    36.49,2,     0.00,2,     2.55,2, -999.000,9, -999.000,9,  -999.00,9,   -999.0,9,   -999.0,9,-999.0000,9,   -999.0,  9,  -999.00,9,   -999.0,  -999.00,9,  -999.00,9,  -999.00,9,  -999.00,9,   -999.0,-999.0000, -999,9, 3001,   1.4207,  27.7451,   -999.0,9
       KS08-04,  137E,KS-2121,  1,      2,02-16008,2,20080427,0150, 24.9883, 137.0337, 5115,   4065.2,   1.5386,  34.6825,2,   -999.0,9,  34.6829,2,    157.0,2,   137.17,2,  -999.00,9,    35.51,2,     0.00,2,     2.47,2, -999.000,9, -999.000,9,  -999.00,9,   -999.0,9,   -999.0,9,-999.0000,9,   -999.0,  9,  -999.00,9,   -999.0,  -999.00,9,  -999.00,9,  -999.00,9,  -999.00,9,   -999.0,-999.0000, -999,9, 4001,   1.2115,  27.7759,   -999.0,9
       KS08-04,  137E,KS-2121,  1,      1,02-16007,2,20080427,0130, 24.9883, 137.0337, 5115,   5095.3,   1.6352,  34.6850,2,   -999.0,9,  34.6851,2,    159.0,2,   136.56,2,  -999.00,9,    35.42,2,     0.00,2,     2.45,2, -999.000,9, -999.000,9,  -999.00,9,   -999.0,9,   -999.0,9,-999.0000,9,   -999.0,  9,  -999.00,9,   -999.0,  -999.00,9,  -999.00,9,  -999.00,9,  -999.00,9,   -999.0,-999.0000, -999,9, 5003,   1.1847,  27.7797,   -999.0,9