BOTTLE,20130510GEMDJMAYT
EXPOCODE,SECT_ID,STNNBR,CASTNO,SAMPNO,BTLNBR,BTLNBR_FLAG_W,DATE,TIME,LATITUDE,LONGITUDE,DEPTH,CTDPRS,CTDTMP,CTDSAL,CTDSAL_FLAG_W,CTDOXY,CTDOXY_FLAG_W,SALNTY,SALNTY_FLAG_W,OXYGEN,OXYGEN_FLAG_W,SILCAT,SILCAT_FLAG_W,NITRAT,NITRAT_FLAG_W,NO2+NO3,NO2+NO3_FLAG_W,NITRIT,NITRIT_FLAG_W,PHSPHT,PHSPHT_FLAG_W,CFC-11,CFC-11_FLAG_W,CFC-12,CFC-12_FLAG_W,DELC13,DELC13_FLAG_W,TCARBN,TCARBN_FLAG_W,ALKALI,ALKALI_FLAG_W,PH,PH_FLAG_W,PH_TMP,PH_SCALE,PH_NBS,PH_NBS_FLAG_W,C13ERR,TOTALP,TOTALP_FLAG_W,AMMONI,AMMONI_FLAG_W,CHLORA,CHLORA_FLAG_W,PPHYTN,PPHYTN_FLAG_W,REVPRS,REVTMP,DEPTH_,DEPTH_FLAG,CTDDEP,THETA,SIGTHT,DOC,DOC_FLAG_W
,,,,,,,GMT,GMT,,,METER,DBAR,ITS-90,PSS-78,,UMOL/KG,,PSS-78,,UMOL/KG,,UMOL/KG,,UMOL/KG,,UMOL/KG,,UMOL/KG,,UMOL/KG,,PMOL/KG,,PMOL/KG,,/MILLE,,UMOL/KG,,UMOL/KG,,25_DEG_C,,DEG_C,,,,/MILLE,UMOL/KG,,UMOL/KG,,UG/L,,UG/L,,DBAR,ITS-90,METERS,,METERS,DEG_C,,UMOL/L,
       KS08-04,  137E,KS-2126,  1,     -9,      -9,5,20080428,1000, 20.0077, 136.9762, 4725,      0.0,  28.6035,  34.5723,2,   -999.0,9,-999.0000,9,    199.0,2,     0.64,2,  -999.00,9,     0.00,2,     0.00,2,     0.00,2, -999.000,9, -999.000,9,  -999.00,9,   -999.0,9,   -999.0,9,   8.1190,2,     25.0, TS,  -999.00,9,   -999.0,  -999.00,9,  -999.00,9,     0.06,2,     0.02,2,   -999.0,-999.0000, -999,9,    0,  28.6033,  21.8748,   -999.0,9
       KS08-04,  137E,KS-2126,  1,     21,02-16027,2,20080428,1026, 20.0077, 136.9762, 4725,      9.7,  28.6062,  34.5745,2,   -999.0,9,  34.5789,2,    200.0,2,     0.56,2,  -999.00,9,     0.00,2,     0.00,2,     0.00,2, -999.000,9, -999.000,9,  -999.00,9,   1931.2,2,   -999.0,9,   8.1170,2,     25.0, TS,  -999.00,9,   -999.0,  -999.00,9,  -999.00,9,     0.06,2,     0.02,2,   -999.0,-999.0000, -999,9,   10,  28.6039,  21.8762,   -999.0,9
       KS08-04,  137E,KS-2126,  1,     20,02-16026,2,20080428,1024, 20.0077, 136.9762, 4725,     25.3,  27.2109,  34.6062,2,   -999.0,9,-999.0000,9,    206.0,2,     0.75,2,  -999.00,9,     0.00,2,     0.00,2,     0.00,2, -999.000,9, -999.000,9,  -999.00,9,   1935.4,2,   -999.0,9,   8.1179,2,     25.0, TS,  -999.00,9,   -999.0,  -999.00,9,  -999.00,9,     0.06,2,     0.02,2,   -999.0,-999.0000, -999,9,   25,  27.2051,  22.3556,   -999.0,9
       KS08-04,  137E,KS-2126,  1,     19,02-19378,2,20080428,1021, 20.0077, 136.9762, 4725,     48.7,  25.8598,  34.8174,2,   -999.0,9,-999.0000,9,    201.0,2,     0.67,2,  -999.00,9,     0.00,2,     0.00,2,     0.01,2, -999.000,9, -999.000,9,  -999.00,9,   1962.4,2,   -999.0,9,   8.0964,2,     25.0, TS,  -999.00,9,   -999.0,  -999.00,9,  -999.00,9,     0.10,2,     0.05,2,   -999.0,-999.0000, -999,9,   48,  25.8490,  22.9426,   -999.0,9
       KS08-04,  137E,KS-2126,  1,     18,02-19377,2,20080428,1020, 20.0077, 136.9762, 4725,     74.4,  24.5152,  34.7672,2,   -999.0,9,-999.0000,9,    210.0,2,     0.64,2,  -999.00,9,     0.00,2,     0.00,2,     0.00,2, -999.000,9, -999.000,9,  -999.00,9,   1955.9,2,   -999.0,9,   8.0998,2,     25.0, TS,  -999.00,9,   -999.0,  -999.00,9,  -999.00,9,     0.25,2,     0.15,2,   -999.0,-999.0000, -999,9,   74,  24.4993,  23.3164,   -999.0,9
       KS08-04,  137E,KS-2126,  1,     17,02-16023,2,20080428,1018, 20.0077, 136.9762, 4725,     99.7,  24.1711,  35.0621,2,   -999.0,9,  35.0581,4,    184.0,2,     0.94,2,  -999.00,9,     0.68,2,     0.06,2,     0.07,2, -999.000,9, -999.000,9,  -999.00,9,   2005.4,2,   -999.0,9,   8.0432,3,     25.0, TS,  -999.00,9,   -999.0,  -999.00,9,  -999.00,9,     0.23,2,     0.44,2,   -999.0,-999.0000, -999,9,   99,  24.1500,  23.6438,   -999.0,9
       KS08-04,  137E,KS-2126,  1,     16,02-16022,2,20080428,1017, 20.0077, 136.9762, 4725,    125.0,  22.0960,  34.8521,2,   -999.0,9,-999.0000,9,    205.0,2,     0.92,2,  -999.00,9,     0.49,2,     0.05,2,     0.03,2, -999.000,9, -999.000,9,  -999.00,9,   1982.4,2,   -999.0,9,   8.0630,2,     25.0, TS,  -999.00,9,   -999.0,  -999.00,9,  -999.00,9,     0.08,2,     0.17,2,   -999.0,-999.0000, -999,9,  124,  22.0712,  24.0855,   -999.0,9
       KS08-04,  137E,KS-2126,  1,     15,02-16021,2,20080428,1015, 20.0077, 136.9762, 4725,    151.4,  21.4234,  35.0095,2,   -999.0,9,-999.0000,9,    184.0,2,     1.63,2,  -999.00,9,     2.05,2,     0.02,2,     0.15,2, -999.000,9, -999.000,9,  -999.00,9,   2023.8,2,   -999.0,9,   8.0016,2,     25.0, TS,  -999.00,9,   -999.0,  -999.00,9,  -999.00,9,     0.04,2,     0.08,2,   -999.0,-999.0000, -999,9,  150,  21.3940,  24.3933,   -999.0,9
       KS08-04,  137E,KS-2126,  1,     14,02-16020,2,20080428,1013, 20.0077, 136.9762, 4725,    201.2,  19.4884,  34.8752,2,   -999.0,9,  34.8778,2,    190.0,2,     2.40,2,  -999.00,9,     3.22,2,     0.01,2,     0.20,2, -999.000,9, -999.000,9,  -999.00,9,   2029.8,3,   -999.0,9,   7.9790,2,     25.0, TS,  -999.00,9,   -999.0,  -999.00,9,  -999.00,9,     0.01,2,     0.02,2,   -999.0,-999.0000, -999,9,  200,  19.4519,  24.8097,   -999.0,9
       KS08-04,  137E,KS-2126,  1,     13,02-16019,2,20080428,1012, 20.0077, 136.9762, 4725,    251.9,  17.8818,  34.8003,2,   -999.0,9,-999.0000,9,    195.0,2,     3.48,2,  -999.00,9,     4.78,2,     0.01,2,     0.29,2, -999.000,9, -999.000,9,  -999.00,9,   2037.1,3,   -999.0,9,   7.9583,2,     25.0, TS,  -999.00,9,   -999.0,  -999.00,9,  -999.00,9,     0.00,2,     0.01,2,   -999.0,-999.0000, -999,9,  250,  17.8387,  25.1587,   -999.0,9
       KS08-04,  137E,KS-2126,  1,     12,02-16018,2,20080428,1010, 20.0077, 136.9762, 4725,    302.4,  16.7039,  34.7255,2,   -999.0,9,  34.7247,2,    193.0,2,     5.57,2,  -999.00,9,     6.73,2,     0.00,2,     0.41,2, -999.000,9, -999.000,9,  -999.00,9,   2049.5,3,   -999.0,9,   7.9336,2,     25.0, TS,  -999.00,9,   -999.0,  -999.00,9,  -999.00,9,     0.00,2,     0.01,2,   -999.0,-999.0000, -999,9,  300,  16.6546,  25.3850,   -999.0,9
       KS08-04,  137E,KS-2126,  1,     11,02-19376,2,20080428,1007, 20.0077, 136.9762, 4725,    403.3,  12.6701,  34.3952,2,   -999.0,9,  34.3971,2,    175.0,2,    14.79,2,  -999.00,9,    14.23,2,     0.00,2,     0.98,2, -999.000,9, -999.000,9,  -999.00,9,   2106.0,3,   -999.0,9,   7.7950,2,     25.0, TS,  -999.00,9,   -999.0,  -999.00,9,  -999.00,9,  -999.00,9,  -999.00,9,   -999.0,-999.0000, -999,9,  400,  12.6155,  26.0005,   -999.0,9
       KS08-04,  137E,KS-2126,  1,     10,02-19375,2,20080428,1003, 20.0077, 136.9762, 4725,    504.2,   9.4837,  34.2568,2,   -999.0,9,  34.2570,2,    126.0,2,    33.12,2,  -999.00,9,    24.55,2,     0.00,2,     1.76,2, -999.000,9, -999.000,9,  -999.00,9,   2181.5,3,   -999.0,9,   7.6296,2,     25.0, TS,  -999.00,9,   -999.0,  -999.00,9,  -999.00,9,  -999.00,9,  -999.00,9,   -999.0,-999.0000, -999,9,  501,   9.4267,  26.4672,   -999.0,9
       KS08-04,  137E,KS-2126,  1,      9,02-16015,2,20080428,1000, 20.0077, 136.9762, 4725,    605.8,   7.1138,  34.1886,2,   -999.0,9,  34.1876,2,     95.0,2,    54.93,2,  -999.00,9,    31.75,2,     0.00,2,     2.30,2, -999.000,9, -999.000,9,  -999.00,9,   2223.8,3,   -999.0,9,   7.5168,2,     25.0, TS,  -999.00,9,   -999.0,  -999.00,9,  -999.00,9,  -999.00,9,  -999.00,9,   -999.0,-999.0000, -999,9,  601,   7.0556,  26.7719,   -999.0,9
       KS08-04,  137E,KS-2126,  1,      8,02-16014,2,20080428,0957, 20.0077, 136.9762, 4725,    706.3,   5.7899,  34.2300,2,   -999.0,9,  34.2305,2,     68.0,2,    73.92,2,  -999.00,9,    36.61,2,     0.00,2,     2.66,2, -999.000,9, -999.000,9,  -999.00,9,   2281.4,3,   -999.0,9,   7.4445,2,     25.0, TS,  -999.00,9,   -999.0,  -999.00,9,  -999.00,9,  -999.00,9,  -999.00,9,   -999.0,-999.0000, -999,9,  701,   5.7286,  26.9780,   -999.0,9
       KS08-04,  137E,KS-2126,  1,      7,02-19374,2,20080428,0954, 20.0077, 136.9762, 4725,    808.2,   5.0271,  34.3292,2,   -999.0,9,  34.3283,2,     57.0,2,    88.42,2,  -999.00,9,    38.46,2,     0.00,2,     2.82,2, -999.000,9, -999.000,9,  -999.00,9,   2305.3,3,   -999.0,9,   7.4224,2,     25.0, TS,  -999.00,9,   -999.0,  -999.00,9,  -999.00,9,  -999.00,9,  -999.00,9,   -999.0,-999.0000, -999,9,  802,   4.9610,  27.1479,   -999.0,9
       KS08-04,  137E,KS-2126,  1,      6,02-19373,2,20080428,0951, 20.0077, 136.9762, 4725,    908.5,   4.5235,  34.4053,2,   -999.0,9,  34.4047,2,     61.0,2,    98.39,2,  -999.00,9,    39.33,2,     0.00,2,     2.85,2, -999.000,9, -999.000,9,  -999.00,9,   2312.2,3,   -999.0,9,   7.4425,2,     25.0, TS,  -999.00,9,   -999.0,  -999.00,9,  -999.00,9,  -999.00,9,  -999.00,9,   -999.0,-999.0000, -999,9,  901,   4.4519,  27.2651,   -999.0,9
       KS08-04,  137E,KS-2126,  1,      5,02-16011,2,20080428,0948, 20.0077, 136.9762, 4725,   1008.5,   4.1103,  34.4538,2,   -999.0,9,  34.4539,2,     68.0,2,   106.35,2,  -999.00,9,    39.03,2,     0.00,2,     2.84,2, -999.000,9, -999.000,9,  -999.00,9,   2320.6,3,   -999.0,9,   7.4478,2,     25.0, TS,  -999.00,9,   -999.0,  -999.00,9,  -999.00,9,  -999.00,9,  -999.00,9,   -999.0,-999.0000, -999,9, 1000,   4.0332,  27.3483,   -999.0,9
       KS08-04,  137E,KS-2126,  1,      4,02-16010,2,20080428,0942, 20.0077, 136.9762, 4725,   1261.3,   3.1799,  34.5270,2,   -999.0,9,  34.5264,2,     82.0,2,   124.02,2,  -999.00,9,    39.22,2,     0.00,2,     2.81,2, -999.000,9, -999.000,9,  -999.00,9,   2332.8,3,   -999.0,9,   7.4712,2,     25.0, TS,  -999.00,9,   -999.0,  -999.00,9,  -999.00,9,  -999.00,9,  -999.00,9,   -999.0,-999.0000, -999,9, 1250,   3.0899,  27.4992,   -999.0,9
       KS08-04,  137E,KS-2126,  1,      3,02-16009,2,20080428,0937, 20.0077, 136.9762, 4725,   1515.0,   2.6682,  34.5668,2,   -999.0,9,  34.5673,2,     93.0,2,   131.92,2,  -999.00,9,    38.63,2,     0.00,2,     2.77,2, -999.000,9, -999.000,9,  -999.00,9,   2335.3,2,   -999.0,9,   7.4915,2,     25.0, TS,  -999.00,9,   -999.0,  -999.00,9,  -999.00,9,  -999.00,9,  -999.00,9,   -999.0,-999.0000, -999,9, 1500,   2.5630,  27.5781,   -999.0,9
       KS08-04,  137E,KS-2126,  1,      2,02-16008,2,20080428,0932, 20.0077, 136.9762, 4725,   1766.2,   2.3926,  34.5985,2,   -999.0,9,  34.5990,2,    104.0,2,   135.04,2,  -999.00,9,    38.24,2,     0.00,2,     2.72,2, -999.000,9, -999.000,9,  -999.00,9,   2333.9,3,   -999.0,9,   7.5094,2,     25.0, TS,  -999.00,9,   -999.0,  -999.00,9,  -999.00,9,  -999.00,9,  -999.00,9,   -999.0,-999.0000, -999,9, 1748,   2.2701,  27.6282,   -999.0,9
       KS08-04,  137E,KS-2126,  1,      1,02-16007,2,20080428,0927, 20.0077, 136.9762, 4725,   2025.2,   2.1081,  34.6214,2,   -999.0,9,  34.6221,2,    113.0,2,   137.95,2,  -999.00,9,    37.95,2,     0.00,2,     2.69,2, -999.000,9, -999.000,9,  -999.00,9,   2339.3,2,   -999.0,9,   7.5237,6,     25.0, TS,  -999.00,9,   -999.0,  -999.00,9,  -999.00,9,  -999.00,9,  -999.00,9,   -999.0,-999.0000, -999,9, 2003,   1.9679,  27.6709,   -999.0,9