BOTTLE,20130510GEMDJMAYT
EXPOCODE,SECT_ID,STNNBR,CASTNO,SAMPNO,BTLNBR,BTLNBR_FLAG_W,DATE,TIME,LATITUDE,LONGITUDE,DEPTH,CTDPRS,CTDTMP,CTDSAL,CTDSAL_FLAG_W,CTDOXY,CTDOXY_FLAG_W,SALNTY,SALNTY_FLAG_W,OXYGEN,OXYGEN_FLAG_W,SILCAT,SILCAT_FLAG_W,NITRAT,NITRAT_FLAG_W,NO2+NO3,NO2+NO3_FLAG_W,NITRIT,NITRIT_FLAG_W,PHSPHT,PHSPHT_FLAG_W,CFC-11,CFC-11_FLAG_W,CFC-12,CFC-12_FLAG_W,DELC13,DELC13_FLAG_W,TCARBN,TCARBN_FLAG_W,ALKALI,ALKALI_FLAG_W,PH,PH_FLAG_W,PH_TMP,PH_SCALE,PH_NBS,PH_NBS_FLAG_W,C13ERR,TOTALP,TOTALP_FLAG_W,AMMONI,AMMONI_FLAG_W,CHLORA,CHLORA_FLAG_W,PPHYTN,PPHYTN_FLAG_W,REVPRS,REVTMP,DEPTH_,DEPTH_FLAG,CTDDEP,THETA,SIGTHT,DOC,DOC_FLAG_W
,,,,,,,GMT,GMT,,,METER,DBAR,ITS-90,PSS-78,,UMOL/KG,,PSS-78,,UMOL/KG,,UMOL/KG,,UMOL/KG,,UMOL/KG,,UMOL/KG,,UMOL/KG,,PMOL/KG,,PMOL/KG,,/MILLE,,UMOL/KG,,UMOL/KG,,25_DEG_C,,DEG_C,,,,/MILLE,UMOL/KG,,UMOL/KG,,UG/L,,UG/L,,DBAR,ITS-90,METERS,,METERS,DEG_C,,UMOL/L,
       KS08-04,  137E,KS-2116,  1,     -9,      -9,5,20080425,0950, 30.0108, 137.0313, 4482,      0.0,  19.4582,  34.7761,2,   -999.0,9,-999.0000,9,    235.0,2,     1.51,2,  -999.00,9,     0.10,2,     0.00,2,     0.01,2, -999.000,9, -999.000,9,  -999.00,9,   -999.0,9,   -999.0,9,   8.0494,2,     25.0, TS,  -999.00,9,   -999.0,  -999.00,9,  -999.00,9,     0.16,2,     0.03,2,   -999.0,-999.0000, -999,9,    0,  19.4581,  24.7324,   -999.0,9
       KS08-04,  137E,KS-2116,  1,     24,02-16030,2,20080425,1028, 30.0108, 137.0313, 4482,      9.9,  19.4677,  34.7857,2,   -999.0,9,  34.7843,2,    235.0,2,     1.75,2,  -999.00,9,     0.00,2,     0.00,2,     0.01,2, -999.000,9, -999.000,9,  -999.00,9,   1989.6,2,   -999.0,9,   8.0492,2,     25.0, TS,  -999.00,9,   -999.0,  -999.00,9,  -999.00,9,     0.15,2,     0.02,2,   -999.0,-999.0000, -999,9,   10,  19.4659,  24.7377,   -999.0,9
       KS08-04,  137E,KS-2116,  1,     23,02-19380,2,20080425,1026, 30.0108, 137.0313, 4482,     25.8,  19.3773,  34.7864,2,   -999.0,9,-999.0000,9,    236.0,2,     1.44,2,  -999.00,9,     0.00,2,     0.00,2,     0.01,2, -999.000,9, -999.000,9,  -999.00,9,   1989.8,2,   -999.0,9,   8.0516,2,     25.0, TS,  -999.00,9,   -999.0,  -999.00,9,  -999.00,9,     0.17,2,     0.03,2,   -999.0,-999.0000, -999,9,   26,  19.3727,  24.7624,   -999.0,9
       KS08-04,  137E,KS-2116,  1,     22,02-16028,2,20080425,1022, 30.0108, 137.0313, 4482,     52.0,  18.9124,  34.7948,2,   -999.0,9,-999.0000,9,    236.0,2,     1.57,2,  -999.00,9,     0.00,2,     0.00,2,     0.02,2, -999.000,9, -999.000,9,  -999.00,9,   1994.9,2,   -999.0,9,   8.0441,2,     25.0, TS,  -999.00,9,   -999.0,  -999.00,9,  -999.00,9,     0.37,2,     0.22,2,   -999.0,-999.0000, -999,9,   52,  18.9032,  24.8889,   -999.0,9
       KS08-04,  137E,KS-2116,  1,     21,02-16027,2,20080425,1020, 30.0108, 137.0313, 4482,     76.2,  18.6647,  34.8150,2,   -999.0,9,-999.0000,9,    228.0,2,     1.85,2,  -999.00,9,     0.98,2,     0.57,2,     0.07,2, -999.000,9, -999.000,9,  -999.00,9,   2001.1,2,   -999.0,9,   8.0294,2,     25.0, TS,  -999.00,9,   -999.0,  -999.00,9,  -999.00,9,     0.39,2,     0.20,2,   -999.0,-999.0000, -999,9,   76,  18.6513,  24.9682,   -999.0,9
       KS08-04,  137E,KS-2116,  1,     20,02-16026,2,20080425,1019, 30.0108, 137.0313, 4482,    101.1,  18.3932,  34.8004,2,   -999.0,9,  34.7992,2,    225.0,2,     2.23,2,  -999.00,9,     1.66,2,     0.34,2,     0.10,2, -999.000,9, -999.000,9,  -999.00,9,   2009.0,2,   -999.0,9,   8.0193,2,     25.0, TS,  -999.00,9,   -999.0,  -999.00,9,  -999.00,9,     0.12,2,     0.10,2,   -999.0,-999.0000, -999,9,  100,  18.3756,  25.0261,   -999.0,9
       KS08-04,  137E,KS-2116,  1,     19,02-19378,2,20080425,1017, 30.0108, 137.0313, 4482,    125.5,  18.2647,  34.8006,2,   -999.0,9,-999.0000,9,    224.0,2,     2.47,2,  -999.00,9,     1.95,2,     0.10,2,     0.12,2, -999.000,9, -999.000,9,  -999.00,9,   2009.4,2,   -999.0,9,   8.0174,2,     25.0, TS,  -999.00,9,   -999.0,  -999.00,9,  -999.00,9,     0.08,2,     0.07,2,   -999.0,-999.0000, -999,9,  125,  18.2430,  25.0592,   -999.0,9
       KS08-04,  137E,KS-2116,  1,     18,02-19377,2,20080425,1016, 30.0108, 137.0313, 4482,    151.7,  18.1374,  34.7954,2,   -999.0,9,-999.0000,9,    226.0,2,     2.59,2,  -999.00,9,     1.95,2,     0.25,2,     0.12,2, -999.000,9, -999.000,9,  -999.00,9,   2007.7,2,   -999.0,9,   8.0156,2,     25.0, TS,  -999.00,9,   -999.0,  -999.00,9,  -999.00,9,     0.06,2,     0.08,2,   -999.0,-999.0000, -999,9,  151,  18.1113,  25.0879,   -999.0,9
       KS08-04,  137E,KS-2116,  1,     17,02-16023,2,20080425,1014, 30.0108, 137.0313, 4482,    201.5,  18.0195,  34.7933,2,   -999.0,9,  34.7921,2,    225.0,2,     2.87,2,  -999.00,9,     2.05,2,     0.12,2,     0.13,2, -999.000,9, -999.000,9,  -999.00,9,   2005.8,2,   -999.0,9,   8.0122,2,     25.0, TS,  -999.00,9,   -999.0,  -999.00,9,  -999.00,9,     0.02,2,     0.05,2,   -999.0,-999.0000, -999,9,  200,  17.9849,  25.1175,   -999.0,9
       KS08-04,  137E,KS-2116,  1,     16,02-16022,2,20080425,1013, 30.0108, 137.0313, 4482,    253.5,  17.1455,  34.7352,2,   -999.0,9,-999.0000,9,    195.0,2,     6.15,2,  -999.00,9,     6.34,2,     0.01,2,     0.37,2, -999.000,9, -999.000,9,  -999.00,9,   2041.8,3,   -999.0,9,   7.9473,2,     25.0, TS,  -999.00,9,   -999.0,  -999.00,9,  -999.00,9,     0.02,2,     0.04,2,   -999.0,-999.0000, -999,9,  252,  17.1034,  25.2864,   -999.0,9
       KS08-04,  137E,KS-2116,  1,     15,02-16021,2,20080425,1011, 30.0108, 137.0313, 4482,    303.2,  16.0059,  34.6678,2,   -999.0,9,  34.6669,2,    187.0,2,     8.85,2,  -999.00,9,     8.68,2,     0.01,2,     0.53,2, -999.000,9, -999.000,9,  -999.00,9,   2063.6,2,   -999.0,9,   7.9063,2,     25.0, TS,  -999.00,9,   -999.0,  -999.00,9,  -999.00,9,     0.01,2,     0.03,2,   -999.0,-999.0000, -999,9,  301,  15.9579,  25.5017,   -999.0,9
       KS08-04,  137E,KS-2116,  1,     14,02-16020,2,20080425,1008, 30.0108, 137.0313, 4482,    405.4,  13.2872,  34.4869,2,   -999.0,9,  34.4891,2,    173.0,2,    18.81,2,  -999.00,9,    14.23,2,     0.00,2,     0.93,2, -999.000,9, -999.000,9,  -999.00,9,   2103.6,2,   -999.0,9,   7.8187,2,     25.0, TS,  -999.00,9,   -999.0,  -999.00,9,  -999.00,9,  -999.00,9,  -999.00,9,   -999.0,-999.0000, -999,9,  402,  13.2305,  25.9490,   -999.0,9
       KS08-04,  137E,KS-2116,  1,     13,02-16019,2,20080425,1005, 30.0108, 137.0313, 4482,    505.2,  11.0522,  34.3452,2,   -999.0,9,  34.3440,2,    162.0,2,    29.23,2,  -999.00,9,    19.00,2,     0.00,2,     1.29,2, -999.000,9, -999.000,9,  -999.00,9,   2134.8,2,   -999.0,9,   7.7408,2,     25.0, TS,  -999.00,9,   -999.0,  -999.00,9,  -999.00,9,  -999.00,9,  -999.00,9,   -999.0,-999.0000, -999,9,  501,  10.9893,  26.2675,   -999.0,9
       KS08-04,  137E,KS-2116,  1,     12,02-16018,2,20080425,1003, 30.0108, 137.0313, 4482,    606.9,   8.1345,  34.1964,2,   -999.0,9,  34.1964,2,    140.0,2,    48.80,2,  -999.00,9,    25.91,2,     0.00,2,     1.82,2, -999.000,9, -999.000,9,  -999.00,9,   2195.0,2,   -999.0,9,   7.6263,2,     25.0, TS,  -999.00,9,   -999.0,  -999.00,9,  -999.00,9,  -999.00,9,  -999.00,9,   -999.0,-999.0000, -999,9,  602,   8.0716,  26.6320,   -999.0,9
       KS08-04,  137E,KS-2116,  1,     11,02-19376,2,20080425,1000, 30.0108, 137.0313, 4482,    707.2,   6.5157,  34.1964,2,   -999.0,9,  34.1965,2,    109.0,2,    68.19,2,  -999.00,9,    31.46,2,     0.00,2,     2.25,2, -999.000,9, -999.000,9,  -999.00,9,   2239.8,2,   -999.0,9,   7.5345,2,     25.0, TS,  -999.00,9,   -999.0,  -999.00,9,  -999.00,9,  -999.00,9,  -999.00,9,   -999.0,-999.0000, -999,9,  701,   6.4505,  26.8596,   -999.0,9
       KS08-04,  137E,KS-2116,  1,     10,02-19375,2,20080425,0957, 30.0108, 137.0313, 4482,    809.3,   5.2546,  34.2497,2,   -999.0,9,  34.2503,2,     82.0,2,    88.69,2,  -999.00,9,    35.83,2,     0.00,2,     2.57,2, -999.000,9, -999.000,9,  -999.00,9,   2284.8,2,   -999.0,9,   7.4683,2,     25.0, TS,  -999.00,9,   -999.0,  -999.00,9,  -999.00,9,  -999.00,9,  -999.00,9,   -999.0,-999.0000, -999,9,  802,   5.1870,  27.0587,   -999.0,9
       KS08-04,  137E,KS-2116,  1,      9,02-16015,2,20080425,0954, 30.0108, 137.0313, 4482,    910.1,   4.3014,  34.3310,2,   -999.0,9,  34.3312,2,     67.0,2,   106.75,2,  -999.00,9,    38.45,2,     0.00,2,     2.76,2, -999.000,9, -999.000,9,  -999.00,9,   2317.0,2,   -999.0,9,   7.4318,2,     25.0, TS,  -999.00,9,   -999.0,  -999.00,9,  -999.00,9,  -999.00,9,  -999.00,9,   -999.0,-999.0000, -999,9,  902,   4.2313,  27.2298,   -999.0,9
       KS08-04,  137E,KS-2116,  1,      8,02-16014,2,20080425,0952, 30.0108, 137.0313, 4482,   1011.4,   3.7208,  34.3870,2,   -999.0,9,  34.3875,2,     64.0,2,   117.99,2,  -999.00,9,    39.62,2,     0.00,2,     2.84,2, -999.000,9, -999.000,9,  -999.00,9,   2326.6,3,   -999.0,9,   7.4285,2,     25.0, TS,  -999.00,9,   -999.0,  -999.00,9,  -999.00,9,  -999.00,9,  -999.00,9,   -999.0,-999.0000, -999,9, 1002,   3.6466,  27.3343,   -999.0,9
       KS08-04,  137E,KS-2116,  1,      7,02-19374,2,20080425,0946, 30.0108, 137.0313, 4482,   1263.1,   2.8586,  34.4870,2,   -999.0,9,  34.4873,2,     70.0,2,   134.18,2,  -999.00,9,    40.00,2,     0.00,2,     2.86,2, -999.000,9, -999.000,9,  -999.00,9,   2349.3,2,   -999.0,9,   7.4406,2,     25.0, TS,  -999.00,9,   -999.0,  -999.00,9,  -999.00,9,  -999.00,9,  -999.00,9,   -999.0,-999.0000, -999,9, 1251,   2.7717,  27.4961,   -999.0,9
       KS08-04,  137E,KS-2116,  1,      6,02-19373,2,20080425,0941, 30.0108, 137.0313, 4482,   1515.5,   2.3654,  34.5444,2,   -999.0,9,  34.5448,2,     80.0,2,   142.48,2,  -999.00,9,    40.09,2,     0.00,2,     2.84,2, -999.000,9, -999.000,9,  -999.00,9,   2359.2,3,   -999.0,9,   7.4571,2,     25.0, TS,  -999.00,9,   -999.0,  -999.00,9,  -999.00,9,  -999.00,9,  -999.00,9,   -999.0,-999.0000, -999,9, 1500,   2.2637,  27.5854,   -999.0,9
       KS08-04,  137E,KS-2116,  1,      5,02-16011,2,20080425,0936, 30.0108, 137.0313, 4482,   1767.1,   2.0966,  34.5881,2,   -999.0,9,  34.5883,2,    101.0,2,   141.91,2,  -999.00,9,    38.73,2,     0.00,2,     2.73,2, -999.000,9, -999.000,9,  -999.00,9,   2347.9,6,   -999.0,9,   7.4951,2,     25.0, TS,  -999.00,9,   -999.0,  -999.00,9,  -999.00,9,  -999.00,9,  -999.00,9,   -999.0,-999.0000, -999,9, 1748,   1.9781,  27.6434,   -999.0,9
       KS08-04,  137E,KS-2116,  1,      4,02-16010,2,20080425,0931, 30.0108, 137.0313, 4482,   2023.9,   1.8857,  34.6193,2,   -999.0,9,  34.6199,2,    116.0,2,   141.93,2,  -999.00,9,    38.05,2,     0.00,2,     2.67,2, -999.000,9, -999.000,9,  -999.00,9,   2346.8,2,   -999.0,9,   7.5237,6,     25.0, TS,  -999.00,9,   -999.0,  -999.00,9,  -999.00,9,  -999.00,9,  -999.00,9,   -999.0,-999.0000, -999,9, 2000,   1.7491,  27.6861,   -999.0,9
       KS08-04,  137E,KS-2116,  1,      3,02-16009,2,20080425,0910, 30.0108, 137.0313, 4482,   3042.5,   1.5561,  34.6697,2,   -999.0,9,  34.6706,2,    146.0,2,   139.43,2,  -999.00,9,    36.29,2,     0.00,2,     2.52,2, -999.000,9, -999.000,9,  -999.00,9,   -999.0,9,   -999.0,9,-999.0000,9,   -999.0,  9,  -999.00,9,   -999.0,  -999.00,9,  -999.00,9,  -999.00,9,  -999.00,9,   -999.0,-999.0000, -999,9, 3000,   1.3340,  27.7570,   -999.0,9
       KS08-04,  137E,KS-2116,  1,      2,02-16008,2,20080425,0851, 30.0108, 137.0313, 4482,   4065.2,   1.5357,  34.6833,2,   -999.0,9,  34.6835,2,    156.0,2,   138.09,2,  -999.00,9,    35.61,2,     0.00,2,     2.45,2, -999.000,9, -999.000,9,  -999.00,9,   -999.0,9,   -999.0,9,-999.0000,9,   -999.0,  9,  -999.00,9,   -999.0,  -999.00,9,  -999.00,9,  -999.00,9,  -999.00,9,   -999.0,-999.0000, -999,9, 3999,   1.2087,  27.7767,   -999.0,9
       KS08-04,  137E,KS-2116,  1,      1,02-16007,2,20080425,0843, 30.0108, 137.0313, 4482,   4480.2,   1.5768,  34.6837,2,   -999.0,9,  34.6844,2,    157.0,2,   137.66,2,  -999.00,9,    35.61,2,     0.00,2,     2.45,2, -999.000,9, -999.000,9,  -999.00,9,   -999.0,9,   -999.0,9,-999.0000,9,   -999.0,  9,  -999.00,9,   -999.0,  -999.00,9,  -999.00,9,  -999.00,9,  -999.00,9,   -999.0,-999.0000, -999,9, 4403,   1.2018,  27.7775,   -999.0,9