BOTTLE,20130510GEMDJMAYT
EXPOCODE,SECT_ID,STNNBR,CASTNO,SAMPNO,BTLNBR,BTLNBR_FLAG_W,DATE,TIME,LATITUDE,LONGITUDE,DEPTH,CTDPRS,CTDTMP,CTDSAL,CTDSAL_FLAG_W,CTDOXY,CTDOXY_FLAG_W,SALNTY,SALNTY_FLAG_W,OXYGEN,OXYGEN_FLAG_W,SILCAT,SILCAT_FLAG_W,NITRAT,NITRAT_FLAG_W,NO2+NO3,NO2+NO3_FLAG_W,NITRIT,NITRIT_FLAG_W,PHSPHT,PHSPHT_FLAG_W,CFC-11,CFC-11_FLAG_W,CFC-12,CFC-12_FLAG_W,DELC13,DELC13_FLAG_W,TCARBN,TCARBN_FLAG_W,ALKALI,ALKALI_FLAG_W,PH,PH_FLAG_W,PH_TMP,PH_SCALE,PH_NBS,PH_NBS_FLAG_W,C13ERR,TOTALP,TOTALP_FLAG_W,AMMONI,AMMONI_FLAG_W,CHLORA,CHLORA_FLAG_W,PPHYTN,PPHYTN_FLAG_W,REVPRS,REVTMP,DEPTH_,DEPTH_FLAG,CTDDEP,THETA,SIGTHT,DOC,DOC_FLAG_W
,,,,,,,GMT,GMT,,,METER,DBAR,ITS-90,PSS-78,,UMOL/KG,,PSS-78,,UMOL/KG,,UMOL/KG,,UMOL/KG,,UMOL/KG,,UMOL/KG,,UMOL/KG,,PMOL/KG,,PMOL/KG,,/MILLE,,UMOL/KG,,UMOL/KG,,25_DEG_C,,DEG_C,,,,/MILLE,UMOL/KG,,UMOL/KG,,UG/L,,UG/L,,DBAR,ITS-90,METERS,,METERS,DEG_C,,UMOL/L,
       KS08-04,  137E,KS-2131,  1,     -9,      -9,5,20080429,1935, 14.9920, 136.9875, 5293,      0.0,  29.1914,  34.1779,2,   -999.0,9,-999.0000,9,    200.0,2,     0.84,2,  -999.00,9,     0.00,2,     0.00,2,     0.00,2, -999.000,9, -999.000,9,  -999.00,9,   -999.0,9,   -999.0,9,   8.1361,2,     25.0, TS,  -999.00,9,   -999.0,  -999.00,9,  -999.00,9,     0.06,2,     0.02,2,   -999.0,-999.0000, -999,9,    0,  29.1912,  21.3831,   -999.0,9
       KS08-04,  137E,KS-2131,  1,     21,02-16027,2,20080429,2001, 14.9920, 136.9875, 5293,     10.0,  29.1932,  34.1775,2,   -999.0,9,  34.1763,2,    200.0,2,     1.20,2,  -999.00,9,     0.00,2,     0.00,2,     0.00,2, -999.000,9, -999.000,9,  -999.00,9,   1899.3,2,   -999.0,9,   8.1334,2,     25.0, TS,  -999.00,9,   -999.0,  -999.00,9,  -999.00,9,     0.07,2,     0.02,2,   -999.0,-999.0000, -999,9,   10,  29.1908,  21.3829,   -999.0,9
       KS08-04,  137E,KS-2131,  1,     20,02-16026,2,20080429,2000, 14.9920, 136.9875, 5293,     25.6,  29.1950,  34.1773,2,   -999.0,9,-999.0000,9,    199.0,2,     0.82,2,  -999.00,9,     0.00,2,     0.00,2,     0.00,2, -999.000,9, -999.000,9,  -999.00,9,   1902.3,2,   -999.0,9,   8.1363,2,     25.0, TS,  -999.00,9,   -999.0,  -999.00,9,  -999.00,9,     0.07,2,     0.02,2,   -999.0,-999.0000, -999,9,   25,  29.1888,  21.3834,   -999.0,9
       KS08-04,  137E,KS-2131,  1,     19,02-19378,2,20080429,1956, 14.9920, 136.9875, 5293,     49.2,  28.4068,  34.1481,2,   -999.0,9,-999.0000,9,    204.0,2,     1.02,2,  -999.00,9,     0.00,2,     0.00,2,     0.01,2, -999.000,9, -999.000,9,  -999.00,9,   1903.5,2,   -999.0,9,   8.1344,2,     25.0, TS,  -999.00,9,   -999.0,  -999.00,9,  -999.00,9,     0.10,2,     0.02,2,   -999.0,-999.0000, -999,9,   49,  28.3951,  21.6248,   -999.0,9
       KS08-04,  137E,KS-2131,  1,     18,02-19377,2,20080429,1954, 14.9920, 136.9875, 5293,     75.1,  28.0577,  34.4738,2,   -999.0,9,-999.0000,9,    205.0,2,     0.91,2,  -999.00,9,     0.00,2,     0.00,2,     0.00,2, -999.000,9, -999.000,9,  -999.00,9,   1919.4,2,   -999.0,9,   8.1336,2,     25.0, TS,  -999.00,9,   -999.0,  -999.00,9,  -999.00,9,     0.12,2,     0.04,2,   -999.0,-999.0000, -999,9,   75,  28.0400,  21.9859,   -999.0,9
       KS08-04,  137E,KS-2131,  1,     17,02-16023,2,20080429,1952, 14.9920, 136.9875, 5293,    101.2,  27.5976,  34.5532,2,   -999.0,9,  34.5495,4,    204.0,2,     0.90,2,  -999.00,9,     0.00,2,     0.00,2,     0.00,2, -999.000,9, -999.000,9,  -999.00,9,   1927.1,2,   -999.0,9,   8.1293,2,     25.0, TS,  -999.00,9,   -999.0,  -999.00,9,  -999.00,9,     0.13,2,     0.05,2,   -999.0,-999.0000, -999,9,  101,  27.5740,  22.1970,   -999.0,9
       KS08-04,  137E,KS-2131,  1,     16,02-16022,2,20080429,1951, 14.9920, 136.9875, 5293,    126.2,  27.2741,  34.6412,2,   -999.0,9,-999.0000,9,    204.0,2,     0.88,2,  -999.00,9,     0.00,2,     0.00,2,     0.00,2, -999.000,9, -999.000,9,  -999.00,9,   1929.2,3,   -999.0,9,   8.1274,2,     25.0, TS,  -999.00,9,   -999.0,  -999.00,9,  -999.00,9,     0.16,2,     0.09,2,   -999.0,-999.0000, -999,9,  125,  27.2450,  22.3692,   -999.0,9
       KS08-04,  137E,KS-2131,  1,     15,02-16021,2,20080429,1949, 14.9920, 136.9875, 5293,    150.9,  26.1453,  35.0403,2,   -999.0,9,-999.0000,9,    191.0,2,     0.98,2,  -999.00,9,     0.10,2,     0.06,2,     0.03,2, -999.000,9, -999.000,9,  -999.00,9,   1984.2,2,   -999.0,9,   8.0801,2,     25.0, TS,  -999.00,9,   -999.0,  -999.00,9,  -999.00,9,     0.11,2,     0.39,2,   -999.0,-999.0000, -999,9,  150,  26.1115,  23.0289,   -999.0,9
       KS08-04,  137E,KS-2131,  1,     14,02-16020,2,20080429,1947, 14.9920, 136.9875, 5293,    202.0,  21.9521,  35.0577,2,   -999.0,9,  35.0571,2,    178.0,2,     1.95,2,  -999.00,9,     2.15,2,     0.01,2,     0.16,2, -999.000,9, -999.000,9,  -999.00,9,   2027.4,2,   -999.0,9,   7.9969,2,     25.0, TS,  -999.00,9,   -999.0,  -999.00,9,  -999.00,9,     0.02,2,     0.04,2,   -999.0,-999.0000, -999,9,  201,  21.9122,  24.2862,   -999.0,9
       KS08-04,  137E,KS-2131,  1,     13,02-16019,2,20080429,1946, 14.9920, 136.9875, 5293,    251.9,  18.8679,  34.8761,2,   -999.0,9,-999.0000,9,    183.0,2,     3.55,2,  -999.00,9,     4.49,2,     0.01,2,     0.29,2, -999.000,9, -999.000,9,  -999.00,9,   2045.6,2,   -999.0,9,   7.9472,2,     25.0, TS,  -999.00,9,   -999.0,  -999.00,9,  -999.00,9,     0.00,2,     0.01,2,   -999.0,-999.0000, -999,9,  250,  18.8232,  24.9714,   -999.0,9
       KS08-04,  137E,KS-2131,  1,     12,02-16018,2,20080429,1944, 14.9920, 136.9875, 5293,    300.3,  16.0727,  34.6528,2,   -999.0,9,  34.6532,2,    184.0,2,     6.82,2,  -999.00,9,     8.00,2,     0.01,2,     0.53,2, -999.000,9, -999.000,9,  -999.00,9,   2067.5,2,   -999.0,9,   7.8929,2,     25.0, TS,  -999.00,9,   -999.0,  -999.00,9,  -999.00,9,     0.00,2,     0.01,2,   -999.0,-999.0000, -999,9,  298,  16.0250,  25.4748,   -999.0,9
       KS08-04,  137E,KS-2131,  1,     11,02-19376,2,20080429,1942, 14.9920, 136.9875, 5293,    402.6,  10.3993,  34.2874,2,   -999.0,9,  34.2861,2,    142.0,2,    26.81,2,  -999.00,9,    21.63,2,     0.01,2,     1.52,2, -999.000,9, -999.000,9,  -999.00,9,   2158.7,2,   -999.0,9,   7.6799,2,     25.0, TS,  -999.00,9,   -999.0,  -999.00,9,  -999.00,9,  -999.00,9,  -999.00,9,   -999.0,-999.0000, -999,9,  400,  10.3513,  26.3352,   -999.0,9
       KS08-04,  137E,KS-2131,  1,     10,02-19375,2,20080429,1939, 14.9920, 136.9875, 5293,    503.0,   8.3615,  34.3169,2,   -999.0,9,  34.3171,2,     88.0,2,    44.72,2,  -999.00,9,    30.49,2,     0.00,2,     2.19,2, -999.000,9, -999.000,9,  -999.00,9,   -999.0,4,   -999.0,9,   7.5406,2,     25.0, TS,  -999.00,9,   -999.0,  -999.00,9,  -999.00,9,  -999.00,9,  -999.00,9,   -999.0,-999.0000, -999,9,  499,   8.3088,  26.6909,   -999.0,9
       KS08-04,  137E,KS-2131,  1,      9,02-16015,2,20080429,1936, 14.9920, 136.9875, 5293,    604.1,   6.3556,  34.3469,2,   -999.0,9,  34.3451,2,     67.0,2,    67.65,2,  -999.00,9,    36.12,2,     0.00,2,     2.61,2, -999.000,9, -999.000,9,  -999.00,9,   2273.5,2,   -999.0,9,   7.4680,2,     25.0, TS,  -999.00,9,   -999.0,  -999.00,9,  -999.00,9,  -999.00,9,  -999.00,9,   -999.0,-999.0000, -999,9,  600,   6.3009,  26.9979,   -999.0,9
       KS08-04,  137E,KS-2131,  1,      8,02-16014,2,20080429,1933, 14.9920, 136.9875, 5293,    703.6,   5.8386,  34.4236,2,   -999.0,9,  34.4231,2,     68.0,2,    74.37,2,  -999.00,9,    37.29,2,     0.00,2,     2.69,2, -999.000,9, -999.000,9,  -999.00,9,   2285.6,2,   -999.0,9,   7.4660,2,     25.0, TS,  -999.00,9,   -999.0,  -999.00,9,  -999.00,9,  -999.00,9,  -999.00,9,   -999.0,-999.0000, -999,9,  698,   5.7771,  27.1252,   -999.0,9
       KS08-04,  137E,KS-2131,  1,      7,02-19374,2,20080429,1931, 14.9920, 136.9875, 5293,    806.4,   5.2329,  34.4836,2,   -999.0,9,  34.4833,2,     75.0,2,    82.03,2,  -999.00,9,    37.87,2,     0.00,2,     2.72,2, -999.000,9, -999.000,9,  -999.00,9,   2290.6,2,   -999.0,9,   7.4850,2,     25.0, TS,  -999.00,9,   -999.0,  -999.00,9,  -999.00,9,  -999.00,9,  -999.00,9,   -999.0,-999.0000, -999,9,  800,   5.1654,  27.2466,   -999.0,9
       KS08-04,  137E,KS-2131,  1,      6,02-19373,2,20080429,1928, 14.9920, 136.9875, 5293,    908.0,   4.7546,  34.5137,2,   -999.0,9,  34.5195,4,     80.0,2,    89.41,2,  -999.00,9,    38.25,2,     0.00,2,     2.74,2, -999.000,9, -999.000,9,  -999.00,9,   2307.0,3,   -999.0,9,   7.4883,2,     25.0, TS,  -999.00,9,   -999.0,  -999.00,9,  -999.00,9,  -999.00,9,  -999.00,9,   -999.0,-999.0000, -999,9,  901,   4.6812,  27.3259,   -999.0,9
       KS08-04,  137E,KS-2131,  1,      5,02-16011,2,20080429,1925, 14.9920, 136.9875, 5293,   1008.1,   4.2895,  34.5333,2,   -999.0,9,  34.5326,2,     84.0,2,    98.00,2,  -999.00,9,    38.54,2,     0.00,2,     2.75,2, -999.000,9, -999.000,9,  -999.00,9,   2310.6,2,   -999.0,9,   7.4912,2,     25.0, TS,  -999.00,9,   -999.0,  -999.00,9,  -999.00,9,  -999.00,9,  -999.00,9,   -999.0,-999.0000, -999,9, 1000,   4.2109,  27.3928,   -999.0,9
       KS08-04,  137E,KS-2131,  1,      4,02-16010,2,20080429,1920, 14.9920, 136.9875, 5293,   1259.8,   3.3973,  34.5613,2,   -999.0,9,  34.5617,2,     92.0,2,   116.08,2,  -999.00,9,    38.64,2,     0.00,2,     2.75,2, -999.000,9, -999.000,9,  -999.00,9,   2322.4,2,   -999.0,9,   7.4984,2,     25.0, TS,  -999.00,9,   -999.0,  -999.00,9,  -999.00,9,  -999.00,9,  -999.00,9,   -999.0,-999.0000, -999,9, 1249,   3.3052,  27.5064,   -999.0,9
       KS08-04,  137E,KS-2131,  1,      3,02-16009,2,20080429,1914, 14.9920, 136.9875, 5293,   1513.7,   2.7849,  34.5856,2,   -999.0,9,  34.5848,2,     99.0,2,   128.00,2,  -999.00,9,    38.63,2,     0.00,2,     2.74,2, -999.000,9, -999.000,9,  -999.00,9,   2335.6,2,   -999.0,9,   7.5058,2,     25.0, TS,  -999.00,9,   -999.0,  -999.00,9,  -999.00,9,  -999.00,9,  -999.00,9,   -999.0,-999.0000, -999,9, 1499,   2.6784,  27.5831,   -999.0,9
       KS08-04,  137E,KS-2131,  1,      2,02-16008,2,20080429,1908, 14.9920, 136.9875, 5293,   1768.4,   2.3803,  34.6077,2,   -999.0,9,  34.6080,2,    106.0,2,   134.64,2,  -999.00,9,    38.54,2,     0.00,2,     2.71,2, -999.000,9, -999.000,9,  -999.00,9,   2340.6,6,   -999.0,9,   7.5139,2,     25.0, TS,  -999.00,9,   -999.0,  -999.00,9,  -999.00,9,  -999.00,9,  -999.00,9,   -999.0,-999.0000, -999,9, 1751,   2.2578,  27.6365,   -999.0,9
       KS08-04,  137E,KS-2131,  1,      1,02-16007,2,20080429,1903, 14.9920, 136.9875, 5293,   2026.4,   2.0761,  34.6279,2,   -999.0,9,  34.6289,2,    114.0,2,   139.02,2,  -999.00,9,    38.24,2,     0.00,2,     2.69,2, -999.000,9, -999.000,9,  -999.00,9,   2340.5,2,   -999.0,9,   7.5279,6,     25.0, TS,  -999.00,9,   -999.0,  -999.00,9,  -999.00,9,  -999.00,9,  -999.00,9,   -999.0,-999.0000, -999,9, 2005,   1.9363,  27.6785,   -999.0,9