BOTTLE,20130510GEMDJMAYT
EXPOCODE,SECT_ID,STNNBR,CASTNO,SAMPNO,BTLNBR,BTLNBR_FLAG_W,DATE,TIME,LATITUDE,LONGITUDE,DEPTH,CTDPRS,CTDTMP,CTDSAL,CTDSAL_FLAG_W,CTDOXY,CTDOXY_FLAG_W,SALNTY,SALNTY_FLAG_W,OXYGEN,OXYGEN_FLAG_W,SILCAT,SILCAT_FLAG_W,NITRAT,NITRAT_FLAG_W,NO2+NO3,NO2+NO3_FLAG_W,NITRIT,NITRIT_FLAG_W,PHSPHT,PHSPHT_FLAG_W,CFC-11,CFC-11_FLAG_W,CFC-12,CFC-12_FLAG_W,DELC13,DELC13_FLAG_W,TCARBN,TCARBN_FLAG_W,ALKALI,ALKALI_FLAG_W,PH,PH_FLAG_W,PH_TMP,PH_SCALE,PH_NBS,PH_NBS_FLAG_W,C13ERR,TOTALP,TOTALP_FLAG_W,AMMONI,AMMONI_FLAG_W,CHLORA,CHLORA_FLAG_W,PPHYTN,PPHYTN_FLAG_W,REVPRS,REVTMP,DEPTH_,DEPTH_FLAG,CTDDEP,THETA,SIGTHT,DOC,DOC_FLAG_W
,,,,,,,GMT,GMT,,,METER,DBAR,ITS-90,PSS-78,,UMOL/KG,,PSS-78,,UMOL/KG,,UMOL/KG,,UMOL/KG,,UMOL/KG,,UMOL/KG,,UMOL/KG,,PMOL/KG,,PMOL/KG,,/MILLE,,UMOL/KG,,UMOL/KG,,25_DEG_C,,DEG_C,,,,/MILLE,UMOL/KG,,UMOL/KG,,UG/L,,UG/L,,DBAR,ITS-90,METERS,,METERS,DEG_C,,UMOL/L,
       KS08-04,  137E,KS-2136,  1,     -9,      -9,5,20080501,0338, 10.0020, 136.9673, 4960,      0.0,  29.1743,  34.2102,2,   -999.0,9,-999.0000,9,    200.0,2,     1.31,2,  -999.00,9,     0.00,2,     0.00,2,     0.03,2, -999.000,9, -999.000,9,  -999.00,9,   -999.0,9,   -999.0,9,   8.1230,2,     25.0, TS,  -999.00,9,   -999.0,  -999.00,9,  -999.00,9,     0.04,2,     0.01,2,   -999.0,-999.0000, -999,9,    0,  29.1741,  21.4130,   -999.0,9
       KS08-04,  137E,KS-2136,  1,     21,02-16027,2,20080501,0407, 10.0020, 136.9673, 4960,     10.4,  29.1104,  34.2080,2,   -999.0,9,  34.2087,2,    199.0,2,     1.35,2,  -999.00,9,     0.00,2,     0.00,2,     0.03,2, -999.000,9, -999.000,9,  -999.00,9,   1909.0,2,   -999.0,9,   8.1211,2,     25.0, TS,  -999.00,9,   -999.0,  -999.00,9,  -999.00,9,     0.04,2,     0.01,2,   -999.0,-999.0000, -999,9,   10,  29.1079,  21.4336,   -999.0,9
       KS08-04,  137E,KS-2136,  1,     20,02-16026,2,20080501,0406, 10.0020, 136.9673, 4960,     25.5,  28.9841,  34.2205,2,   -999.0,9,-999.0000,9,    200.0,2,     1.18,2,  -999.00,9,     0.00,2,     0.00,2,     0.03,2, -999.000,9, -999.000,9,  -999.00,9,   1914.3,2,   -999.0,9,   8.1211,2,     25.0, TS,  -999.00,9,   -999.0,  -999.00,9,  -999.00,9,     0.05,2,     0.01,2,   -999.0,-999.0000, -999,9,   25,  28.9780,  21.4863,   -999.0,9
       KS08-04,  137E,KS-2136,  1,     19,02-19378,2,20080501,0403, 10.0020, 136.9673, 4960,     50.8,  28.6138,  34.2366,2,   -999.0,9,-999.0000,9,    200.0,2,     1.18,2,  -999.00,9,     0.00,2,     0.00,2,     0.03,2, -999.000,9, -999.000,9,  -999.00,9,   1907.9,2,   -999.0,9,   8.1213,2,     25.0, TS,  -999.00,9,   -999.0,  -999.00,9,  -999.00,9,     0.06,2,     0.02,2,   -999.0,-999.0000, -999,9,   51,  28.6017,  21.6233,   -999.0,9
       KS08-04,  137E,KS-2136,  1,     18,02-19377,2,20080501,0402, 10.0020, 136.9673, 4960,     75.7,  28.2654,  34.3690,2,   -999.0,9,-999.0000,9,    199.0,2,     1.22,2,  -999.00,9,     0.00,2,     0.00,2,     0.05,2, -999.000,9, -999.000,9,  -999.00,9,   1926.0,2,   -999.0,9,   8.1126,2,     25.0, TS,  -999.00,9,   -999.0,  -999.00,9,  -999.00,9,     0.12,2,     0.07,2,   -999.0,-999.0000, -999,9,   75,  28.2475,  21.8393,   -999.0,9
       KS08-04,  137E,KS-2136,  1,     17,02-16023,2,20080501,0400, 10.0020, 136.9673, 4960,    101.1,  28.0330,  34.4128,2,   -999.0,9,  34.4139,2,    199.0,2,     1.21,2,  -999.00,9,     0.00,2,     0.00,2,     0.06,2, -999.000,9, -999.000,9,  -999.00,9,   1928.5,2,   -999.0,9,   8.1095,2,     25.0, TS,  -999.00,9,   -999.0,  -999.00,9,  -999.00,9,     0.17,2,     0.11,2,   -999.0,-999.0000, -999,9,  101,  28.0092,  21.9502,   -999.0,9
       KS08-04,  137E,KS-2136,  1,     16,02-16022,2,20080501,0359, 10.0020, 136.9673, 4960,    125.6,  26.8571,  34.5896,2,   -999.0,9,-999.0000,9,    194.0,2,     1.57,2,  -999.00,9,     0.20,2,     0.02,2,     0.10,2, -999.000,9, -999.000,9,  -999.00,9,   1969.5,2,   -999.0,9,   8.0811,2,     25.0, TS,  -999.00,9,   -999.0,  -999.00,9,  -999.00,9,     0.27,2,     0.31,2,   -999.0,-999.0000, -999,9,  125,  26.8284,  22.4633,   -999.0,9
       KS08-04,  137E,KS-2136,  1,     15,02-16021,2,20080501,0358, 10.0020, 136.9673, 4960,    151.1,  22.6100,  34.7562,2,   -999.0,9,-999.0000,9,    164.0,2,     4.40,2,  -999.00,9,     4.69,2,     0.11,2,     0.39,2, -999.000,9, -999.000,9,  -999.00,9,   2033.0,2,   -999.0,9,   7.9634,2,     25.0, TS,  -999.00,9,   -999.0,  -999.00,9,  -999.00,9,     0.12,2,     0.28,2,   -999.0,-999.0000, -999,9,  150,  22.5796,  23.8690,   -999.0,9
       KS08-04,  137E,KS-2136,  1,     14,02-16020,2,20080501,0356, 10.0020, 136.9673, 4960,    201.8,  16.1570,  34.6489,2,   -999.0,9,  34.6490,2,    149.0,2,    11.19,2,  -999.00,9,    12.38,2,     0.00,2,     0.87,2, -999.000,9, -999.000,9,  -999.00,9,   2103.6,2,   -999.0,9,   7.8256,2,     25.0, TS,  -999.00,9,   -999.0,  -999.00,9,  -999.00,9,     0.02,2,     0.06,2,   -999.0,-999.0000, -999,9,  201,  16.1249,  25.4489,   -999.0,9
       KS08-04,  137E,KS-2136,  1,     13,02-16019,2,20080501,0354, 10.0020, 136.9673, 4960,    254.2,  13.2511,  34.5399,2,   -999.0,9,-999.0000,9,    119.0,2,    20.11,2,  -999.00,9,    19.98,2,     0.00,2,     1.40,2, -999.000,9, -999.000,9,  -999.00,9,   2147.6,2,   -999.0,9,   7.7127,2,     25.0, TS,  -999.00,9,   -999.0,  -999.00,9,  -999.00,9,     0.01,2,     0.02,2,   -999.0,-999.0000, -999,9,  253,  13.2158,  25.9930,   -999.0,9
       KS08-04,  137E,KS-2136,  1,     12,02-16018,2,20080501,0351, 10.0020, 136.9673, 4960,    303.1,  11.3350,  34.4836,2,   -999.0,9,  34.4826,2,    102.0,2,    26.72,2,  -999.00,9,    24.65,2,     0.00,2,     1.74,2, -999.000,9, -999.000,9,  -999.00,9,   2184.4,2,   -999.0,9,   7.6388,2,     25.0, TS,  -999.00,9,   -999.0,  -999.00,9,  -999.00,9,     0.00,2,     0.02,2,   -999.0,-999.0000, -999,9,  301,  11.2969,  26.3194,   -999.0,9
       KS08-04,  137E,KS-2136,  1,     11,02-19376,2,20080501,0347, 10.0020, 136.9673, 4960,    404.8,   9.0661,  34.5327,2,   -999.0,9,  34.5305,2,     76.0,2,    38.77,2,  -999.00,9,    31.75,2,     0.00,2,     2.24,2, -999.000,9, -999.000,9,  -999.00,9,   2229.4,2,   -999.0,9,   7.5445,2,     25.0, TS,  -999.00,9,   -999.0,  -999.00,9,  -999.00,9,  -999.00,9,  -999.00,9,   -999.0,-999.0000, -999,9,  402,   9.0217,  26.7488,   -999.0,9
       KS08-04,  137E,KS-2136,  1,     10,02-19375,2,20080501,0343, 10.0020, 136.9673, 4960,    505.4,   7.8430,  34.5269,2,   -999.0,9,  34.5254,2,     83.0,2,    45.42,2,  -999.00,9,    33.40,2,     0.00,2,     2.36,2, -999.000,9, -999.000,9,  -999.00,9,   2238.9,2,   -999.0,9,   7.5361,2,     25.0, TS,  -999.00,9,   -999.0,  -999.00,9,  -999.00,9,  -999.00,9,  -999.00,9,   -999.0,-999.0000, -999,9,  502,   7.7918,  26.9331,   -999.0,9
       KS08-04,  137E,KS-2136,  1,      9,02-16015,2,20080501,0339, 10.0020, 136.9673, 4960,    607.4,   6.9409,  34.5226,2,   -999.0,9,  34.5214,2,     87.0,2,    52.71,2,  -999.00,9,    34.86,2,     0.00,2,     2.46,2, -999.000,9, -999.000,9,  -999.00,9,   2253.7,2,   -999.0,9,   7.5287,2,     25.0, TS,  -999.00,9,   -999.0,  -999.00,9,  -999.00,9,  -999.00,9,  -999.00,9,   -999.0,-999.0000, -999,9,  603,   6.8830,  27.0588,   -999.0,9
       KS08-04,  137E,KS-2136,  1,      8,02-16014,2,20080501,0335, 10.0020, 136.9673, 4960,    706.2,   6.3905,  34.5250,2,   -999.0,9,  34.5238,2,     86.0,2,    59.69,2,  -999.00,9,    35.83,2,     0.00,2,     2.56,2, -999.000,9, -999.000,9,  -999.00,9,   2263.3,2,   -999.0,9,   7.5170,2,     25.0, TS,  -999.00,9,   -999.0,  -999.00,9,  -999.00,9,  -999.00,9,  -999.00,9,   -999.0,-999.0000, -999,9,  701,   6.3257,  27.1354,   -999.0,9
       KS08-04,  137E,KS-2136,  1,      7,02-19374,2,20080501,0331, 10.0020, 136.9673, 4960,    806.1,   5.9149,  34.5217,2,   -999.0,9,  34.5207,2,     89.0,2,    65.20,2,  -999.00,9,    36.51,2,     0.00,2,     2.59,2, -999.000,9, -999.000,9,  -999.00,9,   2272.3,2,   -999.0,9,   7.5138,2,     25.0, TS,  -999.00,9,   -999.0,  -999.00,9,  -999.00,9,  -999.00,9,  -999.00,9,   -999.0,-999.0000, -999,9,  800,   5.8432,  27.1945,   -999.0,9
       KS08-04,  137E,KS-2136,  1,      6,02-19373,2,20080501,0327, 10.0020, 136.9673, 4960,    908.5,   5.4026,  34.5291,2,   -999.0,9,  34.5285,2,     86.0,2,    74.90,2,  -999.00,9,    37.48,2,     0.00,2,     2.68,2, -999.000,9, -999.000,9,  -999.00,9,   2283.5,2,   -999.0,9,   7.5044,2,     25.0, TS,  -999.00,9,   -999.0,  -999.00,9,  -999.00,9,  -999.00,9,  -999.00,9,   -999.0,-999.0000, -999,9,  901,   5.3247,  27.2638,   -999.0,9
       KS08-04,  137E,KS-2136,  1,      5,02-16011,2,20080501,0324, 10.0020, 136.9673, 4960,   1009.9,   4.8341,  34.5376,2,   -999.0,9,  34.5373,2,     85.0,2,    85.89,2,  -999.00,9,    38.35,2,     0.00,2,     2.74,2, -999.000,9, -999.000,9,  -999.00,9,   2298.1,2,   -999.0,9,   7.4974,2,     25.0, TS,  -999.00,9,   -999.0,  -999.00,9,  -999.00,9,  -999.00,9,  -999.00,9,   -999.0,-999.0000, -999,9, 1002,   4.7511,  27.3370,   -999.0,9
       KS08-04,  137E,KS-2136,  1,      4,02-16010,2,20080501,0317, 10.0020, 136.9673, 4960,   1263.0,   3.6886,  34.5672,2,   -999.0,9,  34.5669,2,     89.0,2,   108.74,2,  -999.00,9,    39.03,2,     0.00,2,     2.79,2, -999.000,9, -999.000,9,  -999.00,9,   2319.9,2,   -999.0,9,   7.4962,2,     25.0, TS,  -999.00,9,   -999.0,  -999.00,9,  -999.00,9,  -999.00,9,  -999.00,9,   -999.0,-999.0000, -999,9, 1252,   3.5934,  27.4831,   -999.0,9
       KS08-04,  137E,KS-2136,  1,      3,02-16009,2,20080501,0311, 10.0020, 136.9673, 4960,   1514.8,   2.9657,  34.5908,2,   -999.0,9,  34.5909,2,     97.0,2,   123.61,2,  -999.00,9,    39.12,2,     0.00,2,     2.77,2, -999.000,9, -999.000,9,  -999.00,9,   2336.0,2,   -999.0,9,   7.5048,2,     25.0, TS,  -999.00,9,   -999.0,  -999.00,9,  -999.00,9,  -999.00,9,  -999.00,9,   -999.0,-999.0000, -999,9, 1501,   2.8570,  27.5714,   -999.0,9
       KS08-04,  137E,KS-2136,  1,      2,02-16008,2,20080501,0306, 10.0020, 136.9673, 4960,   1766.5,   2.5119,  34.6142,2,   -999.0,9,  34.6150,2,    108.0,2,   130.66,2,  -999.00,9,    38.63,2,     0.00,2,     2.72,2, -999.000,9, -999.000,9,  -999.00,9,   2339.9,6,   -999.0,9,   7.5179,2,     25.0, TS,  -999.00,9,   -999.0,  -999.00,9,  -999.00,9,  -999.00,9,  -999.00,9,   -999.0,-999.0000, -999,9, 1749,   2.3878,  27.6309,   -999.0,9
       KS08-04,  137E,KS-2136,  1,      1,02-16007,2,20080501,0302, 10.0020, 136.9673, 4960,   2024.1,   2.2061,  34.6315,2,   -999.0,9,  34.6324,2,    115.0,2,   135.70,2,  -999.00,9,    38.24,2,     0.00,2,     2.70,2, -999.000,9, -999.000,9,  -999.00,9,   2342.4,2,   -999.0,9,   7.5330,6,     25.0, TS,  -999.00,9,   -999.0,  -999.00,9,  -999.00,9,  -999.00,9,  -999.00,9,   -999.0,-999.0000, -999,9, 2003,   2.0645,  27.6713,   -999.0,9