BOTTLE,20130510GEMDJMAYT
EXPOCODE,SECT_ID,STNNBR,CASTNO,SAMPNO,BTLNBR,BTLNBR_FLAG_W,DATE,TIME,LATITUDE,LONGITUDE,DEPTH,CTDPRS,CTDTMP,CTDSAL,CTDSAL_FLAG_W,CTDOXY,CTDOXY_FLAG_W,SALNTY,SALNTY_FLAG_W,OXYGEN,OXYGEN_FLAG_W,SILCAT,SILCAT_FLAG_W,NITRAT,NITRAT_FLAG_W,NO2+NO3,NO2+NO3_FLAG_W,NITRIT,NITRIT_FLAG_W,PHSPHT,PHSPHT_FLAG_W,CFC-11,CFC-11_FLAG_W,CFC-12,CFC-12_FLAG_W,DELC13,DELC13_FLAG_W,TCARBN,TCARBN_FLAG_W,ALKALI,ALKALI_FLAG_W,PH,PH_FLAG_W,PH_TMP,PH_SCALE,PH_NBS,PH_NBS_FLAG_W,C13ERR,TOTALP,TOTALP_FLAG_W,AMMONI,AMMONI_FLAG_W,CHLORA,CHLORA_FLAG_W,PPHYTN,PPHYTN_FLAG_W,REVPRS,REVTMP,DEPTH_,DEPTH_FLAG,CTDDEP,THETA,SIGTHT,DOC,DOC_FLAG_W
,,,,,,,GMT,GMT,,,METER,DBAR,ITS-90,PSS-78,,UMOL/KG,,PSS-78,,UMOL/KG,,UMOL/KG,,UMOL/KG,,UMOL/KG,,UMOL/KG,,UMOL/KG,,PMOL/KG,,PMOL/KG,,/MILLE,,UMOL/KG,,UMOL/KG,,25_DEG_C,,DEG_C,,,,/MILLE,UMOL/KG,,UMOL/KG,,UG/L,,UG/L,,DBAR,ITS-90,METERS,,METERS,DEG_C,,UMOL/L,
       KS08-04,  137E,KS-2143,  1,     -9,      -9,5,20080503,1040,  2.9427, 137.0197, 4539,      0.0,  29.6192,  34.4471,2,   -999.0,9,-999.0000,9,    197.0,2,     1.16,2,  -999.00,9,     0.00,2,     0.00,2,     0.08,2, -999.000,9, -999.000,9,  -999.00,9,   -999.0,9,   -999.0,9,   8.1369,2,     25.0, TS,  -999.00,9,   -999.0,  -999.00,9,  -999.00,9,     0.07,2,     0.03,2,   -999.0,-999.0000, -999,9,    0,  29.6190,  21.4411,   -999.0,9
       KS08-04,  137E,KS-2143,  1,     21,02-16027,2,20080503,1102,  2.9427, 137.0197, 4539,     10.6,  29.6548,  34.4475,2,   -999.0,9,  34.4469,2,    197.0,2,     1.46,2,  -999.00,9,     0.00,2,     0.00,2,     0.07,2, -999.000,9, -999.000,9,  -999.00,9,   -999.0,9,   -999.0,9,-999.0000,9,   -999.0,  9,  -999.00,9,   -999.0,  -999.00,9,  -999.00,9,     0.07,2,     0.02,2,   -999.0,-999.0000, -999,9,   11,  29.6522,  21.4301,   -999.0,9
       KS08-04,  137E,KS-2143,  1,     20,02-16026,2,20080503,1101,  2.9427, 137.0197, 4539,     25.5,  29.5928,  34.4463,2,   -999.0,9,-999.0000,9,    197.0,2,     1.48,2,  -999.00,9,     0.00,2,     0.00,2,     0.07,2, -999.000,9, -999.000,9,  -999.00,9,   -999.0,9,   -999.0,9,-999.0000,9,   -999.0,  9,  -999.00,9,   -999.0,  -999.00,9,  -999.00,9,     0.06,2,     0.03,2,   -999.0,-999.0000, -999,9,   25,  29.5865,  21.4514,   -999.0,9
       KS08-04,  137E,KS-2143,  1,     19,02-19378,2,20080503,1057,  2.9427, 137.0197, 4539,     51.7,  28.9359,  34.8100,2,   -999.0,9,-999.0000,9,    193.0,2,     1.51,2,  -999.00,9,     0.00,2,     0.00,2,     0.13,2, -999.000,9, -999.000,9,  -999.00,9,   -999.0,9,   -999.0,9,-999.0000,9,   -999.0,  9,  -999.00,9,   -999.0,  -999.00,9,  -999.00,9,     0.17,2,     0.11,2,   -999.0,-999.0000, -999,9,   51,  28.9234,  21.9470,   -999.0,9
       KS08-04,  137E,KS-2143,  1,     18,02-19377,2,20080503,1056,  2.9427, 137.0197, 4539,     76.2,  28.4899,  35.1912,2,   -999.0,9,-999.0000,9,    172.0,2,     1.64,2,  -999.00,9,     2.35,2,     0.73,2,     0.30,2, -999.000,9, -999.000,9,  -999.00,9,   -999.0,9,   -999.0,9,-999.0000,9,   -999.0,  9,  -999.00,9,   -999.0,  -999.00,9,  -999.00,9,     0.21,2,     0.36,2,   -999.0,-999.0000, -999,9,   76,  28.4717,  22.3833,   -999.0,9
       KS08-04,  137E,KS-2143,  1,     17,02-16023,2,20080503,1056,  2.9427, 137.0197, 4539,    100.8,  27.6536,  35.1080,2,   -999.0,9,  35.1105,2,    157.0,2,     2.20,2,  -999.00,9,     4.60,2,     0.08,2,     0.40,2, -999.000,9, -999.000,9,  -999.00,9,   -999.0,9,   -999.0,9,-999.0000,9,   -999.0,  9,  -999.00,9,   -999.0,  -999.00,9,  -999.00,9,     0.10,2,     0.27,2,   -999.0,-999.0000, -999,9,  100,  27.6301,  22.5963,   -999.0,9
       KS08-04,  137E,KS-2143,  1,     16,02-16022,2,20080503,1055,  2.9427, 137.0197, 4539,    125.7,  27.3654,  35.3472,2,   -999.0,9,-999.0000,9,    156.0,2,     2.17,2,  -999.00,9,     5.57,2,     0.04,2,     0.48,2, -999.000,9, -999.000,9,  -999.00,9,   -999.0,9,   -999.0,9,-999.0000,9,   -999.0,  9,  -999.00,9,   -999.0,  -999.00,9,  -999.00,9,     0.05,2,     0.15,2,   -999.0,-999.0000, -999,9,  125,  27.3362,  22.8713,   -999.0,9
       KS08-04,  137E,KS-2143,  1,     15,02-16021,2,20080503,1054,  2.9427, 137.0197, 4539,    152.5,  26.1999,  35.2418,2,   -999.0,9,-999.0000,9,    145.0,2,     2.99,2,  -999.00,9,     6.94,2,     0.02,2,     0.54,2, -999.000,9, -999.000,9,  -999.00,9,   -999.0,9,   -999.0,9,-999.0000,9,   -999.0,  9,  -999.00,9,   -999.0,  -999.00,9,  -999.00,9,     0.02,2,     0.07,2,   -999.0,-999.0000, -999,9,  152,  26.1656,  23.1640,   -999.0,9
       KS08-04,  137E,KS-2143,  1,     14,02-16020,2,20080503,1052,  2.9427, 137.0197, 4539,    201.2,  22.8841,  35.0557,2,   -999.0,9,  35.0649,4,    139.0,2,     5.34,2,  -999.00,9,     8.79,2,     0.01,2,     0.62,2, -999.000,9, -999.000,9,  -999.00,9,   -999.0,9,   -999.0,9,-999.0000,9,   -999.0,  9,  -999.00,9,   -999.0,  -999.00,9,  -999.00,9,     0.01,2,     0.03,2,   -999.0,-999.0000, -999,9,  200,  22.8431,  24.0210,   -999.0,9
       KS08-04,  137E,KS-2143,  1,     13,02-16019,2,20080503,1051,  2.9427, 137.0197, 4539,    251.1,  16.3505,  34.6935,2,   -999.0,9,-999.0000,9,    147.0,2,    12.21,2,  -999.00,9,    12.97,2,     0.00,2,     0.89,2, -999.000,9, -999.000,9,  -999.00,9,   -999.0,9,   -999.0,9,-999.0000,9,   -999.0,  9,  -999.00,9,   -999.0,  -999.00,9,  -999.00,9,     0.00,2,     0.02,2,   -999.0,-999.0000, -999,9,  250,  16.3102,  25.4406,   -999.0,9
       KS08-04,  137E,KS-2143,  1,     12,02-16018,2,20080503,1049,  2.9427, 137.0197, 4539,    302.1,  11.4788,  34.5331,2,   -999.0,9,  34.5368,2,     99.0,2,    27.53,2,  -999.00,9,    25.04,2,     0.00,2,     1.75,2, -999.000,9, -999.000,9,  -999.00,9,   -999.0,9,   -999.0,9,-999.0000,9,   -999.0,  9,  -999.00,9,   -999.0,  -999.00,9,  -999.00,9,     0.00,2,     0.02,2,   -999.0,-999.0000, -999,9,  300,  11.4405,  26.3314,   -999.0,9
       KS08-04,  137E,KS-2143,  1,     11,02-19376,2,20080503,1047,  2.9427, 137.0197, 4539,    402.5,   8.6706,  34.5983,2,   -999.0,9,  34.5970,2,     64.0,2,    38.55,2,  -999.00,9,    33.69,2,     0.00,2,     2.37,2, -999.000,9, -999.000,9,  -999.00,9,   -999.0,9,   -999.0,9,-999.0000,9,   -999.0,  9,  -999.00,9,   -999.0,  -999.00,9,  -999.00,9,  -999.00,9,  -999.00,9,   -999.0,-999.0000, -999,9,  400,   8.6276,  26.8624,   -999.0,9
       KS08-04,  137E,KS-2143,  1,     10,02-19375,2,20080503,1045,  2.9427, 137.0197, 4539,    503.0,   7.8662,  34.5730,2,   -999.0,9,  34.5725,2,     72.0,2,    43.23,2,  -999.00,9,    34.57,2,     0.00,2,     2.43,2, -999.000,9, -999.000,9,  -999.00,9,   -999.0,9,   -999.0,9,-999.0000,9,   -999.0,  9,  -999.00,9,   -999.0,  -999.00,9,  -999.00,9,  -999.00,9,  -999.00,9,   -999.0,-999.0000, -999,9,  500,   7.8151,  26.9659,   -999.0,9
       KS08-04,  137E,KS-2143,  1,      9,02-16015,2,20080503,1042,  2.9427, 137.0197, 4539,    604.0,   6.7274,  34.5313,2,   -999.0,9,  34.5309,2,     84.0,2,    54.66,2,  -999.00,9,    35.54,2,     0.00,2,     2.51,2, -999.000,9, -999.000,9,  -999.00,9,   -999.0,9,   -999.0,9,-999.0000,9,   -999.0,  9,  -999.00,9,   -999.0,  -999.00,9,  -999.00,9,  -999.00,9,  -999.00,9,   -999.0,-999.0000, -999,9,  600,   6.6708,  27.0945,   -999.0,9
       KS08-04,  137E,KS-2143,  1,      8,02-16014,2,20080503,1039,  2.9427, 137.0197, 4539,    704.8,   6.0889,  34.5310,2,   -999.0,9,  34.5315,2,     90.0,2,    60.75,2,  -999.00,9,    36.12,2,     0.00,2,     2.56,2, -999.000,9, -999.000,9,  -999.00,9,   -999.0,9,   -999.0,9,-999.0000,9,   -999.0,  9,  -999.00,9,   -999.0,  -999.00,9,  -999.00,9,  -999.00,9,  -999.00,9,   -999.0,-999.0000, -999,9,  700,   6.0258,  27.1788,   -999.0,9
       KS08-04,  137E,KS-2143,  1,      7,02-19374,2,20080503,1037,  2.9427, 137.0197, 4539,    805.5,   5.5337,  34.5379,2,   -999.0,9,  34.5388,2,     86.0,2,    69.28,2,  -999.00,9,    37.48,2,     0.00,2,     2.67,2, -999.000,9, -999.000,9,  -999.00,9,   -999.0,9,   -999.0,9,-999.0000,9,   -999.0,  9,  -999.00,9,   -999.0,  -999.00,9,  -999.00,9,  -999.00,9,  -999.00,9,   -999.0,-999.0000, -999,9,  800,   5.4644,  27.2540,   -999.0,9
       KS08-04,  137E,KS-2143,  1,      6,02-19373,2,20080503,1034,  2.9427, 137.0197, 4539,    907.1,   4.8812,  34.5467,2,   -999.0,9,  34.5469,2,     91.0,2,    80.06,2,  -999.00,9,    37.86,2,     0.00,2,     2.70,2, -999.000,9, -999.000,9,  -999.00,9,   -999.0,9,   -999.0,9,-999.0000,9,   -999.0,  9,  -999.00,9,   -999.0,  -999.00,9,  -999.00,9,  -999.00,9,  -999.00,9,   -999.0,-999.0000, -999,9,  900,   4.8070,  27.3380,   -999.0,9
       KS08-04,  137E,KS-2143,  1,      5,02-16011,2,20080503,1032,  2.9427, 137.0197, 4539,   1007.8,   4.2932,  34.5594,2,   -999.0,9,  34.5596,2,     90.0,2,    92.78,2,  -999.00,9,    38.35,2,     0.00,2,     2.74,2, -999.000,9, -999.000,9,  -999.00,9,   -999.0,9,   -999.0,9,-999.0000,9,   -999.0,  9,  -999.00,9,   -999.0,  -999.00,9,  -999.00,9,  -999.00,9,  -999.00,9,   -999.0,-999.0000, -999,9, 1000,   4.2145,  27.4131,   -999.0,9
       KS08-04,  137E,KS-2143,  1,      4,02-16010,2,20080503,1026,  2.9427, 137.0197, 4539,   1259.4,   3.5913,  34.5806,2,   -999.0,9,  34.5802,2,     97.0,2,   105.64,2,  -999.00,9,    38.64,2,     0.00,2,     2.74,2, -999.000,9, -999.000,9,  -999.00,9,   -999.0,9,   -999.0,9,-999.0000,9,   -999.0,  9,  -999.00,9,   -999.0,  -999.00,9,  -999.00,9,  -999.00,9,  -999.00,9,   -999.0,-999.0000, -999,9, 1249,   3.4973,  27.5032,   -999.0,9
       KS08-04,  137E,KS-2143,  1,      3,02-16009,2,20080503,1021,  2.9427, 137.0197, 4539,   1514.1,   2.9950,  34.6017,2,   -999.0,9,  34.6016,2,    102.0,2,   118.14,2,  -999.00,9,    38.73,2,     0.00,2,     2.74,2, -999.000,9, -999.000,9,  -999.00,9,   -999.0,9,   -999.0,9,-999.0000,9,   -999.0,  9,  -999.00,9,   -999.0,  -999.00,9,  -999.00,9,  -999.00,9,  -999.00,9,   -999.0,-999.0000, -999,9, 1500,   2.8860,  27.5775,   -999.0,9
       KS08-04,  137E,KS-2143,  1,      2,02-16008,2,20080503,1016,  2.9427, 137.0197, 4539,   1768.2,   2.5826,  34.6190,2,   -999.0,9,  34.6195,2,    109.0,2,   126.50,2,  -999.00,9,    38.54,2,     0.00,2,     2.71,2, -999.000,9, -999.000,9,  -999.00,9,   -999.0,9,   -999.0,9,-999.0000,9,   -999.0,  9,  -999.00,9,   -999.0,  -999.00,9,  -999.00,9,  -999.00,9,  -999.00,9,   -999.0,-999.0000, -999,9, 1751,   2.4573,  27.6289,   -999.0,9
       KS08-04,  137E,KS-2143,  1,      1,02-16007,2,20080503,1010,  2.9427, 137.0197, 4539,   2026.2,   2.2665,  34.6341,2,   -999.0,9,  34.6345,2,    114.0,2,   133.27,2,  -999.00,9,    38.34,2,     0.00,2,     2.69,2, -999.000,9, -999.000,9,  -999.00,9,   -999.0,9,   -999.0,9,-999.0000,9,   -999.0,  9,  -999.00,9,   -999.0,  -999.00,9,  -999.00,9,  -999.00,9,  -999.00,9,   -999.0,-999.0000, -999,9, 2005,   2.1238,  27.6686,   -999.0,9