BOTTLE,20130510GEMDJMAYT
EXPOCODE,SECT_ID,STNNBR,CASTNO,SAMPNO,BTLNBR,BTLNBR_FLAG_W,DATE,TIME,LATITUDE,LONGITUDE,DEPTH,CTDPRS,CTDTMP,CTDSAL,CTDSAL_FLAG_W,CTDOXY,CTDOXY_FLAG_W,SALNTY,SALNTY_FLAG_W,OXYGEN,OXYGEN_FLAG_W,SILCAT,SILCAT_FLAG_W,NITRAT,NITRAT_FLAG_W,NO2+NO3,NO2+NO3_FLAG_W,NITRIT,NITRIT_FLAG_W,PHSPHT,PHSPHT_FLAG_W,CFC-11,CFC-11_FLAG_W,CFC-12,CFC-12_FLAG_W,DELC13,DELC13_FLAG_W,TCARBN,TCARBN_FLAG_W,ALKALI,ALKALI_FLAG_W,PH,PH_FLAG_W,PH_TMP,PH_SCALE,PH_NBS,PH_NBS_FLAG_W,C13ERR,TOTALP,TOTALP_FLAG_W,AMMONI,AMMONI_FLAG_W,CHLORA,CHLORA_FLAG_W,PPHYTN,PPHYTN_FLAG_W,REVPRS,REVTMP,DEPTH_,DEPTH_FLAG,CTDDEP,THETA,SIGTHT,DOC,DOC_FLAG_W
,,,,,,,GMT,GMT,,,METER,DBAR,ITS-90,PSS-78,,UMOL/KG,,PSS-78,,UMOL/KG,,UMOL/KG,,UMOL/KG,,UMOL/KG,,UMOL/KG,,UMOL/KG,,PMOL/KG,,PMOL/KG,,/MILLE,,UMOL/KG,,UMOL/KG,,25_DEG_C,,DEG_C,,,,/MILLE,UMOL/KG,,UMOL/KG,,UG/L,,UG/L,,DBAR,ITS-90,METERS,,METERS,DEG_C,,UMOL/L,
       KS08-04,  137E,KS-2141,  1,     -9,      -9,5,20080502,1538,  4.9915, 137.0063, 5266,      0.0,  29.4959,  34.3259,2,   -999.0,9,-999.0000,9,    199.0,2,     1.06,2,  -999.00,9,     0.00,2,     0.00,2,     0.10,2, -999.000,9, -999.000,9,  -999.00,9,   -999.0,9,   -999.0,9,   8.1322,2,     25.0, TS,  -999.00,9,   -999.0,  -999.00,9,  -999.00,9,     0.08,2,     0.03,2,   -999.0,-999.0000, -999,9,    0,  29.4957,  21.3918,   -999.0,9
       KS08-04,  137E,KS-2141,  1,     21,02-16027,2,20080502,1557,  4.9915, 137.0063, 5266,     10.5,  29.5146,  34.3254,2,   -999.0,9,  34.3804,4,    198.0,2,     1.11,2,  -999.00,9,     0.00,2,     0.00,2,     0.10,2, -999.000,9, -999.000,9,  -999.00,9,   -999.0,9,   -999.0,9,-999.0000,9,   -999.0,  9,  -999.00,9,   -999.0,  -999.00,9,  -999.00,9,     0.08,2,     0.03,2,   -999.0,-999.0000, -999,9,   10,  29.5120,  21.3859,   -999.0,9
       KS08-04,  137E,KS-2141,  1,     20,02-16026,2,20080502,1556,  4.9915, 137.0063, 5266,     25.3,  30.0599,  34.9544,2,   -999.0,9,-999.0000,9,    202.0,2,     1.15,2,  -999.00,9,     0.00,2,     0.00,2,     0.12,2, -999.000,9, -999.000,9,  -999.00,9,   -999.0,9,   -999.0,9,-999.0000,9,   -999.0,  9,  -999.00,9,   -999.0,  -999.00,9,  -999.00,9,     0.09,2,     0.03,2,   -999.0,-999.0000, -999,9,   25,  30.0536,  21.6737,   -999.0,9
       KS08-04,  137E,KS-2141,  1,     19,02-19378,2,20080502,1553,  4.9915, 137.0063, 5266,     50.5,  29.9049,  35.2076,2,   -999.0,9,-999.0000,9,    202.0,2,     1.19,2,  -999.00,9,     0.00,2,     0.00,2,     0.15,2, -999.000,9, -999.000,9,  -999.00,9,   -999.0,9,   -999.0,9,-999.0000,9,   -999.0,  9,  -999.00,9,   -999.0,  -999.00,9,  -999.00,9,     0.18,2,     0.11,2,   -999.0,-999.0000, -999,9,   50,  29.8924,  21.9186,   -999.0,9
       KS08-04,  137E,KS-2141,  1,     18,02-19377,2,20080502,1551,  4.9915, 137.0063, 5266,     76.4,  29.5727,  35.3198,2,   -999.0,9,-999.0000,9,    200.0,2,     1.24,2,  -999.00,9,     0.10,2,     0.05,2,     0.18,2, -999.000,9, -999.000,9,  -999.00,9,   -999.0,9,   -999.0,9,-999.0000,9,   -999.0,  9,  -999.00,9,   -999.0,  -999.00,9,  -999.00,9,     0.25,2,     0.26,2,   -999.0,-999.0000, -999,9,   76,  29.5539,  22.1178,   -999.0,9
       KS08-04,  137E,KS-2141,  1,     17,02-16023,2,20080502,1550,  4.9915, 137.0063, 5266,    101.7,  28.6696,  35.4355,2,   -999.0,9,  35.4345,2,    182.0,2,     1.55,2,  -999.00,9,     3.13,2,     0.67,2,     0.34,2, -999.000,9, -999.000,9,  -999.00,9,   -999.0,9,   -999.0,9,-999.0000,9,   -999.0,  9,  -999.00,9,   -999.0,  -999.00,9,  -999.00,9,     0.13,2,     0.27,2,   -999.0,-999.0000, -999,9,  101,  28.6452,  22.5095,   -999.0,9
       KS08-04,  137E,KS-2141,  1,     16,02-16022,2,20080502,1549,  4.9915, 137.0063, 5266,    125.9,  27.9746,  35.3938,2,   -999.0,9,-999.0000,9,    171.0,2,     1.87,2,  -999.00,9,     4.40,2,     0.07,2,     0.41,2, -999.000,9, -999.000,9,  -999.00,9,   -999.0,9,   -999.0,9,-999.0000,9,   -999.0,  9,  -999.00,9,   -999.0,  -999.00,9,  -999.00,9,     0.07,2,     0.20,2,   -999.0,-999.0000, -999,9,  125,  27.9449,  22.7088,   -999.0,9
       KS08-04,  137E,KS-2141,  1,     15,02-16021,2,20080502,1547,  4.9915, 137.0063, 5266,    151.4,  26.2557,  35.2452,2,   -999.0,9,-999.0000,9,    144.0,2,     2.81,2,  -999.00,9,     7.13,2,     0.03,2,     0.55,2, -999.000,9, -999.000,9,  -999.00,9,   -999.0,9,   -999.0,9,-999.0000,9,   -999.0,  9,  -999.00,9,   -999.0,  -999.00,9,  -999.00,9,     0.03,2,     0.10,2,   -999.0,-999.0000, -999,9,  150,  26.2216,  23.1490,   -999.0,9
       KS08-04,  137E,KS-2141,  1,     14,02-16020,2,20080502,1545,  4.9915, 137.0063, 5266,    202.3,  21.4258,  35.1103,2,   -999.0,9,  35.1079,2,    141.0,2,     6.21,2,  -999.00,9,     9.57,2,     0.01,2,     0.67,2, -999.000,9, -999.000,9,  -999.00,9,   -999.0,9,   -999.0,9,-999.0000,9,   -999.0,  9,  -999.00,9,   -999.0,  -999.00,9,  -999.00,9,     0.01,2,     0.02,2,   -999.0,-999.0000, -999,9,  201,  21.3865,  24.4721,   -999.0,9
       KS08-04,  137E,KS-2141,  1,     13,02-16019,2,20080502,1544,  4.9915, 137.0063, 5266,    252.9,  14.1761,  34.5787,2,   -999.0,9,-999.0000,9,    142.0,2,    16.11,2,  -999.00,9,    15.99,2,     0.00,2,     1.11,2, -999.000,9, -999.000,9,  -999.00,9,   -999.0,9,   -999.0,9,-999.0000,9,   -999.0,  9,  -999.00,9,   -999.0,  -999.00,9,  -999.00,9,     0.00,2,     0.02,2,   -999.0,-999.0000, -999,9,  251,  14.1393,  25.8322,   -999.0,9
       KS08-04,  137E,KS-2141,  1,     12,02-16018,2,20080502,1542,  4.9915, 137.0063, 5266,    302.1,  11.1550,  34.5306,2,   -999.0,9,  34.5329,2,    100.0,2,    28.99,2,  -999.00,9,    25.72,2,     0.00,2,     1.79,2, -999.000,9, -999.000,9,  -999.00,9,   -999.0,9,   -999.0,9,-999.0000,9,   -999.0,  9,  -999.00,9,   -999.0,  -999.00,9,  -999.00,9,     0.00,2,     0.02,2,   -999.0,-999.0000, -999,9,  300,  11.1174,  26.3887,   -999.0,9
       KS08-04,  137E,KS-2141,  1,     11,02-19376,2,20080502,1539,  4.9915, 137.0063, 5266,    404.1,   8.8301,  34.5985,2,   -999.0,9,  34.5967,2,     62.0,2,    38.13,2,  -999.00,9,    33.70,2,     0.00,2,     2.37,2, -999.000,9, -999.000,9,  -999.00,9,   -999.0,9,   -999.0,9,-999.0000,9,   -999.0,  9,  -999.00,9,   -999.0,  -999.00,9,  -999.00,9,  -999.00,9,  -999.00,9,   -999.0,-999.0000, -999,9,  401,   8.7864,  26.8377,   -999.0,9
       KS08-04,  137E,KS-2141,  1,     10,02-19375,2,20080502,1536,  4.9915, 137.0063, 5266,    503.4,   7.7334,  34.5594,2,   -999.0,9,  34.5561,2,     82.0,2,    44.19,2,  -999.00,9,    33.89,2,     0.00,2,     2.38,2, -999.000,9, -999.000,9,  -999.00,9,   -999.0,9,   -999.0,9,-999.0000,9,   -999.0,  9,  -999.00,9,   -999.0,  -999.00,9,  -999.00,9,  -999.00,9,  -999.00,9,   -999.0,-999.0000, -999,9,  500,   7.6828,  26.9746,   -999.0,9
       KS08-04,  137E,KS-2141,  1,      9,02-16015,2,20080502,1534,  4.9915, 137.0063, 5266,    604.7,   7.0450,  34.5451,2,   -999.0,9,  34.5444,2,     88.0,2,    49.00,2,  -999.00,9,    34.86,2,     0.00,2,     2.45,2, -999.000,9, -999.000,9,  -999.00,9,   -999.0,9,   -999.0,9,-999.0000,9,   -999.0,  9,  -999.00,9,   -999.0,  -999.00,9,  -999.00,9,  -999.00,9,  -999.00,9,   -999.0,-999.0000, -999,9,  600,   6.9869,  27.0622,   -999.0,9
       KS08-04,  137E,KS-2141,  1,      8,02-16014,2,20080502,1531,  4.9915, 137.0063, 5266,    705.7,   6.3161,  34.5334,2,   -999.0,9,  34.5324,2,    101.0,2,    54.70,2,  -999.00,9,    34.95,2,     0.00,2,     2.46,2, -999.000,9, -999.000,9,  -999.00,9,   -999.0,9,   -999.0,9,-999.0000,9,   -999.0,  9,  -999.00,9,   -999.0,  -999.00,9,  -999.00,9,  -999.00,9,  -999.00,9,   -999.0,-999.0000, -999,9,  701,   6.2517,  27.1516,   -999.0,9
       KS08-04,  137E,KS-2141,  1,      7,02-19374,2,20080502,1528,  4.9915, 137.0063, 5266,    806.5,   5.5792,  34.5369,2,   -999.0,9,  34.5369,2,     89.0,2,    68.07,2,  -999.00,9,    36.80,2,     0.00,2,     2.64,2, -999.000,9, -999.000,9,  -999.00,9,   -999.0,9,   -999.0,9,-999.0000,9,   -999.0,  9,  -999.00,9,   -999.0,  -999.00,9,  -999.00,9,  -999.00,9,  -999.00,9,   -999.0,-999.0000, -999,9,  800,   5.5095,  27.2477,   -999.0,9
       KS08-04,  137E,KS-2141,  1,      6,02-19373,2,20080502,1526,  4.9915, 137.0063, 5266,    908.0,   5.0276,  34.5445,2,   -999.0,9,  34.5452,2,     92.0,2,    77.48,2,  -999.00,9,    37.57,2,     0.00,2,     2.67,2, -999.000,9, -999.000,9,  -999.00,9,   -999.0,9,   -999.0,9,-999.0000,9,   -999.0,  9,  -999.00,9,   -999.0,  -999.00,9,  -999.00,9,  -999.00,9,  -999.00,9,   -999.0,-999.0000, -999,9,  901,   4.9523,  27.3196,   -999.0,9
       KS08-04,  137E,KS-2141,  1,      5,02-16011,2,20080502,1523,  4.9915, 137.0063, 5266,   1008.4,   4.5879,  34.5524,2,   -999.0,9,  34.5520,2,     92.0,2,    87.38,2,  -999.00,9,    37.77,2,     0.00,2,     2.69,2, -999.000,9, -999.000,9,  -999.00,9,   -999.0,9,   -999.0,9,-999.0000,9,   -999.0,  9,  -999.00,9,   -999.0,  -999.00,9,  -999.00,9,  -999.00,9,  -999.00,9,   -999.0,-999.0000, -999,9, 1000,   4.5069,  27.3760,   -999.0,9
       KS08-04,  137E,KS-2141,  1,      4,02-16010,2,20080502,1518,  4.9915, 137.0063, 5266,   1262.6,   3.6124,  34.5773,2,   -999.0,9,  34.5773,2,     96.0,2,   107.03,2,  -999.00,9,    38.15,2,     0.00,2,     2.73,2, -999.000,9, -999.000,9,  -999.00,9,   -999.0,9,   -999.0,9,-999.0000,9,   -999.0,  9,  -999.00,9,   -999.0,  -999.00,9,  -999.00,9,  -999.00,9,  -999.00,9,   -999.0,-999.0000, -999,9, 1252,   3.5180,  27.4986,   -999.0,9
       KS08-04,  137E,KS-2141,  1,      3,02-16009,2,20080502,1512,  4.9915, 137.0063, 5266,   1515.4,   2.9553,  34.6010,2,   -999.0,9,  34.6010,2,    102.0,2,   120.57,2,  -999.00,9,    38.63,2,     0.00,2,     2.74,2, -999.000,9, -999.000,9,  -999.00,9,   -999.0,9,   -999.0,9,-999.0000,9,   -999.0,  9,  -999.00,9,   -999.0,  -999.00,9,  -999.00,9,  -999.00,9,  -999.00,9,   -999.0,-999.0000, -999,9, 1502,   2.8466,  27.5805,   -999.0,9
       KS08-04,  137E,KS-2141,  1,      2,02-16008,2,20080502,1507,  4.9915, 137.0063, 5266,   1767.3,   2.4402,  34.6244,2,   -999.0,9,  34.6244,2,    113.0,2,   129.05,2,  -999.00,9,    38.24,2,     0.00,2,     2.71,2, -999.000,9, -999.000,9,  -999.00,9,   -999.0,9,   -999.0,9,-999.0000,9,   -999.0,  9,  -999.00,9,   -999.0,  -999.00,9,  -999.00,9,  -999.00,9,  -999.00,9,   -999.0,-999.0000, -999,9, 1750,   2.3169,  27.6450,   -999.0,9
       KS08-04,  137E,KS-2141,  1,      1,02-16007,2,20080502,1501,  4.9915, 137.0063, 5266,   2030.7,   2.1529,  34.6393,2,   -999.0,9,  34.6401,2,    117.0,2,   135.56,2,  -999.00,9,    38.05,2,     0.00,2,     2.68,2, -999.000,9, -999.000,9,  -999.00,9,   -999.0,9,   -999.0,9,-999.0000,9,   -999.0,  9,  -999.00,9,   -999.0,  -999.00,9,  -999.00,9,  -999.00,9,  -999.00,9,   -999.0,-999.0000, -999,9, 2010,   2.0115,  27.6818,   -999.0,9