BOTTLE,20121206MIRCHATS
EXPOCODE,SECT_ID,STNNBR,CASTNO,SAMPNO,BTLNBR,BTLNBR_FLAG_W,DATE,TIME,LATITUDE,LONGITUDE,DEPTH,CTDPRS,CTDTMP,CTDSAL,CTDSAL_FLAG_W,CTDOXY,CTDOXY_FLAG_W,SALNTY,SALNTY_FLAG_W,OXYGEN,OXYGEN_FLAG_W,SILCAT,SILCAT_FLAG_W,NITRAT,NITRAT_FLAG_W,NO2+NO3,NO2+NO3_FLAG_W,NITRIT,NITRIT_FLAG_W,PHSPHT,PHSPHT_FLAG_W,CFC-11,CFC-11_FLAG_W,CFC-12,CFC-12_FLAG_W,DELC13,DELC13_FLAG_W,TCARBN,TCARBN_FLAG_W,ALKALI,ALKALI_FLAG_W,PH,PH_FLAG_W,PH_TMP,PH_SCALE,PH_NBS,PH_NBS_FLAG_W,C13ERR,TOTALP,TOTALP_FLAG_W,AMMONI,AMMONI_FLAG_W,CHLORA,CHLORA_FLAG_W,PPHYTN,PPHYTN_FLAG_W,REVPRS,REVTMP,DEPTH,DEPTH_FLAG,CTDDEP,THETA,SIGTHT,DOC,DOC_FLAG_W
        ,       ,      ,      ,      ,      ,             ,GMT ,GMT ,        ,         ,METER,DBAR  ,ITS-90,PSS-78,             ,UMOL/KG,            ,PSS-78,             ,UMOL/KG,            ,UMOL/KG,            ,UMOL/KG,            ,UMOL/KG,            ,UMOL/KG,            ,UMOL/KG,            ,PMOL/KG,            ,PMOL/KG,            ,/MILLE,             ,UMOL/KG,            ,UMOL/KG,            ,25_DEG_C,  ,DEG_C,,       ,      ,/MILLE,UMOL/KG,     ,UMOL/KG,            ,UG/L,             ,UG/L,             ,DBAR  ,ITS-90,METERS,         ,METERS,DEG_C,      ,UMOL/L,        
KS08-06-1,NONE,KS-2214,1,-9,-9,5,20080725,0534,-2.0073,141.982,3614,0,29.5914,34.9915,2,-999,9,-999,9,198,2,0.99,2,-999,9,0,2,0,2,0.13,2,-999,9,-999,9,-999,9,-999,9,-999,9,-999,9,   -999.0,  9,-999,9,-999,-999,9,-999,9,0.09,2,0.02,2,-999,-999,-999,9,0,29.5912,21.8588,-999,9
KS08-06-1,NONE,KS-2214,1,21,02-16027,2,20080725,0552,-2.0073,141.982,3614,10.6,29.4545,34.9886,2,-999,9,34.9873,2,199,2,0.98,2,-999,9,0,2,0,2,0.13,2,-999,9,-999,9,-999,9,-999,9,-999,9,-999,9,   -999.0,  9,-999,9,-999,-999,9,-999,9,0.08,2,0.03,2,-999,-999,-999,9,10,29.4519,21.9037,-999,9
KS08-06-1,NONE,KS-2214,1,20,02-16026,2,20080725,0551,-2.0073,141.982,3614,25.5,29.383,34.9822,2,-999,9,-999,9,199,2,1.03,2,-999,9,0,2,0,2,0.13,2,-999,9,-999,9,-999,9,-999,9,-999,9,-999,9,   -999.0,  9,-999,9,-999,-999,9,-999,9,0.09,2,0.02,2,-999,-999,-999,9,25,29.3768,21.9243,-999,9
KS08-06-1,NONE,KS-2214,1,19,02-19378,2,20080725,0546,-2.0073,141.982,3614,51.7,29.2718,34.9676,2,-999,9,-999,9,198,2,1.02,2,-999,9,0,2,0,2,0.13,2,-999,9,-999,9,-999,9,-999,9,-999,9,-999,9,   -999.0,  9,-999,9,-999,-999,9,-999,9,0.14,2,0.06,2,-999,-999,-999,9,51,29.2592,21.9529,-999,9
KS08-06-1,NONE,KS-2214,1,18,02-19377,2,20080725,0544,-2.0073,141.982,3614,75.4,29.2513,34.9765,2,-999,9,-999,9,192,2,0.97,2,-999,9,0,2,0,2,0.13,2,-999,9,-999,9,-999,9,-999,9,-999,9,-999,9,   -999.0,  9,-999,9,-999,-999,9,-999,9,0.36,2,0.22,2,-999,-999,-999,9,75,29.2329,21.9684,-999,9
KS08-06-1,NONE,KS-2214,1,17,02-16023,2,20080725,0543,-2.0073,141.982,3614,100.8,27.9825,35.2561,2,-999,9,35.2684,4,159,2,2.00,2,-999,9,5.28,2,0.07,2,0.43,2,-999,9,-999,9,-999,9,-999,9,-999,9,-999,9,   -999.0,  9,-999,9,-999,-999,9,-999,9,0.16,2,0.32,2,-999,-999,-999,9,100,27.9587,22.6007,-999,9
KS08-06-1,NONE,KS-2214,1,16,02-16022,2,20080725,0542,-2.0073,141.982,3614,125.7,26.4974,35.6121,2,-999,9,-999,9,151,2,2.20,2,-999,9,7.52,2,0.02,2,0.6,2,-999,9,-999,9,-999,9,-999,9,-999,9,-999,9,   -999.0,  9,-999,9,-999,-999,9,-999,9,0.03,2,0.03,2,-999,-999,-999,9,125,26.4689,23.3478,-999,9
KS08-06-1,NONE,KS-2214,1,15,02-16021,2,20080725,0541,-2.0073,141.982,3614,151.7,23.5143,35.7256,2,-999,9,-999,9,134,2,2.78,2,-999,9,9.47,2,0.01,2,0.72,2,-999,9,-999,9,-999,9,-999,9,-999,9,-999,9,   -999.0,  9,-999,9,-999,-999,9,-999,9,0,2,0.01,2,-999,-999,-999,9,151,23.4827,24.3435,-999,9
KS08-06-1,NONE,KS-2214,1,14,02-16020,2,20080725,0539,-2.0073,141.982,3614,201.4,19.7272,35.5162,2,-999,9,35.5163,2,140,2,3.96,2,-999,9,10.92,2,0.01,2,0.78,2,-999,9,-999,9,-999,9,-999,9,-999,9,-999,9,   -999.0,  9,-999,9,-999,-999,9,-999,9,0,2,0.02,2,-999,-999,-999,9,200,19.6902,25.2371,-999,9
KS08-06-1,NONE,KS-2214,1,13,02-16019,2,20080725,0537,-2.0073,141.982,3614,251.9,15.2003,35.2125,2,-999,9,-999,9,153,2,6.87,2,-999,9,14.62,2,0,2,1.00,2,-999,9,-999,9,-999,9,-999,9,-999,9,-999,9,   -999.0,  9,-999,9,-999,-999,9,-999,9,0,2,0.02,2,-999,-999,-999,9,250,15.1617,26.1001,-999,9
KS08-06-1,NONE,KS-2214,1,12,02-16018,2,20080725,0536,-2.0073,141.982,3614,302.8,12.4702,34.9732,2,-999,9,34.9649,4,164,2,10.02,2,-999,9,17.93,2,0,2,1.21,2,-999,9,-999,9,-999,9,-999,9,-999,9,-999,9,   -999.0,  9,-999,9,-999,-999,9,-999,9,0,2,0.02,2,-999,-999,-999,9,301,12.4295,26.4852,-999,9
KS08-06-1,NONE,KS-2214,1,11,02-19376,2,20080725,0533,-2.0073,141.982,3614,402.2,9.1948,34.6873,2,-999,9,34.6854,2,170,2,17.32,2,-999,9,23.47,2,0,2,1.57,2,-999,9,-999,9,-999,9,-999,9,-999,9,-999,9,   -999.0,  9,-999,9,-999,-999,9,-999,9,-999,9,-999,9,-999,-999,-999,9,400,9.1502,26.8491,-999,9
KS08-06-1,NONE,KS-2214,1,10,02-19375,2,20080725,0531,-2.0073,141.982,3614,504,8.1695,34.6062,2,-999,9,34.6083,2,163,2,22.30,2,-999,9,26.10,2,0,2,1.74,2,-999,9,-999,9,-999,9,-999,9,-999,9,-999,9,   -999.0,  9,-999,9,-999,-999,9,-999,9,-999,9,-999,9,-999,-999,-999,9,501,8.1171,26.947,-999,9
KS08-06-1,NONE,KS-2214,1,9,02-16015,2,20080725,0528,-2.0073,141.982,3614,604.2,6.2322,34.5029,2,-999,9,34.503,2,160,2,36.27,2,-999,9,30.28,2,0,2,2.05,2,-999,9,-999,9,-999,9,-999,9,-999,9,-999,9,   -999.0,  9,-999,9,-999,-999,9,-999,9,-999,9,-999,9,-999,-999,-999,9,600,6.1779,27.1371,-999,9
KS08-06-1,NONE,KS-2214,1,8,02-16014,2,20080725,0525,-2.0073,141.982,3614,705.3,5.5953,34.4978,2,-999,9,34.4998,2,155,2,45.63,2,-999,9,31.74,2,0,2,2.16,2,-999,9,-999,9,-999,9,-999,9,-999,9,-999,9,   -999.0,  9,-999,9,-999,-999,9,-999,9,-999,9,-999,9,-999,-999,-999,9,700,5.5348,27.2137,-999,9
KS08-06-1,NONE,KS-2214,1,7,02-19374,2,20080725,0522,-2.0073,141.982,3614,806.5,4.8706,34.5095,2,-999,9,34.5097,2,144,2,59.69,2,-999,9,33.68,2,0,2,2.32,2,-999,9,-999,9,-999,9,-999,9,-999,9,-999,9,   -999.0,  9,-999,9,-999,-999,9,-999,9,-999,9,-999,9,-999,-999,-999,9,801,4.8053,27.3086,-999,9
KS08-06-1,NONE,KS-2214,1,6,02-19373,2,20080725,0519,-2.0073,141.982,3614,907.6,4.6538,34.5422,2,-999,9,34.5439,2,114,2,75.62,2,-999,9,36.40,2,0,2,2.55,2,-999,9,-999,9,-999,9,-999,9,-999,9,-999,9,   -999.0,  9,-999,9,-999,-999,9,-999,9,-999,9,-999,9,-999,-999,-999,9,901,4.5811,27.3597,-999,9
KS08-06-1,NONE,KS-2214,1,5,02-16011,2,20080725,0516,-2.0073,141.982,3614,1009.2,4.2581,34.5569,2,-999,9,34.557,2,106,2,86.60,2,-999,9,37.57,2,0,2,2.65,2,-999,9,-999,9,-999,9,-999,9,-999,9,-999,9,   -999.0,  9,-999,9,-999,-999,9,-999,9,-999,9,-999,9,-999,-999,-999,9,1001,4.1796,27.4148,-999,9
KS08-06-1,NONE,KS-2214,1,4,02-16010,2,20080725,0511,-2.0073,141.982,3614,1261.2,3.6988,34.5758,2,-999,9,34.5759,2,104,2,99.56,2,-999,9,38.15,2,0,2,2.70,2,-999,9,-999,9,-999,9,-999,9,-999,9,-999,9,   -999.0,  9,-999,9,-999,-999,9,-999,9,-999,9,-999,9,-999,-999,-999,9,1250,3.6037,27.489,-999,9
KS08-06-1,NONE,KS-2214,1,3,02-16009,2,20080725,0505,-2.0073,141.982,3614,1514.7,3.0187,34.6006,2,-999,9,34.601,2,109,2,114.15,2,-999,9,38.25,2,0,2,2.70,2,-999,9,-999,9,-999,9,-999,9,-999,9,-999,9,   -999.0,  9,-999,9,-999,-999,9,-999,9,-999,9,-999,9,-999,-999,-999,9,1501,2.9094,27.5745,-999,9
KS08-06-1,NONE,KS-2214,1,2,02-16008,2,20080725,0459,-2.0073,141.982,3614,1767.7,2.5565,34.6213,2,-999,9,34.6217,2,116,2,123.70,2,-999,9,38.15,2,0,2,2.68,2,-999,9,-999,9,-999,9,-999,9,-999,9,-999,9,   -999.0,  9,-999,9,-999,-999,9,-999,9,-999,9,-999,9,-999,-999,-999,9,1751,2.4316,27.6329,-999,9
KS08-06-1,NONE,KS-2214,1,1,02-16007,2,20080725,0453,-2.0073,141.982,3614,2030.2,2.224,34.6374,2,-999,9,34.6379,2,121,2,131.34,2,-999,9,37.95,2,0,2,2.65,2,-999,9,-999,9,-999,9,-999,9,-999,9,-999,9,   -999.0,  9,-999,9,-999,-999,9,-999,9,-999,9,-999,9,-999,-999,-999,9,2009,2.0816,27.6747,-999,9
KS08-06-1,EQPAC,KS-2216,1,-9,-9,5,20080725,1908,-0.0027,141.9788,3401,0,29.5059,34.8463,2,-999,9,-999,9,199,2,1.10,2,-999,9,0,2,0,2,0.12,2,-999,9,-999,9,-999,9,-999,9,-999,9,-999,9,   -999.0,  9,-999,9,-999,-999,9,-999,9,0.06,2,0.03,2,-999,-999,-999,9,0,29.5057,21.7788,-999,9
KS08-06-1,EQPAC,KS-2216,1,21,02-16027,2,20080725,1927,-0.0027,141.9788,3401,10.7,29.508,34.8504,2,-999,9,-999,9,199,2,1.10,2,-999,9,0,2,0,2,0.12,2,-999,9,-999,9,-999,9,-999,9,-999,9,-999,9,   -999.0,  9,-999,9,-999,-999,9,-999,9,0.06,2,0.02,2,-999,-999,-999,9,11,29.5054,21.782,-999,9
KS08-06-1,EQPAC,KS-2216,1,20,02-16026,2,20080725,1926,-0.0027,141.9788,3401,26.2,29.4479,34.9388,2,-999,9,-999,9,200,2,1.09,2,-999,9,0,2,0,2,0.12,2,-999,9,-999,9,-999,9,-999,9,-999,9,-999,9,   -999.0,  9,-999,9,-999,-999,9,-999,9,0.08,2,0.03,2,-999,-999,-999,9,26,29.4415,21.8699,-999,9
KS08-06-1,EQPAC,KS-2216,1,19,02-19378,2,20080725,1923,-0.0027,141.9788,3401,49.5,29.4213,35.0527,2,-999,9,-999,9,200,2,1.13,2,-999,9,0,2,0,2,0.14,2,-999,9,-999,9,-999,9,-999,9,-999,9,-999,9,   -999.0,  9,-999,9,-999,-999,9,-999,9,0.13,2,0.06,2,-999,-999,-999,9,49,29.4092,21.9662,-999,9
KS08-06-1,EQPAC,KS-2216,1,18,02-19377,2,20080725,1922,-0.0027,141.9788,3401,75.7,28.9451,35.3396,2,-999,9,-999,9,185,2,1.52,2,-999,9,2.35,2,0.63,2,0.29,2,-999,9,-999,9,-999,9,-999,9,-999,9,-999,9,   -999.0,  9,-999,9,-999,-999,9,-999,9,0.31,2,0.37,2,-999,-999,-999,9,75,28.9268,22.3435,-999,9
KS08-06-1,EQPAC,KS-2216,1,17,02-16023,2,20080725,1920,-0.0027,141.9788,3401,99.7,28.7032,35.405,2,-999,9,-999,9,176,2,1.66,2,-999,9,3.81,2,0.11,2,0.38,2,-999,9,-999,9,-999,9,-999,9,-999,9,-999,9,   -999.0,  9,-999,9,-999,-999,9,-999,9,0.16,2,0.34,2,-999,-999,-999,9,99,28.6792,22.4752,-999,9
KS08-06-1,EQPAC,KS-2216,1,16,02-16022,2,20080725,1919,-0.0027,141.9788,3401,125.5,26.2873,35.49,2,-999,9,-999,9,155,2,2.54,2,-999,9,7.62,2,0.03,2,0.59,2,-999,9,-999,9,-999,9,-999,9,-999,9,-999,9,   -999.0,  9,-999,9,-999,-999,9,-999,9,0.04,2,0.05,2,-999,-999,-999,9,125,26.259,23.3219,-999,9
KS08-06-1,EQPAC,KS-2216,1,15,02-16021,2,20080725,1917,-0.0027,141.9788,3401,152.4,25.4451,35.5716,2,-999,9,-999,9,148,2,2.74,2,-999,9,8.3,2,0.02,2,0.63,2,-999,9,-999,9,-999,9,-999,9,-999,9,-999,9,   -999.0,  9,-999,9,-999,-999,9,-999,9,0.03,2,0.02,2,-999,-999,-999,9,152,25.4115,23.6472,-999,9
KS08-06-1,EQPAC,KS-2216,1,14,02-16020,2,20080725,1915,-0.0027,141.9788,3401,204.2,18.6341,35.4215,2,-999,9,-999,9,140,2,5.34,2,-999,9,12.09,2,0,2,0.86,2,-999,9,-999,9,-999,9,-999,9,-999,9,-999,9,   -999.0,  9,-999,9,-999,-999,9,-999,9,0,2,0.02,2,-999,-999,-999,9,203,18.5981,25.4455,-999,9
KS08-06-1,EQPAC,KS-2216,1,13,02-16019,2,20080725,1913,-0.0027,141.9788,3401,253,12.2763,34.5924,2,-999,9,-999,9,127,2,25.79,2,-999,9,21.34,2,0,2,1.46,2,-999,9,-999,9,-999,9,-999,9,-999,9,-999,9,   -999.0,  9,-999,9,-999,-999,9,-999,9,0,2,0.02,2,-999,-999,-999,9,251,12.2429,26.2259,-999,9
KS08-06-1,EQPAC,KS-2216,1,12,02-16018,2,20080725,1912,-0.0027,141.9788,3401,303,11.9804,34.9229,2,-999,9,-999,9,161,2,12.06,2,-999,9,19.00,2,0,2,1.29,2,-999,9,-999,9,-999,9,-999,9,-999,9,-999,9,   -999.0,  9,-999,9,-999,-999,9,-999,9,0,2,0.02,2,-999,-999,-999,9,301,11.9408,26.5406,-999,9
KS08-06-1,EQPAC,KS-2216,1,11,02-19376,2,20080725,1909,-0.0027,141.9788,3401,401.4,9.4703,34.6803,2,-999,9,-999,9,139,2,24.52,2,-999,9,25.71,2,0,2,1.75,2,-999,9,-999,9,-999,9,-999,9,-999,9,-999,9,   -999.0,  9,-999,9,-999,-999,9,-999,9,-999,9,-999,9,-999,-999,-999,9,399,9.425,26.7987,-999,9
KS08-06-1,EQPAC,KS-2216,1,10,02-19375,2,20080725,1907,-0.0027,141.9788,3401,503,7.7127,34.5741,2,-999,9,-999,9,171,2,23.70,2,-999,9,26.39,2,0,2,1.77,2,-999,9,-999,9,-999,9,-999,9,-999,9,-999,9,   -999.0,  9,-999,9,-999,-999,9,-999,9,-999,9,-999,9,-999,-999,-999,9,500,7.6622,26.9892,-999,9
KS08-06-1,EQPAC,KS-2216,1,9,02-16015,2,20080725,1904,-0.0027,141.9788,3401,603.8,6.251,34.5025,2,-999,9,-999,9,166,2,35.25,2,-999,9,29.60,2,0,2,2.01,2,-999,9,-999,9,-999,9,-999,9,-999,9,-999,9,   -999.0,  9,-999,9,-999,-999,9,-999,9,-999,9,-999,9,-999,-999,-999,9,600,6.1967,27.1344,-999,9
KS08-06-1,EQPAC,KS-2216,1,8,02-16014,2,20080725,1902,-0.0027,141.9788,3401,704.8,5.9738,34.5298,2,-999,9,-999,9,116,2,53.94,2,-999,9,34.56,2,0,2,2.39,2,-999,9,-999,9,-999,9,-999,9,-999,9,-999,9,   -999.0,  9,-999,9,-999,-999,9,-999,9,-999,9,-999,9,-999,-999,-999,9,700,5.9113,27.1923,-999,9
KS08-06-1,EQPAC,KS-2216,1,7,02-19374,2,20080725,1859,-0.0027,141.9788,3401,806.4,5.3949,34.5306,2,-999,9,-999,9,116,2,62.16,2,-999,9,35.34,2,0,2,2.46,2,-999,9,-999,9,-999,9,-999,9,-999,9,-999,9,   -999.0,  9,-999,9,-999,-999,9,-999,9,-999,9,-999,9,-999,-999,-999,9,800,5.3264,27.2648,-999,9
KS08-06-1,EQPAC,KS-2216,1,6,02-19373,2,20080725,1857,-0.0027,141.9788,3401,906.1,4.9336,34.5373,2,-999,9,-999,9,116,2,71.18,2,-999,9,36.11,2,0,2,2.53,2,-999,9,-999,9,-999,9,-999,9,-999,9,-999,9,   -999.0,  9,-999,9,-999,-999,9,-999,9,-999,9,-999,9,-999,-999,-999,9,899,4.8591,27.3246,-999,9
KS08-06-1,EQPAC,KS-2216,1,5,02-16011,2,20080725,1854,-0.0027,141.9788,3401,1008.1,4.1938,34.5596,2,-999,9,-999,9,103,2,88.23,2,-999,9,37.86,2,0,2,2.67,2,-999,9,-999,9,-999,9,-999,9,-999,9,-999,9,   -999.0,  9,-999,9,-999,-999,9,-999,9,-999,9,-999,9,-999,-999,-999,9,1000,4.1159,27.4237,-999,9
KS08-06-1,EQPAC,KS-2216,1,4,02-16010,2,20080725,1849,-0.0027,141.9788,3401,1260.2,3.5251,34.58,2,-999,9,-999,9,107,2,101.97,2,-999,9,37.96,2,0,2,2.70,2,-999,9,-999,9,-999,9,-999,9,-999,9,-999,9,   -999.0,  9,-999,9,-999,-999,9,-999,9,-999,9,-999,9,-999,-999,-999,9,1249,3.4317,27.5091,-999,9
KS08-06-1,EQPAC,KS-2216,1,3,02-16009,2,20080725,1843,-0.0027,141.9788,3401,1513.8,2.9651,34.6014,2,-999,9,-999,9,112,2,114.06,2,-999,9,38.25,2,0,2,2.69,2,-999,9,-999,9,-999,9,-999,9,-999,9,-999,9,   -999.0,  9,-999,9,-999,-999,9,-999,9,-999,9,-999,9,-999,-999,-999,9,1500,2.8565,27.58,-999,9
KS08-06-1,EQPAC,KS-2216,1,2,02-16008,2,20080725,1838,-0.0027,141.9788,3401,1767,2.5395,34.6215,2,-999,9,-999,9,116,2,124.15,2,-999,9,38.15,2,0,2,2.66,2,-999,9,-999,9,-999,9,-999,9,-999,9,-999,9,   -999.0,  9,-999,9,-999,-999,9,-999,9,-999,9,-999,9,-999,-999,-999,9,1750,2.4149,27.6345,-999,9
KS08-06-1,EQPAC,KS-2216,1,1,02-16007,2,20080725,1831,-0.0027,141.9788,3401,2032,2.2984,34.6339,2,-999,9,-999,9,120,2,129.54,2,-999,9,38.05,2,0,2,2.66,2,-999,9,-999,9,-999,9,-999,9,-999,9,-999,9,   -999.0,  9,-999,9,-999,-999,9,-999,9,-999,9,-999,9,-999,-999,-999,9,2011,2.1547,27.666,-999,9