BOTTLE,20121206MIRCHATS
EXPOCODE,SECT_ID,STNNBR,CASTNO,SAMPNO,BTLNBR,BTLNBR_FLAG_W,DATE,TIME,LATITUDE,LONGITUDE,DEPTH,CTDPRS,CTDTMP,CTDSAL,CTDSAL_FLAG_W,CTDOXY,CTDOXY_FLAG_W,SALNTY,SALNTY_FLAG_W,OXYGEN,OXYGEN_FLAG_W,SILCAT,SILCAT_FLAG_W,NITRAT,NITRAT_FLAG_W,NO2+NO3,NO2+NO3_FLAG_W,NITRIT,NITRIT_FLAG_W,PHSPHT,PHSPHT_FLAG_W,CFC-11,CFC-11_FLAG_W,CFC-12,CFC-12_FLAG_W,DELC13,DELC13_FLAG_W,TCARBN,TCARBN_FLAG_W,ALKALI,ALKALI_FLAG_W,PH,PH_FLAG_W,PH_TMP,PH_SCALE,PH_NBS,PH_NBS_FLAG_W,C13ERR,TOTALP,TOTALP_FLAG_W,AMMONI,AMMONI_FLAG_W,CHLORA,CHLORA_FLAG_W,PPHYTN,PPHYTN_FLAG_W,REVPRS,REVTMP,DEPTH,DEPTH_FLAG,CTDDEP,THETA,SIGTHT,DOC,DOC_FLAG_W
        ,       ,      ,      ,      ,      ,             ,GMT ,GMT ,        ,         ,METER,DBAR  ,ITS-90,PSS-78,             ,UMOL/KG,            ,PSS-78,             ,UMOL/KG,            ,UMOL/KG,            ,UMOL/KG,            ,UMOL/KG,            ,UMOL/KG,            ,UMOL/KG,            ,PMOL/KG,            ,PMOL/KG,            ,/MILLE,             ,UMOL/KG,            ,UMOL/KG,            ,25_DEG_C,  ,DEG_C,,       ,      ,/MILLE,UMOL/KG,     ,UMOL/KG,            ,UG/L,             ,UG/L,             ,DBAR  ,ITS-90,METERS,         ,METERS,DEG_C,      ,UMOL/L,        
KS08-06-1,165E,KS-2153,1,-9,-9,5,20080624,0931,43.0033,165.0147,5401,0,9.952,32.885,2,-999,9,-999,9,297,2,21.04,2,-999,9,12.78,2,0.17,2,1.09,2,-999,9,-999,9,-999,9,-999,9,-999,9,-999,9,   -999.0,  9,-999,9,-999,-999,9,-999,9,0.3,2,0.08,2,-999,-999,-999,9,0,9.9519,25.3088,-999,9
KS08-06-1,165E,KS-2153,1,21,02-16027,2,20080624,0949,43.0033,165.0147,5401,10.5,8.5654,32.8962,2,-999,9,-999,9,311,2,21.27,2,-999,9,12.77,2,0.14,2,1.09,2,-999,9,-999,9,-999,9,-999,9,-999,9,-999,9,   -999.0,  9,-999,9,-999,-999,9,-999,9,0.28,2,0.08,2,-999,-999,-999,9,10,8.5643,25.538,-999,9
KS08-06-1,165E,KS-2153,1,20,02-16026,2,20080624,0948,43.0033,165.0147,5401,25.9,6.8317,33.1008,2,-999,9,-999,9,318,2,20.62,2,-999,9,13.06,2,0.16,2,1.09,2,-999,9,-999,9,-999,9,-999,9,-999,9,-999,9,   -999.0,  9,-999,9,-999,-999,9,-999,9,0.3,2,0.09,2,-999,-999,-999,9,26,6.8294,25.9457,-999,9
KS08-06-1,165E,KS-2153,1,19,02-19378,2,20080624,0944,43.0033,165.0147,5401,50.6,4.0412,33.066,2,-999,9,-999,9,323,2,25.71,2,-999,9,16.96,2,0.48,2,1.31,2,-999,9,-999,9,-999,9,-999,9,-999,9,-999,9,   -999.0,  9,-999,9,-999,-999,9,-999,9,0.59,2,0.23,2,-999,-999,-999,9,50,4.0378,26.2441,-999,9
KS08-06-1,165E,KS-2153,1,18,02-19377,2,20080624,0943,43.0033,165.0147,5401,75.2,3.6325,33.132,2,-999,9,-999,9,316,2,27.39,2,-999,9,17.93,2,0.01,2,1.33,2,-999,9,-999,9,-999,9,-999,9,-999,9,-999,9,   -999.0,  9,-999,9,-999,-999,9,-999,9,0.16,2,0.11,2,-999,-999,-999,9,75,3.6277,26.3367,-999,9
KS08-06-1,165E,KS-2153,1,17,02-16023,2,20080624,0942,43.0033,165.0147,5401,100.9,3.7457,33.2667,2,-999,9,-999,9,304,2,30.83,2,-999,9,19.39,2,0.01,2,1.42,2,-999,9,-999,9,-999,9,-999,9,-999,9,-999,9,   -999.0,  9,-999,9,-999,-999,9,-999,9,0.06,2,0.08,2,-999,-999,-999,9,100,3.7392,26.4332,-999,9
KS08-06-1,165E,KS-2153,1,16,02-16022,2,20080624,0941,43.0033,165.0147,5401,125.8,4.7644,33.5075,2,-999,9,-999,9,293,2,28.23,2,-999,9,18.12,2,0.01,2,1.29,2,-999,9,-999,9,-999,9,-999,9,-999,9,-999,9,   -999.0,  9,-999,9,-999,-999,9,-999,9,0.04,2,0.07,2,-999,-999,-999,9,125,4.7552,26.5193,-999,9
KS08-06-1,165E,KS-2153,1,15,02-16021,2,20080624,0939,43.0033,165.0147,5401,151.1,5.0468,33.6382,2,-999,9,-999,9,281,2,31.29,2,-999,9,19.19,2,0.01,2,1.34,2,-999,9,-999,9,-999,9,-999,9,-999,9,-999,9,   -999.0,  9,-999,9,-999,-999,9,-999,9,0.02,2,0.06,2,-999,-999,-999,9,150,5.0353,26.5916,-999,9
KS08-06-1,165E,KS-2153,1,14,02-16020,2,20080624,0938,43.0033,165.0147,5401,201.7,3.8254,33.6587,2,-999,9,-999,9,185,2,61.74,2,-999,9,30.97,2,0,2,2.19,2,-999,9,-999,9,-999,9,-999,9,-999,9,-999,9,   -999.0,  9,-999,9,-999,-999,9,-999,9,0.01,2,0.04,2,-999,-999,-999,9,200,3.8119,26.738,-999,9
KS08-06-1,165E,KS-2153,1,13,02-16019,2,20080624,0937,43.0033,165.0147,5401,252,3.5889,33.7419,2,-999,9,-999,9,145,2,74.11,2,-999,9,34.57,2,0,2,2.46,2,-999,9,-999,9,-999,9,-999,9,-999,9,-999,9,   -999.0,  9,-999,9,-999,-999,9,-999,9,0,2,0.03,2,-999,-999,-999,9,250,3.5724,26.8276,-999,9
KS08-06-1,165E,KS-2153,1,12,02-16018,2,20080624,0935,43.0033,165.0147,5401,306.6,3.5665,33.8359,2,-999,9,-999,9,111,2,83.58,2,-999,9,37.10,2,0,2,2.63,2,-999,9,-999,9,-999,9,-999,9,-999,9,-999,9,   -999.0,  9,-999,9,-999,-999,9,-999,9,0,2,0.03,2,-999,-999,-999,9,304,3.5463,26.9051,-999,9
KS08-06-1,165E,KS-2153,1,11,02-19376,2,20080624,0932,43.0033,165.0147,5401,403.6,3.6745,33.9785,2,-999,9,-999,9,76,2,95.88,2,-999,9,39.53,2,0,2,2.80,2,-999,9,-999,9,-999,9,-999,9,-999,9,-999,9,   -999.0,  9,-999,9,-999,-999,9,-999,9,-999,9,-999,9,-999,-999,-999,9,400,3.6472,27.0089,-999,9
KS08-06-1,165E,KS-2153,1,10,02-19375,2,20080624,0930,43.0033,165.0147,5401,504.9,3.6394,34.1192,2,-999,9,-999,9,45,2,109.57,2,-999,9,41.57,2,0,2,2.93,2,-999,9,-999,9,-999,9,-999,9,-999,9,-999,9,   -999.0,  9,-999,9,-999,-999,9,-999,9,-999,9,-999,9,-999,-999,-999,9,500,3.6049,27.125,-999,9
KS08-06-1,165E,KS-2153,1,9,02-16015,2,20080624,0927,43.0033,165.0147,5401,605.5,3.4221,34.2092,2,-999,9,-999,9,43,2,119.08,2,-999,9,41.76,2,0,2,2.96,2,-999,9,-999,9,-999,9,-999,9,-999,9,-999,9,   -999.0,  9,-999,9,-999,-999,9,-999,9,-999,9,-999,9,-999,-999,-999,9,600,3.3812,27.2184,-999,9
KS08-06-1,165E,KS-2153,1,8,02-16014,2,20080624,0925,43.0033,165.0147,5401,707.4,3.3483,34.2772,2,-999,9,-999,9,39,2,124.50,2,-999,9,41.96,2,0,2,2.97,2,-999,9,-999,9,-999,9,-999,9,-999,9,-999,9,   -999.0,  9,-999,9,-999,-999,9,-999,9,-999,9,-999,9,-999,-999,-999,9,701,3.3002,27.2803,-999,9
KS08-06-1,165E,KS-2153,1,7,02-19374,2,20080624,0923,43.0033,165.0147,5401,808.1,3.092,34.3206,2,-999,9,-999,9,36,2,132.41,2,-999,9,42.44,2,0,2,3.01,2,-999,9,-999,9,-999,9,-999,9,-999,9,-999,9,   -999.0,  9,-999,9,-999,-999,9,-999,9,-999,9,-999,9,-999,-999,-999,9,800,3.038,27.3392,-999,9
KS08-06-1,165E,KS-2153,1,6,02-19373,2,20080624,0920,43.0033,165.0147,5401,910.2,2.9174,34.3686,2,-999,9,-999,9,36,2,138.44,2,-999,9,42.63,2,0,2,3.02,2,-999,9,-999,9,-999,9,-999,9,-999,9,-999,9,   -999.0,  9,-999,9,-999,-999,9,-999,9,-999,9,-999,9,-999,-999,-999,9,901,2.857,27.394,-999,9
KS08-06-1,165E,KS-2153,1,5,02-16011,2,20080624,0918,43.0033,165.0147,5401,1011.4,2.7394,34.398,2,-999,9,-999,9,35,2,143.37,2,-999,9,42.73,2,0,2,3.03,2,-999,9,-999,9,-999,9,-999,9,-999,9,-999,9,   -999.0,  9,-999,9,-999,-999,9,-999,9,-999,9,-999,9,-999,-999,-999,9,1001,2.6729,27.4336,-999,9
KS08-06-1,165E,KS-2153,1,4,02-16010,2,20080624,0913,43.0033,165.0147,5401,1263,2.4279,34.4688,2,-999,9,-999,9,41,2,152.62,2,-999,9,42.63,2,0,2,3.00,2,-999,9,-999,9,-999,9,-999,9,-999,9,-999,9,   -999.0,  9,-999,9,-999,-999,9,-999,9,-999,9,-999,9,-999,-999,-999,9,1249,2.3452,27.5182,-999,9
KS08-06-1,165E,KS-2153,1,3,02-16009,2,20080624,0907,43.0033,165.0147,5401,1517.5,2.2187,34.5197,2,-999,9,-999,9,49,2,157.33,2,-999,9,42.14,2,0,2,2.96,2,-999,9,-999,9,-999,9,-999,9,-999,9,-999,9,   -999.0,  9,-999,9,-999,-999,9,-999,9,-999,9,-999,9,-999,-999,-999,9,1500,2.1187,27.5774,-999,9
KS08-06-1,165E,KS-2153,1,2,02-16008,2,20080624,0902,43.0033,165.0147,5401,1771.9,2.0729,34.564,2,-999,9,-999,9,60,2,159.44,4,-999,9,40.87,4,0,4,2.83,4,-999,9,-999,9,-999,9,-999,9,-999,9,-999,9,   -999.0,  9,-999,9,-999,-999,9,-999,9,-999,9,-999,9,-999,-999,-999,9,1750,1.9544,27.626,-999,9
KS08-06-1,165E,KS-2153,1,1,02-16007,2,20080624,0857,43.0033,165.0147,5401,2037.1,1.9122,34.5972,2,-999,9,-999,9,76,2,159.53,2,-999,9,40.97,2,0,2,2.84,2,-999,9,-999,9,-999,9,-999,9,-999,9,-999,9,   -999.0,  9,-999,9,-999,-999,9,-999,9,-999,9,-999,9,-999,-999,-999,9,2011,1.7741,27.6665,-999,9
KS08-06-1,165E,KS-2156,1,-9,-9,5,20080625,0425,40.0062,164.996,5460,0,14.1397,33.6703,2,-999,9,-999,9,272,2,15.32,2,-999,9,7.41,2,0.12,2,0.55,2,-999,9,-999,9,-999,9,-999,9,-999,9,-999,9,   -999.0,  9,-999,9,-999,-999,9,-999,9,0.64,2,0.07,2,-999,-999,-999,9,0,14.1396,25.1305,-999,9
KS08-06-1,165E,KS-2156,1,21,02-16027,2,20080625,0443,40.0062,164.996,5460,10.4,14.0256,33.7313,2,-999,9,33.7507,4,275,2,15.67,2,-999,9,7.51,2,0.12,2,0.56,2,-999,9,-999,9,-999,9,-999,9,-999,9,-999,9,   -999.0,  9,-999,9,-999,-999,9,-999,9,0.42,2,0.05,2,-999,-999,-999,9,10,14.0241,25.2017,-999,9
KS08-06-1,165E,KS-2156,1,20,02-16026,2,20080625,0442,40.0062,164.996,5460,25.6,12.5364,33.8959,2,-999,9,-999,9,283,2,16.36,2,-999,9,8.19,2,0.11,2,0.60,2,-999,9,-999,9,-999,9,-999,9,-999,9,-999,9,   -999.0,  9,-999,9,-999,-999,9,-999,9,0.53,2,0.14,2,-999,-999,-999,9,25,12.533,25.6293,-999,9
KS08-06-1,165E,KS-2156,1,19,02-19378,2,20080625,0439,40.0062,164.996,5460,49.4,11.0843,34.0352,2,-999,9,-999,9,281,2,16.45,2,-999,9,9.16,2,0.21,2,0.64,2,-999,9,-999,9,-999,9,-999,9,-999,9,-999,9,   -999.0,  9,-999,9,-999,-999,9,-999,9,0.49,2,0.32,2,-999,-999,-999,9,49,11.0783,26.0101,-999,9
KS08-06-1,165E,KS-2156,1,18,02-19377,2,20080625,0438,40.0062,164.996,5460,74.2,9.0035,33.935,2,-999,9,-999,9,280,2,18.97,2,-999,9,12.67,2,0.39,2,0.86,2,-999,9,-999,9,-999,9,-999,9,-999,9,-999,9,   -999.0,  9,-999,9,-999,-999,9,-999,9,0.31,2,0.21,2,-999,-999,-999,9,74,8.9956,26.2849,-999,9
KS08-06-1,165E,KS-2156,1,17,02-16023,2,20080625,0437,40.0062,164.996,5460,99.9,8.1007,33.8978,2,-999,9,33.8984,2,272,2,21.39,2,-999,9,14.42,2,0.01,2,0.98,2,-999,9,-999,9,-999,9,-999,9,-999,9,-999,9,   -999.0,  9,-999,9,-999,-999,9,-999,9,0.07,2,0.06,2,-999,-999,-999,9,99,8.0907,26.3947,-999,9
KS08-06-1,165E,KS-2156,1,16,02-16022,2,20080625,0436,40.0062,164.996,5460,125.3,7.8364,33.9361,2,-999,9,-999,9,257,2,24.51,2,-999,9,16.07,2,0.01,2,1.09,2,-999,9,-999,9,-999,9,-999,9,-999,9,-999,9,   -999.0,  9,-999,9,-999,-999,9,-999,9,0.02,2,0.05,2,-999,-999,-999,9,124,7.8241,26.4641,-999,9
KS08-06-1,165E,KS-2156,1,15,02-16021,2,20080625,0435,40.0062,164.996,5460,150.9,6.8916,33.8305,2,-999,9,-999,9,267,2,25.42,2,-999,9,16.56,2,0,2,1.13,2,-999,9,-999,9,-999,9,-999,9,-999,9,-999,9,   -999.0,  9,-999,9,-999,-999,9,-999,9,0.01,2,0.05,2,-999,-999,-999,9,150,6.8779,26.5141,-999,9
KS08-06-1,165E,KS-2156,1,14,02-16020,2,20080625,0433,40.0062,164.996,5460,201.3,6.443,33.8393,2,-999,9,33.8412,2,231,2,35.88,2,-999,9,21.14,2,0,2,1.45,2,-999,9,-999,9,-999,9,-999,9,-999,9,-999,9,   -999.0,  9,-999,9,-999,-999,9,-999,9,0.01,2,0.04,2,-999,-999,-999,9,200,6.4254,26.5812,-999,9
KS08-06-1,165E,KS-2156,1,13,02-16019,2,20080625,0432,40.0062,164.996,5460,251.1,5.4771,33.8286,2,-999,9,-999,9,185,2,52.08,2,-999,9,27.56,2,0,2,1.93,2,-999,9,-999,9,-999,9,-999,9,-999,9,-999,9,   -999.0,  9,-999,9,-999,-999,9,-999,9,0,2,0.04,2,-999,-999,-999,9,249,5.4569,26.6934,-999,9
KS08-06-1,165E,KS-2156,1,12,02-16018,4,20080625,0430,40.0062,164.996,5460,303.6,4.8731,33.853,2,-999,9,33.8746,4,-999,4,-999,9,-999,9,-999,4,-999,4,-999,4,-999,9,-999,9,-999,9,-999,9,-999,9,-999,9,   -999.0,  9,-999,9,-999,-999,9,-999,9,-999,4,-999,4,-999,-999,-999,9,301,4.85,26.7829,-999,9
KS08-06-1,165E,KS-2156,1,11,02-19376,2,20080625,0428,40.0062,164.996,5460,402.2,4.099,33.9171,2,-999,9,33.9165,2,108,2,81.81,2,-999,9,36.42,2,0,2,2.58,2,-999,9,-999,9,-999,9,-999,9,-999,9,-999,9,   -999.0,  9,-999,9,-999,-999,9,-999,9,-999,9,-999,9,-999,-999,-999,9,399,4.0705,26.9175,-999,9
KS08-06-1,165E,KS-2156,1,10,02-19375,2,20080625,0425,40.0062,164.996,5460,504.6,4.021,34.0474,2,-999,9,34.0485,2,77,2,95.45,2,-999,9,38.85,2,0,2,2.76,2,-999,9,-999,9,-999,9,-999,9,-999,9,-999,9,   -999.0,  9,-999,9,-999,-999,9,-999,9,-999,9,-999,9,-999,-999,-999,9,500,3.985,27.0299,-999,9
KS08-06-1,165E,KS-2156,1,9,02-16015,2,20080625,0423,40.0062,164.996,5460,604.3,3.9866,34.1783,2,-999,9,34.178,2,57,2,106.23,2,-999,9,40.31,2,0,2,2.85,2,-999,9,-999,9,-999,9,-999,9,-999,9,-999,9,   -999.0,  9,-999,9,-999,-999,9,-999,9,-999,9,-999,9,-999,-999,-999,9,599,3.9431,27.1384,-999,9
KS08-06-1,165E,KS-2156,1,8,02-16014,2,20080625,0421,40.0062,164.996,5460,704.7,3.6634,34.2477,2,-999,9,34.2473,2,47,2,117.00,2,-999,9,41.37,2,0,2,2.93,2,-999,9,-999,9,-999,9,-999,9,-999,9,-999,9,   -999.0,  9,-999,9,-999,-999,9,-999,9,-999,9,-999,9,-999,-999,-999,9,698,3.6138,27.2266,-999,9
KS08-06-1,165E,KS-2156,1,7,02-19374,2,20080625,0418,40.0062,164.996,5460,806.7,3.4854,34.3101,2,-999,9,34.3105,2,44,2,123.50,2,-999,9,41.95,2,0,2,2.97,2,-999,9,-999,9,-999,9,-999,9,-999,9,-999,9,   -999.0,  9,-999,9,-999,-999,9,-999,9,-999,9,-999,9,-999,-999,-999,9,799,3.429,27.2942,-999,9
KS08-06-1,165E,KS-2156,1,6,02-19373,2,20080625,0416,40.0062,164.996,5460,909.4,3.2323,34.3541,2,-999,9,34.354,2,38,2,131.20,2,-999,9,42.44,2,0,2,3.01,2,-999,9,-999,9,-999,9,-999,9,-999,9,-999,9,   -999.0,  9,-999,9,-999,-999,9,-999,9,-999,9,-999,9,-999,-999,-999,9,900,3.1698,27.3539,-999,9
KS08-06-1,165E,KS-2156,1,5,02-16011,2,20080625,0413,40.0062,164.996,5460,1009.3,2.9955,34.3948,2,-999,9,34.3953,2,36,2,137.89,2,-999,9,42.83,2,0,2,3.03,2,-999,9,-999,9,-999,9,-999,9,-999,9,-999,9,   -999.0,  9,-999,9,-999,-999,9,-999,9,-999,9,-999,9,-999,-999,-999,9,999,2.9271,27.4086,-999,9
KS08-06-1,165E,KS-2156,1,4,02-16010,2,20080625,0408,40.0062,164.996,5460,1262.1,2.5649,34.4632,2,-999,9,34.4628,2,38,2,150.09,2,-999,9,43.02,2,0,2,3.03,2,-999,9,-999,9,-999,9,-999,9,-999,9,-999,9,   -999.0,  9,-999,9,-999,-999,9,-999,9,-999,9,-999,9,-999,-999,-999,9,1249,2.481,27.5023,-999,9
KS08-06-1,165E,KS-2156,1,3,02-16009,2,20080625,0403,40.0062,164.996,5460,1516.8,2.2859,34.5186,2,-999,9,34.5185,2,47,2,156.83,2,-999,9,42.72,2,0,2,2.99,2,-999,9,-999,9,-999,9,-999,9,-999,9,-999,9,   -999.0,  9,-999,9,-999,-999,9,-999,9,-999,9,-999,9,-999,-999,-999,9,1500,2.1851,27.5712,-999,9
KS08-06-1,165E,KS-2156,1,2,02-16008,2,20080625,0358,40.0062,164.996,5460,1770.5,2.0865,34.5582,2,-999,9,34.558,2,57,2,161.04,2,-999,9,42.23,2,0,2,2.95,2,-999,9,-999,9,-999,9,-999,9,-999,9,-999,9,   -999.0,  9,-999,9,-999,-999,9,-999,9,-999,9,-999,9,-999,-999,-999,9,1750,1.9679,27.6202,-999,9
KS08-06-1,165E,KS-2156,1,1,02-16007,2,20080625,0352,40.0062,164.996,5460,2036.9,1.916,34.5935,2,-999,9,34.5934,2,72,2,162.58,2,-999,9,41.26,2,0,2,2.87,2,-999,9,-999,9,-999,9,-999,9,-999,9,-999,9,   -999.0,  9,-999,9,-999,-999,9,-999,9,-999,9,-999,9,-999,-999,-999,9,2012,1.7779,27.6633,-999,9