BOTTLE,20121206MIRCHATS
EXPOCODE,SECT_ID,STNNBR,CASTNO,SAMPNO,BTLNBR,BTLNBR_FLAG_W,DATE,TIME,LATITUDE,LONGITUDE,DEPTH,CTDPRS,CTDTMP,CTDSAL,CTDSAL_FLAG_W,CTDOXY,CTDOXY_FLAG_W,SALNTY,SALNTY_FLAG_W,OXYGEN,OXYGEN_FLAG_W,SILCAT,SILCAT_FLAG_W,NITRAT,NITRAT_FLAG_W,NO2+NO3,NO2+NO3_FLAG_W,NITRIT,NITRIT_FLAG_W,PHSPHT,PHSPHT_FLAG_W,CFC-11,CFC-11_FLAG_W,CFC-12,CFC-12_FLAG_W,DELC13,DELC13_FLAG_W,TCARBN,TCARBN_FLAG_W,ALKALI,ALKALI_FLAG_W,PH,PH_FLAG_W,PH_TMP,PH_SCALE,PH_NBS,PH_NBS_FLAG_W,C13ERR,TOTALP,TOTALP_FLAG_W,AMMONI,AMMONI_FLAG_W,CHLORA,CHLORA_FLAG_W,PPHYTN,PPHYTN_FLAG_W,REVPRS,REVTMP,DEPTH,DEPTH_FLAG,CTDDEP,THETA,SIGTHT,DOC,DOC_FLAG_W
        ,       ,      ,      ,      ,      ,             ,GMT ,GMT ,        ,         ,METER,DBAR  ,ITS-90,PSS-78,             ,UMOL/KG,            ,PSS-78,             ,UMOL/KG,            ,UMOL/KG,            ,UMOL/KG,            ,UMOL/KG,            ,UMOL/KG,            ,UMOL/KG,            ,PMOL/KG,            ,PMOL/KG,            ,/MILLE,             ,UMOL/KG,            ,UMOL/KG,            ,25_DEG_C,  ,DEG_C,,       ,      ,/MILLE,UMOL/KG,     ,UMOL/KG,            ,UG/L,             ,UG/L,             ,DBAR  ,ITS-90,METERS,         ,METERS,DEG_C,      ,UMOL/L,        
KS08-06-1,EQPAC,KS-2212,1,-9,-9,5,20080724,0818,-0.0058,144.9882,3662,0,29.6751,35.003,2,-999,9,-999,9,198,2,1.14,2,-999,9,0,2,0,2,0.13,2,-999,9,-999,9,-999,9,-999,9,-999,9,-999,9,   -999.0,  9,-999,9,-999,-999,9,-999,9,0.07,2,0.02,2,-999,-999,-999,9,0,29.6749,21.8391,-999,9
KS08-06-1,EQPAC,KS-2212,1,21,02-16027,2,20080724,0832,-0.0058,144.9882,3662,11,29.42,34.9848,2,-999,9,34.9835,2,199,2,1.14,2,-999,9,0,2,0,2,0.13,2,-999,9,-999,9,-999,9,-999,9,-999,9,-999,9,   -999.0,  9,-999,9,-999,-999,9,-999,9,0.07,2,0.02,2,-999,-999,-999,9,11,29.4173,21.9126,-999,9
KS08-06-1,EQPAC,KS-2212,1,20,02-16026,2,20080724,0831,-0.0058,144.9882,3662,25.6,29.3543,35.0105,2,-999,9,-999,9,200,2,1.17,2,-999,9,0,2,0,2,0.14,2,-999,9,-999,9,-999,9,-999,9,-999,9,-999,9,   -999.0,  9,-999,9,-999,-999,9,-999,9,0.08,2,0.04,2,-999,-999,-999,9,25,29.3481,21.9552,-999,9
KS08-06-1,EQPAC,KS-2212,1,19,02-19378,2,20080724,0828,-0.0058,144.9882,3662,51.4,29.2939,35.0635,2,-999,9,-999,9,198,2,1.13,2,-999,9,0,2,0.02,2,0.15,2,-999,9,-999,9,-999,9,-999,9,-999,9,-999,9,   -999.0,  9,-999,9,-999,-999,9,-999,9,0.23,2,0.16,2,-999,-999,-999,9,51,29.2814,22.0174,-999,9
KS08-06-1,EQPAC,KS-2212,1,18,02-19377,2,20080724,0826,-0.0058,144.9882,3662,75.9,29.0871,35.2469,2,-999,9,-999,9,187,2,1.36,2,-999,9,1.86,2,0.37,2,0.26,2,-999,9,-999,9,-999,9,-999,9,-999,9,-999,9,   -999.0,  9,-999,9,-999,-999,9,-999,9,0.33,2,0.35,2,-999,-999,-999,9,75,29.0687,22.2265,-999,9
KS08-06-1,EQPAC,KS-2212,1,17,02-16023,2,20080724,0825,-0.0058,144.9882,3662,101.7,28.193,35.4677,2,-999,9,35.4889,4,172,2,1.95,2,-999,9,5.28,2,0.09,2,0.45,2,-999,9,-999,9,-999,9,-999,9,-999,9,-999,9,   -999.0,  9,-999,9,-999,-999,9,-999,9,0.16,2,0.3,2,-999,-999,-999,9,101,28.1689,22.691,-999,9
KS08-06-1,EQPAC,KS-2212,1,16,02-16022,2,20080724,0825,-0.0058,144.9882,3662,126.9,26.3314,35.5884,2,-999,9,-999,9,151,2,2.43,2,-999,9,7.72,2,0.02,2,0.6,2,-999,9,-999,9,-999,9,-999,9,-999,9,-999,9,   -999.0,  9,-999,9,-999,-999,9,-999,9,0.04,2,0.04,2,-999,-999,-999,9,126,26.3028,23.3824,-999,9
KS08-06-1,EQPAC,KS-2212,1,15,02-16021,2,20080724,0823,-0.0058,144.9882,3662,152.2,24.6048,35.416,2,-999,9,-999,9,146,2,3.47,2,-999,9,8.69,2,0.01,2,0.63,2,-999,9,-999,9,-999,9,-999,9,-999,9,-999,9,   -999.0,  9,-999,9,-999,-999,9,-999,9,0.03,2,0.02,2,-999,-999,-999,9,151,24.5721,23.7853,-999,9
KS08-06-1,EQPAC,KS-2212,1,14,02-16020,2,20080724,0822,-0.0058,144.9882,3662,202.2,18.5133,35.4895,2,-999,9,35.485,2,134,2,5.24,2,-999,9,12.68,2,0.01,2,0.92,2,-999,9,-999,9,-999,9,-999,9,-999,9,-999,9,   -999.0,  9,-999,9,-999,-999,9,-999,9,0,2,0.02,2,-999,-999,-999,9,201,18.4778,25.5279,-999,9
KS08-06-1,EQPAC,KS-2212,1,13,02-16019,2,20080724,0820,-0.0058,144.9882,3662,253.1,15.0842,35.1894,2,-999,9,-999,9,150,2,7.84,2,-999,9,15.11,2,0,2,1.03,2,-999,9,-999,9,-999,9,-999,9,-999,9,-999,9,   -999.0,  9,-999,9,-999,-999,9,-999,9,0,2,0.02,2,-999,-999,-999,9,252,15.0456,26.108,-999,9
KS08-06-1,EQPAC,KS-2212,1,12,02-16018,2,20080724,0819,-0.0058,144.9882,3662,301.9,12.2693,34.9484,2,-999,9,34.9482,2,158,2,11.23,2,-999,9,18.61,2,0,2,1.26,2,-999,9,-999,9,-999,9,-999,9,-999,9,-999,9,   -999.0,  9,-999,9,-999,-999,9,-999,9,0,2,0.02,2,-999,-999,-999,9,300,12.2292,26.505,-999,9
KS08-06-1,EQPAC,KS-2212,1,11,02-19376,2,20080724,0816,-0.0058,144.9882,3662,404.2,8.8902,34.6435,2,-999,9,34.6406,2,123,2,28.94,2,-999,9,28.44,2,0,2,1.93,2,-999,9,-999,9,-999,9,-999,9,-999,9,-999,9,   -999.0,  9,-999,9,-999,-999,9,-999,9,-999,9,-999,9,-999,-999,-999,9,402,8.8463,26.8634,-999,9
KS08-06-1,EQPAC,KS-2212,1,10,02-19375,2,20080724,0814,-0.0058,144.9882,3662,503,8.2848,34.6116,2,-999,9,34.612,2,138,2,28.81,2,-999,9,27.95,2,0,2,1.90,2,-999,9,-999,9,-999,9,-999,9,-999,9,-999,9,   -999.0,  9,-999,9,-999,-999,9,-999,9,-999,9,-999,9,-999,-999,-999,9,500,8.2321,26.9338,-999,9
KS08-06-1,EQPAC,KS-2212,1,9,02-16015,2,20080724,0812,-0.0058,144.9882,3662,604.8,6.8782,34.5472,2,-999,9,34.5466,2,124,2,40.95,2,-999,9,32.13,2,0,2,2.21,2,-999,9,-999,9,-999,9,-999,9,-999,9,-999,9,   -999.0,  9,-999,9,-999,-999,9,-999,9,-999,9,-999,9,-999,-999,-999,9,601,6.8209,27.0867,-999,9
KS08-06-1,EQPAC,KS-2212,1,8,02-16014,2,20080724,0809,-0.0058,144.9882,3662,705.7,5.882,34.5268,2,-999,9,34.5267,2,121,2,51.83,2,-999,9,34.27,2,0,2,2.38,2,-999,9,-999,9,-999,9,-999,9,-999,9,-999,9,   -999.0,  9,-999,9,-999,-999,9,-999,9,-999,9,-999,9,-999,-999,-999,9,701,5.8199,27.2014,-999,9
KS08-06-1,EQPAC,KS-2212,1,7,02-19374,2,20080724,0807,-0.0058,144.9882,3662,806.7,5.0372,34.5341,2,-999,9,34.5351,2,116,2,69.17,2,-999,9,35.72,2,0,2,2.50,2,-999,9,-999,9,-999,9,-999,9,-999,9,-999,9,   -999.0,  9,-999,9,-999,-999,9,-999,9,-999,9,-999,9,-999,-999,-999,9,801,4.9708,27.3092,-999,9
KS08-06-1,EQPAC,KS-2212,1,6,02-19373,2,20080724,0804,-0.0058,144.9882,3662,908.2,4.4023,34.5538,2,-999,9,34.5544,2,104,2,84.69,2,-999,9,37.28,2,0,2,2.63,2,-999,9,-999,9,-999,9,-999,9,-999,9,-999,9,   -999.0,  9,-999,9,-999,-999,9,-999,9,-999,9,-999,9,-999,-999,-999,9,901,4.3313,27.3962,-999,9
KS08-06-1,EQPAC,KS-2212,1,5,02-16011,2,20080724,0802,-0.0058,144.9882,3662,1009.5,4.2079,34.5589,2,-999,9,34.5588,2,104,2,87.86,2,-999,9,37.67,2,0,2,2.67,2,-999,9,-999,9,-999,9,-999,9,-999,9,-999,9,   -999.0,  9,-999,9,-999,-999,9,-999,9,-999,9,-999,9,-999,-999,-999,9,1002,4.1297,27.4217,-999,9
KS08-06-1,EQPAC,KS-2212,1,4,02-16010,2,20080724,0757,-0.0058,144.9882,3662,1262.2,3.4343,34.5822,2,-999,9,34.5825,2,108,2,103.64,2,-999,9,38.05,2,0,2,2.69,2,-999,9,-999,9,-999,9,-999,9,-999,9,-999,9,   -999.0,  9,-999,9,-999,-999,9,-999,9,-999,9,-999,9,-999,-999,-999,9,1251,3.3416,27.5195,-999,9
KS08-06-1,EQPAC,KS-2212,1,3,02-16009,2,20080724,0751,-0.0058,144.9882,3662,1515.2,2.9527,34.6018,2,-999,9,34.6034,2,108,2,115.99,2,-999,9,38.34,2,0,2,2.72,2,-999,9,-999,9,-999,9,-999,9,-999,9,-999,9,   -999.0,  9,-999,9,-999,-999,9,-999,9,-999,9,-999,9,-999,-999,-999,9,1501,2.8441,27.5814,-999,9
KS08-06-1,EQPAC,KS-2212,1,2,02-16008,2,20080724,0746,-0.0058,144.9882,3662,1767.3,2.4695,34.6246,2,-999,9,34.6253,2,117,2,125.19,2,-999,9,37.85,2,0,2,2.66,2,-999,9,-999,9,-999,9,-999,9,-999,9,-999,9,   -999.0,  9,-999,9,-999,-999,9,-999,9,-999,9,-999,9,-999,-999,-999,9,1750,2.3458,27.6428,-999,9
KS08-06-1,EQPAC,KS-2212,1,1,02-16007,2,20080724,0740,-0.0058,144.9882,3662,2032.5,2.232,34.6371,2,-999,9,34.6395,2,121,2,131.48,2,-999,9,37.85,2,0,2,2.65,2,-999,9,-999,9,-999,9,-999,9,-999,9,-999,9,   -999.0,  9,-999,9,-999,-999,9,-999,9,-999,9,-999,9,-999,-999,-999,9,2012,2.0892,27.6738,-999,9
KS08-06-1,EQPAC,KS-2213,1,-9,-9,5,20080724,1814,-0.007,142.9873,3129,0,29.4055,34.8267,2,-999,9,-999,9,198,2,0.93,2,-999,9,0,2,0,2,0.12,2,-999,9,-999,9,-999,9,-999,9,-999,9,-999,9,   -999.0,  9,-999,9,-999,-999,9,-999,9,0.06,2,0.02,2,-999,-999,-999,9,0,29.4053,21.798,-999,9
KS08-06-1,EQPAC,KS-2213,1,21,02-16027,2,20080724,1838,-0.007,142.9873,3129,10.3,29.4062,34.831,2,-999,9,-999,9,198,2,0.87,2,-999,9,0,2,0,2,0.11,2,-999,9,-999,9,-999,9,-999,9,-999,9,-999,9,   -999.0,  9,-999,9,-999,-999,9,-999,9,0.06,2,0.03,2,-999,-999,-999,9,10,29.4037,21.8017,-999,9
KS08-06-1,EQPAC,KS-2213,1,20,02-16026,2,20080724,1837,-0.007,142.9873,3129,25.3,29.426,34.8617,2,-999,9,-999,9,199,2,0.92,2,-999,9,0,2,0,2,0.12,2,-999,9,-999,9,-999,9,-999,9,-999,9,-999,9,   -999.0,  9,-999,9,-999,-999,9,-999,9,0.07,2,0.03,2,-999,-999,-999,9,25,29.4198,21.8193,-999,9
KS08-06-1,EQPAC,KS-2213,1,19,02-19378,2,20080724,1832,-0.007,142.9873,3129,50.7,29.2541,35.1527,2,-999,9,-999,9,196,2,1.02,2,-999,9,0.29,2,0.11,2,0.18,2,-999,9,-999,9,-999,9,-999,9,-999,9,-999,9,   -999.0,  9,-999,9,-999,-999,9,-999,9,0.22,2,0.14,2,-999,-999,-999,9,50,29.2417,22.0977,-999,9
KS08-06-1,EQPAC,KS-2213,1,18,02-19377,2,20080724,1831,-0.007,142.9873,3129,75.3,28.9378,35.3299,2,-999,9,-999,9,182,2,1.30,2,-999,9,2.84,2,0.75,2,0.31,2,-999,9,-999,9,-999,9,-999,9,-999,9,-999,9,   -999.0,  9,-999,9,-999,-999,9,-999,9,0.25,2,0.35,2,-999,-999,-999,9,75,28.9196,22.3387,-999,9
KS08-06-1,EQPAC,KS-2213,1,17,02-16023,2,20080724,1830,-0.007,142.9873,3129,100.7,28.2119,35.4795,2,-999,9,-999,9,171,2,1.64,2,-999,9,5.08,2,0.08,2,0.44,2,-999,9,-999,9,-999,9,-999,9,-999,9,-999,9,   -999.0,  9,-999,9,-999,-999,9,-999,9,0.1,2,0.24,2,-999,-999,-999,9,100,28.188,22.6936,-999,9
KS08-06-1,EQPAC,KS-2213,1,16,02-16022,2,20080724,1829,-0.007,142.9873,3129,125,26.5503,35.5178,2,-999,9,-999,9,158,2,2.19,2,-999,9,7.33,2,0.03,2,0.56,2,-999,9,-999,9,-999,9,-999,9,-999,9,-999,9,   -999.0,  9,-999,9,-999,-999,9,-999,9,0.04,2,0.06,2,-999,-999,-999,9,124,26.5219,23.26,-999,9
KS08-06-1,EQPAC,KS-2213,1,15,02-16021,2,20080724,1827,-0.007,142.9873,3129,151.3,24.8369,35.5151,2,-999,9,-999,9,144,2,2.87,2,-999,9,8.6,2,0.02,2,0.63,2,-999,9,-999,9,-999,9,-999,9,-999,9,-999,9,   -999.0,  9,-999,9,-999,-999,9,-999,9,0.03,2,0.02,2,-999,-999,-999,9,150,24.8042,23.7901,-999,9
KS08-06-1,EQPAC,KS-2213,1,14,02-16020,2,20080724,1825,-0.007,142.9873,3129,204,17.151,35.241,2,-999,9,-999,9,140,2,8.35,2,-999,9,13.55,2,0,2,0.94,2,-999,9,-999,9,-999,9,-999,9,-999,9,-999,9,   -999.0,  9,-999,9,-999,-999,9,-999,9,0,2,0.02,2,-999,-999,-999,9,203,17.1171,25.6713,-999,9
KS08-06-1,EQPAC,KS-2213,1,13,02-16019,2,20080724,1823,-0.007,142.9873,3129,254.1,13.5108,34.9606,2,-999,9,-999,9,146,2,13.51,2,-999,9,17.73,2,0,2,1.2,2,-999,9,-999,9,-999,9,-999,9,-999,9,-999,9,   -999.0,  9,-999,9,-999,-999,9,-999,9,0,2,0.02,2,-999,-999,-999,9,253,13.4749,26.2659,-999,9
KS08-06-1,EQPAC,KS-2213,1,12,02-16018,2,20080724,1821,-0.007,142.9873,3129,305.6,11.0446,34.7994,2,-999,9,-999,9,143,2,19.36,2,-999,9,22.31,2,0,2,1.50,2,-999,9,-999,9,-999,9,-999,9,-999,9,-999,9,   -999.0,  9,-999,9,-999,-999,9,-999,9,0,2,0.02,2,-999,-999,-999,9,304,11.0067,26.6181,-999,9
KS08-06-1,EQPAC,KS-2213,1,11,02-19376,2,20080724,1819,-0.007,142.9873,3129,403.1,9.0338,34.6669,2,-999,9,-999,9,149,2,22.31,2,-999,9,25.61,2,0,2,1.71,2,-999,9,-999,9,-999,9,-999,9,-999,9,-999,9,   -999.0,  9,-999,9,-999,-999,9,-999,9,-999,9,-999,9,-999,-999,-999,9,401,8.9896,26.8589,-999,9
KS08-06-1,EQPAC,KS-2213,1,10,02-19375,2,20080724,1816,-0.007,142.9873,3129,502.5,7.3566,34.5533,2,-999,9,-999,9,164,2,26.98,2,-999,9,27.65,2,0,2,1.86,2,-999,9,-999,9,-999,9,-999,9,-999,9,-999,9,   -999.0,  9,-999,9,-999,-999,9,-999,9,-999,9,-999,9,-999,-999,-999,9,499,7.3075,27.0238,-999,9
KS08-06-1,EQPAC,KS-2213,1,9,02-16015,2,20080724,1814,-0.007,142.9873,3129,603.9,6.3121,34.5369,2,-999,9,-999,9,116,2,47.78,2,-999,9,34.17,2,0,2,2.36,2,-999,9,-999,9,-999,9,-999,9,-999,9,-999,9,   -999.0,  9,-999,9,-999,-999,9,-999,9,-999,9,-999,9,-999,-999,-999,9,600,6.2574,27.1536,-999,9
KS08-06-1,EQPAC,KS-2213,1,8,02-16014,2,20080724,1811,-0.007,142.9873,3129,704.9,5.8072,34.5301,2,-999,9,-999,9,115,2,54.56,2,-999,9,35.05,2,0,2,2.43,2,-999,9,-999,9,-999,9,-999,9,-999,9,-999,9,   -999.0,  9,-999,9,-999,-999,9,-999,9,-999,9,-999,9,-999,-999,-999,9,700,5.7456,27.2133,-999,9
KS08-06-1,EQPAC,KS-2213,1,7,02-19374,2,20080724,1809,-0.007,142.9873,3129,806,5.0549,34.5334,2,-999,9,-999,9,116,2,66.86,2,-999,9,35.82,2,0,2,2.49,2,-999,9,-999,9,-999,9,-999,9,-999,9,-999,9,   -999.0,  9,-999,9,-999,-999,9,-999,9,-999,9,-999,9,-999,-999,-999,9,800,4.9885,27.3067,-999,9
KS08-06-1,EQPAC,KS-2213,1,6,02-19373,2,20080724,1806,-0.007,142.9873,3129,907.9,4.6245,34.5448,2,-999,9,-999,9,110,2,77.20,2,-999,9,36.79,2,0,2,2.58,2,-999,9,-999,9,-999,9,-999,9,-999,9,-999,9,   -999.0,  9,-999,9,-999,-999,9,-999,9,-999,9,-999,9,-999,-999,-999,9,901,4.552,27.365,-999,9
KS08-06-1,EQPAC,KS-2213,1,5,02-16011,2,20080724,1804,-0.007,142.9873,3129,1008,4.1431,34.5615,2,-999,9,-999,9,100,2,90.15,2,-999,9,38.15,2,0,2,2.69,2,-999,9,-999,9,-999,9,-999,9,-999,9,-999,9,   -999.0,  9,-999,9,-999,-999,9,-999,9,-999,9,-999,9,-999,-999,-999,9,1000,4.0656,27.4305,-999,9
KS08-06-1,EQPAC,KS-2213,1,4,02-16010,2,20080724,1758,-0.007,142.9873,3129,1260.5,3.4398,34.5827,2,-999,9,-999,9,108,2,103.63,2,-999,9,38.15,2,0,2,2.69,2,-999,9,-999,9,-999,9,-999,9,-999,9,-999,9,   -999.0,  9,-999,9,-999,-999,9,-999,9,-999,9,-999,9,-999,-999,-999,9,1250,3.3472,27.5194,-999,9
KS08-06-1,EQPAC,KS-2213,1,3,02-16009,2,20080724,1753,-0.007,142.9873,3129,1513.5,2.9542,34.6022,2,-999,9,-999,9,107,2,115.68,2,-999,9,38.54,2,0,2,2.71,2,-999,9,-999,9,-999,9,-999,9,-999,9,-999,9,   -999.0,  9,-999,9,-999,-999,9,-999,9,-999,9,-999,9,-999,-999,-999,9,1500,2.8457,27.5816,-999,9
KS08-06-1,EQPAC,KS-2213,1,2,02-16008,2,20080724,1747,-0.007,142.9873,3129,1767.3,2.5438,34.621,2,-999,9,-999,9,116,2,124.09,2,-999,9,38.15,2,0,2,2.66,2,-999,9,-999,9,-999,9,-999,9,-999,9,-999,9,   -999.0,  9,-999,9,-999,-999,9,-999,9,-999,9,-999,9,-999,-999,-999,9,1750,2.4191,27.6337,-999,9
KS08-06-1,EQPAC,KS-2213,1,1,02-16007,2,20080724,1741,-0.007,142.9873,3129,2033.1,2.241,34.6368,2,-999,9,-999,9,120,2,130.73,2,-999,9,38.05,2,0,2,2.65,2,-999,9,-999,9,-999,9,-999,9,-999,9,-999,9,   -999.0,  9,-999,9,-999,-999,9,-999,9,-999,9,-999,9,-999,-999,-999,9,2012,2.098,27.6729,-999,9