BOTTLE,20121206MIRCHATS
EXPOCODE,SECT_ID,STNNBR,CASTNO,SAMPNO,BTLNBR,BTLNBR_FLAG_W,DATE,TIME,LATITUDE,LONGITUDE,DEPTH,CTDPRS,CTDTMP,CTDSAL,CTDSAL_FLAG_W,CTDOXY,CTDOXY_FLAG_W,SALNTY,SALNTY_FLAG_W,OXYGEN,OXYGEN_FLAG_W,SILCAT,SILCAT_FLAG_W,NITRAT,NITRAT_FLAG_W,NO2+NO3,NO2+NO3_FLAG_W,NITRIT,NITRIT_FLAG_W,PHSPHT,PHSPHT_FLAG_W,CFC-11,CFC-11_FLAG_W,CFC-12,CFC-12_FLAG_W,DELC13,DELC13_FLAG_W,TCARBN,TCARBN_FLAG_W,ALKALI,ALKALI_FLAG_W,PH,PH_FLAG_W,PH_TMP,PH_SCALE,PH_NBS,PH_NBS_FLAG_W,C13ERR,TOTALP,TOTALP_FLAG_W,AMMONI,AMMONI_FLAG_W,CHLORA,CHLORA_FLAG_W,PPHYTN,PPHYTN_FLAG_W,REVPRS,REVTMP,DEPTH,DEPTH_FLAG,CTDDEP,THETA,SIGTHT,DOC,DOC_FLAG_W
        ,       ,      ,      ,      ,      ,             ,GMT ,GMT ,        ,         ,METER,DBAR  ,ITS-90,PSS-78,             ,UMOL/KG,            ,PSS-78,             ,UMOL/KG,            ,UMOL/KG,            ,UMOL/KG,            ,UMOL/KG,            ,UMOL/KG,            ,UMOL/KG,            ,PMOL/KG,            ,PMOL/KG,            ,/MILLE,             ,UMOL/KG,            ,UMOL/KG,            ,25_DEG_C,  ,DEG_C,,       ,      ,/MILLE,UMOL/KG,     ,UMOL/KG,            ,UG/L,             ,UG/L,             ,DBAR  ,ITS-90,METERS,         ,METERS,DEG_C,      ,UMOL/L,        
KS08-06-1,EQPAC,KS-2208,1,-9,-9,5,20080722,1141,0.0033,152.9857,4190,0,29.3497,35.1224,2,-999,9,-999,9,199,2,1.13,2,-999,9,0,2,0.01,2,0.16,2,-999,9,-999,9,-999,9,-999,9,-999,9,-999,9,   -999.0,  9,-999,9,-999,-999,9,-999,9,0.14,2,0.05,2,-999,-999,-999,9,0,29.3495,22.0386,-999,9
KS08-06-1,EQPAC,KS-2208,1,21,02-16027,2,20080722,1159,0.0033,152.9857,4190,10.6,29.2823,35.1485,2,-999,9,35.1477,2,201,2,1.22,2,-999,9,0,2,0.02,2,0.17,2,-999,9,-999,9,-999,9,-999,9,-999,9,-999,9,   -999.0,  9,-999,9,-999,-999,9,-999,9,0.15,2,0.06,2,-999,-999,-999,9,11,29.2797,22.0818,-999,9
KS08-06-1,EQPAC,KS-2208,1,20,02-16026,2,20080722,1158,0.0033,152.9857,4190,25.1,29.2382,35.1503,2,-999,9,-999,9,200,2,1.21,2,-999,9,0.1,2,0.03,2,0.16,2,-999,9,-999,9,-999,9,-999,9,-999,9,-999,9,   -999.0,  9,-999,9,-999,-999,9,-999,9,0.17,2,0.09,2,-999,-999,-999,9,25,29.2321,22.0991,-999,9
KS08-06-1,EQPAC,KS-2208,1,19,02-19378,2,20080722,1154,0.0033,152.9857,4190,50.3,28.9541,35.2872,2,-999,9,-999,9,191,2,1.40,2,-999,9,1.57,2,0.29,2,0.24,2,-999,9,-999,9,-999,9,-999,9,-999,9,-999,9,   -999.0,  9,-999,9,-999,-999,9,-999,9,0.26,2,0.22,2,-999,-999,-999,9,50,28.9419,22.2992,-999,9
KS08-06-1,EQPAC,KS-2208,1,18,02-19377,2,20080722,1153,0.0033,152.9857,4190,75.7,28.4377,35.374,2,-999,9,-999,9,172,2,1.69,2,-999,9,4.01,2,0.45,2,0.38,2,-999,9,-999,9,-999,9,-999,9,-999,9,-999,9,   -999.0,  9,-999,9,-999,-999,9,-999,9,0.21,2,0.38,2,-999,-999,-999,9,75,28.4196,22.5379,-999,9
KS08-06-1,EQPAC,KS-2208,1,17,02-16023,2,20080722,1152,0.0033,152.9857,4190,101.1,27.9448,35.5566,2,-999,9,35.5566,2,171,2,1.78,2,-999,9,5.28,2,0.11,2,0.46,2,-999,9,-999,9,-999,9,-999,9,-999,9,-999,9,   -999.0,  9,-999,9,-999,-999,9,-999,9,0.09,2,0.25,2,-999,-999,-999,9,100,27.921,22.8391,-999,9
KS08-06-1,EQPAC,KS-2208,1,16,02-16022,2,20080722,1151,0.0033,152.9857,4190,129.4,26.26,35.418,2,-999,9,-999,9,154,2,2.70,2,-999,9,7.33,2,0.03,2,0.56,2,-999,9,-999,9,-999,9,-999,9,-999,9,-999,9,   -999.0,  9,-999,9,-999,-999,9,-999,9,0.04,2,0.05,2,-999,-999,-999,9,129,26.2309,23.2765,-999,9
KS08-06-1,EQPAC,KS-2208,1,15,02-16021,2,20080722,1149,0.0033,152.9857,4190,152.4,23.0021,35.3609,2,-999,9,-999,9,138,2,4.65,2,-999,9,9.57,2,0.01,2,0.68,2,-999,9,-999,9,-999,9,-999,9,-999,9,-999,9,   -999.0,  9,-999,9,-999,-999,9,-999,9,0.01,2,0.02,2,-999,-999,-999,9,152,22.9709,24.2157,-999,9
KS08-06-1,EQPAC,KS-2208,1,14,02-16020,2,20080722,1148,0.0033,152.9857,4190,201.1,18.413,35.3843,2,-999,9,35.389,2,138,2,5.96,2,-999,9,12.48,2,0,2,0.87,2,-999,9,-999,9,-999,9,-999,9,-999,9,-999,9,   -999.0,  9,-999,9,-999,-999,9,-999,9,0,2,0.02,2,-999,-999,-999,9,200,18.3778,25.4724,-999,9
KS08-06-1,EQPAC,KS-2208,1,13,02-16019,2,20080722,1146,0.0033,152.9857,4190,251.1,13.522,35.0546,2,-999,9,-999,9,147,2,10.30,2,-999,9,17.64,2,0,2,1.21,2,-999,9,-999,9,-999,9,-999,9,-999,9,-999,9,   -999.0,  9,-999,9,-999,-999,9,-999,9,0,2,0.02,2,-999,-999,-999,9,250,13.4865,26.3362,-999,9
KS08-06-1,EQPAC,KS-2208,1,12,02-16018,2,20080722,1145,0.0033,152.9857,4190,302.9,11.2783,34.8304,2,-999,9,34.8304,2,145,2,17.86,2,-999,9,21.82,2,0,2,1.48,2,-999,9,-999,9,-999,9,-999,9,-999,9,-999,9,   -999.0,  9,-999,9,-999,-999,9,-999,9,0,2,0.02,2,-999,-999,-999,9,301,11.2402,26.5997,-999,9
KS08-06-1,EQPAC,KS-2208,1,11,02-19376,2,20080722,1143,0.0033,152.9857,4190,403.1,9.0284,34.6631,2,-999,9,34.6581,2,141,2,23.61,2,-999,9,26.59,2,0,2,1.79,2,-999,9,-999,9,-999,9,-999,9,-999,9,-999,9,   -999.0,  9,-999,9,-999,-999,9,-999,9,-999,9,-999,9,-999,-999,-999,9,401,8.9842,26.8569,-999,9
KS08-06-1,EQPAC,KS-2208,1,10,02-19375,2,20080722,1140,0.0033,152.9857,4190,503.4,7.8828,34.5867,2,-999,9,34.5861,2,126,2,33.26,2,-999,9,30.19,2,0,2,2.05,2,-999,9,-999,9,-999,9,-999,9,-999,9,-999,9,   -999.0,  9,-999,9,-999,-999,9,-999,9,-999,9,-999,9,-999,-999,-999,9,500,7.8316,26.9742,-999,9
KS08-06-1,EQPAC,KS-2208,1,9,02-16015,2,20080722,1138,0.0033,152.9857,4190,604.4,6.7845,34.5558,2,-999,9,34.5552,2,99,2,45.36,2,-999,9,35.15,2,0,2,2.44,2,-999,9,-999,9,-999,9,-999,9,-999,9,-999,9,   -999.0,  9,-999,9,-999,-999,9,-999,9,-999,9,-999,9,-999,-999,-999,9,600,6.7276,27.1061,-999,9
KS08-06-1,EQPAC,KS-2208,1,8,02-16014,2,20080722,1135,0.0033,152.9857,4190,705.4,5.7949,34.5332,2,-999,9,34.5337,2,108,2,55.84,2,-999,9,35.53,2,0,2,2.48,2,-999,9,-999,9,-999,9,-999,9,-999,9,-999,9,   -999.0,  9,-999,9,-999,-999,9,-999,9,-999,9,-999,9,-999,-999,-999,9,700,5.7333,27.2173,-999,9
KS08-06-1,EQPAC,KS-2208,1,7,02-19374,2,20080722,1133,0.0033,152.9857,4190,806.3,5.4867,34.5348,2,-999,9,34.5352,2,105,2,61.92,2,-999,9,36.41,2,0,2,2.55,2,-999,9,-999,9,-999,9,-999,9,-999,9,-999,9,   -999.0,  9,-999,9,-999,-999,9,-999,9,-999,9,-999,9,-999,-999,-999,9,800,5.4176,27.2571,-999,9
KS08-06-1,EQPAC,KS-2208,1,6,02-19373,2,20080722,1130,0.0033,152.9857,4190,906.4,5.0349,34.5396,2,-999,9,34.54,2,104,2,70.55,2,-999,9,36.99,2,0,2,2.59,2,-999,9,-999,9,-999,9,-999,9,-999,9,-999,9,   -999.0,  9,-999,9,-999,-999,9,-999,9,-999,9,-999,9,-999,-999,-999,9,899,4.9597,27.3148,-999,9
KS08-06-1,EQPAC,KS-2208,1,5,02-16011,2,20080722,1128,0.0033,152.9857,4190,1008.3,4.4091,34.5527,2,-999,9,34.5526,2,101,2,83.04,2,-999,9,37.86,2,0,2,2.68,2,-999,9,-999,9,-999,9,-999,9,-999,9,-999,9,   -999.0,  9,-999,9,-999,-999,9,-999,9,-999,9,-999,9,-999,-999,-999,9,1000,4.3295,27.3955,-999,9
KS08-06-1,EQPAC,KS-2208,1,4,02-16010,2,20080722,1123,0.0033,152.9857,4190,1260.7,3.4369,34.5839,2,-999,9,34.5844,2,102,2,104.88,2,-999,9,38.64,2,0,2,2.73,2,-999,9,-999,9,-999,9,-999,9,-999,9,-999,9,   -999.0,  9,-999,9,-999,-999,9,-999,9,-999,9,-999,9,-999,-999,-999,9,1250,3.3443,27.5206,-999,9
KS08-06-1,EQPAC,KS-2208,1,3,02-16009,2,20080722,1117,0.0033,152.9857,4190,1513.9,2.9434,34.6035,2,-999,9,34.6041,2,108,2,116.18,2,-999,9,38.54,2,0,2,2.74,2,-999,9,-999,9,-999,9,-999,9,-999,9,-999,9,   -999.0,  9,-999,9,-999,-999,9,-999,9,-999,9,-999,9,-999,-999,-999,9,1500,2.835,27.5835,-999,9
KS08-06-1,EQPAC,KS-2208,1,2,02-16008,2,20080722,1112,0.0033,152.9857,4190,1768.3,2.5791,34.62,2,-999,9,34.6209,2,115,2,123.13,2,-999,9,38.34,2,0,2,2.69,2,-999,9,-999,9,-999,9,-999,9,-999,9,-999,9,   -999.0,  9,-999,9,-999,-999,9,-999,9,-999,9,-999,9,-999,-999,-999,9,1751,2.4539,27.63,-999,9
KS08-06-1,EQPAC,KS-2208,1,1,02-16007,2,20080722,1106,0.0033,152.9857,4190,2033.2,2.2778,34.6356,2,-999,9,34.637,2,118,2,130.37,2,-999,9,38.14,2,0,2,2.67,2,-999,9,-999,9,-999,9,-999,9,-999,9,-999,9,   -999.0,  9,-999,9,-999,-999,9,-999,9,-999,9,-999,9,-999,-999,-999,9,2012,2.1343,27.669,-999,9
KS08-06-1,EQPAC,KS-2209,1,-9,-9,5,20080722,2146,-0.0107,150.9915,4927,0,29.1971,35.0822,2,-999,9,-999,9,198,2,1.18,2,-999,9,0.1,2,0.03,2,0.15,2,-999,9,-999,9,-999,9,-999,9,-999,9,-999,9,   -999.0,  9,-999,9,-999,-999,9,-999,9,0.17,2,0.07,2,-999,-999,-999,9,0,29.1969,22.0598,-999,9
KS08-06-1,EQPAC,KS-2209,1,21,02-16027,2,20080722,2203,-0.0107,150.9915,4927,10.3,29.1906,35.0841,2,-999,9,-999,9,198,2,1.13,2,-999,9,0.1,2,0.03,2,0.15,2,-999,9,-999,9,-999,9,-999,9,-999,9,-999,9,   -999.0,  9,-999,9,-999,-999,9,-999,9,0.17,2,0.07,2,-999,-999,-999,9,10,29.1881,22.0642,-999,9
KS08-06-1,EQPAC,KS-2209,1,20,02-16026,2,20080722,2203,-0.0107,150.9915,4927,25.4,29.1652,35.1087,2,-999,9,-999,9,198,2,1.60,2,-999,9,0.29,2,0.08,2,0.17,2,-999,9,-999,9,-999,9,-999,9,-999,9,-999,9,   -999.0,  9,-999,9,-999,-999,9,-999,9,0.23,2,0.12,2,-999,-999,-999,9,25,29.159,22.0924,-999,9
KS08-06-1,EQPAC,KS-2209,1,19,02-19378,2,20080722,2158,-0.0107,150.9915,4927,51.3,28.5637,35.4039,2,-999,9,-999,9,174,2,1.64,2,-999,9,3.81,2,0.5,2,0.36,2,-999,9,-999,9,-999,9,-999,9,-999,9,-999,9,   -999.0,  9,-999,9,-999,-999,9,-999,9,0.26,2,0.39,2,-999,-999,-999,9,51,28.5514,22.5168,-999,9
KS08-06-1,EQPAC,KS-2209,1,18,02-19377,2,20080722,2157,-0.0107,150.9915,4927,75.1,28.5156,35.4801,2,-999,9,-999,9,178,2,1.58,2,-999,9,3.81,2,0.43,2,0.37,2,-999,9,-999,9,-999,9,-999,9,-999,9,-999,9,   -999.0,  9,-999,9,-999,-999,9,-999,9,0.22,2,0.39,2,-999,-999,-999,9,75,28.4976,22.5919,-999,9
KS08-06-1,EQPAC,KS-2209,1,17,02-16023,2,20080722,2156,-0.0107,150.9915,4927,100.8,27.2822,35.4836,2,-999,9,-999,9,163,2,2.17,2,-999,9,6.35,2,0.05,2,0.51,2,-999,9,-999,9,-999,9,-999,9,-999,9,-999,9,   -999.0,  9,-999,9,-999,-999,9,-999,9,0.08,2,0.19,2,-999,-999,-999,9,100,27.2589,22.999,-999,9
KS08-06-1,EQPAC,KS-2209,1,16,02-16022,2,20080722,2154,-0.0107,150.9915,4927,125.3,25.514,35.5236,2,-999,9,-999,9,146,2,2.75,2,-999,9,8.11,2,0.02,2,0.62,2,-999,9,-999,9,-999,9,-999,9,-999,9,-999,9,   -999.0,  9,-999,9,-999,-999,9,-999,9,0.04,2,0.03,2,-999,-999,-999,9,125,25.4864,23.5879,-999,9
KS08-06-1,EQPAC,KS-2209,1,15,02-16021,2,20080722,2153,-0.0107,150.9915,4927,150.8,23.0794,35.6828,2,-999,9,-999,9,135,2,3.27,2,-999,9,9.47,2,0.02,2,0.71,2,-999,9,-999,9,-999,9,-999,9,-999,9,-999,9,   -999.0,  9,-999,9,-999,-999,9,-999,9,0.01,2,0.02,2,-999,-999,-999,9,150,23.0484,24.4375,-999,9
KS08-06-1,EQPAC,KS-2209,1,14,02-16020,2,20080722,2152,-0.0107,150.9915,4927,202.5,18.4763,35.5147,2,-999,9,-999,9,131,2,5.13,2,-999,9,12.77,2,0.01,2,0.95,2,-999,9,-999,9,-999,9,-999,9,-999,9,-999,9,   -999.0,  9,-999,9,-999,-999,9,-999,9,0,2,0.02,2,-999,-999,-999,9,201,18.4408,25.5565,-999,9
KS08-06-1,EQPAC,KS-2209,1,13,02-16019,2,20080722,2150,-0.0107,150.9915,4927,252.6,14.0364,35.0745,2,-999,9,-999,9,147,2,10.86,2,-999,9,16.86,2,0,2,1.14,2,-999,9,-999,9,-999,9,-999,9,-999,9,-999,9,   -999.0,  9,-999,9,-999,-999,9,-999,9,0,2,0.02,2,-999,-999,-999,9,251,13.9997,26.2448,-999,9
KS08-06-1,EQPAC,KS-2209,1,12,02-16018,2,20080722,2149,-0.0107,150.9915,4927,302,12.0256,34.9086,2,-999,9,-999,9,153,2,14.02,2,-999,9,19.58,2,0,2,1.32,2,-999,9,-999,9,-999,9,-999,9,-999,9,-999,9,   -999.0,  9,-999,9,-999,-999,9,-999,9,0,2,0.02,2,-999,-999,-999,9,300,11.986,26.5208,-999,9
KS08-06-1,EQPAC,KS-2209,1,11,02-19376,2,20080722,2147,-0.0107,150.9915,4927,402.8,9.9264,34.7146,2,-999,9,-999,9,132,2,24.20,2,-999,9,25.52,2,0,2,1.72,2,-999,9,-999,9,-999,9,-999,9,-999,9,-999,9,   -999.0,  9,-999,9,-999,-999,9,-999,9,-999,9,-999,9,-999,-999,-999,9,400,9.8795,26.7496,-999,9
KS08-06-1,EQPAC,KS-2209,1,10,02-19375,2,20080722,2144,-0.0107,150.9915,4927,502.5,7.9049,34.5906,2,-999,9,-999,9,143,2,28.88,2,-999,9,28.43,2,0,2,1.93,2,-999,9,-999,9,-999,9,-999,9,-999,9,-999,9,   -999.0,  9,-999,9,-999,-999,9,-999,9,-999,9,-999,9,-999,-999,-999,9,499,7.8537,26.9741,-999,9
KS08-06-1,EQPAC,KS-2209,1,9,02-16015,2,20080722,2142,-0.0107,150.9915,4927,605.1,6.7295,34.5504,2,-999,9,-999,9,110,2,43.18,2,-999,9,34.08,2,0,2,2.35,2,-999,9,-999,9,-999,9,-999,9,-999,9,-999,9,   -999.0,  9,-999,9,-999,-999,9,-999,9,-999,9,-999,9,-999,-999,-999,9,601,6.6728,27.1093,-999,9
KS08-06-1,EQPAC,KS-2209,1,8,02-16014,2,20080722,2139,-0.0107,150.9915,4927,704.7,5.7751,34.5322,2,-999,9,-999,9,110,2,55.50,2,-999,9,35.34,2,0,2,2.45,2,-999,9,-999,9,-999,9,-999,9,-999,9,-999,9,   -999.0,  9,-999,9,-999,-999,9,-999,9,-999,9,-999,9,-999,-999,-999,9,700,5.7137,27.2189,-999,9
KS08-06-1,EQPAC,KS-2209,1,7,02-19374,2,20080722,2137,-0.0107,150.9915,4927,806.1,5.5638,34.5322,2,-999,9,-999,9,109,2,59.55,2,-999,9,35.82,2,0,2,2.49,2,-999,9,-999,9,-999,9,-999,9,-999,9,-999,9,   -999.0,  9,-999,9,-999,-999,9,-999,9,-999,9,-999,9,-999,-999,-999,9,800,5.4943,27.2459,-999,9
KS08-06-1,EQPAC,KS-2209,1,6,02-19373,2,20080722,2134,-0.0107,150.9915,4927,906.5,4.9013,34.5377,2,-999,9,-999,9,111,2,71.05,2,-999,9,36.41,2,0,2,2.54,2,-999,9,-999,9,-999,9,-999,9,-999,9,-999,9,   -999.0,  9,-999,9,-999,-999,9,-999,9,-999,9,-999,9,-999,-999,-999,9,900,4.827,27.3286,-999,9
KS08-06-1,EQPAC,KS-2209,1,5,02-16011,2,20080722,2132,-0.0107,150.9915,4927,1008.6,4.4377,34.5572,2,-999,9,-999,9,102,2,86.76,2,-999,9,37.47,2,0,2,2.64,2,-999,9,-999,9,-999,9,-999,9,-999,9,-999,9,   -999.0,  9,-999,9,-999,-999,9,-999,9,-999,9,-999,9,-999,-999,-999,9,1001,4.3578,27.396,-999,9
KS08-06-1,EQPAC,KS-2209,1,4,02-16010,2,20080722,2126,-0.0107,150.9915,4927,1260.9,3.7292,34.5748,2,-999,9,-999,9,97,2,99.66,2,-999,9,38.74,2,0,2,2.73,2,-999,9,-999,9,-999,9,-999,9,-999,9,-999,9,   -999.0,  9,-999,9,-999,-999,9,-999,9,-999,9,-999,9,-999,-999,-999,9,1250,3.6338,27.4852,-999,9
KS08-06-1,EQPAC,KS-2209,1,3,02-16009,4,20080722,2121,-0.0107,150.9915,4927,1512.6,2.9329,34.6045,2,-999,9,-999,9,-999,9,-999,9,-999,9,-999,9,-999,9,-999,9,-999,9,-999,9,-999,9,-999,9,-999,9,-999,9,   -999.0,  9,-999,9,-999,-999,9,-999,9,-999,9,-999,9,-999,-999,-999,9,1499,2.8247,27.5853,-999,9
KS08-06-1,EQPAC,KS-2209,1,2,02-16008,2,20080722,2115,-0.0107,150.9915,4927,1767.5,2.5489,34.6215,2,-999,9,-999,9,113,2,125.02,2,-999,9,38.34,2,0,2,2.69,2,-999,9,-999,9,-999,9,-999,9,-999,9,-999,9,   -999.0,  9,-999,9,-999,-999,9,-999,9,-999,9,-999,9,-999,-999,-999,9,1750,2.4242,27.6337,-999,9
KS08-06-1,EQPAC,KS-2209,1,1,02-16007,2,20080722,2109,-0.0107,150.9915,4927,2033.6,2.2673,34.6359,2,-999,9,-999,9,118,2,130.70,2,-999,9,38.05,2,0,2,2.65,2,-999,9,-999,9,-999,9,-999,9,-999,9,-999,9,   -999.0,  9,-999,9,-999,-999,9,-999,9,-999,9,-999,9,-999,-999,-999,9,2013,2.1239,27.67,-999,9