BOTTLE,20121206MIRCHATS
EXPOCODE,SECT_ID,STNNBR,CASTNO,SAMPNO,BTLNBR,BTLNBR_FLAG_W,DATE,TIME,LATITUDE,LONGITUDE,DEPTH,CTDPRS,CTDTMP,CTDSAL,CTDSAL_FLAG_W,CTDOXY,CTDOXY_FLAG_W,SALNTY,SALNTY_FLAG_W,OXYGEN,OXYGEN_FLAG_W,SILCAT,SILCAT_FLAG_W,NITRAT,NITRAT_FLAG_W,NO2+NO3,NO2+NO3_FLAG_W,NITRIT,NITRIT_FLAG_W,PHSPHT,PHSPHT_FLAG_W,CFC-11,CFC-11_FLAG_W,CFC-12,CFC-12_FLAG_W,DELC13,DELC13_FLAG_W,TCARBN,TCARBN_FLAG_W,ALKALI,ALKALI_FLAG_W,PH,PH_FLAG_W,PH_TMP,PH_SCALE,PH_NBS,PH_NBS_FLAG_W,C13ERR,TOTALP,TOTALP_FLAG_W,AMMONI,AMMONI_FLAG_W,CHLORA,CHLORA_FLAG_W,PPHYTN,PPHYTN_FLAG_W,REVPRS,REVTMP,DEPTH,DEPTH_FLAG,CTDDEP,THETA,SIGTHT,DOC,DOC_FLAG_W
        ,       ,      ,      ,      ,      ,             ,GMT ,GMT ,        ,         ,METER,DBAR  ,ITS-90,PSS-78,             ,UMOL/KG,            ,PSS-78,             ,UMOL/KG,            ,UMOL/KG,            ,UMOL/KG,            ,UMOL/KG,            ,UMOL/KG,            ,UMOL/KG,            ,PMOL/KG,            ,PMOL/KG,            ,/MILLE,             ,UMOL/KG,            ,UMOL/KG,            ,25_DEG_C,  ,DEG_C,,       ,      ,/MILLE,UMOL/KG,     ,UMOL/KG,            ,UG/L,             ,UG/L,             ,DBAR  ,ITS-90,METERS,         ,METERS,DEG_C,      ,UMOL/L,        
KS08-06-1,EQPAC,KS-2204,1,-9,-9,5,20080720,1829,-0.007,160.9875,3368,0,28.8303,35.3784,2,-999,9,-999,9,192,2,1.56,2,-999,9,2.05,2,0.32,2,0.27,2,-999,9,-999,9,-999,9,-999,9,-999,9,8.076,2,     25.0, TS,-999,9,-999,-999,9,-999,9,0.22,2,0.15,2,-999,-999,-999,9,0,28.8301,22.405,-999,9
KS08-06-1,EQPAC,KS-2204,1,24,02-16030,2,20080720,1856,-0.007,160.9875,3368,11.7,28.8362,35.3782,2,-999,9,-999,9,191,2,1.55,2,-999,9,2.05,2,0.33,2,0.27,2,-999,9,-999,9,-999,9,-999,9,-999,9,8.0766,2,     25.0, TS,-999,9,-999,-999,9,-999,9,0.21,2,0.12,2,-999,-999,-999,9,12,28.8334,22.4037,-999,9
KS08-06-1,EQPAC,KS-2204,1,23,02-19380,2,20080720,1855,-0.007,160.9875,3368,21.9,28.8358,35.3784,2,-999,9,-999,9,192,2,1.54,2,-999,9,2.05,2,0.32,2,0.27,2,-999,9,-999,9,-999,9,-999,9,-999,9,8.0764,2,     25.0, TS,-999,9,-999,-999,9,-999,9,-999,9,-999,9,-999,-999,-999,9,22,28.8305,22.4048,-999,9
KS08-06-1,EQPAC,KS-2204,1,22,02-16028,2,20080720,1854,-0.007,160.9875,3368,31.8,28.8254,35.3784,2,-999,9,-999,9,192,2,1.54,2,-999,9,2.15,2,0.33,2,0.27,2,-999,9,-999,9,-999,9,-999,9,-999,9,8.0749,2,     25.0, TS,-999,9,-999,-999,9,-999,9,0.22,2,0.16,2,-999,-999,-999,9,32,28.8177,22.4091,-999,9
KS08-06-1,EQPAC,KS-2204,1,21,02-16027,2,20080720,1853,-0.007,160.9875,3368,43,28.8223,35.3783,2,-999,9,-999,9,191,2,1.53,2,-999,9,2.15,2,0.33,2,0.27,2,-999,9,-999,9,-999,9,-999,9,-999,9,8.0739,2,     25.0, TS,-999,9,-999,-999,9,-999,9,-999,9,-999,9,-999,-999,-999,9,43,28.812,22.411,-999,9
KS08-06-1,EQPAC,KS-2204,1,20,02-16026,2,20080720,1850,-0.007,160.9875,3368,53.1,28.7482,35.3803,2,-999,9,-999,9,188,2,1.62,2,-999,9,2.54,2,0.32,2,0.29,2,-999,9,-999,9,-999,9,-999,9,-999,9,8.0703,2,     25.0, TS,-999,9,-999,-999,9,-999,9,0.22,2,0.18,2,-999,-999,-999,9,53,28.7354,22.4379,-999,9
KS08-06-1,EQPAC,KS-2204,1,19,02-19378,2,20080720,1849,-0.007,160.9875,3368,62.3,28.5941,35.3908,2,-999,9,-999,9,195,2,1.71,2,-999,9,3.13,2,0.29,2,0.33,2,-999,9,-999,9,-999,9,-999,9,-999,9,8.0612,2,     25.0, TS,-999,9,-999,-999,9,-999,9,-999,9,-999,9,-999,-999,-999,9,62,28.5792,22.4977,-999,9
KS08-06-1,EQPAC,KS-2204,1,18,02-19377,2,20080720,1847,-0.007,160.9875,3368,84.9,27.7951,35.4627,2,-999,9,-999,9,164,2,2.10,2,-999,9,5.57,2,0.1,2,0.47,2,-999,9,-999,9,-999,9,-999,9,-999,9,8.0271,2,     25.0, TS,-999,9,-999,-999,9,-999,9,0.16,2,0.41,2,-999,-999,-999,9,84,27.7752,22.8161,-999,9
KS08-06-1,EQPAC,KS-2204,1,17,02-16023,2,20080720,1846,-0.007,160.9875,3368,104.1,27.6373,35.5551,2,-999,9,-999,9,177,2,2.09,2,-999,9,5.67,2,0.51,2,0.49,2,-999,9,-999,9,-999,9,-999,9,-999,9,8.0265,2,     25.0, TS,-999,9,-999,-999,9,-999,9,0.08,2,0.14,2,-999,-999,-999,9,104,27.613,22.9384,-999,9
KS08-06-1,EQPAC,KS-2204,1,16,02-16022,2,20080720,1844,-0.007,160.9875,3368,124.4,25.5769,35.4952,2,-999,9,-999,9,155,2,2.87,2,-999,9,8.01,2,0.03,2,0.61,2,-999,9,-999,9,-999,9,-999,9,-999,9,7.9814,2,     25.0, TS,-999,9,-999,-999,9,-999,9,0.02,2,0.03,2,-999,-999,-999,9,124,25.5494,23.547,-999,9
KS08-06-1,EQPAC,KS-2204,1,15,02-16021,2,20080720,1842,-0.007,160.9875,3368,145.6,23.3728,35.486,2,-999,9,-999,9,137,2,3.84,2,-999,9,9.47,2,0.02,2,0.68,2,-999,9,-999,9,-999,9,-999,9,-999,9,7.941,2,     25.0, TS,-999,9,-999,-999,9,-999,9,-999,9,-999,9,-999,-999,-999,9,145,23.3427,24.2028,-999,9
KS08-06-1,EQPAC,KS-2204,1,14,02-16020,2,20080720,1841,-0.007,160.9875,3368,165.5,19.7708,35.2981,2,-999,9,-999,9,136,2,6.42,2,-999,9,11.32,2,0.02,2,0.78,2,-999,9,-999,9,-999,9,-999,9,-999,9,7.8936,2,     25.0, TS,-999,9,-999,-999,9,-999,9,0,2,0.05,2,-999,-999,-999,9,164,19.7404,25.0574,-999,9
KS08-06-1,EQPAC,KS-2204,1,13,02-16019,2,20080720,1839,-0.007,160.9875,3368,183.6,18.3322,35.4238,2,-999,9,-999,9,136,2,6.11,2,-999,9,12.77,2,0.01,2,0.91,2,-999,9,-999,9,-999,9,-999,9,-999,9,7.8642,2,     25.0, TS,-999,9,-999,-999,9,-999,9,-999,9,-999,9,-999,-999,-999,9,183,18.3002,25.5221,-999,9
KS08-06-1,EQPAC,KS-2204,1,12,02-16018,2,20080720,1838,-0.007,160.9875,3368,202.8,15.5541,35.2257,2,-999,9,-999,9,147,2,7.67,2,-999,9,14.72,2,0,2,1.00,2,-999,9,-999,9,-999,9,-999,9,-999,9,7.829,2,     25.0, TS,-999,9,-999,-999,9,-999,9,0,2,0.03,2,-999,-999,-999,9,202,15.5226,26.0297,-999,9
KS08-06-1,EQPAC,KS-2204,1,11,02-19376,2,20080720,1837,-0.007,160.9875,3368,227.3,14.5696,35.1394,2,-999,9,-999,9,149,2,9.03,2,-999,9,16.08,2,0,2,1.09,2,-999,9,-999,9,-999,9,-999,9,-999,9,7.808,2,     25.0, TS,-999,9,-999,-999,9,-999,9,-999,9,-999,9,-999,-999,-999,9,226,14.5358,26.1807,-999,9
KS08-06-1,EQPAC,KS-2204,1,10,02-19375,2,20080720,1835,-0.007,160.9875,3368,253,11.8163,34.884,2,-999,9,-999,9,148,2,15.87,2,-999,9,20.46,2,0,2,1.37,2,-999,9,-999,9,-999,9,-999,9,-999,9,7.7466,2,     25.0, TS,-999,9,-999,-999,9,-999,9,0,2,0.03,2,-999,-999,-999,9,251,11.7836,26.5401,-999,9
KS08-06-1,EQPAC,KS-2204,1,9,02-16015,2,20080720,1832,-0.007,160.9875,3368,303.6,11.0514,34.8078,2,-999,9,-999,9,138,2,19.75,2,-999,9,22.99,2,0,2,1.55,2,-999,9,-999,9,-999,9,-999,9,-999,9,7.7114,2,     25.0, TS,-999,9,-999,-999,9,-999,9,0,2,0.03,2,-999,-999,-999,9,302,11.0138,26.6234,-999,9
KS08-06-1,EQPAC,KS-2204,1,8,02-16014,2,20080720,1830,-0.007,160.9875,3368,406.4,8.9695,34.6487,2,-999,9,-999,9,111,2,29.61,2,-999,9,29.51,2,0,2,2,2,-999,9,-999,9,-999,9,-999,9,-999,9,7.6116,2,     25.0, TS,-999,9,-999,-999,9,-999,9,-999,9,-999,9,-999,-999,-999,9,404,8.9251,26.855,-999,9
KS08-06-1,EQPAC,KS-2204,1,7,02-19374,2,20080720,1827,-0.007,160.9875,3368,506.6,7.7743,34.5877,2,-999,9,-999,9,131,2,31.16,2,-999,9,30.19,2,0,2,2.04,2,-999,9,-999,9,-999,9,-999,9,-999,9,-999,9,   -999.0,  9,-999,9,-999,-999,9,-999,9,-999,9,-999,9,-999,-999,-999,9,503,7.7232,26.991,-999,9
KS08-06-1,EQPAC,KS-2204,1,6,02-19373,2,20080720,1825,-0.007,160.9875,3368,608.1,6.984,34.5611,2,-999,9,-999,9,95,2,44.18,2,-999,9,35.05,2,0,2,2.42,2,-999,9,-999,9,-999,9,-999,9,-999,9,-999,9,   -999.0,  9,-999,9,-999,-999,9,-999,9,-999,9,-999,9,-999,-999,-999,9,604,6.9258,27.0833,-999,9
KS08-06-1,EQPAC,KS-2204,1,5,02-16011,2,20080720,1820,-0.007,160.9875,3368,809.4,5.5516,34.5363,2,-999,9,-999,9,102,2,61.35,2,-999,9,36.80,2,0,2,2.57,2,-999,9,-999,9,-999,9,-999,9,-999,9,-999,9,   -999.0,  9,-999,9,-999,-999,9,-999,9,-999,9,-999,9,-999,-999,-999,9,803,5.4818,27.2506,-999,9
KS08-06-1,EQPAC,KS-2204,1,4,02-16010,2,20080720,1816,-0.007,160.9875,3368,1011.3,4.3338,34.5568,2,-999,9,-999,9,97,2,86.22,2,-999,9,38.45,2,0,2,2.72,2,-999,9,-999,9,-999,9,-999,9,-999,9,-999,9,   -999.0,  9,-999,9,-999,-999,9,-999,9,-999,9,-999,9,-999,-999,-999,9,1003,4.2545,27.4068,-999,9
KS08-06-1,EQPAC,KS-2204,1,3,02-16009,2,20080720,1810,-0.007,160.9875,3368,1263.4,3.6095,34.5801,2,-999,9,-999,9,96,2,103.12,2,-999,9,39.42,2,0,2,2.79,2,-999,9,-999,9,-999,9,-999,9,-999,9,-999,9,   -999.0,  9,-999,9,-999,-999,9,-999,9,-999,9,-999,9,-999,-999,-999,9,1253,3.515,27.5011,-999,9
KS08-06-1,EQPAC,KS-2204,1,2,02-16008,2,20080720,1805,-0.007,160.9875,3368,1517.8,3.0151,34.602,2,-999,9,-999,9,102,2,116.03,2,-999,9,39.12,2,0,2,2.75,2,-999,9,-999,9,-999,9,-999,9,-999,9,-999,9,   -999.0,  9,-999,9,-999,-999,9,-999,9,-999,9,-999,9,-999,-999,-999,9,1504,2.9055,27.576,-999,9
KS08-06-1,EQPAC,KS-2204,1,1,02-16007,2,20080720,1754,-0.007,160.9875,3368,2030.3,2.2134,34.6392,2,-999,9,-999,9,119,2,132.49,2,-999,9,38.34,2,0,2,2.68,2,-999,9,-999,9,-999,9,-999,9,-999,9,-999,9,   -999.0,  9,-999,9,-999,-999,9,-999,9,-999,9,-999,9,-999,-999,-999,9,2009,2.0711,27.6769,-999,9
KS08-06-1,EQPAC,KS-2205,1,-9,-9,5,20080721,0446,-0.0052,158.9853,2323,0,29.4619,35.2925,2,-999,9,-999,9,200,2,1.33,2,-999,9,0.49,2,0.07,2,0.19,2,-999,9,-999,9,-999,9,-999,9,-999,9,-999,9,   -999.0,  9,-999,9,-999,-999,9,-999,9,0.25,2,0.11,2,-999,-999,-999,9,0,29.4617,22.1285,-999,9
KS08-06-1,EQPAC,KS-2205,1,21,02-16027,2,20080721,0504,-0.0052,158.9853,2323,12.1,29.1532,35.2852,2,-999,9,35.284,2,201,2,1.32,2,-999,9,0.49,2,0.07,2,0.19,2,-999,9,-999,9,-999,9,-999,9,-999,9,-999,9,   -999.0,  9,-999,9,-999,-999,9,-999,9,0.27,2,0.14,2,-999,-999,-999,9,12,29.1503,22.2279,-999,9
KS08-06-1,EQPAC,KS-2205,1,20,02-16026,2,20080721,0502,-0.0052,158.9853,2323,26.9,29.1031,35.2852,2,-999,9,-999,9,201,2,1.36,2,-999,9,0.49,2,0.07,2,0.19,2,-999,9,-999,9,-999,9,-999,9,-999,9,-999,9,   -999.0,  9,-999,9,-999,-999,9,-999,9,0.32,2,0.18,2,-999,-999,-999,9,27,29.0966,22.2459,-999,9
KS08-06-1,EQPAC,KS-2205,1,19,02-19378,2,20080721,0458,-0.0052,158.9853,2323,52.3,28.843,35.4835,2,-999,9,-999,9,194,2,1.50,2,-999,9,1.37,2,0.1,2,0.29,2,-999,9,-999,9,-999,9,-999,9,-999,9,-999,9,   -999.0,  9,-999,9,-999,-999,9,-999,9,0.29,2,0.35,2,-999,-999,-999,9,52,28.8304,22.4838,-999,9
KS08-06-1,EQPAC,KS-2205,1,18,02-19377,2,20080721,0457,-0.0052,158.9853,2323,76.6,28.4897,35.5751,2,-999,9,-999,9,187,2,1.58,2,-999,9,2.74,2,1,2,0.36,2,-999,9,-999,9,-999,9,-999,9,-999,9,-999,9,   -999.0,  9,-999,9,-999,-999,9,-999,9,0.15,2,0.24,2,-999,-999,-999,9,76,28.4714,22.672,-999,9
KS08-06-1,EQPAC,KS-2205,1,17,02-16023,2,20080721,0456,-0.0052,158.9853,2323,102.7,27.9068,35.5842,2,-999,9,35.5838,2,182,2,1.88,2,-999,9,4.99,2,1.7,2,0.45,2,-999,9,-999,9,-999,9,-999,9,-999,9,-999,9,   -999.0,  9,-999,9,-999,-999,9,-999,9,0.08,2,0.13,2,-999,-999,-999,9,102,27.8826,22.8724,-999,9
KS08-06-1,EQPAC,KS-2205,1,16,02-16022,2,20080721,0454,-0.0052,158.9853,2323,130.7,25.9064,35.6303,2,-999,9,-999,9,170,2,2.40,2,-999,9,7.62,2,0.04,2,0.61,2,-999,9,-999,9,-999,9,-999,9,-999,9,-999,9,   -999.0,  9,-999,9,-999,-999,9,-999,9,0.02,2,0.02,2,-999,-999,-999,9,130,25.8772,23.5473,-999,9
KS08-06-1,EQPAC,KS-2205,1,15,02-16021,2,20080721,0453,-0.0052,158.9853,2323,158.8,23.0364,35.7189,2,-999,9,-999,9,135,2,3.07,2,-999,9,9.57,2,0.02,2,0.73,2,-999,9,-999,9,-999,9,-999,9,-999,9,-999,9,   -999.0,  9,-999,9,-999,-999,9,-999,9,0.01,2,0.02,2,-999,-999,-999,9,158,23.0038,24.4779,-999,9
KS08-06-1,EQPAC,KS-2205,1,14,02-16020,2,20080721,0451,-0.0052,158.9853,2323,202.6,17.7328,35.3379,2,-999,9,35.3421,2,139,2,6.44,2,-999,9,12.97,2,0.01,2,0.9,2,-999,9,-999,9,-999,9,-999,9,-999,9,-999,9,   -999.0,  9,-999,9,-999,-999,9,-999,9,0,2,0.02,2,-999,-999,-999,9,201,17.6983,25.6051,-999,9
KS08-06-1,EQPAC,KS-2205,1,13,02-16019,2,20080721,0449,-0.0052,158.9853,2323,254.1,12.9351,34.9855,2,-999,9,-999,9,149,2,12.63,2,-999,9,18.41,2,0,2,1.24,2,-999,9,-999,9,-999,9,-999,9,-999,9,-999,9,   -999.0,  9,-999,9,-999,-999,9,-999,9,0,2,0.03,2,-999,-999,-999,9,253,12.9002,26.4017,-999,9
KS08-06-1,EQPAC,KS-2205,1,12,02-16018,2,20080721,0448,-0.0052,158.9853,2323,304.2,10.869,34.7923,2,-999,9,34.791,2,139,2,20.33,2,-999,9,22.99,2,0,2,1.56,2,-999,9,-999,9,-999,9,-999,9,-999,9,-999,9,   -999.0,  9,-999,9,-999,-999,9,-999,9,0,2,0.03,2,-999,-999,-999,9,302,10.8317,26.6441,-999,9
KS08-06-1,EQPAC,KS-2205,1,11,02-19376,2,20080721,0445,-0.0052,158.9853,2323,404,9.1096,34.6618,2,-999,9,34.6612,2,115,2,27.64,2,-999,9,28.73,2,0,2,1.94,2,-999,9,-999,9,-999,9,-999,9,-999,9,-999,9,   -999.0,  9,-999,9,-999,-999,9,-999,9,-999,9,-999,9,-999,-999,-999,9,401,9.065,26.8428,-999,9
KS08-06-1,EQPAC,KS-2205,1,10,02-19375,2,20080721,0443,-0.0052,158.9853,2323,506.4,7.6621,34.5799,2,-999,9,34.5809,2,129,2,32.94,2,-999,9,30.28,2,0,2,2.06,2,-999,9,-999,9,-999,9,-999,9,-999,9,-999,9,   -999.0,  9,-999,9,-999,-999,9,-999,9,-999,9,-999,9,-999,-999,-999,9,503,7.6114,27.0011,-999,9
KS08-06-1,EQPAC,KS-2205,1,9,02-16015,2,20080721,0440,-0.0052,158.9853,2323,606.4,6.451,34.5507,2,-999,9,34.5501,2,90,2,50.11,2,-999,9,36.41,2,0,2,2.55,2,-999,9,-999,9,-999,9,-999,9,-999,9,-999,9,   -999.0,  9,-999,9,-999,-999,9,-999,9,-999,9,-999,9,-999,-999,-999,9,602,6.3954,27.1465,-999,9
KS08-06-1,EQPAC,KS-2205,1,8,02-16014,2,20080721,0438,-0.0052,158.9853,2323,706.8,5.9084,34.5351,2,-999,9,34.5353,2,107,2,54.08,2,-999,9,35.63,2,0,2,2.49,2,-999,9,-999,9,-999,9,-999,9,-999,9,-999,9,   -999.0,  9,-999,9,-999,-999,9,-999,9,-999,9,-999,9,-999,-999,-999,9,702,5.8461,27.2047,-999,9
KS08-06-1,EQPAC,KS-2205,1,7,02-19374,2,20080721,0435,-0.0052,158.9853,2323,808.3,5.3431,34.5355,2,-999,9,34.5342,2,105,2,63.59,2,-999,9,36.60,2,0,2,2.56,2,-999,9,-999,9,-999,9,-999,9,-999,9,-999,9,   -999.0,  9,-999,9,-999,-999,9,-999,9,-999,9,-999,9,-999,-999,-999,9,802,5.2747,27.2748,-999,9
KS08-06-1,EQPAC,KS-2205,1,6,02-19373,2,20080721,0433,-0.0052,158.9853,2323,909.1,4.7957,34.5434,2,-999,9,34.5434,2,102,2,74.70,2,-999,9,37.48,2,0,2,2.63,2,-999,9,-999,9,-999,9,-999,9,-999,9,-999,9,   -999.0,  9,-999,9,-999,-999,9,-999,9,-999,9,-999,9,-999,-999,-999,9,902,4.7219,27.3449,-999,9
KS08-06-1,EQPAC,KS-2205,1,5,02-16011,2,20080721,0430,-0.0052,158.9853,2323,1009.8,4.3128,34.5571,2,-999,9,34.557,2,99,2,86.48,2,-999,9,38.15,2,0,2,2.71,2,-999,9,-999,9,-999,9,-999,9,-999,9,-999,9,   -999.0,  9,-999,9,-999,-999,9,-999,9,-999,9,-999,9,-999,-999,-999,9,1002,4.2338,27.4092,-999,9
KS08-06-1,EQPAC,KS-2205,1,4,02-16010,2,20080721,0425,-0.0052,158.9853,2323,1264.3,3.5966,34.5806,2,-999,9,34.5804,2,93,2,103.15,2,-999,9,39.32,2,0,2,2.79,2,-999,9,-999,9,-999,9,-999,9,-999,9,-999,9,   -999.0,  9,-999,9,-999,-999,9,-999,9,-999,9,-999,9,-999,-999,-999,9,1254,3.5022,27.5028,-999,9
KS08-06-1,EQPAC,KS-2205,1,3,02-16009,2,20080721,0419,-0.0052,158.9853,2323,1517.7,3.0848,34.5997,2,-999,9,34.5992,2,100,2,114.15,2,-999,9,39.12,2,0,2,2.77,2,-999,9,-999,9,-999,9,-999,9,-999,9,-999,9,   -999.0,  9,-999,9,-999,-999,9,-999,9,-999,9,-999,9,-999,-999,-999,9,1504,2.9744,27.5679,-999,9
KS08-06-1,EQPAC,KS-2205,1,2,02-16008,2,20080721,0414,-0.0052,158.9853,2323,1770.1,2.5427,34.6219,2,-999,9,34.6222,2,112,2,124.91,2,-999,9,38.34,2,0,2,2.70,2,-999,9,-999,9,-999,9,-999,9,-999,9,-999,9,   -999.0,  9,-999,9,-999,-999,9,-999,9,-999,9,-999,9,-999,-999,-999,9,1753,2.4178,27.6346,-999,9
KS08-06-1,EQPAC,KS-2205,1,1,02-16007,2,20080721,0408,-0.0052,158.9853,2323,2028,2.2356,34.6388,2,-999,9,34.6383,2,116,2,132.26,2,-999,9,38.34,2,0,2,2.69,2,-999,9,-999,9,-999,9,-999,9,-999,9,-999,9,   -999.0,  9,-999,9,-999,-999,9,-999,9,-999,9,-999,9,-999,-999,-999,9,2007,2.0932,27.6748,-999,9