BOTTLE,20121206MIRCHATS
EXPOCODE,SECT_ID,STNNBR,CASTNO,SAMPNO,BTLNBR,BTLNBR_FLAG_W,DATE,TIME,LATITUDE,LONGITUDE,DEPTH,CTDPRS,CTDTMP,CTDSAL,CTDSAL_FLAG_W,CTDOXY,CTDOXY_FLAG_W,SALNTY,SALNTY_FLAG_W,OXYGEN,OXYGEN_FLAG_W,SILCAT,SILCAT_FLAG_W,NITRAT,NITRAT_FLAG_W,NO2+NO3,NO2+NO3_FLAG_W,NITRIT,NITRIT_FLAG_W,PHSPHT,PHSPHT_FLAG_W,CFC-11,CFC-11_FLAG_W,CFC-12,CFC-12_FLAG_W,DELC13,DELC13_FLAG_W,TCARBN,TCARBN_FLAG_W,ALKALI,ALKALI_FLAG_W,PH,PH_FLAG_W,PH_TMP,PH_SCALE,PH_NBS,PH_NBS_FLAG_W,C13ERR,TOTALP,TOTALP_FLAG_W,AMMONI,AMMONI_FLAG_W,CHLORA,CHLORA_FLAG_W,PPHYTN,PPHYTN_FLAG_W,REVPRS,REVTMP,DEPTH,DEPTH_FLAG,CTDDEP,THETA,SIGTHT,DOC,DOC_FLAG_W
        ,       ,      ,      ,      ,      ,             ,GMT ,GMT ,        ,         ,METER,DBAR  ,ITS-90,PSS-78,             ,UMOL/KG,            ,PSS-78,             ,UMOL/KG,            ,UMOL/KG,            ,UMOL/KG,            ,UMOL/KG,            ,UMOL/KG,            ,UMOL/KG,            ,PMOL/KG,            ,PMOL/KG,            ,/MILLE,             ,UMOL/KG,            ,UMOL/KG,            ,25_DEG_C,  ,DEG_C,,       ,      ,/MILLE,UMOL/KG,     ,UMOL/KG,            ,UG/L,             ,UG/L,             ,DBAR  ,ITS-90,METERS,         ,METERS,DEG_C,      ,UMOL/L,        
KS08-06-1,NONE,KS-2218,1,-9,-9,5,20080726,0920,1.9997,141.9895,2574,0,29.9166,34.4928,2,-999,9,-999,9,196,2,1.20,2,-999,9,0,2,0,2,0.08,2,-999,9,-999,9,-999,9,-999,9,-999,9,-999,9,   -999.0,  9,-999,9,-999,-999,9,-999,9,0.05,2,0.02,2,-999,-999,-999,9,0,29.9164,21.3744,-999,9
KS08-06-1,NONE,KS-2218,1,21,02-16027,2,20080726,0938,1.9997,141.9895,2574,10.6,29.7582,34.5764,2,-999,9,34.5806,2,199,2,1.19,2,-999,9,0,2,0,2,0.08,2,-999,9,-999,9,-999,9,-999,9,-999,9,-999,9,   -999.0,  9,-999,9,-999,-999,9,-999,9,0.05,2,0.02,2,-999,-999,-999,9,11,29.7556,21.4918,-999,9
KS08-06-1,NONE,KS-2218,1,20,02-16026,2,20080726,0937,1.9997,141.9895,2574,25.6,29.695,34.6401,2,-999,9,-999,9,199,2,1.18,2,-999,9,0,2,0,2,0.1,2,-999,9,-999,9,-999,9,-999,9,-999,9,-999,9,   -999.0,  9,-999,9,-999,-999,9,-999,9,0.06,2,0.06,2,-999,-999,-999,9,25,29.6887,21.5622,-999,9
KS08-06-1,NONE,KS-2218,1,19,02-19378,2,20080726,0934,1.9997,141.9895,2574,50.7,29.5855,34.7412,2,-999,9,-999,9,198,2,1.17,2,-999,9,0,2,0,2,0.11,2,-999,9,-999,9,-999,9,-999,9,-999,9,-999,9,   -999.0,  9,-999,9,-999,-999,9,-999,9,0.08,2,0.03,2,-999,-999,-999,9,50,29.5731,21.6772,-999,9
KS08-06-1,NONE,KS-2218,1,18,02-19377,2,20080726,0933,1.9997,141.9895,2574,75.6,29.0832,35.0402,2,-999,9,-999,9,188,2,1.31,2,-999,9,0.59,2,0.18,2,0.19,2,-999,9,-999,9,-999,9,-999,9,-999,9,-999,9,   -999.0,  9,-999,9,-999,-999,9,-999,9,0.29,2,0.3,2,-999,-999,-999,9,75,29.0649,22.0725,-999,9
KS08-06-1,NONE,KS-2218,1,17,02-16023,2,20080726,0932,1.9997,141.9895,2574,101,28.7786,35.3887,2,-999,9,35.3901,2,178,2,1.60,2,-999,9,3.52,2,0.3,2,0.36,2,-999,9,-999,9,-999,9,-999,9,-999,9,-999,9,   -999.0,  9,-999,9,-999,-999,9,-999,9,0.2,2,0.38,2,-999,-999,-999,9,100,28.7543,22.438,-999,9
KS08-06-1,NONE,KS-2218,1,16,02-16022,2,20080726,0930,1.9997,141.9895,2574,126.4,27.587,35.5186,2,-999,9,-999,9,166,2,2.03,2,-999,9,6.06,2,0.05,2,0.5,2,-999,9,-999,9,-999,9,-999,9,-999,9,-999,9,   -999.0,  9,-999,9,-999,-999,9,-999,9,0.07,2,0.22,2,-999,-999,-999,9,126,27.5575,22.9289,-999,9
KS08-06-1,NONE,KS-2218,1,15,02-16021,2,20080726,0929,1.9997,141.9895,2574,151.7,23.7473,35.2869,2,-999,9,-999,9,138,2,4.26,2,-999,9,8.89,2,0.01,2,0.64,2,-999,9,-999,9,-999,9,-999,9,-999,9,-999,9,   -999.0,  9,-999,9,-999,-999,9,-999,9,0.02,2,0.03,2,-999,-999,-999,9,151,23.7156,23.9426,-999,9
KS08-06-1,NONE,KS-2218,1,14,02-16020,2,20080726,0928,1.9997,141.9895,2574,201.7,17.5886,34.7718,2,-999,9,34.7657,2,146,2,11.79,2,-999,9,12.19,2,0.01,2,0.82,2,-999,9,-999,9,-999,9,-999,9,-999,9,-999,9,   -999.0,  9,-999,9,-999,-999,9,-999,9,0.01,2,0.03,2,-999,-999,-999,9,201,17.5546,25.2061,-999,9
KS08-06-1,NONE,KS-2218,1,13,02-16019,2,20080726,0926,1.9997,141.9895,2574,251.8,12.1405,34.5273,2,-999,9,-999,9,117,2,24.45,2,-999,9,22.02,2,0,2,1.51,2,-999,9,-999,9,-999,9,-999,9,-999,9,-999,9,   -999.0,  9,-999,9,-999,-999,9,-999,9,0,2,0.02,2,-999,-999,-999,9,250,12.1075,26.2014,-999,9
KS08-06-1,NONE,KS-2218,1,12,02-16018,2,20080726,0924,1.9997,141.9895,2574,305.2,9.53,34.5902,2,-999,9,34.5886,2,58,2,35.56,2,-999,9,32.73,2,0,2,2.27,2,-999,9,-999,9,-999,9,-999,9,-999,9,-999,9,   -999.0,  9,-999,9,-999,-999,9,-999,9,0,2,0.02,2,-999,-999,-999,9,303,9.4956,26.7166,-999,9
KS08-06-1,NONE,KS-2218,1,11,02-19376,2,20080726,0922,1.9997,141.9895,2574,403.1,8.0923,34.5898,2,-999,9,34.5887,2,108,2,36.26,2,-999,9,31.16,2,0,2,2.14,2,-999,9,-999,9,-999,9,-999,9,-999,9,-999,9,   -999.0,  9,-999,9,-999,-999,9,-999,9,-999,9,-999,9,-999,-999,-999,9,400,8.0509,26.944,-999,9
KS08-06-1,NONE,KS-2218,1,10,02-19375,2,20080726,0919,1.9997,141.9895,2574,504,7.052,34.5513,2,-999,9,34.5507,2,117,2,41.97,2,-999,9,32.42,2,0,2,2.23,2,-999,9,-999,9,-999,9,-999,9,-999,9,-999,9,   -999.0,  9,-999,9,-999,-999,9,-999,9,-999,9,-999,9,-999,-999,-999,9,501,7.0039,27.0648,-999,9
KS08-06-1,NONE,KS-2218,1,9,02-16015,2,20080726,0917,1.9997,141.9895,2574,604.7,6.3925,34.5365,2,-999,9,34.535,2,111,2,50.23,2,-999,9,34.27,2,0,2,2.38,2,-999,9,-999,9,-999,9,-999,9,-999,9,-999,9,   -999.0,  9,-999,9,-999,-999,9,-999,9,-999,9,-999,9,-999,-999,-999,9,600,6.3374,27.1429,-999,9
KS08-06-1,NONE,KS-2218,1,8,02-16014,2,20080726,0914,1.9997,141.9895,2574,705.5,5.5989,34.531,2,-999,9,34.5307,2,115,2,60.06,2,-999,9,35.05,2,0,2,2.43,2,-999,9,-999,9,-999,9,-999,9,-999,9,-999,9,   -999.0,  9,-999,9,-999,-999,9,-999,9,-999,9,-999,9,-999,-999,-999,9,700,5.5384,27.2395,-999,9
KS08-06-1,NONE,KS-2218,1,7,02-19374,2,20080726,0912,1.9997,141.9895,2574,805.9,5.2118,34.5425,2,-999,9,34.5421,2,89,2,73.24,2,-999,9,37.28,2,0,2,2.62,2,-999,9,-999,9,-999,9,-999,9,-999,9,-999,9,   -999.0,  9,-999,9,-999,-999,9,-999,9,-999,9,-999,9,-999,-999,-999,9,800,5.1444,27.2957,-999,9
KS08-06-1,NONE,KS-2218,1,6,02-19373,2,20080726,0909,1.9997,141.9895,2574,906.7,4.4925,34.559,2,-999,9,34.5584,2,96,2,88.04,2,-999,9,37.77,2,0,2,2.66,2,-999,9,-999,9,-999,9,-999,9,-999,9,-999,9,   -999.0,  9,-999,9,-999,-999,9,-999,9,-999,9,-999,9,-999,-999,-999,9,900,4.421,27.3906,-999,9
KS08-06-1,NONE,KS-2218,1,5,02-16011,2,20080726,0906,1.9997,141.9895,2574,1009.1,4.109,34.566,2,-999,9,34.5654,2,100,2,93.22,2,-999,9,38.06,2,0,2,2.68,2,-999,9,-999,9,-999,9,-999,9,-999,9,-999,9,   -999.0,  9,-999,9,-999,-999,9,-999,9,-999,9,-999,9,-999,-999,-999,9,1001,4.0316,27.4376,-999,9
KS08-06-1,NONE,KS-2218,1,4,02-16010,2,20080726,0901,1.9997,141.9895,2574,1261.5,3.6047,34.5807,2,-999,9,34.5807,2,101,2,103.64,2,-999,9,38.35,2,0,2,2.71,2,-999,9,-999,9,-999,9,-999,9,-999,9,-999,9,   -999.0,  9,-999,9,-999,-999,9,-999,9,-999,9,-999,9,-999,-999,-999,9,1251,3.5104,27.502,-999,9
KS08-06-1,NONE,KS-2218,1,3,02-16009,2,20080726,0855,1.9997,141.9895,2574,1515.7,3.0828,34.5986,2,-999,9,34.5985,2,106,2,114.45,2,-999,9,38.54,2,0,2,2.71,2,-999,9,-999,9,-999,9,-999,9,-999,9,-999,9,   -999.0,  9,-999,9,-999,-999,9,-999,9,-999,9,-999,9,-999,-999,-999,9,1502,2.9726,27.5672,-999,9
KS08-06-1,NONE,KS-2218,1,2,02-16008,2,20080726,0849,1.9997,141.9895,2574,1768.2,2.5235,34.6217,2,-999,9,34.6222,2,112,2,127.16,2,-999,9,38.34,2,0,2,2.69,2,-999,9,-999,9,-999,9,-999,9,-999,9,-999,9,   -999.0,  9,-999,9,-999,-999,9,-999,9,-999,9,-999,9,-999,-999,-999,9,1751,2.399,27.636,-999,9
KS08-06-1,NONE,KS-2218,1,1,02-16007,2,20080726,0843,1.9997,141.9895,2574,2031.8,2.2117,34.6377,2,-999,9,34.6385,2,120,2,131.55,2,-999,9,38.05,2,0,2,2.65,2,-999,9,-999,9,-999,9,-999,9,-999,9,-999,9,   -999.0,  9,-999,9,-999,-999,9,-999,9,-999,9,-999,9,-999,-999,-999,9,2011,2.0693,27.6759,-999,9
KS08-06-1,NONE,KS-2220,1,-9,-9,5,20080726,2123,2.3997,140.006,4144,0,29.662,34.1472,2,-999,9,-999,9,199,2,1.30,2,-999,9,0,2,0,2,0.02,2,-999,9,-999,9,-999,9,-999,9,-999,9,-999,9,   -999.0,  9,-999,9,-999,-999,9,-999,9,0.13,2,0.03,2,-999,-999,-999,9,0,29.6618,21.2017,-999,9
KS08-06-1,NONE,KS-2220,1,21,02-16027,2,20080726,2143,2.3997,140.006,4144,10.9,29.5994,34.4519,2,-999,9,-999,9,198,2,1.14,2,-999,9,0,2,0,2,0.07,2,-999,9,-999,9,-999,9,-999,9,-999,9,-999,9,   -999.0,  9,-999,9,-999,-999,9,-999,9,0.09,2,0.03,2,-999,-999,-999,9,11,29.5967,21.4522,-999,9
KS08-06-1,NONE,KS-2220,1,20,02-16026,2,20080726,2142,2.3997,140.006,4144,26.1,29.5368,34.4632,2,-999,9,-999,9,198,2,1.17,2,-999,9,0,2,0,2,0.08,2,-999,9,-999,9,-999,9,-999,9,-999,9,-999,9,   -999.0,  9,-999,9,-999,-999,9,-999,9,0.09,2,0.03,2,-999,-999,-999,9,26,29.5304,21.4831,-999,9
KS08-06-1,NONE,KS-2220,1,19,02-19378,2,20080726,2139,2.3997,140.006,4144,50.7,29.4883,34.5305,2,-999,9,-999,9,197,2,1.12,2,-999,9,0,2,0.01,2,0.1,2,-999,9,-999,9,-999,9,-999,9,-999,9,-999,9,   -999.0,  9,-999,9,-999,-999,9,-999,9,0.14,2,0.08,2,-999,-999,-999,9,50,29.4759,21.552,-999,9
KS08-06-1,NONE,KS-2220,1,18,02-19377,2,20080726,2138,2.3997,140.006,4144,75.7,29.2,35.0105,2,-999,9,-999,9,190,2,1.20,2,-999,9,0.68,2,0.13,2,0.19,2,-999,9,-999,9,-999,9,-999,9,-999,9,-999,9,   -999.0,  9,-999,9,-999,-999,9,-999,9,0.31,2,0.35,2,-999,-999,-999,9,75,29.1816,22.0112,-999,9
KS08-06-1,NONE,KS-2220,1,17,02-16023,2,20080726,2137,2.3997,140.006,4144,100.8,28.5062,35.4478,2,-999,9,-999,9,174,2,1.74,2,-999,9,4.50,2,0.09,2,0.41,2,-999,9,-999,9,-999,9,-999,9,-999,9,-999,9,   -999.0,  9,-999,9,-999,-999,9,-999,9,0.13,2,0.39,2,-999,-999,-999,9,100,28.4821,22.5728,-999,9
KS08-06-1,NONE,KS-2220,1,16,02-16022,2,20080726,2135,2.3997,140.006,4144,126.6,27.3136,35.4454,2,-999,9,-999,9,163,2,2.23,2,-999,9,6.26,2,0.03,2,0.51,2,-999,9,-999,9,-999,9,-999,9,-999,9,-999,9,   -999.0,  9,-999,9,-999,-999,9,-999,9,0.07,2,0.24,2,-999,-999,-999,9,126,27.2843,22.962,-999,9
KS08-06-1,NONE,KS-2220,1,15,02-16021,2,20080726,2134,2.3997,140.006,4144,152,25.3191,35.3043,2,-999,9,-999,9,143,2,3.35,2,-999,9,8.01,2,0.02,2,0.59,2,-999,9,-999,9,-999,9,-999,9,-999,9,-999,9,   -999.0,  9,-999,9,-999,-999,9,-999,9,0.04,2,0.04,2,-999,-999,-999,9,151,25.2858,23.4839,-999,9
KS08-06-1,NONE,KS-2220,1,14,02-16020,2,20080726,2133,2.3997,140.006,4144,202,17.5699,34.7642,2,-999,9,-999,9,144,2,11.63,2,-999,9,12.39,2,0.01,2,0.83,2,-999,9,-999,9,-999,9,-999,9,-999,9,-999,9,   -999.0,  9,-999,9,-999,-999,9,-999,9,0.01,2,0.03,2,-999,-999,-999,9,201,17.5358,25.2048,-999,9
KS08-06-1,NONE,KS-2220,1,13,02-16019,2,20080726,2131,2.3997,140.006,4144,253.1,11.9471,34.5539,2,-999,9,-999,9,82,2,26.54,2,-999,9,26.21,2,0,2,1.82,2,-999,9,-999,9,-999,9,-999,9,-999,9,-999,9,   -999.0,  9,-999,9,-999,-999,9,-999,9,0,2,0.02,2,-999,-999,-999,9,252,11.9143,26.2589,-999,9
KS08-06-1,NONE,KS-2220,1,12,02-16018,2,20080726,2129,2.3997,140.006,4144,302.9,9.2408,34.5951,2,-999,9,-999,9,63,2,36.60,2,-999,9,32.92,2,0,2,2.28,2,-999,9,-999,9,-999,9,-999,9,-999,9,-999,9,   -999.0,  9,-999,9,-999,-999,9,-999,9,0,2,0.02,2,-999,-999,-999,9,301,9.2073,26.7676,-999,9
KS08-06-1,NONE,KS-2220,1,11,02-19376,2,20080726,2127,2.3997,140.006,4144,403.6,7.9461,34.5875,2,-999,9,-999,9,121,2,34.79,2,-999,9,30.19,2,0,2,2.06,2,-999,9,-999,9,-999,9,-999,9,-999,9,-999,9,   -999.0,  9,-999,9,-999,-999,9,-999,9,-999,9,-999,9,-999,-999,-999,9,401,7.9051,26.964,-999,9
KS08-06-1,NONE,KS-2220,1,10,02-19375,2,20080726,2124,2.3997,140.006,4144,503.4,7.2496,34.5578,2,-999,9,-999,9,114,2,40.34,2,-999,9,32.23,2,0,2,2.22,2,-999,9,-999,9,-999,9,-999,9,-999,9,-999,9,   -999.0,  9,-999,9,-999,-999,9,-999,9,-999,9,-999,9,-999,-999,-999,9,500,7.2008,27.0424,-999,9
KS08-06-1,NONE,KS-2220,1,9,02-16015,2,20080726,2122,2.3997,140.006,4144,604.4,6.5308,34.5375,2,-999,9,-999,9,118,2,46.82,2,-999,9,33.39,2,0,2,2.30,2,-999,9,-999,9,-999,9,-999,9,-999,9,-999,9,   -999.0,  9,-999,9,-999,-999,9,-999,9,-999,9,-999,9,-999,-999,-999,9,600,6.4751,27.1255,-999,9
KS08-06-1,NONE,KS-2220,1,8,02-16014,2,20080726,2119,2.3997,140.006,4144,705.8,5.8983,34.5334,2,-999,9,-999,9,104,2,58.66,2,-999,9,35.44,2,0,2,2.46,2,-999,9,-999,9,-999,9,-999,9,-999,9,-999,9,   -999.0,  9,-999,9,-999,-999,9,-999,9,-999,9,-999,9,-999,-999,-999,9,701,5.8361,27.2046,-999,9
KS08-06-1,NONE,KS-2220,1,7,02-19374,2,20080726,2117,2.3997,140.006,4144,807,5.1405,34.5421,2,-999,9,-999,9,96,2,74.68,2,-999,9,37.09,2,0,2,2.60,2,-999,9,-999,9,-999,9,-999,9,-999,9,-999,9,   -999.0,  9,-999,9,-999,-999,9,-999,9,-999,9,-999,9,-999,-999,-999,9,801,5.0735,27.3037,-999,9
KS08-06-1,NONE,KS-2220,1,6,02-19373,2,20080726,2114,2.3997,140.006,4144,907.7,4.5709,34.5557,2,-999,9,-999,9,98,2,86.55,2,-999,9,37.57,2,0,2,2.65,2,-999,9,-999,9,-999,9,-999,9,-999,9,-999,9,   -999.0,  9,-999,9,-999,-999,9,-999,9,-999,9,-999,9,-999,-999,-999,9,901,4.4988,27.3795,-999,9
KS08-06-1,NONE,KS-2220,1,5,02-16011,2,20080726,2112,2.3997,140.006,4144,1009.3,4.2038,34.5641,2,-999,9,-999,9,99,2,92.42,2,-999,9,37.86,2,0,2,2.67,2,-999,9,-999,9,-999,9,-999,9,-999,9,-999,9,   -999.0,  9,-999,9,-999,-999,9,-999,9,-999,9,-999,9,-999,-999,-999,9,1001,4.1257,27.4263,-999,9
KS08-06-1,NONE,KS-2220,1,4,02-16010,2,20080726,2106,2.3997,140.006,4144,1261.4,3.6836,34.5781,2,-999,9,-999,9,97,2,103.95,2,-999,9,38.54,2,0,2,2.72,2,-999,9,-999,9,-999,9,-999,9,-999,9,-999,9,   -999.0,  9,-999,9,-999,-999,9,-999,9,-999,9,-999,9,-999,-999,-999,9,1251,3.5886,27.4923,-999,9
KS08-06-1,NONE,KS-2220,1,3,02-16009,2,20080726,2101,2.3997,140.006,4144,1514.8,3.0861,34.598,2,-999,9,-999,9,102,2,115.82,2,-999,9,38.73,2,0,2,2.72,2,-999,9,-999,9,-999,9,-999,9,-999,9,-999,9,   -999.0,  9,-999,9,-999,-999,9,-999,9,-999,9,-999,9,-999,-999,-999,9,1501,2.976,27.5664,-999,9
KS08-06-1,NONE,KS-2220,1,2,02-16008,2,20080726,2056,2.3997,140.006,4144,1767.1,2.5772,34.6194,2,-999,9,-999,9,108,2,126.84,2,-999,9,38.54,2,0,2,2.71,2,-999,9,-999,9,-999,9,-999,9,-999,9,-999,9,   -999.0,  9,-999,9,-999,-999,9,-999,9,-999,9,-999,9,-999,-999,-999,9,1750,2.4521,27.6297,-999,9
KS08-06-1,NONE,KS-2220,1,1,02-16007,2,20080726,2050,2.3997,140.006,4144,2032.4,2.268,34.6339,2,-999,9,-999,9,118,2,132.31,2,-999,9,38.24,2,0,2,2.67,2,-999,9,-999,9,-999,9,-999,9,-999,9,-999,9,   -999.0,  9,-999,9,-999,-999,9,-999,9,-999,9,-999,9,-999,-999,-999,9,2011,2.1247,27.6684,-999,9