BOTTLE,20121206MIRCHATS
EXPOCODE,SECT_ID,STNNBR,CASTNO,SAMPNO,BTLNBR,BTLNBR_FLAG_W,DATE,TIME,LATITUDE,LONGITUDE,DEPTH,CTDPRS,CTDTMP,CTDSAL,CTDSAL_FLAG_W,CTDOXY,CTDOXY_FLAG_W,SALNTY,SALNTY_FLAG_W,OXYGEN,OXYGEN_FLAG_W,SILCAT,SILCAT_FLAG_W,NITRAT,NITRAT_FLAG_W,NO2+NO3,NO2+NO3_FLAG_W,NITRIT,NITRIT_FLAG_W,PHSPHT,PHSPHT_FLAG_W,CFC-11,CFC-11_FLAG_W,CFC-12,CFC-12_FLAG_W,DELC13,DELC13_FLAG_W,TCARBN,TCARBN_FLAG_W,ALKALI,ALKALI_FLAG_W,PH,PH_FLAG_W,PH_TMP,PH_SCALE,PH_NBS,PH_NBS_FLAG_W,C13ERR,TOTALP,TOTALP_FLAG_W,AMMONI,AMMONI_FLAG_W,CHLORA,CHLORA_FLAG_W,PPHYTN,PPHYTN_FLAG_W,REVPRS,REVTMP,DEPTH,DEPTH_FLAG,CTDDEP,THETA,SIGTHT,DOC,DOC_FLAG_W
        ,       ,      ,      ,      ,      ,             ,GMT ,GMT ,        ,         ,METER,DBAR  ,ITS-90,PSS-78,             ,UMOL/KG,            ,PSS-78,             ,UMOL/KG,            ,UMOL/KG,            ,UMOL/KG,            ,UMOL/KG,            ,UMOL/KG,            ,UMOL/KG,            ,PMOL/KG,            ,PMOL/KG,            ,/MILLE,             ,UMOL/KG,            ,UMOL/KG,            ,25_DEG_C,  ,DEG_C,,       ,      ,/MILLE,UMOL/KG,     ,UMOL/KG,            ,UG/L,             ,UG/L,             ,DBAR  ,ITS-90,METERS,         ,METERS,DEG_C,      ,UMOL/L,        
KS08-06-1,165E,KS-2191,1,-9,-9,5,20080715,0920,4.9745,164.9953,4763,0,28.8779,34.3747,2,-999,9,-999,9,195,2,0.85,2,-999,9,0,2,0,2,0.1,2,-999,9,-999,9,-999,9,-999,9,-999,9,-999,9,   -999.0,  9,-999,9,-999,-999,9,-999,9,0.05,2,0.02,2,-999,-999,-999,9,0,28.8777,21.6354,-999,9
KS08-06-1,165E,KS-2191,1,21,02-16027,2,20080715,0939,4.9745,164.9953,4763,10.9,28.893,34.3733,2,-999,9,34.3723,2,194,2,0.89,2,-999,9,0,2,0,2,0.1,2,-999,9,-999,9,-999,9,-999,9,-999,9,-999,9,   -999.0,  9,-999,9,-999,-999,9,-999,9,0.05,2,0.02,2,-999,-999,-999,9,11,28.8904,21.6301,-999,9
KS08-06-1,165E,KS-2191,1,20,02-16026,2,20080715,0938,4.9745,164.9953,4763,25.9,28.8982,34.3728,2,-999,9,-999,9,198,2,0.94,2,-999,9,0,2,0,2,0.1,2,-999,9,-999,9,-999,9,-999,9,-999,9,-999,9,   -999.0,  9,-999,9,-999,-999,9,-999,9,0.05,2,0.02,2,-999,-999,-999,9,26,28.892,21.6293,-999,9
KS08-06-1,165E,KS-2191,1,19,02-19378,2,20080715,0935,4.9745,164.9953,4763,51.8,28.8724,34.3639,2,-999,9,-999,9,198,2,0.83,2,-999,9,0,2,0,2,0.1,2,-999,9,-999,9,-999,9,-999,9,-999,9,-999,9,   -999.0,  9,-999,9,-999,-999,9,-999,9,0.05,2,0.02,2,-999,-999,-999,9,52,28.8599,21.6332,-999,9
KS08-06-1,165E,KS-2191,1,18,02-19377,2,20080715,0934,4.9745,164.9953,4763,75.3,28.7539,34.3446,2,-999,9,-999,9,199,2,0.87,2,-999,9,0,2,0,2,0.1,2,-999,9,-999,9,-999,9,-999,9,-999,9,-999,9,   -999.0,  9,-999,9,-999,-999,9,-999,9,0.08,2,0.04,2,-999,-999,-999,9,75,28.7358,21.6599,-999,9
KS08-06-1,165E,KS-2191,1,17,02-16023,2,20080715,0932,4.9745,164.9953,4763,101,27.9017,34.6775,2,-999,9,34.684,2,195,2,1.12,2,-999,9,0.2,2,0.05,2,0.14,2,-999,9,-999,9,-999,9,-999,9,-999,9,-999,9,   -999.0,  9,-999,9,-999,-999,9,-999,9,0.23,2,0.26,2,-999,-999,-999,9,100,27.878,22.1919,-999,9
KS08-06-1,165E,KS-2191,1,16,02-16022,2,20080715,0931,4.9745,164.9953,4763,125.7,25.103,34.7783,2,-999,9,-999,9,155,2,3.09,2,-999,9,5.08,2,0.23,2,0.4,2,-999,9,-999,9,-999,9,-999,9,-999,9,-999,9,   -999.0,  9,-999,9,-999,-999,9,-999,9,0.14,2,0.27,2,-999,-999,-999,9,125,25.0757,23.1507,-999,9
KS08-06-1,165E,KS-2191,1,15,02-16021,2,20080715,0930,4.9745,164.9953,4763,151.3,19.712,34.7725,2,-999,9,-999,9,135,2,8.07,2,-999,9,10.93,2,0.01,2,0.76,2,-999,9,-999,9,-999,9,-999,9,-999,9,-999,9,   -999.0,  9,-999,9,-999,-999,9,-999,9,0.04,2,0.1,2,-999,-999,-999,9,150,19.6844,24.6709,-999,9
KS08-06-1,165E,KS-2191,1,14,02-16020,2,20080715,0929,4.9745,164.9953,4763,201.8,11.4644,34.5582,2,-999,9,34.5586,2,63,2,27.12,2,-999,9,28.45,2,0,2,2.02,2,-999,9,-999,9,-999,9,-999,9,-999,9,-999,9,   -999.0,  9,-999,9,-999,-999,9,-999,9,0,2,0.02,2,-999,-999,-999,9,201,11.439,26.3512,-999,9
KS08-06-1,165E,KS-2191,1,13,02-16019,2,20080715,0927,4.9745,164.9953,4763,252,9.9603,34.6372,2,-999,9,-999,9,38,2,33.39,2,-999,9,33.70,2,0,2,2.38,2,-999,9,-999,9,-999,9,-999,9,-999,9,-999,9,   -999.0,  9,-999,9,-999,-999,9,-999,9,0,2,0.02,2,-999,-999,-999,9,250,9.9312,26.6804,-999,9
KS08-06-1,165E,KS-2191,1,12,02-16018,2,20080715,0925,4.9745,164.9953,4763,301.6,9.3346,34.6302,2,-999,9,34.629,2,51,2,35.10,2,-999,9,33.79,2,0,2,2.36,2,-999,9,-999,9,-999,9,-999,9,-999,9,-999,9,   -999.0,  9,-999,9,-999,-999,9,-999,9,0,2,0.02,2,-999,-999,-999,9,300,9.301,26.7799,-999,9
KS08-06-1,165E,KS-2191,1,11,02-19376,2,20080715,0923,4.9745,164.9953,4763,403.1,8.5215,34.6115,2,-999,9,34.6105,2,59,2,38.59,2,-999,9,34.76,2,0,2,2.42,2,-999,9,-999,9,-999,9,-999,9,-999,9,-999,9,   -999.0,  9,-999,9,-999,-999,9,-999,9,-999,9,-999,9,-999,-999,-999,9,400,8.4788,26.8959,-999,9
KS08-06-1,165E,KS-2191,1,10,02-19375,2,20080715,0920,4.9745,164.9953,4763,503.7,7.6442,34.5775,2,-999,9,34.576,2,71,2,43.36,2,-999,9,35.25,2,0,2,2.47,2,-999,9,-999,9,-999,9,-999,9,-999,9,-999,9,   -999.0,  9,-999,9,-999,-999,9,-999,9,-999,9,-999,9,-999,-999,-999,9,500,7.5939,27.0018,-999,9
KS08-06-1,165E,KS-2191,1,9,02-16015,2,20080715,0918,4.9745,164.9953,4763,606.3,6.9534,34.5577,2,-999,9,34.5572,2,77,2,48.66,2,-999,9,36.32,2,0,2,2.55,2,-999,9,-999,9,-999,9,-999,9,-999,9,-999,9,   -999.0,  9,-999,9,-999,-999,9,-999,9,-999,9,-999,9,-999,-999,-999,9,602,6.8955,27.0848,-999,9
KS08-06-1,165E,KS-2191,1,8,02-16014,2,20080715,0915,4.9745,164.9953,4763,707.6,6.2247,34.543,2,-999,9,34.5426,2,84,2,58.56,2,-999,9,37.77,2,0,2,2.67,2,-999,9,-999,9,-999,9,-999,9,-999,9,-999,9,   -999.0,  9,-999,9,-999,-999,9,-999,9,-999,9,-999,9,-999,-999,-999,9,702,6.1606,27.171,-999,9
KS08-06-1,165E,KS-2191,1,7,02-19374,2,20080715,0912,4.9745,164.9953,4763,806.4,5.5992,34.5428,2,-999,9,34.5422,2,60,2,71.36,2,-999,9,40.01,2,0,2,2.85,2,-999,9,-999,9,-999,9,-999,9,-999,9,-999,9,   -999.0,  9,-999,9,-999,-999,9,-999,9,-999,9,-999,9,-999,-999,-999,9,800,5.5294,27.2499,-999,9
KS08-06-1,165E,KS-2191,1,6,02-19373,2,20080715,0910,4.9745,164.9953,4763,906.1,5.0216,34.5475,2,-999,9,34.5471,2,63,2,80.25,2,-999,9,40.49,2,0,2,2.88,2,-999,9,-999,9,-999,9,-999,9,-999,9,-999,9,   -999.0,  9,-999,9,-999,-999,9,-999,9,-999,9,-999,9,-999,-999,-999,9,899,4.9465,27.3226,-999,9
KS08-06-1,165E,KS-2191,1,5,02-16011,2,20080715,0907,4.9745,164.9953,4763,1008.5,4.4858,34.5563,2,-999,9,34.556,2,79,2,89.93,2,-999,9,39.52,2,0,2,2.81,2,-999,9,-999,9,-999,9,-999,9,-999,9,-999,9,   -999.0,  9,-999,9,-999,-999,9,-999,9,-999,9,-999,9,-999,-999,-999,9,1000,4.4056,27.3902,-999,9
KS08-06-1,165E,KS-2191,1,4,02-16010,2,20080715,0902,4.9745,164.9953,4763,1260.8,3.529,34.5838,2,-999,9,34.5838,2,83,2,109.32,2,-999,9,40.10,2,0,2,2.86,2,-999,9,-999,9,-999,9,-999,9,-999,9,-999,9,   -999.0,  9,-999,9,-999,-999,9,-999,9,-999,9,-999,9,-999,-999,-999,9,1250,3.4355,27.5118,-999,9
KS08-06-1,165E,KS-2191,1,3,02-16009,2,20080715,0857,4.9745,164.9953,4763,1514.4,2.9074,34.6061,2,-999,9,34.6058,2,93,2,122.48,2,-999,9,39.70,2,0,2,2.81,2,-999,9,-999,9,-999,9,-999,9,-999,9,-999,9,   -999.0,  9,-999,9,-999,-999,9,-999,9,-999,9,-999,9,-999,-999,-999,9,1501,2.7994,27.5888,-999,9
KS08-06-1,165E,KS-2191,1,2,02-16008,2,20080715,0851,4.9745,164.9953,4763,1769,2.4579,34.6258,2,-999,9,34.6266,2,103,2,131.70,2,-999,9,39.31,2,0,2,2.76,2,-999,9,-999,9,-999,9,-999,9,-999,9,-999,9,   -999.0,  9,-999,9,-999,-999,9,-999,9,-999,9,-999,9,-999,-999,-999,9,1752,2.3342,27.6447,-999,9
KS08-06-1,165E,KS-2191,1,1,02-16007,2,20080715,0846,4.9745,164.9953,4763,2032,2.1174,34.6439,2,-999,9,34.6445,2,111,2,139.21,2,-999,9,38.83,2,0,2,2.71,2,-999,9,-999,9,-999,9,-999,9,-999,9,-999,9,   -999.0,  9,-999,9,-999,-999,9,-999,9,-999,9,-999,9,-999,-999,-999,9,2011,1.9764,27.6882,-999,9
KS08-06-1,165E,KS-2193,1,-9,-9,5,20080715,2138,2.9918,164.9922,4235,0,29.2933,34.6228,2,-999,9,-999,9,198,2,1.16,2,-999,9,0,2,0,2,0.11,2,-999,9,-999,9,-999,9,-999,9,-999,9,-999,9,   -999.0,  9,-999,9,-999,-999,9,-999,9,0.1,2,0.05,2,-999,-999,-999,9,0,29.2931,21.6827,-999,9
KS08-06-1,165E,KS-2193,1,21,02-16027,2,20080715,2155,2.9918,164.9922,4235,10.1,29.2994,34.6242,2,-999,9,-999,9,198,2,1.20,2,-999,9,0,2,0,2,0.11,2,-999,9,-999,9,-999,9,-999,9,-999,9,-999,9,   -999.0,  9,-999,9,-999,-999,9,-999,9,0.1,2,0.06,2,-999,-999,-999,9,10,29.2969,21.6825,-999,9
KS08-06-1,165E,KS-2193,1,20,02-16026,2,20080715,2154,2.9918,164.9922,4235,26.4,29.3033,34.6242,2,-999,9,-999,9,199,2,1.15,2,-999,9,0,2,0,2,0.11,2,-999,9,-999,9,-999,9,-999,9,-999,9,-999,9,   -999.0,  9,-999,9,-999,-999,9,-999,9,0.09,2,0.04,2,-999,-999,-999,9,26,29.2969,21.6825,-999,9
KS08-06-1,165E,KS-2193,1,19,02-19378,2,20080715,2151,2.9918,164.9922,4235,51.6,29.3213,34.6278,2,-999,9,-999,9,197,2,1.19,2,-999,9,0,2,0,2,0.11,2,-999,9,-999,9,-999,9,-999,9,-999,9,-999,9,   -999.0,  9,-999,9,-999,-999,9,-999,9,0.1,2,0.05,2,-999,-999,-999,9,51,29.3087,21.6812,-999,9
KS08-06-1,165E,KS-2193,1,18,02-19377,2,20080715,2149,2.9918,164.9922,4235,76.5,29.3539,34.718,2,-999,9,-999,9,197,2,1.18,2,-999,9,0,2,0,2,0.12,2,-999,9,-999,9,-999,9,-999,9,-999,9,-999,9,   -999.0,  9,-999,9,-999,-999,9,-999,9,0.21,2,0.13,2,-999,-999,-999,9,76,29.3352,21.74,-999,9
KS08-06-1,165E,KS-2193,1,17,02-16023,2,20080715,2148,2.9918,164.9922,4235,101.4,28.7047,34.7583,2,-999,9,-999,9,191,2,1.33,2,-999,9,0.2,2,0.13,2,0.14,2,-999,9,-999,9,-999,9,-999,9,-999,9,-999,9,   -999.0,  9,-999,9,-999,-999,9,-999,9,0.21,2,0.3,2,-999,-999,-999,9,101,28.6804,21.989,-999,9
KS08-06-1,165E,KS-2193,1,16,02-16022,2,20080715,2146,2.9918,164.9922,4235,127.4,24.4475,34.9046,2,-999,9,-999,9,155,2,3.90,2,-999,9,5.28,2,0.04,2,0.42,2,-999,9,-999,9,-999,9,-999,9,-999,9,-999,9,   -999.0,  9,-999,9,-999,-999,9,-999,9,0.06,2,0.16,2,-999,-999,-999,9,127,24.4203,23.444,-999,9
KS08-06-1,165E,KS-2193,1,15,02-16021,2,20080715,2144,2.9918,164.9922,4235,150.5,21.6549,34.9797,2,-999,9,-999,9,142,2,6.16,2,-999,9,8.88,2,0.01,2,0.62,2,-999,9,-999,9,-999,9,-999,9,-999,9,-999,9,   -999.0,  9,-999,9,-999,-999,9,-999,9,0.02,2,0.03,2,-999,-999,-999,9,150,21.6255,24.3068,-999,9
KS08-06-1,165E,KS-2193,1,14,02-16020,2,20080715,2143,2.9918,164.9922,4235,202.9,11.5161,34.5595,2,-999,9,-999,9,80,2,27.27,2,-999,9,26.79,2,0,2,1.87,2,-999,9,-999,9,-999,9,-999,9,-999,9,-999,9,   -999.0,  9,-999,9,-999,-999,9,-999,9,0,2,0.02,2,-999,-999,-999,9,202,11.4904,26.3427,-999,9
KS08-06-1,165E,KS-2193,1,13,02-16019,2,20080715,2141,2.9918,164.9922,4235,252.7,9.7186,34.6177,2,-999,9,-999,9,108,2,30.93,2,-999,9,27.76,2,0,2,1.92,2,-999,9,-999,9,-999,9,-999,9,-999,9,-999,9,   -999.0,  9,-999,9,-999,-999,9,-999,9,0,2,0.02,2,-999,-999,-999,9,251,9.6899,26.7058,-999,9
KS08-06-1,165E,KS-2193,1,12,02-16018,2,20080715,2139,2.9918,164.9922,4235,302.3,9.5115,34.6803,2,-999,9,-999,9,123,2,26.72,2,-999,9,27.07,2,0,2,1.84,2,-999,9,-999,9,-999,9,-999,9,-999,9,-999,9,   -999.0,  9,-999,9,-999,-999,9,-999,9,0,2,0.02,2,-999,-999,-999,9,300,9.4774,26.7901,-999,9
KS08-06-1,165E,KS-2193,1,11,02-19376,2,20080715,2137,2.9918,164.9922,4235,402.1,8.9093,34.6431,2,-999,9,-999,9,112,2,30.07,2,-999,9,29.31,2,0,2,2,2,-999,9,-999,9,-999,9,-999,9,-999,9,-999,9,   -999.0,  9,-999,9,-999,-999,9,-999,9,-999,9,-999,9,-999,-999,-999,9,400,8.8656,26.8601,-999,9
KS08-06-1,165E,KS-2193,1,10,02-19375,2,20080715,2134,2.9918,164.9922,4235,503.7,7.8312,34.5829,2,-999,9,-999,9,97,2,38.74,2,-999,9,32.72,2,0,2,2.26,2,-999,9,-999,9,-999,9,-999,9,-999,9,-999,9,   -999.0,  9,-999,9,-999,-999,9,-999,9,-999,9,-999,9,-999,-999,-999,9,500,7.7802,26.9788,-999,9
KS08-06-1,165E,KS-2193,1,9,02-16015,2,20080715,2131,2.9918,164.9922,4235,604,6.6135,34.5519,2,-999,9,-999,9,78,2,52.50,2,-999,9,36.90,2,0,2,2.60,2,-999,9,-999,9,-999,9,-999,9,-999,9,-999,9,   -999.0,  9,-999,9,-999,-999,9,-999,9,-999,9,-999,9,-999,-999,-999,9,600,6.5574,27.1259,-999,9
KS08-06-1,165E,KS-2193,1,8,02-16014,2,20080715,2129,2.9918,164.9922,4235,704.8,5.9692,34.5403,2,-999,9,-999,9,87,2,59.33,2,-999,9,37.19,2,0,2,2.61,2,-999,9,-999,9,-999,9,-999,9,-999,9,-999,9,   -999.0,  9,-999,9,-999,-999,9,-999,9,-999,9,-999,9,-999,-999,-999,9,700,5.9067,27.2012,-999,9
KS08-06-1,165E,KS-2193,1,7,02-19374,2,20080715,2126,2.9918,164.9922,4235,804.6,5.242,34.5419,2,-999,9,-999,9,91,2,70.86,2,-999,9,37.77,2,0,2,2.67,2,-999,9,-999,9,-999,9,-999,9,-999,9,-999,9,   -999.0,  9,-999,9,-999,-999,9,-999,9,-999,9,-999,9,-999,-999,-999,9,799,5.1746,27.2917,-999,9
KS08-06-1,165E,KS-2193,1,6,02-19373,2,20080715,2124,2.9918,164.9922,4235,908,4.8008,34.5484,2,-999,9,-999,9,96,2,79.66,2,-999,9,37.77,2,0,2,2.66,2,-999,9,-999,9,-999,9,-999,9,-999,9,-999,9,   -999.0,  9,-999,9,-999,-999,9,-999,9,-999,9,-999,9,-999,-999,-999,9,901,4.7271,27.3483,-999,9
KS08-06-1,165E,KS-2193,1,5,02-16011,2,20080715,2121,2.9918,164.9922,4235,1007.8,4.5003,34.555,2,-999,9,-999,9,93,2,85.46,2,-999,9,38.35,2,0,2,2.72,2,-999,9,-999,9,-999,9,-999,9,-999,9,-999,9,   -999.0,  9,-999,9,-999,-999,9,-999,9,-999,9,-999,9,-999,-999,-999,9,1000,4.42,27.3875,-999,9
KS08-06-1,165E,KS-2193,1,4,02-16010,2,20080715,2115,2.9918,164.9922,4235,1260.9,3.5243,34.5835,2,-999,9,-999,9,93,2,106.26,2,-999,9,39.32,2,0,2,2.80,2,-999,9,-999,9,-999,9,-999,9,-999,9,-999,9,   -999.0,  9,-999,9,-999,-999,9,-999,9,-999,9,-999,9,-999,-999,-999,9,1250,3.4309,27.512,-999,9
KS08-06-1,165E,KS-2193,1,3,02-16009,2,20080715,2110,2.9918,164.9922,4235,1514.7,2.8982,34.6067,2,-999,9,-999,9,99,2,120.72,2,-999,9,39.12,2,0,2,2.77,2,-999,9,-999,9,-999,9,-999,9,-999,9,-999,9,   -999.0,  9,-999,9,-999,-999,9,-999,9,-999,9,-999,9,-999,-999,-999,9,1501,2.7902,27.5901,-999,9
KS08-06-1,165E,KS-2193,1,2,02-16008,2,20080715,2104,2.9918,164.9922,4235,1767.2,2.4651,34.6255,2,-999,9,-999,9,109,2,128.72,2,-999,9,38.73,2,0,2,2.73,2,-999,9,-999,9,-999,9,-999,9,-999,9,-999,9,   -999.0,  9,-999,9,-999,-999,9,-999,9,-999,9,-999,9,-999,-999,-999,9,1750,2.3415,27.6439,-999,9
KS08-06-1,165E,KS-2193,1,1,02-16007,2,20080715,2059,2.9918,164.9922,4235,2031.3,2.1599,34.6412,2,-999,9,-999,9,117,2,134.43,2,-999,9,38.34,2,0,2,2.68,2,-999,9,-999,9,-999,9,-999,9,-999,9,-999,9,   -999.0,  9,-999,9,-999,-999,9,-999,9,-999,9,-999,9,-999,-999,-999,9,2010,2.0183,27.6828,-999,9