BOTTLE,20121206MIRCHATS
EXPOCODE,SECT_ID,STNNBR,CASTNO,SAMPNO,BTLNBR,BTLNBR_FLAG_W,DATE,TIME,LATITUDE,LONGITUDE,DEPTH,CTDPRS,CTDTMP,CTDSAL,CTDSAL_FLAG_W,CTDOXY,CTDOXY_FLAG_W,SALNTY,SALNTY_FLAG_W,OXYGEN,OXYGEN_FLAG_W,SILCAT,SILCAT_FLAG_W,NITRAT,NITRAT_FLAG_W,NO2+NO3,NO2+NO3_FLAG_W,NITRIT,NITRIT_FLAG_W,PHSPHT,PHSPHT_FLAG_W,CFC-11,CFC-11_FLAG_W,CFC-12,CFC-12_FLAG_W,DELC13,DELC13_FLAG_W,TCARBN,TCARBN_FLAG_W,ALKALI,ALKALI_FLAG_W,PH,PH_FLAG_W,PH_TMP,PH_SCALE,PH_NBS,PH_NBS_FLAG_W,C13ERR,TOTALP,TOTALP_FLAG_W,AMMONI,AMMONI_FLAG_W,CHLORA,CHLORA_FLAG_W,PPHYTN,PPHYTN_FLAG_W,REVPRS,REVTMP,DEPTH,DEPTH_FLAG,CTDDEP,THETA,SIGTHT,DOC,DOC_FLAG_W
        ,       ,      ,      ,      ,      ,             ,GMT ,GMT ,        ,         ,METER,DBAR  ,ITS-90,PSS-78,             ,UMOL/KG,            ,PSS-78,             ,UMOL/KG,            ,UMOL/KG,            ,UMOL/KG,            ,UMOL/KG,            ,UMOL/KG,            ,UMOL/KG,            ,PMOL/KG,            ,PMOL/KG,            ,/MILLE,             ,UMOL/KG,            ,UMOL/KG,            ,25_DEG_C,  ,DEG_C,,       ,      ,/MILLE,UMOL/KG,     ,UMOL/KG,            ,UG/L,             ,UG/L,             ,DBAR  ,ITS-90,METERS,         ,METERS,DEG_C,      ,UMOL/L,        
KS08-06-1,165E,KS-2173,1,-9,-9,5,20080630,0504,23.0068,164.9932,5815,0,28.8794,35.386,2,-999,9,-999,9,202,2,1.04,2,-999,9,0,2,0,2,0,2,-999,9,-999,9,-999,9,-999,9,-999,9,-999,9,   -999.0,  9,-999,9,-999,-999,9,-999,9,0.03,2,0.01,2,-999,-999,-999,9,0,28.8792,22.3943,-999,9
KS08-06-1,165E,KS-2173,1,21,02-16027,2,20080630,0521,23.0068,164.9932,5815,10.6,28.7238,35.3783,2,-999,9,-999,9,202,2,0.98,2,-999,9,0,2,0,2,0,2,-999,9,-999,9,-999,9,-999,9,-999,9,-999,9,   -999.0,  9,-999,9,-999,-999,9,-999,9,0.03,2,0.01,2,-999,-999,-999,9,10,28.7213,22.4412,-999,9
KS08-06-1,165E,KS-2173,1,20,02-16026,2,20080630,0520,23.0068,164.9932,5815,25.3,28.6175,35.3748,2,-999,9,-999,9,201,2,0.96,2,-999,9,0,2,0,2,0,2,-999,9,-999,9,-999,9,-999,9,-999,9,-999,9,   -999.0,  9,-999,9,-999,-999,9,-999,9,0.04,2,0.01,2,-999,-999,-999,9,25,28.6114,22.475,-999,9
KS08-06-1,165E,KS-2173,1,19,02-19378,2,20080630,0517,23.0068,164.9932,5815,50.6,27.9729,35.3206,2,-999,9,-999,9,212,2,0.95,2,-999,9,0,2,0,2,0,2,-999,9,-999,9,-999,9,-999,9,-999,9,-999,9,   -999.0,  9,-999,9,-999,-999,9,-999,9,0.05,2,0.01,2,-999,-999,-999,9,50,27.961,22.6485,-999,9
KS08-06-1,165E,KS-2173,1,18,02-19377,2,20080630,0515,23.0068,164.9932,5815,74.6,26.2286,35.2265,2,-999,9,-999,9,218,2,0.99,2,-999,9,0,2,0,2,0,2,-999,9,-999,9,-999,9,-999,9,-999,9,-999,9,   -999.0,  9,-999,9,-999,-999,9,-999,9,0.07,2,0.02,2,-999,-999,-999,9,74,26.2118,23.138,-999,9
KS08-06-1,165E,KS-2173,1,17,02-16023,2,20080630,0514,23.0068,164.9932,5815,100.4,24.9463,35.1978,2,-999,9,-999,9,216,2,1.12,2,-999,9,0,2,0,2,0,2,-999,9,-999,9,-999,9,-999,9,-999,9,-999,9,   -999.0,  9,-999,9,-999,-999,9,-999,9,0.13,2,0.04,2,-999,-999,-999,9,100,24.9245,23.5137,-999,9
KS08-06-1,165E,KS-2173,1,16,02-16022,2,20080630,0513,23.0068,164.9932,5815,126.2,23.7397,35.1407,2,-999,9,-999,9,213,2,1.31,2,-999,9,0,2,0,2,0,2,-999,9,-999,9,-999,9,-999,9,-999,9,-999,9,   -999.0,  9,-999,9,-999,-999,9,-999,9,0.17,2,0.1,2,-999,-999,-999,9,125,23.7133,23.8326,-999,9
KS08-06-1,165E,KS-2173,1,15,02-16021,2,20080630,0511,23.0068,164.9932,5815,150.2,22.0005,35.0427,2,-999,9,-999,9,211,2,1.70,2,-999,9,0.1,2,0.06,2,0.01,2,-999,9,-999,9,-999,9,-999,9,-999,9,-999,9,   -999.0,  9,-999,9,-999,-999,9,-999,9,0.15,2,0.39,2,-999,-999,-999,9,149,21.9708,24.2585,-999,9
KS08-06-1,165E,KS-2173,1,14,02-16020,2,20080630,0510,23.0068,164.9932,5815,201.2,19.0653,34.8555,2,-999,9,-999,9,202,2,2.60,2,-999,9,1.95,2,0.01,2,0.12,2,-999,9,-999,9,-999,9,-999,9,-999,9,-999,9,   -999.0,  9,-999,9,-999,-999,9,-999,9,0.03,2,0.06,2,-999,-999,-999,9,200,19.0293,24.9032,-999,9
KS08-06-1,165E,KS-2173,1,13,02-16019,2,20080630,0508,23.0068,164.9932,5815,250.8,17.4695,34.7622,2,-999,9,-999,9,206,2,3.79,2,-999,9,4.68,2,0,2,0.24,2,-999,9,-999,9,-999,9,-999,9,-999,9,-999,9,   -999.0,  9,-999,9,-999,-999,9,-999,9,0,2,0.01,2,-999,-999,-999,9,249,17.4273,25.2295,-999,9
KS08-06-1,165E,KS-2173,1,12,02-16018,2,20080630,0506,23.0068,164.9932,5815,304.7,16.5238,34.6958,2,-999,9,-999,9,203,2,5.49,2,-999,9,6.34,2,0,2,0.34,2,-999,9,-999,9,-999,9,-999,9,-999,9,-999,9,   -999.0,  9,-999,9,-999,-999,9,-999,9,0,2,0.01,2,-999,-999,-999,9,303,16.4745,25.4043,-999,9
KS08-06-1,165E,KS-2173,1,11,02-19376,2,20080630,0504,23.0068,164.9932,5815,402.1,13.6205,34.4667,2,-999,9,-999,9,203,2,10.98,2,-999,9,10.72,2,0,2,0.63,2,-999,9,-999,9,-999,9,-999,9,-999,9,-999,9,   -999.0,  9,-999,9,-999,-999,9,-999,9,-999,9,-999,9,-999,-999,-999,9,399,13.5633,25.8655,-999,9
KS08-06-1,165E,KS-2173,1,10,02-19375,2,20080630,0501,23.0068,164.9932,5815,502.4,10.2619,34.2084,2,-999,9,-999,9,181,2,23.01,2,-999,9,18.51,2,0,2,1.2,2,-999,9,-999,9,-999,9,-999,9,-999,9,-999,9,   -999.0,  9,-999,9,-999,-999,9,-999,9,-999,9,-999,9,-999,-999,-999,9,499,10.2023,26.2993,-999,9
KS08-06-1,165E,KS-2173,1,9,02-16015,2,20080630,0459,23.0068,164.9932,5815,604.2,7.8094,34.1089,2,-999,9,-999,9,133,2,43.10,2,-999,9,27.57,2,0,2,1.88,2,-999,9,-999,9,-999,9,-999,9,-999,9,-999,9,   -999.0,  9,-999,9,-999,-999,9,-999,9,-999,9,-999,9,-999,-999,-999,9,600,7.7483,26.611,-999,9
KS08-06-1,165E,KS-2173,1,8,02-16014,2,20080630,0456,23.0068,164.9932,5815,706.6,6.102,34.1076,2,-999,9,-999,9,102,2,65.44,2,-999,9,34.18,2,0,2,2.41,2,-999,9,-999,9,-999,9,-999,9,-999,9,-999,9,   -999.0,  9,-999,9,-999,-999,9,-999,9,-999,9,-999,9,-999,-999,-999,9,701,6.0391,26.8425,-999,9
KS08-06-1,165E,KS-2173,1,7,02-19374,2,20080630,0454,23.0068,164.9932,5815,807.1,5.0985,34.2104,2,-999,9,-999,9,60,2,85.65,2,-999,9,38.75,2,0,2,2.77,2,-999,9,-999,9,-999,9,-999,9,-999,9,-999,9,   -999.0,  9,-999,9,-999,-999,9,-999,9,-999,9,-999,9,-999,-999,-999,9,801,5.0322,27.0455,-999,9
KS08-06-1,165E,KS-2173,1,6,02-19373,2,20080630,0451,23.0068,164.9932,5815,906.8,4.6277,34.3594,2,-999,9,-999,9,49,2,96.68,2,-999,9,40.60,2,0,2,2.90,2,-999,9,-999,9,-999,9,-999,9,-999,9,-999,9,   -999.0,  9,-999,9,-999,-999,9,-999,9,-999,9,-999,9,-999,-999,-999,9,899,4.5556,27.2174,-999,9
KS08-06-1,165E,KS-2173,1,5,02-16011,2,20080630,0448,23.0068,164.9932,5815,1008.8,4.04,34.4174,2,-999,9,-999,9,55,2,108.78,2,-999,9,40.88,2,0,2,2.91,2,-999,9,-999,9,-999,9,-999,9,-999,9,-999,9,   -999.0,  9,-999,9,-999,-999,9,-999,9,-999,9,-999,9,-999,-999,-999,9,1000,3.9634,27.3265,-999,9
KS08-06-1,165E,KS-2173,1,4,02-16010,2,20080630,0443,23.0068,164.9932,5815,1262,3.4143,34.5242,2,-999,9,-999,9,71,2,119.81,2,-999,9,40.29,2,0,2,2.85,2,-999,9,-999,9,-999,9,-999,9,-999,9,-999,9,   -999.0,  9,-999,9,-999,-999,9,-999,9,-999,9,-999,9,-999,-999,-999,9,1250,3.322,27.4751,-999,9
KS08-06-1,165E,KS-2173,1,3,02-16009,2,20080630,0438,23.0068,164.9932,5815,1513.9,2.8412,34.5548,2,-999,9,-999,9,80,2,131.20,2,-999,9,40.19,2,0,2,2.82,2,-999,9,-999,9,-999,9,-999,9,-999,9,-999,9,   -999.0,  9,-999,9,-999,-999,9,-999,9,-999,9,-999,9,-999,-999,-999,9,1499,2.7341,27.5536,-999,9
KS08-06-1,165E,KS-2173,1,2,02-16008,2,20080630,0432,23.0068,164.9932,5815,1767.5,2.3954,34.5833,2,-999,9,-999,9,89,2,139.93,2,-999,9,39.90,2,0,2,2.78,2,-999,9,-999,9,-999,9,-999,9,-999,9,-999,9,   -999.0,  9,-999,9,-999,-999,9,-999,9,-999,9,-999,9,-999,-999,-999,9,1749,2.2728,27.6158,-999,9
KS08-06-1,165E,KS-2173,1,1,02-16007,2,20080630,0427,23.0068,164.9932,5815,2034,2.1083,34.6112,2,-999,9,-999,9,99,2,144.87,2,-999,9,39.41,2,0,2,2.73,2,-999,9,-999,9,-999,9,-999,9,-999,9,-999,9,   -999.0,  9,-999,9,-999,-999,9,-999,9,-999,9,-999,9,-999,-999,-999,9,2011,1.9674,27.6627,-999,9
KS08-06-1,165E,KS-2176,1,-9,-9,5,20080701,0007,19.9993,164.9945,5332,0,29.3185,35.1503,2,-999,9,-999,9,199,2,0.92,2,-999,9,0,2,0,2,0,2,-999,9,-999,9,-999,9,-999,9,-999,9,8.1268,2,     25.0, TS,-999,9,-999,-999,9,-999,9,0.04,2,0.01,2,-999,-999,-999,9,0,29.3183,22.0701,-999,9
KS08-06-1,165E,KS-2176,1,22,02-16028,2,20080701,0025,19.9993,164.9945,5332,10.1,29.1531,35.1452,2,-999,9,35.1443,2,200,2,0.90,2,-999,9,0,2,0,2,0,2,-999,9,-999,9,-999,9,-999,9,-999,9,8.1247,2,     25.0, TS,-999,9,-999,-999,9,-999,9,0.04,2,0.01,2,-999,-999,-999,9,10,29.1507,22.1226,-999,9
KS08-06-1,165E,KS-2176,1,21,02-16027,2,20080701,0024,19.9993,164.9945,5332,25.7,29.1173,35.1445,2,-999,9,-999,9,200,2,0.88,2,-999,9,0,2,0,2,0,2,-999,9,-999,9,-999,9,-999,9,-999,9,8.1278,2,     25.0, TS,-999,9,-999,-999,9,-999,9,0.05,2,0.01,2,-999,-999,-999,9,26,29.1111,22.1354,-999,9
KS08-06-1,165E,KS-2176,1,20,02-16026,2,20080701,0019,19.9993,164.9945,5332,49.8,28.7563,35.1113,2,-999,9,-999,9,202,2,0.91,2,-999,9,0,2,0,2,0,2,-999,9,-999,9,-999,9,-999,9,-999,9,8.1265,2,     25.0, TS,-999,9,-999,-999,9,-999,9,0.06,2,0.01,2,-999,-999,-999,9,49,28.7443,22.2329,-999,9
KS08-06-1,165E,KS-2176,1,19,02-19378,2,20080701,0018,19.9993,164.9945,5332,75.4,26.2235,35.0798,2,-999,9,-999,9,217,2,0.99,2,-999,9,0,2,0,2,0,2,-999,9,-999,9,-999,9,-999,9,-999,9,8.1158,2,     25.0, TS,-999,9,-999,-999,9,-999,9,0.09,2,0.02,2,-999,-999,-999,9,75,26.2066,23.0289,-999,9
KS08-06-1,165E,KS-2176,1,18,02-19377,2,20080701,0017,19.9993,164.9945,5332,100.1,24.2626,35.1,2,-999,9,35.1026,2,210,2,1.17,2,-999,9,0,2,0,2,0,2,-999,9,-999,9,-999,9,-999,9,-999,9,8.0794,2,     25.0, TS,-999,9,-999,-999,9,-999,9,0.15,2,0.07,2,-999,-999,-999,9,99,24.2414,23.6453,-999,9
KS08-06-1,165E,KS-2176,1,17,02-16023,2,20080701,0015,19.9993,164.9945,5332,126.2,22.0744,35.0044,2,-999,9,-999,9,213,2,1.50,2,-999,9,0,2,0,2,0,2,-999,9,-999,9,-999,9,-999,9,-999,9,8.0528,2,     25.0, TS,-999,9,-999,-999,9,-999,9,0.18,2,0.28,2,-999,-999,-999,9,125,22.0494,24.2073,-999,9
KS08-06-1,165E,KS-2176,1,16,02-16022,2,20080701,0014,19.9993,164.9945,5332,149.5,20.5642,34.9635,2,-999,9,-999,9,198,2,1.98,2,-999,9,0.68,2,0.11,2,0.07,2,-999,9,-999,9,-999,9,-999,9,-999,9,8.0034,2,     25.0, TS,-999,9,-999,-999,9,-999,9,0.12,2,0.26,2,-999,-999,-999,9,149,20.536,24.5914,-999,9
KS08-06-1,165E,KS-2176,1,15,02-16021,2,20080701,0012,19.9993,164.9945,5332,200.6,18.0405,34.8008,2,-999,9,34.7996,2,201,2,3.22,2,-999,9,3.80,2,0.01,2,0.21,2,-999,9,-999,9,-999,9,-999,9,-999,9,7.9679,2,     25.0, TS,-999,9,-999,-999,9,-999,9,0.03,2,0.06,2,-999,-999,-999,9,199,18.006,25.118,-999,9
KS08-06-1,165E,KS-2176,1,14,02-16020,2,20080701,0011,19.9993,164.9945,5332,251.4,16.7629,34.7214,2,-999,9,-999,9,201,2,4.95,2,-999,9,6.05,2,0,2,0.34,2,-999,9,-999,9,-999,9,-999,9,-999,9,7.9417,2,     25.0, TS,-999,9,-999,-999,9,-999,9,0,2,0.01,2,-999,-999,-999,9,250,16.7218,25.366,-999,9
KS08-06-1,165E,KS-2176,1,13,02-16019,2,20080701,0009,19.9993,164.9945,5332,302.5,15.1221,34.5899,2,-999,9,34.5907,2,197,2,8.15,2,-999,9,8.68,2,0,2,0.52,2,-999,9,-999,9,-999,9,-999,9,-999,9,7.8968,2,     25.0, TS,-999,9,-999,-999,9,-999,9,0,2,0.01,2,-999,-999,-999,9,300,15.076,25.6391,-999,9
KS08-06-1,165E,KS-2176,1,12,02-16018,2,20080701,0006,19.9993,164.9945,5332,403.3,11.3617,34.289,2,-999,9,34.2977,4,194,2,17.66,2,-999,9,15.10,2,0,2,0.97,2,-999,9,-999,9,-999,9,-999,9,-999,9,7.7923,2,     25.0, TS,-999,9,-999,-999,9,-999,9,-999,9,-999,9,-999,-999,-999,9,400,11.3109,26.1654,-999,9
KS08-06-1,165E,KS-2176,1,11,02-19376,2,20080701,0004,19.9993,164.9945,5332,503.7,8.3547,34.1174,2,-999,9,34.118,2,149,2,37.00,2,-999,9,24.94,2,0,2,1.70,2,-999,9,-999,9,-999,9,-999,9,-999,9,7.6326,2,     25.0, TS,-999,9,-999,-999,9,-999,9,-999,9,-999,9,-999,-999,-999,9,500,8.3021,26.5354,-999,9
KS08-06-1,165E,KS-2176,1,10,02-19375,2,20080701,0001,19.9993,164.9945,5332,604.3,6.1891,34.1368,2,-999,9,34.1362,2,83,2,64.73,2,-999,9,34.47,2,0,2,2.46,2,-999,9,-999,9,-999,9,-999,9,-999,9,7.4718,2,     25.0, TS,-999,9,-999,-999,9,-999,9,-999,9,-999,9,-999,-999,-999,9,600,6.1353,26.8533,-999,9
KS08-06-1,165E,KS-2176,1,9,02-16015,2,20080630,2358,19.9993,164.9945,5332,705.6,5.0126,34.2427,2,-999,9,34.2436,2,52,2,87.18,2,-999,9,39.33,2,0,2,2.82,2,-999,9,-999,9,-999,9,-999,9,-999,9,7.4055,2,     25.0, TS,-999,9,-999,-999,9,-999,9,-999,9,-999,9,-999,-999,-999,9,700,4.9556,27.08,-999,9
KS08-06-1,165E,KS-2176,1,8,02-16014,2,20080630,2355,19.9993,164.9945,5332,806.8,4.6067,34.3652,2,-999,9,34.3638,2,48,2,96.54,2,-999,9,40.50,2,0,2,2.91,2,-999,9,-999,9,-999,9,-999,9,-999,9,7.4169,2,     25.0, TS,-999,9,-999,-999,9,-999,9,-999,9,-999,9,-999,-999,-999,9,800,4.5432,27.2234,-999,9
KS08-06-1,165E,KS-2176,1,7,02-19374,2,20080630,2353,19.9993,164.9945,5332,908.7,4.3036,34.4668,2,-999,9,34.4659,2,62,2,101.40,2,-999,9,40.01,2,0,2,2.86,2,-999,9,-999,9,-999,9,-999,9,-999,9,7.445,2,     25.0, TS,-999,9,-999,-999,9,-999,9,-999,9,-999,9,-999,-999,-999,9,901,4.2334,27.3375,-999,9
KS08-06-1,165E,KS-2176,1,6,02-19373,2,20080630,2350,19.9993,164.9945,5332,1008.4,4.0059,34.5025,2,-999,9,-999,9,-999,9,106.92,2,-999,9,39.91,2,0,2,2.85,2,-999,9,-999,9,-999,9,-999,9,-999,9,-999,9,   -999.0,  9,-999,9,-999,-999,9,-999,9,-999,9,-999,9,-999,-999,-999,9,1000,3.9295,27.3977,-999,9
KS08-06-1,165E,KS-2176,1,5,02-16011,2,20080630,2350,19.9993,164.9945,5332,1008.9,4.0066,34.5026,2,-999,9,34.5014,2,68,2,106.88,2,-999,9,39.91,2,0,2,2.84,2,-999,9,-999,9,-999,9,-999,9,-999,9,7.4588,2,     25.0, TS,-999,9,-999,-999,9,-999,9,-999,9,-999,9,-999,-999,-999,9,1000,3.9302,27.3977,-999,9
KS08-06-1,165E,KS-2176,1,4,02-16010,2,20080630,2344,19.9993,164.9945,5332,1261.4,3.2992,34.548,2,-999,9,34.5474,2,78,2,120.33,2,-999,9,39.90,2,0,2,2.82,2,-999,9,-999,9,-999,9,-999,9,-999,9,7.4756,2,     25.0, TS,-999,9,-999,-999,9,-999,9,-999,9,-999,9,-999,-999,-999,9,1250,3.208,27.505,-999,9
KS08-06-1,165E,KS-2176,1,3,02-16009,2,20080630,2339,19.9993,164.9945,5332,1514.5,2.7407,34.5794,2,-999,9,34.5787,2,87,2,130.89,2,-999,9,39.70,2,0,2,2.79,2,-999,9,-999,9,-999,9,-999,9,-999,9,7.4867,2,     25.0, TS,-999,9,-999,-999,9,-999,9,-999,9,-999,9,-999,-999,-999,9,1500,2.6347,27.582,-999,9
KS08-06-1,165E,KS-2176,1,2,02-16008,2,20080630,2333,19.9993,164.9945,5332,1768.1,2.3602,34.6017,2,-999,9,34.6014,2,96,2,138.31,2,-999,9,39.41,2,0,2,2.76,2,-999,9,-999,9,-999,9,-999,9,-999,9,7.5002,2,     25.0, TS,-999,9,-999,-999,9,-999,9,-999,9,-999,9,-999,-999,-999,9,1750,2.238,27.6334,-999,9
KS08-06-1,165E,KS-2176,1,1,02-16007,2,20080630,2327,19.9993,164.9945,5332,2026.6,2.0741,34.623,2,-999,9,34.6227,2,106,2,143.31,2,-999,9,39.02,2,0,2,2.71,2,-999,9,-999,9,-999,9,-999,9,-999,9,7.515,6,     25.0, TS,-999,9,-999,-999,9,-999,9,-999,9,-999,9,-999,-999,-999,9,2004,1.9343,27.6748,-999,9