BOTTLE,20121206MIRCHATS
EXPOCODE,SECT_ID,STNNBR,CASTNO,SAMPNO,BTLNBR,BTLNBR_FLAG_W,DATE,TIME,LATITUDE,LONGITUDE,DEPTH,CTDPRS,CTDTMP,CTDSAL,CTDSAL_FLAG_W,CTDOXY,CTDOXY_FLAG_W,SALNTY,SALNTY_FLAG_W,OXYGEN,OXYGEN_FLAG_W,SILCAT,SILCAT_FLAG_W,NITRAT,NITRAT_FLAG_W,NO2+NO3,NO2+NO3_FLAG_W,NITRIT,NITRIT_FLAG_W,PHSPHT,PHSPHT_FLAG_W,CFC-11,CFC-11_FLAG_W,CFC-12,CFC-12_FLAG_W,DELC13,DELC13_FLAG_W,TCARBN,TCARBN_FLAG_W,ALKALI,ALKALI_FLAG_W,PH,PH_FLAG_W,PH_TMP,PH_SCALE,PH_NBS,PH_NBS_FLAG_W,C13ERR,TOTALP,TOTALP_FLAG_W,AMMONI,AMMONI_FLAG_W,CHLORA,CHLORA_FLAG_W,PPHYTN,PPHYTN_FLAG_W,REVPRS,REVTMP,DEPTH,DEPTH_FLAG,CTDDEP,THETA,SIGTHT,DOC,DOC_FLAG_W
        ,       ,      ,      ,      ,      ,             ,GMT ,GMT ,        ,         ,METER,DBAR  ,ITS-90,PSS-78,             ,UMOL/KG,            ,PSS-78,             ,UMOL/KG,            ,UMOL/KG,            ,UMOL/KG,            ,UMOL/KG,            ,UMOL/KG,            ,UMOL/KG,            ,PMOL/KG,            ,PMOL/KG,            ,/MILLE,             ,UMOL/KG,            ,UMOL/KG,            ,25_DEG_C,  ,DEG_C,,       ,      ,/MILLE,UMOL/KG,     ,UMOL/KG,            ,UG/L,             ,UG/L,             ,DBAR  ,ITS-90,METERS,         ,METERS,DEG_C,      ,UMOL/L,        
KS08-06-1,165E,KS-2158,1,-9,-9,5,20080625,1726,38.0235,165.0042,5444,0,19.181,34.2651,2,-999,9,-999,9,241,2,4.24,2,-999,9,0,2,0,2,0.04,2,-999,9,-999,9,-999,9,-999,9,-999,9,-999,9,   -999.0,  9,-999,9,-999,-999,9,-999,9,0.18,2,0.03,2,-999,-999,-999,9,0,19.1809,24.4134,-999,9
KS08-06-1,165E,KS-2158,1,21,02-16027,2,20080625,1743,38.0235,165.0042,5444,10.1,19.179,34.2611,2,-999,9,-999,9,240,2,4.24,2,-999,9,0,2,0,2,0.04,2,-999,9,-999,9,-999,9,-999,9,-999,9,-999,9,   -999.0,  9,-999,9,-999,-999,9,-999,9,0.19,2,0.03,2,-999,-999,-999,9,10,19.1772,24.4113,-999,9
KS08-06-1,165E,KS-2158,1,20,02-16026,2,20080625,1742,38.0235,165.0042,5444,25.8,16.38,34.5212,2,-999,9,-999,9,267,2,4.73,2,-999,9,0,2,0,2,0.05,2,-999,9,-999,9,-999,9,-999,9,-999,9,-999,9,   -999.0,  9,-999,9,-999,-999,9,-999,9,0.42,2,0.17,2,-999,-999,-999,9,26,16.3759,25.2929,-999,9
KS08-06-1,165E,KS-2158,1,19,02-19378,2,20080625,1738,38.0235,165.0042,5444,49.9,14.84,34.5625,2,-999,9,-999,9,277,2,8.17,2,-999,9,6.63,2,0.26,2,0.37,2,-999,9,-999,9,-999,9,-999,9,-999,9,-999,9,   -999.0,  9,-999,9,-999,-999,9,-999,9,0.56,2,0.36,2,-999,-999,-999,9,50,14.8326,25.6712,-999,9
KS08-06-1,165E,KS-2158,1,18,02-19377,2,20080625,1737,38.0235,165.0042,5444,75,14.1193,34.531,2,-999,9,-999,9,269,2,10.49,2,-999,9,8.77,2,0.03,2,0.5,2,-999,9,-999,9,-999,9,-999,9,-999,9,-999,9,   -999.0,  9,-999,9,-999,-999,9,-999,9,0.25,2,0.11,2,-999,-999,-999,9,74,14.1085,25.8019,-999,9
KS08-06-1,165E,KS-2158,1,17,02-16023,2,20080625,1736,38.0235,165.0042,5444,100.9,13.1357,34.4186,2,-999,9,-999,9,245,2,10.89,2,-999,9,7.99,2,0.18,2,0.48,2,-999,9,-999,9,-999,9,-999,9,-999,9,-999,9,   -999.0,  9,-999,9,-999,-999,9,-999,9,0.14,2,0.09,2,-999,-999,-999,9,100,13.1219,25.918,-999,9
KS08-06-1,165E,KS-2158,1,16,02-16022,2,20080625,1735,38.0235,165.0042,5444,125.2,12.6616,34.393,2,-999,9,-999,9,244,2,11.69,2,-999,9,8.87,2,0.03,2,0.53,2,-999,9,-999,9,-999,9,-999,9,-999,9,-999,9,   -999.0,  9,-999,9,-999,-999,9,-999,9,0.08,2,0.08,2,-999,-999,-999,9,124,12.6448,25.993,-999,9
KS08-06-1,165E,KS-2158,1,15,02-16021,2,20080625,1734,38.0235,165.0042,5444,151.4,12.1318,34.3697,2,-999,9,-999,9,240,2,12.74,2,-999,9,10.14,2,0.02,2,0.59,2,-999,9,-999,9,-999,9,-999,9,-999,9,-999,9,   -999.0,  9,-999,9,-999,-999,9,-999,9,0.04,2,0.07,2,-999,-999,-999,9,150,12.1121,26.0781,-999,9
KS08-06-1,165E,KS-2158,1,14,02-16020,2,20080625,1732,38.0235,165.0042,5444,201.2,11.2932,34.3081,2,-999,9,-999,9,234,2,15.92,2,-999,9,11.99,2,0.02,2,0.73,2,-999,9,-999,9,-999,9,-999,9,-999,9,-999,9,   -999.0,  9,-999,9,-999,-999,9,-999,9,0.01,2,0.04,2,-999,-999,-999,9,200,11.2682,26.188,-999,9
KS08-06-1,165E,KS-2158,1,13,02-16019,2,20080625,1730,38.0235,165.0042,5444,251.1,10.5373,34.25,2,-999,9,-999,9,234,2,18.80,2,-999,9,13.54,2,0.01,2,0.84,2,-999,9,-999,9,-999,9,-999,9,-999,9,-999,9,   -999.0,  9,-999,9,-999,-999,9,-999,9,0,2,0.04,2,-999,-999,-999,9,249,10.5074,26.2788,-999,9
KS08-06-1,165E,KS-2158,1,12,02-16018,2,20080625,1729,38.0235,165.0042,5444,304.8,9.4912,34.1436,2,-999,9,-999,9,227,2,23.14,2,-999,9,15.88,2,0.01,2,1.02,2,-999,9,-999,9,-999,9,-999,9,-999,9,-999,9,   -999.0,  9,-999,9,-999,-999,9,-999,9,-999,4,-999,4,-999,-999,-999,9,302,9.4572,26.3737,-999,9
KS08-06-1,165E,KS-2158,1,11,02-19376,2,20080625,1726,38.0235,165.0042,5444,403.9,7.5221,34.0171,2,-999,9,-999,9,186,2,39.97,2,-999,9,23.28,2,0,2,1.57,2,-999,9,-999,9,-999,9,-999,9,-999,9,-999,9,   -999.0,  9,-999,9,-999,-999,9,-999,9,-999,9,-999,9,-999,-999,-999,9,400,7.4827,26.577,-999,9
KS08-06-1,165E,KS-2158,1,10,02-19375,2,20080625,1723,38.0235,165.0042,5444,505.3,5.557,33.9673,2,-999,9,-999,9,139,2,63.35,2,-999,9,30.97,2,0,2,2.17,2,-999,9,-999,9,-999,9,-999,9,-999,9,-999,9,   -999.0,  9,-999,9,-999,-999,9,-999,9,-999,9,-999,9,-999,-999,-999,9,501,5.515,26.7962,-999,9
KS08-06-1,165E,KS-2158,1,9,02-16015,2,20080625,1720,38.0235,165.0042,5444,606.1,4.7385,34.0383,2,-999,9,-999,9,97,2,82.21,2,-999,9,35.83,2,0,2,2.53,2,-999,9,-999,9,-999,9,-999,9,-999,9,-999,9,   -999.0,  9,-999,9,-999,-999,9,-999,9,-999,9,-999,9,-999,-999,-999,9,601,4.6914,26.9475,-999,9
KS08-06-1,165E,KS-2158,1,8,02-16014,2,20080625,1717,38.0235,165.0042,5444,707.8,4.393,34.1401,2,-999,9,-999,9,69,2,95.87,2,-999,9,38.56,2,0,2,2.74,2,-999,9,-999,9,-999,9,-999,9,-999,9,-999,9,   -999.0,  9,-999,9,-999,-999,9,-999,9,-999,9,-999,9,-999,-999,-999,9,701,4.3393,27.0666,-999,9
KS08-06-1,165E,KS-2158,1,7,02-19374,2,20080625,1715,38.0235,165.0042,5444,808.2,3.9321,34.2301,2,-999,9,-999,9,49,2,110.54,2,-999,9,40.79,2,0,2,2.89,2,-999,9,-999,9,-999,9,-999,9,-999,9,-999,9,   -999.0,  9,-999,9,-999,-999,9,-999,9,-999,9,-999,9,-999,-999,-999,9,801,3.8729,27.1867,-999,9
KS08-06-1,165E,KS-2158,1,6,02-19373,2,20080625,1712,38.0235,165.0042,5444,909.6,3.5486,34.2942,2,-999,9,-999,9,40,2,121.92,2,-999,9,41.76,2,0,2,2.97,2,-999,9,-999,9,-999,9,-999,9,-999,9,-999,9,   -999.0,  9,-999,9,-999,-999,9,-999,9,-999,9,-999,9,-999,-999,-999,9,901,3.4839,27.2762,-999,9
KS08-06-1,165E,KS-2158,1,5,02-16011,2,20080625,1709,38.0235,165.0042,5444,1011.6,3.2897,34.3397,2,-999,9,-999,9,37,2,129.63,2,-999,9,42.44,2,0,2,3.01,2,-999,9,-999,9,-999,9,-999,9,-999,9,-999,9,   -999.0,  9,-999,9,-999,-999,9,-999,9,-999,9,-999,9,-999,-999,-999,9,1002,3.2189,27.3377,-999,9
KS08-06-1,165E,KS-2158,1,4,02-16010,2,20080625,1703,38.0235,165.0042,5444,1262.9,2.7514,34.4379,2,-999,9,-999,9,36,2,144.79,2,-999,9,43.12,2,0,2,3.05,2,-999,9,-999,9,-999,9,-999,9,-999,9,-999,9,   -999.0,  9,-999,9,-999,-999,9,-999,9,-999,9,-999,9,-999,-999,-999,9,1250,2.6656,27.4661,-999,9
KS08-06-1,165E,KS-2158,1,3,02-16009,2,20080625,1658,38.0235,165.0042,5444,1516.2,2.4216,34.4952,2,-999,9,-999,9,40,2,154.55,2,-999,9,42.92,2,0,2,3.03,2,-999,9,-999,9,-999,9,-999,9,-999,9,-999,9,   -999.0,  9,-999,9,-999,-999,9,-999,9,-999,9,-999,9,-999,-999,-999,9,1499,2.3194,27.5414,-999,9
KS08-06-1,165E,KS-2158,1,2,02-16008,2,20080625,1653,38.0235,165.0042,5444,1768.9,2.1446,34.5477,2,-999,9,-999,9,53,2,159.97,2,-999,9,42.33,2,0,2,2.97,2,-999,9,-999,9,-999,9,-999,9,-999,9,-999,9,   -999.0,  9,-999,9,-999,-999,9,-999,9,-999,9,-999,9,-999,-999,-999,9,1748,2.0254,27.6073,-999,9
KS08-06-1,165E,KS-2158,1,1,02-16007,2,20080625,1648,38.0235,165.0042,5444,2033.5,1.9683,34.5842,2,-999,9,-999,9,67,2,161.96,2,-999,9,41.45,2,0,2,2.89,2,-999,9,-999,9,-999,9,-999,9,-999,9,-999,9,   -999.0,  9,-999,9,-999,-999,9,-999,9,-999,9,-999,9,-999,-999,-999,9,2009,1.8297,27.6519,-999,9
KS08-06-1,165E,KS-2161,1,-9,-9,5,20080626,2204,35.0037,165.034,5865,0,23.1958,34.6538,2,-999,9,-999,9,222,2,1.98,2,-999,9,0,2,0,2,0,2,-999,9,-999,9,-999,9,-999,9,-999,9,-999,9,   -999.0,  9,-999,9,-999,-999,9,-999,9,0.09,2,0.02,2,-999,-999,-999,9,0,23.1957,23.6146,-999,9
KS08-06-1,165E,KS-2161,1,21,02-16027,2,20080626,2223,35.0037,165.034,5865,9.8,23.1863,34.6522,2,-999,9,34.6527,2,222,2,1.96,2,-999,9,0,2,0,2,0,2,-999,9,-999,9,-999,9,-999,9,-999,9,-999,9,   -999.0,  9,-999,9,-999,-999,9,-999,9,0.09,2,0.02,2,-999,-999,-999,9,10,23.1843,23.6167,-999,9
KS08-06-1,165E,KS-2161,1,20,02-16026,2,20080626,2222,35.0037,165.034,5865,25.1,19.9375,34.6633,2,-999,9,-999,9,242,2,2.10,2,-999,9,0,2,0,2,0,2,-999,9,-999,9,-999,9,-999,9,-999,9,-999,9,   -999.0,  9,-999,9,-999,-999,9,-999,9,0.11,2,0.04,2,-999,-999,-999,9,25,19.9329,24.5226,-999,9
KS08-06-1,165E,KS-2161,1,19,02-19378,2,20080626,2218,35.0037,165.034,5865,50.4,18.5817,34.71,2,-999,9,-999,9,242,2,2.64,2,-999,9,0,2,0,2,0.02,2,-999,9,-999,9,-999,9,-999,9,-999,9,-999,9,   -999.0,  9,-999,9,-999,-999,9,-999,9,0.17,2,0.1,2,-999,-999,-999,9,50,18.5729,24.9075,-999,9
KS08-06-1,165E,KS-2161,1,18,02-19377,2,20080626,2217,35.0037,165.034,5865,76.1,17.7515,34.7457,2,-999,9,-999,9,216,2,3.89,2,-999,9,3.71,2,0.12,2,0.19,2,-999,9,-999,9,-999,9,-999,9,-999,9,-999,9,   -999.0,  9,-999,9,-999,-999,9,-999,9,0.4,2,0.4,2,-999,-999,-999,9,76,17.7386,25.1413,-999,9
KS08-06-1,165E,KS-2161,1,17,02-16023,2,20080626,2216,35.0037,165.034,5865,101.8,17.4907,34.7427,2,-999,9,34.7411,2,215,2,4.27,2,-999,9,4.19,2,0.03,2,0.21,2,-999,9,-999,9,-999,9,-999,9,-999,9,-999,9,   -999.0,  9,-999,9,-999,-999,9,-999,9,0.13,2,0.07,2,-999,-999,-999,9,101,17.4736,25.2034,-999,9
KS08-06-1,165E,KS-2161,1,16,02-16022,2,20080626,2215,35.0037,165.034,5865,126.5,17.1643,34.7279,2,-999,9,-999,9,209,2,5.33,2,-999,9,5.17,2,0.01,2,0.27,2,-999,9,-999,9,-999,9,-999,9,-999,9,-999,9,   -999.0,  9,-999,9,-999,-999,9,-999,9,0.02,2,0.03,2,-999,-999,-999,9,126,17.1434,25.2713,-999,9
KS08-06-1,165E,KS-2161,1,15,02-16021,2,20080626,2214,35.0037,165.034,5865,151.5,16.7593,34.72,2,-999,9,-999,9,218,2,5.15,2,-999,9,4.97,2,0.01,2,0.26,2,-999,9,-999,9,-999,9,-999,9,-999,9,-999,9,   -999.0,  9,-999,9,-999,-999,9,-999,9,0.02,2,0.03,2,-999,-999,-999,9,150,16.7346,25.362,-999,9
KS08-06-1,165E,KS-2161,1,14,02-16020,2,20080626,2212,35.0037,165.034,5865,201.1,15.7415,34.6527,2,-999,9,34.652,2,209,2,8.28,2,-999,9,7.41,2,0.01,2,0.41,2,-999,9,-999,9,-999,9,-999,9,-999,9,-999,9,   -999.0,  9,-999,9,-999,-999,9,-999,9,0,2,0.02,2,-999,-999,-999,9,200,15.7101,25.5462,-999,9
KS08-06-1,165E,KS-2161,1,13,02-16019,2,20080626,2211,35.0037,165.034,5865,252.6,14.7216,34.5937,2,-999,9,-999,9,208,2,10.73,2,-999,9,9.07,2,0,2,0.53,2,-999,9,-999,9,-999,9,-999,9,-999,9,-999,9,   -999.0,  9,-999,9,-999,-999,9,-999,9,0,2,0.02,2,-999,-999,-999,9,251,14.6839,25.7275,-999,9
KS08-06-1,165E,KS-2161,1,12,02-16018,2,20080626,2209,35.0037,165.034,5865,304.8,13.6431,34.5221,2,-999,9,34.5224,2,212,2,12.73,2,-999,9,10.14,2,0,2,0.59,2,-999,9,-999,9,-999,9,-999,9,-999,9,-999,9,   -999.0,  9,-999,9,-999,-999,9,-999,9,0,2,0.02,2,-999,-999,-999,9,302,13.5998,25.9009,-999,9
KS08-06-1,165E,KS-2161,1,11,02-19376,2,20080626,2206,35.0037,165.034,5865,404.8,10.9759,34.304,2,-999,9,34.3048,2,202,2,22.27,2,-999,9,15.49,2,0,2,0.97,2,-999,9,-999,9,-999,9,-999,9,-999,9,-999,9,   -999.0,  9,-999,9,-999,-999,9,-999,9,-999,9,-999,9,-999,-999,-999,9,401,10.926,26.2468,-999,9
KS08-06-1,165E,KS-2161,1,10,02-19375,2,20080626,2203,35.0037,165.034,5865,505.6,8.0684,34.0794,2,-999,9,34.0826,2,178,2,38.92,2,-999,9,22.89,2,0,2,1.54,2,-999,9,-999,9,-999,9,-999,9,-999,9,-999,9,   -999.0,  9,-999,9,-999,-999,9,-999,9,-999,9,-999,9,-999,-999,-999,9,501,8.0167,26.5484,-999,9
KS08-06-1,165E,KS-2161,1,9,02-16015,2,20080626,2200,35.0037,165.034,5865,604.5,5.6524,33.9863,2,-999,9,33.9861,2,138,2,63.26,2,-999,9,30.97,2,0,2,2.17,2,-999,9,-999,9,-999,9,-999,9,-999,9,-999,9,   -999.0,  9,-999,9,-999,-999,9,-999,9,-999,9,-999,9,-999,-999,-999,9,599,5.6012,26.8008,-999,9
KS08-06-1,165E,KS-2161,1,8,02-16014,2,20080626,2157,35.0037,165.034,5865,707,4.8721,34.0678,2,-999,9,34.0654,2,96,2,81.80,2,-999,9,35.93,2,0,2,2.52,2,-999,9,-999,9,-999,9,-999,9,-999,9,-999,9,   -999.0,  9,-999,9,-999,-999,9,-999,9,-999,9,-999,9,-999,-999,-999,9,701,4.8159,26.9571,-999,9
KS08-06-1,165E,KS-2161,1,7,02-19374,2,20080626,2154,35.0037,165.034,5865,807,4.446,34.1586,2,-999,9,34.1579,2,70,2,96.03,2,-999,9,38.56,2,0,2,2.73,2,-999,9,-999,9,-999,9,-999,9,-999,9,-999,9,   -999.0,  9,-999,9,-999,-999,9,-999,9,-999,9,-999,9,-999,-999,-999,9,800,4.3838,27.0765,-999,9
KS08-06-1,165E,KS-2161,1,6,02-19373,2,20080626,2151,35.0037,165.034,5865,908.2,4.0135,34.2427,2,-999,9,34.2416,2,54,2,109.42,2,-999,9,40.21,2,0,2,2.85,2,-999,9,-999,9,-999,9,-999,9,-999,9,-999,9,   -999.0,  9,-999,9,-999,-999,9,-999,9,-999,9,-999,9,-999,-999,-999,9,900,3.9457,27.1893,-999,9
KS08-06-1,165E,KS-2161,1,5,02-16011,2,20080626,2148,35.0037,165.034,5865,1010.9,3.607,34.3071,2,-999,9,34.3058,2,42,2,120.52,2,-999,9,41.66,2,0,2,2.95,2,-999,9,-999,9,-999,9,-999,9,-999,9,-999,9,   -999.0,  9,-999,9,-999,-999,9,-999,9,-999,9,-999,9,-999,-999,-999,9,1001,3.5338,27.2817,-999,9
KS08-06-1,165E,KS-2161,1,4,02-16010,2,20080626,2141,35.0037,165.034,5865,1264.8,2.9245,34.4227,2,-999,9,34.4216,2,38,2,139.80,2,-999,9,42.63,2,0,2,3.03,2,-999,9,-999,9,-999,9,-999,9,-999,9,-999,9,   -999.0,  9,-999,9,-999,-999,9,-999,9,-999,9,-999,9,-999,-999,-999,9,1252,2.8369,27.4389,-999,9
KS08-06-1,165E,KS-2161,1,3,02-16009,2,20080626,2136,35.0037,165.034,5865,1517.1,2.4784,34.496,2,-999,9,34.4946,2,39,2,152.26,2,-999,9,43.02,2,0,2,3.03,2,-999,9,-999,9,-999,9,-999,9,-999,9,-999,9,   -999.0,  9,-999,9,-999,-999,9,-999,9,-999,9,-999,9,-999,-999,-999,9,1501,2.3754,27.5374,-999,9
KS08-06-1,165E,KS-2161,1,2,02-16008,2,20080626,2131,35.0037,165.034,5865,1769.3,2.184,34.5513,2,-999,9,34.5508,2,53,2,159.02,2,-999,9,42.33,2,0,2,2.96,2,-999,9,-999,9,-999,9,-999,9,-999,9,-999,9,   -999.0,  9,-999,9,-999,-999,9,-999,9,-999,9,-999,9,-999,-999,-999,9,1749,2.0642,27.6071,-999,9
KS08-06-1,165E,KS-2161,1,1,02-16007,2,20080626,2125,35.0037,165.034,5865,2032.2,1.9479,34.5915,2,-999,9,34.5909,2,71,2,161.55,2,-999,9,41.26,2,0,2,2.88,2,-999,9,-999,9,-999,9,-999,9,-999,9,-999,9,   -999.0,  9,-999,9,-999,-999,9,-999,9,-999,9,-999,9,-999,-999,-999,9,2008,1.8097,27.6592,-999,9