BOTTLE,20121206MIRCHATS
EXPOCODE,SECT_ID,STNNBR,CASTNO,SAMPNO,BTLNBR,BTLNBR_FLAG_W,DATE,TIME,LATITUDE,LONGITUDE,DEPTH,CTDPRS,CTDTMP,CTDSAL,CTDSAL_FLAG_W,CTDOXY,CTDOXY_FLAG_W,SALNTY,SALNTY_FLAG_W,OXYGEN,OXYGEN_FLAG_W,SILCAT,SILCAT_FLAG_W,NITRAT,NITRAT_FLAG_W,NO2+NO3,NO2+NO3_FLAG_W,NITRIT,NITRIT_FLAG_W,PHSPHT,PHSPHT_FLAG_W,CFC-11,CFC-11_FLAG_W,CFC-12,CFC-12_FLAG_W,DELC13,DELC13_FLAG_W,TCARBN,TCARBN_FLAG_W,ALKALI,ALKALI_FLAG_W,PH,PH_FLAG_W,PH_TMP,PH_SCALE,PH_NBS,PH_NBS_FLAG_W,C13ERR,TOTALP,TOTALP_FLAG_W,AMMONI,AMMONI_FLAG_W,CHLORA,CHLORA_FLAG_W,PPHYTN,PPHYTN_FLAG_W,REVPRS,REVTMP,DEPTH,DEPTH_FLAG,CTDDEP,THETA,SIGTHT,DOC,DOC_FLAG_W
        ,       ,      ,      ,      ,      ,             ,GMT ,GMT ,        ,         ,METER,DBAR  ,ITS-90,PSS-78,             ,UMOL/KG,            ,PSS-78,             ,UMOL/KG,            ,UMOL/KG,            ,UMOL/KG,            ,UMOL/KG,            ,UMOL/KG,            ,UMOL/KG,            ,PMOL/KG,            ,PMOL/KG,            ,/MILLE,             ,UMOL/KG,            ,UMOL/KG,            ,25_DEG_C,  ,DEG_C,,       ,      ,/MILLE,UMOL/KG,     ,UMOL/KG,            ,UG/L,             ,UG/L,             ,DBAR  ,ITS-90,METERS,         ,METERS,DEG_C,      ,UMOL/L,        
KS08-06-1,165E,KS-2201,1,-9,-9,5,20080718,0127,-5.0068,164.9862,2319,0,29.3278,34.8176,2,-999,9,-999,9,198,2,0.91,2,-999,9,0,2,0,2,0.09,2,-999,9,-999,9,-999,9,-999,9,-999,9,-999,9,   -999.0,  9,-999,9,-999,-999,9,-999,9,0.06,2,0.02,2,-999,-999,-999,9,0,29.3276,21.8173,-999,9
KS08-06-1,165E,KS-2201,1,21,02-16027,2,20080718,0147,-5.0068,164.9862,2319,10.4,29.3235,34.8811,2,-999,9,34.8801,2,198,2,0.90,2,-999,9,0,2,0,2,0.09,2,-999,9,-999,9,-999,9,-999,9,-999,9,-999,9,   -999.0,  9,-999,9,-999,-999,9,-999,9,0.05,2,0.02,2,-999,-999,-999,9,10,29.321,21.8672,-999,9
KS08-06-1,165E,KS-2201,1,20,02-16026,2,20080718,0146,-5.0068,164.9862,2319,25.5,29.2419,34.883,2,-999,9,-999,9,197,2,0.89,2,-999,9,0,2,0,2,0.1,2,-999,9,-999,9,-999,9,-999,9,-999,9,-999,9,   -999.0,  9,-999,9,-999,-999,9,-999,9,0.06,2,0.02,2,-999,-999,-999,9,25,29.2357,21.8973,-999,9
KS08-06-1,165E,KS-2201,1,19,02-19378,2,20080718,0142,-5.0068,164.9862,2319,48.6,29.3095,35.1102,2,-999,9,-999,9,197,2,0.93,2,-999,9,0,2,0,2,0.12,2,-999,9,-999,9,-999,9,-999,9,-999,9,-999,9,   -999.0,  9,-999,9,-999,-999,9,-999,9,0.13,2,0.06,2,-999,-999,-999,9,48,29.2976,22.047,-999,9
KS08-06-1,165E,KS-2201,1,18,02-19377,2,20080718,0141,-5.0068,164.9862,2319,75.1,29.0407,35.4129,2,-999,9,-999,9,192,2,1.02,2,-999,9,0,2,0.01,2,0.18,2,-999,9,-999,9,-999,9,-999,9,-999,9,-999,9,   -999.0,  9,-999,9,-999,-999,9,-999,9,0.28,2,0.2,2,-999,-999,-999,9,75,29.0225,22.3666,-999,9
KS08-06-1,165E,KS-2201,1,17,02-16023,2,20080718,0140,-5.0068,164.9862,2319,100.2,27.9646,35.5724,2,-999,9,35.5572,4,167,2,1.60,2,-999,9,4.60,2,0.12,2,0.42,2,-999,9,-999,9,-999,9,-999,9,-999,9,-999,9,   -999.0,  9,-999,9,-999,-999,9,-999,9,0.23,2,0.41,2,-999,-999,-999,9,100,27.941,22.8445,-999,9
KS08-06-1,165E,KS-2201,1,16,02-16022,2,20080718,0139,-5.0068,164.9862,2319,125.1,26.6004,35.6934,2,-999,9,-999,9,152,2,1.98,2,-999,9,7.33,2,0.03,2,0.58,2,-999,9,-999,9,-999,9,-999,9,-999,9,-999,9,   -999.0,  9,-999,9,-999,-999,9,-999,9,0.08,2,0.15,2,-999,-999,-999,9,124,26.5719,23.3765,-999,9
KS08-06-1,165E,KS-2201,1,15,02-16021,2,20080718,0138,-5.0068,164.9862,2319,150.8,25.8928,35.8533,2,-999,9,-999,9,140,2,1.92,2,-999,9,7.72,2,0.02,2,0.61,2,-999,9,-999,9,-999,9,-999,9,-999,9,-999,9,   -999.0,  9,-999,9,-999,-999,9,-999,9,0.05,2,0.08,2,-999,-999,-999,9,150,25.8591,23.7213,-999,9
KS08-06-1,165E,KS-2201,1,14,02-16020,2,20080718,0136,-5.0068,164.9862,2319,205.7,17.2246,35.4117,2,-999,9,35.4559,4,122,2,5.18,2,-999,9,13.06,2,0,2,1.04,2,-999,9,-999,9,-999,9,-999,9,-999,9,-999,9,   -999.0,  9,-999,9,-999,-999,9,-999,9,0.01,2,0.02,2,-999,-999,-999,9,204,17.1902,25.7848,-999,9
KS08-06-1,165E,KS-2201,1,13,02-16019,2,20080718,0134,-5.0068,164.9862,2319,254.6,12.0083,34.921,2,-999,9,-999,9,105,2,15.69,2,-999,9,23.67,2,0,2,1.67,2,-999,9,-999,9,-999,9,-999,9,-999,9,-999,9,   -999.0,  9,-999,9,-999,-999,9,-999,9,0,2,0.02,2,-999,-999,-999,9,253,11.975,26.5326,-999,9
KS08-06-1,165E,KS-2201,1,12,02-16018,2,20080718,0132,-5.0068,164.9862,2319,305.2,10.44,34.782,2,-999,9,34.7828,2,126,2,18.34,2,-999,9,24.84,2,0,2,1.68,2,-999,9,-999,9,-999,9,-999,9,-999,9,-999,9,   -999.0,  9,-999,9,-999,-999,9,-999,9,0,2,0.02,2,-999,-999,-999,9,303,10.4035,26.712,-999,9
KS08-06-1,165E,KS-2201,1,11,02-19376,2,20080718,0129,-5.0068,164.9862,2319,403.5,9.1225,34.6784,2,-999,9,34.6779,2,124,2,23.02,2,-999,9,27.56,2,0,2,1.87,2,-999,9,-999,9,-999,9,-999,9,-999,9,-999,9,   -999.0,  9,-999,9,-999,-999,9,-999,9,-999,9,-999,9,-999,-999,-999,9,401,9.078,26.8538,-999,9
KS08-06-1,165E,KS-2201,1,10,02-19375,2,20080718,0127,-5.0068,164.9862,2319,505.2,8.0984,34.6116,2,-999,9,34.6119,2,120,2,28.09,2,-999,9,30.28,2,0,2,2.05,2,-999,9,-999,9,-999,9,-999,9,-999,9,-999,9,   -999.0,  9,-999,9,-999,-999,9,-999,9,-999,9,-999,9,-999,-999,-999,9,502,8.0462,26.9619,-999,9
KS08-06-1,165E,KS-2201,1,9,02-16015,2,20080718,0124,-5.0068,164.9862,2319,607.3,7.3414,34.5845,2,-999,9,34.5835,2,84,2,39.00,2,-999,9,35.54,2,0,2,2.45,2,-999,9,-999,9,-999,9,-999,9,-999,9,-999,9,   -999.0,  9,-999,9,-999,-999,9,-999,9,-999,9,-999,9,-999,-999,-999,9,603,7.2817,27.052,-999,9
KS08-06-1,165E,KS-2201,1,8,02-16014,2,20080718,0121,-5.0068,164.9862,2319,705,6.2129,34.5458,2,-999,9,34.5451,2,91,2,49.88,2,-999,9,36.90,2,0,2,2.58,2,-999,9,-999,9,-999,9,-999,9,-999,9,-999,9,   -999.0,  9,-999,9,-999,-999,9,-999,9,-999,9,-999,9,-999,-999,-999,9,700,6.1491,27.1747,-999,9
KS08-06-1,165E,KS-2201,1,7,02-19374,2,20080718,0117,-5.0068,164.9862,2319,808.8,5.6564,34.5391,2,-999,9,34.5348,2,98,2,56.92,2,-999,9,36.99,2,0,2,2.59,2,-999,9,-999,9,-999,9,-999,9,-999,9,-999,9,   -999.0,  9,-999,9,-999,-999,9,-999,9,-999,9,-999,9,-999,-999,-999,9,803,5.586,27.2401,-999,9
KS08-06-1,165E,KS-2201,1,6,02-19373,2,20080718,0114,-5.0068,164.9862,2319,909.5,4.9235,34.5236,2,-999,9,34.5231,2,124,2,63.46,2,-999,9,35.43,2,0,2,2.47,2,-999,9,-999,9,-999,9,-999,9,-999,9,-999,9,   -999.0,  9,-999,9,-999,-999,9,-999,9,-999,9,-999,9,-999,-999,-999,9,902,4.8488,27.3149,-999,9
KS08-06-1,165E,KS-2201,1,5,02-16011,2,20080718,0111,-5.0068,164.9862,2319,1012.3,4.5718,34.5438,2,-999,9,34.5437,2,103,2,75.98,2,-999,9,37.57,2,0,2,2.66,2,-999,9,-999,9,-999,9,-999,9,-999,9,-999,9,   -999.0,  9,-999,9,-999,-999,9,-999,9,-999,9,-999,9,-999,-999,-999,9,1004,4.4906,27.3709,-999,9
KS08-06-1,165E,KS-2201,1,4,02-16010,2,20080718,0105,-5.0068,164.9862,2319,1261.6,3.5609,34.5705,2,-999,9,34.5706,2,111,2,95.15,2,-999,9,37.86,2,0,2,2.69,2,-999,9,-999,9,-999,9,-999,9,-999,9,-999,9,   -999.0,  9,-999,9,-999,-999,9,-999,9,-999,9,-999,9,-999,-999,-999,9,1251,3.4671,27.4981,-999,9
KS08-06-1,165E,KS-2201,1,3,02-16009,2,20080718,0059,-5.0068,164.9862,2319,1513.2,2.9685,34.5959,2,-999,9,34.5958,2,118,2,107.84,2,-999,9,37.56,2,0,2,2.66,2,-999,9,-999,9,-999,9,-999,9,-999,9,-999,9,   -999.0,  9,-999,9,-999,-999,9,-999,9,-999,9,-999,9,-999,-999,-999,9,1499,2.8599,27.5753,-999,9
KS08-06-1,165E,KS-2201,1,2,02-16008,2,20080718,0054,-5.0068,164.9862,2319,1764.1,2.4381,34.625,2,-999,9,34.6252,2,124,2,120.73,2,-999,9,37.46,2,0,2,2.62,2,-999,9,-999,9,-999,9,-999,9,-999,9,-999,9,   -999.0,  9,-999,9,-999,-999,9,-999,9,-999,9,-999,9,-999,-999,-999,9,1747,2.3151,27.6456,-999,9
KS08-06-1,165E,KS-2201,1,1,02-16007,2,20080718,0049,-5.0068,164.9862,2319,2031.2,2.1688,34.6406,2,-999,9,34.6412,2,129,2,127.41,2,-999,9,37.17,2,0,2,2.60,2,-999,9,-999,9,-999,9,-999,9,-999,9,-999,9,   -999.0,  9,-999,9,-999,-999,9,-999,9,-999,9,-999,9,-999,-999,-999,9,2010,2.0271,27.6816,-999,9
KS08-06-1,EQPAC,KS-2203,1,-9,-9,5,20080720,0823,0.0012,162.9662,4447,0,28.8676,35.296,2,-999,9,-999,9,199,2,1.36,2,-999,9,1.47,2,0.24,2,0.22,2,-999,9,-999,9,-999,9,-999,9,-999,9,8.0894,2,     25.0, TS,-999,9,-999,-999,9,-999,9,0.27,2,0.11,2,-999,-999,-999,9,0,28.8674,22.3306,-999,9
KS08-06-1,EQPAC,KS-2203,1,24,02-16030,2,20080720,0858,0.0012,162.9662,4447,10.3,28.8731,35.2972,2,-999,9,-999,9,198,2,1.35,2,-999,9,1.47,2,0.25,2,0.23,2,-999,9,-999,9,-999,9,-999,9,-999,9,8.0892,2,     25.0, TS,-999,9,-999,-999,9,-999,9,0.26,2,0.11,2,-999,-999,-999,9,10,28.8706,22.3305,-999,9
KS08-06-1,EQPAC,KS-2203,1,23,02-19380,2,20080720,0856,0.0012,162.9662,4447,20.6,28.8633,35.304,2,-999,9,-999,9,198,2,1.40,2,-999,9,1.47,2,0.26,2,0.23,2,-999,9,-999,9,-999,9,-999,9,-999,9,8.0883,2,     25.0, TS,-999,9,-999,-999,9,-999,9,-999,9,-999,9,-999,-999,-999,9,21,28.8583,22.3397,-999,9
KS08-06-1,EQPAC,KS-2203,1,22,02-16028,2,20080720,0856,0.0012,162.9662,4447,30.9,28.8388,35.3186,2,-999,9,-999,9,196,2,1.39,2,-999,9,1.66,2,0.29,2,0.24,2,-999,9,-999,9,-999,9,-999,9,-999,9,8.0865,2,     25.0, TS,-999,9,-999,-999,9,-999,9,0.3,2,0.14,2,-999,-999,-999,9,31,28.8313,22.3596,-999,9
KS08-06-1,EQPAC,KS-2203,1,21,02-16027,2,20080720,0855,0.0012,162.9662,4447,40.4,28.7987,35.3405,2,-999,9,-999,9,195,2,1.39,2,-999,9,1.76,2,0.32,2,0.25,2,-999,9,-999,9,-999,9,-999,9,-999,9,8.0833,2,     25.0, TS,-999,9,-999,-999,9,-999,9,-999,9,-999,9,-999,-999,-999,9,40,28.789,22.3902,-999,9
KS08-06-1,EQPAC,KS-2203,1,20,02-16026,2,20080720,0854,0.0012,162.9662,4447,51.2,28.7575,35.3654,2,-999,9,-999,9,194,2,1.43,2,-999,9,2.05,2,0.34,2,0.27,2,-999,9,-999,9,-999,9,-999,9,-999,9,8.08,2,     25.0, TS,-999,9,-999,-999,9,-999,9,0.37,2,0.22,2,-999,-999,-999,9,51,28.7452,22.4235,-999,9
KS08-06-1,EQPAC,KS-2203,1,19,02-19378,2,20080720,0853,0.0012,162.9662,4447,62.1,28.5274,35.4144,2,-999,9,-999,9,188,2,1.57,2,-999,9,2.93,2,0.31,2,0.31,2,-999,9,-999,9,-999,9,-999,9,-999,9,8.0667,2,     25.0, TS,-999,9,-999,-999,9,-999,9,-999,9,-999,9,-999,-999,-999,9,62,28.5126,22.5375,-999,9
KS08-06-1,EQPAC,KS-2203,1,18,02-19377,2,20080720,0850,0.0012,162.9662,4447,82.8,27.69,35.5319,2,-999,9,-999,9,172,2,2.01,2,-999,9,5.77,2,0.06,2,0.48,2,-999,9,-999,9,-999,9,-999,9,-999,9,8.0236,2,     25.0, TS,-999,9,-999,-999,9,-999,9,0.13,2,0.23,2,-999,-999,-999,9,82,27.6706,22.9022,-999,9
KS08-06-1,EQPAC,KS-2203,1,17,02-16023,2,20080720,0849,0.0012,162.9662,4447,102.5,27.2643,35.4454,2,-999,9,-999,9,163,2,2.25,2,-999,9,6.16,2,0.06,2,0.5,2,-999,9,-999,9,-999,9,-999,9,-999,9,8.0156,2,     25.0, TS,-999,9,-999,-999,9,-999,9,0.08,2,0.18,2,-999,-999,-999,9,102,27.2406,22.9761,-999,9
KS08-06-1,EQPAC,KS-2203,1,16,02-16022,2,20080720,0847,0.0012,162.9662,4447,122.8,26.7421,35.4457,2,-999,9,-999,9,157,2,2.49,2,-999,9,6.94,2,0.04,2,0.53,2,-999,9,-999,9,-999,9,-999,9,-999,9,8,2,     25.0, TS,-999,9,-999,-999,9,-999,9,0.06,2,0.1,2,-999,-999,-999,9,122,26.7141,23.1447,-999,9
KS08-06-1,EQPAC,KS-2203,1,15,02-16021,2,20080720,0846,0.0012,162.9662,4447,141.2,24.4238,35.3322,2,-999,9,-999,9,145,2,3.71,2,-999,9,8.3,2,0.02,2,0.61,2,-999,9,-999,9,-999,9,-999,9,-999,9,7.9663,2,     25.0, TS,-999,9,-999,-999,9,-999,9,-999,9,-999,9,-999,-999,-999,9,140,24.3937,23.7755,-999,9
KS08-06-1,EQPAC,KS-2203,1,14,02-16020,2,20080720,0844,0.0012,162.9662,4447,162.8,22.2666,35.6296,2,-999,9,-999,9,133,2,3.89,2,-999,9,10.15,2,0.02,2,0.76,2,-999,9,-999,9,-999,9,-999,9,-999,9,7.9203,2,     25.0, TS,-999,9,-999,-999,9,-999,9,0.01,2,0.03,2,-999,-999,-999,9,162,22.234,24.6303,-999,9
KS08-06-1,EQPAC,KS-2203,1,13,02-16019,2,20080720,0842,0.0012,162.9662,4447,182.6,19.561,35.2711,2,-999,9,-999,9,137,2,6.93,2,-999,9,11.71,2,0.01,2,0.81,2,-999,9,-999,9,-999,9,-999,9,-999,9,7.8859,2,     25.0, TS,-999,9,-999,-999,9,-999,9,-999,9,-999,9,-999,-999,-999,9,182,19.5277,25.0923,-999,9
KS08-06-1,EQPAC,KS-2203,1,12,02-16018,2,20080720,0841,0.0012,162.9662,4447,203.1,16.5074,35.3023,2,-999,9,-999,9,138,2,6.86,2,-999,9,14.04,2,0.01,2,0.98,2,-999,9,-999,9,-999,9,-999,9,-999,9,7.8361,2,     25.0, TS,-999,9,-999,-999,9,-999,9,0,2,0.03,2,-999,-999,-999,9,202,16.4745,25.8704,-999,9
KS08-06-1,EQPAC,KS-2203,1,11,02-19376,2,20080720,0839,0.0012,162.9662,4447,227.3,14.9969,35.1673,2,-999,9,-999,9,148,2,8.76,2,-999,9,15.59,2,0,2,1.06,2,-999,9,-999,9,-999,9,-999,9,-999,9,7.8144,2,     25.0, TS,-999,9,-999,-999,9,-999,9,-999,9,-999,9,-999,-999,-999,9,226,14.9624,26.1093,-999,9
KS08-06-1,EQPAC,KS-2203,1,10,02-19375,2,20080720,0837,0.0012,162.9662,4447,252.2,12.8765,34.976,2,-999,9,-999,9,147,2,14.48,2,-999,9,18.90,2,0,2,1.28,2,-999,9,-999,9,-999,9,-999,9,-999,9,7.7668,2,     25.0, TS,-999,9,-999,-999,9,-999,9,0,2,0.02,2,-999,-999,-999,9,251,12.842,26.406,-999,9
KS08-06-1,EQPAC,KS-2203,1,9,02-16015,2,20080720,0835,0.0012,162.9662,4447,302.2,11.3177,34.8289,2,-999,9,-999,9,139,2,18.81,2,-999,9,22.21,2,0,2,1.50,2,-999,9,-999,9,-999,9,-999,9,-999,9,7.7183,2,     25.0, TS,-999,9,-999,-999,9,-999,9,0,2,0.03,2,-999,-999,-999,9,300,11.2796,26.5913,-999,9
KS08-06-1,EQPAC,KS-2203,1,8,02-16014,2,20080720,0832,0.0012,162.9662,4447,404.1,9.2299,34.6775,2,-999,9,-999,9,121,2,25.20,2,-999,9,27.95,2,0,2,1.88,2,-999,9,-999,9,-999,9,-999,9,-999,9,7.6361,2,     25.0, TS,-999,9,-999,-999,9,-999,9,-999,9,-999,9,-999,-999,-999,9,401,9.185,26.8358,-999,9
KS08-06-1,EQPAC,KS-2203,1,7,02-19374,2,20080720,0829,0.0012,162.9662,4447,505,7.5531,34.5808,2,-999,9,-999,9,118,2,34.82,2,-999,9,31.74,2,0,2,2.17,2,-999,9,-999,9,-999,9,-999,9,-999,9,-999,9,   -999.0,  9,-999,9,-999,-999,9,-999,9,-999,9,-999,9,-999,-999,-999,9,502,7.503,27.0175,-999,9
KS08-06-1,EQPAC,KS-2203,1,6,02-19373,2,20080720,0826,0.0012,162.9662,4447,607.5,6.3813,34.5477,2,-999,9,-999,9,97,2,49.52,2,-999,9,35.92,2,0,2,2.51,2,-999,9,-999,9,-999,9,-999,9,-999,9,-999,9,   -999.0,  9,-999,9,-999,-999,9,-999,9,-999,9,-999,9,-999,-999,-999,9,603,6.326,27.1532,-999,9
KS08-06-1,EQPAC,KS-2203,1,5,02-16011,2,20080720,0820,0.0012,162.9662,4447,808.5,5.4612,34.5392,2,-999,9,-999,9,98,2,63.27,2,-999,9,37.28,2,0,2,2.62,2,-999,9,-999,9,-999,9,-999,9,-999,9,-999,9,   -999.0,  9,-999,9,-999,-999,9,-999,9,-999,9,-999,9,-999,-999,-999,9,803,5.3921,27.2637,-999,9
KS08-06-1,EQPAC,KS-2203,1,4,02-16010,2,20080720,0815,0.0012,162.9662,4447,1008.6,4.6295,34.5498,2,-999,9,-999,9,98,2,80.07,2,-999,9,38.06,2,0,2,2.70,2,-999,9,-999,9,-999,9,-999,9,-999,9,-999,9,   -999.0,  9,-999,9,-999,-999,9,-999,9,-999,9,-999,9,-999,-999,-999,9,1001,4.5482,27.3694,-999,9
KS08-06-1,EQPAC,KS-2203,1,3,02-16009,2,20080720,0809,0.0012,162.9662,4447,1264.3,3.6377,34.5795,2,-999,9,-999,9,95,2,102.37,2,-999,9,39.32,2,0,2,2.80,2,-999,9,-999,9,-999,9,-999,9,-999,9,-999,9,   -999.0,  9,-999,9,-999,-999,9,-999,9,-999,9,-999,9,-999,-999,-999,9,1254,3.5429,27.4979,-999,9
KS08-06-1,EQPAC,KS-2203,1,2,02-16008,2,20080720,0803,0.0012,162.9662,4447,1515.8,3.0747,34.5994,2,-999,9,-999,9,103,2,114.76,2,-999,9,38.93,2,0,2,2.75,2,-999,9,-999,9,-999,9,-999,9,-999,9,-999,9,   -999.0,  9,-999,9,-999,-999,9,-999,9,-999,9,-999,9,-999,-999,-999,9,1502,2.9646,27.5685,-999,9
KS08-06-1,EQPAC,KS-2203,1,1,02-16007,2,20080720,0753,0.0012,162.9662,4447,2028.5,2.2351,34.6385,2,-999,9,-999,9,119,2,132.28,2,-999,9,38.24,2,0,2,2.69,2,-999,9,-999,9,-999,9,-999,9,-999,9,-999,9,   -999.0,  9,-999,9,-999,-999,9,-999,9,-999,9,-999,9,-999,-999,-999,9,2008,2.0926,27.6747,-999,9