BOTTLE,20121206MIRCHATS
EXPOCODE,SECT_ID,STNNBR,CASTNO,SAMPNO,BTLNBR,BTLNBR_FLAG_W,DATE,TIME,LATITUDE,LONGITUDE,DEPTH,CTDPRS,CTDTMP,CTDSAL,CTDSAL_FLAG_W,CTDOXY,CTDOXY_FLAG_W,SALNTY,SALNTY_FLAG_W,OXYGEN,OXYGEN_FLAG_W,SILCAT,SILCAT_FLAG_W,NITRAT,NITRAT_FLAG_W,NO2+NO3,NO2+NO3_FLAG_W,NITRIT,NITRIT_FLAG_W,PHSPHT,PHSPHT_FLAG_W,CFC-11,CFC-11_FLAG_W,CFC-12,CFC-12_FLAG_W,DELC13,DELC13_FLAG_W,TCARBN,TCARBN_FLAG_W,ALKALI,ALKALI_FLAG_W,PH,PH_FLAG_W,PH_TMP,PH_SCALE,PH_NBS,PH_NBS_FLAG_W,C13ERR,TOTALP,TOTALP_FLAG_W,AMMONI,AMMONI_FLAG_W,CHLORA,CHLORA_FLAG_W,PPHYTN,PPHYTN_FLAG_W,REVPRS,REVTMP,DEPTH,DEPTH_FLAG,CTDDEP,THETA,SIGTHT,DOC,DOC_FLAG_W
        ,       ,      ,      ,      ,      ,             ,GMT ,GMT ,        ,         ,METER,DBAR  ,ITS-90,PSS-78,             ,UMOL/KG,            ,PSS-78,             ,UMOL/KG,            ,UMOL/KG,            ,UMOL/KG,            ,UMOL/KG,            ,UMOL/KG,            ,UMOL/KG,            ,PMOL/KG,            ,PMOL/KG,            ,/MILLE,             ,UMOL/KG,            ,UMOL/KG,            ,25_DEG_C,  ,DEG_C,,       ,      ,/MILLE,UMOL/KG,     ,UMOL/KG,            ,UG/L,             ,UG/L,             ,DBAR  ,ITS-90,METERS,         ,METERS,DEG_C,      ,UMOL/L,        
KS08-06-1,165E,KS-2196,1,-9,-9,5,20080716,1738,-0.0255,164.9703,4368,0,29.1354,34.9237,2,-999,9,-999,9,200,2,1.22,2,-999,9,0.1,2,0.02,2,0.14,2,-999,9,-999,9,-999,9,-999,9,-999,9,8.1094,2,     25.0, TS,-999,9,-999,-999,9,-999,9,0.15,2,0.06,2,-999,-999,-999,9,0,29.1352,21.9616,-999,9
KS08-06-1,165E,KS-2196,1,21,02-16027,2,20080716,1801,-0.0255,164.9703,4368,9.6,29.1414,34.9245,2,-999,9,34.9232,2,200,2,1.27,2,-999,9,0.1,2,0.02,2,0.14,2,-999,9,-999,9,-999,9,-999,9,-999,9,8.107,2,     25.0, TS,-999,9,-999,-999,9,-999,9,0.15,2,0.06,2,-999,-999,-999,9,10,29.1391,21.9608,-999,9
KS08-06-1,165E,KS-2196,1,20,02-16026,2,20080716,1800,-0.0255,164.9703,4368,24.5,29.1457,34.9668,2,-999,9,-999,9,200,2,1.26,2,-999,9,0.2,2,0.03,2,0.14,2,-999,9,-999,9,-999,9,-999,9,-999,9,8.1077,2,     25.0, TS,-999,9,-999,-999,9,-999,9,0.17,2,0.06,2,-999,-999,-999,9,24,29.1397,21.9924,-999,9
KS08-06-1,165E,KS-2196,1,19,02-19378,2,20080716,1755,-0.0255,164.9703,4368,50,28.503,35.4992,2,-999,9,-999,9,203,2,1.70,2,-999,9,1.96,2,0.31,2,0.27,2,-999,9,-999,9,-999,9,-999,9,-999,9,8.0772,2,     25.0, TS,-999,9,-999,-999,9,-999,9,0.34,2,0.27,2,-999,-999,-999,9,50,28.4911,22.6084,-999,9
KS08-06-1,165E,KS-2196,1,18,02-19377,2,20080716,1754,-0.0255,164.9703,4368,74.1,28.3306,35.4962,2,-999,9,-999,9,193,2,1.85,2,-999,9,2.84,2,0.62,2,0.35,2,-999,9,-999,9,-999,9,-999,9,-999,9,8.0573,2,     25.0, TS,-999,9,-999,-999,9,-999,9,0.23,2,0.36,2,-999,-999,-999,9,74,28.313,22.665,-999,9
KS08-06-1,165E,KS-2196,1,17,02-16023,2,20080716,1752,-0.0255,164.9703,4368,102.7,27.9025,35.5633,2,-999,9,35.5606,2,184,2,1.89,2,-999,9,4.99,2,1.7,2,0.45,2,-999,9,-999,9,-999,9,-999,9,-999,9,8.037,2,     25.0, TS,-999,9,-999,-999,9,-999,9,0.13,2,0.19,2,-999,-999,-999,9,102,27.8783,22.8581,-999,9
KS08-06-1,165E,KS-2196,1,16,02-16022,2,20080716,1750,-0.0255,164.9703,4368,128,26.0708,35.5552,2,-999,9,-999,9,161,2,2.58,2,-999,9,7.62,2,0.03,2,0.59,2,-999,9,-999,9,-999,9,-999,9,-999,9,7.9883,2,     25.0, TS,-999,9,-999,-999,9,-999,9,0.03,2,0.04,2,-999,-999,-999,9,127,26.0421,23.4391,-999,9
KS08-06-1,165E,KS-2196,1,15,02-16021,2,20080716,1748,-0.0255,164.9703,4368,154.9,24.294,35.5058,2,-999,9,-999,9,143,2,3.46,2,-999,9,8.79,2,0.02,2,0.63,2,-999,9,-999,9,-999,9,-999,9,-999,9,7.9602,2,     25.0, TS,-999,9,-999,-999,9,-999,9,0.02,2,0.02,2,-999,-999,-999,9,154,24.261,23.9466,-999,9
KS08-06-1,165E,KS-2196,1,14,02-16020,2,20080716,1745,-0.0255,164.9703,4368,203.8,15.8935,35.2288,2,-999,9,35.237,2,144,2,7.93,2,-999,9,14.52,2,0,2,0.99,2,-999,9,-999,9,-999,9,-999,9,-999,9,7.832,2,     25.0, TS,-999,9,-999,-999,9,-999,9,0,2,0.03,2,-999,-999,-999,9,203,15.8613,25.9554,-999,9
KS08-06-1,165E,KS-2196,1,13,02-16019,2,20080716,1743,-0.0255,164.9703,4368,252.7,12.2579,34.9253,2,-999,9,-999,9,149,2,14.10,2,-999,9,19.58,2,0,2,1.32,2,-999,9,-999,9,-999,9,-999,9,-999,9,7.7575,2,     25.0, TS,-999,9,-999,-999,9,-999,9,0,2,0.02,2,-999,-999,-999,9,251,12.2244,26.488,-999,9
KS08-06-1,165E,KS-2196,1,12,02-16018,2,20080716,1741,-0.0255,164.9703,4368,305.7,11.3561,34.8305,2,-999,9,34.8296,2,131,2,19.11,2,-999,9,22.89,2,0,2,1.55,2,-999,9,-999,9,-999,9,-999,9,-999,9,7.7091,2,     25.0, TS,-999,9,-999,-999,9,-999,9,0,2,0.02,2,-999,-999,-999,9,304,11.3175,26.5856,-999,9
KS08-06-1,165E,KS-2196,1,11,02-19376,2,20080716,1738,-0.0255,164.9703,4368,405.4,9.2862,34.6743,2,-999,9,34.6733,2,99,2,28.72,2,-999,9,29.90,2,0,2,2.04,2,-999,9,-999,9,-999,9,-999,9,-999,9,7.6004,2,     25.0, TS,-999,9,-999,-999,9,-999,9,-999,9,-999,9,-999,-999,-999,9,403,9.241,26.8242,-999,9
KS08-06-1,165E,KS-2196,1,10,02-19375,2,20080716,1735,-0.0255,164.9703,4368,503.5,7.7468,34.5869,2,-999,9,34.587,2,123,2,32.89,2,-999,9,30.67,2,0,2,2.09,2,-999,9,-999,9,-999,9,-999,9,-999,9,7.6063,2,     25.0, TS,-999,9,-999,-999,9,-999,9,-999,9,-999,9,-999,-999,-999,9,500,7.6961,26.9943,-999,9
KS08-06-1,165E,KS-2196,1,9,02-16015,2,20080716,1732,-0.0255,164.9703,4368,604.7,6.5875,34.5537,2,-999,9,34.5528,2,93,2,47.63,2,-999,9,36.02,2,0,2,2.51,2,-999,9,-999,9,-999,9,-999,9,-999,9,7.5334,2,     25.0, TS,-999,9,-999,-999,9,-999,9,-999,9,-999,9,-999,-999,-999,9,600,6.5315,27.1308,-999,9
KS08-06-1,165E,KS-2196,1,8,02-16014,2,20080716,1730,-0.0255,164.9703,4368,705.9,6.0418,34.5403,2,-999,9,34.5396,2,100,2,53.61,2,-999,9,36.22,2,0,2,2.52,2,-999,9,-999,9,-999,9,-999,9,-999,9,7.5335,2,     25.0, TS,-999,9,-999,-999,9,-999,9,-999,9,-999,9,-999,-999,-999,9,701,5.9788,27.1921,-999,9
KS08-06-1,165E,KS-2196,1,7,02-19374,2,20080716,1727,-0.0255,164.9703,4368,805.9,5.5215,34.5378,2,-999,9,34.5489,4,100,2,77.67,4,-999,9,38.55,4,0,4,2.73,4,-999,9,-999,9,-999,9,-999,9,-999,9,7.5269,2,     25.0, TS,-999,9,-999,-999,9,-999,9,-999,9,-999,9,-999,-999,-999,9,800,5.4522,27.2553,-999,9
KS08-06-1,165E,KS-2196,1,6,02-19373,2,20080716,1724,-0.0255,164.9703,4368,907.6,4.7457,34.5493,2,-999,9,34.5485,2,93,2,77.72,2,-999,9,38.64,2,0,2,2.73,2,-999,9,-999,9,-999,9,-999,9,-999,9,7.5077,2,     25.0, TS,-999,9,-999,-999,9,-999,9,-999,9,-999,9,-999,-999,-999,9,901,4.6724,27.3552,-999,9
KS08-06-1,165E,KS-2196,1,5,02-16011,2,20080716,1721,-0.0255,164.9703,4368,1010.6,4.4805,34.5531,2,-999,9,34.5523,2,97,2,82.55,2,-999,9,37.96,2,0,2,2.72,2,-999,9,-999,9,-999,9,-999,9,-999,9,7.5172,2,     25.0, TS,-999,9,-999,-999,9,-999,9,-999,9,-999,9,-999,-999,-999,9,1003,4.4002,27.3882,-999,9
KS08-06-1,165E,KS-2196,1,4,02-16010,2,20080716,1715,-0.0255,164.9703,4368,1262.1,3.6134,34.5807,2,-999,9,34.5804,2,94,2,103.24,2,-999,9,39.22,2,0,2,2.79,2,-999,9,-999,9,-999,9,-999,9,-999,9,7.5057,2,     25.0, TS,-999,9,-999,-999,9,-999,9,-999,9,-999,9,-999,-999,-999,9,1251,3.519,27.5011,-999,9
KS08-06-1,165E,KS-2196,1,3,02-16009,2,20080716,1710,-0.0255,164.9703,4368,1513.3,2.997,34.6031,2,-999,9,34.6028,2,104,2,115.86,2,-999,9,38.93,2,0,2,2.75,2,-999,9,-999,9,-999,9,-999,9,-999,9,7.518,2,     25.0, TS,-999,9,-999,-999,9,-999,9,-999,9,-999,9,-999,-999,-999,9,1500,2.888,27.5784,-999,9
KS08-06-1,165E,KS-2196,1,2,02-16008,2,20080716,1704,-0.0255,164.9703,4368,1764.9,2.5634,34.6219,2,-999,9,34.6221,2,111,2,125.36,2,-999,9,38.63,2,0,2,2.71,2,-999,9,-999,9,-999,9,-999,9,-999,9,7.5296,2,     25.0, TS,-999,9,-999,-999,9,-999,9,-999,9,-999,9,-999,-999,-999,9,1748,2.4387,27.6328,-999,9
KS08-06-1,165E,KS-2196,1,1,02-16007,2,20080716,1659,-0.0255,164.9703,4368,2026.7,2.23,34.6382,2,-999,9,34.6392,2,121,2,130.65,2,-999,9,38.14,2,0,2,2.66,2,-999,9,-999,9,-999,9,-999,9,-999,9,7.5485,6,     25.0, TS,-999,9,-999,-999,9,-999,9,-999,9,-999,9,-999,-999,-999,9,2006,2.0878,27.6748,-999,9
KS08-06-1,165E,KS-2197,1,-9,-9,5,20080716,2350,-1.0043,164.9793,4428,0,29.2907,35.1749,2,-999,9,-999,9,201,2,1.30,2,-999,9,0.2,2,0.03,2,0.15,2,-999,9,-999,9,-999,9,-999,9,-999,9,-999,9,   -999.0,  9,-999,9,-999,-999,9,-999,9,0.2,2,0.06,2,-999,-999,-999,9,0,29.2905,22.0979,-999,9
KS08-06-1,165E,KS-2197,1,21,02-16027,2,20080717,0014,-1.0043,164.9793,4428,9.8,29.1292,35.1683,2,-999,9,-999,9,202,2,1.39,2,-999,9,0.2,2,0.03,2,0.15,2,-999,9,-999,9,-999,9,-999,9,-999,9,-999,9,   -999.0,  9,-999,9,-999,-999,9,-999,9,0.2,2,0.08,2,-999,-999,-999,9,10,29.1268,22.148,-999,9
KS08-06-1,165E,KS-2197,1,20,02-16026,2,20080717,0013,-1.0043,164.9793,4428,25.6,29.0903,35.2312,2,-999,9,-999,9,202,2,1.38,2,-999,9,0.39,2,0.05,2,0.17,2,-999,9,-999,9,-999,9,-999,9,-999,9,-999,9,   -999.0,  9,-999,9,-999,-999,9,-999,9,0.24,2,0.11,2,-999,-999,-999,9,25,29.0841,22.2095,-999,9
KS08-06-1,165E,KS-2197,1,19,02-19378,2,20080717,0009,-1.0043,164.9793,4428,49.3,28.6618,35.4871,2,-999,9,-999,9,202,2,1.57,2,-999,9,1.66,2,0.18,2,0.26,2,-999,9,-999,9,-999,9,-999,9,-999,9,-999,9,   -999.0,  9,-999,9,-999,-999,9,-999,9,0.27,2,0.21,2,-999,-999,-999,9,49,28.65,22.5466,-999,9
KS08-06-1,165E,KS-2197,1,18,02-19377,2,20080717,0008,-1.0043,164.9793,4428,73.6,28.5334,35.4947,2,-999,9,-999,9,200,2,1.66,2,-999,9,1.86,2,0.15,2,0.28,2,-999,9,-999,9,-999,9,-999,9,-999,9,-999,9,   -999.0,  9,-999,9,-999,-999,9,-999,9,0.26,2,0.22,2,-999,-999,-999,9,73,28.5158,22.5968,-999,9
KS08-06-1,165E,KS-2197,1,17,02-16023,2,20080717,0007,-1.0043,164.9793,4428,100.1,27.9314,35.5283,2,-999,9,-999,9,192,2,1.86,2,-999,9,3.13,2,0.4,2,0.39,2,-999,9,-999,9,-999,9,-999,9,-999,9,-999,9,   -999.0,  9,-999,9,-999,-999,9,-999,9,0.16,2,0.22,2,-999,-999,-999,9,99,27.9078,22.8221,-999,9
KS08-06-1,165E,KS-2197,1,16,02-16022,2,20080717,0005,-1.0043,164.9793,4428,128.4,26.4674,35.5969,2,-999,9,-999,9,169,2,2.25,2,-999,9,7.13,2,0.04,2,0.56,2,-999,9,-999,9,-999,9,-999,9,-999,9,-999,9,   -999.0,  9,-999,9,-999,-999,9,-999,9,0.04,2,0.06,2,-999,-999,-999,9,128,26.4383,23.346,-999,9
KS08-06-1,165E,KS-2197,1,15,02-16021,2,20080717,0004,-1.0043,164.9793,4428,151.1,25.4475,35.644,2,-999,9,-999,9,150,2,2.53,2,-999,9,8.4,2,0.03,2,0.63,2,-999,9,-999,9,-999,9,-999,9,-999,9,-999,9,   -999.0,  9,-999,9,-999,-999,9,-999,9,0.01,2,0.02,2,-999,-999,-999,9,150,25.4142,23.7011,-999,9
KS08-06-1,165E,KS-2197,1,14,02-16020,2,20080717,0002,-1.0043,164.9793,4428,202.3,16.1313,35.2968,2,-999,9,-999,9,133,2,7.43,2,-999,9,15.30,2,0.01,2,1.07,2,-999,9,-999,9,-999,9,-999,9,-999,9,-999,9,   -999.0,  9,-999,9,-999,-999,9,-999,9,0,2,0.02,2,-999,-999,-999,9,201,16.099,25.9532,-999,9
KS08-06-1,165E,KS-2197,1,13,02-16019,2,20080717,0000,-1.0043,164.9793,4428,248.6,13.2137,35.0309,2,-999,9,-999,9,150,2,10.68,2,-999,9,17.73,2,0,2,1.19,2,-999,9,-999,9,-999,9,-999,9,-999,9,-999,9,   -999.0,  9,-999,9,-999,-999,9,-999,9,0,2,0.02,2,-999,-999,-999,9,247,13.1791,26.3807,-999,9
KS08-06-1,165E,KS-2197,1,12,02-16018,2,20080716,2358,-1.0043,164.9793,4428,304,10.9274,34.7918,2,-999,9,-999,9,115,2,21.70,2,-999,9,25.33,2,0,2,1.70,2,-999,9,-999,9,-999,9,-999,9,-999,9,-999,9,   -999.0,  9,-999,9,-999,-999,9,-999,9,0,2,0.02,2,-999,-999,-999,9,302,10.89,26.6333,-999,9
KS08-06-1,165E,KS-2197,1,11,02-19376,2,20080716,2356,-1.0043,164.9793,4428,403,9.4886,34.6985,2,-999,9,-999,9,121,2,23.65,2,-999,9,27.56,2,0,2,1.85,2,-999,9,-999,9,-999,9,-999,9,-999,9,-999,9,   -999.0,  9,-999,9,-999,-999,9,-999,9,-999,9,-999,9,-999,-999,-999,9,400,9.443,26.81,-999,9
KS08-06-1,165E,KS-2197,1,10,02-19375,2,20080716,2353,-1.0043,164.9793,4428,503.5,7.1964,34.5649,2,-999,9,-999,9,119,2,36.78,2,-999,9,32.13,2,0,2,2.21,2,-999,9,-999,9,-999,9,-999,9,-999,9,-999,9,   -999.0,  9,-999,9,-999,-999,9,-999,9,-999,9,-999,9,-999,-999,-999,9,500,7.1478,27.0555,-999,9
KS08-06-1,165E,KS-2197,1,9,02-16015,2,20080716,2351,-1.0043,164.9793,4428,604.2,6.3779,34.5459,2,-999,9,-999,9,99,2,48.81,2,-999,9,35.83,2,0,2,2.49,2,-999,9,-999,9,-999,9,-999,9,-999,9,-999,9,   -999.0,  9,-999,9,-999,-999,9,-999,9,-999,9,-999,9,-999,-999,-999,9,600,6.3229,27.1522,-999,9
KS08-06-1,165E,KS-2197,1,8,02-16014,2,20080716,2348,-1.0043,164.9793,4428,705.6,5.753,34.5359,2,-999,9,-999,9,100,2,57.29,2,-999,9,36.70,2,0,2,2.55,2,-999,9,-999,9,-999,9,-999,9,-999,9,-999,9,   -999.0,  9,-999,9,-999,-999,9,-999,9,-999,9,-999,9,-999,-999,-999,9,701,5.6916,27.2246,-999,9
KS08-06-1,165E,KS-2197,1,7,02-19374,2,20080716,2345,-1.0043,164.9793,4428,806.3,5.0882,34.5404,2,-999,9,-999,9,99,2,69.27,2,-999,9,37.38,2,0,2,2.63,2,-999,9,-999,9,-999,9,-999,9,-999,9,-999,9,   -999.0,  9,-999,9,-999,-999,9,-999,9,-999,9,-999,9,-999,-999,-999,9,800,5.0216,27.3083,-999,9
KS08-06-1,165E,KS-2197,1,6,02-19373,2,20080716,2342,-1.0043,164.9793,4428,906.7,4.8012,34.5487,2,-999,9,-999,9,91,2,76.95,2,-999,9,38.35,2,0,2,2.72,2,-999,9,-999,9,-999,9,-999,9,-999,9,-999,9,   -999.0,  9,-999,9,-999,-999,9,-999,9,-999,9,-999,9,-999,-999,-999,9,900,4.7276,27.3485,-999,9
KS08-06-1,165E,KS-2197,1,5,02-16011,2,20080716,2340,-1.0043,164.9793,4428,1009,4.4036,34.5539,2,-999,9,-999,9,99,2,83.68,2,-999,9,38.15,2,0,2,2.71,2,-999,9,-999,9,-999,9,-999,9,-999,9,-999,9,   -999.0,  9,-999,9,-999,-999,9,-999,9,-999,9,-999,9,-999,-999,-999,9,1001,4.324,27.397,-999,9
KS08-06-1,165E,KS-2197,1,4,02-16010,2,20080716,2334,-1.0043,164.9793,4428,1261.4,3.6027,34.5786,2,-999,9,-999,9,99,2,101.28,2,-999,9,38.83,2,0,2,2.77,2,-999,9,-999,9,-999,9,-999,9,-999,9,-999,9,   -999.0,  9,-999,9,-999,-999,9,-999,9,-999,9,-999,9,-999,-999,-999,9,1251,3.5085,27.5006,-999,9
KS08-06-1,165E,KS-2197,1,3,02-16009,2,20080716,2329,-1.0043,164.9793,4428,1514.5,3.0633,34.6007,2,-999,9,-999,9,101,2,114.77,2,-999,9,39.02,2,0,2,2.76,2,-999,9,-999,9,-999,9,-999,9,-999,9,-999,9,   -999.0,  9,-999,9,-999,-999,9,-999,9,-999,9,-999,9,-999,-999,-999,9,1501,2.9535,27.5706,-999,9
KS08-06-1,165E,KS-2197,1,2,02-16008,2,20080716,2323,-1.0043,164.9793,4428,1767.9,2.4992,34.6246,2,-999,9,-999,9,113,2,125.59,2,-999,9,38.34,2,0,2,2.70,2,-999,9,-999,9,-999,9,-999,9,-999,9,-999,9,   -999.0,  9,-999,9,-999,-999,9,-999,9,-999,9,-999,9,-999,-999,-999,9,1751,2.3751,27.6403,-999,9
KS08-06-1,165E,KS-2197,1,1,02-16007,2,20080716,2318,-1.0043,164.9793,4428,2031.8,2.1771,34.6409,2,-999,9,-999,9,124,2,130.58,2,-999,9,37.75,2,0,2,2.64,2,-999,9,-999,9,-999,9,-999,9,-999,9,-999,9,   -999.0,  9,-999,9,-999,-999,9,-999,9,-999,9,-999,9,-999,-999,-999,9,2011,2.0352,27.6812,-999,9