BOTTLE,20121206MIRCHATS
EXPOCODE,SECT_ID,STNNBR,CASTNO,SAMPNO,BTLNBR,BTLNBR_FLAG_W,DATE,TIME,LATITUDE,LONGITUDE,DEPTH,CTDPRS,CTDTMP,CTDSAL,CTDSAL_FLAG_W,CTDOXY,CTDOXY_FLAG_W,SALNTY,SALNTY_FLAG_W,OXYGEN,OXYGEN_FLAG_W,SILCAT,SILCAT_FLAG_W,NITRAT,NITRAT_FLAG_W,NO2+NO3,NO2+NO3_FLAG_W,NITRIT,NITRIT_FLAG_W,PHSPHT,PHSPHT_FLAG_W,CFC-11,CFC-11_FLAG_W,CFC-12,CFC-12_FLAG_W,DELC13,DELC13_FLAG_W,TCARBN,TCARBN_FLAG_W,ALKALI,ALKALI_FLAG_W,PH,PH_FLAG_W,PH_TMP,PH_SCALE,PH_NBS,PH_NBS_FLAG_W,C13ERR,TOTALP,TOTALP_FLAG_W,AMMONI,AMMONI_FLAG_W,CHLORA,CHLORA_FLAG_W,PPHYTN,PPHYTN_FLAG_W,REVPRS,REVTMP,DEPTH,DEPTH_FLAG,CTDDEP,THETA,SIGTHT,DOC,DOC_FLAG_W
        ,       ,      ,      ,      ,      ,             ,GMT ,GMT ,        ,         ,METER,DBAR  ,ITS-90,PSS-78,             ,UMOL/KG,            ,PSS-78,             ,UMOL/KG,            ,UMOL/KG,            ,UMOL/KG,            ,UMOL/KG,            ,UMOL/KG,            ,UMOL/KG,            ,PMOL/KG,            ,PMOL/KG,            ,/MILLE,             ,UMOL/KG,            ,UMOL/KG,            ,25_DEG_C,  ,DEG_C,,       ,      ,/MILLE,UMOL/KG,     ,UMOL/KG,            ,UG/L,             ,UG/L,             ,DBAR  ,ITS-90,METERS,         ,METERS,DEG_C,      ,UMOL/L,        
KS08-06-1,165E,KS-2168,1,-9,-9,5,20080628,2045,28.0043,164.9882,5610,0,27.6966,35.2608,2,-999,9,-999,9,204,2,1.10,2,-999,9,0,2,0,2,0,2,-999,9,-999,9,-999,9,-999,9,-999,9,8.1063,2,     25.0, TS,-999,9,-999,-999,9,-999,9,0.04,2,0.01,2,-999,-999,-999,9,0,27.6964,22.6898,-999,9
KS08-06-1,165E,KS-2168,1,21,02-16027,2,20080628,2105,28.0043,164.9882,5610,9.8,27.6905,35.2612,2,-999,9,-999,9,204,2,1.10,2,-999,9,0,2,0,2,0,2,-999,9,-999,9,-999,9,-999,9,-999,9,8.1056,2,     25.0, TS,-999,9,-999,-999,9,-999,9,0.04,2,0.01,2,-999,-999,-999,9,10,27.6882,22.6927,-999,9
KS08-06-1,165E,KS-2168,1,20,02-16026,2,20080628,2103,28.0043,164.9882,5610,26.1,27.4834,35.2381,2,-999,9,-999,9,204,2,1.10,2,-999,9,0,2,0,2,0,2,-999,9,-999,9,-999,9,-999,9,-999,9,8.1065,2,     25.0, TS,-999,9,-999,-999,9,-999,9,0.05,2,0.01,2,-999,-999,-999,9,26,27.4773,22.7437,-999,9
KS08-06-1,165E,KS-2168,1,19,02-19378,2,20080628,2059,28.0043,164.9882,5610,49.7,21.9544,34.8466,2,-999,9,-999,9,236,2,1.80,2,-999,9,0,2,0,2,0,2,-999,9,-999,9,-999,9,-999,9,-999,9,8.0581,2,     25.0, TS,-999,9,-999,-999,9,-999,9,0.08,2,0.02,2,-999,-999,-999,9,49,21.9446,24.1167,-999,9
KS08-06-1,165E,KS-2168,1,18,02-19377,2,20080628,2058,28.0043,164.9882,5610,74.9,20.3424,34.8386,2,-999,9,-999,9,235,2,1.94,2,-999,9,0,2,0,2,0.01,2,-999,9,-999,9,-999,9,-999,9,-999,9,8.0478,2,     25.0, TS,-999,9,-999,-999,9,-999,9,0.09,2,0.02,2,-999,-999,-999,9,74,20.3284,24.5516,-999,9
KS08-06-1,165E,KS-2168,1,17,02-16023,2,20080628,2057,28.0043,164.9882,5610,100.6,19.0104,34.8037,2,-999,9,-999,9,228,2,2.15,2,-999,9,0,2,0,2,0.02,2,-999,9,-999,9,-999,9,-999,9,-999,9,8.0259,2,     25.0, TS,-999,9,-999,-999,9,-999,9,0.17,2,0.15,2,-999,-999,-999,9,100,18.9925,24.873,-999,9
KS08-06-1,165E,KS-2168,1,16,02-16022,2,20080628,2055,28.0043,164.9882,5610,126.2,18.5407,34.7876,2,-999,9,-999,9,-999,4,2.49,2,-999,9,1.27,2,0.07,2,0.08,2,-999,9,-999,9,-999,9,-999,9,-999,9,8.0076,2,     25.0, TS,-999,9,-999,-999,9,-999,9,0.25,2,0.4,2,-999,-999,-999,9,125,18.5186,24.9805,-999,9
KS08-06-1,165E,KS-2168,1,15,02-16021,2,20080628,2054,28.0043,164.9882,5610,151.9,18.0974,34.7846,2,-999,9,-999,9,209,2,3.14,2,-999,9,3.22,2,0.03,2,0.18,2,-999,9,-999,9,-999,9,-999,9,-999,9,7.9836,2,     25.0, TS,-999,9,-999,-999,9,-999,9,0.1,2,0.27,2,-999,-999,-999,9,151,18.0713,25.0895,-999,9
KS08-06-1,165E,KS-2168,1,14,02-16020,2,20080628,2053,28.0043,164.9882,5610,201.2,17.2327,34.7417,2,-999,9,-999,9,208,2,4.29,2,-999,9,4.97,2,0.01,2,0.25,2,-999,9,-999,9,-999,9,-999,9,-999,9,7.9635,2,     25.0, TS,-999,9,-999,-999,9,-999,9,0.01,2,0.02,2,-999,-999,-999,9,200,17.1992,25.2685,-999,9
KS08-06-1,165E,KS-2168,1,13,02-16019,2,20080628,2051,28.0043,164.9882,5610,251.8,16.3359,34.6787,2,-999,9,-999,9,217,2,5.45,2,-999,9,5.46,2,0.01,2,0.29,2,-999,9,-999,9,-999,9,-999,9,-999,9,7.9554,2,     25.0, TS,-999,9,-999,-999,9,-999,9,0.01,2,0.02,2,-999,-999,-999,9,250,16.2955,25.4325,-999,9
KS08-06-1,165E,KS-2168,1,12,02-16018,2,20080628,2049,28.0043,164.9882,5610,304.8,15.4011,34.5976,2,-999,9,-999,9,218,2,6.85,2,-999,9,6.44,2,0,2,0.36,2,-999,9,-999,9,-999,9,-999,9,-999,9,7.9342,2,     25.0, TS,-999,9,-999,-999,9,-999,9,0,2,0.01,2,-999,-999,-999,9,303,15.3541,25.5835,-999,9
KS08-06-1,165E,KS-2168,1,11,02-19376,2,20080628,2047,28.0043,164.9882,5610,402.1,13.2271,34.4571,2,-999,9,-999,9,201,2,13.43,2,-999,9,11.70,2,0,2,0.69,2,-999,9,-999,9,-999,9,-999,9,-999,9,7.8547,2,     25.0, TS,-999,9,-999,-999,9,-999,9,-999,9,-999,9,-999,-999,-999,9,399,13.171,25.9379,-999,9
KS08-06-1,165E,KS-2168,1,10,02-19375,2,20080628,2044,28.0043,164.9882,5610,504.4,10.4787,34.248,2,-999,9,-999,9,193,2,23.32,2,-999,9,17.15,2,0,2,1.08,2,-999,9,-999,9,-999,9,-999,9,-999,9,7.7649,2,     25.0, TS,-999,9,-999,-999,9,-999,9,-999,9,-999,9,-999,-999,-999,9,500,10.4181,26.2929,-999,9
KS08-06-1,165E,KS-2168,1,9,02-16015,2,20080628,2041,28.0043,164.9882,5610,606.9,7.782,34.0667,2,-999,9,-999,9,170,2,40.38,2,-999,9,24.06,2,0,2,1.62,2,-999,9,-999,9,-999,9,-999,9,-999,9,7.6552,2,     25.0, TS,-999,9,-999,-999,9,-999,9,-999,9,-999,9,-999,-999,-999,9,602,7.7208,26.5818,-999,9
KS08-06-1,165E,KS-2168,1,8,02-16014,2,20080628,2039,28.0043,164.9882,5610,705.6,5.8261,34.032,2,-999,9,-999,9,122,2,64.46,2,-999,9,31.85,2,0,2,2.22,2,-999,9,-999,9,-999,9,-999,9,-999,9,7.5201,2,     25.0, TS,-999,9,-999,-999,9,-999,9,-999,9,-999,9,-999,-999,-999,9,700,5.7649,26.817,-999,9
KS08-06-1,165E,KS-2168,1,7,02-19374,2,20080628,2036,28.0043,164.9882,5610,806.9,4.7092,34.1258,2,-999,9,-999,9,75,2,88.76,2,-999,9,37.58,2,0,2,2.66,2,-999,9,-999,9,-999,9,-999,9,-999,9,7.4257,2,     25.0, TS,-999,9,-999,-999,9,-999,9,-999,9,-999,9,-999,-999,-999,9,800,4.6454,27.022,-999,9
KS08-06-1,165E,KS-2168,1,6,02-19373,2,20080628,2033,28.0043,164.9882,5610,908.1,4.1391,34.2169,2,-999,9,-999,9,51,2,104.98,2,-999,9,40.31,2,0,2,2.85,2,-999,9,-999,9,-999,9,-999,9,-999,9,7.3833,2,     25.0, TS,-999,9,-999,-999,9,-999,9,-999,9,-999,9,-999,-999,-999,9,900,4.0705,27.1559,-999,9
KS08-06-1,165E,KS-2168,1,5,02-16011,2,20080628,2031,28.0043,164.9882,5610,1009.5,3.7167,34.3125,2,-999,9,-999,9,39,2,117.04,2,-999,9,41.96,2,0,2,2.98,2,-999,9,-999,9,-999,9,-999,9,-999,9,7.3664,2,     25.0, TS,-999,9,-999,-999,9,-999,9,-999,9,-999,9,-999,-999,-999,9,1000,3.6428,27.2753,-999,9
KS08-06-1,165E,KS-2168,1,4,02-16010,2,20080628,2025,28.0043,164.9882,5610,1261.9,3.0279,34.4577,2,-999,9,-999,9,-999,4,134.70,2,-999,9,42.53,2,0,2,3.01,2,-999,9,-999,9,-999,9,-999,9,-999,9,7.3847,2,     25.0, TS,-999,9,-999,-999,9,-999,9,-999,9,-999,9,-999,-999,-999,9,1250,2.9395,27.4577,-999,9
KS08-06-1,165E,KS-2168,1,3,02-16009,2,20080628,2020,28.0043,164.9882,5610,1515,2.5464,34.5336,2,-999,9,-999,9,59,2,144.09,2,-999,9,41.75,2,0,2,2.92,2,-999,9,-999,9,-999,9,-999,9,-999,9,7.4225,2,     25.0, TS,-999,9,-999,-999,9,-999,9,-999,9,-999,9,-999,-999,-999,9,1500,2.4427,27.5618,-999,9
KS08-06-1,165E,KS-2168,1,2,02-16008,2,20080628,2015,28.0043,164.9882,5610,1769.7,2.1613,34.5802,2,-999,9,-999,9,75,2,150.77,2,-999,9,40.77,2,0,2,2.84,2,-999,9,-999,9,-999,9,-999,9,-999,9,7.4505,2,     25.0, TS,-999,9,-999,-999,9,-999,9,-999,9,-999,9,-999,-999,-999,9,1751,2.0417,27.6321,-999,9
KS08-06-1,165E,KS-2168,1,1,02-16007,2,20080628,2009,28.0043,164.9882,5610,2035.5,1.8871,34.612,2,-999,9,-999,9,89,2,155.16,2,-999,9,40.09,2,0,2,2.77,2,-999,9,-999,9,-999,9,-999,9,-999,9,7.4771,6,     25.0, TS,-999,9,-999,-999,9,-999,9,-999,9,-999,9,-999,-999,-999,9,2012,1.7495,27.6802,-999,9
KS08-06-1,165E,KS-2171,1,-9,-9,5,20080629,1637,24.9938,164.9965,5910,0,28.2478,35.2216,2,-999,9,-999,9,204,2,1.04,2,-999,9,0,2,0,2,0,2,-999,9,-999,9,-999,9,-999,9,-999,9,-999,9,   -999.0,  9,-999,9,-999,-999,9,-999,9,0.03,2,0.01,2,-999,-999,-999,9,0,28.2476,22.4801,-999,9
KS08-06-1,165E,KS-2171,1,21,02-16027,2,20080629,1655,24.9938,164.9965,5910,10,28.2547,35.2204,2,-999,9,35.2208,2,202,2,1.03,2,-999,9,0,2,0,2,0,2,-999,9,-999,9,-999,9,-999,9,-999,9,-999,9,   -999.0,  9,-999,9,-999,-999,9,-999,9,0.03,2,0.01,2,-999,-999,-999,9,10,28.2523,22.4776,-999,9
KS08-06-1,165E,KS-2171,1,20,02-16026,2,20080629,1654,24.9938,164.9965,5910,25.2,27.0837,35.1324,2,-999,9,-999,9,203,2,1.32,2,-999,9,0,2,0,2,0,2,-999,9,-999,9,-999,9,-999,9,-999,9,-999,9,   -999.0,  9,-999,9,-999,-999,9,-999,9,0.04,2,0.01,2,-999,-999,-999,9,25,27.0779,22.7926,-999,9
KS08-06-1,165E,KS-2171,1,19,02-19378,2,20080629,1651,24.9938,164.9965,5910,51.8,23.5468,35.0422,2,-999,9,-999,9,230,2,1.51,2,-999,9,0,2,0,2,0,2,-999,9,-999,9,-999,9,-999,9,-999,9,-999,9,   -999.0,  9,-999,9,-999,-999,9,-999,9,0.06,2,0.02,2,-999,-999,-999,9,51,23.5361,23.8099,-999,9
KS08-06-1,165E,KS-2171,1,18,02-19377,2,20080629,1650,24.9938,164.9965,5910,75.7,22.1306,35.0015,2,-999,9,-999,9,230,2,1.71,2,-999,9,0,2,0,2,0,2,-999,9,-999,9,-999,9,-999,9,-999,9,-999,9,   -999.0,  9,-999,9,-999,-999,9,-999,9,0.08,2,0.03,2,-999,-999,-999,9,75,22.1156,24.1865,-999,9
KS08-06-1,165E,KS-2171,1,17,02-16023,2,20080629,1649,24.9938,164.9965,5910,99.4,20.3046,34.8656,2,-999,9,34.8647,2,230,2,1.95,2,-999,9,0,2,0,2,0,2,-999,9,-999,9,-999,9,-999,9,-999,9,-999,9,   -999.0,  9,-999,9,-999,-999,9,-999,9,0.14,2,0.06,2,-999,-999,-999,9,99,20.2861,24.5835,-999,9
KS08-06-1,165E,KS-2171,1,16,02-16022,2,20080629,1648,24.9938,164.9965,5910,125.5,19.1975,34.8308,2,-999,9,-999,9,215,2,2.40,2,-999,9,0.29,2,0.03,2,0.05,2,-999,9,-999,9,-999,9,-999,9,-999,9,-999,9,   -999.0,  9,-999,9,-999,-999,9,-999,9,0.18,2,0.3,2,-999,-999,-999,9,125,19.175,24.8471,-999,9
KS08-06-1,165E,KS-2171,1,15,02-16021,2,20080629,1647,24.9938,164.9965,5910,150.7,18.3748,34.8083,2,-999,9,-999,9,204,2,3.00,2,-999,9,2.83,2,0.04,2,0.17,2,-999,9,-999,9,-999,9,-999,9,-999,9,-999,9,   -999.0,  9,-999,9,-999,-999,9,-999,9,0.07,2,0.26,2,-999,-999,-999,9,150,18.3486,25.0388,-999,9
KS08-06-1,165E,KS-2171,1,14,02-16020,2,20080629,1645,24.9938,164.9965,5910,201.8,17.164,34.7412,2,-999,9,34.7411,2,203,2,4.30,2,-999,9,5.27,2,0.01,2,0.28,2,-999,9,-999,9,-999,9,-999,9,-999,9,-999,9,   -999.0,  9,-999,9,-999,-999,9,-999,9,0.01,2,0.02,2,-999,-999,-999,9,200,17.1305,25.2845,-999,9
KS08-06-1,165E,KS-2171,1,13,02-16019,2,20080629,1643,24.9938,164.9965,5910,250.2,16.0607,34.6631,2,-999,9,-999,9,201,2,6.87,2,-999,9,7.41,2,0,2,0.41,2,-999,9,-999,9,-999,9,-999,9,-999,9,-999,9,   -999.0,  9,-999,9,-999,-999,9,-999,9,0,2,0.01,2,-999,-999,-999,9,248,16.021,25.4836,-999,9
KS08-06-1,165E,KS-2171,1,12,02-16018,2,20080629,1642,24.9938,164.9965,5910,304.5,14.7229,34.5642,2,-999,9,34.5621,2,203,2,9.79,2,-999,9,9.36,2,0,2,0.54,2,-999,9,-999,9,-999,9,-999,9,-999,9,-999,9,   -999.0,  9,-999,9,-999,-999,9,-999,9,0,2,0.01,2,-999,-999,-999,9,302,14.6774,25.7061,-999,9
KS08-06-1,165E,KS-2171,1,11,02-19376,2,20080629,1639,24.9938,164.9965,5910,402.9,12.1309,34.3822,2,-999,9,34.3764,4,195,2,18.71,2,-999,9,14.52,2,0,2,0.9,2,-999,9,-999,9,-999,9,-999,9,-999,9,-999,9,   -999.0,  9,-999,9,-999,-999,9,-999,9,-999,9,-999,9,-999,-999,-999,9,400,12.0779,26.0944,-999,9
KS08-06-1,165E,KS-2171,1,10,02-19375,2,20080629,1636,24.9938,164.9965,5910,503.8,9.187,34.1508,2,-999,9,34.1505,2,179,2,29.74,2,-999,9,20.75,2,0,2,1.36,2,-999,9,-999,9,-999,9,-999,9,-999,9,-999,9,   -999.0,  9,-999,9,-999,-999,9,-999,9,-999,9,-999,9,-999,-999,-999,9,500,9.1312,26.4322,-999,9
KS08-06-1,165E,KS-2171,1,9,02-16015,2,20080629,1634,24.9938,164.9965,5910,604.4,6.6299,34.0413,2,-999,9,34.0418,2,139,2,53.48,2,-999,9,29.22,2,0,2,2.01,2,-999,9,-999,9,-999,9,-999,9,-999,9,-999,9,   -999.0,  9,-999,9,-999,-999,9,-999,9,-999,9,-999,9,-999,-999,-999,9,600,6.5742,26.7209,-999,9
KS08-06-1,165E,KS-2171,1,8,02-16014,2,20080629,1631,24.9938,164.9965,5910,704.4,5.3319,34.0847,2,-999,9,34.0851,2,91,2,75.77,2,-999,9,35.54,2,0,2,2.50,2,-999,9,-999,9,-999,9,-999,9,-999,9,-999,9,   -999.0,  9,-999,9,-999,-999,9,-999,9,-999,9,-999,9,-999,-999,-999,9,699,5.2734,26.9178,-999,9
KS08-06-1,165E,KS-2171,1,7,02-19374,2,20080629,1628,24.9938,164.9965,5910,805.3,4.6904,34.2026,2,-999,9,34.2009,2,55,2,92.76,2,-999,9,39.72,2,0,2,2.82,2,-999,9,-999,9,-999,9,-999,9,-999,9,-999,9,   -999.0,  9,-999,9,-999,-999,9,-999,9,-999,9,-999,9,-999,-999,-999,9,799,4.6268,27.0851,-999,9
KS08-06-1,165E,KS-2171,1,6,02-19373,2,20080629,1626,24.9938,164.9965,5910,906.5,4.0625,34.2796,2,-999,9,34.2791,2,42,2,108.50,2,-999,9,41.47,2,0,2,2.96,2,-999,9,-999,9,-999,9,-999,9,-999,9,-999,9,   -999.0,  9,-999,9,-999,-999,9,-999,9,-999,9,-999,9,-999,-999,-999,9,899,3.9945,27.2136,-999,9
KS08-06-1,165E,KS-2171,1,5,02-16011,2,20080629,1623,24.9938,164.9965,5910,1009.2,3.6508,34.3567,2,-999,9,34.356,2,39,2,119.08,2,-999,9,42.34,2,0,2,3.01,2,-999,9,-999,9,-999,9,-999,9,-999,9,-999,9,   -999.0,  9,-999,9,-999,-999,9,-999,9,-999,9,-999,9,-999,-999,-999,9,1000,3.5773,27.317,-999,9
KS08-06-1,165E,KS-2171,1,4,02-16010,2,20080629,1618,24.9938,164.9965,5910,1260.9,3.0027,34.4994,2,-999,9,34.4987,2,59,2,132.03,2,-999,9,41.36,2,0,2,2.93,2,-999,9,-999,9,-999,9,-999,9,-999,9,-999,9,   -999.0,  9,-999,9,-999,-999,9,-999,9,-999,9,-999,9,-999,-999,-999,9,1249,2.9145,27.4932,-999,9
KS08-06-1,165E,KS-2171,1,3,02-16009,2,20080629,1612,24.9938,164.9965,5910,1513.5,2.4988,34.5618,2,-999,9,34.5603,2,80,2,139.84,2,-999,9,40.48,2,0,2,2.84,2,-999,9,-999,9,-999,9,-999,9,-999,9,-999,9,   -999.0,  9,-999,9,-999,-999,9,-999,9,-999,9,-999,9,-999,-999,-999,9,1498,2.3957,27.5884,-999,9
KS08-06-1,165E,KS-2171,1,2,02-16008,2,20080629,1607,24.9938,164.9965,5910,1769.3,2.2236,34.5906,2,-999,9,34.5903,2,90,2,144.28,2,-999,9,39.99,2,0,2,2.78,2,-999,9,-999,9,-999,9,-999,9,-999,9,-999,9,   -999.0,  9,-999,9,-999,-999,9,-999,9,-999,9,-999,9,-999,-999,-999,9,1751,2.1032,27.6354,-999,9
KS08-06-1,165E,KS-2171,1,1,02-16007,2,20080629,1601,24.9938,164.9965,5910,2035.3,1.9614,34.6204,2,-999,9,34.6201,2,104,2,147.37,2,-999,9,39.31,2,0,2,2.71,2,-999,9,-999,9,-999,9,-999,9,-999,9,-999,9,   -999.0,  9,-999,9,-999,-999,9,-999,9,-999,9,-999,9,-999,-999,-999,9,2012,1.8226,27.6814,-999,9