BOTTLE,20121206MIRCHATS
EXPOCODE,SECT_ID,STNNBR,CASTNO,SAMPNO,BTLNBR,BTLNBR_FLAG_W,DATE,TIME,LATITUDE,LONGITUDE,DEPTH,CTDPRS,CTDTMP,CTDSAL,CTDSAL_FLAG_W,CTDOXY,CTDOXY_FLAG_W,SALNTY,SALNTY_FLAG_W,OXYGEN,OXYGEN_FLAG_W,SILCAT,SILCAT_FLAG_W,NITRAT,NITRAT_FLAG_W,NO2+NO3,NO2+NO3_FLAG_W,NITRIT,NITRIT_FLAG_W,PHSPHT,PHSPHT_FLAG_W,CFC-11,CFC-11_FLAG_W,CFC-12,CFC-12_FLAG_W,DELC13,DELC13_FLAG_W,TCARBN,TCARBN_FLAG_W,ALKALI,ALKALI_FLAG_W,PH,PH_FLAG_W,PH_TMP,PH_SCALE,PH_NBS,PH_NBS_FLAG_W,C13ERR,TOTALP,TOTALP_FLAG_W,AMMONI,AMMONI_FLAG_W,CHLORA,CHLORA_FLAG_W,PPHYTN,PPHYTN_FLAG_W,REVPRS,REVTMP,DEPTH,DEPTH_FLAG,CTDDEP,THETA,SIGTHT,DOC,DOC_FLAG_W
        ,       ,      ,      ,      ,      ,             ,GMT ,GMT ,        ,         ,METER,DBAR  ,ITS-90,PSS-78,             ,UMOL/KG,            ,PSS-78,             ,UMOL/KG,            ,UMOL/KG,            ,UMOL/KG,            ,UMOL/KG,            ,UMOL/KG,            ,UMOL/KG,            ,PMOL/KG,            ,PMOL/KG,            ,/MILLE,             ,UMOL/KG,            ,UMOL/KG,            ,25_DEG_C,  ,DEG_C,,       ,      ,/MILLE,UMOL/KG,     ,UMOL/KG,            ,UG/L,             ,UG/L,             ,DBAR  ,ITS-90,METERS,         ,METERS,DEG_C,      ,UMOL/L,        
KS08-06-1,165E,KS-2178,1,-9,-9,5,20080701,1233,17.9997,164.9857,5427,0,28.9349,35.0846,2,-999,9,-999,9,201,2,0.88,2,-999,9,0,2,0,2,0.02,2,-999,9,-999,9,-999,9,-999,9,-999,9,-999,9,   -999.0,  9,-999,9,-999,-999,9,-999,9,0.05,2,0.01,2,-999,-999,-999,9,0,28.9347,22.1494,-999,9
KS08-06-1,165E,KS-2178,1,21,02-16027,2,20080701,1252,17.9997,164.9857,5427,9.8,28.9356,35.1,2,-999,9,-999,9,201,2,0.90,2,-999,9,0,2,0,2,0.02,2,-999,9,-999,9,-999,9,-999,9,-999,9,-999,9,   -999.0,  9,-999,9,-999,-999,9,-999,9,0.05,2,0.01,2,-999,-999,-999,9,10,28.9332,22.1615,-999,9
KS08-06-1,165E,KS-2178,1,20,02-16026,2,20080701,1251,17.9997,164.9857,5427,26.1,28.8892,35.097,2,-999,9,-999,9,201,2,0.88,2,-999,9,0,2,0,2,0.02,2,-999,9,-999,9,-999,9,-999,9,-999,9,-999,9,   -999.0,  9,-999,9,-999,-999,9,-999,9,0.06,2,0.02,2,-999,-999,-999,9,26,28.8829,22.176,-999,9
KS08-06-1,165E,KS-2178,1,19,02-19378,2,20080701,1247,17.9997,164.9857,5427,51.6,28.8227,35.0893,2,-999,9,-999,9,202,2,0.91,2,-999,9,0,2,0,2,0.02,2,-999,9,-999,9,-999,9,-999,9,-999,9,-999,9,   -999.0,  9,-999,9,-999,-999,9,-999,9,0.06,2,0.02,2,-999,-999,-999,9,51,28.8103,22.1944,-999,9
KS08-06-1,165E,KS-2178,1,18,02-19377,2,20080701,1245,17.9997,164.9857,5427,76.5,27.9561,35.0533,2,-999,9,-999,9,207,2,0.84,2,-999,9,0,2,0,2,0.02,2,-999,9,-999,9,-999,9,-999,9,-999,9,-999,9,   -999.0,  9,-999,9,-999,-999,9,-999,9,0.07,2,0.03,2,-999,-999,-999,9,76,27.9381,22.455,-999,9
KS08-06-1,165E,KS-2178,1,17,02-16023,2,20080701,1244,17.9997,164.9857,5427,100.3,27.3539,35.0416,2,-999,9,-999,9,208,2,0.87,2,-999,9,0,2,0,2,0.01,2,-999,9,-999,9,-999,9,-999,9,-999,9,-999,9,   -999.0,  9,-999,9,-999,-999,9,-999,9,0.12,2,0.06,2,-999,-999,-999,9,100,27.3307,22.643,-999,9
KS08-06-1,165E,KS-2178,1,16,02-16022,2,20080701,1243,17.9997,164.9857,5427,125.5,26.5277,35.0808,2,-999,9,-999,9,203,2,0.89,2,-999,9,0,2,0,2,0.02,2,-999,9,-999,9,-999,9,-999,9,-999,9,-999,9,   -999.0,  9,-999,9,-999,-999,9,-999,9,0.21,2,0.14,2,-999,-999,-999,9,125,26.4993,22.9376,-999,9
KS08-06-1,165E,KS-2178,1,15,02-16021,2,20080701,1241,17.9997,164.9857,5427,150.8,25.452,35.1499,2,-999,9,-999,9,198,2,0.97,2,-999,9,0,2,0.01,2,0.02,2,-999,9,-999,9,-999,9,-999,9,-999,9,-999,9,   -999.0,  9,-999,9,-999,-999,9,-999,9,0.17,2,0.33,2,-999,-999,-999,9,150,25.4188,23.3264,-999,9
KS08-06-1,165E,KS-2178,1,14,02-16020,2,20080701,1239,17.9997,164.9857,5427,201.6,21.2799,35.0408,2,-999,9,-999,9,183,2,1.95,2,-999,9,1.95,2,0.01,2,0.16,2,-999,9,-999,9,-999,9,-999,9,-999,9,-999,9,   -999.0,  9,-999,9,-999,-999,9,-999,9,0.03,2,0.09,2,-999,-999,-999,9,200,21.2409,24.4592,-999,9
KS08-06-1,165E,KS-2178,1,13,02-16019,2,20080701,1238,17.9997,164.9857,5427,250.9,17.844,34.7889,2,-999,9,-999,9,203,2,3.29,2,-999,9,4.1,2,0,2,0.22,2,-999,9,-999,9,-999,9,-999,9,-999,9,-999,9,   -999.0,  9,-999,9,-999,-999,9,-999,9,0.01,2,0.02,2,-999,-999,-999,9,249,17.8012,25.1591,-999,9
KS08-06-1,165E,KS-2178,1,12,02-16018,2,20080701,1235,17.9997,164.9857,5427,301.3,16.2917,34.6834,2,-999,9,-999,9,199,2,5.77,2,-999,9,6.83,2,0,2,0.39,2,-999,9,-999,9,-999,9,-999,9,-999,9,-999,9,   -999.0,  9,-999,9,-999,-999,9,-999,9,0,2,0,2,-999,-999,-999,9,299,16.2434,25.4482,-999,9
KS08-06-1,165E,KS-2178,1,11,02-19376,2,20080701,1233,17.9997,164.9857,5427,403.4,11.7529,34.2888,2,-999,9,-999,9,176,2,16.50,2,-999,9,15.59,2,0,2,1.04,2,-999,9,-999,9,-999,9,-999,9,-999,9,-999,9,   -999.0,  9,-999,9,-999,-999,9,-999,9,-999,9,-999,9,-999,-999,-999,9,401,11.7009,26.0931,-999,9
KS08-06-1,165E,KS-2178,1,10,02-19375,2,20080701,1230,17.9997,164.9857,5427,504.9,8.4015,34.1723,2,-999,9,-999,9,118,2,39.00,2,-999,9,27.28,2,0,2,1.93,2,-999,9,-999,9,-999,9,-999,9,-999,9,-999,9,   -999.0,  9,-999,9,-999,-999,9,-999,9,-999,9,-999,9,-999,-999,-999,9,501,8.3485,26.5714,-999,9
KS08-06-1,165E,KS-2178,1,9,02-16015,2,20080701,1227,17.9997,164.9857,5427,604.4,6.562,34.1991,2,-999,9,-999,9,76,2,61.68,2,-999,9,34.57,2,0,2,2.48,2,-999,9,-999,9,-999,9,-999,9,-999,9,-999,9,   -999.0,  9,-999,9,-999,-999,9,-999,9,-999,9,-999,9,-999,-999,-999,9,600,6.5065,26.8544,-999,9
KS08-06-1,165E,KS-2178,1,8,02-16014,2,20080701,1224,17.9997,164.9857,5427,706.9,5.718,34.3297,2,-999,9,-999,9,59,2,76.53,2,-999,9,37.78,2,0,2,2.73,2,-999,9,-999,9,-999,9,-999,9,-999,9,-999,9,   -999.0,  9,-999,9,-999,-999,9,-999,9,-999,9,-999,9,-999,-999,-999,9,702,5.6569,27.0658,-999,9
KS08-06-1,165E,KS-2178,1,7,02-19374,2,20080701,1221,17.9997,164.9857,5427,806.9,4.9896,34.4057,2,-999,9,-999,9,62,2,89.16,2,-999,9,38.84,2,0,2,2.77,2,-999,9,-999,9,-999,9,-999,9,-999,9,-999,9,   -999.0,  9,-999,9,-999,-999,9,-999,9,-999,9,-999,9,-999,-999,-999,9,801,4.9237,27.2128,-999,9
KS08-06-1,165E,KS-2178,1,6,02-19373,2,20080701,1218,17.9997,164.9857,5427,905.7,4.5475,34.4612,2,-999,9,-999,9,70,2,96.94,2,-999,9,38.84,2,0,2,2.77,2,-999,9,-999,9,-999,9,-999,9,-999,9,-999,9,   -999.0,  9,-999,9,-999,-999,9,-999,9,-999,9,-999,9,-999,-999,-999,9,898,4.4759,27.3069,-999,9
KS08-06-1,165E,KS-2178,1,5,02-16011,2,20080701,1215,17.9997,164.9857,5427,1008.6,4.1285,34.511,2,-999,9,-999,9,78,2,104.03,2,-999,9,39.03,2,0,2,2.76,2,-999,9,-999,9,-999,9,-999,9,-999,9,-999,9,   -999.0,  9,-999,9,-999,-999,9,-999,9,-999,9,-999,9,-999,-999,-999,9,1000,4.0511,27.3919,-999,9
KS08-06-1,165E,KS-2178,1,4,02-16010,2,20080701,1209,17.9997,164.9857,5427,1259.8,3.3244,34.5523,2,-999,9,-999,9,82,2,119.38,2,-999,9,39.61,2,0,2,2.80,2,-999,9,-999,9,-999,9,-999,9,-999,9,-999,9,   -999.0,  9,-999,9,-999,-999,9,-999,9,-999,9,-999,9,-999,-999,-999,9,1249,3.2331,27.5061,-999,9
KS08-06-1,165E,KS-2178,1,3,02-16009,2,20080701,1204,17.9997,164.9857,5427,1513.8,2.7653,34.5861,2,-999,9,-999,9,87,2,130.26,2,-999,9,39.80,2,0,2,2.81,2,-999,9,-999,9,-999,9,-999,9,-999,9,-999,9,   -999.0,  9,-999,9,-999,-999,9,-999,9,-999,9,-999,9,-999,-999,-999,9,1499,2.659,27.5852,-999,9
KS08-06-1,165E,KS-2178,1,2,02-16008,2,20080701,1158,17.9997,164.9857,5427,1765.7,2.3951,34.6039,2,-999,9,-999,9,96,2,137.73,2,-999,9,39.51,2,0,2,2.76,2,-999,9,-999,9,-999,9,-999,9,-999,9,-999,9,   -999.0,  9,-999,9,-999,-999,9,-999,9,-999,9,-999,9,-999,-999,-999,9,1748,2.2726,27.6323,-999,9
KS08-06-1,165E,KS-2178,1,1,02-16007,2,20080701,1153,17.9997,164.9857,5427,2025.8,2.1063,34.6231,2,-999,9,-999,9,105,2,142.76,2,-999,9,39.02,2,0,2,2.72,2,-999,9,-999,9,-999,9,-999,9,-999,9,-999,9,   -999.0,  9,-999,9,-999,-999,9,-999,9,-999,9,-999,9,-999,-999,-999,9,2004,1.9661,27.6724,-999,9
KS08-06-1,165E,KS-2181,1,-9,-9,5,20080702,0722,15.0017,164.9887,5225,0,28.5129,34.9784,2,-999,9,-999,9,201,2,0.92,2,-999,9,0,2,0,2,0.08,2,-999,9,-999,9,-999,9,-999,9,-999,9,-999,9,   -999.0,  9,-999,9,-999,-999,9,-999,9,0.04,2,0.01,2,-999,-999,-999,9,0,28.5127,22.2099,-999,9
KS08-06-1,165E,KS-2181,1,21,02-16027,2,20080702,0743,15.0017,164.9887,5225,11.2,28.5136,34.9775,2,-999,9,34.9763,2,201,2,0.91,2,-999,9,0,2,0,2,0.07,2,-999,9,-999,9,-999,9,-999,9,-999,9,-999,9,   -999.0,  9,-999,9,-999,-999,9,-999,9,0.03,2,0.01,2,-999,-999,-999,9,11,28.5109,22.2098,-999,9
KS08-06-1,165E,KS-2181,1,20,02-16026,2,20080702,0741,15.0017,164.9887,5225,24.6,28.4412,34.9763,2,-999,9,-999,9,201,2,0.90,2,-999,9,0,2,0,2,0.07,2,-999,9,-999,9,-999,9,-999,9,-999,9,-999,9,   -999.0,  9,-999,9,-999,-999,9,-999,9,0.04,2,0.01,2,-999,-999,-999,9,24,28.4353,22.2338,-999,9
KS08-06-1,165E,KS-2181,1,19,02-19378,2,20080702,0738,15.0017,164.9887,5225,50.7,28.4321,34.9779,2,-999,9,-999,9,201,2,0.94,2,-999,9,0,2,0,2,0.08,2,-999,9,-999,9,-999,9,-999,9,-999,9,-999,9,   -999.0,  9,-999,9,-999,-999,9,-999,9,0.04,2,0.01,2,-999,-999,-999,9,50,28.42,22.2401,-999,9
KS08-06-1,165E,KS-2181,1,18,02-19377,2,20080702,0737,15.0017,164.9887,5225,75.1,28.1161,35.0563,2,-999,9,-999,9,205,2,0.88,2,-999,9,0,2,0,2,0.04,2,-999,9,-999,9,-999,9,-999,9,-999,9,-999,9,   -999.0,  9,-999,9,-999,-999,9,-999,9,0.06,2,0.02,2,-999,-999,-999,9,75,28.0983,22.4048,-999,9
KS08-06-1,165E,KS-2181,1,17,02-16023,2,20080702,0736,15.0017,164.9887,5225,100.4,27.2168,35.0351,2,-999,9,35.0334,2,209,2,0.87,2,-999,9,0,2,0,2,0.03,2,-999,9,-999,9,-999,9,-999,9,-999,9,-999,9,   -999.0,  9,-999,9,-999,-999,9,-999,9,0.1,2,0.04,2,-999,-999,-999,9,100,27.1936,22.6822,-999,9
KS08-06-1,165E,KS-2181,1,16,02-16022,2,20080702,0735,15.0017,164.9887,5225,125.9,26.5033,35.0866,2,-999,9,-999,9,206,2,0.86,2,-999,9,0,2,0,2,0.03,2,-999,9,-999,9,-999,9,-999,9,-999,9,-999,9,   -999.0,  9,-999,9,-999,-999,9,-999,9,0.15,2,0.09,2,-999,-999,-999,9,125,26.4748,22.9497,-999,9
KS08-06-1,165E,KS-2181,1,15,02-16021,2,20080702,0733,15.0017,164.9887,5225,150.1,24.8748,35.1606,2,-999,9,-999,9,195,2,1.06,2,-999,9,0,2,0.01,2,0.04,2,-999,9,-999,9,-999,9,-999,9,-999,9,-999,9,   -999.0,  9,-999,9,-999,-999,9,-999,9,0.11,2,0.27,2,-999,-999,-999,9,149,24.8423,23.5105,-999,9
KS08-06-1,165E,KS-2181,1,14,02-16020,2,20080702,0732,15.0017,164.9887,5225,200.9,20.8753,35.005,2,-999,9,35.0066,2,190,2,2.05,2,-999,9,1.37,2,0.01,2,0.11,2,-999,9,-999,9,-999,9,-999,9,-999,9,-999,9,   -999.0,  9,-999,9,-999,-999,9,-999,9,0.03,2,0.1,2,-999,-999,-999,9,200,20.837,24.5419,-999,9
KS08-06-1,165E,KS-2181,1,13,02-16019,2,20080702,0730,15.0017,164.9887,5225,252.9,17.4801,34.7603,2,-999,9,-999,9,198,2,3.90,2,-999,9,4.78,2,0,2,0.28,2,-999,9,-999,9,-999,9,-999,9,-999,9,-999,9,   -999.0,  9,-999,9,-999,-999,9,-999,9,0,2,0.01,2,-999,-999,-999,9,251,17.4376,25.2255,-999,9
KS08-06-1,165E,KS-2181,1,12,02-16018,2,20080702,0729,15.0017,164.9887,5225,304.6,14.2689,34.4651,2,-999,9,34.4694,2,188,2,9.21,2,-999,9,10.24,2,0,2,0.66,2,-999,9,-999,9,-999,9,-999,9,-999,9,-999,9,   -999.0,  9,-999,9,-999,-999,9,-999,9,0,2,0.01,2,-999,-999,-999,9,303,14.2244,25.7264,-999,9
KS08-06-1,165E,KS-2181,1,11,02-19376,2,20080702,0726,15.0017,164.9887,5225,402.8,9.386,34.2341,2,-999,9,34.2342,2,121,2,32.39,2,-999,9,25.33,2,0,2,1.79,2,-999,9,-999,9,-999,9,-999,9,-999,9,-999,9,   -999.0,  9,-999,9,-999,-999,9,-999,9,-999,9,-999,9,-999,-999,-999,9,400,9.341,26.4634,-999,9
KS08-06-1,165E,KS-2181,1,10,02-19375,2,20080702,0724,15.0017,164.9887,5225,501.3,7.7202,34.3642,2,-999,9,34.3632,2,61,2,50.41,2,-999,9,34.28,2,0,2,2.46,2,-999,9,-999,9,-999,9,-999,9,-999,9,-999,9,   -999.0,  9,-999,9,-999,-999,9,-999,9,-999,9,-999,9,-999,-999,-999,9,498,7.67,26.823,-999,9
KS08-06-1,165E,KS-2181,1,9,02-16015,2,20080702,0721,15.0017,164.9887,5225,603.3,6.608,34.4387,2,-999,9,34.4378,2,59,2,63.10,2,-999,9,36.80,2,0,2,2.64,2,-999,9,-999,9,-999,9,-999,9,-999,9,-999,9,   -999.0,  9,-999,9,-999,-999,9,-999,9,-999,9,-999,9,-999,-999,-999,9,599,6.5521,27.0373,-999,9
KS08-06-1,165E,KS-2181,1,8,02-16014,2,20080702,0718,15.0017,164.9887,5225,707.1,5.7979,34.4686,2,-999,9,34.468,2,64,2,73.51,2,-999,9,38.07,2,0,2,2.72,2,-999,9,-999,9,-999,9,-999,9,-999,9,-999,9,   -999.0,  9,-999,9,-999,-999,9,-999,9,-999,9,-999,9,-999,-999,-999,9,702,5.7362,27.1659,-999,9
KS08-06-1,165E,KS-2181,1,7,02-19374,2,20080702,0715,15.0017,164.9887,5225,805.9,5.2992,34.4946,2,-999,9,34.4935,2,67,2,81.11,2,-999,9,38.65,2,0,2,2.75,2,-999,9,-999,9,-999,9,-999,9,-999,9,-999,9,   -999.0,  9,-999,9,-999,-999,9,-999,9,-999,9,-999,9,-999,-999,-999,9,800,5.2314,27.2475,-999,9
KS08-06-1,165E,KS-2181,1,6,02-19373,2,20080702,0713,15.0017,164.9887,5225,906.8,4.887,34.5108,2,-999,9,34.5101,2,68,2,88.42,2,-999,9,39.23,2,0,2,2.79,2,-999,9,-999,9,-999,9,-999,9,-999,9,-999,9,   -999.0,  9,-999,9,-999,-999,9,-999,9,-999,9,-999,9,-999,-999,-999,9,900,4.8128,27.3088,-999,9
KS08-06-1,165E,KS-2181,1,5,02-16011,2,20080702,0710,15.0017,164.9887,5225,1009.6,4.5252,34.5217,2,-999,9,34.5214,2,71,2,94.77,2,-999,9,39.32,2,0,2,2.82,2,-999,9,-999,9,-999,9,-999,9,-999,9,-999,9,   -999.0,  9,-999,9,-999,-999,9,-999,9,-999,9,-999,9,-999,-999,-999,9,1001,4.4446,27.3584,-999,9
KS08-06-1,165E,KS-2181,1,4,02-16010,2,20080702,0705,15.0017,164.9887,5225,1261.2,3.6152,34.5526,2,-999,9,34.5514,2,74,2,113.36,2,-999,9,40.10,2,0,2,2.86,2,-999,9,-999,9,-999,9,-999,9,-999,9,-999,9,   -999.0,  9,-999,9,-999,-999,9,-999,9,-999,9,-999,9,-999,-999,-999,9,1250,3.5209,27.4786,-999,9
KS08-06-1,165E,KS-2181,1,3,02-16009,2,20080702,0659,15.0017,164.9887,5225,1513,2.9013,34.5833,2,-999,9,34.5824,2,85,2,127.37,2,-999,9,39.80,2,0,2,2.81,2,-999,9,-999,9,-999,9,-999,9,-999,9,-999,9,   -999.0,  9,-999,9,-999,-999,9,-999,9,-999,9,-999,9,-999,-999,-999,9,1499,2.7935,27.5711,-999,9
KS08-06-1,165E,KS-2181,1,2,02-16008,2,20080702,0654,15.0017,164.9887,5225,1766.9,2.4782,34.6053,2,-999,9,34.6045,2,95,2,135.36,2,-999,9,39.51,2,0,2,2.77,2,-999,9,-999,9,-999,9,-999,9,-999,9,-999,9,   -999.0,  9,-999,9,-999,-999,9,-999,9,-999,9,-999,9,-999,-999,-999,9,1749,2.3545,27.6266,-999,9
KS08-06-1,165E,KS-2181,1,1,02-16007,2,20080702,0648,15.0017,164.9887,5225,2033.6,2.1661,34.6303,2,-999,9,34.63,2,106,2,140.56,2,-999,9,38.92,2,0,2,2.71,2,-999,9,-999,9,-999,9,-999,9,-999,9,-999,9,   -999.0,  9,-999,9,-999,-999,9,-999,9,-999,9,-999,9,-999,-999,-999,9,2012,2.0243,27.6735,-999,9