BOTTLE,20121206MIRCHATS
EXPOCODE,SECT_ID,STNNBR,CASTNO,SAMPNO,BTLNBR,BTLNBR_FLAG_W,DATE,TIME,LATITUDE,LONGITUDE,DEPTH,CTDPRS,CTDTMP,CTDSAL,CTDSAL_FLAG_W,CTDOXY,CTDOXY_FLAG_W,SALNTY,SALNTY_FLAG_W,OXYGEN,OXYGEN_FLAG_W,SILCAT,SILCAT_FLAG_W,NITRAT,NITRAT_FLAG_W,NO2+NO3,NO2+NO3_FLAG_W,NITRIT,NITRIT_FLAG_W,PHSPHT,PHSPHT_FLAG_W,CFC-11,CFC-11_FLAG_W,CFC-12,CFC-12_FLAG_W,DELC13,DELC13_FLAG_W,TCARBN,TCARBN_FLAG_W,ALKALI,ALKALI_FLAG_W,PH,PH_FLAG_W,PH_TMP,PH_SCALE,PH_NBS,PH_NBS_FLAG_W,C13ERR,TOTALP,TOTALP_FLAG_W,AMMONI,AMMONI_FLAG_W,CHLORA,CHLORA_FLAG_W,PPHYTN,PPHYTN_FLAG_W,REVPRS,REVTMP,DEPTH,DEPTH_FLAG,CTDDEP,THETA,SIGTHT,DOC,DOC_FLAG_W
        ,       ,      ,      ,      ,      ,             ,GMT ,GMT ,        ,         ,METER,DBAR  ,ITS-90,PSS-78,             ,UMOL/KG,            ,PSS-78,             ,UMOL/KG,            ,UMOL/KG,            ,UMOL/KG,            ,UMOL/KG,            ,UMOL/KG,            ,UMOL/KG,            ,PMOL/KG,            ,PMOL/KG,            ,/MILLE,             ,UMOL/KG,            ,UMOL/KG,            ,25_DEG_C,  ,DEG_C,,       ,      ,/MILLE,UMOL/KG,     ,UMOL/KG,            ,UG/L,             ,UG/L,             ,DBAR  ,ITS-90,METERS,         ,METERS,DEG_C,      ,UMOL/L,        
KS08-06-1,165E,KS-2183,1,-9,-9,5,20080713,0304,13.0023,164.9885,5195,0,28.843,34.8566,2,-999,9,-999,9,199,2,1.03,2,-999,9,0,2,0,2,0.09,2,-999,9,-999,9,-999,9,-999,9,-999,9,-999,9,   -999.0,  9,-999,9,-999,-999,9,-999,9,0.04,2,0.01,2,-999,-999,-999,9,0,28.8428,22.0088,-999,9
KS08-06-1,165E,KS-2183,1,21,02-16027,2,20080713,0323,13.0023,164.9885,5195,10,28.4087,34.8568,2,-999,9,34.8555,2,201,2,1.02,2,-999,9,0,2,0,2,0.09,2,-999,9,-999,9,-999,9,-999,9,-999,9,-999,9,   -999.0,  9,-999,9,-999,-999,9,-999,9,0.04,2,0.01,2,-999,-999,-999,9,10,28.4063,22.1536,-999,9
KS08-06-1,165E,KS-2183,1,20,02-16026,2,20080713,0321,13.0023,164.9885,5195,24.6,28.2771,34.8564,2,-999,9,-999,9,201,2,1.01,2,-999,9,0,2,0,2,0.09,2,-999,9,-999,9,-999,9,-999,9,-999,9,-999,9,   -999.0,  9,-999,9,-999,-999,9,-999,9,0.05,2,0.01,2,-999,-999,-999,9,24,28.2713,22.1978,-999,9
KS08-06-1,165E,KS-2183,1,19,02-19378,2,20080713,0317,13.0023,164.9885,5195,49.3,28.2059,34.8597,2,-999,9,-999,9,201,2,1.00,2,-999,9,0,2,0,2,0.09,2,-999,9,-999,9,-999,9,-999,9,-999,9,-999,9,   -999.0,  9,-999,9,-999,-999,9,-999,9,0.05,2,0.01,2,-999,-999,-999,9,49,28.1942,22.2255,-999,9
KS08-06-1,165E,KS-2183,1,18,02-19377,2,20080713,0316,13.0023,164.9885,5195,74.4,27.6472,34.8418,2,-999,9,-999,9,207,2,0.99,2,-999,9,0,2,0,2,0.1,2,-999,9,-999,9,-999,9,-999,9,-999,9,-999,9,   -999.0,  9,-999,9,-999,-999,9,-999,9,0.07,2,0.02,2,-999,-999,-999,9,74,27.6298,22.3961,-999,9
KS08-06-1,165E,KS-2183,1,17,02-16023,2,20080713,0315,13.0023,164.9885,5195,100.5,27.2745,35.0217,2,-999,9,35.0185,2,209,2,0.93,2,-999,9,0,2,0,2,0.05,2,-999,9,-999,9,-999,9,-999,9,-999,9,-999,9,   -999.0,  9,-999,9,-999,-999,9,-999,9,0.1,2,0.03,2,-999,-999,-999,9,100,27.2513,22.6536,-999,9
KS08-06-1,165E,KS-2183,1,16,02-16022,2,20080713,0313,13.0023,164.9885,5195,124.9,26.4341,34.9921,2,-999,9,-999,9,211,2,0.98,2,-999,9,0,2,0,2,0.06,2,-999,9,-999,9,-999,9,-999,9,-999,9,-999,9,   -999.0,  9,-999,9,-999,-999,9,-999,9,0.16,2,0.09,2,-999,-999,-999,9,124,26.4059,22.9002,-999,9
KS08-06-1,165E,KS-2183,1,15,02-16021,2,20080713,0312,13.0023,164.9885,5195,151.3,25.8383,35.0772,2,-999,9,-999,9,201,2,0.97,2,-999,9,0,2,0,2,0.05,2,-999,9,-999,9,-999,9,-999,9,-999,9,-999,9,   -999.0,  9,-999,9,-999,-999,9,-999,9,0.18,2,0.28,2,-999,-999,-999,9,150,25.8047,23.1523,-999,9
KS08-06-1,165E,KS-2183,1,14,02-16020,2,20080713,0310,13.0023,164.9885,5195,200.9,21.1108,35.0372,2,-999,9,35.0356,2,180,2,2.21,2,-999,9,2.44,2,0.01,2,0.20,2,-999,9,-999,9,-999,9,-999,9,-999,9,-999,9,   -999.0,  9,-999,9,-999,-999,9,-999,9,0.04,2,0.13,2,-999,-999,-999,9,200,21.0722,24.5026,-999,9
KS08-06-1,165E,KS-2183,1,13,02-16019,2,20080713,0308,13.0023,164.9885,5195,250.4,16.2658,34.6119,2,-999,9,-999,9,180,2,6.29,2,-999,9,7.70,2,0,2,0.53,2,-999,9,-999,9,-999,9,-999,9,-999,9,-999,9,   -999.0,  9,-999,9,-999,-999,9,-999,9,0,2,0.01,2,-999,-999,-999,9,249,16.2258,25.3973,-999,9
KS08-06-1,165E,KS-2183,1,12,02-16018,2,20080713,0306,13.0023,164.9885,5195,301.8,11.7724,34.2883,2,-999,9,34.2913,2,170,2,16.80,2,-999,9,15.98,2,0,2,1.1,2,-999,9,-999,9,-999,9,-999,9,-999,9,-999,9,   -999.0,  9,-999,9,-999,-999,9,-999,9,0,2,0.01,2,-999,-999,-999,9,300,11.7336,26.0866,-999,9
KS08-06-1,165E,KS-2183,1,11,02-19376,2,20080713,0304,13.0023,164.9885,5195,403.2,9.0612,34.4825,2,-999,9,34.4816,2,44,2,39.86,2,-999,9,33.60,2,0,2,2.45,2,-999,9,-999,9,-999,9,-999,9,-999,9,-999,9,   -999.0,  9,-999,9,-999,-999,9,-999,9,-999,9,-999,9,-999,-999,-999,9,401,9.017,26.7102,-999,9
KS08-06-1,165E,KS-2183,1,10,02-19375,2,20080713,0301,13.0023,164.9885,5195,503.5,7.7674,34.5169,2,-999,9,34.516,2,45,2,49.84,2,-999,9,36.52,2,0,2,2.64,2,-999,9,-999,9,-999,9,-999,9,-999,9,-999,9,   -999.0,  9,-999,9,-999,-999,9,-999,9,-999,9,-999,9,-999,-999,-999,9,500,7.7167,26.9362,-999,9
KS08-06-1,165E,KS-2183,1,9,02-16015,2,20080713,0258,13.0023,164.9885,5195,604.8,6.8186,34.5163,2,-999,9,34.5149,2,54,2,59.03,2,-999,9,37.68,2,0,2,2.72,2,-999,9,-999,9,-999,9,-999,9,-999,9,-999,9,   -999.0,  9,-999,9,-999,-999,9,-999,9,-999,9,-999,9,-999,-999,-999,9,600,6.7616,27.0704,-999,9
KS08-06-1,165E,KS-2183,1,8,02-16014,2,20080713,0255,13.0023,164.9885,5195,706,6.2263,34.5156,2,-999,9,34.5143,2,55,2,66.43,2,-999,9,38.75,2,0,2,2.79,2,-999,9,-999,9,-999,9,-999,9,-999,9,-999,9,   -999.0,  9,-999,9,-999,-999,9,-999,9,-999,9,-999,9,-999,-999,-999,9,701,6.1624,27.1491,-999,9
KS08-06-1,165E,KS-2183,1,7,02-19374,2,20080713,0252,13.0023,164.9885,5195,806.5,5.5619,34.5241,2,-999,9,34.5239,2,51,2,76.47,2,-999,9,40.30,2,0,2,2.91,2,-999,9,-999,9,-999,9,-999,9,-999,9,-999,9,   -999.0,  9,-999,9,-999,-999,9,-999,9,-999,9,-999,9,-999,-999,-999,9,800,5.4924,27.2397,-999,9
KS08-06-1,165E,KS-2183,1,6,02-19373,2,20080713,0249,13.0023,164.9885,5195,907.2,5.0038,34.5351,2,-999,9,34.5353,2,52,2,85.75,2,-999,9,41.18,2,0,2,2.98,2,-999,9,-999,9,-999,9,-999,9,-999,9,-999,9,   -999.0,  9,-999,9,-999,-999,9,-999,9,-999,9,-999,9,-999,-999,-999,9,900,4.9288,27.3148,-999,9
KS08-06-1,165E,KS-2183,1,5,02-16011,2,20080713,0246,13.0023,164.9885,5195,1007.8,4.6656,34.5428,2,-999,9,34.5448,2,55,2,92.05,2,-999,9,41.37,2,0,2,2.99,2,-999,9,-999,9,-999,9,-999,9,-999,9,-999,9,   -999.0,  9,-999,9,-999,-999,9,-999,9,-999,9,-999,9,-999,-999,-999,9,1000,4.5841,27.3599,-999,9
KS08-06-1,165E,KS-2183,1,4,02-16010,2,20080713,0241,13.0023,164.9885,5195,1261,3.6511,34.5588,2,-999,9,34.5604,2,77,2,112.28,2,-999,9,40.10,2,0,2,2.87,2,-999,9,-999,9,-999,9,-999,9,-999,9,-999,9,   -999.0,  9,-999,9,-999,-999,9,-999,9,-999,9,-999,9,-999,-999,-999,9,1250,3.5565,27.48,-999,9
KS08-06-1,165E,KS-2183,1,3,02-16009,2,20080713,0235,13.0023,164.9885,5195,1513.7,3.0002,34.5938,2,-999,9,34.5947,2,83,2,124.69,2,-999,9,40.29,2,0,2,2.87,2,-999,9,-999,9,-999,9,-999,9,-999,9,-999,9,   -999.0,  9,-999,9,-999,-999,9,-999,9,-999,9,-999,9,-999,-999,-999,9,1500,2.8912,27.5707,-999,9
KS08-06-1,165E,KS-2183,1,2,02-16008,2,20080713,0230,13.0023,164.9885,5195,1766.1,2.5272,34.6105,2,-999,9,34.6109,2,95,2,134.71,2,-999,9,39.70,2,0,2,2.81,2,-999,9,-999,9,-999,9,-999,9,-999,9,-999,9,   -999.0,  9,-999,9,-999,-999,9,-999,9,-999,9,-999,9,-999,-999,-999,9,1749,2.4029,27.6267,-999,9
KS08-06-1,165E,KS-2183,1,1,02-16007,2,20080713,0225,13.0023,164.9885,5195,2032.6,2.2197,34.6326,2,-999,9,34.6332,2,104,2,140.25,2,-999,9,39.31,2,0,2,2.77,2,-999,9,-999,9,-999,9,-999,9,-999,9,-999,9,   -999.0,  9,-999,9,-999,-999,9,-999,9,-999,9,-999,9,-999,-999,-999,9,2011,2.0771,27.6712,-999,9
KS08-06-1,165E,KS-2186,1,-9,-9,5,20080713,2229,9.996,163.991,4974,0,28.4092,34.372,2,-999,9,-999,9,199,2,0.92,2,-999,9,0,2,0,2,0.08,2,-999,9,-999,9,-999,9,-999,9,-999,9,8.1151,2,     25.0, TS,-999,9,-999,-999,9,-999,9,0.06,2,0.02,2,-999,-999,-999,9,0,28.409,21.7885,-999,9
KS08-06-1,165E,KS-2186,1,21,02-16027,2,20080713,2252,9.996,163.991,4974,10,28.4021,34.3714,2,-999,9,34.3702,2,200,2,0.91,2,-999,9,0,2,0,2,0.09,2,-999,9,-999,9,-999,9,-999,9,-999,9,8.1144,2,     25.0, TS,-999,9,-999,-999,9,-999,9,0.06,2,0.02,2,-999,-999,-999,9,10,28.3997,21.7911,-999,9
KS08-06-1,165E,KS-2186,1,20,02-16026,2,20080713,2251,9.996,163.991,4974,26.2,28.4501,34.675,2,-999,9,-999,9,201,2,0.95,2,-999,9,0,2,0,2,0.09,2,-999,9,-999,9,-999,9,-999,9,-999,9,8.1095,2,     25.0, TS,-999,9,-999,-999,9,-999,9,0.07,2,0.02,2,-999,-999,-999,9,26,28.4439,22.0046,-999,9
KS08-06-1,165E,KS-2186,1,19,02-19378,2,20080713,2247,9.996,163.991,4974,49.9,28.3547,34.707,2,-999,9,-999,9,201,2,0.99,2,-999,9,0,2,0,2,0.1,2,-999,9,-999,9,-999,9,-999,9,-999,9,8.1086,2,     25.0, TS,-999,9,-999,-999,9,-999,9,0.08,2,0.03,2,-999,-999,-999,9,50,28.3428,22.0619,-999,9
KS08-06-1,165E,KS-2186,1,18,02-19377,2,20080713,2246,9.996,163.991,4974,76,28.169,34.7539,2,-999,9,-999,9,202,2,0.97,2,-999,9,0,2,0,2,0.1,2,-999,9,-999,9,-999,9,-999,9,-999,9,8.1054,2,     25.0, TS,-999,9,-999,-999,9,-999,9,0.14,2,0.07,2,-999,-999,-999,9,76,28.151,22.1602,-999,9
KS08-06-1,165E,KS-2186,1,17,02-16023,2,20080713,2244,9.996,163.991,4974,101.3,27.0282,34.7735,2,-999,9,34.7782,2,203,2,0.91,2,-999,9,0,2,0.01,2,0.11,2,-999,9,-999,9,-999,9,-999,9,-999,9,8.088,2,     25.0, TS,-999,9,-999,-999,9,-999,9,0.22,2,0.3,2,-999,-999,-999,9,101,27.005,22.5456,-999,9
KS08-06-1,165E,KS-2186,1,16,02-16022,2,20080713,2242,9.996,163.991,4974,124.3,24.7499,34.9969,2,-999,9,-999,9,200,2,1.00,2,-999,9,0.1,2,0.09,2,0.1,2,-999,9,-999,9,-999,9,-999,9,-999,9,8.0543,2,     25.0, TS,-999,9,-999,-999,9,-999,9,0.16,2,0.34,2,-999,-999,-999,9,124,24.7231,23.4228,-999,9
KS08-06-1,165E,KS-2186,1,15,02-16021,2,20080713,2240,9.996,163.991,4974,152.5,21.0897,34.8418,2,-999,9,-999,9,178,2,2.78,2,-999,9,3.32,2,0.13,2,0.33,2,-999,9,-999,9,-999,9,-999,9,-999,9,7.9599,2,     25.0, TS,-999,9,-999,-999,9,-999,9,0.08,2,0.23,2,-999,-999,-999,9,152,21.0605,24.357,-999,9
KS08-06-1,165E,KS-2186,1,14,02-16020,2,20080713,2239,9.996,163.991,4974,201.2,13.9865,34.4043,2,-999,9,34.4114,2,156,2,11.50,2,-999,9,13.26,2,0,2,0.96,2,-999,9,-999,9,-999,9,-999,9,-999,9,7.7867,2,     25.0, TS,-999,9,-999,-999,9,-999,9,0.01,2,0.03,2,-999,-999,-999,9,200,13.9576,25.7356,-999,9
KS08-06-1,165E,KS-2186,1,13,02-16019,2,20080713,2237,9.996,163.991,4974,251.9,10.7439,34.4481,2,-999,9,-999,9,84,2,28.27,2,-999,9,27.09,2,0,2,1.94,2,-999,9,-999,9,-999,9,-999,9,-999,9,7.5855,2,     25.0, TS,-999,9,-999,-999,9,-999,9,0,2,0.02,2,-999,-999,-999,9,250,10.7134,26.397,-999,9
KS08-06-1,165E,KS-2186,1,12,02-16018,2,20080713,2235,9.996,163.991,4974,302.7,9.8127,34.5388,2,-999,9,34.5353,2,59,2,34.67,2,-999,9,31.66,2,0,2,2.25,2,-999,9,-999,9,-999,9,-999,9,-999,9,7.5349,2,     25.0, TS,-999,9,-999,-999,9,-999,9,0,2,0.02,2,-999,-999,-999,9,301,9.778,26.6294,-999,9
KS08-06-1,165E,KS-2186,1,11,02-19376,2,20080713,2232,9.996,163.991,4974,403.8,8.5918,34.5891,2,-999,9,34.5883,2,55,2,40.42,2,-999,9,34.77,2,0,2,2.44,2,-999,9,-999,9,-999,9,-999,9,-999,9,7.503,2,     25.0, TS,-999,9,-999,-999,9,-999,9,-999,9,-999,9,-999,-999,-999,9,401,8.5489,26.8675,-999,9
KS08-06-1,165E,KS-2186,1,10,02-19375,2,20080713,2230,9.996,163.991,4974,505,7.6817,34.5538,2,-999,9,34.5535,2,63,2,47.07,2,-999,9,35.54,2,0,2,2.52,2,-999,9,-999,9,-999,9,-999,9,-999,9,7.4992,2,     25.0, TS,-999,9,-999,-999,9,-999,9,-999,9,-999,9,-999,-999,-999,9,502,7.6311,26.9777,-999,9
KS08-06-1,165E,KS-2186,1,9,02-16015,2,20080713,2227,9.996,163.991,4974,605.6,6.8532,34.5338,2,-999,9,34.5338,2,65,2,55.96,2,-999,9,36.90,2,0,2,2.64,2,-999,9,-999,9,-999,9,-999,9,-999,9,7.4928,2,     25.0, TS,-999,9,-999,-999,9,-999,9,-999,9,-999,9,-999,-999,-999,9,601,6.7959,27.0795,-999,9
KS08-06-1,165E,KS-2186,1,8,02-16014,2,20080713,2224,9.996,163.991,4974,704.5,6.4245,34.5294,2,-999,9,34.5301,2,67,2,61.42,2,-999,9,37.58,2,0,2,2.69,2,-999,9,-999,9,-999,9,-999,9,-999,9,7.489,2,     25.0, TS,-999,9,-999,-999,9,-999,9,-999,9,-999,9,-999,-999,-999,9,699,6.3597,27.1343,-999,9
KS08-06-1,165E,KS-2186,1,7,02-19374,2,20080713,2221,9.996,163.991,4974,807.7,5.7274,34.5331,2,-999,9,34.5349,2,65,2,71.50,2,-999,9,38.84,2,0,2,2.79,2,-999,9,-999,9,-999,9,-999,9,-999,9,7.4777,2,     25.0, TS,-999,9,-999,-999,9,-999,9,-999,9,-999,9,-999,-999,-999,9,802,5.6567,27.2267,-999,9
KS08-06-1,165E,KS-2186,1,6,02-19373,2,20080713,2218,9.996,163.991,4974,907.5,5.1053,34.5398,2,-999,9,34.5397,2,70,2,81.74,2,-999,9,39.42,2,0,2,2.82,2,-999,9,-999,9,-999,9,-999,9,-999,9,7.4796,2,     25.0, TS,-999,9,-999,-999,9,-999,9,-999,9,-999,9,-999,-999,-999,9,900,5.0295,27.307,-999,9
KS08-06-1,165E,KS-2186,1,5,02-16011,2,20080713,2215,9.996,163.991,4974,1009.3,4.6079,34.5492,2,-999,9,34.5482,2,74,2,90.81,2,-999,9,39.62,2,0,2,2.84,2,-999,9,-999,9,-999,9,-999,9,-999,9,7.4821,2,     25.0, TS,-999,9,-999,-999,9,-999,9,-999,9,-999,9,-999,-999,-999,9,1001,4.5267,27.3713,-999,9
KS08-06-1,165E,KS-2186,1,4,02-16010,2,20080713,2210,9.996,163.991,4974,1260.6,3.5115,34.5776,2,-999,9,34.5769,2,79,2,113.49,2,-999,9,40.10,2,0,2,2.88,2,-999,9,-999,9,-999,9,-999,9,-999,9,7.4845,2,     25.0, TS,-999,9,-999,-999,9,-999,9,-999,9,-999,9,-999,-999,-999,9,1250,3.4182,27.5085,-999,9
KS08-06-1,165E,KS-2186,1,3,02-16009,2,20080713,2203,9.996,163.991,4974,1514.9,2.8343,34.6031,2,-999,9,34.6078,2,95,2,126.08,2,-999,9,39.61,2,0,2,2.81,2,-999,9,-999,9,-999,9,-999,9,-999,9,7.5027,2,     25.0, TS,-999,9,-999,-999,9,-999,9,-999,9,-999,9,-999,-999,-999,9,1501,2.7271,27.5928,-999,9
KS08-06-1,165E,KS-2186,1,2,02-16008,2,20080713,2158,9.996,163.991,4974,1767,2.397,34.6236,2,-999,9,34.6247,2,100,2,136.00,2,-999,9,39.41,2,0,2,2.79,2,-999,9,-999,9,-999,9,-999,9,-999,9,7.5136,2,     25.0, TS,-999,9,-999,-999,9,-999,9,-999,9,-999,9,-999,-999,-999,9,1750,2.2743,27.6479,-999,9
KS08-06-1,165E,KS-2186,1,1,02-16007,2,20080713,2152,9.996,163.991,4974,2031.4,2.2189,34.6349,2,-999,9,34.6369,2,105,2,139.60,2,-999,9,39.12,2,0,2,2.75,2,-999,9,-999,9,-999,9,-999,9,-999,9,7.5239,6,     25.0, TS,-999,9,-999,-999,9,-999,9,-999,9,-999,9,-999,-999,-999,9,2010,2.0764,27.6731,-999,9