BOTTLE,20121206MIRCHATS
EXPOCODE,SECT_ID,STNNBR,CASTNO,SAMPNO,BTLNBR,BTLNBR_FLAG_W,DATE,TIME,LATITUDE,LONGITUDE,DEPTH,CTDPRS,CTDTMP,CTDSAL,CTDSAL_FLAG_W,CTDOXY,CTDOXY_FLAG_W,SALNTY,SALNTY_FLAG_W,OXYGEN,OXYGEN_FLAG_W,SILCAT,SILCAT_FLAG_W,NITRAT,NITRAT_FLAG_W,NO2+NO3,NO2+NO3_FLAG_W,NITRIT,NITRIT_FLAG_W,PHSPHT,PHSPHT_FLAG_W,CFC-11,CFC-11_FLAG_W,CFC-12,CFC-12_FLAG_W,DELC13,DELC13_FLAG_W,TCARBN,TCARBN_FLAG_W,ALKALI,ALKALI_FLAG_W,PH,PH_FLAG_W,PH_TMP,PH_SCALE,PH_NBS,PH_NBS_FLAG_W,C13ERR,TOTALP,TOTALP_FLAG_W,AMMONI,AMMONI_FLAG_W,CHLORA,CHLORA_FLAG_W,PPHYTN,PPHYTN_FLAG_W,REVPRS,REVTMP,DEPTH,DEPTH_FLAG,CTDDEP,THETA,SIGTHT,DOC,DOC_FLAG_W
        ,       ,      ,      ,      ,      ,             ,GMT ,GMT ,        ,         ,METER,DBAR  ,ITS-90,PSS-78,             ,UMOL/KG,            ,PSS-78,             ,UMOL/KG,            ,UMOL/KG,            ,UMOL/KG,            ,UMOL/KG,            ,UMOL/KG,            ,UMOL/KG,            ,PMOL/KG,            ,PMOL/KG,            ,/MILLE,             ,UMOL/KG,            ,UMOL/KG,            ,25_DEG_C,  ,DEG_C,,       ,      ,/MILLE,UMOL/KG,     ,UMOL/KG,            ,UG/L,             ,UG/L,             ,DBAR  ,ITS-90,METERS,         ,METERS,DEG_C,      ,UMOL/L,        
KS08-06-1,165E,KS-2149,1,-9,-9,5,20080623,0837,47.0082,165.0023,5872,0,7.6171,32.9898,2,-999,9,-999,9,309,2,15.98,2,-999,9,12.58,2,0.18,2,1.08,2,-999,9,-999,9,-999,9,-999,9,-999,9,-999,9,   -999.0,  9,-999,9,-999,-999,9,-999,9,0.29,2,0.08,2,-999,-999,-999,9,0,7.617,25.7503,-999,9
KS08-06-1,165E,KS-2149,1,21,02-16027,2,20080623,0856,47.0082,165.0023,5872,10.2,7.6052,32.9893,2,-999,9,-999,9,310,2,16.02,2,-999,9,12.58,2,0.18,2,1.08,2,-999,9,-999,9,-999,9,-999,9,-999,9,-999,9,   -999.0,  9,-999,9,-999,-999,9,-999,9,0.26,2,0.08,2,-999,-999,-999,9,10,7.6042,25.7517,-999,9
KS08-06-1,165E,KS-2149,1,20,02-16026,2,20080623,0855,47.0082,165.0023,5872,25.6,6.4233,33.0228,2,-999,9,-999,9,320,2,15.90,2,-999,9,12.77,2,0.18,2,1.10,2,-999,9,-999,9,-999,9,-999,9,-999,9,-999,9,   -999.0,  9,-999,9,-999,-999,9,-999,9,0.27,2,0.08,2,-999,-999,-999,9,25,6.4211,25.9375,-999,9
KS08-06-1,165E,KS-2149,1,19,02-19378,2,20080623,0850,47.0082,165.0023,5872,51.1,5.5996,33.0409,2,-999,9,-999,9,324,2,18.02,2,-999,9,13.25,2,0.19,2,1.14,2,-999,9,-999,9,-999,9,-999,9,-999,9,-999,9,   -999.0,  9,-999,9,-999,-999,9,-999,9,0.41,2,0.16,2,-999,-999,-999,9,51,5.5956,26.0537,-999,9
KS08-06-1,165E,KS-2149,1,18,02-19377,2,20080623,0849,47.0082,165.0023,5872,75.6,3.9853,33.0971,2,-999,9,-999,9,323,2,25.07,2,-999,9,16.47,2,0.51,2,1.31,2,-999,9,-999,9,-999,9,-999,9,-999,9,-999,9,   -999.0,  9,-999,9,-999,-999,9,-999,9,0.43,2,0.16,2,-999,-999,-999,9,75,3.9803,26.2746,-999,9
KS08-06-1,165E,KS-2149,1,17,02-16023,2,20080623,0848,47.0082,165.0023,5872,100.8,2.9215,33.0845,2,-999,9,-999,9,323,2,31.82,2,-999,9,20.17,2,0.18,2,1.51,2,-999,9,-999,9,-999,9,-999,9,-999,9,-999,9,   -999.0,  9,-999,9,-999,-999,9,-999,9,0.09,2,0.1,2,-999,-999,-999,9,100,2.9157,26.3635,-999,9
KS08-06-1,165E,KS-2149,1,16,02-16022,2,20080623,0847,47.0082,165.0023,5872,126.7,3.2396,33.1699,2,-999,9,-999,9,312,2,29.80,2,-999,9,19.10,2,0.01,2,1.42,2,-999,9,-999,9,-999,9,-999,9,-999,9,-999,9,   -999.0,  9,-999,9,-999,-999,9,-999,9,0.03,2,0.07,2,-999,-999,-999,9,126,3.2319,26.4037,-999,9
KS08-06-1,165E,KS-2149,1,15,02-16021,2,20080623,0846,47.0082,165.0023,5872,149.8,3.2403,33.2997,2,-999,9,-999,9,263,2,44.14,2,-999,9,24.74,2,0,2,1.79,2,-999,9,-999,9,-999,9,-999,9,-999,9,-999,9,   -999.0,  9,-999,9,-999,-999,9,-999,9,0.02,2,0.07,2,-999,-999,-999,9,149,3.2312,26.5072,-999,9
KS08-06-1,165E,KS-2149,1,14,02-16020,2,20080623,0845,47.0082,165.0023,5872,201.6,3.5514,33.6085,2,-999,9,-999,9,181,2,64.18,2,-999,9,32.24,2,0,2,2.31,2,-999,9,-999,9,-999,9,-999,9,-999,9,-999,9,   -999.0,  9,-999,9,-999,-999,9,-999,9,0.01,2,0.05,2,-999,-999,-999,9,200,3.5384,26.7246,-999,9
KS08-06-1,165E,KS-2149,1,13,02-16019,2,20080623,0843,47.0082,165.0023,5872,252.2,3.366,33.7092,2,-999,9,-999,9,145,2,75.08,2,-999,9,35.25,2,0,2,2.51,2,-999,9,-999,9,-999,9,-999,9,-999,9,-999,9,   -999.0,  9,-999,9,-999,-999,9,-999,9,0.01,2,0.03,2,-999,-999,-999,9,250,3.35,26.8227,-999,9
KS08-06-1,165E,KS-2149,1,12,02-16018,2,20080623,0842,47.0082,165.0023,5872,305.1,3.489,33.8203,2,-999,9,-999,9,109,2,84.59,2,-999,9,37.88,2,0,2,2.69,2,-999,9,-999,9,-999,9,-999,9,-999,9,-999,9,   -999.0,  9,-999,9,-999,-999,9,-999,9,0,2,0.03,2,-999,-999,-999,9,302,3.4691,26.9,-999,9
KS08-06-1,165E,KS-2149,1,11,02-19376,2,20080623,0839,47.0082,165.0023,5872,404.8,3.5839,33.966,2,-999,9,-999,9,71,2,98.02,2,-999,9,40.31,2,0,2,2.85,2,-999,9,-999,9,-999,9,-999,9,-999,9,-999,9,   -999.0,  9,-999,9,-999,-999,9,-999,9,-999,9,-999,9,-999,-999,-999,9,401,3.5568,27.0077,-999,9
KS08-06-1,165E,KS-2149,1,10,02-19375,2,20080623,0837,47.0082,165.0023,5872,505,3.542,34.0917,2,-999,9,-999,9,50,2,109.36,2,-999,9,41.48,2,0,2,2.95,2,-999,9,-999,9,-999,9,-999,9,-999,9,-999,9,   -999.0,  9,-999,9,-999,-999,9,-999,9,-999,9,-999,9,-999,-999,-999,9,500,3.5079,27.1126,-999,9
KS08-06-1,165E,KS-2149,1,9,02-16015,2,20080623,0835,47.0082,165.0023,5872,606.7,3.4086,34.1826,2,-999,9,-999,9,40,2,119.33,2,-999,9,42.25,2,0,2,2.99,2,-999,9,-999,9,-999,9,-999,9,-999,9,-999,9,   -999.0,  9,-999,9,-999,-999,9,-999,9,-999,9,-999,9,-999,-999,-999,9,601,3.3677,27.1985,-999,9
KS08-06-1,165E,KS-2149,1,8,02-16014,2,20080623,0832,47.0082,165.0023,5872,707.3,3.2695,34.2474,2,-999,9,-999,9,35,2,126.45,2,-999,9,42.54,2,0,2,3.02,2,-999,9,-999,9,-999,9,-999,9,-999,9,-999,9,   -999.0,  9,-999,9,-999,-999,9,-999,9,-999,9,-999,9,-999,-999,-999,9,700,3.2219,27.2639,-999,9
KS08-06-1,165E,KS-2149,1,7,02-19374,2,20080623,0830,47.0082,165.0023,5872,808.4,3.0982,34.2995,2,-999,9,-999,9,31,2,133.28,2,-999,9,42.93,2,0,2,3.04,2,-999,9,-999,9,-999,9,-999,9,-999,9,-999,9,   -999.0,  9,-999,9,-999,-999,9,-999,9,-999,9,-999,9,-999,-999,-999,9,800,3.0442,27.3219,-999,9
KS08-06-1,165E,KS-2149,1,6,02-19373,2,20080623,0828,47.0082,165.0023,5872,908.8,2.9208,34.3474,2,-999,9,-999,9,34,2,138.77,2,-999,9,42.83,2,0,2,3.05,2,-999,9,-999,9,-999,9,-999,9,-999,9,-999,9,   -999.0,  9,-999,9,-999,-999,9,-999,9,-999,9,-999,9,-999,-999,-999,9,899,2.8606,27.3767,-999,9
KS08-06-1,165E,KS-2149,1,5,02-16011,2,20080623,0825,47.0082,165.0023,5872,1011.3,2.7659,34.3866,2,-999,9,-999,9,30,2,145.09,2,-999,9,43.21,2,0,2,3.07,2,-999,9,-999,9,-999,9,-999,9,-999,9,-999,9,   -999.0,  9,-999,9,-999,-999,9,-999,9,-999,9,-999,9,-999,-999,-999,9,1000,2.6992,27.4222,-999,9
KS08-06-1,165E,KS-2149,1,4,02-16010,2,20080623,0821,47.0082,165.0023,5872,1264.2,2.4445,34.4652,2,-999,9,-999,9,35,2,154.39,2,-999,9,43.02,2,0,2,3.04,2,-999,9,-999,9,-999,9,-999,9,-999,9,-999,9,   -999.0,  9,-999,9,-999,-999,9,-999,9,-999,9,-999,9,-999,-999,-999,9,1250,2.3616,27.5139,-999,9
KS08-06-1,165E,KS-2149,1,3,02-16009,2,20080623,0816,47.0082,165.0023,5872,1518.1,2.2284,34.5206,2,-999,9,-999,9,50,2,159.58,2,-999,9,42.62,2,0,2,3.00,2,-999,9,-999,9,-999,9,-999,9,-999,9,-999,9,   -999.0,  9,-999,9,-999,-999,9,-999,9,-999,9,-999,9,-999,-999,-999,9,1500,2.1282,27.5774,-999,9
KS08-06-1,165E,KS-2149,1,2,02-16008,2,20080623,0811,47.0082,165.0023,5872,1771.9,2.0457,34.5652,2,-999,9,-999,9,59,2,161.93,2,-999,9,41.94,2,0,2,2.92,2,-999,9,-999,9,-999,9,-999,9,-999,9,-999,9,   -999.0,  9,-999,9,-999,-999,9,-999,9,-999,9,-999,9,-999,-999,-999,9,1750,1.9276,27.629,-999,9
KS08-06-1,165E,KS-2149,1,1,02-16007,2,20080623,0805,47.0082,165.0023,5872,2040.2,1.8859,34.5984,2,-999,9,-999,9,75,2,162.95,2,-999,9,40.97,2,0,2,2.85,2,-999,9,-999,9,-999,9,-999,9,-999,9,-999,9,   -999.0,  9,-999,9,-999,-999,9,-999,9,-999,9,-999,9,-999,-999,-999,9,2013,1.748,27.6695,-999,9
KS08-06-1,165E,KS-2151,1,-9,-9,5,20080623,2107,45.0012,165.0267,5909,0,8.0661,33.0368,2,-999,9,-999,9,306,2,20.14,2,-999,9,12.28,2,0.15,2,1.05,2,-999,9,-999,9,-999,9,-999,9,-999,9,-999,9,   -999.0,  9,-999,9,-999,-999,9,-999,9,0.38,2,0.12,2,-999,-999,-999,9,0,8.066,25.7226,-999,9
KS08-06-1,165E,KS-2151,1,21,02-16027,2,20080623,2124,45.0012,165.0267,5909,10.1,8.0491,33.0363,2,-999,9,33.0379,2,306,2,20.17,2,-999,9,12.19,2,0.15,2,1.04,2,-999,9,-999,9,-999,9,-999,9,-999,9,-999,9,   -999.0,  9,-999,9,-999,-999,9,-999,9,0.36,2,0.12,2,-999,-999,-999,9,10,8.0481,25.7248,-999,9
KS08-06-1,165E,KS-2151,1,20,02-16026,2,20080623,2122,45.0012,165.0267,5909,25.4,6.6228,33.0466,2,-999,9,-999,9,321,2,21.57,2,-999,9,12.57,2,0.15,2,1.08,2,-999,9,-999,9,-999,9,-999,9,-999,9,-999,9,   -999.0,  9,-999,9,-999,-999,9,-999,9,0.33,2,0.13,2,-999,-999,-999,9,25,6.6206,25.9305,-999,9
KS08-06-1,165E,KS-2151,1,19,02-19378,2,20080623,2118,45.0012,165.0267,5909,50.5,4.8944,33.0671,2,-999,9,-999,9,325,2,24.28,2,-999,9,15.30,2,0.34,2,1.22,2,-999,9,-999,9,-999,9,-999,9,-999,9,-999,9,   -999.0,  9,-999,9,-999,-999,9,-999,9,0.66,2,0.22,2,-999,-999,-999,9,50,4.8907,26.1552,-999,9
KS08-06-1,165E,KS-2151,1,18,02-19377,2,20080623,2117,45.0012,165.0267,5909,75.8,3.7628,33.0846,2,-999,9,-999,9,320,2,26.73,2,-999,9,17.64,2,0.18,2,1.33,2,-999,9,-999,9,-999,9,-999,9,-999,9,-999,9,   -999.0,  9,-999,9,-999,-999,9,-999,9,0.28,2,0.11,2,-999,-999,-999,9,75,3.7579,26.2864,-999,9
KS08-06-1,165E,KS-2151,1,17,02-16023,2,20080623,2116,45.0012,165.0267,5909,101.3,3.3453,33.1323,2,-999,9,33.1363,2,314,2,28.78,2,-999,9,18.51,2,0,2,1.37,2,-999,9,-999,9,-999,9,-999,9,-999,9,-999,9,   -999.0,  9,-999,9,-999,-999,9,-999,9,0.04,2,0.07,2,-999,-999,-999,9,100,3.3391,26.3639,-999,9
KS08-06-1,165E,KS-2151,1,16,02-16022,2,20080623,2115,45.0012,165.0267,5909,126.3,3.514,33.2447,2,-999,9,-999,9,304,2,30.43,2,-999,9,19.29,2,0.01,2,1.40,2,-999,9,-999,9,-999,9,-999,9,-999,9,-999,9,   -999.0,  9,-999,9,-999,-999,9,-999,9,0.02,2,0.06,2,-999,-999,-999,9,125,3.5061,26.4379,-999,9
KS08-06-1,165E,KS-2151,1,15,02-16021,2,20080623,2114,45.0012,165.0267,5909,151.2,4.4695,33.4643,2,-999,9,-999,9,292,2,29.08,2,-999,9,18.61,2,0.01,2,1.32,2,-999,9,-999,9,-999,9,-999,9,-999,9,-999,9,   -999.0,  9,-999,9,-999,-999,9,-999,9,0.02,2,0.06,2,-999,-999,-999,9,150,4.4587,26.5171,-999,9
KS08-06-1,165E,KS-2151,1,14,02-16020,2,20080623,2113,45.0012,165.0267,5909,202.7,3.9801,33.6062,2,-999,9,33.6105,2,205,2,54.96,2,-999,9,28.93,2,0,2,2.05,2,-999,9,-999,9,-999,9,-999,9,-999,9,-999,9,   -999.0,  9,-999,9,-999,-999,9,-999,9,0,2,0.06,2,-999,-999,-999,9,201,3.9663,26.6809,-999,9
KS08-06-1,165E,KS-2151,1,13,02-16019,2,20080623,2112,45.0012,165.0267,5909,252.9,3.5772,33.6853,2,-999,9,-999,9,162,2,68.80,2,-999,9,33.31,2,0,2,2.37,2,-999,9,-999,9,-999,9,-999,9,-999,9,-999,9,   -999.0,  9,-999,9,-999,-999,9,-999,9,0,2,0.04,2,-999,-999,-999,9,251,3.5607,26.7837,-999,9
KS08-06-1,165E,KS-2151,1,12,02-16018,2,20080623,2110,45.0012,165.0267,5909,305.2,3.5202,33.763,2,-999,9,33.7646,2,132,2,77.33,2,-999,9,35.64,2,0,2,2.53,2,-999,9,-999,9,-999,9,-999,9,-999,9,-999,9,   -999.0,  9,-999,9,-999,-999,9,-999,9,0,2,0.03,2,-999,-999,-999,9,303,3.5003,26.8514,-999,9
KS08-06-1,165E,KS-2151,1,11,02-19376,2,20080623,2108,45.0012,165.0267,5909,403.8,3.7085,33.934,2,-999,9,33.9349,2,86,2,91.28,2,-999,9,38.85,2,0,2,2.75,2,-999,9,-999,9,-999,9,-999,9,-999,9,-999,9,   -999.0,  9,-999,9,-999,-999,9,-999,9,-999,9,-999,9,-999,-999,-999,9,400,3.6811,26.9701,-999,9
KS08-06-1,165E,KS-2151,1,10,02-19375,2,20080623,2105,45.0012,165.0267,5909,505.3,3.7814,34.0536,2,-999,9,34.0549,2,67,2,100.32,2,-999,9,39.82,2,0,2,2.82,2,-999,9,-999,9,-999,9,-999,9,-999,9,-999,9,   -999.0,  9,-999,9,-999,-999,9,-999,9,-999,9,-999,9,-999,-999,-999,9,501,3.7463,27.0588,-999,9
KS08-06-1,165E,KS-2151,1,9,02-16015,2,20080623,2103,45.0012,165.0267,5909,606.6,3.5142,34.1509,2,-999,9,34.1508,2,49,2,113.55,2,-999,9,41.38,2,0,2,2.91,2,-999,9,-999,9,-999,9,-999,9,-999,9,-999,9,   -999.0,  9,-999,9,-999,-999,9,-999,9,-999,9,-999,9,-999,-999,-999,9,601,3.4728,27.1631,-999,9
KS08-06-1,165E,KS-2151,1,8,02-16014,2,20080623,2101,45.0012,165.0267,5909,707.3,3.3361,34.2366,2,-999,9,34.2376,2,37,2,123.52,2,-999,9,42.25,2,0,2,3.00,2,-999,9,-999,9,-999,9,-999,9,-999,9,-999,9,   -999.0,  9,-999,9,-999,-999,9,-999,9,-999,9,-999,9,-999,-999,-999,9,700,3.2882,27.249,-999,9
KS08-06-1,165E,KS-2151,1,7,02-19374,2,20080623,2058,45.0012,165.0267,5909,808.5,3.1567,34.3001,2,-999,9,34.3022,2,33,2,131.29,2,-999,9,42.54,2,0,2,3.00,2,-999,9,-999,9,-999,9,-999,9,-999,9,-999,9,   -999.0,  9,-999,9,-999,-999,9,-999,9,-999,9,-999,9,-999,-999,-999,9,800,3.1023,27.317,-999,9
KS08-06-1,165E,KS-2151,1,6,02-19373,2,20080623,2056,45.0012,165.0267,5909,909.9,2.9814,34.3449,2,-999,9,34.3436,2,32,2,137.09,2,-999,9,42.73,2,0,2,3.03,2,-999,9,-999,9,-999,9,-999,9,-999,9,-999,9,   -999.0,  9,-999,9,-999,-999,9,-999,9,-999,9,-999,9,-999,-999,-999,9,901,2.9206,27.3693,-999,9
KS08-06-1,165E,KS-2151,1,5,02-16011,2,20080623,2054,45.0012,165.0267,5909,1010.8,2.8165,34.3864,2,-999,9,34.386,2,32,2,142.13,2,-999,9,42.92,2,0,2,3.03,2,-999,9,-999,9,-999,9,-999,9,-999,9,-999,9,   -999.0,  9,-999,9,-999,-999,9,-999,9,-999,9,-999,9,-999,-999,-999,9,1000,2.7494,27.4177,-999,9
KS08-06-1,165E,KS-2151,1,4,02-16010,2,20080623,2048,45.0012,165.0267,5909,1265.5,2.4829,34.4581,2,-999,9,34.4585,2,36,2,153.02,2,-999,9,43.02,2,0,2,3.03,2,-999,9,-999,9,-999,9,-999,9,-999,9,-999,9,   -999.0,  9,-999,9,-999,-999,9,-999,9,-999,9,-999,9,-999,-999,-999,9,1251,2.3995,27.505,-999,9
KS08-06-1,165E,KS-2151,1,3,02-16009,2,20080623,2043,45.0012,165.0267,5909,1518.4,2.2696,34.5128,2,-999,9,34.513,2,45,2,157.49,2,-999,9,42.53,2,0,2,2.99,2,-999,9,-999,9,-999,9,-999,9,-999,9,-999,9,   -999.0,  9,-999,9,-999,-999,9,-999,9,-999,9,-999,9,-999,-999,-999,9,1501,2.1689,27.5678,-999,9
KS08-06-1,165E,KS-2151,1,2,02-16008,2,20080623,2038,45.0012,165.0267,5909,1771.8,2.0885,34.5565,2,-999,9,34.5566,2,56,2,160.51,2,-999,9,41.94,2,0,2,2.93,2,-999,9,-999,9,-999,9,-999,9,-999,9,-999,9,   -999.0,  9,-999,9,-999,-999,9,-999,9,-999,9,-999,9,-999,-999,-999,9,1750,1.9698,27.6187,-999,9
KS08-06-1,165E,KS-2151,1,1,02-16007,2,20080623,2033,45.0012,165.0267,5909,2038.7,1.9425,34.5898,2,-999,9,34.5908,2,70,2,161.10,2,-999,9,41.16,2,0,2,2.85,2,-999,9,-999,9,-999,9,-999,9,-999,9,-999,9,   -999.0,  9,-999,9,-999,-999,9,-999,9,-999,9,-999,9,-999,-999,-999,9,2012,1.8038,27.6583,-999,9