BOTTLE,20131125MIRCJHATS
EXPOCODE,SECT_ID,STNNBR,CASTNO,SAMPNO,BTLNBR,BTLNBR_FLAG_W,DATE,TIME,LATITUDE,LONGITUDE,DEPTH,CTDPRS,CTDTMP,CTDSAL,CTDSAL_FLAG_W,CTDOXY,CTDOXY_FLAG_W,SALNTY,SALNTY_FLAG_W,OXYGEN,OXYGEN_FLAG_W,SILCAT,SILCAT_FLAG_W,NITRAT,NITRAT_FLAG_W,NO2+NO3,NO2+NO3_FLAG_W,NITRIT,NITRIT_FLAG_W,PHSPHT,PHSPHT_FLAG_W,CFC-11,CFC-11_FLAG_W,CFC-12,CFC-12_FLAG_W,DELC13,DELC13_FLAG_W,TCARBN,TCARBN_FLAG_W,ALKALI,ALKALI_FLAG_W,PH,PH_FLAG_W,PH_TMP,PH_SCALE,PH_NBS,PH_NBS_FLAG_W,C13ERR,TOTALP,TOTALP_FLAG_W,AMMONI,AMMONI_FLAG_W,CHLORA,CHLORA_FLAG_W,PPHYTN,PPHYTN_FLAG_W,REVPRS,REVTMP,DEPTH_,DEPTH_FLAG,CTDDEP,THETA,SIGTHT,DOC,DOC_FLAG_W
,,,,,,,GMT,GMT,,,METER,DBAR,ITS-90,PSS-78,,UMOL/KG,,PSS-78,,UMOL/KG,,UMOL/KG,,UMOL/KG,,UMOL/KG,,UMOL/KG,,UMOL/KG,,PMOL/KG,,PMOL/KG,,/MILLE,,UMOL/KG,,UMOL/KG,,25_DEG_C,,DEG_C,,,,/MILLE,UMOL/KG,,UMOL/KG,,UG/L,,UG/L,,DBAR,ITS-90,METERS,,METERS,DEG_C,,UMOL/L,
     KS08-06-2,  137E,KS-2225,  1,     -9,      -9,5,20080806,0158,  4.9927, 137.0257, 5235,      0.0,  29.6540,  33.8151,2,   -999.0,9,-999.0000,9,    197.0,2,     1.17,2,  -999.00,9,     0.00,2,     0.00,2,     0.00,2, -999.000,9, -999.000,9,  -999.00,9,   -999.0,9,   -999.0,9,   8.1349,6,     25.0, TS,  -999.00,9,   -999.0,  -999.00,9,  -999.00,9,     0.08,2,     0.02,2,   -999.0,-999.0000, -999,9,    0,  29.6538,  20.9555,   -999.0,9
     KS08-06-2,  137E,KS-2225,  1,     21,02-16027,2,20080806,0216,  4.9927, 137.0257, 5235,      9.4,  29.3969,  33.7968,2,   -999.0,9,  33.7990,2,    198.0,2,     1.17,2,  -999.00,9,     0.00,2,     0.00,2,     0.00,2, -999.000,9, -999.000,9,  -999.00,9,   -999.0,9,   -999.0,9,-999.0000,9,   -999.0,  9,  -999.00,9,   -999.0,  -999.00,9,  -999.00,9,     0.08,2,     0.02,2,   -999.0,-999.0000, -999,9,    9,  29.3946,  21.0290,   -999.0,9
     KS08-06-2,  137E,KS-2225,  1,     20,02-16026,2,20080806,0215,  4.9927, 137.0257, 5235,     25.5,  29.3224,  33.7961,2,   -999.0,9,-999.0000,9,    197.0,2,     1.16,2,  -999.00,9,     0.00,2,     0.00,2,     0.00,2, -999.000,9, -999.000,9,  -999.00,9,   -999.0,9,   -999.0,9,-999.0000,9,   -999.0,  9,  -999.00,9,   -999.0,  -999.00,9,  -999.00,9,     0.09,2,     0.02,2,   -999.0,-999.0000, -999,9,   25,  29.3162,  21.0548,   -999.0,9
     KS08-06-2,  137E,KS-2225,  1,     19,02-19378,2,20080806,0211,  4.9927, 137.0257, 5235,     50.8,  29.2628,  33.8856,2,   -999.0,9,-999.0000,9,    198.0,2,     1.19,2,  -999.00,9,     0.00,2,     0.00,2,     0.01,2, -999.000,9, -999.000,9,  -999.00,9,   -999.0,9,   -999.0,9,-999.0000,9,   -999.0,  9,  -999.00,9,   -999.0,  -999.00,9,  -999.00,9,     0.12,2,     0.04,2,   -999.0,-999.0000, -999,9,   51,  29.2505,  21.1440,   -999.0,9
     KS08-06-2,  137E,KS-2225,  1,     18,02-19377,2,20080806,0210,  4.9927, 137.0257, 5235,     76.1,  28.8837,  34.4003,2,   -999.0,9,-999.0000,9,    196.0,2,     1.28,2,  -999.00,9,     0.00,2,     0.00,2,     0.05,2, -999.000,9, -999.000,9,  -999.00,9,   -999.0,9,   -999.0,9,-999.0000,9,   -999.0,  9,  -999.00,9,   -999.0,  -999.00,9,  -999.00,9,     0.17,2,     0.07,2,   -999.0,-999.0000, -999,9,   76,  28.8654,  21.6587,   -999.0,9
     KS08-06-2,  137E,KS-2225,  1,     17,02-16023,2,20080806,0209,  4.9927, 137.0257, 5235,    101.5,  26.3006,  34.6282,2,   -999.0,9,  34.6283,2,    176.0,2,     2.30,2,  -999.00,9,     1.37,2,     0.23,2,     0.18,2, -999.000,9, -999.000,9,  -999.00,9,   -999.0,9,   -999.0,9,-999.0000,9,   -999.0,  9,  -999.00,9,   -999.0,  -999.00,9,  -999.00,9,     0.23,2,     0.36,2,   -999.0,-999.0000, -999,9,  101,  26.2778,  22.6661,   -999.0,9
     KS08-06-2,  137E,KS-2225,  1,     16,02-16022,2,20080806,0207,  4.9927, 137.0257, 5235,    126.9,  24.2276,  34.7719,2,   -999.0,9,-999.0000,9,    164.0,2,     3.35,2,  -999.00,9,     3.22,2,     0.03,2,     0.30,2, -999.000,9, -999.000,9,  -999.00,9,   -999.0,9,   -999.0,9,-999.0000,9,   -999.0,  9,  -999.00,9,   -999.0,  -999.00,9,  -999.00,9,     0.08,2,     0.20,2,   -999.0,-999.0000, -999,9,  126,  24.2007,  23.4091,   -999.0,9
     KS08-06-2,  137E,KS-2225,  1,     15,02-16021,2,20080806,0206,  4.9927, 137.0257, 5235,    152.2,  20.0627,  34.8189,2,   -999.0,9,-999.0000,9,    150.0,2,     7.08,2,  -999.00,9,     8.30,2,     0.01,2,     0.61,2, -999.000,9, -999.000,9,  -999.00,9,   -999.0,9,   -999.0,9,-999.0000,9,   -999.0,  9,  -999.00,9,   -999.0,  -999.00,9,  -999.00,9,     0.03,2,     0.08,2,   -999.0,-999.0000, -999,9,  151,  20.0345,  24.6145,   -999.0,9
     KS08-06-2,  137E,KS-2225,  1,     14,02-16020,2,20080806,0204,  4.9927, 137.0257, 5235,    202.2,  14.4784,  34.6002,2,   -999.0,9,  34.6000,2,    109.0,2,    17.23,2,  -999.00,9,    18.81,2,     0.00,2,     1.34,2, -999.000,9, -999.000,9,  -999.00,9,   -999.0,9,   -999.0,9,-999.0000,9,   -999.0,  9,  -999.00,9,   -999.0,  -999.00,9,  -999.00,9,     0.02,2,     0.04,2,   -999.0,-999.0000, -999,9,  201,  14.4486,  25.7831,   -999.0,9
     KS08-06-2,  137E,KS-2225,  1,     13,02-16019,2,20080806,0203,  4.9927, 137.0257, 5235,    251.9,  10.8470,  34.5746,2,   -999.0,9,-999.0000,9,     70.0,2,    30.18,2,  -999.00,9,    29.03,2,     0.00,2,     2.05,2, -999.000,9, -999.000,9,  -999.00,9,   -999.0,9,   -999.0,9,-999.0000,9,   -999.0,  9,  -999.00,9,   -999.0,  -999.00,9,  -999.00,9,     0.00,2,     0.02,2,   -999.0,-999.0000, -999,9,  250,  10.8163,  26.4772,   -999.0,9
     KS08-06-2,  137E,KS-2225,  1,     12,02-16018,2,20080806,0201,  4.9927, 137.0257, 5235,    303.3,   9.4203,  34.6221,2,   -999.0,9,  34.6195,2,     52.0,2,    35.37,2,  -999.00,9,    33.41,2,     0.00,2,     2.35,2, -999.000,9, -999.000,9,  -999.00,9,   -999.0,9,   -999.0,9,-999.0000,9,   -999.0,  9,  -999.00,9,   -999.0,  -999.00,9,  -999.00,9,     0.00,2,     0.02,2,   -999.0,-999.0000, -999,9,  301,   9.3864,  26.7596,   -999.0,9
     KS08-06-2,  137E,KS-2225,  1,     11,02-19376,2,20080806,0158,  4.9927, 137.0257, 5235,    403.9,   8.1543,  34.5847,2,   -999.0,9,  34.5830,2,     69.0,2,    41.32,2,  -999.00,9,    34.37,2,     0.00,2,     2.41,2, -999.000,9, -999.000,9,  -999.00,9,   -999.0,9,   -999.0,9,-999.0000,9,   -999.0,  9,  -999.00,9,   -999.0,  -999.00,9,  -999.00,9,  -999.00,9,  -999.00,9,   -999.0,-999.0000, -999,9,  401,   8.1127,  26.9308,   -999.0,9
     KS08-06-2,  137E,KS-2225,  1,     10,02-16016,2,20080806,0155,  4.9927, 137.0257, 5235,    503.6,   7.2584,  34.5547,2,   -999.0,9,  34.5538,2,     73.0,2,    49.09,2,  -999.00,9,    35.64,2,     0.00,2,     2.51,2, -999.000,9, -999.000,9,  -999.00,9,   -999.0,9,   -999.0,9,-999.0000,9,   -999.0,  9,  -999.00,9,   -999.0,  -999.00,9,  -999.00,9,  -999.00,9,  -999.00,9,   -999.0,-999.0000, -999,9,  500,   7.2095,  27.0388,   -999.0,9
     KS08-06-2,  137E,KS-2225,  1,      9,02-16015,2,20080806,0152,  4.9927, 137.0257, 5235,    604.6,   6.3886,  34.5317,2,   -999.0,9,  34.5308,2,     83.0,2,    58.22,2,  -999.00,9,    36.12,2,     0.00,2,     2.56,2, -999.000,9, -999.000,9,  -999.00,9,   -999.0,9,   -999.0,9,-999.0000,9,   -999.0,  9,  -999.00,9,   -999.0,  -999.00,9,  -999.00,9,  -999.00,9,  -999.00,9,   -999.0,-999.0000, -999,9,  600,   6.3335,  27.1396,   -999.0,9
     KS08-06-2,  137E,KS-2225,  1,      8,02-16014,2,20080806,0149,  4.9927, 137.0257, 5235,    705.7,   5.8398,  34.5345,2,   -999.0,9,  34.5336,2,     88.0,2,    63.96,2,  -999.00,9,    36.80,2,     0.00,2,     2.60,2, -999.000,9, -999.000,9,  -999.00,9,   -999.0,9,   -999.0,9,-999.0000,9,   -999.0,  9,  -999.00,9,   -999.0,  -999.00,9,  -999.00,9,  -999.00,9,  -999.00,9,   -999.0,-999.0000, -999,9,  701,   5.7779,  27.2127,   -999.0,9
     KS08-06-2,  137E,KS-2225,  1,      7,02-19374,2,20080806,0146,  4.9927, 137.0257, 5235,    806.2,   5.2259,  34.5421,2,   -999.0,9,  34.5410,2,     88.0,2,    73.73,2,  -999.00,9,    37.67,2,     0.00,2,     2.68,2, -999.000,9, -999.000,9,  -999.00,9,   -999.0,9,   -999.0,9,-999.0000,9,   -999.0,  9,  -999.00,9,   -999.0,  -999.00,9,  -999.00,9,  -999.00,9,  -999.00,9,   -999.0,-999.0000, -999,9,  800,   5.1584,  27.2937,   -999.0,9
     KS08-06-2,  137E,KS-2225,  1,      6,02-19373,2,20080806,0143,  4.9927, 137.0257, 5235,    907.4,   4.8461,  34.5480,2,   -999.0,9,  34.5474,2,     91.0,2,    79.28,2,  -999.00,9,    38.06,2,     0.00,2,     2.70,2, -999.000,9, -999.000,9,  -999.00,9,   -999.0,9,   -999.0,9,-999.0000,9,   -999.0,  9,  -999.00,9,   -999.0,  -999.00,9,  -999.00,9,  -999.00,9,  -999.00,9,   -999.0,-999.0000, -999,9,  900,   4.7721,  27.3429,   -999.0,9
     KS08-06-2,  137E,KS-2225,  1,      5,02-16011,2,20080806,0140,  4.9927, 137.0257, 5235,   1008.5,   4.4806,  34.5569,2,   -999.0,9,  34.5561,2,     92.0,2,    86.77,2,  -999.00,9,    38.25,2,     0.00,2,     2.72,2, -999.000,9, -999.000,9,  -999.00,9,   -999.0,9,   -999.0,9,-999.0000,9,   -999.0,  9,  -999.00,9,   -999.0,  -999.00,9,  -999.00,9,  -999.00,9,  -999.00,9,   -999.0,-999.0000, -999,9, 1000,   4.4004,  27.3912,   -999.0,9
     KS08-06-2,  137E,KS-2225,  1,      4,02-16010,2,20080806,0134,  4.9927, 137.0257, 5235,   1261.6,   3.6861,  34.5770,2,   -999.0,9,  34.5767,2,     95.0,2,   105.49,2,  -999.00,9,    38.64,2,     0.00,2,     2.74,2, -999.000,9, -999.000,9,  -999.00,9,   -999.0,9,   -999.0,9,-999.0000,9,   -999.0,  9,  -999.00,9,   -999.0,  -999.00,9,  -999.00,9,  -999.00,9,  -999.00,9,   -999.0,-999.0000, -999,9, 1251,   3.5911,  27.4911,   -999.0,9
     KS08-06-2,  137E,KS-2225,  1,      3,02-16009,2,20080806,0128,  4.9927, 137.0257, 5235,   1516.7,   2.9192,  34.6027,2,   -999.0,9,  34.6024,2,    102.0,2,   120.71,2,  -999.00,9,    38.63,2,     0.00,2,     2.73,2, -999.000,9, -999.000,9,  -999.00,9,   -999.0,9,   -999.0,9,-999.0000,9,   -999.0,  9,  -999.00,9,   -999.0,  -999.00,9,  -999.00,9,  -999.00,9,  -999.00,9,   -999.0,-999.0000, -999,9, 1503,   2.8108,  27.5850,   -999.0,9
     KS08-06-2,  137E,KS-2225,  1,      2,02-16008,2,20080806,0122,  4.9927, 137.0257, 5235,   1767.8,   2.4777,  34.6229,2,   -999.0,9,  34.6231,2,    109.0,2,   129.60,2,  -999.00,9,    38.53,2,     0.00,2,     2.71,2, -999.000,9, -999.000,9,  -999.00,9,   -999.0,9,   -999.0,9,-999.0000,9,   -999.0,  9,  -999.00,9,   -999.0,  -999.00,9,  -999.00,9,  -999.00,9,  -999.00,9,   -999.0,-999.0000, -999,9, 1751,   2.3539,  27.6407,   -999.0,9
     KS08-06-2,  137E,KS-2225,  1,      1,02-16007,2,20080806,0116,  4.9927, 137.0257, 5235,   2029.4,   2.1920,  34.6376,2,   -999.0,9,  34.6379,2,    115.0,2,   134.91,2,  -999.00,9,    38.34,2,     0.00,2,     2.69,2, -999.000,9, -999.000,9,  -999.00,9,   -999.0,9,   -999.0,9,-999.0000,9,   -999.0,  9,  -999.00,9,   -999.0,  -999.00,9,  -999.00,9,  -999.00,9,  -999.00,9,   -999.0,-999.0000, -999,9, 2008,   2.0501,  27.6774,   -999.0,9