BOTTLE,20131125MIRCJHATS
EXPOCODE,SECT_ID,STNNBR,CASTNO,SAMPNO,BTLNBR,BTLNBR_FLAG_W,DATE,TIME,LATITUDE,LONGITUDE,DEPTH,CTDPRS,CTDTMP,CTDSAL,CTDSAL_FLAG_W,CTDOXY,CTDOXY_FLAG_W,SALNTY,SALNTY_FLAG_W,OXYGEN,OXYGEN_FLAG_W,SILCAT,SILCAT_FLAG_W,NITRAT,NITRAT_FLAG_W,NO2+NO3,NO2+NO3_FLAG_W,NITRIT,NITRIT_FLAG_W,PHSPHT,PHSPHT_FLAG_W,CFC-11,CFC-11_FLAG_W,CFC-12,CFC-12_FLAG_W,DELC13,DELC13_FLAG_W,TCARBN,TCARBN_FLAG_W,ALKALI,ALKALI_FLAG_W,PH,PH_FLAG_W,PH_TMP,PH_SCALE,PH_NBS,PH_NBS_FLAG_W,C13ERR,TOTALP,TOTALP_FLAG_W,AMMONI,AMMONI_FLAG_W,CHLORA,CHLORA_FLAG_W,PPHYTN,PPHYTN_FLAG_W,REVPRS,REVTMP,DEPTH_,DEPTH_FLAG,CTDDEP,THETA,SIGTHT,DOC,DOC_FLAG_W
,,,,,,,GMT,GMT,,,METER,DBAR,ITS-90,PSS-78,,UMOL/KG,,PSS-78,,UMOL/KG,,UMOL/KG,,UMOL/KG,,UMOL/KG,,UMOL/KG,,UMOL/KG,,PMOL/KG,,PMOL/KG,,/MILLE,,UMOL/KG,,UMOL/KG,,25_DEG_C,,DEG_C,,,,/MILLE,UMOL/KG,,UMOL/KG,,UG/L,,UG/L,,DBAR,ITS-90,METERS,,METERS,DEG_C,,UMOL/L,
     KS08-06-2,  137E,KS-2261,  1,     -9,      -9,5,20080814,2200, 34.0120, 137.0400, 1462,      0.0,  27.5919,  34.0401,2,   -999.0,9,-999.0000,9,    210.0,2,     1.60,2,  -999.00,9,     0.00,2,     0.00,2,     0.01,2, -999.000,9, -999.000,9,  -999.00,9,   -999.0,9,   -999.0,9,   8.0900,2,     25.0, TS,  -999.00,9,   -999.0,  -999.00,9,  -999.00,9,     0.19,2,     0.02,2,   -999.0,-999.0000, -999,9,    0,  27.5917,  21.8053,   -999.0,9
     KS08-06-2,  137E,KS-2261,  1,     20,02-16026,2,20080814,2218, 34.0120, 137.0400, 1462,     10.4,  26.9076,  34.0142,2,   -999.0,9,  34.0309,4,    219.0,2,     1.73,2,  -999.00,9,     0.00,2,     0.00,2,     0.00,2, -999.000,9, -999.000,9,  -999.00,9,   -999.0,9,   -999.0,9,-999.0000,9,   -999.0,  9,  -999.00,9,   -999.0,  -999.00,9,  -999.00,9,     0.19,2,     0.04,2,   -999.0,-999.0000, -999,9,   10,  26.9052,  22.0056,   -999.0,9
     KS08-06-2,  137E,KS-2261,  1,     19,02-19378,2,20080814,2216, 34.0120, 137.0400, 1462,     25.2,  22.4459,  34.3101,2,   -999.0,9,-999.0000,9,    224.0,2,     2.40,2,  -999.00,9,     0.10,2,     0.01,2,     0.04,2, -999.000,9, -999.000,9,  -999.00,9,   -999.0,9,   -999.0,9,-999.0000,9,   -999.0,  9,  -999.00,9,   -999.0,  -999.00,9,  -999.00,9,     0.40,2,     0.20,2,   -999.0,-999.0000, -999,9,   25,  22.4409,  23.5698,   -999.0,9
     KS08-06-2,  137E,KS-2261,  1,     18,02-19377,2,20080814,2211, 34.0120, 137.0400, 1462,     53.6,  18.7761,  34.4641,2,   -999.0,9,-999.0000,9,    189.0,2,     8.09,2,  -999.00,9,     5.86,2,     0.29,2,     0.37,2, -999.000,9, -999.000,9,  -999.00,9,   -999.0,9,   -999.0,9,-999.0000,9,   -999.0,  9,  -999.00,9,   -999.0,  -999.00,9,  -999.00,9,     0.58,2,     0.33,2,   -999.0,-999.0000, -999,9,   53,  18.7667,  24.6707,   -999.0,9
     KS08-06-2,  137E,KS-2261,  1,     17,02-16023,2,20080814,2210, 34.0120, 137.0400, 1462,     76.9,  16.7124,  34.5366,2,   -999.0,9,-999.0000,9,    177.0,2,    12.65,2,  -999.00,9,     9.66,2,     0.05,2,     0.59,2, -999.000,9, -999.000,9,  -999.00,9,   -999.0,9,   -999.0,9,-999.0000,9,   -999.0,  9,  -999.00,9,   -999.0,  -999.00,9,  -999.00,9,     0.15,2,     0.12,2,   -999.0,-999.0000, -999,9,   76,  16.6999,  25.2293,   -999.0,9
     KS08-06-2,  137E,KS-2261,  1,     16,02-16022,2,20080814,2209, 34.0120, 137.0400, 1462,    103.0,  15.4099,  34.5715,2,   -999.0,9,  34.5772,4,    172.0,2,    15.04,2,  -999.00,9,    11.51,2,     0.01,2,     0.72,2, -999.000,9, -999.000,9,  -999.00,9,   -999.0,9,   -999.0,9,-999.0000,9,   -999.0,  9,  -999.00,9,   -999.0,  -999.00,9,  -999.00,9,     0.02,2,     0.05,2,   -999.0,-999.0000, -999,9,  102,  15.3941,  25.5545,   -999.0,9
     KS08-06-2,  137E,KS-2261,  1,     15,02-16021,2,20080814,2207, 34.0120, 137.0400, 1462,    127.4,  14.3380,  34.5282,2,   -999.0,9,-999.0000,9,    168.0,2,    18.64,2,  -999.00,9,    13.45,2,     0.01,2,     0.86,2, -999.000,9, -999.000,9,  -999.00,9,   -999.0,9,   -999.0,9,-999.0000,9,   -999.0,  9,  -999.00,9,   -999.0,  -999.00,9,  -999.00,9,     0.01,2,     0.05,2,   -999.0,-999.0000, -999,9,  126,  14.3194,  25.7550,   -999.0,9
     KS08-06-2,  137E,KS-2261,  1,     14,02-16020,2,20080814,2206, 34.0120, 137.0400, 1462,    152.0,  13.2916,  34.4875,2,   -999.0,9,-999.0000,9,    163.0,2,    23.16,2,  -999.00,9,    15.50,2,     0.01,2,     1.01,2, -999.000,9, -999.000,9,  -999.00,9,   -999.0,9,   -999.0,9,-999.0000,9,   -999.0,  9,  -999.00,9,   -999.0,  -999.00,9,  -999.00,9,     0.01,2,     0.05,2,   -999.0,-999.0000, -999,9,  151,  13.2705,  25.9413,   -999.0,9
     KS08-06-2,  137E,KS-2261,  1,     13,02-16019,2,20080814,2204, 34.0120, 137.0400, 1462,    203.6,  12.0400,  34.4188,2,   -999.0,9,  34.4178,2,    157.0,2,    29.26,2,  -999.00,9,    18.13,2,     0.00,2,     1.20,2, -999.000,9, -999.000,9,  -999.00,9,   -999.0,9,   -999.0,9,-999.0000,9,   -999.0,  9,  -999.00,9,   -999.0,  -999.00,9,  -999.00,9,     0.01,2,     0.04,2,   -999.0,-999.0000, -999,9,  202,  12.0135,  26.1351,   -999.0,9
     KS08-06-2,  137E,KS-2261,  1,     12,02-16018,2,20080814,2202, 34.0120, 137.0400, 1462,    252.9,  10.7117,  34.3605,2,   -999.0,9,-999.0000,9,    149.0,2,    36.56,2,  -999.00,9,    21.05,2,     0.00,2,     1.42,2, -999.000,9, -999.000,9,  -999.00,9,   -999.0,9,   -999.0,9,-999.0000,9,   -999.0,  9,  -999.00,9,   -999.0,  -999.00,9,  -999.00,9,     0.00,2,     0.05,2,   -999.0,-999.0000, -999,9,  251,  10.6812,  26.3344,   -999.0,9
     KS08-06-2,  137E,KS-2261,  1,     11,02-19376,2,20080814,2200, 34.0120, 137.0400, 1462,    303.5,   9.3201,  34.3109,2,   -999.0,9,  34.3130,2,    137.0,2,    46.59,2,  -999.00,9,    24.45,2,     0.00,2,     1.68,2, -999.000,9, -999.000,9,  -999.00,9,   -999.0,9,   -999.0,9,-999.0000,9,   -999.0,  9,  -999.00,9,   -999.0,  -999.00,9,  -999.00,9,     0.00,2,     0.05,2,   -999.0,-999.0000, -999,9,  301,   9.2865,  26.5324,   -999.0,9
     KS08-06-2,  137E,KS-2261,  1,     10,02-16016,2,20080814,2157, 34.0120, 137.0400, 1462,    404.5,   7.0985,  34.2523,2,   -999.0,9,  34.2518,2,    111.0,2,    66.19,2,  -999.00,9,    30.48,2,     0.00,2,     2.14,2, -999.000,9, -999.000,9,  -999.00,9,   -999.0,9,   -999.0,9,-999.0000,9,   -999.0,  9,  -999.00,9,   -999.0,  -999.00,9,  -999.00,9,  -999.00,9,  -999.00,9,   -999.0,-999.0000, -999,9,  401,   7.0602,  26.8214,   -999.0,9
     KS08-06-2,  137E,KS-2261,  1,      9,02-16015,2,20080814,2155, 34.0120, 137.0400, 1462,    505.1,   5.7018,  34.2600,2,   -999.0,9,  34.2595,2,     90.0,2,    83.96,2,  -999.00,9,    34.57,2,     0.00,2,     2.46,2, -999.000,9, -999.000,9,  -999.00,9,   -999.0,9,   -999.0,9,-999.0000,9,   -999.0,  9,  -999.00,9,   -999.0,  -999.00,9,  -999.00,9,  -999.00,9,  -999.00,9,   -999.0,-999.0000, -999,9,  501,   5.6590,  27.0103,   -999.0,9
     KS08-06-2,  137E,KS-2261,  1,      8,02-16014,3,20080814,2152, 34.0120, 137.0400, 1462,    606.1,   4.9320,  34.2782,2,   -999.0,9,  34.2757,2,     78.0,2,    95.66,2,  -999.00,9,    36.80,2,     0.00,2,     2.63,2, -999.000,9, -999.000,9,  -999.00,9,   -999.0,9,   -999.0,9,-999.0000,9,   -999.0,  9,  -999.00,9,   -999.0,  -999.00,9,  -999.00,9,  -999.00,9,  -999.00,9,   -999.0,-999.0000, -999,9,  601,   4.8838,  27.1163,   -999.0,9
     KS08-06-2,  137E,KS-2261,  1,      7,02-19374,2,20080814,2149, 34.0120, 137.0400, 1462,    707.8,   4.2222,  34.3102,2,   -999.0,9,  34.3091,2,     64.0,2,   107.55,2,  -999.00,9,    39.04,2,     0.00,2,     2.79,2, -999.000,9, -999.000,9,  -999.00,9,   -999.0,9,   -999.0,9,-999.0000,9,   -999.0,  9,  -999.00,9,   -999.0,  -999.00,9,  -999.00,9,  -999.00,9,  -999.00,9,   -999.0,-999.0000, -999,9,  702,   4.1692,  27.2198,   -999.0,9
     KS08-06-2,  137E,KS-2261,  1,      6,02-19373,2,20080814,2146, 34.0120, 137.0400, 1462,    808.3,   3.9232,  34.3672,2,   -999.0,9,  34.3669,2,     66.0,2,   113.73,2,  -999.00,9,    39.42,2,     0.00,2,     2.81,2, -999.000,9, -999.000,9,  -999.00,9,   -999.0,9,   -999.0,9,-999.0000,9,   -999.0,  9,  -999.00,9,   -999.0,  -999.00,9,  -999.00,9,  -999.00,9,  -999.00,9,   -999.0,-999.0000, -999,9,  801,   3.8639,  27.2967,   -999.0,9
     KS08-06-2,  137E,KS-2261,  1,      5,02-16011,2,20080814,2143, 34.0120, 137.0400, 1462,    910.0,   3.5941,  34.3918,2,   -999.0,9,  34.3912,2,     63.0,2,   120.87,2,  -999.00,9,    40.01,2,     0.00,2,     2.85,2, -999.000,9, -999.000,9,  -999.00,9,   -999.0,9,   -999.0,9,-999.0000,9,   -999.0,  9,  -999.00,9,   -999.0,  -999.00,9,  -999.00,9,  -999.00,9,  -999.00,9,   -999.0,-999.0000, -999,9,  902,   3.5289,  27.3497,   -999.0,9
     KS08-06-2,  137E,KS-2261,  1,      4,02-16010,2,20080814,2140, 34.0120, 137.0400, 1462,   1011.6,   3.3771,  34.4255,2,   -999.0,9,  34.4248,2,     64.0,2,   124.36,2,  -999.00,9,    40.20,2,     0.00,2,     2.86,2, -999.000,9, -999.000,9,  -999.00,9,   -999.0,9,   -999.0,9,-999.0000,9,   -999.0,  9,  -999.00,9,   -999.0,  -999.00,9,  -999.00,9,  -999.00,9,  -999.00,9,   -999.0,-999.0000, -999,9, 1002,   3.3055,  27.3980,   -999.0,9
     KS08-06-2,  137E,KS-2261,  1,      3,02-16009,2,20080814,2134, 34.0120, 137.0400, 1462,   1262.8,   2.8595,  34.4872,2,   -999.0,9,  34.4869,2,     72.0,2,   133.33,2,  -999.00,9,    40.29,2,     0.00,2,     2.85,2, -999.000,9, -999.000,9,  -999.00,9,   -999.0,9,   -999.0,9,-999.0000,9,   -999.0,  9,  -999.00,9,   -999.0,  -999.00,9,  -999.00,9,  -999.00,9,  -999.00,9,   -999.0,-999.0000, -999,9, 1250,   2.7726,  27.4962,   -999.0,9
     KS08-06-2,  137E,KS-2261,  1,      1,02-16007,9,20080814,2130, 34.0120, 137.0400, 1462,   1386.1,   2.6173,  34.5207,2,   -999.0,9,-999.0000,9,   -999.0,9,  -999.00,9,  -999.00,9,  -999.00,9,  -999.00,9,  -999.00,9, -999.000,9, -999.000,9,  -999.00,9,   -999.0,9,   -999.0,9,-999.0000,9,   -999.0,  9,  -999.00,9,   -999.0,  -999.00,9,  -999.00,9,  -999.00,9,  -999.00,9,   -999.0,-999.0000, -999,9, 1372,   2.5231,  27.5446,   -999.0,9
     KS08-06-2,  137E,KS-2261,  1,      2,02-16008,2,20080814,2131, 34.0120, 137.0400, 1462,   1386.2,   2.6210,  34.5202,2,   -999.0,9,  34.5199,2,     82.0,2,   136.15,2,  -999.00,9,    39.80,2,     0.00,2,     2.82,2, -999.000,9, -999.000,9,  -999.00,9,   -999.0,9,   -999.0,9,-999.0000,9,   -999.0,  9,  -999.00,9,   -999.0,  -999.00,9,  -999.00,9,  -999.00,9,  -999.00,9,   -999.0,-999.0000, -999,9, 1372,   2.5267,  27.5439,   -999.0,9