BOTTLE,20131125MIRCJHATS
EXPOCODE,SECT_ID,STNNBR,CASTNO,SAMPNO,BTLNBR,BTLNBR_FLAG_W,DATE,TIME,LATITUDE,LONGITUDE,DEPTH,CTDPRS,CTDTMP,CTDSAL,CTDSAL_FLAG_W,CTDOXY,CTDOXY_FLAG_W,SALNTY,SALNTY_FLAG_W,OXYGEN,OXYGEN_FLAG_W,SILCAT,SILCAT_FLAG_W,NITRAT,NITRAT_FLAG_W,NO2+NO3,NO2+NO3_FLAG_W,NITRIT,NITRIT_FLAG_W,PHSPHT,PHSPHT_FLAG_W,CFC-11,CFC-11_FLAG_W,CFC-12,CFC-12_FLAG_W,DELC13,DELC13_FLAG_W,TCARBN,TCARBN_FLAG_W,ALKALI,ALKALI_FLAG_W,PH,PH_FLAG_W,PH_TMP,PH_SCALE,PH_NBS,PH_NBS_FLAG_W,C13ERR,TOTALP,TOTALP_FLAG_W,AMMONI,AMMONI_FLAG_W,CHLORA,CHLORA_FLAG_W,PPHYTN,PPHYTN_FLAG_W,REVPRS,REVTMP,DEPTH_,DEPTH_FLAG,CTDDEP,THETA,SIGTHT,DOC,DOC_FLAG_W
,,,,,,,GMT,GMT,,,METER,DBAR,ITS-90,PSS-78,,UMOL/KG,,PSS-78,,UMOL/KG,,UMOL/KG,,UMOL/KG,,UMOL/KG,,UMOL/KG,,UMOL/KG,,PMOL/KG,,PMOL/KG,,/MILLE,,UMOL/KG,,UMOL/KG,,25_DEG_C,,DEG_C,,,,/MILLE,UMOL/KG,,UMOL/KG,,UG/L,,UG/L,,DBAR,ITS-90,METERS,,METERS,DEG_C,,UMOL/L,
     KS08-06-2,  137E,KS-2240,  1,     -9,      -9,5,20080810,0739, 19.9935, 137.0033, 4739,      0.0,  30.0901,  34.3026,2,   -999.0,9,-999.0000,9,    196.0,2,     0.86,2,  -999.00,9,     0.00,2,     0.00,2,     0.00,2, -999.000,9, -999.000,9,  -999.00,9,   -999.0,9,   -999.0,9,   8.1403,2,     25.0, TS,  -999.00,9,   -999.0,  -999.00,9,  -999.00,9,     0.05,2,     0.01,2,   -999.0,-999.0000, -999,9,    0,  30.0899,  21.1728,   -999.0,9
     KS08-06-2,  137E,KS-2240,  1,     23,02-19380,2,20080810,0801, 19.9935, 137.0033, 4739,     10.8,  29.6266,  34.2963,2,   -999.0,9,  34.2947,2,    195.0,2,     0.86,2,  -999.00,9,     0.00,2,     0.00,2,     0.00,2, -999.000,9, -999.000,9,  -999.00,9,   -999.0,9,   -999.0,9,   8.1411,2,     25.0, TS,  -999.00,9,   -999.0,  -999.00,9,  -999.00,9,     0.05,2,     0.01,2,   -999.0,-999.0000, -999,9,   11,  29.6239,  21.3263,   -999.0,9
     KS08-06-2,  137E,KS-2240,  1,     22,02-16028,2,20080810,0759, 19.9935, 137.0033, 4739,     26.0,  29.6083,  34.2963,2,   -999.0,9,-999.0000,9,    196.0,2,     0.86,2,  -999.00,9,     0.00,2,     0.00,2,     0.00,2, -999.000,9, -999.000,9,  -999.00,9,   -999.0,9,   -999.0,9,   8.1415,2,     25.0, TS,  -999.00,9,   -999.0,  -999.00,9,  -999.00,9,     0.06,2,     0.01,2,   -999.0,-999.0000, -999,9,   26,  29.6019,  21.3338,   -999.0,9
     KS08-06-2,  137E,KS-2240,  1,     21,02-16027,2,20080810,0754, 19.9935, 137.0033, 4739,     50.9,  29.1431,  34.4315,2,   -999.0,9,-999.0000,9,    205.0,2,     0.90,2,  -999.00,9,     0.00,2,     0.00,2,     0.00,2, -999.000,9, -999.000,9,  -999.00,9,   -999.0,9,   -999.0,9,   8.1368,2,     25.0, TS,  -999.00,9,   -999.0,  -999.00,9,  -999.00,9,     0.08,2,     0.02,2,   -999.0,-999.0000, -999,9,   51,  29.1308,  21.5936,   -999.0,9
     KS08-06-2,  137E,KS-2240,  1,     20,02-16026,2,20080810,0753, 19.9935, 137.0033, 4739,     76.1,  27.7030,  34.6768,2,   -999.0,9,-999.0000,9,    206.0,2,     0.90,2,  -999.00,9,     0.00,2,     0.00,2,     0.00,2, -999.000,9, -999.000,9,  -999.00,9,   -999.0,9,   -999.0,9,   8.1228,2,     25.0, TS,  -999.00,9,   -999.0,  -999.00,9,  -999.00,9,     0.10,2,     0.04,2,   -999.0,-999.0000, -999,9,   76,  27.6852,  22.2540,   -999.0,9
     KS08-06-2,  137E,KS-2240,  1,     19,02-19378,2,20080810,0751, 19.9935, 137.0033, 4739,    100.3,  26.6157,  34.8149,2,   -999.0,9,  34.8133,2,    200.0,2,     0.89,2,  -999.00,9,     0.00,2,     0.00,2,     0.00,2, -999.000,9, -999.000,9,  -999.00,9,   -999.0,9,   -999.0,9,   8.1051,2,     25.0, TS,  -999.00,9,   -999.0,  -999.00,9,  -999.00,9,     0.19,2,     0.14,2,   -999.0,-999.0000, -999,9,  100,  26.5930,  22.7076,   -999.0,9
     KS08-06-2,  137E,KS-2240,  1,     18,02-19377,2,20080810,0750, 19.9935, 137.0033, 4739,    126.4,  24.9942,  34.9130,2,   -999.0,9,-999.0000,9,    194.0,2,     1.03,2,  -999.00,9,     0.39,2,     0.06,2,     0.02,2, -999.000,9, -999.000,9,  -999.00,9,   -999.0,9,   -999.0,9,   8.0778,2,     25.0, TS,  -999.00,9,   -999.0,  -999.00,9,  -999.00,9,     0.15,2,     0.28,2,   -999.0,-999.0000, -999,9,  126,  24.9668,  23.2856,   -999.0,9
     KS08-06-2,  137E,KS-2240,  1,     17,02-16023,2,20080810,0748, 19.9935, 137.0033, 4739,    152.2,  23.6410,  34.9402,2,   -999.0,9,-999.0000,9,    190.0,2,     1.22,2,  -999.00,9,     0.78,2,     0.03,2,     0.04,2, -999.000,9, -999.000,9,  -999.00,9,   -999.0,9,   -999.0,9,   8.0530,2,     25.0, TS,  -999.00,9,   -999.0,  -999.00,9,  -999.00,9,     0.03,2,     0.09,2,   -999.0,-999.0000, -999,9,  151,  23.6093,  23.7112,   -999.0,9
     KS08-06-2,  137E,KS-2240,  1,     16,02-16022,2,20080810,0746, 19.9935, 137.0033, 4739,    202.7,  21.0491,  34.8859,2,   -999.0,9,  34.8856,2,    196.0,2,     1.80,2,  -999.00,9,     1.56,2,     0.01,2,     0.08,2, -999.000,9, -999.000,9,  -999.00,9,   -999.0,9,   -999.0,9,   8.0199,2,     25.0, TS,  -999.00,9,   -999.0,  -999.00,9,  -999.00,9,     0.01,2,     0.03,2,   -999.0,-999.0000, -999,9,  201,  21.0103,  24.4043,   -999.0,9
     KS08-06-2,  137E,KS-2240,  1,     15,02-16021,2,20080810,0744, 19.9935, 137.0033, 4739,    252.6,  19.2207,  34.8492,2,   -999.0,9,-999.0000,9,    198.0,2,     2.57,2,  -999.00,9,     2.83,2,     0.01,2,     0.16,2, -999.000,9, -999.000,9,  -999.00,9,   -999.0,9,   -999.0,9,   7.9914,2,     25.0, TS,  -999.00,9,   -999.0,  -999.00,9,  -999.00,9,     0.00,2,     0.01,2,   -999.0,-999.0000, -999,9,  251,  19.1753,  24.8611,   -999.0,9
     KS08-06-2,  137E,KS-2240,  1,     14,02-16020,2,20080810,0742, 19.9935, 137.0033, 4739,    303.4,  17.8761,  34.7904,2,   -999.0,9,  34.7859,4,    196.0,2,     3.91,2,  -999.00,9,     4.78,2,     0.01,2,     0.26,2, -999.000,9, -999.000,9,  -999.00,9,   -999.0,9,   -999.0,9,   7.9589,2,     25.0, TS,  -999.00,9,   -999.0,  -999.00,9,  -999.00,9,     0.00,2,     0.01,2,   -999.0,-999.0000, -999,9,  301,  17.8242,  25.1547,   -999.0,9
     KS08-06-2,  137E,KS-2240,  1,     13,02-16019,2,20080810,0739, 19.9935, 137.0033, 4739,    403.5,  13.9342,  34.4860,2,   -999.0,9,  34.4812,4,    183.0,2,    11.40,2,  -999.00,9,    11.60,2,     0.00,2,     0.73,2, -999.000,9, -999.000,9,  -999.00,9,   -999.0,9,   -999.0,9,   7.8409,2,     25.0, TS,  -999.00,9,   -999.0,  -999.00,9,  -999.00,9,  -999.00,9,  -999.00,9,   -999.0,-999.0000, -999,9,  401,  13.8759,  25.8157,   -999.0,9
     KS08-06-2,  137E,KS-2240,  1,     12,02-16018,2,20080810,0736, 19.9935, 137.0033, 4739,    504.4,  10.6650,  34.2652,2,   -999.0,9,  34.2662,2,    165.0,2,    23.60,2,  -999.00,9,    19.00,2,     0.00,2,     1.27,2, -999.000,9, -999.000,9,  -999.00,9,   -999.0,9,   -999.0,9,   7.7284,2,     25.0, TS,  -999.00,9,   -999.0,  -999.00,9,  -999.00,9,  -999.00,9,  -999.00,9,   -999.0,-999.0000, -999,9,  501,  10.6037,  26.2738,   -999.0,9
     KS08-06-2,  137E,KS-2240,  1,     11,02-19376,2,20080810,0733, 19.9935, 137.0033, 4739,    605.8,   7.9331,  34.1561,2,   -999.0,9,  34.1553,2,    122.0,2,    44.87,2,  -999.00,9,    28.05,2,     0.00,2,     1.95,2, -999.000,9, -999.000,9,  -999.00,9,   -999.0,9,   -999.0,9,   7.5829,2,     25.0, TS,  -999.00,9,   -999.0,  -999.00,9,  -999.00,9,  -999.00,9,  -999.00,9,   -999.0,-999.0000, -999,9,  601,   7.8713,  26.6300,   -999.0,9
     KS08-06-2,  137E,KS-2240,  1,     10,02-16016,2,20080810,0730, 19.9935, 137.0033, 4739,    705.3,   6.2854,  34.1600,2,   -999.0,9,  34.1596,2,     85.0,2,    64.90,2,  -999.00,9,    34.18,2,     0.00,2,     2.42,2, -999.000,9, -999.000,9,  -999.00,9,   -999.0,9,   -999.0,9,   7.4855,2,     25.0, TS,  -999.00,9,   -999.0,  -999.00,9,  -999.00,9,  -999.00,9,  -999.00,9,   -999.0,-999.0000, -999,9,  700,   6.2216,  26.8606,   -999.0,9
     KS08-06-2,  137E,KS-2240,  1,      9,02-16015,2,20080810,0727, 19.9935, 137.0033, 4739,    807.0,   5.2624,  34.2912,2,   -999.0,9,  34.2950,2,     58.0,2,    84.00,2,  -999.00,9,    38.46,2,     0.00,2,     2.76,2, -999.000,9, -999.000,9,  -999.00,9,   -999.0,9,   -999.0,9,   7.4312,2,     25.0, TS,  -999.00,9,   -999.0,  -999.00,9,  -999.00,9,  -999.00,9,  -999.00,9,   -999.0,-999.0000, -999,9,  800,   5.1950,  27.0907,   -999.0,9
     KS08-06-2,  137E,KS-2240,  1,      8,02-16014,2,20080810,0724, 19.9935, 137.0033, 4739,    908.3,   4.5526,  34.3692,2,   -999.0,9,  34.3728,2,     60.0,2,    97.86,2,  -999.00,9,    39.43,2,     0.00,2,     2.81,2, -999.000,9, -999.000,9,  -999.00,9,   -999.0,9,   -999.0,9,   7.4340,2,     25.0, TS,  -999.00,9,   -999.0,  -999.00,9,  -999.00,9,  -999.00,9,  -999.00,9,   -999.0,-999.0000, -999,9,  901,   4.4808,  27.2333,   -999.0,9
     KS08-06-2,  137E,KS-2240,  1,      6,02-19373,2,20080810,0721, 19.9935, 137.0033, 4739,   1011.3,   3.9176,  34.4297,2,   -999.0,9,  34.4284,2,     62.0,2,   109.98,2,  -999.00,9,    40.01,2,     0.00,2,     2.84,2, -999.000,9, -999.000,9,  -999.00,9,   -999.0,9,   -999.0,9,   7.4368,2,     25.0, TS,  -999.00,9,   -999.0,  -999.00,9,  -999.00,9,  -999.00,9,  -999.00,9,   -999.0,-999.0000, -999,9, 1003,   3.8418,  27.3487,   -999.0,9
     KS08-06-2,  137E,KS-2240,  1,      7,02-19374,2,20080810,0721, 19.9935, 137.0033, 4739,   1012.2,   3.9164,  34.4298,2,   -999.0,9,-999.0000,9,   -999.0,9,   110.55,2,  -999.00,9,    40.01,2,     0.00,2,     2.85,2, -999.000,9, -999.000,9,  -999.00,9,   -999.0,9,   -999.0,9,-999.0000,9,   -999.0,  9,  -999.00,9,   -999.0,  -999.00,9,  -999.00,9,  -999.00,9,  -999.00,9,   -999.0,-999.0000, -999,9, 1004,   3.8405,  27.3489,   -999.0,9
     KS08-06-2,  137E,KS-2240,  1,      5,02-16011,2,20080810,0715, 19.9935, 137.0033, 4739,   1262.9,   3.0747,  34.5103,2,   -999.0,9,  34.5105,2,     75.0,2,   126.49,2,  -999.00,9,    40.00,2,     0.00,2,     2.84,2, -999.000,9, -999.000,9,  -999.00,9,   -999.0,9,   -999.0,9,   7.4555,2,     25.0, TS,  -999.00,9,   -999.0,  -999.00,9,  -999.00,9,  -999.00,9,  -999.00,9,   -999.0,-999.0000, -999,9, 1251,   2.9856,  27.4955,   -999.0,9
     KS08-06-2,  137E,KS-2240,  1,      4,02-16010,2,20080810,0709, 19.9935, 137.0033, 4739,   1517.1,   2.6552,  34.5719,2,   -999.0,9,  34.5716,2,     94.0,2,   131.55,2,  -999.00,9,    38.93,2,     0.00,2,     2.72,2, -999.000,9, -999.000,9,  -999.00,9,   -999.0,9,   -999.0,9,   7.4951,2,     25.0, TS,  -999.00,9,   -999.0,  -999.00,9,  -999.00,9,  -999.00,9,  -999.00,9,   -999.0,-999.0000, -999,9, 1502,   2.5500,  27.5833,   -999.0,9
     KS08-06-2,  137E,KS-2240,  1,      3,02-16009,2,20080810,0704, 19.9935, 137.0033, 4739,   1770.5,   2.3107,  34.6032,2,   -999.0,9,  34.6037,2,    105.0,2,   135.86,2,  -999.00,9,    38.53,2,     0.00,2,     2.69,2, -999.000,9, -999.000,9,  -999.00,9,   -999.0,9,   -999.0,9,   7.5154,2,     25.0, TS,  -999.00,9,   -999.0,  -999.00,9,  -999.00,9,  -999.00,9,  -999.00,9,   -999.0,-999.0000, -999,9, 1752,   2.1890,  27.6386,   -999.0,9
     KS08-06-2,  137E,KS-2240,  1,      1,02-16007,9,20080810,0657, 19.9935, 137.0033, 4739,   2033.7,   2.0802,  34.6232,2,   -999.0,9,-999.0000,9,   -999.0,9,  -999.00,9,  -999.00,9,  -999.00,9,  -999.00,9,  -999.00,9, -999.000,9, -999.000,9,  -999.00,9,   -999.0,9,   -999.0,9,-999.0000,9,   -999.0,  9,  -999.00,9,   -999.0,  -999.00,9,  -999.00,9,  -999.00,9,  -999.00,9,   -999.0,-999.0000, -999,9, 2011,   1.9397,  27.6746,   -999.0,9
     KS08-06-2,  137E,KS-2240,  1,      2,02-16008,2,20080810,0658, 19.9935, 137.0033, 4739,   2033.7,   2.0802,  34.6231,2,   -999.0,9,  34.6243,2,    113.0,2,   137.71,2,  -999.00,9,    38.14,2,     0.00,2,     2.66,2, -999.000,9, -999.000,9,  -999.00,9,   -999.0,9,   -999.0,9,   7.5307,2,     25.0, TS,  -999.00,9,   -999.0,  -999.00,9,  -999.00,9,  -999.00,9,  -999.00,9,   -999.0,-999.0000, -999,9, 2012,   1.9397,  27.6745,   -999.0,9