BOTTLE,20131125MIRCJHATS
EXPOCODE,SECT_ID,STNNBR,CASTNO,SAMPNO,BTLNBR,BTLNBR_FLAG_W,DATE,TIME,LATITUDE,LONGITUDE,DEPTH,CTDPRS,CTDTMP,CTDSAL,CTDSAL_FLAG_W,CTDOXY,CTDOXY_FLAG_W,SALNTY,SALNTY_FLAG_W,OXYGEN,OXYGEN_FLAG_W,SILCAT,SILCAT_FLAG_W,NITRAT,NITRAT_FLAG_W,NO2+NO3,NO2+NO3_FLAG_W,NITRIT,NITRIT_FLAG_W,PHSPHT,PHSPHT_FLAG_W,CFC-11,CFC-11_FLAG_W,CFC-12,CFC-12_FLAG_W,DELC13,DELC13_FLAG_W,TCARBN,TCARBN_FLAG_W,ALKALI,ALKALI_FLAG_W,PH,PH_FLAG_W,PH_TMP,PH_SCALE,PH_NBS,PH_NBS_FLAG_W,C13ERR,TOTALP,TOTALP_FLAG_W,AMMONI,AMMONI_FLAG_W,CHLORA,CHLORA_FLAG_W,PPHYTN,PPHYTN_FLAG_W,REVPRS,REVTMP,DEPTH_,DEPTH_FLAG,CTDDEP,THETA,SIGTHT,DOC,DOC_FLAG_W
,,,,,,,GMT,GMT,,,METER,DBAR,ITS-90,PSS-78,,UMOL/KG,,PSS-78,,UMOL/KG,,UMOL/KG,,UMOL/KG,,UMOL/KG,,UMOL/KG,,UMOL/KG,,PMOL/KG,,PMOL/KG,,/MILLE,,UMOL/KG,,UMOL/KG,,25_DEG_C,,DEG_C,,,,/MILLE,UMOL/KG,,UMOL/KG,,UG/L,,UG/L,,DBAR,ITS-90,METERS,,METERS,DEG_C,,UMOL/L,
     KS08-06-2,  137E,KS-2245,  1,     -9,      -9,5,20080811,1820, 25.0047, 137.0020, 4976,      0.0,  29.1446,  34.5886,2,   -999.0,9,-999.0000,9,    197.0,2,     1.24,2,  -999.00,9,     0.00,2,     0.00,2,     0.00,2, -999.000,9, -999.000,9,  -999.00,9,   -999.0,9,   -999.0,9,   8.0949,2,     25.0, TS,  -999.00,9,   -999.0,  -999.00,9,  -999.00,9,     0.09,2,     0.02,2,   -999.0,-999.0000, -999,9,    0,  29.1444,  21.7069,   -999.0,9
     KS08-06-2,  137E,KS-2245,  1,     22,02-16028,2,20080811,1836, 25.0047, 137.0020, 4976,     10.6,  29.1848,  34.6049,2,   -999.0,9,  34.6105,4,    197.0,2,     1.48,2,  -999.00,9,     0.00,2,     0.00,2,     0.00,2, -999.000,9, -999.000,9,  -999.00,9,   -999.0,9,   -999.0,9,   8.0954,2,     25.0, TS,  -999.00,9,   -999.0,  -999.00,9,  -999.00,9,     0.09,2,     0.02,2,   -999.0,-999.0000, -999,9,   11,  29.1822,  21.7065,   -999.0,9
     KS08-06-2,  137E,KS-2245,  1,     21,02-16027,2,20080811,1834, 25.0047, 137.0020, 4976,     25.6,  26.6132,  34.5664,2,   -999.0,9,-999.0000,9,    215.0,2,     1.47,2,  -999.00,9,     0.00,2,     0.00,2,     0.00,2, -999.000,9, -999.000,9,  -999.00,9,   -999.0,9,   -999.0,9,   8.0818,2,     25.0, TS,  -999.00,9,   -999.0,  -999.00,9,  -999.00,9,     0.11,2,     0.03,2,   -999.0,-999.0000, -999,9,   25,  26.6074,  22.5158,   -999.0,9
     KS08-06-2,  137E,KS-2245,  1,     20,02-16026,2,20080811,1831, 25.0047, 137.0020, 4976,     50.6,  22.9486,  34.7295,2,   -999.0,9,-999.0000,9,    227.0,2,     1.31,2,  -999.00,9,     0.00,2,     0.00,2,     0.00,2, -999.000,9, -999.000,9,  -999.00,9,   -999.0,9,   -999.0,9,   8.0736,2,     25.0, TS,  -999.00,9,   -999.0,  -999.00,9,  -999.00,9,     0.14,2,     0.04,2,   -999.0,-999.0000, -999,9,   50,  22.9383,  23.7462,   -999.0,9
     KS08-06-2,  137E,KS-2245,  1,     19,02-19378,2,20080811,1829, 25.0047, 137.0020, 4976,     75.4,  21.2558,  34.7882,2,   -999.0,9,-999.0000,9,    223.0,2,     1.54,2,  -999.00,9,     0.00,2,     0.00,2,     0.00,2, -999.000,9, -999.000,9,  -999.00,9,   -999.0,9,   -999.0,9,   8.0501,2,     25.0, TS,  -999.00,9,   -999.0,  -999.00,9,  -999.00,9,     0.20,2,     0.09,2,   -999.0,-999.0000, -999,9,   75,  21.2413,  24.2669,   -999.0,9
     KS08-06-2,  137E,KS-2245,  1,     18,02-19377,2,20080811,1828, 25.0047, 137.0020, 4976,    100.9,  19.8956,  34.8301,2,   -999.0,9,  34.8299,2,    215.0,2,     1.78,2,  -999.00,9,     0.20,2,     0.06,2,     0.02,2, -999.000,9, -999.000,9,  -999.00,9,   -999.0,9,   -999.0,9,   8.0277,2,     25.0, TS,  -999.00,9,   -999.0,  -999.00,9,  -999.00,9,     0.23,2,     0.35,2,   -999.0,-999.0000, -999,9,  100,  19.8771,  24.6645,   -999.0,9
     KS08-06-2,  137E,KS-2245,  1,     17,02-16023,2,20080811,1826, 25.0047, 137.0020, 4976,    126.7,  19.4495,  34.8275,2,   -999.0,9,-999.0000,9,    209.0,2,     2.11,2,  -999.00,9,     1.56,2,     0.04,2,     0.08,2, -999.000,9, -999.000,9,  -999.00,9,   -999.0,9,   -999.0,9,   8.0128,2,     25.0, TS,  -999.00,9,   -999.0,  -999.00,9,  -999.00,9,     0.11,2,     0.31,2,   -999.0,-999.0000, -999,9,  126,  19.4266,  24.7798,   -999.0,9
     KS08-06-2,  137E,KS-2245,  1,     16,02-16022,2,20080811,1825, 25.0047, 137.0020, 4976,    151.6,  18.9502,  34.8164,2,   -999.0,9,-999.0000,9,    208.0,2,     2.44,2,  -999.00,9,     2.44,2,     0.02,2,     0.13,2, -999.000,9, -999.000,9,  -999.00,9,   -999.0,9,   -999.0,9,   8.0064,2,     25.0, TS,  -999.00,9,   -999.0,  -999.00,9,  -999.00,9,     0.06,2,     0.10,2,   -999.0,-999.0000, -999,9,  151,  18.9233,  24.9003,   -999.0,9
     KS08-06-2,  137E,KS-2245,  1,     15,02-16021,2,20080811,1824, 25.0047, 137.0020, 4976,    201.9,  18.2413,  34.7985,2,   -999.0,9,  34.7961,2,    203.0,2,     3.39,2,  -999.00,9,     3.90,2,     0.01,2,     0.20,2, -999.000,9, -999.000,9,  -999.00,9,   -999.0,9,   -999.0,9,   7.9849,2,     25.0, TS,  -999.00,9,   -999.0,  -999.00,9,  -999.00,9,     0.00,2,     0.02,2,   -999.0,-999.0000, -999,9,  201,  18.2063,  25.0668,   -999.0,9
     KS08-06-2,  137E,KS-2245,  1,     14,02-16020,2,20080811,1822, 25.0047, 137.0020, 4976,    252.4,  17.5267,  34.7677,2,   -999.0,9,-999.0000,9,    196.0,2,     4.70,2,  -999.00,9,     5.56,2,     0.00,2,     0.30,2, -999.000,9, -999.000,9,  -999.00,9,   -999.0,9,   -999.0,9,   7.9577,2,     25.0, TS,  -999.00,9,   -999.0,  -999.00,9,  -999.00,9,     0.00,2,     0.01,2,   -999.0,-999.0000, -999,9,  251,  17.4842,  25.2199,   -999.0,9
     KS08-06-2,  137E,KS-2245,  1,     13,02-16019,2,20080811,1821, 25.0047, 137.0020, 4976,    302.9,  16.5294,  34.7078,2,   -999.0,9,  34.7030,4,    189.0,2,     7.02,2,  -999.00,9,     7.70,2,     0.00,2,     0.43,2, -999.000,9, -999.000,9,  -999.00,9,   -999.0,9,   -999.0,9,   7.9245,2,     25.0, TS,  -999.00,9,   -999.0,  -999.00,9,  -999.00,9,     0.00,2,     0.01,2,   -999.0,-999.0000, -999,9,  301,  16.4803,  25.4121,   -999.0,9
     KS08-06-2,  137E,KS-2245,  1,     12,02-16018,2,20080811,1818, 25.0047, 137.0020, 4976,    403.0,  14.1027,  34.5336,2,   -999.0,9,  34.5352,2,    181.0,2,    13.73,2,  -999.00,9,    12.09,2,     0.00,2,     0.73,2, -999.000,9, -999.000,9,  -999.00,9,   -999.0,9,   -999.0,9,   7.8550,2,     25.0, TS,  -999.00,9,   -999.0,  -999.00,9,  -999.00,9,  -999.00,9,  -999.00,9,   -999.0,-999.0000, -999,9,  400,  14.0440,  25.8174,   -999.0,9
     KS08-06-2,  137E,KS-2245,  1,     11,02-19376,2,20080811,1816, 25.0047, 137.0020, 4976,    504.6,  10.7684,  34.3087,2,   -999.0,9,  34.3071,2,    165.0,2,    28.43,2,  -999.00,9,    19.29,2,     0.00,2,     1.27,2, -999.000,9, -999.000,9,  -999.00,9,   -999.0,9,   -999.0,9,   7.7365,2,     25.0, TS,  -999.00,9,   -999.0,  -999.00,9,  -999.00,9,  -999.00,9,  -999.00,9,   -999.0,-999.0000, -999,9,  501,  10.7066,  26.2895,   -999.0,9
     KS08-06-2,  137E,KS-2245,  1,     10,02-16016,2,20080811,1813, 25.0047, 137.0020, 4976,    605.6,   8.3614,  34.1828,2,   -999.0,9,  34.1797,2,    143.0,2,    45.95,2,  -999.00,9,    25.62,2,     0.00,2,     1.75,2, -999.000,9, -999.000,9,  -999.00,9,   -999.0,9,   -999.0,9,   7.6342,2,     25.0, TS,  -999.00,9,   -999.0,  -999.00,9,  -999.00,9,  -999.00,9,  -999.00,9,   -999.0,-999.0000, -999,9,  601,   8.2976,  26.5873,   -999.0,9
     KS08-06-2,  137E,KS-2245,  1,      9,02-16015,2,20080811,1811, 25.0047, 137.0020, 4976,    706.0,   6.0863,  34.1397,2,   -999.0,9,  34.1425,2,    102.0,2,    70.12,2,  -999.00,9,    33.11,2,     0.00,2,     2.33,2, -999.000,9, -999.000,9,  -999.00,9,   -999.0,9,   -999.0,9,   7.5140,2,     25.0, TS,  -999.00,9,   -999.0,  -999.00,9,  -999.00,9,  -999.00,9,  -999.00,9,   -999.0,-999.0000, -999,9,  700,   6.0235,  26.8698,   -999.0,9
     KS08-06-2,  137E,KS-2245,  1,      8,02-16014,2,20080811,1809, 25.0047, 137.0020, 4976,    807.7,   4.9389,  34.2046,2,   -999.0,9,  34.2068,2,     76.0,2,    90.18,2,  -999.00,9,    37.10,2,     0.00,2,     2.64,2, -999.000,9, -999.000,9,  -999.00,9,   -999.0,9,   -999.0,9,   7.4442,2,     25.0, TS,  -999.00,9,   -999.0,  -999.00,9,  -999.00,9,  -999.00,9,  -999.00,9,   -999.0,-999.0000, -999,9,  801,   4.8735,  27.0591,   -999.0,9
     KS08-06-2,  137E,KS-2245,  1,      7,02-19374,2,20080811,1806, 25.0047, 137.0020, 4976,    907.7,   4.4087,  34.2768,2,   -999.0,9,  34.2781,2,     61.0,2,   101.45,2,  -999.00,9,    39.23,2,     0.00,2,     2.79,2, -999.000,9, -999.000,9,  -999.00,9,   -999.0,9,   -999.0,9,   7.4178,2,     25.0, TS,  -999.00,9,   -999.0,  -999.00,9,  -999.00,9,  -999.00,9,  -999.00,9,   -999.0,-999.0000, -999,9,  900,   4.3381,  27.1754,   -999.0,9
     KS08-06-2,  137E,KS-2245,  1,      6,02-19373,2,20080811,1804, 25.0047, 137.0020, 4976,   1009.4,   3.8296,  34.3555,2,   -999.0,9,  34.3562,2,     55.0,2,   114.29,2,  -999.00,9,    40.49,2,     0.00,2,     2.89,2, -999.000,9, -999.000,9,  -999.00,9,   -999.0,9,   -999.0,9,   7.4082,2,     25.0, TS,  -999.00,9,   -999.0,  -999.00,9,  -999.00,9,  -999.00,9,  -999.00,9,   -999.0,-999.0000, -999,9, 1001,   3.7547,  27.2984,   -999.0,9
     KS08-06-2,  137E,KS-2245,  1,      5,02-16011,2,20080811,1758, 25.0047, 137.0020, 4976,   1261.9,   2.9966,  34.4601,2,   -999.0,9,  34.4600,2,     61.0,2,   132.02,2,  -999.00,9,    40.88,2,     0.00,2,     2.90,2, -999.000,9, -999.000,9,  -999.00,9,   -999.0,9,   -999.0,9,   7.4268,2,     25.0, TS,  -999.00,9,   -999.0,  -999.00,9,  -999.00,9,  -999.00,9,  -999.00,9,   -999.0,-999.0000, -999,9, 1250,   2.9085,  27.4624,   -999.0,9
     KS08-06-2,  137E,KS-2245,  1,      4,02-16010,2,20080811,1753, 25.0047, 137.0020, 4976,   1515.3,   2.4660,  34.5404,2,   -999.0,9,  34.5401,2,     82.0,2,   138.98,2,  -999.00,9,    40.00,2,     0.00,2,     2.81,2, -999.000,9, -999.000,9,  -999.00,9,   -999.0,9,   -999.0,9,   7.4671,2,     25.0, TS,  -999.00,9,   -999.0,  -999.00,9,  -999.00,9,  -999.00,9,  -999.00,9,   -999.0,-999.0000, -999,9, 1500,   2.3632,  27.5739,   -999.0,9
     KS08-06-2,  137E,KS-2245,  1,      3,02-16009,2,20080811,1748, 25.0047, 137.0020, 4976,   1767.8,   2.1744,  34.5870,2,   -999.0,9,  34.5870,2,    101.0,2,   140.02,2,  -999.00,9,    39.02,2,     0.00,2,     2.71,2, -999.000,9, -999.000,9,  -999.00,9,   -999.0,9,   -999.0,9,   7.5044,2,     25.0, TS,  -999.00,9,   -999.0,  -999.00,9,  -999.00,9,  -999.00,9,  -999.00,9,   -999.0,-999.0000, -999,9, 1749,   2.0548,  27.6365,   -999.0,9
     KS08-06-2,  137E,KS-2245,  1,      2,02-16008,2,20080811,1742, 25.0047, 137.0020, 4976,   2034.3,   1.9617,  34.6178,2,   -999.0,9,  34.6188,2,    115.0,2,   140.14,2,  -999.00,9,    38.24,2,     0.00,2,     2.66,2, -999.000,9, -999.000,9,  -999.00,9,   -999.0,9,   -999.0,9,   7.5303,6,     25.0, TS,  -999.00,9,   -999.0,  -999.00,9,  -999.00,9,  -999.00,9,  -999.00,9,   -999.0,-999.0000, -999,9, 2011,   1.8230,  27.6793,   -999.0,9
     KS08-06-2,  137E,KS-2245,  1,      1,02-16007,9,20080811,1742, 25.0047, 137.0020, 4976,   2034.9,   1.9619,  34.6178,2,   -999.0,9,-999.0000,9,   -999.0,9,  -999.00,9,  -999.00,9,  -999.00,9,  -999.00,9,  -999.00,9, -999.000,9, -999.000,9,  -999.00,9,   -999.0,9,   -999.0,9,-999.0000,9,   -999.0,  9,  -999.00,9,   -999.0,  -999.00,9,  -999.00,9,  -999.00,9,  -999.00,9,   -999.0,-999.0000, -999,9, 2012,   1.8232,  27.6793,   -999.0,9