BOTTLE,20131125MIRCJHATS
EXPOCODE,SECT_ID,STNNBR,CASTNO,SAMPNO,BTLNBR,BTLNBR_FLAG_W,DATE,TIME,LATITUDE,LONGITUDE,DEPTH,CTDPRS,CTDTMP,CTDSAL,CTDSAL_FLAG_W,CTDOXY,CTDOXY_FLAG_W,SALNTY,SALNTY_FLAG_W,OXYGEN,OXYGEN_FLAG_W,SILCAT,SILCAT_FLAG_W,NITRAT,NITRAT_FLAG_W,NO2+NO3,NO2+NO3_FLAG_W,NITRIT,NITRIT_FLAG_W,PHSPHT,PHSPHT_FLAG_W,CFC-11,CFC-11_FLAG_W,CFC-12,CFC-12_FLAG_W,DELC13,DELC13_FLAG_W,TCARBN,TCARBN_FLAG_W,ALKALI,ALKALI_FLAG_W,PH,PH_FLAG_W,PH_TMP,PH_SCALE,PH_NBS,PH_NBS_FLAG_W,C13ERR,TOTALP,TOTALP_FLAG_W,AMMONI,AMMONI_FLAG_W,CHLORA,CHLORA_FLAG_W,PPHYTN,PPHYTN_FLAG_W,REVPRS,REVTMP,DEPTH_,DEPTH_FLAG,CTDDEP,THETA,SIGTHT,DOC,DOC_FLAG_W
,,,,,,,GMT,GMT,,,METER,DBAR,ITS-90,PSS-78,,UMOL/KG,,PSS-78,,UMOL/KG,,UMOL/KG,,UMOL/KG,,UMOL/KG,,UMOL/KG,,UMOL/KG,,PMOL/KG,,PMOL/KG,,/MILLE,,UMOL/KG,,UMOL/KG,,25_DEG_C,,DEG_C,,,,/MILLE,UMOL/KG,,UMOL/KG,,UG/L,,UG/L,,DBAR,ITS-90,METERS,,METERS,DEG_C,,UMOL/L,
     KS08-06-2,  137E,KS-2250,  1,     -9,      -9,5,20080813,0519, 30.0135, 137.0133, 4464,      0.0,  30.1023,  34.3207,2,   -999.0,9,-999.0000,9,    196.0,2,     1.36,2,  -999.00,9,     0.00,2,     0.00,2,     0.00,2, -999.000,9, -999.000,9,  -999.00,9,   -999.0,9,   -999.0,9,   8.1059,2,     25.0, TS,  -999.00,9,   -999.0,  -999.00,9,  -999.00,9,     0.06,2,     0.01,2,   -999.0,-999.0000, -999,9,    0,  30.1021,  21.1822,   -999.0,9
     KS08-06-2,  137E,KS-2250,  1,     23,02-19380,2,20080813,0538, 30.0135, 137.0133, 4464,     10.3,  29.5947,  34.3858,2,   -999.0,9,  34.3878,2,    196.0,2,     1.45,2,  -999.00,9,     0.00,2,     0.00,2,     0.00,2, -999.000,9, -999.000,9,  -999.00,9,   -999.0,9,   -999.0,9,   8.0978,2,     25.0, TS,  -999.00,9,   -999.0,  -999.00,9,  -999.00,9,     0.07,2,     0.01,2,   -999.0,-999.0000, -999,9,   10,  29.5922,  21.4042,   -999.0,9
     KS08-06-2,  137E,KS-2250,  1,     22,02-16028,2,20080813,0537, 30.0135, 137.0133, 4464,     25.2,  28.3331,  34.3594,2,   -999.0,9,-999.0000,9,    207.0,2,     1.45,2,  -999.00,9,     0.00,2,     0.00,2,     0.00,2, -999.000,9, -999.000,9,  -999.00,9,   -999.0,9,   -999.0,9,   8.0847,2,     25.0, TS,  -999.00,9,   -999.0,  -999.00,9,  -999.00,9,     0.08,2,     0.02,2,   -999.0,-999.0000, -999,9,   25,  28.3271,  21.8059,   -999.0,9
     KS08-06-2,  137E,KS-2250,  1,     21,02-16027,2,20080813,0533, 30.0135, 137.0133, 4464,     50.8,  24.5093,  34.4937,2,   -999.0,9,-999.0000,9,    224.0,2,     1.44,2,  -999.00,9,     0.00,2,     0.00,2,     0.00,2, -999.000,9, -999.000,9,  -999.00,9,   -999.0,9,   -999.0,9,   8.0752,2,     25.0, TS,  -999.00,9,   -999.0,  -999.00,9,  -999.00,9,     0.11,2,     0.03,2,   -999.0,-999.0000, -999,9,   50,  24.4985,  23.1098,   -999.0,9
     KS08-06-2,  137E,KS-2250,  1,     20,02-16026,2,20080813,0532, 30.0135, 137.0133, 4464,     76.3,  22.5248,  34.6829,2,   -999.0,9,-999.0000,9,    212.0,2,     1.57,2,  -999.00,9,     0.00,2,     0.01,2,     0.02,2, -999.000,9, -999.000,9,  -999.00,9,   -999.0,9,   -999.0,9,   8.0517,2,     25.0, TS,  -999.00,9,   -999.0,  -999.00,9,  -999.00,9,     0.32,2,     0.33,2,   -999.0,-999.0000, -999,9,   76,  22.5095,  23.8333,   -999.0,9
     KS08-06-2,  137E,KS-2250,  1,     19,02-19378,2,20080813,0531, 30.0135, 137.0133, 4464,    101.1,  21.4907,  34.7821,2,   -999.0,9,  34.7826,2,    197.0,2,     2.33,2,  -999.00,9,     1.95,2,     0.12,2,     0.11,2, -999.000,9, -999.000,9,  -999.00,9,   -999.0,9,   -999.0,9,   8.0238,2,     25.0, TS,  -999.00,9,   -999.0,  -999.00,9,  -999.00,9,     0.23,2,     0.35,2,   -999.0,-999.0000, -999,9,  100,  21.4711,  24.1991,   -999.0,9
     KS08-06-2,  137E,KS-2250,  1,     18,02-19377,2,20080813,0530, 30.0135, 137.0133, 4464,    125.6,  20.4920,  34.7752,2,   -999.0,9,-999.0000,9,    208.0,2,     2.24,2,  -999.00,9,     1.37,2,     0.12,2,     0.08,2, -999.000,9, -999.000,9,  -999.00,9,   -999.0,9,   -999.0,9,   8.0233,2,     25.0, TS,  -999.00,9,   -999.0,  -999.00,9,  -999.00,9,     0.10,2,     0.15,2,   -999.0,-999.0000, -999,9,  125,  20.4684,  24.4660,   -999.0,9
     KS08-06-2,  137E,KS-2250,  1,     17,02-16023,2,20080813,0529, 30.0135, 137.0133, 4464,    151.8,  19.9197,  34.8302,2,   -999.0,9,-999.0000,9,    197.0,2,     2.75,2,  -999.00,9,     2.73,2,     0.02,2,     0.15,2, -999.000,9, -999.000,9,  -999.00,9,   -999.0,9,   -999.0,9,   8.0012,2,     25.0, TS,  -999.00,9,   -999.0,  -999.00,9,  -999.00,9,     0.03,2,     0.05,2,   -999.0,-999.0000, -999,9,  151,  19.8917,  24.6607,   -999.0,9
     KS08-06-2,  137E,KS-2250,  1,     16,02-16022,2,20080813,0528, 30.0135, 137.0133, 4464,    202.0,  18.9135,  34.8152,2,   -999.0,9,  34.8137,2,    212.0,2,     2.27,2,  -999.00,9,     2.15,2,     0.01,2,     0.11,2, -999.000,9, -999.000,9,  -999.00,9,   -999.0,9,   -999.0,9,   8.0138,2,     25.0, TS,  -999.00,9,   -999.0,  -999.00,9,  -999.00,9,     0.01,2,     0.02,2,   -999.0,-999.0000, -999,9,  200,  18.8776,  24.9110,   -999.0,9
     KS08-06-2,  137E,KS-2250,  1,     15,02-16021,2,20080813,0526, 30.0135, 137.0133, 4464,    254.2,  18.7174,  34.8204,2,   -999.0,9,-999.0000,9,    215.0,2,     2.26,2,  -999.00,9,     2.05,2,     0.01,2,     0.11,2, -999.000,9, -999.000,9,  -999.00,9,   -999.0,9,   -999.0,9,   8.0158,2,     25.0, TS,  -999.00,9,   -999.0,  -999.00,9,  -999.00,9,     0.00,2,     0.01,2,   -999.0,-999.0000, -999,9,  252,  18.6725,  24.9669,   -999.0,9
     KS08-06-2,  137E,KS-2250,  1,     14,02-16020,2,20080813,0525, 30.0135, 137.0133, 4464,    303.4,  18.3816,  34.8050,2,   -999.0,9,  34.8034,2,    212.0,2,     2.84,2,  -999.00,9,     2.83,2,     0.01,2,     0.16,2, -999.000,9, -999.000,9,  -999.00,9,   -999.0,9,   -999.0,9,   7.9980,2,     25.0, TS,  -999.00,9,   -999.0,  -999.00,9,  -999.00,9,     0.00,2,     0.01,2,   -999.0,-999.0000, -999,9,  301,  18.3287,  25.0413,   -999.0,9
     KS08-06-2,  137E,KS-2250,  1,     13,02-16019,3,20080813,0522, 30.0135, 137.0133, 4464,    403.0,  17.1078,  34.7443,2,   -999.0,9,  34.7436,2,    194.0,2,     5.56,2,  -999.00,9,     6.34,2,     0.00,2,     0.36,2, -999.000,9, -999.000,9,  -999.00,9,   -999.0,9,   -999.0,9,   7.9439,2,     25.0, TS,  -999.00,9,   -999.0,  -999.00,9,  -999.00,9,  -999.00,9,  -999.00,9,   -999.0,-999.0000, -999,9,  400,  17.0408,  25.3083,   -999.0,9
     KS08-06-2,  137E,KS-2250,  1,     12,02-16018,2,20080813,0520, 30.0135, 137.0133, 4464,    504.1,  14.8668,  34.5870,2,   -999.0,9,  34.5854,2,    186.0,2,    11.46,2,  -999.00,9,    10.63,2,     0.00,2,     0.64,2, -999.000,9, -999.000,9,  -999.00,9,   -999.0,9,   -999.0,9,   7.8773,2,     25.0, TS,  -999.00,9,   -999.0,  -999.00,9,  -999.00,9,  -999.00,9,  -999.00,9,   -999.0,-999.0000, -999,9,  500,  14.7905,  25.6992,   -999.0,9
     KS08-06-2,  137E,KS-2250,  1,     11,02-19376,2,20080813,0517, 30.0135, 137.0133, 4464,    605.1,  12.1370,  34.4005,2,   -999.0,9,  34.4005,2,    171.0,2,    21.94,2,  -999.00,9,    16.37,2,     0.00,2,     1.06,2, -999.000,9, -999.000,9,  -999.00,9,   -999.0,9,   -999.0,9,   7.7827,2,     25.0, TS,  -999.00,9,   -999.0,  -999.00,9,  -999.00,9,  -999.00,9,  -999.00,9,   -999.0,-999.0000, -999,9,  600,  12.0566,  26.1127,   -999.0,9
     KS08-06-2,  137E,KS-2250,  1,     10,02-16016,2,20080813,0515, 30.0135, 137.0133, 4464,    705.2,   9.8923,  34.2745,2,   -999.0,9,  34.2766,2,    155.0,2,    34.81,2,  -999.00,9,    21.53,2,     0.00,2,     1.45,2, -999.000,9, -999.000,9,  -999.00,9,   -999.0,9,   -999.0,9,   7.7019,2,     25.0, TS,  -999.00,9,   -999.0,  -999.00,9,  -999.00,9,  -999.00,9,  -999.00,9,   -999.0,-999.0000, -999,9,  699,   9.8096,  26.4175,   -999.0,9
     KS08-06-2,  137E,KS-2250,  1,      9,02-16015,2,20080813,0512, 30.0135, 137.0133, 4464,    807.2,   7.8751,  34.1950,2,   -999.0,9,  34.1964,2,    133.0,2,    52.02,2,  -999.00,9,    27.08,2,     0.00,2,     1.89,2, -999.000,9, -999.000,9,  -999.00,9,   -999.0,9,   -999.0,9,   7.6099,2,     25.0, TS,  -999.00,9,   -999.0,  -999.00,9,  -999.00,9,  -999.00,9,  -999.00,9,   -999.0,-999.0000, -999,9,  800,   7.7919,  26.6722,   -999.0,9
     KS08-06-2,  137E,KS-2250,  1,      8,02-16014,2,20080813,0510, 30.0135, 137.0133, 4464,    908.8,   5.3653,  34.2246,2,   -999.0,9,  34.2256,2,     86.0,2,    85.28,2,  -999.00,9,    35.34,2,     0.00,2,     2.51,2, -999.000,9, -999.000,9,  -999.00,9,   -999.0,9,   -999.0,9,   7.4774,2,     25.0, TS,  -999.00,9,   -999.0,  -999.00,9,  -999.00,9,  -999.00,9,  -999.00,9,   -999.0,-999.0000, -999,9,  901,   5.2881,  27.0269,   -999.0,9
     KS08-06-2,  137E,KS-2250,  1,      6,02-19373,2,20080813,0507, 30.0135, 137.0133, 4464,   1010.4,   4.6237,  34.3001,2,   -999.0,9,  34.3004,2,     70.0,2,    99.98,2,  -999.00,9,    37.77,2,     0.00,2,     2.69,2, -999.000,9, -999.000,9,  -999.00,9,   -999.0,9,   -999.0,9,   7.4446,2,     25.0, TS,  -999.00,9,   -999.0,  -999.00,9,  -999.00,9,  -999.00,9,  -999.00,9,   -999.0,-999.0000, -999,9, 1001,   4.5427,  27.1717,   -999.0,9
     KS08-06-2,  137E,KS-2250,  1,      7,02-19374,2,20080813,0507, 30.0135, 137.0133, 4464,   1012.2,   4.6132,  34.3013,2,   -999.0,9,-999.0000,9,   -999.0,9,   100.06,2,  -999.00,9,    37.77,2,     0.00,2,     2.70,2, -999.000,9, -999.000,9,  -999.00,9,   -999.0,9,   -999.0,9,-999.0000,9,   -999.0,  9,  -999.00,9,   -999.0,  -999.00,9,  -999.00,9,  -999.00,9,  -999.00,9,   -999.0,-999.0000, -999,9, 1003,   4.5321,  27.1738,   -999.0,9
     KS08-06-2,  137E,KS-2250,  1,      5,02-16011,2,20080813,0502, 30.0135, 137.0133, 4464,   1263.3,   3.3915,  34.4202,2,   -999.0,9,  34.4192,2,     61.0,2,   124.29,2,  -999.00,9,    40.20,2,     0.00,2,     2.86,2, -999.000,9, -999.000,9,  -999.00,9,   -999.0,9,   -999.0,9,   7.4234,2,     25.0, TS,  -999.00,9,   -999.0,  -999.00,9,  -999.00,9,  -999.00,9,  -999.00,9,   -999.0,-999.0000, -999,9, 1251,   3.2995,  27.3944,   -999.0,9
     KS08-06-2,  137E,KS-2250,  1,      4,02-16010,2,20080813,0456, 30.0135, 137.0133, 4464,   1515.6,   2.7715,  34.4982,2,   -999.0,9,  34.4984,2,     72.0,2,   135.29,2,  -999.00,9,    40.19,2,     0.00,2,     2.83,2, -999.000,9, -999.000,9,  -999.00,9,   -999.0,9,   -999.0,9,   7.4461,2,     25.0, TS,  -999.00,9,   -999.0,  -999.00,9,  -999.00,9,  -999.00,9,  -999.00,9,   -999.0,-999.0000, -999,9, 1500,   2.6652,  27.5144,   -999.0,9
     KS08-06-2,  137E,KS-2250,  1,      3,02-16009,2,20080813,0451, 30.0135, 137.0133, 4464,   1769.8,   2.3579,  34.5525,2,   -999.0,9,  34.5524,2,     85.0,2,   140.56,2,  -999.00,9,    39.61,2,     0.00,2,     2.78,2, -999.000,9, -999.000,9,  -999.00,9,   -999.0,9,   -999.0,9,   7.4712,2,     25.0, TS,  -999.00,9,   -999.0,  -999.00,9,  -999.00,9,  -999.00,9,  -999.00,9,   -999.0,-999.0000, -999,9, 1750,   2.2357,  27.5942,   -999.0,9
     KS08-06-2,  137E,KS-2250,  1,      1,02-16007,9,20080813,0445, 30.0135, 137.0133, 4464,   2036.4,   2.0486,  34.5961,2,   -999.0,9,-999.0000,9,   -999.0,9,  -999.00,9,  -999.00,9,  -999.00,9,  -999.00,9,  -999.00,9, -999.000,9, -999.000,9,  -999.00,9,   -999.0,9,   -999.0,9,-999.0000,9,   -999.0,  9,  -999.00,9,   -999.0,  -999.00,9,  -999.00,9,  -999.00,9,  -999.00,9,   -999.0,-999.0000, -999,9, 2013,   1.9085,  27.6553,   -999.0,9
     KS08-06-2,  137E,KS-2250,  1,      2,02-16008,2,20080813,0446, 30.0135, 137.0133, 4464,   2036.6,   2.0489,  34.5960,2,   -999.0,9,  34.5966,2,    102.0,2,   142.55,2,  -999.00,9,    38.83,2,     0.00,2,     2.71,2, -999.000,9, -999.000,9,  -999.00,9,   -999.0,9,   -999.0,9,   7.5028,6,     25.0, TS,  -999.00,9,   -999.0,  -999.00,9,  -999.00,9,  -999.00,9,  -999.00,9,   -999.0,-999.0000, -999,9, 2013,   1.9087,  27.6551,   -999.0,9