BOTTLE,20131125MIRCJHATS
EXPOCODE,SECT_ID,STNNBR,CASTNO,SAMPNO,BTLNBR,BTLNBR_FLAG_W,DATE,TIME,LATITUDE,LONGITUDE,DEPTH,CTDPRS,CTDTMP,CTDSAL,CTDSAL_FLAG_W,CTDOXY,CTDOXY_FLAG_W,SALNTY,SALNTY_FLAG_W,OXYGEN,OXYGEN_FLAG_W,SILCAT,SILCAT_FLAG_W,NITRAT,NITRAT_FLAG_W,NO2+NO3,NO2+NO3_FLAG_W,NITRIT,NITRIT_FLAG_W,PHSPHT,PHSPHT_FLAG_W,CFC-11,CFC-11_FLAG_W,CFC-12,CFC-12_FLAG_W,DELC13,DELC13_FLAG_W,TCARBN,TCARBN_FLAG_W,ALKALI,ALKALI_FLAG_W,PH,PH_FLAG_W,PH_TMP,PH_SCALE,PH_NBS,PH_NBS_FLAG_W,C13ERR,TOTALP,TOTALP_FLAG_W,AMMONI,AMMONI_FLAG_W,CHLORA,CHLORA_FLAG_W,PPHYTN,PPHYTN_FLAG_W,REVPRS,REVTMP,DEPTH_,DEPTH_FLAG,CTDDEP,THETA,SIGTHT,DOC,DOC_FLAG_W
,,,,,,,GMT,GMT,,,METER,DBAR,ITS-90,PSS-78,,UMOL/KG,,PSS-78,,UMOL/KG,,UMOL/KG,,UMOL/KG,,UMOL/KG,,UMOL/KG,,UMOL/KG,,PMOL/KG,,PMOL/KG,,/MILLE,,UMOL/KG,,UMOL/KG,,25_DEG_C,,DEG_C,,,,/MILLE,UMOL/KG,,UMOL/KG,,UG/L,,UG/L,,DBAR,ITS-90,METERS,,METERS,DEG_C,,UMOL/L,
     KS08-06-2,  137E,KS-2235,  1,     -9,      -9,5,20080808,2317, 15.0090, 136.9935, 5552,      0.0,  29.7496,  34.3142,2,   -999.0,9,-999.0000,9,    197.0,2,     0.81,2,  -999.00,9,     0.00,2,     0.00,2,     0.00,2, -999.000,9, -999.000,9,  -999.00,9,   -999.0,9,   -999.0,9,   8.1387,2,     25.0, TS,  -999.00,9,   -999.0,  -999.00,9,  -999.00,9,     0.08,2,     0.02,2,   -999.0,-999.0000, -999,9,    0,  29.7494,  21.2973,   -999.0,9
     KS08-06-2,  137E,KS-2235,  1,     21,02-16027,2,20080808,2334, 15.0090, 136.9935, 5552,     10.4,  29.6624,  34.3094,2,   -999.0,9,  34.3080,2,    197.0,2,     0.80,2,  -999.00,9,     0.00,2,     0.00,2,     0.00,2, -999.000,9, -999.000,9,  -999.00,9,   -999.0,9,   -999.0,9,   8.1419,2,     25.0, TS,  -999.00,9,   -999.0,  -999.00,9,  -999.00,9,     0.08,2,     0.02,2,   -999.0,-999.0000, -999,9,   10,  29.6599,  21.3240,   -999.0,9
     KS08-06-2,  137E,KS-2235,  1,     20,02-16026,2,20080808,2332, 15.0090, 136.9935, 5552,     26.4,  29.5883,  34.3152,2,   -999.0,9,-999.0000,9,    196.0,2,     0.84,2,  -999.00,9,     0.00,2,     0.00,2,     0.00,2, -999.000,9, -999.000,9,  -999.00,9,   -999.0,9,   -999.0,9,   8.1413,2,     25.0, TS,  -999.00,9,   -999.0,  -999.00,9,  -999.00,9,     0.07,2,     0.02,2,   -999.0,-999.0000, -999,9,   26,  29.5818,  21.3548,   -999.0,9
     KS08-06-2,  137E,KS-2235,  1,     19,02-19378,2,20080808,2329, 15.0090, 136.9935, 5552,     53.4,  29.5937,  34.5002,2,   -999.0,9,-999.0000,9,    197.0,2,     0.83,2,  -999.00,9,     0.00,2,     0.00,2,     0.00,2, -999.000,9, -999.000,9,  -999.00,9,   -999.0,9,   -999.0,9,   8.1359,2,     25.0, TS,  -999.00,9,   -999.0,  -999.00,9,  -999.00,9,     0.08,2,     0.02,2,   -999.0,-999.0000, -999,9,   53,  29.5806,  21.4939,   -999.0,9
     KS08-06-2,  137E,KS-2235,  1,     18,02-19377,2,20080808,2328, 15.0090, 136.9935, 5552,     75.5,  29.5690,  34.6035,2,   -999.0,9,-999.0000,9,    197.0,2,     0.82,2,  -999.00,9,     0.00,2,     0.00,2,     0.00,2, -999.000,9, -999.000,9,  -999.00,9,   -999.0,9,   -999.0,9,   8.1370,2,     25.0, TS,  -999.00,9,   -999.0,  -999.00,9,  -999.00,9,     0.09,2,     0.03,2,   -999.0,-999.0000, -999,9,   75,  29.5505,  21.5815,   -999.0,9
     KS08-06-2,  137E,KS-2235,  1,     17,02-16023,2,20080808,2326, 15.0090, 136.9935, 5552,    101.4,  28.4795,  34.7616,2,   -999.0,9,  34.7645,2,    207.0,2,     0.86,2,  -999.00,9,     0.00,2,     0.00,2,     0.00,2, -999.000,9, -999.000,9,  -999.00,9,   -999.0,9,   -999.0,9,   8.1308,2,     25.0, TS,  -999.00,9,   -999.0,  -999.00,9,  -999.00,9,     0.18,2,     0.09,2,   -999.0,-999.0000, -999,9,  101,  28.4553,  22.0659,   -999.0,9
     KS08-06-2,  137E,KS-2235,  1,     16,02-16022,2,20080808,2325, 15.0090, 136.9935, 5552,    126.2,  26.9952,  34.8495,2,   -999.0,9,-999.0000,9,    196.0,2,     0.95,2,  -999.00,9,     0.00,2,     0.05,2,     0.06,2, -999.000,9, -999.000,9,  -999.00,9,   -999.0,9,   -999.0,9,   8.0892,2,     25.0, TS,  -999.00,9,   -999.0,  -999.00,9,  -999.00,9,     0.17,2,     0.33,2,   -999.0,-999.0000, -999,9,  125,  26.9663,  22.6152,   -999.0,9
     KS08-06-2,  137E,KS-2235,  1,     15,02-16021,2,20080808,2324, 15.0090, 136.9935, 5552,    151.8,  24.8674,  35.0187,2,   -999.0,9,-999.0000,9,    185.0,2,     1.17,2,  -999.00,9,     0.59,2,     0.11,2,     0.12,2, -999.000,9, -999.000,9,  -999.00,9,   -999.0,9,   -999.0,9,   8.0422,2,     25.0, TS,  -999.00,9,   -999.0,  -999.00,9,  -999.00,9,     0.05,2,     0.10,2,   -999.0,-999.0000, -999,9,  151,  24.8346,  23.4055,   -999.0,9
     KS08-06-2,  137E,KS-2235,  1,     14,02-16020,2,20080808,2322, 15.0090, 136.9935, 5552,    202.0,  21.3063,  34.9896,2,   -999.0,9,  34.9902,2,    174.0,2,     2.41,2,  -999.00,9,     2.83,2,     0.01,2,     0.23,2, -999.000,9, -999.000,9,  -999.00,9,   -999.0,9,   -999.0,9,   7.9726,2,     25.0, TS,  -999.00,9,   -999.0,  -999.00,9,  -999.00,9,     0.01,2,     0.02,2,   -999.0,-999.0000, -999,9,  201,  21.2672,  24.4130,   -999.0,9
     KS08-06-2,  137E,KS-2235,  1,     13,02-16019,2,20080808,2321, 15.0090, 136.9935, 5552,    251.6,  17.9615,  34.7663,2,   -999.0,9,-999.0000,9,    173.0,2,     5.42,2,  -999.00,9,     6.63,2,     0.00,2,     0.46,2, -999.000,9, -999.000,9,  -999.00,9,   -999.0,9,   -999.0,9,   7.9048,2,     25.0, TS,  -999.00,9,   -999.0,  -999.00,9,  -999.00,9,     0.00,2,     0.00,2,   -999.0,-999.0000, -999,9,  250,  17.9184,  25.1131,   -999.0,9
     KS08-06-2,  137E,KS-2235,  1,     12,02-16018,2,20080808,2319, 15.0090, 136.9935, 5552,    303.5,  14.7980,  34.5388,2,   -999.0,9,  34.5384,2,    174.0,2,    10.16,2,  -999.00,9,    11.02,2,     0.00,2,     0.74,2, -999.000,9, -999.000,9,  -999.00,9,   -999.0,9,   -999.0,9,   7.8398,2,     25.0, TS,  -999.00,9,   -999.0,  -999.00,9,  -999.00,9,     0.00,2,     0.01,2,   -999.0,-999.0000, -999,9,  301,  14.7525,  25.6703,   -999.0,9
     KS08-06-2,  137E,KS-2235,  1,     11,02-19376,2,20080808,2316, 15.0090, 136.9935, 5552,    405.3,  10.1337,  34.2471,2,   -999.0,9,  34.2471,2,    150.0,2,    27.46,2,  -999.00,9,    21.44,2,     0.00,2,     1.48,2, -999.000,9, -999.000,9,  -999.00,9,   -999.0,9,   -999.0,9,   7.6832,2,     25.0, TS,  -999.00,9,   -999.0,  -999.00,9,  -999.00,9,  -999.00,9,  -999.00,9,   -999.0,-999.0000, -999,9,  403,  10.0862,  26.3494,   -999.0,9
     KS08-06-2,  137E,KS-2235,  1,     10,02-16016,2,20080808,2314, 15.0090, 136.9935, 5552,    503.6,   7.5538,  34.2406,2,   -999.0,9,  34.2418,2,     91.0,2,    51.30,2,  -999.00,9,    31.85,2,     0.00,2,     2.27,2, -999.000,9, -999.000,9,  -999.00,9,   -999.0,9,   -999.0,9,   7.5219,2,     25.0, TS,  -999.00,9,   -999.0,  -999.00,9,  -999.00,9,  -999.00,9,  -999.00,9,   -999.0,-999.0000, -999,9,  500,   7.5041,  26.7498,   -999.0,9
     KS08-06-2,  137E,KS-2235,  1,      9,02-16015,3,20080808,2311, 15.0090, 136.9935, 5552,    604.7,   6.3571,  34.3799,2,   -999.0,9,  34.3803,2,     67.0,2,    67.53,2,  -999.00,9,    36.51,2,     0.00,2,     2.62,2, -999.000,9, -999.000,9,  -999.00,9,   -999.0,9,   -999.0,9,   7.4766,2,     25.0, TS,  -999.00,9,   -999.0,  -999.00,9,  -999.00,9,  -999.00,9,  -999.00,9,   -999.0,-999.0000, -999,9,  600,   6.3023,  27.0239,   -999.0,9
     KS08-06-2,  137E,KS-2235,  1,      8,02-16014,3,20080808,2309, 15.0090, 136.9935, 5552,    704.4,   5.6262,  34.4435,2,   -999.0,9,  34.4465,2,     68.0,2,    77.74,2,  -999.00,9,    37.87,2,     0.00,2,     2.72,2, -999.000,9, -999.000,9,  -999.00,9,   -999.0,9,   -999.0,9,   7.4747,2,     25.0, TS,  -999.00,9,   -999.0,  -999.00,9,  -999.00,9,  -999.00,9,  -999.00,9,   -999.0,-999.0000, -999,9,  699,   5.5657,  27.1669,   -999.0,9
     KS08-06-2,  137E,KS-2235,  1,      7,02-19374,2,20080808,2306, 15.0090, 136.9935, 5552,    807.1,   5.1200,  34.4836,2,   -999.0,9,  34.4833,2,     73.0,2,    84.84,2,  -999.00,9,    38.45,2,     0.00,2,     2.75,2, -999.000,9, -999.000,9,  -999.00,9,   -999.0,9,   -999.0,9,   7.4850,2,     25.0, TS,  -999.00,9,   -999.0,  -999.00,9,  -999.00,9,  -999.00,9,  -999.00,9,   -999.0,-999.0000, -999,9,  801,   5.0532,  27.2597,   -999.0,9
     KS08-06-2,  137E,KS-2235,  1,      6,02-19373,2,20080808,2303, 15.0090, 136.9935, 5552,    907.4,   4.6349,  34.5109,2,   -999.0,9,  34.5109,2,     80.0,2,    92.34,2,  -999.00,9,    38.55,2,     0.00,2,     2.74,2, -999.000,9, -999.000,9,  -999.00,9,   -999.0,9,   -999.0,9,   7.4899,2,     25.0, TS,  -999.00,9,   -999.0,  -999.00,9,  -999.00,9,  -999.00,9,  -999.00,9,   -999.0,-999.0000, -999,9,  900,   4.5624,  27.3369,   -999.0,9
     KS08-06-2,  137E,KS-2235,  1,      5,02-16011,2,20080808,2300, 15.0090, 136.9935, 5552,   1009.2,   4.1274,  34.5321,2,   -999.0,9,  34.5317,2,     84.0,2,   102.36,2,  -999.00,9,    38.74,2,     0.00,2,     2.75,2, -999.000,9, -999.000,9,  -999.00,9,   -999.0,9,   -999.0,9,   7.4940,2,     25.0, TS,  -999.00,9,   -999.0,  -999.00,9,  -999.00,9,  -999.00,9,  -999.00,9,   -999.0,-999.0000, -999,9, 1001,   4.0499,  27.4087,   -999.0,9
     KS08-06-2,  137E,KS-2235,  1,      4,02-16010,2,20080808,2255, 15.0090, 136.9935, 5552,   1261.6,   3.3326,  34.5607,2,   -999.0,9,  34.5608,2,     91.0,2,   118.31,2,  -999.00,9,    38.83,2,     0.00,2,     2.75,2, -999.000,9, -999.000,9,  -999.00,9,   -999.0,9,   -999.0,9,   7.5034,2,     25.0, TS,  -999.00,9,   -999.0,  -999.00,9,  -999.00,9,  -999.00,9,  -999.00,9,   -999.0,-999.0000, -999,9, 1250,   3.2410,  27.5120,   -999.0,9
     KS08-06-2,  137E,KS-2235,  1,      3,02-16009,2,20080808,2249, 15.0090, 136.9935, 5552,   1516.9,   2.7734,  34.5877,2,   -999.0,9,  34.5878,2,    100.0,2,   127.79,2,  -999.00,9,    38.73,2,     0.00,2,     2.73,2, -999.000,9, -999.000,9,  -999.00,9,   -999.0,9,   -999.0,9,   7.5141,2,     25.0, TS,  -999.00,9,   -999.0,  -999.00,9,  -999.00,9,  -999.00,9,  -999.00,9,   -999.0,-999.0000, -999,9, 1503,   2.6668,  27.5858,   -999.0,9
     KS08-06-2,  137E,KS-2235,  1,      2,02-16008,2,20080808,2244, 15.0090, 136.9935, 5552,   1769.1,   2.3803,  34.6086,2,   -999.0,9,  34.6094,2,    107.0,2,   134.42,2,  -999.00,9,    38.63,2,     0.00,2,     2.71,2, -999.000,9, -999.000,9,  -999.00,9,   -999.0,9,   -999.0,9,   7.5237,2,     25.0, TS,  -999.00,9,   -999.0,  -999.00,9,  -999.00,9,  -999.00,9,  -999.00,9,   -999.0,-999.0000, -999,9, 1751,   2.2577,  27.6372,   -999.0,9
     KS08-06-2,  137E,KS-2235,  1,      1,02-16007,4,20080808,2238, 15.0090, 136.9935, 5552,   2027.2,   2.0425,  34.6309,2,   -999.0,9,-999.0000,9,   -999.0,9,  -999.00,9,  -999.00,9,  -999.00,9,  -999.00,9,  -999.00,9, -999.000,9, -999.000,9,  -999.00,9,   -999.0,9,   -999.0,9,-999.0000,9,   -999.0,  9,  -999.00,9,   -999.0,  -999.00,9,  -999.00,9,  -999.00,9,  -999.00,9,   -999.0,-999.0000, -999,9, 2006,   1.9031,  27.6836,   -999.0,9