BOTTLE,20131125MIRCJHATS
EXPOCODE,SECT_ID,STNNBR,CASTNO,SAMPNO,BTLNBR,BTLNBR_FLAG_W,DATE,TIME,LATITUDE,LONGITUDE,DEPTH,CTDPRS,CTDTMP,CTDSAL,CTDSAL_FLAG_W,CTDOXY,CTDOXY_FLAG_W,SALNTY,SALNTY_FLAG_W,OXYGEN,OXYGEN_FLAG_W,SILCAT,SILCAT_FLAG_W,NITRAT,NITRAT_FLAG_W,NO2+NO3,NO2+NO3_FLAG_W,NITRIT,NITRIT_FLAG_W,PHSPHT,PHSPHT_FLAG_W,CFC-11,CFC-11_FLAG_W,CFC-12,CFC-12_FLAG_W,DELC13,DELC13_FLAG_W,TCARBN,TCARBN_FLAG_W,ALKALI,ALKALI_FLAG_W,PH,PH_FLAG_W,PH_TMP,PH_SCALE,PH_NBS,PH_NBS_FLAG_W,C13ERR,TOTALP,TOTALP_FLAG_W,AMMONI,AMMONI_FLAG_W,CHLORA,CHLORA_FLAG_W,PPHYTN,PPHYTN_FLAG_W,REVPRS,REVTMP,DEPTH_,DEPTH_FLAG,CTDDEP,THETA,SIGTHT,DOC,DOC_FLAG_W
,,,,,,,GMT,GMT,,,METER,DBAR,ITS-90,PSS-78,,UMOL/KG,,PSS-78,,UMOL/KG,,UMOL/KG,,UMOL/KG,,UMOL/KG,,UMOL/KG,,UMOL/KG,,PMOL/KG,,PMOL/KG,,/MILLE,,UMOL/KG,,UMOL/KG,,25_DEG_C,,DEG_C,,,,/MILLE,UMOL/KG,,UMOL/KG,,UG/L,,UG/L,,DBAR,ITS-90,METERS,,METERS,DEG_C,,UMOL/L,
     KS08-06-2,  137E,KS-2255,  1,     -9,      -9,5,20080814,0046, 31.9957, 137.0055, 4238,      0.0,  30.1339,  34.1392,2,   -999.0,9,-999.0000,9,    197.0,2,     1.38,2,  -999.00,9,     0.00,2,     0.00,2,     0.00,2, -999.000,9, -999.000,9,  -999.00,9,   -999.0,9,   -999.0,9,   8.1147,2,     25.0, TS,  -999.00,9,   -999.0,  -999.00,9,  -999.00,9,     0.10,2,     0.02,2,   -999.0,-999.0000, -999,9,    0,  30.1337,  21.0354,   -999.0,9
     KS08-06-2,  137E,KS-2255,  1,     22,02-16028,2,20080814,0103, 31.9957, 137.0055, 4238,     10.6,  30.0649,  34.1399,2,   -999.0,9,  34.1397,2,    198.0,2,     1.37,2,  -999.00,9,     0.00,2,     0.00,2,     0.00,2, -999.000,9, -999.000,9,  -999.00,9,   -999.0,9,   -999.0,9,-999.0000,9,   -999.0,  9,  -999.00,9,   -999.0,  -999.00,9,  -999.00,9,     0.11,2,     0.02,2,   -999.0,-999.0000, -999,9,   11,  30.0623,  21.0603,   -999.0,9
     KS08-06-2,  137E,KS-2255,  1,     21,02-16027,2,20080814,0102, 31.9957, 137.0055, 4238,     25.3,  29.5748,  34.1367,2,   -999.0,9,-999.0000,9,    201.0,2,     1.27,2,  -999.00,9,     0.00,2,     0.00,2,     0.00,2, -999.000,9, -999.000,9,  -999.00,9,   -999.0,9,   -999.0,9,-999.0000,9,   -999.0,  9,  -999.00,9,   -999.0,  -999.00,9,  -999.00,9,     0.14,2,     0.02,2,   -999.0,-999.0000, -999,9,   25,  29.5686,  21.2254,   -999.0,9
     KS08-06-2,  137E,KS-2255,  1,     20,02-16026,2,20080814,0059, 31.9957, 137.0055, 4238,     50.6,  27.7509,  34.2194,2,   -999.0,9,-999.0000,9,    205.0,2,     1.31,2,  -999.00,9,     0.00,2,     0.00,2,     0.00,2, -999.000,9, -999.000,9,  -999.00,9,   -999.0,9,   -999.0,9,-999.0000,9,   -999.0,  9,  -999.00,9,   -999.0,  -999.00,9,  -999.00,9,     0.20,2,     0.09,2,   -999.0,-999.0000, -999,9,   50,  27.7391,  21.8925,   -999.0,9
     KS08-06-2,  137E,KS-2255,  1,     19,02-19378,2,20080814,0058, 31.9957, 137.0055, 4238,     74.8,  26.2896,  34.3971,2,   -999.0,9,-999.0000,9,    205.0,2,     1.31,2,  -999.00,9,     0.00,2,     0.03,2,     0.00,2, -999.000,9, -999.000,9,  -999.00,9,   -999.0,9,   -999.0,9,-999.0000,9,   -999.0,  9,  -999.00,9,   -999.0,  -999.00,9,  -999.00,9,     0.35,2,     0.32,2,   -999.0,-999.0000, -999,9,   74,  26.2728,  22.4934,   -999.0,9
     KS08-06-2,  137E,KS-2255,  1,     18,02-19377,2,20080814,0057, 31.9957, 137.0055, 4238,    100.0,  25.2077,  34.5453,2,   -999.0,9,  34.5441,2,    196.0,2,     1.54,2,  -999.00,9,     0.78,2,     0.22,2,     0.04,2, -999.000,9, -999.000,9,  -999.00,9,   -999.0,9,   -999.0,9,-999.0000,9,   -999.0,  9,  -999.00,9,   -999.0,  -999.00,9,  -999.00,9,     0.23,2,     0.26,2,   -999.0,-999.0000, -999,9,   99,  25.1859,  22.9411,   -999.0,9
     KS08-06-2,  137E,KS-2255,  1,     17,02-16023,2,20080814,0056, 31.9957, 137.0055, 4238,    125.9,  23.5554,  34.6474,2,   -999.0,9,-999.0000,9,    188.0,2,     2.75,2,  -999.00,9,     2.15,2,     0.07,2,     0.13,2, -999.000,9, -999.000,9,  -999.00,9,   -999.0,9,   -999.0,9,-999.0000,9,   -999.0,  9,  -999.00,9,   -999.0,  -999.00,9,  -999.00,9,     0.05,2,     0.09,2,   -999.0,-999.0000, -999,9,  125,  23.5293,  23.5128,   -999.0,9
     KS08-06-2,  137E,KS-2255,  1,     16,02-16022,2,20080814,0054, 31.9957, 137.0055, 4238,    150.9,  21.9981,  34.7390,2,   -999.0,9,-999.0000,9,    196.0,2,     2.45,2,  -999.00,9,     2.05,2,     0.05,2,     0.12,2, -999.000,9, -999.000,9,  -999.00,9,   -999.0,9,   -999.0,9,-999.0000,9,   -999.0,  9,  -999.00,9,   -999.0,  -999.00,9,  -999.00,9,     0.02,2,     0.05,2,   -999.0,-999.0000, -999,9,  150,  21.9683,  24.0283,   -999.0,9
     KS08-06-2,  137E,KS-2255,  1,     15,02-16021,2,20080814,0053, 31.9957, 137.0055, 4238,    200.6,  19.9761,  34.8200,2,   -999.0,9,  34.8188,2,    205.0,2,     2.11,2,  -999.00,9,     1.95,2,     0.05,2,     0.10,2, -999.000,9, -999.000,9,  -999.00,9,   -999.0,9,   -999.0,9,-999.0000,9,   -999.0,  9,  -999.00,9,   -999.0,  -999.00,9,  -999.00,9,     0.06,2,     0.13,2,   -999.0,-999.0000, -999,9,  199,  19.9391,  24.6405,   -999.0,9
     KS08-06-2,  137E,KS-2255,  1,     14,02-16020,2,20080814,0051, 31.9957, 137.0055, 4238,    253.2,  18.7588,  34.8148,2,   -999.0,9,-999.0000,9,    204.0,2,     2.67,2,  -999.00,9,     3.12,2,     0.01,2,     0.17,2, -999.000,9, -999.000,9,  -999.00,9,   -999.0,9,   -999.0,9,-999.0000,9,   -999.0,  9,  -999.00,9,   -999.0,  -999.00,9,  -999.00,9,     0.03,2,     0.05,2,   -999.0,-999.0000, -999,9,  251,  18.7140,  24.9521,   -999.0,9
     KS08-06-2,  137E,KS-2255,  1,     13,02-16019,2,20080814,0050, 31.9957, 137.0055, 4238,    304.3,  18.0213,  34.7835,2,   -999.0,9,  34.7826,2,    198.0,2,     4.11,2,  -999.00,9,     4.78,2,     0.01,2,     0.26,2, -999.000,9, -999.000,9,  -999.00,9,   -999.0,9,   -999.0,9,-999.0000,9,   -999.0,  9,  -999.00,9,   -999.0,  -999.00,9,  -999.00,9,     0.00,2,     0.02,2,   -999.0,-999.0000, -999,9,  302,  17.9689,  25.1139,   -999.0,9
     KS08-06-2,  137E,KS-2255,  1,     12,02-16018,2,20080814,0047, 31.9957, 137.0055, 4238,    402.8,  16.2340,  34.6838,2,   -999.0,9,  34.6846,2,    190.0,2,     7.61,2,  -999.00,9,     8.09,2,     0.00,2,     0.47,2, -999.000,9, -999.000,9,  -999.00,9,   -999.0,9,   -999.0,9,-999.0000,9,   -999.0,  9,  -999.00,9,   -999.0,  -999.00,9,  -999.00,9,  -999.00,9,  -999.00,9,   -999.0,-999.0000, -999,9,  400,  16.1694,  25.4655,   -999.0,9
     KS08-06-2,  137E,KS-2255,  1,     11,02-19376,2,20080814,0045, 31.9957, 137.0055, 4238,    504.4,  13.4521,  34.4867,2,   -999.0,9,  34.4853,2,    178.0,2,    16.02,2,  -999.00,9,    13.55,2,     0.00,2,     0.86,2, -999.000,9, -999.000,9,  -999.00,9,   -999.0,9,   -999.0,9,-999.0000,9,   -999.0,  9,  -999.00,9,   -999.0,  -999.00,9,  -999.00,9,  -999.00,9,  -999.00,9,   -999.0,-999.0000, -999,9,  500,  13.3807,  25.9184,   -999.0,9
     KS08-06-2,  137E,KS-2255,  1,     10,02-16016,2,20080814,0042, 31.9957, 137.0055, 4238,    605.3,  10.6705,  34.3057,2,   -999.0,9,  34.3056,2,    163.0,2,    28.95,2,  -999.00,9,    19.68,2,     0.00,2,     1.31,2, -999.000,9, -999.000,9,  -999.00,9,   -999.0,9,   -999.0,9,-999.0000,9,   -999.0,  9,  -999.00,9,   -999.0,  -999.00,9,  -999.00,9,  -999.00,9,  -999.00,9,   -999.0,-999.0000, -999,9,  600,  10.5965,  26.3066,   -999.0,9
     KS08-06-2,  137E,KS-2255,  1,      9,02-16015,2,20080814,0039, 31.9957, 137.0055, 4238,    705.9,   8.5284,  34.3091,2,   -999.0,9,  34.3120,2,    124.0,2,    53.30,2,  -999.00,9,    26.79,2,     0.00,2,     1.86,2, -999.000,9, -999.000,9,  -999.00,9,   -999.0,9,   -999.0,9,-999.0000,9,   -999.0,  9,  -999.00,9,   -999.0,  -999.00,9,  -999.00,9,  -999.00,9,  -999.00,9,   -999.0,-999.0000, -999,9,  700,   8.4526,  26.6628,   -999.0,9
     KS08-06-2,  137E,KS-2255,  1,      8,02-16014,2,20080814,0037, 31.9957, 137.0055, 4238,    807.2,   6.3062,  34.2116,2,   -999.0,9,  34.2074,2,    102.0,2,    71.12,2,  -999.00,9,    32.53,2,     0.00,2,     2.31,2, -999.000,9, -999.000,9,  -999.00,9,   -999.0,9,   -999.0,9,-999.0000,9,   -999.0,  9,  -999.00,9,   -999.0,  -999.00,9,  -999.00,9,  -999.00,9,  -999.00,9,   -999.0,-999.0000, -999,9,  800,   6.2325,  26.9000,   -999.0,9
     KS08-06-2,  137E,KS-2255,  1,      7,02-19374,2,20080814,0034, 31.9957, 137.0055, 4238,    908.2,   4.8652,  34.2775,2,   -999.0,9,  34.2779,2,     76.0,2,    95.17,2,  -999.00,9,    36.90,2,     0.00,2,     2.64,2, -999.000,9, -999.000,9,  -999.00,9,   -999.0,9,   -999.0,9,-999.0000,9,   -999.0,  9,  -999.00,9,   -999.0,  -999.00,9,  -999.00,9,  -999.00,9,  -999.00,9,   -999.0,-999.0000, -999,9,  900,   4.7914,  27.1261,   -999.0,9
     KS08-06-2,  137E,KS-2255,  1,      6,02-19373,2,20080814,0031, 31.9957, 137.0055, 4238,   1009.8,   4.1919,  34.3390,2,   -999.0,9,  34.3396,2,     65.0,2,   107.81,2,  -999.00,9,    38.94,2,     0.00,2,     2.77,2, -999.000,9, -999.000,9,  -999.00,9,   -999.0,9,   -999.0,9,-999.0000,9,   -999.0,  9,  -999.00,9,   -999.0,  -999.00,9,  -999.00,9,  -999.00,9,  -999.00,9,   -999.0,-999.0000, -999,9, 1000,   4.1142,  27.2485,   -999.0,9
     KS08-06-2,  137E,KS-2255,  1,      5,02-16011,2,20080814,0026, 31.9957, 137.0055, 4238,   1262.3,   3.2533,  34.4443,2,   -999.0,9,  34.4443,2,     67.0,2,   126.02,2,  -999.00,9,    40.00,2,     0.00,2,     2.84,2, -999.000,9, -999.000,9,  -999.00,9,   -999.0,9,   -999.0,9,-999.0000,9,   -999.0,  9,  -999.00,9,   -999.0,  -999.00,9,  -999.00,9,  -999.00,9,  -999.00,9,   -999.0,-999.0000, -999,9, 1250,   3.1627,  27.4265,   -999.0,9
     KS08-06-2,  137E,KS-2255,  1,      4,02-16010,2,20080814,0021, 31.9957, 137.0055, 4238,   1516.0,   2.7610,  34.5036,2,   -999.0,9,  34.5039,2,     75.0,2,   134.32,2,  -999.00,9,    40.00,2,     0.00,2,     2.83,2, -999.000,9, -999.000,9,  -999.00,9,   -999.0,9,   -999.0,9,-999.0000,9,   -999.0,  9,  -999.00,9,   -999.0,  -999.00,9,  -999.00,9,  -999.00,9,  -999.00,9,   -999.0,-999.0000, -999,9, 1500,   2.6548,  27.5196,   -999.0,9
     KS08-06-2,  137E,KS-2255,  1,      3,02-16009,2,20080814,0015, 31.9957, 137.0055, 4238,   1769.5,   2.4346,  34.5458,2,   -999.0,9,  34.5463,2,     87.0,2,   138.47,2,  -999.00,9,    39.51,2,     0.00,2,     2.79,2, -999.000,9, -999.000,9,  -999.00,9,   -999.0,9,   -999.0,9,-999.0000,9,   -999.0,  9,  -999.00,9,   -999.0,  -999.00,9,  -999.00,9,  -999.00,9,  -999.00,9,   -999.0,-999.0000, -999,9, 1750,   2.3115,  27.5826,   -999.0,9
     KS08-06-2,  137E,KS-2255,  1,      1,02-16007,9,20080814,0009, 31.9957, 137.0055, 4238,   2034.5,   2.1544,  34.5849,2,   -999.0,9,-999.0000,9,   -999.0,9,  -999.00,9,  -999.00,9,  -999.00,9,  -999.00,9,  -999.00,9, -999.000,9, -999.000,9,  -999.00,9,   -999.0,9,   -999.0,9,-999.0000,9,   -999.0,  9,  -999.00,9,   -999.0,  -999.00,9,  -999.00,9,  -999.00,9,  -999.00,9,   -999.0,-999.0000, -999,9, 2011,   2.0128,  27.6381,   -999.0,9
     KS08-06-2,  137E,KS-2255,  1,      2,02-16008,2,20080814,0010, 31.9957, 137.0055, 4238,   2034.6,   2.1542,  34.5849,2,   -999.0,9,  34.5857,2,    100.0,2,   140.42,2,  -999.00,9,    38.83,2,     0.00,2,     2.72,2, -999.000,9, -999.000,9,  -999.00,9,   -999.0,9,   -999.0,9,-999.0000,9,   -999.0,  9,  -999.00,9,   -999.0,  -999.00,9,  -999.00,9,  -999.00,9,  -999.00,9,   -999.0,-999.0000, -999,9, 2011,   2.0126,  27.6381,   -999.0,9