BOTTLE,20130510GEMDJMAYT
EXPOCODE,SECT_ID,STNNBR,CASTNO,SAMPNO,BTLNBR,BTLNBR_FLAG_W,DATE,TIME,LATITUDE,LONGITUDE,DEPTH,CTDPRS,CTDTMP,CTDSAL,CTDSAL_FLAG_W,CTDOXY,CTDOXY_FLAG_W,SALNTY,SALNTY_FLAG_W,OXYGEN,OXYGEN_FLAG_W,SILCAT,SILCAT_FLAG_W,NITRAT,NITRAT_FLAG_W,NO2+NO3,NO2+NO3_FLAG_W,NITRIT,NITRIT_FLAG_W,PHSPHT,PHSPHT_FLAG_W,CFC-11,CFC-11_FLAG_W,CFC-12,CFC-12_FLAG_W,DELC13,DELC13_FLAG_W,TCARBN,TCARBN_FLAG_W,ALKALI,ALKALI_FLAG_W,PH,PH_FLAG_W,PH_TMP,PH_SCALE,PH_NBS,PH_NBS_FLAG_W,C13ERR,TOTALP,TOTALP_FLAG_W,AMMONI,AMMONI_FLAG_W,CHLORA,CHLORA_FLAG_W,PPHYTN,PPHYTN_FLAG_W,REVPRS,REVTMP,DEPTH_,DEPTH_FLAG,CTDDEP,THETA,SIGTHT,DOC,DOC_FLAG_W
,,,,,,,GMT,GMT,,,METER,DBAR,ITS-90,PSS-78,,UMOL/KG,,PSS-78,,UMOL/KG,,UMOL/KG,,UMOL/KG,,UMOL/KG,,UMOL/KG,,UMOL/KG,,PMOL/KG,,PMOL/KG,,/MILLE,,UMOL/KG,,UMOL/KG,,25_DEG_C,,DEG_C,,,,/MILLE,UMOL/KG,,UMOL/KG,,UG/L,,UG/L,,DBAR,ITS-90,METERS,,METERS,DEG_C,,UMOL/L,
       RF97-01,  137E,RF-0354,  1,     23,02-12829,2,19970129,0525, 14.9867, 136.9580, 5497,      3.6,  26.9683,  34.2907,2,   -999.0,9,-999.0000,9,    201.5,2,     1.20,2,  -999.00,9,     0.06,2,     0.00,2,     0.05,2, -999.000,9, -999.000,9,  -999.00,9,   1904.3,6,   -999.0,9,-999.0000,9,   -999.0,  9,     8.25,2,   -999.0,  -999.00,9,  -999.00,9,     0.06,2,     0.02,2,   -999.0,-999.0000, -999,9,    4,  26.9675,  22.1939,   -999.0,9
       RF97-01,  137E,RF-0354,  1,     22,02-12828,2,19970129,0523, 14.9867, 136.9580, 5497,     10.8,  26.9740,  34.2855,2,   -999.0,9,-999.0000,9,    200.7,2,     1.02,2,  -999.00,9,     0.03,2,     0.00,2,     0.04,2, -999.000,9, -999.000,9,  -999.00,9,   1903.8,3,   -999.0,9,-999.0000,9,   -999.0,  9,     8.25,2,   -999.0,  -999.00,9,  -999.00,9,     0.05,2,     0.01,2,   -999.0,-999.0000, -999,9,   11,  26.9715,  22.1887,   -999.0,9
       RF97-01,  137E,RF-0354,  1,     21,02-12827,2,19970129,0522, 14.9867, 136.9580, 5497,     23.8,  26.9146,  34.2917,2,   -999.0,9,-999.0000,9,    201.3,2,     1.20,2,  -999.00,9,     0.03,2,     0.00,2,     0.06,2, -999.000,9, -999.000,9,  -999.00,9,   1903.0,3,   -999.0,9,-999.0000,9,   -999.0,  9,     8.25,2,   -999.0,  -999.00,9,  -999.00,9,     0.07,2,     0.02,2,   -999.0,-999.0000, -999,9,   24,  26.9091,  22.2132,   -999.0,9
       RF97-01,  137E,RF-0354,  1,     20,02-12826,2,19970129,0520, 14.9867, 136.9580, 5497,     49.5,  26.5057,  34.3765,2,   -999.0,9,  34.3822,2,    203.3,2,     1.18,2,  -999.00,9,     0.01,2,     0.00,2,     0.02,2, -999.000,9, -999.000,9,  -999.00,9,   1908.3,3,   -999.0,9,-999.0000,9,   -999.0,  9,     8.25,2,   -999.0,  -999.00,9,  -999.00,9,     0.10,2,     0.02,2,   -999.0,-999.0000, -999,9,   49,  26.4945,  22.4082,   -999.0,9
       RF97-01,  137E,RF-0354,  1,     19,02-12825,2,19970129,0519, 14.9867, 136.9580, 5497,     74.0,  25.8834,  34.6128,2,   -999.0,9,-999.0000,9,    204.5,2,     1.26,2,  -999.00,9,     0.00,2,     0.00,2,     0.01,2, -999.000,9, -999.000,9,  -999.00,9,   1924.1,3,   -999.0,9,-999.0000,9,   -999.0,  9,     8.25,2,   -999.0,  -999.00,9,  -999.00,9,     0.11,2,     0.05,2,   -999.0,-999.0000, -999,9,   74,  25.8670,  22.7825,   -999.0,9
       RF97-01,  137E,RF-0354,  1,     18,02-12824,2,19970129,0517, 14.9867, 136.9580, 5497,     99.6,  25.4387,  34.6694,2,   -999.0,9,  34.6713,2,    205.6,2,     1.38,2,  -999.00,9,     0.06,2,     0.00,2,     0.02,2, -999.000,9, -999.000,9,  -999.00,9,   1934.5,2,   -999.0,9,-999.0000,9,   -999.0,  9,     8.25,2,   -999.0,  -999.00,9,  -999.00,9,     0.17,2,     0.07,2,   -999.0,-999.0000, -999,9,   99,  25.4169,  22.9642,   -999.0,9
       RF97-01,  137E,RF-0354,  1,     17,02-12814,2,19970129,0515, 14.9867, 136.9580, 5497,    149.2,  23.8305,  35.0717,2,   -999.0,9,-999.0000,9,    188.8,2,     1.32,2,  -999.00,9,     0.40,2,     0.05,2,     0.06,2, -999.000,9, -999.000,9,  -999.00,9,   1991.0,2,   -999.0,9,-999.0000,9,   -999.0,  9,     8.18,2,   -999.0,  -999.00,9,  -999.00,9,     0.34,2,     0.40,2,    150.0,-999.0000, -999,9,  148,  23.7992,  23.7550,   -999.0,9
       RF97-01,  137E,RF-0354,  1,     16,02-12832,2,19970129,0513, 14.9867, 136.9580, 5497,    200.0,  19.8724,  34.9721,2,   -999.0,9,-999.0000,9,    196.4,2,     2.41,2,  -999.00,9,     2.14,2,     0.03,2,     0.16,2, -999.000,9, -999.000,9,  -999.00,9,   2012.8,2,   -999.0,9,-999.0000,9,   -999.0,  9,     8.14,2,   -999.0,  -999.00,9,  -999.00,9,     0.05,2,     0.05,2,   -999.0,-999.0000, -999,9,  199,  19.8356,  24.7837,   -999.0,9
       RF97-01,  137E,RF-0354,  1,     15,02-12833,2,19970129,0510, 14.9867, 136.9580, 5497,    301.0,  14.0994,  34.5313,2,   -999.0,9,  34.5187,4,    170.6,2,    11.26,2,  -999.00,9,    12.22,2,     0.01,2,     0.80,2, -999.000,9, -999.000,9,  -999.00,9,   2084.9,6,   -999.0,9,-999.0000,9,   -999.0,  9,     7.97,2,   -999.0,  -999.00,9,  -999.00,9,  -999.00,9,  -999.00,9,   -999.0,-999.0000, -999,9,  299,  14.0557,  25.8132,   -999.0,9
       RF97-01,  137E,RF-0354,  1,     14,02-13578,2,19970129,0507, 14.9867, 136.9580, 5497,    402.4,   9.3009,  34.2636,2,   -999.0,9,-999.0000,9,    121.6,2,    34.72,2,  -999.00,9,    25.40,2,     0.01,2,     1.75,2, -999.000,9, -999.000,9,  -999.00,9,   2176.7,2,   -999.0,9,-999.0000,9,   -999.0,  9,     7.77,2,   -999.0,  -999.00,9,  -999.00,9,  -999.00,9,  -999.00,9,    398.0,-999.0000, -999,9,  400,   9.2562,  26.5003,   -999.0,9
       RF97-01,  137E,RF-0354,  1,     13,02-13590,2,19970129,0504, 14.9867, 136.9580, 5497,    503.3,   7.2113,  34.3335,2,   -999.0,9,-999.0000,9,     71.7,2,    55.57,2,  -999.00,9,    33.82,2,     0.02,2,     2.44,2, -999.000,9, -999.000,9,  -999.00,9,   2250.9,2,   -999.0,9,-999.0000,9,   -999.0,  9,     7.65,2,   -999.0,  -999.00,9,  -999.00,9,  -999.00,9,  -999.00,9,   -999.0,-999.0000, -999,9,  500,   7.1628,  26.8711,   -999.0,9
       RF97-01,  137E,RF-0354,  1,     12,02-12821,4,19970129,0500, 14.9867, 136.9580, 5497,    604.5,   6.2409,  34.3950,2,   -999.0,9,-999.0000,9,   -999.0,4,  -999.00,4,  -999.00,9,  -999.00,4,  -999.00,4,  -999.00,4, -999.000,9, -999.000,9,  -999.00,9,   -999.0,9,   -999.0,9,-999.0000,9,   -999.0,  9,  -999.00,4,   -999.0,  -999.00,9,  -999.00,9,  -999.00,9,  -999.00,9,   -999.0,-999.0000, -999,9,  600,   6.1866,  27.0507,   -999.0,9
       RF97-01,  137E,RF-0354,  1,     11,02-12811,2,19970129,0455, 14.9867, 136.9580, 5497,    705.1,   5.2357,  34.4424,2,   -999.0,9,  34.3756,4,     76.2,2,    82.16,2,  -999.00,9,    37.08,2,     0.01,2,     2.66,2, -999.000,9, -999.000,9,  -999.00,9,   2288.2,2,   -999.0,9,-999.0000,9,   -999.0,  9,     7.63,2,   -999.0,  -999.00,9,  -999.00,9,  -999.00,9,  -999.00,9,   -999.0,-999.0000, -999,9,  700,   5.1773,  27.2125,   -999.0,9
       RF97-01,  137E,RF-0354,  1,     10,02-10155,2,19970129,0452, 14.9867, 136.9580, 5497,    808.1,   4.7343,  34.4816,2,   -999.0,9,-999.0000,9,     80.9,2,    89.92,2,  -999.00,9,    37.56,2,     0.00,2,     2.71,2, -999.000,9, -999.000,9,  -999.00,9,   2296.5,2,   -999.0,9,-999.0000,9,   -999.0,  9,     7.64,2,   -999.0,  -999.00,9,  -999.00,9,  -999.00,9,  -999.00,9,   -999.0,-999.0000, -999,9,  802,   4.6697,  27.3018,   -999.0,9
       RF97-01,  137E,RF-0354,  1,      9,02-12810,2,19970129,0446, 14.9867, 136.9580, 5497,   1010.1,   3.9487,  34.5347,2,   -999.0,9,  34.5338,2,     87.4,2,   103.25,2,  -999.00,9,    38.00,2,     0.00,2,     2.73,2, -999.000,9, -999.000,9,  -999.00,9,   2310.6,2,   -999.0,9,-999.0000,9,   -999.0,  9,     7.64,2,   -999.0,  -999.00,9,  -999.00,9,  -999.00,9,  -999.00,9,   1011.0,-999.0000, -999,9, 1002,   3.8726,  27.4292,   -999.0,9
       RF97-01,  137E,RF-0354,  1,      8,02-12819,2,19970129,0434, 14.9867, 136.9580, 5497,   1515.5,   2.7472,  34.5874,2,   -999.0,9,  34.5873,2,     99.7,2,   125.58,2,  -999.00,9,    38.24,2,     0.00,2,     2.76,2, -999.000,9, -999.000,9,  -999.00,9,   2332.4,2,   -999.0,9,-999.0000,9,   -999.0,  9,     7.63,2,   -999.0,  -999.00,9,  -999.00,9,  -999.00,9,  -999.00,9,   -999.0,-999.0000, -999,9, 1501,   2.6409,  27.5878,   -999.0,9
       RF97-01,  137E,RF-0354,  1,      7,02-12815,2,19970129,0421, 14.9867, 136.9580, 5497,   2022.9,   2.0210,  34.6331,2,   -999.0,9,  34.6322,2,    115.6,2,  -999.00,4,  -999.00,9,  -999.00,4,  -999.00,4,  -999.00,4, -999.000,9, -999.000,9,  -999.00,9,   2337.9,2,   -999.0,9,-999.0000,9,   -999.0,  9,     7.67,2,   -999.0,  -999.00,9,  -999.00,9,  -999.00,9,  -999.00,9,   -999.0,-999.0000, -999,9, 2001,   1.8823,  27.6869,   -999.0,9
       RF97-01,  137E,RF-0354,  1,      6,02-12818,2,19970129,0409, 14.9867, 136.9580, 5497,   2531.9,   1.7430,  34.6556,2,   -999.0,9,  34.6548,2,    129.4,2,   136.33,2,  -999.00,9,    37.82,2,     0.00,2,     2.69,2, -999.000,9, -999.000,9,  -999.00,9,   2333.5,2,   -999.0,9,-999.0000,9,   -999.0,  9,     7.69,2,   -999.0,  -999.00,9,  -999.00,9,  -999.00,9,  -999.00,9,   -999.0,-999.0000, -999,9, 2502,   1.5646,  27.7290,   -999.0,9
       RF97-01,  137E,RF-0354,  1,      5,02-12809,4,19970129,0358, 14.9867, 136.9580, 5497,   3043.2,   1.6359,  34.6660,2,   -999.0,9,-999.0000,9,   -999.0,4,  -999.00,4,  -999.00,9,  -999.00,4,  -999.00,4,  -999.00,4, -999.000,9, -999.000,9,  -999.00,9,   -999.0,9,   -999.0,9,-999.0000,9,   -999.0,  9,  -999.00,4,   -999.0,  -999.00,9,  -999.00,9,  -999.00,9,  -999.00,9,   -999.0,-999.0000, -999,9, 3004,   1.4120,  27.7485,   -999.0,9
       RF97-01,  137E,RF-0354,  1,      4,02-12817,2,19970129,0347, 14.9867, 136.9580, 5497,   3552.7,   1.5741,  34.6749,2,   -999.0,9,  34.6695,2,    146.7,2,   139.51,2,  -999.00,9,    37.14,2,     0.00,2,     2.63,2, -999.000,9, -999.000,9,  -999.00,9,   2322.6,6,   -999.0,9,-999.0000,9,   -999.0,  9,     7.71,2,   -999.0,  -999.00,9,  -999.00,9,  -999.00,9,  -999.00,9,   -999.0,-999.0000, -999,9, 3502,   1.3007,  27.7635,   -999.0,9
       RF97-01,  137E,RF-0354,  1,      3,02-12808,2,19970129,0338, 14.9867, 136.9580, 5497,   4062.6,   1.5173,  34.6828,2,   -999.0,9,  34.6816,2,    157.2,2,   134.63,2,  -999.00,9,    35.39,2,     0.00,2,     2.48,2, -999.000,9, -999.000,9,  -999.00,9,   2317.0,2,   -999.0,9,-999.0000,9,   -999.0,  9,     7.72,2,   -999.0,  -999.00,9,  -999.00,9,  -999.00,9,  -999.00,9,   -999.0,-999.0000, -999,9, 4001,   1.1911,  27.7775,   -999.0,9
       RF97-01,  137E,RF-0354,  1,      2,02-13588,2,19970129,0330, 14.9867, 136.9580, 5497,   4573.6,   1.5274,  34.6862,2,   -999.0,9,  34.6861,2,    161.2,2,   133.31,2,  -999.00,9,    35.13,2,     0.00,2,     2.51,2, -999.000,9, -999.000,9,  -999.00,9,   2316.1,2,   -999.0,9,-999.0000,9,   -999.0,  9,     7.73,2,   -999.0,  -999.00,9,  -999.00,9,  -999.00,9,  -999.00,9,   -999.0,-999.0000, -999,9, 4499,   1.1430,  27.7835,   -999.0,9
       RF97-01,  137E,RF-0354,  1,      1,02-12807,2,19970129,0321, 14.9867, 136.9580, 5497,   5077.5,   1.5830,  34.6860,2,   -999.0,9,  34.6871,2,    161.4,2,   132.87,2,  -999.00,9,    35.04,2,     0.00,2,     2.46,2, -999.000,9, -999.000,9,  -999.00,9,   2310.3,6,   -999.0,9,-999.0000,9,   -999.0,  9,     7.73,2,   -999.0,  -999.00,9,  -999.00,9,  -999.00,9,  -999.00,9,   5074.0,-999.0000, -999,9, 4989,   1.1365,  27.7838,   -999.0,9
       RF97-01,  137E,RF-0354,  1,     -9,      -9,9,19970129,0315, 14.9867, 136.9580, 5497,   5339.5,   1.6144,  34.6861,2,   -999.0,9,-999.0000,9,   -999.0,9,  -999.00,9,  -999.00,9,  -999.00,9,  -999.00,9,  -999.00,9, -999.000,9, -999.000,9,  -999.00,9,   -999.0,9,   -999.0,9,-999.0000,9,   -999.0,  9,  -999.00,9,   -999.0,  -999.00,9,  -999.00,9,  -999.00,9,  -999.00,9,   -999.0,-999.0000, -999,9, 5243,   1.1341,  27.7841,   -999.0,9