BOTTLE,20130510GEMDJMAYT
EXPOCODE,SECT_ID,STNNBR,CASTNO,SAMPNO,BTLNBR,BTLNBR_FLAG_W,DATE,TIME,LATITUDE,LONGITUDE,DEPTH,CTDPRS,CTDTMP,CTDSAL,CTDSAL_FLAG_W,CTDOXY,CTDOXY_FLAG_W,SALNTY,SALNTY_FLAG_W,OXYGEN,OXYGEN_FLAG_W,SILCAT,SILCAT_FLAG_W,NITRAT,NITRAT_FLAG_W,NO2+NO3,NO2+NO3_FLAG_W,NITRIT,NITRIT_FLAG_W,PHSPHT,PHSPHT_FLAG_W,CFC-11,CFC-11_FLAG_W,CFC-12,CFC-12_FLAG_W,DELC13,DELC13_FLAG_W,TCARBN,TCARBN_FLAG_W,ALKALI,ALKALI_FLAG_W,PH,PH_FLAG_W,PH_TMP,PH_SCALE,PH_NBS,PH_NBS_FLAG_W,C13ERR,TOTALP,TOTALP_FLAG_W,AMMONI,AMMONI_FLAG_W,CHLORA,CHLORA_FLAG_W,PPHYTN,PPHYTN_FLAG_W,REVPRS,REVTMP,DEPTH_,DEPTH_FLAG,CTDDEP,THETA,SIGTHT,DOC,DOC_FLAG_W
,,,,,,,GMT,GMT,,,METER,DBAR,ITS-90,PSS-78,,UMOL/KG,,PSS-78,,UMOL/KG,,UMOL/KG,,UMOL/KG,,UMOL/KG,,UMOL/KG,,UMOL/KG,,PMOL/KG,,PMOL/KG,,/MILLE,,UMOL/KG,,UMOL/KG,,25_DEG_C,,DEG_C,,,,/MILLE,UMOL/KG,,UMOL/KG,,UG/L,,UG/L,,DBAR,ITS-90,METERS,,METERS,DEG_C,,UMOL/L,
       RF97-01,  137E,RF-0364,  1,     24,02-12830,2,19970131,2308,  5.1087, 136.9945, 4248,      4.6,  28.4601,  34.0365,2,   -999.0,9,-999.0000,9,    198.0,2,     1.38,2,  -999.00,9,     0.05,2,     0.00,2,     0.04,2, -999.000,9, -999.000,9,  -999.00,9,   -999.0,9,   -999.0,9,-999.0000,9,   -999.0,  9,     8.25,2,   -999.0,  -999.00,9,  -999.00,9,     0.12,2,     0.03,2,   -999.0,-999.0000, -999,9,    5,  28.4590,  21.5200,   -999.0,9
       RF97-01,  137E,RF-0364,  1,     23,02-12829,2,19970131,2307,  5.1087, 136.9945, 4248,     10.7,  28.4595,  34.0353,2,   -999.0,9,  34.0382,2,    198.8,2,     1.04,2,  -999.00,9,     0.04,2,     0.00,2,     0.03,2, -999.000,9, -999.000,9,  -999.00,9,   -999.0,9,   -999.0,9,-999.0000,9,   -999.0,  9,     8.25,2,   -999.0,  -999.00,9,  -999.00,9,     0.13,2,     0.03,2,   -999.0,-999.0000, -999,9,   11,  28.4569,  21.5198,   -999.0,9
       RF97-01,  137E,RF-0364,  1,     22,02-12828,2,19970131,2305,  5.1087, 136.9945, 4248,     25.1,  28.4377,  34.0397,2,   -999.0,9,-999.0000,9,    199.6,2,     1.31,2,  -999.00,9,     0.01,2,     0.00,2,     0.03,2, -999.000,9, -999.000,9,  -999.00,9,   -999.0,9,   -999.0,9,-999.0000,9,   -999.0,  9,     8.25,2,   -999.0,  -999.00,9,  -999.00,9,     0.15,2,     0.03,2,   -999.0,-999.0000, -999,9,   25,  28.4317,  21.5313,   -999.0,9
       RF97-01,  137E,RF-0364,  1,     21,02-12827,2,19970131,2304,  5.1087, 136.9945, 4248,     51.5,  26.8100,  34.4254,2,   -999.0,9,-999.0000,9,    195.3,2,     2.00,2,  -999.00,9,     0.35,2,     0.03,2,     0.09,2, -999.000,9, -999.000,9,  -999.00,9,   -999.0,9,   -999.0,9,-999.0000,9,   -999.0,  9,     8.22,2,   -999.0,  -999.00,9,  -999.00,9,     0.30,2,     0.14,2,   -999.0,-999.0000, -999,9,   51,  26.7983,  22.3492,   -999.0,9
       RF97-01,  137E,RF-0364,  1,     20,02-12826,2,19970131,2303,  5.1087, 136.9945, 4248,     75.7,  21.5083,  34.7553,2,   -999.0,9,-999.0000,9,    163.0,2,     6.52,2,  -999.00,9,     5.80,2,     0.09,2,     0.46,2, -999.000,9, -999.000,9,  -999.00,9,   -999.0,9,   -999.0,9,-999.0000,9,   -999.0,  9,     8.10,2,   -999.0,  -999.00,9,  -999.00,9,     0.27,2,     0.28,2,   -999.0,-999.0000, -999,9,   75,  21.4937,  24.1726,   -999.0,9
       RF97-01,  137E,RF-0364,  1,     19,02-12825,2,19970131,2302,  5.1087, 136.9945, 4248,     99.5,  19.7844,  34.8650,2,   -999.0,9,  34.8172,4,    151.7,2,     8.98,2,  -999.00,9,     8.94,2,     0.02,2,     0.62,2, -999.000,9, -999.000,9,  -999.00,9,   -999.0,9,   -999.0,9,-999.0000,9,   -999.0,  9,     8.06,2,   -999.0,  -999.00,9,  -999.00,9,     0.07,2,     0.08,2,   -999.0,-999.0000, -999,9,   99,  19.7662,  24.7201,   -999.0,9
       RF97-01,  137E,RF-0364,  1,     18,02-12824,2,19970131,2300,  5.1087, 136.9945, 4248,    126.3,  18.3061,  34.7215,2,   -999.0,9,-999.0000,9,    156.6,2,    10.74,2,  -999.00,9,     9.80,2,     0.02,2,     0.67,2, -999.000,9, -999.000,9,  -999.00,9,   -999.0,9,   -999.0,9,-999.0000,9,   -999.0,  9,     8.03,2,   -999.0,  -999.00,9,  -999.00,9,     0.12,2,     0.10,2,   -999.0,-999.0000, -999,9,  126,  18.2842,  24.9885,   -999.0,9
       RF97-01,  137E,RF-0364,  1,     17,02-12814,2,19970131,2259,  5.1087, 136.9945, 4248,    152.3,  15.8938,  34.6587,2,   -999.0,9,-999.0000,9,    149.6,2,    14.96,2,  -999.00,9,    13.32,2,     0.01,2,     0.91,2, -999.000,9, -999.000,9,  -999.00,9,   -999.0,9,   -999.0,9,-999.0000,9,   -999.0,  9,     7.98,2,   -999.0,  -999.00,9,  -999.00,9,     0.03,2,     0.04,2,    156.0,-999.0000, -999,9,  151,  15.8699,  25.5147,   -999.0,9
       RF97-01,  137E,RF-0364,  1,     16,02-12832,2,19970131,2257,  5.1087, 136.9945, 4248,    201.7,  14.0942,  34.5893,2,   -999.0,9,-999.0000,9,    139.2,2,    19.94,2,  -999.00,9,    16.81,2,     0.01,2,     1.16,2, -999.000,9, -999.000,9,  -999.00,9,   -999.0,9,   -999.0,9,-999.0000,9,   -999.0,  9,     7.92,2,   -999.0,  -999.00,9,  -999.00,9,     0.01,2,     0.03,2,   -999.0,-999.0000, -999,9,  200,  14.0650,  25.8560,   -999.0,9
       RF97-01,  137E,RF-0364,  1,     15,02-12833,2,19970131,2254,  5.1087, 136.9945, 4248,    302.1,  10.1596,  34.5143,2,   -999.0,9,  34.5147,2,     83.9,2,    32.95,2,  -999.00,9,    28.50,2,     0.01,2,     1.99,2, -999.000,9, -999.000,9,  -999.00,9,   -999.0,9,   -999.0,9,-999.0000,9,   -999.0,  9,     7.74,2,   -999.0,  -999.00,9,  -999.00,9,  -999.00,9,  -999.00,9,   -999.0,-999.0000, -999,9,  300,  10.1242,  26.5515,   -999.0,9
       RF97-01,  137E,RF-0364,  1,     14,02-13578,2,19970131,2251,  5.1087, 136.9945, 4248,    402.4,   8.6816,  34.5874,2,   -999.0,9,-999.0000,9,     74.1,2,    37.95,2,  -999.00,9,    32.64,2,     0.00,2,     2.28,2, -999.000,9, -999.000,9,  -999.00,9,   -999.0,9,   -999.0,9,-999.0000,9,   -999.0,  9,     7.69,2,   -999.0,  -999.00,9,  -999.00,9,  -999.00,9,  -999.00,9,    398.0,-999.0000, -999,9,  400,   8.6385,  26.8522,   -999.0,9
       RF97-01,  137E,RF-0364,  1,     13,02-13590,2,19970131,2248,  5.1087, 136.9945, 4248,    503.8,   7.7605,  34.5733,2,   -999.0,9,  34.5702,2,     82.1,2,    41.53,2,  -999.00,9,    33.77,2,     0.00,2,     2.37,2, -999.000,9, -999.000,9,  -999.00,9,   -999.0,9,   -999.0,9,-999.0000,9,   -999.0,  9,     7.69,2,   -999.0,  -999.00,9,  -999.00,9,  -999.00,9,  -999.00,9,   -999.0,-999.0000, -999,9,  500,   7.7097,  26.9817,   -999.0,9
       RF97-01,  137E,RF-0364,  1,     12,02-12821,4,19970131,2246,  5.1087, 136.9945, 4248,    604.6,   7.0342,  34.5513,2,   -999.0,9,-999.0000,9,   -999.0,4,  -999.00,4,  -999.00,9,  -999.00,4,  -999.00,4,  -999.00,4, -999.000,9, -999.000,9,  -999.00,9,   -999.0,9,   -999.0,9,-999.0000,9,   -999.0,  9,  -999.00,4,   -999.0,  -999.00,9,  -999.00,9,  -999.00,9,  -999.00,9,   -999.0,-999.0000, -999,9,  600,   6.9761,  27.0686,   -999.0,9
       RF97-01,  137E,RF-0364,  1,     11,02-12811,2,19970131,2243,  5.1087, 136.9945, 4248,    706.4,   6.2692,  34.5385,2,   -999.0,9,-999.0000,9,     96.5,2,    53.84,2,  -999.00,9,    35.27,2,     0.00,2,     2.49,2, -999.000,9, -999.000,9,  -999.00,9,   -999.0,9,   -999.0,9,-999.0000,9,   -999.0,  9,     7.69,2,   -999.0,  -999.00,9,  -999.00,9,  -999.00,9,  -999.00,9,   -999.0,-999.0000, -999,9,  701,   6.2050,  27.1617,   -999.0,9
       RF97-01,  137E,RF-0364,  1,     10,02-10155,2,19970131,2240,  5.1087, 136.9945, 4248,    807.5,   5.7817,  34.5341,2,   -999.0,9,-999.0000,9,     90.1,2,    64.17,2,  -999.00,9,    36.49,2,     0.00,2,     2.60,2, -999.000,9, -999.000,9,  -999.00,9,   -999.0,9,   -999.0,9,-999.0000,9,   -999.0,  9,     7.67,2,   -999.0,  -999.00,9,  -999.00,9,  -999.00,9,  -999.00,9,   -999.0,-999.0000, -999,9,  801,   5.7107,  27.2208,   -999.0,9
       RF97-01,  137E,RF-0364,  1,      9,02-12810,2,19970131,2237,  5.1087, 136.9945, 4248,    909.6,   5.2364,  34.5410,2,   -999.0,9,-999.0000,9,     93.6,2,    71.94,2,  -999.00,9,    36.91,2,     0.00,2,     2.65,2, -999.000,9, -999.000,9,  -999.00,9,   -999.0,9,   -999.0,9,-999.0000,9,   -999.0,  9,     7.67,2,   -999.0,  -999.00,9,  -999.00,9,  -999.00,9,  -999.00,9,    910.0,-999.0000, -999,9,  903,   5.1596,  27.2928,   -999.0,9
       RF97-01,  137E,RF-0364,  1,      8,02-12819,2,19970131,2234,  5.1087, 136.9945, 4248,   1010.3,   4.5234,  34.5505,2,   -999.0,9,  34.5503,2,     90.5,2,    88.18,2,  -999.00,9,    37.90,2,     0.00,2,     2.72,2, -999.000,9, -999.000,9,  -999.00,9,   -999.0,9,   -999.0,9,-999.0000,9,   -999.0,  9,     7.65,2,   -999.0,  -999.00,9,  -999.00,9,  -999.00,9,  -999.00,9,   -999.0,-999.0000, -999,9, 1002,   4.4428,  27.3815,   -999.0,9
       RF97-01,  137E,RF-0364,  1,      7,02-12815,2,19970131,2228,  5.1087, 136.9945, 4248,   1261.5,   3.4439,  34.5834,2,   -999.0,9,  34.5832,2,     96.8,2,   107.64,2,  -999.00,9,    38.51,2,     0.00,2,     2.78,2, -999.000,9, -999.000,9,  -999.00,9,   -999.0,9,   -999.0,9,-999.0000,9,   -999.0,  9,     7.65,2,   -999.0,  -999.00,9,  -999.00,9,  -999.00,9,  -999.00,9,   -999.0,-999.0000, -999,9, 1251,   3.3512,  27.5196,   -999.0,9
       RF97-01,  137E,RF-0364,  1,      6,02-12818,2,19970131,2222,  5.1087, 136.9945, 4248,   1516.0,   3.0198,  34.5987,2,   -999.0,9,  34.5985,2,    100.1,2,   116.28,2,  -999.00,9,    38.62,2,     0.00,2,     2.77,2, -999.000,9, -999.000,9,  -999.00,9,   -999.0,9,   -999.0,9,-999.0000,9,   -999.0,  9,     7.65,2,   -999.0,  -999.00,9,  -999.00,9,  -999.00,9,  -999.00,9,   -999.0,-999.0000, -999,9, 1502,   2.9103,  27.5729,   -999.0,9
       RF97-01,  137E,RF-0364,  1,      5,02-12809,2,19970131,2213,  5.1087, 136.9945, 4248,   2022.2,   2.2668,  34.6334,2,   -999.0,9,  34.6331,2,    113.8,2,   131.08,2,  -999.00,9,    38.21,2,     0.00,2,     2.71,2, -999.000,9, -999.000,9,  -999.00,9,   -999.0,9,   -999.0,9,-999.0000,9,   -999.0,  9,     7.67,2,   -999.0,  -999.00,9,  -999.00,9,  -999.00,9,  -999.00,9,   -999.0,-999.0000, -999,9, 2001,   2.1244,  27.6680,   -999.0,9
       RF97-01,  137E,RF-0364,  1,      4,02-12817,2,19970131,2205,  5.1087, 136.9945, 4248,   2531.1,   1.8165,  34.6579,2,   -999.0,9,  34.6568,2,    129.0,2,   137.00,2,  -999.00,9,    37.33,2,     0.00,2,     2.64,2, -999.000,9, -999.000,9,  -999.00,9,   -999.0,9,   -999.0,9,-999.0000,9,   -999.0,  9,     7.69,2,   -999.0,  -999.00,9,  -999.00,9,  -999.00,9,  -999.00,9,   -999.0,-999.0000, -999,9, 2502,   1.6368,  27.7256,   -999.0,9
       RF97-01,  137E,RF-0364,  1,      3,02-12808,4,19970131,2205,  5.1087, 136.9945, 4248,   2531.1,   1.8165,  34.6579,2,   -999.0,9,  34.6550,4,    127.6,2,   136.92,2,  -999.00,9,    37.51,2,     0.00,2,     2.65,2, -999.000,9, -999.000,9,  -999.00,9,   -999.0,9,   -999.0,9,-999.0000,9,   -999.0,  9,     7.69,2,   -999.0,  -999.00,9,  -999.00,9,  -999.00,9,  -999.00,9,   -999.0,-999.0000, -999,9, 2502,   1.6368,  27.7256,   -999.0,9
       RF97-01,  137E,RF-0364,  1,      2,02-13588,2,19970131,2149,  5.1087, 136.9945, 4248,   3552.1,   1.5580,  34.6778,2,   -999.0,9,  34.6772,2,    147.4,2,   137.09,2,  -999.00,9,    36.19,2,     0.00,2,     2.55,2, -999.000,9, -999.000,9,  -999.00,9,   -999.0,9,   -999.0,9,-999.0000,9,   -999.0,  9,     7.72,2,   -999.0,  -999.00,9,  -999.00,9,  -999.00,9,  -999.00,9,   -999.0,-999.0000, -999,9, 3503,   1.2851,  27.7669,   -999.0,9
       RF97-01,  137E,RF-0364,  1,      1,02-12807,2,19970131,2143,  5.1087, 136.9945, 4248,   3964.9,   1.5289,  34.6827,2,   -999.0,9,  34.6825,2,    152.4,2,   136.75,2,  -999.00,9,    35.90,2,     0.00,2,     2.51,2, -999.000,9, -999.000,9,  -999.00,9,   -999.0,9,   -999.0,9,-999.0000,9,   -999.0,  9,     7.73,2,   -999.0,  -999.00,9,  -999.00,9,  -999.00,9,  -999.00,9,   3964.0,-999.0000, -999,9, 3906,   1.2130,  27.7759,   -999.0,9