BOTTLE,20130510GEMDJMAYT
EXPOCODE,SECT_ID,STNNBR,CASTNO,SAMPNO,BTLNBR,BTLNBR_FLAG_W,DATE,TIME,LATITUDE,LONGITUDE,DEPTH,CTDPRS,CTDTMP,CTDSAL,CTDSAL_FLAG_W,CTDOXY,CTDOXY_FLAG_W,SALNTY,SALNTY_FLAG_W,OXYGEN,OXYGEN_FLAG_W,SILCAT,SILCAT_FLAG_W,NITRAT,NITRAT_FLAG_W,NO2+NO3,NO2+NO3_FLAG_W,NITRIT,NITRIT_FLAG_W,PHSPHT,PHSPHT_FLAG_W,CFC-11,CFC-11_FLAG_W,CFC-12,CFC-12_FLAG_W,DELC13,DELC13_FLAG_W,TCARBN,TCARBN_FLAG_W,ALKALI,ALKALI_FLAG_W,PH,PH_FLAG_W,PH_TMP,PH_SCALE,PH_NBS,PH_NBS_FLAG_W,C13ERR,TOTALP,TOTALP_FLAG_W,AMMONI,AMMONI_FLAG_W,CHLORA,CHLORA_FLAG_W,PPHYTN,PPHYTN_FLAG_W,REVPRS,REVTMP,DEPTH_,DEPTH_FLAG,CTDDEP,THETA,SIGTHT,DOC,DOC_FLAG_W
,,,,,,,GMT,GMT,,,METER,DBAR,ITS-90,PSS-78,,UMOL/KG,,PSS-78,,UMOL/KG,,UMOL/KG,,UMOL/KG,,UMOL/KG,,UMOL/KG,,UMOL/KG,,PMOL/KG,,PMOL/KG,,/MILLE,,UMOL/KG,,UMOL/KG,,25_DEG_C,,DEG_C,,,,/MILLE,UMOL/KG,,UMOL/KG,,UG/L,,UG/L,,DBAR,ITS-90,METERS,,METERS,DEG_C,,UMOL/L,
       RF97-01,  137E,RF-0344,  1,     24,02-12830,2,19970126,1300, 25.0108, 137.0070, 4941,      4.4,  22.0394,  34.8570,2,   -999.0,9,-999.0000,9,    215.8,2,     1.45,2,  -999.00,9,     0.07,2,     0.00,2,     0.04,2, -999.000,9, -999.000,9,  -999.00,9,   1956.1,6,   -999.0,9,-999.0000,9,   -999.0,  9,     8.21,2,   -999.0,  -999.00,9,  -999.00,9,     0.18,2,     0.08,2,   -999.0,-999.0000, -999,9,    4,  22.0385,  24.0983,   -999.0,9
       RF97-01,  137E,RF-0344,  1,     23,02-12829,2,19970126,1259, 25.0108, 137.0070, 4941,     10.5,  22.0496,  34.8565,2,   -999.0,9,-999.0000,9,    215.3,2,     1.61,2,  -999.00,9,     0.06,2,     0.01,2,     0.02,2, -999.000,9, -999.000,9,  -999.00,9,   1955.5,2,   -999.0,9,-999.0000,9,   -999.0,  9,     8.20,2,   -999.0,  -999.00,9,  -999.00,9,     0.18,2,     0.08,2,   -999.0,-999.0000, -999,9,   10,  22.0475,  24.0955,   -999.0,9
       RF97-01,  137E,RF-0344,  1,     22,02-12828,2,19970126,1257, 25.0108, 137.0070, 4941,     24.1,  22.0496,  34.8557,2,   -999.0,9,-999.0000,9,    215.5,2,     1.45,2,  -999.00,9,     0.00,2,     0.00,2,     0.02,2, -999.000,9, -999.000,9,  -999.00,9,   1955.5,2,   -999.0,9,-999.0000,9,   -999.0,  9,     8.21,2,   -999.0,  -999.00,9,  -999.00,9,     0.17,2,     0.08,2,   -999.0,-999.0000, -999,9,   24,  22.0448,  24.0957,   -999.0,9
       RF97-01,  137E,RF-0344,  1,     21,02-12827,2,19970126,1256, 25.0108, 137.0070, 4941,     50.1,  22.0531,  34.8550,2,   -999.0,9,  34.8599,2,    215.6,2,     1.49,2,  -999.00,9,     0.03,2,     0.01,2,     0.01,2, -999.000,9, -999.000,9,  -999.00,9,   1955.3,2,   -999.0,9,-999.0000,9,   -999.0,  9,     8.21,2,   -999.0,  -999.00,9,  -999.00,9,     0.17,2,     0.07,2,   -999.0,-999.0000, -999,9,   50,  22.0432,  24.0956,   -999.0,9
       RF97-01,  137E,RF-0344,  1,     20,02-12826,2,19970126,1255, 25.0108, 137.0070, 4941,     76.3,  22.0071,  34.8599,2,   -999.0,9,-999.0000,9,    216.0,2,     1.37,2,  -999.00,9,     0.01,2,     0.00,2,     0.00,2, -999.000,9, -999.000,9,  -999.00,9,   1955.5,2,   -999.0,9,-999.0000,9,   -999.0,  9,     8.21,2,   -999.0,  -999.00,9,  -999.00,9,     0.19,2,     0.07,2,   -999.0,-999.0000, -999,9,   76,  21.9921,  24.1136,   -999.0,9
       RF97-01,  137E,RF-0344,  1,     19,02-12825,2,19970126,1253, 25.0108, 137.0070, 4941,     99.4,  21.6779,  34.8659,2,   -999.0,9,  34.8495,4,    215.7,2,     1.86,2,  -999.00,9,     0.06,2,     0.02,2,     0.01,2, -999.000,9, -999.000,9,  -999.00,9,   1961.0,2,   -999.0,9,-999.0000,9,   -999.0,  9,     8.20,2,   -999.0,  -999.00,9,  -999.00,9,     0.28,2,     0.12,2,   -999.0,-999.0000, -999,9,   99,  21.6585,  24.2111,   -999.0,9
       RF97-01,  137E,RF-0344,  1,     18,02-12824,2,19970126,1251, 25.0108, 137.0070, 4941,    151.4,  19.4799,  34.9195,2,   -999.0,9,-999.0000,9,   -999.0,4,     2.64,2,  -999.00,9,     2.41,2,     0.04,2,     0.14,2, -999.000,9, -999.000,9,  -999.00,9,   2001.9,2,   -999.0,9,-999.0000,9,   -999.0,  9,     8.13,2,   -999.0,  -999.00,9,  -999.00,9,     0.09,2,     0.14,2,   -999.0,-999.0000, -999,9,  150,  19.4524,  24.8434,   -999.0,9
       RF97-01,  137E,RF-0344,  1,     17,02-12814,2,19970126,1249, 25.0108, 137.0070, 4941,    199.4,  18.3905,  34.9054,2,   -999.0,9,-999.0000,9,    202.2,2,     2.89,2,  -999.00,9,     3.25,2,     0.02,2,     0.19,2, -999.000,9, -999.000,9,  -999.00,9,   2011.5,2,   -999.0,9,-999.0000,9,   -999.0,  9,     8.12,2,   -999.0,  -999.00,9,  -999.00,9,     0.01,2,     0.03,2,    201.0,-999.0000, -999,9,  198,  18.3557,  25.1114,   -999.0,9
       RF97-01,  137E,RF-0344,  1,     16,02-12832,2,19970126,1247, 25.0108, 137.0070, 4941,    301.0,  17.0537,  34.8237,2,   -999.0,9,  34.8140,4,   -999.0,4,     4.07,2,  -999.00,9,     5.20,2,     0.02,2,     0.29,2, -999.000,9, -999.000,9,  -999.00,9,   2023.6,3,   -999.0,9,-999.0000,9,   -999.0,  9,     8.09,2,   -999.0,  -999.00,9,  -999.00,9,  -999.00,9,  -999.00,9,   -999.0,-999.0000, -999,9,  299,  17.0038,  25.3780,   -999.0,9
       RF97-01,  137E,RF-0344,  1,     15,02-12833,2,19970126,1244, 25.0108, 137.0070, 4941,    401.7,  14.7887,  34.6034,2,   -999.0,9,-999.0000,9,   -999.0,4,    10.55,2,  -999.00,9,    10.13,2,     0.01,2,     0.60,2, -999.000,9, -999.000,9,  -999.00,9,   2059.7,2,   -999.0,9,-999.0000,9,   -999.0,  9,     8.02,2,   -999.0,  -999.00,9,  -999.00,9,  -999.00,9,  -999.00,9,   -999.0,-999.0000, -999,9,  399,  14.7282,  25.7253,   -999.0,9
       RF97-01,  137E,RF-0344,  1,     14,02-13578,2,19970126,1242, 25.0108, 137.0070, 4941,    502.6,  12.5516,  34.4378,2,   -999.0,9,-999.0000,9,    175.8,2,    18.73,2,  -999.00,9,    15.03,2,     0.01,2,     0.96,2, -999.000,9, -999.000,9,  -999.00,9,   2096.6,2,   -999.0,9,-999.0000,9,   -999.0,  9,  -999.00,4,   -999.0,  -999.00,9,  -999.00,9,  -999.00,9,  -999.00,9,    495.0,-999.0000, -999,9,  499,  12.4836,  26.0593,   -999.0,9
       RF97-01,  137E,RF-0344,  1,     13,02-13590,2,19970126,1239, 25.0108, 137.0070, 4941,    603.3,   9.4916,  34.2516,2,   -999.0,9,-999.0000,9,    152.7,3,    35.71,2,  -999.00,9,    22.40,2,     0.01,2,     1.50,2, -999.000,9, -999.000,9,  -999.00,9,   2152.0,2,   -999.0,9,-999.0000,9,   -999.0,  9,     7.82,2,   -999.0,  -999.00,9,  -999.00,9,  -999.00,9,  -999.00,9,   -999.0,-999.0000, -999,9,  599,   9.4230,  26.4638,   -999.0,9
       RF97-01,  137E,RF-0344,  1,     12,02-12821,2,19970126,1237, 25.0108, 137.0070, 4941,    705.4,   6.7873,  34.1482,2,   -999.0,9,  34.1511,2,    119.5,2,    59.54,2,  -999.00,9,    30.00,2,     0.01,2,     2.08,2, -999.000,9, -999.000,9,  -999.00,9,   2216.0,2,   -999.0,9,-999.0000,9,   -999.0,  9,     7.70,2,   -999.0,  -999.00,9,  -999.00,9,  -999.00,9,  -999.00,9,   -999.0,-999.0000, -999,9,  700,   6.7209,  26.7856,   -999.0,9
       RF97-01,  137E,RF-0344,  1,     11,02-12811,2,19970126,1234, 25.0108, 137.0070, 4941,    807.5,   5.5575,  34.1754,2,   -999.0,9,-999.0000,9,     93.1,2,    77.52,2,  -999.00,9,    34.21,2,     0.00,2,     2.42,2, -999.000,9, -999.000,9,  -999.00,9,   2259.9,2,   -999.0,9,-999.0000,9,   -999.0,  9,     7.63,2,   -999.0,  -999.00,9,  -999.00,9,  -999.00,9,  -999.00,9,   -999.0,-999.0000, -999,9,  801,   5.4884,  26.9641,   -999.0,9
       RF97-01,  137E,RF-0344,  1,     10,02-10155,2,19970126,1230, 25.0108, 137.0070, 4941,   1007.1,   3.9170,  34.3329,2,   -999.0,9,  34.3565,4,     60.1,2,   110.40,2,  -999.00,9,    39.33,2,     0.01,2,     2.83,2, -999.000,9, -999.000,9,  -999.00,9,   2320.0,2,   -999.0,9,-999.0000,9,   -999.0,  9,     7.56,2,   -999.0,  -999.00,9,  -999.00,9,  -999.00,9,  -999.00,9,   -999.0,-999.0000, -999,9,  998,   3.8417,  27.2717,   -999.0,9
       RF97-01,  137E,RF-0344,  1,      9,02-12810,2,19970126,1221, 25.0108, 137.0070, 4941,   1513.8,   2.5355,  34.5265,2,   -999.0,9,  34.5375,4,     81.2,2,   134.50,2,  -999.00,9,    39.48,2,     0.00,2,     2.83,2, -999.000,9, -999.000,9,  -999.00,9,   2344.2,2,   -999.0,9,-999.0000,9,   -999.0,  9,     7.60,2,   -999.0,  -999.00,9,  -999.00,9,  -999.00,9,  -999.00,9,   1505.0,-999.0000, -999,9, 1499,   2.4320,  27.5570,   -999.0,9
       RF97-01,  137E,RF-0344,  1,      8,02-12819,2,19970126,1212, 25.0108, 137.0070, 4941,   2020.7,   1.9953,  34.6157,2,   -999.0,9,  34.6176,2,    114.5,2,   136.51,2,  -999.00,9,    37.66,2,     0.01,2,     2.68,2, -999.000,9, -999.000,9,  -999.00,9,   2334.2,3,   -999.0,9,-999.0000,9,   -999.0,  9,     7.65,2,   -999.0,  -999.00,9,  -999.00,9,  -999.00,9,  -999.00,9,   -999.0,-999.0000, -999,9, 1998,   1.8573,  27.6749,   -999.0,9
       RF97-01,  137E,RF-0344,  1,      7,02-12815,2,19970126,1203, 25.0108, 137.0070, 4941,   2528.1,   1.7810,  34.6441,2,   -999.0,9,  34.6438,2,    128.3,2,   136.93,2,  -999.00,9,    36.94,2,     0.00,2,     2.62,2, -999.000,9, -999.000,9,  -999.00,9,   2333.7,3,   -999.0,9,-999.0000,9,   -999.0,  9,     7.68,2,   -999.0,  -999.00,9,  -999.00,9,  -999.00,9,  -999.00,9,   -999.0,-999.0000, -999,9, 2497,   1.6023,  27.7170,   -999.0,9
       RF97-01,  137E,RF-0344,  1,      6,02-12818,2,19970126,1154, 25.0108, 137.0070, 4941,   3039.9,   1.6432,  34.6607,2,   -999.0,9,  34.6613,2,    140.0,2,   136.71,2,  -999.00,9,    36.33,2,     0.01,2,     2.57,2, -999.000,9, -999.000,9,  -999.00,9,   2326.2,3,   -999.0,9,-999.0000,9,   -999.0,  9,     7.70,2,   -999.0,  -999.00,9,  -999.00,9,  -999.00,9,  -999.00,9,   -999.0,-999.0000, -999,9, 2999,   1.4195,  27.7437,   -999.0,9
       RF97-01,  137E,RF-0344,  1,      5,02-12809,2,19970126,1144, 25.0108, 137.0070, 4941,   3549.9,   1.5494,  34.6740,2,   -999.0,9,  34.6758,2,   -999.0,4,   135.81,2,  -999.00,9,    35.75,2,     0.01,2,     2.51,2, -999.000,9, -999.000,9,  -999.00,9,   2315.4,3,   -999.0,9,-999.0000,9,   -999.0,  9,     7.71,2,   -999.0,  -999.00,9,  -999.00,9,  -999.00,9,  -999.00,9,   -999.0,-999.0000, -999,9, 3498,   1.2769,  27.7645,   -999.0,9
       RF97-01,  137E,RF-0344,  1,      4,02-12817,2,19970126,1135, 25.0108, 137.0070, 4941,   4064.1,   1.5375,  34.6807,2,   -999.0,9,  34.6814,2,    155.0,2,   134.89,2,  -999.00,9,    35.46,2,     0.01,2,     2.48,2, -999.000,9, -999.000,9,  -999.00,9,   2313.6,3,   -999.0,9,-999.0000,9,   -999.0,  9,     7.72,2,   -999.0,  -999.00,9,  -999.00,9,  -999.00,9,  -999.00,9,   -999.0,-999.0000, -999,9, 4000,   1.2106,  27.7745,   -999.0,9
       RF97-01,  137E,RF-0344,  1,      3,02-12808,4,19970126,1126, 25.0108, 137.0070, 4941,   4575.2,   1.5765,  34.6822,2,   -999.0,9,  34.9025,4,   -999.0,4,  -999.00,4,  -999.00,9,  -999.00,4,  -999.00,4,  -999.00,4, -999.000,9, -999.000,9,  -999.00,9,   -999.0,9,   -999.0,9,-999.0000,9,   -999.0,  9,  -999.00,4,   -999.0,  -999.00,9,  -999.00,9,  -999.00,9,  -999.00,9,   -999.0,-999.0000, -999,9, 4498,   1.1905,  27.7771,   -999.0,9
       RF97-01,  137E,RF-0344,  1,      1,02-12807,2,19970126,1119, 25.0108, 137.0070, 4941,   4941.7,   1.6186,  34.6813,2,   -999.0,9,  34.6837,2,    156.6,2,   134.58,2,  -999.00,9,    35.35,2,     0.01,2,     2.48,2, -999.000,9, -999.000,9,  -999.00,9,   2314.9,6,   -999.0,9,-999.0000,9,   -999.0,  9,     7.71,2,   -999.0,  -999.00,9,  -999.00,9,  -999.00,9,  -999.00,9,   4941.0,-999.0000, -999,9, 4854,   1.1876,  27.7766,   -999.0,9
       RF97-01,  137E,RF-0344,  1,      2,02-13588,2,19970126,1120, 25.0108, 137.0070, 4941,   4942.5,   1.6183,  34.6826,2,   -999.0,9,  34.6511,4,    157.6,2,   134.60,2,  -999.00,9,    35.30,2,     0.01,2,     2.47,2, -999.000,9, -999.000,9,  -999.00,9,   2314.6,3,   -999.0,9,-999.0000,9,   -999.0,  9,     7.72,2,   -999.0,  -999.00,9,  -999.00,9,  -999.00,9,  -999.00,9,   -999.0,-999.0000, -999,9, 4855,   1.1871,  27.7776,   -999.0,9