BOTTLE,20130510GEMDJMAYT
EXPOCODE,SECT_ID,STNNBR,CASTNO,SAMPNO,BTLNBR,BTLNBR_FLAG_W,DATE,TIME,LATITUDE,LONGITUDE,DEPTH,CTDPRS,CTDTMP,CTDSAL,CTDSAL_FLAG_W,CTDOXY,CTDOXY_FLAG_W,SALNTY,SALNTY_FLAG_W,OXYGEN,OXYGEN_FLAG_W,SILCAT,SILCAT_FLAG_W,NITRAT,NITRAT_FLAG_W,NO2+NO3,NO2+NO3_FLAG_W,NITRIT,NITRIT_FLAG_W,PHSPHT,PHSPHT_FLAG_W,CFC-11,CFC-11_FLAG_W,CFC-12,CFC-12_FLAG_W,DELC13,DELC13_FLAG_W,TCARBN,TCARBN_FLAG_W,ALKALI,ALKALI_FLAG_W,PH,PH_FLAG_W,PH_TMP,PH_SCALE,PH_NBS,PH_NBS_FLAG_W,C13ERR,TOTALP,TOTALP_FLAG_W,AMMONI,AMMONI_FLAG_W,CHLORA,CHLORA_FLAG_W,PPHYTN,PPHYTN_FLAG_W,REVPRS,REVTMP,DEPTH_,DEPTH_FLAG,CTDDEP,THETA,SIGTHT,DOC,DOC_FLAG_W
,,,,,,,GMT,GMT,,,METER,DBAR,ITS-90,PSS-78,,UMOL/KG,,PSS-78,,UMOL/KG,,UMOL/KG,,UMOL/KG,,UMOL/KG,,UMOL/KG,,UMOL/KG,,PMOL/KG,,PMOL/KG,,/MILLE,,UMOL/KG,,UMOL/KG,,25_DEG_C,,DEG_C,,,,/MILLE,UMOL/KG,,UMOL/KG,,UG/L,,UG/L,,DBAR,ITS-90,METERS,,METERS,DEG_C,,UMOL/L,
       RF97-01,  137E,RF-0359,  1,     -9,      -9,5,19970130,1610,  9.9732, 136.9467, 5110,      0.0,  27.3824,  33.7777,2,   -999.0,9,-999.0000,9,    200.5,2,     1.72,2,  -999.00,9,     0.11,2,     0.00,2,     0.07,2, -999.000,9, -999.000,9,  -999.00,9,   -999.0,9,   -999.0,9,-999.0000,9,   -999.0,  9,     8.23,2,   -999.0,  -999.00,9,  -999.00,9,     0.11,2,     0.04,2,   -999.0,-999.0000, -999,9,    0,  27.3824,  21.6753,   -999.0,9
       RF97-01,  137E,RF-0359,  1,     24,02-12830,2,19970130,1607,  9.9732, 136.9467, 5110,      9.3,  27.3903,  33.7805,2,   -999.0,9,-999.0000,9,    200.6,2,     1.48,2,  -999.00,9,     0.00,2,     0.00,2,     0.08,2, -999.000,9, -999.000,9,  -999.00,9,   1891.2,6,   -999.0,9,-999.0000,9,   -999.0,  9,     8.23,2,   -999.0,  -999.00,9,  -999.00,9,     0.10,2,     0.04,2,   -999.0,-999.0000, -999,9,    9,  27.3881,  21.6755,   -999.0,9
       RF97-01,  137E,RF-0359,  1,     23,02-12829,2,19970130,1606,  9.9732, 136.9467, 5110,     24.5,  27.3990,  33.7900,2,   -999.0,9,-999.0000,9,    201.1,2,     1.54,2,  -999.00,9,     0.00,2,     0.00,2,     0.10,2, -999.000,9, -999.000,9,  -999.00,9,   1890.1,2,   -999.0,9,-999.0000,9,   -999.0,  9,     8.23,2,   -999.0,  -999.00,9,  -999.00,9,     0.11,2,     0.04,2,   -999.0,-999.0000, -999,9,   24,  27.3933,  21.6811,   -999.0,9
       RF97-01,  137E,RF-0359,  1,     22,02-12828,2,19970130,1604,  9.9732, 136.9467, 5110,     48.7,  25.3822,  34.3442,2,   -999.0,9,  34.3298,4,    198.4,2,     2.45,2,  -999.00,9,     0.04,2,     0.01,2,     0.10,2, -999.000,9, -999.000,9,  -999.00,9,   1944.2,2,   -999.0,9,-999.0000,9,   -999.0,  9,     8.20,2,   -999.0,  -999.00,9,  -999.00,9,     0.28,2,     0.17,2,   -999.0,-999.0000, -999,9,   48,  25.3716,  22.7325,   -999.0,9
       RF97-01,  137E,RF-0359,  1,     21,02-12827,2,19970130,1602,  9.9732, 136.9467, 5110,     74.9,  21.5793,  34.6184,2,   -999.0,9,-999.0000,9,    171.3,2,     5.06,2,  -999.00,9,     4.56,2,     0.30,2,     0.36,2, -999.000,9, -999.000,9,  -999.00,9,   2014.6,2,   -999.0,9,-999.0000,9,   -999.0,  9,     8.10,2,   -999.0,  -999.00,9,  -999.00,9,     0.47,2,     0.49,2,   -999.0,-999.0000, -999,9,   74,  21.5647,  24.0488,   -999.0,9
       RF97-01,  137E,RF-0359,  1,     20,02-12826,2,19970130,1558,  9.9732, 136.9467, 5110,     99.7,  16.2072,  34.6753,2,   -999.0,9,  34.6501,4,    141.2,2,    12.18,2,  -999.00,9,    12.99,2,     0.09,2,     0.87,2, -999.000,9, -999.000,9,  -999.00,9,   2092.8,2,   -999.0,9,-999.0000,9,   -999.0,  9,     7.96,2,   -999.0,  -999.00,9,  -999.00,9,     0.21,2,     0.21,2,   -999.0,-999.0000, -999,9,   99,  16.1913,  25.4540,   -999.0,9
       RF97-01,  137E,RF-0359,  1,     19,02-12825,2,19970130,1555,  9.9732, 136.9467, 5110,    150.9,  12.8131,  34.5422,2,   -999.0,9,-999.0000,9,    118.0,2,    21.84,2,  -999.00,9,    20.51,2,     0.01,2,     1.37,2, -999.000,9, -999.000,9,  -999.00,9,   2143.4,2,   -999.0,9,-999.0000,9,   -999.0,  9,     7.86,2,   -999.0,  -999.00,9,  -999.00,9,     0.03,2,     0.05,2,   -999.0,-999.0000, -999,9,  150,  12.7927,  26.0795,   -999.0,9
       RF97-01,  137E,RF-0359,  1,     18,02-12824,2,19970130,1553,  9.9732, 136.9467, 5110,    201.0,  10.7683,  34.5105,2,   -999.0,9,-999.0000,9,     93.2,2,    30.09,2,  -999.00,9,    26.38,2,     0.01,2,     1.81,2, -999.000,9, -999.000,9,  -999.00,9,   2186.0,2,   -999.0,9,-999.0000,9,   -999.0,  9,     7.77,2,   -999.0,  -999.00,9,  -999.00,9,     0.00,2,     0.03,2,   -999.0,-999.0000, -999,9,  200,  10.7440,  26.4402,   -999.0,9
       RF97-01,  137E,RF-0359,  1,     17,02-12814,3,19970130,1550,  9.9732, 136.9467, 5110,    252.5,   9.3196,  34.5148,2,   -999.0,9,-999.0000,9,     75.2,2,    37.02,2,  -999.00,9,    30.67,2,     0.01,2,     2.12,2, -999.000,9, -999.000,9,  -999.00,9,   2219.0,3,   -999.0,9,-999.0000,9,   -999.0,  9,     7.71,2,   -999.0,  -999.00,9,  -999.00,9,  -999.00,9,  -999.00,9,   -999.0,-999.0000, -999,9,  251,   9.2917,  26.6911,   -999.0,9
       RF97-01,  137E,RF-0359,  1,     16,02-12832,2,19970130,1547,  9.9732, 136.9467, 5110,    303.0,   8.5403,  34.5312,2,   -999.0,9,  34.5285,2,     69.1,2,    41.58,2,  -999.00,9,    32.90,2,     0.00,2,     2.29,2, -999.000,9, -999.000,9,  -999.00,9,   2234.4,6,   -999.0,9,-999.0000,9,   -999.0,  9,     7.67,2,   -999.0,  -999.00,9,  -999.00,9,  -999.00,9,  -999.00,9,   -999.0,-999.0000, -999,9,  301,   8.5084,  26.8284,   -999.0,9
       RF97-01,  137E,RF-0359,  1,     15,02-12833,2,19970130,1543,  9.9732, 136.9467, 5110,    401.7,   7.4956,  34.5228,2,   -999.0,9,-999.0000,9,     75.0,2,    48.21,2,  -999.00,9,    34.36,2,     0.00,2,     2.40,2, -999.000,9, -999.000,9,  -999.00,9,   2244.9,2,   -999.0,9,-999.0000,9,   -999.0,  9,     7.66,2,   -999.0,  -999.00,9,  -999.00,9,  -999.00,9,  -999.00,9,   -999.0,-999.0000, -999,9,  399,   7.4562,  26.9786,   -999.0,9
       RF97-01,  137E,RF-0359,  1,     14,02-13578,2,19970130,1539,  9.9732, 136.9467, 5110,    503.3,   6.8176,  34.5229,2,   -999.0,9,-999.0000,9,     80.8,2,    53.38,2,  -999.00,9,    35.09,2,     0.00,2,     2.47,2, -999.000,9, -999.000,9,  -999.00,9,   2252.4,2,   -999.0,9,-999.0000,9,   -999.0,  9,     7.66,2,   -999.0,  -999.00,9,  -999.00,9,  -999.00,9,  -999.00,9,    502.0,-999.0000, -999,9,  500,   6.7705,  27.0744,   -999.0,9
       RF97-01,  137E,RF-0359,  1,     13,02-13590,2,19970130,1534,  9.9732, 136.9467, 5110,    603.1,   6.3991,  34.5215,2,   -999.0,9,  34.5200,2,     84.7,2,    57.52,2,  -999.00,9,    35.53,2,     0.00,2,     2.50,2, -999.000,9, -999.000,9,  -999.00,9,   2259.8,2,   -999.0,9,-999.0000,9,   -999.0,  9,     7.66,2,   -999.0,  -999.00,9,  -999.00,9,  -999.00,9,  -999.00,9,   -999.0,-999.0000, -999,9,  599,   6.3441,  27.1301,   -999.0,9
       RF97-01,  137E,RF-0359,  1,     12,02-12821,4,19970130,1530,  9.9732, 136.9467, 5110,    704.0,   5.8869,  34.5254,2,   -999.0,9,-999.0000,9,   -999.0,4,  -999.00,4,  -999.00,9,  -999.00,4,  -999.00,4,  -999.00,4, -999.000,9, -999.000,9,  -999.00,9,   -999.0,9,   -999.0,9,-999.0000,9,   -999.0,  9,  -999.00,4,   -999.0,  -999.00,9,  -999.00,9,  -999.00,9,  -999.00,9,   -999.0,-999.0000, -999,9,  699,   5.8249,  27.1997,   -999.0,9
       RF97-01,  137E,RF-0359,  1,     11,02-12811,2,19970130,1525,  9.9732, 136.9467, 5110,    806.7,   5.4140,  34.5297,2,   -999.0,9,-999.0000,9,     83.9,2,    73.29,2,  -999.00,9,    37.06,2,     0.00,2,     2.61,2, -999.000,9, -999.000,9,  -999.00,9,   2278.7,2,   -999.0,9,-999.0000,9,   -999.0,  9,     7.64,2,   -999.0,  -999.00,9,  -999.00,9,  -999.00,9,  -999.00,9,   -999.0,-999.0000, -999,9,  801,   5.3454,  27.2618,   -999.0,9
       RF97-01,  137E,RF-0359,  1,      9,02-12810,2,19970130,1518,  9.9732, 136.9467, 5110,   1008.8,   4.2288,  34.5508,2,   -999.0,9,  34.5136,4,     88.0,2,    95.38,2,  -999.00,9,    38.01,2,     0.00,2,     2.72,2, -999.000,9, -999.000,9,  -999.00,9,   2304.5,2,   -999.0,9,-999.0000,9,   -999.0,  9,     7.64,2,   -999.0,  -999.00,9,  -999.00,9,  -999.00,9,  -999.00,9,   1011.0,-999.0000, -999,9, 1001,   4.1506,  27.4131,   -999.0,9
       RF97-01,  137E,RF-0359,  1,     10,02-10155,2,19970130,1519,  9.9732, 136.9467, 5110,   1014.5,   4.2230,  34.5510,2,   -999.0,9,-999.0000,9,     88.5,2,    95.49,2,  -999.00,9,    38.00,2,     0.00,2,     2.71,2, -999.000,9, -999.000,9,  -999.00,9,   -999.0,9,   -999.0,9,-999.0000,9,   -999.0,  9,  -999.00,9,   -999.0,  -999.00,9,  -999.00,9,  -999.00,9,  -999.00,9,   -999.0,-999.0000, -999,9, 1006,   4.1444,  27.4139,   -999.0,9
       RF97-01,  137E,RF-0359,  1,      8,02-12819,2,19970130,1504,  9.9732, 136.9467, 5110,   1516.1,   2.9803,  34.5944,2,   -999.0,9,  34.5938,2,     98.4,2,   119.67,2,  -999.00,9,    38.43,2,     0.00,2,     2.72,2, -999.000,9, -999.000,9,  -999.00,9,   2329.0,2,   -999.0,9,-999.0000,9,   -999.0,  9,     7.64,2,   -999.0,  -999.00,9,  -999.00,9,  -999.00,9,  -999.00,9,   -999.0,-999.0000, -999,9, 1502,   2.8713,  27.5730,   -999.0,9
       RF97-01,  137E,RF-0359,  1,      7,02-12815,2,19970130,1451,  9.9732, 136.9467, 5110,   2023.8,   2.2098,  34.6335,2,   -999.0,9,  34.6320,2,    114.6,2,   132.26,2,  -999.00,9,    37.82,2,     0.00,2,     2.67,2, -999.000,9, -999.000,9,  -999.00,9,   2333.9,6,   -999.0,9,-999.0000,9,   -999.0,  9,     7.67,2,   -999.0,  -999.00,9,  -999.00,9,  -999.00,9,  -999.00,9,   -999.0,-999.0000, -999,9, 2003,   2.0681,  27.6726,   -999.0,9
       RF97-01,  137E,RF-0359,  1,      6,02-12818,2,19970130,1439,  9.9732, 136.9467, 5110,   2532.5,   1.7963,  34.6563,2,   -999.0,9,  34.6568,2,    130.3,2,   137.02,2,  -999.00,9,    37.00,2,     0.00,2,     2.59,2, -999.000,9, -999.000,9,  -999.00,9,   2329.0,2,   -999.0,9,-999.0000,9,   -999.0,  9,     7.68,2,   -999.0,  -999.00,9,  -999.00,9,  -999.00,9,  -999.00,9,   -999.0,-999.0000, -999,9, 2503,   1.6168,  27.7257,   -999.0,9
       RF97-01,  137E,RF-0359,  1,      5,02-12809,2,19970130,1428,  9.9732, 136.9467, 5110,   3038.9,   1.6172,  34.6693,2,   -999.0,9,  34.6688,2,    141.7,2,   137.73,2,  -999.00,9,    36.52,2,     0.00,2,     2.53,2, -999.000,9, -999.000,9,  -999.00,9,   2323.3,2,   -999.0,9,-999.0000,9,   -999.0,  9,     7.71,2,   -999.0,  -999.00,9,  -999.00,9,  -999.00,9,  -999.00,9,   -999.0,-999.0000, -999,9, 3000,   1.3942,  27.7524,   -999.0,9
       RF97-01,  137E,RF-0359,  1,      4,02-12817,2,19970130,1418,  9.9732, 136.9467, 5110,   3551.1,   1.5551,  34.6773,2,   -999.0,9,  34.6762,2,    148.9,2,   136.45,2,  -999.00,9,    35.92,2,     0.00,2,     2.48,2, -999.000,9, -999.000,9,  -999.00,9,   2323.1,2,   -999.0,9,-999.0000,9,   -999.0,  9,     7.71,2,   -999.0,  -999.00,9,  -999.00,9,  -999.00,9,  -999.00,9,   -999.0,-999.0000, -999,9, 3502,   1.2824,  27.7668,   -999.0,9
       RF97-01,  137E,RF-0359,  1,      3,02-12808,2,19970130,1409,  9.9732, 136.9467, 5110,   4062.9,   1.5475,  34.6807,2,   -999.0,9,  34.6812,2,    154.8,2,   135.18,2,  -999.00,9,    35.68,2,     0.00,2,     2.45,2, -999.000,9, -999.000,9,  -999.00,9,   2313.7,2,   -999.0,9,-999.0000,9,   -999.0,  9,     7.72,2,   -999.0,  -999.00,9,  -999.00,9,  -999.00,9,  -999.00,9,   -999.0,-999.0000, -999,9, 4002,   1.2204,  27.7738,   -999.0,9
       RF97-01,  137E,RF-0359,  1,      2,02-13588,2,19970130,1400,  9.9732, 136.9467, 5110,   4578.3,   1.5592,  34.6847,2,   -999.0,9,  34.6847,2,    158.1,2,   133.90,2,  -999.00,9,    35.38,2,     0.00,2,     2.43,2, -999.000,9, -999.000,9,  -999.00,9,   2311.6,2,   -999.0,9,-999.0000,9,   -999.0,  9,     7.71,2,   -999.0,  -999.00,9,  -999.00,9,  -999.00,9,  -999.00,9,   -999.0,-999.0000, -999,9, 4504,   1.1734,  27.7802,   -999.0,9
       RF97-01,  137E,RF-0359,  1,      1,02-12807,2,19970130,1358,  9.9732, 136.9467, 5110,   4624.5,   1.5611,  34.6856,2,   -999.0,9,  34.6827,2,    159.1,2,   133.40,2,  -999.00,9,    35.29,2,     0.00,2,     2.42,2, -999.000,9, -999.000,9,  -999.00,9,   2311.9,6,   -999.0,9,-999.0000,9,   -999.0,  9,     7.72,2,   -999.0,  -999.00,9,  -999.00,9,  -999.00,9,  -999.00,9,   4624.0,-999.0000, -999,9, 4549,   1.1697,  27.7812,   -999.0,9