BOTTLE,20130510GEMDJMAYT
EXPOCODE,SECT_ID,STNNBR,CASTNO,SAMPNO,BTLNBR,BTLNBR_FLAG_W,DATE,TIME,LATITUDE,LONGITUDE,DEPTH,CTDPRS,CTDTMP,CTDSAL,CTDSAL_FLAG_W,CTDOXY,CTDOXY_FLAG_W,SALNTY,SALNTY_FLAG_W,OXYGEN,OXYGEN_FLAG_W,SILCAT,SILCAT_FLAG_W,NITRAT,NITRAT_FLAG_W,NO2+NO3,NO2+NO3_FLAG_W,NITRIT,NITRIT_FLAG_W,PHSPHT,PHSPHT_FLAG_W,CFC-11,CFC-11_FLAG_W,CFC-12,CFC-12_FLAG_W,DELC13,DELC13_FLAG_W,TCARBN,TCARBN_FLAG_W,ALKALI,ALKALI_FLAG_W,PH,PH_FLAG_W,PH_TMP,PH_SCALE,PH_NBS,PH_NBS_FLAG_W,C13ERR,TOTALP,TOTALP_FLAG_W,AMMONI,AMMONI_FLAG_W,CHLORA,CHLORA_FLAG_W,PPHYTN,PPHYTN_FLAG_W,REVPRS,REVTMP,DEPTH_,DEPTH_FLAG,CTDDEP,THETA,SIGTHT,DOC,DOC_FLAG_W
,,,,,,,GMT,GMT,,,METER,DBAR,ITS-90,PSS-78,,UMOL/KG,,PSS-78,,UMOL/KG,,UMOL/KG,,UMOL/KG,,UMOL/KG,,UMOL/KG,,UMOL/KG,,PMOL/KG,,PMOL/KG,,/MILLE,,UMOL/KG,,UMOL/KG,,25_DEG_C,,DEG_C,,,,/MILLE,UMOL/KG,,UMOL/KG,,UG/L,,UG/L,,DBAR,ITS-90,METERS,,METERS,DEG_C,,UMOL/L,
       RF97-01,  137E,RF-0356,  1,     24,02-12830,9,19970129,1908, 12.9752, 136.9750, 4781,    105.6,  22.9893,  35.1040,2,   -999.0,9,-999.0000,9,   -999.0,9,  -999.00,9,  -999.00,9,  -999.00,9,  -999.00,9,  -999.00,9, -999.000,9, -999.000,9,  -999.00,9,   -999.0,9,   -999.0,9,-999.0000,9,   -999.0,  9,  -999.00,9,   -999.0,  -999.00,9,  -999.00,9,  -999.00,9,  -999.00,9,   -999.0,-999.0000, -999,9,  105,  22.9678,  24.0218,   -999.0,9
       RF97-01,  137E,RF-0356,  1,     23,02-12829,2,19970129,1907, 12.9752, 136.9750, 4781,    104.9,  23.0877,  35.0986,2,   -999.0,9,  35.1017,2,   -999.0,9,  -999.00,9,  -999.00,9,  -999.00,9,  -999.00,9,  -999.00,9, -999.000,9, -999.000,9,  -999.00,9,   -999.0,9,   -999.0,9,-999.0000,9,   -999.0,  9,  -999.00,9,   -999.0,  -999.00,9,  -999.00,9,  -999.00,9,  -999.00,9,   -999.0,-999.0000, -999,9,  104,  23.0662,  23.9893,   -999.0,9
       RF97-01,  137E,RF-0356,  1,     22,02-12828,9,19970129,1900, 12.9752, 136.9750, 4781,    354.3,   8.4989,  34.2522,2,   -999.0,9,-999.0000,9,   -999.0,9,  -999.00,9,  -999.00,9,  -999.00,9,  -999.00,9,  -999.00,9, -999.000,9, -999.000,9,  -999.00,9,   -999.0,9,   -999.0,9,-999.0000,9,   -999.0,  9,  -999.00,9,   -999.0,  -999.00,9,  -999.00,9,  -999.00,9,  -999.00,9,   -999.0,-999.0000, -999,9,  352,   8.4618,  26.6167,   -999.0,9
       RF97-01,  137E,RF-0356,  1,     21,02-12827,2,19970129,1859, 12.9752, 136.9750, 4781,    348.1,   8.8254,  34.2625,2,   -999.0,9,  34.2565,2,   -999.0,9,  -999.00,9,  -999.00,9,  -999.00,9,  -999.00,9,  -999.00,9, -999.000,9, -999.000,9,  -999.00,9,   -999.0,9,   -999.0,9,-999.0000,9,   -999.0,  9,  -999.00,9,   -999.0,  -999.00,9,  -999.00,9,  -999.00,9,  -999.00,9,   -999.0,-999.0000, -999,9,  346,   8.7880,  26.5742,   -999.0,9
       RF97-01,  137E,RF-0356,  1,     20,02-12826,9,19970129,1842, 12.9752, 136.9750, 4781,   1027.8,   3.8906,  34.5476,2,   -999.0,9,-999.0000,9,   -999.0,9,  -999.00,9,  -999.00,9,  -999.00,9,  -999.00,9,  -999.00,9, -999.000,9, -999.000,9,  -999.00,9,   -999.0,9,   -999.0,9,-999.0000,9,   -999.0,  9,  -999.00,9,   -999.0,  -999.00,9,  -999.00,9,  -999.00,9,  -999.00,9,   -999.0,-999.0000, -999,9, 1019,   3.8134,  27.4454,   -999.0,9
       RF97-01,  137E,RF-0356,  1,     19,02-12825,9,19970129,1842, 12.9752, 136.9750, 4781,   1023.2,   3.9125,  34.5468,2,   -999.0,9,-999.0000,9,   -999.0,9,  -999.00,9,  -999.00,9,  -999.00,9,  -999.00,9,  -999.00,9, -999.000,9, -999.000,9,  -999.00,9,   -999.0,9,   -999.0,9,-999.0000,9,   -999.0,  9,  -999.00,9,   -999.0,  -999.00,9,  -999.00,9,  -999.00,9,  -999.00,9,   -999.0,-999.0000, -999,9, 1015,   3.8356,  27.4426,   -999.0,9
       RF97-01,  137E,RF-0356,  1,     18,02-12824,9,19970129,1841, 12.9752, 136.9750, 4781,   1018.7,   3.9275,  34.5458,2,   -999.0,9,-999.0000,9,   -999.0,9,  -999.00,9,  -999.00,9,  -999.00,9,  -999.00,9,  -999.00,9, -999.000,9, -999.000,9,  -999.00,9,   -999.0,9,   -999.0,9,-999.0000,9,   -999.0,  9,  -999.00,9,   -999.0,  -999.00,9,  -999.00,9,  -999.00,9,  -999.00,9,   -999.0,-999.0000, -999,9, 1010,   3.8508,  27.4402,   -999.0,9
       RF97-01,  137E,RF-0356,  1,     17,02-12814,9,19970129,1841, 12.9752, 136.9750, 4781,   1015.9,   3.9322,  34.5454,2,   -999.0,9,-999.0000,9,   -999.0,9,  -999.00,9,  -999.00,9,  -999.00,9,  -999.00,9,  -999.00,9, -999.000,9, -999.000,9,  -999.00,9,   -999.0,9,   -999.0,9,-999.0000,9,   -999.0,  9,  -999.00,9,   -999.0,  -999.00,9,  -999.00,9,  -999.00,9,  -999.00,9,   1018.0,-999.0000, -999,9, 1008,   3.8557,  27.4394,   -999.0,9
       RF97-01,  137E,RF-0356,  1,     16,02-12832,2,19970129,1840, 12.9752, 136.9750, 4781,   1012.0,   3.9372,  34.5462,2,   -999.0,9,  34.5450,2,   -999.0,9,  -999.00,9,  -999.00,9,  -999.00,9,  -999.00,9,  -999.00,9, -999.000,9, -999.000,9,  -999.00,9,   -999.0,9,   -999.0,9,-999.0000,9,   -999.0,  9,  -999.00,9,   -999.0,  -999.00,9,  -999.00,9,  -999.00,9,  -999.00,9,   -999.0,-999.0000, -999,9, 1004,   3.8610,  27.4395,   -999.0,9
       RF97-01,  137E,RF-0356,  1,     15,02-12833,9,19970129,1821, 12.9752, 136.9750, 4781,   2015.7,   2.1161,  34.6344,2,   -999.0,9,-999.0000,9,   -999.0,9,  -999.00,9,  -999.00,9,  -999.00,9,  -999.00,9,  -999.00,9, -999.000,9, -999.000,9,  -999.00,9,   -999.0,9,   -999.0,9,-999.0000,9,   -999.0,  9,  -999.00,9,   -999.0,  -999.00,9,  -999.00,9,  -999.00,9,  -999.00,9,   -999.0,-999.0000, -999,9, 1994,   1.9766,  27.6806,   -999.0,9
       RF97-01,  137E,RF-0356,  1,     14,02-13578,9,19970129,1820, 12.9752, 136.9750, 4781,   2016.7,   2.1166,  34.6349,2,   -999.0,9,-999.0000,9,   -999.0,9,  -999.00,9,  -999.00,9,  -999.00,9,  -999.00,9,  -999.00,9, -999.000,9, -999.000,9,  -999.00,9,   -999.0,9,   -999.0,9,-999.0000,9,   -999.0,  9,  -999.00,9,   -999.0,  -999.00,9,  -999.00,9,  -999.00,9,  -999.00,9,   2017.0,-999.0000, -999,9, 1995,   1.9770,  27.6810,   -999.0,9
       RF97-01,  137E,RF-0356,  1,     13,02-13590,9,19970129,1820, 12.9752, 136.9750, 4781,   2017.9,   2.1157,  34.6348,2,   -999.0,9,-999.0000,9,   -999.0,9,  -999.00,9,  -999.00,9,  -999.00,9,  -999.00,9,  -999.00,9, -999.000,9, -999.000,9,  -999.00,9,   -999.0,9,   -999.0,9,-999.0000,9,   -999.0,  9,  -999.00,9,   -999.0,  -999.00,9,  -999.00,9,  -999.00,9,  -999.00,9,   -999.0,-999.0000, -999,9, 1997,   1.9759,  27.6810,   -999.0,9
       RF97-01,  137E,RF-0356,  1,     12,02-12821,4,19970129,1819, 12.9752, 136.9750, 4781,   2018.8,   2.1143,  34.6354,2,   -999.0,9,-999.0000,9,   -999.0,9,  -999.00,9,  -999.00,9,  -999.00,9,  -999.00,9,  -999.00,9, -999.000,9, -999.000,9,  -999.00,9,   -999.0,9,   -999.0,9,-999.0000,9,   -999.0,  9,  -999.00,9,   -999.0,  -999.00,9,  -999.00,9,  -999.00,9,  -999.00,9,   -999.0,-999.0000, -999,9, 1998,   1.9745,  27.6816,   -999.0,9
       RF97-01,  137E,RF-0356,  1,     11,02-12811,2,19970129,1819, 12.9752, 136.9750, 4781,   2019.9,   2.1037,  34.6353,2,   -999.0,9,  34.6347,2,   -999.0,9,  -999.00,9,  -999.00,9,  -999.00,9,  -999.00,9,  -999.00,9, -999.000,9, -999.000,9,  -999.00,9,   -999.0,9,   -999.0,9,-999.0000,9,   -999.0,  9,  -999.00,9,   -999.0,  -999.00,9,  -999.00,9,  -999.00,9,  -999.00,9,   -999.0,-999.0000, -999,9, 1999,   1.9640,  27.6823,   -999.0,9
       RF97-01,  137E,RF-0356,  1,     10,02-10155,9,19970129,1802, 12.9752, 136.9750, 4781,   3027.6,   1.6260,  34.6673,2,   -999.0,9,-999.0000,9,   -999.0,9,  -999.00,9,  -999.00,9,  -999.00,9,  -999.00,9,  -999.00,9, -999.000,9, -999.000,9,  -999.00,9,   -999.0,9,   -999.0,9,-999.0000,9,   -999.0,  9,  -999.00,9,   -999.0,  -999.00,9,  -999.00,9,  -999.00,9,  -999.00,9,   -999.0,-999.0000, -999,9, 2989,   1.4038,  27.7501,   -999.0,9
       RF97-01,  137E,RF-0356,  1,      9,02-12810,9,19970129,1802, 12.9752, 136.9750, 4781,   3030.8,   1.6247,  34.6671,2,   -999.0,9,-999.0000,9,   -999.0,9,  -999.00,9,  -999.00,9,  -999.00,9,  -999.00,9,  -999.00,9, -999.000,9, -999.000,9,  -999.00,9,   -999.0,9,   -999.0,9,-999.0000,9,   -999.0,  9,  -999.00,9,   -999.0,  -999.00,9,  -999.00,9,  -999.00,9,  -999.00,9,   3017.0,-999.0000, -999,9, 2992,   1.4023,  27.7500,   -999.0,9
       RF97-01,  137E,RF-0356,  1,      8,02-12819,9,19970129,1801, 12.9752, 136.9750, 4781,   3034.3,   1.6251,  34.6667,2,   -999.0,9,-999.0000,9,   -999.0,9,  -999.00,9,  -999.00,9,  -999.00,9,  -999.00,9,  -999.00,9, -999.000,9, -999.000,9,  -999.00,9,   -999.0,9,   -999.0,9,-999.0000,9,   -999.0,  9,  -999.00,9,   -999.0,  -999.00,9,  -999.00,9,  -999.00,9,  -999.00,9,   -999.0,-999.0000, -999,9, 2995,   1.4023,  27.7498,   -999.0,9
       RF97-01,  137E,RF-0356,  1,      7,02-12815,9,19970129,1801, 12.9752, 136.9750, 4781,   3036.6,   1.6255,  34.6667,2,   -999.0,9,-999.0000,9,   -999.0,9,  -999.00,9,  -999.00,9,  -999.00,9,  -999.00,9,  -999.00,9, -999.000,9, -999.000,9,  -999.00,9,   -999.0,9,   -999.0,9,-999.0000,9,   -999.0,  9,  -999.00,9,   -999.0,  -999.00,9,  -999.00,9,  -999.00,9,  -999.00,9,   -999.0,-999.0000, -999,9, 2997,   1.4025,  27.7498,   -999.0,9
       RF97-01,  137E,RF-0356,  1,      6,02-12818,2,19970129,1801, 12.9752, 136.9750, 4781,   3039.6,   1.6247,  34.6675,2,   -999.0,9,  34.6682,2,   -999.0,9,  -999.00,9,  -999.00,9,  -999.00,9,  -999.00,9,  -999.00,9, -999.000,9, -999.000,9,  -999.00,9,   -999.0,9,   -999.0,9,-999.0000,9,   -999.0,  9,  -999.00,9,   -999.0,  -999.00,9,  -999.00,9,  -999.00,9,  -999.00,9,   -999.0,-999.0000, -999,9, 3000,   1.4014,  27.7505,   -999.0,9
       RF97-01,  137E,RF-0356,  1,      5,02-12809,9,19970129,1737, 12.9752, 136.9750, 4781,   4729.5,   1.5549,  34.6848,2,   -999.0,9,-999.0000,9,   -999.0,9,  -999.00,9,  -999.00,9,  -999.00,9,  -999.00,9,  -999.00,9, -999.000,9, -999.000,9,  -999.00,9,   -999.0,9,   -999.0,9,-999.0000,9,   -999.0,  9,  -999.00,9,   -999.0,  -999.00,9,  -999.00,9,  -999.00,9,  -999.00,9,   -999.0,-999.0000, -999,9, 4651,   1.1513,  27.7819,   -999.0,9
       RF97-01,  137E,RF-0356,  1,      4,02-12817,9,19970129,1736, 12.9752, 136.9750, 4781,   4735.2,   1.5555,  34.6860,2,   -999.0,9,-999.0000,9,   -999.0,9,  -999.00,9,  -999.00,9,  -999.00,9,  -999.00,9,  -999.00,9, -999.000,9, -999.000,9,  -999.00,9,   -999.0,9,   -999.0,9,-999.0000,9,   -999.0,  9,  -999.00,9,   -999.0,  -999.00,9,  -999.00,9,  -999.00,9,  -999.00,9,   -999.0,-999.0000, -999,9, 4656,   1.1512,  27.7829,   -999.0,9
       RF97-01,  137E,RF-0356,  1,      3,02-12808,9,19970129,1736, 12.9752, 136.9750, 4781,   4739.8,   1.5560,  34.6858,2,   -999.0,9,-999.0000,9,   -999.0,9,  -999.00,9,  -999.00,9,  -999.00,9,  -999.00,9,  -999.00,9, -999.000,9, -999.000,9,  -999.00,9,   -999.0,9,   -999.0,9,-999.0000,9,   -999.0,  9,  -999.00,9,   -999.0,  -999.00,9,  -999.00,9,  -999.00,9,  -999.00,9,   -999.0,-999.0000, -999,9, 4661,   1.1512,  27.7827,   -999.0,9
       RF97-01,  137E,RF-0356,  1,      2,02-13588,9,19970129,1736, 12.9752, 136.9750, 4781,   4745.6,   1.5565,  34.6856,2,   -999.0,9,-999.0000,9,   -999.0,9,  -999.00,9,  -999.00,9,  -999.00,9,  -999.00,9,  -999.00,9, -999.000,9, -999.000,9,  -999.00,9,   -999.0,9,   -999.0,9,-999.0000,9,   -999.0,  9,  -999.00,9,   -999.0,  -999.00,9,  -999.00,9,  -999.00,9,  -999.00,9,   -999.0,-999.0000, -999,9, 4666,   1.1510,  27.7825,   -999.0,9
       RF97-01,  137E,RF-0356,  1,      1,02-12807,2,19970129,1735, 12.9752, 136.9750, 4781,   4749.2,   1.5572,  34.6858,2,   -999.0,9,  34.6847,2,   -999.0,9,  -999.00,9,  -999.00,9,  -999.00,9,  -999.00,9,  -999.00,9, -999.000,9, -999.000,9,  -999.00,9,   -999.0,9,   -999.0,9,-999.0000,9,   -999.0,  9,  -999.00,9,   -999.0,  -999.00,9,  -999.00,9,  -999.00,9,  -999.00,9,   4746.0,-999.0000, -999,9, 4670,   1.1513,  27.7826,   -999.0,9