BOTTLE,20130510GEMDJMAYT
EXPOCODE,SECT_ID,STNNBR,CASTNO,SAMPNO,BTLNBR,BTLNBR_FLAG_W,DATE,TIME,LATITUDE,LONGITUDE,DEPTH,CTDPRS,CTDTMP,CTDSAL,CTDSAL_FLAG_W,CTDOXY,CTDOXY_FLAG_W,SALNTY,SALNTY_FLAG_W,OXYGEN,OXYGEN_FLAG_W,SILCAT,SILCAT_FLAG_W,NITRAT,NITRAT_FLAG_W,NO2+NO3,NO2+NO3_FLAG_W,NITRIT,NITRIT_FLAG_W,PHSPHT,PHSPHT_FLAG_W,CFC-11,CFC-11_FLAG_W,CFC-12,CFC-12_FLAG_W,DELC13,DELC13_FLAG_W,TCARBN,TCARBN_FLAG_W,ALKALI,ALKALI_FLAG_W,PH,PH_FLAG_W,PH_TMP,PH_SCALE,PH_NBS,PH_NBS_FLAG_W,C13ERR,TOTALP,TOTALP_FLAG_W,AMMONI,AMMONI_FLAG_W,CHLORA,CHLORA_FLAG_W,PPHYTN,PPHYTN_FLAG_W,REVPRS,REVTMP,DEPTH_,DEPTH_FLAG,CTDDEP,THETA,SIGTHT,DOC,DOC_FLAG_W
,,,,,,,GMT,GMT,,,METER,DBAR,ITS-90,PSS-78,,UMOL/KG,,PSS-78,,UMOL/KG,,UMOL/KG,,UMOL/KG,,UMOL/KG,,UMOL/KG,,UMOL/KG,,PMOL/KG,,PMOL/KG,,/MILLE,,UMOL/KG,,UMOL/KG,,25_DEG_C,,DEG_C,,,,/MILLE,UMOL/KG,,UMOL/KG,,UG/L,,UG/L,,DBAR,ITS-90,METERS,,METERS,DEG_C,,UMOL/L,
       RF97-01,  137E,RF-0340,  1,     -9,      -9,5,19970125,0953, 28.9993, 137.0262, 4366,      0.0,  19.8035,  34.8547,2,   -999.0,9,  34.8520,2,    225.1,2,     2.35,2,  -999.00,9,     0.20,2,     0.08,2,     0.06,2, -999.000,9, -999.000,9,  -999.00,9,   1971.8,2,   -999.0,9,-999.0000,9,   -999.0,  9,     8.18,2,   -999.0,  -999.00,9,  -999.00,9,     0.37,2,     0.12,2,   -999.0,-999.0000, -999,9,    0,  19.8035,  24.7025,   -999.0,9
       RF97-01,  137E,RF-0340,  1,     23,02-12829,2,19970125,0949, 28.9993, 137.0262, 4366,     19.5,  19.8101,  34.8556,2,   -999.0,9,  34.8513,2,    223.5,2,     1.87,2,  -999.00,9,     0.16,2,     0.09,2,     0.03,2, -999.000,9, -999.000,9,  -999.00,9,   1973.3,6,   -999.0,9,-999.0000,9,   -999.0,  9,     8.18,2,   -999.0,  -999.00,9,  -999.00,9,     0.38,2,     0.12,2,   -999.0,-999.0000, -999,9,   19,  19.8066,  24.7024,   -999.0,9
       RF97-01,  137E,RF-0340,  1,     22,02-12828,2,19970125,0947, 28.9993, 137.0262, 4366,     47.4,  19.8094,  34.8549,2,   -999.0,9,  34.8515,2,    225.5,2,     1.79,2,  -999.00,9,     0.18,2,     0.09,2,     0.04,2, -999.000,9, -999.000,9,  -999.00,9,   -999.0,9,   -999.0,9,-999.0000,9,   -999.0,  9,     8.19,2,   -999.0,  -999.00,9,  -999.00,9,     0.38,2,     0.14,2,   -999.0,-999.0000, -999,9,   47,  19.8007,  24.7034,   -999.0,9
       RF97-01,  137E,RF-0340,  1,     21,02-12827,2,19970125,0946, 28.9993, 137.0262, 4366,     74.8,  19.8130,  34.8537,2,   -999.0,9,-999.0000,9,    222.5,2,     1.85,2,  -999.00,9,     0.17,2,     0.09,2,     0.02,2, -999.000,9, -999.000,9,  -999.00,9,   1972.6,2,   -999.0,9,-999.0000,9,   -999.0,  9,     8.19,2,   -999.0,  -999.00,9,  -999.00,9,     0.36,2,     0.14,2,   -999.0,-999.0000, -999,9,   74,  19.7993,  24.7028,   -999.0,9
       RF97-01,  137E,RF-0340,  1,     20,02-12826,2,19970125,0944, 28.9993, 137.0262, 4366,     99.9,  19.8064,  34.8534,2,   -999.0,9,  34.8528,2,    222.4,2,     1.86,2,  -999.00,9,     0.20,2,     0.10,2,     0.02,2, -999.000,9, -999.000,9,  -999.00,9,   1975.7,2,   -999.0,9,-999.0000,9,   -999.0,  9,     8.18,2,   -999.0,  -999.00,9,  -999.00,9,     0.37,2,     0.14,2,   -999.0,-999.0000, -999,9,   99,  19.7881,  24.7055,   -999.0,9
       RF97-01,  137E,RF-0340,  1,     19,02-12825,2,19970125,0942, 28.9993, 137.0262, 4366,    151.0,  19.2563,  34.8745,2,   -999.0,9,-999.0000,9,    206.5,2,     2.82,2,  -999.00,9,     2.28,2,     0.08,2,     0.13,2, -999.000,9, -999.000,9,  -999.00,9,   1999.7,2,   -999.0,9,-999.0000,9,   -999.0,  9,     8.14,2,   -999.0,  -999.00,9,  -999.00,9,     0.04,2,     0.05,2,   -999.0,-999.0000, -999,9,  150,  19.2292,  24.8666,   -999.0,9
       RF97-01,  137E,RF-0340,  1,     18,02-12824,3,19970125,0939, 28.9993, 137.0262, 4366,    201.6,  18.0242,  34.8812,2,   -999.0,9,  34.8759,2,    204.1,2,     3.57,2,  -999.00,9,     3.79,2,     0.02,2,     0.21,2, -999.000,9, -999.000,9,  -999.00,9,   2012.4,3,   -999.0,9,-999.0000,9,   -999.0,  9,     8.13,2,   -999.0,  -999.00,9,  -999.00,9,     0.00,2,     0.02,2,   -999.0,-999.0000, -999,9,  200,  17.9895,  25.1836,   -999.0,9
       RF97-01,  137E,RF-0340,  1,     17,02-12814,2,19970125,0937, 28.9993, 137.0262, 4366,    251.6,  17.3104,  34.8265,2,   -999.0,9,-999.0000,9,    205.9,2,     4.39,2,  -999.00,9,     4.76,2,     0.01,2,     0.26,2, -999.000,9, -999.000,9,  -999.00,9,   2022.4,2,   -999.0,9,-999.0000,9,   -999.0,  9,     8.12,2,   -999.0,  -999.00,9,  -999.00,9,  -999.00,9,  -999.00,9,    230.0,-999.0000, -999,9,  250,  17.2683,  25.3170,   -999.0,9
       RF97-01,  137E,RF-0340,  1,     16,02-12832,2,19970125,0935, 28.9993, 137.0262, 4366,    300.7,  16.6494,  34.7812,2,   -999.0,9,  34.7770,2,    199.8,2,     5.84,2,  -999.00,9,     6.30,2,     0.01,2,     0.36,2, -999.000,9, -999.000,9,  -999.00,9,   2031.7,6,   -999.0,9,-999.0000,9,   -999.0,  9,     8.09,2,   -999.0,  -999.00,9,  -999.00,9,  -999.00,9,  -999.00,9,   -999.0,-999.0000, -999,9,  299,  16.6004,  25.4405,   -999.0,9
       RF97-01,  137E,RF-0340,  1,     15,02-12833,4,19970125,0932, 28.9993, 137.0262, 4366,    399.2,  14.3018,  34.5861,2,   -999.0,9,-999.0000,9,   -999.0,9,  -999.00,9,  -999.00,9,  -999.00,9,  -999.00,9,  -999.00,9, -999.000,9, -999.000,9,  -999.00,9,   -999.0,9,   -999.0,9,-999.0000,9,   -999.0,  9,  -999.00,9,   -999.0,  -999.00,9,  -999.00,9,  -999.00,9,  -999.00,9,   -999.0,-999.0000, -999,9,  396,  14.2431,  25.8159,   -999.0,9
       RF97-01,  137E,RF-0340,  1,     14,02-13578,3,19970125,0928, 28.9993, 137.0262, 4366,    505.7,  10.8921,  34.3466,2,   -999.0,9,-999.0000,9,   -999.0,9,  -999.00,9,  -999.00,9,  -999.00,9,  -999.00,9,  -999.00,9, -999.000,9, -999.000,9,  -999.00,9,   -999.0,9,   -999.0,9,-999.0000,9,   -999.0,  9,  -999.00,9,   -999.0,  -999.00,9,  -999.00,9,  -999.00,9,  -999.00,9,    501.0,-999.0000, -999,9,  502,  10.8297,  26.2972,   -999.0,9
       RF97-01,  137E,RF-0340,  1,     13,02-13590,2,19970125,0924, 28.9993, 137.0262, 4366,    606.6,   8.1236,  34.1799,2,   -999.0,9,  34.1809,2,    146.1,2,    46.65,2,  -999.00,9,    25.28,2,     0.00,2,     1.69,2, -999.000,9, -999.000,9,  -999.00,9,   2178.8,2,   -999.0,9,-999.0000,9,   -999.0,  9,     7.80,2,   -999.0,  -999.00,9,  -999.00,9,  -999.00,9,  -999.00,9,   -999.0,-999.0000, -999,9,  602,   8.0608,  26.6207,   -999.0,9
       RF97-01,  137E,RF-0340,  1,     12,02-12821,2,19970125,0918, 28.9993, 137.0262, 4366,    698.6,   6.5251,  34.1826,2,   -999.0,9,-999.0000,9,    113.6,2,    65.71,2,  -999.00,9,    30.93,2,     0.00,2,     2.13,2, -999.000,9, -999.000,9,  -999.00,9,   2229.7,2,   -999.0,9,-999.0000,9,   -999.0,  9,     7.71,2,   -999.0,  -999.00,9,  -999.00,9,  -999.00,9,  -999.00,9,   -999.0,-999.0000, -999,9,  693,   6.4607,  26.8474,   -999.0,9
       RF97-01,  137E,RF-0340,  1,     11,02-12811,2,19970125,0914, 28.9993, 137.0262, 4366,    804.1,   4.7514,  34.1801,2,   -999.0,9,  34.1793,2,     79.1,2,    90.47,2,  -999.00,9,    36.83,2,     0.00,2,     2.60,2, -999.000,9, -999.000,9,  -999.00,9,   2286.1,2,   -999.0,9,-999.0000,9,   -999.0,  9,     7.61,2,   -999.0,  -999.00,9,  -999.00,9,  -999.00,9,  -999.00,9,   -999.0,-999.0000, -999,9,  797,   4.6876,  27.0604,   -999.0,9
       RF97-01,  137E,RF-0340,  1,     10,02-10155,2,19970125,0909, 28.9993, 137.0262, 4366,   1006.7,   3.7278,  34.3441,2,   -999.0,9,-999.0000,9,     56.2,2,   115.56,2,  -999.00,9,    40.18,2,     0.00,2,     2.89,2, -999.000,9, -999.000,9,  -999.00,9,   -999.0,9,   -999.0,9,-999.0000,9,   -999.0,  9,     7.56,2,   -999.0,  -999.00,9,  -999.00,9,  -999.00,9,  -999.00,9,   -999.0,-999.0000, -999,9,  997,   3.6540,  27.2993,   -999.0,9
       RF97-01,  137E,RF-0340,  1,      9,02-12810,2,19970125,0909, 28.9993, 137.0262, 4366,   1007.0,   3.7186,  34.3429,2,   -999.0,9,  34.3420,2,     55.0,2,   115.79,2,  -999.00,9,    40.11,2,     0.01,2,     2.91,2, -999.000,9, -999.000,9,  -999.00,9,   2332.2,2,   -999.0,9,-999.0000,9,   -999.0,  9,     7.58,2,   -999.0,  -999.00,9,  -999.00,9,  -999.00,9,  -999.00,9,   1000.0,-999.0000, -999,9,  998,   3.6448,  27.2993,   -999.0,9
       RF97-01,  137E,RF-0340,  1,      8,02-12819,2,19970125,0903, 28.9993, 137.0262, 4366,   1259.2,   2.9429,  34.4670,2,   -999.0,9,  34.4674,2,     65.0,2,   130.76,2,  -999.00,9,    40.28,2,     0.00,2,     2.89,2, -999.000,9, -999.000,9,  -999.00,9,   2347.1,2,   -999.0,9,-999.0000,9,   -999.0,  9,     7.58,2,   -999.0,  -999.00,9,  -999.00,9,  -999.00,9,  -999.00,9,   -999.0,-999.0000, -999,9, 1247,   2.8555,  27.4727,   -999.0,9
       RF97-01,  137E,RF-0340,  1,      7,02-12815,2,19970125,0857, 28.9993, 137.0262, 4366,   1517.3,   2.4260,  34.5379,2,   -999.0,9,  34.5385,2,     80.1,2,   138.39,2,  -999.00,9,    39.81,2,     0.01,2,     2.86,2, -999.000,9, -999.000,9,  -999.00,9,   2350.0,2,   -999.0,9,-999.0000,9,   -999.0,  9,     7.60,2,   -999.0,  -999.00,9,  -999.00,9,  -999.00,9,  -999.00,9,   -999.0,-999.0000, -999,9, 1502,   2.3235,  27.5753,   -999.0,9
       RF97-01,  137E,RF-0340,  1,      6,02-12818,2,19970125,0847, 28.9993, 137.0262, 4366,   2022.7,   1.9364,  34.6121,2,   -999.0,9,  34.6141,2,    112.5,2,   139.40,2,  -999.00,9,    38.13,2,     0.00,2,     2.72,2, -999.000,9, -999.000,9,  -999.00,9,   2338.3,6,   -999.0,9,-999.0000,9,   -999.0,  9,     7.66,2,   -999.0,  -999.00,9,  -999.00,9,  -999.00,9,  -999.00,9,   -999.0,-999.0000, -999,9, 1999,   1.7991,  27.6766,   -999.0,9
       RF97-01,  137E,RF-0340,  1,      5,02-12809,2,19970125,0838, 28.9993, 137.0262, 4366,   2526.0,   1.6944,  34.6483,2,   -999.0,9,  34.7414,4,    132.0,2,   138.64,2,  -999.00,9,    36.97,2,     0.00,2,     2.61,2, -999.000,9, -999.000,9,  -999.00,9,   2332.1,2,   -999.0,9,-999.0000,9,   -999.0,  9,     7.69,2,   -999.0,  -999.00,9,  -999.00,9,  -999.00,9,  -999.00,9,   -999.0,-999.0000, -999,9, 2494,   1.5175,  27.7266,   -999.0,9
       RF97-01,  137E,RF-0340,  1,      4,02-12817,2,19970125,0828, 28.9993, 137.0262, 4366,   3038.5,   1.5725,  34.6672,2,   -999.0,9,  34.6709,2,    143.5,2,   137.71,2,  -999.00,9,    36.30,2,     0.01,2,     2.55,2, -999.000,9, -999.000,9,  -999.00,9,   2324.3,2,   -999.0,9,-999.0000,9,   -999.0,  9,     7.71,2,   -999.0,  -999.00,9,  -999.00,9,  -999.00,9,  -999.00,9,   -999.0,-999.0000, -999,9, 2996,   1.3504,  27.7538,   -999.0,9
       RF97-01,  137E,RF-0340,  1,      3,02-12808,4,19970125,0818, 28.9993, 137.0262, 4366,   3550.1,   1.5171,  34.6775,2,   -999.0,9,-999.0000,9,   -999.0,9,  -999.00,9,  -999.00,9,  -999.00,9,  -999.00,9,  -999.00,9, -999.000,9, -999.000,9,  -999.00,9,   -999.0,9,   -999.0,9,-999.0000,9,   -999.0,  9,  -999.00,9,   -999.0,  -999.00,9,  -999.00,9,  -999.00,9,  -999.00,9,   -999.0,-999.0000, -999,9, 3497,   1.2454,  27.7695,   -999.0,9
       RF97-01,  137E,RF-0340,  1,      2,02-13588,2,19970125,0808, 28.9993, 137.0262, 4366,   4065.8,   1.5361,  34.6818,2,   -999.0,9,  34.6841,2,    155.1,2,   136.26,2,  -999.00,9,    35.70,2,     0.00,2,     2.49,2, -999.000,9, -999.000,9,  -999.00,9,   2312.1,2,   -999.0,9,-999.0000,9,   -999.0,  9,     7.73,2,   -999.0,  -999.00,9,  -999.00,9,  -999.00,9,  -999.00,9,   -999.0,-999.0000, -999,9, 4000,   1.2090,  27.7755,   -999.0,9
       RF97-01,  137E,RF-0340,  1,      1,02-12807,2,19970125,0803, 28.9993, 137.0262, 4366,   4270.9,   1.5556,  34.6818,2,   -999.0,9,  34.6833,2,    154.5,2,   136.10,2,  -999.00,9,    35.65,2,     0.01,2,     2.49,2, -999.000,9, -999.000,9,  -999.00,9,   2315.1,6,   -999.0,9,-999.0000,9,   -999.0,  9,     7.73,2,   -999.0,  -999.00,9,  -999.00,9,  -999.00,9,  -999.00,9,   4273.0,-999.0000, -999,9, 4200,   1.2051,  27.7758,   -999.0,9