BOTTLE,20130510GEMDJMAYT
EXPOCODE,SECT_ID,STNNBR,CASTNO,SAMPNO,BTLNBR,BTLNBR_FLAG_W,DATE,TIME,LATITUDE,LONGITUDE,DEPTH,CTDPRS,CTDTMP,CTDSAL,CTDSAL_FLAG_W,CTDOXY,CTDOXY_FLAG_W,SALNTY,SALNTY_FLAG_W,OXYGEN,OXYGEN_FLAG_W,SILCAT,SILCAT_FLAG_W,NITRAT,NITRAT_FLAG_W,NO2+NO3,NO2+NO3_FLAG_W,NITRIT,NITRIT_FLAG_W,PHSPHT,PHSPHT_FLAG_W,CFC-11,CFC-11_FLAG_W,CFC-12,CFC-12_FLAG_W,DELC13,DELC13_FLAG_W,TCARBN,TCARBN_FLAG_W,ALKALI,ALKALI_FLAG_W,PH,PH_FLAG_W,PH_TMP,PH_SCALE,PH_NBS,PH_NBS_FLAG_W,C13ERR,TOTALP,TOTALP_FLAG_W,AMMONI,AMMONI_FLAG_W,CHLORA,CHLORA_FLAG_W,PPHYTN,PPHYTN_FLAG_W,REVPRS,REVTMP,DEPTH_,DEPTH_FLAG,CTDDEP,THETA,SIGTHT,DOC,DOC_FLAG_W
,,,,,,,GMT,GMT,,,METER,DBAR,ITS-90,PSS-78,,UMOL/KG,,PSS-78,,UMOL/KG,,UMOL/KG,,UMOL/KG,,UMOL/KG,,UMOL/KG,,UMOL/KG,,PMOL/KG,,PMOL/KG,,/MILLE,,UMOL/KG,,UMOL/KG,,25_DEG_C,,DEG_C,,,,/MILLE,UMOL/KG,,UMOL/KG,,UG/L,,UG/L,,DBAR,ITS-90,METERS,,METERS,DEG_C,,UMOL/L,
       RF97-01,  137E,RF-0366,  1,     24,02-12830,2,19970201,1348,  2.9992, 137.0272, 4530,      4.0,  28.4705,  34.0422,2,   -999.0,9,-999.0000,9,   -999.0,9,  -999.00,9,  -999.00,9,  -999.00,9,  -999.00,9,  -999.00,9, -999.000,9, -999.000,9,  -999.00,9,   1888.0,2,   -999.0,9,-999.0000,9,   -999.0,  9,     8.26,2,   -999.0,  -999.00,9,  -999.00,9,     0.08,2,     0.02,2,   -999.0,-999.0000, -999,9,    4,  28.4696,  21.5208,   -999.0,9
       RF97-01,  137E,RF-0366,  1,     23,02-12829,2,19970201,1347,  2.9992, 137.0272, 4530,     11.1,  28.3894,  34.0258,2,   -999.0,9,  34.0378,4,   -999.0,9,  -999.00,9,  -999.00,9,  -999.00,9,  -999.00,9,  -999.00,9, -999.000,9, -999.000,9,  -999.00,9,   1889.0,2,   -999.0,9,-999.0000,9,   -999.0,  9,  -999.00,9,   -999.0,  -999.00,9,  -999.00,9,     0.07,2,     0.02,2,   -999.0,-999.0000, -999,9,   11,  28.3868,  21.5357,   -999.0,9
       RF97-01,  137E,RF-0366,  1,     22,02-12828,2,19970201,1346,  2.9992, 137.0272, 4530,     24.4,  27.8796,  34.0527,2,   -999.0,9,-999.0000,9,   -999.0,9,  -999.00,9,  -999.00,9,  -999.00,9,  -999.00,9,  -999.00,9, -999.000,9, -999.000,9,  -999.00,9,   1887.9,2,   -999.0,9,-999.0000,9,   -999.0,  9,     8.26,2,   -999.0,  -999.00,9,  -999.00,9,     0.08,2,     0.02,2,   -999.0,-999.0000, -999,9,   24,  27.8739,  21.7234,   -999.0,9
       RF97-01,  137E,RF-0366,  1,     21,02-12827,2,19970201,1345,  2.9992, 137.0272, 4530,     51.2,  26.2454,  34.2781,2,   -999.0,9,-999.0000,9,   -999.0,9,  -999.00,9,  -999.00,9,  -999.00,9,  -999.00,9,  -999.00,9, -999.000,9, -999.000,9,  -999.00,9,   1914.9,2,   -999.0,9,-999.0000,9,   -999.0,  9,     8.24,2,   -999.0,  -999.00,9,  -999.00,9,     0.82,2,     0.36,2,   -999.0,-999.0000, -999,9,   51,  26.2339,  22.4159,   -999.0,9
       RF97-01,  137E,RF-0366,  1,     20,02-12826,2,19970201,1343,  2.9992, 137.0272, 4530,     75.4,  24.4512,  34.6237,2,   -999.0,9,-999.0000,9,   -999.0,9,  -999.00,9,  -999.00,9,  -999.00,9,  -999.00,9,  -999.00,9, -999.000,9, -999.000,9,  -999.00,9,   1984.5,2,   -999.0,9,-999.0000,9,   -999.0,  9,     8.16,2,   -999.0,  -999.00,9,  -999.00,9,     1.46,2,     0.53,2,   -999.0,-999.0000, -999,9,   75,  24.4351,  23.2271,   -999.0,9
       RF97-01,  137E,RF-0366,  1,     19,02-12825,2,19970201,1342,  2.9992, 137.0272, 4530,    100.5,  22.2111,  34.7328,2,   -999.0,9,  34.8109,4,   -999.0,9,  -999.00,9,  -999.00,9,  -999.00,9,  -999.00,9,  -999.00,9, -999.000,9, -999.000,9,  -999.00,9,   2018.4,2,   -999.0,9,-999.0000,9,   -999.0,  9,     8.12,2,   -999.0,  -999.00,9,  -999.00,9,     0.25,2,     0.28,2,   -999.0,-999.0000, -999,9,  100,  22.1911,  23.9612,   -999.0,9
       RF97-01,  137E,RF-0366,  1,     18,02-12824,2,19970201,1341,  2.9992, 137.0272, 4530,    125.6,  20.3966,  34.7447,2,   -999.0,9,-999.0000,9,   -999.0,9,  -999.00,9,  -999.00,9,  -999.00,9,  -999.00,9,  -999.00,9, -999.000,9, -999.000,9,  -999.00,9,   2034.2,2,   -999.0,9,-999.0000,9,   -999.0,  9,  -999.00,9,   -999.0,  -999.00,9,  -999.00,9,     0.25,2,     0.32,2,   -999.0,-999.0000, -999,9,  125,  20.3731,  24.4682,   -999.0,9
       RF97-01,  137E,RF-0366,  1,     17,02-12814,2,19970201,1339,  2.9992, 137.0272, 4530,    150.4,  18.3516,  34.6987,2,   -999.0,9,-999.0000,9,   -999.0,9,  -999.00,9,  -999.00,9,  -999.00,9,  -999.00,9,  -999.00,9, -999.000,9, -999.000,9,  -999.00,9,   2060.2,2,   -999.0,9,-999.0000,9,   -999.0,  9,     8.04,2,   -999.0,  -999.00,9,  -999.00,9,     0.03,2,     0.05,2,    153.0,-999.0000, -999,9,  149,  18.3255,  24.9607,   -999.0,9
       RF97-01,  137E,RF-0366,  1,     16,02-12832,2,19970201,1337,  2.9992, 137.0272, 4530,    201.3,  15.6811,  34.6696,2,   -999.0,9,-999.0000,9,   -999.0,9,  -999.00,9,  -999.00,9,  -999.00,9,  -999.00,9,  -999.00,9, -999.000,9, -999.000,9,  -999.00,9,   2094.9,2,   -999.0,9,-999.0000,9,   -999.0,  9,     7.97,2,   -999.0,  -999.00,9,  -999.00,9,     0.01,2,     0.03,2,   -999.0,-999.0000, -999,9,  200,  15.6498,  25.5728,   -999.0,9
       RF97-01,  137E,RF-0366,  1,     15,02-12833,9,19970201,1336,  2.9992, 137.0272, 4530,    251.5,  11.5694,  34.5283,2,   -999.0,9,-999.0000,9,   -999.0,9,  -999.00,9,  -999.00,9,  -999.00,9,  -999.00,9,  -999.00,9, -999.000,9, -999.000,9,  -999.00,9,   2161.1,2,   -999.0,9,-999.0000,9,   -999.0,  9,  -999.00,9,   -999.0,  -999.00,9,  -999.00,9,  -999.00,9,  -999.00,9,   -999.0,-999.0000, -999,9,  250,  11.5375,  26.3097,   -999.0,9
       RF97-01,  137E,RF-0366,  1,     14,02-13578,2,19970201,1334,  2.9992, 137.0272, 4530,    302.3,   8.8617,  34.5343,2,   -999.0,9,-999.0000,9,   -999.0,9,  -999.00,9,  -999.00,9,  -999.00,9,  -999.00,9,  -999.00,9, -999.000,9, -999.000,9,  -999.00,9,   2210.2,2,   -999.0,9,-999.0000,9,   -999.0,  9,     7.75,2,   -999.0,  -999.00,9,  -999.00,9,  -999.00,9,  -999.00,9,    296.0,-999.0000, -999,9,  300,   8.8292,  26.7807,   -999.0,9
       RF97-01,  137E,RF-0366,  1,     13,02-13590,2,19970201,1331,  2.9992, 137.0272, 4530,    403.4,   8.6213,  34.6321,2,   -999.0,9,  34.6253,2,   -999.0,9,  -999.00,9,  -999.00,9,  -999.00,9,  -999.00,9,  -999.00,9, -999.000,9, -999.000,9,  -999.00,9,   2196.9,2,   -999.0,9,-999.0000,9,   -999.0,  9,  -999.00,9,   -999.0,  -999.00,9,  -999.00,9,  -999.00,9,  -999.00,9,   -999.0,-999.0000, -999,9,  401,   8.5783,  26.8967,   -999.0,9
       RF97-01,  137E,RF-0366,  1,     12,02-12821,2,19970201,1328,  2.9992, 137.0272, 4530,    502.5,   7.3784,  34.5657,2,   -999.0,9,-999.0000,9,   -999.0,9,  -999.00,9,  -999.00,9,  -999.00,9,  -999.00,9,  -999.00,9, -999.000,9, -999.000,9,  -999.00,9,   2095.0,4,   -999.0,9,-999.0000,9,   -999.0,  9,  -999.00,4,   -999.0,  -999.00,9,  -999.00,9,  -999.00,9,  -999.00,9,   -999.0,-999.0000, -999,9,  499,   7.3292,  27.0305,   -999.0,9
       RF97-01,  137E,RF-0366,  1,     11,02-12811,2,19970201,1326,  2.9992, 137.0272, 4530,    605.6,   6.8530,  34.5462,2,   -999.0,9,  34.5409,2,   -999.0,9,  -999.00,9,  -999.00,9,  -999.00,9,  -999.00,9,  -999.00,9, -999.000,9, -999.000,9,  -999.00,9,   2212.5,2,   -999.0,9,-999.0000,9,   -999.0,  9,  -999.00,9,   -999.0,  -999.00,9,  -999.00,9,  -999.00,9,  -999.00,9,   -999.0,-999.0000, -999,9,  601,   6.7957,  27.0893,   -999.0,9
       RF97-01,  137E,RF-0366,  1,     10,02-10155,2,19970201,1323,  2.9992, 137.0272, 4530,    705.4,   6.2212,  34.5317,2,   -999.0,9,-999.0000,9,   -999.0,9,  -999.00,9,  -999.00,9,  -999.00,9,  -999.00,9,  -999.00,9, -999.000,9, -999.000,9,  -999.00,9,   2240.1,2,   -999.0,9,-999.0000,9,   -999.0,  9,     7.71,2,   -999.0,  -999.00,9,  -999.00,9,  -999.00,9,  -999.00,9,   -999.0,-999.0000, -999,9,  700,   6.1574,  27.1625,   -999.0,9
       RF97-01,  137E,RF-0366,  1,      9,02-12810,9,19970201,1320,  2.9992, 137.0272, 4530,    806.5,   5.9141,  34.5361,2,   -999.0,9,-999.0000,9,   -999.0,9,  -999.00,9,  -999.00,9,  -999.00,9,  -999.00,9,  -999.00,9, -999.000,9, -999.000,9,  -999.00,9,   2250.9,2,   -999.0,9,-999.0000,9,   -999.0,  9,  -999.00,9,   -999.0,  -999.00,9,  -999.00,9,  -999.00,9,  -999.00,9,    804.0,-999.0000, -999,9,  800,   5.8424,  27.2060,   -999.0,9
       RF97-01,  137E,RF-0366,  1,      8,02-12819,2,19970201,1316,  2.9992, 137.0272, 4530,   1006.9,   4.8453,  34.5460,2,   -999.0,9,  34.5468,2,   -999.0,9,  -999.00,9,  -999.00,9,  -999.00,9,  -999.00,9,  -999.00,9, -999.000,9, -999.000,9,  -999.00,9,   2282.7,2,   -999.0,9,-999.0000,9,   -999.0,  9,     7.66,2,   -999.0,  -999.00,9,  -999.00,9,  -999.00,9,  -999.00,9,   -999.0,-999.0000, -999,9,  999,   4.7625,  27.3425,   -999.0,9
       RF97-01,  137E,RF-0366,  1,      7,02-12815,2,19970201,1307,  2.9992, 137.0272, 4530,   1513.4,   3.1394,  34.5934,2,   -999.0,9,  34.5942,2,   -999.0,9,  -999.00,9,  -999.00,9,  -999.00,9,  -999.00,9,  -999.00,9, -999.000,9, -999.000,9,  -999.00,9,   2322.3,2,   -999.0,9,-999.0000,9,   -999.0,  9,     7.65,2,   -999.0,  -999.00,9,  -999.00,9,  -999.00,9,  -999.00,9,   -999.0,-999.0000, -999,9, 1500,   3.0288,  27.5579,   -999.0,9
       RF97-01,  137E,RF-0366,  1,      6,02-12818,2,19970201,1257,  2.9992, 137.0272, 4530,   2020.6,   2.1462,  34.6387,2,   -999.0,9,  34.6394,2,   -999.0,9,  -999.00,9,  -999.00,9,  -999.00,9,  -999.00,9,  -999.00,9, -999.000,9, -999.000,9,  -999.00,9,   2334.8,2,   -999.0,9,-999.0000,9,   -999.0,  9,     7.67,2,   -999.0,  -999.00,9,  -999.00,9,  -999.00,9,  -999.00,9,   -999.0,-999.0000, -999,9, 2000,   2.0058,  27.6817,   -999.0,9
       RF97-01,  137E,RF-0366,  1,      5,02-12809,2,19970201,1248,  2.9992, 137.0272, 4530,   2531.0,   1.7310,  34.6611,2,   -999.0,9,  34.6617,2,   -999.0,9,  -999.00,9,  -999.00,9,  -999.00,9,  -999.00,9,  -999.00,9, -999.000,9, -999.000,9,  -999.00,9,   2330.2,2,   -999.0,9,-999.0000,9,   -999.0,  9,  -999.00,9,   -999.0,  -999.00,9,  -999.00,9,  -999.00,9,  -999.00,9,   -999.0,-999.0000, -999,9, 2502,   1.5529,  27.7344,   -999.0,9
       RF97-01,  137E,RF-0366,  1,      4,02-12817,2,19970201,1239,  2.9992, 137.0272, 4530,   3040.5,   1.5751,  34.6725,2,   -999.0,9,  34.6727,2,   -999.0,9,  -999.00,9,  -999.00,9,  -999.00,9,  -999.00,9,  -999.00,9, -999.000,9, -999.000,9,  -999.00,9,   2326.5,2,   -999.0,9,-999.0000,9,   -999.0,  9,     7.71,2,   -999.0,  -999.00,9,  -999.00,9,  -999.00,9,  -999.00,9,   -999.0,-999.0000, -999,9, 3002,   1.3528,  27.7580,   -999.0,9
       RF97-01,  137E,RF-0366,  1,      3,02-12808,2,19970201,1230,  2.9992, 137.0272, 4530,   3551.8,   1.5458,  34.6772,2,   -999.0,9,  34.6768,2,   -999.0,9,  -999.00,9,  -999.00,9,  -999.00,9,  -999.00,9,  -999.00,9, -999.000,9, -999.000,9,  -999.00,9,   2324.6,2,   -999.0,9,-999.0000,9,   -999.0,  9,  -999.00,9,   -999.0,  -999.00,9,  -999.00,9,  -999.00,9,  -999.00,9,   -999.0,-999.0000, -999,9, 3503,   1.2733,  27.7673,   -999.0,9
       RF97-01,  137E,RF-0366,  1,      2,02-13588,2,19970201,1220,  2.9992, 137.0272, 4530,   4064.4,   1.5040,  34.6854,2,   -999.0,9,  34.6857,2,   -999.0,9,  -999.00,9,  -999.00,9,  -999.00,9,  -999.00,9,  -999.00,9, -999.000,9, -999.000,9,  -999.00,9,   2317.9,2,   -999.0,9,-999.0000,9,   -999.0,  9,     7.73,2,   -999.0,  -999.00,9,  -999.00,9,  -999.00,9,  -999.00,9,   -999.0,-999.0000, -999,9, 4004,   1.1779,  27.7805,   -999.0,9
       RF97-01,  137E,RF-0366,  1,      1,02-12807,2,19970201,1212,  2.9992, 137.0272, 4530,   4528.5,   1.5234,  34.6873,2,   -999.0,9,  34.6875,2,   -999.0,9,  -999.00,9,  -999.00,9,  -999.00,9,  -999.00,9,  -999.00,9, -999.000,9, -999.000,9,  -999.00,9,   2314.6,6,   -999.0,9,-999.0000,9,   -999.0,  9,     7.73,2,   -999.0,  -999.00,9,  -999.00,9,  -999.00,9,  -999.00,9,   4528.0,-999.0000, -999,9, 4456,   1.1444,  27.7843,   -999.0,9