BOTTLE,20130510GEMDJMAYT
EXPOCODE,SECT_ID,STNNBR,CASTNO,SAMPNO,BTLNBR,BTLNBR_FLAG_W,DATE,TIME,LATITUDE,LONGITUDE,DEPTH,CTDPRS,CTDTMP,CTDSAL,CTDSAL_FLAG_W,CTDOXY,CTDOXY_FLAG_W,SALNTY,SALNTY_FLAG_W,OXYGEN,OXYGEN_FLAG_W,SILCAT,SILCAT_FLAG_W,NITRAT,NITRAT_FLAG_W,NO2+NO3,NO2+NO3_FLAG_W,NITRIT,NITRIT_FLAG_W,PHSPHT,PHSPHT_FLAG_W,CFC-11,CFC-11_FLAG_W,CFC-12,CFC-12_FLAG_W,DELC13,DELC13_FLAG_W,TCARBN,TCARBN_FLAG_W,ALKALI,ALKALI_FLAG_W,PH,PH_FLAG_W,PH_TMP,PH_SCALE,PH_NBS,PH_NBS_FLAG_W,C13ERR,TOTALP,TOTALP_FLAG_W,AMMONI,AMMONI_FLAG_W,CHLORA,CHLORA_FLAG_W,PPHYTN,PPHYTN_FLAG_W,REVPRS,REVTMP,DEPTH_,DEPTH_FLAG,CTDDEP,THETA,SIGTHT,DOC,DOC_FLAG_W
,,,,,,,GMT,GMT,,,METER,DBAR,ITS-90,PSS-78,,UMOL/KG,,PSS-78,,UMOL/KG,,UMOL/KG,,UMOL/KG,,UMOL/KG,,UMOL/KG,,UMOL/KG,,PMOL/KG,,PMOL/KG,,/MILLE,,UMOL/KG,,UMOL/KG,,25_DEG_C,,DEG_C,,,,/MILLE,UMOL/KG,,UMOL/KG,,UG/L,,UG/L,,DBAR,ITS-90,METERS,,METERS,DEG_C,,UMOL/L,
     RF97-05-1,  165E,RF-0417,  1,     -9,      -9,5,19970610,0132, 34.9892, 165.0445, 5876,      0.0,  17.3624,  34.5377,2,   -999.0,9,-999.0000,9,    249.5,2,     2.60,2,  -999.00,9,     0.22,2,     0.01,2,     0.11,2, -999.000,9, -999.000,9,  -999.00,9,   -999.0,9,   -999.0,9,-999.0000,9,   -999.0,  9,  -999.00,9,   -999.0,  -999.00,9,  -999.00,9,     0.50,2,     0.08,2,   -999.0,-999.0000, -999,9,    0,  17.3624,  25.0729,   -999.0,9
     RF97-05-1,  165E,RF-0417,  1,     23,02-12829,2,19970610,0130, 34.9892, 165.0445, 5876,      8.0,  17.3482,  34.5364,2,   -999.0,9,  34.5387,2,    249.1,2,     2.53,2,  -999.00,9,     0.16,2,     0.01,2,     0.10,2, -999.000,9, -999.000,9,  -999.00,9,   -999.0,9,   -999.0,9,-999.0000,9,   -999.0,  9,  -999.00,9,   -999.0,  -999.00,9,  -999.00,9,     0.50,2,     0.08,2,   -999.0,-999.0000, -999,9,    8,  17.3469,  25.0756,   -999.0,9
     RF97-05-1,  165E,RF-0417,  1,     22,02-12828,2,19970610,0128, 34.9892, 165.0445, 5876,     25.4,  17.3614,  34.5474,2,   -999.0,9,-999.0000,9,    247.3,2,     2.68,2,  -999.00,9,     0.30,2,     0.04,2,     0.10,2, -999.000,9, -999.000,9,  -999.00,9,   -999.0,9,   -999.0,9,-999.0000,9,   -999.0,  9,  -999.00,9,   -999.0,  -999.00,9,  -999.00,9,     0.49,2,     0.12,2,   -999.0,-999.0000, -999,9,   25,  17.3571,  25.0816,   -999.0,9
     RF97-05-1,  165E,RF-0417,  1,     21,02-12827,2,19970610,0127, 34.9892, 165.0445, 5876,     51.3,  15.6929,  34.6749,2,   -999.0,9,  34.6751,2,    224.5,2,     6.72,2,  -999.00,9,     5.43,2,     0.10,2,     0.40,2, -999.000,9, -999.000,9,  -999.00,9,   -999.0,9,   -999.0,9,-999.0000,9,   -999.0,  9,  -999.00,9,   -999.0,  -999.00,9,  -999.00,9,     0.50,2,     0.21,2,   -999.0,-999.0000, -999,9,   51,  15.6849,  25.5690,   -999.0,9
     RF97-05-1,  165E,RF-0417,  1,     20,02-12826,2,19970610,0126, 34.9892, 165.0445, 5876,     76.1,  14.8943,  34.6321,2,   -999.0,9,-999.0000,9,    230.0,2,     7.50,2,  -999.00,9,     6.11,2,     0.02,2,     0.44,2, -999.000,9, -999.000,9,  -999.00,9,   -999.0,9,   -999.0,9,-999.0000,9,   -999.0,  9,  -999.00,9,   -999.0,  -999.00,9,  -999.00,9,     0.13,2,     0.08,2,   -999.0,-999.0000, -999,9,   76,  14.8829,  25.7138,   -999.0,9
     RF97-05-1,  165E,RF-0417,  1,     19,02-12825,2,19970610,0124, 34.9892, 165.0445, 5876,     99.4,  14.5441,  34.6118,2,   -999.0,9,  34.6137,2,    226.4,2,     8.64,2,  -999.00,9,     6.99,2,     0.02,2,     0.50,2, -999.000,9, -999.000,9,  -999.00,9,   -999.0,9,   -999.0,9,-999.0000,9,   -999.0,  9,  -999.00,9,   -999.0,  -999.00,9,  -999.00,9,     0.03,2,     0.05,2,   -999.0,-999.0000, -999,9,   99,  14.5295,  25.7747,   -999.0,9
     RF97-05-1,  165E,RF-0417,  1,     18,02-12824,2,19970610,0123, 34.9892, 165.0445, 5876,    125.7,  14.1471,  34.5801,2,   -999.0,9,-999.0000,9,    221.8,2,    10.30,2,  -999.00,9,     8.18,2,     0.01,2,     0.58,2, -999.000,9, -999.000,9,  -999.00,9,   -999.0,9,   -999.0,9,-999.0000,9,   -999.0,  9,  -999.00,9,   -999.0,  -999.00,9,  -999.00,9,     0.01,2,     0.04,2,   -999.0,-999.0000, -999,9,  125,  14.1289,  25.8354,   -999.0,9
     RF97-05-1,  165E,RF-0417,  1,     17,02-12814,2,19970610,0122, 34.9892, 165.0445, 5876,    152.1,  13.7262,  34.5480,2,   -999.0,9,-999.0000,9,    215.7,2,    12.17,2,  -999.00,9,     9.39,2,     0.01,2,     0.66,2, -999.000,9, -999.000,9,  -999.00,9,   -999.0,9,   -999.0,9,-999.0000,9,   -999.0,  9,  -999.00,9,   -999.0,  -999.00,9,  -999.00,9,     0.01,2,     0.05,2,   -999.0,-999.0000, -999,9,  151,  13.7046,  25.8992,   -999.0,9
     RF97-05-1,  165E,RF-0417,  1,     15,02-12833,9,19970610,0119, 34.9892, 165.0445, 5876,    199.6,  12.9265,  34.4792,2,   -999.0,9,-999.0000,9,   -999.0,9,  -999.00,9,  -999.00,9,  -999.00,9,  -999.00,9,  -999.00,9, -999.000,9, -999.000,9,  -999.00,9,   -999.0,9,   -999.0,9,-999.0000,9,   -999.0,  9,  -999.00,9,   -999.0,  -999.00,9,  -999.00,9,  -999.00,9,  -999.00,9,   -999.0,-999.0000, -999,9,  198,  12.8993,  26.0095,   -999.0,9
     RF97-05-1,  165E,RF-0417,  1,     16,02-12832,2,19970610,0120, 34.9892, 165.0445, 5876,    201.6,  12.8457,  34.4796,2,   -999.0,9,  34.4786,2,    201.2,2,    16.58,2,  -999.00,9,    12.15,2,     0.01,2,     0.86,2, -999.000,9, -999.000,9,  -999.00,9,   -999.0,9,   -999.0,9,-999.0000,9,   -999.0,  9,  -999.00,9,   -999.0,  -999.00,9,  -999.00,9,     0.00,2,     0.03,2,   -999.0,-999.0000, -999,9,  200,  12.8183,  26.0259,   -999.0,9
     RF97-05-1,  165E,RF-0417,  1,     14,02-13578,2,19970610,0117, 34.9892, 165.0445, 5876,    251.3,  11.5702,  34.3731,2,   -999.0,9,-999.0000,9,    228.9,2,    16.90,2,  -999.00,9,    11.66,2,     0.01,2,     0.84,2, -999.000,9, -999.000,9,  -999.00,9,   -999.0,9,   -999.0,9,-999.0000,9,   -999.0,  9,  -999.00,9,   -999.0,  -999.00,9,  -999.00,9,  -999.00,9,  -999.00,9,   -999.0,-999.0000, -999,9,  249,  11.5384,  26.1889,   -999.0,9
     RF97-05-1,  165E,RF-0417,  1,     12,02-12821,9,19970610,0115, 34.9892, 165.0445, 5876,    302.3,  10.5970,  34.3042,2,   -999.0,9,-999.0000,9,   -999.0,9,  -999.00,9,  -999.00,9,  -999.00,9,  -999.00,9,  -999.00,9, -999.000,9, -999.000,9,  -999.00,9,   -999.0,9,   -999.0,9,-999.0000,9,   -999.0,  9,  -999.00,9,   -999.0,  -999.00,9,  -999.00,9,  -999.00,9,  -999.00,9,   -999.0,-999.0000, -999,9,  300,  10.5608,  26.3118,   -999.0,9
     RF97-05-1,  165E,RF-0417,  1,     13,02-13590,2,19970610,0115, 34.9892, 165.0445, 5876,    308.7,  10.4514,  34.2855,2,   -999.0,9,-999.0000,9,    232.8,2,    19.47,2,  -999.00,9,    13.16,2,     0.01,2,     0.95,2, -999.000,9, -999.000,9,  -999.00,9,   -999.0,9,   -999.0,9,-999.0000,9,   -999.0,  9,  -999.00,9,   -999.0,  -999.00,9,  -999.00,9,  -999.00,9,  -999.00,9,   -999.0,-999.0000, -999,9,  306,  10.4147,  26.3227,   -999.0,9
     RF97-05-1,  165E,RF-0417,  1,     11,02-12811,2,19970610,0111, 34.9892, 165.0445, 5876,    405.1,   7.9804,  34.0511,2,   -999.0,9,  34.0537,2,    189.8,2,    37.24,2,  -999.00,9,    21.88,2,     0.00,2,     1.57,2, -999.000,9, -999.000,9,  -999.00,9,   -999.0,9,   -999.0,9,-999.0000,9,   -999.0,  9,  -999.00,9,   -999.0,  -999.00,9,  -999.00,9,  -999.00,9,  -999.00,9,   -999.0,-999.0000, -999,9,  402,   7.9395,  26.5375,   -999.0,9
     RF97-05-1,  165E,RF-0417,  1,     10,02-10155,4,19970610,0108, 34.9892, 165.0445, 5876,    505.5,   6.0705,  34.0140,2,   -999.0,9,-999.0000,9,   -999.0,4,  -999.00,4,  -999.00,9,  -999.00,4,  -999.00,4,  -999.00,4, -999.000,9, -999.000,9,  -999.00,9,   -999.0,9,   -999.0,9,-999.0000,9,   -999.0,  9,  -999.00,9,   -999.0,  -999.00,9,  -999.00,9,  -999.00,9,  -999.00,9,   -999.0,-999.0000, -999,9,  501,   6.0264,  26.7702,   -999.0,9
     RF97-05-1,  165E,RF-0417,  1,      9,02-12810,2,19970610,0105, 34.9892, 165.0445, 5876,    605.3,   4.8405,  34.0657,2,   -999.0,9,  34.0714,2,     95.5,2,    82.02,2,  -999.00,9,    35.93,2,     0.00,2,     2.59,2, -999.000,9, -999.000,9,  -999.00,9,   -999.0,9,   -999.0,9,-999.0000,9,   -999.0,  9,  -999.00,9,   -999.0,  -999.00,9,  -999.00,9,  -999.00,9,  -999.00,9,   -999.0,-999.0000, -999,9,  600,   4.7930,  26.9579,   -999.0,9
     RF97-05-1,  165E,RF-0417,  1,      8,02-13591,2,19970610,0101, 34.9892, 165.0445, 5876,    707.5,   4.3113,  34.1527,2,   -999.0,9,-999.0000,9,     68.2,2,    97.76,2,  -999.00,9,    38.90,2,     0.00,2,     2.79,2, -999.000,9, -999.000,9,  -999.00,9,   -999.0,9,   -999.0,9,-999.0000,9,   -999.0,  9,  -999.00,9,   -999.0,  -999.00,9,  -999.00,9,  -999.00,9,  -999.00,9,   -999.0,-999.0000, -999,9,  701,   4.2580,  27.0852,   -999.0,9
     RF97-05-1,  165E,RF-0417,  1,      7,02-13589,2,19970610,0058, 34.9892, 165.0445, 5876,    806.3,   3.9843,  34.2263,2,   -999.0,9,  34.2278,2,     52.3,2,   108.23,2,  -999.00,9,    40.60,2,     0.00,2,     2.90,2, -999.000,9, -999.000,9,  -999.00,9,   -999.0,9,   -999.0,9,-999.0000,9,   -999.0,  9,  -999.00,9,   -999.0,  -999.00,9,  -999.00,9,  -999.00,9,  -999.00,9,   -999.0,-999.0000, -999,9,  799,   3.9250,  27.1783,   -999.0,9
     RF97-05-1,  165E,RF-0417,  1,      6,02-12818,2,19970610,0055, 34.9892, 165.0445, 5876,    908.5,   3.6358,  34.2945,2,   -999.0,9,-999.0000,9,     44.8,2,   118.76,2,  -999.00,9,    41.56,2,     0.00,2,     2.98,2, -999.000,9, -999.000,9,  -999.00,9,   -999.0,9,   -999.0,9,-999.0000,9,   -999.0,  9,  -999.00,9,   -999.0,  -999.00,9,  -999.00,9,  -999.00,9,  -999.00,9,   -999.0,-999.0000, -999,9,  900,   3.5705,  27.2680,   -999.0,9
     RF97-05-1,  165E,RF-0417,  1,      5,02-12809,2,19970610,0052, 34.9892, 165.0445, 5876,   1010.1,   3.3475,  34.3384,2,   -999.0,9,  34.3416,2,     40.6,2,   127.03,2,  -999.00,9,    42.10,2,     0.00,4,     3.02,2, -999.000,9, -999.000,9,  -999.00,9,   -999.0,9,   -999.0,9,-999.0000,9,   -999.0,  9,  -999.00,9,   -999.0,  -999.00,9,  -999.00,9,  -999.00,9,  -999.00,9,   1011.0,-999.0000, -999,9, 1000,   3.2764,  27.3313,   -999.0,9
     RF97-05-1,  165E,RF-0417,  1,      4,02-12817,2,19970610,0046, 34.9892, 165.0445, 5876,   1262.6,   2.6909,  34.4493,2,   -999.0,9,  34.4485,2,     38.2,2,   145.38,2,  -999.00,9,    42.92,2,     0.00,2,     3.07,2, -999.000,9, -999.000,9,  -999.00,9,   -999.0,9,   -999.0,9,-999.0000,9,   -999.0,  9,  -999.00,9,   -999.0,  -999.00,9,  -999.00,9,  -999.00,9,  -999.00,9,   -999.0,-999.0000, -999,9, 1250,   2.6057,  27.4805,   -999.0,9
     RF97-05-1,  165E,RF-0417,  1,      3,02-12808,2,19970610,0041, 34.9892, 165.0445, 5876,   1513.0,   2.3651,  34.5098,2,   -999.0,9,  34.5098,2,     44.2,2,   153.88,2,  -999.00,9,    42.78,2,     0.00,2,     3.04,2, -999.000,9, -999.000,9,  -999.00,9,   -999.0,9,   -999.0,9,-999.0000,9,   -999.0,  9,  -999.00,9,   -999.0,  -999.00,9,  -999.00,9,  -999.00,9,  -999.00,9,   -999.0,-999.0000, -999,9, 1497,   2.2638,  27.5577,   -999.0,9
     RF97-05-1,  165E,RF-0417,  1,      2,02-13588,2,19970610,0036, 34.9892, 165.0445, 5876,   1765.0,   2.0990,  34.5577,2,   -999.0,9,  34.5582,2,     57.0,2,   159.08,2,  -999.00,9,    42.02,2,     0.00,4,     2.98,2, -999.000,9, -999.000,9,  -999.00,9,   -999.0,9,   -999.0,9,-999.0000,9,   -999.0,  9,  -999.00,9,   -999.0,  -999.00,9,  -999.00,9,  -999.00,9,  -999.00,9,   -999.0,-999.0000, -999,9, 1745,   1.9807,  27.6189,   -999.0,9
     RF97-05-1,  165E,RF-0417,  1,      1,02-12807,2,19970610,0031, 34.9892, 165.0445, 5876,   2024.6,   1.8930,  34.5980,2,   -999.0,9,  34.5977,2,     74.7,2,   160.67,2,  -999.00,9,    41.00,2,     0.00,2,     2.89,2, -999.000,9, -999.000,9,  -999.00,9,   -999.0,9,   -999.0,9,-999.0000,9,   -999.0,  9,  -999.00,9,   -999.0,  -999.00,9,  -999.00,9,  -999.00,9,  -999.00,9,   2004.0,-999.0000, -999,9, 2000,   1.7562,  27.6685,   -999.0,9