BOTTLE,20130510GEMDJMAYT
# 05/09/2013: Change CTDPRS/DEP to 0 at lines of BTLNBR_FLAG_W = 5.
#BOTTLE,20121206MIRCJHATS
# 12/06/2012: Change BTLNBR_FLAG_W: 8 to 5 at lines of BTLNBR = -9.
# 10/06/2006: Last updated
# 02/19/2009 : pH scale specified in header.
# 02/19/2009 : NO2+NO3 label corrected in header.
# 04/05/2010 : Separate csvfile 49RY19970530 -> 49RY19970530 & 49RY19970623
# 04/05/2010 : pH scale specified in header, corrected for QF of CTDSAL (5 -> 2), converted time from JST to GMT
EXPOCODE,SECT_ID,STNNBR,CASTNO,SAMPNO,BTLNBR,BTLNBR_FLAG_W,DATE,TIME,LATITUDE,LONGITUDE,DEPTH,CTDPRS,CTDTMP,CTDSAL,CTDSAL_FLAG_W,CTDOXY,CTDOXY_FLAG_W,SALNTY,SALNTY_FLAG_W,OXYGEN,OXYGEN_FLAG_W,SILCAT,SILCAT_FLAG_W,NITRAT,NITRAT_FLAG_W,NO2+NO3,NO2+NO3_FLAG_W,NITRIT,NITRIT_FLAG_W,PHSPHT,PHSPHT_FLAG_W,CFC-11,CFC-11_FLAG_W,CFC-12,CFC-12_FLAG_W,DELC13,DELC13_FLAG_W,TCARBN,TCARBN_FLAG_W,ALKALI,ALKALI_FLAG_W,PH,PH_FLAG_W,PH_TMP,PH_SCALE,PH_NBS,PH_NBS_FLAG_W,C13ERR,TOTALP,TOTALP_FLAG_W,AMMONI,AMMONI_FLAG_W,CHLORA,CHLORA_FLAG_W,PPHYTN,PPHYTN_FLAG_W,REVPRS,REVTMP,DEPTH_,DEPTH_FLAG,CTDDEP,THETA,SIGTHT,DOC,DOC_FLAG_W
,,,,,,,GMT,GMT,,,METER,DBAR,ITS-90,PSS-78,,UMOL/KG,,PSS-78,,UMOL/KG,,UMOL/KG,,UMOL/KG,,UMOL/KG,,UMOL/KG,,UMOL/KG,,PMOL/KG,,PMOL/KG,,/MILLE,,UMOL/KG,,UMOL/KG,,25_DEG_C,,DEG_C,,,,/MILLE,UMOL/KG,,UMOL/KG,,UG/L,,UG/L,,DBAR,ITS-90,METERS,,METERS,DEG_C,,UMOL/L,
     RF97-05-1,  NONE,RF-0389,  1,     -9,      -9,5,19970602,0525, 41.9875, 152.0023, 5237,      0.0,  10.7486,  34.1209,2,   -999.0,9,-999.0000,9,    289.1,2,  -999.00,9,  -999.00,9,  -999.00,9,  -999.00,9,  -999.00,9, -999.000,9, -999.000,9,  -999.00,9,   -999.0,9,   -999.0,9,-999.0000,9,   -999.0,  9,  -999.00,9,   -999.0,  -999.00,9,  -999.00,9,     0.52,2,     0.57,2,   -999.0,-999.0000, -999,9,    0,  10.7486,  26.1358,   -999.0,9
     RF97-05-1,  NONE,RF-0389,  1,     23,02-12829,2,19970602,0522, 41.9875, 152.0023, 5237,      9.0,  10.7549,  34.1402,2,   -999.0,9,  34.1436,2,    281.9,2,  -999.00,9,  -999.00,9,  -999.00,9,  -999.00,9,  -999.00,9, -999.000,9, -999.000,9,  -999.00,9,   -999.0,9,   -999.0,9,-999.0000,9,   -999.0,  9,  -999.00,9,   -999.0,  -999.00,9,  -999.00,9,     0.60,2,     0.55,2,   -999.0,-999.0000, -999,9,    9,  10.7539,  26.1499,   -999.0,9
     RF97-05-1,  NONE,RF-0389,  1,     22,02-12828,2,19970602,0520, 41.9875, 152.0023, 5237,     23.4,  10.6600,  34.1356,2,   -999.0,9,-999.0000,9,    281.8,2,  -999.00,9,  -999.00,9,  -999.00,9,  -999.00,9,  -999.00,9, -999.000,9, -999.000,9,  -999.00,9,   -999.0,9,   -999.0,9,-999.0000,9,   -999.0,  9,  -999.00,9,   -999.0,  -999.00,9,  -999.00,9,     0.76,2,     0.15,2,   -999.0,-999.0000, -999,9,   23,  10.6573,  26.1634,   -999.0,9
     RF97-05-1,  NONE,RF-0389,  1,     21,02-12827,2,19970602,0519, 41.9875, 152.0023, 5237,     50.0,  10.0100,  34.1596,2,   -999.0,9,  34.1562,2,    269.0,2,  -999.00,9,  -999.00,9,  -999.00,9,  -999.00,9,  -999.00,9, -999.000,9, -999.000,9,  -999.00,9,   -999.0,9,   -999.0,9,-999.0000,9,   -999.0,  9,  -999.00,9,   -999.0,  -999.00,9,  -999.00,9,     0.60,2,     0.26,2,   -999.0,-999.0000, -999,9,   50,  10.0043,  26.2950,   -999.0,9
     RF97-05-1,  NONE,RF-0389,  1,     20,02-12826,4,19970602,0517, 41.9875, 152.0023, 5237,     74.0,   8.8625,  34.0990,2,   -999.0,9,-999.0000,9,   -999.0,4,  -999.00,9,  -999.00,9,  -999.00,9,  -999.00,9,  -999.00,9, -999.000,9, -999.000,9,  -999.00,9,   -999.0,9,   -999.0,9,-999.0000,9,   -999.0,  9,  -999.00,9,   -999.0,  -999.00,9,  -999.00,9,  -999.00,4,  -999.00,4,   -999.0,-999.0000, -999,9,   73,   8.8547,  26.4355,   -999.0,9
     RF97-05-1,  NONE,RF-0389,  1,     19,02-12825,2,19970602,0516, 41.9875, 152.0023, 5237,     98.7,   8.2682,  34.0442,2,   -999.0,9,  34.0582,4,    269.0,2,  -999.00,9,  -999.00,9,  -999.00,9,  -999.00,9,  -999.00,9, -999.000,9, -999.000,9,  -999.00,9,   -999.0,9,   -999.0,9,-999.0000,9,   -999.0,  9,  -999.00,9,   -999.0,  -999.00,9,  -999.00,9,     0.05,2,     0.06,2,   -999.0,-999.0000, -999,9,   98,   8.2582,  26.4846,   -999.0,9
     RF97-05-1,  NONE,RF-0389,  1,     18,02-12824,4,19970602,0515, 41.9875, 152.0023, 5237,    124.2,   7.6481,  33.9499,2,   -999.0,9,-999.0000,9,   -999.0,4,  -999.00,9,  -999.00,9,  -999.00,9,  -999.00,9,  -999.00,9, -999.000,9, -999.000,9,  -999.00,9,   -999.0,9,   -999.0,9,-999.0000,9,   -999.0,  9,  -999.00,9,   -999.0,  -999.00,9,  -999.00,9,  -999.00,4,  -999.00,4,   -999.0,-999.0000, -999,9,  123,   7.6361,  26.5022,   -999.0,9
     RF97-05-1,  NONE,RF-0389,  1,     17,02-12814,2,19970602,0513, 41.9875, 152.0023, 5237,    150.0,   7.3482,  33.9331,2,   -999.0,9,-999.0000,9,    264.1,2,  -999.00,9,  -999.00,9,  -999.00,9,  -999.00,9,  -999.00,9, -999.000,9, -999.000,9,  -999.00,9,   -999.0,9,   -999.0,9,-999.0000,9,   -999.0,  9,  -999.00,9,   -999.0,  -999.00,9,  -999.00,9,     0.02,2,     0.06,2,   -999.0,-999.0000, -999,9,  149,   7.3341,  26.5319,   -999.0,9
     RF97-05-1,  NONE,RF-0389,  1,     16,02-12832,2,19970602,0511, 41.9875, 152.0023, 5237,    200.0,   6.2922,  33.8222,2,   -999.0,9,  33.8313,2,    246.0,2,  -999.00,9,  -999.00,9,  -999.00,9,  -999.00,9,  -999.00,9, -999.000,9, -999.000,9,  -999.00,9,   -999.0,9,   -999.0,9,-999.0000,9,   -999.0,  9,  -999.00,9,   -999.0,  -999.00,9,  -999.00,9,     0.01,2,     0.03,2,   -999.0,-999.0000, -999,9,  198,   6.2749,  26.5871,   -999.0,9
     RF97-05-1,  NONE,RF-0389,  1,     15,02-12833,2,19970602,0511, 41.9875, 152.0023, 5237,    200.8,   6.2935,  33.8226,2,   -999.0,9,-999.0000,9,    244.2,2,  -999.00,9,  -999.00,9,  -999.00,9,  -999.00,9,  -999.00,9, -999.000,9, -999.000,9,  -999.00,9,   -999.0,9,   -999.0,9,-999.0000,9,   -999.0,  9,  -999.00,9,   -999.0,  -999.00,9,  -999.00,9,  -999.00,9,  -999.00,9,   -999.0,-999.0000, -999,9,  199,   6.2762,  26.5873,   -999.0,9
     RF97-05-1,  NONE,RF-0389,  1,     14,02-13578,2,19970602,0509, 41.9875, 152.0023, 5237,    250.5,   5.5319,  33.8184,2,   -999.0,9,-999.0000,9,    187.4,2,  -999.00,9,  -999.00,9,  -999.00,9,  -999.00,9,  -999.00,9, -999.000,9, -999.000,9,  -999.00,9,   -999.0,9,   -999.0,9,-999.0000,9,   -999.0,  9,  -999.00,9,   -999.0,  -999.00,9,  -999.00,9,  -999.00,9,  -999.00,9,   -999.0,-999.0000, -999,9,  248,   5.5117,  26.6788,   -999.0,9
     RF97-05-1,  NONE,RF-0389,  1,     12,02-12821,4,19970602,0507, 41.9875, 152.0023, 5237,    300.3,   4.7788,  33.8415,2,   -999.0,9,-999.0000,9,   -999.0,4,  -999.00,9,  -999.00,9,  -999.00,9,  -999.00,9,  -999.00,9, -999.000,9, -999.000,9,  -999.00,9,   -999.0,9,   -999.0,9,-999.0000,9,   -999.0,  9,  -999.00,9,   -999.0,  -999.00,9,  -999.00,9,  -999.00,9,  -999.00,9,   -999.0,-999.0000, -999,9,  298,   4.7561,  26.7841,   -999.0,9
     RF97-05-1,  NONE,RF-0389,  1,     13,02-13590,4,19970602,0508, 41.9875, 152.0023, 5237,    301.0,   4.8291,  33.8369,2,   -999.0,9,-999.0000,9,   -999.0,4,  -999.00,9,  -999.00,9,  -999.00,9,  -999.00,9,  -999.00,9, -999.000,9, -999.000,9,  -999.00,9,   -999.0,9,   -999.0,9,-999.0000,9,   -999.0,  9,  -999.00,9,   -999.0,  -999.00,9,  -999.00,9,  -999.00,9,  -999.00,9,   -999.0,-999.0000, -999,9,  298,   4.8063,  26.7749,   -999.0,9
     RF97-05-1,  NONE,RF-0389,  1,     11,02-12811,2,19970602,0505, 41.9875, 152.0023, 5237,    400.4,   3.2533,  33.8305,2,   -999.0,9,  33.8349,2,    100.3,2,  -999.00,9,  -999.00,9,  -999.00,9,  -999.00,9,  -999.00,9, -999.000,9, -999.000,9,  -999.00,9,   -999.0,9,   -999.0,9,-999.0000,9,   -999.0,  9,  -999.00,9,   -999.0,  -999.00,9,  -999.00,9,  -999.00,9,  -999.00,9,   -999.0,-999.0000, -999,9,  397,   3.2276,  26.9308,   -999.0,9
     RF97-05-1,  NONE,RF-0389,  1,     10,02-10155,2,19970602,0503, 41.9875, 152.0023, 5237,    501.6,   3.4047,  34.0020,2,   -999.0,9,-999.0000,9,     56.2,2,  -999.00,9,  -999.00,9,  -999.00,9,  -999.00,9,  -999.00,9, -999.000,9, -999.000,9,  -999.00,9,   -999.0,9,   -999.0,9,-999.0000,9,   -999.0,  9,  -999.00,9,   -999.0,  -999.00,9,  -999.00,9,  -999.00,9,  -999.00,9,   -999.0,-999.0000, -999,9,  497,   3.3714,  27.0541,   -999.0,9
     RF97-05-1,  NONE,RF-0389,  1,      9,02-12810,2,19970602,0500, 41.9875, 152.0023, 5237,    602.8,   3.6681,  34.1683,2,   -999.0,9,  34.1638,2,     47.7,2,  -999.00,9,  -999.00,9,  -999.00,9,  -999.00,9,  -999.00,9, -999.000,9, -999.000,9,  -999.00,9,   -999.0,9,   -999.0,9,-999.0000,9,   -999.0,  9,  -999.00,9,   -999.0,  -999.00,9,  -999.00,9,  -999.00,9,  -999.00,9,   -999.0,-999.0000, -999,9,  597,   3.6262,  27.1621,   -999.0,9
     RF97-05-1,  NONE,RF-0389,  1,      8,02-13591,2,19970602,0458, 41.9875, 152.0023, 5237,    703.3,   3.4892,  34.2521,2,   -999.0,9,-999.0000,9,     42.5,2,  -999.00,9,  -999.00,9,  -999.00,9,  -999.00,9,  -999.00,9, -999.000,9, -999.000,9,  -999.00,9,   -999.0,9,   -999.0,9,-999.0000,9,   -999.0,  9,  -999.00,9,   -999.0,  -999.00,9,  -999.00,9,  -999.00,9,  -999.00,9,   -999.0,-999.0000, -999,9,  697,   3.4407,  27.2469,   -999.0,9
     RF97-05-1,  NONE,RF-0389,  1,      7,02-13589,2,19970602,0456, 41.9875, 152.0023, 5237,    807.1,   3.2287,  34.3119,2,   -999.0,9,  34.3345,4,     38.7,2,  -999.00,9,  -999.00,9,  -999.00,9,  -999.00,9,  -999.00,9, -999.000,9, -999.000,9,  -999.00,9,   -999.0,9,   -999.0,9,-999.0000,9,   -999.0,  9,  -999.00,9,   -999.0,  -999.00,9,  -999.00,9,  -999.00,9,  -999.00,9,   -999.0,-999.0000, -999,9,  799,   3.1740,  27.3198,   -999.0,9
     RF97-05-1,  NONE,RF-0389,  1,      6,02-12818,2,19970602,0453, 41.9875, 152.0023, 5237,    907.5,   2.9864,  34.3494,2,   -999.0,9,-999.0000,9,     38.1,2,  -999.00,9,  -999.00,9,  -999.00,9,  -999.00,9,  -999.00,9, -999.000,9, -999.000,9,  -999.00,9,   -999.0,9,   -999.0,9,-999.0000,9,   -999.0,  9,  -999.00,9,   -999.0,  -999.00,9,  -999.00,9,  -999.00,9,  -999.00,9,   -999.0,-999.0000, -999,9,  898,   2.9258,  27.3724,   -999.0,9
     RF97-05-1,  NONE,RF-0389,  1,      5,02-12809,2,19970602,0451, 41.9875, 152.0023, 5237,   1008.2,   2.8099,  34.3858,2,   -999.0,9,  34.3836,2,     35.9,2,  -999.00,9,  -999.00,9,  -999.00,9,  -999.00,9,  -999.00,9, -999.000,9, -999.000,9,  -999.00,9,   -999.0,9,   -999.0,9,-999.0000,9,   -999.0,  9,  -999.00,9,   -999.0,  -999.00,9,  -999.00,9,  -999.00,9,  -999.00,9,   1001.0,-999.0000, -999,9,  998,   2.7430,  27.4178,   -999.0,9
     RF97-05-1,  NONE,RF-0389,  1,      4,02-12817,2,19970602,0447, 41.9875, 152.0023, 5237,   1260.7,   2.4775,  34.4589,2,   -999.0,9,  34.5621,4,     40.9,2,  -999.00,9,  -999.00,9,  -999.00,9,  -999.00,9,  -999.00,9, -999.000,9, -999.000,9,  -999.00,9,   -999.0,9,   -999.0,9,-999.0000,9,   -999.0,  9,  -999.00,9,   -999.0,  -999.00,9,  -999.00,9,  -999.00,9,  -999.00,9,   -999.0,-999.0000, -999,9, 1247,   2.3946,  27.5061,   -999.0,9
     RF97-05-1,  NONE,RF-0389,  1,      3,02-12808,2,19970602,0442, 41.9875, 152.0023, 5237,   1511.3,   2.2399,  34.5137,2,   -999.0,9,  34.5173,2,     49.9,2,  -999.00,9,  -999.00,9,  -999.00,9,  -999.00,9,  -999.00,9, -999.000,9, -999.000,9,  -999.00,9,   -999.0,9,   -999.0,9,-999.0000,9,   -999.0,  9,  -999.00,9,   -999.0,  -999.00,9,  -999.00,9,  -999.00,9,  -999.00,9,   -999.0,-999.0000, -999,9, 1494,   2.1401,  27.5709,   -999.0,9
     RF97-05-1,  NONE,RF-0389,  1,      2,02-13588,2,19970602,0438, 41.9875, 152.0023, 5237,   1767.6,   2.0645,  34.5620,2,   -999.0,9,  34.5641,2,     63.0,2,  -999.00,9,  -999.00,9,  -999.00,9,  -999.00,9,  -999.00,9, -999.000,9, -999.000,9,  -999.00,9,   -999.0,9,   -999.0,9,-999.0000,9,   -999.0,  9,  -999.00,9,   -999.0,  -999.00,9,  -999.00,9,  -999.00,9,  -999.00,9,   -999.0,-999.0000, -999,9, 1746,   1.9465,  27.6250,   -999.0,9
     RF97-05-1,  NONE,RF-0389,  1,      1,02-12807,2,19970602,0434, 41.9875, 152.0023, 5237,   2022.0,   1.8928,  34.5952,2,   -999.0,9,  34.5999,2,     80.1,2,  -999.00,9,  -999.00,9,  -999.00,9,  -999.00,9,  -999.00,9, -999.000,9, -999.000,9,  -999.00,9,   -999.0,9,   -999.0,9,-999.0000,9,   -999.0,  9,  -999.00,9,   -999.0,  -999.00,9,  -999.00,9,  -999.00,9,  -999.00,9,   2008.0,-999.0000, -999,9, 1996,   1.7563,  27.6663,   -999.0,9