BOTTLE,20130510GEMDJMAYT
EXPOCODE,SECT_ID,STNNBR,CASTNO,SAMPNO,BTLNBR,BTLNBR_FLAG_W,DATE,TIME,LATITUDE,LONGITUDE,DEPTH,CTDPRS,CTDTMP,CTDSAL,CTDSAL_FLAG_W,CTDOXY,CTDOXY_FLAG_W,SALNTY,SALNTY_FLAG_W,OXYGEN,OXYGEN_FLAG_W,SILCAT,SILCAT_FLAG_W,NITRAT,NITRAT_FLAG_W,NO2+NO3,NO2+NO3_FLAG_W,NITRIT,NITRIT_FLAG_W,PHSPHT,PHSPHT_FLAG_W,CFC-11,CFC-11_FLAG_W,CFC-12,CFC-12_FLAG_W,DELC13,DELC13_FLAG_W,TCARBN,TCARBN_FLAG_W,ALKALI,ALKALI_FLAG_W,PH,PH_FLAG_W,PH_TMP,PH_SCALE,PH_NBS,PH_NBS_FLAG_W,C13ERR,TOTALP,TOTALP_FLAG_W,AMMONI,AMMONI_FLAG_W,CHLORA,CHLORA_FLAG_W,PPHYTN,PPHYTN_FLAG_W,REVPRS,REVTMP,DEPTH_,DEPTH_FLAG,CTDDEP,THETA,SIGTHT,DOC,DOC_FLAG_W
,,,,,,,GMT,GMT,,,METER,DBAR,ITS-90,PSS-78,,UMOL/KG,,PSS-78,,UMOL/KG,,UMOL/KG,,UMOL/KG,,UMOL/KG,,UMOL/KG,,UMOL/KG,,PMOL/KG,,PMOL/KG,,/MILLE,,UMOL/KG,,UMOL/KG,,25_DEG_C,,DEG_C,,,,/MILLE,UMOL/KG,,UMOL/KG,,UG/L,,UG/L,,DBAR,ITS-90,METERS,,METERS,DEG_C,,UMOL/L,
     RF97-05-1,  165E,RF-0412,  1,     -9,      -9,5,19970608,1726, 40.0040, 165.0043, 5458,      0.0,  11.5804,  34.2494,2,   -999.0,9,-999.0000,9,   -999.0,4,     5.22,2,  -999.00,9,     6.45,2,     0.15,2,     0.57,2, -999.000,9, -999.000,9,  -999.00,9,   -999.0,9,   -999.0,9,-999.0000,9,   -999.0,  9,  -999.00,9,   -999.0,  -999.00,9,  -999.00,9,     1.02,2,     0.12,2,   -999.0,-999.0000, -999,9,    0,  11.5804,  26.0849,   -999.0,9
     RF97-05-1,  165E,RF-0412,  1,     23,02-12829,2,19970608,1724, 40.0040, 165.0043, 5458,     10.6,  11.5978,  34.2520,2,   -999.0,9,  34.2555,2,    276.6,2,     5.21,2,  -999.00,9,     6.49,2,     0.15,2,     0.62,2, -999.000,9, -999.000,9,  -999.00,9,   -999.0,9,   -999.0,9,-999.0000,9,   -999.0,  9,  -999.00,9,   -999.0,  -999.00,9,  -999.00,9,     1.10,2,     0.16,2,   -999.0,-999.0000, -999,9,   11,  11.5965,  26.0839,   -999.0,9
     RF97-05-1,  165E,RF-0412,  1,     22,02-12828,2,19970608,1722, 40.0040, 165.0043, 5458,     26.3,  11.5996,  34.2663,2,   -999.0,9,-999.0000,9,   -999.0,4,     6.12,2,  -999.00,9,     6.59,2,     0.15,2,     0.57,2, -999.000,9, -999.000,9,  -999.00,9,   -999.0,9,   -999.0,9,-999.0000,9,   -999.0,  9,  -999.00,9,   -999.0,  -999.00,9,  -999.00,9,     1.16,2,     0.11,2,   -999.0,-999.0000, -999,9,   26,  11.5963,  26.0951,   -999.0,9
     RF97-05-1,  165E,RF-0412,  1,     21,02-12827,2,19970608,1721, 40.0040, 165.0043, 5458,     51.5,  11.5655,  34.2725,2,   -999.0,9,  34.2750,2,    275.0,2,     6.15,2,  -999.00,9,     6.66,2,     0.16,2,     0.61,2, -999.000,9, -999.000,9,  -999.00,9,   -999.0,9,   -999.0,9,-999.0000,9,   -999.0,  9,  -999.00,9,   -999.0,  -999.00,9,  -999.00,9,     0.91,2,     0.26,2,   -999.0,-999.0000, -999,9,   51,  11.5590,  26.1068,   -999.0,9
     RF97-05-1,  165E,RF-0412,  1,     20,02-12826,2,19970608,1720, 40.0040, 165.0043, 5458,     76.8,  11.0777,  34.2750,2,   -999.0,9,-999.0000,9,    263.9,2,    11.72,2,  -999.00,9,     9.34,2,     0.40,2,     0.77,2, -999.000,9, -999.000,9,  -999.00,9,   -999.0,9,   -999.0,9,-999.0000,9,   -999.0,  9,  -999.00,9,   -999.0,  -999.00,9,  -999.00,9,     0.15,2,     0.14,2,   -999.0,-999.0000, -999,9,   76,  11.0683,  26.1986,   -999.0,9
     RF97-05-1,  165E,RF-0412,  1,     19,02-12825,4,19970608,1718, 40.0040, 165.0043, 5458,    101.5,  10.0502,  34.2470,2,   -999.0,9,-999.0000,9,   -999.0,4,  -999.00,4,  -999.00,9,  -999.00,4,  -999.00,4,  -999.00,4, -999.000,9, -999.000,9,  -999.00,9,   -999.0,9,   -999.0,9,-999.0000,9,   -999.0,  9,  -999.00,9,   -999.0,  -999.00,9,  -999.00,9,  -999.00,4,  -999.00,4,   -999.0,-999.0000, -999,9,  101,  10.0385,  26.3574,   -999.0,9
     RF97-05-1,  165E,RF-0412,  1,     18,02-12824,3,19970608,1717, 40.0040, 165.0043, 5458,    126.2,   9.7824,  34.2053,2,   -999.0,9,-999.0000,9,    266.4,2,    15.87,2,  -999.00,9,    11.46,2,     0.02,2,     0.88,2, -999.000,9, -999.000,9,  -999.00,9,   -999.0,9,   -999.0,9,-999.0000,9,   -999.0,  9,  -999.00,9,   -999.0,  -999.00,9,  -999.00,9,  -999.00,9,  -999.00,9,   -999.0,-999.0000, -999,9,  125,   9.7682,  26.3704,   -999.0,9
     RF97-05-1,  165E,RF-0412,  1,     17,02-12814,2,19970608,1716, 40.0040, 165.0043, 5458,    151.0,   9.6436,  34.2042,2,   -999.0,9,-999.0000,9,    269.1,2,    15.75,2,  -999.00,9,    11.34,2,     0.02,2,     0.86,2, -999.000,9, -999.000,9,  -999.00,9,   -999.0,9,   -999.0,9,-999.0000,9,   -999.0,  9,  -999.00,9,   -999.0,  -999.00,9,  -999.00,9,     0.02,2,     0.06,2,   -999.0,-999.0000, -999,9,  150,   9.6267,  26.3931,   -999.0,9
     RF97-05-1,  165E,RF-0412,  1,     15,02-12833,9,19970608,1714, 40.0040, 165.0043, 5458,    200.3,   9.5672,  34.2063,2,   -999.0,9,-999.0000,9,   -999.0,9,  -999.00,9,  -999.00,9,  -999.00,9,  -999.00,9,  -999.00,9, -999.000,9, -999.000,9,  -999.00,9,   -999.0,9,   -999.0,9,-999.0000,9,   -999.0,  9,  -999.00,9,   -999.0,  -999.00,9,  -999.00,9,  -999.00,9,  -999.00,9,   -999.0,-999.0000, -999,9,  199,   9.5448,  26.4083,   -999.0,9
     RF97-05-1,  165E,RF-0412,  1,     16,02-12832,2,19970608,1714, 40.0040, 165.0043, 5458,    201.4,   9.5742,  34.2062,2,   -999.0,9,  34.2031,2,    267.8,2,    16.19,2,  -999.00,9,    11.53,2,     0.01,2,     0.85,2, -999.000,9, -999.000,9,  -999.00,9,   -999.0,9,   -999.0,9,-999.0000,9,   -999.0,  9,  -999.00,9,   -999.0,  -999.00,9,  -999.00,9,     0.01,2,     0.07,2,   -999.0,-999.0000, -999,9,  200,   9.5517,  26.4071,   -999.0,9
     RF97-05-1,  165E,RF-0412,  1,     14,02-13578,2,19970608,1712, 40.0040, 165.0043, 5458,    250.2,   9.4647,  34.1959,2,   -999.0,9,-999.0000,9,    266.9,2,    16.71,2,  -999.00,9,    11.88,2,     0.01,2,     0.89,2, -999.000,9, -999.000,9,  -999.00,9,   -999.0,9,   -999.0,9,-999.0000,9,   -999.0,  9,  -999.00,9,   -999.0,  -999.00,9,  -999.00,9,  -999.00,9,  -999.00,9,   -999.0,-999.0000, -999,9,  248,   9.4368,  26.4179,   -999.0,9
     RF97-05-1,  165E,RF-0412,  1,     12,02-12821,9,19970608,1709, 40.0040, 165.0043, 5458,    301.9,   8.7835,  34.1108,2,   -999.0,9,-999.0000,9,   -999.0,9,  -999.00,9,  -999.00,9,  -999.00,9,  -999.00,9,  -999.00,9, -999.000,9, -999.000,9,  -999.00,9,   -999.0,9,   -999.0,9,-999.0000,9,   -999.0,  9,  -999.00,9,   -999.0,  -999.00,9,  -999.00,9,  -999.00,9,  -999.00,9,   -999.0,-999.0000, -999,9,  299,   8.7514,  26.4610,   -999.0,9
     RF97-05-1,  165E,RF-0412,  1,     13,02-13590,2,19970608,1710, 40.0040, 165.0043, 5458,    302.9,   8.8555,  34.1060,2,   -999.0,9,-999.0000,9,    252.7,2,    21.07,2,  -999.00,9,    14.27,2,     0.01,2,     1.04,2, -999.000,9, -999.000,9,  -999.00,9,   -999.0,9,   -999.0,9,-999.0000,9,   -999.0,  9,  -999.00,9,   -999.0,  -999.00,9,  -999.00,9,  -999.00,9,  -999.00,9,   -999.0,-999.0000, -999,9,  300,   8.8231,  26.4460,   -999.0,9
     RF97-05-1,  165E,RF-0412,  1,     11,02-12811,2,19970608,1707, 40.0040, 165.0043, 5458,    403.0,   6.8130,  33.9837,2,   -999.0,9,  33.9829,2,    177.9,2,    44.89,2,  -999.00,9,    24.93,2,     0.01,2,     1.84,2, -999.000,9, -999.000,9,  -999.00,9,   -999.0,9,   -999.0,9,-999.0000,9,   -999.0,  9,  -999.00,9,   -999.0,  -999.00,9,  -999.00,9,  -999.00,9,  -999.00,9,   -999.0,-999.0000, -999,9,  400,   6.7759,  26.6486,   -999.0,9
     RF97-05-1,  165E,RF-0412,  1,     10,02-10155,2,19970608,1704, 40.0040, 165.0043, 5458,    504.2,   5.0965,  33.9539,2,   -999.0,9,-999.0000,9,    130.1,2,    68.79,2,  -999.00,9,    32.52,2,     0.00,2,     2.39,2, -999.000,9, -999.000,9,  -999.00,9,   -999.0,9,   -999.0,9,-999.0000,9,   -999.0,  9,  -999.00,9,   -999.0,  -999.00,9,  -999.00,9,  -999.00,9,  -999.00,9,   -999.0,-999.0000, -999,9,  500,   5.0564,  26.8394,   -999.0,9
     RF97-05-1,  165E,RF-0412,  1,      9,02-12810,2,19970608,1702, 40.0040, 165.0043, 5458,    604.6,   4.4590,  34.0448,2,   -999.0,9,  34.0443,2,     89.7,2,    86.95,2,  -999.00,9,    36.83,2,     0.00,2,     2.69,2, -999.000,9, -999.000,9,  -999.00,9,   -999.0,9,   -999.0,9,-999.0000,9,   -999.0,  9,  -999.00,9,   -999.0,  -999.00,9,  -999.00,9,  -999.00,9,  -999.00,9,   -999.0,-999.0000, -999,9,  599,   4.4133,  26.9830,   -999.0,9
     RF97-05-1,  165E,RF-0412,  1,      8,02-13591,2,19970608,1659, 40.0040, 165.0043, 5458,    705.3,   4.0945,  34.1430,2,   -999.0,9,-999.0000,9,     63.4,2,   101.30,2,  -999.00,9,    39.41,2,     0.00,2,     2.91,2, -999.000,9, -999.000,9,  -999.00,9,   -999.0,9,   -999.0,9,-999.0000,9,   -999.0,  9,  -999.00,9,   -999.0,  -999.00,9,  -999.00,9,  -999.00,9,  -999.00,9,   -999.0,-999.0000, -999,9,  699,   4.0426,  27.1000,   -999.0,9
     RF97-05-1,  165E,RF-0412,  1,      7,02-13589,2,19970608,1656, 40.0040, 165.0043, 5458,    807.0,   3.7805,  34.2248,2,   -999.0,9,  34.2235,2,     48.7,2,   112.87,2,  -999.00,9,    40.83,2,     0.00,2,     2.97,2, -999.000,9, -999.000,9,  -999.00,9,   -999.0,9,   -999.0,9,-999.0000,9,   -999.0,  9,  -999.00,9,   -999.0,  -999.00,9,  -999.00,9,  -999.00,9,  -999.00,9,   -999.0,-999.0000, -999,9,  799,   3.7224,  27.1976,   -999.0,9
     RF97-05-1,  165E,RF-0412,  1,      6,02-12818,2,19970608,1654, 40.0040, 165.0043, 5458,    907.1,   3.5239,  34.2806,2,   -999.0,9,-999.0000,9,     41.4,2,   121.62,2,  -999.00,9,    41.54,2,     0.00,2,     3.12,2, -999.000,9, -999.000,9,  -999.00,9,   -999.0,9,   -999.0,9,-999.0000,9,   -999.0,  9,  -999.00,9,   -999.0,  -999.00,9,  -999.00,9,  -999.00,9,  -999.00,9,   -999.0,-999.0000, -999,9,  898,   3.4596,  27.2678,   -999.0,9
     RF97-05-1,  165E,RF-0412,  1,      5,02-12809,2,19970608,1651, 40.0040, 165.0043, 5458,   1010.8,   3.2612,  34.3381,2,   -999.0,9,  34.3317,2,     37.9,2,   129.63,2,  -999.00,9,    42.08,2,     0.00,2,     3.11,2, -999.000,9, -999.000,9,  -999.00,9,   -999.0,9,   -999.0,9,-999.0000,9,   -999.0,  9,  -999.00,9,   -999.0,  -999.00,9,  -999.00,9,  -999.00,9,  -999.00,9,   1005.0,-999.0000, -999,9, 1001,   3.1907,  27.3391,   -999.0,9
     RF97-05-1,  165E,RF-0412,  1,      4,02-12817,2,19970608,1646, 40.0040, 165.0043, 5458,   1260.8,   2.7133,  34.4369,2,   -999.0,9,  34.4339,2,     38.0,2,   145.47,2,  -999.00,9,    42.41,2,     0.00,2,     3.09,2, -999.000,9, -999.000,9,  -999.00,9,   -999.0,9,   -999.0,9,-999.0000,9,   -999.0,  9,  -999.00,9,   -999.0,  -999.00,9,  -999.00,9,  -999.00,9,  -999.00,9,   -999.0,-999.0000, -999,9, 1247,   2.6281,  27.4686,   -999.0,9
     RF97-05-1,  165E,RF-0412,  1,      3,02-12808,2,19970608,1642, 40.0040, 165.0043, 5458,   1514.3,   2.4056,  34.4946,2,   -999.0,9,  34.4913,2,     43.1,2,   154.19,2,  -999.00,9,    42.34,2,     0.00,2,     3.09,2, -999.000,9, -999.000,9,  -999.00,9,   -999.0,9,   -999.0,9,-999.0000,9,   -999.0,  9,  -999.00,9,   -999.0,  -999.00,9,  -999.00,9,  -999.00,9,  -999.00,9,   -999.0,-999.0000, -999,9, 1497,   2.3037,  27.5422,   -999.0,9
     RF97-05-1,  165E,RF-0412,  1,      2,02-13588,2,19970608,1637, 40.0040, 165.0043, 5458,   1768.8,   2.1516,  34.5454,2,   -999.0,9,  34.5427,2,     51.9,2,   160.13,2,  -999.00,9,    41.91,2,     0.00,2,     3.03,2, -999.000,9, -999.000,9,  -999.00,9,   -999.0,9,   -999.0,9,-999.0000,9,   -999.0,  9,  -999.00,9,   -999.0,  -999.00,9,  -999.00,9,  -999.00,9,  -999.00,9,   -999.0,-999.0000, -999,9, 1748,   2.0323,  27.6049,   -999.0,9
     RF97-05-1,  165E,RF-0412,  1,      1,02-12807,2,19970608,1632, 40.0040, 165.0043, 5458,   2023.8,   1.9761,  34.5866,2,   -999.0,9,  34.5798,2,     66.4,2,   162.04,2,  -999.00,9,    41.05,2,     0.00,2,     2.95,2, -999.000,9, -999.000,9,  -999.00,9,   -999.0,9,   -999.0,9,-999.0000,9,   -999.0,  9,  -999.00,9,   -999.0,  -999.00,9,  -999.00,9,  -999.00,9,  -999.00,9,   2008.0,-999.0000, -999,9, 1999,   1.8382,  27.6531,   -999.0,9