BOTTLE,20130510GEMDJMAYT
EXPOCODE,SECT_ID,STNNBR,CASTNO,SAMPNO,BTLNBR,BTLNBR_FLAG_W,DATE,TIME,LATITUDE,LONGITUDE,DEPTH,CTDPRS,CTDTMP,CTDSAL,CTDSAL_FLAG_W,CTDOXY,CTDOXY_FLAG_W,SALNTY,SALNTY_FLAG_W,OXYGEN,OXYGEN_FLAG_W,SILCAT,SILCAT_FLAG_W,NITRAT,NITRAT_FLAG_W,NO2+NO3,NO2+NO3_FLAG_W,NITRIT,NITRIT_FLAG_W,PHSPHT,PHSPHT_FLAG_W,CFC-11,CFC-11_FLAG_W,CFC-12,CFC-12_FLAG_W,DELC13,DELC13_FLAG_W,TCARBN,TCARBN_FLAG_W,ALKALI,ALKALI_FLAG_W,PH,PH_FLAG_W,PH_TMP,PH_SCALE,PH_NBS,PH_NBS_FLAG_W,C13ERR,TOTALP,TOTALP_FLAG_W,AMMONI,AMMONI_FLAG_W,CHLORA,CHLORA_FLAG_W,PPHYTN,PPHYTN_FLAG_W,REVPRS,REVTMP,DEPTH_,DEPTH_FLAG,CTDDEP,THETA,SIGTHT,DOC,DOC_FLAG_W
,,,,,,,GMT,GMT,,,METER,DBAR,ITS-90,PSS-78,,UMOL/KG,,PSS-78,,UMOL/KG,,UMOL/KG,,UMOL/KG,,UMOL/KG,,UMOL/KG,,UMOL/KG,,PMOL/KG,,PMOL/KG,,/MILLE,,UMOL/KG,,UMOL/KG,,25_DEG_C,,DEG_C,,,,/MILLE,UMOL/KG,,UMOL/KG,,UG/L,,UG/L,,DBAR,ITS-90,METERS,,METERS,DEG_C,,UMOL/L,
     RF97-05-1,  165E,RF-0422,  1,     -9,      -9,5,19970611,0706, 30.0018, 165.0188, 5821,      0.0,  22.1135,  34.9551,2,   -999.0,9,-999.0000,9,    223.1,2,     1.39,2,  -999.00,9,     0.08,2,     0.00,2,     0.05,2, -999.000,9, -999.000,9,  -999.00,9,   -999.0,9,   -999.0,9,-999.0000,9,   -999.0,  9,  -999.00,9,   -999.0,  -999.00,9,  -999.00,9,     0.11,2,     0.01,2,   -999.0,-999.0000, -999,9,    0,  22.1135,  24.1519,   -999.0,9
     RF97-05-1,  165E,RF-0422,  1,     23,02-12829,2,19970611,0703, 30.0018, 165.0188, 5821,     10.9,  21.7437,  34.9615,2,   -999.0,9,  34.9616,2,    223.9,2,     1.48,2,  -999.00,9,     0.06,2,     0.00,2,     0.04,2, -999.000,9, -999.000,9,  -999.00,9,   -999.0,9,   -999.0,9,-999.0000,9,   -999.0,  9,  -999.00,9,   -999.0,  -999.00,9,  -999.00,9,     0.09,2,     0.02,2,   -999.0,-999.0000, -999,9,   11,  21.7416,  24.2607,   -999.0,9
     RF97-05-1,  165E,RF-0422,  1,     22,02-12828,2,19970611,0702, 30.0018, 165.0188, 5821,     26.2,  21.6573,  34.9758,2,   -999.0,9,-999.0000,9,    226.2,2,     1.49,2,  -999.00,9,     0.01,2,     0.00,2,     0.04,2, -999.000,9, -999.000,9,  -999.00,9,   -999.0,9,   -999.0,9,-999.0000,9,   -999.0,  9,  -999.00,9,   -999.0,  -999.00,9,  -999.00,9,     0.10,2,     0.03,2,   -999.0,-999.0000, -999,9,   26,  21.6522,  24.2964,   -999.0,9
     RF97-05-1,  165E,RF-0422,  1,     21,02-12827,2,19970611,0701, 30.0018, 165.0188, 5821,     50.3,  18.9334,  34.9197,2,   -999.0,9,  34.8954,4,    241.4,2,     1.99,2,  -999.00,9,     0.01,2,     0.00,2,     0.05,2, -999.000,9, -999.000,9,  -999.00,9,   -999.0,9,   -999.0,9,-999.0000,9,   -999.0,  9,  -999.00,9,   -999.0,  -999.00,9,  -999.00,9,     0.17,2,     0.06,2,   -999.0,-999.0000, -999,9,   50,  18.9245,  24.9791,   -999.0,9
     RF97-05-1,  165E,RF-0422,  1,     20,02-12826,2,19970611,0700, 30.0018, 165.0188, 5821,     75.1,  18.0185,  34.8797,2,   -999.0,9,-999.0000,9,    221.5,2,     2.59,2,  -999.00,9,     1.55,2,     0.04,2,     0.18,2, -999.000,9, -999.000,9,  -999.00,9,   -999.0,9,   -999.0,9,-999.0000,9,   -999.0,  9,  -999.00,9,   -999.0,  -999.00,9,  -999.00,9,     0.56,2,     0.33,2,   -999.0,-999.0000, -999,9,   75,  18.0056,  25.1785,   -999.0,9
     RF97-05-1,  165E,RF-0422,  1,     19,02-12825,2,19970611,0658, 30.0018, 165.0188, 5821,    101.5,  17.4647,  34.8267,2,   -999.0,9,  34.8306,2,    232.4,2,     2.32,2,  -999.00,9,     1.39,2,     0.13,2,     0.14,2, -999.000,9, -999.000,9,  -999.00,9,   -999.0,9,   -999.0,9,-999.0000,9,   -999.0,  9,  -999.00,9,   -999.0,  -999.00,9,  -999.00,9,     0.36,2,     0.32,2,   -999.0,-999.0000, -999,9,  101,  17.4477,  25.2740,   -999.0,9
     RF97-05-1,  165E,RF-0422,  1,     18,02-12824,2,19970611,0657, 30.0018, 165.0188, 5821,    126.5,  17.0647,  34.8081,2,   -999.0,9,-999.0000,9,    227.5,2,     2.80,2,  -999.00,9,     2.41,2,     0.13,2,     0.20,2, -999.000,9, -999.000,9,  -999.00,9,   -999.0,9,   -999.0,9,-999.0000,9,   -999.0,  9,  -999.00,9,   -999.0,  -999.00,9,  -999.00,9,     0.13,2,     0.16,2,   -999.0,-999.0000, -999,9,  126,  17.0438,  25.3565,   -999.0,9
     RF97-05-1,  165E,RF-0422,  1,     17,02-12814,2,19970611,0656, 30.0018, 165.0188, 5821,    152.0,  16.8771,  34.7908,2,   -999.0,9,-999.0000,9,    222.6,2,     3.54,2,  -999.00,9,     3.33,2,     0.01,2,     0.25,2, -999.000,9, -999.000,9,  -999.00,9,   -999.0,9,   -999.0,9,-999.0000,9,   -999.0,  9,  -999.00,9,   -999.0,  -999.00,9,  -999.00,9,     0.06,2,     0.07,2,   -999.0,-999.0000, -999,9,  151,  16.8522,  25.3887,   -999.0,9
     RF97-05-1,  165E,RF-0422,  1,     16,02-12832,2,19970611,0654, 30.0018, 165.0188, 5821,    201.6,  16.3925,  34.7553,2,   -999.0,9,  34.7491,2,    227.4,2,     4.11,2,  -999.00,9,     3.56,2,     0.00,2,     0.26,2, -999.000,9, -999.000,9,  -999.00,9,   -999.0,9,   -999.0,9,-999.0000,9,   -999.0,  9,  -999.00,9,   -999.0,  -999.00,9,  -999.00,9,     0.01,2,     0.02,2,   -999.0,-999.0000, -999,9,  200,  16.3602,  25.4765,   -999.0,9
     RF97-05-1,  165E,RF-0422,  1,     15,02-12833,2,19970611,0652, 30.0018, 165.0188, 5821,    252.7,  15.9847,  34.7101,2,   -999.0,9,-999.0000,9,    218.6,2,     5.29,2,  -999.00,9,     5.12,2,     0.00,2,     0.36,2, -999.000,9, -999.000,9,  -999.00,9,   -999.0,9,   -999.0,9,-999.0000,9,   -999.0,  9,  -999.00,9,   -999.0,  -999.00,9,  -999.00,9,  -999.00,9,  -999.00,9,   -999.0,-999.0000, -999,9,  251,  15.9448,  25.5372,   -999.0,9
     RF97-05-1,  165E,RF-0422,  1,     14,02-13578,2,19970611,0650, 30.0018, 165.0188, 5821,    301.6,  15.6347,  34.6863,2,   -999.0,9,-999.0000,9,    217.7,2,     6.01,2,  -999.00,9,     5.79,2,     0.00,2,     0.41,2, -999.000,9, -999.000,9,  -999.00,9,   -999.0,9,   -999.0,9,-999.0000,9,   -999.0,  9,  -999.00,9,   -999.0,  -999.00,9,  -999.00,9,  -999.00,9,  -999.00,9,   -999.0,-999.0000, -999,9,  299,  15.5877,  25.5997,   -999.0,9
     RF97-05-1,  165E,RF-0422,  1,     13,02-13590,2,19970611,0648, 30.0018, 165.0188, 5821,    403.4,  13.7149,  34.5303,2,   -999.0,9,  34.5364,2,    206.4,2,    11.86,2,  -999.00,9,    10.05,2,     0.00,2,     0.70,2, -999.000,9, -999.000,9,  -999.00,9,   -999.0,9,   -999.0,9,-999.0000,9,   -999.0,  9,  -999.00,9,   -999.0,  -999.00,9,  -999.00,9,  -999.00,9,  -999.00,9,   -999.0,-999.0000, -999,9,  400,  13.6573,  25.8954,   -999.0,9
     RF97-05-1,  165E,RF-0422,  1,     12,02-12821,2,19970611,0645, 30.0018, 165.0188, 5821,    503.7,  11.3673,  34.3529,2,   -999.0,9,-999.0000,9,    199.9,2,    20.17,2,  -999.00,9,    14.69,2,     0.00,2,     1.02,2, -999.000,9, -999.000,9,  -999.00,9,   -999.0,9,   -999.0,9,-999.0000,9,   -999.0,  9,  -999.00,9,   -999.0,  -999.00,9,  -999.00,9,  -999.00,9,  -999.00,9,   -999.0,-999.0000, -999,9,  500,  11.3035,  26.2165,   -999.0,9
     RF97-05-1,  165E,RF-0422,  1,     11,02-12811,2,19970611,0643, 30.0018, 165.0188, 5821,    605.0,   8.1943,  34.1002,2,   -999.0,9,  34.1030,2,    177.0,2,    38.47,2,  -999.00,9,    22.46,2,     0.00,2,     1.60,2, -999.000,9, -999.000,9,  -999.00,9,   -999.0,9,   -999.0,9,-999.0000,9,   -999.0,  9,  -999.00,9,   -999.0,  -999.00,9,  -999.00,9,  -999.00,9,  -999.00,9,   -999.0,-999.0000, -999,9,  600,   8.1314,  26.5476,   -999.0,9
     RF97-05-1,  165E,RF-0422,  1,     10,02-10155,2,19970611,0640, 30.0018, 165.0188, 5821,    706.9,   6.1182,  34.0248,2,   -999.0,9,-999.0000,9,    140.1,2,    60.01,2,  -999.00,9,    29.81,2,     0.00,4,     2.13,2, -999.000,9, -999.000,9,  -999.00,9,   -999.0,9,   -999.0,9,-999.0000,9,   -999.0,  9,  -999.00,9,   -999.0,  -999.00,9,  -999.00,9,  -999.00,9,  -999.00,9,   -999.0,-999.0000, -999,9,  701,   6.0553,  26.7751,   -999.0,9
     RF97-05-1,  165E,RF-0422,  1,      9,02-12810,2,19970611,0638, 30.0018, 165.0188, 5821,    807.1,   5.0148,  34.0523,2,   -999.0,9,  34.0531,2,    103.0,2,    78.20,2,  -999.00,9,    34.92,2,     0.00,2,     2.51,2, -999.000,9, -999.000,9,  -999.00,9,   -999.0,9,   -999.0,9,-999.0000,9,   -999.0,  9,  -999.00,9,   -999.0,  -999.00,9,  -999.00,9,  -999.00,9,  -999.00,9,   -999.0,-999.0000, -999,9,  800,   4.9492,  26.9297,   -999.0,9
     RF97-05-1,  165E,RF-0422,  1,      8,02-13591,2,19970611,0635, 30.0018, 165.0188, 5821,    907.4,   4.3494,  34.1606,2,   -999.0,9,-999.0000,9,     68.4,2,    97.71,2,  -999.00,9,    38.94,2,     0.00,2,     2.79,2, -999.000,9, -999.000,9,  -999.00,9,   -999.0,9,   -999.0,9,-999.0000,9,   -999.0,  9,  -999.00,9,   -999.0,  -999.00,9,  -999.00,9,  -999.00,9,  -999.00,9,   -999.0,-999.0000, -999,9,  899,   4.2795,  27.0892,   -999.0,9
     RF97-05-1,  165E,RF-0422,  1,      7,02-13589,2,19970611,0633, 30.0018, 165.0188, 5821,   1008.8,   3.8597,  34.2580,2,   -999.0,9,  34.2591,2,     51.1,2,   112.81,2,  -999.00,9,    40.91,2,     0.00,2,     2.92,2, -999.000,9, -999.000,9,  -999.00,9,   -999.0,9,   -999.0,9,-999.0000,9,   -999.0,  9,  -999.00,9,   -999.0,  -999.00,9,  -999.00,9,  -999.00,9,  -999.00,9,   -999.0,-999.0000, -999,9,  999,   3.7848,  27.2178,   -999.0,9
     RF97-05-1,  165E,RF-0422,  1,      6,02-12818,2,19970611,0628, 30.0018, 165.0188, 5821,   1262.2,   3.0103,  34.4053,2,   -999.0,9,  34.4001,2,     39.0,2,   136.64,2,  -999.00,9,    42.66,2,     0.00,2,     3.05,2, -999.000,9, -999.000,9,  -999.00,9,   -999.0,9,   -999.0,9,-999.0000,9,   -999.0,  9,  -999.00,9,   -999.0,  -999.00,9,  -999.00,9,  -999.00,9,  -999.00,9,   -999.0,-999.0000, -999,9, 1250,   2.9222,  27.4174,   -999.0,9
     RF97-05-1,  165E,RF-0422,  1,      5,02-12809,2,19970611,0624, 30.0018, 165.0188, 5821,   1515.4,   2.5079,  34.4923,2,   -999.0,9,  34.4911,2,     43.1,2,   150.05,2,  -999.00,9,    42.98,2,     0.00,2,     3.06,2, -999.000,9, -999.000,9,  -999.00,9,   -999.0,9,   -999.0,9,-999.0000,9,   -999.0,  9,  -999.00,9,   -999.0,  -999.00,9,  -999.00,9,  -999.00,9,  -999.00,9,   1514.0,-999.0000, -999,9, 1500,   2.4047,  27.5319,   -999.0,9
     RF97-05-1,  165E,RF-0422,  1,      4,02-12817,2,19970611,0619, 30.0018, 165.0188, 5821,   1769.2,   2.2203,  34.5521,2,   -999.0,9,  34.5505,2,     56.5,2,   155.55,2,  -999.00,9,    42.24,2,     0.00,2,     3.01,2, -999.000,9, -999.000,9,  -999.00,9,   -999.0,9,   -999.0,9,-999.0000,9,   -999.0,  9,  -999.00,9,   -999.0,  -999.00,9,  -999.00,9,  -999.00,9,  -999.00,9,   -999.0,-999.0000, -999,9, 1750,   2.1001,  27.6048,   -999.0,9
     RF97-05-1,  165E,RF-0422,  1,      3,02-12808,2,19970611,0615, 30.0018, 165.0188, 5821,   2021.7,   1.9646,  34.5927,2,   -999.0,9,  34.5912,2,   -999.0,9,  -999.00,9,  -999.00,9,  -999.00,9,  -999.00,9,  -999.00,9, -999.000,9, -999.000,9,  -999.00,9,   -999.0,9,   -999.0,9,-999.0000,9,   -999.0,  9,  -999.00,9,   -999.0,  -999.00,9,  -999.00,9,  -999.00,9,  -999.00,9,   -999.0,-999.0000, -999,9, 1998,   1.8270,  27.6588,   -999.0,9
     RF97-05-1,  165E,RF-0422,  1,      2,02-13588,2,19970611,0614, 30.0018, 165.0188, 5821,   2023.1,   1.9661,  34.5926,2,   -999.0,9,  34.5912,2,   -999.0,9,  -999.00,9,  -999.00,9,  -999.00,9,  -999.00,9,  -999.00,9, -999.000,9, -999.000,9,  -999.00,9,   -999.0,9,   -999.0,9,-999.0000,9,   -999.0,  9,  -999.00,9,   -999.0,  -999.00,9,  -999.00,9,  -999.00,9,  -999.00,9,   -999.0,-999.0000, -999,9, 2000,   1.8284,  27.6587,   -999.0,9
     RF97-05-1,  165E,RF-0422,  1,      1,02-12807,2,19970611,0614, 30.0018, 165.0188, 5821,   2023.1,   1.9678,  34.5926,2,   -999.0,9,  34.5901,2,     72.7,2,   158.90,2,  -999.00,9,    41.26,2,     0.00,2,     2.92,2, -999.000,9, -999.000,9,  -999.00,9,   -999.0,9,   -999.0,9,-999.0000,9,   -999.0,  9,  -999.00,9,   -999.0,  -999.00,9,  -999.00,9,  -999.00,9,  -999.00,9,   2007.0,-999.0000, -999,9, 2000,   1.8300,  27.6585,   -999.0,9