BOTTLE,20130510GEMDJMAYT
EXPOCODE,SECT_ID,STNNBR,CASTNO,SAMPNO,BTLNBR,BTLNBR_FLAG_W,DATE,TIME,LATITUDE,LONGITUDE,DEPTH,CTDPRS,CTDTMP,CTDSAL,CTDSAL_FLAG_W,CTDOXY,CTDOXY_FLAG_W,SALNTY,SALNTY_FLAG_W,OXYGEN,OXYGEN_FLAG_W,SILCAT,SILCAT_FLAG_W,NITRAT,NITRAT_FLAG_W,NO2+NO3,NO2+NO3_FLAG_W,NITRIT,NITRIT_FLAG_W,PHSPHT,PHSPHT_FLAG_W,CFC-11,CFC-11_FLAG_W,CFC-12,CFC-12_FLAG_W,DELC13,DELC13_FLAG_W,TCARBN,TCARBN_FLAG_W,ALKALI,ALKALI_FLAG_W,PH,PH_FLAG_W,PH_TMP,PH_SCALE,PH_NBS,PH_NBS_FLAG_W,C13ERR,TOTALP,TOTALP_FLAG_W,AMMONI,AMMONI_FLAG_W,CHLORA,CHLORA_FLAG_W,PPHYTN,PPHYTN_FLAG_W,REVPRS,REVTMP,DEPTH_,DEPTH_FLAG,CTDDEP,THETA,SIGTHT,DOC,DOC_FLAG_W
,,,,,,,GMT,GMT,,,METER,DBAR,ITS-90,PSS-78,,UMOL/KG,,PSS-78,,UMOL/KG,,UMOL/KG,,UMOL/KG,,UMOL/KG,,UMOL/KG,,UMOL/KG,,PMOL/KG,,PMOL/KG,,/MILLE,,UMOL/KG,,UMOL/KG,,25_DEG_C,,DEG_C,,,,/MILLE,UMOL/KG,,UMOL/KG,,UG/L,,UG/L,,DBAR,ITS-90,METERS,,METERS,DEG_C,,UMOL/L,
     RF97-05-1,  NONE,RF-0394,  1,     -9,      -9,5,19970603,1136, 45.0767, 157.0033, 4911,      0.0,   5.2424,  33.0051,2,   -999.0,9,-999.0000,9,    336.8,2,  -999.00,9,  -999.00,9,  -999.00,9,  -999.00,9,  -999.00,9, -999.000,9, -999.000,9,  -999.00,9,   -999.0,9,   -999.0,9,-999.0000,9,   -999.0,  9,  -999.00,9,   -999.0,  -999.00,9,  -999.00,9,  -999.00,9,  -999.00,9,   -999.0,-999.0000, -999,9,    0,   5.2424,  26.0665,   -999.0,9
     RF97-05-1,  NONE,RF-0394,  1,     23,02-12829,2,19970603,1134, 45.0767, 157.0033, 4911,     10.8,   5.2405,  33.0039,2,   -999.0,9,  33.0448,4,    342.4,2,  -999.00,9,  -999.00,9,  -999.00,9,  -999.00,9,  -999.00,9, -999.000,9, -999.000,9,  -999.00,9,   -999.0,9,   -999.0,9,-999.0000,9,   -999.0,  9,  -999.00,9,   -999.0,  -999.00,9,  -999.00,9,  -999.00,9,  -999.00,9,   -999.0,-999.0000, -999,9,   11,   5.2397,  26.0658,   -999.0,9
     RF97-05-1,  NONE,RF-0394,  1,     22,02-12828,2,19970603,1133, 45.0767, 157.0033, 4911,     25.4,   5.0059,  32.9989,2,   -999.0,9,-999.0000,9,    343.8,2,  -999.00,9,  -999.00,9,  -999.00,9,  -999.00,9,  -999.00,9, -999.000,9, -999.000,9,  -999.00,9,   -999.0,9,   -999.0,9,-999.0000,9,   -999.0,  9,  -999.00,9,   -999.0,  -999.00,9,  -999.00,9,  -999.00,9,  -999.00,9,   -999.0,-999.0000, -999,9,   25,   5.0040,  26.0885,   -999.0,9
     RF97-05-1,  NONE,RF-0394,  1,     21,02-12827,2,19970603,1131, 45.0767, 157.0033, 4911,     51.2,   3.6105,  33.0324,2,   -999.0,9,  33.0343,2,    335.6,2,  -999.00,9,  -999.00,9,  -999.00,9,  -999.00,9,  -999.00,9, -999.000,9, -999.000,9,  -999.00,9,   -999.0,9,   -999.0,9,-999.0000,9,   -999.0,  9,  -999.00,9,   -999.0,  -999.00,9,  -999.00,9,  -999.00,9,  -999.00,9,   -999.0,-999.0000, -999,9,   51,   3.6073,  26.2593,   -999.0,9
     RF97-05-1,  NONE,RF-0394,  1,     20,02-12826,2,19970603,1130, 45.0767, 157.0033, 4911,     76.3,   3.1765,  33.0211,2,   -999.0,9,-999.0000,9,    330.8,2,  -999.00,9,  -999.00,9,  -999.00,9,  -999.00,9,  -999.00,9, -999.000,9, -999.000,9,  -999.00,9,   -999.0,9,   -999.0,9,-999.0000,9,   -999.0,  9,  -999.00,9,   -999.0,  -999.00,9,  -999.00,9,  -999.00,9,  -999.00,9,   -999.0,-999.0000, -999,9,   76,   3.1720,  26.2904,   -999.0,9
     RF97-05-1,  NONE,RF-0394,  1,     19,02-12825,2,19970603,1129, 45.0767, 157.0033, 4911,    100.5,   2.0131,  33.0666,2,   -999.0,9,  33.0837,4,    325.8,2,  -999.00,9,  -999.00,9,  -999.00,9,  -999.00,9,  -999.00,9, -999.000,9, -999.000,9,  -999.00,9,   -999.0,9,   -999.0,9,-999.0000,9,   -999.0,  9,  -999.00,9,   -999.0,  -999.00,9,  -999.00,9,  -999.00,9,  -999.00,9,   -999.0,-999.0000, -999,9,  100,   2.0081,  26.4222,   -999.0,9
     RF97-05-1,  NONE,RF-0394,  1,     18,02-12824,4,19970603,1127, 45.0767, 157.0033, 4911,    126.0,   1.9743,  33.2018,2,   -999.0,9,-999.0000,9,    280.0,2,  -999.00,9,  -999.00,9,  -999.00,9,  -999.00,9,  -999.00,9, -999.000,9, -999.000,9,  -999.00,9,   -999.0,9,   -999.0,9,-999.0000,9,   -999.0,  9,  -999.00,9,   -999.0,  -999.00,9,  -999.00,9,  -999.00,9,  -999.00,9,   -999.0,-999.0000, -999,9,  125,   1.9679,  26.5335,   -999.0,9
     RF97-05-1,  NONE,RF-0394,  1,     17,02-12814,2,19970603,1126, 45.0767, 157.0033, 4911,    151.6,   2.7396,  33.5081,2,   -999.0,9,-999.0000,9,    166.9,2,  -999.00,9,  -999.00,9,  -999.00,9,  -999.00,9,  -999.00,9, -999.000,9, -999.000,9,  -999.00,9,   -999.0,9,   -999.0,9,-999.0000,9,   -999.0,  9,  -999.00,9,   -999.0,  -999.00,9,  -999.00,9,  -999.00,9,  -999.00,9,   -999.0,-999.0000, -999,9,  150,   2.7309,  26.7175,   -999.0,9
     RF97-05-1,  NONE,RF-0394,  1,     15,02-12833,2,19970603,1124, 45.0767, 157.0033, 4911,    200.6,   3.2597,  33.8075,2,   -999.0,9,-999.0000,9,     64.9,2,  -999.00,9,  -999.00,9,  -999.00,9,  -999.00,9,  -999.00,9, -999.000,9, -999.000,9,  -999.00,9,   -999.0,9,   -999.0,9,-999.0000,9,   -999.0,  9,  -999.00,9,   -999.0,  -999.00,9,  -999.00,9,  -999.00,9,  -999.00,9,   -999.0,-999.0000, -999,9,  199,   3.2471,  26.9107,   -999.0,9
     RF97-05-1,  NONE,RF-0394,  1,     16,02-12832,2,19970603,1124, 45.0767, 157.0033, 4911,    201.4,   3.2663,  33.8023,2,   -999.0,9,  33.8149,2,     66.4,2,  -999.00,9,  -999.00,9,  -999.00,9,  -999.00,9,  -999.00,9, -999.000,9, -999.000,9,  -999.00,9,   -999.0,9,   -999.0,9,-999.0000,9,   -999.0,  9,  -999.00,9,   -999.0,  -999.00,9,  -999.00,9,  -999.00,9,  -999.00,9,   -999.0,-999.0000, -999,9,  200,   3.2538,  26.9059,   -999.0,9
     RF97-05-1,  NONE,RF-0394,  1,     14,02-13578,2,19970603,1122, 45.0767, 157.0033, 4911,    252.2,   3.3377,  33.9174,2,   -999.0,9,-999.0000,9,     40.4,2,  -999.00,9,  -999.00,9,  -999.00,9,  -999.00,9,  -999.00,9, -999.000,9, -999.000,9,  -999.00,9,   -999.0,9,   -999.0,9,-999.0000,9,   -999.0,  9,  -999.00,9,   -999.0,  -999.00,9,  -999.00,9,  -999.00,9,  -999.00,9,   -999.0,-999.0000, -999,9,  250,   3.3216,  26.9913,   -999.0,9
     RF97-05-1,  NONE,RF-0394,  1,     12,02-12821,2,19970603,1120, 45.0767, 157.0033, 4911,    302.2,   3.4756,  34.0116,2,   -999.0,9,-999.0000,9,     21.8,2,  -999.00,9,  -999.00,9,  -999.00,9,  -999.00,9,  -999.00,9, -999.000,9, -999.000,9,  -999.00,9,   -999.0,9,   -999.0,9,-999.0000,9,   -999.0,  9,  -999.00,9,   -999.0,  -999.00,9,  -999.00,9,  -999.00,9,  -999.00,9,   -999.0,-999.0000, -999,9,  300,   3.4559,  27.0537,   -999.0,9
     RF97-05-1,  NONE,RF-0394,  1,     13,02-13590,2,19970603,1121, 45.0767, 157.0033, 4911,    302.6,   3.4775,  34.0114,2,   -999.0,9,-999.0000,9,     22.0,2,  -999.00,9,  -999.00,9,  -999.00,9,  -999.00,9,  -999.00,9, -999.000,9, -999.000,9,  -999.00,9,   -999.0,9,   -999.0,9,-999.0000,9,   -999.0,  9,  -999.00,9,   -999.0,  -999.00,9,  -999.00,9,  -999.00,9,  -999.00,9,   -999.0,-999.0000, -999,9,  300,   3.4577,  27.0534,   -999.0,9
     RF97-05-1,  NONE,RF-0394,  1,     11,02-12811,2,19970603,1118, 45.0767, 157.0033, 4911,    402.7,   3.3798,  34.1197,2,   -999.0,9,  34.1214,2,   -999.0,4,  -999.00,9,  -999.00,9,  -999.00,9,  -999.00,9,  -999.00,9, -999.000,9, -999.000,9,  -999.00,9,   -999.0,9,   -999.0,9,-999.0000,9,   -999.0,  9,  -999.00,9,   -999.0,  -999.00,9,  -999.00,9,  -999.00,9,  -999.00,9,   -999.0,-999.0000, -999,9,  399,   3.3534,  27.1497,   -999.0,9
     RF97-05-1,  NONE,RF-0394,  1,     10,02-10155,2,19970603,1116, 45.0767, 157.0033, 4911,    503.3,   3.2414,  34.1950,2,   -999.0,9,-999.0000,9,     19.6,2,  -999.00,9,  -999.00,9,  -999.00,9,  -999.00,9,  -999.00,9, -999.000,9, -999.000,9,  -999.00,9,   -999.0,9,   -999.0,9,-999.0000,9,   -999.0,  9,  -999.00,9,   -999.0,  -999.00,9,  -999.00,9,  -999.00,9,  -999.00,9,   -999.0,-999.0000, -999,9,  499,   3.2085,  27.2233,   -999.0,9
     RF97-05-1,  NONE,RF-0394,  1,      9,02-12810,2,19970603,1113, 45.0767, 157.0033, 4911,    604.1,   3.1017,  34.2650,2,   -999.0,9,  34.2685,2,     16.9,2,  -999.00,9,  -999.00,9,  -999.00,9,  -999.00,9,  -999.00,9, -999.000,9, -999.000,9,  -999.00,9,   -999.0,9,   -999.0,9,-999.0000,9,   -999.0,  9,  -999.00,9,   -999.0,  -999.00,9,  -999.00,9,  -999.00,9,  -999.00,9,   -999.0,-999.0000, -999,9,  598,   3.0623,  27.2927,   -999.0,9
     RF97-05-1,  NONE,RF-0394,  1,      8,02-13591,2,19970603,1111, 45.0767, 157.0033, 4911,    704.8,   2.9327,  34.3241,2,   -999.0,9,-999.0000,9,   -999.0,4,  -999.00,9,  -999.00,9,  -999.00,9,  -999.00,9,  -999.00,9, -999.000,9, -999.000,9,  -999.00,9,   -999.0,9,   -999.0,9,-999.0000,9,   -999.0,  9,  -999.00,9,   -999.0,  -999.00,9,  -999.00,9,  -999.00,9,  -999.00,9,   -999.0,-999.0000, -999,9,  698,   2.8870,  27.3557,   -999.0,9
     RF97-05-1,  NONE,RF-0394,  1,      7,02-13589,2,19970603,1108, 45.0767, 157.0033, 4911,    806.5,   2.7714,  34.3711,2,   -999.0,9,  34.3712,2,   -999.0,4,  -999.00,9,  -999.00,9,  -999.00,9,  -999.00,9,  -999.00,9, -999.000,9, -999.000,9,  -999.00,9,   -999.0,9,   -999.0,9,-999.0000,9,   -999.0,  9,  -999.00,9,   -999.0,  -999.00,9,  -999.00,9,  -999.00,9,  -999.00,9,   -999.0,-999.0000, -999,9,  798,   2.7195,  27.4080,   -999.0,9
     RF97-05-1,  NONE,RF-0394,  1,      6,02-12818,2,19970603,1106, 45.0767, 157.0033, 4911,    907.3,   2.6247,  34.4081,2,   -999.0,9,-999.0000,9,     23.3,2,  -999.00,9,  -999.00,9,  -999.00,9,  -999.00,9,  -999.00,9, -999.000,9, -999.000,9,  -999.00,9,   -999.0,9,   -999.0,9,-999.0000,9,   -999.0,  9,  -999.00,9,   -999.0,  -999.00,9,  -999.00,9,  -999.00,9,  -999.00,9,   -999.0,-999.0000, -999,9,  898,   2.5666,  27.4509,   -999.0,9
     RF97-05-1,  NONE,RF-0394,  1,      5,02-12809,2,19970603,1103, 45.0767, 157.0033, 4911,   1007.9,   2.4898,  34.4456,2,   -999.0,9,  34.4469,2,     23.9,2,  -999.00,9,  -999.00,9,  -999.00,9,  -999.00,9,  -999.00,9, -999.000,9, -999.000,9,  -999.00,9,   -999.0,9,   -999.0,9,-999.0000,9,   -999.0,  9,  -999.00,9,   -999.0,  -999.00,9,  -999.00,9,  -999.00,9,  -999.00,9,   1003.0,-999.0000, -999,9,  997,   2.4254,  27.4929,   -999.0,9
     RF97-05-1,  NONE,RF-0394,  1,      4,02-12817,2,19970603,1059, 45.0767, 157.0033, 4911,   1261.3,   2.1854,  34.5154,2,   -999.0,9,  34.5244,2,     41.2,2,  -999.00,9,  -999.00,9,  -999.00,9,  -999.00,9,  -999.00,9, -999.000,9, -999.000,9,  -999.00,9,   -999.0,9,   -999.0,9,-999.0000,9,   -999.0,  9,  -999.00,9,   -999.0,  -999.00,9,  -999.00,9,  -999.00,9,  -999.00,9,   -999.0,-999.0000, -999,9, 1247,   2.1051,  27.5750,   -999.0,9
     RF97-05-1,  NONE,RF-0394,  1,      3,02-12808,2,19970603,1054, 45.0767, 157.0033, 4911,   1515.8,   2.0408,  34.5597,2,   -999.0,9,  34.5592,2,     60.3,2,  -999.00,9,  -999.00,9,  -999.00,9,  -999.00,9,  -999.00,9, -999.000,9, -999.000,9,  -999.00,9,   -999.0,9,   -999.0,9,-999.0000,9,   -999.0,  9,  -999.00,9,   -999.0,  -999.00,9,  -999.00,9,  -999.00,9,  -999.00,9,   -999.0,-999.0000, -999,9, 1498,   1.9429,  27.6234,   -999.0,9
     RF97-05-1,  NONE,RF-0394,  1,      2,02-13588,2,19970603,1049, 45.0767, 157.0033, 4911,   1768.3,   1.8972,  34.5896,2,   -999.0,9,  34.5891,2,     72.1,2,  -999.00,9,  -999.00,9,  -999.00,9,  -999.00,9,  -999.00,9, -999.000,9, -999.000,9,  -999.00,9,   -999.0,9,   -999.0,9,-999.0000,9,   -999.0,  9,  -999.00,9,   -999.0,  -999.00,9,  -999.00,9,  -999.00,9,  -999.00,9,   -999.0,-999.0000, -999,9, 1747,   1.7814,  27.6599,   -999.0,9
     RF97-05-1,  NONE,RF-0394,  1,      1,02-12807,2,19970603,1044, 45.0767, 157.0033, 4911,   2029.6,   1.7694,  34.6167,2,   -999.0,9,  34.6154,2,     88.3,2,  -999.00,9,  -999.00,9,  -999.00,9,  -999.00,9,  -999.00,9, -999.000,9, -999.000,9,  -999.00,9,   -999.0,9,   -999.0,9,-999.0000,9,   -999.0,  9,  -999.00,9,   -999.0,  -999.00,9,  -999.00,9,  -999.00,9,  -999.00,9,   2016.0,-999.0000, -999,9, 2003,   1.6341,  27.6927,   -999.0,9