BOTTLE,20130510GEMDJMAYT
EXPOCODE,SECT_ID,STNNBR,CASTNO,SAMPNO,BTLNBR,BTLNBR_FLAG_W,DATE,TIME,LATITUDE,LONGITUDE,DEPTH,CTDPRS,CTDTMP,CTDSAL,CTDSAL_FLAG_W,CTDOXY,CTDOXY_FLAG_W,SALNTY,SALNTY_FLAG_W,OXYGEN,OXYGEN_FLAG_W,SILCAT,SILCAT_FLAG_W,NITRAT,NITRAT_FLAG_W,NO2+NO3,NO2+NO3_FLAG_W,NITRIT,NITRIT_FLAG_W,PHSPHT,PHSPHT_FLAG_W,CFC-11,CFC-11_FLAG_W,CFC-12,CFC-12_FLAG_W,DELC13,DELC13_FLAG_W,TCARBN,TCARBN_FLAG_W,ALKALI,ALKALI_FLAG_W,PH,PH_FLAG_W,PH_TMP,PH_SCALE,PH_NBS,PH_NBS_FLAG_W,C13ERR,TOTALP,TOTALP_FLAG_W,AMMONI,AMMONI_FLAG_W,CHLORA,CHLORA_FLAG_W,PPHYTN,PPHYTN_FLAG_W,REVPRS,REVTMP,DEPTH_,DEPTH_FLAG,CTDDEP,THETA,SIGTHT,DOC,DOC_FLAG_W
,,,,,,,GMT,GMT,,,METER,DBAR,ITS-90,PSS-78,,UMOL/KG,,PSS-78,,UMOL/KG,,UMOL/KG,,UMOL/KG,,UMOL/KG,,UMOL/KG,,UMOL/KG,,PMOL/KG,,PMOL/KG,,/MILLE,,UMOL/KG,,UMOL/KG,,25_DEG_C,,DEG_C,,,,/MILLE,UMOL/KG,,UMOL/KG,,UG/L,,UG/L,,DBAR,ITS-90,METERS,,METERS,DEG_C,,UMOL/L,
     RF97-05-1,  165E,RF-0402,  1,     -9,      -9,5,19970605,1035, 49.9957, 165.0037, 5497,      0.0,   4.6731,  32.9355,2,   -999.0,9,-999.0000,9,    325.4,2,    40.03,2,  -999.00,9,    22.69,2,     0.20,2,     1.82,2, -999.000,9, -999.000,9,  -999.00,9,   -999.0,9,   -999.0,9,-999.0000,9,   -999.0,  9,     7.87,2,   -999.0,  -999.00,9,  -999.00,9,     0.37,2,     0.09,2,   -999.0,-999.0000, -999,9,    0,   4.6731,  26.0745,   -999.0,9
     RF97-05-1,  165E,RF-0402,  1,     23,02-12829,2,19970605,1032, 49.9957, 165.0037, 5497,     10.4,   4.6711,  32.9300,2,   -999.0,9,  32.9394,2,    325.7,2,    39.87,2,  -999.00,9,    22.62,2,     0.20,2,     1.83,2, -999.000,9, -999.000,9,  -999.00,9,   -999.0,9,   -999.0,9,-999.0000,9,   -999.0,  9,  -999.00,9,   -999.0,  -999.00,9,  -999.00,9,  -999.00,9,  -999.00,9,   -999.0,-999.0000, -999,9,   10,   4.6704,  26.0704,   -999.0,9
     RF97-05-1,  165E,RF-0402,  1,     22,02-12828,2,19970605,1031, 49.9957, 165.0037, 5497,     24.3,   4.4105,  32.9412,2,   -999.0,9,-999.0000,9,    326.4,2,    40.32,2,  -999.00,9,    22.79,2,     0.20,2,     1.85,2, -999.000,9, -999.000,9,  -999.00,9,   -999.0,9,   -999.0,9,-999.0000,9,   -999.0,  9,     7.87,2,   -999.0,  -999.00,9,  -999.00,9,     0.33,2,     0.10,2,   -999.0,-999.0000, -999,9,   24,   4.4088,  26.1070,   -999.0,9
     RF97-05-1,  165E,RF-0402,  1,     21,02-12827,2,19970605,1030, 49.9957, 165.0037, 5497,     50.4,   3.8334,  32.9202,2,   -999.0,9,  32.9560,4,    328.1,2,    40.66,2,  -999.00,9,    23.20,2,     0.19,2,     1.89,2, -999.000,9, -999.000,9,  -999.00,9,   -999.0,9,   -999.0,9,-999.0000,9,   -999.0,  9,     7.86,2,   -999.0,  -999.00,9,  -999.00,9,     0.48,2,     0.27,2,   -999.0,-999.0000, -999,9,   50,   3.8301,  26.1486,   -999.0,9
     RF97-05-1,  165E,RF-0402,  1,     20,02-12826,2,19970605,1028, 49.9957, 165.0037, 5497,     74.9,   2.9641,  32.9752,2,   -999.0,9,-999.0000,9,    320.9,2,    42.31,2,  -999.00,9,    24.68,2,     0.24,2,     2.00,2, -999.000,9, -999.000,9,  -999.00,9,   -999.0,9,   -999.0,9,-999.0000,9,   -999.0,  9,     7.82,2,   -999.0,  -999.00,9,  -999.00,9,     0.26,2,     0.16,2,   -999.0,-999.0000, -999,9,   74,   2.9598,  26.2724,   -999.0,9
     RF97-05-1,  165E,RF-0402,  1,     19,02-12825,2,19970605,1027, 49.9957, 165.0037, 5497,    100.1,   2.8670,  33.3934,2,   -999.0,9,  33.5602,4,    127.8,2,    76.42,2,  -999.00,9,    38.60,2,     0.03,2,     2.86,2, -999.000,9, -999.000,9,  -999.00,9,   -999.0,9,   -999.0,9,-999.0000,9,   -999.0,  9,     7.53,2,   -999.0,  -999.00,9,  -999.00,9,     0.05,2,     0.04,2,   -999.0,-999.0000, -999,9,   99,   2.8613,  26.6147,   -999.0,9
     RF97-05-1,  165E,RF-0402,  1,     18,02-12824,2,19970605,1026, 49.9957, 165.0037, 5497,    124.5,   3.4925,  33.8509,2,   -999.0,9,-999.0000,9,     33.7,2,    94.52,2,  -999.00,9,    44.53,2,     0.01,2,     3.24,2, -999.000,9, -999.000,9,  -999.00,9,   -999.0,9,   -999.0,9,-999.0000,9,   -999.0,  9,     7.41,2,   -999.0,  -999.00,9,  -999.00,9,     0.02,2,     0.02,2,   -999.0,-999.0000, -999,9,  123,   3.4846,  26.9230,   -999.0,9
     RF97-05-1,  165E,RF-0402,  1,     17,02-12814,2,19970605,1024, 49.9957, 165.0037, 5497,    150.9,   3.5206,  33.8991,2,   -999.0,9,-999.0000,9,     24.8,2,    98.20,2,  -999.00,9,    44.87,2,     0.01,2,     3.27,2, -999.000,9, -999.000,9,  -999.00,9,   -999.0,9,   -999.0,9,-999.0000,9,   -999.0,  9,     7.39,2,   -999.0,  -999.00,9,  -999.00,9,     0.01,2,     0.02,2,   -999.0,-999.0000, -999,9,  150,   3.5109,  26.9588,   -999.0,9
     RF97-05-1,  165E,RF-0402,  1,     16,02-12832,2,19970605,1022, 49.9957, 165.0037, 5497,    200.9,   3.5395,  33.9800,2,   -999.0,9,  33.9825,2,     15.7,2,   105.44,2,  -999.00,9,    45.01,2,     0.00,2,     3.28,2, -999.000,9, -999.000,9,  -999.00,9,   -999.0,9,   -999.0,9,-999.0000,9,   -999.0,  9,     7.40,2,   -999.0,  -999.00,9,  -999.00,9,     0.00,2,     0.02,2,   -999.0,-999.0000, -999,9,  199,   3.5265,  27.0218,   -999.0,9
     RF97-05-1,  165E,RF-0402,  1,     15,02-12833,2,19970605,1022, 49.9957, 165.0037, 5497,    200.9,   3.5389,  33.9854,2,   -999.0,9,-999.0000,9,   -999.0,9,  -999.00,9,  -999.00,9,  -999.00,9,  -999.00,9,  -999.00,9, -999.000,9, -999.000,9,  -999.00,9,   -999.0,9,   -999.0,9,-999.0000,9,   -999.0,  9,  -999.00,9,   -999.0,  -999.00,9,  -999.00,9,  -999.00,9,  -999.00,9,   -999.0,-999.0000, -999,9,  199,   3.5259,  27.0262,   -999.0,9
     RF97-05-1,  165E,RF-0402,  1,     14,02-13578,2,19970605,1020, 49.9957, 165.0037, 5497,    251.3,   3.5250,  34.0447,2,   -999.0,9,-999.0000,9,     13.6,2,   110.25,2,  -999.00,9,    44.73,2,     0.00,2,     3.27,2, -999.000,9, -999.000,9,  -999.00,9,   -999.0,9,   -999.0,9,-999.0000,9,   -999.0,  9,     7.41,2,   -999.0,  -999.00,9,  -999.00,9,     0.01,2,     0.02,2,   -999.0,-999.0000, -999,9,  249,   3.5085,  27.0751,   -999.0,9
     RF97-05-1,  165E,RF-0402,  1,     13,02-13590,2,19970605,1018, 49.9957, 165.0037, 5497,    301.0,   3.4885,  34.1020,2,   -999.0,9,-999.0000,9,     15.4,2,   115.30,2,  -999.00,9,    44.23,2,     0.00,2,     3.22,2, -999.000,9, -999.000,9,  -999.00,9,   -999.0,9,   -999.0,9,-999.0000,9,   -999.0,  9,     7.43,2,   -999.0,  -999.00,9,  -999.00,9,     0.00,2,     0.02,2,   -999.0,-999.0000, -999,9,  298,   3.4687,  27.1246,   -999.0,9
     RF97-05-1,  165E,RF-0402,  1,     12,02-12821,2,19970605,1018, 49.9957, 165.0037, 5497,    301.6,   3.4842,  34.1054,2,   -999.0,9,-999.0000,9,   -999.0,9,  -999.00,9,  -999.00,9,  -999.00,9,  -999.00,9,  -999.00,9, -999.000,9, -999.000,9,  -999.00,9,   -999.0,9,   -999.0,9,-999.0000,9,   -999.0,  9,  -999.00,9,   -999.0,  -999.00,9,  -999.00,9,  -999.00,9,  -999.00,9,   -999.0,-999.0000, -999,9,  299,   3.4645,  27.1276,   -999.0,9
     RF97-05-1,  165E,RF-0402,  1,     11,02-12811,2,19970605,1015, 49.9957, 165.0037, 5497,    402.3,   3.3503,  34.1872,2,   -999.0,9,  34.1878,2,     16.5,2,   123.60,2,  -999.00,9,    43.77,2,     0.00,2,     3.17,2, -999.000,9, -999.000,9,  -999.00,9,   -999.0,9,   -999.0,9,-999.0000,9,   -999.0,  9,  -999.00,9,   -999.0,  -999.00,9,  -999.00,9,  -999.00,9,  -999.00,9,   -999.0,-999.0000, -999,9,  398,   3.3239,  27.2062,   -999.0,9
     RF97-05-1,  165E,RF-0402,  1,     10,02-10155,2,19970605,1012, 49.9957, 165.0037, 5497,    502.8,   3.1874,  34.2526,2,   -999.0,9,-999.0000,9,     16.4,2,   131.04,2,  -999.00,9,    43.57,2,     0.00,2,     3.17,2, -999.000,9, -999.000,9,  -999.00,9,   -999.0,9,   -999.0,9,-999.0000,9,   -999.0,  9,  -999.00,9,   -999.0,  -999.00,9,  -999.00,9,  -999.00,9,  -999.00,9,   -999.0,-999.0000, -999,9,  498,   3.1547,  27.2743,   -999.0,9
     RF97-05-1,  165E,RF-0402,  1,      9,02-12810,2,19970605,1010, 49.9957, 165.0037, 5497,    603.4,   3.0457,  34.3013,2,   -999.0,9,  34.2818,4,     16.6,2,   136.49,2,  -999.00,9,    43.48,2,     0.00,2,     3.17,2, -999.000,9, -999.000,9,  -999.00,9,   -999.0,9,   -999.0,9,-999.0000,9,   -999.0,  9,  -999.00,9,   -999.0,  -999.00,9,  -999.00,9,  -999.00,9,  -999.00,9,   -999.0,-999.0000, -999,9,  597,   3.0067,  27.3267,   -999.0,9
     RF97-05-1,  165E,RF-0402,  1,      8,02-13591,2,19970605,1006, 49.9957, 165.0037, 5497,    705.1,   2.9110,  34.3433,2,   -999.0,9,-999.0000,9,     19.3,2,   141.48,2,  -999.00,9,    43.44,2,     0.00,2,     3.17,2, -999.000,9, -999.000,9,  -999.00,9,   -999.0,9,   -999.0,9,-999.0000,9,   -999.0,  9,  -999.00,9,   -999.0,  -999.00,9,  -999.00,9,  -999.00,9,  -999.00,9,   -999.0,-999.0000, -999,9,  698,   2.8655,  27.3730,   -999.0,9
     RF97-05-1,  165E,RF-0402,  1,      7,02-13589,2,19970605,1003, 49.9957, 165.0037, 5497,    805.4,   2.7713,  34.3811,2,   -999.0,9,  34.3813,2,     20.4,2,   146.10,2,  -999.00,9,    43.32,2,     0.00,2,     3.14,2, -999.000,9, -999.000,9,  -999.00,9,   -999.0,9,   -999.0,9,-999.0000,9,   -999.0,  9,  -999.00,9,   -999.0,  -999.00,9,  -999.00,9,  -999.00,9,  -999.00,9,   -999.0,-999.0000, -999,9,  797,   2.7195,  27.4161,   -999.0,9
     RF97-05-1,  165E,RF-0402,  1,      6,02-12818,2,19970605,1001, 49.9957, 165.0037, 5497,    906.6,   2.6294,  34.4162,2,   -999.0,9,-999.0000,9,     22.4,2,   150.78,2,  -999.00,9,    43.26,2,     0.00,2,     3.14,2, -999.000,9, -999.000,9,  -999.00,9,   -999.0,9,   -999.0,9,-999.0000,9,   -999.0,  9,  -999.00,9,   -999.0,  -999.00,9,  -999.00,9,  -999.00,9,  -999.00,9,   -999.0,-999.0000, -999,9,  897,   2.5713,  27.4570,   -999.0,9
     RF97-05-1,  165E,RF-0402,  1,      5,02-12809,2,19970605,0958, 49.9957, 165.0037, 5497,   1007.3,   2.4869,  34.4490,2,   -999.0,9,  34.4501,2,     26.2,2,   155.13,2,  -999.00,9,    43.08,2,     0.00,2,     3.12,2, -999.000,9, -999.000,9,  -999.00,9,   -999.0,9,   -999.0,9,-999.0000,9,   -999.0,  9,  -999.00,9,   -999.0,  -999.00,9,  -999.00,9,  -999.00,9,  -999.00,9,   1003.0,-999.0000, -999,9,  996,   2.4226,  27.4958,   -999.0,9
     RF97-05-1,  165E,RF-0402,  1,      4,02-12817,2,19970605,0953, 49.9957, 165.0037, 5497,   1260.3,   2.2069,  34.5158,2,   -999.0,9,  34.5157,2,     37.6,2,   162.22,2,  -999.00,9,    42.59,2,     0.01,2,     3.08,2, -999.000,9, -999.000,9,  -999.00,9,   -999.0,9,   -999.0,9,-999.0000,9,   -999.0,  9,  -999.00,9,   -999.0,  -999.00,9,  -999.00,9,  -999.00,9,  -999.00,9,   -999.0,-999.0000, -999,9, 1246,   2.1265,  27.5736,   -999.0,9
     RF97-05-1,  165E,RF-0402,  1,      3,02-12808,2,19970605,0947, 49.9957, 165.0037, 5497,   1514.6,   2.0100,  34.5598,2,   -999.0,9,  34.5598,2,     52.5,2,   166.13,2,  -999.00,9,    41.74,2,     0.01,2,     3.00,2, -999.000,9, -999.000,9,  -999.00,9,   -999.0,9,   -999.0,9,-999.0000,9,   -999.0,  9,  -999.00,9,   -999.0,  -999.00,9,  -999.00,9,  -999.00,9,  -999.00,9,   -999.0,-999.0000, -999,9, 1496,   1.9125,  27.6258,   -999.0,9
     RF97-05-1,  165E,RF-0402,  1,      2,02-13588,2,19970605,0943, 49.9957, 165.0037, 5497,   1767.8,   1.8785,  34.5895,2,   -999.0,9,  34.5916,2,     67.3,2,   166.27,2,  -999.00,9,    40.83,2,     0.00,2,     2.94,2, -999.000,9, -999.000,9,  -999.00,9,   -999.0,9,   -999.0,9,-999.0000,9,   -999.0,  9,  -999.00,9,   -999.0,  -999.00,9,  -999.00,9,  -999.00,9,  -999.00,9,   -999.0,-999.0000, -999,9, 1745,   1.7629,  27.6612,   -999.0,9
     RF97-05-1,  165E,RF-0402,  1,      1,02-12807,2,19970605,0937, 49.9957, 165.0037, 5497,   2027.1,   1.7575,  34.6156,2,   -999.0,9,  34.6145,2,     83.2,2,   165.65,2,  -999.00,9,    39.86,2,     0.01,2,     2.86,2, -999.000,9, -999.000,9,  -999.00,9,   -999.0,9,   -999.0,9,-999.0000,9,   -999.0,  9,  -999.00,9,   -999.0,  -999.00,9,  -999.00,9,  -999.00,9,  -999.00,9,   2013.0,-999.0000, -999,9, 2000,   1.6225,  27.6926,   -999.0,9