BOTTLE,20130510GEMDJMAYT
EXPOCODE,SECT_ID,STNNBR,CASTNO,SAMPNO,BTLNBR,BTLNBR_FLAG_W,DATE,TIME,LATITUDE,LONGITUDE,DEPTH,CTDPRS,CTDTMP,CTDSAL,CTDSAL_FLAG_W,CTDOXY,CTDOXY_FLAG_W,SALNTY,SALNTY_FLAG_W,OXYGEN,OXYGEN_FLAG_W,SILCAT,SILCAT_FLAG_W,NITRAT,NITRAT_FLAG_W,NO2+NO3,NO2+NO3_FLAG_W,NITRIT,NITRIT_FLAG_W,PHSPHT,PHSPHT_FLAG_W,CFC-11,CFC-11_FLAG_W,CFC-12,CFC-12_FLAG_W,DELC13,DELC13_FLAG_W,TCARBN,TCARBN_FLAG_W,ALKALI,ALKALI_FLAG_W,PH,PH_FLAG_W,PH_TMP,PH_SCALE,PH_NBS,PH_NBS_FLAG_W,C13ERR,TOTALP,TOTALP_FLAG_W,AMMONI,AMMONI_FLAG_W,CHLORA,CHLORA_FLAG_W,PPHYTN,PPHYTN_FLAG_W,REVPRS,REVTMP,DEPTH_,DEPTH_FLAG,CTDDEP,THETA,SIGTHT,DOC,DOC_FLAG_W
,,,,,,,GMT,GMT,,,METER,DBAR,ITS-90,PSS-78,,UMOL/KG,,PSS-78,,UMOL/KG,,UMOL/KG,,UMOL/KG,,UMOL/KG,,UMOL/KG,,UMOL/KG,,PMOL/KG,,PMOL/KG,,/MILLE,,UMOL/KG,,UMOL/KG,,25_DEG_C,,DEG_C,,,,/MILLE,UMOL/KG,,UMOL/KG,,UG/L,,UG/L,,DBAR,ITS-90,METERS,,METERS,DEG_C,,UMOL/L,
     RF97-05-1,  165E,RF-0407,  1,     -9,      -9,5,19970606,1717, 45.0000, 164.9968, 5957,      0.0,   5.6771,  33.1865,2,   -999.0,9,-999.0000,9,    317.2,2,    26.69,2,  -999.00,9,    15.36,2,     0.26,2,     1.35,2, -999.000,9, -999.000,9,  -999.00,9,   -999.0,9,   -999.0,9,-999.0000,9,   -999.0,  9,  -999.00,9,   -999.0,  -999.00,9,  -999.00,9,     0.53,2,     0.07,2,   -999.0,-999.0000, -999,9,    0,   5.6771,  26.1591,   -999.0,9
     RF97-05-1,  165E,RF-0407,  1,     23,02-12829,2,19970606,1714, 45.0000, 164.9968, 5957,     10.8,   5.6768,  33.1851,2,   -999.0,9,  33.1862,2,    318.9,2,    26.69,2,  -999.00,9,    15.34,2,     0.26,2,     1.34,2, -999.000,9, -999.000,9,  -999.00,9,   -999.0,9,   -999.0,9,-999.0000,9,   -999.0,  9,  -999.00,9,   -999.0,  -999.00,9,  -999.00,9,     0.55,2,     0.09,2,   -999.0,-999.0000, -999,9,   11,   5.6759,  26.1581,   -999.0,9
     RF97-05-1,  165E,RF-0407,  1,     22,02-12828,3,19970606,1713, 45.0000, 164.9968, 5957,     26.5,   5.4573,  33.1753,2,   -999.0,9,-999.0000,9,    319.9,2,    25.76,2,  -999.00,9,    15.17,2,     0.26,2,     1.34,2, -999.000,9, -999.000,9,  -999.00,9,   -999.0,9,   -999.0,9,-999.0000,9,   -999.0,  9,  -999.00,9,   -999.0,  -999.00,9,  -999.00,9,     0.72,2,     0.13,2,   -999.0,-999.0000, -999,9,   26,   5.4553,  26.1766,   -999.0,9
     RF97-05-1,  165E,RF-0407,  1,     21,02-12827,2,19970606,1711, 45.0000, 164.9968, 5957,     51.1,   5.1787,  33.1701,2,   -999.0,9,  33.1862,4,    317.7,2,    25.63,2,  -999.00,9,    15.47,2,     0.28,2,     1.36,2, -999.000,9, -999.000,9,  -999.00,9,   -999.0,9,   -999.0,9,-999.0000,9,   -999.0,  9,  -999.00,9,   -999.0,  -999.00,9,  -999.00,9,     0.72,2,     0.22,2,   -999.0,-999.0000, -999,9,   51,   5.1749,  26.2049,   -999.0,9
     RF97-05-1,  165E,RF-0407,  1,     20,02-12826,2,19970606,1710, 45.0000, 164.9968, 5957,     76.1,   4.5924,  33.2440,2,   -999.0,9,-999.0000,9,    316.4,2,    28.43,2,  -999.00,9,    17.15,2,     0.40,2,     1.47,2, -999.000,9, -999.000,9,  -999.00,9,   -999.0,9,   -999.0,9,-999.0000,9,   -999.0,  9,  -999.00,9,   -999.0,  -999.00,9,  -999.00,9,     0.25,2,     0.17,2,   -999.0,-999.0000, -999,9,   75,   4.5870,  26.3285,   -999.0,9
     RF97-05-1,  165E,RF-0407,  1,     19,02-12825,2,19970606,1709, 45.0000, 164.9968, 5957,    100.7,   4.4191,  33.2937,2,   -999.0,9,  33.3065,2,    312.9,2,    28.99,2,  -999.00,9,    18.04,2,     0.24,2,     1.48,2, -999.000,9, -999.000,9,  -999.00,9,   -999.0,9,   -999.0,9,-999.0000,9,   -999.0,  9,  -999.00,9,   -999.0,  -999.00,9,  -999.00,9,     0.11,2,     0.11,2,   -999.0,-999.0000, -999,9,  100,   4.4120,  26.3866,   -999.0,9
     RF97-05-1,  165E,RF-0407,  1,     18,02-12824,2,19970606,1707, 45.0000, 164.9968, 5957,    126.2,   4.0690,  33.3427,2,   -999.0,9,-999.0000,9,    306.3,2,    30.16,2,  -999.00,9,    19.18,2,     0.01,2,     1.53,2, -999.000,9, -999.000,9,  -999.00,9,   -999.0,9,   -999.0,9,-999.0000,9,   -999.0,  9,  -999.00,9,   -999.0,  -999.00,9,  -999.00,9,     0.04,2,     0.08,2,   -999.0,-999.0000, -999,9,  125,   4.0605,  26.4618,   -999.0,9
     RF97-05-1,  165E,RF-0407,  1,     17,02-12814,2,19970606,1706, 45.0000, 164.9968, 5957,    151.8,   4.0498,  33.3930,2,   -999.0,9,-999.0000,9,    305.7,2,    30.47,2,  -999.00,9,    19.21,2,     0.01,2,     1.52,2, -999.000,9, -999.000,9,  -999.00,9,   -999.0,9,   -999.0,9,-999.0000,9,   -999.0,  9,  -999.00,9,   -999.0,  -999.00,9,  -999.00,9,     0.02,2,     0.08,2,   -999.0,-999.0000, -999,9,  151,   4.0395,  26.5039,   -999.0,9
     RF97-05-1,  165E,RF-0407,  1,     16,02-12832,2,19970606,1704, 45.0000, 164.9968, 5957,    202.0,   4.3856,  33.5569,2,   -999.0,9,  33.5655,2,    245.8,2,    41.70,2,  -999.00,9,    23.57,2,     0.01,2,     1.79,2, -999.000,9, -999.000,9,  -999.00,9,   -999.0,9,   -999.0,9,-999.0000,9,   -999.0,  9,  -999.00,9,   -999.0,  -999.00,9,  -999.00,9,     0.01,2,     0.06,2,   -999.0,-999.0000, -999,9,  200,   4.3713,  26.5999,   -999.0,9
     RF97-05-1,  165E,RF-0407,  1,     15,02-12833,9,19970606,1703, 45.0000, 164.9968, 5957,    202.1,   4.3852,  33.5572,2,   -999.0,9,-999.0000,9,   -999.0,9,  -999.00,9,  -999.00,9,  -999.00,9,  -999.00,9,  -999.00,9, -999.000,9, -999.000,9,  -999.00,9,   -999.0,9,   -999.0,9,-999.0000,9,   -999.0,  9,  -999.00,9,   -999.0,  -999.00,9,  -999.00,9,  -999.00,9,  -999.00,9,   -999.0,-999.0000, -999,9,  200,   4.3708,  26.6002,   -999.0,9
     RF97-05-1,  165E,RF-0407,  1,     14,02-13578,2,19970606,1702, 45.0000, 164.9968, 5957,    252.1,   4.1141,  33.7004,2,   -999.0,9,-999.0000,9,    169.2,2,    61.06,2,  -999.00,9,    30.81,2,     0.01,2,     2.29,2, -999.000,9, -999.000,9,  -999.00,9,   -999.0,9,   -999.0,9,-999.0000,9,   -999.0,  9,  -999.00,9,   -999.0,  -999.00,9,  -999.00,9,  -999.00,9,  -999.00,9,   -999.0,-999.0000, -999,9,  250,   4.0966,  26.7425,   -999.0,9
     RF97-05-1,  165E,RF-0407,  1,     12,02-12821,9,19970606,1659, 45.0000, 164.9968, 5957,    302.0,   4.0810,  33.7784,2,   -999.0,9,-999.0000,9,   -999.0,9,  -999.00,9,  -999.00,9,  -999.00,9,  -999.00,9,  -999.00,9, -999.000,9, -999.000,9,  -999.00,9,   -999.0,9,   -999.0,9,-999.0000,9,   -999.0,  9,  -999.00,9,   -999.0,  -999.00,9,  -999.00,9,  -999.00,9,  -999.00,9,   -999.0,-999.0000, -999,9,  299,   4.0599,  26.8083,   -999.0,9
     RF97-05-1,  165E,RF-0407,  1,     13,02-13590,2,19970606,1700, 45.0000, 164.9968, 5957,    302.3,   4.0897,  33.7796,2,   -999.0,9,-999.0000,9,    143.1,2,    69.02,2,  -999.00,9,    33.17,2,     0.00,2,     2.44,2, -999.000,9, -999.000,9,  -999.00,9,   -999.0,9,   -999.0,9,-999.0000,9,   -999.0,  9,  -999.00,9,   -999.0,  -999.00,9,  -999.00,9,  -999.00,9,  -999.00,9,   -999.0,-999.0000, -999,9,  300,   4.0686,  26.8084,   -999.0,9
     RF97-05-1,  165E,RF-0407,  1,     11,02-12811,2,19970606,1657, 45.0000, 164.9968, 5957,    403.2,   3.8181,  33.9162,2,   -999.0,9,  33.9192,2,     91.6,2,    86.90,2,  -999.00,9,    37.97,2,     0.00,2,     2.78,2, -999.000,9, -999.000,9,  -999.00,9,   -999.0,9,   -999.0,9,-999.0000,9,   -999.0,  9,  -999.00,9,   -999.0,  -999.00,9,  -999.00,9,  -999.00,9,  -999.00,9,   -999.0,-999.0000, -999,9,  400,   3.7904,  26.9451,   -999.0,9
     RF97-05-1,  165E,RF-0407,  1,     10,02-10155,2,19970606,1654, 45.0000, 164.9968, 5957,    503.9,   3.6769,  34.0474,2,   -999.0,9,-999.0000,9,     57.3,2,   102.72,2,  -999.00,9,    40.79,2,     0.00,2,     2.97,2, -999.000,9, -999.000,9,  -999.00,9,   -999.0,9,   -999.0,9,-999.0000,9,   -999.0,  9,  -999.00,9,   -999.0,  -999.00,9,  -999.00,9,  -999.00,9,  -999.00,9,   -999.0,-999.0000, -999,9,  499,   3.6424,  27.0642,   -999.0,9
     RF97-05-1,  165E,RF-0407,  1,      9,02-12810,2,19970606,1651, 45.0000, 164.9968, 5957,    604.1,   3.5616,  34.1360,2,   -999.0,9,  34.1422,2,     43.5,2,   112.88,2,  -999.00,9,    41.65,2,     0.00,2,     3.02,2, -999.000,9, -999.000,9,  -999.00,9,   -999.0,9,   -999.0,9,-999.0000,9,   -999.0,  9,  -999.00,9,   -999.0,  -999.00,9,  -999.00,9,  -999.00,9,  -999.00,9,   -999.0,-999.0000, -999,9,  598,   3.5202,  27.1467,   -999.0,9
     RF97-05-1,  165E,RF-0407,  1,      8,02-13591,2,19970606,1647, 45.0000, 164.9968, 5957,    704.8,   3.3942,  34.2088,2,   -999.0,9,-999.0000,9,     37.1,2,   121.25,2,  -999.00,9,    42.22,2,     0.00,2,     3.07,2, -999.000,9, -999.000,9,  -999.00,9,   -999.0,9,   -999.0,9,-999.0000,9,   -999.0,  9,  -999.00,9,   -999.0,  -999.00,9,  -999.00,9,  -999.00,9,  -999.00,9,   -999.0,-999.0000, -999,9,  698,   3.3461,  27.2214,   -999.0,9
     RF97-05-1,  165E,RF-0407,  1,      7,02-13589,2,19970606,1644, 45.0000, 164.9968, 5957,    806.8,   3.1921,  34.2821,2,   -999.0,9,  34.2822,2,     34.3,2,   129.54,2,  -999.00,9,    42.40,2,     0.00,2,     3.08,2, -999.000,9, -999.000,9,  -999.00,9,   -999.0,9,   -999.0,9,-999.0000,9,   -999.0,  9,  -999.00,9,   -999.0,  -999.00,9,  -999.00,9,  -999.00,9,  -999.00,9,   -999.0,-999.0000, -999,9,  799,   3.1376,  27.2993,   -999.0,9
     RF97-05-1,  165E,RF-0407,  1,      6,02-12818,2,19970606,1641, 45.0000, 164.9968, 5957,    907.2,   3.0351,  34.3273,2,   -999.0,9,-999.0000,9,     34.1,2,   134.88,2,  -999.00,9,    42.47,2,     0.00,2,     3.09,2, -999.000,9, -999.000,9,  -999.00,9,   -999.0,9,   -999.0,9,-999.0000,9,   -999.0,  9,  -999.00,9,   -999.0,  -999.00,9,  -999.00,9,  -999.00,9,  -999.00,9,   -999.0,-999.0000, -999,9,  898,   2.9742,  27.3504,   -999.0,9
     RF97-05-1,  165E,RF-0407,  1,      5,02-12809,2,19970606,1639, 45.0000, 164.9968, 5957,   1009.2,   2.8569,  34.3707,2,   -999.0,9,  34.3705,2,     33.9,2,   140.91,2,  -999.00,9,    42.66,2,     0.00,2,     3.10,2, -999.000,9, -999.000,9,  -999.00,9,   -999.0,9,   -999.0,9,-999.0000,9,   -999.0,  9,  -999.00,9,   -999.0,  -999.00,9,  -999.00,9,  -999.00,9,  -999.00,9,   1005.0,-999.0000, -999,9,  999,   2.7897,  27.4016,   -999.0,9
     RF97-05-1,  165E,RF-0407,  1,      4,02-12817,2,19970606,1634, 45.0000, 164.9968, 5957,   1261.0,   2.5119,  34.4490,2,   -999.0,9,  34.4493,2,     38.0,2,   151.61,2,  -999.00,9,    42.52,2,     0.00,2,     3.08,2, -999.000,9, -999.000,9,  -999.00,9,   -999.0,9,   -999.0,9,-999.0000,9,   -999.0,  9,  -999.00,9,   -999.0,  -999.00,9,  -999.00,9,  -999.00,9,  -999.00,9,   -999.0,-999.0000, -999,9, 1247,   2.4286,  27.4953,   -999.0,9
     RF97-05-1,  165E,RF-0407,  1,      3,02-12808,2,19970606,1629, 45.0000, 164.9968, 5957,   1515.1,   2.2757,  34.5066,2,   -999.0,9,  34.5061,2,     46.0,2,   157.27,2,  -999.00,9,    42.39,2,     0.00,2,     3.04,2, -999.000,9, -999.000,9,  -999.00,9,   -999.0,9,   -999.0,9,-999.0000,9,   -999.0,  9,  -999.00,9,   -999.0,  -999.00,9,  -999.00,9,  -999.00,9,  -999.00,9,   -999.0,-999.0000, -999,9, 1497,   2.1752,  27.5624,   -999.0,9
     RF97-05-1,  165E,RF-0407,  1,      2,02-13588,2,19970606,1625, 45.0000, 164.9968, 5957,   1768.5,   2.1051,  34.5501,2,   -999.0,9,  34.5495,2,     56.5,2,   160.73,2,  -999.00,9,    41.75,2,     0.00,2,     3.00,2, -999.000,9, -999.000,9,  -999.00,9,   -999.0,9,   -999.0,9,-999.0000,9,   -999.0,  9,  -999.00,9,   -999.0,  -999.00,9,  -999.00,9,  -999.00,9,  -999.00,9,   -999.0,-999.0000, -999,9, 1747,   1.9865,  27.6123,   -999.0,9
     RF97-05-1,  165E,RF-0407,  1,      1,02-12807,2,19970606,1620, 45.0000, 164.9968, 5957,   2023.0,   1.9442,  34.5862,2,   -999.0,9,  34.5853,2,     68.2,2,   163.13,2,  -999.00,9,    41.11,2,     0.00,2,     2.94,2, -999.000,9, -999.000,9,  -999.00,9,   -999.0,9,   -999.0,9,-999.0000,9,   -999.0,  9,  -999.00,9,   -999.0,  -999.00,9,  -999.00,9,  -999.00,9,  -999.00,9,   2009.0,-999.0000, -999,9, 1997,   1.8068,  27.6552,   -999.0,9