BOTTLE,20130510GEMDJMAYT
EXPOCODE,SECT_ID,STNNBR,CASTNO,SAMPNO,BTLNBR,BTLNBR_FLAG_W,DATE,TIME,LATITUDE,LONGITUDE,DEPTH,CTDPRS,CTDTMP,CTDSAL,CTDSAL_FLAG_W,CTDOXY,CTDOXY_FLAG_W,SALNTY,SALNTY_FLAG_W,OXYGEN,OXYGEN_FLAG_W,SILCAT,SILCAT_FLAG_W,NITRAT,NITRAT_FLAG_W,NO2+NO3,NO2+NO3_FLAG_W,NITRIT,NITRIT_FLAG_W,PHSPHT,PHSPHT_FLAG_W,CFC-11,CFC-11_FLAG_W,CFC-12,CFC-12_FLAG_W,DELC13,DELC13_FLAG_W,TCARBN,TCARBN_FLAG_W,ALKALI,ALKALI_FLAG_W,PH,PH_FLAG_W,PH_TMP,PH_SCALE,PH_NBS,PH_NBS_FLAG_W,C13ERR,TOTALP,TOTALP_FLAG_W,AMMONI,AMMONI_FLAG_W,CHLORA,CHLORA_FLAG_W,PPHYTN,PPHYTN_FLAG_W,REVPRS,REVTMP,DEPTH_,DEPTH_FLAG,CTDDEP,THETA,SIGTHT,DOC,DOC_FLAG_W
,,,,,,,GMT,GMT,,,METER,DBAR,ITS-90,PSS-78,,UMOL/KG,,PSS-78,,UMOL/KG,,UMOL/KG,,UMOL/KG,,UMOL/KG,,UMOL/KG,,UMOL/KG,,PMOL/KG,,PMOL/KG,,/MILLE,,UMOL/KG,,UMOL/KG,,25_DEG_C,,DEG_C,,,,/MILLE,UMOL/KG,,UMOL/KG,,UG/L,,UG/L,,DBAR,ITS-90,METERS,,METERS,DEG_C,,UMOL/L,
     RF97-05-1,  NONE,RF-0398,  1,     -9,      -9,5,19970604,1118, 47.5180, 161.0130, 5427,      0.0,   4.4778,  32.9311,2,   -999.0,9,-999.0000,9,    330.2,2,  -999.00,9,  -999.00,9,  -999.00,9,  -999.00,9,  -999.00,9, -999.000,9, -999.000,9,  -999.00,9,   -999.0,9,   -999.0,9,-999.0000,9,   -999.0,  9,  -999.00,9,   -999.0,  -999.00,9,  -999.00,9,  -999.00,9,  -999.00,9,   -999.0,-999.0000, -999,9,    0,   4.4778,  26.0917,   -999.0,9
     RF97-05-1,  NONE,RF-0398,  1,     23,02-12829,2,19970604,1116, 47.5180, 161.0130, 5427,     11.2,   4.4738,  32.9303,2,   -999.0,9,  32.9333,2,    330.2,2,  -999.00,9,  -999.00,9,  -999.00,9,  -999.00,9,  -999.00,9, -999.000,9, -999.000,9,  -999.00,9,   -999.0,9,   -999.0,9,-999.0000,9,   -999.0,  9,  -999.00,9,   -999.0,  -999.00,9,  -999.00,9,  -999.00,9,  -999.00,9,   -999.0,-999.0000, -999,9,   11,   4.4730,  26.0916,   -999.0,9
     RF97-05-1,  NONE,RF-0398,  1,     22,02-12828,2,19970604,1115, 47.5180, 161.0130, 5427,     25.7,   4.4567,  32.9282,2,   -999.0,9,-999.0000,9,    331.3,2,  -999.00,9,  -999.00,9,  -999.00,9,  -999.00,9,  -999.00,9, -999.000,9, -999.000,9,  -999.00,9,   -999.0,9,   -999.0,9,-999.0000,9,   -999.0,  9,  -999.00,9,   -999.0,  -999.00,9,  -999.00,9,  -999.00,9,  -999.00,9,   -999.0,-999.0000, -999,9,   25,   4.4549,  26.0918,   -999.0,9
     RF97-05-1,  NONE,RF-0398,  1,     21,02-12827,2,19970604,1113, 47.5180, 161.0130, 5427,     50.5,   3.5075,  32.9338,2,   -999.0,9,  32.9343,2,    331.3,2,  -999.00,9,  -999.00,9,  -999.00,9,  -999.00,9,  -999.00,9, -999.000,9, -999.000,9,  -999.00,9,   -999.0,9,   -999.0,9,-999.0000,9,   -999.0,  9,  -999.00,9,   -999.0,  -999.00,9,  -999.00,9,  -999.00,9,  -999.00,9,   -999.0,-999.0000, -999,9,   50,   3.5044,  26.1905,   -999.0,9
     RF97-05-1,  NONE,RF-0398,  1,     20,02-12826,2,19970604,1112, 47.5180, 161.0130, 5427,     75.6,   2.9589,  32.9529,2,   -999.0,9,-999.0000,9,    327.2,2,  -999.00,9,  -999.00,9,  -999.00,9,  -999.00,9,  -999.00,9, -999.000,9, -999.000,9,  -999.00,9,   -999.0,9,   -999.0,9,-999.0000,9,   -999.0,  9,  -999.00,9,   -999.0,  -999.00,9,  -999.00,9,  -999.00,9,  -999.00,9,   -999.0,-999.0000, -999,9,   75,   2.9546,  26.2551,   -999.0,9
     RF97-05-1,  NONE,RF-0398,  1,     19,02-12825,2,19970604,1111, 47.5180, 161.0130, 5427,    100.5,   2.8258,  33.3263,2,   -999.0,9,  33.3415,4,    200.3,2,  -999.00,9,  -999.00,9,  -999.00,9,  -999.00,9,  -999.00,9, -999.000,9, -999.000,9,  -999.00,9,   -999.0,9,   -999.0,9,-999.0000,9,   -999.0,  9,  -999.00,9,   -999.0,  -999.00,9,  -999.00,9,  -999.00,9,  -999.00,9,   -999.0,-999.0000, -999,9,  100,   2.8201,  26.5647,   -999.0,9
     RF97-05-1,  NONE,RF-0398,  1,     18,02-12824,2,19970604,1110, 47.5180, 161.0130, 5427,    125.7,   3.5293,  33.8235,2,   -999.0,9,-999.0000,9,     48.5,2,  -999.00,9,  -999.00,9,  -999.00,9,  -999.00,9,  -999.00,9, -999.000,9, -999.000,9,  -999.00,9,   -999.0,9,   -999.0,9,-999.0000,9,   -999.0,  9,  -999.00,9,   -999.0,  -999.00,9,  -999.00,9,  -999.00,9,  -999.00,9,   -999.0,-999.0000, -999,9,  125,   3.5213,  26.8976,   -999.0,9
     RF97-05-1,  NONE,RF-0398,  1,     17,02-12814,2,19970604,1108, 47.5180, 161.0130, 5427,    150.8,   3.5760,  33.8994,2,   -999.0,9,-999.0000,9,     46.6,2,  -999.00,9,  -999.00,9,  -999.00,9,  -999.00,9,  -999.00,9, -999.000,9, -999.000,9,  -999.00,9,   -999.0,9,   -999.0,9,-999.0000,9,   -999.0,  9,  -999.00,9,   -999.0,  -999.00,9,  -999.00,9,  -999.00,9,  -999.00,9,   -999.0,-999.0000, -999,9,  150,   3.5663,  26.9537,   -999.0,9
     RF97-05-1,  NONE,RF-0398,  1,     15,02-12833,2,19970604,1106, 47.5180, 161.0130, 5427,    200.5,   3.5896,  33.9662,2,   -999.0,9,-999.0000,9,     21.5,2,  -999.00,9,  -999.00,9,  -999.00,9,  -999.00,9,  -999.00,9, -999.000,9, -999.000,9,  -999.00,9,   -999.0,9,   -999.0,9,-999.0000,9,   -999.0,  9,  -999.00,9,   -999.0,  -999.00,9,  -999.00,9,  -999.00,9,  -999.00,9,   -999.0,-999.0000, -999,9,  199,   3.5765,  27.0059,   -999.0,9
     RF97-05-1,  NONE,RF-0398,  1,     16,02-12832,2,19970604,1107, 47.5180, 161.0130, 5427,    202.0,   3.5844,  33.9689,2,   -999.0,9,  33.9678,2,     21.3,2,  -999.00,9,  -999.00,9,  -999.00,9,  -999.00,9,  -999.00,9, -999.000,9, -999.000,9,  -999.00,9,   -999.0,9,   -999.0,9,-999.0000,9,   -999.0,  9,  -999.00,9,   -999.0,  -999.00,9,  -999.00,9,  -999.00,9,  -999.00,9,   -999.0,-999.0000, -999,9,  200,   3.5712,  27.0086,   -999.0,9
     RF97-05-1,  NONE,RF-0398,  1,     14,02-13578,2,19970604,1105, 47.5180, 161.0130, 5427,    249.9,   3.5141,  34.0203,2,   -999.0,9,-999.0000,9,     18.6,2,  -999.00,9,  -999.00,9,  -999.00,9,  -999.00,9,  -999.00,9, -999.000,9, -999.000,9,  -999.00,9,   -999.0,9,   -999.0,9,-999.0000,9,   -999.0,  9,  -999.00,9,   -999.0,  -999.00,9,  -999.00,9,  -999.00,9,  -999.00,9,   -999.0,-999.0000, -999,9,  248,   3.4978,  27.0567,   -999.0,9
     RF97-05-1,  NONE,RF-0398,  1,     12,02-12821,2,19970604,1102, 47.5180, 161.0130, 5427,    301.1,   3.5193,  34.0843,2,   -999.0,9,-999.0000,9,     18.2,2,  -999.00,9,  -999.00,9,  -999.00,9,  -999.00,9,  -999.00,9, -999.000,9, -999.000,9,  -999.00,9,   -999.0,9,   -999.0,9,-999.0000,9,   -999.0,  9,  -999.00,9,   -999.0,  -999.00,9,  -999.00,9,  -999.00,9,  -999.00,9,   -999.0,-999.0000, -999,9,  298,   3.4995,  27.1075,   -999.0,9
     RF97-05-1,  NONE,RF-0398,  1,     13,02-13590,2,19970604,1103, 47.5180, 161.0130, 5427,    302.1,   3.5190,  34.0853,2,   -999.0,9,-999.0000,9,     17.9,2,  -999.00,9,  -999.00,9,  -999.00,9,  -999.00,9,  -999.00,9, -999.000,9, -999.000,9,  -999.00,9,   -999.0,9,   -999.0,9,-999.0000,9,   -999.0,  9,  -999.00,9,   -999.0,  -999.00,9,  -999.00,9,  -999.00,9,  -999.00,9,   -999.0,-999.0000, -999,9,  299,   3.4992,  27.1083,   -999.0,9
     RF97-05-1,  NONE,RF-0398,  1,     11,02-12811,2,19970604,1100, 47.5180, 161.0130, 5427,    402.7,   3.3666,  34.1772,2,   -999.0,9,  34.1746,2,     17.1,2,  -999.00,9,  -999.00,9,  -999.00,9,  -999.00,9,  -999.00,9, -999.000,9, -999.000,9,  -999.00,9,   -999.0,9,   -999.0,9,-999.0000,9,   -999.0,  9,  -999.00,9,   -999.0,  -999.00,9,  -999.00,9,  -999.00,9,  -999.00,9,   -999.0,-999.0000, -999,9,  399,   3.3402,  27.1968,   -999.0,9
     RF97-05-1,  NONE,RF-0398,  1,     10,02-10155,2,19970604,1058, 47.5180, 161.0130, 5427,    502.5,   3.2282,  34.2440,2,   -999.0,9,-999.0000,9,     16.4,2,  -999.00,9,  -999.00,9,  -999.00,9,  -999.00,9,  -999.00,9, -999.000,9, -999.000,9,  -999.00,9,   -999.0,9,   -999.0,9,-999.0000,9,   -999.0,  9,  -999.00,9,   -999.0,  -999.00,9,  -999.00,9,  -999.00,9,  -999.00,9,   -999.0,-999.0000, -999,9,  498,   3.1954,  27.2636,   -999.0,9
     RF97-05-1,  NONE,RF-0398,  1,      9,02-12810,2,19970604,1056, 47.5180, 161.0130, 5427,    602.7,   3.0520,  34.3023,2,   -999.0,9,  34.3862,4,     16.9,2,  -999.00,9,  -999.00,9,  -999.00,9,  -999.00,9,  -999.00,9, -999.000,9, -999.000,9,  -999.00,9,   -999.0,9,   -999.0,9,-999.0000,9,   -999.0,  9,  -999.00,9,   -999.0,  -999.00,9,  -999.00,9,  -999.00,9,  -999.00,9,   -999.0,-999.0000, -999,9,  597,   3.0129,  27.3269,   -999.0,9
     RF97-05-1,  NONE,RF-0398,  1,      8,02-13591,2,19970604,1053, 47.5180, 161.0130, 5427,    702.2,   2.9053,  34.3441,2,   -999.0,9,-999.0000,9,     18.4,2,  -999.00,9,  -999.00,9,  -999.00,9,  -999.00,9,  -999.00,9, -999.000,9, -999.000,9,  -999.00,9,   -999.0,9,   -999.0,9,-999.0000,9,   -999.0,  9,  -999.00,9,   -999.0,  -999.00,9,  -999.00,9,  -999.00,9,  -999.00,9,   -999.0,-999.0000, -999,9,  695,   2.8599,  27.3741,   -999.0,9
     RF97-05-1,  NONE,RF-0398,  1,      7,02-13589,2,19970604,1050, 47.5180, 161.0130, 5427,    805.6,   2.7652,  34.3814,2,   -999.0,9,  34.3805,2,     20.5,2,  -999.00,9,  -999.00,9,  -999.00,9,  -999.00,9,  -999.00,9, -999.000,9, -999.000,9,  -999.00,9,   -999.0,9,   -999.0,9,-999.0000,9,   -999.0,  9,  -999.00,9,   -999.0,  -999.00,9,  -999.00,9,  -999.00,9,  -999.00,9,   -999.0,-999.0000, -999,9,  797,   2.7134,  27.4169,   -999.0,9
     RF97-05-1,  NONE,RF-0398,  1,      6,02-12818,2,19970604,1047, 47.5180, 161.0130, 5427,    907.5,   2.6124,  34.4198,2,   -999.0,9,-999.0000,9,     21.9,2,  -999.00,9,  -999.00,9,  -999.00,9,  -999.00,9,  -999.00,9, -999.000,9, -999.000,9,  -999.00,9,   -999.0,9,   -999.0,9,-999.0000,9,   -999.0,  9,  -999.00,9,   -999.0,  -999.00,9,  -999.00,9,  -999.00,9,  -999.00,9,   -999.0,-999.0000, -999,9,  898,   2.5543,  27.4613,   -999.0,9
     RF97-05-1,  NONE,RF-0398,  1,      5,02-12809,3,19970604,1044, 47.5180, 161.0130, 5427,   1010.0,   2.4852,  34.4526,2,   -999.0,9,-999.0000,9,   -999.0,4,  -999.00,9,  -999.00,9,  -999.00,9,  -999.00,9,  -999.00,9, -999.000,9, -999.000,9,  -999.00,9,   -999.0,9,   -999.0,9,-999.0000,9,   -999.0,  9,  -999.00,9,   -999.0,  -999.00,9,  -999.00,9,  -999.00,9,  -999.00,9,   -999.0,-999.0000, -999,9,  999,   2.4207,  27.4988,   -999.0,9
     RF97-05-1,  NONE,RF-0398,  1,      4,02-12817,2,19970604,1039, 47.5180, 161.0130, 5427,   1258.8,   2.1950,  34.5188,2,   -999.0,9,  34.5090,2,     38.7,2,  -999.00,9,  -999.00,9,  -999.00,9,  -999.00,9,  -999.00,9, -999.000,9, -999.000,9,  -999.00,9,   -999.0,9,   -999.0,9,-999.0000,9,   -999.0,  9,  -999.00,9,   -999.0,  -999.00,9,  -999.00,9,  -999.00,9,  -999.00,9,   -999.0,-999.0000, -999,9, 1245,   2.1149,  27.5770,   -999.0,9
     RF97-05-1,  NONE,RF-0398,  1,      3,02-12808,2,19970604,1034, 47.5180, 161.0130, 5427,   1514.8,   2.0044,  34.5630,2,   -999.0,9,  34.5608,2,     53.5,2,  -999.00,9,  -999.00,9,  -999.00,9,  -999.00,9,  -999.00,9, -999.000,9, -999.000,9,  -999.00,9,   -999.0,9,   -999.0,9,-999.0000,9,   -999.0,  9,  -999.00,9,   -999.0,  -999.00,9,  -999.00,9,  -999.00,9,  -999.00,9,   -999.0,-999.0000, -999,9, 1497,   1.9070,  27.6289,   -999.0,9
     RF97-05-1,  NONE,RF-0398,  1,      2,02-13588,2,19970604,1029, 47.5180, 161.0130, 5427,   1767.1,   1.8506,  34.5966,2,   -999.0,9,  34.5944,2,     67.2,2,  -999.00,9,  -999.00,9,  -999.00,9,  -999.00,9,  -999.00,9, -999.000,9, -999.000,9,  -999.00,9,   -999.0,9,   -999.0,9,-999.0000,9,   -999.0,  9,  -999.00,9,   -999.0,  -999.00,9,  -999.00,9,  -999.00,9,  -999.00,9,   -999.0,-999.0000, -999,9, 1745,   1.7354,  27.6690,   -999.0,9
     RF97-05-1,  NONE,RF-0398,  1,      1,02-12807,2,19970604,1024, 47.5180, 161.0130, 5427,   2028.1,   1.7251,  34.6237,2,   -999.0,9,  34.6383,4,     88.3,2,  -999.00,9,  -999.00,9,  -999.00,9,  -999.00,9,  -999.00,9, -999.000,9, -999.000,9,  -999.00,9,   -999.0,9,   -999.0,9,-999.0000,9,   -999.0,  9,  -999.00,9,   -999.0,  -999.00,9,  -999.00,9,  -999.00,9,  -999.00,9,   2013.0,-999.0000, -999,9, 2001,   1.5906,  27.7015,   -999.0,9